BOTTLE,20211117CCHSIORKP
EXPOCODE,SECT_ID,STNNBR,CASTNO,SAMPNO,BTLNBR,BTLNBR_FLAG_W,DATE,TIME,LATITUDE,LONGITUDE,DEPTH,CTDPRS,CTDTMP,CTDSAL,CTDSAL_FLAG_W,SALNTY,SALNTY_FLAG_W,CTDOXY,CTDOXY_FLAG_W,OXYGEN,OXYGEN_FLAG_W,SILCAT,SILCAT_FLAG_W,NITRAT,NITRAT_FLAG_W,NITRIT,NITRIT_FLAG_W,PHSPHT,PHSPHT_FLAG_W,CFC-11,CFC-11_FLAG_W,CFC-12,CFC-12_FLAG_W,TCARBN,TCARBN_FLAG_W,ALKALI,ALKALI_FLAG_W,TRITUM,TRITUM_FLAG_W,HELIUM,HELIUM_FLAG_W,DELHE3,DELHE3_FLAG_W,DELC13,DELC13_FLAG_W,DELC14,DELC14_FLAG_W,C14ERR,THETA,HELIER,DELHER,TRITER
,,,,,,,,,,,METERS,DBAR,ITS-90,PSS-78,,PSS-78,,UMOL/KG,,UMOL/KG,,UMOL/KG,,UMOL/KG,,UMOL/KG,,UMOL/KG,,PMOL/KG,,PMOL/KG,,UMOL/KG,,UMOL/KG,,TU,,NMOL/KG,,PERCNT,,/MILLE,,/MILLE,,/MILLE,ITS-90,NMOL/KG,PERCNT,TU
31WTTUNES_3,       P16C,     312,          1,         36,         36,2,19910927,       1132,    15.8220,  -153.0632,       5445,     8.2,  27.3425,  34.3736,2,  34.3813,2,    211.2,3,   219.6,2,    2.29,2,    0.00,2,    0.00,2,    0.19,2,   1.682,2,   1.112,4,  -999.0,9,  -999.0,9,-999.000,9,-999.0000,9, -999.00,9, -999.00,9,  -999.0,9,  -999.0,    27.3406,-999.0000,-999.000,-999.000
31WTTUNES_3,       P16C,     312,          1,         35,         35,2,19910927,       1132,    15.8220,  -153.0632,       5445,    40.3,  27.2822,  34.4211,2,  34.4714,2,    205.6,2,   222.6,2,    2.29,2,    0.00,2,    0.00,2,    0.18,2,   1.729,6,   0.962,6,  -999.0,9,  -999.0,9,-999.000,9,-999.0000,9, -999.00,9, -999.00,9,  -999.0,9,  -999.0,    27.2730,-999.0000,-999.000,-999.000
31WTTUNES_3,       P16C,     312,          1,         34,         34,2,19910927,       1132,    15.8220,  -153.0632,       5445,    80.3,  23.5347,  34.6881,2,  34.7964,2,    235.7,2,   231.3,2,    2.29,2,    0.00,2,    0.00,2,    0.24,2,   2.114,2,   1.194,2,  -999.0,9,  -999.0,9,-999.000,9,-999.0000,9, -999.00,9, -999.00,9,  -999.0,9,  -999.0,    23.5182,-999.0000,-999.000,-999.000
31WTTUNES_3,       P16C,     312,          1,         33,         33,2,19910927,       1132,    15.8220,  -153.0632,       5445,   120.0,  21.4084,  34.9405,2,  34.8973,2,    216.4,2,   193.6,2,    3.31,2,    1.01,2,    0.16,2,    0.41,2,   2.193,6,   1.224,6,  -999.0,9,  -999.0,9,-999.000,9,-999.0000,9, -999.00,9, -999.00,9,  -999.0,9,  -999.0,    21.3851,-999.0000,-999.000,-999.000
31WTTUNES_3,       P16C,     312,          1,         32,         32,2,19910927,       1132,    15.8220,  -153.0632,       5445,   160.8,  17.0861,  34.5719,2,  34.5461,2,    173.2,2,   160.8,2,    7.42,2,    8.77,2,    0.01,2,    0.86,2,   2.114,2,   1.130,2,  -999.0,9,  -999.0,9,-999.000,9,-999.0000,9, -999.00,9, -999.00,9,  -999.0,9,  -999.0,    17.0596,-999.0000,-999.000,-999.000
31WTTUNES_3,       P16C,     312,          1,         31,         31,2,19910927,       1132,    15.8220,  -153.0632,       5445,   212.4,  11.7800,  34.2932,2,  34.2874,2,    109.3,2,   105.1,2,   21.36,2,   21.92,2,    0.00,2,    1.70,2,   1.301,2,   0.686,2,  -999.0,9,  -999.0,9,-999.000,9,-999.0000,9, -999.00,9, -999.00,9,  -999.0,9,  -999.0,    11.7528,-999.0000,-999.000,-999.000
31WTTUNES_3,       P16C,     312,          1,         30,         30,2,19910927,       1132,    15.8220,  -153.0632,       5445,   262.8,   9.7799,  34.3494,2,  34.2905,2,     79.5,2,    91.3,2,   32.23,2,   26.31,2,    0.00,2,    2.09,2,   0.782,6,   0.421,6,  -999.0,9,  -999.0,9,-999.000,9,-999.0000,9, -999.00,9, -999.00,9,  -999.0,9,  -999.0,     9.7500,-999.0000,-999.000,-999.000
31WTTUNES_3,       P16C,     312,          1,         29,         29,2,19910927,       1132,    15.8220,  -153.0632,       5445,   313.7,   9.3744,  34.4683,2,  34.4689,2,     28.0,2,    29.6,2,   39.41,2,   31.68,2,    0.00,2,    2.56,2,   0.156,2,   0.104,2,  -999.0,9,  -999.0,9,-999.000,9,-999.0000,9, -999.00,9, -999.00,9,  -999.0,9,  -999.0,     9.3396,-999.0000,-999.000,-999.000
31WTTUNES_3,       P16C,     312,          1,         28,         28,2,19910927,       1132,    15.8220,  -153.0632,       5445,   415.6,   8.1890,  34.4863,2,  34.4871,2,     17.4,2,    17.5,2,   50.07,2,   35.92,2,    0.00,2,    2.80,2,   0.032,6,   0.023,6,  -999.0,9,  -999.0,9,-999.000,9,-999.0000,9, -999.00,9, -999.00,9,  -999.0,9,  -999.0,     8.1460,-999.0000,-999.000,-999.000
31WTTUNES_3,       P16C,     312,          1,         27,         27,2,19910927,       1132,    15.8220,  -153.0632,       5445,   514.5,   7.2356,  34.4809,2,  34.4817,2,     16.5,2,    16.4,2,   59.92,2,   38.06,2,    0.00,2,    2.93,2,   0.005,2,   0.005,2,  -999.0,9,  -999.0,9,-999.000,9,-999.0000,9, -999.00,9, -999.00,9,  -999.0,9,  -999.0,     7.1857,-999.0000,-999.000,-999.000
31WTTUNES_3,       P16C,     312,          1,         26,         26,2,19910927,       1132,    15.8220,  -153.0632,       5445,   615.2,   6.4244,  34.4817,2,  34.4822,2,     18.3,2,    17.6,2,   71.42,2,   40.26,2,    0.00,2,    3.04,2,   0.001,2,  -0.002,2,  -999.0,9,  -999.0,9,-999.000,9,-999.0000,9, -999.00,9, -999.00,9,  -999.0,9,  -999.0,     6.3682,-999.0000,-999.000,-999.000
31WTTUNES_3,       P16C,     312,          1,         25,         25,2,19910927,       1132,    15.8220,  -153.0632,       5445,   720.7,   5.7053,  34.4927,2,  34.4938,2,     19.6,2,    19.4,2,   81.28,2,   41.75,2,    0.00,2,    3.13,2,   0.000,2,   0.006,2,  -999.0,9,  -999.0,9,-999.000,9,-999.0000,9, -999.00,9, -999.00,9,  -999.0,9,  -999.0,     5.6428,-999.0000,-999.000,-999.000
31WTTUNES_3,       P16C,     312,          1,         24,         24,2,19910927,       1132,    15.8220,  -153.0632,       5445,   825.1,   5.2097,  34.5110,2,  34.5097,2,     19.6,2,    19.4,2,   89.27,2,   42.92,2,    0.00,2,    3.17,2,  -0.003,2,   0.000,2,  -999.0,9,  -999.0,9,-999.000,9,-999.0000,9, -999.00,9, -999.00,9,  -999.0,9,  -999.0,     5.1408,-999.0000,-999.000,-999.000
31WTTUNES_3,       P16C,     312,          1,         23,         23,2,19910927,       1132,    15.8220,  -153.0632,       5445,   927.3,   4.6807,  34.5216,2,  34.5219,2,     30.8,2,    29.4,2,   97.70,2,   42.87,2,    0.00,2,    3.15,2,-999.000,9,-999.000,9,  -999.0,9,  -999.0,9,-999.000,9,-999.0000,9, -999.00,9, -999.00,9,  -999.0,9,  -999.0,     4.6062,-999.0000,-999.000,-999.000
31WTTUNES_3,       P16C,     312,          1,         22,         22,2,19910927,       1132,    15.8220,  -153.0632,       5445,  1030.0,   4.2839,  34.5366,2,  34.5355,2,     36.3,2,    34.5,2,  104.88,2,   42.93,2,    0.00,2,    3.16,2,  -0.004,2,  -0.001,2,  -999.0,9,  -999.0,9,-999.000,9,-999.0000,9, -999.00,9, -999.00,9,  -999.0,9,  -999.0,     4.2034,-999.0000,-999.000,-999.000
31WTTUNES_3,       P16C,     312,          1,         21,         21,2,19910927,       1132,    15.8220,  -153.0632,       5445,  1235.4,   3.6418,  34.5607,2,  34.5608,2,     49.1,2,    48.0,2,  118.23,2,   42.31,2,    0.00,2,    3.10,2,-999.000,9,-999.000,9,  -999.0,9,  -999.0,9,-999.000,9,   1.8720,2,   22.66,2, -999.00,9,  -999.0,9,  -999.0,     3.5494,-999.0000,-999.000,-999.000
31WTTUNES_3,       P16C,     312,          1,         20,         20,2,19910927,       1132,    15.8220,  -153.0632,       5445,  1336.6,   3.3496,  34.5732,2,  34.5732,2,     56.5,2,    55.2,2,  124.19,2,   41.91,2,    0.00,2,    3.04,2,-999.000,9,-999.000,9,  -999.0,9,  -999.0,9,-999.000,9,   1.8830,2,   22.78,2, -999.00,9,  -999.0,9,  -999.0,     3.2516,-999.0000,-999.000,-999.000
31WTTUNES_3,       P16C,     312,          1,         19,         19,2,19910927,       1132,    15.8220,  -153.0632,       5445,  1646.9,   2.6821,  34.6002,2,  34.6022,2,     74.2,2,    73.6,2,  140.83,2,   40.79,2,    0.00,2,    2.92,2,-999.000,9,-999.000,9,  -999.0,9,  -999.0,9,-999.000,9,   1.8900,2,   23.94,2, -999.00,9,  -999.0,9,  -999.0,     2.5657,-999.0000,-999.000,-999.000
31WTTUNES_3,       P16C,     312,          1,         18,         18,2,19910927,       1132,    15.8220,  -153.0632,       5445,  1853.2,   2.3671,  34.6165,2,  34.6195,2,     84.3,2,    84.1,2,  147.60,2,   40.17,2,    0.00,2,    2.86,2,-999.000,9,-999.000,9,  -999.0,9,  -999.0,9,-999.000,9,   1.9020,2,   24.20,2, -999.00,9,  -999.0,9,  -999.0,     2.2377,-999.0000,-999.000,-999.000
31WTTUNES_3,       P16C,     312,          1,         17,         17,2,19910927,       1132,    15.8220,  -153.0632,       5445,  2058.2,   2.1293,  34.6308,2,  34.6321,2,     93.7,2,    94.3,2,  151.93,2,   39.46,2,    0.00,2,    2.82,2,-999.000,9,-999.000,9,  -999.0,9,  -999.0,9,-999.000,9,   1.9050,2,   24.34,2, -999.00,9,  -999.0,9,  -999.0,     1.9859,-999.0000,-999.000,-999.000
31WTTUNES_3,       P16C,     312,          1,         16,         16,2,19910927,       1132,    15.8220,  -153.0632,       5445,  2264.8,   1.9557,  34.6423,2,  34.6455,2,    103.4,2,   103.4,2,  155.64,2,   39.05,2,    0.00,2,    2.78,2,-999.000,9,-999.000,9,  -999.0,9,  -999.0,9,-999.000,9,   1.8990,2,   24.35,2, -999.00,9,  -999.0,9,  -999.0,     1.7973,-999.0000,-999.000,-999.000
31WTTUNES_3,       P16C,     312,          1,         15,         15,2,19910927,       1132,    15.8220,  -153.0632,       5445,  2420.0,   1.8617,  34.6516,2,  34.6523,2,    110.4,2,   109.5,2,  156.68,2,   38.69,2,    0.00,2,    2.74,2,-999.000,9,-999.000,9,  -999.0,9,  -999.0,9,-999.000,9,   1.9010,2,   24.79,2, -999.00,9,  -999.0,9,  -999.0,     1.6912,-999.0000,-999.000,-999.000
31WTTUNES_3,       P16C,     312,          1,         14,         14,2,19910927,       1132,    15.8220,  -153.0632,       5445,  2575.2,   1.7890,  34.6583,2,  34.6586,2,    114.7,2,   114.0,2,  157.52,2,   38.34,2,    0.00,2,    2.72,2,-999.000,9,-999.000,9,  -999.0,9,  -999.0,9,-999.000,9,   1.9070,2,   24.43,2, -999.00,9,  -999.0,9,  -999.0,     1.6058,-999.0000,-999.000,-999.000
31WTTUNES_3,       P16C,     312,          1,         13,         13,2,19910927,       1132,    15.8220,  -153.0632,       5445,  2728.3,   1.7273,  34.6622,2,  34.6631,2,    118.2,2,   117.3,2,  158.77,2,   38.19,2,    0.00,2,    2.71,2,-999.000,9,-999.000,9,  -999.0,9,  -999.0,9,-999.000,9,   1.9080,2,   23.72,2, -999.00,9,  -999.0,9,  -999.0,     1.5312,-999.0000,-999.000,-999.000
31WTTUNES_3,       P16C,     312,          1,         12,         12,2,19910927,       1132,    15.8220,  -153.0632,       5445,  2883.4,   1.6807,  34.6670,2,  34.6653,2,    121.8,2,   121.0,2,  159.61,2,   37.88,2,    0.00,2,    2.67,2,-999.000,9,-999.000,9,  -999.0,9,  -999.0,9,-999.000,9,   1.9040,2,   23.55,2, -999.00,9,  -999.0,9,  -999.0,     1.4710,-999.0000,-999.000,-999.000
31WTTUNES_3,       P16C,     312,          1,         11,         11,2,19910927,       1132,    15.8220,  -153.0632,       5445,  3089.8,   1.6243,  34.6726,2,  34.6704,2,    126.9,2,   126.1,2,  159.82,2,   37.69,2,    0.00,2,    2.63,2,-999.000,9,-999.000,9,  -999.0,9,  -999.0,9,-999.000,9,   1.9050,2,   22.80,2, -999.00,9,  -999.0,9,  -999.0,     1.3962,-999.0000,-999.000,-999.000
31WTTUNES_3,       P16C,     312,          1,         10,         10,2,19910927,       1132,    15.8220,  -153.0632,       5445,  3348.4,   1.5652,  34.6748,2,  34.6749,2,    132.5,2,   131.8,2,  160.09,2,   37.13,2,    0.00,2,    2.60,2,-999.000,9,-999.000,9,  -999.0,9,  -999.0,9,-999.000,9,   1.8970,2,   20.31,2, -999.00,9,  -999.0,9,  -999.0,     1.3129,-999.0000,-999.000,-999.000
31WTTUNES_3,       P16C,     312,          1,          9,          9,2,19910927,       1132,    15.8220,  -153.0632,       5445,  3606.7,   1.5167,  34.6803,2,  34.6793,2,    139.5,2,   138.6,2,  158.46,2,   36.72,2,    0.00,2,    2.58,2,-999.000,9,-999.000,9,  -999.0,9,  -999.0,9,-999.000,9,   1.8900,2,   18.88,2, -999.00,9,  -999.0,9,  -999.0,     1.2392,-999.0000,-999.000,-999.000
31WTTUNES_3,       P16C,     312,          1,          8,          8,2,19910927,       1132,    15.8220,  -153.0632,       5445,  3866.5,   1.4733,  34.6854,2,  34.6861,2,    148.9,2,   147.0,2,  154.16,2,   36.17,2,    0.00,2,    2.52,2,-999.000,9,-999.000,9,  -999.0,9,  -999.0,9,-999.000,9,   1.8870,2,   17.18,2, -999.00,9,  -999.0,9,  -999.0,     1.1696,-999.0000,-999.000,-999.000
31WTTUNES_3,       P16C,     312,          1,          7,          7,2,19910927,       1132,    15.8220,  -153.0632,       5445,  4126.9,   1.4459,  34.6887,2,  34.6883,2,    156.4,2,   156.3,2,  149.45,2,   35.60,2,    0.00,2,    2.47,2,-999.000,9,-999.000,9,  -999.0,9,  -999.0,9,-999.000,9,   1.8870,2,   16.27,2, -999.00,9,  -999.0,9,  -999.0,     1.1145,-999.0000,-999.000,-999.000
31WTTUNES_3,       P16C,     312,          1,          6,          6,2,19910927,       1132,    15.8220,  -153.0632,       5445,  4387.8,   1.4214,  34.6920,2,  34.6912,2,    163.8,2,   163.0,2,  144.96,2,   35.05,2,    0.00,2,    2.44,2,-999.000,9,-999.000,9,  -999.0,9,  -999.0,9,-999.000,9,   1.8990,2,   15.61,2, -999.00,9,  -999.0,9,  -999.0,     1.0615,-999.0000,-999.000,-999.000
31WTTUNES_3,       P16C,     312,          1,          5,          5,2,19910927,       1132,    15.8220,  -153.0632,       5445,  4644.5,   1.4125,  34.6940,2,  34.6926,2,    168.9,2,   168.0,2,  142.10,2,   34.74,2,    0.00,2,    2.41,2,-999.000,9,-999.000,9,  -999.0,9,  -999.0,9,-999.000,9,   1.8860,2,   14.45,2, -999.00,9,  -999.0,9,  -999.0,     1.0234,-999.0000,-999.000,-999.000
31WTTUNES_3,       P16C,     312,          1,          4,          4,2,19910927,       1132,    15.8220,  -153.0632,       5445,  4904.0,   1.4106,  34.6955,2,  34.6942,2,    173.8,2,   173.8,2,  139.44,2,   34.38,2,    0.00,2,    2.38,2,-999.000,9,-999.000,9,  -999.0,9,  -999.0,9,-999.000,9,   1.8820,2,   14.38,2, -999.00,9,  -999.0,9,  -999.0,     0.9909,-999.0000,-999.000,-999.000
31WTTUNES_3,       P16C,     312,          1,          3,          3,2,19910927,       1132,    15.8220,  -153.0632,       5445,  5165.7,   1.4192,  34.6968,2,  34.6965,2,    177.6,2,   175.5,2,  137.82,2,   34.08,2,    0.00,2,    2.38,2,-999.000,9,-999.000,9,  -999.0,9,  -999.0,9,-999.000,9,   1.8730,2,   13.68,2, -999.00,9,  -999.0,9,  -999.0,     0.9674,-999.0000,-999.000,-999.000
31WTTUNES_3,       P16C,     312,          1,          2,          2,2,19910927,       1132,    15.8220,  -153.0632,       5445,  5425.3,   1.4384,  34.6974,2,  34.6961,2,    178.7,2,   177.9,2,  136.39,2,   34.03,2,    0.00,2,    2.38,2,-999.000,9,-999.000,9,  -999.0,9,  -999.0,9,-999.000,9,   1.8820,2,   13.53,2, -999.00,9,  -999.0,9,  -999.0,     0.9535,-999.0000,-999.000,-999.000
31WTTUNES_3,       P16C,     312,          1,          1,          1,2,19910927,       1132,    15.8220,  -153.0632,       5445,  5525.0,   1.4469,  34.6978,2,  34.6973,2,    179.5,2,   177.8,2,  135.59,2,   33.93,2,    0.00,2,    2.37,2,-999.000,9,-999.000,9,  -999.0,9,  -999.0,9,-999.000,9,-999.0000,9, -999.00,9, -999.00,9,  -999.0,9,  -999.0,     0.9490,-999.0000,-999.000,-999.000