BOTTLE,20211117CCHSIORKP
EXPOCODE,SECT_ID,STNNBR,CASTNO,SAMPNO,BTLNBR,BTLNBR_FLAG_W,DATE,TIME,LATITUDE,LONGITUDE,DEPTH,CTDPRS,CTDTMP,CTDSAL,CTDSAL_FLAG_W,SALNTY,SALNTY_FLAG_W,CTDOXY,CTDOXY_FLAG_W,OXYGEN,OXYGEN_FLAG_W,SILCAT,SILCAT_FLAG_W,NITRAT,NITRAT_FLAG_W,NITRIT,NITRIT_FLAG_W,PHSPHT,PHSPHT_FLAG_W,CFC-11,CFC-11_FLAG_W,CFC-12,CFC-12_FLAG_W,TCARBN,TCARBN_FLAG_W,ALKALI,ALKALI_FLAG_W,TRITUM,TRITUM_FLAG_W,HELIUM,HELIUM_FLAG_W,DELHE3,DELHE3_FLAG_W,DELC13,DELC13_FLAG_W,DELC14,DELC14_FLAG_W,C14ERR,THETA,HELIER,DELHER,TRITER
,,,,,,,,,,,METERS,DBAR,ITS-90,PSS-78,,PSS-78,,UMOL/KG,,UMOL/KG,,UMOL/KG,,UMOL/KG,,UMOL/KG,,UMOL/KG,,PMOL/KG,,PMOL/KG,,UMOL/KG,,UMOL/KG,,TU,,NMOL/KG,,PERCNT,,/MILLE,,/MILLE,,/MILLE,ITS-90,NMOL/KG,PERCNT,TU
31WTTUNES_3,       P16C,     307,          1,         36,         36,2,19910925,       1102,    13.3468,  -152.5912,       5700,     8.3,  27.8360,  34.1607,2,  34.1734,2,    209.8,3,   219.8,2,    2.02,2,    0.05,2,    0.00,2,    0.14,2,-999.000,9,-999.000,9,  -999.0,9,  -999.0,9,-999.000,9,-999.0000,9, -999.00,9, -999.00,9,  -999.0,9,  -999.0,    27.8340,-999.0000,-999.000,-999.000
31WTTUNES_3,       P16C,     307,          1,         35,         35,2,19910925,       1102,    13.3468,  -152.5912,       5700,    59.6,  24.3307,  34.6150,2,  34.6223,2,    234.8,2,   234.3,2,    2.03,2,    0.05,2,    0.00,2,    0.15,2,-999.000,9,-999.000,9,  -999.0,9,  -999.0,9,-999.000,9,-999.0000,9, -999.00,9, -999.00,9,  -999.0,9,  -999.0,    24.3180,-999.0000,-999.000,-999.000
31WTTUNES_3,       P16C,     307,          1,         34,         34,2,19910925,       1102,    13.3468,  -152.5912,       5700,    98.8,  21.2940,  34.8927,2,  34.8224,2,    227.7,2,   220.6,2,    2.24,2,    0.08,2,    0.01,2,    0.19,2,-999.000,9,-999.000,9,  -999.0,9,  -999.0,9,-999.000,9,-999.0000,9, -999.00,9, -999.00,9,  -999.0,9,  -999.0,    21.2749,-999.0000,-999.000,-999.000
31WTTUNES_3,       P16C,     307,          1,         33,         33,2,19910925,       1102,    13.3468,  -152.5912,       5700,   130.4,  18.2019,  34.6174,2,  34.5042,2,    173.2,2,   154.6,2,    7.73,2,    9.79,2,    0.04,2,    0.85,2,-999.000,9,-999.000,9,  -999.0,9,  -999.0,9,-999.000,9,-999.0000,9, -999.00,9, -999.00,9,  -999.0,9,  -999.0,    18.1794,-999.0000,-999.000,-999.000
31WTTUNES_3,       P16C,     307,          1,         32,         32,2,19910925,       1102,    13.3468,  -152.5912,       5700,   160.0,  13.5850,  34.2841,2,  34.2764,2,    132.1,2,   108.7,2,   19.91,2,   21.04,2,    0.01,2,    1.65,2,-999.000,9,-999.000,9,  -999.0,9,  -999.0,9,-999.000,9,-999.0000,9, -999.00,9, -999.00,9,  -999.0,9,  -999.0,    13.5625,-999.0000,-999.000,-999.000
31WTTUNES_3,       P16C,     307,          1,         31,         31,2,19910925,       1102,    13.3468,  -152.5912,       5700,   211.8,  11.1540,  34.5708,2,  34.6374,2,     22.5,2,    10.1,2,   32.08,2,   31.76,2,    0.01,2,    2.52,2,-999.000,9,-999.000,9,  -999.0,9,  -999.0,9,-999.000,9,-999.0000,9, -999.00,9, -999.00,9,  -999.0,9,  -999.0,    11.1277,-999.0000,-999.000,-999.000
31WTTUNES_3,       P16C,     307,          1,         30,         30,2,19910925,       1102,    13.3468,  -152.5912,       5700,   262.4,  10.6187,  34.6076,2,  34.5956,2,     17.2,2,    23.5,2,   35.63,2,   33.61,2,    0.01,2,    2.49,2,-999.000,9,-999.000,9,  -999.0,9,  -999.0,9,-999.000,9,-999.0000,9, -999.00,9, -999.00,9,  -999.0,9,  -999.0,    10.5871,-999.0000,-999.000,-999.000
31WTTUNES_3,       P16C,     307,          1,         29,         29,2,19910925,       1102,    13.3468,  -152.5912,       5700,   312.5,   9.5962,  34.5723,2,  34.5696,2,     16.4,2,    16.2,2,   40.75,2,   34.91,2,    0.01,2,    2.64,2,-999.000,9,-999.000,9,  -999.0,9,  -999.0,9,-999.000,9,-999.0000,9, -999.00,9, -999.00,9,  -999.0,9,  -999.0,     9.5609,-999.0000,-999.000,-999.000
31WTTUNES_3,       P16C,     307,          1,         28,         28,2,19910925,       1102,    13.3468,  -152.5912,       5700,   414.5,   8.3643,  34.5532,2,  34.5527,2,     19.7,2,    19.1,2,   48.03,2,   36.52,2,    0.01,2,    2.75,2,-999.000,9,-999.000,9,  -999.0,9,  -999.0,9,-999.000,9,-999.0000,9, -999.00,9, -999.00,9,  -999.0,9,  -999.0,     8.3209,-999.0000,-999.000,-999.000
31WTTUNES_3,       P16C,     307,          1,         27,         27,2,19910925,       1102,    13.3468,  -152.5912,       5700,   515.6,   7.2420,  34.5130,2,  34.5142,2,     20.1,2,    21.4,2,   59.64,2,   38.46,2,    0.01,2,    2.88,2,-999.000,9,-999.000,9,  -999.0,9,  -999.0,9,-999.000,9,-999.0000,9, -999.00,9, -999.00,9,  -999.0,9,  -999.0,     7.1920,-999.0000,-999.000,-999.000
31WTTUNES_3,       P16C,     307,          1,         26,         26,2,19910925,       1102,    13.3468,  -152.5912,       5700,   617.6,   6.4662,  34.5010,2,  34.5036,2,     22.1,2,    21.8,2,   68.90,2,   40.09,2,    0.00,2,    2.98,2,-999.000,9,-999.000,9,  -999.0,9,  -999.0,9,-999.000,9,-999.0000,9, -999.00,9, -999.00,9,  -999.0,9,  -999.0,     6.4096,-999.0000,-999.000,-999.000
31WTTUNES_3,       P16C,     307,          1,         25,         25,2,19910925,       1102,    13.3468,  -152.5912,       5700,   720.3,   5.6455,  34.5077,2,  34.5056,2,     25.1,2,    23.8,2,   78.55,2,   41.57,2,    0.01,2,    3.07,2,-999.000,9,-999.000,9,  -999.0,9,  -999.0,9,-999.000,9,-999.0000,9, -999.00,9, -999.00,9,  -999.0,9,  -999.0,     5.5835,-999.0000,-999.000,-999.000
31WTTUNES_3,       P16C,     307,          1,         24,         24,2,19910925,       1102,    13.3468,  -152.5912,       5700,   822.4,   5.0247,  34.5238,2,  34.5188,2,     36.4,2,    30.1,2,   87.81,2,   42.48,2,    0.01,2,    3.08,2,-999.000,9,-999.000,9,  -999.0,9,  -999.0,9,-999.000,9,-999.0000,9, -999.00,9, -999.00,9,  -999.0,9,  -999.0,     4.9570,-999.0000,-999.000,-999.000
31WTTUNES_3,       P16C,     307,          1,         23,         23,2,19910925,       1102,    13.3468,  -152.5912,       5700,   924.2,   4.5222,  34.5370,2,  34.5323,2,     40.9,2,    38.4,2,   97.27,2,   42.56,2,    0.00,2,    3.08,2,-999.000,9,-999.000,9,  -999.0,9,  -999.0,9,-999.000,9,-999.0000,9, -999.00,9, -999.00,9,  -999.0,9,  -999.0,     4.4490,-999.0000,-999.000,-999.000
31WTTUNES_3,       P16C,     307,          1,         22,         22,2,19910925,       1102,    13.3468,  -152.5912,       5700,  1017.4,   4.1780,  34.5508,2,  34.5466,2,     47.8,2,    45.5,2,  103.98,2,   42.36,2,    0.00,2,    3.06,2,-999.000,9,-999.000,9,  -999.0,9,  -999.0,9,-999.000,9,-999.0000,9, -999.00,9, -999.00,9,  -999.0,9,  -999.0,     4.0994,-999.0000,-999.000,-999.000
31WTTUNES_3,       P16C,     307,          1,         21,         21,2,19910925,       1102,    13.3468,  -152.5912,       5700,  1207.5,   3.6681,  34.5703,2,  34.5679,2,     58.4,2,    57.7,2,  115.01,2,   41.87,2,    0.00,2,    3.00,2,-999.000,9,-999.000,9,  -999.0,9,  -999.0,9,-999.000,9,-999.0000,9, -999.00,9, -999.00,9,  -999.0,9,  -999.0,     3.5778,-999.0000,-999.000,-999.000
31WTTUNES_3,       P16C,     307,          1,         20,         20,2,19910925,       1102,    13.3468,  -152.5912,       5700,  1404.6,   3.1649,  34.5896,2,  34.5863,2,     69.2,2,    66.5,2,  125.67,2,   41.38,2,    0.00,2,    2.96,2,-999.000,9,-999.000,9,  -999.0,9,  -999.0,9,-999.000,9,-999.0000,9, -999.00,9, -999.00,9,  -999.0,9,  -999.0,     3.0632,-999.0000,-999.000,-999.000
31WTTUNES_3,       P16C,     307,          1,         19,         19,2,19910925,       1102,    13.3468,  -152.5912,       5700,  1599.2,   2.7116,  34.6053,2,  34.6024,2,     75.7,2,    73.7,2,  137.55,2,   41.00,2,    0.00,2,    2.91,2,-999.000,9,-999.000,9,  -999.0,9,  -999.0,9,-999.000,9,-999.0000,9, -999.00,9, -999.00,9,  -999.0,9,  -999.0,     2.5989,-999.0000,-999.000,-999.000
31WTTUNES_3,       P16C,     307,          1,         18,         18,2,19910925,       1102,    13.3468,  -152.5912,       5700,  1807.9,   2.3657,  34.6235,2,  34.6211,2,     88.2,2,    87.0,2,  144.28,2,   40.21,2,    0.00,2,    2.84,2,-999.000,9,-999.000,9,  -999.0,9,  -999.0,9,-999.000,9,-999.0000,9, -999.00,9, -999.00,9,  -999.0,9,  -999.0,     2.2401,-999.0000,-999.000,-999.000
31WTTUNES_3,       P16C,     307,          1,         17,         17,2,19910925,       1102,    13.3468,  -152.5912,       5700,  2009.2,   2.1260,  34.6374,2,  34.6358,2,     96.5,2,    95.5,2,  150.61,2,   39.66,2,    0.00,2,    2.79,2,-999.000,9,-999.000,9,  -999.0,9,  -999.0,9,-999.000,9,-999.0000,9, -999.00,9, -999.00,9,  -999.0,9,  -999.0,     1.9868,-999.0000,-999.000,-999.000
31WTTUNES_3,       P16C,     307,          1,         16,         16,2,19910925,       1102,    13.3468,  -152.5912,       5700,  2195.4,   1.9808,  34.6474,2,  34.6451,2,    103.4,2,   102.3,2,  153.60,2,   39.17,2,    0.00,2,    2.75,2,-999.000,9,-999.000,9,  -999.0,9,  -999.0,9,-999.000,9,-999.0000,9, -999.00,9, -999.00,9,  -999.0,9,  -999.0,     1.8280,-999.0000,-999.000,-999.000
31WTTUNES_3,       P16C,     307,          1,         15,         15,2,19910925,       1102,    13.3468,  -152.5912,       5700,  2394.7,   1.8800,  34.6558,2,  34.6529,2,    108.6,2,   107.8,2,  156.00,2,   38.91,2,    0.01,2,    2.73,2,-999.000,9,-999.000,9,  -999.0,9,  -999.0,9,-999.000,9,-999.0000,9, -999.00,9, -999.00,9,  -999.0,9,  -999.0,     1.7115,-999.0000,-999.000,-999.000
31WTTUNES_3,       P16C,     307,          1,         14,         14,2,19910925,       1102,    13.3468,  -152.5912,       5700,  2602.1,   1.8020,  34.6625,2,  34.6606,2,    112.7,2,   112.5,2,  157.63,2,   38.59,2,    0.00,2,    2.69,2,-999.000,9,-999.000,9,  -999.0,9,  -999.0,9,-999.000,9,-999.0000,9, -999.00,9, -999.00,9,  -999.0,9,  -999.0,     1.6161,-999.0000,-999.000,-999.000
31WTTUNES_3,       P16C,     307,          1,         13,         13,2,19910925,       1102,    13.3468,  -152.5912,       5700,  2788.2,   1.7501,  34.6674,2,  34.6657,2,    116.5,2,   116.5,2,  158.85,2,   38.32,2,    0.01,2,    2.66,2,-999.000,9,-999.000,9,  -999.0,9,  -999.0,9,-999.000,9,-999.0000,9, -999.00,9, -999.00,9,  -999.0,9,  -999.0,     1.5480,-999.0000,-999.000,-999.000
31WTTUNES_3,       P16C,     307,          1,         12,         12,2,19910925,       1102,    13.3468,  -152.5912,       5700,  2994.2,   1.6985,  34.6708,2,  34.6702,2,    120.8,2,   121.0,2,  159.87,2,   38.04,2,    0.01,2,    2.64,2,-999.000,9,-999.000,9,  -999.0,9,  -999.0,9,-999.000,9,-999.0000,9, -999.00,9, -999.00,9,  -999.0,9,  -999.0,     1.4779,-999.0000,-999.000,-999.000
31WTTUNES_3,       P16C,     307,          1,         11,         11,2,19910925,       1102,    13.3468,  -152.5912,       5700,  3252.9,   1.6330,  34.6756,2,  34.6732,2,    126.5,2,   127.0,2,  160.90,2,   37.74,2,    0.01,2,    2.61,2,-999.000,9,-999.000,9,  -999.0,9,  -999.0,9,-999.000,9,-999.0000,9, -999.00,9, -999.00,9,  -999.0,9,  -999.0,     1.3886,-999.0000,-999.000,-999.000
31WTTUNES_3,       P16C,     307,          1,         10,         10,2,19910925,       1102,    13.3468,  -152.5912,       5700,  3521.1,   1.5636,  34.6788,2,  34.6781,2,    133.0,2,   133.4,2,  162.33,2,   37.29,2,    0.01,2,    2.58,2,-999.000,9,-999.000,9,  -999.0,9,  -999.0,9,-999.000,9,-999.0000,9, -999.00,9, -999.00,9,  -999.0,9,  -999.0,     1.2938,-999.0000,-999.000,-999.000
31WTTUNES_3,       P16C,     307,          1,          9,          9,2,19910925,       1102,    13.3468,  -152.5912,       5700,  3761.8,   1.5107,  34.6826,2,  34.6810,2,    141.5,2,   143.0,2,  158.22,2,   36.82,2,    0.00,2,    2.53,2,-999.000,9,-999.000,9,  -999.0,9,  -999.0,9,-999.000,9,-999.0000,9, -999.00,9, -999.00,9,  -999.0,9,  -999.0,     1.2171,-999.0000,-999.000,-999.000
31WTTUNES_3,       P16C,     307,          1,          8,          8,2,19910925,       1102,    13.3468,  -152.5912,       5700,  4006.5,   1.4618,  34.6874,2,  34.6859,2,    152.0,2,   153.9,2,  151.95,2,   36.07,2,    0.01,2,    2.48,2,-999.000,9,-999.000,9,  -999.0,9,  -999.0,9,-999.000,9,-999.0000,9, -999.00,9, -999.00,9,  -999.0,9,  -999.0,     1.1433,-999.0000,-999.000,-999.000
31WTTUNES_3,       P16C,     307,          1,          7,          7,2,19910925,       1102,    13.3468,  -152.5912,       5700,  4254.6,   1.4246,  34.6908,2,  34.6895,2,    160.8,2,   161.2,2,  147.45,2,   35.43,2,    0.01,2,    2.43,2,-999.000,9,-999.000,9,  -999.0,9,  -999.0,9,-999.000,9,-999.0000,9, -999.00,9, -999.00,9,  -999.0,9,  -999.0,     1.0796,-999.0000,-999.000,-999.000
31WTTUNES_3,       P16C,     307,          1,          6,          6,2,19910925,       1102,    13.3468,  -152.5912,       5700,  4514.3,   1.3966,  34.6939,2,  34.6926,2,    168.2,2,   168.5,2,  143.15,2,   34.90,2,    0.00,2,    2.40,2,-999.000,9,-999.000,9,  -999.0,9,  -999.0,9,-999.000,9,-999.0000,9, -999.00,9, -999.00,9,  -999.0,9,  -999.0,     1.0232,-999.0000,-999.000,-999.000
31WTTUNES_3,       P16C,     307,          1,          5,          5,2,19910925,       1102,    13.3468,  -152.5912,       5700,  4746.2,   1.3797,  34.6961,2,  34.6948,2,    173.8,2,   173.8,2,  139.64,2,   34.54,2,    0.01,2,    2.37,2,-999.000,9,-999.000,9,  -999.0,9,  -999.0,9,-999.000,9,-999.0000,9, -999.00,9, -999.00,9,  -999.0,9,  -999.0,     0.9798,-999.0000,-999.000,-999.000
31WTTUNES_3,       P16C,     307,          1,          4,          4,2,19910925,       1102,    13.3468,  -152.5912,       5700,  5007.7,   1.3894,  34.6975,2,  34.6971,2,    177.4,2,   177.2,2,  138.10,2,   34.19,2,    0.01,2,    2.34,2,-999.000,9,-999.000,9,  -999.0,9,  -999.0,9,-999.000,9,-999.0000,9, -999.00,9, -999.00,9,  -999.0,9,  -999.0,     0.9579,-999.0000,-999.000,-999.000
31WTTUNES_3,       P16C,     307,          1,          3,          3,2,19910925,       1102,    13.3468,  -152.5912,       5700,  5268.1,   1.4141,  34.6981,2,  34.6960,2,    179.0,2,   179.2,2,  136.96,2,   34.00,2,    0.01,2,    2.35,2,-999.000,9,-999.000,9,  -999.0,9,  -999.0,9,-999.000,9,-999.0000,9, -999.00,9, -999.00,9,  -999.0,9,  -999.0,     0.9497,-999.0000,-999.000,-999.000
31WTTUNES_3,       P16C,     307,          1,          2,          2,2,19910925,       1102,    13.3468,  -152.5912,       5700,  5507.9,   1.4429,  34.6980,2,  34.6963,2,    180.1,2,   180.2,2,  137.19,2,   34.11,2,    0.01,2,    2.34,2,-999.000,9,-999.000,9,  -999.0,9,  -999.0,9,-999.000,9,-999.0000,9, -999.00,9, -999.00,9,  -999.0,9,  -999.0,     0.9473,-999.0000,-999.000,-999.000
31WTTUNES_3,       P16C,     307,          1,          1,          1,2,19910925,       1102,    13.3468,  -152.5912,       5700,  5709.0,   1.4690,  34.6983,2,  34.6967,2,    179.0,2,   184.4,3,  136.63,2,   33.99,2,    0.00,2,    2.33,2,-999.000,9,-999.000,9,  -999.0,9,  -999.0,9,-999.000,9,-999.0000,9, -999.00,9, -999.00,9,  -999.0,9,  -999.0,     0.9466,-999.0000,-999.000,-999.000