BOTTLE,20211117CCHSIORKP
EXPOCODE,SECT_ID,STNNBR,CASTNO,SAMPNO,BTLNBR,BTLNBR_FLAG_W,DATE,TIME,LATITUDE,LONGITUDE,DEPTH,CTDPRS,CTDTMP,CTDSAL,CTDSAL_FLAG_W,SALNTY,SALNTY_FLAG_W,CTDOXY,CTDOXY_FLAG_W,OXYGEN,OXYGEN_FLAG_W,SILCAT,SILCAT_FLAG_W,NITRAT,NITRAT_FLAG_W,NITRIT,NITRIT_FLAG_W,PHSPHT,PHSPHT_FLAG_W,CFC-11,CFC-11_FLAG_W,CFC-12,CFC-12_FLAG_W,TCARBN,TCARBN_FLAG_W,ALKALI,ALKALI_FLAG_W,TRITUM,TRITUM_FLAG_W,HELIUM,HELIUM_FLAG_W,DELHE3,DELHE3_FLAG_W,DELC13,DELC13_FLAG_W,DELC14,DELC14_FLAG_W,C14ERR,THETA,HELIER,DELHER,TRITER
,,,,,,,,,,,METERS,DBAR,ITS-90,PSS-78,,PSS-78,,UMOL/KG,,UMOL/KG,,UMOL/KG,,UMOL/KG,,UMOL/KG,,UMOL/KG,,PMOL/KG,,PMOL/KG,,UMOL/KG,,UMOL/KG,,TU,,NMOL/KG,,PERCNT,,/MILLE,,/MILLE,,/MILLE,ITS-90,NMOL/KG,PERCNT,TU
31WTTUNES_3,       P16C,     245,          1,         36,         36,2,19910909,       1818,    -5.4962,  -151.0060,       4978,     5.8,  27.8949,  35.3136,2,  35.3106,2,    209.8,3,   212.4,2,    1.10,2,    4.03,2,    0.09,2,    0.52,2,-999.000,9,-999.000,9,  -999.0,9,  -999.0,9,-999.000,9,-999.0000,9, -999.00,9, -999.00,9,  -999.0,9,  -999.0,    27.8935,-999.0000,-999.000,-999.000
31WTTUNES_3,       P16C,     245,          1,         35,         35,2,19910909,       1818,    -5.4962,  -151.0060,       4978,    58.0,  27.9116,  35.3186,2,  35.3120,2,    207.2,2,   211.4,2,    1.09,2,    4.03,2,    0.09,2,    0.52,2,-999.000,9,-999.000,9,  -999.0,9,  -999.0,9,-999.000,9,-999.0000,9, -999.00,9, -999.00,9,  -999.0,9,  -999.0,    27.8979,-999.0000,-999.000,-999.000
31WTTUNES_3,       P16C,     245,          1,         34,         34,2,19910909,       1818,    -5.4962,  -151.0060,       4978,   106.6,  27.9087,  35.3620,2,  35.6036,2,    210.6,2,   204.5,2,    1.08,2,    2.90,2,    0.37,2,    0.53,2,-999.000,9,-999.000,9,  -999.0,9,  -999.0,9,-999.000,9,-999.0000,9, -999.00,9, -999.00,9,  -999.0,9,  -999.0,    27.8836,-999.0000,-999.000,-999.000
31WTTUNES_3,       P16C,     245,          1,         33,         33,2,19910909,       1818,    -5.4962,  -151.0060,       4978,   131.0,  27.3116,  36.2184,2,  36.2457,2,    175.8,2,   174.1,2,    0.87,2,    4.20,2,    0.33,2,    0.58,2,-999.000,9,-999.000,9,  -999.0,9,  -999.0,9,-999.000,9,-999.0000,9, -999.00,9, -999.00,9,  -999.0,9,  -999.0,    27.2812,-999.0000,-999.000,-999.000
31WTTUNES_3,       P16C,     245,          1,         32,         32,2,19910909,       1818,    -5.4962,  -151.0060,       4978,   156.7,  22.5500,  36.1310,2,  36.1988,2,    173.2,2,   172.4,2,    0.47,2,    5.42,2,    0.03,2,    0.64,2,-999.000,9,-999.000,9,  -999.0,9,  -999.0,9,-999.000,9,-999.0000,9, -999.00,9, -999.00,9,  -999.0,9,  -999.0,    22.5182,-999.0000,-999.000,-999.000
31WTTUNES_3,       P16C,     245,          1,         31,         31,2,19910909,       1818,    -5.4962,  -151.0060,       4978,   180.6,  20.5149,  35.8823,2,  36.0331,2,    164.6,2,   169.8,2,    0.65,2,    5.61,2,    0.03,2,    0.65,2,-999.000,9,-999.000,9,  -999.0,9,  -999.0,9,-999.000,9,-999.0000,9, -999.00,9, -999.00,9,  -999.0,9,  -999.0,    20.4807,-999.0000,-999.000,-999.000
31WTTUNES_3,       P16C,     245,          1,         30,         30,2,19910909,       1818,    -5.4962,  -151.0060,       4978,   204.5,  16.6866,  35.2822,2,  35.5413,2,     97.3,2,   125.5,2,    4.01,2,   12.21,2,    0.01,2,    1.10,2,-999.000,9,-999.000,9,  -999.0,9,  -999.0,9,-999.000,9,-999.0000,9, -999.00,9, -999.00,9,  -999.0,9,  -999.0,    16.6532,-999.0000,-999.000,-999.000
31WTTUNES_3,       P16C,     245,          1,         29,         29,2,19910909,       1818,    -5.4962,  -151.0060,       4978,   228.7,  13.4934,  35.0114,2,  35.2842,2,     64.7,2,    86.0,2,    8.54,2,   18.98,2,    0.01,2,    1.54,2,-999.000,9,-999.000,9,  -999.0,9,  -999.0,9,-999.000,9,-999.0000,9, -999.00,9, -999.00,9,  -999.0,9,  -999.0,    13.4611,-999.0000,-999.000,-999.000
31WTTUNES_3,       P16C,     245,          1,         28,         28,2,19910909,       1818,    -5.4962,  -151.0060,       4978,   253.7,  12.3380,  34.9008,2,  35.0272,2,     52.8,2,    65.3,2,   13.28,2,   24.00,2,    0.01,2,    1.89,2,-999.000,9,-999.000,9,  -999.0,9,  -999.0,9,-999.000,9,-999.0000,9, -999.00,9, -999.00,9,  -999.0,9,  -999.0,    12.3042,-999.0000,-999.000,-999.000
31WTTUNES_3,       P16C,     245,          1,         27,         27,2,19910909,       1818,    -5.4962,  -151.0060,       4978,   305.3,  10.9307,  34.8089,2,  34.8414,2,     67.6,2,    61.5,2,   21.18,2,   29.54,2,    0.01,2,    2.13,2,-999.000,9,-999.000,9,  -999.0,9,  -999.0,9,-999.000,9,-999.0000,9, -999.00,9, -999.00,9,  -999.0,9,  -999.0,    10.8931,-999.0000,-999.000,-999.000
31WTTUNES_3,       P16C,     245,          1,         26,         26,2,19910909,       1818,    -5.4962,  -151.0060,       4978,   407.2,   9.7559,  34.7280,2,  34.7341,2,     28.2,2,    29.1,2,   30.67,2,   35.39,2,    0.00,2,    2.54,2,-999.000,9,-999.000,9,  -999.0,9,  -999.0,9,-999.000,9,-999.0000,9, -999.00,9, -999.00,9,  -999.0,9,  -999.0,     9.7090,-999.0000,-999.000,-999.000
31WTTUNES_3,       P16C,     245,          1,         25,         25,2,19910909,       1818,    -5.4962,  -151.0060,       4978,   507.7,   8.4941,  34.6589,2,  34.6653,2,     25.7,2,    26.6,2,   36.80,2,   38.56,2,    0.01,2,    2.71,2,-999.000,9,-999.000,9,  -999.0,9,  -999.0,9,-999.000,9,-999.0000,9, -999.00,9, -999.00,9,  -999.0,9,  -999.0,     8.4400,-999.0000,-999.000,-999.000
31WTTUNES_3,       P16C,     245,          1,         24,         24,2,19910909,       1818,    -5.4962,  -151.0060,       4978,   610.1,   7.4913,  34.6000,2,  34.6146,2,     63.7,2,    59.4,2,   37.37,2,   37.49,2,    0.00,2,    2.61,2,-999.000,9,-999.000,9,  -999.0,9,  -999.0,9,-999.000,9,-999.0000,9, -999.00,9, -999.00,9,  -999.0,9,  -999.0,     7.4306,-999.0000,-999.000,-999.000
31WTTUNES_3,       P16C,     245,          1,         23,         23,2,19910909,       1818,    -5.4962,  -151.0060,       4978,   712.0,   6.4059,  34.5605,2,  34.5763,2,     58.5,2,    68.1,2,   43.51,2,   38.59,2,    0.00,2,    2.69,2,-999.000,9,-999.000,9,  -999.0,9,  -999.0,9,-999.000,9,-999.0000,9, -999.00,9, -999.00,9,  -999.0,9,  -999.0,     6.3404,-999.0000,-999.000,-999.000
31WTTUNES_3,       P16C,     245,          1,         22,         22,2,19910909,       1818,    -5.4962,  -151.0060,       4978,   812.0,   5.5128,  34.5422,2,  34.5429,2,     74.3,2,    72.1,2,   56.34,2,   40.07,2,    0.01,2,    2.81,2,-999.000,9,-999.000,9,  -999.0,9,  -999.0,9,-999.000,9,-999.0000,9, -999.00,9, -999.00,9,  -999.0,9,  -999.0,     5.4430,-999.0000,-999.000,-999.000
31WTTUNES_3,       P16C,     245,          1,         21,         21,2,19910909,       1818,    -5.4962,  -151.0060,       4978,   914.0,   4.8091,  34.5392,2,  34.5415,2,     90.7,2,    82.8,2,   64.63,2,   39.62,2,    0.00,2,    2.79,2,-999.000,9,-999.000,9,  -999.0,9,  -999.0,9,-999.000,9,-999.0000,9, -999.00,9, -999.00,9,  -999.0,9,  -999.0,     4.7348,-999.0000,-999.000,-999.000
31WTTUNES_3,       P16C,     245,          1,         20,         20,2,19910909,       1818,    -5.4962,  -151.0060,       4978,  1013.1,   4.4263,  34.5486,2,  34.5468,2,     91.3,2,    91.6,2,   81.04,2,   39.55,2,    0.00,2,    2.83,2,-999.000,9,-999.000,9,  -999.0,9,  -999.0,9,-999.000,9,-999.0000,9, -999.00,9, -999.00,9,  -999.0,9,  -999.0,     4.3462,-999.0000,-999.000,-999.000
31WTTUNES_3,       P16C,     245,          1,         19,         19,2,19910909,       1818,    -5.4962,  -151.0060,       4978,  1212.2,   3.6612,  34.5712,2,  34.5718,2,    102.1,2,   101.8,2,   97.64,2,   38.97,2,    0.00,2,    2.78,2,-999.000,9,-999.000,9,  -999.0,9,  -999.0,9,-999.000,9,-999.0000,9, -999.00,9, -999.00,9,  -999.0,9,  -999.0,     3.5706,-999.0000,-999.000,-999.000
31WTTUNES_3,       P16C,     245,          1,         18,         18,2,19910909,       1818,    -5.4962,  -151.0060,       4978,  1411.0,   3.2313,  34.5899,2,  34.5881,2,    103.9,2,   103.3,2,  108.90,2,   39.15,2,    0.00,2,    2.79,2,-999.000,9,-999.000,9,  -999.0,9,  -999.0,9,-999.000,9,-999.0000,9, -999.00,9, -999.00,9,  -999.0,9,  -999.0,     3.1283,-999.0000,-999.000,-999.000
31WTTUNES_3,       P16C,     245,          1,         17,         17,2,19910909,       1818,    -5.4962,  -151.0060,       4978,  1610.3,   2.8971,  34.6067,2,  34.6101,2,    103.7,2,   106.4,2,  118.58,2,   38.96,2,    0.01,2,    2.76,2,-999.000,9,-999.000,9,  -999.0,9,  -999.0,9,-999.000,9,-999.0000,9, -999.00,9, -999.00,9,  -999.0,9,  -999.0,     2.7811,-999.0000,-999.000,-999.000
31WTTUNES_3,       P16C,     245,          1,         16,         16,2,19910909,       1818,    -5.4962,  -151.0060,       4978,  1810.0,   2.5809,  34.6220,2,  34.6203,2,    113.0,2,   114.7,2,  123.30,2,   38.46,2,    0.00,2,    2.71,2,-999.000,9,-999.000,9,  -999.0,9,  -999.0,9,-999.000,9,-999.0000,9, -999.00,9, -999.00,9,  -999.0,9,  -999.0,     2.4521,-999.0000,-999.000,-999.000
31WTTUNES_3,       P16C,     245,          1,         15,         15,2,19910909,       1818,    -5.4962,  -151.0060,       4978,  2013.6,   2.3341,  34.6346,2,  34.6329,2,    119.2,2,   119.9,2,  128.22,2,   38.14,2,    0.00,2,    2.69,2,-999.000,9,-999.000,9,  -999.0,9,  -999.0,9,-999.000,9,-999.0000,9, -999.00,9, -999.00,9,  -999.0,9,  -999.0,     2.1915,-999.0000,-999.000,-999.000
31WTTUNES_3,       P16C,     245,          1,         14,         14,2,19910909,       1818,    -5.4962,  -151.0060,       4978,  2219.0,   2.0911,  34.6495,2,  34.6510,2,    124.7,2,   125.4,2,  134.13,2,   37.81,2,    0.00,2,    2.66,2,-999.000,9,-999.000,9,  -999.0,9,  -999.0,9,-999.000,9,-999.0000,9, -999.00,9, -999.00,9,  -999.0,9,  -999.0,     1.9343,-999.0000,-999.000,-999.000
31WTTUNES_3,       P16C,     245,          1,         13,         13,2,19910909,       1818,    -5.4962,  -151.0060,       4978,  2377.4,   1.9575,  34.6588,2,  34.6574,2,    128.2,2,   129.7,2,  137.09,2,   37.57,2,    0.01,2,    2.63,2,-999.000,9,-999.000,9,  -999.0,9,  -999.0,9,-999.000,9,-999.0000,9, -999.00,9, -999.00,9,  -999.0,9,  -999.0,     1.7890,-999.0000,-999.000,-999.000
31WTTUNES_3,       P16C,     245,          1,         12,         12,2,19910909,       1818,    -5.4962,  -151.0060,       4978,  2586.8,   1.8510,  34.6661,2,  34.6645,2,    132.1,2,   132.7,2,  140.41,2,   37.40,2,    0.00,2,    2.62,2,-999.000,9,-999.000,9,  -999.0,9,  -999.0,9,-999.000,9,-999.0000,9, -999.00,9, -999.00,9,  -999.0,9,  -999.0,     1.6655,-999.0000,-999.000,-999.000
31WTTUNES_3,       P16C,     245,          1,         11,         11,2,19910909,       1818,    -5.4962,  -151.0060,       4978,  2800.0,   1.7739,  34.6720,2,  34.6712,2,    134.9,2,   136.7,2,  142.53,2,   37.15,2,    0.00,2,    2.59,2,-999.000,9,-999.000,9,  -999.0,9,  -999.0,9,-999.000,9,-999.0000,9, -999.00,9, -999.00,9,  -999.0,9,  -999.0,     1.5702,-999.0000,-999.000,-999.000
31WTTUNES_3,       P16C,     245,          1,         10,         10,2,19910909,       1818,    -5.4962,  -151.0060,       4978,  3009.9,   1.6796,  34.6767,2,  34.6751,2,    142.1,2,   143.1,2,  142.31,2,   36.72,2,    0.00,2,    2.57,2,-999.000,9,-999.000,9,  -999.0,9,  -999.0,9,-999.000,9,-999.0000,9, -999.00,9, -999.00,9,  -999.0,9,  -999.0,     1.4578,-999.0000,-999.000,-999.000
31WTTUNES_3,       P16C,     245,          1,          9,          9,2,19910909,       1818,    -5.4962,  -151.0060,       4978,  3221.2,   1.6077,  34.6808,2,  34.6800,2,    148.6,2,   152.6,2,  140.32,2,   36.08,2,    0.01,2,    2.50,2,-999.000,9,-999.000,9,  -999.0,9,  -999.0,9,-999.000,9,-999.0000,9, -999.00,9, -999.00,9,  -999.0,9,  -999.0,     1.3670,-999.0000,-999.000,-999.000
31WTTUNES_3,       P16C,     245,          1,          8,          8,2,19910909,       1818,    -5.4962,  -151.0060,       4978,  3485.3,   1.5310,  34.6858,2,  34.6844,2,    158.6,2,   159.4,2,  137.72,2,   35.56,2,    0.00,2,    2.45,2,-999.000,9,-999.000,9,  -999.0,9,  -999.0,9,-999.000,9,-999.0000,9, -999.00,9, -999.00,9,  -999.0,9,  -999.0,     1.2656,-999.0000,-999.000,-999.000
31WTTUNES_3,       P16C,     245,          1,          7,          7,2,19910909,       1818,    -5.4962,  -151.0060,       4978,  3748.1,   1.4559,  34.6899,2,  34.6895,2,    163.8,2,   165.5,2,  136.11,2,   35.03,2,    0.00,2,    2.42,2,-999.000,9,-999.000,9,  -999.0,9,  -999.0,9,-999.000,9,-999.0000,9, -999.00,9, -999.00,9,  -999.0,9,  -999.0,     1.1651,-999.0000,-999.000,-999.000
31WTTUNES_3,       P16C,     245,          1,          6,          6,2,19910909,       1818,    -5.4962,  -151.0060,       4978,  4009.1,   1.3937,  34.6941,2,  34.6948,2,    172.1,2,   171.9,2,  133.70,2,   34.68,2,    0.00,2,    2.39,2,-999.000,9,-999.000,9,  -999.0,9,  -999.0,9,-999.000,9,-999.0000,9, -999.00,9, -999.00,9,  -999.0,9,  -999.0,     1.0766,-999.0000,-999.000,-999.000
31WTTUNES_3,       P16C,     245,          1,          5,          5,2,19910909,       1818,    -5.4962,  -151.0060,       4978,  4269.7,   1.3546,  34.6967,2,  34.6985,2,    180.5,2,   180.5,2,  129.34,2,   34.05,2,    0.01,2,    2.34,2,-999.000,9,-999.000,9,  -999.0,9,  -999.0,9,-999.000,9,-999.0000,9, -999.00,9, -999.00,9,  -999.0,9,  -999.0,     1.0101,-999.0000,-999.000,-999.000
31WTTUNES_3,       P16C,     245,          1,          4,          4,2,19910909,       1818,    -5.4962,  -151.0060,       4978,  4532.6,   1.3326,  34.6993,2,  34.6989,2,    186.7,2,   186.4,2,  125.96,2,   33.53,2,    0.01,2,    2.31,2,-999.000,9,-999.000,9,  -999.0,9,  -999.0,9,-999.000,9,-999.0000,9, -999.00,9, -999.00,9,  -999.0,9,  -999.0,     0.9591,-999.0000,-999.000,-999.000
31WTTUNES_3,       P16C,     245,          1,          3,          3,2,19910909,       1818,    -5.4962,  -151.0060,       4978,  4740.1,   1.3110,  34.7010,2,  34.7022,2,    190.7,2,   186.4,3,  124.75,2,   33.39,2,    0.01,2,    2.30,2,-999.000,9,-999.000,9,  -999.0,9,  -999.0,9,-999.000,9,-999.0000,9, -999.00,9, -999.00,9,  -999.0,9,  -999.0,     0.9139,-999.0000,-999.000,-999.000
31WTTUNES_3,       P16C,     245,          1,          2,          2,4,19910909,       1818,    -5.4962,  -151.0060,       4978,  4949.1,   1.3048,  34.7022,2,-999.0000,9,    192.9,2,  -999.0,9, -999.00,9, -999.00,9, -999.00,9, -999.00,9,-999.000,9,-999.000,9,  -999.0,9,  -999.0,9,-999.000,9,-999.0000,9, -999.00,9, -999.00,9,  -999.0,9,  -999.0,     0.8831,-999.0000,-999.000,-999.000
31WTTUNES_3,       P16C,     245,          1,          1,          1,4,19910909,       1818,    -5.4962,  -151.0060,       4978,  5111.0,   1.3227,  34.7017,2,  34.7022,4,    192.9,2,   194.1,4,  124.31,4,   33.06,4,    0.06,4,    2.68,4,-999.000,9,-999.000,9,  -999.0,9,  -999.0,9,-999.000,9,-999.0000,9, -999.00,9, -999.00,9,  -999.0,9,  -999.0,     0.8809,-999.0000,-999.000,-999.000