BOTTLE,20211117CCHSIORKP
EXPOCODE,SECT_ID,STNNBR,CASTNO,SAMPNO,BTLNBR,BTLNBR_FLAG_W,DATE,TIME,LATITUDE,LONGITUDE,DEPTH,CTDPRS,CTDTMP,CTDSAL,CTDSAL_FLAG_W,SALNTY,SALNTY_FLAG_W,CTDOXY,CTDOXY_FLAG_W,OXYGEN,OXYGEN_FLAG_W,SILCAT,SILCAT_FLAG_W,NITRAT,NITRAT_FLAG_W,NITRIT,NITRIT_FLAG_W,PHSPHT,PHSPHT_FLAG_W,CFC-11,CFC-11_FLAG_W,CFC-12,CFC-12_FLAG_W,TCARBN,TCARBN_FLAG_W,ALKALI,ALKALI_FLAG_W,TRITUM,TRITUM_FLAG_W,HELIUM,HELIUM_FLAG_W,DELHE3,DELHE3_FLAG_W,DELC13,DELC13_FLAG_W,DELC14,DELC14_FLAG_W,C14ERR,THETA,HELIER,DELHER,TRITER
,,,,,,,,,,,METERS,DBAR,ITS-90,PSS-78,,PSS-78,,UMOL/KG,,UMOL/KG,,UMOL/KG,,UMOL/KG,,UMOL/KG,,UMOL/KG,,PMOL/KG,,PMOL/KG,,UMOL/KG,,UMOL/KG,,TU,,NMOL/KG,,PERCNT,,/MILLE,,/MILLE,,/MILLE,ITS-90,NMOL/KG,PERCNT,TU
31WTTUNES_3,       P16C,     246,          2,         36,         36,2,19910910,       0121,    -5.0130,  -151.0045,       5004,     5.9,  28.1993,  35.4059,2,  35.4032,2,    210.3,3,   213.2,2,    1.48,2,    3.66,2,    0.13,2,    0.50,2,   1.635,2,   1.089,4,  1993.5,2,  2330.8,2,   1.054,2,-999.0000,9,  -99.00,2,    1.61,2,    87.7,2,     2.8,    28.1979,-999.0000,   0.110,   0.007
31WTTUNES_3,       P16C,     246,          2,         35,         35,2,19910910,       0121,    -5.0130,  -151.0045,       5004,    58.3,  28.0418,  35.4023,2,  35.3993,2,    209.5,2,   214.8,2,    1.49,2,    3.69,2,    0.14,2,    0.50,2,   1.611,2,   0.929,3,  1994.2,2,  2328.3,2,-999.000,5,   1.7150,2,   -0.94,2,    1.63,2,    86.1,2,     2.8,    28.0280,   0.0080,   0.150,-999.000
31WTTUNES_3,       P16C,     246,          2,         34,         34,2,19910910,       0121,    -5.0130,  -151.0045,       5004,    96.9,  27.7064,  35.4297,2,  35.4348,2,    211.8,2,   214.0,2,    1.69,2,    4.25,2,    0.24,2,    0.55,2,   1.664,6,   0.910,6,  2006.1,2,  2329.8,2,   1.110,2,   1.7400,2,   -1.01,2,    1.38,2,    84.2,2,     4.5,    27.6838,   0.0080,   0.150,   0.008
31WTTUNES_3,       P16C,     246,          2,         33,         33,2,19910910,       0121,    -5.0130,  -151.0045,       5004,   135.5,  26.8579,  36.1711,2,  36.2966,2,    182.6,2,   174.7,2,    1.09,2,    5.20,2,    0.05,2,    0.62,2,   1.762,2,   0.979,2,  2075.3,2,  2389.5,2,   0.836,2,   0.0000,2,    0.00,2,    1.37,2,    95.0,2,     4.2,    26.8268,-999.0000,   0.150,   0.007
31WTTUNES_3,       P16C,     246,          2,         32,         32,2,19910910,       0121,    -5.0130,  -151.0045,       5004,   174.5,  22.3484,  36.1190,2,  35.9330,2,    170.6,2,   165.8,2,    1.30,2,    6.23,2,    0.02,2,    0.69,2,   1.822,2,   0.974,2,  2102.3,2,  2369.4,2,   0.693,2,   1.7310,2,   -0.20,2,    1.26,2,   123.8,2,     4.8,    22.3133,   0.0080,   0.150,   0.006
31WTTUNES_3,       P16C,     246,          2,         31,         31,2,19910910,       0121,    -5.0130,  -151.0045,       5004,   213.6,  16.3181,  35.2557,2,  35.1165,2,     98.0,2,    77.6,2,   11.60,2,   21.42,2,    0.01,2,    1.72,2,   0.873,2,   0.471,2,  2179.2,2,  2315.7,2,   0.408,2,   1.7770,2,    2.43,2,    0.58,2,  -999.0,5,  -999.0,    16.2837,   0.0080,   0.150,   0.005
31WTTUNES_3,       P16C,     246,          2,         30,         30,2,19910910,       0121,    -5.0130,  -151.0045,       5004,   254.6,  13.4731,  35.0159,2,  34.9630,2,     76.4,2,    82.7,2,   16.24,2,   24.68,2,    0.00,2,    1.84,2,   0.513,2,   0.287,2,  2188.2,2,  2311.7,2,   0.335,2,   1.7830,2,    3.49,2,    0.56,2,     3.3,2,     4.3,    13.4371,   0.0080,   0.150,   0.004
31WTTUNES_3,       P16C,     246,          2,         29,         29,2,19910910,       0121,    -5.0130,  -151.0045,       5004,   305.9,  11.7794,  34.8708,2,  34.8501,2,     80.5,2,    82.0,2,   19.89,2,   27.14,2,    0.00,2,    1.97,2,   0.380,6,   0.208,6,  2198.0,2,  2304.4,2,   0.229,2,   1.8060,2,    4.16,2,    0.52,2,   -25.2,2,     3.0,    11.7398,   0.0080,   0.150,   0.004
31WTTUNES_3,       P16C,     246,          2,         28,         28,2,19910910,       0121,    -5.0130,  -151.0045,       5004,   356.8,  10.4591,  34.7698,2,  34.7659,2,     74.9,2,    52.5,2,   26.96,2,   32.22,2,    0.00,2,    2.30,2,   0.120,2,   0.071,2,  2229.0,2,  2305.4,2,   0.127,2,   1.8100,2,    4.47,2,    0.28,2,   -73.5,2,     3.0,    10.4162,   0.0080,   0.150,   0.003
31WTTUNES_3,       P16C,     246,          2,         27,         27,2,19910910,       0121,    -5.0130,  -151.0045,       5004,   408.3,   9.4807,  34.7169,2,  34.7323,2,     19.6,2,    22.1,2,   32.82,2,   36.23,2,    0.00,2,    2.59,2,   0.034,2,   0.015,2,  2259.4,2,  2305.4,2,   0.049,2,   1.8150,2,    4.80,2,    0.04,2,   -94.4,2,     2.8,     9.4346,   0.0090,   0.150,   0.002
31WTTUNES_3,       P16C,     246,          2,         26,         26,2,19910910,       0121,    -5.0130,  -151.0045,       5004,   460.9,   8.8345,  34.6765,2,  34.6869,2,     22.6,2,    23.1,2,   36.04,2,   37.96,2,    0.00,2,    2.68,2,   0.017,6,   0.011,6,  2266.8,2,  2307.7,2,   0.029,2,   1.8210,2,    5.32,2,    0.08,2,   -96.6,2,     3.2,     8.7844,   0.0090,   0.150,   0.002
31WTTUNES_3,       P16C,     246,          2,         25,         25,2,19910910,       0121,    -5.0130,  -151.0045,       5004,   511.3,   8.1337,  34.6349,2,  34.6417,2,     49.3,2,    57.6,2,   34.25,2,   36.10,2,    0.00,2,    2.52,2,   0.022,2,   0.004,3,  2245.9,2,  2307.5,2,   0.020,2,   1.8210,2,    5.47,2,    0.26,2,  -101.5,2,     3.2,     8.0807,   0.0090,   0.150,   0.003
31WTTUNES_3,       P16C,     246,          2,         24,         24,2,19910910,       0121,    -5.0130,  -151.0045,       5004,   562.8,   7.5605,  34.6040,2,  34.6205,2,     60.0,2,    56.2,2,   37.07,2,   37.17,2,    0.00,2,    2.59,2,   0.009,6,  -0.001,6,  2250.7,2,  2308.6,2,   0.008,2,   1.8310,2,    6.24,2, -999.00,9,  -999.0,9,  -999.0,     7.5043,   0.0090,   0.150,   0.002
31WTTUNES_3,       P16C,     246,          2,         23,         23,2,19910910,       0121,    -5.0130,  -151.0045,       5004,   630.1,   6.8561,  34.5733,2,  34.5887,2,     66.1,2,    62.8,2,   40.91,2,   37.87,2,    0.00,2,    2.66,2,   0.006,2,   0.009,2,  2255.5,2,  2309.7,2,   0.006,2,   1.8310,2,    7.19,2,    0.21,2,  -104.7,2,     2.9,     6.7963,   0.0090,   0.150,   0.002
31WTTUNES_3,       P16C,     246,          2,         22,         22,2,19910910,       0121,    -5.0130,  -151.0045,       5004,   712.3,   6.2426,  34.5544,2,  34.5600,2,     68.7,2,    66.0,2,   48.59,2,   39.30,2,    0.00,2,    2.76,2,-999.000,9,-999.000,9,  2264.6,2,  2316.8,2,-999.000,9,-999.0000,9, -999.00,9, -999.00,9,  -999.0,9,  -999.0,     6.1779,-999.0000,-999.000,-999.000
31WTTUNES_3,       P16C,     246,          2,         21,         21,2,19910910,       0121,    -5.0130,  -151.0045,       5004,   813.5,   5.4769,  34.5399,2,  34.5409,2,     80.2,2,    79.9,2,   59.08,2,   39.29,2,    0.00,2,    2.78,2,   0.001,2,  -0.002,2,  2271.1,2,  2329.8,2,  -0.001,2,   1.8560,2,   11.93,2,    0.21,2,  -152.2,2,     2.7,     5.4072,   0.0090,   0.150,   0.002
31WTTUNES_3,       P16C,     246,          2,         20,         20,2,19910910,       0121,    -5.0130,  -151.0045,       5004,   916.4,   4.8989,  34.5385,2,  34.5368,2,     95.8,2,    93.9,2,   69.38,2,   38.67,2,    0.00,2,    2.75,2,   0.002,6,   0.003,6,  2276.0,2,  2340.6,2,-999.000,9,-999.0000,9, -999.00,9, -999.00,9,  -999.0,9,  -999.0,     4.8237,-999.0000,-999.000,-999.000
31WTTUNES_3,       P16C,     246,          2,         19,         19,2,19910910,       0121,    -5.0130,  -151.0045,       5004,  1019.5,   4.3766,  34.5488,2,  34.5468,2,     94.5,2,    92.4,2,   80.47,2,   39.17,2,    0.00,2,    2.80,2,  -0.002,2,  -0.004,2,  2289.4,2,  2361.3,2,  -0.003,2,   1.8760,2,   17.08,2, -999.00,9,  -999.0,9,  -999.0,     4.2964,   0.0090,   0.150,   0.002
31WTTUNES_3,       P16C,     246,          2,         18,         18,2,19910910,       0121,    -5.0130,  -151.0045,       5004,  1219.9,   3.6702,  34.5711,2,  34.5690,2,    102.3,2,   101.1,2,   97.63,2,   38.74,2,    0.00,2,    2.78,2,  -0.003,2,  -0.001,2,  2305.4,2,  2370.7,2,  -0.001,2,   1.9050,2,   20.91,2, -999.00,9,  -999.0,9,  -999.0,     3.5789,   0.0090,   0.150,   0.002
31WTTUNES_3,       P16C,     246,          2,         17,         17,2,19910910,       0121,    -5.0130,  -151.0045,       5004,  1424.4,   3.2265,  34.5921,2,  34.5936,2,     98.7,2,   100.3,2,  110.53,2,   39.09,2,    0.00,2,    2.81,2,-999.000,9,-999.000,9,  2319.7,2,  -999.0,9,-999.000,9,-999.0000,9, -999.00,9, -999.00,9,  -999.0,9,  -999.0,     3.1225,-999.0000,-999.000,-999.000
31WTTUNES_3,       P16C,     246,          2,         16,         16,2,19910910,       0121,    -5.0130,  -151.0045,       5004,  1627.7,   2.8530,  34.6090,2,  34.6089,2,    103.4,2,   103.8,2,  120.21,2,   39.08,2,    0.00,2,    2.80,2,-999.000,9,-999.000,9,  2327.2,2,  2394.3,2,-999.000,9,-999.0000,9, -999.00,9, -999.00,9,  -999.0,9,  -999.0,     2.7361,-999.0000,-999.000,-999.000
31WTTUNES_3,       P16C,     246,          2,         15,         15,2,19910910,       0121,    -5.0130,  -151.0045,       5004,  1829.9,   2.6019,  34.6224,2,  34.6254,2,    107.3,2,   113.5,2,  126.47,2,   38.39,2,    0.00,2,    2.73,2,-999.000,9,-999.000,9,  2330.2,2,  -999.0,9,-999.000,9,-999.0000,9, -999.00,9, -999.00,9,  -999.0,9,  -999.0,     2.4711,-999.0000,-999.000,-999.000
31WTTUNES_3,       P16C,     246,          2,         14,         14,2,19910910,       0121,    -5.0130,  -151.0045,       5004,  1980.3,   2.4335,  34.6309,2,  34.6348,2,    114.9,2,   114.8,2,  131.11,2,   38.33,2,    0.00,2,    2.72,2,-999.000,9,-999.000,9,  2336.0,2,  2407.3,2,-999.000,9,-999.0000,9, -999.00,9, -999.00,9,  -999.0,9,  -999.0,     2.2922,-999.0000,-999.000,-999.000
31WTTUNES_3,       P16C,     246,          2,         13,         13,2,19910910,       0121,    -5.0130,  -151.0045,       5004,  2184.7,   2.1702,  34.6446,2,  34.6462,2,    123.8,2,   125.2,2,  133.52,2,   37.68,2,    0.00,2,    2.66,2,-999.000,9,-999.000,9,  2333.6,2,  -999.0,9,-999.000,9,-999.0000,9, -999.00,9, -999.00,9,  -999.0,9,  -999.0,     2.0152,-999.0000,-999.000,-999.000
31WTTUNES_3,       P16C,     246,          2,         12,         12,2,19910910,       0121,    -5.0130,  -151.0045,       5004,  2391.4,   1.9614,  34.6580,2,  34.6602,2,    130.4,2,   131.0,2,  138.16,2,   37.33,2,    0.00,2,    2.63,2,-999.000,9,-999.000,9,  2332.8,2,  2416.7,2,-999.000,9,-999.0000,9, -999.00,9, -999.00,9,  -999.0,9,  -999.0,     1.7916,-999.0000,-999.000,-999.000
31WTTUNES_3,       P16C,     246,          2,         11,         11,2,19910910,       0121,    -5.0130,  -151.0045,       5004,  2596.5,   1.8464,  34.6658,2,  34.6669,2,    133.5,2,   134.6,2,  140.59,2,   37.12,2,    0.00,2,    2.61,2,-999.000,9,-999.000,9,  2337.2,2,  2422.9,2,-999.000,9,-999.0000,9, -999.00,9, -999.00,9,  -999.0,9,  -999.0,     1.6601,-999.0000,-999.000,-999.000
31WTTUNES_3,       P16C,     246,          2,         10,         10,3,19910910,       0121,    -5.0130,  -151.0045,       5004,  2801.8,   1.7683,  34.6715,2,  34.7005,4,    137.8,2,   133.2,4,  132.72,4,   35.76,4,    0.01,4,    2.52,4,-999.000,9,-999.000,9,  2324.7,2,  -999.0,9,-999.000,9,-999.0000,9, -999.00,9, -999.00,9,  -999.0,9,  -999.0,     1.5645,-999.0000,-999.000,-999.000
31WTTUNES_3,       P16C,     246,          2,          9,          9,2,19910910,       0121,    -5.0130,  -151.0045,       5004,  3010.2,   1.6668,  34.6766,2,  34.6794,2,    143.2,2,   145.4,2,  142.60,2,   36.59,2,    0.00,2,    2.55,2,-999.000,9,-999.000,9,  2327.1,2,  2424.8,2,-999.000,9,-999.0000,9, -999.00,9, -999.00,9,  -999.0,9,  -999.0,     1.4454,-999.0000,-999.000,-999.000
31WTTUNES_3,       P16C,     246,          2,          8,          8,2,19910910,       0121,    -5.0130,  -151.0045,       5004,  3270.8,   1.5759,  34.6820,2,  34.6824,2,    153.8,2,   154.7,2,  139.57,2,   35.96,2,    0.00,2,    2.50,2,-999.000,9,-999.000,9,  2328.2,2,  -999.0,9,-999.000,9,-999.0000,9, -999.00,9, -999.00,9,  -999.0,9,  -999.0,     1.3310,-999.0000,-999.000,-999.000
31WTTUNES_3,       P16C,     246,          2,          7,          7,2,19910910,       0121,    -5.0130,  -151.0045,       5004,  3528.8,   1.5098,  34.6861,2,  34.6893,2,    158.2,2,   159.4,2,  139.57,2,   35.64,2,    0.00,2,    2.47,2,-999.000,9,-999.000,9,  2323.6,2,  2421.1,2,-999.000,9,-999.0000,9, -999.00,9, -999.00,9,  -999.0,9,  -999.0,     1.2405,-999.0000,-999.000,-999.000
31WTTUNES_3,       P16C,     246,          2,          6,          6,2,19910910,       0121,    -5.0130,  -151.0045,       5004,  3791.1,   1.4740,  34.6883,2,  34.6944,3,    163.0,2,   164.6,2,  138.16,2,   35.28,2,    0.00,2,    2.44,2,-999.000,9,-999.000,9,  2318.9,2,  -999.0,9,-999.000,9,-999.0000,9, -999.00,9, -999.00,9,  -999.0,9,  -999.0,     1.1782,-999.0000,-999.000,-999.000
31WTTUNES_3,       P16C,     246,          2,          5,          5,2,19910910,       0121,    -5.0130,  -151.0045,       5004,  4051.7,   1.4299,  34.6920,2,  34.6928,2,    169.0,2,   169.9,2,  136.34,2,   34.96,2,    0.00,2,    2.41,2,-999.000,9,-999.000,9,  2313.0,2,  2413.4,2,-999.000,9,-999.0000,9, -999.00,9, -999.00,9,  -999.0,9,  -999.0,     1.1072,-999.0000,-999.000,-999.000
31WTTUNES_3,       P16C,     246,          2,          4,          4,2,19910910,       0121,    -5.0130,  -151.0045,       5004,  4309.7,   1.3290,  34.6982,2,  34.7024,2,    182.8,2,   183.0,2,  129.50,2,   33.93,2,    0.00,2,    2.35,2,-999.000,9,-999.000,9,  2293.5,2,  -999.0,9,-999.000,9,-999.0000,9, -999.00,9, -999.00,9,  -999.0,9,  -999.0,     0.9808,-999.0000,-999.000,-999.000
31WTTUNES_3,       P16C,     246,          2,          3,          3,2,19910910,       0121,    -5.0130,  -151.0045,       5004,  4574.5,   1.3228,  34.6995,2,  34.7034,2,    187.2,2,   186.8,2,  127.47,2,   33.61,2,    0.00,2,    2.33,2,-999.000,9,-999.000,9,  2289.2,2,  2397.1,2,-999.000,9,-999.0000,9, -999.00,9, -999.00,9,  -999.0,9,  -999.0,     0.9448,-999.0000,-999.000,-999.000
31WTTUNES_3,       P16C,     246,          2,          2,          2,2,19910910,       0121,    -5.0130,  -151.0045,       5004,  4839.2,   1.3261,  34.7008,2,  34.7028,2,    190.8,2,   189.9,2,  125.86,2,   33.34,2,    0.00,2,    2.31,2,-999.000,9,-999.000,9,  2283.6,2,  -999.0,9,-999.000,9,-999.0000,9, -999.00,9, -999.00,9,  -999.0,9,  -999.0,     0.9169,-999.0000,-999.000,-999.000
31WTTUNES_3,       P16C,     246,          2,          1,          1,2,19910910,       0121,    -5.0130,  -151.0045,       5004,  4951.0,   1.3333,  34.7009,2,  34.7036,2,    190.8,2,   191.4,2,  125.06,2,   33.32,2,    0.00,2,    2.28,2,-999.000,9,-999.000,9,  2282.5,2,  -999.0,9,-999.000,9,-999.0000,9, -999.00,9, -999.00,9,  -999.0,9,  -999.0,     0.9105,-999.0000,-999.000,-999.000