BOTTLE,20211117CCHSIORKP
EXPOCODE,SECT_ID,STNNBR,CASTNO,SAMPNO,BTLNBR,BTLNBR_FLAG_W,DATE,TIME,LATITUDE,LONGITUDE,DEPTH,CTDPRS,CTDTMP,CTDSAL,CTDSAL_FLAG_W,SALNTY,SALNTY_FLAG_W,CTDOXY,CTDOXY_FLAG_W,OXYGEN,OXYGEN_FLAG_W,SILCAT,SILCAT_FLAG_W,NITRAT,NITRAT_FLAG_W,NITRIT,NITRIT_FLAG_W,PHSPHT,PHSPHT_FLAG_W,CFC-11,CFC-11_FLAG_W,CFC-12,CFC-12_FLAG_W,TCARBN,TCARBN_FLAG_W,ALKALI,ALKALI_FLAG_W,TRITUM,TRITUM_FLAG_W,HELIUM,HELIUM_FLAG_W,DELHE3,DELHE3_FLAG_W,DELC13,DELC13_FLAG_W,DELC14,DELC14_FLAG_W,C14ERR,THETA,HELIER,DELHER,TRITER
,,,,,,,,,,,METERS,DBAR,ITS-90,PSS-78,,PSS-78,,UMOL/KG,,UMOL/KG,,UMOL/KG,,UMOL/KG,,UMOL/KG,,UMOL/KG,,PMOL/KG,,PMOL/KG,,UMOL/KG,,UMOL/KG,,TU,,NMOL/KG,,PERCNT,,/MILLE,,/MILLE,,/MILLE,ITS-90,NMOL/KG,PERCNT,TU
31WTTUNES_3,       P16C,     233,          1,         36,         36,2,19910905,       0329,   -11.5037,  -150.9970,       5012,     4.1,  28.6648,  35.9245,2,  35.9192,2,    204.0,3,   210.1,2,    0.83,2,    0.70,2,    0.03,2,    0.29,2,-999.000,9,-999.000,9,  -999.0,9,  -999.0,9,-999.000,9,-999.0000,9, -999.00,9, -999.00,9,  -999.0,9,  -999.0,    28.6638,-999.0000,-999.000,-999.000
31WTTUNES_3,       P16C,     233,          1,         35,         35,2,19910905,       0329,   -11.5037,  -150.9970,       5012,    57.0,  27.9996,  36.2530,2,  36.2404,2,    207.7,2,   211.5,2,    0.84,2,    0.18,2,    0.01,2,    0.23,2,-999.000,9,-999.000,9,  -999.0,9,  -999.0,9,-999.000,9,-999.0000,9, -999.00,9, -999.00,9,  -999.0,9,  -999.0,    27.9862,-999.0000,-999.000,-999.000
31WTTUNES_3,       P16C,     233,          1,         34,         34,2,19910905,       0329,   -11.5037,  -150.9970,       5012,   106.7,  27.3210,  36.3340,2,  36.3227,2,    200.2,2,   204.4,2,    1.03,2,    0.15,2,    0.09,2,    0.27,2,-999.000,9,-999.000,9,  -999.0,9,  -999.0,9,-999.000,9,-999.0000,9, -999.00,9, -999.00,9,  -999.0,9,  -999.0,    27.2962,-999.0000,-999.000,-999.000
31WTTUNES_3,       P16C,     233,          1,         33,         33,2,19910905,       0329,   -11.5037,  -150.9970,       5012,   158.3,  23.6227,  36.3326,2,  36.3467,2,    178.2,2,   181.9,2,    1.04,2,    2.07,2,    0.59,2,    0.45,2,-999.000,9,-999.000,9,  -999.0,9,  -999.0,9,-999.000,9,-999.0000,9, -999.00,9, -999.00,9,  -999.0,9,  -999.0,    23.5895,-999.0000,-999.000,-999.000
31WTTUNES_3,       P16C,     233,          1,         32,         32,2,19910905,       0329,   -11.5037,  -150.9970,       5012,   207.8,  21.5551,  36.0872,2,  36.0801,2,    176.5,2,   176.1,2,    1.04,2,    1.78,2,    0.02,2,    0.36,2,-999.000,9,-999.000,9,  -999.0,9,  -999.0,9,-999.000,9,-999.0000,9, -999.00,9, -999.00,9,  -999.0,9,  -999.0,    21.5143,-999.0000,-999.000,-999.000
31WTTUNES_3,       P16C,     233,          1,         31,         31,2,19910905,       0329,   -11.5037,  -150.9970,       5012,   246.6,  19.2051,  35.6522,2,  35.6279,2,    165.1,2,   165.9,2,    1.84,2,    2.46,2,    0.01,2,    0.43,2,-999.000,9,-999.000,9,  -999.0,9,  -999.0,9,-999.000,9,-999.0000,9, -999.00,9, -999.00,9,  -999.0,9,  -999.0,    19.1605,-999.0000,-999.000,-999.000
31WTTUNES_3,       P16C,     233,          1,         30,         30,2,19910905,       0329,   -11.5037,  -150.9970,       5012,   289.5,  16.3356,  35.2159,2,  35.1431,2,    144.7,2,   139.3,2,    4.79,2,    7.70,2,    0.01,2,    0.84,2,-999.000,9,-999.000,9,  -999.0,9,  -999.0,9,-999.000,9,-999.0000,9, -999.00,9, -999.00,9,  -999.0,9,  -999.0,    16.2889,-999.0000,-999.000,-999.000
31WTTUNES_3,       P16C,     233,          1,         29,         29,2,19910905,       0329,   -11.5037,  -150.9970,       5012,   330.1,  12.6842,  34.8008,2,  34.8167,2,     93.2,2,    91.7,2,   11.26,2,   19.21,2,    0.07,2,    1.68,2,-999.000,9,-999.000,9,  -999.0,9,  -999.0,9,-999.000,9,-999.0000,9, -999.00,9, -999.00,9,  -999.0,9,  -999.0,    12.6394,-999.0000,-999.000,-999.000
31WTTUNES_3,       P16C,     233,          1,         28,         28,2,19910905,       0329,   -11.5037,  -150.9970,       5012,   371.4,  11.0951,  34.6782,2,  34.6402,2,     84.4,2,    87.9,2,   17.74,2,   25.14,2,    0.18,2,    1.97,2,-999.000,9,-999.000,9,  -999.0,9,  -999.0,9,-999.000,9,-999.0000,9, -999.00,9, -999.00,9,  -999.0,9,  -999.0,    11.0488,-999.0000,-999.000,-999.000
31WTTUNES_3,       P16C,     233,          1,         27,         27,2,19910905,       0329,   -11.5037,  -150.9970,       5012,   413.9,   9.5144,  34.6432,2,  34.6476,2,     87.5,2,    99.7,2,   25.41,2,   29.45,2,    0.14,2,    2.13,2,-999.000,9,-999.000,9,  -999.0,9,  -999.0,9,-999.000,9,-999.0000,9, -999.00,9, -999.00,9,  -999.0,9,  -999.0,     9.4676,-999.0000,-999.000,-999.000
31WTTUNES_3,       P16C,     233,          1,         26,         26,2,19910905,       0329,   -11.5037,  -150.9970,       5012,   463.9,   8.3093,  34.6136,2,  34.6109,2,     94.4,2,   102.7,2,   29.93,2,   31.32,2,    0.04,2,    2.19,2,-999.000,9,-999.000,9,  -999.0,9,  -999.0,9,-999.000,9,-999.0000,9, -999.00,9, -999.00,9,  -999.0,9,  -999.0,     8.2607,-999.0000,-999.000,-999.000
31WTTUNES_3,       P16C,     233,          1,         25,         25,3,19910905,       0329,   -11.5037,  -150.9970,       5012,   515.0,   7.7448,  34.5895,2,  34.8214,4,     94.4,2,   118.8,4,   27.40,4,   26.89,4,    0.04,4,    1.86,4,-999.000,9,-999.000,9,  -999.0,9,  -999.0,9,-999.000,9,-999.0000,9, -999.00,9, -999.00,9,  -999.0,9,  -999.0,     7.6930,-999.0000,-999.000,-999.000
31WTTUNES_3,       P16C,     233,          1,         24,         24,2,19910905,       0329,   -11.5037,  -150.9970,       5012,   618.1,   6.6647,  34.5503,2,  34.5523,2,     88.7,2,    86.3,2,   40.77,2,   35.64,2,    0.02,2,    2.44,2,-999.000,9,-999.000,9,  -999.0,9,  -999.0,9,-999.000,9,-999.0000,9, -999.00,9, -999.00,9,  -999.0,9,  -999.0,     6.6070,-999.0000,-999.000,-999.000
31WTTUNES_3,       P16C,     233,          1,         23,         23,2,19910905,       0329,   -11.5037,  -150.9970,       5012,   719.5,   5.8895,  34.5270,2,  34.5394,2,     92.6,2,    89.3,2,   51.00,2,   37.46,2,    0.01,2,    2.60,2,-999.000,9,-999.000,9,  -999.0,9,  -999.0,9,-999.000,9,-999.0000,9, -999.00,9, -999.00,9,  -999.0,9,  -999.0,     5.8261,-999.0000,-999.000,-999.000
31WTTUNES_3,       P16C,     233,          1,         22,         22,2,19910905,       0329,   -11.5037,  -150.9970,       5012,   822.5,   5.3619,  34.5202,2,  34.5168,2,     93.5,2,    94.0,2,   57.92,2,   37.36,3,    0.04,4,    2.58,3,-999.000,9,-999.000,9,  -999.0,9,  -999.0,9,-999.000,9,-999.0000,9, -999.00,9, -999.00,9,  -999.0,9,  -999.0,     5.2921,-999.0000,-999.000,-999.000
31WTTUNES_3,       P16C,     233,          1,         21,         21,2,19910905,       0329,   -11.5037,  -150.9970,       5012,   923.5,   4.8063,  34.5209,2,  34.5203,2,    103.8,2,    98.4,2,   64.03,2,   36.62,4,    0.00,2,    2.54,4,-999.000,9,-999.000,9,  -999.0,9,  -999.0,9,-999.000,9,-999.0000,9, -999.00,9, -999.00,9,  -999.0,9,  -999.0,     4.7313,-999.0000,-999.000,-999.000
31WTTUNES_3,       P16C,     233,          1,         20,         20,2,19910905,       0329,   -11.5037,  -150.9970,       5012,  1026.7,   4.3936,  34.5294,2,  34.5370,2,    107.4,2,   108.6,2,   78.02,2,   38.66,2,    0.01,2,    2.69,2,-999.000,9,-999.000,9,  -999.0,9,  -999.0,9,-999.000,9,-999.0000,9, -999.00,9, -999.00,9,  -999.0,9,  -999.0,     4.3126,-999.0000,-999.000,-999.000
31WTTUNES_3,       P16C,     233,          1,         19,         19,2,19910905,       0329,   -11.5037,  -150.9970,       5012,  1232.3,   3.6643,  34.5511,2,  34.5567,2,    122.7,2,   120.4,2,   91.23,2,   36.95,4,    0.05,4,    2.61,4,-999.000,9,-999.000,9,  -999.0,9,  -999.0,9,-999.000,9,-999.0000,9, -999.00,9, -999.00,9,  -999.0,9,  -999.0,     3.5720,-999.0000,-999.000,-999.000
31WTTUNES_3,       P16C,     233,          1,         18,         18,2,19910905,       0329,   -11.5037,  -150.9970,       5012,  1437.5,   3.1090,  34.5838,2,  34.5863,2,    119.1,2,   121.1,2,  105.53,2,   37.50,2,    0.18,4,    2.64,2,-999.000,9,-999.000,9,  -999.0,9,  -999.0,9,-999.000,9,-999.0000,9, -999.00,9, -999.00,9,  -999.0,9,  -999.0,     3.0051,-999.0000,-999.000,-999.000
31WTTUNES_3,       P16C,     233,          1,         17,         17,2,19910905,       0329,   -11.5037,  -150.9970,       5012,  1643.6,   2.6478,  34.6077,2,  34.6093,2,    129.9,2,   130.3,2,  113.65,2,   37.51,2,    0.00,2,    2.63,2,-999.000,9,-999.000,9,  -999.0,9,  -999.0,9,-999.000,9,-999.0000,9, -999.00,9, -999.00,9,  -999.0,9,  -999.0,     2.5322,-999.0000,-999.000,-999.000
31WTTUNES_3,       P16C,     233,          1,         16,         16,2,19910905,       0329,   -11.5037,  -150.9970,       5012,  1848.9,   2.3699,  34.6258,2,  34.6278,2,    135.6,2,   136.6,2,  119.60,2,   36.78,2,    0.01,2,    2.55,2,-999.000,9,-999.000,9,  -999.0,9,  -999.0,9,-999.000,9,-999.0000,9, -999.00,9, -999.00,9,  -999.0,9,  -999.0,     2.2408,-999.0000,-999.000,-999.000
31WTTUNES_3,       P16C,     233,          1,         15,         15,2,19910905,       0329,   -11.5037,  -150.9970,       5012,  2054.7,   2.1290,  34.6425,2,  34.6403,2,    142.5,2,   143.4,2,  123.00,2,   35.69,4,    0.03,4,    2.50,4,-999.000,9,-999.000,9,  -999.0,9,  -999.0,9,-999.000,9,-999.0000,9, -999.00,9, -999.00,9,  -999.0,9,  -999.0,     1.9859,-999.0000,-999.000,-999.000
31WTTUNES_3,       P16C,     233,          1,         14,         14,2,19910905,       0329,   -11.5037,  -150.9970,       5012,  2236.1,   1.9916,  34.6540,2,  34.6673,3,    144.3,2,   144.9,2,  127.39,2,   36.31,2,    0.01,2,    2.52,2,-999.000,9,-999.000,9,  -999.0,9,  -999.0,9,-999.000,9,-999.0000,9, -999.00,9, -999.00,9,  -999.0,9,  -999.0,     1.8351,-999.0000,-999.000,-999.000
31WTTUNES_3,       P16C,     233,          1,         13,         13,2,19910905,       0329,   -11.5037,  -150.9970,       5012,  2414.5,   1.8816,  34.6640,2,  34.6614,2,    145.5,2,   146.1,2,  131.98,2,   35.01,4,    0.13,4,    2.41,4,-999.000,9,-999.000,9,  -999.0,9,  -999.0,9,-999.000,9,-999.0000,9, -999.00,9, -999.00,9,  -999.0,9,  -999.0,     1.7113,-999.0000,-999.000,-999.000
31WTTUNES_3,       P16C,     233,          1,         12,         12,2,19910905,       0329,   -11.5037,  -150.9970,       5012,  2570.9,   1.8343,  34.6685,2,  34.6669,2,    146.4,2,   147.3,2,  134.00,2,   33.33,4,    0.02,4,    2.23,4,-999.000,9,-999.000,9,  -999.0,9,  -999.0,9,-999.000,9,-999.0000,9, -999.00,9, -999.00,9,  -999.0,9,  -999.0,     1.6505,-999.0000,-999.000,-999.000
31WTTUNES_3,       P16C,     233,          1,         11,         11,2,19910905,       0329,   -11.5037,  -150.9970,       5012,  2725.6,   1.7658,  34.6738,2,  34.6722,2,    148.8,2,   150.9,2,  135.04,2,   34.38,4,    0.11,4,    2.40,4,-999.000,9,-999.000,9,  -999.0,9,  -999.0,9,-999.000,9,-999.0000,9, -999.00,9, -999.00,9,  -999.0,9,  -999.0,     1.5691,-999.0000,-999.000,-999.000
31WTTUNES_3,       P16C,     233,          1,         10,         10,2,19910905,       0329,   -11.5037,  -150.9970,       5012,  2907.9,   1.6961,  34.6780,2,  34.6785,2,    154.3,2,   154.9,2,  134.70,2,   34.75,4,    0.02,4,    2.39,4,-999.000,9,-999.000,9,  -999.0,9,  -999.0,9,-999.000,9,-999.0000,9, -999.00,9, -999.00,9,  -999.0,9,  -999.0,     1.4838,-999.0000,-999.000,-999.000
31WTTUNES_3,       P16C,     233,          1,          9,          9,2,19910905,       0329,   -11.5037,  -150.9970,       5012,  3089.0,   1.6717,  34.6798,2,  34.6798,2,    156.4,2,   156.8,2,  135.14,2,   35.91,2,    0.01,2,    2.48,2,-999.000,9,-999.000,9,  -999.0,9,  -999.0,9,-999.000,9,-999.0000,9, -999.00,9, -999.00,9,  -999.0,9,  -999.0,     1.4426,-999.0000,-999.000,-999.000
31WTTUNES_3,       P16C,     233,          1,          8,          8,2,19910905,       0329,   -11.5037,  -150.9970,       5012,  3347.9,   1.6084,  34.6839,2,  34.6820,2,    160.8,2,   161.3,2,  135.00,2,   35.62,2,    0.01,2,    2.46,2,-999.000,9,-999.000,9,  -999.0,9,  -999.0,9,-999.000,9,-999.0000,9, -999.00,9, -999.00,9,  -999.0,9,  -999.0,     1.3550,-999.0000,-999.000,-999.000
31WTTUNES_3,       P16C,     233,          1,          7,          7,4,19910905,       0329,   -11.5037,  -150.9970,       5012,  3607.0,   1.5116,  34.6890,2,-999.0000,9,    169.0,2,  -999.0,9, -999.00,9, -999.00,9, -999.00,9, -999.00,9,-999.000,9,-999.000,9,  -999.0,9,  -999.0,9,-999.000,9,-999.0000,9, -999.00,9, -999.00,9,  -999.0,9,  -999.0,     1.2341,-999.0000,-999.000,-999.000
31WTTUNES_3,       P16C,     233,          1,          6,          6,2,19910905,       0329,   -11.5037,  -150.9970,       5012,  3867.2,   1.4283,  34.6941,2,  34.6965,2,    176.0,2,   177.6,2,  129.92,2,   34.43,2,    0.01,2,    2.39,2,-999.000,9,-999.000,9,  -999.0,9,  -999.0,9,-999.000,9,-999.0000,9, -999.00,9, -999.00,9,  -999.0,9,  -999.0,     1.1256,-999.0000,-999.000,-999.000
31WTTUNES_3,       P16C,     233,          1,          5,          5,2,19910905,       0329,   -11.5037,  -150.9970,       5012,  4126.2,   1.3682,  34.6977,2,  34.6979,2,    182.3,2,   182.8,2,  128.78,2,   34.07,2,    0.00,2,    2.35,2,-999.000,9,-999.000,9,  -999.0,9,  -999.0,9,-999.000,9,-999.0000,9, -999.00,9, -999.00,9,  -999.0,9,  -999.0,     1.0392,-999.0000,-999.000,-999.000
31WTTUNES_3,       P16C,     233,          1,          4,          4,2,19910905,       0329,   -11.5037,  -150.9970,       5012,  4385.7,   1.3105,  34.7014,2,  34.7022,2,    189.0,2,   189.5,2,  126.65,2,   33.62,2,    0.01,2,    2.32,2,-999.000,9,-999.000,9,  -999.0,9,  -999.0,9,-999.000,9,-999.0000,9, -999.00,9, -999.00,9,  -999.0,9,  -999.0,     0.9543,-999.0000,-999.000,-999.000
31WTTUNES_3,       P16C,     233,          1,          3,          3,2,19910905,       0329,   -11.5037,  -150.9970,       5012,  4647.2,   1.2901,  34.7041,2,  34.7058,2,    192.9,2,   192.8,2,  125.31,2,   33.18,2,    0.01,2,    2.28,2,-999.000,9,-999.000,9,  -999.0,9,  -999.0,9,-999.000,9,-999.0000,9, -999.00,9, -999.00,9,  -999.0,9,  -999.0,     0.9046,-999.0000,-999.000,-999.000
31WTTUNES_3,       P16C,     233,          1,          2,          2,2,19910905,       0329,   -11.5037,  -150.9970,       5012,  4908.4,   1.2880,  34.7056,2,  34.7156,3,    196.8,2,   195.5,2,  124.37,2,   32.85,2,    0.01,2,    2.25,2,-999.000,9,-999.000,9,  -999.0,9,  -999.0,9,-999.000,9,-999.0000,9, -999.00,9, -999.00,9,  -999.0,9,  -999.0,     0.8718,-999.0000,-999.000,-999.000
31WTTUNES_3,       P16C,     233,          1,          1,          1,2,19910905,       0329,   -11.5037,  -150.9970,       5012,  5077.0,   1.3014,  34.7058,2,  34.7068,2,    197.7,2,   196.7,2,  124.42,2,   32.94,2,    0.01,2,    2.27,2,-999.000,9,-999.000,9,  -999.0,9,  -999.0,9,-999.000,9,-999.0000,9, -999.00,9, -999.00,9,  -999.0,9,  -999.0,     0.8644,-999.0000,-999.000,-999.000