BOTTLE,20211117CCHSIORKP
EXPOCODE,SECT_ID,STNNBR,CASTNO,SAMPNO,BTLNBR,BTLNBR_FLAG_W,DATE,TIME,LATITUDE,LONGITUDE,DEPTH,CTDPRS,CTDTMP,CTDSAL,CTDSAL_FLAG_W,SALNTY,SALNTY_FLAG_W,CTDOXY,CTDOXY_FLAG_W,OXYGEN,OXYGEN_FLAG_W,SILCAT,SILCAT_FLAG_W,NITRAT,NITRAT_FLAG_W,NITRIT,NITRIT_FLAG_W,PHSPHT,PHSPHT_FLAG_W,CFC-11,CFC-11_FLAG_W,CFC-12,CFC-12_FLAG_W,TCARBN,TCARBN_FLAG_W,ALKALI,ALKALI_FLAG_W,TRITUM,TRITUM_FLAG_W,HELIUM,HELIUM_FLAG_W,DELHE3,DELHE3_FLAG_W,DELC13,DELC13_FLAG_W,DELC14,DELC14_FLAG_W,C14ERR,THETA,HELIER,DELHER,TRITER
,,,,,,,,,,,METERS,DBAR,ITS-90,PSS-78,,PSS-78,,UMOL/KG,,UMOL/KG,,UMOL/KG,,UMOL/KG,,UMOL/KG,,UMOL/KG,,PMOL/KG,,PMOL/KG,,UMOL/KG,,UMOL/KG,,TU,,NMOL/KG,,PERCNT,,/MILLE,,/MILLE,,/MILLE,ITS-90,NMOL/KG,PERCNT,TU
31WTTUNES_3,       P16C,     296,          1,         36,         36,2,19910921,       2022,     7.9667,  -151.5707,       5127,     6.5,  28.6919,  33.8235,2,  33.7979,2,    213.8,3,   212.8,2,    2.24,2,    0.00,2,    0.00,2,    0.11,2,-999.000,9,-999.000,9,  -999.0,9,  -999.0,9,-999.000,9,-999.0000,9, -999.00,9, -999.00,9,  -999.0,9,  -999.0,    28.6904,-999.0000,-999.000,-999.000
31WTTUNES_3,       P16C,     296,          1,         35,         35,2,19910921,       2022,     7.9667,  -151.5707,       5127,    56.8,  28.6680,  34.0383,2,  34.3676,2,    211.4,2,   216.8,2,    2.41,2,    0.03,2,    0.00,2,    0.15,2,   1.685,6,   0.941,6,  -999.0,9,  -999.0,9,-999.000,9,-999.0000,9, -999.00,9, -999.00,9,  -999.0,9,  -999.0,    28.6545,-999.0000,-999.000,-999.000
31WTTUNES_3,       P16C,     296,          1,         34,         34,2,19910921,       2022,     7.9667,  -151.5707,       5127,    88.1,  22.6469,  34.6053,2,  34.6160,2,    208.7,2,   182.9,2,    5.54,2,    3.02,2,    0.16,2,    0.55,2,   1.889,2,   0.998,2,  -999.0,9,  -999.0,9,-999.000,9,-999.0000,9, -999.00,9, -999.00,9,  -999.0,9,  -999.0,    22.6292,-999.0000,-999.000,-999.000
31WTTUNES_3,       P16C,     296,          1,         33,         33,2,19910921,       2022,     7.9667,  -151.5707,       5127,   108.4,  16.5592,  34.6167,2,  34.6209,2,    122.5,2,   101.6,2,   17.18,2,   18.44,2,    0.07,2,    1.46,2,   1.172,2,   0.643,2,  -999.0,9,  -999.0,9,-999.000,9,-999.0000,9, -999.00,9, -999.00,9,  -999.0,9,  -999.0,    16.5418,-999.0000,-999.000,-999.000
31WTTUNES_3,       P16C,     296,          1,         32,         32,2,19910921,       2022,     7.9667,  -151.5707,       5127,   129.5,  13.5594,  34.6098,2,  34.6250,2,     60.6,2,    49.1,2,   25.07,2,   27.70,2,    0.02,2,    2.07,2,   0.589,6,   0.328,6,  -999.0,9,  -999.0,9,-999.000,9,-999.0000,9, -999.00,9, -999.00,9,  -999.0,9,  -999.0,    13.5412,-999.0000,-999.000,-999.000
31WTTUNES_3,       P16C,     296,          1,         31,         31,2,19910921,       2022,     7.9667,  -151.5707,       5127,   148.8,  12.1707,  34.6429,2,  34.6455,2,     33.5,2,    33.8,2,   28.00,2,   30.71,2,    0.01,2,    2.27,2,   0.371,2,   0.207,2,  -999.0,9,  -999.0,9,-999.000,9,-999.0000,9, -999.00,9, -999.00,9,  -999.0,9,  -999.0,    12.1512,-999.0000,-999.000,-999.000
31WTTUNES_3,       P16C,     296,          1,         30,         30,2,19910921,       2022,     7.9667,  -151.5707,       5127,   169.8,  11.4065,  34.6653,2,  34.6673,2,     33.7,2,    35.9,2,   30.15,2,   31.64,2,    0.01,2,    2.32,2,   0.250,2,   0.144,2,  -999.0,9,  -999.0,9,-999.000,9,-999.0000,9, -999.00,9, -999.00,9,  -999.0,9,  -999.0,    11.3852,-999.0000,-999.000,-999.000
31WTTUNES_3,       P16C,     296,          1,         29,         29,2,19910921,       2022,     7.9667,  -151.5707,       5127,   210.2,  10.6943,  34.6943,2,  34.6920,2,     27.0,2,    30.3,2,   32.10,2,   33.33,2,    0.00,2,    2.40,2,   0.122,6,   0.073,6,  -999.0,9,  -999.0,9,-999.000,9,-999.0000,9, -999.00,9, -999.00,9,  -999.0,9,  -999.0,    10.6689,-999.0000,-999.000,-999.000
31WTTUNES_3,       P16C,     296,          1,         28,         28,2,19910921,       2022,     7.9667,  -151.5707,       5127,   259.3,  10.1247,  34.6880,2,  34.6924,2,     27.3,2,    25.9,2,   33.86,2,   34.62,2,    0.00,2,    2.46,2,-999.000,9,-999.000,9,  -999.0,9,  -999.0,9,-999.000,9,-999.0000,9, -999.00,9, -999.00,9,  -999.0,9,  -999.0,    10.0944,-999.0000,-999.000,-999.000
31WTTUNES_3,       P16C,     296,          1,         27,         27,2,19910921,       2022,     7.9667,  -151.5707,       5127,   308.5,   9.7427,  34.6753,2,  34.6749,2,     29.1,2,    26.1,2,   35.42,2,   35.31,2,    0.00,2,    2.52,2,   0.058,6,   0.035,2,  -999.0,9,  -999.0,9,-999.000,9,-999.0000,9, -999.00,9, -999.00,9,  -999.0,9,  -999.0,     9.7074,-999.0000,-999.000,-999.000
31WTTUNES_3,       P16C,     296,          1,         26,         26,2,19910921,       2022,     7.9667,  -151.5707,       5127,   407.1,   9.0289,  34.6451,2,  34.6419,2,     24.8,2,    23.5,2,   40.35,2,   36.75,2,    0.00,2,    2.65,2,   0.013,2,   0.013,2,  -999.0,9,  -999.0,9,-999.000,9,-999.0000,9, -999.00,9, -999.00,9,  -999.0,9,  -999.0,     8.9842,-999.0000,-999.000,-999.000
31WTTUNES_3,       P16C,     296,          1,         25,         25,2,19910921,       2022,     7.9667,  -151.5707,       5127,   506.1,   8.0853,  34.5999,2,  34.6005,2,     17.0,2,    16.5,2,   49.41,2,   38.47,2,    0.00,2,    2.87,2,   0.002,2,  -0.003,2,  -999.0,9,  -999.0,9,-999.000,9,-999.0000,9, -999.00,9, -999.00,9,  -999.0,9,  -999.0,     8.0330,-999.0000,-999.000,-999.000
31WTTUNES_3,       P16C,     296,          1,         24,         24,2,19910921,       2022,     7.9667,  -151.5707,       5127,   606.3,   7.1935,  34.5629,2,  34.5598,2,     16.0,2,    20.6,2,   59.67,2,   40.20,2,    0.00,2,    3.00,2,-999.000,9,-999.000,9,  -999.0,9,  -999.0,9,-999.000,9,-999.0000,9, -999.00,9, -999.00,9,  -999.0,9,  -999.0,     7.1346,-999.0000,-999.000,-999.000
31WTTUNES_3,       P16C,     296,          1,         23,         23,2,19910921,       2022,     7.9667,  -151.5707,       5127,   704.0,   6.2913,  34.5551,2,  34.5553,2,     14.3,2,    14.9,2,   69.14,2,   43.05,2,    0.00,2,    3.13,2,  -0.004,2,  -0.007,2,  -999.0,9,  -999.0,9,-999.000,9,-999.0000,9, -999.00,9, -999.00,9,  -999.0,9,  -999.0,     6.2271,-999.0000,-999.000,-999.000
31WTTUNES_3,       P16C,     296,          1,         22,         22,2,19910921,       2022,     7.9667,  -151.5707,       5127,   802.7,   5.6048,  34.5465,2,  34.5463,2,     33.5,2,    34.9,2,   76.63,2,   42.80,2,    0.00,2,    3.07,2,  -0.002,6,  -0.002,6,  -999.0,9,  -999.0,9,-999.000,9,-999.0000,9, -999.00,9, -999.00,9,  -999.0,9,  -999.0,     5.5353,-999.0000,-999.000,-999.000
31WTTUNES_3,       P16C,     296,          1,         21,         21,2,19910921,       2022,     7.9667,  -151.5707,       5127,   897.3,   5.1433,  34.5490,2,  34.5512,2,     38.2,2,    37.6,2,   84.91,2,   43.30,2,    0.00,2,    3.11,2,  -0.002,2,  -0.008,2,  -999.0,9,  -999.0,9,-999.000,9,-999.0000,9, -999.00,9, -999.00,9,  -999.0,9,  -999.0,     5.0682,-999.0000,-999.000,-999.000
31WTTUNES_3,       P16C,     296,          1,         20,         20,2,19910921,       2022,     7.9667,  -151.5707,       5127,   992.1,   4.7121,  34.5559,2,  34.5588,2,     45.0,2,    47.4,2,   92.80,2,   42.86,2,    0.00,2,    3.07,2,-999.000,9,-999.000,9,  -999.0,9,  -999.0,9,-999.000,9,-999.0000,9, -999.00,9, -999.00,9,  -999.0,9,  -999.0,     4.6316,-999.0000,-999.000,-999.000
31WTTUNES_3,       P16C,     296,          1,         19,         19,2,19910921,       2022,     7.9667,  -151.5707,       5127,  1183.3,   3.9604,  34.5748,2,  34.5745,2,     53.1,2,    54.9,2,  109.79,2,   42.76,2,    0.00,2,    3.07,2,-999.000,9,-999.000,9,  -999.0,9,  -999.0,9,-999.000,9,-999.0000,9, -999.00,9, -999.00,9,  -999.0,9,  -999.0,     3.8695,-999.0000,-999.000,-999.000
31WTTUNES_3,       P16C,     296,          1,         18,         18,2,19910921,       2022,     7.9667,  -151.5707,       5127,  1379.3,   3.3897,  34.5933,2,  34.5930,2,     63.9,2,    65.1,2,  122.22,2,   42.18,2,    0.00,2,    3.02,2,-999.000,9,-999.000,9,  -999.0,9,  -999.0,9,-999.000,9,-999.0000,9, -999.00,9, -999.00,9,  -999.0,9,  -999.0,     3.2877,-999.0000,-999.000,-999.000
31WTTUNES_3,       P16C,     296,          1,         17,         17,2,19910921,       2022,     7.9667,  -151.5707,       5127,  1571.6,   2.9825,  34.6081,2,  34.6089,2,     74.8,2,    76.7,2,  130.71,2,   41.34,2,    0.00,2,    2.94,2,-999.000,9,-999.000,9,  -999.0,9,  -999.0,9,-999.000,9,-999.0000,9, -999.00,9, -999.00,9,  -999.0,9,  -999.0,     2.8688,-999.0000,-999.000,-999.000
31WTTUNES_3,       P16C,     296,          1,         16,         16,2,19910921,       2022,     7.9667,  -151.5707,       5127,  1767.1,   2.6367,  34.6196,2,  34.6183,2,     85.6,2,    86.5,2,  137.81,2,   40.66,2,    0.00,2,    2.87,2,-999.000,9,-999.000,9,  -999.0,9,  -999.0,9,-999.000,9,-999.0000,9, -999.00,9, -999.00,9,  -999.0,9,  -999.0,     2.5108,-999.0000,-999.000,-999.000
31WTTUNES_3,       P16C,     296,          1,         15,         15,2,19910921,       2022,     7.9667,  -151.5707,       5127,  1962.9,   2.3289,  34.6343,2,  34.6343,2,     94.3,2,    94.2,2,  145.71,2,   40.12,2,    0.00,2,    2.82,2,  -0.001,2,  -0.001,2,  -999.0,9,  -999.0,9,-999.000,9,-999.0000,9, -999.00,9, -999.00,9,  -999.0,9,  -999.0,     2.1908,-999.0000,-999.000,-999.000
31WTTUNES_3,       P16C,     296,          1,         14,         14,2,19910921,       2022,     7.9667,  -151.5707,       5127,  2163.1,   2.0994,  34.6484,2,  34.6470,2,    100.4,2,   101.1,2,  150.64,2,   39.58,2,    0.00,2,    2.78,2,-999.000,9,-999.000,9,  -999.0,9,  -999.0,9,-999.000,9,-999.0000,9, -999.00,9, -999.00,9,  -999.0,9,  -999.0,     1.9473,-999.0000,-999.000,-999.000
31WTTUNES_3,       P16C,     296,          1,         13,         13,2,19910921,       2022,     7.9667,  -151.5707,       5127,  2360.6,   1.9518,  34.6579,2,  34.6574,2,    106.9,2,   108.0,2,  154.37,2,   39.09,2,    0.00,2,    2.74,2,-999.000,9,-999.000,9,  -999.0,9,  -999.0,9,-999.000,9,-999.0000,9, -999.00,9, -999.00,9,  -999.0,9,  -999.0,     1.7850,-999.0000,-999.000,-999.000
31WTTUNES_3,       P16C,     296,          1,         12,         12,2,19910921,       2022,     7.9667,  -151.5707,       5127,  2558.8,   1.8626,  34.6631,2,  34.6653,2,    113.0,2,   113.2,2,  155.75,2,   38.64,2,    0.00,2,    2.71,2,  -0.002,6,   0.002,6,  -999.0,9,  -999.0,9,-999.000,9,-999.0000,9, -999.00,9, -999.00,9,  -999.0,9,  -999.0,     1.6795,-999.0000,-999.000,-999.000
31WTTUNES_3,       P16C,     296,          1,         11,         11,2,19910921,       2022,     7.9667,  -151.5707,       5127,  2761.2,   1.7959,  34.6681,2,  34.6769,3,    116.9,2,   117.8,2,  156.92,2,   38.36,2,    0.00,2,    2.69,2,-999.000,9,-999.000,9,  -999.0,9,  -999.0,9,-999.000,9,-999.0000,9, -999.00,9, -999.00,9,  -999.0,9,  -999.0,     1.5954,-999.0000,-999.000,-999.000
31WTTUNES_3,       P16C,     296,          1,         10,         10,2,19910921,       2022,     7.9667,  -151.5707,       5127,  2970.8,   1.7157,  34.6727,2,  34.6728,2,    122.1,2,   124.8,2,  157.90,2,   38.01,2,    0.00,2,    2.64,2,-999.000,9,-999.000,9,  -999.0,9,  -999.0,9,-999.000,9,-999.0000,9, -999.00,9, -999.00,9,  -999.0,9,  -999.0,     1.4969,-999.0000,-999.000,-999.000
31WTTUNES_3,       P16C,     296,          1,          9,          9,2,19910921,       2022,     7.9667,  -151.5707,       5127,  3234.7,   1.6273,  34.6775,2,  34.6779,2,    130.3,2,   132.0,2,  157.68,2,   37.57,2,    0.00,2,    2.60,2,   0.000,2,  -0.002,2,  -999.0,9,  -999.0,9,-999.000,9,-999.0000,9, -999.00,9, -999.00,9,  -999.0,9,  -999.0,     1.3848,-999.0000,-999.000,-999.000
31WTTUNES_3,       P16C,     296,          1,          8,          8,2,19910921,       2022,     7.9667,  -151.5707,       5127,  3497.2,   1.5403,  34.6827,2,  34.6826,2,    140.9,2,   142.8,2,  154.50,2,   36.74,2,    0.00,2,    2.54,2,-999.000,9,-999.000,9,  -999.0,9,  -999.0,9,-999.000,9,-999.0000,9, -999.00,9, -999.00,9,  -999.0,9,  -999.0,     1.2734,-999.0000,-999.000,-999.000
31WTTUNES_3,       P16C,     296,          1,          7,          7,2,19910921,       2022,     7.9667,  -151.5707,       5127,  3760.5,   1.4697,  34.6867,2,  34.6869,2,    151.7,2,   153.6,2,  149.94,2,   35.99,2,    0.00,2,    2.49,2,-999.000,9,-999.000,9,  -999.0,9,  -999.0,9,-999.000,9,-999.0000,9, -999.00,9, -999.00,9,  -999.0,9,  -999.0,     1.1773,-999.0000,-999.000,-999.000
31WTTUNES_3,       P16C,     296,          1,          6,          6,2,19910921,       2022,     7.9667,  -151.5707,       5127,  4024.2,   1.4059,  34.6909,2,  34.6967,3,    161.6,2,   163.6,2,  145.18,2,   35.24,2,    0.01,2,    2.44,2,   0.000,2,   0.004,2,  -999.0,9,  -999.0,9,-999.000,9,-999.0000,9, -999.00,9, -999.00,9,  -999.0,9,  -999.0,     1.0869,-999.0000,-999.000,-999.000
31WTTUNES_3,       P16C,     296,          1,          5,          5,2,19910921,       2022,     7.9667,  -151.5707,       5127,  4286.5,   1.3779,  34.6938,2,  34.6987,3,    168.7,2,   169.8,2,  142.59,2,   34.87,2,    0.00,2,    2.41,2,-999.000,9,-999.000,9,  -999.0,9,  -999.0,9,-999.000,9,-999.0000,9, -999.00,9, -999.00,9,  -999.0,9,  -999.0,     1.0309,-999.0000,-999.000,-999.000
31WTTUNES_3,       P16C,     296,          1,          4,          4,2,19910921,       2022,     7.9667,  -151.5707,       5127,  4552.4,   1.3792,  34.6949,2,  34.6950,2,    172.2,2,   172.9,2,  140.59,2,   34.53,2,    0.00,2,    2.40,2,-999.000,9,-999.000,9,  -999.0,9,  -999.0,9,-999.000,9,-999.0000,9, -999.00,9, -999.00,9,  -999.0,9,  -999.0,     1.0019,-999.0000,-999.000,-999.000
31WTTUNES_3,       P16C,     296,          1,          3,          3,2,19910921,       2022,     7.9667,  -151.5707,       5127,  4823.0,   1.4014,  34.6950,2,  34.6967,2,    174.2,2,   174.7,2,  139.99,2,   34.48,2,    0.00,2,    2.39,2,   0.001,6,   0.006,6,  -999.0,9,  -999.0,9,-999.000,9,-999.0000,9, -999.00,9, -999.00,9,  -999.0,9,  -999.0,     0.9917,-999.0000,-999.000,-999.000
31WTTUNES_3,       P16C,     296,          1,          2,          2,2,19910921,       2022,     7.9667,  -151.5707,       5127,  5083.3,   1.4292,  34.6951,2,  34.6954,2,    175.5,2,   176.0,2,  140.16,2,   34.53,2,    0.00,2,    2.39,2,-999.000,9,-999.000,9,  -999.0,9,  -999.0,9,-999.000,9,-999.0000,9, -999.00,9, -999.00,9,  -999.0,9,  -999.0,     0.9871,-999.0000,-999.000,-999.000
31WTTUNES_3,       P16C,     296,          1,          1,          1,2,19910921,       2022,     7.9667,  -151.5707,       5127,  5231.0,   1.4469,  34.6952,2,  34.7022,4,    174.7,2,   180.8,4,  139.96,2,   34.43,2,    0.00,2,    2.39,2,   0.118,4,   2.093,4,  -999.0,9,  -999.0,9,-999.000,9,-999.0000,9, -999.00,9, -999.00,9,  -999.0,9,  -999.0,     0.9860,-999.0000,-999.000,-999.000