BOTTLE,20211117CCHSIORKP
EXPOCODE,SECT_ID,STNNBR,CASTNO,SAMPNO,BTLNBR,BTLNBR_FLAG_W,DATE,TIME,LATITUDE,LONGITUDE,DEPTH,CTDPRS,CTDTMP,CTDSAL,CTDSAL_FLAG_W,SALNTY,SALNTY_FLAG_W,CTDOXY,CTDOXY_FLAG_W,OXYGEN,OXYGEN_FLAG_W,SILCAT,SILCAT_FLAG_W,NITRAT,NITRAT_FLAG_W,NITRIT,NITRIT_FLAG_W,PHSPHT,PHSPHT_FLAG_W,CFC-11,CFC-11_FLAG_W,CFC-12,CFC-12_FLAG_W,TCARBN,TCARBN_FLAG_W,ALKALI,ALKALI_FLAG_W,TRITUM,TRITUM_FLAG_W,HELIUM,HELIUM_FLAG_W,DELHE3,DELHE3_FLAG_W,DELC13,DELC13_FLAG_W,DELC14,DELC14_FLAG_W,C14ERR,THETA,HELIER,DELHER,TRITER
,,,,,,,,,,,METERS,DBAR,ITS-90,PSS-78,,PSS-78,,UMOL/KG,,UMOL/KG,,UMOL/KG,,UMOL/KG,,UMOL/KG,,UMOL/KG,,PMOL/KG,,PMOL/KG,,UMOL/KG,,UMOL/KG,,TU,,NMOL/KG,,PERCNT,,/MILLE,,/MILLE,,/MILLE,ITS-90,NMOL/KG,PERCNT,TU
31WTTUNES_3,       P16C,     241,          1,         36,         36,2,19910908,       0410,    -7.5080,  -151.0007,       5238,     6.0,  28.5153,  35.5620,2,  35.5549,2,    216.2,3,   211.1,2,    3.33,2,    1.68,2,    0.02,2,    0.32,2,-999.000,9,-999.000,9,  -999.0,9,  -999.0,9,-999.000,9,-999.0000,9, -999.00,9, -999.00,9,  -999.0,9,  -999.0,    28.5138,-999.0000,-999.000,-999.000
31WTTUNES_3,       P16C,     241,          1,         35,         35,2,19910908,       0410,    -7.5080,  -151.0007,       5238,    59.8,  28.4786,  35.7271,2,  35.7217,2,    211.7,2,   211.9,2,    3.14,2,    1.38,2,    0.03,2,    0.32,2,-999.000,9,-999.000,9,  -999.0,9,  -999.0,9,-999.000,9,-999.0000,9, -999.00,9, -999.00,9,  -999.0,9,  -999.0,    28.4643,-999.0000,-999.000,-999.000
31WTTUNES_3,       P16C,     241,          1,         34,         34,2,19910908,       0410,    -7.5080,  -151.0007,       5238,   109.3,  28.4762,  35.8369,2,  36.0121,2,    198.0,2,   192.0,2,    3.33,2,    0.92,2,    0.25,2,    0.33,2,-999.000,9,-999.000,9,  -999.0,9,  -999.0,9,-999.000,9,-999.0000,9, -999.00,9, -999.00,9,  -999.0,9,  -999.0,    28.4500,-999.0000,-999.000,-999.000
31WTTUNES_3,       P16C,     241,          1,         33,         33,2,19910908,       0410,    -7.5080,  -151.0007,       5238,   158.5,  24.3600,  36.3188,2,  36.2782,2,    163.8,2,   170.9,2,    2.95,2,    4.79,2,    0.01,2,    0.56,2,-999.000,9,-999.000,9,  -999.0,9,  -999.0,9,-999.000,9,-999.0000,9, -999.00,9, -999.00,9,  -999.0,9,  -999.0,    24.3261,-999.0000,-999.000,-999.000
31WTTUNES_3,       P16C,     241,          1,         32,         32,2,19910908,       0410,    -7.5080,  -151.0007,       5238,   209.8,  21.4768,  35.9859,2,  35.7369,2,    159.5,2,   149.6,2,    4.11,2,    8.00,2,    0.00,2,    0.76,2,-999.000,9,-999.000,9,  -999.0,9,  -999.0,9,-999.000,9,-999.0000,9, -999.00,9, -999.00,9,  -999.0,9,  -999.0,    21.4359,-999.0000,-999.000,-999.000
31WTTUNES_3,       P16C,     241,          1,         31,         31,2,19910908,       0410,    -7.5080,  -151.0007,       5238,   250.1,  16.8714,  35.3761,2,  35.3125,2,    108.2,2,   102.8,2,    8.18,2,   15.38,2,    0.01,2,    1.26,2,-999.000,9,-999.000,9,  -999.0,9,  -999.0,9,-999.000,9,-999.0000,9, -999.00,9, -999.00,9,  -999.0,9,  -999.0,    16.8303,-999.0000,-999.000,-999.000
31WTTUNES_3,       P16C,     241,          1,         30,         30,2,19910908,       0410,    -7.5080,  -151.0007,       5238,   288.0,  13.1864,  34.9458,2,  34.8601,2,     68.3,2,    62.1,2,   17.86,2,   25.51,2,    0.00,2,    1.97,2,-999.000,9,-999.000,9,  -999.0,9,  -999.0,9,-999.000,9,-999.0000,9, -999.00,9, -999.00,9,  -999.0,9,  -999.0,    13.1463,-999.0000,-999.000,-999.000
31WTTUNES_3,       P16C,     241,          1,         29,         29,2,19910908,       0410,    -7.5080,  -151.0007,       5238,   328.6,  10.8787,  34.7715,2,  34.7494,2,     58.8,2,    60.5,2,   24.82,2,   30.35,2,    0.04,2,    2.20,2,-999.000,9,-999.000,9,  -999.0,9,  -999.0,9,-999.000,9,-999.0000,9, -999.00,9, -999.00,9,  -999.0,9,  -999.0,    10.8383,-999.0000,-999.000,-999.000
31WTTUNES_3,       P16C,     241,          1,         28,         28,2,19910908,       0410,    -7.5080,  -151.0007,       5238,   370.4,   9.8755,  34.7235,2,  34.6794,2,     64.3,2,    72.8,2,   28.88,2,   32.08,2,    0.15,2,    2.27,2,-999.000,9,-999.000,9,  -999.0,9,  -999.0,9,-999.000,9,-999.0000,9, -999.00,9, -999.00,9,  -999.0,9,  -999.0,     9.8326,-999.0000,-999.000,-999.000
31WTTUNES_3,       P16C,     241,          1,         27,         27,2,19910908,       0410,    -7.5080,  -151.0007,       5238,   410.2,   9.0852,  34.6841,2,  34.6547,2,     73.3,2,    77.5,2,   30.62,2,   33.26,2,    0.01,2,    2.31,2,-999.000,9,-999.000,9,  -999.0,9,  -999.0,9,-999.000,9,-999.0000,9, -999.00,9, -999.00,9,  -999.0,9,  -999.0,     9.0399,-999.0000,-999.000,-999.000
31WTTUNES_3,       P16C,     241,          1,         26,         26,2,19910908,       0410,    -7.5080,  -151.0007,       5238,   511.2,   7.9812,  34.6181,2,  34.6060,2,     87.3,2,    84.4,2,   35.05,2,   34.08,2,    0.03,2,    2.37,2,-999.000,9,-999.000,9,  -999.0,9,  -999.0,9,-999.000,9,-999.0000,9, -999.00,9, -999.00,9,  -999.0,9,  -999.0,     7.9288,-999.0000,-999.000,-999.000
31WTTUNES_3,       P16C,     241,          1,         25,         25,2,19910908,       0410,    -7.5080,  -151.0007,       5238,   612.9,   6.8712,  34.5674,2,  34.5665,2,     87.0,2,    86.2,2,   46.07,2,   37.29,2,    0.00,2,    2.55,2,-999.000,9,-999.000,9,  -999.0,9,  -999.0,9,-999.000,9,-999.0000,9, -999.00,9, -999.00,9,  -999.0,9,  -999.0,     6.8131,-999.0000,-999.000,-999.000
31WTTUNES_3,       P16C,     241,          1,         24,         24,2,19910908,       0410,    -7.5080,  -151.0007,       5238,   714.0,   6.0886,  34.5421,2,  34.5341,2,     90.4,2,    91.5,2,   56.28,2,   38.29,2,    0.00,2,    2.65,2,-999.000,9,-999.000,9,  -999.0,9,  -999.0,9,-999.000,9,-999.0000,9, -999.00,9, -999.00,9,  -999.0,9,  -999.0,     6.0247,-999.0000,-999.000,-999.000
31WTTUNES_3,       P16C,     241,          1,         23,         23,2,19910908,       0410,    -7.5080,  -151.0007,       5238,   816.8,   5.3311,  34.5349,2,  34.5315,2,     96.9,2,    95.7,2,   63.61,2,   38.76,2,    0.00,2,    2.70,2,-999.000,9,-999.000,9,  -999.0,9,  -999.0,9,-999.000,9,-999.0000,9, -999.00,9, -999.00,9,  -999.0,9,  -999.0,     5.2620,-999.0000,-999.000,-999.000
31WTTUNES_3,       P16C,     241,          1,         22,         22,2,19910908,       0410,    -7.5080,  -151.0007,       5238,   920.1,   4.8768,  34.5365,2,  34.5333,2,    101.7,2,   100.4,2,   70.73,2,   38.85,2,    0.00,2,    2.72,2,-999.000,9,-999.000,9,  -999.0,9,  -999.0,9,-999.000,9,-999.0000,9, -999.00,9, -999.00,9,  -999.0,9,  -999.0,     4.8015,-999.0000,-999.000,-999.000
31WTTUNES_3,       P16C,     241,          1,         21,         21,2,19910908,       0410,    -7.5080,  -151.0007,       5238,  1025.8,   4.4732,  34.5363,2,  34.5398,2,    108.4,2,   105.8,2,   76.12,2,   38.47,2,    0.00,2,    2.70,2,-999.000,9,-999.000,9,  -999.0,9,  -999.0,9,-999.000,9,-999.0000,9, -999.00,9, -999.00,9,  -999.0,9,  -999.0,     4.3916,-999.0000,-999.000,-999.000
31WTTUNES_3,       P16C,     241,          1,         20,         20,2,19910908,       0410,    -7.5080,  -151.0007,       5238,  1129.2,   4.1090,  34.5481,2,  34.5500,2,    110.0,2,   107.9,2,   84.33,2,   38.56,2,    0.00,2,    2.73,2,-999.000,9,-999.000,9,  -999.0,9,  -999.0,9,-999.000,9,-999.0000,9, -999.00,9, -999.00,9,  -999.0,9,  -999.0,     4.0214,-999.0000,-999.000,-999.000
31WTTUNES_3,       P16C,     241,          1,         19,         19,2,19910908,       0410,    -7.5080,  -151.0007,       5238,  1333.3,   3.5322,  34.5678,2,  34.5708,2,    115.5,2,   114.5,2,   97.79,2,   38.46,2,    0.00,2,    2.71,2,-999.000,9,-999.000,9,  -999.0,9,  -999.0,9,-999.000,9,-999.0000,9, -999.00,9, -999.00,9,  -999.0,9,  -999.0,     3.4326,-999.0000,-999.000,-999.000
31WTTUNES_3,       P16C,     241,          1,         18,         18,2,19910908,       0410,    -7.5080,  -151.0007,       5238,  1536.3,   2.9503,  34.5972,2,  34.5954,2,    115.7,2,   114.5,2,  111.63,2,   38.69,2,    0.00,2,    2.72,2,-999.000,9,-999.000,9,  -999.0,9,  -999.0,9,-999.000,9,-999.0000,9, -999.00,9, -999.00,9,  -999.0,9,  -999.0,     2.8399,-999.0000,-999.000,-999.000
31WTTUNES_3,       P16C,     241,          1,         17,         17,2,19910908,       0410,    -7.5080,  -151.0007,       5238,  1736.0,   2.6089,  34.6156,2,  34.6170,2,    118.8,2,   116.0,2,  120.44,2,   38.74,2,    0.00,2,    2.73,2,-999.000,9,-999.000,9,  -999.0,9,  -999.0,9,-999.000,9,-999.0000,9, -999.00,9, -999.00,9,  -999.0,9,  -999.0,     2.4860,-999.0000,-999.000,-999.000
31WTTUNES_3,       P16C,     241,          1,         16,         16,2,19910908,       0410,    -7.5080,  -151.0007,       5238,  1937.0,   2.3540,  34.6284,2,  34.6252,2,    129.9,2,   132.6,2,  120.98,2,   37.50,2,    0.00,2,    2.61,2,-999.000,9,-999.000,9,  -999.0,9,  -999.0,9,-999.000,9,-999.0000,9, -999.00,9, -999.00,9,  -999.0,9,  -999.0,     2.2177,-999.0000,-999.000,-999.000
31WTTUNES_3,       P16C,     241,          1,         15,         15,2,19910908,       0410,    -7.5080,  -151.0007,       5238,  2138.0,   2.1289,  34.6431,2,  34.6453,2,    137.6,2,   136.8,2,  127.29,2,   37.18,2,    0.02,4,    2.56,2,-999.000,9,-999.000,9,  -999.0,9,  -999.0,9,-999.000,9,-999.0000,9, -999.00,9, -999.00,9,  -999.0,9,  -999.0,     1.9785,-999.0000,-999.000,-999.000
31WTTUNES_3,       P16C,     241,          1,         14,         14,2,19910908,       0410,    -7.5080,  -151.0007,       5238,  2389.8,   1.9345,  34.6587,2,  34.6594,2,    139.9,2,   141.0,2,  132.82,2,   36.79,2,    0.00,2,    2.56,2,-999.000,9,-999.000,9,  -999.0,9,  -999.0,9,-999.000,9,-999.0000,9, -999.00,9, -999.00,9,  -999.0,9,  -999.0,     1.7654,-999.0000,-999.000,-999.000
31WTTUNES_3,       P16C,     241,          1,         13,         13,2,19910908,       0410,    -7.5080,  -151.0007,       5238,  2544.8,   1.8515,  34.6659,2,  34.6686,2,    142.5,2,   143.1,2,  135.85,2,   36.74,2,    0.02,4,    2.53,2,-999.000,9,-999.000,9,  -999.0,9,  -999.0,9,-999.000,9,-999.0000,9, -999.00,9, -999.00,9,  -999.0,9,  -999.0,     1.6698,-999.0000,-999.000,-999.000
31WTTUNES_3,       P16C,     241,          1,         12,         12,2,19910908,       0410,    -7.5080,  -151.0007,       5238,  2701.6,   1.8005,  34.6705,2,  34.6741,2,    143.8,2,   144.3,2,  137.35,2,   36.39,3,    0.00,2,    2.44,4,-999.000,9,-999.000,9,  -999.0,9,  -999.0,9,-999.000,9,-999.0000,9, -999.00,9, -999.00,9,  -999.0,9,  -999.0,     1.6054,-999.0000,-999.000,-999.000
31WTTUNES_3,       P16C,     241,          1,         11,         11,2,19910908,       0410,    -7.5080,  -151.0007,       5238,  2855.2,   1.7527,  34.6742,2,  34.6755,2,    146.0,2,   146.3,2,  138.65,2,   36.44,2,    0.07,4,    2.51,2,-999.000,9,-999.000,9,  -999.0,9,  -999.0,9,-999.000,9,-999.0000,9, -999.00,9, -999.00,9,  -999.0,9,  -999.0,     1.5442,-999.0000,-999.000,-999.000
31WTTUNES_3,       P16C,     241,          1,         10,         10,2,19910908,       0410,    -7.5080,  -151.0007,       5238,  3011.8,   1.6878,  34.6785,2,  34.6865,3,    148.8,2,   150.7,2,  138.99,2,   36.25,2,    0.00,2,    2.48,2,-999.000,9,-999.000,9,  -999.0,9,  -999.0,9,-999.000,9,-999.0000,9, -999.00,9, -999.00,9,  -999.0,9,  -999.0,     1.4656,-999.0000,-999.000,-999.000
31WTTUNES_3,       P16C,     241,          1,          9,          9,2,19910908,       0410,    -7.5080,  -151.0007,       5238,  3272.4,   1.6007,  34.6830,2,  34.6830,2,    155.4,2,   155.3,2,  139.71,2,   35.96,2,    0.00,2,    2.46,2,-999.000,9,-999.000,9,  -999.0,9,  -999.0,9,-999.000,9,-999.0000,9, -999.00,9, -999.00,9,  -999.0,9,  -999.0,     1.3551,-999.0000,-999.000,-999.000
31WTTUNES_3,       P16C,     241,          1,          8,          8,2,19910908,       0410,    -7.5080,  -151.0007,       5238,  3532.8,   1.5242,  34.6866,2,  34.6973,3,    159.9,2,   160.9,2,  137.17,2,   35.49,2,    0.00,2,    2.44,2,-999.000,9,-999.000,9,  -999.0,9,  -999.0,9,-999.000,9,-999.0000,9, -999.00,9, -999.00,9,  -999.0,9,  -999.0,     1.2541,-999.0000,-999.000,-999.000
31WTTUNES_3,       P16C,     241,          1,          7,          7,2,19910908,       0410,    -7.5080,  -151.0007,       5238,  3793.0,   1.4714,  34.6904,2,  34.7011,3,    166.9,2,   168.4,2,  135.78,2,   35.10,2,    0.00,2,    2.41,2,-999.000,9,-999.000,9,  -999.0,9,  -999.0,9,-999.000,9,-999.0000,9, -999.00,9, -999.00,9,  -999.0,9,  -999.0,     1.1755,-999.0000,-999.000,-999.000
31WTTUNES_3,       P16C,     241,          1,          6,          6,2,19910908,       0410,    -7.5080,  -151.0007,       5238,  4051.5,   1.4131,  34.6940,2,  34.6965,2,    173.8,2,   174.8,2,  133.05,2,   34.67,2,    0.00,2,    2.38,2,-999.000,9,-999.000,9,  -999.0,9,  -999.0,9,-999.000,9,-999.0000,9, -999.00,9, -999.00,9,  -999.0,9,  -999.0,     1.0909,-999.0000,-999.000,-999.000
31WTTUNES_3,       P16C,     241,          1,          5,          5,2,19910908,       0410,    -7.5080,  -151.0007,       5238,  4313.9,   1.3475,  34.6980,2,  34.7026,2,    181.8,2,   182.5,2,  130.14,2,   34.15,2,    0.00,2,    2.35,2,-999.000,9,-999.000,9,  -999.0,9,  -999.0,9,-999.000,9,-999.0000,9, -999.00,9, -999.00,9,  -999.0,9,  -999.0,     0.9983,-999.0000,-999.000,-999.000
31WTTUNES_3,       P16C,     241,          1,          4,          4,2,19910908,       0410,    -7.5080,  -151.0007,       5238,  4575.2,   1.3348,  34.6998,2,  34.7044,2,    186.0,2,   187.3,2,  127.79,2,   33.80,2,    0.00,2,    2.32,2,-999.000,9,-999.000,9,  -999.0,9,  -999.0,9,-999.000,9,-999.0000,9, -999.00,9, -999.00,9,  -999.0,9,  -999.0,     0.9563,-999.0000,-999.000,-999.000
31WTTUNES_3,       P16C,     241,          1,          3,          3,2,19910908,       0410,    -7.5080,  -151.0007,       5238,  4839.5,   1.3489,  34.7004,2,  34.7044,2,    188.6,2,   186.0,2,  127.18,2,   33.57,2,    0.00,2,    2.31,2,-999.000,9,-999.000,9,  -999.0,9,  -999.0,9,-999.000,9,-999.0000,9, -999.00,9, -999.00,9,  -999.0,9,  -999.0,     0.9390,-999.0000,-999.000,-999.000
31WTTUNES_3,       P16C,     241,          1,          2,          2,2,19910908,       0410,    -7.5080,  -151.0007,       5238,  5100.6,   1.3644,  34.7012,2,  34.7036,2,    189.8,2,   188.4,2,  127.71,2,   33.24,2,    0.00,2,    2.27,2,-999.000,9,-999.000,9,  -999.0,9,  -999.0,9,-999.000,9,-999.0000,9, -999.00,9, -999.00,9,  -999.0,9,  -999.0,     0.9225,-999.0000,-999.000,-999.000
31WTTUNES_3,       P16C,     241,          1,          1,          1,2,19910908,       0410,    -7.5080,  -151.0007,       5238,  5345.0,   1.3838,  34.7013,2,  34.7087,3,    190.3,2,   189.8,2,  127.86,2,   33.61,2,    0.00,2,    2.29,2,-999.000,9,-999.000,9,  -999.0,9,  -999.0,9,-999.000,9,-999.0000,9, -999.00,9, -999.00,9,  -999.0,9,  -999.0,     0.9109,-999.0000,-999.000,-999.000