BOTTLE,20211117CCHSIORKP
EXPOCODE,SECT_ID,STNNBR,CASTNO,SAMPNO,BTLNBR,BTLNBR_FLAG_W,DATE,TIME,LATITUDE,LONGITUDE,DEPTH,CTDPRS,CTDTMP,CTDSAL,CTDSAL_FLAG_W,SALNTY,SALNTY_FLAG_W,CTDOXY,CTDOXY_FLAG_W,OXYGEN,OXYGEN_FLAG_W,SILCAT,SILCAT_FLAG_W,NITRAT,NITRAT_FLAG_W,NITRIT,NITRIT_FLAG_W,PHSPHT,PHSPHT_FLAG_W,CFC-11,CFC-11_FLAG_W,CFC-12,CFC-12_FLAG_W,TCARBN,TCARBN_FLAG_W,ALKALI,ALKALI_FLAG_W,TRITUM,TRITUM_FLAG_W,HELIUM,HELIUM_FLAG_W,DELHE3,DELHE3_FLAG_W,DELC13,DELC13_FLAG_W,DELC14,DELC14_FLAG_W,C14ERR,THETA,HELIER,DELHER,TRITER
,,,,,,,,,,,METERS,DBAR,ITS-90,PSS-78,,PSS-78,,UMOL/KG,,UMOL/KG,,UMOL/KG,,UMOL/KG,,UMOL/KG,,UMOL/KG,,PMOL/KG,,PMOL/KG,,UMOL/KG,,UMOL/KG,,TU,,NMOL/KG,,PERCNT,,/MILLE,,/MILLE,,/MILLE,ITS-90,NMOL/KG,PERCNT,TU
31WTTUNES_3,       P16C,     242,          1,         36,         36,2,19910908,       1114,    -7.0182,  -151.0027,       5209,     5.3,  28.2736,  35.3552,2,  35.3092,2,    204.6,3,   211.7,2,    1.07,2,    1.72,2,    0.01,3,    0.31,2,   1.596,2,   0.904,2,  1981.9,2,  2322.8,2,-999.000,9,-999.0000,9, -999.00,9,    1.68,2,    77.2,2,     3.0,    28.2724,-999.0000,-999.000,-999.000
31WTTUNES_3,       P16C,     242,          1,         35,         35,2,19910908,       1114,    -7.0182,  -151.0027,       5209,    48.8,  28.2861,  35.3548,2,  35.3459,2,    209.4,2,   211.7,2,    1.07,2,    2.97,2,    0.03,3,    0.39,2,   1.581,6,   0.903,6,  1987.7,2,  2326.1,2,   1.039,2,   1.6970,2,   -1.03,2,    1.70,2,    74.5,2,     3.2,    28.2745,   0.0080,   0.150,   0.007
31WTTUNES_3,       P16C,     242,          1,         34,         34,2,19910908,       1114,    -7.0182,  -151.0027,       5209,   108.8,  28.5913,  35.8403,2,  36.0230,2,    193.3,2,   187.2,2,    0.89,2,    1.01,2,    0.24,3,    0.35,2,   1.579,2,   0.891,2,  2022.0,2,  2374.1,2,-999.000,9,-999.0000,9, -999.00,9,    1.63,2,    86.9,2,     3.8,    28.5652,-999.0000,-999.000,-999.000
31WTTUNES_3,       P16C,     242,          1,         33,         33,2,19910908,       1114,    -7.0182,  -151.0027,       5209,   158.4,  24.6060,  36.3331,2,  36.3134,2,    159.9,2,   164.0,2,    0.69,2,    4.76,2,    0.02,3,    0.52,2,   1.760,2,   0.961,2,  2096.0,2,  2390.4,2,   0.793,2,   1.7180,2,   -0.55,2,    1.28,2,  -999.0,5,  -999.0,    24.5718,   0.0080,   0.150,   0.007
31WTTUNES_3,       P16C,     242,          1,         32,         32,2,19910908,       1114,    -7.0182,  -151.0027,       5209,   209.4,  19.1204,  35.6597,2,  35.6607,2,    126.1,2,   135.7,2,    3.20,2,    9.97,2,    0.01,3,    0.90,2,   1.544,2,   0.859,2,  2128.1,2,  2349.2,2,   0.604,2,   1.7440,2,    0.48,2,    1.07,2,   112.2,2,     3.3,    19.0827,   0.0080,   0.150,   0.006
31WTTUNES_3,       P16C,     242,          1,         31,         31,2,19910908,       1114,    -7.0182,  -151.0027,       5209,   250.9,  15.0670,  35.1537,2,  35.0329,2,     88.5,2,    82.0,2,   11.10,2,   19.99,2,    0.07,3,    1.61,2,   0.810,2,   0.466,2,  2182.0,2,  2310.5,2,   0.364,2,   1.7370,2,    2.19,2,    0.62,2,    45.4,2,     2.8,    15.0287,   0.0080,   0.150,   0.005
31WTTUNES_3,       P16C,     242,          1,         30,         30,2,19910908,       1114,    -7.0182,  -151.0027,       5209,   290.8,  11.8792,  34.8413,2,  34.8228,2,     64.9,2,    65.0,2,   17.66,2,   25.85,2,    0.11,3,    1.97,2,   0.364,2,   0.215,2,  2210.2,2,  2304.8,2,   0.207,2,   1.7490,2,    3.17,2,    0.48,2,   -11.3,2,     2.9,    11.8415,   0.0080,   0.150,   0.004
31WTTUNES_3,       P16C,     242,          1,         29,         29,2,19910908,       1114,    -7.0182,  -151.0027,       5209,   331.1,  10.2887,  34.7467,2,  34.7343,2,     66.1,2,    67.2,2,   23.26,2,   29.80,2,    0.09,3,    2.16,2,   0.128,2,   0.075,2,  2221.6,2,  2303.5,2,-999.000,9,-999.0000,9, -999.00,9,    0.44,2,   -45.9,2,     2.7,    10.2495,-999.0000,-999.000,-999.000
31WTTUNES_3,       P16C,     242,          1,         28,         28,2,19910908,       1114,    -7.0182,  -151.0027,       5209,   371.6,   9.5199,  34.7023,2,  34.6777,2,     73.5,2,    76.5,2,   26.16,2,   30.37,2,    0.44,3,    2.19,2,   0.073,2,   0.053,2,  2225.0,2,  2303.5,2,   0.067,2,   1.7780,2,    4.52,2,    0.50,2,   -84.9,2,     3.0,     9.4779,   0.0080,   0.150,   0.002
31WTTUNES_3,       P16C,     242,          1,         27,         27,2,19910908,       1114,    -7.0182,  -151.0027,       5209,   411.6,   8.8242,  34.6626,2,  34.6508,2,     81.8,2,    82.8,2,   27.91,2,   31.72,2,    0.01,3,    2.21,2,   0.045,2,   0.044,2,  2225.9,2,  2303.0,2,   0.057,2,   1.7860,2,    4.97,2,    0.45,6,   -87.8,6,     2.0,     8.7796,   0.0080,   0.150,   0.002
31WTTUNES_3,       P16C,     242,          1,         26,         26,2,19910908,       1114,    -7.0182,  -151.0027,       5209,   461.7,   8.2971,  34.6340,2,  34.6140,2,     84.9,2,    87.2,2,   31.97,2,   32.96,2,    0.11,3,    2.29,2,   0.034,6,   0.030,6,  2232.0,2,  2306.5,2,-999.000,9,-999.0000,9, -999.00,9,    0.47,2,  -100.3,2,     3.3,     8.2488,-999.0000,-999.000,-999.000
31WTTUNES_3,       P16C,     242,          1,         25,         25,2,19910908,       1114,    -7.0182,  -151.0027,       5209,   509.9,   7.7229,  34.6026,2,  34.5899,2,     88.5,2,    90.9,2,   34.68,2,   33.67,2,    0.00,3,    2.30,2,   0.019,2,   0.018,2,  2235.2,2,  2306.7,2,-999.000,9,-999.0000,9, -999.00,9,    0.41,2,  -101.8,2,     2.7,     7.6716,-999.0000,-999.000,-999.000
31WTTUNES_3,       P16C,     242,          1,         24,         24,2,19910908,       1114,    -7.0182,  -151.0027,       5209,   600.2,   6.7968,  34.5706,2,  34.5690,2,     76.8,2,    75.3,2,   44.92,2,   36.39,2,    0.00,3,    2.49,2,   0.004,2,   0.005,2,  2257.2,2,  2316.9,2,   0.007,2,   1.8220,2,    8.20,2,    0.27,2,  -120.0,2,     2.7,     6.7403,   0.0090,   0.150,   0.002
31WTTUNES_3,       P16C,     242,          1,         23,         23,2,19910908,       1114,    -7.0182,  -151.0027,       5209,   699.7,   5.9847,  34.5461,2,  34.5429,2,     82.2,2,    78.8,2,   53.04,2,   38.06,2,    0.00,3,    2.63,2,  -0.004,2,   0.000,2,  2265.2,2,  2323.2,2,-999.000,9,-999.0000,9, -999.00,9,    0.29,2,  -138.9,2,     2.7,     5.9226,-999.0000,-999.000,-999.000
31WTTUNES_3,       P16C,     242,          1,         22,         22,2,19910908,       1114,    -7.0182,  -151.0027,       5209,   802.5,   5.3725,  34.5380,2,  34.5358,2,     87.3,2,    84.7,2,   61.74,2,   38.66,2,    0.00,3,    2.69,2,  -0.004,2,  -0.001,2,  2275.4,2,  2331.9,2,-999.000,9,-999.0000,9, -999.00,9,    0.30,2,  -142.3,2,     2.7,     5.3045,-999.0000,-999.000,-999.000
31WTTUNES_3,       P16C,     242,          1,         21,         21,2,19910908,       1114,    -7.0182,  -151.0027,       5209,   906.0,   4.8620,  34.5387,2,  34.5380,2,     94.8,2,    91.8,2,   69.68,2,   37.90,3,    0.00,3,    2.66,3,  -0.002,2,   0.002,2,  2278.8,2,  2340.5,2,-999.000,9,-999.0000,9, -999.00,9,    0.26,2,  -156.8,2,     2.8,     4.7882,-999.0000,-999.000,-999.000
31WTTUNES_3,       P16C,     242,          1,         20,         20,2,19910908,       1114,    -7.0182,  -151.0027,       5209,  1004.8,   4.4342,  34.5446,2,  34.5453,2,    101.3,2,    99.8,2,   78.57,2,   38.10,3,    0.00,3,    2.68,3,   0.000,2,   0.003,2,  2285.0,2,  2351.8,2,-999.000,9,-999.0000,9, -999.00,9,    0.25,2,  -173.4,2,     2.6,     4.3548,-999.0000,-999.000,-999.000
31WTTUNES_3,       P16C,     242,          1,         19,         19,2,19910908,       1114,    -7.0182,  -151.0027,       5209,  1199.7,   3.7579,  34.5635,2,  34.5624,2,    109.0,2,   110.5,2,   90.58,2,   37.36,3,    0.00,3,    2.61,3,  -0.002,6,   0.004,6,  2293.7,2,  2361.6,2,-999.000,9,-999.0000,9, -999.00,9,    0.21,2,  -199.1,2,     3.6,     3.6674,-999.0000,-999.000,-999.000
31WTTUNES_3,       P16C,     242,          1,         18,         18,2,19910908,       1114,    -7.0182,  -151.0027,       5209,  1405.6,   3.2063,  34.5856,2,  34.5808,2,    113.5,2,   112.7,2,  103.36,2,   37.45,3,    0.00,3,    2.62,3,-999.000,9,-999.000,9,  2303.2,2,  2379.6,2,-999.000,9,-999.0000,9, -999.00,9, -999.00,9,  -999.0,9,  -999.0,     3.1041,-999.0000,-999.000,-999.000
31WTTUNES_3,       P16C,     242,          1,         17,         17,2,19910908,       1114,    -7.0182,  -151.0027,       5209,  1612.0,   2.7630,  34.6095,2,  34.6111,2,    116.5,2,   115.7,2,  115.55,2,   37.99,3,    0.00,3,    2.67,3,-999.000,9,-999.000,9,  2315.6,2,  -999.0,9,-999.000,9,-999.0000,9, -999.00,9, -999.00,9,  -999.0,9,  -999.0,     2.6486,-999.0000,-999.000,-999.000
31WTTUNES_3,       P16C,     242,          1,         16,         16,2,19910908,       1114,    -7.0182,  -151.0027,       5209,  1811.3,   2.4416,  34.6283,2,  34.6229,2,    119.5,2,   126.5,3,  120.99,2,   36.85,3,    0.00,3,    2.58,3,-999.000,9,-999.000,9,  2316.0,2,  2397.9,2,-999.000,9,-999.0000,9, -999.00,9, -999.00,9,  -999.0,9,  -999.0,     2.3146,-999.0000,-999.000,-999.000
31WTTUNES_3,       P16C,     242,          1,         15,         15,2,19910908,       1114,    -7.0182,  -151.0027,       5209,  2013.0,   2.2555,  34.6405,2,  34.6394,2,    122.6,2,   121.4,2,  129.91,2,   36.87,3,    0.11,4,    2.55,3,-999.000,9,-999.000,9,  2328.6,2,  -999.0,9,-999.000,9,-999.0000,9, -999.00,9, -999.00,9,  -999.0,9,  -999.0,     2.1140,-999.0000,-999.000,-999.000
31WTTUNES_3,       P16C,     242,          1,         14,         14,2,19910908,       1114,    -7.0182,  -151.0027,       5209,  2214.3,   2.0466,  34.6528,2,  34.6506,2,    131.2,2,   131.8,2,  132.65,2,   36.08,3,    0.01,3,    2.51,3,-999.000,9,-999.000,9,  2324.7,2,  2413.1,2,-999.000,9,-999.0000,9, -999.00,9, -999.00,9,  -999.0,9,  -999.0,     1.8909,-999.0000,-999.000,-999.000
31WTTUNES_3,       P16C,     242,          1,         13,         13,2,19910908,       1114,    -7.0182,  -151.0027,       5209,  2417.8,   1.9661,  34.6594,2,  34.6625,2,    132.5,2,   132.4,2,  135.57,2,   36.08,3,    0.08,4,    2.52,3,-999.000,9,-999.000,9,  2327.5,2,  -999.0,9,-999.000,9,-999.0000,9, -999.00,9, -999.00,9,  -999.0,9,  -999.0,     1.7939,-999.0000,-999.000,-999.000
31WTTUNES_3,       P16C,     242,          1,         12,         12,2,19910908,       1114,    -7.0182,  -151.0027,       5209,  2618.6,   1.8556,  34.6680,2,  34.6669,2,    136.9,2,   136.6,2,  138.12,2,   32.82,4,    0.03,4,    2.25,4,-999.000,9,-999.000,9,  2330.6,2,  2419.3,2,-999.000,9,-999.0000,9, -999.00,9,    0.02,2,  -221.1,3,     2.6,     1.6670,-999.0000,-999.000,-999.000
31WTTUNES_3,       P16C,     242,          1,         11,         11,2,19910908,       1114,    -7.0182,  -151.0027,       5209,  2818.0,   1.7873,  34.6722,2,  34.6704,2,    141.2,2,   141.7,2,  138.35,2,   34.68,4,    0.11,4,    2.40,4,-999.000,9,-999.000,9,  2327.4,2,  -999.0,9,-999.000,9,-999.0000,9, -999.00,9, -999.00,9,  -999.0,9,  -999.0,     1.5816,-999.0000,-999.000,-999.000
31WTTUNES_3,       P16C,     242,          1,         10,         10,2,19910908,       1114,    -7.0182,  -151.0027,       5209,  3016.6,   1.7180,  34.6779,2,  34.6783,2,    146.4,2,   147.5,2,  137.60,2,   33.55,4,    0.03,4,    2.31,4,-999.000,9,-999.000,9,  2321.8,2,  2421.2,2,-999.000,9,-999.0000,9, -999.00,9, -999.00,9,  -999.0,9,  -999.0,     1.4947,-999.0000,-999.000,-999.000
31WTTUNES_3,       P16C,     242,          1,          9,          9,2,19910908,       1114,    -7.0182,  -151.0027,       5209,  3267.0,   1.6235,  34.6819,2,  34.6820,2,    152.1,2,   152.7,2,  138.60,2,   32.65,4,    0.01,3,    2.21,4,-999.000,9,-999.000,9,  2318.3,2,  -999.0,9,-999.000,9,-999.0000,9, -999.00,9, -999.00,9,  -999.0,9,  -999.0,     1.3779,-999.0000,-999.000,-999.000
31WTTUNES_3,       P16C,     242,          1,          8,          8,2,19910908,       1114,    -7.0182,  -151.0027,       5209,  3516.6,   1.5324,  34.6868,2,  34.6875,2,    158.7,2,   160.2,2,  137.86,2,   32.67,4,    0.00,3,    2.19,4,-999.000,9,-999.000,9,  2313.9,2,  2417.2,2,-999.000,9,-999.0000,9, -999.00,9, -999.00,9,  -999.0,9,  -999.0,     1.2637,-999.0000,-999.000,-999.000
31WTTUNES_3,       P16C,     242,          1,          7,          7,2,19910908,       1114,    -7.0182,  -151.0027,       5209,  3768.7,   1.4685,  34.6908,2,  34.6897,2,    164.4,2,   165.2,2,  136.14,2,   35.08,2,    0.00,3,    2.40,2,-999.000,9,-999.000,9,  2310.8,2,  -999.0,9,-999.000,9,-999.0000,9, -999.00,9, -999.00,9,  -999.0,9,  -999.0,     1.1753,-999.0000,-999.000,-999.000
31WTTUNES_3,       P16C,     242,          1,          6,          6,2,19910908,       1114,    -7.0182,  -151.0027,       5209,  4014.3,   1.4230,  34.6939,2,  34.6940,2,    170.8,2,   171.6,2,  133.65,2,   34.02,2,    0.01,3,    2.32,2,-999.000,9,-999.000,9,  2303.8,2,  -999.0,9,-999.000,9,-999.0000,9, -999.00,9, -999.00,9,  -999.0,9,  -999.0,     1.1045,-999.0000,-999.000,-999.000
31WTTUNES_3,       P16C,     242,          1,          5,          5,2,19910908,       1114,    -7.0182,  -151.0027,       5209,  4263.7,   1.3535,  34.6983,2,  34.6973,2,    179.5,2,   181.4,2,  129.23,2,   33.63,2,    0.01,3,    2.30,2,-999.000,9,-999.000,9,  2291.5,2,  2399.5,2,-999.000,9,-999.0000,9, -999.00,9, -999.00,9,  -999.0,9,  -999.0,     1.0098,-999.0000,-999.000,-999.000
31WTTUNES_3,       P16C,     242,          1,          4,          4,2,19910908,       1114,    -7.0182,  -151.0027,       5209,  4520.6,   1.3384,  34.7000,2,  34.6999,2,    183.8,2,   184.4,2,  128.29,2,   32.87,2,    0.04,4,    2.27,2,-999.000,9,-999.000,9,  2288.2,2,  -999.0,9,-999.000,9,-999.0000,9, -999.00,9, -999.00,9,  -999.0,9,  -999.0,     0.9660,-999.0000,-999.000,-999.000
31WTTUNES_3,       P16C,     242,          1,          3,          3,2,19910908,       1114,    -7.0182,  -151.0027,       5209,  4785.0,   1.3373,  34.7013,2,  34.7050,2,    188.2,2,   187.6,2,  126.77,2,   32.97,2,    0.01,3,    2.29,2,-999.000,9,-999.000,9,  2282.3,2,  2390.7,2,-999.000,9,-999.0000,9, -999.00,9, -999.00,9,  -999.0,9,  -999.0,     0.9342,-999.0000,-999.000,-999.000
31WTTUNES_3,       P16C,     242,          1,          2,          2,4,19910908,       1114,    -7.0182,  -151.0027,       5209,  4985.1,   1.3401,  34.7019,2,-999.0000,9,    191.2,2,  -999.0,9, -999.00,9, -999.00,9, -999.00,9, -999.00,9,-999.000,9,-999.000,9,  -999.0,9,  -999.0,9,-999.000,9,-999.0000,9, -999.00,9, -999.00,9,  -999.0,9,  -999.0,     0.9130,-999.0000,-999.000,-999.000
31WTTUNES_3,       P16C,     242,          1,          1,          1,2,19910908,       1114,    -7.0182,  -151.0027,       5209,  5241.0,   1.3674,  34.7021,2,  34.7015,3,    192.5,2,   196.8,4,  127.99,4,   32.23,4,    0.25,4,    4.32,4,-999.000,9,-999.000,9,  2278.2,2,  -999.0,9,-999.000,9,-999.0000,9, -999.00,9, -999.00,9,  -999.0,9,  -999.0,     0.9080,-999.0000,-999.000,-999.000