BOTTLE,20211117CCHSIORKP
EXPOCODE,SECT_ID,STNNBR,CASTNO,SAMPNO,BTLNBR,BTLNBR_FLAG_W,DATE,TIME,LATITUDE,LONGITUDE,DEPTH,CTDPRS,CTDTMP,CTDSAL,CTDSAL_FLAG_W,SALNTY,SALNTY_FLAG_W,CTDOXY,CTDOXY_FLAG_W,OXYGEN,OXYGEN_FLAG_W,SILCAT,SILCAT_FLAG_W,NITRAT,NITRAT_FLAG_W,NITRIT,NITRIT_FLAG_W,PHSPHT,PHSPHT_FLAG_W,CFC-11,CFC-11_FLAG_W,CFC-12,CFC-12_FLAG_W,TCARBN,TCARBN_FLAG_W,ALKALI,ALKALI_FLAG_W,TRITUM,TRITUM_FLAG_W,HELIUM,HELIUM_FLAG_W,DELHE3,DELHE3_FLAG_W,DELC13,DELC13_FLAG_W,DELC14,DELC14_FLAG_W,C14ERR,THETA,HELIER,DELHER,TRITER
,,,,,,,,,,,METERS,DBAR,ITS-90,PSS-78,,PSS-78,,UMOL/KG,,UMOL/KG,,UMOL/KG,,UMOL/KG,,UMOL/KG,,UMOL/KG,,PMOL/KG,,PMOL/KG,,UMOL/KG,,UMOL/KG,,TU,,NMOL/KG,,PERCNT,,/MILLE,,/MILLE,,/MILLE,ITS-90,NMOL/KG,PERCNT,TU
31WTTUNES_3,       P16C,     278,          1,         36,         36,2,19910917,       0133,     1.6530,  -150.9992,       4214,     5.3,  28.0608,  34.7981,2,  34.7555,2,    210.9,3,   218.1,2,    2.72,2,    1.44,2,    0.09,2,    0.32,2,-999.000,9,-999.000,9,  -999.0,9,  -999.0,9,-999.000,9,-999.0000,9, -999.00,9, -999.00,9,  -999.0,9,  -999.0,    28.0596,-999.0000,-999.000,-999.000
31WTTUNES_3,       P16C,     278,          1,         35,         35,2,19910917,       0133,     1.6530,  -150.9992,       4214,    36.1,  27.5324,  34.7538,2,  34.7475,2,    210.5,2,   217.0,2,    2.72,2,    1.44,2,    0.09,2,    0.33,2,-999.000,9,-999.000,9,  -999.0,9,  -999.0,9,-999.000,9,-999.0000,9, -999.00,9, -999.00,9,  -999.0,9,  -999.0,    27.5240,-999.0000,-999.000,-999.000
31WTTUNES_3,       P16C,     278,          1,         34,         34,2,19910917,       0133,     1.6530,  -150.9992,       4214,    65.8,  26.7661,  34.8235,2,  34.8324,2,    202.3,2,   196.9,2,    3.31,2,    2.79,2,    0.38,2,    0.47,2,-999.000,9,-999.000,9,  -999.0,9,  -999.0,9,-999.000,9,-999.0000,9, -999.00,9, -999.00,9,  -999.0,9,  -999.0,    26.7511,-999.0000,-999.000,-999.000
31WTTUNES_3,       P16C,     278,          1,         33,         33,2,19910917,       0133,     1.6530,  -150.9992,       4214,   105.2,  25.7591,  34.9009,2,  34.8788,2,    168.0,2,   156.4,2,    5.50,2,    5.62,2,    1.79,2,    0.77,2,-999.000,9,-999.000,9,  -999.0,9,  -999.0,9,-999.000,9,-999.0000,9, -999.00,9, -999.00,9,  -999.0,9,  -999.0,    25.7358,-999.0000,-999.000,-999.000
31WTTUNES_3,       P16C,     278,          1,         32,         32,2,19910917,       0133,     1.6530,  -150.9992,       4214,   146.3,  16.4265,  34.7612,2,  34.7917,2,    128.6,2,   133.5,2,   10.24,2,   11.16,2,    0.19,2,    0.91,2,-999.000,9,-999.000,9,  -999.0,9,  -999.0,9,-999.000,9,-999.0000,9, -999.00,9, -999.00,9,  -999.0,9,  -999.0,    16.4030,-999.0000,-999.000,-999.000
31WTTUNES_3,       P16C,     278,          1,         31,         31,2,19910917,       0133,     1.6530,  -150.9992,       4214,   187.5,  13.5080,  34.7239,2,  34.7215,2,    118.2,2,   117.3,2,   20.90,2,   20.32,2,    0.01,2,    1.48,2,-999.000,9,-999.000,9,  -999.0,9,  -999.0,9,-999.000,9,-999.0000,9, -999.00,9, -999.00,9,  -999.0,9,  -999.0,    13.4817,-999.0000,-999.000,-999.000
31WTTUNES_3,       P16C,     278,          1,         30,         30,2,19910917,       0133,     1.6530,  -150.9992,       4214,   228.3,  11.9533,  34.8001,2,  34.8228,2,     99.7,2,    75.5,2,   24.06,2,   27.30,2,    0.01,2,    1.92,2,-999.000,9,-999.000,9,  -999.0,9,  -999.0,9,-999.000,9,-999.0000,9, -999.00,9, -999.00,9,  -999.0,9,  -999.0,    11.9237,-999.0000,-999.000,-999.000
31WTTUNES_3,       P16C,     278,          1,         29,         29,2,19910917,       0133,     1.6530,  -150.9992,       4214,   269.7,  11.7090,  34.8305,2,  34.8251,2,     60.6,2,    56.8,2,   25.64,2,   29.44,2,    0.01,2,    2.04,2,-999.000,9,-999.000,9,  -999.0,9,  -999.0,9,-999.000,9,-999.0000,9, -999.00,9, -999.00,9,  -999.0,9,  -999.0,    11.6743,-999.0000,-999.000,-999.000
31WTTUNES_3,       P16C,     278,          1,         28,         28,2,19910917,       0133,     1.6530,  -150.9992,       4214,   310.8,  11.5474,  34.8192,2,  34.8273,2,     50.5,2,    47.1,2,   27.03,2,   30.62,2,    0.00,2,    2.13,2,-999.000,9,-999.000,9,  -999.0,9,  -999.0,9,-999.000,9,-999.0000,9, -999.00,9, -999.00,9,  -999.0,9,  -999.0,    11.5078,-999.0000,-999.000,-999.000
31WTTUNES_3,       P16C,     278,          1,         27,         27,2,19910917,       0133,     1.6530,  -150.9992,       4214,   350.1,  11.2533,  34.8031,2,  34.7933,2,     26.1,2,    24.1,2,   29.99,2,   33.51,2,    0.01,2,    2.33,2,-999.000,9,-999.000,9,  -999.0,9,  -999.0,9,-999.000,9,-999.0000,9, -999.00,9, -999.00,9,  -999.0,9,  -999.0,    11.2093,-999.0000,-999.000,-999.000
31WTTUNES_3,       P16C,     278,          1,         26,         26,2,19910917,       0133,     1.6530,  -150.9992,       4214,   391.9,  10.4940,  34.7577,2,  34.7569,2,     19.2,2,    21.4,2,   32.96,2,   34.96,2,    0.00,2,    2.41,2,-999.000,9,-999.000,9,  -999.0,9,  -999.0,9,-999.000,9,-999.0000,9, -999.00,9, -999.00,9,  -999.0,9,  -999.0,    10.4468,-999.0000,-999.000,-999.000
31WTTUNES_3,       P16C,     278,          1,         25,         25,2,19910917,       0133,     1.6530,  -150.9992,       4214,   431.9,   9.3107,  34.6731,2,  34.6908,2,     37.6,2,    37.5,2,   34.74,2,   34.91,2,    0.00,2,    2.40,2,-999.000,9,-999.000,9,  -999.0,9,  -999.0,9,-999.000,9,-999.0000,9, -999.00,9, -999.00,9,  -999.0,9,  -999.0,     9.2624,-999.0000,-999.000,-999.000
31WTTUNES_3,       P16C,     278,          1,         24,          1,2,19910917,       0133,     1.6530,  -150.9992,       4214,   473.3,   8.7230,  34.6612,2,  34.6649,2,     30.4,2,    31.4,2,   39.40,2,   37.53,2,    0.00,2,    2.56,2,  -0.001,4,  -0.002,4,  -999.0,9,  -999.0,9,-999.000,9,-999.0000,9, -999.00,9, -999.00,9,  -999.0,9,  -999.0,     8.6719,-999.0000,-999.000,-999.000
31WTTUNES_3,       P16C,     278,          1,         23,         24,2,19910917,       0133,     1.6530,  -150.9992,       4214,   513.0,   8.5556,  34.6500,2,  34.6502,2,     33.1,2,    33.2,2,   40.28,2,   37.98,2,    0.00,2,    2.60,2,-999.000,9,-999.000,9,  -999.0,9,  -999.0,9,-999.000,9,-999.0000,9, -999.00,9, -999.00,9,  -999.0,9,  -999.0,     8.5009,-999.0000,-999.000,-999.000
31WTTUNES_3,       P16C,     278,          1,         22,         23,2,19910917,       0133,     1.6530,  -150.9992,       4214,   564.9,   8.1245,  34.6185,2,  34.6148,2,     53.9,2,    55.7,2,   41.46,2,   36.46,2,    0.00,2,    2.52,2,-999.000,9,-999.000,9,  -999.0,9,  -999.0,9,-999.000,9,-999.0000,9, -999.00,9, -999.00,9,  -999.0,9,  -999.0,     8.0659,-999.0000,-999.000,-999.000
31WTTUNES_3,       P16C,     278,          1,         21,         22,2,19910917,       0133,     1.6530,  -150.9992,       4214,   616.9,   7.1631,  34.5804,2,  34.5765,2,     56.5,2,    56.5,2,   50.54,2,   38.19,2,    0.00,2,    2.68,2,-999.000,9,-999.000,9,  -999.0,9,  -999.0,9,-999.000,9,-999.0000,9, -999.00,9, -999.00,9,  -999.0,9,  -999.0,     7.1032,-999.0000,-999.000,-999.000
31WTTUNES_3,       P16C,     278,          1,         20,         21,2,19910917,       0133,     1.6530,  -150.9992,       4214,   719.3,   6.2484,  34.5579,2,  34.5535,2,     71.4,2,    72.6,2,   60.42,2,   38.80,2,    0.00,2,    2.71,2,-999.000,9,-999.000,9,  -999.0,9,  -999.0,9,-999.000,9,-999.0000,9, -999.00,9, -999.00,9,  -999.0,9,  -999.0,     6.1830,-999.0000,-999.000,-999.000
31WTTUNES_3,       P16C,     278,          1,         19,         20,2,19910917,       0133,     1.6530,  -150.9992,       4214,   821.1,   5.6956,  34.5486,2,  34.5465,2,     80.0,2,    78.6,2,   67.32,2,   38.91,2,    0.00,2,    2.72,2,-999.000,9,-999.000,9,  -999.0,9,  -999.0,9,-999.000,9,-999.0000,9, -999.00,9, -999.00,9,  -999.0,9,  -999.0,     5.6238,-999.0000,-999.000,-999.000
31WTTUNES_3,       P16C,     278,          1,         18,         19,2,19910917,       0133,     1.6530,  -150.9992,       4214,   924.0,   5.2319,  34.5483,2,  34.5463,2,     83.0,2,    82.4,2,   74.62,2,   38.96,2,    0.00,2,    2.74,2,-999.000,9,-999.000,9,  -999.0,9,  -999.0,9,-999.000,9,-999.0000,9, -999.00,9, -999.00,9,  -999.0,9,  -999.0,     5.1538,-999.0000,-999.000,-999.000
31WTTUNES_3,       P16C,     278,          1,         17,         18,2,19910917,       0133,     1.6530,  -150.9992,       4214,  1025.5,   4.5852,  34.5561,2,  34.5565,2,     85.6,2,    84.5,2,   85.67,2,   39.37,2,    0.00,2,    2.77,2,-999.000,9,-999.000,9,  -999.0,9,  -999.0,9,-999.000,9,-999.0000,9, -999.00,9, -999.00,9,  -999.0,9,  -999.0,     4.5027,-999.0000,-999.000,-999.000
31WTTUNES_3,       P16C,     278,          1,         16,         17,2,19910917,       0133,     1.6530,  -150.9992,       4214,  1127.6,   4.2284,  34.5674,2,  34.5659,2,     83.9,2,    82.6,2,   94.16,2,   39.78,2,    0.00,2,    2.81,2,-999.000,9,-999.000,9,  -999.0,9,  -999.0,9,-999.000,9,-999.0000,9, -999.00,9, -999.00,9,  -999.0,9,  -999.0,     4.1399,-999.0000,-999.000,-999.000
31WTTUNES_3,       P16C,     278,          1,         15,         16,2,19910917,       0133,     1.6530,  -150.9992,       4214,  1228.2,   3.7936,  34.5797,2,  34.5779,2,     79.3,2,    79.6,2,  105.79,2,   40.50,2,    0.00,2,    2.85,2,-999.000,9,-999.000,9,  -999.0,9,  -999.0,9,-999.000,9,-999.0000,9, -999.00,9, -999.00,9,  -999.0,9,  -999.0,     3.7003,-999.0000,-999.000,-999.000
31WTTUNES_3,       P16C,     278,          1,         14,         15,2,19910917,       0133,     1.6530,  -150.9992,       4214,  1432.1,   3.2162,  34.6002,2,  34.5985,2,     84.6,2,    84.8,2,  119.99,2,   40.35,2,    0.00,2,    2.84,2,-999.000,9,-999.000,9,  -999.0,9,  -999.0,9,-999.000,9,-999.0000,9, -999.00,9, -999.00,9,  -999.0,9,  -999.0,     3.1117,-999.0000,-999.000,-999.000
31WTTUNES_3,       P16C,     278,          1,         13,         14,2,19910917,       0133,     1.6530,  -150.9992,       4214,  1638.1,   2.7883,  34.6182,2,  34.6179,2,     91.7,2,    92.0,2,  130.85,2,   39.99,2,    0.00,2,    2.81,2,-999.000,9,-999.000,9,  -999.0,9,  -999.0,9,-999.000,9,-999.0000,9, -999.00,9, -999.00,9,  -999.0,9,  -999.0,     2.6714,-999.0000,-999.000,-999.000
31WTTUNES_3,       P16C,     278,          1,         12,         13,2,19910917,       0133,     1.6530,  -150.9992,       4214,  1842.6,   2.4868,  34.6310,2,  34.6319,2,    101.7,2,   103.1,2,  136.57,2,   39.13,2,    0.00,2,    2.75,2,   0.000,6,  -0.002,6,  -999.0,9,  -999.0,9,-999.000,9,-999.0000,9, -999.00,9, -999.00,9,  -999.0,9,  -999.0,     2.3565,-999.0000,-999.000,-999.000
31WTTUNES_3,       P16C,     278,          1,         11,         12,2,19910917,       0133,     1.6530,  -150.9992,       4214,  2046.3,   2.2395,  34.6447,2,  34.6435,2,    104.3,2,   105.3,2,  143.87,2,   39.18,2,    0.00,2,    2.72,2,-999.000,9,-999.000,9,  -999.0,9,  -999.0,9,-999.000,9,-999.0000,9, -999.00,9, -999.00,9,  -999.0,9,  -999.0,     2.0954,-999.0000,-999.000,-999.000
31WTTUNES_3,       P16C,     278,          1,         10,         11,2,19910917,       0133,     1.6530,  -150.9992,       4214,  2250.7,   1.9722,  34.6586,2,  34.6574,2,    114.2,2,   115.2,2,  148.99,2,   38.58,2,    0.00,2,    2.67,2,-999.000,9,-999.000,9,  -999.0,9,  -999.0,9,-999.000,9,-999.0000,9, -999.00,9, -999.00,9,  -999.0,9,  -999.0,     1.8147,-999.0000,-999.000,-999.000
31WTTUNES_3,       P16C,     278,          1,          9,         10,2,19910917,       0133,     1.6530,  -150.9992,       4214,  2457.8,   1.8531,  34.6640,2,  34.6680,3,    123.2,2,   123.2,2,  148.80,2,   38.02,2,    0.00,2,    2.61,2,  -0.003,6,  -0.002,6,  -999.0,9,  -999.0,9,-999.000,9,-999.0000,9, -999.00,9, -999.00,9,  -999.0,9,  -999.0,     1.6793,-999.0000,-999.000,-999.000
31WTTUNES_3,       P16C,     278,          1,          8,          9,2,19910917,       0133,     1.6530,  -150.9992,       4214,  2667.0,   1.7708,  34.6695,2,  34.6679,2,    126.0,2,   126.2,2,  150.78,2,   37.76,2,    0.00,2,    2.60,2,-999.000,9,-999.000,9,  -999.0,9,  -999.0,9,-999.000,9,-999.0000,9, -999.00,9, -999.00,9,  -999.0,9,  -999.0,     1.5795,-999.0000,-999.000,-999.000
31WTTUNES_3,       P16C,     278,          1,          7,          8,2,19910917,       0133,     1.6530,  -150.9992,       4214,  2874.1,   1.7255,  34.6728,2,  34.6714,2,    130.6,2,   131.3,2,  150.18,2,   37.51,2,    0.00,2,    2.57,2,-999.000,9,-999.000,9,  -999.0,9,  -999.0,9,-999.000,9,-999.0000,9, -999.00,9, -999.00,9,  -999.0,9,  -999.0,     1.5158,-999.0000,-999.000,-999.000
31WTTUNES_3,       P16C,     278,          1,          6,          7,2,19910917,       0133,     1.6530,  -150.9992,       4214,  3081.0,   1.6824,  34.6752,2,  34.6743,2,    133.4,2,   133.9,2,  151.18,2,   37.31,2,    0.00,2,    2.55,2,-999.000,9,-999.000,9,  -999.0,9,  -999.0,9,-999.000,9,-999.0000,9, -999.00,9, -999.00,9,  -999.0,9,  -999.0,     1.4538,-999.0000,-999.000,-999.000
31WTTUNES_3,       P16C,     278,          1,          5,          6,2,19910917,       0133,     1.6530,  -150.9992,       4214,  3337.9,   1.5292,  34.6839,2,  34.6842,2,    145.8,2,   149.2,2,  149.02,2,   36.35,2,    0.00,2,    2.47,2,-999.000,9,-999.000,9,  -999.0,9,  -999.0,9,-999.000,9,-999.0000,9, -999.00,9, -999.00,9,  -999.0,9,  -999.0,     1.2787,-999.0000,-999.000,-999.000
31WTTUNES_3,       P16C,     278,          1,          4,          5,2,19910917,       0133,     1.6530,  -150.9992,       4214,  3594.9,   1.4430,  34.6895,2,  34.6891,2,    155.6,2,   156.1,2,  148.23,2,   35.94,2,    0.00,2,    2.42,2,-999.000,9,-999.000,9,  -999.0,9,  -999.0,9,-999.000,9,-999.0000,9, -999.00,9, -999.00,9,  -999.0,9,  -999.0,     1.1685,-999.0000,-999.000,-999.000
31WTTUNES_3,       P16C,     278,          1,          3,          4,2,19910917,       0133,     1.6530,  -150.9992,       4214,  3848.2,   1.4129,  34.6922,2,  34.6928,2,    160.5,2,   160.2,2,  148.03,2,   35.74,2,    0.00,2,    2.41,2,   0.029,4,   0.021,4,  -999.0,9,  -999.0,9,-999.000,9,-999.0000,9, -999.00,9, -999.00,9,  -999.0,9,  -999.0,     1.1126,-999.0000,-999.000,-999.000
31WTTUNES_3,       P16C,     278,          1,          2,          3,2,19910917,       0133,     1.6530,  -150.9992,       4214,  4103.3,   1.4100,  34.6935,2,  34.6926,2,    163.8,2,   163.2,2,  145.68,2,   35.44,2,    0.00,2,    2.39,2,-999.000,9,-999.000,9,  -999.0,9,  -999.0,9,-999.000,9,-999.0000,9, -999.00,9, -999.00,9,  -999.0,9,  -999.0,     1.0823,-999.0000,-999.000,-999.000
31WTTUNES_3,       P16C,     278,          1,          1,          2,2,19910917,       0133,     1.6530,  -150.9992,       4214,  4263.0,   1.3736,  34.6954,2,  34.6950,2,    168.2,2,   168.6,2,  143.11,2,   35.07,2,    0.00,2,    2.38,2,-999.000,9,-999.000,9,  -999.0,9,  -999.0,9,-999.000,9,-999.0000,9, -999.00,9, -999.00,9,  -999.0,9,  -999.0,     1.0293,-999.0000,-999.000,-999.000
31WTTUNES_3,       P16C,     279,          1,         11,         11,2,19910917,       0606,     1.8295,  -151.0075,       4118,    29.2,  27.5344,  34.7511,2,  34.7429,2,    222.6,2,   217.5,2, -999.00,9, -999.00,9, -999.00,9, -999.00,9,-999.000,9,-999.000,9,  -999.0,9,  -999.0,9,-999.000,9,-999.0000,9, -999.00,9, -999.00,9,  -999.0,9,  -999.0,    27.5276,-999.0000,-999.000,-999.000
31WTTUNES_3,       P16C,     279,          1,         10,         10,2,19910917,       0606,     1.8295,  -151.0075,       4118,   155.8,  16.9958,  34.7383,2,  34.7307,2,    118.4,2,   119.2,2, -999.00,9, -999.00,9, -999.00,9, -999.00,9,-999.000,9,-999.000,9,  -999.0,9,  -999.0,9,-999.000,9,-999.0000,9, -999.00,9, -999.00,9,  -999.0,9,  -999.0,    16.9702,-999.0000,-999.000,-999.000
31WTTUNES_3,       P16C,     279,          1,          9,          9,2,19910917,       0606,     1.8295,  -151.0075,       4118,   308.3,  11.3269,  34.8086,2,  34.7999,2,     37.5,2,    39.5,2, -999.00,9, -999.00,9, -999.00,9, -999.00,9,-999.000,9,-999.000,9,  -999.0,9,  -999.0,9,-999.000,9,-999.0000,9, -999.00,9, -999.00,9,  -999.0,9,  -999.0,    11.2880,-999.0000,-999.000,-999.000
31WTTUNES_3,       P16C,     279,          1,          8,          8,3,19910917,       0606,     1.8295,  -151.0075,       4118,   513.0,   8.6715,  34.6554,2,  34.7842,4,     34.8,2,    98.9,4, -999.00,9, -999.00,9, -999.00,9, -999.00,9,-999.000,9,-999.000,9,  -999.0,9,  -999.0,9,-999.000,9,-999.0000,9, -999.00,9, -999.00,9,  -999.0,9,  -999.0,     8.6163,-999.0000,-999.000,-999.000
31WTTUNES_3,       P16C,     279,          1,          7,          7,2,19910917,       0606,     1.8295,  -151.0075,       4118,   767.1,   5.8975,  34.5486,2,  34.5502,2,     77.8,2,    75.4,2, -999.00,9, -999.00,9, -999.00,9, -999.00,9,-999.000,9,-999.000,9,  -999.0,9,  -999.0,9,-999.000,9,-999.0000,9, -999.00,9, -999.00,9,  -999.0,9,  -999.0,     5.8296,-999.0000,-999.000,-999.000
31WTTUNES_3,       P16C,     279,          1,          6,          6,2,19910917,       0606,     1.8295,  -151.0075,       4118,  1534.6,   2.9672,  34.6066,2,  34.6054,2,     87.7,2,    85.8,2, -999.00,9, -999.00,9, -999.00,9, -999.00,9,-999.000,9,-999.000,9,  -999.0,9,  -999.0,9,-999.000,9,-999.0000,9, -999.00,9, -999.00,9,  -999.0,9,  -999.0,     2.8568,-999.0000,-999.000,-999.000
31WTTUNES_3,       P16C,     279,          1,          5,          5,2,19910917,       0606,     1.8295,  -151.0075,       4118,  2564.8,   1.8125,  34.6653,2,  34.6649,2,    123.0,2,   123.2,2, -999.00,9, -999.00,9, -999.00,9, -999.00,9,-999.000,9,-999.000,9,  -999.0,9,  -999.0,9,-999.000,9,-999.0000,9, -999.00,9, -999.00,9,  -999.0,9,  -999.0,     1.6298,-999.0000,-999.000,-999.000
31WTTUNES_3,       P16C,     279,          1,          4,          4,2,19910917,       0606,     1.8295,  -151.0075,       4118,  3079.6,   1.6643,  34.6743,2,  34.6749,2,    134.7,2,   135.6,2, -999.00,9, -999.00,9, -999.00,9, -999.00,9,-999.000,9,-999.000,9,  -999.0,9,  -999.0,9,-999.000,9,-999.0000,9, -999.00,9, -999.00,9,  -999.0,9,  -999.0,     1.4363,-999.0000,-999.000,-999.000
31WTTUNES_3,       P16C,     279,          1,          3,          3,2,19910917,       0606,     1.8295,  -151.0075,       4118,  3337.3,   1.5319,  34.6828,2,  34.6826,2,    145.7,2,   146.7,2, -999.00,9, -999.00,9, -999.00,9, -999.00,9,-999.000,9,-999.000,9,  -999.0,9,  -999.0,9,-999.000,9,-999.0000,9, -999.00,9, -999.00,9,  -999.0,9,  -999.0,     1.2814,-999.0000,-999.000,-999.000
31WTTUNES_3,       P16C,     279,          1,          2,          2,2,19910917,       0606,     1.8295,  -151.0075,       4118,  3802.1,   1.4214,  34.6916,2,  34.6905,2,    158.6,2,   158.7,2, -999.00,9, -999.00,9, -999.00,9, -999.00,9,-999.000,9,-999.000,9,  -999.0,9,  -999.0,9,-999.000,9,-999.0000,9, -999.00,9, -999.00,9,  -999.0,9,  -999.0,     1.1258,-999.0000,-999.000,-999.000
31WTTUNES_3,       P16C,     279,          1,          1,          1,2,19910917,       0606,     1.8295,  -151.0075,       4118,  4183.0,   1.4088,  34.6936,2,  34.6928,2,    165.6,2,   164.8,2, -999.00,9, -999.00,9, -999.00,9, -999.00,9,-999.000,9,-999.000,9,  -999.0,9,  -999.0,9,-999.000,9,-999.0000,9, -999.00,9, -999.00,9,  -999.0,9,  -999.0,     1.0723,-999.0000,-999.000,-999.000