BOTTLE,20211117CCHSIORKP
EXPOCODE,SECT_ID,STNNBR,CASTNO,SAMPNO,BTLNBR,BTLNBR_FLAG_W,DATE,TIME,LATITUDE,LONGITUDE,DEPTH,CTDPRS,CTDTMP,CTDSAL,CTDSAL_FLAG_W,SALNTY,SALNTY_FLAG_W,CTDOXY,CTDOXY_FLAG_W,OXYGEN,OXYGEN_FLAG_W,SILCAT,SILCAT_FLAG_W,NITRAT,NITRAT_FLAG_W,NITRIT,NITRIT_FLAG_W,PHSPHT,PHSPHT_FLAG_W,CFC-11,CFC-11_FLAG_W,CFC-12,CFC-12_FLAG_W,TCARBN,TCARBN_FLAG_W,ALKALI,ALKALI_FLAG_W,TRITUM,TRITUM_FLAG_W,HELIUM,HELIUM_FLAG_W,DELHE3,DELHE3_FLAG_W,DELC13,DELC13_FLAG_W,DELC14,DELC14_FLAG_W,C14ERR,THETA,HELIER,DELHER,TRITER
,,,,,,,,,,,METERS,DBAR,ITS-90,PSS-78,,PSS-78,,UMOL/KG,,UMOL/KG,,UMOL/KG,,UMOL/KG,,UMOL/KG,,UMOL/KG,,PMOL/KG,,PMOL/KG,,UMOL/KG,,UMOL/KG,,TU,,NMOL/KG,,PERCNT,,/MILLE,,/MILLE,,/MILLE,ITS-90,NMOL/KG,PERCNT,TU
31WTTUNES_3,       P16C,     294,          1,         36,         36,2,19910921,       0704,     6.9595,  -151.3483,       5400,     8.1,  28.8811,  33.9178,2,  33.9338,2,    212.2,3,   214.4,2,    2.01,2,    0.01,2,    0.00,2,    0.12,2,   1.582,2,   0.884,2,  1874.1,2,  2227.8,2,-999.000,9,-999.0000,9, -999.00,9,    1.61,2,    95.0,2,     3.1,    28.8792,-999.0000,-999.000,-999.000
31WTTUNES_3,       P16C,     294,          1,         35,         35,2,19910921,       0704,     6.9595,  -151.3483,       5400,    56.8,  28.8875,  33.9158,2,  33.9847,2,    216.3,2,   214.3,2,    1.83,2,    0.01,2,    0.00,2,    0.12,2,   1.590,2,   0.890,2,  1877.8,2,  2230.4,2,   1.311,2,   1.7140,2,   -1.06,2,    1.65,2,    97.5,2,     3.0,    28.8738,   0.0080,   0.150,   0.008
31WTTUNES_3,       P16C,     294,          1,         34,         34,2,19910921,       0704,     6.9595,  -151.3483,       5400,   107.3,  22.0855,  34.8346,2,  34.8583,2,    164.1,2,   158.6,2,    5.61,2,    4.80,2,    0.23,2,    0.60,2,   1.670,2,   0.889,2,  2041.3,2,  2292.4,2,   1.740,2,   0.0000,2,    0.00,2,    0.90,2,    98.6,2,     3.1,    22.0642,-999.0000,   0.150,   0.009
31WTTUNES_3,       P16C,     294,          1,         33,         33,2,19910921,       0704,     6.9595,  -151.3483,       5400,   148.0,  13.9595,  34.6262,2,  34.6207,2,     80.3,2,    90.2,2,   18.35,2,   20.42,2,    0.01,2,    1.59,2,   1.064,2,   0.590,2,  2154.3,2,  2286.1,2,-999.000,9,-999.0000,9, -999.00,9,    0.28,2,    26.1,2,     2.9,    13.9383,-999.0000,-999.000,-999.000
31WTTUNES_3,       P16C,     294,          1,         32,         32,2,19910921,       0704,     6.9595,  -151.3483,       5400,   189.0,  10.9931,  34.6831,2,  34.6765,2,     30.5,2,    31.4,2,   30.08,2,   32.18,2,    0.00,2,    2.37,2,   0.208,2,   0.124,2,  2234.2,2,  2297.6,2,   0.503,2,   1.8130,2,    7.83,2,    0.01,2,   -56.9,2,     2.6,    10.9699,   0.0090,   0.150,   0.005
31WTTUNES_3,       P16C,     294,          1,         31,         31,2,19910921,       0704,     6.9595,  -151.3483,       5400,   230.6,  10.4363,  34.6894,2,  34.6848,2,     36.6,2,    36.4,2,   31.68,2,   32.82,2,    0.00,2,    2.38,2,   0.143,2,   0.092,2,  2238.3,2,  2301.0,2,-999.000,9,-999.0000,9, -999.00,9,    0.06,2,   -64.4,2,     2.7,    10.4088,-999.0000,-999.000,-999.000
31WTTUNES_3,       P16C,     294,          1,         30,         30,2,19910921,       0704,     6.9595,  -151.3483,       5400,   270.9,   9.9885,  34.6862,2,  34.6834,2,     39.1,2,    36.4,2,   32.48,2,   33.36,2,    0.00,2,    2.40,2,   0.113,6,   0.075,6,  2242.0,2,  2303.3,2,   0.260,2,   1.8060,2,    6.68,2,    0.07,2,   -70.9,2,     3.0,     9.9571,   0.0080,   0.150,   0.004
31WTTUNES_3,       P16C,     294,          1,         29,         29,2,19910921,       0704,     6.9595,  -151.3483,       5400,   310.8,   9.5374,  34.6691,2,  34.6767,2,     50.5,2,    39.6,2,   33.49,2,   33.71,2,    0.00,2,    2.40,2,   0.097,2,   0.059,2,  2244.4,2,  2301.7,2,-999.000,9,-999.0000,9, -999.00,9,    0.03,2,   -78.6,2,     3.6,     9.5023,-999.0000,-999.000,-999.000
31WTTUNES_3,       P16C,     294,          1,         28,         28,2,19910921,       0704,     6.9595,  -151.3483,       5400,   362.2,   9.1554,  34.6547,2,  34.6568,2,     54.6,2,    52.5,2,   34.89,2,   33.80,2,    0.00,2,    2.40,2,   0.088,2,   0.052,2,  2241.6,2,  2306.3,2,   0.170,2,   1.8170,2,    6.39,2,    0.14,2,   -78.2,2,     2.8,     9.1154,   0.0090,   0.150,   0.003
31WTTUNES_3,       P16C,     294,          1,         27,         27,2,19910921,       0704,     6.9595,  -151.3483,       5400,   411.6,   8.8696,  34.6465,2,  34.6457,2,     39.8,2,    52.4,2,   36.28,2,   34.30,2,    0.00,2,    2.44,2,   0.075,6,   0.044,6,  2244.2,2,  2307.2,2,   0.141,2,   1.8040,2,    6.56,2,    0.17,2,   -90.3,2,     3.0,     8.8249,   0.0080,   0.150,   0.003
31WTTUNES_3,       P16C,     294,          1,         26,         26,2,19910921,       0704,     6.9595,  -151.3483,       5400,   462.4,   8.4954,  34.6301,2,  34.6370,2,     39.2,2,    39.3,2,   39.27,2,   36.02,2,    0.00,2,    2.58,2,   0.039,2,   0.031,2,  2257.3,2,  2309.1,2,-999.000,9,-999.0000,9, -999.00,9,    0.11,2,   -92.9,2,     3.0,     8.4463,-999.0000,-999.000,-999.000
31WTTUNES_3,       P16C,     294,          1,         25,         25,2,19910921,       0704,     6.9595,  -151.3483,       5400,   512.5,   8.1124,  34.6142,2,  34.6205,2,     30.9,2,    28.0,2,   43.85,2,   37.65,2,    0.00,2,    2.75,2,   0.014,2,   0.006,2,  2273.4,2,  2311.8,2,   0.040,2,   1.8110,2,    6.96,2,    0.00,2,  -109.6,2,     3.6,     8.0593,   0.0090,   0.150,   0.002
31WTTUNES_3,       P16C,     294,          1,         24,         24,2,19910921,       0704,     6.9595,  -151.3483,       5400,   613.3,   7.1453,  34.5774,2,  34.5800,2,     31.8,2,    34.1,2,   51.99,2,   39.27,2,    0.00,2,    2.87,2,   0.014,2,   0.009,2,  2281.2,2,  2317.7,2,   0.018,2,   1.8400,2,    8.52,2,    0.02,2,  -124.6,2,     3.0,     7.0859,   0.0090,   0.150,   0.001
31WTTUNES_3,       P16C,     294,          1,         23,         23,2,19910921,       0704,     6.9595,  -151.3483,       5400,   712.9,   6.3042,  34.5602,2,  34.5598,2,     15.7,2,    16.7,2,   65.12,2,   42.47,2,    0.00,2,    3.12,2,  -0.005,2,  -0.005,2,  2310.5,2,  2330.7,2,-999.000,9,-999.0000,9, -999.00,9,   -0.23,2,  -145.3,2,     3.0,     6.2391,-999.0000,-999.000,-999.000
31WTTUNES_3,       P16C,     294,          1,         22,         22,2,19910921,       0704,     6.9595,  -151.3483,       5400,   814.7,   5.5404,  34.5493,2,  34.5518,2,     46.6,2,    30.1,2,   73.66,2,   42.95,2,    0.00,2,    3.11,2,  -0.002,2,  -0.002,2,  2314.5,2,  2341.3,2,-999.000,9,-999.0000,9, -999.00,9, -999.00,9,  -999.0,9,  -999.0,     5.4702,-999.0000,-999.000,-999.000
31WTTUNES_3,       P16C,     294,          1,         21,         21,2,19910921,       0704,     6.9595,  -151.3483,       5400,   914.6,   5.0763,  34.5521,2,  34.5512,2,     51.8,2,    46.9,2,   82.20,2,   42.23,2,    0.00,2,    3.05,2,-999.000,9,-999.000,9,  2315.3,2,  2347.8,2,-999.000,9,-999.0000,9, -999.00,9, -999.00,9,  -999.0,9,  -999.0,     5.0001,-999.0000,-999.000,-999.000
31WTTUNES_3,       P16C,     294,          1,         20,         20,2,19910921,       0704,     6.9595,  -151.3483,       5400,  1014.7,   4.7068,  34.5595,2,  34.5598,2,     54.3,2,    57.3,2,   89.75,2,   41.74,2,    0.00,2,    3.01,2,-999.000,9,-999.000,9,  2317.4,2,  2358.1,2,-999.000,9,-999.0000,9, -999.00,9,   -0.12,2,  -189.0,2,     2.5,     4.6243,-999.0000,-999.000,-999.000
31WTTUNES_3,       P16C,     294,          1,         19,         19,2,19910921,       0704,     6.9595,  -151.3483,       5400,  1218.1,   3.9662,  34.5778,2,  34.5798,2,     56.7,2,    56.1,2,  108.62,2,   42.27,2,    0.00,2,    3.07,2,-999.000,9,-999.000,9,  2339.9,2,  2378.2,2,-999.000,9,-999.0000,9, -999.00,9, -999.00,9,  -999.0,9,  -999.0,     3.8723,-999.0000,-999.000,-999.000
31WTTUNES_3,       P16C,     294,          1,         18,         18,2,19910921,       0704,     6.9595,  -151.3483,       5400,  1423.2,   3.3082,  34.5978,2,  34.5993,2,     66.9,2,    68.2,2,  123.71,2,   41.64,2,    0.00,2,    3.01,2,-999.000,9,-999.000,9,  2348.3,2,  2394.1,2,-999.000,9,-999.0000,9, -999.00,9, -999.00,9,  -999.0,9,  -999.0,     3.2033,-999.0000,-999.000,-999.000
31WTTUNES_3,       P16C,     294,          1,         17,         17,2,19910921,       0704,     6.9595,  -151.3483,       5400,  1630.3,   2.8565,  34.6143,2,  34.6117,2,     78.8,2,    79.3,2,  132.83,2,   40.70,2,    0.00,2,    2.93,2,-999.000,9,-999.000,9,  -999.0,9,  -999.0,9,-999.000,9,-999.0000,9, -999.00,9, -999.00,9,  -999.0,9,  -999.0,     2.7393,-999.0000,-999.000,-999.000
31WTTUNES_3,       P16C,     294,          1,         16,         16,2,19910921,       0704,     6.9595,  -151.3483,       5400,  1837.1,   2.4560,  34.6301,2,  34.6329,2,     89.1,2,    90.5,2,  142.55,2,   40.11,2,    0.00,2,    2.86,2,-999.000,9,-999.000,9,  2353.8,2,  2415.0,2,-999.000,9,-999.0000,9, -999.00,9, -999.00,9,  -999.0,9,  -999.0,     2.3266,-999.0000,-999.000,-999.000
31WTTUNES_3,       P16C,     294,          1,         15,         15,2,19910921,       0704,     6.9595,  -151.3483,       5400,  2043.3,   2.1615,  34.6429,6,  34.6433,2,    100.4,2,   100.6,2,  147.91,2,   39.23,2,    0.00,2,    2.81,2,-999.000,9,-999.000,9,  -999.0,9,  -999.0,9,-999.000,9,-999.0000,9, -999.00,9, -999.00,9,  -999.0,9,  -999.0,     2.0188,-999.0000,-999.000,-999.000
31WTTUNES_3,       P16C,     294,          1,         14,         14,2,19910921,       0704,     6.9595,  -151.3483,       5400,  2252.0,   1.9942,  34.6536,6,  34.6545,2,    108.0,2,   108.4,2,  151.09,2,   38.84,2,    0.00,2,    2.75,2,-999.000,9,-999.000,9,  2355.4,2,  2426.7,2,-999.000,9,-999.0000,9, -999.00,9, -999.00,9,  -999.0,9,  -999.0,     1.8363,-999.0000,-999.000,-999.000
31WTTUNES_3,       P16C,     294,          1,         13,         13,2,19910921,       0704,     6.9595,  -151.3483,       5400,  2460.7,   1.8945,  34.6629,6,  34.6653,2,    112.6,2,   112.5,2,  153.45,2,   38.45,2,    0.00,2,    2.72,2,-999.000,9,-999.000,9,  -999.0,9,  -999.0,9,-999.000,9,-999.0000,9, -999.00,9, -999.00,9,  -999.0,9,  -999.0,     1.7198,-999.0000,-999.000,-999.000
31WTTUNES_3,       P16C,     294,          1,         12,         12,2,19910921,       0704,     6.9595,  -151.3483,       5400,  2668.5,   1.8367,  34.6676,6,  34.6671,2,    114.2,2,   114.8,2,  156.03,2,   38.30,2,    0.00,2,    2.70,2,-999.000,9,-999.000,9,  2356.7,2,  2434.1,2,-999.000,9,-999.0000,9, -999.00,9, -999.00,9,  -999.0,9,  -999.0,     1.6440,-999.0000,-999.000,-999.000
31WTTUNES_3,       P16C,     294,          1,         11,         11,2,19910921,       0704,     6.9595,  -151.3483,       5400,  2928.8,   1.7479,  34.6734,6,  34.6718,2,    120.9,2,   120.9,2,  156.43,2,   38.05,2,    0.00,2,    2.67,2,-999.000,9,-999.000,9,  -999.0,9,  -999.0,9,-999.000,9,-999.0000,9, -999.00,9, -999.00,9,  -999.0,9,  -999.0,     1.5325,-999.0000,-999.000,-999.000
31WTTUNES_3,       P16C,     294,          1,         10,         10,2,19910921,       0704,     6.9595,  -151.3483,       5400,  3188.8,   1.6626,  34.6786,6,  34.6785,2,    127.8,2,   129.0,2,  156.02,2,   37.56,2,    0.00,2,    2.62,2,-999.000,9,-999.000,9,  2348.5,2,  2433.6,2,-999.000,9,-999.0000,9, -999.00,9, -999.00,9,  -999.0,9,  -999.0,     1.4239,-999.0000,-999.000,-999.000
31WTTUNES_3,       P16C,     294,          1,          9,          9,2,19910921,       0704,     6.9595,  -151.3483,       5400,  3447.4,   1.5688,  34.6830,6,  34.6818,2,    137.1,2,   139.1,2,  155.02,2,   36.92,2,    0.00,2,    2.57,2,-999.000,9,-999.000,9,  -999.0,9,  -999.0,9,-999.000,9,-999.0000,9, -999.00,9, -999.00,9,  -999.0,9,  -999.0,     1.3063,-999.0000,-999.000,-999.000
31WTTUNES_3,       P16C,     294,          1,          8,          8,2,19910921,       0704,     6.9595,  -151.3483,       5400,  3707.1,   1.4822,  34.6885,6,  34.6879,2,    148.7,2,   151.1,2,  150.26,2,   36.14,2,    0.00,2,    2.51,2,-999.000,9,-999.000,9,  2330.5,2,  2426.1,2,-999.000,9,-999.0000,9, -999.00,9, -999.00,9,  -999.0,9,  -999.0,     1.1952,-999.0000,-999.000,-999.000
31WTTUNES_3,       P16C,     294,          1,          7,          7,2,19910921,       0704,     6.9595,  -151.3483,       5400,  3963.6,   1.4124,  34.6915,6,  34.6914,2,    159.4,2,   161.0,2,  145.50,2,   35.35,2,    0.00,2,    2.45,2,-999.000,9,-999.000,9,  -999.0,9,  -999.0,9,-999.000,9,-999.0000,9, -999.00,9, -999.00,9,  -999.0,9,  -999.0,     1.0998,-999.0000,-999.000,-999.000
31WTTUNES_3,       P16C,     294,          1,          6,          6,2,19910921,       0704,     6.9595,  -151.3483,       5400,  4218.2,   1.3864,  34.6942,6,  34.6926,2,    165.6,2,   165.9,2,  143.12,2,   35.01,2,    0.00,2,    2.42,2,-999.000,9,-999.000,9,  2317.4,2,  2416.3,2,-999.000,9,-999.0000,9, -999.00,9, -999.00,9,  -999.0,9,  -999.0,     1.0467,-999.0000,-999.000,-999.000
31WTTUNES_3,       P16C,     294,          1,          5,          5,2,19910921,       0704,     6.9595,  -151.3483,       5400,  4472.8,   1.3799,  34.6955,6,  34.6963,2,    169.6,2,   169.8,2,  141.33,2,   34.76,2,    0.00,2,    2.41,2,-999.000,9,-999.000,9,  -999.0,9,  -999.0,9,-999.000,9,-999.0000,9, -999.00,9, -999.00,9,  -999.0,9,  -999.0,     1.0118,-999.0000,-999.000,-999.000
31WTTUNES_3,       P16C,     294,          1,          4,          4,2,19910921,       0704,     6.9595,  -151.3483,       5400,  4725.0,   1.3914,  34.6960,6,  34.6954,2,    172.2,2,   171.3,2,  140.34,2,   34.62,2,    0.00,2,    2.39,2,-999.000,9,-999.000,9,  2311.3,2,  2413.7,2,-999.000,9,-999.0000,9, -999.00,9, -999.00,9,  -999.0,9,  -999.0,     0.9936,-999.0000,-999.000,-999.000
31WTTUNES_3,       P16C,     294,          1,          3,          3,2,19910921,       0704,     6.9595,  -151.3483,       5400,  4978.5,   1.4169,  34.6960,6,  34.7003,3,    173.1,2,   172.2,2,  140.13,2,   34.47,2,    0.00,2,    2.39,2,-999.000,9,-999.000,9,  -999.0,9,  -999.0,9,-999.000,9,-999.0000,9, -999.00,9, -999.00,9,  -999.0,9,  -999.0,     0.9880,-999.0000,-999.000,-999.000
31WTTUNES_3,       P16C,     294,          1,          2,          2,2,19910921,       0704,     6.9595,  -151.3483,       5400,  5231.5,   1.4474,  34.6960,6,  34.6946,2,    174.0,2,   172.5,2,  140.13,2,   34.52,2,    0.00,2,    2.39,2,-999.000,9,-999.000,9,  2310.3,2,  2414.4,2,-999.000,9,-999.0000,9, -999.00,9, -999.00,9,  -999.0,9,  -999.0,     0.9865,-999.0000,-999.000,-999.000
31WTTUNES_3,       P16C,     294,          1,          1,          1,2,19910921,       0704,     6.9595,  -151.3483,       5400,  5473.0,   1.4745,  34.6960,2,  34.6954,2,    174.7,2,   174.3,2,  139.55,2,   34.37,2,    0.00,2,    2.38,2,-999.000,9,-999.000,9,  2306.8,2,  -999.0,9,-999.000,9,-999.0000,9, -999.00,9, -999.00,9,  -999.0,9,  -999.0,     0.9823,-999.0000,-999.000,-999.000