BOTTLE,20211117CCHSIORKP
EXPOCODE,SECT_ID,STNNBR,CASTNO,SAMPNO,BTLNBR,BTLNBR_FLAG_W,DATE,TIME,LATITUDE,LONGITUDE,DEPTH,CTDPRS,CTDTMP,CTDSAL,CTDSAL_FLAG_W,SALNTY,SALNTY_FLAG_W,CTDOXY,CTDOXY_FLAG_W,OXYGEN,OXYGEN_FLAG_W,SILCAT,SILCAT_FLAG_W,NITRAT,NITRAT_FLAG_W,NITRIT,NITRIT_FLAG_W,PHSPHT,PHSPHT_FLAG_W,CFC-11,CFC-11_FLAG_W,CFC-12,CFC-12_FLAG_W,TCARBN,TCARBN_FLAG_W,ALKALI,ALKALI_FLAG_W,TRITUM,TRITUM_FLAG_W,HELIUM,HELIUM_FLAG_W,DELHE3,DELHE3_FLAG_W,DELC13,DELC13_FLAG_W,DELC14,DELC14_FLAG_W,C14ERR,THETA,HELIER,DELHER,TRITER
,,,,,,,,,,,METERS,DBAR,ITS-90,PSS-78,,PSS-78,,UMOL/KG,,UMOL/KG,,UMOL/KG,,UMOL/KG,,UMOL/KG,,UMOL/KG,,PMOL/KG,,PMOL/KG,,UMOL/KG,,UMOL/KG,,TU,,NMOL/KG,,PERCNT,,/MILLE,,/MILLE,,/MILLE,ITS-90,NMOL/KG,PERCNT,TU
31WTTUNES_3,       P16C,     260,          1,         36,         36,2,19910913,       2016,    -1.3302,  -150.9950,       4853,     4.9,  27.7607,  35.4333,2,  35.4462,2,    204.9,3,   209.4,2,    3.18,2,    3.94,2,    0.15,2,    0.53,2,   1.758,2,   1.006,3,  -999.0,9,  -999.0,9,-999.000,9,-999.0000,9, -999.00,9, -999.00,9,  -999.0,9,  -999.0,    27.7595,-999.0000,-999.000,-999.000
31WTTUNES_3,       P16C,     260,          1,         35,         35,2,19910913,       2016,    -1.3302,  -150.9950,       4853,    48.7,  27.4776,  35.4285,2,  35.4198,2,    209.5,2,   207.2,2,    3.17,2,    4.08,2,    0.21,2,    0.55,2,   1.640,2,   0.909,2,  -999.0,9,  -999.0,9,-999.000,9,-999.0000,9, -999.00,9, -999.00,9,  -999.0,9,  -999.0,    27.4662,-999.0000,-999.000,-999.000
31WTTUNES_3,       P16C,     260,          1,         34,         34,2,19910913,       2016,    -1.3302,  -150.9950,       4853,    88.7,  26.8370,  35.4164,2,  35.4141,2,    198.2,2,   187.8,2,    3.35,2,    4.19,2,    0.81,2,    0.64,2,   1.622,6,   0.893,6,  -999.0,9,  -999.0,9,-999.000,9,-999.0000,9, -999.00,9, -999.00,9,  -999.0,9,  -999.0,    26.8167,-999.0000,-999.000,-999.000
31WTTUNES_3,       P16C,     260,          1,         33,         33,2,19910913,       2016,    -1.3302,  -150.9950,       4853,   109.4,  26.5385,  35.5093,2,  35.4726,2,    186.9,2,   188.7,2,    3.53,2,    4.31,2,    0.98,2,    0.66,2,   1.680,2,   0.941,2,  -999.0,9,  -999.0,9,-999.000,9,-999.0000,9, -999.00,9, -999.00,9,  -999.0,9,  -999.0,    26.5137,-999.0000,-999.000,-999.000
31WTTUNES_3,       P16C,     260,          1,         32,         32,2,19910913,       2016,    -1.3302,  -150.9950,       4853,   128.4,  23.5975,  35.7708,2,  35.7691,2,    163.2,2,   150.3,2,    4.30,2,    5.94,2,    2.09,2,    0.96,2,-999.000,9,-999.000,9,  -999.0,9,  -999.0,9,-999.000,9,-999.0000,9, -999.00,9, -999.00,9,  -999.0,9,  -999.0,    23.5707,-999.0000,-999.000,-999.000
31WTTUNES_3,       P16C,     260,          1,         31,         31,2,19910913,       2016,    -1.3302,  -150.9950,       4853,   148.9,  19.7891,  35.5871,2,  35.5504,2,    133.7,2,   113.5,2,    7.21,2,   13.49,2,    0.58,2,    1.26,2,   1.398,2,   0.859,2,  -999.0,9,  -999.0,9,-999.000,9,-999.0000,9, -999.00,9, -999.00,9,  -999.0,9,  -999.0,    19.7618,-999.0000,-999.000,-999.000
31WTTUNES_3,       P16C,     260,          1,         30,         30,2,19910913,       2016,    -1.3302,  -150.9950,       4853,   168.6,  17.7412,  35.3862,2,  35.3522,2,    106.1,2,    99.5,2,   10.72,2,   18.26,2,    0.02,2,    1.45,2,-999.000,9,-999.000,9,  -999.0,9,  -999.0,9,-999.000,9,-999.0000,9, -999.00,9, -999.00,9,  -999.0,9,  -999.0,    17.7125,-999.0000,-999.000,-999.000
31WTTUNES_3,       P16C,     260,          1,         29,         29,2,19910913,       2016,    -1.3302,  -150.9950,       4853,   189.3,  14.6570,  35.0682,2,  35.0604,2,     68.3,2,    48.8,2,   18.15,2,   26.71,2,    0.01,2,    1.95,2,   0.578,2,   0.381,2,  -999.0,9,  -999.0,9,-999.000,9,-999.0000,9, -999.00,9, -999.00,9,  -999.0,9,  -999.0,    14.6288,-999.0000,-999.000,-999.000
31WTTUNES_3,       P16C,     260,          1,         28,         28,2,19910913,       2016,    -1.3302,  -150.9950,       4853,   240.4,  12.1983,  34.8783,2,  34.8656,2,     31.4,2,    45.2,2,   24.19,2,   30.04,2,    0.00,2,    2.15,2,   0.263,6,   0.160,6,  -999.0,9,  -999.0,9,-999.000,9,-999.0000,9, -999.00,9, -999.00,9,  -999.0,9,  -999.0,    12.1666,-999.0000,-999.000,-999.000
31WTTUNES_3,       P16C,     260,          1,         27,         27,2,19910913,       2016,    -1.3302,  -150.9950,       4853,   296.9,  11.6451,  34.8284,2,  34.8198,2,     54.5,2,    49.2,2,   26.53,2,   30.56,2,    0.01,2,    2.16,2,-999.000,9,-999.000,9,  -999.0,9,  -999.0,9,-999.000,9,-999.0000,9, -999.00,9, -999.00,9,  -999.0,9,  -999.0,    11.6070,-999.0000,-999.000,-999.000
31WTTUNES_3,       P16C,     260,          1,         26,         26,2,19910913,       2016,    -1.3302,  -150.9950,       4853,   348.2,  10.8794,  34.7836,2,  34.7744,2,     65.6,2,    72.3,2,   26.12,2,   29.85,2,    0.01,2,    2.11,2,   0.232,2,   0.140,2,  -999.0,9,  -999.0,9,-999.000,9,-999.0000,9, -999.00,9, -999.00,9,  -999.0,9,  -999.0,    10.8365,-999.0000,-999.000,-999.000
31WTTUNES_3,       P16C,     260,          1,         25,         25,2,19910913,       2016,    -1.3302,  -150.9950,       4853,   398.3,  10.0688,  34.7330,2,  34.7319,2,     48.1,2,    49.6,2,   30.61,2,   33.30,2,    0.00,2,    2.33,2,-999.000,9,-999.000,9,  -999.0,9,  -999.0,9,-999.000,9,-999.0000,9, -999.00,9, -999.00,9,  -999.0,9,  -999.0,    10.0220,-999.0000,-999.000,-999.000
31WTTUNES_3,       P16C,     260,          1,         24,         24,2,19910913,       2016,    -1.3302,  -150.9950,       4853,   450.2,   9.1386,  34.6832,2,  34.6767,2,     35.7,2,    37.1,2,   36.84,2,   36.58,2,    0.01,2,    2.55,2,   0.049,6,   0.037,6,  -999.0,9,  -999.0,9,-999.000,9,-999.0000,9, -999.00,9, -999.00,9,  -999.0,9,  -999.0,     9.0887,-999.0000,-999.000,-999.000
31WTTUNES_3,       P16C,     260,          1,         23,         23,2,19910913,       2016,    -1.3302,  -150.9950,       4853,   506.0,   8.4193,  34.6459,2,  34.6431,2,     36.3,2,    39.5,2,   40.54,2,   38.07,2,    0.00,2,    2.64,2,-999.000,9,-999.000,9,  -999.0,9,  -999.0,9,-999.000,9,-999.0000,9, -999.00,9, -999.00,9,  -999.0,9,  -999.0,     8.3657,-999.0000,-999.000,-999.000
31WTTUNES_3,       P16C,     260,          1,         22,         22,2,19910913,       2016,    -1.3302,  -150.9950,       4853,   617.9,   6.9804,  34.5779,2,  34.5901,2,     64.0,2,    55.7,2,   47.38,2,   38.62,2,    0.00,2,    2.72,2,   0.012,2,   0.006,2,  -999.0,9,  -999.0,9,-999.000,9,-999.0000,9, -999.00,9, -999.00,9,  -999.0,9,  -999.0,     6.9212,-999.0000,-999.000,-999.000
31WTTUNES_3,       P16C,     260,          1,         21,         21,2,19910913,       2016,    -1.3302,  -150.9950,       4853,   719.0,   5.9330,  34.5523,2,  34.5582,2,     73.9,2,    68.5,2,   57.72,2,   39.32,2,    0.00,2,    2.78,2,-999.000,9,-999.000,9,  -999.0,9,  -999.0,9,-999.000,9,-999.0000,9, -999.00,9, -999.00,9,  -999.0,9,  -999.0,     5.8694,-999.0000,-999.000,-999.000
31WTTUNES_3,       P16C,     260,          1,         20,         20,2,19910913,       2016,    -1.3302,  -150.9950,       4853,   821.7,   5.4286,  34.5458,2,  34.5453,2,     85.3,3,    87.0,2,   64.54,2,   38.34,2,    0.00,2,    2.72,2,-999.000,9,-999.000,9,  -999.0,9,  -999.0,9,-999.000,9,-999.0000,9, -999.00,9, -999.00,9,  -999.0,9,  -999.0,     5.3585,-999.0000,-999.000,-999.000
31WTTUNES_3,       P16C,     260,          1,         19,         19,2,19910913,       2016,    -1.3302,  -150.9950,       4853,   924.0,   4.7395,  34.5515,2,  34.5502,2,     88.0,2,    88.6,2,   79.18,2,   38.95,2,    0.00,2,    2.78,2,-999.000,9,-999.000,9,  -999.0,9,  -999.0,9,-999.000,9,-999.0000,9, -999.00,9, -999.00,9,  -999.0,9,  -999.0,     4.6648,-999.0000,-999.000,-999.000
31WTTUNES_3,       P16C,     260,          1,         18,         18,2,19910913,       2016,    -1.3302,  -150.9950,       4853,  1023.9,   4.4301,  34.5599,2,  34.5596,2,     82.1,2,    81.7,2,   88.56,2,   39.90,2,    0.00,2,    2.84,2,-999.000,9,-999.000,9,  -999.0,9,  -999.0,9,-999.000,9,-999.0000,9, -999.00,9, -999.00,9,  -999.0,9,  -999.0,     4.3491,-999.0000,-999.000,-999.000
31WTTUNES_3,       P16C,     260,          1,         17,         17,2,19910913,       2016,    -1.3302,  -150.9950,       4853,  1229.4,   3.7468,  34.5799,2,  34.5777,2,     84.4,2,    85.0,2,  104.94,2,   40.15,2,    0.00,2,    2.87,2,-999.000,9,-999.000,9,  -999.0,9,  -999.0,9,-999.000,9,-999.0000,9, -999.00,9, -999.00,9,  -999.0,9,  -999.0,     3.6539,-999.0000,-999.000,-999.000
31WTTUNES_3,       P16C,     260,          1,         16,         16,2,19910913,       2016,    -1.3302,  -150.9950,       4853,  1433.7,   3.1284,  34.5980,2,  34.5948,2,    101.0,2,   102.4,2,  114.89,2,   39.03,2,    0.00,2,    2.78,2,-999.000,9,-999.000,9,  -999.0,9,  -999.0,9,-999.000,9,-999.0000,9, -999.00,9, -999.00,9,  -999.0,9,  -999.0,     3.0246,-999.0000,-999.000,-999.000
31WTTUNES_3,       P16C,     260,          1,         15,         15,2,19910913,       2016,    -1.3302,  -150.9950,       4853,  1638.8,   2.7171,  34.6178,2,  34.6172,2,    101.7,2,   103.5,2,  127.57,2,   39.16,2,    0.00,2,    2.79,2,-999.000,9,-999.000,9,  -999.0,9,  -999.0,9,-999.000,9,-999.0000,9, -999.00,9, -999.00,9,  -999.0,9,  -999.0,     2.6011,-999.0000,-999.000,-999.000
31WTTUNES_3,       P16C,     260,          1,         14,         14,3,19910913,       2016,    -1.3302,  -150.9950,       4853,  1844.2,   2.4942,  34.6302,2,  34.6441,4,    103.7,2,   168.4,4,  125.78,4,   38.27,4,    0.01,4,    2.75,4,-999.000,9,-999.000,9,  -999.0,9,  -999.0,9,-999.000,9,-999.0000,9, -999.00,9, -999.00,9,  -999.0,9,  -999.0,     2.3637,-999.0000,-999.000,-999.000
31WTTUNES_3,       P16C,     260,          1,         13,         13,2,19910913,       2016,    -1.3302,  -150.9950,       4853,  2048.5,   2.2386,  34.6459,2,  34.6449,2,    106.4,2,   109.4,2,  141.97,2,   38.90,2,    0.00,2,    2.75,2,-999.000,9,-999.000,9,  -999.0,9,  -999.0,9,-999.000,9,-999.0000,9, -999.00,9, -999.00,9,  -999.0,9,  -999.0,     2.0943,-999.0000,-999.000,-999.000
31WTTUNES_3,       P16C,     260,          1,         12,         12,2,19910913,       2016,    -1.3302,  -150.9950,       4853,  2252.4,   2.0097,  34.6557,2,  34.6555,2,    116.0,2,   117.9,2,  144.87,2,   38.08,2,    0.00,2,    2.70,2,   0.001,2,  -0.002,2,  -999.0,9,  -999.0,9,-999.000,9,-999.0000,9, -999.00,9, -999.00,9,  -999.0,9,  -999.0,     1.8515,-999.0000,-999.000,-999.000
31WTTUNES_3,       P16C,     260,          1,         11,         11,2,19910913,       2016,    -1.3302,  -150.9950,       4853,  2456.3,   1.8550,  34.6627,2,  34.6624,2,    127.2,2,   129.0,2,  143.86,2,   37.51,2,    0.00,2,    2.63,2,   0.004,2,   0.000,2,  -999.0,9,  -999.0,9,-999.000,9,-999.0000,9, -999.00,9, -999.00,9,  -999.0,9,  -999.0,     1.6812,-999.0000,-999.000,-999.000
31WTTUNES_3,       P16C,     260,          1,         10,         10,2,19910913,       2016,    -1.3302,  -150.9950,       4853,  2661.5,   1.7868,  34.6671,2,  34.6671,2,    128.2,2,   129.9,2,  147.14,2,   37.61,2,    0.00,2,    2.63,2,   0.002,6,  -0.004,6,  -999.0,9,  -999.0,9,-999.000,9,-999.0000,9, -999.00,9, -999.00,9,  -999.0,9,  -999.0,     1.5957,-999.0000,-999.000,-999.000
31WTTUNES_3,       P16C,     260,          1,          9,          9,2,19910913,       2016,    -1.3302,  -150.9950,       4853,  2866.9,   1.7024,  34.6724,2,  34.6712,2,    133.4,2,   135.1,2,  147.51,2,   37.25,2,    0.00,2,    2.59,2,   0.000,2,   0.000,2,  -999.0,9,  -999.0,9,-999.000,9,-999.0000,9, -999.00,9, -999.00,9,  -999.0,9,  -999.0,     1.4938,-999.0000,-999.000,-999.000
31WTTUNES_3,       P16C,     260,          1,          8,          8,2,19910913,       2016,    -1.3302,  -150.9950,       4853,  3072.5,   1.6557,  34.6748,2,  34.6743,2,    137.4,2,   139.0,2,  147.28,2,   36.98,2,    0.00,2,    2.57,2,-999.000,9,-999.000,9,  -999.0,9,  -999.0,9,-999.000,9,-999.0000,9, -999.00,9, -999.00,9,  -999.0,9,  -999.0,     1.4285,-999.0000,-999.000,-999.000
31WTTUNES_3,       P16C,     260,          1,          7,          7,2,19910913,       2016,    -1.3302,  -150.9950,       4853,  3331.3,   1.5618,  34.6808,2,  34.6814,2,    146.4,2,   147.4,2,  145.90,2,   36.37,2,    0.00,2,    2.53,2,   0.000,2,  -0.005,2,  -999.0,9,  -999.0,9,-999.000,9,-999.0000,9, -999.00,9, -999.00,9,  -999.0,9,  -999.0,     1.3113,-999.0000,-999.000,-999.000
31WTTUNES_3,       P16C,     260,          1,          6,          6,2,19910913,       2016,    -1.3302,  -150.9950,       4853,  3590.6,   1.4646,  34.6881,2,  34.6881,2,    154.3,2,   155.0,2,  147.03,2,   35.91,2,    0.00,2,    2.48,2,  -0.001,6,  -0.003,6,  -999.0,9,  -999.0,9,-999.000,9,-999.0000,9, -999.00,9, -999.00,9,  -999.0,9,  -999.0,     1.1901,-999.0000,-999.000,-999.000
31WTTUNES_3,       P16C,     260,          1,          5,          5,2,19910913,       2016,    -1.3302,  -150.9950,       4853,  3850.0,   1.4294,  34.6915,2,  34.6920,2,    159.2,2,   159.6,2,  146.61,2,   35.54,2,    0.00,2,    2.46,2,  -0.002,2,  -0.002,2,  -999.0,9,  -999.0,9,-999.000,9,-999.0000,9, -999.00,9, -999.00,9,  -999.0,9,  -999.0,     1.1285,-999.0000,-999.000,-999.000
31WTTUNES_3,       P16C,     260,          1,          4,          4,2,19910913,       2016,    -1.3302,  -150.9950,       4853,  4109.4,   1.4114,  34.6939,2,  34.6958,2,    163.4,2,   163.7,2,  145.62,2,   35.39,2,    0.00,2,    2.43,2,  -0.003,6,  -0.005,6,  -999.0,9,  -999.0,9,-999.000,9,-999.0000,9, -999.00,9, -999.00,9,  -999.0,9,  -999.0,     1.0830,-999.0000,-999.000,-999.000
31WTTUNES_3,       P16C,     260,          1,          3,          3,2,19910913,       2016,    -1.3302,  -150.9950,       4853,  4369.8,   1.3959,  34.6957,2,  34.6987,2,    168.6,2,   169.6,2,  142.07,2,   34.47,2,    0.00,2,    2.40,2,   0.003,2,  -0.002,2,  -999.0,9,  -999.0,9,-999.000,9,-999.0000,9, -999.00,9, -999.00,9,  -999.0,9,  -999.0,     1.0390,-999.0000,-999.000,-999.000
31WTTUNES_3,       P16C,     260,          1,          2,          2,2,19910913,       2016,    -1.3302,  -150.9950,       4853,  4629.5,   1.3429,  34.6994,2,  34.7011,2,    181.7,2,   181.8,2,  134.23,2,   33.90,2,    0.00,2,    2.34,2,  -0.001,2,  -0.004,2,  -999.0,9,  -999.0,9,-999.000,9,-999.0000,9, -999.00,9, -999.00,9,  -999.0,9,  -999.0,     0.9578,-999.0000,-999.000,-999.000
31WTTUNES_3,       P16C,     260,          1,          1,          1,2,19910913,       2016,    -1.3302,  -150.9950,       4853,  4907.0,   1.3175,  34.7017,2,  34.7022,2,    187.7,2,   188.9,2,  130.31,2,   33.44,2,    0.00,2,    2.31,2,  -0.003,6,  -0.004,6,  -999.0,9,  -999.0,9,-999.000,9,-999.0000,9, -999.00,9, -999.00,9,  -999.0,9,  -999.0,     0.9005,-999.0000,-999.000,-999.000
31WTTUNES_3,       P16C,     261,          1,          9,          9,3,19910914,       0137,    -1.1680,  -151.0020,       4854,   157.8,  18.5217,  35.5254,2,  34.8263,4,    111.5,2,   113.3,4, -999.00,9, -999.00,9, -999.00,9, -999.00,9,-999.000,9,-999.000,9,  -999.0,9,  -999.0,9,-999.000,9,-999.0000,9, -999.00,9, -999.00,9,  -999.0,9,  -999.0,    18.4939,-999.0000,-999.000,-999.000
31WTTUNES_3,       P16C,     261,          1,          8,          8,2,19910914,       0137,    -1.1680,  -151.0020,       4854,   308.9,  11.6112,  34.8302,2,-999.0000,9,     50.6,2,    52.2,2, -999.00,9, -999.00,9, -999.00,9, -999.00,9,-999.000,9,-999.000,9,  -999.0,9,  -999.0,9,-999.000,9,-999.0000,9, -999.00,9, -999.00,9,  -999.0,9,  -999.0,    11.5716,-999.0000,-999.000,-999.000
31WTTUNES_3,       P16C,     261,          1,          7,          7,2,19910914,       0137,    -1.1680,  -151.0020,       4854,   758.5,   5.8940,  34.5505,2,  34.5510,2,     74.8,2,    74.4,2, -999.00,9, -999.00,9, -999.00,9, -999.00,9,-999.000,9,-999.000,9,  -999.0,9,  -999.0,9,-999.000,9,-999.0000,9, -999.00,9, -999.00,9,  -999.0,9,  -999.0,     5.8269,-999.0000,-999.000,-999.000
31WTTUNES_3,       P16C,     261,          1,          6,          6,2,19910914,       0137,    -1.1680,  -151.0020,       4854,  1500.0,   3.0476,  34.5997,2,  34.5997,2,    100.8,2,   101.2,2, -999.00,9, -999.00,9, -999.00,9, -999.00,9,-999.000,9,-999.000,9,  -999.0,9,  -999.0,9,-999.000,9,-999.0000,9, -999.00,9, -999.00,9,  -999.0,9,  -999.0,     2.9391,-999.0000,-999.000,-999.000
31WTTUNES_3,       P16C,     261,          1,          5,          5,2,19910914,       0137,    -1.1680,  -151.0020,       4854,  2987.8,   1.6839,  34.6740,2,  34.6759,2,    135.3,2,   136.3,2, -999.00,9, -999.00,9, -999.00,9, -999.00,9,-999.000,9,-999.000,9,  -999.0,9,  -999.0,9,-999.000,9,-999.0000,9, -999.00,9, -999.00,9,  -999.0,9,  -999.0,     1.4642,-999.0000,-999.000,-999.000
31WTTUNES_3,       P16C,     261,          1,          4,          4,2,19910914,       0137,    -1.1680,  -151.0020,       4854,  3502.3,   1.5214,  34.6851,2,  34.6844,2,    152.0,2,   152.0,2, -999.00,9, -999.00,9, -999.00,9, -999.00,9,-999.000,9,-999.000,9,  -999.0,9,  -999.0,9,-999.000,9,-999.0000,9, -999.00,9, -999.00,9,  -999.0,9,  -999.0,     1.2545,-999.0000,-999.000,-999.000
31WTTUNES_3,       P16C,     261,          1,          3,          3,2,19910914,       0137,    -1.1680,  -151.0020,       4854,  4020.7,   1.4189,  34.6946,2,  34.6958,2,    165.0,2,   164.2,2, -999.00,9, -999.00,9, -999.00,9, -999.00,9,-999.000,9,-999.000,9,  -999.0,9,  -999.0,9,-999.000,9,-999.0000,9, -999.00,9, -999.00,9,  -999.0,9,  -999.0,     1.0999,-999.0000,-999.000,-999.000
31WTTUNES_3,       P16C,     261,          1,          2,          2,2,19910914,       0137,    -1.1680,  -151.0020,       4854,  4542.7,   1.3432,  34.7008,2,  34.7009,2,    183.5,2,   181.2,2, -999.00,9, -999.00,9, -999.00,9, -999.00,9,-999.000,9,-999.000,9,  -999.0,9,  -999.0,9,-999.000,9,-999.0000,9, -999.00,9, -999.00,9,  -999.0,9,  -999.0,     0.9681,-999.0000,-999.000,-999.000
31WTTUNES_3,       P16C,     261,          1,          1,          1,2,19910914,       0137,    -1.1680,  -151.0020,       4854,  4871.0,   1.3185,  34.7039,2,  34.7044,2,    191.6,2,   192.6,2, -999.00,9, -999.00,9, -999.00,9, -999.00,9,-999.000,9,-999.000,9,  -999.0,9,  -999.0,9,-999.000,9,-999.0000,9, -999.00,9, -999.00,9,  -999.0,9,  -999.0,     0.9057,-999.0000,-999.000,-999.000