BOTTLE,20211117CCHSIORKP
EXPOCODE,SECT_ID,STNNBR,CASTNO,SAMPNO,BTLNBR,BTLNBR_FLAG_W,DATE,TIME,LATITUDE,LONGITUDE,DEPTH,CTDPRS,CTDTMP,CTDSAL,CTDSAL_FLAG_W,SALNTY,SALNTY_FLAG_W,CTDOXY,CTDOXY_FLAG_W,OXYGEN,OXYGEN_FLAG_W,SILCAT,SILCAT_FLAG_W,NITRAT,NITRAT_FLAG_W,NITRIT,NITRIT_FLAG_W,PHSPHT,PHSPHT_FLAG_W,CFC-11,CFC-11_FLAG_W,CFC-12,CFC-12_FLAG_W,TCARBN,TCARBN_FLAG_W,ALKALI,ALKALI_FLAG_W,TRITUM,TRITUM_FLAG_W,HELIUM,HELIUM_FLAG_W,DELHE3,DELHE3_FLAG_W,DELC13,DELC13_FLAG_W,DELC14,DELC14_FLAG_W,C14ERR,THETA,HELIER,DELHER,TRITER
,,,,,,,,,,,METERS,DBAR,ITS-90,PSS-78,,PSS-78,,UMOL/KG,,UMOL/KG,,UMOL/KG,,UMOL/KG,,UMOL/KG,,UMOL/KG,,PMOL/KG,,PMOL/KG,,UMOL/KG,,UMOL/KG,,TU,,NMOL/KG,,PERCNT,,/MILLE,,/MILLE,,/MILLE,ITS-90,NMOL/KG,PERCNT,TU
31WTTUNES_3,       P16C,     240,          1,         36,         36,2,19910907,       2057,    -8.0067,  -150.9953,       4996,     6.4,  28.4540,  35.6942,2,  35.6921,2,    211.0,3,   210.7,2,    0.63,2,    1.72,2,    0.03,2,    0.33,2,   1.601,2,   0.922,3,  -999.0,9,  -999.0,9,-999.000,9,-999.0000,9, -999.00,9, -999.00,9,  -999.0,9,  -999.0,    28.4524,-999.0000,-999.000,-999.000
31WTTUNES_3,       P16C,     240,          1,         35,         35,2,19910907,       2057,    -8.0067,  -150.9953,       4996,    58.1,  28.4547,  35.6943,2,  35.7760,2,    215.7,2,   208.3,2,    0.63,2,    1.46,2,    0.04,2,    0.33,2,   1.582,6,   0.895,6,  -999.0,9,  -999.0,9,-999.000,9,-999.0000,9, -999.00,9, -999.00,9,  -999.0,9,  -999.0,    28.4408,-999.0000,-999.000,-999.000
31WTTUNES_3,       P16C,     240,          1,         34,         34,2,19910907,       2057,    -8.0067,  -150.9953,       4996,   108.2,  28.3991,  35.8719,2,  36.0515,2,    203.9,2,   183.8,2,    0.85,2,    1.17,2,    0.49,2,    0.38,2,   1.594,2,   0.895,2,  -999.0,9,  -999.0,9,-999.000,9,-999.0000,9, -999.00,9, -999.00,9,  -999.0,9,  -999.0,    28.3732,-999.0000,-999.000,-999.000
31WTTUNES_3,       P16C,     240,          1,         33,         33,2,19910907,       2057,    -8.0067,  -150.9953,       4996,   159.3,  24.5858,  36.3720,2,  36.3639,2,    170.7,2,   171.5,2,    0.48,2,    2.83,2,    0.13,2,    0.43,2,   1.750,2,   0.965,2,  -999.0,9,  -999.0,9,-999.000,9,-999.0000,9, -999.00,9, -999.00,9,  -999.0,9,  -999.0,    24.5514,-999.0000,-999.000,-999.000
31WTTUNES_3,       P16C,     240,          1,         32,         32,2,19910907,       2057,    -8.0067,  -150.9953,       4996,   181.9,  23.1024,  36.2808,2,  36.2115,2,    171.1,2,   170.7,2,    0.50,2,    3.94,2,    0.01,2,    0.48,2,   1.819,2,   0.987,2,  -999.0,9,  -999.0,9,-999.000,9,-999.0000,9, -999.00,9, -999.00,9,  -999.0,9,  -999.0,    23.0649,-999.0000,-999.000,-999.000
31WTTUNES_3,       P16C,     240,          1,         31,         31,2,19910907,       2057,    -8.0067,  -150.9953,       4996,   209.1,  21.1799,  35.9771,2,  35.8684,2,    167.2,2,   162.9,2,    1.28,2,    5.61,2,    0.02,2,    0.58,2,   1.836,6,   1.000,6,  -999.0,9,  -999.0,9,-999.000,9,-999.0000,9, -999.00,9, -999.00,9,  -999.0,9,  -999.0,    21.1394,-999.0000,-999.000,-999.000
31WTTUNES_3,       P16C,     240,          1,         30,         30,2,19910907,       2057,    -8.0067,  -150.9953,       4996,   232.0,  18.7029,  35.5661,2,  35.5815,2,    149.6,2,   148.2,2,    2.65,2,    7.81,2,    0.01,2,    0.77,2,   1.690,2,   0.923,2,  -999.0,9,  -999.0,9,-999.000,9,-999.0000,9, -999.00,9, -999.00,9,  -999.0,9,  -999.0,    18.6618,-999.0000,-999.000,-999.000
31WTTUNES_3,       P16C,     240,          1,         29,         29,2,19910907,       2057,    -8.0067,  -150.9953,       4996,   257.0,  15.6152,  35.1515,2,  35.2481,2,    116.7,2,   116.4,2,    5.75,2,   13.37,2,    0.02,2,    1.19,2,   1.314,2,   0.713,2,  -999.0,9,  -999.0,9,-999.000,9,-999.0000,9, -999.00,9, -999.00,9,  -999.0,9,  -999.0,    15.5750,-999.0000,-999.000,-999.000
31WTTUNES_3,       P16C,     240,          1,         28,         28,2,19910907,       2057,    -8.0067,  -150.9953,       4996,   279.5,  13.2438,  34.9363,2,  34.9331,2,     75.0,2,    71.3,2,   12.70,2,   21.36,2,    0.03,2,    1.80,2,   0.757,2,   0.424,2,  -999.0,9,  -999.0,9,-999.000,9,-999.0000,9, -999.00,9, -999.00,9,  -999.0,9,  -999.0,    13.2047,-999.0000,-999.000,-999.000
31WTTUNES_3,       P16C,     240,          1,         27,         27,2,19910907,       2057,    -8.0067,  -150.9953,       4996,   303.8,  12.0954,  34.8597,2,  34.9223,3,     62.9,2,    65.6,2,   14.65,2,   23.91,2,    0.01,2,    1.93,2,   0.628,2,   0.362,2,  -999.0,9,  -999.0,9,-999.000,9,-999.0000,9, -999.00,9, -999.00,9,  -999.0,9,  -999.0,    12.0555,-999.0000,-999.000,-999.000
31WTTUNES_3,       P16C,     240,          1,         26,         26,2,19910907,       2057,    -8.0067,  -150.9953,       4996,   403.0,   9.7069,  34.7165,2,  34.6971,2,     65.7,2,    69.8,2,   27.98,2,   31.76,2,    0.01,2,    2.25,2,   0.074,6,   0.051,6,  -999.0,9,  -999.0,9,-999.000,9,-999.0000,9, -999.00,9, -999.00,9,  -999.0,9,  -999.0,     9.6606,-999.0000,-999.000,-999.000
31WTTUNES_3,       P16C,     240,          1,         25,         25,2,19910907,       2057,    -8.0067,  -150.9953,       4996,   508.9,   8.0938,  34.6249,2,  34.6099,2,     80.0,2,    81.1,2,   34.56,2,   35.14,2,    0.00,2,    2.40,2,   0.060,2,   0.040,2,  -999.0,9,  -999.0,9,-999.000,9,-999.0000,9, -999.00,9, -999.00,9,  -999.0,9,  -999.0,     8.0412,-999.0000,-999.000,-999.000
31WTTUNES_3,       P16C,     240,          1,         24,         24,2,19910907,       2057,    -8.0067,  -150.9953,       4996,   615.4,   6.6534,  34.5592,2,  34.5578,2,     84.1,2,    83.2,2,   43.45,2,   37.23,2,    0.00,2,    2.54,2,   0.014,6,   0.018,6,  -999.0,9,  -999.0,9,-999.000,9,-999.0000,9, -999.00,9, -999.00,9,  -999.0,9,  -999.0,     6.5960,-999.0000,-999.000,-999.000
31WTTUNES_3,       P16C,     240,          1,         23,         23,2,19910907,       2057,    -8.0067,  -150.9953,       4996,   719.6,   5.9544,  34.5404,2,  34.5408,2,     84.5,2,    83.2,2,   51.57,2,   38.48,2,    0.00,2,    2.71,2,  -0.001,2,   0.000,2,  -999.0,9,  -999.0,9,-999.000,9,-999.0000,9, -999.00,9, -999.00,9,  -999.0,9,  -999.0,     5.8906,-999.0000,-999.000,-999.000
31WTTUNES_3,       P16C,     240,          1,         22,         22,2,19910907,       2057,    -8.0067,  -150.9953,       4996,   819.4,   5.3474,  34.5319,2,  34.5294,2,     93.2,2,    94.3,2,   59.90,2,   38.38,2,    0.00,2,    2.70,2,  -0.001,2,   0.001,2,  -999.0,9,  -999.0,9,-999.000,9,-999.0000,9, -999.00,9, -999.00,9,  -999.0,9,  -999.0,     5.2780,-999.0000,-999.000,-999.000
31WTTUNES_3,       P16C,     240,          1,         21,         21,2,19910907,       2057,    -8.0067,  -150.9953,       4996,   919.6,   4.9216,  34.5364,2,  34.5329,2,     96.4,2,    94.9,2,   69.19,2,   38.80,2,    0.00,2,    2.71,2,   0.007,2,   0.022,4,  -999.0,9,  -999.0,9,-999.000,9,-999.0000,9, -999.00,9, -999.00,9,  -999.0,9,  -999.0,     4.8460,-999.0000,-999.000,-999.000
31WTTUNES_3,       P16C,     240,          1,         20,         20,2,19910907,       2057,    -8.0067,  -150.9953,       4996,  1018.8,   4.3716,  34.5422,2,  34.5415,2,    106.5,2,   107.0,2,   78.67,2,   38.05,2,    0.00,2,    2.70,2,   0.001,6,  -0.002,2,  -999.0,9,  -999.0,9,-999.000,9,-999.0000,9, -999.00,9, -999.00,9,  -999.0,9,  -999.0,     4.2914,-999.0000,-999.000,-999.000
31WTTUNES_3,       P16C,     240,          1,         19,         19,2,19910907,       2057,    -8.0067,  -150.9953,       4996,  1224.4,   3.7039,  34.5630,2,  34.5600,2,    112.9,2,   113.2,2,   91.83,2,   38.10,2,    0.00,2,    2.68,2,   0.004,2,  -0.005,2,  -999.0,9,  -999.0,9,-999.000,9,-999.0000,9, -999.00,9, -999.00,9,  -999.0,9,  -999.0,     3.6119,-999.0000,-999.000,-999.000
31WTTUNES_3,       P16C,     240,          1,         18,         18,2,19910907,       2057,    -8.0067,  -150.9953,       4996,  1429.8,   3.1975,  34.5864,2,  34.5785,2,    113.9,2,   113.2,2,  102.49,2,   38.09,2,    0.00,2,    2.71,2,-999.000,9,-999.000,9,  -999.0,9,  -999.0,9,-999.000,9,-999.0000,9, -999.00,9, -999.00,9,  -999.0,9,  -999.0,     3.0934,-999.0000,-999.000,-999.000
31WTTUNES_3,       P16C,     240,          1,         17,         17,2,19910907,       2057,    -8.0067,  -150.9953,       4996,  1635.0,   2.8445,  34.6046,2,  34.5920,3,    116.5,2,   114.5,2,  108.69,3,   38.00,2,    0.00,2,    2.71,2,-999.000,9,-999.000,9,  -999.0,9,  -999.0,9,-999.000,9,-999.0000,9, -999.00,9, -999.00,9,  -999.0,9,  -999.0,     2.7271,-999.0000,-999.000,-999.000
31WTTUNES_3,       P16C,     240,          1,         16,         16,2,19910907,       2057,    -8.0067,  -150.9953,       4996,  1790.5,   2.5214,  34.6207,2,  34.6181,2,    122.1,2,   122.9,2,  120.89,2,   37.90,2,    0.00,2,    2.67,2,-999.000,9,-999.000,9,  -999.0,9,  -999.0,9,-999.000,9,-999.0000,9, -999.00,9, -999.00,9,  -999.0,9,  -999.0,     2.3951,-999.0000,-999.000,-999.000
31WTTUNES_3,       P16C,     240,          1,         15,         15,2,19910907,       2057,    -8.0067,  -150.9953,       4996,  1977.2,   2.2681,  34.6363,2,  34.6333,2,    129.1,2,   130.0,2,  125.38,2,   37.04,2,    0.01,2,    2.61,2,-999.000,9,-999.000,9,  -999.0,9,  -999.0,9,-999.000,9,-999.0000,9, -999.00,9, -999.00,9,  -999.0,9,  -999.0,     2.1295,-999.0000,-999.000,-999.000
31WTTUNES_3,       P16C,     240,          1,         14,         14,2,19910907,       2057,    -8.0067,  -150.9953,       4996,  2201.9,   2.0582,  34.6501,2,  34.6504,2,    137.1,2,   138.8,2,  128.50,2,   36.59,2,    0.00,2,    2.56,2,-999.000,9,-999.000,9,  -999.0,9,  -999.0,9,-999.000,9,-999.0000,9, -999.00,9, -999.00,9,  -999.0,9,  -999.0,     1.9035,-999.0000,-999.000,-999.000
31WTTUNES_3,       P16C,     240,          1,         13,         13,2,19910907,       2057,    -8.0067,  -150.9953,       4996,  2403.5,   1.9082,  34.6614,2,  34.6649,2,    141.3,2,   143.4,2,  132.02,2,   36.15,2,    0.01,2,    2.52,2,-999.000,9,-999.000,9,  -999.0,9,  -999.0,9,-999.000,9,-999.0000,9, -999.00,9, -999.00,9,  -999.0,9,  -999.0,     1.7383,-999.0000,-999.000,-999.000
31WTTUNES_3,       P16C,     240,          1,         12,         12,2,19910907,       2057,    -8.0067,  -150.9953,       4996,  2606.8,   1.8072,  34.6706,2,  34.6667,2,    143.1,2,   145.6,2,  135.53,2,   35.60,3,    0.00,2,    2.47,3,-999.000,9,-999.000,9,  -999.0,9,  -999.0,9,-999.000,9,-999.0000,9, -999.00,9, -999.00,9,  -999.0,9,  -999.0,     1.6207,-999.0000,-999.000,-999.000
31WTTUNES_3,       P16C,     240,          1,         11,         11,2,19910907,       2057,    -8.0067,  -150.9953,       4996,  2812.1,   1.7436,  34.6754,2,  34.6763,2,    145.6,2,   146.2,2,  137.90,2,   35.95,2,    0.01,2,    2.52,2,-999.000,9,-999.000,9,  -999.0,9,  -999.0,9,-999.000,9,-999.0000,9, -999.00,9, -999.00,9,  -999.0,9,  -999.0,     1.5393,-999.0000,-999.000,-999.000
31WTTUNES_3,       P16C,     240,          1,         10,         10,2,19910907,       2057,    -8.0067,  -150.9953,       4996,  3016.6,   1.6587,  34.6810,2,  34.6787,2,    150.7,2,   150.7,2,  138.79,2,   35.62,3,    0.01,2,    2.45,3,-999.000,9,-999.000,9,  -999.0,9,  -999.0,9,-999.000,9,-999.0000,9, -999.00,9, -999.00,9,  -999.0,9,  -999.0,     1.4369,-999.0000,-999.000,-999.000
31WTTUNES_3,       P16C,     240,          1,          9,          9,2,19910907,       2057,    -8.0067,  -150.9953,       4996,  3224.9,   1.5780,  34.6845,2,  34.6834,2,    155.6,2,   155.8,2,  138.82,2,   35.64,2,    0.00,2,    2.49,2,-999.000,9,-999.000,9,  -999.0,9,  -999.0,9,-999.000,9,-999.0000,9, -999.00,9, -999.00,9,  -999.0,9,  -999.0,     1.3376,-999.0000,-999.000,-999.000
31WTTUNES_3,       P16C,     240,          1,          8,          8,2,19910907,       2057,    -8.0067,  -150.9953,       4996,  3484.4,   1.5183,  34.6884,2,  34.6861,2,    160.8,2,   161.2,2,  138.09,2,   35.21,2,    0.00,2,    2.43,2,-999.000,9,-999.000,9,  -999.0,9,  -999.0,9,-999.000,9,-999.0000,9, -999.00,9, -999.00,9,  -999.0,9,  -999.0,     1.2533,-999.0000,-999.000,-999.000
31WTTUNES_3,       P16C,     240,          1,          7,          7,2,19910907,       2057,    -8.0067,  -150.9953,       4996,  3741.1,   1.4559,  34.6918,2,  34.6912,2,    168.6,2,   168.6,2,  134.45,2,   34.52,2,    0.00,2,    2.42,2,-999.000,9,-999.000,9,  -999.0,9,  -999.0,9,-999.000,9,-999.0000,9, -999.00,9, -999.00,9,  -999.0,9,  -999.0,     1.1658,-999.0000,-999.000,-999.000
31WTTUNES_3,       P16C,     240,          1,          6,          6,2,19910907,       2057,    -8.0067,  -150.9953,       4996,  3995.4,   1.3884,  34.6963,2,  34.6961,2,    176.4,2,   176.9,2,  131.40,2,   34.42,2,    0.00,2,    2.37,2,-999.000,9,-999.000,9,  -999.0,9,  -999.0,9,-999.000,9,-999.0000,9, -999.00,9, -999.00,9,  -999.0,9,  -999.0,     1.0730,-999.0000,-999.000,-999.000
31WTTUNES_3,       P16C,     240,          1,          5,          5,2,19910907,       2057,    -8.0067,  -150.9953,       4996,  4252.1,   1.3675,  34.6983,2,  34.6983,2,    181.4,2,   182.1,2,  128.92,2,   34.19,2,    0.00,2,    2.35,2,-999.000,9,-999.000,9,  -999.0,9,  -999.0,9,-999.000,9,-999.0000,9, -999.00,9, -999.00,9,  -999.0,9,  -999.0,     1.0246,-999.0000,-999.000,-999.000
31WTTUNES_3,       P16C,     240,          1,          4,          4,2,19910907,       2057,    -8.0067,  -150.9953,       4996,  4512.4,   1.3599,  34.6996,2,  34.7009,2,    185.0,2,   185.2,2,  128.38,2,   33.81,2,    0.00,2,    2.34,2,-999.000,9,-999.000,9,  -999.0,9,  -999.0,9,-999.000,9,-999.0000,9, -999.00,9, -999.00,9,  -999.0,9,  -999.0,     0.9878,-999.0000,-999.000,-999.000
31WTTUNES_3,       P16C,     240,          1,          3,          3,2,19910907,       2057,    -8.0067,  -150.9953,       4996,  4775.0,   1.3594,  34.7011,2,  34.7020,2,    188.6,2,   187.9,2,  126.28,2,   33.62,2,    0.00,2,    2.31,2,-999.000,9,-999.000,9,  -999.0,9,  -999.0,9,-999.000,9,-999.0000,9, -999.00,9, -999.00,9,  -999.0,9,  -999.0,     0.9567,-999.0000,-999.000,-999.000
31WTTUNES_3,       P16C,     240,          1,          2,          2,2,19910907,       2057,    -8.0067,  -150.9953,       4996,  4985.4,   1.3715,  34.7015,2,  34.7022,2,    190.9,2,   188.5,2,  126.12,2,   33.53,2,    0.00,2,    2.30,2,-999.000,9,-999.000,9,  -999.0,9,  -999.0,9,-999.000,9,-999.0000,9, -999.00,9, -999.00,9,  -999.0,9,  -999.0,     0.9433,-999.0000,-999.000,-999.000
31WTTUNES_3,       P16C,     240,          1,          1,          1,2,19910907,       2057,    -8.0067,  -150.9953,       4996,  5169.0,   1.3884,  34.7018,2,  34.7036,2,    191.2,2,   189.3,2,  126.36,2,   33.52,2,    0.00,2,    2.31,2,-999.000,9,-999.000,9,  -999.0,9,  -999.0,9,-999.000,9,-999.0000,9, -999.00,9, -999.00,9,  -999.0,9,  -999.0,     0.9372,-999.0000,-999.000,-999.000