BOTTLE,20211117CCHSIORKP
EXPOCODE,SECT_ID,STNNBR,CASTNO,SAMPNO,BTLNBR,BTLNBR_FLAG_W,DATE,TIME,LATITUDE,LONGITUDE,DEPTH,CTDPRS,CTDTMP,CTDSAL,CTDSAL_FLAG_W,SALNTY,SALNTY_FLAG_W,CTDOXY,CTDOXY_FLAG_W,OXYGEN,OXYGEN_FLAG_W,SILCAT,SILCAT_FLAG_W,NITRAT,NITRAT_FLAG_W,NITRIT,NITRIT_FLAG_W,PHSPHT,PHSPHT_FLAG_W,CFC-11,CFC-11_FLAG_W,CFC-12,CFC-12_FLAG_W,TCARBN,TCARBN_FLAG_W,ALKALI,ALKALI_FLAG_W,TRITUM,TRITUM_FLAG_W,HELIUM,HELIUM_FLAG_W,DELHE3,DELHE3_FLAG_W,DELC13,DELC13_FLAG_W,DELC14,DELC14_FLAG_W,C14ERR,THETA,HELIER,DELHER,TRITER
,,,,,,,,,,,METERS,DBAR,ITS-90,PSS-78,,PSS-78,,UMOL/KG,,UMOL/KG,,UMOL/KG,,UMOL/KG,,UMOL/KG,,UMOL/KG,,PMOL/KG,,PMOL/KG,,UMOL/KG,,UMOL/KG,,TU,,NMOL/KG,,PERCNT,,/MILLE,,/MILLE,,/MILLE,ITS-90,NMOL/KG,PERCNT,TU
31WTTUNES_3,       P16C,     232,          1,         36,         36,2,19910904,       2004,   -12.0037,  -150.9988,       4888,     6.3,  28.2806,  36.1477,2,  36.1432,2,    207.2,3,   227.2,2,    0.97,2,    0.16,2,    0.00,2,    0.24,2,   1.597,2,   0.895,2,  -999.0,9,  -999.0,9,-999.000,9,-999.0000,9, -999.00,9, -999.00,9,  -999.0,9,  -999.0,    28.2791,-999.0000,-999.000,-999.000
31WTTUNES_3,       P16C,     232,          1,         35,         35,2,19910904,       2004,   -12.0037,  -150.9988,       4888,    47.9,  28.0207,  36.2004,2,  36.1891,2,    208.8,2,   212.4,2,    0.97,2,    0.16,2,    0.00,2,    0.24,2,   1.589,2,   0.893,2,  -999.0,9,  -999.0,9,-999.000,9,-999.0000,9, -999.00,9, -999.00,9,  -999.0,9,  -999.0,    28.0094,-999.0000,-999.000,-999.000
31WTTUNES_3,       P16C,     232,          1,         34,         34,2,19910904,       2004,   -12.0037,  -150.9988,       4888,    87.5,  27.7833,  36.3173,2,  36.3354,2,    202.7,2,   207.0,2,    1.16,2,    0.27,2,    0.06,2,    0.28,2,   1.650,2,   0.925,2,  -999.0,9,  -999.0,9,-999.000,9,-999.0000,9, -999.00,9, -999.00,9,  -999.0,9,  -999.0,    27.7627,-999.0000,-999.000,-999.000
31WTTUNES_3,       P16C,     232,          1,         33,         33,2,19910904,       2004,   -12.0037,  -150.9988,       4888,   127.2,  26.3789,  36.3657,2,  36.3689,2,    190.7,2,   184.1,2,    1.36,2,    0.02,2,    1.55,2,    0.45,2,   1.738,2,   0.959,2,  -999.0,9,  -999.0,9,-999.000,9,-999.0000,9, -999.00,9, -999.00,9,  -999.0,9,  -999.0,    26.3501,-999.0000,-999.000,-999.000
31WTTUNES_3,       P16C,     232,          1,         32,         32,2,19910904,       2004,   -12.0037,  -150.9988,       4888,   165.9,  24.5182,  36.3730,2,  36.3287,2,    177.6,2,   182.0,2,    1.16,2,    1.16,2,    0.08,2,    0.30,2,   1.806,6,   0.985,6,  -999.0,9,  -999.0,9,-999.000,9,-999.0000,9, -999.00,9, -999.00,9,  -999.0,9,  -999.0,    24.4825,-999.0000,-999.000,-999.000
31WTTUNES_3,       P16C,     232,          1,         31,         31,2,19910904,       2004,   -12.0037,  -150.9988,       4888,   205.5,  21.9546,  36.1373,2,  36.1676,2,    177.1,2,   178.4,2,    1.16,2,    1.29,2,    0.01,2,    0.32,2,   1.877,2,   1.023,2,  -999.0,9,  -999.0,9,-999.000,9,-999.0000,9, -999.00,9, -999.00,9,  -999.0,9,  -999.0,    21.9137,-999.0000,-999.000,-999.000
31WTTUNES_3,       P16C,     232,          1,         30,         30,2,19910904,       2004,   -12.0037,  -150.9988,       4888,   258.0,  18.5113,  35.5083,2,  35.5409,2,    163.9,2,   166.8,2,    2.33,2,    3.75,2,    0.01,2,    0.48,2,   1.737,2,   0.935,2,  -999.0,9,  -999.0,9,-999.000,9,-999.0000,9, -999.00,9, -999.00,9,  -999.0,9,  -999.0,    18.4659,-999.0000,-999.000,-999.000
31WTTUNES_3,       P16C,     232,          1,         29,         29,2,19910904,       2004,   -12.0037,  -150.9988,       4888,   308.2,  14.2162,  34.9612,2,  34.9272,2,    123.5,2,   120.7,2,    7.75,2,   13.29,2,    0.02,2,    1.27,2,   1.090,6,   0.593,6,  -999.0,9,  -999.0,9,-999.000,9,-999.0000,9, -999.00,9, -999.00,9,  -999.0,9,  -999.0,    14.1710,-999.0000,-999.000,-999.000
31WTTUNES_3,       P16C,     232,          1,         28,         28,2,19910904,       2004,   -12.0037,  -150.9988,       4888,   359.6,  11.4330,  34.7184,2,  34.7235,2,     88.1,2,    89.1,2,   14.93,2,   22.18,2,    0.20,2,    1.86,2,   0.473,2,   0.268,2,  -999.0,9,  -999.0,9,-999.000,9,-999.0000,9, -999.00,9, -999.00,9,  -999.0,9,  -999.0,    11.3873,-999.0000,-999.000,-999.000
31WTTUNES_3,       P16C,     232,          1,         27,         27,2,19910904,       2004,   -12.0037,  -150.9988,       4888,   409.5,   9.6580,  34.6470,2,  34.6458,2,     80.6,2,    83.0,2,   22.69,2,   27.82,2,    0.08,2,    2.09,2,   0.144,6,   0.086,6,  -999.0,9,  -999.0,9,-999.000,9,-999.0000,9, -999.00,9, -999.00,9,  -999.0,9,  -999.0,     9.6111,-999.0000,-999.000,-999.000
31WTTUNES_3,       P16C,     232,          1,         26,         26,2,19910904,       2004,   -12.0037,  -150.9988,       4888,   510.9,   7.6209,  34.5844,2,  34.5796,2,     94.4,2,    93.4,2,   33.95,2,   32.20,2,    0.03,2,    2.27,2,   0.026,2,   0.018,2,  -999.0,9,  -999.0,9,-999.000,9,-999.0000,9, -999.00,9, -999.00,9,  -999.0,9,  -999.0,     7.5699,-999.0000,-999.000,-999.000
31WTTUNES_3,       P16C,     232,          1,         25,         25,2,19910904,       2004,   -12.0037,  -150.9988,       4888,   612.7,   6.5026,  34.5421,2,  34.5376,2,     92.7,2,    92.5,2,   44.04,2,   34.95,2,    0.01,2,    2.41,2,   0.008,2,   0.004,2,  -999.0,9,  -999.0,9,-999.000,9,-999.0000,9, -999.00,9, -999.00,9,  -999.0,9,  -999.0,     6.4463,-999.0000,-999.000,-999.000
31WTTUNES_3,       P16C,     232,          1,         24,         24,2,19910904,       2004,   -12.0037,  -150.9988,       4888,   715.1,   5.8036,  34.5266,2,  34.5221,2,     92.6,2,    93.2,2,   51.82,2,   34.34,3,    0.01,2,    2.49,2,   0.005,2,   0.004,2,  -999.0,9,  -999.0,9,-999.000,9,-999.0000,9, -999.00,9, -999.00,9,  -999.0,9,  -999.0,     5.7411,-999.0000,-999.000,-999.000
31WTTUNES_3,       P16C,     232,          1,         23,         23,2,19910904,       2004,   -12.0037,  -150.9988,       4888,   819.7,   5.2516,  34.5206,2,  34.5207,2,     94.9,2,    91.5,2,   59.39,2,   37.38,2,    0.00,2,    2.63,2,   0.011,3,   0.000,2,  -999.0,9,  -999.0,9,-999.000,9,-999.0000,9, -999.00,9, -999.00,9,  -999.0,9,  -999.0,     5.1829,-999.0000,-999.000,-999.000
31WTTUNES_3,       P16C,     232,          1,         22,         22,2,19910904,       2004,   -12.0037,  -150.9988,       4888,   922.0,   4.7877,  34.5221,2,  34.5282,2,    102.2,2,   100.6,2,   66.79,2,   36.65,2,    0.01,2,    2.59,2,   0.004,2,   0.003,2,  -999.0,9,  -999.0,9,-999.000,9,-999.0000,9, -999.00,9, -999.00,9,  -999.0,9,  -999.0,     4.7128,-999.0000,-999.000,-999.000
31WTTUNES_3,       P16C,     232,          1,         21,         21,2,19910904,       2004,   -12.0037,  -150.9988,       4888,  1025.6,   4.4199,  34.5289,2,  34.5286,2,    106.9,2,   104.1,2,   73.60,2,   37.70,2,    0.01,2,    2.65,2,-999.000,9,-999.000,9,  -999.0,9,  -999.0,9,-999.000,9,-999.0000,9, -999.00,9, -999.00,9,  -999.0,9,  -999.0,     4.3389,-999.0000,-999.000,-999.000
31WTTUNES_3,       P16C,     232,          1,         20,         20,2,19910904,       2004,   -12.0037,  -150.9988,       4888,  1128.7,   4.0032,  34.5362,2,  34.5404,2,    120.8,2,   119.4,2,   78.46,2,   37.31,2,    0.01,2,    2.63,2,-999.000,9,-999.000,9,  -999.0,9,  -999.0,9,-999.000,9,-999.0000,9, -999.00,9, -999.00,9,  -999.0,9,  -999.0,     3.9167,-999.0000,-999.000,-999.000
31WTTUNES_3,       P16C,     232,          1,         19,         19,2,19910904,       2004,   -12.0037,  -150.9988,       4888,  1232.6,   3.6211,  34.5566,2,  34.5561,2,    116.9,2,   114.6,2,   89.94,2,   36.10,3,    0.01,2,    2.59,3,   0.002,2,   0.003,2,  -999.0,9,  -999.0,9,-999.000,9,-999.0000,9, -999.00,9, -999.00,9,  -999.0,9,  -999.0,     3.5292,-999.0000,-999.000,-999.000
31WTTUNES_3,       P16C,     232,          1,         18,         18,2,19910904,       2004,   -12.0037,  -150.9988,       4888,  1335.0,   3.2959,  34.5728,2,  34.5698,2,    119.5,2,   117.8,2,   97.53,2,   35.86,4,    0.03,4,    2.52,4,-999.000,9,-999.000,9,  -999.0,9,  -999.0,9,-999.000,9,-999.0000,9, -999.00,9, -999.00,9,  -999.0,9,  -999.0,     3.1985,-999.0000,-999.000,-999.000
31WTTUNES_3,       P16C,     232,          1,         17,         17,2,19910904,       2004,   -12.0037,  -150.9988,       4888,  1436.9,   3.0601,  34.5837,2,  34.5861,2,    123.9,2,   121.7,2,  101.63,2,   37.67,2,    0.01,2,    2.67,2,-999.000,9,-999.000,9,  -999.0,9,  -999.0,9,-999.000,9,-999.0000,9, -999.00,9, -999.00,9,  -999.0,9,  -999.0,     2.9568,-999.0000,-999.000,-999.000
31WTTUNES_3,       P16C,     232,          1,         16,         16,2,19910904,       2004,   -12.0037,  -150.9988,       4888,  1634.3,   2.6620,  34.6074,2,  34.6075,2,    129.5,2,   129.2,2,  112.53,2,   36.96,2,    0.01,2,    2.61,2,-999.000,9,-999.000,9,  -999.0,9,  -999.0,9,-999.000,9,-999.0000,9, -999.00,9, -999.00,9,  -999.0,9,  -999.0,     2.5470,-999.0000,-999.000,-999.000
31WTTUNES_3,       P16C,     232,          1,         15,         15,2,19910904,       2004,   -12.0037,  -150.9988,       4888,  1818.1,   2.3934,  34.6244,2,  34.6248,2,    135.4,2,   134.2,2,  117.80,2,   35.57,4,    0.01,2,    2.52,4,-999.000,9,-999.000,9,  -999.0,9,  -999.0,9,-999.000,9,-999.0000,9, -999.00,9, -999.00,9,  -999.0,9,  -999.0,     2.2666,-999.0000,-999.000,-999.000
31WTTUNES_3,       P16C,     232,          1,         14,         14,2,19910904,       2004,   -12.0037,  -150.9988,       4888,  2051.0,   2.1143,  34.6415,2,  34.6409,2,    145.1,2,   147.0,2,  119.57,2,   35.84,4,    0.01,2,    2.51,4,-999.000,9,-999.000,9,  -999.0,9,  -999.0,9,-999.000,9,-999.0000,9, -999.00,9, -999.00,9,  -999.0,9,  -999.0,     1.9717,-999.0000,-999.000,-999.000
31WTTUNES_3,       P16C,     232,          1,         13,         13,2,19910904,       2004,   -12.0037,  -150.9988,       4888,  2199.6,   2.0254,  34.6490,2,  34.6482,2,    147.8,2,   148.8,2,  122.51,2,   35.21,4,    0.06,4,    2.47,4,-999.000,9,-999.000,9,  -999.0,9,  -999.0,9,-999.000,9,-999.0000,9, -999.00,9, -999.00,9,  -999.0,9,  -999.0,     1.8716,-999.0000,-999.000,-999.000
31WTTUNES_3,       P16C,     232,          1,         12,         12,2,19910904,       2004,   -12.0037,  -150.9988,       4888,  2374.4,   1.9265,  34.6589,2,-999.0000,9,    148.6,2,   148.6,2,  127.40,2,   33.41,4,    0.01,2,    2.35,4,-999.000,9,-999.000,9,  -999.0,9,  -999.0,9,-999.000,9,-999.0000,9, -999.00,9, -999.00,9,  -999.0,9,  -999.0,     1.7589,-999.0000,-999.000,-999.000
31WTTUNES_3,       P16C,     232,          1,         11,         11,2,19910904,       2004,   -12.0037,  -150.9988,       4888,  2596.4,   1.8365,  34.6682,2,  34.6673,2,    147.6,2,   147.6,2,  132.86,2,   34.97,4,    0.03,2,    2.46,4,-999.000,9,-999.000,9,  -999.0,9,  -999.0,9,-999.000,9,-999.0000,9, -999.00,9, -999.00,9,  -999.0,9,  -999.0,     1.6504,-999.0000,-999.000,-999.000
31WTTUNES_3,       P16C,     232,          1,         10,         10,2,19910904,       2004,   -12.0037,  -150.9988,       4888,  2762.7,   1.7807,  34.6728,2,  34.6712,2,    150.9,2,   151.0,2,  133.66,2,   35.50,4,    0.01,4,    2.46,4,-999.000,9,-999.000,9,  -999.0,9,  -999.0,9,-999.000,9,-999.0000,9, -999.00,9, -999.00,9,  -999.0,9,  -999.0,     1.5803,-999.0000,-999.000,-999.000
31WTTUNES_3,       P16C,     232,          1,          9,          9,2,19910904,       2004,   -12.0037,  -150.9988,       4888,  2983.0,   1.7216,  34.6766,2,  34.6785,2,    153.4,2,   153.4,2,  135.05,2,   35.85,2,    0.01,2,    2.50,2,-999.000,9,-999.000,9,  -999.0,9,  -999.0,9,-999.000,9,-999.0000,9, -999.00,9, -999.00,9,  -999.0,9,  -999.0,     1.5016,-999.0000,-999.000,-999.000
31WTTUNES_3,       P16C,     232,          1,          8,          8,2,19910904,       2004,   -12.0037,  -150.9988,       4888,  3203.7,   1.6602,  34.6804,2,  34.6793,2,    158.5,2,   157.7,2,  134.69,2,   35.74,2,    0.01,2,    2.48,2,-999.000,9,-999.000,9,  -999.0,9,  -999.0,9,-999.000,9,-999.0000,9, -999.00,9, -999.00,9,  -999.0,9,  -999.0,     1.4200,-999.0000,-999.000,-999.000
31WTTUNES_3,       P16C,     232,          1,          7,          7,2,19910904,       2004,   -12.0037,  -150.9988,       4888,  3476.3,   1.5639,  34.6860,2,  34.6954,3,    166.3,2,   167.3,2,  131.41,2,   35.08,2,    0.01,2,    2.43,2,-999.000,9,-999.000,9,  -999.0,9,  -999.0,9,-999.000,9,-999.0000,9, -999.00,9, -999.00,9,  -999.0,9,  -999.0,     1.2986,-999.0000,-999.000,-999.000
31WTTUNES_3,       P16C,     232,          1,          6,          6,2,19910904,       2004,   -12.0037,  -150.9988,       4888,  3752.3,   1.4813,  34.6909,2,  34.6928,2,    175.1,2,   176.4,2,  128.13,2,   34.42,2,    0.01,2,    2.38,2,-999.000,9,-999.000,9,  -999.0,9,  -999.0,9,-999.000,9,-999.0000,9, -999.00,9, -999.00,9,  -999.0,9,  -999.0,     1.1894,-999.0000,-999.000,-999.000
31WTTUNES_3,       P16C,     232,          1,          5,          5,2,19910904,       2004,   -12.0037,  -150.9988,       4888,  3972.6,   1.4267,  34.6947,2,  34.6981,2,    180.8,2,   181.2,2,  126.79,2,   34.04,2,    0.01,2,    2.36,2,-999.000,9,-999.000,9,  -999.0,9,  -999.0,9,-999.000,9,-999.0000,9, -999.00,9, -999.00,9,  -999.0,9,  -999.0,     1.1127,-999.0000,-999.000,-999.000
31WTTUNES_3,       P16C,     232,          1,          4,          4,2,19910904,       2004,   -12.0037,  -150.9988,       4888,  4246.1,   1.3509,  34.6995,2,  34.7003,2,    186.4,2,   187.5,2,  125.06,2,   33.62,2,    0.01,2,    2.31,2,-999.000,9,-999.000,9,  -999.0,9,  -999.0,9,-999.000,9,-999.0000,9, -999.00,9, -999.00,9,  -999.0,9,  -999.0,     1.0091,-999.0000,-999.000,-999.000
31WTTUNES_3,       P16C,     232,          1,          3,          3,2,19910904,       2004,   -12.0037,  -150.9988,       4888,  4520.6,   1.3050,  34.7026,2,  34.7028,2,    192.5,2,   192.1,2,  124.11,2,   33.39,2,    0.00,2,    2.30,2,-999.000,9,-999.000,9,  -999.0,9,  -999.0,9,-999.000,9,-999.0000,9, -999.00,9, -999.00,9,  -999.0,9,  -999.0,     0.9336,-999.0000,-999.000,-999.000
31WTTUNES_3,       P16C,     232,          1,          2,          2,2,19910904,       2004,   -12.0037,  -150.9988,       4888,  4743.0,   1.2933,  34.7041,2,  34.7048,2,    196.4,2,   194.8,2,  123.54,2,   33.19,2,    0.00,2,    2.28,2,-999.000,9,-999.000,9,  -999.0,9,  -999.0,9,-999.000,9,-999.0000,9, -999.00,9, -999.00,9,  -999.0,9,  -999.0,     0.8965,-999.0000,-999.000,-999.000
31WTTUNES_3,       P16C,     232,          1,          1,          1,2,19910904,       2004,   -12.0037,  -150.9988,       4888,  4947.0,   1.2891,  34.7056,2,  34.7097,3,    197.7,2,   196.4,2,  122.99,2,   32.99,2,    0.00,2,    2.27,2,-999.000,9,-999.000,9,  -999.0,9,  -999.0,9,-999.000,9,-999.0000,9, -999.00,9, -999.00,9,  -999.0,9,  -999.0,     0.8683,-999.0000,-999.000,-999.000