BOTTLE,20211117CCHSIORKP
EXPOCODE,SECT_ID,STNNBR,CASTNO,SAMPNO,BTLNBR,BTLNBR_FLAG_W,DATE,TIME,LATITUDE,LONGITUDE,DEPTH,CTDPRS,CTDTMP,CTDSAL,CTDSAL_FLAG_W,SALNTY,SALNTY_FLAG_W,CTDOXY,CTDOXY_FLAG_W,OXYGEN,OXYGEN_FLAG_W,SILCAT,SILCAT_FLAG_W,NITRAT,NITRAT_FLAG_W,NITRIT,NITRIT_FLAG_W,PHSPHT,PHSPHT_FLAG_W,CFC-11,CFC-11_FLAG_W,CFC-12,CFC-12_FLAG_W,TCARBN,TCARBN_FLAG_W,ALKALI,ALKALI_FLAG_W,TRITUM,TRITUM_FLAG_W,HELIUM,HELIUM_FLAG_W,DELHE3,DELHE3_FLAG_W,DELC13,DELC13_FLAG_W,DELC14,DELC14_FLAG_W,C14ERR,THETA,HELIER,DELHER,TRITER
,,,,,,,,,,,METERS,DBAR,ITS-90,PSS-78,,PSS-78,,UMOL/KG,,UMOL/KG,,UMOL/KG,,UMOL/KG,,UMOL/KG,,UMOL/KG,,PMOL/KG,,PMOL/KG,,UMOL/KG,,UMOL/KG,,TU,,NMOL/KG,,PERCNT,,/MILLE,,/MILLE,,/MILLE,ITS-90,NMOL/KG,PERCNT,TU
31WTTUNES_3,       P16C,     282,          1,         36,         36,2,19910917,       1920,     2.3280,  -151.0032,       4736,     4.7,  27.5388,  34.7441,2,  34.7414,2,    214.6,3,   210.6,2,    2.86,2,    1.34,2,    0.08,2,    0.34,2,-999.000,9,-999.000,9,  -999.0,9,  -999.0,9,-999.000,9,-999.0000,9, -999.00,9, -999.00,9,  -999.0,9,  -999.0,    27.5377,-999.0000,-999.000,-999.000
31WTTUNES_3,       P16C,     282,          1,         35,         35,2,19910917,       1920,     2.3280,  -151.0032,       4736,    56.3,  27.4916,  34.7411,2,  34.7355,2,    211.5,2,   206.7,2,    2.65,2,    1.44,2,    0.08,2,    0.33,2,-999.000,9,-999.000,9,  -999.0,9,  -999.0,9,-999.000,9,-999.0000,9, -999.00,9, -999.00,9,  -999.0,9,  -999.0,    27.4785,-999.0000,-999.000,-999.000
31WTTUNES_3,       P16C,     282,          1,         34,         34,2,19910917,       1920,     2.3280,  -151.0032,       4736,    86.7,  25.7793,  34.9325,2,  34.9191,2,    195.0,2,   198.1,2,    3.62,2,    3.99,2,    0.25,2,    0.52,2,-999.000,9,-999.000,9,  -999.0,9,  -999.0,9,-999.000,9,-999.0000,9, -999.00,9, -999.00,9,  -999.0,9,  -999.0,    25.7600,-999.0000,-999.000,-999.000
31WTTUNES_3,       P16C,     282,          1,         33,         33,2,19910917,       1920,     2.3280,  -151.0032,       4736,   127.5,  20.8139,  34.8218,2,  34.8137,2,    117.4,2,   118.7,2,    9.04,2,   12.55,2,    0.10,2,    1.01,2,-999.000,9,-999.000,9,  -999.0,9,  -999.0,9,-999.000,9,-999.0000,9, -999.00,9, -999.00,9,  -999.0,9,  -999.0,    20.7897,-999.0000,-999.000,-999.000
31WTTUNES_3,       P16C,     282,          1,         32,         32,2,19910917,       1920,     2.3280,  -151.0032,       4736,   158.1,  15.1688,  34.6759,2,  34.6732,2,    108.2,2,   110.4,2,   19.04,2,   18.95,2,    0.02,2,    1.43,2,-999.000,9,-999.000,9,  -999.0,9,  -999.0,9,-999.000,9,-999.0000,9, -999.00,9, -999.00,9,  -999.0,9,  -999.0,    15.1448,-999.0000,-999.000,-999.000
31WTTUNES_3,       P16C,     282,          1,         31,         31,2,19910917,       1920,     2.3280,  -151.0032,       4736,   209.1,  11.6054,  34.7789,2,  34.7671,2,     88.6,2,    98.0,2,   23.93,2,   24.80,2,    0.00,2,    1.79,2,-999.000,9,-999.000,9,  -999.0,9,  -999.0,9,-999.000,9,-999.0000,9, -999.00,9, -999.00,9,  -999.0,9,  -999.0,    11.5788,-999.0000,-999.000,-999.000
31WTTUNES_3,       P16C,     282,          1,         30,         30,2,19910917,       1920,     2.3280,  -151.0032,       4736,   259.4,  11.5066,  34.8170,2,  34.8119,2,     37.0,2,    40.5,2,   26.86,2,   30.80,2,    0.00,2,    2.18,2,-999.000,9,-999.000,9,  -999.0,9,  -999.0,9,-999.000,9,-999.0000,9, -999.00,9, -999.00,9,  -999.0,9,  -999.0,    11.4737,-999.0000,-999.000,-999.000
31WTTUNES_3,       P16C,     282,          1,         29,         29,2,19910917,       1920,     2.3280,  -151.0032,       4736,   309.2,  11.2264,  34.7904,2,  34.7785,2,     40.1,2,    43.2,2,   27.83,2,   31.25,2,    0.00,2,    2.19,2,-999.000,9,-999.000,9,  -999.0,9,  -999.0,9,-999.000,9,-999.0000,9, -999.00,9, -999.00,9,  -999.0,9,  -999.0,    11.1877,-999.0000,-999.000,-999.000
31WTTUNES_3,       P16C,     282,          1,         28,         28,2,19910917,       1920,     2.3280,  -151.0032,       4736,   360.9,  10.7390,  34.7585,2,  34.7551,2,     47.9,2,    45.1,2,   29.19,2,   31.86,2,    0.00,2,    2.24,2,-999.000,9,-999.000,9,  -999.0,9,  -999.0,9,-999.000,9,-999.0000,9, -999.00,9, -999.00,9,  -999.0,9,  -999.0,    10.6949,-999.0000,-999.000,-999.000
31WTTUNES_3,       P16C,     282,          1,         27,         27,2,19910917,       1920,     2.3280,  -151.0032,       4736,   412.4,  10.2931,  34.7319,2,  34.7211,2,     59.2,2,    58.3,2,   30.35,2,   31.64,2,    0.01,2,    2.23,2,-999.000,9,-999.000,9,  -999.0,9,  -999.0,9,-999.000,9,-999.0000,9, -999.00,9, -999.00,9,  -999.0,9,  -999.0,    10.2440,-999.0000,-999.000,-999.000
31WTTUNES_3,       P16C,     282,          1,         26,         26,2,19910917,       1920,     2.3280,  -151.0032,       4736,   463.0,   9.7228,  34.6941,2,  34.6897,2,     61.3,2,    60.4,2,   32.10,2,   32.22,2,    0.00,2,    2.26,2,-999.000,9,-999.000,9,  -999.0,9,  -999.0,9,-999.000,9,-999.0000,9, -999.00,9, -999.00,9,  -999.0,9,  -999.0,     9.6694,-999.0000,-999.000,-999.000
31WTTUNES_3,       P16C,     282,          1,         25,         25,2,19910917,       1920,     2.3280,  -151.0032,       4736,   514.4,   8.9552,  34.6561,2,  34.6547,2,     36.3,2,    42.7,2,   37.19,2,   35.08,2,    0.00,2,    2.47,2,-999.000,9,-999.000,9,  -999.0,9,  -999.0,9,-999.000,9,-999.0000,9, -999.00,9, -999.00,9,  -999.0,9,  -999.0,     8.8987,-999.0000,-999.000,-999.000
31WTTUNES_3,       P16C,     282,          1,         24,         24,2,19910917,       1920,     2.3280,  -151.0032,       4736,   565.2,   8.0189,  34.6133,2,  34.6189,2,     41.6,2,    46.5,2,   41.64,2,   36.35,2,    0.00,2,    2.57,2,-999.000,9,-999.000,9,  -999.0,9,  -999.0,9,-999.000,9,-999.0000,9, -999.00,9, -999.00,9,  -999.0,9,  -999.0,     7.9606,-999.0000,-999.000,-999.000
31WTTUNES_3,       P16C,     282,          1,         23,         23,2,19910917,       1920,     2.3280,  -151.0032,       4736,   617.0,   7.2526,  34.5860,2,  34.5952,2,     42.6,2,    44.5,2,   46.54,2,   37.71,2,    0.00,2,    2.68,2,-999.000,9,-999.000,9,  -999.0,9,  -999.0,9,-999.000,9,-999.0000,9, -999.00,9, -999.00,9,  -999.0,9,  -999.0,     7.1923,-999.0000,-999.000,-999.000
31WTTUNES_3,       P16C,     282,          1,         22,         22,2,19910917,       1920,     2.3280,  -151.0032,       4736,   719.1,   6.1256,  34.5528,2,  34.5551,2,     69.1,2,    59.5,2,   59.47,2,   39.21,2,    0.00,2,    2.80,2,-999.000,9,-999.000,9,  -999.0,9,  -999.0,9,-999.000,9,-999.0000,9, -999.00,9, -999.00,9,  -999.0,9,  -999.0,     6.0609,-999.0000,-999.000,-999.000
31WTTUNES_3,       P16C,     282,          1,         21,         21,2,19910917,       1920,     2.3280,  -151.0032,       4736,   822.0,   5.5799,  34.5494,2,  34.5441,2,     71.3,2,    79.3,2,   66.72,2,   38.12,2,    0.00,2,    2.70,2,-999.000,9,-999.000,9,  -999.0,9,  -999.0,9,-999.000,9,-999.0000,9, -999.00,9, -999.00,9,  -999.0,9,  -999.0,     5.5088,-999.0000,-999.000,-999.000
31WTTUNES_3,       P16C,     282,          1,         20,         20,2,19910917,       1920,     2.3280,  -151.0032,       4736,   923.9,   5.0097,  34.5493,2,  34.5472,2,     83.0,2,    77.0,2,   74.95,2,   38.97,2,    0.00,2,    2.79,2,-999.000,9,-999.000,9,  -999.0,9,  -999.0,9,-999.000,9,-999.0000,9, -999.00,9, -999.00,9,  -999.0,9,  -999.0,     4.9331,-999.0000,-999.000,-999.000
31WTTUNES_3,       P16C,     282,          1,         19,         19,2,19910917,       1920,     2.3280,  -151.0032,       4736,  1025.8,   4.5778,  34.5567,2,  34.5523,2,     84.1,2,    83.7,2,   85.13,2,   38.83,2,    0.00,2,    2.77,2,-999.000,9,-999.000,9,  -999.0,9,  -999.0,9,-999.000,9,-999.0000,9, -999.00,9, -999.00,9,  -999.0,9,  -999.0,     4.4953,-999.0000,-999.000,-999.000
31WTTUNES_3,       P16C,     282,          1,         18,         18,2,19910917,       1920,     2.3280,  -151.0032,       4736,  1129.2,   4.2792,  34.5646,2,  34.5624,2,     79.5,2,    77.8,2,   93.76,2,   39.83,2,    0.00,2,    2.85,2,-999.000,9,-999.000,9,  -999.0,9,  -999.0,9,-999.000,9,-999.0000,9, -999.00,9, -999.00,9,  -999.0,9,  -999.0,     4.1901,-999.0000,-999.000,-999.000
31WTTUNES_3,       P16C,     282,          1,         17,         17,2,19910917,       1920,     2.3280,  -151.0032,       4736,  1233.0,   3.9246,  34.5764,2,  34.5747,2,     77.8,2,    77.7,2,  104.15,2,   40.03,2,    0.00,2,    2.86,2,-999.000,9,-999.000,9,  -999.0,9,  -999.0,9,-999.000,9,-999.0000,9, -999.00,9, -999.00,9,  -999.0,9,  -999.0,     3.8297,-999.0000,-999.000,-999.000
31WTTUNES_3,       P16C,     282,          1,         16,         16,2,19910917,       1920,     2.3280,  -151.0032,       4736,  1437.5,   3.3560,  34.5947,2,  34.5948,2,     83.0,2,    83.1,2,  117.48,2,   39.99,2,    0.00,2,    2.85,2,-999.000,9,-999.000,9,  -999.0,9,  -999.0,9,-999.000,9,-999.0000,9, -999.00,9, -999.00,9,  -999.0,9,  -999.0,     3.2494,-999.0000,-999.000,-999.000
31WTTUNES_3,       P16C,     282,          1,         15,         15,2,19910917,       1920,     2.3280,  -151.0032,       4736,  1644.1,   2.8367,  34.6176,2,  34.6152,2,     88.2,2,    88.3,2,  130.61,2,   39.75,2,    0.00,2,    2.84,2,-999.000,9,-999.000,9,  -999.0,9,  -999.0,9,-999.000,9,-999.0000,9, -999.00,9, -999.00,9,  -999.0,9,  -999.0,     2.7186,-999.0000,-999.000,-999.000
31WTTUNES_3,       P16C,     282,          1,         14,         14,2,19910917,       1920,     2.3280,  -151.0032,       4736,  1849.7,   2.5169,  34.6317,2,  34.6293,2,     96.5,2,    97.1,2,  137.27,2,   39.30,2,    0.00,2,    2.79,2,-999.000,9,-999.000,9,  -999.0,9,  -999.0,9,-999.000,9,-999.0000,9, -999.00,9, -999.00,9,  -999.0,9,  -999.0,     2.3855,-999.0000,-999.000,-999.000
31WTTUNES_3,       P16C,     282,          1,         13,         13,2,19910917,       1920,     2.3280,  -151.0032,       4736,  2054.7,   2.2465,  34.6447,2,  34.6429,2,    103.4,2,   104.6,2,  143.53,2,   38.80,2,    0.00,2,    2.74,2,-999.000,9,-999.000,9,  -999.0,9,  -999.0,9,-999.000,9,-999.0000,9, -999.00,9, -999.00,9,  -999.0,9,  -999.0,     2.1016,-999.0000,-999.000,-999.000
31WTTUNES_3,       P16C,     282,          1,         12,         12,2,19910917,       1920,     2.3280,  -151.0032,       4736,  2261.2,   1.9927,  34.6580,2,  34.6551,2,    111.7,2,   112.5,2,  149.39,2,   38.25,2,    0.00,2,    2.68,2,-999.000,9,-999.000,9,  -999.0,9,  -999.0,9,-999.000,9,-999.0000,9, -999.00,9, -999.00,9,  -999.0,9,  -999.0,     1.8339,-999.0000,-999.000,-999.000
31WTTUNES_3,       P16C,     282,          1,         11,         11,2,19910917,       1920,     2.3280,  -151.0032,       4736,  2467.1,   1.8624,  34.6652,2,  34.6637,2,    118.2,2,   118.8,2,  151.74,2,   37.86,2,    0.00,2,    2.63,2,-999.000,9,-999.000,9,  -999.0,9,  -999.0,9,-999.000,9,-999.0000,9, -999.00,9, -999.00,9,  -999.0,9,  -999.0,     1.6876,-999.0000,-999.000,-999.000
31WTTUNES_3,       P16C,     282,          1,         10,         10,2,19910917,       1920,     2.3280,  -151.0032,       4736,  2673.5,   1.8036,  34.6694,2,  34.6673,2,    121.1,2,   121.5,2,  153.10,2,   37.46,2,    0.00,2,    2.63,2,-999.000,9,-999.000,9,  -999.0,9,  -999.0,9,-999.000,9,-999.0000,9, -999.00,9, -999.00,9,  -999.0,9,  -999.0,     1.6111,-999.0000,-999.000,-999.000
31WTTUNES_3,       P16C,     282,          1,          9,          9,2,19910917,       1920,     2.3280,  -151.0032,       4736,  2881.0,   1.7632,  34.6708,2,  34.6684,2,    126.0,2,   126.2,2,  151.70,2,   37.42,2,    0.00,2,    2.60,2,-999.000,9,-999.000,9,  -999.0,9,  -999.0,9,-999.000,9,-999.0000,9, -999.00,9, -999.00,9,  -999.0,9,  -999.0,     1.5520,-999.0000,-999.000,-999.000
31WTTUNES_3,       P16C,     282,          1,          8,          8,2,19910917,       1920,     2.3280,  -151.0032,       4736,  3087.0,   1.6767,  34.6751,2,  34.6737,2,    132.1,2,   132.8,2,  151.89,2,   37.07,2,    0.00,2,    2.57,2,-999.000,9,-999.000,9,  -999.0,9,  -999.0,9,-999.000,9,-999.0000,9, -999.00,9, -999.00,9,  -999.0,9,  -999.0,     1.4477,-999.0000,-999.000,-999.000
31WTTUNES_3,       P16C,     282,          1,          7,          7,2,19910917,       1920,     2.3280,  -151.0032,       4736,  3345.2,   1.5266,  34.6837,2,  34.6828,2,    145.1,2,   145.9,2,  150.45,2,   36.24,2,    0.00,2,    2.49,2,-999.000,9,-999.000,9,  -999.0,9,  -999.0,9,-999.000,9,-999.0000,9, -999.00,9, -999.00,9,  -999.0,9,  -999.0,     1.2755,-999.0000,-999.000,-999.000
31WTTUNES_3,       P16C,     282,          1,          6,          6,2,19910917,       1920,     2.3280,  -151.0032,       4736,  3604.9,   1.4315,  34.6899,2,  34.6891,2,    155.6,2,   156.3,2,  148.67,2,   35.58,2,    0.00,2,    2.44,2,-999.000,9,-999.000,9,  -999.0,9,  -999.0,9,-999.000,9,-999.0000,9, -999.00,9, -999.00,9,  -999.0,9,  -999.0,     1.1562,-999.0000,-999.000,-999.000
31WTTUNES_3,       P16C,     282,          1,          5,          5,2,19910917,       1920,     2.3280,  -151.0032,       4736,  3863.9,   1.4189,  34.6917,2,  34.6903,2,    159.9,2,   160.1,2,  147.27,2,   35.29,2,    0.00,2,    2.42,2,-999.000,9,-999.000,9,  -999.0,9,  -999.0,9,-999.000,9,-999.0000,9, -999.00,9, -999.00,9,  -999.0,9,  -999.0,     1.1168,-999.0000,-999.000,-999.000
31WTTUNES_3,       P16C,     282,          1,          4,          4,2,19910917,       1920,     2.3280,  -151.0032,       4736,  4123.8,   1.4152,  34.6928,2,  34.6916,2,    163.2,2,   163.4,2,  145.70,2,   35.09,2,    0.00,2,    2.40,2,-999.000,9,-999.000,9,  -999.0,9,  -999.0,9,-999.000,9,-999.0000,9, -999.00,9, -999.00,9,  -999.0,9,  -999.0,     1.0850,-999.0000,-999.000,-999.000
31WTTUNES_3,       P16C,     282,          1,          3,          3,2,19910917,       1920,     2.3280,  -151.0032,       4736,  4383.7,   1.3813,  34.6952,2,  34.6940,2,    170.0,2,   169.5,2,  141.95,2,   34.64,2,    0.00,2,    2.38,2,-999.000,9,-999.000,9,  -999.0,9,  -999.0,9,-999.000,9,-999.0000,9, -999.00,9, -999.00,9,  -999.0,9,  -999.0,     1.0233,-999.0000,-999.000,-999.000
31WTTUNES_3,       P16C,     282,          1,          2,          2,2,19910917,       1920,     2.3280,  -151.0032,       4736,  4643.0,   1.3830,  34.6969,2,  34.6956,2,    173.8,2,   173.9,2,  139.77,2,   34.40,2,    0.00,2,    2.36,2,-999.000,9,-999.000,9,  -999.0,9,  -999.0,9,-999.000,9,-999.0000,9, -999.00,9, -999.00,9,  -999.0,9,  -999.0,     0.9951,-999.0000,-999.000,-999.000
31WTTUNES_3,       P16C,     282,          1,          1,          1,2,19910917,       1920,     2.3280,  -151.0032,       4736,  4793.4,   1.3896,  34.6974,2,  34.6973,2,    175.1,2,   176.6,2,  138.77,2,   34.14,2,    0.01,2,    2.34,2,-999.000,9,-999.000,9,  -999.0,9,  -999.0,9,-999.000,9,-999.0000,9, -999.00,9, -999.00,9,  -999.0,9,  -999.0,     0.9838,-999.0000,-999.000,-999.000
31WTTUNES_3,       P16C,     283,          1,         11,          9,2,19910918,       0054,     2.4840,  -151.0015,       4725,    29.6,  27.5904,  34.7476,2,  34.7406,2,    219.7,2,   208.0,2, -999.00,9, -999.00,9, -999.00,9, -999.00,9,-999.000,9,-999.000,9,  -999.0,9,  -999.0,9,-999.000,9,-999.0000,9, -999.00,9, -999.00,9,  -999.0,9,  -999.0,    27.5835,-999.0000,-999.000,-999.000
31WTTUNES_3,       P16C,     283,          1,         10,          8,2,19910918,       0054,     2.4840,  -151.0015,       4725,   155.9,  19.2228,  34.7812,2,  34.7793,2,    114.9,2,   111.4,2, -999.00,9, -999.00,9, -999.00,9, -999.00,9,-999.000,9,-999.000,9,  -999.0,9,  -999.0,9,-999.000,9,-999.0000,9, -999.00,9, -999.00,9,  -999.0,9,  -999.0,    19.1948,-999.0000,-999.000,-999.000
31WTTUNES_3,       P16C,     283,          1,          8,          7,2,19910918,       0054,     2.4840,  -151.0015,       4725,   506.7,   9.4771,  34.6750,2,  34.6669,2,     67.8,2,    63.5,2, -999.00,9, -999.00,9, -999.00,9, -999.00,9,-999.000,9,-999.000,9,  -999.0,9,  -999.0,9,-999.000,9,-999.0000,9, -999.00,9, -999.00,9,  -999.0,9,  -999.0,     9.4195,-999.0000,-999.000,-999.000
31WTTUNES_3,       P16C,     283,          1,          7,          6,2,19910918,       0054,     2.4840,  -151.0015,       4725,   762.0,   6.1267,  34.5532,2,  34.5506,2,     64.1,2,    66.0,2, -999.00,9, -999.00,9, -999.00,9, -999.00,9,-999.000,9,-999.000,9,  -999.0,9,  -999.0,9,-999.000,9,-999.0000,9, -999.00,9, -999.00,9,  -999.0,9,  -999.0,     6.0579,-999.0000,-999.000,-999.000
31WTTUNES_3,       P16C,     283,          1,          6,          5,2,19910918,       0054,     2.4840,  -151.0015,       4725,  1526.4,   3.0445,  34.6017,2,  34.7496,4,     86.2,2,    87.5,2, -999.00,9, -999.00,9, -999.00,9, -999.00,9,-999.000,9,-999.000,9,  -999.0,9,  -999.0,9,-999.000,9,-999.0000,9, -999.00,9, -999.00,9,  -999.0,9,  -999.0,     2.9338,-999.0000,-999.000,-999.000
31WTTUNES_3,       P16C,     283,          1,          5,          4,2,19910918,       0054,     2.4840,  -151.0015,       4725,  2551.7,   1.8461,  34.6633,2,  34.6661,2,    118.3,2,   120.3,2, -999.00,9, -999.00,9, -999.00,9, -999.00,9,-999.000,9,-999.000,9,  -999.0,9,  -999.0,9,-999.000,9,-999.0000,9, -999.00,9, -999.00,9,  -999.0,9,  -999.0,     1.6639,-999.0000,-999.000,-999.000
31WTTUNES_3,       P16C,     283,          1,          3,          3,2,19910918,       0054,     2.4840,  -151.0015,       4725,  3577.7,   1.4570,  34.6863,2,  34.6867,2,    153.4,2,   153.3,2, -999.00,9, -999.00,9, -999.00,9, -999.00,9,-999.000,9,-999.000,9,  -999.0,9,  -999.0,9,-999.000,9,-999.0000,9, -999.00,9, -999.00,9,  -999.0,9,  -999.0,     1.1839,-999.0000,-999.000,-999.000
31WTTUNES_3,       P16C,     283,          1,          2,          2,2,19910918,       0054,     2.4840,  -151.0015,       4725,  4094.6,   1.4086,  34.6917,2,  34.6928,2,    164.3,2,   164.8,2, -999.00,9, -999.00,9, -999.00,9, -999.00,9,-999.000,9,-999.000,9,  -999.0,9,  -999.0,9,-999.000,9,-999.0000,9, -999.00,9, -999.00,9,  -999.0,9,  -999.0,     1.0819,-999.0000,-999.000,-999.000
31WTTUNES_3,       P16C,     283,          1,          1,          1,2,19910918,       0054,     2.4840,  -151.0015,       4725,  4779.0,   1.4051,  34.6954,2,  34.6993,2,    175.1,2,   175.9,2, -999.00,9, -999.00,9, -999.00,9, -999.00,9,-999.000,9,-999.000,9,  -999.0,9,  -999.0,9,-999.000,9,-999.0000,9, -999.00,9, -999.00,9,  -999.0,9,  -999.0,     1.0005,-999.0000,-999.000,-999.000