BOTTLE,20211117CCHSIORKP
EXPOCODE,SECT_ID,STNNBR,CASTNO,SAMPNO,BTLNBR,BTLNBR_FLAG_W,DATE,TIME,LATITUDE,LONGITUDE,DEPTH,CTDPRS,CTDTMP,CTDSAL,CTDSAL_FLAG_W,SALNTY,SALNTY_FLAG_W,CTDOXY,CTDOXY_FLAG_W,OXYGEN,OXYGEN_FLAG_W,SILCAT,SILCAT_FLAG_W,NITRAT,NITRAT_FLAG_W,NITRIT,NITRIT_FLAG_W,PHSPHT,PHSPHT_FLAG_W,CFC-11,CFC-11_FLAG_W,CFC-12,CFC-12_FLAG_W,TCARBN,TCARBN_FLAG_W,ALKALI,ALKALI_FLAG_W,TRITUM,TRITUM_FLAG_W,HELIUM,HELIUM_FLAG_W,DELHE3,DELHE3_FLAG_W,DELC13,DELC13_FLAG_W,DELC14,DELC14_FLAG_W,C14ERR,THETA,HELIER,DELHER,TRITER
,,,,,,,,,,,METERS,DBAR,ITS-90,PSS-78,,PSS-78,,UMOL/KG,,UMOL/KG,,UMOL/KG,,UMOL/KG,,UMOL/KG,,UMOL/KG,,PMOL/KG,,PMOL/KG,,UMOL/KG,,UMOL/KG,,TU,,NMOL/KG,,PERCNT,,/MILLE,,/MILLE,,/MILLE,ITS-90,NMOL/KG,PERCNT,TU
31WTTUNES_3,       P16C,     224,          1,         34,         34,2,19910902,       0333,   -15.9885,  -150.5023,       3369,     5.1,  27.2745,  36.1334,2,  36.1357,2,   -999.0,5,   218.7,2,    0.54,2,    0.98,2,    0.00,2,    0.20,2,   1.683,2,   0.913,2,  -999.0,9,  -999.0,9,-999.000,9,-999.0000,9, -999.00,9, -999.00,9,  -999.0,9,  -999.0,    27.2734,-999.0000,-999.000,-999.000
31WTTUNES_3,       P16C,     224,          1,         33,         33,2,19910902,       0333,   -15.9885,  -150.5023,       3369,    32.8,  26.7243,  36.1325,2,  36.1442,2,   -999.0,5,   215.0,2,    0.55,2,    0.28,2,    0.00,2,    0.19,2,   1.687,2,   0.925,2,  -999.0,9,  -999.0,9,-999.000,9,-999.0000,9, -999.00,9, -999.00,9,  -999.0,9,  -999.0,    26.7168,-999.0000,-999.000,-999.000
31WTTUNES_3,       P16C,     224,          1,         32,         32,2,19910902,       0333,   -15.9885,  -150.5023,       3369,    59.0,  26.5591,  36.1331,2,  36.1379,2,   -999.0,5,   219.4,2,    0.94,2,    0.23,2,    0.00,2,    0.19,2,   1.732,2,   0.898,2,  -999.0,9,  -999.0,9,-999.000,9,-999.0000,9, -999.00,9, -999.00,9,  -999.0,9,  -999.0,    26.5457,-999.0000,-999.000,-999.000
31WTTUNES_3,       P16C,     224,          1,         31,         31,2,19910902,       0333,   -15.9885,  -150.5023,       3369,    84.3,  26.5152,  36.1293,2,  36.1211,2,   -999.0,5,   217.2,2,    0.56,2,    0.28,2,    0.00,2,    0.19,2,   1.695,2,   0.926,2,  -999.0,9,  -999.0,9,-999.000,9,-999.0000,9, -999.00,9, -999.00,9,  -999.0,9,  -999.0,    26.4961,-999.0000,-999.000,-999.000
31WTTUNES_3,       P16C,     224,          1,         30,         30,2,19910902,       0333,   -15.9885,  -150.5023,       3369,   110.8,  25.8644,  36.0351,2,  36.0457,2,   -999.0,5,   219.8,2,    0.75,2,    0.28,2,    0.00,2,    0.17,2,   1.726,2,   0.939,2,  -999.0,9,  -999.0,9,-999.000,9,-999.0000,9, -999.00,9, -999.00,9,  -999.0,9,  -999.0,    25.8397,-999.0000,-999.000,-999.000
31WTTUNES_3,       P16C,     224,          1,         29,         29,2,19910902,       0333,   -15.9885,  -150.5023,       3369,   135.6,  24.8163,  36.1123,2,  36.1553,2,   -999.0,5,   203.4,2,    0.57,2,    0.44,2,    0.07,2,    0.25,2,   1.706,2,   0.918,2,  -999.0,9,  -999.0,9,-999.000,9,-999.0000,9, -999.00,9, -999.00,9,  -999.0,9,  -999.0,    24.7869,-999.0000,-999.000,-999.000
31WTTUNES_3,       P16C,     224,          1,         28,         28,2,19910902,       0333,   -15.9885,  -150.5023,       3369,   160.9,  23.6857,  36.0377,2,  36.0489,2,   -999.0,5,   190.7,2,    0.58,2,    1.55,2,    0.05,2,    0.31,2,   1.757,2,   0.938,2,  -999.0,9,  -999.0,9,-999.000,9,-999.0000,9, -999.00,9, -999.00,9,  -999.0,9,  -999.0,    23.6520,-999.0000,-999.000,-999.000
31WTTUNES_3,       P16C,     224,          1,         27,         27,2,19910902,       0333,   -15.9885,  -150.5023,       3369,   190.7,  22.8887,  36.0669,2,  36.0647,2,   -999.0,5,   181.2,2,    1.16,2,    2.99,2,    0.02,2,    0.40,2,   1.731,2,   0.914,2,  -999.0,9,  -999.0,9,-999.000,9,-999.0000,9, -999.00,9, -999.00,9,  -999.0,9,  -999.0,    22.8497,-999.0000,-999.000,-999.000
31WTTUNES_3,       P16C,     224,          1,         26,         26,2,19910902,       0333,   -15.9885,  -150.5023,       3369,   228.4,  20.7991,  35.8849,2,  35.7402,3,   -999.0,5,   177.5,2,    1.17,2,    4.77,2,    0.01,2,    0.51,2,   1.696,2,   0.879,2,  -999.0,9,  -999.0,9,-999.000,9,-999.0000,9, -999.00,9, -999.00,9,  -999.0,9,  -999.0,    20.7554,-999.0000,-999.000,-999.000
31WTTUNES_3,       P16C,     224,          1,         25,         25,2,19910902,       0333,   -15.9885,  -150.5023,       3369,   266.8,  19.2689,  35.6565,2,  35.4683,3,   -999.0,5,   171.1,2,    1.77,2,    7.60,2,    0.01,2,    0.66,2,   1.554,2,   0.812,2,  -999.0,9,  -999.0,9,-999.000,9,-999.0000,9, -999.00,9, -999.00,9,  -999.0,9,  -999.0,    19.2205,-999.0000,-999.000,-999.000
31WTTUNES_3,       P16C,     224,          1,         24,         24,2,19910902,       0333,   -15.9885,  -150.5023,       3369,   296.7,  17.6771,  35.4246,2,  35.2479,3,   -999.0,5,   167.8,2,    3.34,2,    9.61,2,    0.01,2,    0.85,2,   1.360,2,   0.728,2,  -999.0,9,  -999.0,9,-999.000,9,-999.0000,9, -999.00,9, -999.00,9,  -999.0,9,  -999.0,    17.6265,-999.0000,-999.000,-999.000
31WTTUNES_3,       P16C,     224,          1,         23,         23,2,19910902,       0333,   -15.9885,  -150.5023,       3369,   329.7,  16.0239,  35.2138,2,  34.8884,3,   -999.0,5,   156.1,2,    6.88,2,   15.75,2,    0.00,2,    1.26,2,   0.958,2,   0.504,2,  -999.0,9,  -999.0,9,-999.000,9,-999.0000,9, -999.00,9, -999.00,9,  -999.0,9,  -999.0,    15.9714,-999.0000,-999.000,-999.000
31WTTUNES_3,       P16C,     224,          1,         22,         22,2,19910902,       0333,   -15.9885,  -150.5023,       3369,   373.2,  12.9324,  34.8628,2,  34.7030,3,   -999.0,5,   138.7,2,   11.00,2,   20.93,2,    0.00,2,    1.61,2,-999.000,9,-999.000,9,  -999.0,9,  -999.0,9,-999.000,9,-999.0000,9, -999.00,9, -999.00,9,  -999.0,9,  -999.0,    12.8809,-999.0000,-999.000,-999.000
31WTTUNES_3,       P16C,     224,          1,         21,         21,2,19910902,       0333,   -15.9885,  -150.5023,       3369,   412.2,  11.0733,  34.6704,2,  34.5684,3,   -999.0,5,   127.0,2,   16.11,2,   25.97,2,    0.00,2,    1.94,2,   0.370,6,   0.190,6,  -999.0,9,  -999.0,9,-999.000,9,-999.0000,9, -999.00,9, -999.00,9,  -999.0,9,  -999.0,    11.0221,-999.0000,-999.000,-999.000
31WTTUNES_3,       P16C,     224,          1,         20,         20,2,19910902,       0333,   -15.9885,  -150.5023,       3369,   455.6,   8.9993,  34.5389,2,  34.5178,2,   -999.0,5,   136.1,2,   18.08,2,   27.30,2,    0.00,2,    2.00,2,-999.000,9,-999.000,9,  -999.0,9,  -999.0,9,-999.000,9,-999.0000,9, -999.00,9, -999.00,9,  -999.0,9,  -999.0,     8.9495,-999.0000,-999.000,-999.000
31WTTUNES_3,       P16C,     224,          1,         19,         19,2,19910902,       0333,   -15.9885,  -150.5023,       3369,   491.8,   8.0065,  34.4859,2,  34.4752,2,   -999.0,5,   139.2,2,   22.98,2,   29.71,2,    0.00,2,    2.11,2,   0.160,2,   0.085,2,  -999.0,9,  -999.0,9,-999.000,9,-999.0000,9, -999.00,9, -999.00,9,  -999.0,9,  -999.0,     7.9561,-999.0000,-999.000,-999.000
31WTTUNES_3,       P16C,     224,          1,         18,         18,2,19910902,       0333,   -15.9885,  -150.5023,       3369,   543.0,   7.0984,  34.4552,2,  34.4644,2,   -999.0,5,   139.6,2,   28.68,2,   31.37,2,    0.00,2,    2.20,2,-999.000,9,-999.000,9,  -999.0,9,  -999.0,9,-999.000,9,-999.0000,9, -999.00,9, -999.00,9,  -999.0,9,  -999.0,     7.0463,-999.0000,-999.000,-999.000
31WTTUNES_3,       P16C,     224,          1,         17,         17,2,19910902,       0333,   -15.9885,  -150.5023,       3369,   595.0,   6.5981,  34.4589,2,  34.4624,2,   -999.0,5,   141.2,2,   34.56,2,   32.58,2,    0.00,2,    2.26,2,   0.043,6,   0.019,6,  -999.0,9,  -999.0,9,-999.000,9,-999.0000,9, -999.00,9, -999.00,9,  -999.0,9,  -999.0,     6.5430,-999.0000,-999.000,-999.000
31WTTUNES_3,       P16C,     224,          1,         16,         16,2,19910902,       0333,   -15.9885,  -150.5023,       3369,   692.0,   5.5114,  34.4646,2,  34.4683,2,   -999.0,5,   143.6,2,   46.33,2,   34.03,2,    0.00,2,    2.36,2,   0.008,2,   0.002,2,  -999.0,9,  -999.0,9,-999.000,9,-999.0000,9, -999.00,9, -999.00,9,  -999.0,9,  -999.0,     5.4526,-999.0000,-999.000,-999.000
31WTTUNES_3,       P16C,     224,          1,         15,         15,2,19910902,       0333,   -15.9885,  -150.5023,       3369,   798.9,   4.8681,  34.4737,2,  34.4862,2,   -999.0,5,   143.0,2,   56.53,2,   34.95,2,    0.00,2,    2.41,2,   0.007,2,  -0.010,2,  -999.0,9,  -999.0,9,-999.000,9,-999.0000,9, -999.00,9, -999.00,9,  -999.0,9,  -999.0,     4.8036,-999.0000,-999.000,-999.000
31WTTUNES_3,       P16C,     224,          1,         14,         14,2,19910902,       0333,   -15.9885,  -150.5023,       3369,   905.3,   4.4028,  34.4901,2,  34.4966,2,   -999.0,5,   141.8,2,   64.77,2,   35.43,2,    0.00,2,    2.46,2,  -0.001,2,  -0.003,2,  -999.0,9,  -999.0,9,-999.000,9,-999.0000,9, -999.00,9, -999.00,9,  -999.0,9,  -999.0,     4.3322,-999.0000,-999.000,-999.000
31WTTUNES_3,       P16C,     224,          1,         13,         13,2,19910902,       0333,   -15.9885,  -150.5023,       3369,  1010.3,   3.9835,  34.5066,2,  34.5105,2,   -999.0,5,   141.8,2,   72.43,2,   35.91,2,    0.00,2,    2.48,2,  -0.004,2,  -0.007,2,  -999.0,9,  -999.0,9,-999.000,9,-999.0000,9, -999.00,9, -999.00,9,  -999.0,9,  -999.0,     3.9072,-999.0000,-999.000,-999.000
31WTTUNES_3,       P16C,     224,          1,         12,         12,2,19910902,       0333,   -15.9885,  -150.5023,       3369,  1213.8,   3.3941,  34.5385,2,  34.5455,2,   -999.0,5,   143.5,2,   85.17,2,   36.28,2,    0.00,2,    2.52,2,  -0.005,2,  -0.010,2,  -999.0,9,  -999.0,9,-999.000,9,-999.0000,9, -999.00,9, -999.00,9,  -999.0,9,  -999.0,     3.3059,-999.0000,-999.000,-999.000
31WTTUNES_3,       P16C,     224,          1,         11,         11,2,19910902,       0333,   -15.9885,  -150.5023,       3369,  1431.9,   2.9438,  34.5680,2,  34.5859,3,   -999.0,5,   145.2,2,   95.37,2,   36.42,2,    0.00,2,    2.51,2,-999.000,9,-999.000,9,  -999.0,9,  -999.0,9,-999.000,9,-999.0000,9, -999.00,9, -999.00,9,  -999.0,9,  -999.0,     2.8422,-999.0000,-999.000,-999.000
31WTTUNES_3,       P16C,     224,          1,         10,         10,2,19910902,       0333,   -15.9885,  -150.5023,       3369,  1638.4,   2.6502,  34.5898,2,  34.5993,3,   -999.0,5,   146.7,2,  102.68,2,   36.35,2,    0.00,2,    2.51,2,  -0.004,2,  -0.006,2,  -999.0,9,  -999.0,9,-999.000,9,-999.0000,9, -999.00,9, -999.00,9,  -999.0,9,  -999.0,     2.5350,-999.0000,-999.000,-999.000
31WTTUNES_3,       P16C,     224,          1,          9,          9,2,19910902,       0333,   -15.9885,  -150.5023,       3369,  1846.4,   2.3629,  34.6146,2,  34.6170,2,   -999.0,5,   148.7,2, -999.00,9, -999.00,9, -999.00,9, -999.00,9,-999.000,9,-999.000,9,  -999.0,9,  -999.0,9,-999.000,9,-999.0000,9, -999.00,9, -999.00,9,  -999.0,9,  -999.0,     2.2341,-999.0000,-999.000,-999.000
31WTTUNES_3,       P16C,     224,          1,          8,          8,2,19910902,       0333,   -15.9885,  -150.5023,       3369,  2049.4,   2.1616,  34.6303,2,  34.6419,3,   -999.0,5,   152.1,2,  116.16,2,   36.07,2,    0.00,2,    2.49,2,-999.000,9,-999.000,9,  -999.0,9,  -999.0,9,-999.000,9,-999.0000,9, -999.00,9, -999.00,9,  -999.0,9,  -999.0,     2.0185,-999.0000,-999.000,-999.000
31WTTUNES_3,       P16C,     224,          1,          7,          7,2,19910902,       0333,   -15.9885,  -150.5023,       3369,  2252.9,   2.0062,  34.6439,2,  34.6545,3,   -999.0,5,   154.7,2,  119.88,2,   35.97,2,    0.00,2,    2.48,2,-999.000,9,-999.000,9,  -999.0,9,  -999.0,9,-999.000,9,-999.0000,9, -999.00,9, -999.00,9,  -999.0,9,  -999.0,     1.8480,-999.0000,-999.000,-999.000
31WTTUNES_3,       P16C,     224,          1,          6,          6,2,19910902,       0333,   -15.9885,  -150.5023,       3369,  2452.5,   1.9103,  34.6532,2,  34.6539,2,   -999.0,5,   156.6,2,  122.43,2,   35.81,2,    0.00,2,    2.47,2,-999.000,9,-999.000,9,  -999.0,9,  -999.0,9,-999.000,9,-999.0000,9, -999.00,9, -999.00,9,  -999.0,9,  -999.0,     1.7361,-999.0000,-999.000,-999.000
31WTTUNES_3,       P16C,     224,          1,          5,          5,2,19910902,       0333,   -15.9885,  -150.5023,       3369,  2653.2,   1.8031,  34.6628,2,  34.6637,2,   -999.0,5,   159.4,2,  124.59,2,   35.74,2,    0.00,2,    2.46,2,-999.000,9,-999.000,9,  -999.0,9,  -999.0,9,-999.000,9,-999.0000,9, -999.00,9, -999.00,9,  -999.0,9,  -999.0,     1.6125,-999.0000,-999.000,-999.000
31WTTUNES_3,       P16C,     224,          1,          4,          4,2,19910902,       0333,   -15.9885,  -150.5023,       3369,  2852.0,   1.7526,  34.6689,2,  34.6683,2,   -999.0,5,   160.0,2,  126.56,2,   35.83,2,    0.00,2,    2.47,2,-999.000,9,-999.000,9,  -999.0,9,  -999.0,9,-999.000,9,-999.0000,9, -999.00,9, -999.00,9,  -999.0,9,  -999.0,     1.5444,-999.0000,-999.000,-999.000
31WTTUNES_3,       P16C,     224,          1,          3,          3,2,19910902,       0333,   -15.9885,  -150.5023,       3369,  3052.8,   1.6456,  34.6764,2,  34.6765,2,   -999.0,5,   166.3,2,  125.78,2,   35.43,2,    0.00,2,    2.42,2,-999.000,9,-999.000,9,  -999.0,9,  -999.0,9,-999.000,9,-999.0000,9, -999.00,9, -999.00,9,  -999.0,9,  -999.0,     1.4206,-999.0000,-999.000,-999.000
31WTTUNES_3,       P16C,     224,          1,          2,          2,2,19910902,       0333,   -15.9885,  -150.5023,       3369,  3259.5,   1.5490,  34.6841,2,  34.6824,2,   -999.0,5,   170.1,2,  125.98,2,   35.12,2,    0.00,2,    2.42,2,-999.000,9,-999.000,9,  -999.0,9,  -999.0,9,-999.000,9,-999.0000,9, -999.00,9, -999.00,9,  -999.0,9,  -999.0,     1.3059,-999.0000,-999.000,-999.000
31WTTUNES_3,       P16C,     224,          1,          1,          1,2,19910902,       0333,   -15.9885,  -150.5023,       3369,  3419.0,   1.5473,  34.6848,2,  34.6846,2,   -999.0,5,   172.5,2,  125.72,2,   34.89,2,    0.01,2,    2.40,2,-999.000,9,-999.000,9,  -999.0,9,  -999.0,9,-999.000,9,-999.0000,9, -999.00,9, -999.00,9,  -999.0,9,  -999.0,     1.2882,-999.0000,-999.000,-999.000
31WTTUNES_3,       P16C,     225,          2,         14,         14,2,19910902,       1454,   -15.5260,  -150.6528,       4248,  1618.8,   2.6209,  34.5936,2,  34.6012,2,   -999.0,5,   145.9,2,  108.57,2,   36.63,2,    0.00,2,    2.52,2,-999.000,9,-999.000,9,  -999.0,9,  -999.0,9,-999.000,9,   1.8910,2,   24.83,2, -999.00,9,  -999.0,9,  -999.0,     2.5077,-999.0000,-999.000,-999.000
31WTTUNES_3,       P16C,     225,          2,         13,         13,2,19910902,       1454,   -15.5260,  -150.6528,       4248,  1850.5,   2.2989,  34.6198,2,  34.6213,2,   -999.0,5,   153.0,4,  115.12,2,   36.59,2,    0.00,2,    2.50,2,-999.000,9,-999.000,9,  -999.0,9,  -999.0,9,-999.000,9,   1.9050,2,   25.85,2, -999.00,9,  -999.0,9,  -999.0,     2.1708,-999.0000,-999.000,-999.000
31WTTUNES_3,       P16C,     225,          2,         12,         12,2,19910902,       1454,   -15.5260,  -150.6528,       4248,  2055.0,   2.1313,  34.6344,2,  34.6384,2,   -999.0,5,   151.4,2,  120.08,2,   36.59,2,    0.00,2,    2.49,2,-999.000,9,-999.000,9,  -999.0,9,  -999.0,9,-999.000,9,   1.9050,2,   26.70,2, -999.00,9,  -999.0,9,  -999.0,     1.9881,-999.0000,-999.000,-999.000
31WTTUNES_3,       P16C,     225,          2,         11,         11,2,19910902,       1454,   -15.5260,  -150.6528,       4248,  2260.6,   2.0005,  34.6471,2,  34.6472,2,   -999.0,5,   153.1,2,  124.25,2,   36.34,2,    0.00,2,    2.47,2,-999.000,9,-999.000,9,  -999.0,9,  -999.0,9,-999.000,9,   1.9160,2,   27.66,2, -999.00,9,  -999.0,9,  -999.0,     1.8417,-999.0000,-999.000,-999.000
31WTTUNES_3,       P16C,     225,          2,         10,         10,2,19910902,       1454,   -15.5260,  -150.6528,       4248,  2415.9,   1.9243,  34.6551,2,  34.6563,2,   -999.0,5,   152.9,2,  127.02,2,   36.48,2,    0.00,2,    2.47,2,-999.000,9,-999.000,9,  -999.0,9,  -999.0,9,-999.000,9,   1.9170,2,   28.34,2, -999.00,9,  -999.0,9,  -999.0,     1.7531,-999.0000,-999.000,-999.000
31WTTUNES_3,       P16C,     225,          2,          9,          9,2,19910902,       1454,   -15.5260,  -150.6528,       4248,  2571.2,   1.8555,  34.6616,2,  34.6612,2,   -999.0,5,   154.0,2,  129.00,2,   36.43,2,    0.00,2,    2.47,2,-999.000,9,-999.000,9,  -999.0,9,  -999.0,9,-999.000,9,   1.9140,2,   28.45,2, -999.00,9,  -999.0,9,  -999.0,     1.6714,-999.0000,-999.000,-999.000
31WTTUNES_3,       P16C,     225,          2,          8,          8,2,19910902,       1454,   -15.5260,  -150.6528,       4248,  2726.7,   1.7993,  34.6662,2,  34.6647,2,   -999.0,5,   156.1,2,  129.78,2,   36.33,2,    0.00,2,    2.46,2,-999.000,9,-999.000,9,  -999.0,9,  -999.0,9,-999.000,9,   1.9120,2,   27.47,2, -999.00,9,  -999.0,9,  -999.0,     1.6019,-999.0000,-999.000,-999.000
31WTTUNES_3,       P16C,     225,          2,          7,          7,2,19910902,       1454,   -15.5260,  -150.6528,       4248,  2881.3,   1.7342,  34.6693,2,  34.6677,2,   -999.0,5,   160.8,2,  128.58,2,   35.93,2,    0.00,2,    2.43,2,-999.000,9,-999.000,9,  -999.0,9,  -999.0,9,-999.000,9,   1.9030,2,   24.67,2, -999.00,9,  -999.0,9,  -999.0,     1.5236,-999.0000,-999.000,-999.000
31WTTUNES_3,       P16C,     225,          2,          6,          6,2,19910902,       1454,   -15.5260,  -150.6528,       4248,  3088.9,   1.6594,  34.6768,2,  34.6759,2,   -999.0,5,   164.1,2,  129.44,2,   35.72,2,    0.00,2,    2.42,2,-999.000,9,-999.000,9,  -999.0,9,  -999.0,9,-999.000,9,   1.9110,2,   23.48,2, -999.00,9,  -999.0,9,  -999.0,     1.4306,-999.0000,-999.000,-999.000
31WTTUNES_3,       P16C,     225,          2,          5,          5,2,19910902,       1454,   -15.5260,  -150.6528,       4248,  3347.6,   1.5560,  34.6844,2,  34.6822,2,   -999.0,5,   171.0,2,  129.14,2,   35.22,2,    0.00,2,    2.39,2,-999.000,9,-999.000,9,  -999.0,9,  -999.0,9,-999.000,9,   1.9080,2,   20.76,2, -999.00,9,  -999.0,9,  -999.0,     1.3039,-999.0000,-999.000,-999.000
31WTTUNES_3,       P16C,     225,          2,          4,          4,2,19910902,       1454,   -15.5260,  -150.6528,       4248,  3605.3,   1.4743,  34.6908,2,  34.6905,2,   -999.0,5,   177.2,2,  128.02,2,   34.86,2,    0.00,2,    2.36,2,-999.000,9,-999.000,9,  -999.0,9,  -999.0,9,-999.000,9,   1.9100,2,   19.09,2, -999.00,9,  -999.0,9,  -999.0,     1.1980,-999.0000,-999.000,-999.000
31WTTUNES_3,       P16C,     225,          2,          3,          3,2,19910902,       1454,   -15.5260,  -150.6528,       4248,  3865.7,   1.4568,  34.6939,2,  34.6908,2,   -999.0,5,   180.2,2,  127.71,2,   34.41,2,    0.00,2,    2.35,2,-999.000,9,-999.000,9,  -999.0,9,  -999.0,9,-999.000,9,   1.9020,2,   18.61,2, -999.00,9,  -999.0,9,  -999.0,     1.1535,-999.0000,-999.000,-999.000
31WTTUNES_3,       P16C,     225,          2,          2,          2,2,19910902,       1454,   -15.5260,  -150.6528,       4248,  4125.2,   1.4753,  34.6949,2,  34.6912,2,   -999.0,5,   180.7,2,  127.49,2,   34.30,2,    0.00,2,    2.34,2,-999.000,9,-999.000,9,  -999.0,9,  -999.0,9,-999.000,9,   1.9040,2,   17.80,2, -999.00,9,  -999.0,9,  -999.0,     1.1434,-999.0000,-999.000,-999.000
31WTTUNES_3,       P16C,     225,          2,          1,          1,2,19910902,       1454,   -15.5260,  -150.6528,       4248,  4379.0,   1.3953,  34.7004,2,  34.6977,2,   -999.0,5,   186.4,2,  127.07,2,   34.01,2,    0.01,2,    2.31,2,-999.000,9,-999.000,9,  -999.0,9,  -999.0,9,-999.000,9,-999.0000,9, -999.00,9, -999.00,9,  -999.0,9,  -999.0,     1.0373,-999.0000,-999.000,-999.000