BOTTLE,20211117CCHSIORKP
EXPOCODE,SECT_ID,STNNBR,CASTNO,SAMPNO,BTLNBR,BTLNBR_FLAG_W,DATE,TIME,LATITUDE,LONGITUDE,DEPTH,CTDPRS,CTDTMP,CTDSAL,CTDSAL_FLAG_W,SALNTY,SALNTY_FLAG_W,CTDOXY,CTDOXY_FLAG_W,OXYGEN,OXYGEN_FLAG_W,SILCAT,SILCAT_FLAG_W,NITRAT,NITRAT_FLAG_W,NITRIT,NITRIT_FLAG_W,PHSPHT,PHSPHT_FLAG_W,CFC-11,CFC-11_FLAG_W,CFC-12,CFC-12_FLAG_W,TCARBN,TCARBN_FLAG_W,ALKALI,ALKALI_FLAG_W,TRITUM,TRITUM_FLAG_W,HELIUM,HELIUM_FLAG_W,DELHE3,DELHE3_FLAG_W,DELC13,DELC13_FLAG_W,DELC14,DELC14_FLAG_W,C14ERR,THETA,HELIER,DELHER,TRITER
,,,,,,,,,,,METERS,DBAR,ITS-90,PSS-78,,PSS-78,,UMOL/KG,,UMOL/KG,,UMOL/KG,,UMOL/KG,,UMOL/KG,,UMOL/KG,,PMOL/KG,,PMOL/KG,,UMOL/KG,,UMOL/KG,,TU,,NMOL/KG,,PERCNT,,/MILLE,,/MILLE,,/MILLE,ITS-90,NMOL/KG,PERCNT,TU
31WTTUNES_3,       P16C,     258,          1,         36,         36,2,19910912,       1819,    -1.6695,  -150.9960,       4889,     6.1,  27.7252,  35.4750,2,  35.4689,2,    221.2,3,   214.4,2,    2.30,2,    3.62,3,    0.13,2,    0.54,2,   1.660,2,   0.950,3,  -999.0,9,  -999.0,9,-999.000,9,-999.0000,9, -999.00,9, -999.00,9,  -999.0,9,  -999.0,    27.7238,-999.0000,-999.000,-999.000
31WTTUNES_3,       P16C,     258,          1,         35,         35,2,19910912,       1819,    -1.6695,  -150.9960,       4889,    46.7,  27.6189,  35.4668,2,  35.4604,2,    210.5,2,   213.1,2,    2.09,2,    3.67,3,    0.13,2,    0.54,2,   1.647,2,   0.881,3,  -999.0,9,  -999.0,9,-999.000,9,-999.0000,9, -999.00,9, -999.00,9,  -999.0,9,  -999.0,    27.6080,-999.0000,-999.000,-999.000
31WTTUNES_3,       P16C,     258,          1,         34,         34,2,19910912,       1819,    -1.6695,  -150.9960,       4889,    96.5,  27.1263,  35.4140,2,  35.4610,2,    211.4,2,   206.7,2,    2.46,2,    3.98,3,    0.38,2,    0.63,2,   1.753,2,   0.981,2,  -999.0,9,  -999.0,9,-999.000,9,-999.0000,9, -999.00,9, -999.00,9,  -999.0,9,  -999.0,    27.1041,-999.0000,-999.000,-999.000
31WTTUNES_3,       P16C,     258,          1,         33,         33,2,19910912,       1819,    -1.6695,  -150.9960,       4889,   116.4,  26.7340,  35.5476,2,  35.7365,2,    205.0,2,   179.1,2,    2.65,2,    2.46,3,    1.88,2,    0.79,2,   1.772,2,   0.981,2,  -999.0,9,  -999.0,9,-999.000,9,-999.0000,9, -999.00,9, -999.00,9,  -999.0,9,  -999.0,    26.7074,-999.0000,-999.000,-999.000
31WTTUNES_3,       P16C,     258,          1,         32,         32,2,19910912,       1819,    -1.6695,  -150.9960,       4889,   136.9,  23.4883,  35.8233,2,  35.7158,2,    164.9,2,   136.9,2,    3.99,2,    7.11,3,    1.86,2,    1.03,2,   1.687,2,   0.906,2,  -999.0,9,  -999.0,9,-999.000,9,-999.0000,9, -999.00,9, -999.00,9,  -999.0,9,  -999.0,    23.4598,-999.0000,-999.000,-999.000
31WTTUNES_3,       P16C,     258,          1,         31,         31,2,19910912,       1819,    -1.6695,  -150.9960,       4889,   157.0,  18.4357,  35.5068,2,  35.4717,2,    113.7,2,   101.5,2,    7.23,2,   15.00,3,    0.38,2,    1.33,2,   1.394,2,   0.753,2,  -999.0,9,  -999.0,9,-999.000,9,-999.0000,9, -999.00,9, -999.00,9,  -999.0,9,  -999.0,    18.4082,-999.0000,-999.000,-999.000
31WTTUNES_3,       P16C,     258,          1,         30,         30,2,19910912,       1819,    -1.6695,  -150.9960,       4889,   178.2,  17.4203,  35.3165,2,  35.1644,2,     88.0,2,    56.8,2,   13.77,2,   24.04,3,    0.03,2,    1.82,2,   0.843,3,   0.351,3,  -999.0,9,  -999.0,9,-999.000,9,-999.0000,9, -999.00,9, -999.00,9,  -999.0,9,  -999.0,    17.3903,-999.0000,-999.000,-999.000
31WTTUNES_3,       P16C,     258,          1,         29,         29,2,19910912,       1819,    -1.6695,  -150.9960,       4889,   209.1,  13.1884,  34.9594,2,  34.9374,2,     25.1,2,    22.4,2,   21.65,2,   31.35,3,    0.01,2,    2.21,2,   0.341,6,   0.215,6,  -999.0,9,  -999.0,9,-999.000,9,-999.0000,9, -999.00,9, -999.00,9,  -999.0,9,  -999.0,    13.1593,-999.0000,-999.000,-999.000
31WTTUNES_3,       P16C,     258,          1,         28,         28,2,19910912,       1819,    -1.6695,  -150.9960,       4889,   259.5,  12.4291,  34.8949,2,  34.8774,2,     24.1,2,    29.3,2,   23.95,2,   31.53,3,    0.01,2,    2.22,2,   0.243,2,   0.144,2,  -999.0,9,  -999.0,9,-999.000,9,-999.0000,9, -999.00,9, -999.00,9,  -999.0,9,  -999.0,    12.3944,-999.0000,-999.000,-999.000
31WTTUNES_3,       P16C,     258,          1,         27,         27,2,19910912,       1819,    -1.6695,  -150.9960,       4889,   310.4,  11.4665,  34.8275,2,  34.8206,2,     65.1,2,    72.0,2,   23.36,2,   28.73,3,    0.01,2,    2.00,2,   0.313,6,   0.186,6,  -999.0,9,  -999.0,9,-999.000,9,-999.0000,9, -999.00,9, -999.00,9,  -999.0,9,  -999.0,    11.4272,-999.0000,-999.000,-999.000
31WTTUNES_3,       P16C,     258,          1,         26,         26,2,19910912,       1819,    -1.6695,  -150.9960,       4889,   412.3,  10.1825,  34.7409,2,  34.7276,2,     75.4,2,    64.9,2,   28.36,2,   32.36,3,    0.01,2,    2.24,2,-999.000,9,-999.000,9,  -999.0,9,  -999.0,9,-999.000,9,-999.0000,9, -999.00,9, -999.00,9,  -999.0,9,  -999.0,    10.1337,-999.0000,-999.000,-999.000
31WTTUNES_3,       P16C,     258,          1,         25,         25,2,19910912,       1819,    -1.6695,  -150.9960,       4889,   514.5,   8.0683,  34.6269,2,  34.6213,2,     42.8,2,    42.8,2,   42.21,2,   39.02,3,    0.01,2,    2.66,2,-999.000,9,-999.000,9,  -999.0,9,  -999.0,9,-999.000,9,-999.0000,9, -999.00,9, -999.00,9,  -999.0,9,  -999.0,     8.0152,-999.0000,-999.000,-999.000
31WTTUNES_3,       P16C,     258,          1,         24,         24,2,19910912,       1819,    -1.6695,  -150.9960,       4889,   617.8,   6.7644,  34.5634,2,  34.5590,2,     88.2,2,    80.0,2,   50.09,2,   38.08,3,    0.00,2,    2.62,2,-999.000,9,-999.000,9,  -999.0,9,  -999.0,9,-999.000,9,-999.0000,9, -999.00,9, -999.00,9,  -999.0,9,  -999.0,     6.7062,-999.0000,-999.000,-999.000
31WTTUNES_3,       P16C,     258,          1,         23,         23,2,19910912,       1819,    -1.6695,  -150.9960,       4889,   720.0,   5.9997,  34.5491,2,  34.5466,2,     83.9,2,    82.5,2,   56.24,2,   38.89,3,    0.00,2,    2.68,2,-999.000,9,-999.000,9,  -999.0,9,  -999.0,9,-999.000,9,-999.0000,9, -999.00,9, -999.00,9,  -999.0,9,  -999.0,     5.9356,-999.0000,-999.000,-999.000
31WTTUNES_3,       P16C,     258,          1,         22,         22,2,19910912,       1819,    -1.6695,  -150.9960,       4889,   821.7,   5.2581,  34.5437,2,  34.5413,2,     90.3,2,    87.5,2,   66.63,2,   39.28,3,    0.00,2,    2.72,2,  -0.008,2,  -0.005,2,  -999.0,9,  -999.0,9,-999.000,9,-999.0000,9, -999.00,9, -999.00,9,  -999.0,9,  -999.0,     5.1891,-999.0000,-999.000,-999.000
31WTTUNES_3,       P16C,     258,          1,         21,         21,2,19910912,       1819,    -1.6695,  -150.9960,       4889,   923.9,   4.7269,  34.5498,2,  34.5488,2,     88.5,2,    86.5,2,   77.20,2,   40.15,3,    0.00,2,    2.79,2,-999.000,9,-999.000,9,  -999.0,9,  -999.0,9,-999.000,9,-999.0000,9, -999.00,9, -999.00,9,  -999.0,9,  -999.0,     4.6523,-999.0000,-999.000,-999.000
31WTTUNES_3,       P16C,     258,          1,         20,         20,2,19910912,       1819,    -1.6695,  -150.9960,       4889,  1027.0,   4.3747,  34.5567,2,  34.5527,2,     92.2,2,    90.2,2,   84.89,2,   40.13,3,    0.00,2,    2.79,2,-999.000,9,-999.000,9,  -999.0,9,  -999.0,9,-999.000,9,-999.0000,9, -999.00,9, -999.00,9,  -999.0,9,  -999.0,     4.2939,-999.0000,-999.000,-999.000
31WTTUNES_3,       P16C,     258,          1,         19,         19,2,19910912,       1819,    -1.6695,  -150.9960,       4889,  1231.3,   3.7360,  34.5770,2,  34.5749,2,     91.2,2,    89.6,2,  102.02,2,   40.58,3,    0.00,2,    2.83,2,-999.000,9,-999.000,9,  -999.0,9,  -999.0,9,-999.000,9,   1.8790,2,   20.59,2, -999.00,9,  -999.0,9,  -999.0,     3.6430,-999.0000,-999.000,-999.000
31WTTUNES_3,       P16C,     258,          1,         18,         18,2,19910912,       1819,    -1.6695,  -150.9960,       4889,  1436.7,   3.0553,  34.5991,2,  34.5977,2,    106.1,2,   105.4,2,  114.70,2,   39.52,3,    0.00,2,    2.75,2,-999.000,9,-999.000,9,  -999.0,9,  -999.0,9,-999.000,9,   1.9070,2,   23.83,2, -999.00,9,  -999.0,9,  -999.0,     2.9521,-999.0000,-999.000,-999.000
31WTTUNES_3,       P16C,     258,          1,         17,         17,2,19910912,       1819,    -1.6695,  -150.9960,       4889,  1642.0,   2.6851,  34.6200,2,  34.6195,2,    101.9,2,   102.0,2,  128.35,2,   39.96,3,    0.00,2,    2.78,2,-999.000,9,-999.000,9,  -999.0,9,  -999.0,9,-999.000,9,   1.8920,2,   25.43,2, -999.00,9,  -999.0,9,  -999.0,     2.5690,-999.0000,-999.000,-999.000
31WTTUNES_3,       P16C,     258,          1,         16,         16,2,19910912,       1819,    -1.6695,  -150.9960,       4889,  1846.4,   2.4185,  34.6354,2,  34.6333,2,    104.7,2,   104.3,2,  136.81,2,   40.16,3,    0.00,2,    2.77,2,-999.000,9,-999.000,9,  -999.0,9,  -999.0,9,-999.000,9,   1.9030,2,   27.05,2, -999.00,9,  -999.0,9,  -999.0,     2.2889,-999.0000,-999.000,-999.000
31WTTUNES_3,       P16C,     258,          1,         15,         15,2,19910912,       1819,    -1.6695,  -150.9960,       4889,  2053.2,   2.2067,  34.6482,2,  34.6441,2,    106.9,2,   106.9,2,  142.76,2,   39.92,3,    0.00,2,    2.75,2,-999.000,9,-999.000,9,  -999.0,9,  -999.0,9,-999.000,9,   1.9220,2,   28.15,2, -999.00,9,  -999.0,9,  -999.0,     2.0625,-999.0000,-999.000,-999.000
31WTTUNES_3,       P16C,     258,          1,         14,         14,2,19910912,       1819,    -1.6695,  -150.9960,       4889,  2258.1,   2.0329,  34.6550,2,  34.6535,2,    115.4,2,   116.2,2,  144.29,2,   39.39,3,    0.00,2,    2.69,2,-999.000,9,-999.000,9,  -999.0,9,  -999.0,9,-999.000,9,   1.9270,2,   27.76,2, -999.00,9,  -999.0,9,  -999.0,     1.8738,-999.0000,-999.000,-999.000
31WTTUNES_3,       P16C,     258,          1,         13,         13,2,19910912,       1819,    -1.6695,  -150.9960,       4889,  2412.6,   1.9330,  34.6595,2,  34.6580,2,    121.2,2,   122.1,2,  145.24,2,   38.87,3,    0.01,2,    2.66,2,-999.000,9,-999.000,9,  -999.0,9,  -999.0,9,-999.000,9,   1.9230,2,   26.62,2, -999.00,9,  -999.0,9,  -999.0,     1.7619,-999.0000,-999.000,-999.000
31WTTUNES_3,       P16C,     258,          1,         12,         12,2,19910912,       1819,    -1.6695,  -150.9960,       4889,  2566.3,   1.8416,  34.6639,2,  34.6671,3,    127.9,2,   128.2,2,  144.84,2,   38.56,3,    0.00,2,    2.63,2,-999.000,9,-999.000,9,  -999.0,9,  -999.0,9,-999.000,9,   1.9200,2,   26.51,2, -999.00,9,  -999.0,9,  -999.0,     1.6582,-999.0000,-999.000,-999.000
31WTTUNES_3,       P16C,     258,          1,         11,         11,2,19910912,       1819,    -1.6695,  -150.9960,       4889,  2720.9,   1.7677,  34.6676,2,  34.6669,2,    132.1,2,   132.7,2,  145.21,2,   38.12,3,    0.00,2,    2.60,2,-999.000,9,-999.000,9,  -999.0,9,  -999.0,9,-999.000,9,   1.9150,2,   24.35,2, -999.00,9,  -999.0,9,  -999.0,     1.5715,-999.0000,-999.000,-999.000
31WTTUNES_3,       P16C,     258,          1,         10,         10,2,19910912,       1819,    -1.6695,  -150.9960,       4889,  2875.7,   1.7267,  34.6703,2,  34.6686,2,    133.8,2,   134.2,2,  146.55,2,   38.09,3,    0.00,2,    2.59,2,-999.000,9,-999.000,9,  -999.0,9,  -999.0,9,-999.000,9,   1.9380,2,   23.67,2, -999.00,9,  -999.0,9,  -999.0,     1.5168,-999.0000,-999.000,-999.000
31WTTUNES_3,       P16C,     258,          1,          9,          9,2,19910912,       1819,    -1.6695,  -150.9960,       4889,  3082.0,   1.6725,  34.6740,2,  34.6728,2,    139.9,2,   140.3,2,  145.37,2,   37.65,3,    0.00,2,    2.56,2,-999.000,9,-999.000,9,  -999.0,9,  -999.0,9,-999.000,9,   1.9220,2,   23.27,2, -999.00,9,  -999.0,9,  -999.0,     1.4440,-999.0000,-999.000,-999.000
31WTTUNES_3,       P16C,     258,          1,          8,          8,2,19910912,       1819,    -1.6695,  -150.9960,       4889,  3288.1,   1.5805,  34.6799,2,  34.6785,2,    146.2,2,   146.5,2,  145.75,2,   37.26,3,    0.00,2,    2.51,2,-999.000,9,-999.000,9,  -999.0,9,  -999.0,9,-999.000,9,   1.9130,2,   21.13,2, -999.00,9,  -999.0,9,  -999.0,     1.3338,-999.0000,-999.000,-999.000
31WTTUNES_3,       P16C,     258,          1,          7,          7,2,19910912,       1819,    -1.6695,  -150.9960,       4889,  3547.4,   1.4941,  34.6866,2,  34.6855,2,    152.5,2,   153.1,2,  146.68,2,   36.69,3,    0.01,2,    2.48,2,-999.000,9,-999.000,9,  -999.0,9,  -999.0,9,-999.000,9,   1.9140,2,   19.13,2, -999.00,9,  -999.0,9,  -999.0,     1.2233,-999.0000,-999.000,-999.000
31WTTUNES_3,       P16C,     258,          1,          6,          6,2,19910912,       1819,    -1.6695,  -150.9960,       4889,  3857.6,   1.4176,  34.6925,2,  34.6918,2,    160.7,2,   160.4,2,  147.06,2,   36.37,3,    0.00,2,    2.43,2,-999.000,9,-999.000,9,  -999.0,9,  -999.0,9,-999.000,9,   1.9040,2,   16.07,2, -999.00,9,  -999.0,9,  -999.0,     1.1162,-999.0000,-999.000,-999.000
31WTTUNES_3,       P16C,     258,          1,          5,          5,2,19910912,       1819,    -1.6695,  -150.9960,       4889,  4116.7,   1.4087,  34.6939,2,  34.6932,2,    164.4,2,   164.1,2,  145.32,2,   35.96,3,    0.00,2,    2.41,2,-999.000,9,-999.000,9,  -999.0,9,  -999.0,9,-999.000,9,   1.9120,2,   15.93,2, -999.00,9,  -999.0,9,  -999.0,     1.0795,-999.0000,-999.000,-999.000
31WTTUNES_3,       P16C,     258,          1,          4,          4,2,19910912,       1819,    -1.6695,  -150.9960,       4889,  4377.2,   1.3988,  34.6960,2,  34.6960,2,    168.2,2,   168.2,2,  142.62,2,   35.62,3,    0.00,2,    2.40,2,-999.000,9,-999.000,9,  -999.0,9,  -999.0,9,-999.000,9,   1.9000,2,   15.61,2, -999.00,9,  -999.0,9,  -999.0,     1.0410,-999.0000,-999.000,-999.000
31WTTUNES_3,       P16C,     258,          1,          3,          3,2,19910912,       1819,    -1.6695,  -150.9960,       4889,  4638.1,   1.3440,  34.7001,2,  34.7005,2,    182.9,2,   181.8,2,  133.16,2,   34.17,3,    0.00,2,    2.33,2,-999.000,9,-999.000,9,  -999.0,9,  -999.0,9,-999.000,9,   1.8760,2,   14.09,2, -999.00,9,  -999.0,9,  -999.0,     0.9579,-999.0000,-999.000,-999.000
31WTTUNES_3,       P16C,     258,          1,          2,          2,2,19910912,       1819,    -1.6695,  -150.9960,       4889,  4900.8,   1.3237,  34.7012,2,  34.7020,2,    188.6,2,   187.6,2,  129.89,2,   33.82,3,    0.00,2,    2.30,2,-999.000,9,-999.000,9,  -999.0,9,  -999.0,9,-999.000,9,   1.8840,2,   13.37,2, -999.00,9,  -999.0,9,  -999.0,     0.9073,-999.0000,-999.000,-999.000
31WTTUNES_3,       P16C,     258,          1,          1,          1,2,19910912,       1819,    -1.6695,  -150.9960,       4889,  4957.0,   1.3248,  34.7022,2,  34.7030,2,    187.3,2,   189.4,2,  129.49,2,   33.73,3,    0.01,2,    2.30,2,-999.000,9,-999.000,9,  -999.0,9,  -999.0,9,-999.000,9,-999.0000,9, -999.00,9, -999.00,9,  -999.0,9,  -999.0,     0.9016,-999.0000,-999.000,-999.000
31WTTUNES_3,       P16C,     259,          5,         11,         11,2,19910913,       1310,    -1.5248,  -150.9923,       4873,    23.6,  27.7119,  35.4283,2,  35.4438,2,    214.8,3,   216.3,2, -999.00,9, -999.00,9, -999.00,9, -999.00,9,-999.000,9,-999.000,9,  -999.0,9,  -999.0,9,-999.000,9,-999.0000,9, -999.00,9, -999.00,9,  -999.0,9,  -999.0,    27.7063,-999.0000,-999.000,-999.000
31WTTUNES_3,       P16C,     259,          5,         10,         10,2,19910913,       1310,    -1.5248,  -150.9923,       4873,   137.2,  24.3407,  35.8134,2,  35.8034,2,    162.6,2,   165.0,2, -999.00,9, -999.00,9, -999.00,9, -999.00,9,-999.000,9,-999.000,9,  -999.0,9,  -999.0,9,-999.000,9,-999.0000,9, -999.00,9, -999.00,9,  -999.0,9,  -999.0,    24.3114,-999.0000,-999.000,-999.000
31WTTUNES_3,       P16C,     259,          5,          9,          9,2,19910913,       1310,    -1.5248,  -150.9923,       4873,   289.3,  11.5761,  34.8255,2,  34.8271,2,     59.9,2,    67.3,2, -999.00,9, -999.00,9, -999.00,9, -999.00,9,-999.000,9,-999.000,9,  -999.0,9,  -999.0,9,-999.000,9,-999.0000,9, -999.00,9, -999.00,9,  -999.0,9,  -999.0,    11.5391,-999.0000,-999.000,-999.000
31WTTUNES_3,       P16C,     259,          5,          8,          8,2,19910913,       1310,    -1.5248,  -150.9923,       4873,   498.7,   8.4446,  34.6415,2,  34.6472,2,     36.4,2,    35.0,2, -999.00,9, -999.00,9, -999.00,9, -999.00,9,-999.000,9,-999.000,9,  -999.0,9,  -999.0,9,-999.000,9,-999.0000,9, -999.00,9, -999.00,9,  -999.0,9,  -999.0,     8.3918,-999.0000,-999.000,-999.000
31WTTUNES_3,       P16C,     259,          5,          7,          7,2,19910913,       1310,    -1.5248,  -150.9923,       4873,   728.6,   5.9725,  34.5457,2,  34.5518,2,     78.7,2,    75.8,2, -999.00,9, -999.00,9, -999.00,9, -999.00,9,-999.000,9,-999.000,9,  -999.0,9,  -999.0,9,-999.000,9,-999.0000,9, -999.00,9, -999.00,9,  -999.0,9,  -999.0,     5.9078,-999.0000,-999.000,-999.000
31WTTUNES_3,       P16C,     259,          5,          6,          6,2,19910913,       1310,    -1.5248,  -150.9923,       4873,  1537.4,   2.9616,  34.5996,2,  34.6036,2,    104.4,2,   104.5,2, -999.00,9, -999.00,9, -999.00,9, -999.00,9,-999.000,9,-999.000,9,  -999.0,9,  -999.0,9,-999.000,9,-999.0000,9, -999.00,9, -999.00,9,  -999.0,9,  -999.0,     2.8510,-999.0000,-999.000,-999.000
31WTTUNES_3,       P16C,     259,          5,          5,          5,2,19910913,       1310,    -1.5248,  -150.9923,       4873,  3078.1,   1.6644,  34.6725,2,  34.6736,2,    136.2,2,   139.3,2, -999.00,9, -999.00,9, -999.00,9, -999.00,9,-999.000,9,-999.000,9,  -999.0,9,  -999.0,9,-999.000,9,-999.0000,9, -999.00,9, -999.00,9,  -999.0,9,  -999.0,     1.4365,-999.0000,-999.000,-999.000
31WTTUNES_3,       P16C,     259,          5,          4,          4,2,19910913,       1310,    -1.5248,  -150.9923,       4873,  3594.5,   1.4801,  34.6865,2,  34.6865,2,    152.6,2,   154.9,2, -999.00,9, -999.00,9, -999.00,9, -999.00,9,-999.000,9,-999.000,9,  -999.0,9,  -999.0,9,-999.000,9,-999.0000,9, -999.00,9, -999.00,9,  -999.0,9,  -999.0,     1.2047,-999.0000,-999.000,-999.000
31WTTUNES_3,       P16C,     259,          5,          3,          3,2,19910913,       1310,    -1.5248,  -150.9923,       4873,  4111.2,   1.4146,  34.6939,2,  34.6930,2,    162.5,2,   164.2,2, -999.00,9, -999.00,9, -999.00,9, -999.00,9,-999.000,9,-999.000,9,  -999.0,9,  -999.0,9,-999.000,9,-999.0000,9, -999.00,9, -999.00,9,  -999.0,9,  -999.0,     1.0858,-999.0000,-999.000,-999.000
31WTTUNES_3,       P16C,     259,          5,          2,          2,2,19910913,       1310,    -1.5248,  -150.9923,       4873,  4629.7,   1.3511,  34.7002,2,  34.6993,2,    180.5,2,   182.0,2, -999.00,9, -999.00,9, -999.00,9, -999.00,9,-999.000,9,-999.000,9,  -999.0,9,  -999.0,9,-999.000,9,-999.0000,9, -999.00,9, -999.00,9,  -999.0,9,  -999.0,     0.9657,-999.0000,-999.000,-999.000
31WTTUNES_3,       P16C,     259,          5,          1,          1,2,19910913,       1310,    -1.5248,  -150.9923,       4873,  4931.0,   1.3277,  34.7029,2,  34.7024,2,    188.2,2,   191.0,2, -999.00,9, -999.00,9, -999.00,9, -999.00,9,-999.000,9,-999.000,9,  -999.0,9,  -999.0,9,-999.000,9,-999.0000,9, -999.00,9, -999.00,9,  -999.0,9,  -999.0,     0.9075,-999.0000,-999.000,-999.000