BOTTLE,20211117CCHSIORKP
EXPOCODE,SECT_ID,STNNBR,CASTNO,SAMPNO,BTLNBR,BTLNBR_FLAG_W,DATE,TIME,LATITUDE,LONGITUDE,DEPTH,CTDPRS,CTDTMP,CTDSAL,CTDSAL_FLAG_W,SALNTY,SALNTY_FLAG_W,CTDOXY,CTDOXY_FLAG_W,OXYGEN,OXYGEN_FLAG_W,SILCAT,SILCAT_FLAG_W,NITRAT,NITRAT_FLAG_W,NITRIT,NITRIT_FLAG_W,PHSPHT,PHSPHT_FLAG_W,CFC-11,CFC-11_FLAG_W,CFC-12,CFC-12_FLAG_W,TCARBN,TCARBN_FLAG_W,ALKALI,ALKALI_FLAG_W,TRITUM,TRITUM_FLAG_W,HELIUM,HELIUM_FLAG_W,DELHE3,DELHE3_FLAG_W,DELC13,DELC13_FLAG_W,DELC14,DELC14_FLAG_W,C14ERR,THETA,HELIER,DELHER,TRITER
,,,,,,,,,,,METERS,DBAR,ITS-90,PSS-78,,PSS-78,,UMOL/KG,,UMOL/KG,,UMOL/KG,,UMOL/KG,,UMOL/KG,,UMOL/KG,,PMOL/KG,,PMOL/KG,,UMOL/KG,,UMOL/KG,,TU,,NMOL/KG,,PERCNT,,/MILLE,,/MILLE,,/MILLE,ITS-90,NMOL/KG,PERCNT,TU
31WTTUNES_3,       P16C,     302,          1,         36,         36,2,19910923,       2136,    10.9067,  -152.1123,       5340,     6.4,  28.4186,  33.8149,2,  33.8181,2,    207.8,3,   209.0,2,    1.99,2,    0.06,2,    0.00,2,    0.18,2,   1.636,2,   0.947,2,  1881.6,2,  2219.8,2,-999.000,9,-999.0000,9, -999.00,9,    1.56,2,    88.8,2,     3.4,    28.4171,-999.0000,-999.000,-999.000
31WTTUNES_3,       P16C,     302,          1,         35,         35,2,19910923,       2136,    10.9067,  -152.1123,       5340,    33.0,  26.8301,  34.3440,2,  34.3782,2,    226.3,2,   219.9,2,    1.96,2,    0.06,2,    0.00,2,    0.17,2,   1.819,6,   1.012,6,  1932.3,2,  2264.8,2,-999.000,9,-999.0000,9, -999.00,9,    1.52,2,    99.3,2,     3.8,    26.8226,-999.0000,-999.000,-999.000
31WTTUNES_3,       P16C,     302,          1,         34,         34,2,19910923,       2136,    10.9067,  -152.1123,       5340,    58.7,  20.0201,  34.8092,2,  34.4797,2,    211.8,2,   203.6,2,    3.50,2,    0.62,2,    0.03,2,    0.17,2,-999.000,9,-999.000,9,  2016.1,2,  2283.6,2,   2.053,2,   1.7580,2,    1.19,2,    1.37,2,    89.6,2,     3.3,    20.0093,   0.0080,   0.150,   0.010
31WTTUNES_3,       P16C,     302,          1,         33,         33,2,19910923,       2136,    10.9067,  -152.1123,       5340,    83.9,  16.7656,  34.5741,2,  34.8257,2,    160.8,2,   194.2,2,    3.87,2,    2.91,2,    0.14,2,    0.40,2,   2.310,2,   1.265,2,  2052.7,2,  2299.1,2,-999.000,9,-999.0000,9, -999.00,9,    1.09,2,   110.7,2,     3.4,    16.7520,-999.0000,-999.000,-999.000
31WTTUNES_3,       P16C,     302,          1,         32,         32,2,19910923,       2136,    10.9067,  -152.1123,       5340,   109.4,  13.6182,  34.3167,2,  34.4218,2,    130.9,2,   143.0,2,   10.74,2,   13.19,2,    0.04,2,    0.41,4,   1.879,2,   1.009,2,  2104.7,2,  2272.3,2,   2.180,2,   1.7820,2,    5.81,2,    0.57,2,    67.3,2,     2.9,    13.6029,   0.0080,   0.150,   0.010
31WTTUNES_3,       P16C,     302,          1,         31,         31,4,19910923,       2136,    10.9067,  -152.1123,       5340,   135.3,  11.6695,  34.4138,2,-999.0000,9,     61.1,2,  -999.0,9, -999.00,9, -999.00,9, -999.00,9, -999.00,9,   1.911,2,   1.069,2,  -999.0,9,  -999.0,9,-999.000,9,-999.0000,9, -999.00,9, -999.00,9,  -999.0,9,  -999.0,    11.6523,-999.0000,-999.000,-999.000
31WTTUNES_3,       P16C,     302,          1,         30,         30,2,19910923,       2136,    10.9067,  -152.1123,       5340,   160.8,  11.0868,  34.5298,2,  34.4744,2,     31.1,2,    46.7,2,   28.44,2,   28.54,2,    0.01,2,    2.25,2,   0.565,2,   0.301,2,  2217.0,2,  2284.9,2,-999.000,9,-999.0000,9, -999.00,9,   -0.06,6,   -34.6,6,     8.7,    11.0670,-999.0000,-999.000,-999.000
31WTTUNES_3,       P16C,     302,          1,         29,         29,2,19910923,       2136,    10.9067,  -152.1123,       5340,   211.0,  10.2713,  34.5945,2,  34.5975,2,     15.2,2,    14.8,2,   34.53,2,   32.20,2,    0.00,2,    2.54,2,   0.119,2,   0.072,2,  2251.8,2,  2296.2,2,   0.447,2,   1.8070,2,    8.18,2,   -0.14,2,   -77.6,2,     3.3,    10.2465,   0.0090,   0.150,   0.005
31WTTUNES_3,       P16C,     302,          1,         28,         28,2,19910923,       2136,    10.9067,  -152.1123,       5340,   263.1,   9.5426,  34.6010,2,  34.6016,2,     22.2,2,    20.6,2,   38.04,2,   34.80,2,    0.00,2,    2.56,2,   0.061,2,   0.040,2,  2257.4,2,  2302.5,2,   0.235,2,   1.8210,2,    7.07,2,   -0.04,2,   -85.1,2,     4.9,     9.5130,   0.0090,   0.150,   0.003
31WTTUNES_3,       P16C,     302,          1,         27,         27,2,19910923,       2136,    10.9067,  -152.1123,       5340,   313.6,   8.8965,  34.5950,2,  34.5912,2,     23.6,2,    23.0,2,   41.96,2,   36.08,2,    0.00,2,    2.63,2,   0.025,6,   0.025,6,  2264.8,2,  2306.0,2,   0.131,2,   1.8340,2,    6.73,2,   -0.01,2,  -114.0,2,     2.9,     8.8626,   0.0090,   0.150,   0.004
31WTTUNES_3,       P16C,     302,          1,         26,         26,2,19910923,       2136,    10.9067,  -152.1123,       5340,   415.7,   8.0323,  34.5648,2,  34.5580,2,     21.2,2,    22.5,2,   51.20,2,   37.64,2,    0.00,2,    2.82,2,   0.008,2,   0.007,2,  2278.7,2,  2317.1,2,   0.040,2,   1.8500,2,    7.75,2,   -0.05,2,  -113.9,2,     2.7,     7.9898,   0.0090,   0.150,   0.002
31WTTUNES_3,       P16C,     302,          1,         25,         25,2,19910923,       2136,    10.9067,  -152.1123,       5340,   517.9,   7.0931,  34.5367,2,  34.5327,2,     30.6,2,    28.9,2,   60.24,2,   39.11,2,    0.00,2,    2.89,2,   0.002,2,   0.009,2,  2290.6,2,  2324.2,2,   0.023,2,   1.8610,2,    9.38,2,   -0.11,2,  -137.3,2,     4.1,     7.0434,   0.0090,   0.150,   0.002
31WTTUNES_3,       P16C,     302,          1,         24,         24,2,19910923,       2136,    10.9067,  -152.1123,       5340,   620.3,   6.2527,  34.5191,2,  34.5184,2,     30.8,2,    30.4,2,   70.67,2,   40.62,2,    0.00,2,    2.99,2,   0.003,2,   0.001,2,  2304.4,2,  2336.4,2,   0.021,2,   1.8950,2,   11.34,2,   -0.17,2,  -152.2,2,     4.8,     6.1968,   0.0090,   0.150,   0.003
31WTTUNES_3,       P16C,     302,          1,         23,         23,2,19910923,       2136,    10.9067,  -152.1123,       5340,   722.9,   5.5994,  34.5273,2,  34.5264,2,     25.2,2,    26.6,2,   80.70,2,   42.47,2,    0.00,2,    3.10,2,  -0.002,2,  -0.005,2,  2320.4,2,  2345.9,2,-999.000,9,-999.0000,9, -999.00,9,   -0.20,2,  -180.1,2,     3.7,     5.5373,-999.0000,-999.000,-999.000
31WTTUNES_3,       P16C,     302,          1,         22,         22,2,19910923,       2136,    10.9067,  -152.1123,       5340,   825.1,   5.0662,  34.5387,2,  34.5368,2,     25.2,2,    25.6,2,   88.76,2,   43.55,2,    0.00,2,    3.16,2,  -0.003,2,   0.004,2,  2332.3,2,  2353.6,2,-999.000,9,-999.0000,9, -999.00,9,   -0.20,2,  -175.0,2,     3.4,     4.9980,-999.0000,-999.000,-999.000
31WTTUNES_3,       P16C,     302,          1,         21,         21,2,19910923,       2136,    10.9067,  -152.1123,       5340,   927.6,   4.5642,  34.5514,2,  34.5484,2,     36.1,2,    36.2,2,   97.02,2,   43.26,2,    0.00,2,    3.14,2,-999.000,9,-999.000,9,  2336.0,2,  2364.3,2,-999.000,9,-999.0000,9, -999.00,9, -999.00,9,  -999.0,9,  -999.0,     4.4904,-999.0000,-999.000,-999.000
31WTTUNES_3,       P16C,     302,          1,         20,         20,2,19910923,       2136,    10.9067,  -152.1123,       5340,  1029.7,   4.1766,  34.5620,2,  34.5620,2,     45.2,2,    49.3,2,  104.49,2,   42.93,2,    0.00,2,    3.11,2,  -0.001,2,   0.003,2,  2339.3,2,  2373.5,2,-999.000,9,-999.0000,9, -999.00,9,   -0.32,2,  -200.4,2,     4.5,     4.0969,-999.0000,-999.000,-999.000
31WTTUNES_3,       P16C,     302,          1,         19,         19,2,19910923,       2136,    10.9067,  -152.1123,       5340,  1235.7,   3.6302,  34.5806,2,  34.5802,2,     58.7,2,    60.7,2,  117.09,2,   42.13,2,    0.00,2,    3.04,2,-999.000,9,-999.000,9,  2344.4,2,  2385.2,2,-999.000,9,-999.0000,9, -999.00,9, -999.00,9,  -999.0,9,  -999.0,     3.5380,-999.0000,-999.000,-999.000
31WTTUNES_3,       P16C,     302,          1,         18,         18,2,19910923,       2136,    10.9067,  -152.1123,       5340,  1440.4,   3.1450,  34.5973,2,  34.5983,2,     69.4,2,    70.3,2,  128.70,2,   41.51,2,    0.00,2,    2.97,2,-999.000,9,-999.000,9,  2353.4,2,  2400.1,2,-999.000,9,-999.0000,9, -999.00,9, -999.00,9,  -999.0,9,  -999.0,     3.0405,-999.0000,-999.000,-999.000
31WTTUNES_3,       P16C,     302,          1,         17,         17,2,19910923,       2136,    10.9067,  -152.1123,       5340,  1646.2,   2.6953,  34.6141,2,  34.6111,2,     79.8,2,    80.2,2,  138.15,2,   40.84,2,    0.00,2,    2.90,2,-999.000,9,-999.000,9,  -999.0,9,  2409.5,2,-999.000,9,-999.0000,9, -999.00,9, -999.00,9,  -999.0,9,  -999.0,     2.5788,-999.0000,-999.000,-999.000
31WTTUNES_3,       P16C,     302,          1,         16,         16,2,19910923,       2136,    10.9067,  -152.1123,       5340,  1852.7,   2.3455,  34.6318,2,  34.6307,2,     90.8,2,    90.7,2,  145.83,2,   40.13,2,    0.00,2,    2.84,2,-999.000,9,-999.000,9,  2359.1,2,  2418.3,2,-999.000,9,-999.0000,9, -999.00,9, -999.00,9,  -999.0,9,  -999.0,     2.2165,-999.0000,-999.000,-999.000
31WTTUNES_3,       P16C,     302,          1,         15,         15,2,19910923,       2136,    10.9067,  -152.1123,       5340,  2056.4,   2.1051,  34.6464,2,  34.6455,2,    100.0,2,    99.7,2,  150.34,2,   39.56,2,    0.00,2,    2.78,2,-999.000,9,-999.000,9,  -999.0,9,  2423.8,2,-999.000,9,-999.0000,9, -999.00,9, -999.00,9,  -999.0,9,  -999.0,     1.9622,-999.0000,-999.000,-999.000
31WTTUNES_3,       P16C,     302,          1,         14,         14,2,19910923,       2136,    10.9067,  -152.1123,       5340,  2261.4,   1.9585,  34.6559,2,  34.6553,2,    107.3,2,   106.9,2,  153.48,2,   39.13,2,    0.00,2,    2.74,2,-999.000,9,-999.000,9,  2359.8,2,  2431.5,2,-999.000,9,-999.0000,9, -999.00,9, -999.00,9,  -999.0,9,  -999.0,     1.8003,-999.0000,-999.000,-999.000
31WTTUNES_3,       P16C,     302,          1,         13,         13,2,19910923,       2136,    10.9067,  -152.1123,       5340,  2463.2,   1.8641,  34.6638,2,  34.6649,2,    112.1,2,   111.2,2,  155.83,2,   38.80,2,    0.00,2,    2.72,2,-999.000,9,-999.000,9,  -999.0,9,  -999.0,9,-999.000,9,-999.0000,9, -999.00,9, -999.00,9,  -999.0,9,  -999.0,     1.6896,-999.0000,-999.000,-999.000
31WTTUNES_3,       P16C,     302,          1,         12,         12,2,19910923,       2136,    10.9067,  -152.1123,       5340,  2665.1,   1.8098,  34.6677,2,  34.6680,2,    115.2,2,   115.7,2,  157.18,2,   38.47,2,    0.00,2,    2.71,2,-999.000,9,-999.000,9,  2357.8,2,  2436.0,2,-999.000,9,-999.0000,9, -999.00,9, -999.00,9,  -999.0,9,  -999.0,     1.6179,-999.0000,-999.000,-999.000
31WTTUNES_3,       P16C,     302,          1,         11,         11,2,19910923,       2136,    10.9067,  -152.1123,       5340,  2870.3,   1.7451,  34.6715,2,  34.6718,2,    121.7,2,   121.5,2,  156.98,2,   38.18,2,    0.00,2,    2.67,2,-999.000,9,-999.000,9,  -999.0,9,  -999.0,9,-999.000,9,-999.0000,9, -999.00,9, -999.00,9,  -999.0,9,  -999.0,     1.5353,-999.0000,-999.000,-999.000
31WTTUNES_3,       P16C,     302,          1,         10,         10,2,19910923,       2136,    10.9067,  -152.1123,       5340,  3084.4,   1.6850,  34.6749,2,  34.6747,2,    125.6,2,   126.3,2,  158.34,2,   37.85,2,    0.00,2,    2.64,2,-999.000,9,-999.000,9,  2352.0,2,  2436.8,2,-999.000,9,-999.0000,9, -999.00,9, -999.00,9,  -999.0,9,  -999.0,     1.4560,-999.0000,-999.000,-999.000
31WTTUNES_3,       P16C,     302,          1,          9,          9,2,19910923,       2136,    10.9067,  -152.1123,       5340,  3345.1,   1.6058,  34.6785,2,  34.6787,2,    133.0,2,   133.8,2,  158.51,2,   37.37,2,    0.00,2,    2.61,2,-999.000,9,-999.000,9,  -999.0,9,  -999.0,9,-999.000,9,-999.0000,9, -999.00,9, -999.00,9,  -999.0,9,  -999.0,     1.3528,-999.0000,-999.000,-999.000
31WTTUNES_3,       P16C,     302,          1,          8,          8,2,19910923,       2136,    10.9067,  -152.1123,       5340,  3604.9,   1.5336,  34.6825,2,  34.6857,2,    141.2,2,   141.8,2,  157.10,2,   36.81,2,    0.00,2,    2.57,2,-999.000,9,-999.000,9,  2339.6,2,  2431.0,2,-999.000,9,-999.0000,9, -999.00,9, -999.00,9,  -999.0,9,  -999.0,     1.2558,-999.0000,-999.000,-999.000
31WTTUNES_3,       P16C,     302,          1,          7,          7,2,19910923,       2136,    10.9067,  -152.1123,       5340,  3863.3,   1.4594,  34.6869,2,  34.6891,2,    152.5,2,   153.3,2,  151.76,2,   36.04,2,    0.00,2,    2.50,2,-999.000,9,-999.000,9,  -999.0,9,  -999.0,9,-999.000,9,-999.0000,9, -999.00,9, -999.00,9,  -999.0,9,  -999.0,     1.1564,-999.0000,-999.000,-999.000
31WTTUNES_3,       P16C,     302,          1,          6,          6,2,19910923,       2136,    10.9067,  -152.1123,       5340,  4124.2,   1.4094,  34.6915,2,  34.6926,2,    162.9,2,   164.1,2,  145.82,2,   35.38,2,    0.00,2,    2.45,2,-999.000,9,-999.000,9,  2319.3,2,  2420.1,2,-999.000,9,-999.0000,9, -999.00,9, -999.00,9,  -999.0,9,  -999.0,     1.0794,-999.0000,-999.000,-999.000
31WTTUNES_3,       P16C,     302,          1,          5,          5,2,19910923,       2136,    10.9067,  -152.1123,       5340,  4384.9,   1.3899,  34.6941,2,  34.6940,2,    169.0,2,   169.5,2,  142.44,2,   34.96,2,    0.00,2,    2.43,2,-999.000,9,-999.000,9,  -999.0,9,  -999.0,9,-999.000,9,-999.0000,9, -999.00,9, -999.00,9,  -999.0,9,  -999.0,     1.0314,-999.0000,-999.000,-999.000
31WTTUNES_3,       P16C,     302,          1,          4,          4,2,19910923,       2136,    10.9067,  -152.1123,       5340,  4645.6,   1.3735,  34.6962,2,  34.6958,2,    176.0,2,   175.6,2,  138.67,2,   34.53,2,    0.00,2,    2.40,2,-999.000,9,-999.000,9,  2304.5,2,  2407.6,2,-999.000,9,-999.0000,9, -999.00,9, -999.00,9,  -999.0,9,  -999.0,     0.9856,-999.0000,-999.000,-999.000
31WTTUNES_3,       P16C,     302,          1,          3,          3,2,19910923,       2136,    10.9067,  -152.1123,       5340,  4908.0,   1.3858,  34.6971,2,  34.6967,2,    179.2,2,   177.5,2,  137.46,2,   34.34,2,    0.00,2,    2.39,2,-999.000,9,-999.000,9,  -999.0,9,  -999.0,9,-999.000,9,-999.0000,9, -999.00,9, -999.00,9,  -999.0,9,  -999.0,     0.9664,-999.0000,-999.000,-999.000
31WTTUNES_3,       P16C,     302,          1,          2,          2,2,19910923,       2136,    10.9067,  -152.1123,       5340,  5169.7,   1.4133,  34.6975,2,  34.6987,2,    180.5,2,   178.5,2,  137.05,2,   34.38,2,    0.00,2,    2.40,2,-999.000,9,-999.000,9,  2299.5,2,  2404.6,2,-999.000,9,-999.0000,9, -999.00,9, -999.00,9,  -999.0,9,  -999.0,     0.9612,-999.0000,-999.000,-999.000
31WTTUNES_3,       P16C,     302,          1,          1,          1,2,19910923,       2136,    10.9067,  -152.1123,       5340,  5433.0,   1.4459,  34.6970,2,  34.6997,2,    179.5,2,   179.7,2,  137.03,2,   34.28,2,    0.00,2,    2.39,2,-999.000,9,-999.000,9,  2299.3,2,  2407.2,2,-999.000,9,-999.0000,9, -999.00,9, -999.00,9,  -999.0,9,  -999.0,     0.9598,-999.0000,-999.000,-999.000