BOTTLE,20211117CCHSIORKP
EXPOCODE,SECT_ID,STNNBR,CASTNO,SAMPNO,BTLNBR,BTLNBR_FLAG_W,DATE,TIME,LATITUDE,LONGITUDE,DEPTH,CTDPRS,CTDTMP,CTDSAL,CTDSAL_FLAG_W,SALNTY,SALNTY_FLAG_W,CTDOXY,CTDOXY_FLAG_W,OXYGEN,OXYGEN_FLAG_W,SILCAT,SILCAT_FLAG_W,NITRAT,NITRAT_FLAG_W,NITRIT,NITRIT_FLAG_W,PHSPHT,PHSPHT_FLAG_W,CFC-11,CFC-11_FLAG_W,CFC-12,CFC-12_FLAG_W,TCARBN,TCARBN_FLAG_W,ALKALI,ALKALI_FLAG_W,TRITUM,TRITUM_FLAG_W,HELIUM,HELIUM_FLAG_W,DELHE3,DELHE3_FLAG_W,DELC13,DELC13_FLAG_W,DELC14,DELC14_FLAG_W,C14ERR,THETA,HELIER,DELHER,TRITER
,,,,,,,,,,,METERS,DBAR,ITS-90,PSS-78,,PSS-78,,UMOL/KG,,UMOL/KG,,UMOL/KG,,UMOL/KG,,UMOL/KG,,UMOL/KG,,PMOL/KG,,PMOL/KG,,UMOL/KG,,UMOL/KG,,TU,,NMOL/KG,,PERCNT,,/MILLE,,/MILLE,,/MILLE,ITS-90,NMOL/KG,PERCNT,TU
31WTTUNES_3,       P16C,     293,          2,         36,         36,2,19910921,       0019,     6.4612,  -151.2573,       5281,     7.1,  28.9610,  34.0247,2,  34.0184,2,    200.3,3,   203.9,2,    1.90,2,    0.00,2,    0.00,2,    0.13,2,-999.000,9,-999.000,9,  -999.0,9,  -999.0,9,-999.000,9,-999.0000,9, -999.00,9, -999.00,9,  -999.0,9,  -999.0,    28.9593,-999.0000,-999.000,-999.000
31WTTUNES_3,       P16C,     293,          2,         35,         35,2,19910921,       0019,     6.4612,  -151.2573,       5281,    57.2,  28.9110,  34.0320,2,  34.0319,2,    207.7,2,   204.1,2,    1.90,2,    0.00,2,    0.00,2,    0.13,2,-999.000,9,-999.000,9,  -999.0,9,  -999.0,9,-999.000,9,-999.0000,9, -999.00,9, -999.00,9,  -999.0,9,  -999.0,    28.8973,-999.0000,-999.000,-999.000
31WTTUNES_3,       P16C,     293,          2,         34,         34,2,19910921,       0019,     6.4612,  -151.2573,       5281,   108.0,  23.7040,  34.8019,2,  34.8192,2,    159.7,2,   162.4,2,    4.86,2,    3.25,2,    0.18,2,    0.47,2,-999.000,9,-999.000,9,  -999.0,9,  -999.0,9,-999.000,9,-999.0000,9, -999.00,9, -999.00,9,  -999.0,9,  -999.0,    23.6815,-999.0000,-999.000,-999.000
31WTTUNES_3,       P16C,     293,          2,         33,         33,4,19910921,       0019,     6.4612,  -151.2573,       5281,   159.1,  15.6255,  34.6185,2,-999.0000,9,    102.0,2,  -999.0,9, -999.00,9, -999.00,9, -999.00,9, -999.00,9,-999.000,9,-999.000,9,  -999.0,9,  -999.0,9,-999.000,9,-999.0000,9, -999.00,9, -999.00,9,  -999.0,9,  -999.0,    15.6009,-999.0000,-999.000,-999.000
31WTTUNES_3,       P16C,     293,          2,         32,         32,2,19910921,       0019,     6.4612,  -151.2573,       5281,   210.1,  11.3288,  34.6747,2,  34.6633,2,     27.7,2,    32.7,2,   28.86,2,   31.49,2,    0.01,2,    2.33,2,-999.000,9,-999.000,9,  -999.0,9,  -999.0,9,-999.000,9,-999.0000,9, -999.00,9, -999.00,9,  -999.0,9,  -999.0,    11.3024,-999.0000,-999.000,-999.000
31WTTUNES_3,       P16C,     293,          2,         31,         31,2,19910921,       0019,     6.4612,  -151.2573,       5281,   260.8,  10.2423,  34.6804,2,  34.6798,2,     42.3,2,    43.6,2,   31.82,2,   32.46,2,    0.01,2,    2.34,2,-999.000,9,-999.000,9,  -999.0,9,  -999.0,9,-999.000,9,-999.0000,9, -999.00,9, -999.00,9,  -999.0,9,  -999.0,    10.2116,-999.0000,-999.000,-999.000
31WTTUNES_3,       P16C,     293,          2,         30,         30,2,19910921,       0019,     6.4612,  -151.2573,       5281,   311.9,   9.5893,  34.6659,2,  34.6657,2,     47.4,2,    44.8,2,   34.18,2,   33.83,2,    0.01,2,    2.40,2,-999.000,9,-999.000,9,  -999.0,9,  -999.0,9,-999.000,9,-999.0000,9, -999.00,9, -999.00,9,  -999.0,9,  -999.0,     9.5539,-999.0000,-999.000,-999.000
31WTTUNES_3,       P16C,     293,          2,         29,         29,2,19910921,       0019,     6.4612,  -151.2573,       5281,   362.3,   9.2454,  34.6561,2,  34.6561,2,     59.0,2,    53.7,2,   35.37,2,   34.14,2,    0.01,2,    2.42,2,-999.000,9,-999.000,9,  -999.0,9,  -999.0,9,-999.000,9,-999.0000,9, -999.00,9, -999.00,9,  -999.0,9,  -999.0,     9.2052,-999.0000,-999.000,-999.000
31WTTUNES_3,       P16C,     293,          2,         28,         28,2,19910921,       0019,     6.4612,  -151.2573,       5281,   413.1,   8.8375,  34.6421,2,  34.6352,2,     58.3,2,    60.0,2,   36.74,2,   34.19,2,    0.01,2,    2.42,2,-999.000,9,-999.000,9,  -999.0,9,  -999.0,9,-999.000,9,-999.0000,9, -999.00,9, -999.00,9,  -999.0,9,  -999.0,     8.7928,-999.0000,-999.000,-999.000
31WTTUNES_3,       P16C,     293,          2,         27,         27,2,19910921,       0019,     6.4612,  -151.2573,       5281,   464.6,   8.5996,  34.6308,2,  34.6288,2,     60.9,2,    53.3,2,   39.31,2,   35.43,2,    0.00,2,    2.52,2,-999.000,9,-999.000,9,  -999.0,9,  -999.0,9,-999.000,9,-999.0000,9, -999.00,9, -999.00,9,  -999.0,9,  -999.0,     8.5500,-999.0000,-999.000,-999.000
31WTTUNES_3,       P16C,     293,          2,         26,         26,2,19910921,       0019,     6.4612,  -151.2573,       5281,   515.6,   8.2427,  34.6190,2,  34.6119,2,     31.3,2,    27.8,2,   45.20,2,   38.07,2,    0.00,2,    2.78,2,-999.000,9,-999.000,9,  -999.0,9,  -999.0,9,-999.000,9,-999.0000,9, -999.00,9, -999.00,9,  -999.0,9,  -999.0,     8.1888,-999.0000,-999.000,-999.000
31WTTUNES_3,       P16C,     293,          2,         25,         25,2,19910921,       0019,     6.4612,  -151.2573,       5281,   618.9,   7.4089,  34.5857,2,  34.5747,2,     17.0,2,    20.5,2,   56.23,2,   40.51,2,    0.00,2,    2.99,2,-999.000,9,-999.000,9,  -999.0,9,  -999.0,9,-999.000,9,-999.0000,9, -999.00,9, -999.00,9,  -999.0,9,  -999.0,     7.3476,-999.0000,-999.000,-999.000
31WTTUNES_3,       P16C,     293,          2,         24,         24,2,19910921,       0019,     6.4612,  -151.2573,       5281,   721.7,   6.3233,  34.5576,2,  34.5535,2,     29.9,2,    28.0,2,   65.88,2,   41.99,2,    0.00,2,    3.05,2,-999.000,9,-999.000,9,  -999.0,9,  -999.0,9,-999.000,9,-999.0000,9, -999.00,9, -999.00,9,  -999.0,9,  -999.0,     6.2573,-999.0000,-999.000,-999.000
31WTTUNES_3,       P16C,     293,          2,         23,         23,2,19910921,       0019,     6.4612,  -151.2573,       5281,   822.9,   5.5745,  34.5485,2,  34.5498,2,     48.7,2,    47.2,2,   74.16,2,   41.40,2,    0.00,2,    2.99,2,-999.000,9,-999.000,9,  -999.0,9,  -999.0,9,-999.000,9,-999.0000,9, -999.00,9, -999.00,9,  -999.0,9,  -999.0,     5.5033,-999.0000,-999.000,-999.000
31WTTUNES_3,       P16C,     293,          2,         22,         22,2,19910921,       0019,     6.4612,  -151.2573,       5281,   925.9,   4.9914,  34.5534,2,  34.5502,2,     56.9,2,    57.7,2,   82.43,2,   41.26,2,    0.00,2,    2.97,2,-999.000,9,-999.000,9,  -999.0,9,  -999.0,9,-999.000,9,-999.0000,9, -999.00,9, -999.00,9,  -999.0,9,  -999.0,     4.9147,-999.0000,-999.000,-999.000
31WTTUNES_3,       P16C,     293,          2,         21,         21,2,19910921,       0019,     6.4612,  -151.2573,       5281,  1029.3,   4.5299,  34.5611,2,  34.5594,2,     64.4,2,    63.8,2,   90.69,2,   41.17,2,    0.00,2,    2.97,2,-999.000,9,-999.000,9,  -999.0,9,  -999.0,9,-999.000,9,-999.0000,9, -999.00,9, -999.00,9,  -999.0,9,  -999.0,     4.4475,-999.0000,-999.000,-999.000
31WTTUNES_3,       P16C,     293,          2,         20,         20,2,19910921,       0019,     6.4612,  -151.2573,       5281,  1232.7,   3.9274,  34.5782,2,  34.5749,2,     69.9,2,    68.9,2,  104.47,2,   41.27,2,    0.00,2,    2.97,2,-999.000,9,-999.000,9,  -999.0,9,  -999.0,9,-999.000,9,   1.8870,2,   20.66,2, -999.00,9,  -999.0,9,  -999.0,     3.8325,-999.0000,-999.000,-999.000
31WTTUNES_3,       P16C,     293,          2,         19,         19,2,19910921,       0019,     6.4612,  -151.2573,       5281,  1438.8,   3.3499,  34.5966,2,  34.5948,2,     73.5,2,    73.2,2,  118.64,2,   41.29,2,    0.01,2,    2.97,2,-999.000,9,-999.000,9,  -999.0,9,  -999.0,9,-999.000,9,   1.8970,2,   23.10,2, -999.00,9,  -999.0,9,  -999.0,     3.2432,-999.0000,-999.000,-999.000
31WTTUNES_3,       P16C,     293,          2,         18,         18,2,19910921,       0019,     6.4612,  -151.2573,       5281,  1643.6,   2.8370,  34.6145,2,  34.6111,2,     83.9,2,    83.6,2,  130.06,2,   40.66,2,    0.01,2,    2.91,2,-999.000,9,-999.000,9,  -999.0,9,  -999.0,9,-999.000,9,   1.9080,2,   25.18,2, -999.00,9,  -999.0,9,  -999.0,     2.7190,-999.0000,-999.000,-999.000
31WTTUNES_3,       P16C,     293,          2,         17,         17,2,19910921,       0019,     6.4612,  -151.2573,       5281,  1848.5,   2.4549,  34.6304,2,  34.6278,2,     92.1,2,    93.0,2,  139.71,2,   39.98,2,    0.01,2,    2.84,2,-999.000,9,-999.000,9,  -999.0,9,  -999.0,9,-999.000,9,   1.9160,2,   25.60,2, -999.00,9,  -999.0,9,  -999.0,     2.3245,-999.0000,-999.000,-999.000
31WTTUNES_3,       P16C,     293,          2,         16,         16,2,19910921,       0019,     6.4612,  -151.2573,       5281,  2055.5,   2.1522,  34.6469,2,  34.6441,2,    102.6,2,   103.7,2,  146.40,2,   39.35,2,    0.01,2,    2.78,2,-999.000,9,-999.000,9,  -999.0,9,  -999.0,9,-999.000,9,   1.9340,2,   27.81,2, -999.00,9,  -999.0,9,  -999.0,     2.0087,-999.0000,-999.000,-999.000
31WTTUNES_3,       P16C,     293,          2,         15,         15,2,19910921,       0019,     6.4612,  -151.2573,       5281,  2261.8,   1.9854,  34.6567,2,  34.6576,2,    109.9,2,   109.4,2,  150.54,2,   38.98,2,    0.00,2,    2.75,2,-999.000,9,-999.000,9,  -999.0,9,  -999.0,9,-999.000,9,   1.9390,2,   29.71,2, -999.00,9,  -999.0,9,  -999.0,     1.8267,-999.0000,-999.000,-999.000
31WTTUNES_3,       P16C,     293,          2,         14,         14,2,19910921,       0019,     6.4612,  -151.2573,       5281,  2417.8,   1.9108,  34.6625,2,  34.6616,2,    111.9,2,   112.5,2,  152.51,2,   38.74,2,    0.00,2,    2.73,2,-999.000,9,-999.000,9,  -999.0,9,  -999.0,9,-999.000,9,   1.9460,2,   31.09,2, -999.00,9,  -999.0,9,  -999.0,     1.7396,-999.0000,-999.000,-999.000
31WTTUNES_3,       P16C,     293,          2,         13,         13,2,19910921,       0019,     6.4612,  -151.2573,       5281,  2571.4,   1.8603,  34.6664,2,  34.6655,2,    113.9,2,   114.9,2,  154.29,2,   38.55,2,    0.00,2,    2.72,2,-999.000,9,-999.000,9,  -999.0,9,  -999.0,9,-999.000,9,   1.9360,2,   32.01,2, -999.00,9,  -999.0,9,  -999.0,     1.6760,-999.0000,-999.000,-999.000
31WTTUNES_3,       P16C,     293,          2,         12,         12,2,19910921,       0019,     6.4612,  -151.2573,       5281,  2726.8,   1.8163,  34.6690,2,  34.6677,2,    117.3,2,   117.4,2,  154.29,2,   38.30,2,    0.00,2,    2.69,2,-999.000,9,-999.000,9,  -999.0,9,  -999.0,9,-999.000,9,   1.9390,2,   31.43,2, -999.00,9,  -999.0,9,  -999.0,     1.6185,-999.0000,-999.000,-999.000
31WTTUNES_3,       P16C,     293,          2,         11,         11,2,19910921,       0019,     6.4612,  -151.2573,       5281,  2881.6,   1.7724,  34.6715,2,  34.6708,2,    120.0,2,   121.2,2,  155.28,2,   38.12,2,    0.00,2,    2.67,2,-999.000,9,-999.000,9,  -999.0,9,  -999.0,9,-999.000,9,   1.9450,2,   30.21,2, -999.00,9,  -999.0,9,  -999.0,     1.5610,-999.0000,-999.000,-999.000
31WTTUNES_3,       P16C,     293,          2,         10,         10,2,19910921,       0019,     6.4612,  -151.2573,       5281,  3089.3,   1.6840,  34.6764,2,  34.6755,2,    127.7,2,   129.2,2,  155.29,2,   37.72,2,    0.00,2,    2.63,2,-999.000,9,-999.000,9,  -999.0,9,  -999.0,9,-999.000,9,   1.9470,3,   26.83,2, -999.00,9,  -999.0,9,  -999.0,     1.4545,-999.0000,-999.000,-999.000
31WTTUNES_3,       P16C,     293,          2,          9,          9,2,19910921,       0019,     6.4612,  -151.2573,       5281,  3346.6,   1.5877,  34.6812,2,  34.6818,2,    137.3,2,   139.1,2,  152.92,2,   37.04,2,    0.00,2,    2.58,2,-999.000,9,-999.000,9,  -999.0,9,  -999.0,9,-999.000,9,   1.9220,2,   22.31,2, -999.00,9,  -999.0,9,  -999.0,     1.3350,-999.0000,-999.000,-999.000
31WTTUNES_3,       P16C,     293,          2,          8,          8,2,19910921,       0019,     6.4612,  -151.2573,       5281,  3604.5,   1.5208,  34.6848,2,  34.6840,2,    146.1,2,   148.5,2,  150.57,2,   36.50,2,    0.00,2,    2.53,2,-999.000,9,-999.000,9,  -999.0,9,  -999.0,9,-999.000,9,-999.0000,9, -999.00,9, -999.00,9,  -999.0,9,  -999.0,     1.2434,-999.0000,-999.000,-999.000
31WTTUNES_3,       P16C,     293,          2,          7,          7,2,19910921,       0019,     6.4612,  -151.2573,       5281,  3862.7,   1.4408,  34.6901,2,  34.6883,2,    158.1,2,   158.7,2,  146.63,2,   35.73,2,    0.00,2,    2.49,2,-999.000,9,-999.000,9,  -999.0,9,  -999.0,9,-999.000,9,   1.9110,2,   17.45,2, -999.00,9,  -999.0,9,  -999.0,     1.1382,-999.0000,-999.000,-999.000
31WTTUNES_3,       P16C,     293,          2,          6,          6,2,19910921,       0019,     6.4612,  -151.2573,       5281,  4121.8,   1.3943,  34.6935,2,  34.6932,2,    165.8,2,   166.1,2,  143.09,2,   35.14,2,    0.00,2,    2.44,2,-999.000,9,-999.000,9,  -999.0,9,  -999.0,9,-999.000,9,-999.0000,9, -999.00,9, -999.00,9,  -999.0,9,  -999.0,     1.0649,-999.0000,-999.000,-999.000
31WTTUNES_3,       P16C,     293,          2,          5,          5,2,19910921,       0019,     6.4612,  -151.2573,       5281,  4380.5,   1.3839,  34.6952,2,  34.6948,2,    170.3,2,   170.1,2,  141.33,2,   34.85,2,    0.00,2,    2.42,2,-999.000,9,-999.000,9,  -999.0,9,  -999.0,9,-999.000,9,-999.0000,9, -999.00,9, -999.00,9,  -999.0,9,  -999.0,     1.0261,-999.0000,-999.000,-999.000
31WTTUNES_3,       P16C,     293,          2,          4,          4,2,19910921,       0019,     6.4612,  -151.2573,       5281,  4640.8,   1.3872,  34.6961,2,  34.6965,2,    173.3,2,   173.8,2,  139.57,2,   34.61,2,    0.00,2,    2.40,2,-999.000,9,-999.000,9,  -999.0,9,  -999.0,9,-999.000,9,-999.0000,9, -999.00,9, -999.00,9,  -999.0,9,  -999.0,     0.9994,-999.0000,-999.000,-999.000
31WTTUNES_3,       P16C,     293,          2,          3,          3,2,19910921,       0019,     6.4612,  -151.2573,       5281,  4901.1,   1.4062,  34.6963,2,  34.6967,2,    175.6,2,   175.1,2,  138.18,2,   34.47,2,    0.00,2,    2.40,2,-999.000,9,-999.000,9,  -999.0,9,  -999.0,9,-999.000,9,   1.8890,2,   14.35,2, -999.00,9,  -999.0,9,  -999.0,     0.9870,-999.0000,-999.000,-999.000
31WTTUNES_3,       P16C,     293,          2,          2,          2,2,19910921,       0019,     6.4612,  -151.2573,       5281,  5163.3,   1.4379,  34.6960,2,  34.6977,2,    175.7,2,   176.6,2,  138.77,2,   34.47,2,    0.00,2,    2.40,2,-999.000,9,-999.000,9,  -999.0,9,  -999.0,9,-999.000,9,   1.8830,2,   14.35,2, -999.00,9,  -999.0,9,  -999.0,     0.9857,-999.0000,-999.000,-999.000
31WTTUNES_3,       P16C,     293,          2,          1,          1,2,19910921,       0019,     6.4612,  -151.2573,       5281,  5349.0,   1.4613,  34.6954,2,  34.6956,2,    175.1,2,   177.7,2,  138.78,2,   34.42,2,    0.00,2,    2.40,2,-999.000,9,-999.000,9,  -999.0,9,  -999.0,9,-999.000,9,-999.0000,9, -999.00,9, -999.00,9,  -999.0,9,  -999.0,     0.9853,-999.0000,-999.000,-999.000