BOTTLE,20211117CCHSIORKP
EXPOCODE,SECT_ID,STNNBR,CASTNO,SAMPNO,BTLNBR,BTLNBR_FLAG_W,DATE,TIME,LATITUDE,LONGITUDE,DEPTH,CTDPRS,CTDTMP,CTDSAL,CTDSAL_FLAG_W,SALNTY,SALNTY_FLAG_W,CTDOXY,CTDOXY_FLAG_W,OXYGEN,OXYGEN_FLAG_W,SILCAT,SILCAT_FLAG_W,NITRAT,NITRAT_FLAG_W,NITRIT,NITRIT_FLAG_W,PHSPHT,PHSPHT_FLAG_W,CFC-11,CFC-11_FLAG_W,CFC-12,CFC-12_FLAG_W,TCARBN,TCARBN_FLAG_W,ALKALI,ALKALI_FLAG_W,TRITUM,TRITUM_FLAG_W,HELIUM,HELIUM_FLAG_W,DELHE3,DELHE3_FLAG_W,DELC13,DELC13_FLAG_W,DELC14,DELC14_FLAG_W,C14ERR,THETA,HELIER,DELHER,TRITER
,,,,,,,,,,,METERS,DBAR,ITS-90,PSS-78,,PSS-78,,UMOL/KG,,UMOL/KG,,UMOL/KG,,UMOL/KG,,UMOL/KG,,UMOL/KG,,PMOL/KG,,PMOL/KG,,UMOL/KG,,UMOL/KG,,TU,,NMOL/KG,,PERCNT,,/MILLE,,/MILLE,,/MILLE,ITS-90,NMOL/KG,PERCNT,TU
31WTTUNES_3,       P16C,     292,          1,         36,         24,2,19910920,       1716,     5.9977,  -151.1798,       5131,     6.5,  28.7506,  34.3285,2,  34.3521,2,    199.8,3,   211.4,2,    1.96,2,    0.01,2,    0.00,2,    0.20,2,   1.594,2,   0.904,2,  -999.0,9,  -999.0,9,-999.000,9,-999.0000,9, -999.00,9, -999.00,9,  -999.0,9,  -999.0,    28.7491,-999.0000,-999.000,-999.000
31WTTUNES_3,       P16C,     292,          1,         35,         23,2,19910920,       1716,     5.9977,  -151.1798,       5131,    57.7,  28.9652,  34.6861,2,  34.5787,2,    212.5,2,   211.6,2,    2.13,2,    0.01,2,    0.00,2,    0.21,2,   1.601,2,   0.891,2,  -999.0,9,  -999.0,9,-999.000,9,-999.0000,9, -999.00,9, -999.00,9,  -999.0,9,  -999.0,    28.9513,-999.0000,-999.000,-999.000
31WTTUNES_3,       P16C,     292,          1,         34,         22,2,19910920,       1716,     5.9977,  -151.1798,       5131,   108.2,  25.6649,  34.7864,2,  34.7771,2,    172.3,2,   172.4,2,    4.27,2,    2.74,2,    0.17,2,    0.44,2,   1.680,2,   0.908,2,  -999.0,9,  -999.0,9,-999.000,9,-999.0000,9, -999.00,9, -999.00,9,  -999.0,9,  -999.0,    25.6411,-999.0000,-999.000,-999.000
31WTTUNES_3,       P16C,     292,          1,         33,         21,2,19910920,       1716,     5.9977,  -151.1798,       5131,   132.7,  21.2050,  34.8835,2,  34.8641,2,    134.8,2,   145.2,2,    6.60,2,    7.79,2,    0.10,2,    0.71,2,   1.567,6,   0.854,6,  -999.0,9,  -999.0,9,-999.000,9,-999.0000,9, -999.00,9, -999.00,9,  -999.0,9,  -999.0,    21.1795,-999.0000,-999.000,-999.000
31WTTUNES_3,       P16C,     292,          1,         32,         20,2,19910920,       1716,     5.9977,  -151.1798,       5131,   158.1,  18.0675,  34.6996,2,  34.6736,2,    125.6,2,   121.0,2,   12.07,2,   14.24,2,    0.02,2,    1.18,2,   0.547,4,   0.790,2,  -999.0,9,  -999.0,9,-999.000,9,-999.0000,9, -999.00,9, -999.00,9,  -999.0,9,  -999.0,    18.0403,-999.0000,-999.000,-999.000
31WTTUNES_3,       P16C,     292,          1,         31,         19,2,19910920,       1716,     5.9977,  -151.1798,       5131,   183.4,  13.4533,  34.6314,2,  34.6325,2,     63.3,2,    66.7,2,   22.46,2,   24.92,2,    0.01,2,    1.90,2,   0.767,2,   0.410,2,  -999.0,9,  -999.0,9,-999.000,9,-999.0000,9, -999.00,9, -999.00,9,  -999.0,9,  -999.0,    13.4276,-999.0000,-999.000,-999.000
31WTTUNES_3,       P16C,     292,          1,         30,         18,2,19910920,       1716,     5.9977,  -151.1798,       5131,   209.6,  11.2331,  34.6546,2,  34.6242,2,     50.8,2,    64.8,2,   27.15,2,   27.55,2,    0.01,2,    2.05,2,   0.514,2,   0.305,2,  -999.0,9,  -999.0,9,-999.000,9,-999.0000,9, -999.00,9, -999.00,9,  -999.0,9,  -999.0,    11.2070,-999.0000,-999.000,-999.000
31WTTUNES_3,       P16C,     292,          1,         29,         17,2,19910920,       1716,     5.9977,  -151.1798,       5131,   260.8,   9.9368,  34.6564,2,  34.6539,2,     76.2,2,    74.9,2,   31.63,2,   30.05,2,    0.00,2,    2.18,2,   0.259,2,   0.152,2,  -999.0,9,  -999.0,9,-999.000,9,-999.0000,9, -999.00,9, -999.00,9,  -999.0,9,  -999.0,     9.9067,-999.0000,-999.000,-999.000
31WTTUNES_3,       P16C,     292,          1,         28,         16,2,19910920,       1716,     5.9977,  -151.1798,       5131,   312.3,   9.4540,  34.6633,2,  34.6570,2,     72.1,2,    71.5,2,   33.19,2,   31.41,2,    0.01,2,    2.31,2,   0.182,2,   0.105,2,  -999.0,9,  -999.0,9,-999.000,9,-999.0000,9, -999.00,9, -999.00,9,  -999.0,9,  -999.0,     9.4189,-999.0000,-999.000,-999.000
31WTTUNES_3,       P16C,     292,          1,         27,         15,2,19910920,       1716,     5.9977,  -151.1798,       5131,   363.0,   9.1024,  34.6558,2,  34.6567,2,     67.8,2,    65.0,2,   33.76,2,   32.36,2,    0.01,2,    2.31,2,   0.142,2,   0.086,2,  -999.0,9,  -999.0,9,-999.000,9,-999.0000,9, -999.00,9, -999.00,9,  -999.0,9,  -999.0,     9.0625,-999.0000,-999.000,-999.000
31WTTUNES_3,       P16C,     292,          1,         26,         14,2,19910920,       1716,     5.9977,  -151.1798,       5131,   412.5,   8.8636,  34.6438,2,  34.6427,2,     56.8,2,    65.1,2,   35.69,2,   33.65,2,    0.01,2,    2.40,2,   0.122,2,   0.080,2,  -999.0,9,  -999.0,9,-999.000,9,-999.0000,9, -999.00,9, -999.00,9,  -999.0,9,  -999.0,     8.8188,-999.0000,-999.000,-999.000
31WTTUNES_3,       P16C,     292,          1,         25,         13,2,19910920,       1716,     5.9977,  -151.1798,       5131,   515.6,   8.1825,  34.6167,2,  34.6146,2,     48.1,2,    47.0,2,   41.57,2,   36.64,2,    0.00,2,    2.63,2,   0.033,2,   0.021,2,  -999.0,9,  -999.0,9,-999.000,9,-999.0000,9, -999.00,9, -999.00,9,  -999.0,9,  -999.0,     8.1288,-999.0000,-999.000,-999.000
31WTTUNES_3,       P16C,     292,          1,         24,         12,2,19910920,       1716,     5.9977,  -151.1798,       5131,   617.5,   7.3255,  34.5845,2,  34.5848,2,     27.6,2,    32.0,2,   51.17,2,   39.60,2,    0.01,2,    2.88,2,   0.002,2,   0.005,2,  -999.0,9,  -999.0,9,-999.000,9,-999.0000,9, -999.00,9, -999.00,9,  -999.0,9,  -999.0,     7.2649,-999.0000,-999.000,-999.000
31WTTUNES_3,       P16C,     292,          1,         23,         11,2,19910920,       1716,     5.9977,  -151.1798,       5131,   720.3,   6.4055,  34.5586,2,  34.5569,2,     33.9,2,    33.2,2,   63.32,2,   41.44,2,    0.01,2,    3.02,2,-999.000,9,-999.000,9,  -999.0,9,  -999.0,9,-999.000,9,-999.0000,9, -999.00,9, -999.00,9,  -999.0,9,  -999.0,     6.3392,-999.0000,-999.000,-999.000
31WTTUNES_3,       P16C,     292,          1,         22,         10,2,19910920,       1716,     5.9977,  -151.1798,       5131,   822.2,   5.6467,  34.5524,2,  34.5506,2,     36.1,2,    39.9,2,   73.12,2,   42.54,2,    0.01,2,    3.07,2,  -0.006,2,  -0.005,2,  -999.0,9,  -999.0,9,-999.000,9,-999.0000,9, -999.00,9, -999.00,9,  -999.0,9,  -999.0,     5.5753,-999.0000,-999.000,-999.000
31WTTUNES_3,       P16C,     292,          1,         21,          9,2,19910920,       1716,     5.9977,  -151.1798,       5131,   925.2,   5.0603,  34.5541,2,  34.5496,2,     49.2,2,    65.0,2,   80.76,2,   40.60,2,    0.01,2,    2.93,2,  -0.002,2,  -0.005,2,  -999.0,9,  -999.0,9,-999.000,9,-999.0000,9, -999.00,9, -999.00,9,  -999.0,9,  -999.0,     4.9832,-999.0000,-999.000,-999.000
31WTTUNES_3,       P16C,     292,          1,         20,          8,2,19910920,       1716,     5.9977,  -151.1798,       5131,  1028.0,   4.5670,  34.5615,2,  34.5592,2,     61.7,2,    60.9,2,   90.17,2,   41.50,2,    0.01,2,    3.00,2,-999.000,9,-999.000,9,  -999.0,9,  -999.0,9,-999.000,9,-999.0000,9, -999.00,9, -999.00,9,  -999.0,9,  -999.0,     4.4844,-999.0000,-999.000,-999.000
31WTTUNES_3,       P16C,     292,          1,         19,          7,2,19910920,       1716,     5.9977,  -151.1798,       5131,  1231.6,   3.9102,  34.5791,2,  34.5806,2,     65.6,2,    65.0,2,  106.45,2,   41.63,2,    0.00,2,    3.02,2,-999.000,9,-999.000,9,  -999.0,9,  -999.0,9,-999.000,9,-999.0000,9, -999.00,9, -999.00,9,  -999.0,9,  -999.0,     3.8155,-999.0000,-999.000,-999.000
31WTTUNES_3,       P16C,     292,          1,         18,          6,2,19910920,       1716,     5.9977,  -151.1798,       5131,  1437.9,   3.3505,  34.5972,2,  34.5952,2,     72.6,2,    72.4,2,  119.79,2,   41.28,2,    0.00,2,    2.99,2,-999.000,9,-999.000,9,  -999.0,9,  -999.0,9,-999.000,9,-999.0000,9, -999.00,9, -999.00,9,  -999.0,9,  -999.0,     3.2439,-999.0000,-999.000,-999.000
31WTTUNES_3,       P16C,     292,          1,         17,          5,2,19910920,       1716,     5.9977,  -151.1798,       5131,  1644.4,   2.9570,  34.6120,2,  34.6113,2,     80.0,2,    80.9,2,  129.58,2,   40.93,2,    0.00,2,    2.95,2,-999.000,9,-999.000,9,  -999.0,9,  -999.0,9,-999.000,9,-999.0000,9, -999.00,9, -999.00,9,  -999.0,9,  -999.0,     2.8374,-999.0000,-999.000,-999.000
31WTTUNES_3,       P16C,     292,          1,         16,          4,2,19910920,       1716,     5.9977,  -151.1798,       5131,  1850.3,   2.5407,  34.6268,2,  34.6258,2,     91.3,2,    92.8,2,  138.21,2,   40.09,2,    0.00,2,    2.86,2,-999.000,9,-999.000,9,  -999.0,9,  -999.0,9,-999.000,9,-999.0000,9, -999.00,9, -999.00,9,  -999.0,9,  -999.0,     2.4090,-999.0000,-999.000,-999.000
31WTTUNES_3,       P16C,     292,          1,         15,          3,2,19910920,       1716,     5.9977,  -151.1798,       5131,  2055.1,   2.2404,  34.6421,2,  34.6390,2,    100.4,2,   101.0,2,  144.28,2,   39.54,2,    0.00,2,    2.82,2,-999.000,9,-999.000,9,  -999.0,9,  -999.0,9,-999.000,9,-999.0000,9, -999.00,9, -999.00,9,  -999.0,9,  -999.0,     2.0955,-999.0000,-999.000,-999.000
31WTTUNES_3,       P16C,     292,          1,         14,          2,2,19910920,       1716,     5.9977,  -151.1798,       5131,  2261.0,   2.0177,  34.6558,2,  34.6523,2,    106.9,2,   107.7,2,  149.57,2,   39.20,2,    0.00,2,    2.78,2,-999.000,9,-999.000,9,  -999.0,9,  -999.0,9,-999.000,9,-999.0000,9, -999.00,9, -999.00,9,  -999.0,9,  -999.0,     1.8586,-999.0000,-999.000,-999.000
31WTTUNES_3,       P16C,     292,          1,         13,          1,2,19910920,       1716,     5.9977,  -151.1798,       5131,  2467.3,   1.8875,  34.6638,2,  34.6625,2,    111.8,2,   114.4,2,  153.28,2,   38.76,2,    0.00,2,    2.74,2,-999.000,9,-999.000,9,  -999.0,9,  -999.0,9,-999.000,9,-999.0000,9, -999.00,9, -999.00,9,  -999.0,9,  -999.0,     1.7123,-999.0000,-999.000,-999.000
31WTTUNES_3,       P16C,     292,          1,         12,         36,2,19910920,       1716,     5.9977,  -151.1798,       5131,  2673.5,   1.8228,  34.6684,2,  34.6667,2,    115.7,2,   116.2,2,  155.23,2,   38.52,2,    0.00,2,    2.72,2,  -0.003,2,   0.001,2,  -999.0,9,  -999.0,9,-999.000,9,-999.0000,9, -999.00,9, -999.00,9,  -999.0,9,  -999.0,     1.6299,-999.0000,-999.000,-999.000
31WTTUNES_3,       P16C,     292,          1,         11,         35,2,19910920,       1716,     5.9977,  -151.1798,       5131,  2879.4,   1.7749,  34.6709,2,  34.6696,2,    119.1,2,   119.6,2,  155.61,2,   38.24,2,    0.01,2,    2.69,2,   0.003,2,  -0.005,2,  -999.0,9,  -999.0,9,-999.000,9,-999.0000,9, -999.00,9, -999.00,9,  -999.0,9,  -999.0,     1.5636,-999.0000,-999.000,-999.000
31WTTUNES_3,       P16C,     292,          1,         10,         34,2,19910920,       1716,     5.9977,  -151.1798,       5131,  3084.7,   1.6773,  34.6764,2,  34.6739,2,    127.3,2,   127.2,2,  154.41,2,   37.80,2,    0.01,2,    2.64,2,   0.003,2,   0.005,2,  -999.0,9,  -999.0,9,-999.000,9,-999.0000,9, -999.00,9, -999.00,9,  -999.0,9,  -999.0,     1.4485,-999.0000,-999.000,-999.000
31WTTUNES_3,       P16C,     292,          1,          9,         33,2,19910920,       1716,     5.9977,  -151.1798,       5131,  3340.8,   1.5587,  34.6822,2,  34.6834,2,    139.1,2,   139.8,2,  152.43,2,   37.01,2,    0.01,2,    2.58,2,  -0.002,2,  -0.001,2,  -999.0,9,  -999.0,9,-999.000,9,-999.0000,9, -999.00,9, -999.00,9,  -999.0,9,  -999.0,     1.3072,-999.0000,-999.000,-999.000
31WTTUNES_3,       P16C,     292,          1,          8,         32,3,19910920,       1716,     5.9977,  -151.1798,       5131,  3594.0,   1.4941,  34.6863,2,  34.6802,4,    149.0,2,   138.1,4,  152.42,4,   37.16,4,    0.01,4,    2.59,4,  -0.003,2,   0.001,2,  -999.0,9,  -999.0,9,-999.000,9,-999.0000,9, -999.00,9, -999.00,9,  -999.0,9,  -999.0,     1.2185,-999.0000,-999.000,-999.000
31WTTUNES_3,       P16C,     292,          1,          7,         31,2,19910920,       1716,     5.9977,  -151.1798,       5131,  3845.6,   1.4389,  34.6899,2,  34.6893,2,    157.4,2,   157.6,2,  145.91,2,   35.82,2,    0.01,2,    2.48,2,   0.000,2,   0.002,2,  -999.0,9,  -999.0,9,-999.000,9,-999.0000,9, -999.00,9, -999.00,9,  -999.0,9,  -999.0,     1.1382,-999.0000,-999.000,-999.000
31WTTUNES_3,       P16C,     292,          1,          6,         30,2,19910920,       1716,     5.9977,  -151.1798,       5131,  4093.1,   1.4054,  34.6926,2,  34.6916,2,    163.4,2,   163.7,2,  142.18,2,   35.38,2,    0.01,2,    2.45,2,  -0.001,2,   0.007,2,  -999.0,9,  -999.0,9,-999.000,9,-999.0000,9, -999.00,9, -999.00,9,  -999.0,9,  -999.0,     1.0789,-999.0000,-999.000,-999.000
31WTTUNES_3,       P16C,     292,          1,          5,         29,2,19910920,       1716,     5.9977,  -151.1798,       5131,  4338.3,   1.3802,  34.6944,2,  34.6936,2,    170.0,2,   168.9,2,  140.59,2,   34.99,2,    0.01,2,    2.42,2,   0.000,2,   0.000,2,  -999.0,9,  -999.0,9,-999.000,9,-999.0000,9, -999.00,9, -999.00,9,  -999.0,9,  -999.0,     1.0273,-999.0000,-999.000,-999.000
31WTTUNES_3,       P16C,     292,          1,          4,         28,2,19910920,       1716,     5.9977,  -151.1798,       5131,  4577.8,   1.3814,  34.6955,2,  34.6963,2,    172.7,2,   171.9,2,  138.80,2,   34.73,2,    0.01,2,    2.40,2,  -0.002,2,  -0.003,2,  -999.0,9,  -999.0,9,-999.000,9,-999.0000,9, -999.00,9, -999.00,9,  -999.0,9,  -999.0,     1.0011,-999.0000,-999.000,-999.000
31WTTUNES_3,       P16C,     292,          1,          3,         27,2,19910920,       1716,     5.9977,  -151.1798,       5131,  4834.4,   1.4001,  34.6955,2,  34.6952,2,    174.8,2,   173.6,2,  138.20,2,   34.63,2,    0.01,2,    2.40,2,  -0.003,2,  -0.002,2,  -999.0,9,  -999.0,9,-999.000,9,-999.0000,9, -999.00,9, -999.00,9,  -999.0,9,  -999.0,     0.9891,-999.0000,-999.000,-999.000
31WTTUNES_3,       P16C,     292,          1,          2,         26,2,19910920,       1716,     5.9977,  -151.1798,       5131,  5093.7,   1.4270,  34.6957,2,  34.6967,2,    175.7,2,   174.2,2,  137.98,2,   34.55,2,    0.01,2,    2.40,2,  -0.001,2,   0.000,2,  -999.0,9,  -999.0,9,-999.000,9,-999.0000,9, -999.00,9, -999.00,9,  -999.0,9,  -999.0,     0.9837,-999.0000,-999.000,-999.000
31WTTUNES_3,       P16C,     292,          1,          1,         25,2,19910920,       1716,     5.9977,  -151.1798,       5131,  5203.0,   1.4401,  34.6955,2,  34.6956,2,    174.7,2,   174.1,2,  137.97,2,   34.55,2,    0.01,2,    2.40,2,  -0.002,6,  -0.005,6,  -999.0,9,  -999.0,9,-999.000,9,-999.0000,9, -999.00,9, -999.00,9,  -999.0,9,  -999.0,     0.9830,-999.0000,-999.000,-999.000