BOTTLE,20211117CCHSIORKP
EXPOCODE,SECT_ID,STNNBR,CASTNO,SAMPNO,BTLNBR,BTLNBR_FLAG_W,DATE,TIME,LATITUDE,LONGITUDE,DEPTH,CTDPRS,CTDTMP,CTDSAL,CTDSAL_FLAG_W,SALNTY,SALNTY_FLAG_W,CTDOXY,CTDOXY_FLAG_W,OXYGEN,OXYGEN_FLAG_W,SILCAT,SILCAT_FLAG_W,NITRAT,NITRAT_FLAG_W,NITRIT,NITRIT_FLAG_W,PHSPHT,PHSPHT_FLAG_W,CFC-11,CFC-11_FLAG_W,CFC-12,CFC-12_FLAG_W,TCARBN,TCARBN_FLAG_W,ALKALI,ALKALI_FLAG_W,TRITUM,TRITUM_FLAG_W,HELIUM,HELIUM_FLAG_W,DELHE3,DELHE3_FLAG_W,DELC13,DELC13_FLAG_W,DELC14,DELC14_FLAG_W,C14ERR,THETA,HELIER,DELHER,TRITER
,,,,,,,,,,,METERS,DBAR,ITS-90,PSS-78,,PSS-78,,UMOL/KG,,UMOL/KG,,UMOL/KG,,UMOL/KG,,UMOL/KG,,UMOL/KG,,PMOL/KG,,PMOL/KG,,UMOL/KG,,UMOL/KG,,TU,,NMOL/KG,,PERCNT,,/MILLE,,/MILLE,,/MILLE,ITS-90,NMOL/KG,PERCNT,TU
31WTTUNES_3,       P16C,     308,          3,         36,         36,2,19910926,       0135,    13.8425,  -152.6735,       6063,     8.6,  28.1087,  34.2438,2,  34.2580,3,    204.0,3,   209.8,2,    1.99,2,    0.05,2,    0.00,2,    0.15,2,   1.662,2,   0.858,4,  -999.0,9,  -999.0,9,-999.000,9,-999.0000,9, -999.00,9, -999.00,9,  -999.0,9,  -999.0,    28.1067,-999.0000,-999.000,-999.000
31WTTUNES_3,       P16C,     308,          3,         35,         35,2,19910926,       0135,    13.8425,  -152.6735,       6063,    49.5,  25.9149,  34.4404,2,  34.4966,2,    226.5,2,   227.7,2,    1.99,2,    0.05,2,    0.00,2,    0.16,2,   1.970,6,   0.990,2,  -999.0,9,  -999.0,9,-999.000,9,-999.0000,9, -999.00,9, -999.00,9,  -999.0,9,  -999.0,    25.9039,-999.0000,-999.000,-999.000
31WTTUNES_3,       P16C,     308,          3,         34,         34,2,19910926,       0135,    13.8425,  -152.6735,       6063,    88.7,  21.7175,  34.8753,2,  34.8387,2,    230.8,2,   221.9,2,    2.20,2,    0.05,2,    0.00,2,    0.17,2,   2.206,2,   2.624,4,  -999.0,9,  -999.0,9,-999.000,9,-999.0000,9, -999.00,9, -999.00,9,  -999.0,9,  -999.0,    21.7001,-999.0000,-999.000,-999.000
31WTTUNES_3,       P16C,     308,          3,         33,         33,2,19910926,       0135,    13.8425,  -152.6735,       6063,   130.5,  18.2092,  34.6743,2,  34.5250,2,    181.4,2,   164.2,2,    7.11,2,    8.55,2,    0.03,2,    0.76,2,   2.133,6,   1.160,2,  -999.0,9,  -999.0,9,-999.000,9,-999.0000,9, -999.00,9, -999.00,9,  -999.0,9,  -999.0,    18.1867,-999.0000,-999.000,-999.000
31WTTUNES_3,       P16C,     308,          3,         32,         32,2,19910926,       0135,    13.8425,  -152.6735,       6063,   171.5,  12.6286,  34.2813,2,  34.3046,2,    117.8,2,    95.7,2,   21.41,2,   22.35,2,    0.01,2,    1.78,2,   1.307,2,   5.148,4,  -999.0,9,  -999.0,9,-999.000,9,-999.0000,9, -999.00,9, -999.00,9,  -999.0,9,  -999.0,    12.6057,-999.0000,-999.000,-999.000
31WTTUNES_3,       P16C,     308,          3,         31,         31,2,19910926,       0135,    13.8425,  -152.6735,       6063,   211.9,  11.1656,  34.5339,2,  34.5380,2,     29.8,2,    31.8,2,   31.23,2,   30.37,2,    0.01,2,    2.39,2,   0.346,6,   0.210,2,  -999.0,9,  -999.0,9,-999.000,9,-999.0000,9, -999.00,9, -999.00,9,  -999.0,9,  -999.0,    11.1393,-999.0000,-999.000,-999.000
31WTTUNES_3,       P16C,     308,          3,         30,         30,2,19910926,       0135,    13.8425,  -152.6735,       6063,   263.1,  10.1936,  34.5883,2,  34.5808,2,     18.7,2,    18.8,2,   35.74,2,   32.98,2,    0.01,2,    2.52,2,   0.122,2,  -0.007,4,  -999.0,9,  -999.0,9,-999.000,9,-999.0000,9, -999.00,9, -999.00,9,  -999.0,9,  -999.0,    10.1628,-999.0000,-999.000,-999.000
31WTTUNES_3,       P16C,     308,          3,         29,         29,2,19910926,       0135,    13.8425,  -152.6735,       6063,   314.1,   9.6356,  34.5903,2,  34.5834,2,     12.4,2,    14.0,2,   39.87,2,   34.74,2,    0.01,2,    2.63,2,   0.045,6,   0.028,6,  -999.0,9,  -999.0,9,-999.000,9,-999.0000,9, -999.00,9, -999.00,9,  -999.0,9,  -999.0,     9.5999,-999.0000,-999.000,-999.000
31WTTUNES_3,       P16C,     308,          3,         28,         28,2,19910926,       0135,    13.8425,  -152.6735,       6063,   417.6,   8.3897,  34.5496,2,  34.5480,2,     17.4,2,    17.6,2,   48.32,2,   36.81,2,    0.00,2,    2.76,2,   0.009,2,  -0.008,4,  -999.0,9,  -999.0,9,-999.000,9,-999.0000,9, -999.00,9, -999.00,9,  -999.0,9,  -999.0,     8.3459,-999.0000,-999.000,-999.000
31WTTUNES_3,       P16C,     308,          3,         27,         27,2,19910926,       0135,    13.8425,  -152.6735,       6063,   518.8,   7.2767,  34.5124,2,  34.5154,2,     19.6,2,    21.4,2,   59.10,2,   38.61,2,    0.01,2,    2.90,2,   0.011,6,   0.013,2,  -999.0,9,  -999.0,9,-999.000,9,-999.0000,9, -999.00,9, -999.00,9,  -999.0,9,  -999.0,     7.2263,-999.0000,-999.000,-999.000
31WTTUNES_3,       P16C,     308,          3,         26,         26,2,19910926,       0135,    13.8425,  -152.6735,       6063,   620.5,   6.3782,  34.4985,2,  34.5001,2,     18.7,2,    18.4,2,   71.47,2,   40.72,2,    0.01,2,    3.03,2,   0.003,2,  -0.005,2,  -999.0,9,  -999.0,9,-999.000,9,-999.0000,9, -999.00,9, -999.00,9,  -999.0,9,  -999.0,     6.3217,-999.0000,-999.000,-999.000
31WTTUNES_3,       P16C,     308,          3,         25,         25,2,19910926,       0135,    13.8425,  -152.6735,       6063,   723.3,   5.6731,  34.5026,2,  34.5064,2,     21.3,2,    21.3,2,   81.67,2,   42.26,2,    0.00,2,    3.10,2,   0.001,2,  -0.007,4,  -999.0,9,  -999.0,9,-999.000,9,-999.0000,9, -999.00,9, -999.00,9,  -999.0,9,  -999.0,     5.6107,-999.0000,-999.000,-999.000
31WTTUNES_3,       P16C,     308,          3,         24,         24,2,19910926,       0135,    13.8425,  -152.6735,       6063,   823.4,   5.1047,  34.5138,2,  34.5178,2,     24.0,2,    25.1,2,   91.29,2,   43.14,2,    0.01,2,    3.14,2,   0.010,2,   0.004,2,  -999.0,9,  -999.0,9,-999.000,9,-999.0000,9, -999.00,9, -999.00,9,  -999.0,9,  -999.0,     5.0364,-999.0000,-999.000,-999.000
31WTTUNES_3,       P16C,     308,          3,         23,         23,2,19910926,       0135,    13.8425,  -152.6735,       6063,   926.2,   4.6149,  34.5278,2,  34.5327,2,     31.9,2,    33.1,2,  100.72,2,   43.27,2,    0.00,2,    3.14,2,   0.000,2,  -0.005,4,  -999.0,9,  -999.0,9,-999.000,9,-999.0000,9, -999.00,9, -999.00,9,  -999.0,9,  -999.0,     4.5409,-999.0000,-999.000,-999.000
31WTTUNES_3,       P16C,     308,          3,         22,         22,2,19910926,       0135,    13.8425,  -152.6735,       6063,  1131.4,   3.8684,  34.5573,2,  34.5561,2,     45.6,2,    43.6,2,  112.89,2,   42.88,2,    0.00,2,    3.10,2,  -0.006,2,  -0.005,2,  -999.0,9,  -999.0,9,-999.000,9,-999.0000,9, -999.00,9, -999.00,9,  -999.0,9,  -999.0,     3.7827,-999.0000,-999.000,-999.000
31WTTUNES_3,       P16C,     308,          3,         21,         21,2,19910926,       0135,    13.8425,  -152.6735,       6063,  1336.9,   3.3306,  34.5777,2,  34.5775,2,     57.8,2,    57.0,2,  124.66,2,   42.28,2,    0.00,2,    3.04,2,-999.000,9,-999.000,9,  -999.0,9,  -999.0,9,-999.000,9,-999.0000,9, -999.00,9, -999.00,9,  -999.0,9,  -999.0,     3.2327,-999.0000,-999.000,-999.000
31WTTUNES_3,       P16C,     308,          3,         20,         20,2,19910926,       0135,    13.8425,  -152.6735,       6063,  1544.6,   2.8517,  34.5967,2,  34.5969,2,     70.7,2,    70.2,2,  135.66,2,   41.34,2,    0.00,2,    2.95,2,-999.000,9,-999.000,9,  -999.0,9,  -999.0,9,-999.000,9,-999.0000,9, -999.00,9, -999.00,9,  -999.0,9,  -999.0,     2.7418,-999.0000,-999.000,-999.000
31WTTUNES_3,       P16C,     308,          3,         19,         19,2,19910926,       0135,    13.8425,  -152.6735,       6063,  1750.0,   2.4451,  34.6157,2,  34.6160,2,     84.5,2,    84.3,2,  144.31,2,   40.35,2,    0.00,2,    2.86,2,   0.003,2,   0.002,2,  -999.0,9,  -999.0,9,-999.000,9,-999.0000,9, -999.00,9, -999.00,9,  -999.0,9,  -999.0,     2.3232,-999.0000,-999.000,-999.000
31WTTUNES_3,       P16C,     308,          3,         18,         18,2,19910926,       0135,    13.8425,  -152.6735,       6063,  1954.2,   2.1720,  34.6308,2,  34.6311,2,     95.2,2,    95.6,2,  149.61,2,   39.60,2,    0.00,2,    2.80,2,-999.000,9,-999.000,9,  -999.0,9,  -999.0,9,-999.000,9,-999.0000,9, -999.00,9, -999.00,9,  -999.0,9,  -999.0,     2.0368,-999.0000,-999.000,-999.000
31WTTUNES_3,       P16C,     308,          3,         17,         17,2,19910926,       0135,    13.8425,  -152.6735,       6063,  2162.2,   2.0196,  34.6446,2,  34.6439,2,    101.7,2,   102.2,2,  152.18,2,   39.15,2,    0.00,2,    2.75,2,-999.000,9,-999.000,9,  -999.0,9,  -999.0,9,-999.000,9,-999.0000,9, -999.00,9, -999.00,9,  -999.0,9,  -999.0,     1.8691,-999.0000,-999.000,-999.000
31WTTUNES_3,       P16C,     308,          3,         16,         16,2,19910926,       0135,    13.8425,  -152.6735,       6063,  2368.2,   1.8976,  34.6538,2,  34.6527,2,    108.0,2,   108.4,2,  154.35,2,   38.79,2,    0.01,2,    2.72,2,   0.004,2,   0.009,2,  -999.0,9,  -999.0,9,-999.000,9,-999.0000,9, -999.00,9, -999.00,9,  -999.0,9,  -999.0,     1.7311,-999.0000,-999.000,-999.000
31WTTUNES_3,       P16C,     308,          3,         15,         15,2,19910926,       0135,    13.8425,  -152.6735,       6063,  2572.8,   1.8119,  34.6609,2,  34.6602,2,    113.0,2,   113.1,2,  156.53,2,   38.52,2,    0.00,2,    2.70,2,-999.000,9,-999.000,9,  -999.0,9,  -999.0,9,-999.000,9,-999.0000,9, -999.00,9, -999.00,9,  -999.0,9,  -999.0,     1.6285,-999.0000,-999.000,-999.000
31WTTUNES_3,       P16C,     308,          3,         14,         14,2,19910926,       0135,    13.8425,  -152.6735,       6063,  2778.5,   1.7524,  34.6670,2,  34.6663,2,    116.6,2,   117.5,2,  157.73,2,   38.17,2,    0.00,2,    2.67,2,-999.000,9,-999.000,9,  -999.0,9,  -999.0,9,-999.000,9,-999.0000,9, -999.00,9, -999.00,9,  -999.0,9,  -999.0,     1.5511,-999.0000,-999.000,-999.000
31WTTUNES_3,       P16C,     308,          3,         13,         13,2,19910926,       0135,    13.8425,  -152.6735,       6063,  3037.0,   1.6764,  34.6718,2,  34.6714,2,    121.2,2,   121.9,2,  159.71,2,   37.88,2,    0.00,2,    2.64,2,   0.003,2,   0.002,2,  -999.0,9,  -999.0,9,-999.000,9,-999.0000,9, -999.00,9, -999.00,9,  -999.0,9,  -999.0,     1.4522,-999.0000,-999.000,-999.000
31WTTUNES_3,       P16C,     308,          3,         12,         12,2,19910926,       0135,    13.8425,  -152.6735,       6063,  3297.4,   1.6112,  34.6765,2,  34.6757,2,    128.2,2,   128.7,2,  159.93,2,   37.54,2,    0.00,2,    2.61,2,-999.000,9,-999.000,9,  -999.0,9,  -999.0,9,-999.000,9,-999.0000,9, -999.00,9, -999.00,9,  -999.0,9,  -999.0,     1.3629,-999.0000,-999.000,-999.000
31WTTUNES_3,       P16C,     308,          3,         11,         11,2,19910926,       0135,    13.8425,  -152.6735,       6063,  3554.9,   1.5632,  34.6796,2,  34.6798,2,    133.8,2,   136.1,2,  159.35,2,   37.09,2,    0.00,2,    2.57,2,-999.000,9,-999.000,9,  -999.0,9,  -999.0,9,-999.000,9,-999.0000,9, -999.00,9, -999.00,9,  -999.0,9,  -999.0,     1.2898,-999.0000,-999.000,-999.000
31WTTUNES_3,       P16C,     308,          3,         10,         10,2,19910926,       0135,    13.8425,  -152.6735,       6063,  3815.3,   1.5067,  34.6837,2,  34.6838,2,    143.4,2,   144.8,2,  155.84,2,   36.50,2,    0.00,2,    2.52,2,  -0.003,2,  -0.007,4,  -999.0,9,  -999.0,9,-999.000,9,-999.0000,9, -999.00,9, -999.00,9,  -999.0,9,  -999.0,     1.2075,-999.0000,-999.000,-999.000
31WTTUNES_3,       P16C,     308,          3,          9,          9,2,19910926,       0135,    13.8425,  -152.6735,       6063,  4074.9,   1.4521,  34.6882,2,  34.6883,2,    153.8,2,   154.9,2,  150.37,2,   35.91,2,    0.00,2,    2.47,2,-999.000,9,-999.000,9,  -999.0,9,  -999.0,9,-999.000,9,-999.0000,9, -999.00,9, -999.00,9,  -999.0,9,  -999.0,     1.1263,-999.0000,-999.000,-999.000
31WTTUNES_3,       P16C,     308,          3,          8,          8,2,19910926,       0135,    13.8425,  -152.6735,       6063,  4334.8,   1.4166,  34.6920,2,  34.6928,2,    162.6,2,   163.0,2,  145.10,2,   35.21,2,    0.00,2,    2.43,2,-999.000,9,-999.000,9,  -999.0,9,  -999.0,9,-999.000,9,-999.0000,9, -999.00,9, -999.00,9,  -999.0,9,  -999.0,     1.0629,-999.0000,-999.000,-999.000
31WTTUNES_3,       P16C,     308,          3,          7,          7,2,19910926,       0135,    13.8425,  -152.6735,       6063,  4595.3,   1.3979,  34.6943,2,  34.6938,2,    169.5,2,   169.6,2,  140.81,2,   34.62,2,    0.00,2,    2.39,2,   0.006,2,  -0.005,2,  -999.0,9,  -999.0,9,-999.000,9,-999.0000,9, -999.00,9, -999.00,9,  -999.0,9,  -999.0,     1.0150,-999.0000,-999.000,-999.000
31WTTUNES_3,       P16C,     308,          3,          6,          6,2,19910926,       0135,    13.8425,  -152.6735,       6063,  4854.6,   1.3930,  34.6961,2,  34.6961,2,    174.2,2,   174.4,2,  137.87,2,   34.25,2,    0.01,2,    2.37,2,-999.000,9,-999.000,9,  -999.0,9,  -999.0,9,-999.000,9,-999.0000,9, -999.00,9, -999.00,9,  -999.0,9,  -999.0,     0.9798,-999.0000,-999.000,-999.000
31WTTUNES_3,       P16C,     308,          3,          5,          5,2,19910926,       0135,    13.8425,  -152.6735,       6063,  5117.7,   1.4094,  34.6973,2,  34.6969,2,    177.2,2,   176.8,2,  136.92,2,   34.20,2,    0.01,2,    2.36,2,-999.000,9,-999.000,9,  -999.0,9,  -999.0,9,-999.000,9,-999.0000,9, -999.00,9, -999.00,9,  -999.0,9,  -999.0,     0.9638,-999.0000,-999.000,-999.000
31WTTUNES_3,       P16C,     308,          3,          4,          4,2,19910926,       0135,    13.8425,  -152.6735,       6063,  5377.2,   1.4338,  34.6975,2,  34.6971,2,    179.0,2,   176.2,2,  136.15,2,   34.12,2,    0.01,2,    2.35,2,  -0.001,2,  -0.005,2,  -999.0,9,  -999.0,9,-999.000,9,-999.0000,9, -999.00,9, -999.00,9,  -999.0,9,  -999.0,     0.9551,-999.0000,-999.000,-999.000
31WTTUNES_3,       P16C,     308,          3,          3,          3,2,19910926,       0135,    13.8425,  -152.6735,       6063,  5640.1,   1.4625,  34.6973,2,  34.6985,2,    180.1,2,   179.7,2,  135.58,2,   33.97,2,    0.01,2,    2.35,2,-999.000,9,-999.000,9,  -999.0,9,  -999.0,9,-999.000,9,-999.0000,9, -999.00,9, -999.00,9,  -999.0,9,  -999.0,     0.9493,-999.0000,-999.000,-999.000
31WTTUNES_3,       P16C,     308,          3,          2,          2,2,19910926,       0135,    13.8425,  -152.6735,       6063,  5901.3,   1.4945,  34.6974,2,  34.6971,2,    181.3,2,   181.1,2,  135.79,2,   34.03,2,    0.01,2,    2.35,2,-999.000,9,-999.000,9,  -999.0,9,  -999.0,9,-999.000,9,-999.0000,9, -999.00,9, -999.00,9,  -999.0,9,  -999.0,     0.9460,-999.0000,-999.000,-999.000
31WTTUNES_3,       P16C,     308,          3,          1,          1,2,19910926,       0135,    13.8425,  -152.6735,       6063,  6159.0,   1.5304,  34.6978,2,  34.6975,2,    180.8,2,   186.8,2,  135.42,2,   33.93,2,    0.01,2,    2.35,2,  -0.002,2,  -0.005,2,  -999.0,9,  -999.0,9,-999.000,9,-999.0000,9, -999.00,9, -999.00,9,  -999.0,9,  -999.0,     0.9460,-999.0000,-999.000,-999.000