BOTTLE,20211117CCHSIORKP
EXPOCODE,SECT_ID,STNNBR,CASTNO,SAMPNO,BTLNBR,BTLNBR_FLAG_W,DATE,TIME,LATITUDE,LONGITUDE,DEPTH,CTDPRS,CTDTMP,CTDSAL,CTDSAL_FLAG_W,SALNTY,SALNTY_FLAG_W,CTDOXY,CTDOXY_FLAG_W,OXYGEN,OXYGEN_FLAG_W,SILCAT,SILCAT_FLAG_W,NITRAT,NITRAT_FLAG_W,NITRIT,NITRIT_FLAG_W,PHSPHT,PHSPHT_FLAG_W,CFC-11,CFC-11_FLAG_W,CFC-12,CFC-12_FLAG_W,TCARBN,TCARBN_FLAG_W,ALKALI,ALKALI_FLAG_W,TRITUM,TRITUM_FLAG_W,HELIUM,HELIUM_FLAG_W,DELHE3,DELHE3_FLAG_W,DELC13,DELC13_FLAG_W,DELC14,DELC14_FLAG_W,C14ERR,THETA,HELIER,DELHER,TRITER
,,,,,,,,,,,METERS,DBAR,ITS-90,PSS-78,,PSS-78,,UMOL/KG,,UMOL/KG,,UMOL/KG,,UMOL/KG,,UMOL/KG,,UMOL/KG,,PMOL/KG,,PMOL/KG,,UMOL/KG,,UMOL/KG,,TU,,NMOL/KG,,PERCNT,,/MILLE,,/MILLE,,/MILLE,ITS-90,NMOL/KG,PERCNT,TU
31WTTUNES_3,       P16C,     276,          1,         36,         36,2,19910916,       1700,     1.3330,  -151.0015,       3117,     6.0,  27.4482,  34.8027,2,  34.7789,2,    213.8,3,   211.6,2,    2.72,2,    1.50,2,    0.12,2,    0.33,2,   1.672,2,   0.954,2,  -999.0,9,  -999.0,9,-999.000,9,-999.0000,9, -999.00,9, -999.00,9,  -999.0,9,  -999.0,    27.4468,-999.0000,-999.000,-999.000
31WTTUNES_3,       P16C,     276,          1,         35,         35,2,19910916,       1700,     1.3330,  -151.0015,       3117,    30.3,  27.4501,  34.8027,2,  34.7767,2,    214.0,2,   209.0,2,    2.90,2,    1.55,2,    0.12,2,    0.33,2,   1.719,2,   0.957,2,  -999.0,9,  -999.0,9,-999.000,9,-999.0000,9, -999.00,9, -999.00,9,  -999.0,9,  -999.0,    27.4431,-999.0000,-999.000,-999.000
31WTTUNES_3,       P16C,     276,          1,         34,         34,2,19910916,       1700,     1.3330,  -151.0015,       3117,    55.4,  27.0568,  34.8268,2,  34.8112,2,    207.6,2,   209.3,2,    2.90,2,    2.18,2,    0.19,2,    0.39,2,   1.669,2,   0.944,2,  -999.0,9,  -999.0,9,-999.000,9,-999.0000,9, -999.00,9, -999.00,9,  -999.0,9,  -999.0,    27.0441,-999.0000,-999.000,-999.000
31WTTUNES_3,       P16C,     276,          1,         33,         33,2,19910916,       1700,     1.3330,  -151.0015,       3117,    80.4,  26.3765,  34.9742,2,  34.9520,2,    191.2,2,   201.0,2,    3.49,2,    3.83,2,    0.48,2,    0.53,2,   1.642,6,   0.927,6,  -999.0,9,  -999.0,9,-999.000,9,-999.0000,9, -999.00,9, -999.00,9,  -999.0,9,  -999.0,    26.3583,-999.0000,-999.000,-999.000
31WTTUNES_3,       P16C,     276,          1,         32,         32,2,19910916,       1700,     1.3330,  -151.0015,       3117,   103.7,  26.2222,  35.1265,2,  35.1404,2,    189.1,2,   187.8,2,    3.87,2,    5.15,2,    0.30,2,    0.59,2,   1.631,2,   0.906,2,  -999.0,9,  -999.0,9,-999.000,9,-999.0000,9, -999.00,9, -999.00,9,  -999.0,9,  -999.0,    26.1989,-999.0000,-999.000,-999.000
31WTTUNES_3,       P16C,     276,          1,         31,         31,2,19910916,       1700,     1.3330,  -151.0015,       3117,   129.3,  18.5449,  34.8105,2,  34.8564,2,    131.6,2,   126.5,2,   10.92,2,   12.77,2,    0.02,2,    0.97,2,   1.447,2,   0.779,2,  -999.0,9,  -999.0,9,-999.000,9,-999.0000,9, -999.00,9, -999.00,9,  -999.0,9,  -999.0,    18.5224,-999.0000,-999.000,-999.000
31WTTUNES_3,       P16C,     276,          1,         30,         30,2,19910916,       1700,     1.3330,  -151.0015,       3117,   156.3,  15.1929,  34.7359,2,  34.7353,2,    128.6,2,   125.0,2,   17.40,2,   17.10,2,    0.02,2,    1.26,2,   1.173,2,   0.627,2,  -999.0,9,  -999.0,9,-999.000,9,-999.0000,9, -999.00,9, -999.00,9,  -999.0,9,  -999.0,    15.1691,-999.0000,-999.000,-999.000
31WTTUNES_3,       P16C,     276,          1,         29,         29,2,19910916,       1700,     1.3330,  -151.0015,       3117,   181.6,  13.0647,  34.7494,2,  34.7537,2,    119.7,2,   118.5,2,   21.11,2,   20.82,2,    0.01,2,    1.52,2,-999.000,9,-999.000,9,  -999.0,9,  -999.0,9,-999.000,9,-999.0000,9, -999.00,9, -999.00,9,  -999.0,9,  -999.0,    13.0397,-999.0000,-999.000,-999.000
31WTTUNES_3,       P16C,     276,          1,         28,         28,2,19910916,       1700,     1.3330,  -151.0015,       3117,   207.0,  12.3785,  34.8143,2,  34.7976,2,    107.9,2,   109.1,2,   21.70,2,   22.80,2,    0.01,2,    1.64,2,   0.667,2,   0.368,2,  -999.0,9,  -999.0,9,-999.000,9,-999.0000,9, -999.00,9, -999.00,9,  -999.0,9,  -999.0,    12.3510,-999.0000,-999.000,-999.000
31WTTUNES_3,       P16C,     276,          1,         27,         27,2,19910916,       1700,     1.3330,  -151.0015,       3117,   233.4,  11.9426,  34.8279,2,  34.8216,2,     86.2,2,    88.4,2,   23.07,2,   25.76,2,    0.01,2,    1.82,2,-999.000,9,-999.000,9,  -999.0,9,  -999.0,9,-999.000,9,-999.0000,9, -999.00,9, -999.00,9,  -999.0,9,  -999.0,    11.9122,-999.0000,-999.000,-999.000
31WTTUNES_3,       P16C,     276,          1,         26,         26,2,19910916,       1700,     1.3330,  -151.0015,       3117,   258.1,  11.7584,  34.8345,2,  34.8334,2,     63.5,2,    67.5,2,   24.45,2,   28.20,2,    0.01,2,    1.97,2,   0.373,2,   0.214,2,  -999.0,9,  -999.0,9,-999.000,9,-999.0000,9, -999.00,9, -999.00,9,  -999.0,9,  -999.0,    11.7251,-999.0000,-999.000,-999.000
31WTTUNES_3,       P16C,     276,          1,         25,         25,2,19910916,       1700,     1.3330,  -151.0015,       3117,   284.3,  11.5580,  34.8205,2,  34.8228,2,     49.5,2,    53.1,2,   26.01,2,   29.83,2,    0.01,2,    2.09,2,-999.000,9,-999.000,9,  -999.0,9,  -999.0,9,-999.000,9,-999.0000,9, -999.00,9, -999.00,9,  -999.0,9,  -999.0,    11.5218,-999.0000,-999.000,-999.000
31WTTUNES_3,       P16C,     276,          1,         24,         24,2,19910916,       1700,     1.3330,  -151.0015,       3117,   309.5,  11.4087,  34.8119,2,  34.8147,2,     39.5,2,    46.0,2,   27.00,2,   30.79,2,    0.01,2,    2.16,2,   0.272,2,   0.160,2,  -999.0,9,  -999.0,9,-999.000,9,-999.0000,9, -999.00,9, -999.00,9,  -999.0,9,  -999.0,    11.3696,-999.0000,-999.000,-999.000
31WTTUNES_3,       P16C,     276,          1,         23,         23,2,19910916,       1700,     1.3330,  -151.0015,       3117,   360.2,  10.4755,  34.7574,2,  34.7620,2,     17.0,2,    18.4,2,   32.49,2,   34.97,2,    0.01,2,    2.44,2,   0.117,2,   0.073,2,  -999.0,9,  -999.0,9,-999.000,9,-999.0000,9, -999.00,9, -999.00,9,  -999.0,9,  -999.0,    10.4322,-999.0000,-999.000,-999.000
31WTTUNES_3,       P16C,     276,          1,         22,         22,2,19910916,       1700,     1.3330,  -151.0015,       3117,   411.5,   8.8424,  34.6632,2,  34.6679,2,     30.1,2,    30.8,2,   38.38,2,   37.26,2,    0.01,2,    2.57,2,   0.038,2,   0.031,2,  -999.0,9,  -999.0,9,-999.000,9,-999.0000,9, -999.00,9, -999.00,9,  -999.0,9,  -999.0,     8.7978,-999.0000,-999.000,-999.000
31WTTUNES_3,       P16C,     276,          1,         21,         21,2,19910916,       1700,     1.3330,  -151.0015,       3117,   462.8,   8.4122,  34.6454,2,  34.6445,2,     33.4,2,    33.9,2,   41.13,2,   38.18,2,    0.01,2,    2.64,2,   0.022,2,   0.019,2,  -999.0,9,  -999.0,9,-999.000,9,-999.0000,9, -999.00,9, -999.00,9,  -999.0,9,  -999.0,     8.3634,-999.0000,-999.000,-999.000
31WTTUNES_3,       P16C,     276,          1,         20,         20,2,19910916,       1700,     1.3330,  -151.0015,       3117,   514.7,   8.0138,  34.6192,2,  34.6170,2,     50.8,2,    51.2,2,   41.92,2,   37.27,2,    0.01,2,    2.58,2,   0.025,2,   0.021,2,  -999.0,9,  -999.0,9,-999.000,9,-999.0000,9, -999.00,9, -999.00,9,  -999.0,9,  -999.0,     7.9609,-999.0000,-999.000,-999.000
31WTTUNES_3,       P16C,     276,          1,         19,         19,2,19910916,       1700,     1.3330,  -151.0015,       3117,   564.8,   7.4759,  34.5917,2,  34.5899,2,     63.5,2,    62.6,2,   45.06,2,   37.01,2,    0.01,2,    2.59,2,-999.000,9,-999.000,9,  -999.0,9,  -999.0,9,-999.000,9,-999.0000,9, -999.00,9, -999.00,9,  -999.0,9,  -999.0,     7.4199,-999.0000,-999.000,-999.000
31WTTUNES_3,       P16C,     276,          1,         18,         18,2,19910916,       1700,     1.3330,  -151.0015,       3117,   616.0,   6.8100,  34.5690,2,  34.5714,2,     66.1,2,    64.7,2,   50.75,2,   37.95,2,    0.00,2,    2.68,2,   0.011,2,   0.012,2,  -999.0,9,  -999.0,9,-999.000,9,-999.0000,9, -999.00,9, -999.00,9,  -999.0,9,  -999.0,     6.7519,-999.0000,-999.000,-999.000
31WTTUNES_3,       P16C,     276,          1,         17,         17,2,19910916,       1700,     1.3330,  -151.0015,       3117,   668.1,   6.4718,  34.5627,2,  34.5616,2,     67.4,2,    66.5,2,   54.69,2,   38.72,2,    0.00,2,    2.73,2,-999.000,9,-999.000,9,  -999.0,9,  -999.0,9,-999.000,9,-999.0000,9, -999.00,9, -999.00,9,  -999.0,9,  -999.0,     6.4103,-999.0000,-999.000,-999.000
31WTTUNES_3,       P16C,     276,          1,         16,         16,2,19910916,       1700,     1.3330,  -151.0015,       3117,   719.0,   6.1044,  34.5558,2,  34.5531,2,     72.2,2,    70.9,2,   59.01,2,   38.82,2,    0.00,2,    2.73,2,   0.004,2,   0.002,2,  -999.0,9,  -999.0,9,-999.000,9,-999.0000,9, -999.00,9, -999.00,9,  -999.0,9,  -999.0,     6.0398,-999.0000,-999.000,-999.000
31WTTUNES_3,       P16C,     276,          1,         15,         15,2,19910916,       1700,     1.3330,  -151.0015,       3117,   820.4,   5.4583,  34.5476,2,  34.5455,2,     80.3,2,    79.2,2,   69.03,2,   38.93,2,    0.00,2,    2.75,2,-999.000,9,-999.000,9,  -999.0,9,  -999.0,9,-999.000,9,-999.0000,9, -999.00,9, -999.00,9,  -999.0,9,  -999.0,     5.3881,-999.0000,-999.000,-999.000
31WTTUNES_3,       P16C,     276,          1,         14,         14,2,19910916,       1700,     1.3330,  -151.0015,       3117,   922.9,   4.9241,  34.5502,2,  34.5478,2,     84.3,2,    82.8,2,   78.65,2,   39.18,2,    0.00,2,    2.78,2,-999.000,9,-999.000,9,  -999.0,9,  -999.0,9,-999.000,9,-999.0000,9, -999.00,9, -999.00,9,  -999.0,9,  -999.0,     4.8482,-999.0000,-999.000,-999.000
31WTTUNES_3,       P16C,     276,          1,         13,         13,2,19910916,       1700,     1.3330,  -151.0015,       3117,  1025.3,   4.5490,  34.5577,2,  34.5559,2,     82.6,2,    80.7,2,   86.91,2,   39.85,2,    0.00,2,    2.83,2,   0.002,6,   0.003,2,  -999.0,9,  -999.0,9,-999.000,9,-999.0000,9, -999.00,9, -999.00,9,  -999.0,9,  -999.0,     4.4668,-999.0000,-999.000,-999.000
31WTTUNES_3,       P16C,     276,          1,         12,         12,2,19910916,       1700,     1.3330,  -151.0015,       3117,  1127.3,   4.1078,  34.5696,2,  34.5669,2,     82.6,2,    80.8,2,   97.53,2,   40.05,2,    0.00,2,    2.84,2,-999.000,9,-999.000,9,  -999.0,9,  -999.0,9,-999.000,9,-999.0000,9, -999.00,9, -999.00,9,  -999.0,9,  -999.0,     4.0204,-999.0000,-999.000,-999.000
31WTTUNES_3,       P16C,     276,          1,         11,         11,2,19910916,       1700,     1.3330,  -151.0015,       3117,  1229.4,   3.7265,  34.5814,2,  34.5804,2,     80.5,2,    81.5,2,  108.34,2,   40.42,2,    0.00,2,    2.86,2,-999.000,9,-999.000,9,  -999.0,9,  -999.0,9,-999.000,9,-999.0000,9, -999.00,9, -999.00,9,  -999.0,9,  -999.0,     3.6338,-999.0000,-999.000,-999.000
31WTTUNES_3,       P16C,     276,          1,         10,         10,2,19910916,       1700,     1.3330,  -151.0015,       3117,  1434.1,   3.1857,  34.5988,2,  34.5967,2,     91.3,2,    91.8,2,  117.98,2,   39.83,2,    0.01,2,    2.83,2,   0.001,2,   0.005,2,  -999.0,9,  -999.0,9,-999.000,9,-999.0000,9, -999.00,9, -999.00,9,  -999.0,9,  -999.0,     3.0813,-999.0000,-999.000,-999.000
31WTTUNES_3,       P16C,     276,          1,          9,          9,2,19910916,       1700,     1.3330,  -151.0015,       3117,  1639.4,   2.7910,  34.6182,2,  34.6148,2,     90.7,2,    90.4,2,  129.78,2,   39.94,2,    0.01,2,    2.84,2,-999.000,9,-999.000,9,  -999.0,9,  -999.0,9,-999.000,9,-999.0000,9, -999.00,9, -999.00,9,  -999.0,9,  -999.0,     2.6740,-999.0000,-999.000,-999.000
31WTTUNES_3,       P16C,     276,          1,          8,          8,2,19910916,       1700,     1.3330,  -151.0015,       3117,  1843.6,   2.4333,  34.6326,2,  34.6286,2,    104.7,2,   104.6,2,  135.48,2,   39.19,2,    0.00,2,    2.75,2,-999.000,9,-999.000,9,  -999.0,9,  -999.0,9,-999.000,9,-999.0000,9, -999.00,9, -999.00,9,  -999.0,9,  -999.0,     2.3037,-999.0000,-999.000,-999.000
31WTTUNES_3,       P16C,     276,          1,          7,          7,2,19910916,       1700,     1.3330,  -151.0015,       3117,  2050.0,   2.1438,  34.6472,2,  34.6370,3,    111.7,2,   111.5,2,  142.77,2,   38.78,2,    0.00,2,    2.71,2,   0.005,2,   0.010,2,  -999.0,9,  -999.0,9,-999.000,9,-999.0000,9, -999.00,9, -999.00,9,  -999.0,9,  -999.0,     2.0009,-999.0000,-999.000,-999.000
31WTTUNES_3,       P16C,     276,          1,          6,          6,2,19910916,       1700,     1.3330,  -151.0015,       3117,  2255.0,   2.0210,  34.6549,2,  34.6541,2,    115.2,2,   114.7,2,  146.92,2,   38.59,2,    0.00,2,    2.69,2,-999.000,9,-999.000,9,  -999.0,9,  -999.0,9,-999.000,9,-999.0000,9, -999.00,9, -999.00,9,  -999.0,9,  -999.0,     1.8624,-999.0000,-999.000,-999.000
31WTTUNES_3,       P16C,     276,          1,          5,          5,2,19910916,       1700,     1.3330,  -151.0015,       3117,  2461.0,   1.8170,  34.6661,2,  34.6647,2,    124.7,2,   124.5,2,  149.09,2,   37.98,2,    0.00,2,    2.62,2,-999.000,9,-999.000,9,  -999.0,9,  -999.0,9,-999.000,9,-999.0000,9, -999.00,9, -999.00,9,  -999.0,9,  -999.0,     1.6435,-999.0000,-999.000,-999.000
31WTTUNES_3,       P16C,     276,          1,          4,          4,2,19910916,       1700,     1.3330,  -151.0015,       3117,  2667.0,   1.7857,  34.6680,2,  34.6684,2,    126.9,2,   125.9,2,  149.70,2,   37.77,2,    0.00,2,    2.60,2,  -0.003,6,   0.006,6,  -999.0,9,  -999.0,9,-999.000,9,-999.0000,9, -999.00,9, -999.00,9,  -999.0,9,  -999.0,     1.5941,-999.0000,-999.000,-999.000
31WTTUNES_3,       P16C,     276,          1,          3,          3,2,19910916,       1700,     1.3330,  -151.0015,       3117,  2875.3,   1.7456,  34.6711,2,  34.6684,2,    129.6,2,   128.6,2,  150.10,2,   37.68,2,    0.00,2,    2.60,2,-999.000,9,-999.000,9,  -999.0,9,  -999.0,9,-999.000,9,-999.0000,9, -999.00,9, -999.00,9,  -999.0,9,  -999.0,     1.5354,-999.0000,-999.000,-999.000
31WTTUNES_3,       P16C,     276,          1,          2,          2,2,19910916,       1700,     1.3330,  -151.0015,       3117,  3081.2,   1.6599,  34.6755,2,  34.6741,2,    135.1,2,   135.5,2,  150.50,2,   37.22,2,    0.00,2,    2.56,2,-999.000,9,-999.000,9,  -999.0,9,  -999.0,9,-999.000,9,-999.0000,9, -999.00,9, -999.00,9,  -999.0,9,  -999.0,     1.4318,-999.0000,-999.000,-999.000
31WTTUNES_3,       P16C,     276,          1,          1,          1,2,19910916,       1700,     1.3330,  -151.0015,       3117,  3229.0,   1.5773,  34.6802,2,  34.6802,2,    140.4,2,   145.9,2,  149.13,2,   36.69,2,    0.01,2,    2.51,2,  -0.004,6,   0.001,6,  -999.0,9,  -999.0,9,-999.000,9,-999.0000,9, -999.00,9, -999.00,9,  -999.0,9,  -999.0,     1.3366,-999.0000,-999.000,-999.000
31WTTUNES_3,       P16C,     277,          1,         11,         11,2,19910916,       2100,     1.4928,  -150.9997,       4118,    29.7,  27.4878,  34.7663,2,  34.7557,2,    212.6,2,   215.0,2, -999.00,9, -999.00,9, -999.00,9, -999.00,9,-999.000,9,-999.000,9,  -999.0,9,  -999.0,9,-999.000,9,-999.0000,9, -999.00,9, -999.00,9,  -999.0,9,  -999.0,    27.4809,-999.0000,-999.000,-999.000
31WTTUNES_3,       P16C,     277,          1,         10,         10,2,19910916,       2100,     1.4928,  -150.9997,       4118,   155.8,  14.6839,  34.7235,2,  34.7388,2,    118.8,2,   124.7,2, -999.00,9, -999.00,9, -999.00,9, -999.00,9,-999.000,9,-999.000,9,  -999.0,9,  -999.0,9,-999.000,9,-999.0000,9, -999.00,9, -999.00,9,  -999.0,9,  -999.0,    14.6607,-999.0000,-999.000,-999.000
31WTTUNES_3,       P16C,     277,          1,          9,          9,2,19910916,       2100,     1.4928,  -150.9997,       4118,   309.6,  11.3909,  34.8134,2,  34.8176,2,     42.2,2,    59.6,2, -999.00,9, -999.00,9, -999.00,9, -999.00,9,-999.000,9,-999.000,9,  -999.0,9,  -999.0,9,-999.000,9,-999.0000,9, -999.00,9, -999.00,9,  -999.0,9,  -999.0,    11.3518,-999.0000,-999.000,-999.000
31WTTUNES_3,       P16C,     277,          1,          8,          8,2,19910916,       2100,     1.4928,  -150.9997,       4118,   513.1,   8.2087,  34.6295,2,  34.6415,2,     44.5,2,    36.0,2, -999.00,9, -999.00,9, -999.00,9, -999.00,9,-999.000,9,-999.000,9,  -999.0,9,  -999.0,9,-999.000,9,-999.0000,9, -999.00,9, -999.00,9,  -999.0,9,  -999.0,     8.1552,-999.0000,-999.000,-999.000
31WTTUNES_3,       P16C,     277,          1,          7,          7,2,19910916,       2100,     1.4928,  -150.9997,       4118,   768.5,   5.9630,  34.5506,2,  34.5545,2,     74.8,2,    72.1,2, -999.00,9, -999.00,9, -999.00,9, -999.00,9,-999.000,9,-999.000,9,  -999.0,9,  -999.0,9,-999.000,9,-999.0000,9, -999.00,9, -999.00,9,  -999.0,9,  -999.0,     5.8946,-999.0000,-999.000,-999.000
31WTTUNES_3,       P16C,     277,          1,          6,          6,2,19910916,       2100,     1.4928,  -150.9997,       4118,  1537.1,   3.0040,  34.6053,2,  34.6046,2,     87.4,2,    87.0,2, -999.00,9, -999.00,9, -999.00,9, -999.00,9,-999.000,9,-999.000,9,  -999.0,9,  -999.0,9,-999.000,9,-999.0000,9, -999.00,9, -999.00,9,  -999.0,9,  -999.0,     2.8930,-999.0000,-999.000,-999.000
31WTTUNES_3,       P16C,     277,          1,          5,          5,2,19910916,       2100,     1.4928,  -150.9997,       4118,  2051.4,   2.1599,  34.6444,2,  34.6466,2,    109.5,2,   111.0,2, -999.00,9, -999.00,9, -999.00,9, -999.00,9,-999.000,9,-999.000,9,  -999.0,9,  -999.0,9,-999.000,9,-999.0000,9, -999.00,9, -999.00,9,  -999.0,9,  -999.0,     2.0165,-999.0000,-999.000,-999.000
31WTTUNES_3,       P16C,     277,          1,          4,          4,2,19910916,       2100,     1.4928,  -150.9997,       4118,  2565.2,   1.7959,  34.6653,2,  34.6673,2,    123.8,2,   125.8,2, -999.00,9, -999.00,9, -999.00,9, -999.00,9,-999.000,9,-999.000,9,  -999.0,9,  -999.0,9,-999.000,9,-999.0000,9, -999.00,9, -999.00,9,  -999.0,9,  -999.0,     1.6134,-999.0000,-999.000,-999.000
31WTTUNES_3,       P16C,     277,          1,          3,          3,2,19910916,       2100,     1.4928,  -150.9997,       4118,  3081.2,   1.6863,  34.6739,2,  34.6734,2,    132.6,2,   133.8,2, -999.00,9, -999.00,9, -999.00,9, -999.00,9,-999.000,9,-999.000,9,  -999.0,9,  -999.0,9,-999.000,9,-999.0000,9, -999.00,9, -999.00,9,  -999.0,9,  -999.0,     1.4576,-999.0000,-999.000,-999.000
31WTTUNES_3,       P16C,     277,          1,          2,          2,2,19910916,       2100,     1.4928,  -150.9997,       4118,  3595.1,   1.4237,  34.6899,2,  34.6903,2,    156.9,2,   157.3,2, -999.00,9, -999.00,9, -999.00,9, -999.00,9,-999.000,9,-999.000,9,  -999.0,9,  -999.0,9,-999.000,9,-999.0000,9, -999.00,9, -999.00,9,  -999.0,9,  -999.0,     1.1497,-999.0000,-999.000,-999.000
31WTTUNES_3,       P16C,     277,          1,          1,          1,2,19910916,       2100,     1.4928,  -150.9997,       4118,  4157.0,   1.3992,  34.6941,2,  34.6952,2,    164.7,2,   165.8,2, -999.00,9, -999.00,9, -999.00,9, -999.00,9,-999.000,9,-999.000,9,  -999.0,9,  -999.0,9,-999.000,9,-999.0000,9, -999.00,9, -999.00,9,  -999.0,9,  -999.0,     1.0658,-999.0000,-999.000,-999.000