BOTTLE,20211117CCHSIORKP
EXPOCODE,SECT_ID,STNNBR,CASTNO,SAMPNO,BTLNBR,BTLNBR_FLAG_W,DATE,TIME,LATITUDE,LONGITUDE,DEPTH,CTDPRS,CTDTMP,CTDSAL,CTDSAL_FLAG_W,SALNTY,SALNTY_FLAG_W,CTDOXY,CTDOXY_FLAG_W,OXYGEN,OXYGEN_FLAG_W,SILCAT,SILCAT_FLAG_W,NITRAT,NITRAT_FLAG_W,NITRIT,NITRIT_FLAG_W,PHSPHT,PHSPHT_FLAG_W,CFC-11,CFC-11_FLAG_W,CFC-12,CFC-12_FLAG_W,TCARBN,TCARBN_FLAG_W,ALKALI,ALKALI_FLAG_W,TRITUM,TRITUM_FLAG_W,HELIUM,HELIUM_FLAG_W,DELHE3,DELHE3_FLAG_W,DELC13,DELC13_FLAG_W,DELC14,DELC14_FLAG_W,C14ERR,THETA,HELIER,DELHER,TRITER
,,,,,,,,,,,METERS,DBAR,ITS-90,PSS-78,,PSS-78,,UMOL/KG,,UMOL/KG,,UMOL/KG,,UMOL/KG,,UMOL/KG,,UMOL/KG,,PMOL/KG,,PMOL/KG,,UMOL/KG,,UMOL/KG,,TU,,NMOL/KG,,PERCNT,,/MILLE,,/MILLE,,/MILLE,ITS-90,NMOL/KG,PERCNT,TU
31WTTUNES_3,       P16C,     314,          2,         36,         36,2,19910928,       0111,    16.8015,  -153.2668,       5209,     7.5,  26.7998,  34.5699,2,  34.5724,2,    209.2,3,   212.6,2,    2.08,2,    0.09,2,    0.00,2,    0.15,2,   1.757,2,   1.003,2,  1943.0,2,  2280.2,2,-999.000,9,-999.0000,9, -999.00,9,    1.47,2,    92.9,2,     2.9,    26.7981,-999.0000,-999.000,-999.000
31WTTUNES_3,       P16C,     314,          2,         35,         35,2,19910928,       0111,    16.8015,  -153.2668,       5209,    44.4,  26.6708,  34.5805,2,  34.6038,2,    209.3,2,   215.2,2,    2.08,2,    0.03,2,    0.00,2,    0.15,2,   1.775,2,   1.003,2,  1945.2,2,  2281.8,2,   1.646,2,   1.7010,2,   -1.23,2, -999.00,9,  -999.0,5,  -999.0,    26.6607,   0.0080,   0.150,   0.006
31WTTUNES_3,       P16C,     314,          2,         34,         34,2,19910928,       0111,    16.8015,  -153.2668,       5209,    74.6,  24.3303,  34.7694,2,  34.8635,2,    230.9,2,   231.4,2,    2.09,2,    0.09,2,    0.00,2,    0.13,2,   1.989,2,   1.138,2,  1967.0,2,  2301.1,2,   1.738,2,   1.7050,2,   -1.15,2,    1.47,2,   111.4,2,     3.1,    24.3145,   0.0080,   0.150,   0.006
31WTTUNES_3,       P16C,     314,          2,         33,         33,2,19910928,       0111,    16.8015,  -153.2668,       5209,   105.4,  22.6250,  35.0186,2,  34.9823,2,    227.8,2,   221.2,2,    2.09,2,    0.09,2,    0.00,2,    0.14,2,   2.126,2,   1.239,2,  1990.3,2,  2308.0,2,-999.000,9,-999.0000,9, -999.00,9,    1.41,2,   113.7,2,     2.9,    22.6038,-999.0000,-999.000,-999.000
31WTTUNES_3,       P16C,     314,          2,         32,         32,2,19910928,       0111,    16.8015,  -153.2668,       5209,   134.6,  21.1840,  34.9028,2,  34.8798,2,    217.4,2,   209.5,2,    2.72,2,    0.41,2,    0.15,2,    0.25,2,   2.226,2,   1.223,2,  2024.0,2,  2307.6,2,   2.049,2,   1.7420,2,    0.06,2,    1.34,2,   108.5,2,     3.0,    21.1581,   0.0080,   0.150,   0.006
31WTTUNES_3,       P16C,     314,          2,         31,         31,2,19910928,       0111,    16.8015,  -153.2668,       5209,   164.9,  19.1249,  34.8039,2,  34.7123,2,    193.1,2,   177.5,2,    5.19,2,    5.53,2,    0.02,2,    0.56,2,   2.205,2,   1.156,2,  2062.9,2,  2291.9,2,   2.152,2,   1.7590,2,    1.98,2,    0.94,2,   111.6,2,     3.5,    19.0954,   0.0080,   0.150,   0.006
31WTTUNES_3,       P16C,     314,          2,         30,         30,2,19910928,       0111,    16.8015,  -153.2668,       5209,   214.7,  14.5024,  34.3929,2,  34.3547,2,    154.4,2,   133.2,2,   13.83,2,   15.84,2,    0.01,2,    1.26,2,   1.755,2,   0.934,2,  2118.4,2,  2269.7,2,   1.964,2,   1.7820,2,    7.31,2,    0.46,2,    80.3,2,     3.6,    14.4708,   0.0080,   0.150,   0.006
31WTTUNES_3,       P16C,     314,          2,         29,         29,2,19910928,       0111,    16.8015,  -153.2668,       5209,   266.9,  11.2318,  34.3240,2,  34.2950,2,     91.7,2,   100.7,2,   27.17,2,   24.58,2,    0.00,2,    1.93,2,-999.000,9,-999.000,9,  2178.2,2,  2274.1,2,   1.695,2,   0.0000,2,    0.00,2,   -0.20,2,    -7.2,2,     3.3,    11.1986,-999.0000,   0.150,   0.006
31WTTUNES_3,       P16C,     314,          2,         28,         28,2,19910928,       0111,    16.8015,  -153.2668,       5209,   317.0,   8.9836,  34.2339,2,  34.1685,2,    102.2,2,   105.4,2,   40.55,2,   28.02,2,    0.00,2,    2.13,2,   0.708,2,   0.373,2,  2201.3,2,  2280.2,2,   1.558,2,   1.7900,2,   16.17,2,   -0.08,2,   -33.6,2,     3.8,     8.9494,   0.0080,   0.150,   0.005
31WTTUNES_3,       P16C,     314,          2,         27,         27,2,19910928,       0111,    16.8015,  -153.2668,       5209,   358.8,   7.8198,  34.2101,2,  34.3531,2,     79.6,2,    46.4,2,   45.89,2,   32.33,2,    0.00,2,    2.55,2,   0.201,2,   0.109,2,  2249.3,2,  2294.2,2,   0.688,2,   1.8090,2,   11.54,2,   -0.25,2,   -76.8,2,     2.7,     7.7840,   0.0080,   0.150,   0.004
31WTTUNES_3,       P16C,     314,          2,         26,         26,2,19910928,       0111,    16.8015,  -153.2668,       5209,   400.0,   8.5811,  34.4847,2,  34.4862,2,     14.3,2,    16.5,2,   48.35,2,   35.25,2,    0.00,2,    2.77,2,   0.031,2,   0.030,2,  2273.3,2,  2306.6,2,   0.111,2,   1.8490,2,    7.41,2,   -0.47,2,  -106.1,2,     4.0,     8.5387,   0.0090,   0.150,   0.003
31WTTUNES_3,       P16C,     314,          2,         25,         25,2,19910928,       0111,    16.8015,  -153.2668,       5209,   441.3,   7.8648,  34.4781,2,  34.4840,2,     12.3,2,    14.0,2,   53.28,2,   36.53,2,    0.00,2,    2.86,2,   0.014,2,   0.011,2,  2286.9,2,  2311.2,2,   0.047,2,   1.8020,2,    7.05,2,   -0.33,2,  -114.4,2,     2.6,     7.8202,   0.0080,   0.150,   0.003
31WTTUNES_3,       P16C,     314,          2,         24,         24,2,19910928,       0111,    16.8015,  -153.2668,       5209,   482.0,   7.3743,  34.4713,2,  34.4730,2,     13.0,2,    14.3,2,   57.19,2,   37.35,2,    0.00,2,    2.90,2,   0.010,2,   0.003,2,  2289.3,2,  2314.9,2,   0.053,2,   1.8370,2,    7.66,2,   -0.36,2,  -117.0,2,     2.6,     7.3273,   0.0090,   0.150,   0.001
31WTTUNES_3,       P16C,     314,          2,         23,         23,2,19910928,       0111,    16.8015,  -153.2668,       5209,   575.2,   6.5032,  34.4737,2,  34.4830,2,     18.3,2,    18.3,2,   67.05,2,   39.81,2,    0.00,2,    2.99,2,  -0.002,2,  -0.005,2,  2302.5,2,  2326.0,2,   0.030,2,   1.8510,2,    9.85,2,   -0.33,2,  -127.8,2,     2.6,     6.4506,   0.0090,   0.150,   0.002
31WTTUNES_3,       P16C,     314,          2,         22,         22,2,19910928,       0111,    16.8015,  -153.2668,       5209,   675.5,   5.8868,  34.4820,2,  34.4793,2,     20.0,2,    20.7,2,   77.14,2,   41.32,2,    0.00,2,    3.08,2,   0.000,2,   0.001,2,  2313.5,2,  2338.9,2,   0.011,2,   1.8660,2,   12.06,2,   -0.25,2,  -151.3,2,     2.6,     5.8276,   0.0090,   0.150,   0.001
31WTTUNES_3,       P16C,     314,          2,         21,         21,2,19910928,       0111,    16.8015,  -153.2668,       5209,   777.2,   5.2733,  34.4801,2,  34.4805,2,     27.4,2,    28.1,2,   87.42,2,   42.04,2,    0.00,2,    3.07,2,   0.003,2,   0.004,2,  2324.8,2,  2347.9,2,   0.009,2,   1.8780,2,   14.51,2,   -0.31,2,  -162.0,2,     2.5,     5.2082,   0.0090,   0.150,   0.002
31WTTUNES_3,       P16C,     314,          2,         20,         20,2,19910928,       0111,    16.8015,  -153.2668,       5209,   932.5,   4.5913,  34.5128,2,  34.5166,2,     34.4,2,    34.1,2,  100.37,2,   42.76,2,    0.00,2,    3.12,2,  -0.002,2,   0.002,2,  2336.2,2,  2364.6,2,-999.000,9,-999.0000,9, -999.00,9,   -0.28,2,  -193.2,2,     2.7,     4.5169,-999.0000,-999.000,-999.000
31WTTUNES_3,       P16C,     314,          2,         19,         19,2,19910928,       0111,    16.8015,  -153.2668,       5209,  1085.7,   3.9720,  34.5367,2,  34.5382,2,     46.1,2,    46.4,2,  112.70,2,   42.62,2,    0.00,2,    3.08,2,  -0.003,2,   0.000,2,  2344.3,2,  2377.7,2,   0.006,2,   1.8950,2,   25.31,2,   -0.26,2,  -214.7,2,     2.8,     3.8895,   0.0090,   0.150,   0.003
31WTTUNES_3,       P16C,     314,          2,         18,         18,2,19910928,       0111,    16.8015,  -153.2668,       5209,  1289.9,   3.4434,  34.5623,2,  34.5631,2,     56.3,2,    56.6,2,  124.41,2,   42.05,2,    0.00,2,    3.04,2,-999.000,9,-999.000,9,  2349.6,2,  2394.6,2,   0.001,2,   1.9120,2,   22.95,2,   -0.30,2,  -232.9,2,     2.5,     3.3484,   0.0090,   0.150,   0.001
31WTTUNES_3,       P16C,     314,          2,         17,         17,2,19910928,       0111,    16.8015,  -153.2668,       5209,  1493.5,   2.9465,  34.5857,2,  34.5842,2,     67.9,2,    66.8,2,  134.28,2,   41.39,2,    0.00,2,    2.98,2,-999.000,9,-999.000,9,  2356.8,2,  2400.4,2,-999.000,9,-999.0000,9, -999.00,9, -999.00,9,  -999.0,9,  -999.0,     2.8397,-999.0000,-999.000,-999.000
31WTTUNES_3,       P16C,     314,          2,         16,         16,2,19910928,       0111,    16.8015,  -153.2668,       5209,  1696.6,   2.5946,  34.6031,2,  34.6036,2,     76.8,2,    76.8,2,  143.74,2,   41.03,2,    0.00,2,    2.92,2,-999.000,9,-999.000,9,  2357.7,2,  2410.5,2,-999.000,9,-999.0000,9, -999.00,9, -999.00,9,  -999.0,9,  -999.0,     2.4753,-999.0000,-999.000,-999.000
31WTTUNES_3,       P16C,     314,          2,         15,         15,2,19910928,       0111,    16.8015,  -153.2668,       5209,  1901.2,   2.3065,  34.6188,2,  34.6213,2,     87.0,2,    87.3,2,  150.10,2,   40.42,2,    0.00,2,    2.85,2,-999.000,9,-999.000,9,  2358.8,2,  -999.0,9,-999.000,9,-999.0000,9, -999.00,9, -999.00,9,  -999.0,9,  -999.0,     2.1739,-999.0000,-999.000,-999.000
31WTTUNES_3,       P16C,     314,          2,         14,         14,2,19910928,       0111,    16.8015,  -153.2668,       5209,  2112.0,   2.0742,  34.6350,2,  34.6352,2,     96.5,2,    96.3,2,  154.83,2,   39.96,2,    0.00,2,    2.83,2,-999.000,9,-999.000,9,  2358.6,2,  2422.0,2,-999.000,9,-999.0000,9, -999.00,9, -999.00,9,  -999.0,9,  -999.0,     1.9271,-999.0000,-999.000,-999.000
31WTTUNES_3,       P16C,     314,          2,         13,         13,2,19910928,       0111,    16.8015,  -153.2668,       5209,  2316.7,   1.9228,  34.6459,2,  34.6464,2,    105.3,2,   105.0,2,  157.30,2,   39.20,2,    0.00,2,    2.76,2,-999.000,9,-999.000,9,  2356.4,2,  -999.0,9,-999.000,9,-999.0000,9, -999.00,9, -999.00,9,  -999.0,9,  -999.0,     1.7604,-999.0000,-999.000,-999.000
31WTTUNES_3,       P16C,     314,          2,         12,         12,2,19910928,       0111,    16.8015,  -153.2668,       5209,  2527.1,   1.8053,  34.6565,2,  34.6545,2,    112.6,2,   112.4,2,  158.96,2,   38.84,2,    0.00,2,    2.72,2,-999.000,9,-999.000,9,  2353.9,2,  2430.2,2,-999.000,9,-999.0000,9, -999.00,9, -999.00,9,  -999.0,9,  -999.0,     1.6262,-999.0000,-999.000,-999.000
31WTTUNES_3,       P16C,     314,          2,         11,         11,2,19910928,       0111,    16.8015,  -153.2668,       5209,  2731.6,   1.7362,  34.6623,2,  34.6635,2,    117.9,2,   117.2,2,  159.99,2,   38.59,2,    0.00,2,    2.71,2,-999.000,9,-999.000,9,  2351.7,2,  -999.0,9,-999.000,9,-999.0000,9, -999.00,9, -999.00,9,  -999.0,9,  -999.0,     1.5397,-999.0000,-999.000,-999.000
31WTTUNES_3,       P16C,     314,          2,         10,         10,2,19910928,       0111,    16.8015,  -153.2668,       5209,  2939.9,   1.6731,  34.6672,2,  34.6677,2,    122.3,2,   122.3,2,  161.23,2,   38.14,2,    0.00,2,    2.67,2,-999.000,9,-999.000,9,  2351.7,2,  -999.0,9,-999.000,9,-999.0000,9, -999.00,9, -999.00,9,  -999.0,9,  -999.0,     1.4582,-999.0000,-999.000,-999.000
31WTTUNES_3,       P16C,     314,          2,          9,          9,2,19910928,       0111,    16.8015,  -153.2668,       5209,  3199.1,   1.5925,  34.6727,2,  34.6732,2,    129.1,2,   129.8,2,  162.88,2,   37.88,2,    0.00,2,    2.64,2,-999.000,9,-999.000,9,  2346.1,2,  2432.0,2,-999.000,9,-999.0000,9, -999.00,9, -999.00,9,  -999.0,9,  -999.0,     1.3544,-999.0000,-999.000,-999.000
31WTTUNES_3,       P16C,     314,          2,          8,          8,2,19910928,       0111,    16.8015,  -153.2668,       5209,  3458.7,   1.5472,  34.6772,2,  34.6749,2,    134.3,2,   135.2,2,  161.86,2,   37.42,2,    0.00,2,    2.61,2,-999.000,9,-999.000,9,  2342.5,2,  -999.0,9,-999.000,9,-999.0000,9, -999.00,9, -999.00,9,  -999.0,9,  -999.0,     1.2842,-999.0000,-999.000,-999.000
31WTTUNES_3,       P16C,     314,          2,          7,          7,2,19910928,       0111,    16.8015,  -153.2668,       5209,  3715.0,   1.5035,  34.6806,2,  34.6808,2,    141.2,2,   142.7,2,  159.42,2,   36.87,2,    0.00,2,    2.55,2,-999.000,9,-999.000,9,  2338.6,2,  2430.7,2,-999.000,9,-999.0000,9, -999.00,9, -999.00,9,  -999.0,9,  -999.0,     1.2150,-999.0000,-999.000,-999.000
31WTTUNES_3,       P16C,     314,          2,          6,          6,2,19910928,       0111,    16.8015,  -153.2668,       5209,  3975.6,   1.4709,  34.6858,2,  34.6848,2,    149.8,2,   149.5,2,  155.11,2,   36.28,2,    0.00,2,    2.51,2,-999.000,9,-999.000,9,  2331.2,2,  -999.0,9,-999.000,9,-999.0000,9, -999.00,9, -999.00,9,  -999.0,9,  -999.0,     1.1555,-999.0000,-999.000,-999.000
31WTTUNES_3,       P16C,     314,          2,          5,          5,2,19910928,       0111,    16.8015,  -153.2668,       5209,  4234.7,   1.4503,  34.6887,2,  34.6873,2,    156.5,2,   156.0,2,  152.03,2,   35.92,2,    0.00,2,    2.47,2,-999.000,9,-999.000,9,  2324.7,2,  2422.2,2,-999.000,9,-999.0000,9, -999.00,9, -999.00,9,  -999.0,9,  -999.0,     1.1069,-999.0000,-999.000,-999.000
31WTTUNES_3,       P16C,     314,          2,          4,          4,2,19910928,       0111,    16.8015,  -153.2668,       5209,  4493.3,   1.4387,  34.6913,2,  34.6908,2,    163.0,2,   162.9,2,  147.72,2,   35.41,2,    0.00,2,    2.42,2,-999.000,9,-999.000,9,  2318.8,2,  -999.0,9,-999.000,9,-999.0000,9, -999.00,9, -999.00,9,  -999.0,9,  -999.0,     1.0662,-999.0000,-999.000,-999.000
31WTTUNES_3,       P16C,     314,          2,          3,          3,2,19910928,       0111,    16.8015,  -153.2668,       5209,  4754.5,   1.4277,  34.6937,2,  34.6914,2,    168.6,2,   168.1,2,  144.03,2,   34.95,2,    0.00,2,    2.40,2,-999.000,9,-999.000,9,  2313.9,2,  2416.2,2,-999.000,9,-999.0000,9, -999.00,9, -999.00,9,  -999.0,9,  -999.0,     1.0253,-999.0000,-999.000,-999.000
31WTTUNES_3,       P16C,     314,          2,          2,          2,2,19910928,       0111,    16.8015,  -153.2668,       5209,  5015.4,   1.4179,  34.6960,2,  34.6958,2,    174.8,2,   174.4,2,  140.13,2,   34.49,2,    0.00,2,    2.39,2,-999.000,9,-999.000,9,  2307.0,2,  -999.0,9,-999.000,9,-999.0000,9, -999.00,9, -999.00,9,  -999.0,9,  -999.0,     0.9845,-999.0000,-999.000,-999.000
31WTTUNES_3,       P16C,     314,          2,          1,          1,2,19910928,       0111,    16.8015,  -153.2668,       5209,  5277.0,   1.4239,  34.6976,2,  34.6971,2,    179.0,2,   181.4,2,  137.68,2,   34.19,2,    0.00,2,    2.37,2,-999.000,9,-999.000,9,  2301.8,2,  2404.9,2,-999.000,9,-999.0000,9, -999.00,9, -999.00,9,  -999.0,9,  -999.0,     0.9581,-999.0000,-999.000,-999.000