BOTTLE,20211117CCHSIORKP
EXPOCODE,SECT_ID,STNNBR,CASTNO,SAMPNO,BTLNBR,BTLNBR_FLAG_W,DATE,TIME,LATITUDE,LONGITUDE,DEPTH,CTDPRS,CTDTMP,CTDSAL,CTDSAL_FLAG_W,SALNTY,SALNTY_FLAG_W,CTDOXY,CTDOXY_FLAG_W,OXYGEN,OXYGEN_FLAG_W,SILCAT,SILCAT_FLAG_W,NITRAT,NITRAT_FLAG_W,NITRIT,NITRIT_FLAG_W,PHSPHT,PHSPHT_FLAG_W,CFC-11,CFC-11_FLAG_W,CFC-12,CFC-12_FLAG_W,TCARBN,TCARBN_FLAG_W,ALKALI,ALKALI_FLAG_W,TRITUM,TRITUM_FLAG_W,HELIUM,HELIUM_FLAG_W,DELHE3,DELHE3_FLAG_W,DELC13,DELC13_FLAG_W,DELC14,DELC14_FLAG_W,C14ERR,THETA,HELIER,DELHER,TRITER
,,,,,,,,,,,METERS,DBAR,ITS-90,PSS-78,,PSS-78,,UMOL/KG,,UMOL/KG,,UMOL/KG,,UMOL/KG,,UMOL/KG,,UMOL/KG,,PMOL/KG,,PMOL/KG,,UMOL/KG,,UMOL/KG,,TU,,NMOL/KG,,PERCNT,,/MILLE,,/MILLE,,/MILLE,ITS-90,NMOL/KG,PERCNT,TU
31WTTUNES_3,       P16C,     311,          1,         36,         36,2,19910927,       0449,    15.3215,  -152.9867,       5690,     7.7,  27.7648,  34.2061,2,  34.2195,2,    209.9,3,   220.2,2,    2.14,2,    0.07,2,    0.01,2,    0.17,2,-999.000,9,-999.000,9,  -999.0,9,  -999.0,9,-999.000,9,-999.0000,9, -999.00,9, -999.00,9,  -999.0,9,  -999.0,    27.7630,-999.0000,-999.000,-999.000
31WTTUNES_3,       P16C,     311,          1,         35,         35,2,19910927,       0449,    15.3215,  -152.9867,       5690,    58.4,  24.5412,  34.6330,2,  34.5211,2,    235.4,2,   223.8,2,    1.95,2,    0.07,2,    0.01,2,    0.16,2,-999.000,9,-999.000,9,  -999.0,9,  -999.0,9,-999.000,9,-999.0000,9, -999.00,9, -999.00,9,  -999.0,9,  -999.0,    24.5287,-999.0000,-999.000,-999.000
31WTTUNES_3,       P16C,     311,          1,         34,         34,2,19910927,       0449,    15.3215,  -152.9867,       5690,   109.8,  20.8856,  34.7692,2,  34.8076,2,    223.6,2,   223.7,2,    2.55,2,    0.07,2,    0.01,2,    0.20,2,-999.000,9,-999.000,9,  -999.0,9,  -999.0,9,-999.000,9,-999.0000,9, -999.00,9, -999.00,9,  -999.0,9,  -999.0,    20.8647,-999.0000,-999.000,-999.000
31WTTUNES_3,       P16C,     311,          1,         33,         33,2,19910927,       0449,    15.3215,  -152.9867,       5690,   160.4,  15.7993,  34.4692,2,  34.4854,2,    155.9,2,   156.6,2,    8.44,2,   10.17,2,    0.02,2,    0.89,2,-999.000,9,-999.000,9,  -999.0,9,  -999.0,9,-999.000,9,-999.0000,9, -999.00,9, -999.00,9,  -999.0,9,  -999.0,    15.7742,-999.0000,-999.000,-999.000
31WTTUNES_3,       P16C,     311,          1,         32,         32,2,19910927,       0449,    15.3215,  -152.9867,       5690,   211.1,  11.3332,  34.3227,2,  34.3601,2,     99.3,2,    78.1,2,   23.82,2,   24.58,2,    0.01,2,    1.97,2,-999.000,9,-999.000,9,  -999.0,9,  -999.0,9,-999.000,9,-999.0000,9, -999.00,9, -999.00,9,  -999.0,9,  -999.0,    11.3068,-999.0000,-999.000,-999.000
31WTTUNES_3,       P16C,     311,          1,         31,         31,2,19910927,       0449,    15.3215,  -152.9867,       5690,   262.1,   9.6829,  34.4225,2,  34.3929,2,     57.5,2,    63.6,2,   33.15,2,   28.33,2,    0.01,2,    2.27,2,-999.000,9,-999.000,9,  -999.0,9,  -999.0,9,-999.000,9,-999.0000,9, -999.00,9, -999.00,9,  -999.0,9,  -999.0,     9.6532,-999.0000,-999.000,-999.000
31WTTUNES_3,       P16C,     311,          1,         30,         30,2,19910927,       0449,    15.3215,  -152.9867,       5690,   314.3,   9.3778,  34.4990,2,  34.4936,2,     23.2,2,    28.9,2,   39.01,2,   31.95,2,    0.01,2,    2.57,2,-999.000,9,-999.000,9,  -999.0,9,  -999.0,9,-999.000,9,-999.0000,9, -999.00,9, -999.00,9,  -999.0,9,  -999.0,     9.3428,-999.0000,-999.000,-999.000
31WTTUNES_3,       P16C,     311,          1,         29,         29,2,19910927,       0449,    15.3215,  -152.9867,       5690,   365.6,   9.0191,  34.5298,2,  34.5294,2,     15.2,2,    16.5,2,   43.47,2,   34.38,2,    0.01,2,    2.69,2,-999.000,9,-999.000,9,  -999.0,9,  -999.0,9,-999.000,9,-999.0000,9, -999.00,9, -999.00,9,  -999.0,9,  -999.0,     8.9792,-999.0000,-999.000,-999.000
31WTTUNES_3,       P16C,     311,          1,         28,         28,2,19910927,       0449,    15.3215,  -152.9867,       5690,   413.9,   8.5612,  34.5331,2,  34.5345,2,     13.9,2,    15.4,2,   47.31,2,   35.96,2,    0.01,2,    2.78,2,-999.000,9,-999.000,9,  -999.0,9,  -999.0,9,-999.000,9,-999.0000,9, -999.00,9, -999.00,9,  -999.0,9,  -999.0,     8.5174,-999.0000,-999.000,-999.000
31WTTUNES_3,       P16C,     311,          1,         27,         27,2,19910927,       0449,    15.3215,  -152.9867,       5690,   465.1,   8.1266,  34.5168,2,  34.5164,2,     14.4,2,    22.7,2,   52.36,2,   36.99,2,    0.01,2,    2.85,2,-999.000,9,-999.000,9,  -999.0,9,  -999.0,9,-999.000,9,-999.0000,9, -999.00,9, -999.00,9,  -999.0,9,  -999.0,     8.0787,-999.0000,-999.000,-999.000
31WTTUNES_3,       P16C,     311,          1,         26,         26,2,19910927,       0449,    15.3215,  -152.9867,       5690,   517.9,   7.5216,  34.5059,2,  34.5048,2,     15.2,2,    16.8,2,   58.44,2,   38.12,2,    0.01,2,    2.91,2,-999.000,9,-999.000,9,  -999.0,9,  -999.0,9,-999.000,9,-999.0000,9, -999.00,9, -999.00,9,  -999.0,9,  -999.0,     7.4704,-999.0000,-999.000,-999.000
31WTTUNES_3,       P16C,     311,          1,         25,         25,2,19910927,       0449,    15.3215,  -152.9867,       5690,   619.6,   6.4927,  34.4905,2,  34.4897,2,     13.5,2,    16.4,2,   69.57,2,   40.08,2,    0.01,2,    3.04,2,-999.000,9,-999.000,9,  -999.0,9,  -999.0,9,-999.000,9,-999.0000,9, -999.00,9, -999.00,9,  -999.0,9,  -999.0,     6.4358,-999.0000,-999.000,-999.000
31WTTUNES_3,       P16C,     311,          1,         24,         24,2,19910927,       0449,    15.3215,  -152.9867,       5690,   722.8,   5.7673,  34.4945,2,  34.4962,2,     17.8,2,    19.1,2,   79.48,2,   41.82,2,    0.01,2,    3.13,2,-999.000,9,-999.000,9,  -999.0,9,  -999.0,9,-999.000,9,-999.0000,9, -999.00,9, -999.00,9,  -999.0,9,  -999.0,     5.7043,-999.0000,-999.000,-999.000
31WTTUNES_3,       P16C,     311,          1,         23,         23,2,19910927,       0449,    15.3215,  -152.9867,       5690,   823.1,   5.2476,  34.5117,2,  34.5129,2,     17.8,2,    18.9,2,   88.98,2,   43.34,2,    0.01,2,    3.19,2,-999.000,9,-999.000,9,  -999.0,9,  -999.0,9,-999.000,9,-999.0000,9, -999.00,9, -999.00,9,  -999.0,9,  -999.0,     5.1786,-999.0000,-999.000,-999.000
31WTTUNES_3,       P16C,     311,          1,         22,         22,2,19910927,       0449,    15.3215,  -152.9867,       5690,   924.2,   4.7700,  34.5252,2,  34.5270,2,     25.2,2,    25.1,2,   95.65,2,   43.80,2,    0.00,2,    3.20,2,-999.000,9,-999.000,9,  -999.0,9,  -999.0,9,-999.000,9,-999.0000,9, -999.00,9, -999.00,9,  -999.0,9,  -999.0,     4.6951,-999.0000,-999.000,-999.000
31WTTUNES_3,       P16C,     311,          1,         21,         21,4,19910927,       0449,    15.3215,  -152.9867,       5690,  1131.4,   3.9726,  34.5472,2,  34.5388,3,     41.7,2,    35.9,3,  105.56,3,   43.25,3,    0.00,3,    3.17,3,-999.000,9,-999.000,9,  -999.0,9,  -999.0,9,-999.000,9,-999.0000,9, -999.00,9, -999.00,9,  -999.0,9,  -999.0,     3.8861,-999.0000,-999.000,-999.000
31WTTUNES_3,       P16C,     311,          1,         20,         20,2,19910927,       0449,    15.3215,  -152.9867,       5690,  1334.8,   3.3932,  34.5721,2,  34.5736,2,     55.6,2,    57.0,2,  125.77,2,   42.34,2,    0.00,2,    3.06,2,-999.000,9,-999.000,9,  -999.0,9,  -999.0,9,-999.000,9,-999.0000,9, -999.00,9, -999.00,9,  -999.0,9,  -999.0,     3.2949,-999.0000,-999.000,-999.000
31WTTUNES_3,       P16C,     311,          1,         19,         19,2,19910927,       0449,    15.3215,  -152.9867,       5690,  1539.8,   2.9039,  34.5920,2,  34.5932,2,     67.6,2,    67.2,2,  136.69,2,   41.85,2,    0.00,2,    3.00,2,-999.000,9,-999.000,9,  -999.0,9,  -999.0,9,-999.000,9,-999.0000,9, -999.00,9, -999.00,9,  -999.0,9,  -999.0,     2.7938,-999.0000,-999.000,-999.000
31WTTUNES_3,       P16C,     311,          1,         18,         18,2,19910927,       0449,    15.3215,  -152.9867,       5690,  1740.4,   2.5042,  34.6117,2,  34.6128,2,     82.0,2,    83.6,2,  144.57,2,   40.66,2,    0.00,2,    2.89,2,-999.000,9,-999.000,9,  -999.0,9,  -999.0,9,-999.000,9,-999.0000,9, -999.00,9, -999.00,9,  -999.0,9,  -999.0,     2.3823,-999.0000,-999.000,-999.000
31WTTUNES_3,       P16C,     311,          1,         17,         17,2,19910927,       0449,    15.3215,  -152.9867,       5690,  1943.2,   2.1986,  34.6257,2,  34.6264,2,     90.8,2,    92.7,2,  151.43,2,   40.01,2,    0.00,2,    2.84,2,-999.000,9,-999.000,9,  -999.0,9,  -999.0,9,-999.000,9,-999.0000,9, -999.00,9, -999.00,9,  -999.0,9,  -999.0,     2.0640,-999.0000,-999.000,-999.000
31WTTUNES_3,       P16C,     311,          1,         16,         16,2,19910927,       0449,    15.3215,  -152.9867,       5690,  2153.3,   1.9853,  34.6416,2,  34.6407,2,    101.8,2,   102.7,2,  155.47,2,   39.42,2,    0.00,2,    2.79,2,-999.000,9,-999.000,9,  -999.0,9,  -999.0,9,-999.000,9,-999.0000,9, -999.00,9, -999.00,9,  -999.0,9,  -999.0,     1.8361,-999.0000,-999.000,-999.000
31WTTUNES_3,       P16C,     311,          1,         15,         15,2,19910927,       0449,    15.3215,  -152.9867,       5690,  2358.8,   1.8550,  34.6520,2,  34.6523,2,    109.8,2,   111.0,2,  156.67,2,   38.88,2,    0.00,2,    2.73,2,-999.000,9,-999.000,9,  -999.0,9,  -999.0,9,-999.000,9,-999.0000,9, -999.00,9, -999.00,9,  -999.0,9,  -999.0,     1.6900,-999.0000,-999.000,-999.000
31WTTUNES_3,       P16C,     311,          1,         14,         14,2,19910927,       0449,    15.3215,  -152.9867,       5690,  2562.7,   1.7603,  34.6612,2,  34.6602,2,    116.5,2,   117.5,2,  157.87,2,   38.51,2,    0.00,2,    2.70,2,-999.000,9,-999.000,9,  -999.0,9,  -999.0,9,-999.000,9,-999.0000,9, -999.00,9, -999.00,9,  -999.0,9,  -999.0,     1.5788,-999.0000,-999.000,-999.000
31WTTUNES_3,       P16C,     311,          1,         13,         13,2,19910927,       0449,    15.3215,  -152.9867,       5690,  2772.9,   1.6997,  34.6670,2,  34.6665,2,    121.7,2,   122.6,2,  158.67,2,   38.13,2,    0.00,2,    2.68,2,-999.000,9,-999.000,9,  -999.0,9,  -999.0,9,-999.000,9,-999.0000,9, -999.00,9, -999.00,9,  -999.0,9,  -999.0,     1.5000,-999.0000,-999.000,-999.000
31WTTUNES_3,       P16C,     311,          1,         12,         12,2,19910927,       0449,    15.3215,  -152.9867,       5690,  2979.3,   1.6465,  34.6714,2,  34.6704,2,    125.2,2,   126.5,2,  159.27,2,   37.91,2,    0.00,2,    2.64,2,-999.000,9,-999.000,9,  -999.0,9,  -999.0,9,-999.000,9,-999.0000,9, -999.00,9, -999.00,9,  -999.0,9,  -999.0,     1.4286,-999.0000,-999.000,-999.000
31WTTUNES_3,       P16C,     311,          1,         11,         11,2,19910927,       0449,    15.3215,  -152.9867,       5690,  3187.9,   1.6037,  34.6749,2,  34.6739,2,    129.9,2,   131.3,2,  160.27,2,   37.59,2,    0.00,2,    2.62,2,-999.000,9,-999.000,9,  -999.0,9,  -999.0,9,-999.000,9,-999.0000,9, -999.00,9, -999.00,9,  -999.0,9,  -999.0,     1.3664,-999.0000,-999.000,-999.000
31WTTUNES_3,       P16C,     311,          1,         10,         10,2,19910927,       0449,    15.3215,  -152.9867,       5690,  3448.0,   1.5523,  34.6784,2,  34.6777,2,    135.1,2,   137.5,2,  159.45,2,   37.22,2,    0.00,2,    2.58,2,-999.000,9,-999.000,9,  -999.0,9,  -999.0,9,-999.000,9,-999.0000,9, -999.00,9, -999.00,9,  -999.0,9,  -999.0,     1.2902,-999.0000,-999.000,-999.000
31WTTUNES_3,       P16C,     311,          1,          9,          9,2,19910927,       0449,    15.3215,  -152.9867,       5690,  3709.9,   1.5078,  34.6823,2,  34.6826,2,    142.3,2,   142.0,2,  157.22,2,   36.58,2,    0.00,2,    2.55,2,-999.000,9,-999.000,9,  -999.0,9,  -999.0,9,-999.000,9,-999.0000,9, -999.00,9, -999.00,9,  -999.0,9,  -999.0,     1.2198,-999.0000,-999.000,-999.000
31WTTUNES_3,       P16C,     311,          1,          8,          8,2,19910927,       0449,    15.3215,  -152.9867,       5690,  3968.5,   1.4661,  34.6867,2,  34.6855,2,    151.3,2,   153.7,2,  152.56,2,   36.03,2,    0.00,2,    2.50,2,-999.000,9,-999.000,9,  -999.0,9,  -999.0,9,-999.000,9,-999.0000,9, -999.00,9, -999.00,9,  -999.0,9,  -999.0,     1.1516,-999.0000,-999.000,-999.000
31WTTUNES_3,       P16C,     311,          1,          7,          7,2,19910927,       0449,    15.3215,  -152.9867,       5690,  4229.2,   1.4357,  34.6903,2,  34.6885,2,    159.5,2,   161.2,2,  147.90,2,   35.50,2,    0.00,2,    2.44,2,-999.000,9,-999.000,9,  -999.0,9,  -999.0,9,-999.000,9,-999.0000,9, -999.00,9, -999.00,9,  -999.0,9,  -999.0,     1.0932,-999.0000,-999.000,-999.000
31WTTUNES_3,       P16C,     311,          1,          6,          6,2,19910927,       0449,    15.3215,  -152.9867,       5690,  4490.8,   1.4144,  34.6927,2,  34.6922,2,    166.0,2,   167.1,2,  144.24,2,   35.12,2,    0.00,2,    2.42,2,-999.000,9,-999.000,9,  -999.0,9,  -999.0,9,-999.000,9,-999.0000,9, -999.00,9, -999.00,9,  -999.0,9,  -999.0,     1.0430,-999.0000,-999.000,-999.000
31WTTUNES_3,       P16C,     311,          1,          5,          5,2,19910927,       0449,    15.3215,  -152.9867,       5690,  4751.3,   1.4031,  34.6949,2,  34.6946,2,    172.1,2,   172.9,2,  140.59,2,   34.69,2,    0.00,2,    2.40,2,-999.000,9,-999.000,9,  -999.0,9,  -999.0,9,-999.000,9,-999.0000,9, -999.00,9, -999.00,9,  -999.0,9,  -999.0,     1.0019,-999.0000,-999.000,-999.000
31WTTUNES_3,       P16C,     311,          1,          4,          4,2,19910927,       0449,    15.3215,  -152.9867,       5690,  5011.4,   1.4044,  34.6963,2,  34.6956,2,    176.4,2,   176.6,2,  138.16,2,   34.43,2,    0.00,2,    2.38,2,-999.000,9,-999.000,9,  -999.0,9,  -999.0,9,-999.000,9,-999.0000,9, -999.00,9, -999.00,9,  -999.0,9,  -999.0,     0.9720,-999.0000,-999.000,-999.000
31WTTUNES_3,       P16C,     311,          1,          3,          3,2,19910927,       0449,    15.3215,  -152.9867,       5690,  5270.8,   1.4189,  34.6975,2,  34.6973,2,    179.5,2,   179.4,2,  137.14,2,   34.21,2,    0.00,2,    2.37,2,-999.000,9,-999.000,9,  -999.0,9,  -999.0,9,-999.000,9,-999.0000,9, -999.00,9, -999.00,9,  -999.0,9,  -999.0,     0.9540,-999.0000,-999.000,-999.000
31WTTUNES_3,       P16C,     311,          1,          2,          2,2,19910927,       0449,    15.3215,  -152.9867,       5690,  5530.9,   1.4467,  34.6976,2,  34.6977,2,    180.3,2,   179.4,2,  136.72,2,   34.27,2,    0.00,2,    2.37,2,-999.000,9,-999.000,9,  -999.0,9,  -999.0,9,-999.000,9,-999.0000,9, -999.00,9, -999.00,9,  -999.0,9,  -999.0,     0.9480,-999.0000,-999.000,-999.000
31WTTUNES_3,       P16C,     311,          1,          1,          1,2,19910927,       0449,    15.3215,  -152.9867,       5690,  5779.0,   1.4778,  34.6978,2,  34.6979,2,    180.8,2,   181.2,2,  136.31,2,   34.17,2,    0.00,2,    2.36,2,-999.000,9,-999.000,9,  -999.0,9,  -999.0,9,-999.000,9,-999.0000,9, -999.00,9, -999.00,9,  -999.0,9,  -999.0,     0.9461,-999.0000,-999.000,-999.000