BOTTLE,20211117CCHSIORKP
EXPOCODE,SECT_ID,STNNBR,CASTNO,SAMPNO,BTLNBR,BTLNBR_FLAG_W,DATE,TIME,LATITUDE,LONGITUDE,DEPTH,CTDPRS,CTDTMP,CTDSAL,CTDSAL_FLAG_W,SALNTY,SALNTY_FLAG_W,CTDOXY,CTDOXY_FLAG_W,OXYGEN,OXYGEN_FLAG_W,SILCAT,SILCAT_FLAG_W,NITRAT,NITRAT_FLAG_W,NITRIT,NITRIT_FLAG_W,PHSPHT,PHSPHT_FLAG_W,CFC-11,CFC-11_FLAG_W,CFC-12,CFC-12_FLAG_W,TCARBN,TCARBN_FLAG_W,ALKALI,ALKALI_FLAG_W,TRITUM,TRITUM_FLAG_W,HELIUM,HELIUM_FLAG_W,DELHE3,DELHE3_FLAG_W,DELC13,DELC13_FLAG_W,DELC14,DELC14_FLAG_W,C14ERR,THETA,HELIER,DELHER,TRITER
,,,,,,,,,,,METERS,DBAR,ITS-90,PSS-78,,PSS-78,,UMOL/KG,,UMOL/KG,,UMOL/KG,,UMOL/KG,,UMOL/KG,,UMOL/KG,,PMOL/KG,,PMOL/KG,,UMOL/KG,,UMOL/KG,,TU,,NMOL/KG,,PERCNT,,/MILLE,,/MILLE,,/MILLE,ITS-90,NMOL/KG,PERCNT,TU
31WTTUNES_3,       P16C,     298,          1,         36,         36,2,19910922,       0944,     8.9427,  -151.7553,       5060,    13.9,  28.4548,  33.7949,2,  33.7971,2,    210.1,3,   214.1,2,    1.73,2,    0.00,2,    0.00,2,    0.12,2,   1.629,2,   0.914,2,  1873.0,2,  2220.9,2,-999.000,9,-999.0000,9, -999.00,9,    1.51,2,   107.8,2,     3.0,    28.4515,-999.0000,-999.000,-999.000
31WTTUNES_3,       P16C,     298,          1,         35,         35,2,19910922,       0944,     8.9427,  -151.7553,       5060,    47.0,  27.3058,  34.4354,2,  34.4418,2,    226.7,2,   225.1,2,    1.92,2,    0.00,2,    0.00,2,    0.15,2,   1.845,2,   1.015,2,  1930.8,2,  2268.6,2,   1.419,2,   1.7290,2,   -0.70,2,    1.37,2,   102.9,2,     3.6,    27.2950,   0.0080,   0.150,   0.009
31WTTUNES_3,       P16C,     298,          1,         34,         34,2,19910922,       0944,     8.9427,  -151.7553,       5060,    76.3,  17.9593,  34.4903,2,  34.5439,2,    162.8,2,   173.3,2,    6.07,2,    4.40,2,    0.17,2,    0.70,2,   1.988,6,   1.036,6,  2073.0,2,  2285.4,2,-999.000,9,-999.0000,9, -999.00,9,    0.91,2,    84.7,2,     4.4,    17.9463,-999.0000,-999.000,-999.000
31WTTUNES_3,       P16C,     298,          1,         33,         33,2,19910922,       0944,     8.9427,  -151.7553,       5060,   108.9,  12.8688,  34.5764,2,  34.5631,2,     25.3,2,    27.0,2,   24.45,2,   29.42,2,    0.04,2,    2.25,2,   0.630,2,   0.355,2,  2218.0,2,  2283.2,2,   0.819,2,   1.7820,2,   10.05,2,   -0.19,2,   -15.5,2,     3.8,    12.8541,   0.0080,   0.150,   0.007
31WTTUNES_3,       P16C,     298,          1,         32,         32,2,19910922,       0944,     8.9427,  -151.7553,       5060,   138.9,  11.7559,  34.7118,2,  34.7034,2,      7.0,2,     6.6,2,   28.59,2,   33.04,2,    0.01,2,    2.46,2,   0.215,6,   0.132,6,  2243.9,2,  2291.9,2,-999.000,9,-999.0000,9, -999.00,9,   -0.52,3,   -58.9,2,     4.0,    11.7381,-999.0000,-999.000,-999.000
31WTTUNES_3,       P16C,     298,          1,         31,         31,2,19910922,       0944,     8.9427,  -151.7553,       5060,   169.1,  11.1989,  34.7181,2,  34.7180,2,     10.0,2,     9.1,2,   30.76,2,   33.69,2,    0.01,2,    2.45,2,   0.115,2,   0.079,2,  2250.2,2,  2299.6,2,   0.364,2,   2.1320,2,    7.54,2,   -0.14,2,   -69.1,2,     3.7,    11.1779,   0.0100,   0.150,   0.005
31WTTUNES_3,       P16C,     298,          1,         30,         30,2,19910922,       0944,     8.9427,  -151.7553,       5060,   210.6,  10.7000,  34.7072,2,  34.7048,2,     13.6,2,    12.6,2,   32.53,2,   34.22,2,    0.01,2,    2.47,2,   0.071,2,   0.049,2,  2254.7,2,  2299.6,2,   0.247,2,   1.8000,2,    6.30,2,   -0.10,2,   -79.2,2,     3.6,    10.6745,   0.0080,   0.150,   0.004
31WTTUNES_3,       P16C,     298,          1,         29,         29,2,19910922,       0944,     8.9427,  -151.7553,       5060,   250.3,  10.2705,  34.6947,2,  34.6932,2,     13.3,2,    18.3,2,   33.71,2,   34.56,2,    0.01,2,    2.47,2,   0.066,6,   0.049,6,  2254.7,2,  2305.1,2,   0.197,2,   0.0000,2,    0.00,2,   -0.51,3,   -92.0,2,     3.4,    10.2410,-999.0000,   0.150,   0.004
31WTTUNES_3,       P16C,     298,          1,         28,         28,2,19910922,       0944,     8.9427,  -151.7553,       5060,   291.5,   9.8659,  34.6840,2,  34.6891,2,     20.5,2,    20.5,2,   35.09,2,   35.31,2,    0.01,2,    2.50,2,   0.048,2,   0.035,2,  2257.8,2,  2304.5,2,   0.145,2,   1.8100,2,    6.10,2,   -0.18,2,   -85.7,2,     5.1,     9.8323,   0.0090,   0.150,   0.003
31WTTUNES_3,       P16C,     298,          1,         27,         27,2,19910922,       0944,     8.9427,  -151.7553,       5060,   341.3,   9.3360,  34.6553,2,  34.6555,2,     10.0,2,     9.0,2,   39.83,2,   36.46,2,    0.01,2,    2.69,2,   0.015,2,   0.012,2,  2274.6,2,  2310.0,2,   0.061,2,   1.8240,2,    5.82,2,   -0.19,2,   -99.9,2,     3.3,     9.2979,   0.0090,   0.150,   0.002
31WTTUNES_3,       P16C,     298,          1,         26,         26,2,19910922,       0944,     8.9427,  -151.7553,       5060,   392.5,   8.8700,  34.6330,2,  34.6356,2,     11.4,2,    11.1,2,   42.58,2,   36.85,2,    0.01,2,    2.73,2,   0.010,6,   0.008,6,  2278.1,2,  2310.0,2,   0.041,2,   1.8250,2,    6.14,2,   -0.14,2,  -102.4,2,     3.2,     8.8274,   0.0090,   0.150,   0.003
31WTTUNES_3,       P16C,     298,          1,         25,         25,2,19910922,       0944,     8.9427,  -151.7553,       5060,   453.0,   8.2934,  34.6092,2,  34.6011,2,     11.7,2,    12.8,2,   48.51,2,   37.71,2,    0.00,2,    2.84,2,   0.003,2,   0.004,2,  2285.1,2,  2316.8,2,   0.025,2,   1.8310,2,    7.05,2,   -0.19,2,  -115.6,2,     3.1,     8.2461,   0.0090,   0.150,   0.002
31WTTUNES_3,       P16C,     298,          1,         24,         24,2,19910922,       0944,     8.9427,  -151.7553,       5060,   512.2,   7.5531,  34.5740,2,  34.5763,2,     14.4,2,    13.8,2,   54.43,2,   39.25,2,    0.01,2,    2.93,2,   0.001,2,   0.002,2,  2294.3,2,  2319.1,2,   0.018,2,-999.0000,9,  -99.00,2,   -0.43,2,  -129.5,2,     3.2,     7.5023,-999.0000,   0.110,   0.002
31WTTUNES_3,       P16C,     298,          1,         23,         23,2,19910922,       0944,     8.9427,  -151.7553,       5060,   612.4,   6.7524,  34.5619,2,  34.5557,2,     15.3,2,    17.0,2,   63.31,2,   41.49,2,    0.00,2,    3.02,2,  -0.002,2,  -0.002,2,  2305.6,2,  2330.9,2,   0.008,2,   1.8540,2,   10.10,2,   -0.26,2,  -141.0,2,     3.2,     6.6949,   0.0090,   0.150,   0.002
31WTTUNES_3,       P16C,     298,          1,         22,         22,2,19910922,       0944,     8.9427,  -151.7553,       5060,   713.1,   6.0589,  34.5523,2,  34.5453,2,     20.4,2,    26.8,2,   70.62,2,   42.43,2,    0.00,2,    3.04,2,  -0.004,2,  -0.001,2,  2310.8,2,  2335.7,2,   0.007,2,   1.8560,2,   12.13,2, -999.00,9,  -999.0,9,  -999.0,     5.9952,   0.0090,   0.150,   0.001
31WTTUNES_3,       P16C,     298,          1,         21,         21,2,19910922,       0944,     8.9427,  -151.7553,       5060,   815.3,   5.3399,  34.5445,2,  34.5435,2,     42.2,2,    41.0,2,   80.68,2,   42.40,2,    0.00,2,    3.00,2,   0.005,2,   0.003,2,  2313.8,2,  2349.6,2,   0.011,2,-999.0000,9,  -99.00,2,   -0.14,2,  -162.5,2,     3.7,     5.2708,-999.0000,   0.110,   0.002
31WTTUNES_3,       P16C,     298,          1,         20,         20,2,19910922,       0944,     8.9427,  -151.7553,       5060,   916.0,   4.8356,  34.5521,2,  34.5549,2,     51.1,2,    50.3,2,   88.97,2,   42.27,2,    0.00,2,    3.01,2,  -0.006,2,  -0.005,2,  2320.2,2,  2356.8,2,-999.000,5,   1.8850,2,   16.51,2, -999.00,9,  -999.0,9,  -999.0,     4.7610,   0.0090,   0.150,-999.000
31WTTUNES_3,       P16C,     298,          1,         19,         19,2,19910922,       0944,     8.9427,  -151.7553,       5060,  1016.6,   4.4394,  34.5599,2,  34.5600,2,     54.9,2,    58.1,2,   96.66,2,   42.24,2,    0.00,2,    3.01,2,  -0.002,2,   0.001,2,  2326.8,2,  2366.9,2,-999.000,5,   1.8670,2,   18.14,2,   -0.12,2,  -185.4,2,     2.7,     4.3589,   0.0090,   0.150,-999.000
31WTTUNES_3,       P16C,     298,          1,         18,         18,2,19910922,       0944,     8.9427,  -151.7553,       5060,  1218.8,   3.7652,  34.5804,2,  34.5798,2,     60.9,2,    60.0,2,  112.06,2,   42.26,2,    0.00,2,    3.01,2,  -0.003,2,   0.002,2,  2342.2,2,  2380.3,2,   0.003,2,   1.9050,2,   21.15,2, -999.00,9,  -999.0,9,  -999.0,     3.6730,   0.0090,   0.150,   0.001
31WTTUNES_3,       P16C,     298,          1,         17,         17,2,19910922,       0944,     8.9427,  -151.7553,       5060,  1424.4,   3.2592,  34.5959,2,  34.5922,2,     72.6,2,    71.1,2,  121.53,2,   41.47,2,    0.00,2,    2.93,2,-999.000,9,-999.000,9,  2347.3,2,  2394.7,2,-999.000,9,-999.0000,9, -999.00,9, -999.00,9,  -999.0,9,  -999.0,     3.1547,-999.0000,-999.000,-999.000
31WTTUNES_3,       P16C,     298,          1,         16,         16,2,19910922,       0944,     8.9427,  -151.7553,       5060,  1632.4,   2.8521,  34.6117,2,  34.6089,2,     80.8,2,   123.8,4,  130.99,2,   40.84,2,    0.00,2,    2.88,2,-999.000,9,-999.000,9,  -999.0,9,  -999.0,9,-999.000,9,-999.0000,9, -999.00,9, -999.00,9,  -999.0,9,  -999.0,     2.7348,-999.0000,-999.000,-999.000
31WTTUNES_3,       P16C,     298,          1,         15,         15,2,19910922,       0944,     8.9427,  -151.7553,       5060,  1840.3,   2.5120,  34.6256,2,  34.6231,2,     89.7,2,    89.3,2,  138.88,2,   40.30,2,    0.00,2,    2.84,2,-999.000,9,-999.000,9,  2355.4,2,  2411.0,2,-999.000,9,-999.0000,9, -999.00,9, -999.00,9,  -999.0,9,  -999.0,     2.3815,-999.0000,-999.000,-999.000
31WTTUNES_3,       P16C,     298,          1,         14,         14,2,19910922,       0944,     8.9427,  -151.7553,       5060,  2049.9,   2.2323,  34.6397,2,  34.6372,2,     97.1,2,    97.0,2,  145.18,2,   39.72,2,    0.00,2,    2.79,2,-999.000,9,-999.000,9,  -999.0,9,  -999.0,9,-999.000,9,-999.0000,9, -999.00,9, -999.00,9,  -999.0,9,  -999.0,     2.0880,-999.0000,-999.000,-999.000
31WTTUNES_3,       P16C,     298,          1,         13,         13,2,19910922,       0944,     8.9427,  -151.7553,       5060,  2258.2,   2.0416,  34.6512,2,  34.6378,4,    104.3,2,   104.1,2,  149.51,2,   39.13,2,    0.00,2,    2.75,2,-999.000,9,-999.000,9,  2356.5,2,  2429.9,2,-999.000,9,-999.0000,9, -999.00,9, -999.00,9,  -999.0,9,  -999.0,     1.8822,-999.0000,-999.000,-999.000
31WTTUNES_3,       P16C,     298,          1,         12,         12,2,19910922,       0944,     8.9427,  -151.7553,       5060,  2462.6,   1.9154,  34.6614,2,  34.6602,2,    109.6,2,   109.6,2,  152.84,2,   38.19,3,    0.00,2,    2.72,2,-999.000,9,-999.000,9,  -999.0,9,  -999.0,9,-999.000,9,-999.0000,9, -999.00,9, -999.00,9,  -999.0,9,  -999.0,     1.7401,-999.0000,-999.000,-999.000
31WTTUNES_3,       P16C,     298,          1,         11,         11,2,19910922,       0944,     8.9427,  -151.7553,       5060,  2661.0,   1.8501,  34.6665,2,  34.6739,4,    113.4,2,   113.3,2,  154.41,2,   38.47,2,    0.00,2,    2.69,2,-999.000,9,-999.000,9,  -999.0,9,  2434.7,2,-999.000,9,-999.0000,9, -999.00,9, -999.00,9,  -999.0,9,  -999.0,     1.6578,-999.0000,-999.000,-999.000
31WTTUNES_3,       P16C,     298,          1,         10,         10,2,19910922,       0944,     8.9427,  -151.7553,       5060,  2850.6,   1.7900,  34.6697,2,  34.6696,2,    118.2,2,   118.5,2,  154.59,2,   38.14,2,    0.00,2,    2.66,2,-999.000,9,-999.000,9,  -999.0,9,  -999.0,9,-999.000,9,-999.0000,9, -999.00,9, -999.00,9,  -999.0,9,  -999.0,     1.5812,-999.0000,-999.000,-999.000
31WTTUNES_3,       P16C,     298,          1,          9,          9,2,19910922,       0944,     8.9427,  -151.7553,       5060,  3056.4,   1.7267,  34.6733,2,  34.6724,2,    122.7,2,   123.3,2,  154.78,2,   37.45,2,    0.00,2,    2.63,2,-999.000,9,-999.000,9,  2351.2,2,  2438.3,2,-999.000,9,-999.0000,9, -999.00,9, -999.00,9,  -999.0,9,  -999.0,     1.4994,-999.0000,-999.000,-999.000
31WTTUNES_3,       P16C,     298,          1,          8,          8,2,19910922,       0944,     8.9427,  -151.7553,       5060,  3318.9,   1.6347,  34.6780,2,  34.6769,2,    130.8,2,   131.8,2,  154.94,2,   37.08,2,    0.00,2,    2.59,2,-999.000,9,-999.000,9,  -999.0,9,  -999.0,9,-999.000,9,-999.0000,9, -999.00,9, -999.00,9,  -999.0,9,  -999.0,     1.3836,-999.0000,-999.000,-999.000
31WTTUNES_3,       P16C,     298,          1,          7,          7,2,19910922,       0944,     8.9427,  -151.7553,       5060,  3585.1,   1.5618,  34.6828,2,  34.6834,2,    139.9,2,   140.9,2,  153.16,2,   36.84,2,    0.00,2,    2.54,2,-999.000,9,-999.000,9,  2339.6,2,  2432.0,2,-999.000,9,-999.0000,9, -999.00,9, -999.00,9,  -999.0,9,  -999.0,     1.2853,-999.0000,-999.000,-999.000
31WTTUNES_3,       P16C,     298,          1,          6,          6,2,19910922,       0944,     8.9427,  -151.7553,       5060,  3852.4,   1.4923,  34.6868,2,  34.6848,2,    150.3,2,   150.7,2,  148.99,2,   36.09,2,    0.00,2,    2.47,2,-999.000,9,-999.000,9,  -999.0,9,  -999.0,9,-999.000,9,-999.0000,9, -999.00,9, -999.00,9,  -999.0,9,  -999.0,     1.1895,-999.0000,-999.000,-999.000
31WTTUNES_3,       P16C,     298,          1,          5,          5,2,19910922,       0944,     8.9427,  -151.7553,       5060,  4118.6,   1.4356,  34.6909,2,  34.6932,2,    160.3,2,   161.3,2,  144.22,2,   35.29,2,    0.00,2,    2.43,2,-999.000,9,-999.000,9,  2319.3,2,  2424.7,2,-999.000,9,-999.0000,9, -999.00,9, -999.00,9,  -999.0,9,  -999.0,     1.1055,-999.0000,-999.000,-999.000
31WTTUNES_3,       P16C,     298,          1,          4,          4,2,19910922,       0944,     8.9427,  -151.7553,       5060,  4382.8,   1.3918,  34.6945,2,  34.6936,2,    168.6,2,   168.7,2,  140.64,2,   34.20,3,    0.00,2,    2.40,2,-999.000,9,-999.000,9,  -999.0,9,  -999.0,9,-999.000,9,-999.0000,9, -999.00,9, -999.00,9,  -999.0,9,  -999.0,     1.0335,-999.0000,-999.000,-999.000
31WTTUNES_3,       P16C,     298,          1,          3,          3,2,19910922,       0944,     8.9427,  -151.7553,       5060,  4641.5,   1.3920,  34.6958,2,  34.6954,2,    172.5,2,   171.9,2,  139.45,2,   34.38,2,    0.00,2,    2.39,2,-999.000,9,-999.000,9,  2309.4,2,  2413.0,2,-999.000,9,-999.0000,9, -999.00,9, -999.00,9,  -999.0,9,  -999.0,     1.0040,-999.0000,-999.000,-999.000
31WTTUNES_3,       P16C,     298,          1,          2,          2,2,19910922,       0944,     8.9427,  -151.7553,       5060,  4895.3,   1.4094,  34.6962,2,  34.6956,2,    174.8,2,   173.7,2,  138.45,2,   34.31,2,    0.00,2,    2.39,2,-999.000,9,-999.000,9,  -999.0,9,  -999.0,9,-999.000,9,-999.0000,9, -999.00,9, -999.00,9,  -999.0,9,  -999.0,     0.9908,-999.0000,-999.000,-999.000
31WTTUNES_3,       P16C,     298,          1,          1,          1,2,19910922,       0944,     8.9427,  -151.7553,       5060,  5135.0,   1.4325,  34.6959,2,  34.7017,3,    175.1,2,   176.4,2,  137.64,2,   34.49,2,    0.00,2,    2.37,2,-999.000,9,-999.000,9,  2306.4,2,  2410.5,2,-999.000,9,-999.0000,9, -999.00,9, -999.00,9,  -999.0,9,  -999.0,     0.9840,-999.0000,-999.000,-999.000