BOTTLE,20211117CCHSIORKP
EXPOCODE,SECT_ID,STNNBR,CASTNO,SAMPNO,BTLNBR,BTLNBR_FLAG_W,DATE,TIME,LATITUDE,LONGITUDE,DEPTH,CTDPRS,CTDTMP,CTDSAL,CTDSAL_FLAG_W,SALNTY,SALNTY_FLAG_W,CTDOXY,CTDOXY_FLAG_W,OXYGEN,OXYGEN_FLAG_W,SILCAT,SILCAT_FLAG_W,NITRAT,NITRAT_FLAG_W,NITRIT,NITRIT_FLAG_W,PHSPHT,PHSPHT_FLAG_W,CFC-11,CFC-11_FLAG_W,CFC-12,CFC-12_FLAG_W,TCARBN,TCARBN_FLAG_W,ALKALI,ALKALI_FLAG_W,TRITUM,TRITUM_FLAG_W,HELIUM,HELIUM_FLAG_W,DELHE3,DELHE3_FLAG_W,DELC13,DELC13_FLAG_W,DELC14,DELC14_FLAG_W,C14ERR,THETA,HELIER,DELHER,TRITER
,,,,,,,,,,,METERS,DBAR,ITS-90,PSS-78,,PSS-78,,UMOL/KG,,UMOL/KG,,UMOL/KG,,UMOL/KG,,UMOL/KG,,UMOL/KG,,PMOL/KG,,PMOL/KG,,UMOL/KG,,UMOL/KG,,TU,,NMOL/KG,,PERCNT,,/MILLE,,/MILLE,,/MILLE,ITS-90,NMOL/KG,PERCNT,TU
31WTTUNES_3,       P16C,     287,          2,         36,         36,4,19910918,       2220,     3.5003,  -151.0032,       4859,     3.3,  26.5767,  34.8985,2,-999.0000,9,    206.2,2,  -999.0,9, -999.00,9, -999.00,9, -999.00,9, -999.00,9,-999.000,9,-999.000,9,  -999.0,9,  -999.0,9,-999.000,9,-999.0000,9, -999.00,9, -999.00,9,  -999.0,9,  -999.0,    26.5760,-999.0000,-999.000,-999.000
31WTTUNES_3,       P16C,     287,          2,         35,         35,4,19910918,       2220,     3.5003,  -151.0032,       4859,    56.8,  27.5398,  34.7657,2,-999.0000,9,    206.3,2,  -999.0,9, -999.00,9, -999.00,9, -999.00,9, -999.00,9,-999.000,9,-999.000,9,  -999.0,9,  -999.0,9,-999.000,9,-999.0000,9, -999.00,9, -999.00,9,  -999.0,9,  -999.0,    27.5266,-999.0000,-999.000,-999.000
31WTTUNES_3,       P16C,     287,          2,         34,         34,4,19910918,       2220,     3.5003,  -151.0032,       4859,   106.5,  25.6734,  34.9856,2,-999.0000,9,    190.5,2,  -999.0,9, -999.00,9, -999.00,9, -999.00,9, -999.00,9,-999.000,9,-999.000,9,  -999.0,9,  -999.0,9,-999.000,9,-999.0000,9, -999.00,9, -999.00,9,  -999.0,9,  -999.0,    25.6499,-999.0000,-999.000,-999.000
31WTTUNES_3,       P16C,     287,          2,         33,         33,4,19910918,       2220,     3.5003,  -151.0032,       4859,   126.7,  25.0386,  34.9355,2,-999.0000,9,    176.4,2,  -999.0,9, -999.00,9, -999.00,9, -999.00,9, -999.00,9,-999.000,9,-999.000,9,  -999.0,9,  -999.0,9,-999.000,9,-999.0000,9, -999.00,9, -999.00,9,  -999.0,9,  -999.0,    25.0111,-999.0000,-999.000,-999.000
31WTTUNES_3,       P16C,     287,          2,         32,         32,4,19910918,       2220,     3.5003,  -151.0032,       4859,   146.7,  22.3128,  34.8548,2,-999.0000,9,    119.5,2,  -999.0,9, -999.00,9, -999.00,9, -999.00,9, -999.00,9,-999.000,9,-999.000,9,  -999.0,9,  -999.0,9,-999.000,9,-999.0000,9, -999.00,9, -999.00,9,  -999.0,9,  -999.0,    22.2836,-999.0000,-999.000,-999.000
31WTTUNES_3,       P16C,     287,          2,         31,         31,4,19910918,       2220,     3.5003,  -151.0032,       4859,   177.7,  13.7359,  34.6531,2,-999.0000,9,    106.3,2,  -999.0,9, -999.00,9, -999.00,9, -999.00,9, -999.00,9,-999.000,9,-999.000,9,  -999.0,9,  -999.0,9,-999.000,9,-999.0000,9, -999.00,9, -999.00,9,  -999.0,9,  -999.0,    13.7107,-999.0000,-999.000,-999.000
31WTTUNES_3,       P16C,     287,          2,         30,         30,4,19910918,       2220,     3.5003,  -151.0032,       4859,   208.9,  11.6574,  34.7600,2,-999.0000,9,    104.9,2,  -999.0,9, -999.00,9, -999.00,9, -999.00,9, -999.00,9,-999.000,9,-999.000,9,  -999.0,9,  -999.0,9,-999.000,9,-999.0000,9, -999.00,9, -999.00,9,  -999.0,9,  -999.0,    11.6307,-999.0000,-999.000,-999.000
31WTTUNES_3,       P16C,     287,          2,         29,         29,4,19910918,       2220,     3.5003,  -151.0032,       4859,   259.3,  11.1774,  34.7820,2,-999.0000,9,     78.4,2,  -999.0,9, -999.00,9, -999.00,9, -999.00,9, -999.00,9,-999.000,9,-999.000,9,  -999.0,9,  -999.0,9,-999.000,9,-999.0000,9, -999.00,9, -999.00,9,  -999.0,9,  -999.0,    11.1451,-999.0000,-999.000,-999.000
31WTTUNES_3,       P16C,     287,          2,         28,         28,4,19910918,       2220,     3.5003,  -151.0032,       4859,   309.9,  10.9035,  34.7688,2,-999.0000,9,     58.1,2,  -999.0,9, -999.00,9, -999.00,9, -999.00,9, -999.00,9,-999.000,9,-999.000,9,  -999.0,9,  -999.0,9,-999.000,9,-999.0000,9, -999.00,9, -999.00,9,  -999.0,9,  -999.0,    10.8653,-999.0000,-999.000,-999.000
31WTTUNES_3,       P16C,     287,          2,         27,         27,4,19910918,       2220,     3.5003,  -151.0032,       4859,   360.8,  10.6419,  34.7493,2,-999.0000,9,     61.3,2,  -999.0,9, -999.00,9, -999.00,9, -999.00,9, -999.00,9,-999.000,9,-999.000,9,  -999.0,9,  -999.0,9,-999.000,9,-999.0000,9, -999.00,9, -999.00,9,  -999.0,9,  -999.0,    10.5983,-999.0000,-999.000,-999.000
31WTTUNES_3,       P16C,     287,          2,         26,         26,4,19910918,       2220,     3.5003,  -151.0032,       4859,   412.3,  10.2608,  34.7279,2,-999.0000,9,     56.7,2,  -999.0,9, -999.00,9, -999.00,9, -999.00,9, -999.00,9,-999.000,9,-999.000,9,  -999.0,9,  -999.0,9,-999.000,9,-999.0000,9, -999.00,9, -999.00,9,  -999.0,9,  -999.0,    10.2118,-999.0000,-999.000,-999.000
31WTTUNES_3,       P16C,     287,          2,         25,         25,4,19910918,       2220,     3.5003,  -151.0032,       4859,   462.9,   9.9562,  34.7133,2,-999.0000,9,     57.4,2,  -999.0,9, -999.00,9, -999.00,9, -999.00,9, -999.00,9,-999.000,9,-999.000,9,  -999.0,9,  -999.0,9,-999.000,9,-999.0000,9, -999.00,9, -999.00,9,  -999.0,9,  -999.0,     9.9021,-999.0000,-999.000,-999.000
31WTTUNES_3,       P16C,     287,          2,         24,         24,2,19910918,       2220,     3.5003,  -151.0032,       4859,   513.3,   9.6450,  34.6913,2,  34.6769,2,     62.7,2,    64.2,2,   32.84,2,   31.97,2,    0.00,2,    2.25,2,-999.000,9,-999.000,9,  -999.0,9,  -999.0,9,-999.000,9,-999.0000,9, -999.00,9, -999.00,9,  -999.0,9,  -999.0,     9.5860,-999.0000,-999.000,-999.000
31WTTUNES_3,       P16C,     287,          2,         23,         23,2,19910918,       2220,     3.5003,  -151.0032,       4859,   616.2,   8.2707,  34.6203,2,  34.6064,2,     30.1,2,    28.2,2,   47.37,2,   38.57,2,    0.00,2,    2.79,2,-999.000,9,-999.000,9,  -999.0,9,  -999.0,9,-999.000,9,-999.0000,9, -999.00,9, -999.00,9,  -999.0,9,  -999.0,     8.2058,-999.0000,-999.000,-999.000
31WTTUNES_3,       P16C,     287,          2,         22,         22,2,19910918,       2220,     3.5003,  -151.0032,       4859,   718.7,   6.5642,  34.5678,2,  34.5653,2,     52.8,2,    51.9,2,   56.98,2,   39.15,2,    0.00,2,    2.80,2,-999.000,9,-999.000,9,  -999.0,9,  -999.0,9,-999.000,9,-999.0000,9, -999.00,9, -999.00,9,  -999.0,9,  -999.0,     6.4972,-999.0000,-999.000,-999.000
31WTTUNES_3,       P16C,     287,          2,         21,         21,2,19910918,       2220,     3.5003,  -151.0032,       4859,   820.7,   5.9735,  34.5548,2,  34.5563,2,     57.0,2,    55.1,2,   61.48,2,   39.50,2,    0.00,2,    2.84,2,-999.000,9,-999.000,9,  -999.0,9,  -999.0,9,-999.000,9,-999.0000,9, -999.00,9, -999.00,9,  -999.0,9,  -999.0,     5.9000,-999.0000,-999.000,-999.000
31WTTUNES_3,       P16C,     287,          2,         20,         20,2,19910918,       2220,     3.5003,  -151.0032,       4859,   922.6,   5.3759,  34.5499,2,  34.5555,2,     66.1,2,    64.8,2,   71.49,2,   39.64,2,    0.00,2,    2.83,2,-999.000,9,-999.000,9,  -999.0,9,  -999.0,9,-999.000,9,-999.0000,9, -999.00,9, -999.00,9,  -999.0,9,  -999.0,     5.2968,-999.0000,-999.000,-999.000
31WTTUNES_3,       P16C,     287,          2,         19,         19,2,19910918,       2220,     3.5003,  -151.0032,       4859,  1025.5,   4.6671,  34.5584,2,  34.5600,2,     63.3,2,    63.5,2,   87.19,2,   40.43,2,    0.00,2,    2.90,2,-999.000,9,-999.000,9,  -999.0,9,  -999.0,9,-999.000,9,-999.0000,9, -999.00,9, -999.00,9,  -999.0,9,  -999.0,     4.5840,-999.0000,-999.000,-999.000
31WTTUNES_3,       P16C,     287,          2,         18,         18,2,19910918,       2220,     3.5003,  -151.0032,       4859,  1230.6,   4.0136,  34.5742,2,  34.5741,2,     74.4,2,    69.5,2,  103.08,2,   40.47,2,    0.00,2,    2.90,2,-999.000,9,-999.000,9,  -999.0,9,  -999.0,9,-999.000,9,-999.0000,9, -999.00,9, -999.00,9,  -999.0,9,  -999.0,     3.9182,-999.0000,-999.000,-999.000
31WTTUNES_3,       P16C,     287,          2,         17,         17,2,19910918,       2220,     3.5003,  -151.0032,       4859,  1435.8,   3.1959,  34.6010,2,  34.6003,2,     80.6,2,    81.8,2,  121.72,2,   39.77,2,    0.00,2,    2.85,2,-999.000,9,-999.000,9,  -999.0,9,  -999.0,9,-999.000,9,-999.0000,9, -999.00,9, -999.00,9,  -999.0,9,  -999.0,     3.0912,-999.0000,-999.000,-999.000
31WTTUNES_3,       P16C,     287,          2,         16,         16,2,19910918,       2220,     3.5003,  -151.0032,       4859,  1640.8,   2.8136,  34.6161,2,  34.6172,2,     90.8,2,    91.3,2,  130.35,2,   39.22,2,    0.00,2,    2.80,2,-999.000,9,-999.000,9,  -999.0,9,  -999.0,9,-999.000,9,-999.0000,9, -999.00,9, -999.00,9,  -999.0,9,  -999.0,     2.6961,-999.0000,-999.000,-999.000
31WTTUNES_3,       P16C,     287,          2,         15,         15,2,19910918,       2220,     3.5003,  -151.0032,       4859,  1845.7,   2.5221,  34.6300,2,  34.6291,2,     97.0,2,    97.6,2,  137.21,2,   38.82,2,    0.00,2,    2.77,2,-999.000,9,-999.000,9,  -999.0,9,  -999.0,9,-999.000,9,-999.0000,9, -999.00,9, -999.00,9,  -999.0,9,  -999.0,     2.3911,-999.0000,-999.000,-999.000
31WTTUNES_3,       P16C,     287,          2,         14,         14,2,19910918,       2220,     3.5003,  -151.0032,       4859,  2052.3,   2.2596,  34.6428,2,  34.6433,2,    103.7,2,   103.0,2,  143.87,2,   38.52,2,    0.00,2,    2.72,2,-999.000,9,-999.000,9,  -999.0,9,  -999.0,9,-999.000,9,-999.0000,9, -999.00,9, -999.00,9,  -999.0,9,  -999.0,     2.1147,-999.0000,-999.000,-999.000
31WTTUNES_3,       P16C,     287,          2,         13,         13,2,19910918,       2220,     3.5003,  -151.0032,       4859,  2257.8,   2.0434,  34.6557,2,  34.6547,2,    109.5,2,   110.5,2,  148.57,2,   37.97,2,    0.00,2,    2.68,2,-999.000,9,-999.000,9,  -999.0,9,  -999.0,9,-999.000,9,-999.0000,9, -999.00,9, -999.00,9,  -999.0,9,  -999.0,     1.8840,-999.0000,-999.000,-999.000
31WTTUNES_3,       P16C,     287,          2,         12,         12,2,19910918,       2220,     3.5003,  -151.0032,       4859,  2412.6,   1.8897,  34.6639,2,  34.6639,2,    116.5,2,   118.5,2,  150.92,2,   37.46,2,    0.00,2,    2.63,2,-999.000,9,-999.000,9,  -999.0,9,  -999.0,9,-999.000,9,-999.0000,9, -999.00,9, -999.00,9,  -999.0,9,  -999.0,     1.7193,-999.0000,-999.000,-999.000
31WTTUNES_3,       P16C,     287,          2,         11,         11,2,19910918,       2220,     3.5003,  -151.0032,       4859,  2566.5,   1.8215,  34.6679,2,  34.6673,2,    120.5,2,   120.6,2,  152.28,2,   37.31,2,    0.00,2,    2.61,2,-999.000,9,-999.000,9,  -999.0,9,  -999.0,9,-999.000,9,-999.0000,9, -999.00,9, -999.00,9,  -999.0,9,  -999.0,     1.6384,-999.0000,-999.000,-999.000
31WTTUNES_3,       P16C,     287,          2,         10,         10,2,19910918,       2220,     3.5003,  -151.0032,       4859,  2722.1,   1.7893,  34.6693,2,  34.6683,2,    122.5,2,   123.4,2,  151.48,2,   37.01,2,    0.00,2,    2.60,2,-999.000,9,-999.000,9,  -999.0,9,  -999.0,9,-999.000,9,-999.0000,9, -999.00,9, -999.00,9,  -999.0,9,  -999.0,     1.5926,-999.0000,-999.000,-999.000
31WTTUNES_3,       P16C,     287,          2,          9,          9,2,19910918,       2220,     3.5003,  -151.0032,       4859,  2876.1,   1.7704,  34.6702,2,  34.6694,2,    124.7,2,   125.7,2,  151.67,2,   36.95,2,    0.00,2,    2.59,2,-999.000,9,-999.000,9,  -999.0,9,  -999.0,9,-999.000,9,-999.0000,9, -999.00,9, -999.00,9,  -999.0,9,  -999.0,     1.5596,-999.0000,-999.000,-999.000
31WTTUNES_3,       P16C,     287,          2,          8,          8,2,19910918,       2220,     3.5003,  -151.0032,       4859,  3081.9,   1.7034,  34.6739,2,  34.6737,2,    129.3,2,   130.6,2,  152.05,2,   36.70,2,    0.00,2,    2.56,2,-999.000,9,-999.000,9,  -999.0,9,  -999.0,9,-999.000,9,-999.0000,9, -999.00,9, -999.00,9,  -999.0,9,  -999.0,     1.4742,-999.0000,-999.000,-999.000
31WTTUNES_3,       P16C,     287,          2,          7,          7,2,19910918,       2220,     3.5003,  -151.0032,       4859,  3339.1,   1.5815,  34.6809,2,  34.6826,2,    138.6,2,   140.8,2,  152.00,2,   36.09,2,    0.00,2,    2.50,2,-999.000,9,-999.000,9,  -999.0,9,  -999.0,9,-999.000,9,-999.0000,9, -999.00,9, -999.00,9,  -999.0,9,  -999.0,     1.3297,-999.0000,-999.000,-999.000
31WTTUNES_3,       P16C,     287,          2,          6,          6,2,19910918,       2220,     3.5003,  -151.0032,       4859,  3597.4,   1.4807,  34.6870,2,  34.6873,2,    150.7,2,   150.9,2,  149.04,2,   35.39,2,    0.00,2,    2.44,2,-999.000,9,-999.000,9,  -999.0,9,  -999.0,9,-999.000,9,-999.0000,9, -999.00,9, -999.00,9,  -999.0,9,  -999.0,     1.2050,-999.0000,-999.000,-999.000
31WTTUNES_3,       P16C,     287,          2,          5,          5,2,19910918,       2220,     3.5003,  -151.0032,       4859,  3859.4,   1.4396,  34.6902,2,  34.6905,2,    158.1,2,   157.4,2,  147.26,2,   34.89,2,    0.00,2,    2.41,2,-999.000,9,-999.000,9,  -999.0,9,  -999.0,9,-999.000,9,-999.0000,9, -999.00,9, -999.00,9,  -999.0,9,  -999.0,     1.1374,-999.0000,-999.000,-999.000
31WTTUNES_3,       P16C,     287,          2,          4,          4,2,19910918,       2220,     3.5003,  -151.0032,       4859,  4119.0,   1.3979,  34.6933,2,  34.6940,2,    165.1,2,   165.1,2,  142.74,2,   34.39,2,    0.00,2,    2.38,2,-999.000,9,-999.000,9,  -999.0,9,  -999.0,9,-999.000,9,-999.0000,9, -999.00,9, -999.00,9,  -999.0,9,  -999.0,     1.0687,-999.0000,-999.000,-999.000
31WTTUNES_3,       P16C,     287,          2,          3,          3,2,19910918,       2220,     3.5003,  -151.0032,       4859,  4380.3,   1.3783,  34.6951,2,  34.7009,3,    170.3,2,   170.5,2,  140.38,2,   33.99,2,    0.00,2,    2.35,2,-999.000,9,-999.000,9,  -999.0,9,  -999.0,9,-999.000,9,-999.0000,9, -999.00,9, -999.00,9,  -999.0,9,  -999.0,     1.0207,-999.0000,-999.000,-999.000
31WTTUNES_3,       P16C,     287,          2,          2,          2,2,19910918,       2220,     3.5003,  -151.0032,       4859,  4639.3,   1.3863,  34.6958,2,  34.6977,2,    173.7,2,   173.1,2,  139.18,2,   33.84,2,    0.00,2,    2.34,2,-999.000,9,-999.000,9,  -999.0,9,  -999.0,9,-999.000,9,-999.0000,9, -999.00,9, -999.00,9,  -999.0,9,  -999.0,     0.9987,-999.0000,-999.000,-999.000
31WTTUNES_3,       P16C,     287,          2,          1,          1,2,19910918,       2220,     3.5003,  -151.0032,       4859,  4927.0,   1.4130,  34.6964,2,  34.7007,3,    174.2,2,   176.6,2,  138.19,2,   33.78,2,    0.00,2,    2.32,2,-999.000,9,-999.000,9,  -999.0,9,  -999.0,9,-999.000,9,-999.0000,9, -999.00,9, -999.00,9,  -999.0,9,  -999.0,     0.9904,-999.0000,-999.000,-999.000