BOTTLE,20211117CCHSIORKP
EXPOCODE,SECT_ID,STNNBR,CASTNO,SAMPNO,BTLNBR,BTLNBR_FLAG_W,DATE,TIME,LATITUDE,LONGITUDE,DEPTH,CTDPRS,CTDTMP,CTDSAL,CTDSAL_FLAG_W,SALNTY,SALNTY_FLAG_W,CTDOXY,CTDOXY_FLAG_W,OXYGEN,OXYGEN_FLAG_W,SILCAT,SILCAT_FLAG_W,NITRAT,NITRAT_FLAG_W,NITRIT,NITRIT_FLAG_W,PHSPHT,PHSPHT_FLAG_W,CFC-11,CFC-11_FLAG_W,CFC-12,CFC-12_FLAG_W,TCARBN,TCARBN_FLAG_W,ALKALI,ALKALI_FLAG_W,TRITUM,TRITUM_FLAG_W,HELIUM,HELIUM_FLAG_W,DELHE3,DELHE3_FLAG_W,DELC13,DELC13_FLAG_W,DELC14,DELC14_FLAG_W,C14ERR,THETA,HELIER,DELHER,TRITER
,,,,,,,,,,,METERS,DBAR,ITS-90,PSS-78,,PSS-78,,UMOL/KG,,UMOL/KG,,UMOL/KG,,UMOL/KG,,UMOL/KG,,UMOL/KG,,PMOL/KG,,PMOL/KG,,UMOL/KG,,UMOL/KG,,TU,,NMOL/KG,,PERCNT,,/MILLE,,/MILLE,,/MILLE,ITS-90,NMOL/KG,PERCNT,TU
31WTTUNES_3,       P16C,     313,          1,         36,         36,2,19910927,       1758,    16.2975,  -153.1685,       4964,     9.0,  26.8954,  34.4554,2,  34.4608,2,    211.9,3,   216.9,2,    2.35,2,    0.08,2,    0.00,2,    0.16,2,   1.727,2,   0.986,2,  -999.0,9,  -999.0,9,-999.000,9,-999.0000,9, -999.00,9, -999.00,9,  -999.0,9,  -999.0,    26.8933,-999.0000,-999.000,-999.000
31WTTUNES_3,       P16C,     313,          1,         35,         35,2,19910927,       1758,    16.2975,  -153.1685,       4964,    38.7,  26.5913,  34.5704,2,  34.5779,2,    212.5,2,   220.6,2,    2.13,2,    0.08,2,    0.00,2,    0.16,2,   1.768,6,   0.984,6,  -999.0,9,  -999.0,9,-999.000,9,-999.0000,9, -999.00,9, -999.00,9,  -999.0,9,  -999.0,    26.5826,-999.0000,-999.000,-999.000
31WTTUNES_3,       P16C,     313,          1,         34,         34,2,19910927,       1758,    16.2975,  -153.1685,       4964,    69.1,  26.4655,  34.5705,2,  34.6706,2,    208.7,2,   220.8,2,    2.33,2,    0.13,2,    0.00,2,    0.15,2,   1.897,2,   1.060,2,  -999.0,9,  -999.0,9,-999.000,9,-999.0000,9, -999.00,9, -999.00,9,  -999.0,9,  -999.0,    26.4501,-999.0000,-999.000,-999.000
31WTTUNES_3,       P16C,     313,          1,         33,         33,2,19910927,       1758,    16.2975,  -153.1685,       4964,    98.8,  23.1536,  34.9292,2,  34.9565,2,    229.7,2,   228.1,2,    2.52,2,    0.13,2,    0.00,2,    0.14,2,   2.075,2,   1.155,2,  -999.0,9,  -999.0,9,-999.000,9,-999.0000,9, -999.00,9, -999.00,9,  -999.0,9,  -999.0,    23.1333,-999.0000,-999.000,-999.000
31WTTUNES_3,       P16C,     313,          1,         32,         32,2,19910927,       1758,    16.2975,  -153.1685,       4964,   129.9,  20.8941,  34.9223,2,  35.0620,2,    210.7,2,   208.6,2,    2.72,2,    0.15,2,    0.02,2,    0.18,2,   2.161,2,   1.199,2,  -999.0,9,  -999.0,9,-999.000,9,-999.0000,9, -999.00,9, -999.00,9,  -999.0,9,  -999.0,    20.8693,-999.0000,-999.000,-999.000
31WTTUNES_3,       P16C,     313,          1,         31,         31,2,19910927,       1758,    16.2975,  -153.1685,       4964,   169.5,  16.1770,  34.5170,2,  34.5783,2,    158.8,2,   162.8,2,    7.36,2,    8.38,2,    0.01,2,    0.75,2,   2.120,2,   1.122,2,  -999.0,9,  -999.0,9,-999.000,9,-999.0000,9, -999.00,9, -999.00,9,  -999.0,9,  -999.0,    16.1500,-999.0000,-999.000,-999.000
31WTTUNES_3,       P16C,     313,          1,         30,         30,2,19910927,       1758,    16.2975,  -153.1685,       4964,   210.2,  12.3484,  34.2816,2,  34.3168,2,    113.1,2,   108.7,2,   17.69,2,   19.85,2,    0.00,2,    1.56,2,   1.451,6,   0.752,6,  -999.0,9,  -999.0,9,-999.000,9,-999.0000,9, -999.00,9, -999.00,9,  -999.0,9,  -999.0,    12.3206,-999.0000,-999.000,-999.000
31WTTUNES_3,       P16C,     313,          1,         29,         29,2,19910927,       1758,    16.2975,  -153.1685,       4964,   260.8,  10.2714,  34.3476,2,  34.4371,4,     74.5,2,    84.8,2,   29.43,2,   25.94,2,    0.00,2,    2.07,2,   0.795,2,   0.418,2,  -999.0,9,  -999.0,9,-999.000,9,-999.0000,9, -999.00,9, -999.00,9,  -999.0,9,  -999.0,    10.2407,-999.0000,-999.000,-999.000
31WTTUNES_3,       P16C,     313,          1,         28,         28,2,19910927,       1758,    16.2975,  -153.1685,       4964,   311.6,   9.5257,  34.4298,2,  34.4379,2,     38.4,2,    35.5,2,   40.37,2,   31.68,2,    0.00,2,    2.53,2,   0.185,2,   0.113,2,  -999.0,9,  -999.0,9,-999.000,9,-999.0000,9, -999.00,9, -999.00,9,  -999.0,9,  -999.0,     9.4907,-999.0000,-999.000,-999.000
31WTTUNES_3,       P16C,     313,          1,         27,         27,2,19910927,       1758,    16.2975,  -153.1685,       4964,   365.0,   8.7222,  34.4370,2,  34.4791,2,     29.6,2,    20.2,2,   45.63,2,   34.52,2,    0.00,2,    2.70,2,   0.053,2,   0.037,2,  -999.0,9,  -999.0,9,-999.000,9,-999.0000,9, -999.00,9, -999.00,9,  -999.0,9,  -999.0,     8.6832,-999.0000,-999.000,-999.000
31WTTUNES_3,       P16C,     313,          1,         26,         26,2,19910927,       1758,    16.2975,  -153.1685,       4964,   414.6,   8.3694,  34.4790,2,  34.4832,3,     18.7,2,    17.1,2,   51.50,2,   36.30,2,    0.00,2,    2.82,2,-999.000,9,-999.000,9,  -999.0,9,  -999.0,9,-999.000,9,-999.0000,9, -999.00,9, -999.00,9,  -999.0,9,  -999.0,     8.3260,-999.0000,-999.000,-999.000
31WTTUNES_3,       P16C,     313,          1,         25,         25,2,19910927,       1758,    16.2975,  -153.1685,       4964,   467.5,   7.7881,  34.4827,2,  34.4817,2,     17.0,2,    16.5,2,   57.36,2,   37.67,2,    0.00,2,    2.89,2,   0.005,2,   0.005,2,  -999.0,9,  -999.0,9,-999.000,9,-999.0000,9, -999.00,9, -999.00,9,  -999.0,9,  -999.0,     7.7410,-999.0000,-999.000,-999.000
31WTTUNES_3,       P16C,     313,          1,         24,         24,2,19910927,       1758,    16.2975,  -153.1685,       4964,   518.6,   7.2932,  34.4815,2,  34.4809,2,     17.0,2,    16.9,2,   61.81,2,   38.59,2,    0.00,2,    2.93,2,-999.000,9,-999.000,9,  -999.0,9,  -999.0,9,-999.000,9,-999.0000,9, -999.00,9, -999.00,9,  -999.0,9,  -999.0,     7.2429,-999.0000,-999.000,-999.000
31WTTUNES_3,       P16C,     313,          1,         23,         23,2,19910927,       1758,    16.2975,  -153.1685,       4964,   619.6,   6.3739,  34.4695,2,  34.4705,2,     22.2,2,    21.0,2,   73.56,2,   40.38,2,    0.00,2,    3.03,2,-999.000,9,-999.000,9,  -999.0,9,  -999.0,9,-999.000,9,-999.0000,9, -999.00,9, -999.00,9,  -999.0,9,  -999.0,     6.3176,-999.0000,-999.000,-999.000
31WTTUNES_3,       P16C,     313,          1,         22,         22,2,19910927,       1758,    16.2975,  -153.1685,       4964,   721.6,   5.7082,  34.4925,2,  34.4934,2,     19.1,2,    20.6,2,   82.87,2,   42.06,2,    0.00,2,    3.11,2,-999.000,9,-999.000,9,  -999.0,9,  -999.0,9,-999.000,9,-999.0000,9, -999.00,9, -999.00,9,  -999.0,9,  -999.0,     5.6456,-999.0000,-999.000,-999.000
31WTTUNES_3,       P16C,     313,          1,         21,         21,2,19910927,       1758,    16.2975,  -153.1685,       4964,   823.8,   5.1729,  34.5054,2,  34.5031,2,     22.2,2,    21.7,2,   87.72,2,   42.57,2,    0.00,2,    3.12,2,-999.000,9,-999.000,9,  -999.0,9,  -999.0,9,-999.000,9,-999.0000,9, -999.00,9, -999.00,9,  -999.0,9,  -999.0,     5.1042,-999.0000,-999.000,-999.000
31WTTUNES_3,       P16C,     313,          1,         20,         20,2,19910927,       1758,    16.2975,  -153.1685,       4964,   925.2,   4.7354,  34.5149,2,  34.5162,2,     29.1,2,    29.5,2,   97.04,2,   42.99,2,    0.00,2,    3.14,2,-999.000,9,-999.000,9,  -999.0,9,  -999.0,9,-999.000,9,-999.0000,9, -999.00,9, -999.00,9,  -999.0,9,  -999.0,     4.6606,-999.0000,-999.000,-999.000
31WTTUNES_3,       P16C,     313,          1,         19,         19,2,19910927,       1758,    16.2975,  -153.1685,       4964,  1029.2,   4.2430,  34.5223,2,  34.5211,2,     41.3,2,    40.2,2,  106.15,2,   42.48,2,    0.00,2,    3.08,2,-999.000,9,-999.000,9,  -999.0,9,  -999.0,9,-999.000,9,-999.0000,9, -999.00,9, -999.00,9,  -999.0,9,  -999.0,     4.1629,-999.0000,-999.000,-999.000
31WTTUNES_3,       P16C,     313,          1,         18,         18,2,19910927,       1758,    16.2975,  -153.1685,       4964,  1230.5,   3.6571,  34.5506,2,  34.5512,2,     52.6,2,    51.7,2,  119.11,2,   42.19,2,    0.00,2,    3.03,2,-999.000,9,-999.000,9,  -999.0,9,  -999.0,9,-999.000,9,-999.0000,9, -999.00,9, -999.00,9,  -999.0,9,  -999.0,     3.5650,-999.0000,-999.000,-999.000
31WTTUNES_3,       P16C,     313,          1,         17,         17,2,19910927,       1758,    16.2975,  -153.1685,       4964,  1436.8,   3.1638,  34.5795,2,  34.5791,2,     61.3,2,    60.5,2,  129.43,2,   41.83,2,    0.00,2,    3.01,2,-999.000,9,-999.000,9,  -999.0,9,  -999.0,9,-999.000,9,-999.0000,9, -999.00,9, -999.00,9,  -999.0,9,  -999.0,     3.0595,-999.0000,-999.000,-999.000
31WTTUNES_3,       P16C,     313,          1,         16,         16,2,19910927,       1758,    16.2975,  -153.1685,       4964,  1644.2,   2.7229,  34.5999,2,  34.5997,2,     72.1,2,    71.1,2,  139.76,2,   41.29,2,    0.00,2,    2.93,2,-999.000,9,-999.000,9,  -999.0,9,  -999.0,9,-999.000,9,-999.0000,9, -999.00,9, -999.00,9,  -999.0,9,  -999.0,     2.6064,-999.0000,-999.000,-999.000
31WTTUNES_3,       P16C,     313,          1,         15,         15,2,19910927,       1758,    16.2975,  -153.1685,       4964,  1851.0,   2.3836,  34.6162,2,  34.6162,2,     83.4,2,    82.8,2,  147.03,2,   40.47,2,    0.00,2,    2.86,2,-999.000,9,-999.000,9,  -999.0,9,  -999.0,9,-999.000,9,-999.0000,9, -999.00,9, -999.00,9,  -999.0,9,  -999.0,     2.2542,-999.0000,-999.000,-999.000
31WTTUNES_3,       P16C,     313,          1,         14,         14,2,19910927,       1758,    16.2975,  -153.1685,       4964,  2058.4,   2.1196,  34.6317,2,  34.6301,2,     94.6,2,    92.7,2,  152.50,2,   39.88,2,    0.00,2,    2.82,2,-999.000,9,-999.000,9,  -999.0,9,  -999.0,9,-999.000,9,-999.0000,9, -999.00,9, -999.00,9,  -999.0,9,  -999.0,     1.9764,-999.0000,-999.000,-999.000
31WTTUNES_3,       P16C,     313,          1,         13,         13,2,19910927,       1758,    16.2975,  -153.1685,       4964,  2264.1,   1.9342,  34.6448,2,  34.6439,2,    104.1,2,   103.0,2,  155.53,2,   39.16,2,    0.00,2,    2.74,2,-999.000,9,-999.000,9,  -999.0,9,  -999.0,9,-999.000,9,-999.0000,9, -999.00,9, -999.00,9,  -999.0,9,  -999.0,     1.7763,-999.0000,-999.000,-999.000
31WTTUNES_3,       P16C,     313,          1,         12,         12,2,19910927,       1758,    16.2975,  -153.1685,       4964,  2466.5,   1.8456,  34.6527,2,  34.6519,2,    110.4,2,   109.2,2,  156.94,2,   38.77,2,    0.00,2,    2.71,2,-999.000,9,-999.000,9,  -999.0,9,  -999.0,9,-999.000,9,-999.0000,9, -999.00,9, -999.00,9,  -999.0,9,  -999.0,     1.6712,-999.0000,-999.000,-999.000
31WTTUNES_3,       P16C,     313,          1,         11,         11,2,19910927,       1758,    16.2975,  -153.1685,       4964,  2673.9,   1.7647,  34.6606,2,  34.6596,2,    115.8,2,   116.5,2,  158.55,2,   38.52,2,    0.00,2,    2.68,2,-999.000,9,-999.000,9,  -999.0,9,  -999.0,9,-999.000,9,-999.0000,9, -999.00,9, -999.00,9,  -999.0,9,  -999.0,     1.5729,-999.0000,-999.000,-999.000
31WTTUNES_3,       P16C,     313,          1,         10,         10,2,19910927,       1758,    16.2975,  -153.1685,       4964,  2880.9,   1.6924,  34.6667,2,  34.6661,2,    120.8,2,   120.3,2,  159.96,2,   38.22,2,    0.00,2,    2.66,2,-999.000,9,-999.000,9,  -999.0,9,  -999.0,9,-999.000,9,-999.0000,9, -999.00,9, -999.00,9,  -999.0,9,  -999.0,     1.4828,-999.0000,-999.000,-999.000
31WTTUNES_3,       P16C,     313,          1,          9,          9,2,19910927,       1758,    16.2975,  -153.1685,       4964,  3088.5,   1.6407,  34.6714,2,  34.6704,2,    124.8,2,   124.8,2,  160.97,2,   37.87,2,    0.00,2,    2.62,2,-999.000,9,-999.000,9,  -999.0,9,  -999.0,9,-999.000,9,-999.0000,9, -999.00,9, -999.00,9,  -999.0,9,  -999.0,     1.4124,-999.0000,-999.000,-999.000
31WTTUNES_3,       P16C,     313,          1,          8,          8,2,19910927,       1758,    16.2975,  -153.1685,       4964,  3347.9,   1.5782,  34.6758,2,  34.6747,2,    131.2,2,   130.3,2,  161.56,2,   37.57,2,    0.00,2,    2.60,2,-999.000,9,-999.000,9,  -999.0,9,  -999.0,9,-999.000,9,-999.0000,9, -999.00,9, -999.00,9,  -999.0,9,  -999.0,     1.3256,-999.0000,-999.000,-999.000
31WTTUNES_3,       P16C,     313,          1,          7,          7,2,19910927,       1758,    16.2975,  -153.1685,       4964,  3606.5,   1.5321,  34.6791,2,  34.6781,2,    137.7,2,   138.7,2,  160.14,2,   37.12,2,    0.00,2,    2.56,2,-999.000,9,-999.000,9,  -999.0,9,  -999.0,9,-999.000,9,-999.0000,9, -999.00,9, -999.00,9,  -999.0,9,  -999.0,     1.2542,-999.0000,-999.000,-999.000
31WTTUNES_3,       P16C,     313,          1,          6,          6,2,19910927,       1758,    16.2975,  -153.1685,       4964,  3868.0,   1.4898,  34.6828,2,  34.6820,2,    145.8,2,   146.7,2,  156.48,2,   36.57,2,    0.00,2,    2.52,2,-999.000,9,-999.000,9,  -999.0,9,  -999.0,9,-999.000,9,-999.0000,9, -999.00,9, -999.00,9,  -999.0,9,  -999.0,     1.1855,-999.0000,-999.000,-999.000
31WTTUNES_3,       P16C,     313,          1,          5,          5,2,19910927,       1758,    16.2975,  -153.1685,       4964,  4127.2,   1.4568,  34.6873,2,  34.6863,2,    154.7,2,   154.7,2,  152.01,2,   36.02,2,    0.00,2,    2.47,2,-999.000,9,-999.000,9,  -999.0,9,  -999.0,9,-999.000,9,-999.0000,9, -999.00,9, -999.00,9,  -999.0,9,  -999.0,     1.1251,-999.0000,-999.000,-999.000
31WTTUNES_3,       P16C,     313,          1,          4,          4,2,19910927,       1758,    16.2975,  -153.1685,       4964,  4386.2,   1.4392,  34.6905,2,  34.6891,2,    161.2,2,   161.6,2,  148.15,2,   35.56,2,    0.00,2,    2.43,2,-999.000,9,-999.000,9,  -999.0,9,  -999.0,9,-999.000,9,-999.0000,9, -999.00,9, -999.00,9,  -999.0,9,  -999.0,     1.0790,-999.0000,-999.000,-999.000
31WTTUNES_3,       P16C,     313,          1,          3,          3,2,19910927,       1758,    16.2975,  -153.1685,       4964,  4646.6,   1.4198,  34.6932,2,  34.6926,2,    168.2,2,   167.7,2,  143.28,2,   35.06,2,    0.00,2,    2.40,2,-999.000,9,-999.000,9,  -999.0,9,  -999.0,9,-999.000,9,-999.0000,9, -999.00,9, -999.00,9,  -999.0,9,  -999.0,     1.0303,-999.0000,-999.000,-999.000
31WTTUNES_3,       P16C,     313,          1,          2,          2,2,19910927,       1758,    16.2975,  -153.1685,       4964,  4906.2,   1.4031,  34.6959,2,  34.6948,2,    175.3,2,   172.6,2,  139.83,2,   34.66,2,    0.00,2,    2.39,2,-999.000,9,-999.000,9,  -999.0,9,  -999.0,9,-999.000,9,-999.0000,9, -999.00,9, -999.00,9,  -999.0,9,  -999.0,     0.9834,-999.0000,-999.000,-999.000
31WTTUNES_3,       P16C,     313,          1,          1,          1,2,19910927,       1758,    16.2975,  -153.1685,       4964,  5053.0,   1.4008,  34.6975,2,  34.6961,2,    177.3,2,   179.5,2,  137.59,2,   34.26,2,    0.00,2,    2.37,2,-999.000,9,-999.000,9,  -999.0,9,  -999.0,9,-999.000,9,-999.0000,9, -999.00,9, -999.00,9,  -999.0,9,  -999.0,     0.9634,-999.0000,-999.000,-999.000