BOTTLE,20211117CCHSIORKP
EXPOCODE,SECT_ID,STNNBR,CASTNO,SAMPNO,BTLNBR,BTLNBR_FLAG_W,DATE,TIME,LATITUDE,LONGITUDE,DEPTH,CTDPRS,CTDTMP,CTDSAL,CTDSAL_FLAG_W,SALNTY,SALNTY_FLAG_W,CTDOXY,CTDOXY_FLAG_W,OXYGEN,OXYGEN_FLAG_W,SILCAT,SILCAT_FLAG_W,NITRAT,NITRAT_FLAG_W,NITRIT,NITRIT_FLAG_W,PHSPHT,PHSPHT_FLAG_W,CFC-11,CFC-11_FLAG_W,CFC-12,CFC-12_FLAG_W,TCARBN,TCARBN_FLAG_W,ALKALI,ALKALI_FLAG_W,TRITUM,TRITUM_FLAG_W,HELIUM,HELIUM_FLAG_W,DELHE3,DELHE3_FLAG_W,DELC13,DELC13_FLAG_W,DELC14,DELC14_FLAG_W,C14ERR,THETA,HELIER,DELHER,TRITER
,,,,,,,,,,,METERS,DBAR,ITS-90,PSS-78,,PSS-78,,UMOL/KG,,UMOL/KG,,UMOL/KG,,UMOL/KG,,UMOL/KG,,UMOL/KG,,PMOL/KG,,PMOL/KG,,UMOL/KG,,UMOL/KG,,TU,,NMOL/KG,,PERCNT,,/MILLE,,/MILLE,,/MILLE,ITS-90,NMOL/KG,PERCNT,TU
31WTTUNES_3,       P16C,     304,          1,         36,         36,2,19910924,       1340,    11.8752,  -152.3142,       5210,     5.5,  28.5160,  34.0307,2,  34.0202,2,    205.1,3,   216.3,2,    2.14,2,    0.06,2,    0.00,2,    0.16,2,   1.658,2,   1.614,4,  -999.0,9,  -999.0,9,-999.000,9,-999.0000,9, -999.00,9, -999.00,9,  -999.0,9,  -999.0,    28.5147,-999.0000,-999.000,-999.000
31WTTUNES_3,       P16C,     304,          1,         35,         35,2,19910924,       1340,    11.8752,  -152.3142,       5210,    38.5,  27.2683,  34.3640,2,  34.3450,2,    228.2,2,   228.9,2,    2.33,2,    0.04,2,    0.01,2,    0.16,2,   1.849,6,   1.026,6,  -999.0,9,  -999.0,9,-999.000,9,-999.0000,9, -999.00,9, -999.00,9,  -999.0,9,  -999.0,    27.2595,-999.0000,-999.000,-999.000
31WTTUNES_3,       P16C,     304,          1,         34,         34,2,19910924,       1340,    11.8752,  -152.3142,       5210,    69.4,  20.2914,  34.6583,2,  34.7091,2,    211.6,2,   201.2,2,    3.72,2,    1.07,2,    0.01,2,    0.35,2,   2.148,2,   1.140,2,  -999.0,9,  -999.0,9,-999.000,9,-999.0000,9, -999.00,9, -999.00,9,  -999.0,9,  -999.0,    20.2785,-999.0000,-999.000,-999.000
31WTTUNES_3,       P16C,     304,          1,         33,         33,2,19910924,       1340,    11.8752,  -152.3142,       5210,    99.7,  16.8190,  34.6082,2,  34.4634,2,    172.5,2,   158.8,2,    9.14,2,   11.20,2,    0.01,2,    0.94,2,   2.052,2,   1.805,4,  -999.0,9,  -999.0,9,-999.000,9,-999.0000,9, -999.00,9, -999.00,9,  -999.0,9,  -999.0,    16.8028,-999.0000,-999.000,-999.000
31WTTUNES_3,       P16C,     304,          1,         32,         32,2,19910924,       1340,    11.8752,  -152.3142,       5210,   131.3,  12.6444,  34.2569,2,  34.3172,2,    137.6,2,    94.9,2,   23.25,2,   23.54,2,    0.01,2,    1.87,2,   1.209,2,   0.631,2,  -999.0,9,  -999.0,9,-999.000,9,-999.0000,9, -999.00,9, -999.00,9,  -999.0,9,  -999.0,    12.6268,-999.0000,-999.000,-999.000
31WTTUNES_3,       P16C,     304,          1,         31,         31,2,19910924,       1340,    11.8752,  -152.3142,       5210,   161.3,  11.1534,  34.4186,2,  34.5162,2,     61.6,2,    36.5,2,   30.70,2,   29.50,2,    0.01,2,    2.34,2,   0.412,2,  -0.005,4,  -999.0,9,  -999.0,9,-999.000,9,-999.0000,9, -999.00,9, -999.00,9,  -999.0,9,  -999.0,    11.1335,-999.0000,-999.000,-999.000
31WTTUNES_3,       P16C,     304,          1,         30,         30,2,19910924,       1340,    11.8752,  -152.3142,       5210,   212.3,  10.4631,  34.6070,2,  34.6083,2,     15.0,2,    14.1,2,   34.52,2,   32.52,2,    0.01,2,    2.53,2,   0.112,6,   0.070,6,  -999.0,9,  -999.0,9,-999.000,9,-999.0000,9, -999.00,9, -999.00,9,  -999.0,9,  -999.0,    10.4378,-999.0000,-999.000,-999.000
31WTTUNES_3,       P16C,     304,          1,         29,         29,2,19910924,       1340,    11.8752,  -152.3142,       5210,   263.7,   9.5339,  34.5899,2,  34.5920,2,     11.6,2,    12.2,2,   39.74,2,   34.08,2,    0.01,2,    2.63,2,   0.043,6,   0.027,6,  -999.0,9,  -999.0,9,-999.000,9,-999.0000,9, -999.00,9, -999.00,9,  -999.0,9,  -999.0,     9.5043,-999.0000,-999.000,-999.000
31WTTUNES_3,       P16C,     304,          1,         28,         28,4,19910924,       1340,    11.8752,  -152.3142,       5210,   313.9,   8.8726,  34.5673,2,-999.0000,9,     16.7,2,  -999.0,9, -999.00,9, -999.00,9, -999.00,9, -999.00,9,-999.000,9,-999.000,9,  -999.0,9,  -999.0,9,-999.000,9,-999.0000,9, -999.00,9, -999.00,9,  -999.0,9,  -999.0,     8.8388,-999.0000,-999.000,-999.000
31WTTUNES_3,       P16C,     304,          1,         27,         27,2,19910924,       1340,    11.8752,  -152.3142,       5210,   365.3,   8.2695,  34.5642,2,  34.5675,2,     26.2,2,    25.8,2,   46.18,2,   36.52,2,    0.01,2,    2.69,2,   0.018,6,   0.014,6,  -999.0,9,  -999.0,9,-999.000,9,-999.0000,9, -999.00,9, -999.00,9,  -999.0,9,  -999.0,     8.2316,-999.0000,-999.000,-999.000
31WTTUNES_3,       P16C,     304,          1,         26,         26,2,19910924,       1340,    11.8752,  -152.3142,       5210,   415.9,   7.8020,  34.5477,2,  34.5490,2,     28.7,2,    28.1,2,   51.21,2,   37.26,2,    0.01,2,    2.73,2,-999.000,9,-999.000,9,  -999.0,9,  -999.0,9,-999.000,9,-999.0000,9, -999.00,9, -999.00,9,  -999.0,9,  -999.0,     7.7602,-999.0000,-999.000,-999.000
31WTTUNES_3,       P16C,     304,          1,         25,         25,2,19910924,       1340,    11.8752,  -152.3142,       5210,   517.5,   7.0717,  34.5392,2,  34.5394,2,     25.3,2,    25.2,2,   59.67,2,   39.03,2,    0.01,2,    2.88,2,  -0.002,6,  -0.001,6,  -999.0,9,  -999.0,9,-999.000,9,-999.0000,9, -999.00,9, -999.00,9,  -999.0,9,  -999.0,     7.0222,-999.0000,-999.000,-999.000
31WTTUNES_3,       P16C,     304,          1,         24,         24,2,19910924,       1340,    11.8752,  -152.3142,       5210,   618.9,   6.3021,  34.5253,2,  34.5241,2,     34.8,2,    35.0,2,   68.53,2,   40.12,2,    0.00,2,    2.91,2,  -0.001,2,   0.003,2,  -999.0,9,  -999.0,9,-999.000,9,-999.0000,9, -999.00,9, -999.00,9,  -999.0,9,  -999.0,     6.2460,-999.0000,-999.000,-999.000
31WTTUNES_3,       P16C,     304,          1,         23,         23,2,19910924,       1340,    11.8752,  -152.3142,       5210,   720.0,   5.7308,  34.5247,2,  34.5266,2,     40.4,2,    40.2,2,   76.98,2,   41.01,2,    0.00,2,    2.93,2,  -0.004,2,   0.002,2,  -999.0,9,  -999.0,9,-999.000,9,-999.0000,9, -999.00,9, -999.00,9,  -999.0,9,  -999.0,     5.6682,-999.0000,-999.000,-999.000
31WTTUNES_3,       P16C,     304,          1,         22,         22,2,19910924,       1340,    11.8752,  -152.3142,       5210,   822.3,   5.1925,  34.5270,2,  34.5292,2,     38.0,2,    37.6,2,   88.07,2,   42.07,2,    0.01,2,    3.03,2,  -0.001,2,  -0.005,2,  -999.0,9,  -999.0,9,-999.000,9,-999.0000,9, -999.00,9, -999.00,9,  -999.0,9,  -999.0,     5.1238,-999.0000,-999.000,-999.000
31WTTUNES_3,       P16C,     304,          1,         21,         21,2,19910924,       1340,    11.8752,  -152.3142,       5210,   924.6,   4.7268,  34.5394,2,  34.5431,2,     42.1,2,    43.0,2,   96.11,2,   42.32,2,    0.01,2,    3.05,2,-999.000,9,-999.000,9,  -999.0,9,  -999.0,9,-999.000,9,-999.0000,9, -999.00,9, -999.00,9,  -999.0,9,  -999.0,     4.6522,-999.0000,-999.000,-999.000
31WTTUNES_3,       P16C,     304,          1,         20,         20,2,19910924,       1340,    11.8752,  -152.3142,       5210,  1027.7,   4.3219,  34.5502,2,  34.5518,2,     48.4,2,    49.0,2,  105.18,2,   42.23,2,    0.01,2,    3.04,2,  -0.004,6,  -0.001,6,  -999.0,9,  -999.0,9,-999.000,9,-999.0000,9, -999.00,9, -999.00,9,  -999.0,9,  -999.0,     4.2413,-999.0000,-999.000,-999.000
31WTTUNES_3,       P16C,     304,          1,         19,         19,2,19910924,       1340,    11.8752,  -152.3142,       5210,  1234.0,   3.7192,  34.5750,2,  34.5763,2,     56.7,2,    57.9,2,  116.06,2,   41.99,2,    0.01,2,    3.01,2,-999.000,9,-999.000,9,  -999.0,9,  -999.0,9,-999.000,9,-999.0000,9, -999.00,9, -999.00,9,  -999.0,9,  -999.0,     3.6262,-999.0000,-999.000,-999.000
31WTTUNES_3,       P16C,     304,          1,         18,         18,2,19910924,       1340,    11.8752,  -152.3142,       5210,  1437.7,   3.1219,  34.5927,2,  34.5930,2,     71.4,2,    72.0,2,  128.14,2,   41.07,2,    0.01,2,    2.92,2,-999.000,9,-999.000,9,  -999.0,9,  -999.0,9,-999.000,9,-999.0000,9, -999.00,9, -999.00,9,  -999.0,9,  -999.0,     3.0178,-999.0000,-999.000,-999.000
31WTTUNES_3,       P16C,     304,          1,         17,         17,2,19910924,       1340,    11.8752,  -152.3142,       5210,  1642.8,   2.6474,  34.6126,2,  34.6130,2,     82.2,2,    82.5,2,  139.21,2,   40.44,2,    0.01,2,    2.86,2,-999.000,9,-999.000,9,  -999.0,9,  -999.0,9,-999.000,9,-999.0000,9, -999.00,9, -999.00,9,  -999.0,9,  -999.0,     2.5318,-999.0000,-999.000,-999.000
31WTTUNES_3,       P16C,     304,          1,         16,         16,2,19910924,       1340,    11.8752,  -152.3142,       5210,  1846.5,   2.3310,  34.6279,2,  34.6299,2,     92.6,2,    93.2,2,  146.26,2,   39.86,2,    0.01,2,    2.81,2,-999.000,9,-999.000,9,  -999.0,9,  -999.0,9,-999.000,9,-999.0000,9, -999.00,9, -999.00,9,  -999.0,9,  -999.0,     2.2027,-999.0000,-999.000,-999.000
31WTTUNES_3,       P16C,     304,          1,         15,         15,2,19910924,       1340,    11.8752,  -152.3142,       5210,  2050.2,   2.1176,  34.6403,2,  34.6402,2,    101.9,2,   102.8,2,  149.06,2,   39.23,2,    0.01,2,    2.75,2,-999.000,9,-999.000,9,  -999.0,9,  -999.0,9,-999.000,9,-999.0000,9, -999.00,9, -999.00,9,  -999.0,9,  -999.0,     1.9750,-999.0000,-999.000,-999.000
31WTTUNES_3,       P16C,     304,          1,         14,         14,2,19910924,       1340,    11.8752,  -152.3142,       5210,  2254.7,   1.9778,  34.6527,2,  34.6529,2,    106.9,2,   107.3,2,  152.87,2,   38.99,2,    0.01,2,    2.73,2,-999.000,9,-999.000,9,  -999.0,9,  -999.0,9,-999.000,9,-999.0000,9, -999.00,9, -999.00,9,  -999.0,9,  -999.0,     1.8198,-999.0000,-999.000,-999.000
31WTTUNES_3,       P16C,     304,          1,         13,         13,2,19910924,       1340,    11.8752,  -152.3142,       5210,  2461.5,   1.8657,  34.6589,2,  34.6584,2,    114.4,2,   114.8,2,  153.46,2,   38.51,2,    0.01,2,    2.68,2,-999.000,9,-999.000,9,  -999.0,9,  -999.0,9,-999.000,9,-999.0000,9, -999.00,9, -999.00,9,  -999.0,9,  -999.0,     1.6913,-999.0000,-999.000,-999.000
31WTTUNES_3,       P16C,     304,          1,         12,         12,2,19910924,       1340,    11.8752,  -152.3142,       5210,  2668.0,   1.7864,  34.6634,2,  34.6631,2,    116.9,2,   116.8,2,  156.88,2,   38.36,2,    0.01,2,    2.66,2,-999.000,9,-999.000,9,  -999.0,9,  -999.0,9,-999.000,9,-999.0000,9, -999.00,9, -999.00,9,  -999.0,9,  -999.0,     1.5947,-999.0000,-999.000,-999.000
31WTTUNES_3,       P16C,     304,          1,         11,         11,2,19910924,       1340,    11.8752,  -152.3142,       5210,  2876.2,   1.7217,  34.6683,2,  34.6683,2,    121.0,2,   121.7,2,  157.87,2,   38.08,2,    0.01,2,    2.65,2,-999.000,9,-999.000,9,  -999.0,9,  -999.0,9,-999.000,9,-999.0000,9, -999.00,9, -999.00,9,  -999.0,9,  -999.0,     1.5119,-999.0000,-999.000,-999.000
31WTTUNES_3,       P16C,     304,          1,         10,         10,2,19910924,       1340,    11.8752,  -152.3142,       5210,  3084.8,   1.6524,  34.6728,2,  34.6724,2,    126.0,2,   126.7,2,  159.47,2,   37.69,2,    0.01,2,    2.62,2,-999.000,9,-999.000,9,  -999.0,9,  -999.0,9,-999.000,9,-999.0000,9, -999.00,9, -999.00,9,  -999.0,9,  -999.0,     1.4241,-999.0000,-999.000,-999.000
31WTTUNES_3,       P16C,     304,          1,          9,          9,2,19910924,       1340,    11.8752,  -152.3142,       5210,  3344.4,   1.5722,  34.6770,2,  34.6765,2,    133.3,2,   134.5,2,  160.65,2,   37.30,2,    0.01,2,    2.57,2,-999.000,9,-999.000,9,  -999.0,9,  -999.0,9,-999.000,9,-999.0000,9, -999.00,9, -999.00,9,  -999.0,9,  -999.0,     1.3201,-999.0000,-999.000,-999.000
31WTTUNES_3,       P16C,     304,          1,          8,          8,2,19910924,       1340,    11.8752,  -152.3142,       5210,  3604.4,   1.5113,  34.6810,2,  34.6802,2,    142.5,2,   143.9,2,  157.01,2,   36.63,2,    0.01,2,    2.52,2,-999.000,9,-999.000,9,  -999.0,9,  -999.0,9,-999.000,9,-999.0000,9, -999.00,9, -999.00,9,  -999.0,9,  -999.0,     1.2342,-999.0000,-999.000,-999.000
31WTTUNES_3,       P16C,     304,          1,          7,          7,2,19910924,       1340,    11.8752,  -152.3142,       5210,  3865.5,   1.4345,  34.6866,2,  34.6863,2,    156.0,2,   156.9,2,  150.53,2,   35.70,2,    0.01,2,    2.46,2,-999.000,9,-999.000,9,  -999.0,9,  -999.0,9,-999.000,9,-999.0000,9, -999.00,9, -999.00,9,  -999.0,9,  -999.0,     1.1318,-999.0000,-999.000,-999.000
31WTTUNES_3,       P16C,     304,          1,          6,          6,2,19910924,       1340,    11.8752,  -152.3142,       5210,  4125.1,   1.3897,  34.6906,2,  34.6903,2,    165.6,2,   166.5,2,  144.87,2,   35.18,2,    0.00,2,    2.41,2,-999.000,9,-999.000,9,  -999.0,9,  -999.0,9,-999.000,9,-999.0000,9, -999.00,9, -999.00,9,  -999.0,9,  -999.0,     1.0601,-999.0000,-999.000,-999.000
31WTTUNES_3,       P16C,     304,          1,          5,          5,2,19910924,       1340,    11.8752,  -152.3142,       5210,  4387.1,   1.3587,  34.6941,2,  34.6940,2,    174.2,2,   174.4,2,  140.42,2,   34.59,2,    0.01,2,    2.39,2,-999.000,9,-999.000,9,  -999.0,9,  -999.0,9,-999.000,9,-999.0000,9, -999.00,9, -999.00,9,  -999.0,9,  -999.0,     1.0010,-999.0000,-999.000,-999.000
31WTTUNES_3,       P16C,     304,          1,          4,          4,2,19910924,       1340,    11.8752,  -152.3142,       5210,  4648.3,   1.3554,  34.6951,2,  34.6958,2,    178.7,2,   178.8,2,  137.57,2,   34.31,2,    0.00,2,    2.36,2,-999.000,9,-999.000,9,  -999.0,9,  -999.0,9,-999.000,9,-999.0000,9, -999.00,9, -999.00,9,  -999.0,9,  -999.0,     0.9678,-999.0000,-999.000,-999.000
31WTTUNES_3,       P16C,     304,          1,          3,          3,2,19910924,       1340,    11.8752,  -152.3142,       5210,  4909.4,   1.3825,  34.6955,2,  34.6963,2,    180.0,2,   178.5,2,  136.95,2,   34.22,2,    0.00,2,    2.36,2,-999.000,9,-999.000,9,  -999.0,9,  -999.0,9,-999.000,9,-999.0000,9, -999.00,9, -999.00,9,  -999.0,9,  -999.0,     0.9631,-999.0000,-999.000,-999.000
31WTTUNES_3,       P16C,     304,          1,          2,          2,2,19910924,       1340,    11.8752,  -152.3142,       5210,  5169.9,   1.4145,  34.6954,2,  34.6958,2,    180.1,2,   181.5,2,  137.53,2,   34.27,2,    0.00,2,    2.36,2,-999.000,9,-999.000,9,  -999.0,9,  -999.0,9,-999.000,9,-999.0000,9, -999.00,9, -999.00,9,  -999.0,9,  -999.0,     0.9624,-999.0000,-999.000,-999.000
31WTTUNES_3,       P16C,     304,          1,          1,          1,2,19910924,       1340,    11.8752,  -152.3142,       5210,  5271.0,   1.4275,  34.6952,2,  34.6960,2,    180.8,2,   185.2,3,  137.11,2,   34.19,2,    0.00,2,    2.35,2,-999.000,9,-999.000,9,  -999.0,9,  -999.0,9,-999.000,9,-999.0000,9, -999.00,9, -999.00,9,  -999.0,9,  -999.0,     0.9624,-999.0000,-999.000,-999.000