BOTTLE,20211117CCHSIORKP
EXPOCODE,SECT_ID,STNNBR,CASTNO,SAMPNO,BTLNBR,BTLNBR_FLAG_W,DATE,TIME,LATITUDE,LONGITUDE,DEPTH,CTDPRS,CTDTMP,CTDSAL,CTDSAL_FLAG_W,SALNTY,SALNTY_FLAG_W,CTDOXY,CTDOXY_FLAG_W,OXYGEN,OXYGEN_FLAG_W,SILCAT,SILCAT_FLAG_W,NITRAT,NITRAT_FLAG_W,NITRIT,NITRIT_FLAG_W,PHSPHT,PHSPHT_FLAG_W,CFC-11,CFC-11_FLAG_W,CFC-12,CFC-12_FLAG_W,TCARBN,TCARBN_FLAG_W,ALKALI,ALKALI_FLAG_W,TRITUM,TRITUM_FLAG_W,HELIUM,HELIUM_FLAG_W,DELHE3,DELHE3_FLAG_W,DELC13,DELC13_FLAG_W,DELC14,DELC14_FLAG_W,C14ERR,THETA,HELIER,DELHER,TRITER
,,,,,,,,,,,METERS,DBAR,ITS-90,PSS-78,,PSS-78,,UMOL/KG,,UMOL/KG,,UMOL/KG,,UMOL/KG,,UMOL/KG,,UMOL/KG,,PMOL/KG,,PMOL/KG,,UMOL/KG,,UMOL/KG,,TU,,NMOL/KG,,PERCNT,,/MILLE,,/MILLE,,/MILLE,ITS-90,NMOL/KG,PERCNT,TU
31WTTUNES_3,       P16C,     243,          1,         36,         36,2,19910908,       1750,    -6.4982,  -151.0003,       4916,     5.8,  28.1597,  35.3432,2,  35.3364,2,    214.5,3,   211.0,2,    2.33,2,    0.60,2,    0.01,2,    0.21,2,-999.000,9,-999.000,9,  -999.0,9,  -999.0,9,-999.000,9,-999.0000,9, -999.00,9, -999.00,9,  -999.0,9,  -999.0,    28.1583,-999.0000,-999.000,-999.000
31WTTUNES_3,       P16C,     243,          1,         35,         35,2,19910908,       1750,    -6.4982,  -151.0003,       4916,    48.2,  28.1817,  35.3443,2,  35.3366,2,    214.9,2,   211.7,2,    2.31,2,    2.92,2,    0.03,2,    0.41,2,-999.000,9,-999.000,9,  -999.0,9,  -999.0,9,-999.000,9,-999.0000,9, -999.00,9, -999.00,9,  -999.0,9,  -999.0,    28.1703,-999.0000,-999.000,-999.000
31WTTUNES_3,       P16C,     243,          1,         34,         34,2,19910908,       1750,    -6.4982,  -151.0003,       4916,   129.0,  27.0153,  36.1834,2,  36.2149,2,    173.2,2,   172.9,2,    2.48,2,    3.46,2,    0.03,2,    0.47,2,-999.000,9,-999.000,9,  -999.0,9,  -999.0,9,-999.000,9,-999.0000,9, -999.00,9, -999.00,9,  -999.0,9,  -999.0,    26.9856,-999.0000,-999.000,-999.000
31WTTUNES_3,       P16C,     243,          1,         33,         33,2,19910908,       1750,    -6.4982,  -151.0003,       4916,   169.3,  23.5279,  36.2260,2,  36.2396,2,    168.6,2,   169.3,2,    1.88,2,    4.19,2,    0.01,2,    0.53,2,-999.000,9,-999.000,9,  -999.0,9,  -999.0,9,-999.000,9,-999.0000,9, -999.00,9, -999.00,9,  -999.0,9,  -999.0,    23.4926,-999.0000,-999.000,-999.000
31WTTUNES_3,       P16C,     243,          1,         32,         32,2,19910908,       1750,    -6.4982,  -151.0003,       4916,   210.1,  19.8730,  35.7092,2,  35.7815,2,    150.0,2,   145.8,2,    3.21,2,    7.36,2,    0.00,2,    0.75,2,-999.000,9,-999.000,9,  -999.0,9,  -999.0,9,-999.000,9,-999.0000,9, -999.00,9, -999.00,9,  -999.0,9,  -999.0,    19.8341,-999.0000,-999.000,-999.000
31WTTUNES_3,       P16C,     243,          1,         31,         31,2,19910908,       1750,    -6.4982,  -151.0003,       4916,   233.7,  16.6875,  35.3304,2,  35.5241,2,    110.2,2,   122.1,2,    5.32,2,   10.69,2,    0.01,2,    0.97,2,-999.000,9,-999.000,9,  -999.0,9,  -999.0,9,-999.000,9,-999.0000,9, -999.00,9, -999.00,9,  -999.0,9,  -999.0,    16.6493,-999.0000,-999.000,-999.000
31WTTUNES_3,       P16C,     243,          1,         30,         30,2,19910908,       1750,    -6.4982,  -151.0003,       4916,   258.4,  13.3316,  34.9297,2,  35.1539,2,     72.7,2,    89.6,2,   10.11,2,   17.06,2,    0.01,2,    1.44,2,-999.000,9,-999.000,9,  -999.0,9,  -999.0,9,-999.000,9,-999.0000,9, -999.00,9, -999.00,9,  -999.0,9,  -999.0,    13.2954,-999.0000,-999.000,-999.000
31WTTUNES_3,       P16C,     243,          1,         29,         29,2,19910908,       1750,    -6.4982,  -151.0003,       4916,   283.7,  11.5045,  34.8232,2,  34.9199,2,     70.0,2,    68.2,2,   14.92,2,   22.67,2,    0.02,2,    1.84,2,-999.000,9,-999.000,9,  -999.0,9,  -999.0,9,-999.000,9,-999.0000,9, -999.00,9, -999.00,9,  -999.0,9,  -999.0,    11.4684,-999.0000,-999.000,-999.000
31WTTUNES_3,       P16C,     243,          1,         28,         28,2,19910908,       1750,    -6.4982,  -151.0003,       4916,   308.9,  10.8009,  34.7795,2,  34.8015,2,     73.9,2,    79.6,2,   21.26,2,   25.43,2,    0.79,2,    1.99,2,-999.000,9,-999.000,9,  -999.0,9,  -999.0,9,-999.000,9,-999.0000,9, -999.00,9, -999.00,9,  -999.0,9,  -999.0,    10.7631,-999.0000,-999.000,-999.000
31WTTUNES_3,       P16C,     243,          1,         27,         27,2,19910908,       1750,    -6.4982,  -151.0003,       4916,   361.6,   9.5556,  34.7156,2,  34.7254,2,     75.5,2,    75.9,2,   26.27,2,   29.47,2,    0.01,2,    2.09,2,-999.000,9,-999.000,9,  -999.0,9,  -999.0,9,-999.000,9,-999.0000,9, -999.00,9, -999.00,9,  -999.0,9,  -999.0,     9.5146,-999.0000,-999.000,-999.000
31WTTUNES_3,       P16C,     243,          1,         26,         26,2,19910908,       1750,    -6.4982,  -151.0003,       4916,   413.9,   8.9722,  34.6804,2,  34.6810,2,     73.7,2,    71.3,2,   29.91,2,   32.13,2,    0.01,2,    2.26,2,-999.000,9,-999.000,9,  -999.0,9,  -999.0,9,-999.000,9,-999.0000,9, -999.00,9, -999.00,9,  -999.0,9,  -999.0,     8.9270,-999.0000,-999.000,-999.000
31WTTUNES_3,       P16C,     243,          1,         25,         25,2,19910908,       1750,    -6.4982,  -151.0003,       4916,   515.9,   8.0855,  34.6281,2,  34.6260,2,     68.0,2,    68.5,2,   35.29,2,   34.19,2,    0.00,2,    2.34,2,-999.000,9,-999.000,9,  -999.0,9,  -999.0,9,-999.000,9,-999.0000,9, -999.00,9, -999.00,9,  -999.0,9,  -999.0,     8.0322,-999.0000,-999.000,-999.000
31WTTUNES_3,       P16C,     243,          1,         24,         24,2,19910908,       1750,    -6.4982,  -151.0003,       4916,   616.8,   7.0797,  34.5791,2,  34.5820,2,     72.7,2,    72.0,2,   41.44,2,   35.14,2,    0.00,2,    2.37,2,-999.000,9,-999.000,9,  -999.0,9,  -999.0,9,-999.000,9,-999.0000,9, -999.00,9, -999.00,9,  -999.0,9,  -999.0,     7.0202,-999.0000,-999.000,-999.000
31WTTUNES_3,       P16C,     243,          1,         23,         23,2,19910908,       1750,    -6.4982,  -151.0003,       4916,   715.6,   6.1968,  34.5500,2,  34.5486,2,     77.0,2,    76.6,2,   50.29,2,   37.57,2,    0.00,2,    2.60,2,-999.000,9,-999.000,9,  -999.0,9,  -999.0,9,-999.000,9,-999.0000,9, -999.00,9, -999.00,9,  -999.0,9,  -999.0,     6.1321,-999.0000,-999.000,-999.000
31WTTUNES_3,       P16C,     243,          1,         22,         22,2,19910908,       1750,    -6.4982,  -151.0003,       4916,   818.0,   5.4597,  34.5384,2,  34.5374,2,     83.7,2,    81.0,2,   60.50,2,   38.67,2,    0.00,2,    2.67,2,-999.000,9,-999.000,9,  -999.0,9,  -999.0,9,-999.000,9,-999.0000,9, -999.00,9, -999.00,9,  -999.0,9,  -999.0,     5.3897,-999.0000,-999.000,-999.000
31WTTUNES_3,       P16C,     243,          1,         21,         21,2,19910908,       1750,    -6.4982,  -151.0003,       4916,   923.1,   4.8592,  34.5372,2,  34.5374,2,     94.8,2,    94.9,2,   72.04,2,   37.84,2,    0.00,2,    2.62,2,-999.000,9,-999.000,9,  -999.0,9,  -999.0,9,-999.000,9,-999.0000,9, -999.00,9, -999.00,9,  -999.0,9,  -999.0,     4.7838,-999.0000,-999.000,-999.000
31WTTUNES_3,       P16C,     243,          1,         20,         20,2,19910908,       1750,    -6.4982,  -151.0003,       4916,  1027.4,   4.3556,  34.5452,2,  34.5488,2,    102.6,2,   101.6,2,   79.92,2,   37.65,2,    0.00,2,    2.65,2,-999.000,9,-999.000,9,  -999.0,9,  -999.0,9,-999.000,9,-999.0000,9, -999.00,9, -999.00,9,  -999.0,9,  -999.0,     4.2748,-999.0000,-999.000,-999.000
31WTTUNES_3,       P16C,     243,          1,         19,         19,2,19910908,       1750,    -6.4982,  -151.0003,       4916,  1179.7,   3.9188,  34.5628,2,  34.5590,2,    100.1,2,    98.4,2,   92.43,2,   38.10,2,    0.00,2,    2.66,2,-999.000,9,-999.000,9,  -999.0,9,  -999.0,9,-999.000,9,-999.0000,9, -999.00,9, -999.00,9,  -999.0,9,  -999.0,     3.8286,-999.0000,-999.000,-999.000
31WTTUNES_3,       P16C,     243,          1,         18,         18,2,19910908,       1750,    -6.4982,  -151.0003,       4916,  1384.4,   3.3386,  34.5856,2,  34.5893,2,    104.4,2,   103.6,2,  108.60,2,   37.67,2,    0.00,2,    2.63,2,-999.000,9,-999.000,9,  -999.0,9,  -999.0,9,-999.000,9,-999.0000,9, -999.00,9, -999.00,9,  -999.0,9,  -999.0,     3.2367,-999.0000,-999.000,-999.000
31WTTUNES_3,       P16C,     243,          1,         17,         17,2,19910908,       1750,    -6.4982,  -151.0003,       4916,  1590.0,   2.8425,  34.6026,2,  34.6046,2,    121.7,2,   119.8,2,  115.32,2,   37.87,2,    0.00,2,    2.66,2,-999.000,9,-999.000,9,  -999.0,9,  -999.0,9,-999.000,9,-999.0000,9, -999.00,9, -999.00,9,  -999.0,9,  -999.0,     2.7289,-999.0000,-999.000,-999.000
31WTTUNES_3,       P16C,     243,          1,         16,         16,2,19910908,       1750,    -6.4982,  -151.0003,       4916,  1794.8,   2.5021,  34.6255,2,  34.6244,2,    116.5,2,   114.8,2,  128.40,2,   37.78,2,    0.00,2,    2.65,2,-999.000,9,-999.000,9,  -999.0,9,  -999.0,9,-999.000,9,-999.0000,9, -999.00,9, -999.00,9,  -999.0,9,  -999.0,     2.3756,-999.0000,-999.000,-999.000
31WTTUNES_3,       P16C,     243,          1,         15,         15,2,19910908,       1750,    -6.4982,  -151.0003,       4916,  1999.4,   2.2612,  34.6394,2,  34.6425,2,    121.3,2,   121.5,2,  133.00,2,   37.09,2,    0.03,4,    2.57,2,-999.000,9,-999.000,9,  -999.0,9,  -999.0,9,-999.000,9,-999.0000,9, -999.00,9, -999.00,9,  -999.0,9,  -999.0,     2.1207,-999.0000,-999.000,-999.000
31WTTUNES_3,       P16C,     243,          1,         14,         14,2,19910908,       1750,    -6.4982,  -151.0003,       4916,  2202.9,   2.0680,  34.6522,2,  34.6586,2,    124.7,2,   125.4,2,  138.38,2,   36.71,2,    0.00,2,    2.56,2,-999.000,9,-999.000,9,  -999.0,9,  -999.0,9,-999.000,9,-999.0000,9, -999.00,9, -999.00,9,  -999.0,9,  -999.0,     1.9130,-999.0000,-999.000,-999.000
31WTTUNES_3,       P16C,     243,          1,         13,         13,2,19910908,       1750,    -6.4982,  -151.0003,       4916,  2409.1,   1.9443,  34.6609,2,  34.6612,2,    125.6,2,   127.1,2,  143.17,2,   36.61,2,    0.03,4,    2.55,2,-999.000,9,-999.000,9,  -999.0,9,  -999.0,9,-999.000,9,-999.0000,9, -999.00,9, -999.00,9,  -999.0,9,  -999.0,     1.7733,-999.0000,-999.000,-999.000
31WTTUNES_3,       P16C,     243,          1,         12,         12,2,19910908,       1750,    -6.4982,  -151.0003,       4916,  2616.6,   1.8482,  34.6677,2,  34.6714,2,    130.4,2,   132.9,2,  143.92,2,   32.79,4,    0.01,2,    2.27,4,-999.000,9,-999.000,9,  -999.0,9,  -999.0,9,-999.000,9,-999.0000,9, -999.00,9, -999.00,9,  -999.0,9,  -999.0,     1.6600,-999.0000,-999.000,-999.000
31WTTUNES_3,       P16C,     243,          1,         11,         11,2,19910908,       1750,    -6.4982,  -151.0003,       4916,  2822.3,   1.7770,  34.6730,2,  34.6724,2,    140.4,2,   140.8,2,  142.74,2,   34.83,4,    0.01,2,    2.40,4,-999.000,9,-999.000,9,  -999.0,9,  -999.0,9,-999.000,9,-999.0000,9, -999.00,9, -999.00,9,  -999.0,9,  -999.0,     1.5711,-999.0000,-999.000,-999.000
31WTTUNES_3,       P16C,     243,          1,         10,         10,2,19910908,       1750,    -6.4982,  -151.0003,       4916,  3026.2,   1.7089,  34.6762,2,  34.6785,2,    144.7,2,   147.5,2,  141.17,2,   33.25,4,    0.01,2,    2.26,4,-999.000,9,-999.000,9,  -999.0,9,  -999.0,9,-999.000,9,-999.0000,9, -999.00,9, -999.00,9,  -999.0,9,  -999.0,     1.4849,-999.0000,-999.000,-999.000
31WTTUNES_3,       P16C,     243,          1,          9,          9,2,19910908,       1750,    -6.4982,  -151.0003,       4916,  3230.5,   1.6320,  34.6804,2,  34.6793,2,    150.8,2,   151.4,2,  142.11,2,   33.03,4,    0.00,2,    2.21,4,-999.000,9,-999.000,9,  -999.0,9,  -999.0,9,-999.000,9,-999.0000,9, -999.00,9, -999.00,9,  -999.0,9,  -999.0,     1.3899,-999.0000,-999.000,-999.000
31WTTUNES_3,       P16C,     243,          1,          8,          8,2,19910908,       1750,    -6.4982,  -151.0003,       4916,  3489.7,   1.5545,  34.6852,2,  34.6826,2,    156.4,2,   157.1,2,  141.51,2,   31.00,4,    0.00,2,    2.03,4,-999.000,9,-999.000,9,  -999.0,9,  -999.0,9,-999.000,9,-999.0000,9, -999.00,9, -999.00,9,  -999.0,9,  -999.0,     1.2880,-999.0000,-999.000,-999.000
31WTTUNES_3,       P16C,     243,          1,          7,          7,2,19910908,       1750,    -6.4982,  -151.0003,       4916,  3749.4,   1.4922,  34.6889,2,  34.6928,2,    161.6,2,   163.3,2,  139.94,2,   35.36,2,    0.01,2,    2.40,2,-999.000,9,-999.000,9,  -999.0,9,  -999.0,9,-999.000,9,-999.0000,9, -999.00,9, -999.00,9,  -999.0,9,  -999.0,     1.2003,-999.0000,-999.000,-999.000
31WTTUNES_3,       P16C,     243,          1,          6,          6,2,19910908,       1750,    -6.4982,  -151.0003,       4916,  4012.1,   1.4268,  34.6927,2,  34.6928,2,    169.9,2,   170.6,2,  137.22,2,   33.73,3,    0.01,2,    2.27,3,-999.000,9,-999.000,9,  -999.0,9,  -999.0,9,-999.000,9,-999.0000,9, -999.00,9, -999.00,9,  -999.0,9,  -999.0,     1.1085,-999.0000,-999.000,-999.000
31WTTUNES_3,       P16C,     243,          1,          5,          5,2,19910908,       1750,    -6.4982,  -151.0003,       4916,  4274.3,   1.3689,  34.6969,2,  34.7044,3,    177.9,2,   178.4,2,  133.53,2,   33.66,3,    0.00,2,    2.28,3,-999.000,9,-999.000,9,  -999.0,9,  -999.0,9,-999.000,9,-999.0000,9, -999.00,9, -999.00,9,  -999.0,9,  -999.0,     1.0235,-999.0000,-999.000,-999.000
31WTTUNES_3,       P16C,     243,          1,          4,          4,2,19910908,       1750,    -6.4982,  -151.0003,       4916,  4483.7,   1.3474,  34.6988,2,  34.6993,2,    183.2,2,   182.7,2,  131.40,2,   32.54,3,    0.04,4,    2.22,3,-999.000,9,-999.000,9,  -999.0,9,  -999.0,9,-999.000,9,-999.0000,9, -999.00,9, -999.00,9,  -999.0,9,  -999.0,     0.9790,-999.0000,-999.000,-999.000
31WTTUNES_3,       P16C,     243,          1,          3,          3,2,19910908,       1750,    -6.4982,  -151.0003,       4916,  4745.9,   1.3468,  34.7000,2,  34.7038,2,    186.8,2,   186.4,2,  129.64,2,   32.43,3,    0.00,2,    2.20,3,-999.000,9,-999.000,9,  -999.0,9,  -999.0,9,-999.000,9,-999.0000,9, -999.00,9, -999.00,9,  -999.0,9,  -999.0,     0.9479,-999.0000,-999.000,-999.000
31WTTUNES_3,       P16C,     243,          1,          2,          2,3,19910908,       1750,    -6.4982,  -151.0003,       4916,  5010.2,   1.3339,  34.7018,2,  34.7011,4,    190.8,2,   182.1,4,  132.29,4,   30.00,4,    0.01,4,    2.03,4,-999.000,9,-999.000,9,  -999.0,9,  -999.0,9,-999.000,9,-999.0000,9, -999.00,9, -999.00,9,  -999.0,9,  -999.0,     0.9039,-999.0000,-999.000,-999.000
31WTTUNES_3,       P16C,     243,          1,          1,          1,2,19910908,       1750,    -6.4982,  -151.0003,       4916,  5069.0,   1.3406,  34.7018,2,  34.7101,4,    190.3,2,   190.4,2,  128.23,2,   31.80,3,    0.00,2,    2.15,3,-999.000,9,-999.000,9,  -999.0,9,  -999.0,9,-999.000,9,-999.0000,9, -999.00,9, -999.00,9,  -999.0,9,  -999.0,     0.9033,-999.0000,-999.000,-999.000