BOTTLE,20211117CCHSIORKP
EXPOCODE,SECT_ID,STNNBR,CASTNO,SAMPNO,BTLNBR,BTLNBR_FLAG_W,DATE,TIME,LATITUDE,LONGITUDE,DEPTH,CTDPRS,CTDTMP,CTDSAL,CTDSAL_FLAG_W,SALNTY,SALNTY_FLAG_W,CTDOXY,CTDOXY_FLAG_W,OXYGEN,OXYGEN_FLAG_W,SILCAT,SILCAT_FLAG_W,NITRAT,NITRAT_FLAG_W,NITRIT,NITRIT_FLAG_W,PHSPHT,PHSPHT_FLAG_W,CFC-11,CFC-11_FLAG_W,CFC-12,CFC-12_FLAG_W,TCARBN,TCARBN_FLAG_W,ALKALI,ALKALI_FLAG_W,TRITUM,TRITUM_FLAG_W,HELIUM,HELIUM_FLAG_W,DELHE3,DELHE3_FLAG_W,DELC13,DELC13_FLAG_W,DELC14,DELC14_FLAG_W,C14ERR,THETA,HELIER,DELHER,TRITER
,,,,,,,,,,,METERS,DBAR,ITS-90,PSS-78,,PSS-78,,UMOL/KG,,UMOL/KG,,UMOL/KG,,UMOL/KG,,UMOL/KG,,UMOL/KG,,PMOL/KG,,PMOL/KG,,UMOL/KG,,UMOL/KG,,TU,,NMOL/KG,,PERCNT,,/MILLE,,/MILLE,,/MILLE,ITS-90,NMOL/KG,PERCNT,TU
31WTTUNES_3,       P16C,     230,          1,         36,         36,2,19910904,       0718,   -12.9933,  -151.0030,       4607,     5.0,  28.2093,  36.1693,2,  36.1723,2,    208.6,3,   213.8,2,    1.42,2,    0.15,2,    0.00,2,    0.23,2,   1.598,2,   0.898,2,  1997.6,2,  2384.5,2,-999.000,9,-999.0000,9, -999.00,9,    1.80,2,    75.1,2,     3.6,    28.2081,-999.0000,-999.000,-999.000
31WTTUNES_3,       P16C,     230,          1,         35,         35,2,19910904,       0718,   -12.9933,  -151.0030,       4607,    46.3,  28.1106,  36.2245,2,  36.2337,2,    209.0,2,   213.7,2,    1.62,2,    0.20,2,    0.00,2,    0.23,2,  -0.007,4,   0.888,2,  2002.3,2,  -999.0,9,   0.974,2,   1.6940,2,   -1.33,2,    1.78,2,    79.1,2,     3.6,    28.0997,   0.0080,   0.150,   0.007
31WTTUNES_3,       P16C,     230,          1,         34,         34,2,19910904,       0718,   -12.9933,  -151.0030,       4607,    85.1,  27.7377,  36.3387,2,  36.3410,2,    212.3,2,   214.9,2,    1.23,2,    0.18,2,    0.01,2,    0.24,2,   1.618,6,   0.895,6,  2010.8,2,  2397.5,2,   0.956,2,   1.7060,2,   -0.92,2,    1.80,2,    83.4,2,     3.6,    27.7177,   0.0080,   0.150,   0.007
31WTTUNES_3,       P16C,     230,          1,         33,         33,2,19910904,       0718,   -12.9933,  -151.0030,       4607,   124.8,  26.6637,  36.3630,2,  36.3681,2,    194.6,2,   193.1,2,    1.23,2,   -0.52,2,    1.60,2,    0.42,2,   1.719,2,   0.949,2,  2059.9,2,  -999.0,9,   0.864,2,   1.7220,2,   -0.93,2,    1.49,2,   114.2,2,     4.1,    26.6352,   0.0080,   0.150,   0.007
31WTTUNES_3,       P16C,     230,          1,         32,         32,2,19910904,       0718,   -12.9933,  -151.0030,       4607,   167.0,  24.2084,  36.3582,2,  36.3140,2,    181.3,2,   182.9,2,    1.23,2,    3.36,2,    0.21,2,    0.49,2,   1.827,2,   1.000,2,  2087.5,2,  2391.8,2,   0.763,2,   1.7340,2,   -0.80,2,    1.32,2,   113.8,2,     3.8,    24.1728,   0.0080,   0.150,   0.006
31WTTUNES_3,       P16C,     230,          1,         31,         31,2,19910904,       0718,   -12.9933,  -151.0030,       4607,   207.6,  22.2880,  36.1962,2,  36.0578,2,    177.4,2,   177.2,2,    1.24,2,    4.53,2,    0.01,2,    0.55,2,   1.867,2,   1.010,2,  2097.7,2,  -999.0,9,   0.682,2,   1.7430,2,   -0.42,2,    1.38,2,   120.1,2,     3.8,    22.2463,   0.0080,   0.150,   0.006
31WTTUNES_3,       P16C,     230,          1,         30,         30,2,19910904,       0718,   -12.9933,  -151.0030,       4607,   248.6,  20.0390,  35.8022,2,  35.6666,2,    172.9,2,   169.9,2,    1.84,2,    6.16,2,    0.01,2,    0.65,2,-999.000,9,-999.000,9,  2103.2,2,  2349.5,2,   0.666,2,   1.7490,2,   -0.03,2,    1.29,2,   134.3,2,     4.9,    19.9927,   0.0080,   0.150,   0.006
31WTTUNES_3,       P16C,     230,          1,         29,         29,2,19910904,       0718,   -12.9933,  -151.0030,       4607,   289.5,  17.1960,  35.3521,2,  35.1671,2,    160.3,2,   147.8,2,    4.61,2,    8.03,2,    0.01,2,    0.83,2,   0.592,4,   0.331,4,  2119.8,2,  -999.0,9,   0.541,2,   1.7720,2,    1.11,2,    1.01,2,   117.8,2,     4.2,    17.1476,   0.0080,   0.150,   0.005
31WTTUNES_3,       P16C,     230,          1,         28,         28,2,19910904,       0718,   -12.9933,  -151.0030,       4607,   331.0,  13.3328,  34.8788,2,  34.9067,2,    116.6,2,   120.4,2,    8.38,2,   14.56,2,    0.01,2,    1.29,2,-999.000,9,-999.000,9,  2151.4,2,  2304.5,2,   0.427,2,   1.7830,2,    1.58,2,    0.79,2,    67.4,2,     4.4,    13.2863,   0.0080,   0.150,   0.005
31WTTUNES_3,       P16C,     230,          1,         27,         27,2,19910904,       0718,   -12.9933,  -151.0030,       4607,   370.7,  11.5387,  34.7106,2,  34.7203,2,     92.8,2,    95.5,2,   13.73,2,   20.69,2,    0.01,2,    1.72,2,   1.412,4,   0.746,4,  2185.7,2,  -999.0,9,   0.275,2,   1.7970,2,    2.13,2,    0.61,2,    12.9,2,     4.0,    11.4914,   0.0080,   0.150,   0.004
31WTTUNES_3,       P16C,     230,          1,         26,         26,2,19910904,       0718,   -12.9933,  -151.0030,       4607,   410.9,   9.8406,  34.6350,2,  34.6529,2,     88.3,2,    87.8,2,   17.90,2,   23.71,2,    0.02,2,    1.85,2,-999.000,9,-999.000,9,  2203.4,2,  2295.6,2,   0.181,2,   1.7970,2,    2.66,2,    0.58,2,   -26.4,2,     4.1,     9.7931,   0.0080,   0.150,   0.004
31WTTUNES_3,       P16C,     230,          1,         25,         25,2,19910904,       0718,   -12.9933,  -151.0030,       4607,   461.6,   8.4628,  34.5788,2,  34.6121,2,    106.2,2,    94.9,2,   23.84,2,   27.82,2,    0.00,2,    1.99,2,   0.141,6,   0.083,6,  2213.9,2,  -999.0,9,   0.085,2,   1.8140,2,    3.75,2,    0.56,2,   -66.2,2,     4.7,     8.4139,   0.0090,   0.150,   0.002
31WTTUNES_3,       P16C,     230,          1,         24,         24,2,19910904,       0718,   -12.9933,  -151.0030,       4607,   512.8,   7.4350,  34.5279,2,  34.5584,2,    126.0,2,   116.3,2,   26.03,2,   24.37,3,    0.00,2,    1.73,3,   0.087,2,   0.054,2,  2210.3,2,  -999.0,9,   0.056,2,   1.8230,2,    4.52,2,    0.63,2,   -89.0,2,     2.4,     7.3845,   0.0090,   0.150,   0.002
31WTTUNES_3,       P16C,     230,          1,         23,         23,2,19910904,       0718,   -12.9933,  -151.0030,       4607,   614.4,   6.2150,  34.4995,2,  34.5101,2,    132.9,2,   131.4,2,   35.55,2,   32.20,2,    0.00,2,    2.23,2,   0.034,2,   0.020,2,  2218.9,2,  2306.6,2,   0.020,2,   1.8350,2,    7.16,2,    0.60,2,  -110.8,2,     2.6,     6.1598,   0.0090,   0.150,   0.001
31WTTUNES_3,       P16C,     230,          1,         22,         22,2,19910904,       0718,   -12.9933,  -151.0030,       4607,   717.6,   5.5749,  34.4885,2,  34.4871,2,    136.8,2,   137.8,2,   42.89,2,   32.58,2,    0.00,2,    2.26,2,-999.000,9,-999.000,9,  2228.6,2,  2314.1,2,-999.000,9,-999.0000,9, -999.00,9,    0.62,2,  -124.8,2,     2.3,     5.5134,-999.0000,-999.000,-999.000
31WTTUNES_3,       P16C,     230,          1,         21,         21,2,19910904,       0718,   -12.9933,  -151.0030,       4607,   814.5,   5.0249,  34.4949,2,  34.4919,2,    133.8,2,   133.9,2,   52.60,2,   35.17,2,    0.00,2,    2.42,2,   0.010,2,   0.008,2,  2240.2,2,  -999.0,9,   0.009,2,   1.8570,2,   12.98,2,    0.54,2,  -136.4,2,     2.2,     4.9580,   0.0090,   0.150,   0.002
31WTTUNES_3,       P16C,     230,          1,         20,         20,2,19910904,       0718,   -12.9933,  -151.0030,       4607,   912.4,   4.6619,  34.5127,2,  34.5019,2,    126.2,2,   129.9,2,   60.34,2,   36.22,2,    0.00,2,    2.51,2,   0.003,2,   0.002,2,  -999.0,9,  -999.0,9,-999.000,9,-999.0000,9, -999.00,9,    0.29,2,  -153.8,2,     2.3,     4.5888,-999.0000,-999.000,-999.000
31WTTUNES_3,       P16C,     230,          1,         19,         19,2,19910904,       0718,   -12.9933,  -151.0030,       4607,  1015.7,   4.2495,  34.5255,2,  34.5209,2,    123.6,2,   119.5,2,   71.83,2,   37.27,2,    0.00,2,    2.60,2,   0.000,2,  -0.001,2,  2271.2,2,  2339.8,2,   0.001,2,   1.8590,2,   16.66,2,    0.38,2,  -162.9,2,     2.6,     4.1705,   0.0090,   0.150,   0.001
31WTTUNES_3,       P16C,     230,          1,         18,         18,2,19910904,       0718,   -12.9933,  -151.0030,       4607,  1120.7,   3.8852,  34.5392,2,  34.5331,2,    125.5,2,   123.3,2,   78.37,2,   35.29,3,    0.01,3,    2.45,3,  -0.002,2,   0.002,2,  2281.5,2,  -999.0,9,-999.000,9,-999.0000,9, -999.00,9,    0.31,2,  -174.2,2,     2.8,     3.8003,-999.0000,-999.000,-999.000
31WTTUNES_3,       P16C,     230,          1,         17,         17,2,19910904,       0718,   -12.9933,  -151.0030,       4607,  1330.2,   3.4409,  34.5609,2,  34.5675,2,    125.8,2,   125.7,2,   91.45,2,   37.84,2,    0.00,2,    2.62,2,-999.000,9,-999.000,9,  2297.1,2,  -999.0,9,   0.003,2,   1.9060,2,   20.91,2, -999.00,9,  -999.0,9,  -999.0,     3.3425,   0.0090,   0.150,   0.002
31WTTUNES_3,       P16C,     230,          1,         16,         16,2,19910904,       0718,   -12.9933,  -151.0030,       4607,  1537.0,   2.9026,  34.5847,2,  34.5830,2,    138.2,2,   138.6,2,   99.98,2,   37.22,2,    0.00,2,    2.55,2,  -0.006,2,  -0.005,2,  2297.2,2,  2375.2,2,-999.000,9,-999.0000,9, -999.00,9, -999.00,9,  -999.0,9,  -999.0,     2.7928,-999.0000,-999.000,-999.000
31WTTUNES_3,       P16C,     230,          1,         15,         15,2,19910904,       0718,   -12.9933,  -151.0030,       4607,  1742.6,   2.5407,  34.6083,2,  34.6050,2,    142.2,2,   144.2,2,  108.70,2,   36.37,2,    0.00,2,    2.51,2,-999.000,9,-999.000,9,  2302.9,2,  -999.0,9,-999.000,9,-999.0000,9, -999.00,9, -999.00,9,  -999.0,9,  -999.0,     2.4182,-999.0000,-999.000,-999.000
31WTTUNES_3,       P16C,     230,          1,         14,         14,2,19910904,       0718,   -12.9933,  -151.0030,       4607,  1947.1,   2.2160,  34.6319,2,  34.6325,2,    146.0,2,   147.3,2,  115.85,2,   36.42,2,    0.00,2,    2.50,2,   0.006,2,   0.004,2,  2310.5,2,  2392.8,2,-999.000,9,-999.0000,9, -999.00,9, -999.00,9,  -999.0,9,  -999.0,     2.0808,-999.0000,-999.000,-999.000
31WTTUNES_3,       P16C,     230,          1,         13,         13,2,19910904,       0718,   -12.9933,  -151.0030,       4607,  2152.8,   2.0558,  34.6492,2,  34.6466,2,    145.1,2,   145.7,2,  124.16,2,   34.88,4,    0.00,2,    2.38,4,-999.000,9,-999.000,9,  2317.3,2,  -999.0,9,-999.000,9,-999.0000,9, -999.00,9, -999.00,9,  -999.0,9,  -999.0,     1.9054,-999.0000,-999.000,-999.000
31WTTUNES_3,       P16C,     230,          1,         12,         12,2,19910904,       0718,   -12.9933,  -151.0030,       4607,  2360.1,   1.9763,  34.6569,2,  34.6578,2,    145.4,2,   145.1,2,  128.13,2,   35.98,2,    0.00,2,    2.45,2,-999.000,9,-999.000,9,  2318.5,2,  2408.0,2,-999.000,9,-999.0000,9, -999.00,9, -999.00,9,  -999.0,9,  -999.0,     1.8091,-999.0000,-999.000,-999.000
31WTTUNES_3,       P16C,     230,          1,         11,         11,2,19910904,       0718,   -12.9933,  -151.0030,       4607,  2567.6,   1.8955,  34.6649,2,  34.6649,2,    146.4,2,   147.5,2,  131.11,2,   32.03,4,    0.03,4,    2.18,4,-999.000,9,-999.000,9,  2320.7,2,  -999.0,9,-999.000,9,-999.0000,9, -999.00,9, -999.00,9,  -999.0,9,  -999.0,     1.7111,-999.0000,-999.000,-999.000
31WTTUNES_3,       P16C,     230,          1,         10,         10,2,19910904,       0718,   -12.9933,  -151.0030,       4607,  2567.6,   1.8955,  34.6649,2,  34.6653,2,    146.4,2,   147.5,2,  131.11,2,   36.32,2,    0.00,2,    2.48,2,  -0.001,2,   0.002,2,  2323.1,2,  2410.7,2,-999.000,9,-999.0000,9, -999.00,9,    0.07,2,  -227.2,2,     2.7,     1.7111,-999.0000,-999.000,-999.000
31WTTUNES_3,       P16C,     230,          1,          9,          9,2,19910904,       0718,   -12.9933,  -151.0030,       4607,  2775.4,   1.8071,  34.6717,2,  34.6702,2,    149.5,2,   151.3,2,  132.89,2,   36.37,2,    0.00,2,    2.49,2,-999.000,9,-999.000,9,  2321.8,2,  2413.0,2,-999.000,9,-999.0000,9, -999.00,9, -999.00,9,  -999.0,9,  -999.0,     1.6050,-999.0000,-999.000,-999.000
31WTTUNES_3,       P16C,     230,          1,          8,          8,2,19910904,       0718,   -12.9933,  -151.0030,       4607,  2928.9,   1.7543,  34.6753,2,  34.6753,2,    153.0,2,   154.0,2,  133.89,2,   36.17,2,    0.00,2,    2.48,2,-999.000,9,-999.000,9,  2322.4,2,  -999.0,9,-999.000,9,-999.0000,9, -999.00,9, -999.00,9,  -999.0,9,  -999.0,     1.5387,-999.0000,-999.000,-999.000
31WTTUNES_3,       P16C,     230,          1,          7,          7,2,19910904,       0718,   -12.9933,  -151.0030,       4607,  3136.8,   1.7024,  34.6792,2,  34.6804,2,    156.0,2,   156.6,2,  134.09,2, -999.00,5,    0.00,2,    2.47,2,   0.006,2,   0.004,2,  2319.6,2,  -999.0,9,-999.000,9,-999.0000,9, -999.00,9, -999.00,9,  -999.0,9,  -999.0,     1.4678,-999.0000,-999.000,-999.000
31WTTUNES_3,       P16C,     230,          1,          6,          6,2,19910904,       0718,   -12.9933,  -151.0030,       4607,  3396.6,   1.5984,  34.6847,2,  34.6834,2,    163.7,2,   164.4,2,  132.13,2, -999.00,5,    0.00,2,    2.43,2,-999.000,9,-999.000,9,  2314.0,2,  -999.0,9,-999.000,9,-999.0000,9, -999.00,9, -999.00,9,  -999.0,9,  -999.0,     1.3403,-999.0000,-999.000,-999.000
31WTTUNES_3,       P16C,     230,          1,          5,          5,2,19910904,       0718,   -12.9933,  -151.0030,       4607,  3655.8,   1.5274,  34.6888,2,  34.6883,2,    171.6,2,   173.0,2,  128.96,2, -999.00,5,    0.00,2,    2.40,2,-999.000,9,-999.000,9,  2305.2,2,  2400.2,2,-999.000,9,-999.0000,9, -999.00,9, -999.00,9,  -999.0,9,  -999.0,     1.2445,-999.0000,-999.000,-999.000
31WTTUNES_3,       P16C,     230,          1,          4,          4,2,19910904,       0718,   -12.9933,  -151.0030,       4607,  3915.2,   1.4514,  34.6940,2,  34.6918,2,    179.5,2,   180.0,2,  126.38,2, -999.00,5,    0.00,2,    2.35,2,-999.000,9,-999.000,9,  2300.1,2,  -999.0,9,-999.000,9,-999.0000,9, -999.00,9, -999.00,9,  -999.0,9,  -999.0,     1.1429,-999.0000,-999.000,-999.000
31WTTUNES_3,       P16C,     230,          1,          3,          3,2,19910904,       0718,   -12.9933,  -151.0030,       4607,  4176.1,   1.3859,  34.6980,2,  34.6985,2,    185.1,2,   184.9,2,  125.20,2, -999.00,5,    0.00,2,    2.32,2,   0.003,2,   0.008,2,  2293.3,2,  2390.4,2,-999.000,9,-999.0000,9, -999.00,9, -999.00,9,  -999.0,9,  -999.0,     1.0508,-999.0000,-999.000,-999.000
31WTTUNES_3,       P16C,     230,          1,          2,          2,2,19910904,       0718,   -12.9933,  -151.0030,       4607,  4437.9,   1.3408,  34.7016,2,  34.7032,2,    190.3,2,   189.6,2,  124.21,2, -999.00,5,    0.00,2,    2.29,2,-999.000,9,-999.000,9,  2290.9,2,  -999.0,9,-999.000,9,-999.0000,9, -999.00,9, -999.00,9,  -999.0,9,  -999.0,     0.9778,-999.0000,-999.000,-999.000
31WTTUNES_3,       P16C,     230,          1,          1,          1,2,19910904,       0718,   -12.9933,  -151.0030,       4607,  4661.0,   1.3240,  34.7031,2,  34.7007,2,    192.9,2,   192.1,2,  123.83,2, -999.00,5,    0.00,2,    2.28,2,   0.006,2,   0.006,2,  2290.8,2,  2383.6,2,-999.000,9,-999.0000,9, -999.00,9, -999.00,9,  -999.0,9,  -999.0,     0.9358,-999.0000,-999.000,-999.000