BOTTLE,20211117CCHSIORKP
EXPOCODE,SECT_ID,STNNBR,CASTNO,SAMPNO,BTLNBR,BTLNBR_FLAG_W,DATE,TIME,LATITUDE,LONGITUDE,DEPTH,CTDPRS,CTDTMP,CTDSAL,CTDSAL_FLAG_W,SALNTY,SALNTY_FLAG_W,CTDOXY,CTDOXY_FLAG_W,OXYGEN,OXYGEN_FLAG_W,SILCAT,SILCAT_FLAG_W,NITRAT,NITRAT_FLAG_W,NITRIT,NITRIT_FLAG_W,PHSPHT,PHSPHT_FLAG_W,CFC-11,CFC-11_FLAG_W,CFC-12,CFC-12_FLAG_W,TCARBN,TCARBN_FLAG_W,ALKALI,ALKALI_FLAG_W,TRITUM,TRITUM_FLAG_W,HELIUM,HELIUM_FLAG_W,DELHE3,DELHE3_FLAG_W,DELC13,DELC13_FLAG_W,DELC14,DELC14_FLAG_W,C14ERR,THETA,HELIER,DELHER,TRITER
,,,,,,,,,,,METERS,DBAR,ITS-90,PSS-78,,PSS-78,,UMOL/KG,,UMOL/KG,,UMOL/KG,,UMOL/KG,,UMOL/KG,,UMOL/KG,,PMOL/KG,,PMOL/KG,,UMOL/KG,,UMOL/KG,,TU,,NMOL/KG,,PERCNT,,/MILLE,,/MILLE,,/MILLE,ITS-90,NMOL/KG,PERCNT,TU
31WTTUNES_3,       P16C,     305,          1,         36,         36,2,19910924,       2019,    12.3547,  -152.4072,       5428,     7.8,  28.3039,  34.0753,2,  34.0740,2,    204.0,3,   216.4,2,    2.64,2,    0.03,2,    0.00,2,    0.16,2,-999.000,9,-999.000,9,  -999.0,9,  -999.0,9,-999.000,9,-999.0000,9, -999.00,9, -999.00,9,  -999.0,9,  -999.0,    28.3021,-999.0000,-999.000,-999.000
31WTTUNES_3,       P16C,     305,          1,         35,         35,2,19910924,       2019,    12.3547,  -152.4072,       5428,    39.4,  27.5797,  34.3079,2,  34.2246,2,    218.0,2,   221.1,2,    2.82,2,    0.03,2,    0.00,2,    0.15,2,-999.000,9,-999.000,9,  -999.0,9,  -999.0,9,-999.000,9,-999.0000,9, -999.00,9, -999.00,9,  -999.0,9,  -999.0,    27.5705,-999.0000,-999.000,-999.000
31WTTUNES_3,       P16C,     305,          1,         34,         34,2,19910924,       2019,    12.3547,  -152.4072,       5428,    70.9,  22.0672,  34.7833,2,  34.7579,2,    220.0,2,   219.2,2,    2.99,2,    0.16,2,    0.01,2,    0.24,2,-999.000,9,-999.000,9,  -999.0,9,  -999.0,9,-999.000,9,-999.0000,9, -999.00,9, -999.00,9,  -999.0,9,  -999.0,    22.0532,-999.0000,-999.000,-999.000
31WTTUNES_3,       P16C,     305,          1,         33,         33,2,19910924,       2019,    12.3547,  -152.4072,       5428,   100.2,  17.1591,  34.5869,2,  34.5245,2,    168.0,2,   163.5,2,    7.66,2,    8.55,2,    0.04,2,    0.76,2,-999.000,9,-999.000,9,  -999.0,9,  -999.0,9,-999.000,9,-999.0000,9, -999.00,9, -999.00,9,  -999.0,9,  -999.0,    17.1425,-999.0000,-999.000,-999.000
31WTTUNES_3,       P16C,     305,          1,         32,         32,2,19910924,       2019,    12.3547,  -152.4072,       5428,   131.0,  13.5612,  34.3060,2,  34.2676,2,    134.5,2,   123.7,2,   17.02,2,   18.48,2,    0.01,2,    1.46,2,-999.000,9,-999.000,9,  -999.0,9,  -999.0,9,-999.000,9,-999.0000,9, -999.00,9, -999.00,9,  -999.0,9,  -999.0,    13.5429,-999.0000,-999.000,-999.000
31WTTUNES_3,       P16C,     305,          1,         31,         31,2,19910924,       2019,    12.3547,  -152.4072,       5428,   160.8,  11.1222,  34.3932,2,  34.4037,2,     68.7,2,    62.7,2,   28.36,2,   27.22,2,    0.00,2,    2.15,2,-999.000,9,-999.000,9,  -999.0,9,  -999.0,9,-999.000,9,-999.0000,9, -999.00,9, -999.00,9,  -999.0,9,  -999.0,    11.1024,-999.0000,-999.000,-999.000
31WTTUNES_3,       P16C,     305,          1,         30,         30,2,19910924,       2019,    12.3547,  -152.4072,       5428,   206.2,  10.3835,  34.5789,2,  34.5871,2,     26.8,2,    25.4,2,   34.59,2,   33.00,2,    0.00,2,    2.45,2,-999.000,9,-999.000,9,  -999.0,9,  -999.0,9,-999.000,9,-999.0000,9, -999.00,9, -999.00,9,  -999.0,9,  -999.0,    10.3591,-999.0000,-999.000,-999.000
31WTTUNES_3,       P16C,     305,          1,         29,         29,2,19910924,       2019,    12.3547,  -152.4072,       5428,   253.7,   9.5996,  34.5865,2,  34.5873,2,     13.5,2,    14.1,2,   39.46,2,   34.67,2,    0.00,2,    2.62,2,-999.000,9,-999.000,9,  -999.0,9,  -999.0,9,-999.000,9,-999.0000,9, -999.00,9, -999.00,9,  -999.0,9,  -999.0,     9.5710,-999.0000,-999.000,-999.000
31WTTUNES_3,       P16C,     305,          1,         28,         28,2,19910924,       2019,    12.3547,  -152.4072,       5428,   305.7,   9.0289,  34.5808,2,  34.5828,2,     17.3,2,    19.2,2,   43.15,2,   35.88,2,    0.01,2,    2.66,2,-999.000,9,-999.000,9,  -999.0,9,  -999.0,9,-999.000,9,-999.0000,9, -999.00,9, -999.00,9,  -999.0,9,  -999.0,     8.9956,-999.0000,-999.000,-999.000
31WTTUNES_3,       P16C,     305,          1,         27,         27,2,19910924,       2019,    12.3547,  -152.4072,       5428,   414.7,   8.1309,  34.5711,2,  34.5649,2,     26.4,2,    29.1,2,   49.59,2,   37.24,2,    0.01,2,    2.72,2,-999.000,9,-999.000,9,  -999.0,9,  -999.0,9,-999.000,9,-999.0000,9, -999.00,9, -999.00,9,  -999.0,9,  -999.0,     8.0882,-999.0000,-999.000,-999.000
31WTTUNES_3,       P16C,     305,          1,         26,         26,2,19910924,       2019,    12.3547,  -152.4072,       5428,   490.0,   7.3766,  34.5469,2,  34.5443,2,     26.9,2,    28.0,2,   57.19,2,   38.58,2,    0.00,2,    2.85,2,-999.000,9,-999.000,9,  -999.0,9,  -999.0,9,-999.000,9,-999.0000,9, -999.00,9, -999.00,9,  -999.0,9,  -999.0,     7.3287,-999.0000,-999.000,-999.000
31WTTUNES_3,       P16C,     305,          1,         25,         25,2,19910924,       2019,    12.3547,  -152.4072,       5428,   596.5,   6.5738,  34.5297,2,  34.5303,2,     22.2,2,    23.8,2,   66.77,2,   40.40,2,    0.00,2,    2.97,2,-999.000,9,-999.000,9,  -999.0,9,  -999.0,9,-999.000,9,-999.0000,9, -999.00,9, -999.00,9,  -999.0,9,  -999.0,     6.5186,-999.0000,-999.000,-999.000
31WTTUNES_3,       P16C,     305,          1,         24,         24,2,19910924,       2019,    12.3547,  -152.4072,       5428,   706.9,   5.7807,  34.5240,2,  34.5235,2,     30.4,2,    35.3,2,   76.14,2,   41.13,2,    0.00,2,    2.98,2,-999.000,9,-999.000,9,  -999.0,9,  -999.0,9,-999.000,9,-999.0000,9, -999.00,9, -999.00,9,  -999.0,9,  -999.0,     5.7191,-999.0000,-999.000,-999.000
31WTTUNES_3,       P16C,     305,          1,         23,         23,2,19910924,       2019,    12.3547,  -152.4072,       5428,   812.8,   5.2268,  34.5299,2,  34.5288,2,     35.6,2,    35.5,2,   84.91,2,   42.31,2,    0.00,2,    3.05,2,-999.000,9,-999.000,9,  -999.0,9,  -999.0,9,-999.000,9,-999.0000,9, -999.00,9, -999.00,9,  -999.0,9,  -999.0,     5.1589,-999.0000,-999.000,-999.000
31WTTUNES_3,       P16C,     305,          1,         22,         22,2,19910924,       2019,    12.3547,  -152.4072,       5428,   918.0,   4.7172,  34.5401,2,  34.5392,2,     42.0,2,    40.9,2,   94.29,2,   42.57,2,    0.00,2,    3.07,2,-999.000,9,-999.000,9,  -999.0,9,  -999.0,9,-999.000,9,-999.0000,9, -999.00,9, -999.00,9,  -999.0,9,  -999.0,     4.6432,-999.0000,-999.000,-999.000
31WTTUNES_3,       P16C,     305,          1,         21,         21,2,19910924,       2019,    12.3547,  -152.4072,       5428,  1022.3,   4.3311,  34.5487,2,  34.5476,2,     47.7,2,    45.8,2,  101.51,2,   42.41,2,    0.01,2,    3.06,2,-999.000,9,-999.000,9,  -999.0,9,  -999.0,9,-999.000,9,-999.0000,9, -999.00,9, -999.00,9,  -999.0,9,  -999.0,     4.2509,-999.0000,-999.000,-999.000
31WTTUNES_3,       P16C,     305,          1,         20,         20,2,19910924,       2019,    12.3547,  -152.4072,       5428,  1233.6,   3.6571,  34.5759,2,  34.5736,2,     58.8,2,    58.1,2,  114.79,2,   42.15,2,    0.00,2,    3.02,2,-999.000,9,-999.000,9,  -999.0,9,  -999.0,9,-999.000,9,-999.0000,9, -999.00,9, -999.00,9,  -999.0,9,  -999.0,     3.5647,-999.0000,-999.000,-999.000
31WTTUNES_3,       P16C,     305,          1,         19,         19,2,19910924,       2019,    12.3547,  -152.4072,       5428,  1440.4,   3.1290,  34.5924,2,  34.5895,2,     70.0,2,    66.8,2,  126.71,2,   41.60,2,    0.01,2,    2.97,2,-999.000,9,-999.000,9,  -999.0,9,  -999.0,9,-999.000,9,-999.0000,9, -999.00,9, -999.00,9,  -999.0,9,  -999.0,     3.0247,-999.0000,-999.000,-999.000
31WTTUNES_3,       P16C,     305,          1,         18,         18,2,19910924,       2019,    12.3547,  -152.4072,       5428,  1646.7,   2.7062,  34.6094,2,  34.6066,2,     78.2,2,    75.0,2,  136.67,2,   41.17,2,    0.01,2,    2.92,2,-999.000,9,-999.000,9,  -999.0,9,  -999.0,9,-999.000,9,-999.0000,9, -999.00,9, -999.00,9,  -999.0,9,  -999.0,     2.5895,-999.0000,-999.000,-999.000
31WTTUNES_3,       P16C,     305,          1,         17,         17,2,19910924,       2019,    12.3547,  -152.4072,       5428,  1845.3,   2.3389,  34.6253,2,  34.6205,2,     87.9,2,    85.4,2,  144.87,2,   40.49,2,    0.01,2,    2.85,2,  -0.002,2,   0.012,2,  -999.0,9,  -999.0,9,-999.000,9,-999.0000,9, -999.00,9, -999.00,9,  -999.0,9,  -999.0,     2.2105,-999.0000,-999.000,-999.000
31WTTUNES_3,       P16C,     305,          1,         16,         16,2,19910924,       2019,    12.3547,  -152.4072,       5428,  2037.6,   2.1446,  34.6377,2,  34.6354,2,     97.3,2,    95.3,2,  149.74,2,   39.82,2,    0.01,2,    2.81,2,-999.000,9,-999.000,9,  -999.0,9,  -999.0,9,-999.000,9,-999.0000,9, -999.00,9, -999.00,9,  -999.0,9,  -999.0,     2.0028,-999.0000,-999.000,-999.000
31WTTUNES_3,       P16C,     305,          1,         15,         15,2,19910924,       2019,    12.3547,  -152.4072,       5428,  2224.8,   1.9756,  34.6479,2,  34.6447,2,    103.4,2,   101.6,2,  153.43,2,   39.48,2,    0.01,2,    2.77,2,-999.000,9,-999.000,9,  -999.0,9,  -999.0,9,-999.000,9,-999.0000,9, -999.00,9, -999.00,9,  -999.0,9,  -999.0,     1.8203,-999.0000,-999.000,-999.000
31WTTUNES_3,       P16C,     305,          1,         14,         14,2,19910924,       2019,    12.3547,  -152.4072,       5428,  2403.6,   1.8782,  34.6551,2,  34.6533,2,    109.2,2,   109.0,2,  154.79,2,   38.91,2,    0.01,2,    2.72,2,  -0.002,2,   0.000,2,  -999.0,9,  -999.0,9,-999.000,9,-999.0000,9, -999.00,9, -999.00,9,  -999.0,9,  -999.0,     1.7089,-999.0000,-999.000,-999.000
31WTTUNES_3,       P16C,     305,          1,         13,         13,2,19910924,       2019,    12.3547,  -152.4072,       5428,  2574.9,   1.8018,  34.6616,2,  34.6598,2,    113.4,2,   113.0,2,  156.14,2,   38.58,2,    0.01,2,    2.69,2,-999.000,9,-999.000,9,  -999.0,9,  -999.0,9,-999.000,9,-999.0000,9, -999.00,9, -999.00,9,  -999.0,9,  -999.0,     1.6184,-999.0000,-999.000,-999.000
31WTTUNES_3,       P16C,     305,          1,         12,         12,2,19910924,       2019,    12.3547,  -152.4072,       5428,  2741.0,   1.7452,  34.6664,2,  34.6641,2,    116.0,2,   115.7,2,  157.89,2,   38.39,2,    0.01,2,    2.68,2,-999.000,9,-999.000,9,  -999.0,9,  -999.0,9,-999.000,9,-999.0000,9, -999.00,9, -999.00,9,  -999.0,9,  -999.0,     1.5476,-999.0000,-999.000,-999.000
31WTTUNES_3,       P16C,     305,          1,         11,         11,2,19910924,       2019,    12.3547,  -152.4072,       5428,  2914.2,   1.7044,  34.6694,2,  34.6675,2,    119.3,2,   118.6,2,  159.44,2,   38.20,2,    0.01,2,    2.66,2,   0.001,2,   0.028,4,  -999.0,9,  -999.0,9,-999.000,9,-999.0000,9, -999.00,9, -999.00,9,  -999.0,9,  -999.0,     1.4913,-999.0000,-999.000,-999.000
31WTTUNES_3,       P16C,     305,          1,         10,         10,2,19910924,       2019,    12.3547,  -152.4072,       5428,  3150.2,   1.6306,  34.6739,2,  34.6724,2,    125.1,2,   123.8,2,  160.99,2,   37.84,2,    0.00,2,    2.62,2,-999.000,9,-999.000,9,  -999.0,9,  -999.0,9,-999.000,9,-999.0000,9, -999.00,9, -999.00,9,  -999.0,9,  -999.0,     1.3964,-999.0000,-999.000,-999.000
31WTTUNES_3,       P16C,     305,          1,          9,          9,2,19910924,       2019,    12.3547,  -152.4072,       5428,  3399.1,   1.5737,  34.6777,2,  34.6767,2,    131.2,2,   130.7,2,  160.59,2,   37.34,2,    0.01,2,    2.58,2,-999.000,9,-999.000,9,  -999.0,9,  -999.0,9,-999.000,9,-999.0000,9, -999.00,9, -999.00,9,  -999.0,9,  -999.0,     1.3160,-999.0000,-999.000,-999.000
31WTTUNES_3,       P16C,     305,          1,          8,          8,2,19910924,       2019,    12.3547,  -152.4072,       5428,  3659.2,   1.5076,  34.6815,2,  34.6798,2,    140.8,2,   139.6,2,  158.41,2,   36.81,2,    0.01,2,    2.54,2,  -0.003,2,  -0.005,2,  -999.0,9,  -999.0,9,-999.000,9,-999.0000,9, -999.00,9, -999.00,9,  -999.0,9,  -999.0,     1.2249,-999.0000,-999.000,-999.000
31WTTUNES_3,       P16C,     305,          1,          7,          7,2,19910924,       2019,    12.3547,  -152.4072,       5428,  3926.5,   1.4404,  34.6865,2,  34.6857,2,    152.9,2,   152.4,2,  151.35,2,   35.85,2,    0.01,2,    2.47,2,-999.000,9,-999.000,9,  -999.0,9,  -999.0,9,-999.000,9,-999.0000,9, -999.00,9, -999.00,9,  -999.0,9,  -999.0,     1.1310,-999.0000,-999.000,-999.000
31WTTUNES_3,       P16C,     305,          1,          6,          6,2,19910924,       2019,    12.3547,  -152.4072,       5428,  4179.6,   1.3964,  34.6904,2,  34.6899,2,    162.5,2,   161.2,2,  146.25,2,   35.17,2,    0.01,2,    2.42,2,-999.000,9,-999.000,9,  -999.0,9,  -999.0,9,-999.000,9,-999.0000,9, -999.00,9, -999.00,9,  -999.0,9,  -999.0,     1.0607,-999.0000,-999.000,-999.000
31WTTUNES_3,       P16C,     305,          1,          5,          5,2,19910924,       2019,    12.3547,  -152.4072,       5428,  4427.5,   1.3734,  34.6931,2,  34.6928,2,    169.0,2,   168.4,2,  141.74,2,   34.64,2,    0.01,2,    2.40,2,  -0.003,2,  -0.005,2,  -999.0,9,  -999.0,9,-999.000,9,-999.0000,9, -999.00,9, -999.00,9,  -999.0,9,  -999.0,     1.0106,-999.0000,-999.000,-999.000
31WTTUNES_3,       P16C,     305,          1,          4,          4,2,19910924,       2019,    12.3547,  -152.4072,       5428,  4704.0,   1.3647,  34.6952,2,  34.6950,2,    174.9,2,   174.0,2,  138.39,2,   34.31,2,    0.01,2,    2.36,2,-999.000,9,-999.000,9,  -999.0,9,  -999.0,9,-999.000,9,-999.0000,9, -999.00,9, -999.00,9,  -999.0,9,  -999.0,     0.9702,-999.0000,-999.000,-999.000
31WTTUNES_3,       P16C,     305,          1,          3,          3,2,19910924,       2019,    12.3547,  -152.4072,       5428,  4979.3,   1.3839,  34.6960,2,  34.6960,2,    177.6,2,   176.1,2,  137.20,2,   34.21,2,    0.01,2,    2.35,2,-999.000,9,-999.000,9,  -999.0,9,  -999.0,9,-999.000,9,-999.0000,9, -999.00,9, -999.00,9,  -999.0,9,  -999.0,     0.9561,-999.0000,-999.000,-999.000
31WTTUNES_3,       P16C,     305,          1,          2,          2,2,19910924,       2019,    12.3547,  -152.4072,       5428,  5258.3,   1.4126,  34.6964,2,  34.6958,2,    178.0,2,   176.9,2,  136.60,2,   34.18,2,    0.01,2,    2.35,2,   0.001,2,   0.017,4,  -999.0,9,  -999.0,9,-999.000,9,-999.0000,9, -999.00,9, -999.00,9,  -999.0,9,  -999.0,     0.9495,-999.0000,-999.000,-999.000
31WTTUNES_3,       P16C,     305,          1,          1,          1,2,19910924,       2019,    12.3547,  -152.4072,       5428,  5495.0,   1.4399,  34.6963,2,  34.6958,2,    178.6,2,   178.8,2,  136.39,2,   34.06,2,    0.00,2,    2.34,2,  -0.003,2,   0.001,2,  -999.0,9,  -999.0,9,-999.000,9,-999.0000,9, -999.00,9, -999.00,9,  -999.0,9,  -999.0,     0.9461,-999.0000,-999.000,-999.000