BOTTLE,20211117CCHSIORKP
EXPOCODE,SECT_ID,STNNBR,CASTNO,SAMPNO,BTLNBR,BTLNBR_FLAG_W,DATE,TIME,LATITUDE,LONGITUDE,DEPTH,CTDPRS,CTDTMP,CTDSAL,CTDSAL_FLAG_W,SALNTY,SALNTY_FLAG_W,CTDOXY,CTDOXY_FLAG_W,OXYGEN,OXYGEN_FLAG_W,SILCAT,SILCAT_FLAG_W,NITRAT,NITRAT_FLAG_W,NITRIT,NITRIT_FLAG_W,PHSPHT,PHSPHT_FLAG_W,CFC-11,CFC-11_FLAG_W,CFC-12,CFC-12_FLAG_W,TCARBN,TCARBN_FLAG_W,ALKALI,ALKALI_FLAG_W,TRITUM,TRITUM_FLAG_W,HELIUM,HELIUM_FLAG_W,DELHE3,DELHE3_FLAG_W,DELC13,DELC13_FLAG_W,DELC14,DELC14_FLAG_W,C14ERR,THETA,HELIER,DELHER,TRITER
,,,,,,,,,,,METERS,DBAR,ITS-90,PSS-78,,PSS-78,,UMOL/KG,,UMOL/KG,,UMOL/KG,,UMOL/KG,,UMOL/KG,,UMOL/KG,,PMOL/KG,,PMOL/KG,,UMOL/KG,,UMOL/KG,,TU,,NMOL/KG,,PERCNT,,/MILLE,,/MILLE,,/MILLE,ITS-90,NMOL/KG,PERCNT,TU
31WTTUNES_3,       P16C,     264,          1,         36,         36,2,19910914,       1439,    -0.6712,  -150.9890,       4459,     5.0,  27.3904,  35.4116,2,  35.4005,2,    215.7,2,   209.7,2,    3.66,2,    4.20,2,    0.33,2,    0.53,2,   1.650,2,   0.945,2,  -999.0,9,  -999.0,9,-999.000,9,-999.0000,9, -999.00,9, -999.00,9,  -999.0,9,  -999.0,    27.3892,-999.0000,-999.000,-999.000
31WTTUNES_3,       P16C,     264,          1,         35,         35,2,19910914,       1439,    -0.6712,  -150.9890,       4459,    38.9,  26.9819,  35.3610,2,  35.3616,2,    206.7,2,   202.7,2,    3.65,2,    4.46,2,    0.33,2,    0.54,2,   1.671,2,   0.951,2,  -999.0,9,  -999.0,9,-999.000,9,-999.0000,9, -999.00,9, -999.00,9,  -999.0,9,  -999.0,    26.9730,-999.0000,-999.000,-999.000
31WTTUNES_3,       P16C,     264,          1,         34,         34,2,19910914,       1439,    -0.6712,  -150.9890,       4459,    67.3,  26.6068,  35.3178,2,  35.3285,2,    197.8,2,   200.4,2,    3.84,2,    4.73,2,    0.32,2,    0.56,2,   1.644,2,   0.924,2,  -999.0,9,  -999.0,9,-999.000,9,-999.0000,9, -999.00,9, -999.00,9,  -999.0,9,  -999.0,    26.5915,-999.0000,-999.000,-999.000
31WTTUNES_3,       P16C,     264,          1,         33,         33,2,19910914,       1439,    -0.6712,  -150.9890,       4459,    91.3,  26.1203,  35.3001,2,  35.2919,2,    182.9,2,   181.9,2,    4.23,2,    5.67,2,    0.35,2,    0.62,2,   1.610,2,   0.904,2,  -999.0,9,  -999.0,9,-999.000,9,-999.0000,9, -999.00,9, -999.00,9,  -999.0,9,  -999.0,    26.0998,-999.0000,-999.000,-999.000
31WTTUNES_3,       P16C,     264,          1,         32,         32,2,19910914,       1439,    -0.6712,  -150.9890,       4459,   112.4,  25.1179,  35.4723,2,  35.4945,2,    153.8,2,   167.1,2,    4.42,2,    7.35,2,    0.40,2,    0.73,2,   1.591,6,   0.881,6,  -999.0,9,  -999.0,9,-999.000,9,-999.0000,9, -999.00,9, -999.00,9,  -999.0,9,  -999.0,    25.0934,-999.0000,-999.000,-999.000
31WTTUNES_3,       P16C,     264,          1,         31,         31,2,19910914,       1439,    -0.6712,  -150.9890,       4459,   146.5,  22.7105,  35.7309,2,  35.7126,2,    131.6,2,   130.5,2,    5.00,2,   10.85,2,    0.04,2,    0.93,2,   1.502,2,   0.843,2,  -999.0,9,  -999.0,9,-999.000,9,-999.0000,9, -999.00,9, -999.00,9,  -999.0,9,  -999.0,    22.6808,-999.0000,-999.000,-999.000
31WTTUNES_3,       P16C,     264,          1,         30,         30,2,19910914,       1439,    -0.6712,  -150.9890,       4459,   167.4,  19.7678,  35.4549,2,  35.4395,2,    123.6,2,   121.4,2,    7.14,2,   13.53,2,    0.02,2,    1.07,2,   1.226,2,   0.677,2,  -999.0,9,  -999.0,9,-999.000,9,-999.0000,9, -999.00,9, -999.00,9,  -999.0,9,  -999.0,    19.7370,-999.0000,-999.000,-999.000
31WTTUNES_3,       P16C,     264,          1,         29,         29,2,19910914,       1439,    -0.6712,  -150.9890,       4459,   196.1,  16.7648,  35.2589,2,  35.2595,2,    130.8,2,   124.1,2,   10.08,2,   15.99,2,    0.01,2,    1.23,2,   1.004,2,   0.556,2,  -999.0,9,  -999.0,9,-999.000,9,-999.0000,9, -999.00,9, -999.00,9,  -999.0,9,  -999.0,    16.7327,-999.0000,-999.000,-999.000
31WTTUNES_3,       P16C,     264,          1,         28,         28,2,19910914,       1439,    -0.6712,  -150.9890,       4459,   223.8,  14.5346,  35.0950,2,  35.0907,2,    127.0,2,   124.2,2,   13.22,2,   18.46,2,    0.01,2,    1.37,2,-999.000,9,-999.000,9,  -999.0,9,  -999.0,9,-999.000,9,-999.0000,9, -999.00,9, -999.00,9,  -999.0,9,  -999.0,    14.5014,-999.0000,-999.000,-999.000
31WTTUNES_3,       P16C,     264,          1,         27,         27,2,19910914,       1439,    -0.6712,  -150.9890,       4459,   250.0,  13.0272,  34.9359,2,  34.9518,2,    113.5,2,   110.6,2,   17.74,2,   21.90,2,    0.01,2,    1.58,2,   0.608,2,   0.353,2,  -999.0,9,  -999.0,9,-999.000,9,-999.0000,9, -999.00,9, -999.00,9,  -999.0,9,  -999.0,    12.9927,-999.0000,-999.000,-999.000
31WTTUNES_3,       P16C,     264,          1,         26,         26,2,19910914,       1439,    -0.6712,  -150.9890,       4459,   299.9,  11.5799,  34.8231,2,  34.8290,2,     48.1,2,    51.1,2,   26.58,2,   29.92,2,    0.01,2,    2.09,2,   0.303,6,   0.185,6,  -999.0,9,  -999.0,9,-999.000,9,-999.0000,9, -999.00,9, -999.00,9,  -999.0,9,  -999.0,    11.5416,-999.0000,-999.000,-999.000
31WTTUNES_3,       P16C,     264,          1,         25,         25,2,19910914,       1439,    -0.6712,  -150.9890,       4459,   351.5,  10.4104,  34.7542,2,  34.7524,2,     18.7,2,    20.1,2,   33.25,2,   35.03,2,    0.01,2,    2.44,2,   0.105,2,   0.066,2,  -999.0,9,  -999.0,9,-999.000,9,-999.0000,9, -999.00,9, -999.00,9,  -999.0,9,  -999.0,    10.3684,-999.0000,-999.000,-999.000
31WTTUNES_3,       P16C,     264,          1,         24,         24,2,19910914,       1439,    -0.6712,  -150.9890,       4459,   360.6,  10.3357,  34.7484,2,  34.6842,3,     18.7,2,    28.6,2,   37.35,2,   36.91,2,    0.01,2,    2.54,2,   0.046,6,   0.032,6,  -999.0,9,  -999.0,9,-999.000,9,-999.0000,9, -999.00,9, -999.00,9,  -999.0,9,  -999.0,    10.2928,-999.0000,-999.000,-999.000
31WTTUNES_3,       P16C,     264,          1,         23,         23,2,19910914,       1439,    -0.6712,  -150.9890,       4459,   408.6,   9.6619,  34.6966,2,  34.6360,3,     27.8,2,    37.4,2,   41.66,2,   38.03,2,    0.01,2,    2.63,2,   0.018,2,   0.013,2,  -999.0,9,  -999.0,9,-999.000,9,-999.0000,9, -999.00,9, -999.00,9,  -999.0,9,  -999.0,     9.6151,-999.0000,-999.000,-999.000
31WTTUNES_3,       P16C,     264,          1,         22,         22,2,19910914,       1439,    -0.6712,  -150.9890,       4459,   506.9,   7.9803,  34.6205,2,  34.6164,2,     50.9,2,    52.6,2,   42.05,2,   37.22,2,    0.01,2,    2.57,2,   0.025,2,   0.019,2,  -999.0,9,  -999.0,9,-999.000,9,-999.0000,9, -999.00,9, -999.00,9,  -999.0,9,  -999.0,     7.9283,-999.0000,-999.000,-999.000
31WTTUNES_3,       P16C,     264,          1,         21,         21,2,19910914,       1439,    -0.6712,  -150.9890,       4459,   606.7,   7.4250,  34.5921,2,  34.5875,2,     60.2,2,    64.4,2,   46.16,2,   37.42,2,    0.01,2,    2.60,2,   0.020,2,   0.015,2,  -999.0,9,  -999.0,9,-999.000,9,-999.0000,9, -999.00,9, -999.00,9,  -999.0,9,  -999.0,     7.3649,-999.0000,-999.000,-999.000
31WTTUNES_3,       P16C,     264,          1,         20,         20,2,19910914,       1439,    -0.6712,  -150.9890,       4459,   710.2,   6.4821,  34.5638,2,  34.5582,2,     68.5,2,    66.0,2,   56.94,2,   39.07,2,    0.00,2,    2.74,2,   0.001,2,   0.002,2,  -999.0,9,  -999.0,9,-999.000,9,-999.0000,9, -999.00,9, -999.00,9,  -999.0,9,  -999.0,     6.4164,-999.0000,-999.000,-999.000
31WTTUNES_3,       P16C,     264,          1,         19,         19,2,19910914,       1439,    -0.6712,  -150.9890,       4459,   816.0,   5.6365,  34.5504,2,  34.5476,2,     76.5,2,    73.0,2,   66.74,2,   39.47,2,    0.00,2,    2.77,2,  -0.003,2,   0.005,2,  -999.0,9,  -999.0,9,-999.000,9,-999.0000,9, -999.00,9, -999.00,9,  -999.0,9,  -999.0,     5.5657,-999.0000,-999.000,-999.000
31WTTUNES_3,       P16C,     264,          1,         18,         18,2,19910914,       1439,    -0.6712,  -150.9890,       4459,   919.5,   5.0029,  34.5472,2,  34.5457,2,     87.9,2,    86.7,2,   76.74,2,   38.81,2,    0.00,2,    2.73,2,-999.000,9,-999.000,9,  -999.0,9,  -999.0,9,-999.000,9,-999.0000,9, -999.00,9, -999.00,9,  -999.0,9,  -999.0,     4.9268,-999.0000,-999.000,-999.000
31WTTUNES_3,       P16C,     264,          1,         17,         17,2,19910914,       1439,    -0.6712,  -150.9890,       4459,  1022.8,   4.6392,  34.5556,2,  34.5547,2,     82.2,2,    81.1,2,   85.73,2,   39.78,2,    0.00,2,    2.81,2,   0.008,2,   0.021,3,  -999.0,9,  -999.0,9,-999.000,9,-999.0000,9, -999.00,9, -999.00,9,  -999.0,9,  -999.0,     4.5566,-999.0000,-999.000,-999.000
31WTTUNES_3,       P16C,     264,          1,         16,         16,2,19910914,       1439,    -0.6712,  -150.9890,       4459,  1228.3,   3.7477,  34.5795,2,  34.5761,2,     86.1,2,    85.5,2,  104.35,2,   39.93,2,    0.00,2,    2.83,2,-999.000,9,-999.000,9,  -999.0,9,  -999.0,9,-999.000,9,-999.0000,9, -999.00,9, -999.00,9,  -999.0,9,  -999.0,     3.6548,-999.0000,-999.000,-999.000
31WTTUNES_3,       P16C,     264,          1,         15,         15,2,19910914,       1439,    -0.6712,  -150.9890,       4459,  1432.9,   3.2189,  34.5967,2,  34.5973,2,     93.5,2,    94.1,2,  115.89,2,   39.48,2,    0.00,2,    2.79,2,-999.000,9,-999.000,9,  -999.0,9,  -999.0,9,-999.000,9,-999.0000,9, -999.00,9, -999.00,9,  -999.0,9,  -999.0,     3.1142,-999.0000,-999.000,-999.000
31WTTUNES_3,       P16C,     264,          1,         14,         14,2,19910914,       1439,    -0.6712,  -150.9890,       4459,  1637.2,   2.7222,  34.6195,2,  34.6174,2,     97.8,2,    97.8,2,  129.59,2,   39.52,2,    0.00,2,    2.78,2,-999.000,9,-999.000,9,  -999.0,9,  -999.0,9,-999.000,9,-999.0000,9, -999.00,9, -999.00,9,  -999.0,9,  -999.0,     2.6062,-999.0000,-999.000,-999.000
31WTTUNES_3,       P16C,     264,          1,         13,         13,2,19910914,       1439,    -0.6712,  -150.9890,       4459,  1843.4,   2.4969,  34.6298,2,  34.6284,2,    103.9,2,   104.5,2,  134.45,2,   39.11,2,    0.00,2,    2.75,2,-999.000,9,-999.000,9,  -999.0,9,  -999.0,9,-999.000,9,-999.0000,9, -999.00,9, -999.00,9,  -999.0,9,  -999.0,     2.3664,-999.0000,-999.000,-999.000
31WTTUNES_3,       P16C,     264,          1,         12,         12,2,19910914,       1439,    -0.6712,  -150.9890,       4459,  2049.6,   2.2134,  34.6456,2,  34.6464,2,    108.2,2,   108.6,2,  142.06,2,   38.92,2,    0.00,2,    2.71,2,-999.000,9,-999.000,9,  -999.0,9,  -999.0,9,-999.000,9,-999.0000,9, -999.00,9, -999.00,9,  -999.0,9,  -999.0,     2.0694,-999.0000,-999.000,-999.000
31WTTUNES_3,       P16C,     264,          1,         11,         11,2,19910914,       1439,    -0.6712,  -150.9890,       4459,  2254.9,   2.0348,  34.6544,2,  34.6521,2,    115.6,2,   116.2,2,  144.18,2,   38.36,2,    0.00,2,    2.67,2,-999.000,9,-999.000,9,  -999.0,9,  -999.0,9,-999.000,9,-999.0000,9, -999.00,9, -999.00,9,  -999.0,9,  -999.0,     1.8758,-999.0000,-999.000,-999.000
31WTTUNES_3,       P16C,     264,          1,         10,         10,2,19910914,       1439,    -0.6712,  -150.9890,       4459,  2460.5,   1.8434,  34.6643,2,  34.6643,2,    124.8,2,   125.2,2,  147.09,2,   37.85,2,    0.00,2,    2.62,2,-999.000,9,-999.000,9,  -999.0,9,  -999.0,9,-999.000,9,-999.0000,9, -999.00,9, -999.00,9,  -999.0,9,  -999.0,     1.6695,-999.0000,-999.000,-999.000
31WTTUNES_3,       P16C,     264,          1,          9,          9,2,19910914,       1439,    -0.6712,  -150.9890,       4459,  2667.0,   1.7779,  34.6681,2,  34.6690,2,    128.2,2,   128.7,2,  147.83,2,   37.55,2,    0.00,2,    2.59,2,-999.000,9,-999.000,9,  -999.0,9,  -999.0,9,-999.000,9,-999.0000,9, -999.00,9, -999.00,9,  -999.0,9,  -999.0,     1.5864,-999.0000,-999.000,-999.000
31WTTUNES_3,       P16C,     264,          1,          8,          8,2,19910914,       1439,    -0.6712,  -150.9890,       4459,  2873.2,   1.6946,  34.6722,2,  34.6722,2,    134.3,2,   134.9,2,  147.80,2,   37.25,2,    0.00,2,    2.56,2,-999.000,9,-999.000,9,  -999.0,9,  -999.0,9,-999.000,9,-999.0000,9, -999.00,9, -999.00,9,  -999.0,9,  -999.0,     1.4856,-999.0000,-999.000,-999.000
31WTTUNES_3,       P16C,     264,          1,          7,          7,2,19910914,       1439,    -0.6712,  -150.9890,       4459,  3079.1,   1.6508,  34.6752,2,  34.6755,2,    138.6,2,   139.2,2,  147.17,2,   36.89,2,    0.00,2,    2.53,2,-999.000,9,-999.000,9,  -999.0,9,  -999.0,9,-999.000,9,-999.0000,9, -999.00,9, -999.00,9,  -999.0,9,  -999.0,     1.4231,-999.0000,-999.000,-999.000
31WTTUNES_3,       P16C,     264,          1,          6,          6,2,19910914,       1439,    -0.6712,  -150.9890,       4459,  3337.2,   1.5802,  34.6790,2,  34.6777,2,    146.9,2,   147.3,2,  144.60,2,   36.34,2,    0.00,2,    2.50,2,-999.000,9,-999.000,9,  -999.0,9,  -999.0,9,-999.000,9,-999.0000,9, -999.00,9, -999.00,9,  -999.0,9,  -999.0,     1.3286,-999.0000,-999.000,-999.000
31WTTUNES_3,       P16C,     264,          1,          5,          5,2,19910914,       1439,    -0.6712,  -150.9890,       4459,  3594.0,   1.4695,  34.6875,2,  34.6869,2,    154.5,2,   154.8,2,  146.70,2,   35.97,2,    0.00,2,    2.45,2,-999.000,9,-999.000,9,  -999.0,9,  -999.0,9,-999.000,9,-999.0000,9, -999.00,9, -999.00,9,  -999.0,9,  -999.0,     1.1945,-999.0000,-999.000,-999.000
31WTTUNES_3,       P16C,     264,          1,          4,          4,2,19910914,       1439,    -0.6712,  -150.9890,       4459,  3854.0,   1.4132,  34.6920,2,  34.6916,2,    161.2,2,   161.1,2,  145.90,2,   35.57,2,    0.00,2,    2.41,2,-999.000,9,-999.000,9,  -999.0,9,  -999.0,9,-999.000,9,-999.0000,9, -999.00,9, -999.00,9,  -999.0,9,  -999.0,     1.1123,-999.0000,-999.000,-999.000
31WTTUNES_3,       P16C,     264,          1,          3,          3,2,19910914,       1439,    -0.6712,  -150.9890,       4459,  4114.6,   1.4025,  34.6938,2,  34.6934,2,    165.2,2,   165.7,2,  143.91,2,   35.32,2,    0.00,2,    2.40,2,-999.000,9,-999.000,9,  -999.0,9,  -999.0,9,-999.000,9,-999.0000,9, -999.00,9, -999.00,9,  -999.0,9,  -999.0,     1.0737,-999.0000,-999.000,-999.000
31WTTUNES_3,       P16C,     264,          1,          2,          2,2,19910914,       1439,    -0.6712,  -150.9890,       4459,  4374.2,   1.3736,  34.6964,2,  34.6965,2,    172.4,2,   172.9,2,  139.75,2,   34.76,2,    0.00,2,    2.37,2,-999.000,9,-999.000,9,  -999.0,9,  -999.0,9,-999.000,9,-999.0000,9, -999.00,9, -999.00,9,  -999.0,9,  -999.0,     1.0168,-999.0000,-999.000,-999.000
31WTTUNES_3,       P16C,     264,          1,          1,          1,2,19910914,       1439,    -0.6712,  -150.9890,       4459,  4533.0,   1.3415,  34.6988,2,  34.7001,2,    178.2,2,   180.8,2,  135.21,2,   34.20,2,    0.00,2,    2.33,2,-999.000,9,-999.000,9,  -999.0,9,  -999.0,9,-999.000,9,-999.0000,9, -999.00,9, -999.00,9,  -999.0,9,  -999.0,     0.9676,-999.0000,-999.000,-999.000
31WTTUNES_3,       P16C,     265,          1,         11,         11,2,19910914,       1850,    -0.4972,  -150.9905,       4344,    19.9,  27.0844,  35.3647,2,  35.3543,2,    202.5,2,   204.2,2, -999.00,9, -999.00,9, -999.00,9, -999.00,9,-999.000,9,-999.000,9,  -999.0,9,  -999.0,9,-999.000,9,-999.0000,9, -999.00,9, -999.00,9,  -999.0,9,  -999.0,    27.0798,-999.0000,-999.000,-999.000
31WTTUNES_3,       P16C,     265,          1,         10,         10,2,19910914,       1850,    -0.4972,  -150.9905,       4344,   104.5,  24.6668,  35.4391,2,  35.3319,2,    148.0,2,   176.4,2, -999.00,9, -999.00,9, -999.00,9, -999.00,9,-999.000,9,-999.000,9,  -999.0,9,  -999.0,9,-999.000,9,-999.0000,9, -999.00,9, -999.00,9,  -999.0,9,  -999.0,    24.6443,-999.0000,-999.000,-999.000
31WTTUNES_3,       P16C,     265,          1,          9,          9,2,19910914,       1850,    -0.4972,  -150.9905,       4344,   307.3,  11.6027,  34.8276,2,  34.7897,2,     39.0,2,    31.4,2, -999.00,9, -999.00,9, -999.00,9, -999.00,9,-999.000,9,-999.000,9,  -999.0,9,  -999.0,9,-999.000,9,-999.0000,9, -999.00,9, -999.00,9,  -999.0,9,  -999.0,    11.5633,-999.0000,-999.000,-999.000
31WTTUNES_3,       P16C,     265,          1,          8,          8,2,19910914,       1850,    -0.4972,  -150.9905,       4344,   509.4,   7.8800,  34.6164,2,  34.6113,2,     48.4,2,    53.3,2, -999.00,9, -999.00,9, -999.00,9, -999.00,9,-999.000,9,-999.000,9,  -999.0,9,  -999.0,9,-999.000,9,-999.0000,9, -999.00,9, -999.00,9,  -999.0,9,  -999.0,     7.8282,-999.0000,-999.000,-999.000
31WTTUNES_3,       P16C,     265,          1,          7,          7,2,19910914,       1850,    -0.4972,  -150.9905,       4344,   762.2,   5.9720,  34.5533,2,  34.5498,2,     71.5,2,    76.0,2, -999.00,9, -999.00,9, -999.00,9, -999.00,9,-999.000,9,-999.000,9,  -999.0,9,  -999.0,9,-999.000,9,-999.0000,9, -999.00,9, -999.00,9,  -999.0,9,  -999.0,     5.9040,-999.0000,-999.000,-999.000
31WTTUNES_3,       P16C,     265,          1,          6,          6,2,19910914,       1850,    -0.4972,  -150.9905,       4344,  1536.7,   3.0044,  34.6020,2,  34.6034,2,     97.9,2,    99.1,2, -999.00,9, -999.00,9, -999.00,9, -999.00,9,-999.000,9,-999.000,9,  -999.0,9,  -999.0,9,-999.000,9,-999.0000,9, -999.00,9, -999.00,9,  -999.0,9,  -999.0,     2.8933,-999.0000,-999.000,-999.000
31WTTUNES_3,       P16C,     265,          1,          5,          5,2,19910914,       1850,    -0.4972,  -150.9905,       4344,  2567.6,   1.8363,  34.6651,2,  34.6651,2,    124.0,2,   125.7,2, -999.00,9, -999.00,9, -999.00,9, -999.00,9,-999.000,9,-999.000,9,  -999.0,9,  -999.0,9,-999.000,9,-999.0000,9, -999.00,9, -999.00,9,  -999.0,9,  -999.0,     1.6529,-999.0000,-999.000,-999.000
31WTTUNES_3,       P16C,     265,          1,          4,          4,2,19910914,       1850,    -0.4972,  -150.9905,       4344,  3084.5,   1.6405,  34.6751,2,  34.6737,2,    139.4,2,   140.9,2, -999.00,9, -999.00,9, -999.00,9, -999.00,9,-999.000,9,-999.000,9,  -999.0,9,  -999.0,9,-999.000,9,-999.0000,9, -999.00,9, -999.00,9,  -999.0,9,  -999.0,     1.4125,-999.0000,-999.000,-999.000
31WTTUNES_3,       P16C,     265,          1,          3,          3,3,19910914,       1850,    -0.4972,  -150.9905,       4344,  3600.1,   1.4766,  34.6884,2,  35.1979,4,    154.5,2,   129.9,4, -999.00,9, -999.00,9, -999.00,9, -999.00,9,-999.000,9,-999.000,9,  -999.0,9,  -999.0,9,-999.000,9,-999.0000,9, -999.00,9, -999.00,9,  -999.0,9,  -999.0,     1.2007,-999.0000,-999.000,-999.000
31WTTUNES_3,       P16C,     265,          1,          2,          2,3,19910914,       1850,    -0.4972,  -150.9905,       4344,  4117.5,   1.4013,  34.6952,2,  34.5688,4,    167.6,2,    83.8,4, -999.00,9, -999.00,9, -999.00,9, -999.00,9,-999.000,9,-999.000,9,  -999.0,9,  -999.0,9,-999.000,9,-999.0000,9, -999.00,9, -999.00,9,  -999.0,9,  -999.0,     1.0723,-999.0000,-999.000,-999.000
31WTTUNES_3,       P16C,     265,          1,          1,          1,2,19910914,       1850,    -0.4972,  -150.9905,       4344,  4383.0,   1.3717,  34.6981,2,  34.7011,2,    176.9,2,   174.1,2, -999.00,9, -999.00,9, -999.00,9, -999.00,9,-999.000,9,-999.000,9,  -999.0,9,  -999.0,9,-999.000,9,-999.0000,9, -999.00,9, -999.00,9,  -999.0,9,  -999.0,     1.0140,-999.0000,-999.000,-999.000