BOTTLE,20211117CCHSIORKP
EXPOCODE,SECT_ID,STNNBR,CASTNO,SAMPNO,BTLNBR,BTLNBR_FLAG_W,DATE,TIME,LATITUDE,LONGITUDE,DEPTH,CTDPRS,CTDTMP,CTDSAL,CTDSAL_FLAG_W,SALNTY,SALNTY_FLAG_W,CTDOXY,CTDOXY_FLAG_W,OXYGEN,OXYGEN_FLAG_W,SILCAT,SILCAT_FLAG_W,NITRAT,NITRAT_FLAG_W,NITRIT,NITRIT_FLAG_W,PHSPHT,PHSPHT_FLAG_W,CFC-11,CFC-11_FLAG_W,CFC-12,CFC-12_FLAG_W,TCARBN,TCARBN_FLAG_W,ALKALI,ALKALI_FLAG_W,TRITUM,TRITUM_FLAG_W,HELIUM,HELIUM_FLAG_W,DELHE3,DELHE3_FLAG_W,DELC13,DELC13_FLAG_W,DELC14,DELC14_FLAG_W,C14ERR,THETA,HELIER,DELHER,TRITER
,,,,,,,,,,,METERS,DBAR,ITS-90,PSS-78,,PSS-78,,UMOL/KG,,UMOL/KG,,UMOL/KG,,UMOL/KG,,UMOL/KG,,UMOL/KG,,PMOL/KG,,PMOL/KG,,UMOL/KG,,UMOL/KG,,TU,,NMOL/KG,,PERCNT,,/MILLE,,/MILLE,,/MILLE,ITS-90,NMOL/KG,PERCNT,TU
31WTTUNES_3,       P16C,     226,          1,         36,         36,2,19910903,       0547,   -14.9990,  -150.8350,       4539,     5.8,  27.4239,  36.2179,2,  36.2307,2,   -999.0,5,   218.3,2,    1.61,2,    0.08,2,    0.00,2,    0.21,2,   1.632,2,   0.887,2,  1999.2,2,  2378.7,2,-999.000,9,-999.0000,9, -999.00,9,    1.77,2,   108.1,2,     3.0,    27.4226,-999.0000,-999.000,-999.000
31WTTUNES_3,       P16C,     226,          1,         35,         35,2,19910903,       0547,   -14.9990,  -150.8350,       4539,    47.8,  27.3980,  36.2163,2,  36.2125,2,   -999.0,5,   216.3,2,    1.60,2,    0.08,2,    0.00,2,    0.21,2,   1.653,2,   0.894,2,  1999.8,2,  2383.9,2,-999.000,9,-999.0000,9, -999.00,9,    1.69,2,   106.3,2,     2.9,    27.3869,-999.0000,-999.000,-999.000
31WTTUNES_3,       P16C,     226,          1,         34,         34,2,19910903,       0547,   -14.9990,  -150.8350,       4539,    88.2,  27.4342,  36.3269,2,  36.2917,2,   -999.0,5,   216.6,2,    1.80,2,    0.06,2,    0.01,2,    0.21,2,   1.640,6,   0.898,6,  2006.7,2,  2389.0,2,   0.965,2,   1.7260,2,   -1.04,2,    1.77,2,   107.8,2,     3.6,    27.4136,   0.0080,   0.150,   0.007
31WTTUNES_3,       P16C,     226,          1,         33,         33,2,19910903,       0547,   -14.9990,  -150.8350,       4539,   128.6,  25.2437,  36.3049,2,  36.2972,2,   -999.0,5,   203.5,2,    1.79,2,    0.00,2,    0.19,2,    0.27,2,   1.668,6,   0.909,6,  2027.5,2,  2392.1,2,-999.000,9,-999.0000,9, -999.00,9,    1.62,2,   110.9,2,     2.9,    25.2155,-999.0000,-999.000,-999.000
31WTTUNES_3,       P16C,     226,          1,         32,         32,2,19910903,       0547,   -14.9990,  -150.8350,       4539,   168.2,  23.4568,  36.1963,2,  36.2556,2,   -999.0,5,   181.6,2,    1.98,2,    2.16,2,    0.03,2,    0.43,2,   1.722,2,   0.922,2,  2069.4,2,  2384.8,2,-999.000,9,-999.0000,9, -999.00,9,    1.30,2,   138.5,2,     4.6,    23.4217,-999.0000,-999.000,-999.000
31WTTUNES_3,       P16C,     226,          1,         31,         31,2,19910903,       0547,   -14.9990,  -150.8350,       4539,   209.1,  21.9628,  36.1012,2,  36.1547,2,   -999.0,5,   178.0,2,    1.57,2,    2.95,2,    0.02,2,    0.48,2,   1.761,2,   0.941,2,  2081.2,2,  2378.9,2,   0.772,2,   1.7410,2,   -0.57,2,    1.29,2,   158.7,2,     3.6,    21.9212,   0.0080,   0.150,   0.006
31WTTUNES_3,       P16C,     226,          1,         30,         30,2,19910903,       0547,   -14.9990,  -150.8350,       4539,   260.5,  19.0754,  35.6337,2,  35.6218,2,   -999.0,5,   172.4,2,    2.76,2,    5.41,2,    0.01,2,    0.64,2,   1.614,2,   0.849,2,  2087.8,2,  2343.9,2,   0.690,2,   1.7640,2,    0.39,2,    1.25,2,   152.4,2,     2.9,    19.0286,   0.0080,   0.150,   0.006
31WTTUNES_3,       P16C,     226,          1,         29,         29,2,19910903,       0547,   -14.9990,  -150.8350,       4539,   311.7,  16.1119,  35.2395,2,  35.2331,2,   -999.0,5,   160.7,2,    4.55,2,    9.24,2,    0.01,2,    0.91,2,   1.361,2,   0.711,2,  2103.5,2,  2316.0,2,   0.580,2,   1.7720,2,    1.10,2,    1.15,2,   114.9,2,     3.1,    16.0620,   0.0080,   0.150,   0.006
31WTTUNES_3,       P16C,     226,          1,         28,         28,2,19910903,       0547,   -14.9990,  -150.8350,       4539,   361.4,  13.4947,  34.9248,2,  34.9067,2,   -999.0,5,   137.6,2,    9.15,2,   15.38,2,    0.01,2,    1.30,2,   0.938,2,   0.479,2,  2136.6,2,  2302.0,2,   0.412,2,   1.7840,2,    1.65,2,    0.92,2,    70.2,2,     3.7,    13.4435,   0.0080,   0.150,   0.005
31WTTUNES_3,       P16C,     226,          1,         27,         27,2,19910903,       0547,   -14.9990,  -150.8350,       4539,   412.4,  11.3884,  34.7074,2,  34.6698,2,   -999.0,5,   119.2,2,   14.56,2,   22.60,2,    0.01,2,    1.70,2,   0.474,6,   0.256,6,  2170.9,2,  2293.3,2,   0.236,2,   1.7720,2,    2.52,2,    0.77,2,    -8.8,2,     3.2,    11.3360,   0.0080,   0.150,   0.004
31WTTUNES_3,       P16C,     226,          1,         26,         26,2,19910903,       0547,   -14.9990,  -150.8350,       4539,   462.7,   9.3151,  34.5666,2,  34.5604,2,   -999.0,5,   119.8,2,   21.56,2,   27.75,2,    0.01,2,    1.99,2,   0.204,2,   0.104,2,  2191.7,2,  2293.9,2,-999.000,9,-999.0000,9, -999.00,9, -999.00,9,  -999.0,9,  -999.0,     9.2633,-999.0000,-999.000,-999.000
31WTTUNES_3,       P16C,     226,          1,         25,         25,2,19910903,       0547,   -14.9990,  -150.8350,       4539,   514.2,   8.0420,  34.5251,2,  34.5180,2,   -999.0,5,   129.9,2,   26.38,2,   29.86,2,    0.01,2,    2.13,2,   0.120,2,   0.068,2,  2198.2,2,  2296.9,2,-999.000,9,-999.0000,9, -999.00,9,    0.54,2,   -93.4,2,     2.7,     7.9891,-999.0000,-999.000,-999.000
31WTTUNES_3,       P16C,     226,          1,         24,         24,2,19910903,       0547,   -14.9990,  -150.8350,       4539,   566.0,   7.2066,  34.4950,2,  34.4885,2,   -999.0,5,   139.8,2,   30.40,2,   31.01,2,    0.01,2,    2.17,2,   0.046,2,   0.018,2,  2199.3,2,  2300.9,2,-999.000,9,-999.0000,9, -999.00,9, -999.00,9,  -999.0,9,  -999.0,     7.1517,-999.0000,-999.000,-999.000
31WTTUNES_3,       P16C,     226,          1,         23,         23,2,19910903,       0547,   -14.9990,  -150.8350,       4539,   617.3,   6.5846,  34.4759,2,  34.4665,2,   -999.0,5,   145.8,2,   35.62,2,   32.14,2,    0.00,2,    2.23,2,   0.027,2,   0.012,2,  2205.2,2,  2303.6,2,   0.013,2,   1.8340,2,    8.68,2,    0.72,2,  -114.9,2,     2.7,     6.5274,   0.0090,   0.150,   0.002
31WTTUNES_3,       P16C,     226,          1,         22,         22,2,19910903,       0547,   -14.9990,  -150.8350,       4539,   668.2,   6.1251,  34.4671,2,  34.4646,2,   -999.0,5,   147.8,2,   40.05,2,   32.89,2,    0.00,2,    2.29,2,   0.020,2,   0.005,2,  2209.6,2,  2307.8,2,-999.000,9,-999.0000,9, -999.00,9, -999.00,9,  -999.0,9,  -999.0,     6.0653,-999.0000,-999.000,-999.000
31WTTUNES_3,       P16C,     226,          1,         21,         21,2,19910903,       0547,   -14.9990,  -150.8350,       4539,   718.3,   5.7215,  34.4643,2,  34.4654,2,   -999.0,5,   147.9,2,   43.08,2,   33.27,2,    0.00,2,    2.31,2,   0.050,4,   0.010,2,  2214.5,2,  2311.8,2,-999.000,9,-999.0000,9, -999.00,9,    0.64,2,  -127.8,2,     2.8,     5.6591,-999.0000,-999.000,-999.000
31WTTUNES_3,       P16C,     226,          1,         20,         20,2,19910903,       0547,   -14.9990,  -150.8350,       4539,   768.1,   5.2987,  34.4675,2,  34.4769,2,   -999.0,5,   143.4,2,   51.73,2,   34.80,2,    0.00,2,    2.40,2,   0.015,2,   0.005,2,  2227.4,2,  2321.4,2,-999.000,9,-999.0000,9, -999.00,9, -999.00,9,  -999.0,9,  -999.0,     5.2342,-999.0000,-999.000,-999.000
31WTTUNES_3,       P16C,     226,          1,         19,         19,2,19910903,       0547,   -14.9990,  -150.8350,       4539,   808.3,   5.0191,  34.4762,2,  34.4805,2,   -999.0,5,   143.3,2,   55.57,2,   35.03,2,    0.00,2,    2.42,2,   0.008,2,   0.015,2,  2231.8,2,  2324.3,2,-999.000,9,-999.0000,9, -999.00,9,    0.64,2,  -148.0,2,     3.0,     4.9528,-999.0000,-999.000,-999.000
31WTTUNES_3,       P16C,     226,          1,         18,         18,2,19910903,       0547,   -14.9990,  -150.8350,       4539,   925.5,   4.4173,  34.4954,2,  34.4989,2,   -999.0,5,   140.3,2,   64.65,2,   35.68,2,    0.00,2,    2.46,2,-999.000,9,-999.000,9,  2246.5,2,  2333.7,2,-999.000,9,-999.0000,9, -999.00,9,    0.49,2,  -999.0,5,  -999.0,     4.3449,-999.0000,-999.000,-999.000
31WTTUNES_3,       P16C,     226,          1,         17,         17,2,19910903,       0547,   -14.9990,  -150.8350,       4539,  1025.3,   4.0180,  34.5139,2,  34.5117,2,   -999.0,5,   140.5,2,   72.73,2,   36.27,2,    0.00,2,    2.49,2,-999.000,9,-999.000,9,  2258.1,2,  2342.4,2,-999.000,9,-999.0000,9, -999.00,9,    0.41,2,  -168.4,2,     2.7,     3.9401,-999.0000,-999.000,-999.000
31WTTUNES_3,       P16C,     226,          1,         16,         16,2,19910903,       0547,   -14.9990,  -150.8350,       4539,  1230.9,   3.3577,  34.5470,2,  34.5525,2,   -999.0,5,   141.2,2,   88.27,2,   36.92,2,    0.00,2,    2.55,2,   0.008,2,   0.001,2,  2274.0,2,  2358.1,2,-999.000,9,-999.0000,9, -999.00,9,    0.39,2,  -181.1,2,     2.2,     3.2684,-999.0000,-999.000,-999.000
31WTTUNES_3,       P16C,     226,          1,         15,         15,2,19910903,       0547,   -14.9990,  -150.8350,       4539,  1435.1,   2.9637,  34.5707,2,  34.5708,2,   -999.0,5,   144.1,2,   97.59,2,   36.84,2,    0.00,2,    2.53,2,   0.007,2,   0.001,2,  2283.8,2,  2368.6,2,-999.000,9,-999.0000,9, -999.00,9, -999.00,9,  -999.0,9,  -999.0,     2.8616,-999.0000,-999.000,-999.000
31WTTUNES_3,       P16C,     226,          1,         14,         14,2,19910903,       0547,   -14.9990,  -150.8350,       4539,  1641.2,   2.5898,  34.5974,2,  34.5987,2,   -999.0,5,   146.6,2,  107.10,2,   36.82,2,    0.00,2,    2.53,2,   0.002,2,   0.002,2,  2293.3,2,  2379.3,2,-999.000,9,-999.0000,9, -999.00,9, -999.00,9,  -999.0,9,  -999.0,     2.4751,-999.0000,-999.000,-999.000
31WTTUNES_3,       P16C,     226,          1,         13,         13,2,19910903,       0547,   -14.9990,  -150.8350,       4539,  1848.4,   2.2852,  34.6209,2,  34.6242,2,   -999.0,5,   151.2,2,  114.82,2,   36.60,2,    0.00,2,    2.50,2,-999.000,9,-999.000,9,  2299.2,2,  2388.1,2,-999.000,9,-999.0000,9, -999.00,9, -999.00,9,  -999.0,9,  -999.0,     2.1573,-999.0000,-999.000,-999.000
31WTTUNES_3,       P16C,     226,          1,         12,         12,2,19910903,       0547,   -14.9990,  -150.8350,       4539,  2054.3,   2.1232,  34.6358,2,  34.6394,2,   -999.0,5,   151.3,2,  119.92,2,   36.57,2,    0.00,2,    2.50,2,-999.000,9,-999.000,9,  2307.4,2,  2393.7,2,-999.000,9,-999.0000,9, -999.00,9, -999.00,9,  -999.0,9,  -999.0,     1.9802,-999.0000,-999.000,-999.000
31WTTUNES_3,       P16C,     226,          1,         11,         11,2,19910903,       0547,   -14.9990,  -150.8350,       4539,  2261.5,   1.9927,  34.6495,2,  34.6506,2,   -999.0,5,   150.8,2,  125.02,2,   36.19,3,    0.00,2,    2.47,3,  -0.001,2,  -0.007,2,  2311.6,2,  2399.1,2,-999.000,9,-999.0000,9, -999.00,9,    0.17,2,  -215.0,2,     2.2,     1.8340,-999.0000,-999.000,-999.000
31WTTUNES_3,       P16C,     226,          1,         10,         10,2,19910903,       0547,   -14.9990,  -150.8350,       4539,  2466.9,   1.9011,  34.6592,2,  34.6600,2,   -999.0,5,   152.2,2,  128.52,2,   36.58,2,    0.00,2,    2.50,2,-999.000,9,-999.000,9,  2311.6,2,  2403.2,2,-999.000,9,-999.0000,9, -999.00,9, -999.00,9,  -999.0,9,  -999.0,     1.7257,-999.0000,-999.000,-999.000
31WTTUNES_3,       P16C,     226,          1,          9,          9,2,19910903,       0547,   -14.9990,  -150.8350,       4539,  2674.0,   1.8134,  34.6665,2,  34.6696,2,   -999.0,5,   153.5,2,  131.42,2,   36.36,2,    0.00,2,    2.47,2,-999.000,9,-999.000,9,  2315.8,2,  -999.0,9,-999.000,9,-999.0000,9, -999.00,9, -999.00,9,  -999.0,9,  -999.0,     1.6206,-999.0000,-999.000,-999.000
31WTTUNES_3,       P16C,     226,          1,          8,          8,2,19910903,       0547,   -14.9990,  -150.8350,       4539,  2881.4,   1.7654,  34.6714,2,  34.6761,2,   -999.0,5,   155.8,2,  132.49,2,   36.28,2,    0.00,2,    2.47,2,-999.000,9,-999.000,9,  2306.7,2,  2407.2,2,-999.000,9,-999.0000,9, -999.00,9, -999.00,9,  -999.0,9,  -999.0,     1.5541,-999.0000,-999.000,-999.000
31WTTUNES_3,       P16C,     226,          1,          7,          7,2,19910903,       0547,   -14.9990,  -150.8350,       4539,  3088.4,   1.7056,  34.6751,2,  34.6777,2,   -999.0,5,   161.1,2,  131.14,2,   35.79,2,    0.00,2,    2.46,2,-999.000,9,-999.000,9,  2297.4,2,  2403.4,2,-999.000,9,-999.0000,9, -999.00,9, -999.00,9,  -999.0,9,  -999.0,     1.4756,-999.0000,-999.000,-999.000
31WTTUNES_3,       P16C,     226,          1,          6,          6,2,19910903,       0547,   -14.9990,  -150.8350,       4539,  3347.8,   1.5962,  34.6817,2,  34.6851,2,   -999.0,5,   169.7,2,  128.97,2,   35.04,2,    0.00,2,    2.40,2,   0.014,3,  -0.007,2,  2290.6,2,  -999.0,9,-999.000,9,-999.0000,9, -999.00,9,    0.27,2,  -192.0,3,     2.3,     1.3432,-999.0000,-999.000,-999.000
31WTTUNES_3,       P16C,     226,          1,          5,          5,2,19910903,       0547,   -14.9990,  -150.8350,       4539,  3606.8,   1.5062,  34.6880,2,  34.6883,2,   -999.0,5,   175.8,2,  127.61,2,   34.60,2,    0.00,2,    2.38,2,-999.000,9,-999.000,9,  2285.1,2,  2395.2,2,-999.000,9,-999.0000,9, -999.00,9, -999.00,9,  -999.0,9,  -999.0,     1.2289,-999.0000,-999.000,-999.000
31WTTUNES_3,       P16C,     226,          1,          4,          4,2,19910903,       0547,   -14.9990,  -150.8350,       4539,  3865.7,   1.4570,  34.6921,2,  34.6950,2,   -999.0,5,   179.8,2,  126.80,2,   34.32,2,    0.00,2,    2.35,2,-999.000,9,-999.000,9,  2282.4,2,  -999.0,9,-999.000,9,-999.0000,9, -999.00,9, -999.00,9,  -999.0,9,  -999.0,     1.1537,-999.0000,-999.000,-999.000
31WTTUNES_3,       P16C,     226,          1,          3,          3,2,19910903,       0547,   -14.9990,  -150.8350,       4539,  4126.2,   1.4367,  34.6950,2,  34.6987,2,   -999.0,5,   182.9,2,  126.17,2,   33.90,2,    0.00,2,    2.32,2,-999.000,9,-999.000,9,  2270.3,2,  2390.5,2,-999.000,9,-999.0000,9, -999.00,9, -999.00,9,  -999.0,9,  -999.0,     1.1056,-999.0000,-999.000,-999.000
31WTTUNES_3,       P16C,     226,          1,          2,          2,2,19910903,       0547,   -14.9990,  -150.8350,       4539,  4385.9,   1.3871,  34.6985,2,  34.7038,3,   -999.0,5,   187.0,2,  125.82,2,   33.76,2,    0.00,2,    2.31,2,-999.000,9,-999.000,9,  2275.4,2,  -999.0,9,-999.000,9,-999.0000,9, -999.00,9, -999.00,9,  -999.0,9,  -999.0,     1.0286,-999.0000,-999.000,-999.000
31WTTUNES_3,       P16C,     226,          1,          1,          1,2,19910903,       0547,   -14.9990,  -150.8350,       4539,  4591.0,   1.3865,  34.6998,2,  34.7001,2,   -999.0,5,   188.6,2,  125.48,2,   33.64,2,    0.00,2,    2.31,2,   0.010,3,   0.714,4,  2275.9,2,  2385.5,2,-999.000,9,-999.0000,9, -999.00,9, -999.00,9,  -999.0,9,  -999.0,     1.0045,-999.0000,-999.000,-999.000