BOTTLE,20211117CCHSIORKP
EXPOCODE,SECT_ID,STNNBR,CASTNO,SAMPNO,BTLNBR,BTLNBR_FLAG_W,DATE,TIME,LATITUDE,LONGITUDE,DEPTH,CTDPRS,CTDTMP,CTDSAL,CTDSAL_FLAG_W,SALNTY,SALNTY_FLAG_W,CTDOXY,CTDOXY_FLAG_W,OXYGEN,OXYGEN_FLAG_W,SILCAT,SILCAT_FLAG_W,NITRAT,NITRAT_FLAG_W,NITRIT,NITRIT_FLAG_W,PHSPHT,PHSPHT_FLAG_W,CFC-11,CFC-11_FLAG_W,CFC-12,CFC-12_FLAG_W,TCARBN,TCARBN_FLAG_W,ALKALI,ALKALI_FLAG_W,TRITUM,TRITUM_FLAG_W,HELIUM,HELIUM_FLAG_W,DELHE3,DELHE3_FLAG_W,DELC13,DELC13_FLAG_W,DELC14,DELC14_FLAG_W,C14ERR,THETA,HELIER,DELHER,TRITER
,,,,,,,,,,,METERS,DBAR,ITS-90,PSS-78,,PSS-78,,UMOL/KG,,UMOL/KG,,UMOL/KG,,UMOL/KG,,UMOL/KG,,UMOL/KG,,PMOL/KG,,PMOL/KG,,UMOL/KG,,UMOL/KG,,TU,,NMOL/KG,,PERCNT,,/MILLE,,/MILLE,,/MILLE,ITS-90,NMOL/KG,PERCNT,TU
31WTTUNES_3,       P16C,     223,          1,         36,         36,2,19910901,       2148,   -16.5003,  -150.5017,       4093,     6.2,  27.0213,  36.1635,2,  36.1694,2,   -999.0,5,   213.5,2,    0.77,2,    1.25,2,    0.00,2,    0.20,2,-999.000,9,-999.000,9,  -999.0,9,  -999.0,9,-999.000,9,-999.0000,9, -999.00,9, -999.00,9,  -999.0,9,  -999.0,    27.0199,-999.0000,-999.000,-999.000
31WTTUNES_3,       P16C,     223,          1,         35,         35,2,19910901,       2148,   -16.5003,  -150.5017,       4093,    33.1,  26.9545,  36.1725,2,  36.1727,2,   -999.0,5,   209.2,2,    0.96,2,    0.21,2,    0.00,2,    0.20,2,-999.000,9,-999.000,9,  -999.0,9,  -999.0,9,-999.000,9,-999.0000,9, -999.00,9, -999.00,9,  -999.0,9,  -999.0,    26.9469,-999.0000,-999.000,-999.000
31WTTUNES_3,       P16C,     223,          1,         34,         34,2,19910901,       2148,   -16.5003,  -150.5017,       4093,    58.5,  26.8196,  36.1788,2,  36.1761,2,   -999.0,5,   213.1,2,    0.96,2,    0.26,2,    0.00,2,    0.19,2,-999.000,9,-999.000,9,  -999.0,9,  -999.0,9,-999.000,9,-999.0000,9, -999.00,9, -999.00,9,  -999.0,9,  -999.0,    26.8062,-999.0000,-999.000,-999.000
31WTTUNES_3,       P16C,     223,          1,         33,         33,2,19910901,       2148,   -16.5003,  -150.5017,       4093,    83.2,  26.7774,  36.1725,2,  36.1775,2,   -999.0,5,   226.0,2,    0.96,2,    0.26,2,    0.00,2,    0.20,2,-999.000,9,-999.000,9,  -999.0,9,  -999.0,9,-999.000,9,-999.0000,9, -999.00,9, -999.00,9,  -999.0,9,  -999.0,    26.7584,-999.0000,-999.000,-999.000
31WTTUNES_3,       P16C,     223,          1,         32,         32,2,19910901,       2148,   -16.5003,  -150.5017,       4093,   108.5,  26.1417,  36.1418,2,  36.1496,2,   -999.0,5,   206.8,2,    0.96,2,    0.26,2,    0.00,2,    0.21,2,-999.000,9,-999.000,9,  -999.0,9,  -999.0,9,-999.000,9,-999.0000,9, -999.00,9, -999.00,9,  -999.0,9,  -999.0,    26.1173,-999.0000,-999.000,-999.000
31WTTUNES_3,       P16C,     223,          1,         31,         31,2,19910901,       2148,   -16.5003,  -150.5017,       4093,   134.7,  24.7473,  36.1504,2,  36.1347,2,   -999.0,5,   193.1,2,    0.96,2,    0.73,2,    0.09,2,    0.27,2,-999.000,9,-999.000,9,  -999.0,9,  -999.0,9,-999.000,9,-999.0000,9, -999.00,9, -999.00,9,  -999.0,9,  -999.0,    24.7182,-999.0000,-999.000,-999.000
31WTTUNES_3,       P16C,     223,          1,         30,         30,2,19910901,       2148,   -16.5003,  -150.5017,       4093,   160.0,  23.6021,  36.0642,2,  36.0580,2,   -999.0,5,   186.7,2,    0.96,2,    1.71,2,    0.04,2,    0.32,2,-999.000,9,-999.000,9,  -999.0,9,  -999.0,9,-999.000,9,-999.0000,9, -999.00,9, -999.00,9,  -999.0,9,  -999.0,    23.5687,-999.0000,-999.000,-999.000
31WTTUNES_3,       P16C,     223,          1,         29,         29,2,19910901,       2148,   -16.5003,  -150.5017,       4093,   183.8,  22.6103,  36.0493,2,  36.0586,2,   -999.0,5,   179.5,2,    1.15,2,    2.69,2,    0.02,2,    0.38,2,-999.000,9,-999.000,9,  -999.0,9,  -999.0,9,-999.000,9,-999.0000,9, -999.00,9, -999.00,9,  -999.0,9,  -999.0,    22.5730,-999.0000,-999.000,-999.000
31WTTUNES_3,       P16C,     223,          1,         28,         28,2,19910901,       2148,   -16.5003,  -150.5017,       4093,   209.2,  21.7520,  35.9885,2,  36.0034,2,   -999.0,5,   177.6,2,    0.96,2,    3.69,2,    0.01,2,    0.45,2,-999.000,9,-999.000,9,  -999.0,9,  -999.0,9,-999.000,9,-999.0000,9, -999.00,9, -999.00,9,  -999.0,9,  -999.0,    21.7107,-999.0000,-999.000,-999.000
31WTTUNES_3,       P16C,     223,          1,         27,         27,2,19910901,       2148,   -16.5003,  -150.5017,       4093,   259.6,  19.8732,  35.7318,2,  35.7088,2,   -999.0,5,   176.1,2,    1.34,2,    5.21,2,    0.01,2,    0.54,2,-999.000,9,-999.000,9,  -999.0,9,  -999.0,9,-999.000,9,-999.0000,9, -999.00,9, -999.00,9,  -999.0,9,  -999.0,    19.8251,-999.0000,-999.000,-999.000
31WTTUNES_3,       P16C,     223,          1,         26,         26,2,19910901,       2148,   -16.5003,  -150.5017,       4093,   309.0,  16.7901,  35.3200,2,  35.3234,2,   -999.0,5,   168.1,2,    3.25,2,    8.82,2,    0.00,2,    0.79,2,-999.000,9,-999.000,9,  -999.0,9,  -999.0,9,-999.000,9,-999.0000,9, -999.00,9, -999.00,9,  -999.0,9,  -999.0,    16.7392,-999.0000,-999.000,-999.000
31WTTUNES_3,       P16C,     223,          1,         25,         25,2,19910901,       2148,   -16.5003,  -150.5017,       4093,   360.1,  13.3850,  34.9216,2,  34.9364,2,   -999.0,5,   159.2,2,    6.12,2,   14.38,2,    0.00,2,    1.16,2,-999.000,9,-999.000,9,  -999.0,9,  -999.0,9,-999.000,9,-999.0000,9, -999.00,9, -999.00,9,  -999.0,9,  -999.0,    13.3342,-999.0000,-999.000,-999.000
31WTTUNES_3,       P16C,     223,          1,         24,         24,2,19910901,       2148,   -16.5003,  -150.5017,       4093,   410.7,  11.3191,  34.6830,2,  34.7520,2,   -999.0,5,   147.5,2,    9.54,2,   18.99,2,    0.00,2,    1.47,2,-999.000,9,-999.000,9,  -999.0,9,  -999.0,9,-999.000,9,-999.0000,9, -999.00,9, -999.00,9,  -999.0,9,  -999.0,    11.2672,-999.0000,-999.000,-999.000
31WTTUNES_3,       P16C,     223,          1,         23,         23,2,19910901,       2148,   -16.5003,  -150.5017,       4093,   512.0,   7.8221,  34.4635,2,  34.4760,2,   -999.0,5,   143.6,2,   19.29,2,   28.14,2,    0.00,2,    2.01,2,-999.000,9,-999.000,9,  -999.0,9,  -999.0,9,-999.000,9,-999.0000,9, -999.00,9, -999.00,9,  -999.0,9,  -999.0,     7.7703,-999.0000,-999.000,-999.000
31WTTUNES_3,       P16C,     223,          1,         22,         22,2,19910901,       2148,   -16.5003,  -150.5017,       4093,   614.2,   6.3113,  34.4466,2,  34.4526,2,   -999.0,5,   144.6,2,   31.31,2,   31.91,2,    0.00,2,    2.22,2,-999.000,9,-999.000,9,  -999.0,9,  -999.0,9,-999.000,9,-999.0000,9, -999.00,9, -999.00,9,  -999.0,9,  -999.0,     6.2557,-999.0000,-999.000,-999.000
31WTTUNES_3,       P16C,     223,          1,         21,         21,2,19910901,       2148,   -16.5003,  -150.5017,       4093,   716.3,   5.6452,  34.4535,2,  34.4540,2,   -999.0,5,   146.3,2,   39.87,2,   33.14,2,    0.00,2,    2.29,2,-999.000,9,-999.000,9,  -999.0,9,  -999.0,9,-999.000,9,-999.0000,9, -999.00,9, -999.00,9,  -999.0,9,  -999.0,     5.5836,-999.0000,-999.000,-999.000
31WTTUNES_3,       P16C,     223,          1,         20,         20,2,19910901,       2148,   -16.5003,  -150.5017,       4093,   818.1,   4.9401,  34.4609,2,  34.4608,2,   -999.0,5,   147.4,2,   49.20,2,   34.30,2,    0.00,2,    2.35,2,-999.000,9,-999.000,9,  -999.0,9,  -999.0,9,-999.000,9,-999.0000,9, -999.00,9, -999.00,9,  -999.0,9,  -999.0,     4.8734,-999.0000,-999.000,-999.000
31WTTUNES_3,       P16C,     223,          1,         19,         19,2,19910901,       2148,   -16.5003,  -150.5017,       4093,   920.3,   4.3839,  34.4771,2,  34.4767,2,   -999.0,5,   146.5,2,   58.54,2,   35.08,2,    0.00,2,    2.41,2,-999.000,9,-999.000,9,  -999.0,9,  -999.0,9,-999.000,9,-999.0000,9, -999.00,9, -999.00,9,  -999.0,9,  -999.0,     4.3122,-999.0000,-999.000,-999.000
31WTTUNES_3,       P16C,     223,          1,         18,         18,2,19910901,       2148,   -16.5003,  -150.5017,       4093,  1023.0,   3.9405,  34.4979,2,  34.4954,2,   -999.0,5,   146.3,2,   67.66,2,   35.61,2,    0.00,2,    2.44,2,-999.000,9,-999.000,9,  -999.0,9,  -999.0,9,-999.000,9,-999.0000,9, -999.00,9, -999.00,9,  -999.0,9,  -999.0,     3.8633,-999.0000,-999.000,-999.000
31WTTUNES_3,       P16C,     223,          1,         17,         17,2,19910901,       2148,   -16.5003,  -150.5017,       4093,  1229.3,   3.2530,  34.5390,2,  34.5411,2,   -999.0,5,   145.8,2,   85.15,2,   36.33,2,    0.00,2,    2.49,2,-999.000,9,-999.000,9,  -999.0,9,  -999.0,9,-999.000,9,-999.0000,9, -999.00,9, -999.00,9,  -999.0,9,  -999.0,     3.1649,-999.0000,-999.000,-999.000
31WTTUNES_3,       P16C,     223,          1,         16,         16,2,19910901,       2148,   -16.5003,  -150.5017,       4093,  1435.2,   2.8546,  34.5690,2,  34.5755,2,   -999.0,5,   146.7,2,   97.12,2,   36.47,2,    0.00,2,    2.50,2,-999.000,9,-999.000,9,  -999.0,9,  -999.0,9,-999.000,9,   1.8990,2,   23.32,2, -999.00,9,  -999.0,9,  -999.0,     2.7537,-999.0000,-999.000,-999.000
31WTTUNES_3,       P16C,     223,          1,         15,         15,2,19910901,       2148,   -16.5003,  -150.5017,       4093,  1537.0,   2.7217,  34.5841,2,  34.5916,2,   -999.0,5,   147.4,2,  102.42,2,   36.50,2,    0.00,2,    2.50,2,-999.000,9,-999.000,9,  -999.0,9,  -999.0,9,-999.000,9,-999.0000,5,   24.33,3, -999.00,9,  -999.0,9,  -999.0,     2.6141,-999.0000,-999.000,-999.000
31WTTUNES_3,       P16C,     223,          1,         14,         14,2,19910901,       2148,   -16.5003,  -150.5017,       4093,  1845.7,   2.2972,  34.6178,2,  34.6207,2,   -999.0,5,   150.0,2,  112.27,2,   36.49,2,    0.00,2,    2.49,2,-999.000,9,-999.000,9,  -999.0,9,  -999.0,9,-999.000,9,   1.9200,2,   26.66,2, -999.00,9,  -999.0,9,  -999.0,     2.1694,-999.0000,-999.000,-999.000
31WTTUNES_3,       P16C,     223,          1,         13,         13,2,19910901,       2148,   -16.5003,  -150.5017,       4093,  2051.8,   2.1049,  34.6352,2,  34.6370,2,   -999.0,5,   152.5,2,  116.99,2,   36.38,2,    0.00,2,    2.48,2,-999.000,9,-999.000,9,  -999.0,9,  -999.0,9,-999.000,9,   1.9430,3,   25.69,2, -999.00,9,  -999.0,9,  -999.0,     1.9624,-999.0000,-999.000,-999.000
31WTTUNES_3,       P16C,     223,          1,         12,         12,2,19910901,       2148,   -16.5003,  -150.5017,       4093,  2204.1,   2.0091,  34.6440,2,  34.6478,2,   -999.0,5,   154.7,2,  119.41,2,   36.17,2,    0.00,2,    2.47,2,-999.000,9,-999.000,9,  -999.0,9,  -999.0,9,-999.000,9,   1.9470,3,   26.31,2, -999.00,9,  -999.0,9,  -999.0,     1.8551,-999.0000,-999.000,-999.000
31WTTUNES_3,       P16C,     223,          1,         11,         11,2,19910901,       2148,   -16.5003,  -150.5017,       4093,  2359.4,   1.9221,  34.6518,2,  34.6545,2,   -999.0,5,   155.0,2,  122.22,2,   36.06,2,    0.00,2,    2.47,3,-999.000,9,-999.000,9,  -999.0,9,  -999.0,9,-999.000,9,   1.9540,3,   26.36,2, -999.00,9,  -999.0,9,  -999.0,     1.7559,-999.0000,-999.000,-999.000
31WTTUNES_3,       P16C,     223,          1,         10,         10,2,19910901,       2148,   -16.5003,  -150.5017,       4093,  2514.6,   1.8559,  34.6579,2,  34.6612,2,   -999.0,5,   157.5,2,  122.93,2,   36.05,2,    0.00,2,    2.47,3,-999.000,9,-999.000,9,  -999.0,9,  -999.0,9,-999.000,9,   1.9350,3,   25.40,2, -999.00,9,  -999.0,9,  -999.0,     1.6770,-999.0000,-999.000,-999.000
31WTTUNES_3,       P16C,     223,          1,          9,          9,2,19910901,       2148,   -16.5003,  -150.5017,       4093,  2618.5,   1.7975,  34.6619,2,  34.6663,2,   -999.0,5,   160.0,2,  123.46,2,   35.85,2,    0.00,2,    2.45,2,-999.000,9,-999.000,9,  -999.0,9,  -999.0,9,-999.000,9,   1.9340,3,   24.78,2, -999.00,9,  -999.0,9,  -999.0,     1.6101,-999.0000,-999.000,-999.000
31WTTUNES_3,       P16C,     223,          1,          8,          8,2,19910901,       2148,   -16.5003,  -150.5017,       4093,  2772.8,   1.7391,  34.6675,2,  34.6696,2,   -999.0,5,   161.3,2,  124.55,2,   35.78,2,    0.00,2,    2.44,2,-999.000,9,-999.000,9,  -999.0,9,  -999.0,9,-999.000,9,   1.9360,3,   24.25,2, -999.00,9,  -999.0,9,  -999.0,     1.5386,-999.0000,-999.000,-999.000
31WTTUNES_3,       P16C,     223,          1,          7,          7,2,19910901,       2148,   -16.5003,  -150.5017,       4093,  2928.0,   1.6690,  34.6735,2,  34.6749,2,   -999.0,5,   164.6,2,  125.08,2,   35.62,2,    0.00,2,    2.42,2,-999.000,9,-999.000,9,  -999.0,9,  -999.0,9,-999.000,9,   1.8750,3,   23.77,2, -999.00,9,  -999.0,9,  -999.0,     1.4554,-999.0000,-999.000,-999.000
31WTTUNES_3,       P16C,     223,          1,          6,          6,2,19910901,       2148,   -16.5003,  -150.5017,       4093,  3082.0,   1.6317,  34.6768,2,  34.6800,2,   -999.0,5,   179.0,4,  125.03,2,   35.42,2,    0.00,2,    2.41,2,-999.000,9,-999.000,9,  -999.0,9,  -999.0,9,-999.000,9,-999.0000,5,   21.64,3, -999.00,9,  -999.0,9,  -999.0,     1.4042,-999.0000,-999.000,-999.000
31WTTUNES_3,       P16C,     223,          1,          5,          5,2,19910901,       2148,   -16.5003,  -150.5017,       4093,  3341.8,   1.5335,  34.6848,2,  34.6863,2,   -999.0,5,   181.3,4,  124.61,2,   35.11,2,    0.00,2,    2.39,2,-999.000,9,-999.000,9,  -999.0,9,  -999.0,9,-999.000,9,   1.9270,3,   21.30,2, -999.00,9,  -999.0,9,  -999.0,     1.2826,-999.0000,-999.000,-999.000
31WTTUNES_3,       P16C,     223,          1,          4,          4,2,19910901,       2148,   -16.5003,  -150.5017,       4093,  3599.5,   1.4913,  34.6888,2,  34.6983,3,   -999.0,5,   201.1,4,  123.99,2,   34.76,2,    0.00,2,    2.37,2,-999.000,9,-999.000,9,  -999.0,9,  -999.0,9,-999.000,9,   1.9210,2,   19.43,2, -999.00,9,  -999.0,9,  -999.0,     1.2151,-999.0000,-999.000,-999.000
31WTTUNES_3,       P16C,     223,          1,          3,          3,2,19910901,       2148,   -16.5003,  -150.5017,       4093,  3859.7,   1.4729,  34.6918,2,  34.6961,2,   -999.0,5,   179.6,2,  123.56,2,   34.51,2,    0.00,2,    2.35,2,-999.000,9,-999.000,9,  -999.0,9,  -999.0,9,-999.000,9,   1.8850,2,   19.47,2, -999.00,9,  -999.0,9,  -999.0,     1.1699,-999.0000,-999.000,-999.000
31WTTUNES_3,       P16C,     223,          1,          2,          2,2,19910901,       2148,   -16.5003,  -150.5017,       4093,  4120.3,   1.4758,-999.0000,5,  34.6961,2,   -999.0,5,   180.7,2,  122.96,2,   34.34,2,    0.00,2,    2.33,2,-999.000,9,-999.000,9,  -999.0,9,  -999.0,9,-999.000,9,   1.9030,2,   17.68,2, -999.00,9,  -999.0,9,  -999.0,     1.1444,-999.0000,-999.000,-999.000
31WTTUNES_3,       P16C,     223,          1,          1,          1,2,19910901,       2148,   -16.5003,  -150.5017,       4093,  4130.3,   1.4758,-999.0000,5,  34.6926,2,   -999.0,5,   180.9,2,  122.91,2,   34.28,2,    0.00,2,    2.35,3,-999.000,9,-999.000,9,  -999.0,9,  -999.0,9,-999.000,9,-999.0000,9, -999.00,9, -999.00,9,  -999.0,9,  -999.0,     1.1447,-999.0000,-999.000,-999.000