BOTTLE,20211117CCHSIORKP
EXPOCODE,SECT_ID,STNNBR,CASTNO,SAMPNO,BTLNBR,BTLNBR_FLAG_W,DATE,TIME,LATITUDE,LONGITUDE,DEPTH,CTDPRS,CTDTMP,CTDSAL,CTDSAL_FLAG_W,SALNTY,SALNTY_FLAG_W,CTDOXY,CTDOXY_FLAG_W,OXYGEN,OXYGEN_FLAG_W,SILCAT,SILCAT_FLAG_W,NITRAT,NITRAT_FLAG_W,NITRIT,NITRIT_FLAG_W,PHSPHT,PHSPHT_FLAG_W,CFC-11,CFC-11_FLAG_W,CFC-12,CFC-12_FLAG_W,TCARBN,TCARBN_FLAG_W,ALKALI,ALKALI_FLAG_W,TRITUM,TRITUM_FLAG_W,HELIUM,HELIUM_FLAG_W,DELHE3,DELHE3_FLAG_W,DELC13,DELC13_FLAG_W,DELC14,DELC14_FLAG_W,C14ERR,THETA,HELIER,DELHER,TRITER
,,,,,,,,,,,METERS,DBAR,ITS-90,PSS-78,,PSS-78,,UMOL/KG,,UMOL/KG,,UMOL/KG,,UMOL/KG,,UMOL/KG,,UMOL/KG,,PMOL/KG,,PMOL/KG,,UMOL/KG,,UMOL/KG,,TU,,NMOL/KG,,PERCNT,,/MILLE,,/MILLE,,/MILLE,ITS-90,NMOL/KG,PERCNT,TU
31WTTUNES_3,       P16C,     249,          2,         36,         36,2,19910910,       2152,    -3.4917,  -151.0177,       4725,     5.0,  27.7487,  35.4498,2,  35.4466,2,    215.3,3,   206.7,2,    1.61,2,    4.18,2,    0.15,2,    0.55,2,-999.000,9,-999.000,9,  -999.0,9,  -999.0,9,-999.000,9,-999.0000,9, -999.00,9, -999.00,9,  -999.0,9,  -999.0,    27.7475,-999.0000,-999.000,-999.000
31WTTUNES_3,       P16C,     249,          2,         35,         35,2,19910910,       2152,    -3.4917,  -151.0177,       4725,    59.8,  27.6737,  35.4484,2,  35.4417,2,    209.6,2,   206.0,2,    1.79,2,    4.14,2,    0.17,2,    0.55,2,-999.000,9,-999.000,9,  -999.0,9,  -999.0,9,-999.000,9,-999.0000,9, -999.00,9, -999.00,9,  -999.0,9,  -999.0,    27.6598,-999.0000,-999.000,-999.000
31WTTUNES_3,       P16C,     249,          2,         34,         34,2,19910910,       2152,    -3.4917,  -151.0177,       4725,   109.8,  27.5726,  35.5341,2,  35.4967,2,    203.4,2,   200.5,2,    1.96,2,    4.07,2,    0.36,2,    0.60,2,-999.000,9,-999.000,9,  -999.0,9,  -999.0,9,-999.000,9,-999.0000,9, -999.00,9, -999.00,9,  -999.0,9,  -999.0,    27.5470,-999.0000,-999.000,-999.000
31WTTUNES_3,       P16C,     249,          2,         33,         33,2,19910910,       2152,    -3.4917,  -151.0177,       4725,   128.9,  27.3766,  35.5067,2,  35.6678,2,    201.4,2,   196.0,2,    1.94,2,    3.42,2,    1.02,2,    0.70,2,-999.000,9,-999.000,9,  -999.0,9,  -999.0,9,-999.000,9,-999.0000,9, -999.00,9, -999.00,9,  -999.0,9,  -999.0,    27.3467,-999.0000,-999.000,-999.000
31WTTUNES_3,       P16C,     249,          2,         32,         32,2,19910910,       2152,    -3.4917,  -151.0177,       4725,   150.0,  24.0390,  36.0816,2,  36.0242,2,    173.2,2,   160.0,2,    1.53,2,    6.41,2,    0.06,2,    0.72,2,-999.000,9,-999.000,9,  -999.0,9,  -999.0,9,-999.000,9,-999.0000,9, -999.00,9, -999.00,9,  -999.0,9,  -999.0,    24.0072,-999.0000,-999.000,-999.000
31WTTUNES_3,       P16C,     249,          2,         31,         31,2,19910910,       2152,    -3.4917,  -151.0177,       4725,   169.6,  17.8811,  35.3430,2,  35.1142,2,    120.8,2,    49.2,2,   14.94,2,   25.38,2,    0.01,2,    1.91,2,-999.000,9,-999.000,9,  -999.0,9,  -999.0,9,-999.000,9,-999.0000,9, -999.00,9, -999.00,9,  -999.0,9,  -999.0,    17.8520,-999.0000,-999.000,-999.000
31WTTUNES_3,       P16C,     249,          2,         30,         30,2,19910910,       2152,    -3.4917,  -151.0177,       4725,   189.1,  13.3947,  34.9810,2,  34.9585,2,     23.4,2,    19.9,2,   20.47,2,   30.63,2,    0.01,2,    2.22,2,-999.000,9,-999.000,9,  -999.0,9,  -999.0,9,-999.000,9,-999.0000,9, -999.00,9, -999.00,9,  -999.0,9,  -999.0,    13.3681,-999.0000,-999.000,-999.000
31WTTUNES_3,       P16C,     249,          2,         29,         29,2,19910910,       2152,    -3.4917,  -151.0177,       4725,   208.7,  12.8513,  34.9271,2,  34.9193,2,     16.4,2,    18.8,2,   22.22,2,   31.15,2,    0.00,2,    2.26,2,-999.000,9,-999.000,9,  -999.0,9,  -999.0,9,-999.000,9,-999.0000,9, -999.00,9, -999.00,9,  -999.0,9,  -999.0,    12.8228,-999.0000,-999.000,-999.000
31WTTUNES_3,       P16C,     249,          2,         28,         28,2,19910910,       2152,    -3.4917,  -151.0177,       4725,   257.0,  11.9870,  34.8622,2,  34.8595,2,     54.4,2,    62.6,2,   22.40,2,   28.25,2,    0.00,2,    2.02,2,-999.000,9,-999.000,9,  -999.0,9,  -999.0,9,-999.000,9,-999.0000,9, -999.00,9, -999.00,9,  -999.0,9,  -999.0,    11.9535,-999.0000,-999.000,-999.000
31WTTUNES_3,       P16C,     249,          2,         27,         27,2,19910910,       2152,    -3.4917,  -151.0177,       4725,   310.1,  11.6593,  34.8327,2,  34.8330,2,     55.5,2,    66.4,2,   23.18,2,   28.43,2,    0.00,2,    2.02,2,-999.000,9,-999.000,9,  -999.0,9,  -999.0,9,-999.000,9,-999.0000,9, -999.00,9, -999.00,9,  -999.0,9,  -999.0,    11.6194,-999.0000,-999.000,-999.000
31WTTUNES_3,       P16C,     249,          2,         26,         26,2,19910910,       2152,    -3.4917,  -151.0177,       4725,   360.0,  11.1190,  34.8043,2,  34.7929,2,     65.5,2,    77.3,2,   23.36,2,   28.58,2,    0.00,2,    2.03,2,-999.000,9,-999.000,9,  -999.0,9,  -999.0,9,-999.000,9,-999.0000,9, -999.00,9, -999.00,9,  -999.0,9,  -999.0,    11.0740,-999.0000,-999.000,-999.000
31WTTUNES_3,       P16C,     249,          2,         25,         25,2,19910910,       2152,    -3.4917,  -151.0177,       4725,   408.3,  10.0475,  34.7434,2,  34.7321,2,     73.6,2,    56.6,2,   28.49,2,   32.57,2,    0.00,2,    2.33,2,-999.000,9,-999.000,9,  -999.0,9,  -999.0,9,-999.000,9,-999.0000,9, -999.00,9, -999.00,9,  -999.0,9,  -999.0,     9.9996,-999.0000,-999.000,-999.000
31WTTUNES_3,       P16C,     249,          2,         24,         24,2,19910910,       2152,    -3.4917,  -151.0177,       4725,   455.3,   9.0219,  34.6887,2,  34.6716,2,     16.5,2,    22.2,2,   38.16,2,   38.27,2,    0.00,2,    2.73,2,-999.000,9,-999.000,9,  -999.0,9,  -999.0,9,-999.000,9,-999.0000,9, -999.00,9, -999.00,9,  -999.0,9,  -999.0,     8.9718,-999.0000,-999.000,-999.000
31WTTUNES_3,       P16C,     249,          2,         23,         23,2,19910910,       2152,    -3.4917,  -151.0177,       4725,   503.8,   8.1960,  34.6393,2,  34.6262,2,     28.0,2,    37.4,2,   42.12,2,   39.12,2,    0.00,2,    2.76,2,-999.000,9,-999.000,9,  -999.0,9,  -999.0,9,-999.000,9,-999.0000,9, -999.00,9, -999.00,9,  -999.0,9,  -999.0,     8.1435,-999.0000,-999.000,-999.000
31WTTUNES_3,       P16C,     249,          2,         22,         22,2,19910910,       2152,    -3.4917,  -151.0177,       4725,   598.4,   7.1766,  34.5923,2,  34.5910,2,     47.0,2,    49.3,2,   47.05,2,   39.41,2,    0.00,2,    2.79,2,-999.000,9,-999.000,9,  -999.0,9,  -999.0,9,-999.000,9,-999.0000,9, -999.00,9, -999.00,9,  -999.0,9,  -999.0,     7.1185,-999.0000,-999.000,-999.000
31WTTUNES_3,       P16C,     249,          2,         21,         21,2,19910910,       2152,    -3.4917,  -151.0177,       4725,   695.3,   6.6244,  34.5718,2,  34.5763,2,     55.1,2,    54.4,2,   50.60,2,   39.74,2,    0.00,2,    2.80,2,-999.000,9,-999.000,9,  -999.0,9,  -999.0,9,-999.000,9,-999.0000,9, -999.00,9, -999.00,9,  -999.0,9,  -999.0,     6.5594,-999.0000,-999.000,-999.000
31WTTUNES_3,       P16C,     249,          2,         20,         20,2,19910910,       2152,    -3.4917,  -151.0177,       4725,   792.2,   5.8596,  34.5579,2,  34.5592,2,     60.7,2,    62.6,2,   65.04,2,   40.49,2,    0.00,2,    2.88,2,-999.000,9,-999.000,9,  -999.0,9,  -999.0,9,-999.000,9,-999.0000,9, -999.00,9, -999.00,9,  -999.0,9,  -999.0,     5.7895,-999.0000,-999.000,-999.000
31WTTUNES_3,       P16C,     249,          2,         19,         19,2,19910910,       2152,    -3.4917,  -151.0177,       4725,   889.2,   5.2951,  34.5481,2,  34.5447,2,     76.1,2,    78.3,2,   69.39,2,   39.23,2,    0.00,2,    2.82,2,-999.000,9,-999.000,9,  -999.0,9,  -999.0,9,-999.000,9,-999.0000,9, -999.00,9, -999.00,9,  -999.0,9,  -999.0,     5.2197,-999.0000,-999.000,-999.000
31WTTUNES_3,       P16C,     249,          2,         18,         18,2,19910910,       2152,    -3.4917,  -151.0177,       4725,   986.9,   4.7536,  34.5470,2,  34.5461,2,     90.0,2,    89.1,2,   78.50,2,   39.01,2,    0.00,2,    2.79,2,-999.000,9,-999.000,9,  -999.0,9,  -999.0,9,-999.000,9,-999.0000,9, -999.00,9, -999.00,9,  -999.0,9,  -999.0,     4.6732,-999.0000,-999.000,-999.000
31WTTUNES_3,       P16C,     249,          2,         17,         17,2,19910910,       2152,    -3.4917,  -151.0177,       4725,  1186.0,   3.9327,  34.5692,2,  34.5665,2,     91.5,2,    90.3,2,   95.93,2,   39.29,2,    0.00,2,    2.84,2,-999.000,9,-999.000,9,  -999.0,9,  -999.0,9,-999.000,9,-999.0000,9, -999.00,9, -999.00,9,  -999.0,9,  -999.0,     3.8418,-999.0000,-999.000,-999.000
31WTTUNES_3,       P16C,     249,          2,         16,         16,2,19910910,       2152,    -3.4917,  -151.0177,       4725,  1392.6,   3.3671,  34.5868,2,  34.5846,2,     98.8,2,    97.3,2,  107.81,2,   39.01,2,    0.00,2,    2.81,2,-999.000,9,-999.000,9,  -999.0,9,  -999.0,9,-999.000,9,-999.0000,9, -999.00,9, -999.00,9,  -999.0,9,  -999.0,     3.2642,-999.0000,-999.000,-999.000
31WTTUNES_3,       P16C,     249,          2,         15,         15,2,19910910,       2152,    -3.4917,  -151.0177,       4725,  1602.1,   2.7799,  34.6132,2,  34.6091,2,    105.8,2,   103.4,2,  120.29,2,   38.88,2,    0.00,2,    2.79,2,-999.000,9,-999.000,9,  -999.0,9,  -999.0,9,-999.000,9,-999.0000,9, -999.00,9, -999.00,9,  -999.0,9,  -999.0,     2.6662,-999.0000,-999.000,-999.000
31WTTUNES_3,       P16C,     249,          2,         14,         14,2,19910910,       2152,    -3.4917,  -151.0177,       4725,  1808.7,   2.3870,  34.6338,2,  34.6360,2,    112.5,2,   109.0,2,  132.19,2,   38.56,2,    0.00,2,    2.75,2,-999.000,9,-999.000,9,  -999.0,9,  -999.0,9,-999.000,9,-999.0000,9, -999.00,9, -999.00,9,  -999.0,9,  -999.0,     2.2611,-999.0000,-999.000,-999.000
31WTTUNES_3,       P16C,     249,          2,         13,         13,2,19910910,       2152,    -3.4917,  -151.0177,       4725,  2019.4,   2.2082,  34.6446,2,  34.6441,2,    113.5,2,   110.1,2,  139.52,2,   38.48,2,    0.00,2,    2.74,2,-999.000,9,-999.000,9,  -999.0,9,  -999.0,9,-999.000,9,-999.0000,9, -999.00,9, -999.00,9,  -999.0,9,  -999.0,     2.0669,-999.0000,-999.000,-999.000
31WTTUNES_3,       P16C,     249,          2,         12,         12,2,19910910,       2152,    -3.4917,  -151.0177,       4725,  2228.1,   2.0500,  34.6532,2,  34.6533,2,    121.2,2,   120.8,2,  140.32,2,   37.84,2,    0.00,2,    2.68,2,-999.000,9,-999.000,9,  -999.0,9,  -999.0,9,-999.000,9,-999.0000,9, -999.00,9, -999.00,9,  -999.0,9,  -999.0,     1.8931,-999.0000,-999.000,-999.000
31WTTUNES_3,       P16C,     249,          2,         11,         11,2,19910910,       2152,    -3.4917,  -151.0177,       4725,  2428.6,   1.9216,  34.6598,2,  34.6604,2,    130.3,2,   129.4,2,  140.32,2,   37.21,2,    0.00,2,    2.62,2,-999.000,9,-999.000,9,  -999.0,9,  -999.0,9,-999.000,9,-999.0000,9, -999.00,9, -999.00,9,  -999.0,9,  -999.0,     1.7493,-999.0000,-999.000,-999.000
31WTTUNES_3,       P16C,     249,          2,         10,         10,2,19910910,       2152,    -3.4917,  -151.0177,       4725,  2630.9,   1.8333,  34.6658,2,-999.0000,9,    136.0,2,   135.0,2,  141.33,2,   36.92,2,    0.00,2,    2.59,2,-999.000,9,-999.000,9,  -999.0,9,  -999.0,9,-999.000,9,-999.0000,9, -999.00,9, -999.00,9,  -999.0,9,  -999.0,     1.6441,-999.0000,-999.000,-999.000
31WTTUNES_3,       P16C,     249,          2,          9,          9,2,19910910,       2152,    -3.4917,  -151.0177,       4725,  2837.7,   1.7311,  34.6712,2,-999.0000,9,    139.9,2,   139.3,2,  142.92,2,   36.75,2,    0.00,2,    2.57,2,-999.000,9,-999.000,9,  -999.0,9,  -999.0,9,-999.000,9,-999.0000,9, -999.00,9, -999.00,9,  -999.0,9,  -999.0,     1.5247,-999.0000,-999.000,-999.000
31WTTUNES_3,       P16C,     249,          2,          8,          8,2,19910910,       2152,    -3.4917,  -151.0177,       4725,  3041.9,   1.6634,  34.6758,2,  34.6765,2,    145.8,2,   146.5,2,  141.73,2,   36.27,2,    0.00,2,    2.53,2,-999.000,9,-999.000,9,  -999.0,9,  -999.0,9,-999.000,9,-999.0000,9, -999.00,9, -999.00,9,  -999.0,9,  -999.0,     1.4390,-999.0000,-999.000,-999.000
31WTTUNES_3,       P16C,     249,          2,          7,          7,2,19910910,       2152,    -3.4917,  -151.0177,       4725,  3302.6,   1.5878,  34.6799,2,  34.6791,2,    151.1,2,   151.0,2,  141.93,2,   35.90,2,    0.00,2,    2.50,2,-999.000,9,-999.000,9,  -999.0,9,  -999.0,9,-999.000,9,-999.0000,9, -999.00,9, -999.00,9,  -999.0,9,  -999.0,     1.3395,-999.0000,-999.000,-999.000
31WTTUNES_3,       P16C,     249,          2,          6,          6,2,19910910,       2152,    -3.4917,  -151.0177,       4725,  3562.7,   1.5240,  34.6846,2,  34.6863,2,    156.9,2,   156.7,2,  141.94,2,   35.56,2,    0.00,2,    2.47,2,-999.000,9,-999.000,9,  -999.0,9,  -999.0,9,-999.000,9,-999.0000,9, -999.00,9, -999.00,9,  -999.0,9,  -999.0,     1.2509,-999.0000,-999.000,-999.000
31WTTUNES_3,       P16C,     249,          2,          5,          5,2,19910910,       2152,    -3.4917,  -151.0177,       4725,  3826.1,   1.4745,  34.6883,2,  34.6905,2,    162.3,2,   161.8,2,  141.36,2,   35.29,2,    0.00,2,    2.45,2,-999.000,9,-999.000,9,  -999.0,9,  -999.0,9,-999.000,9,-999.0000,9, -999.00,9, -999.00,9,  -999.0,9,  -999.0,     1.1751,-999.0000,-999.000,-999.000
31WTTUNES_3,       P16C,     249,          2,          4,          4,2,19910910,       2152,    -3.4917,  -151.0177,       4725,  4035.7,   1.4048,  34.6933,2,  34.6940,2,    170.8,2,   171.0,2,  136.98,2,   34.46,2,    0.00,2,    2.40,2,-999.000,9,-999.000,9,  -999.0,9,  -999.0,9,-999.000,9,-999.0000,9, -999.00,9, -999.00,9,  -999.0,9,  -999.0,     1.0846,-999.0000,-999.000,-999.000
31WTTUNES_3,       P16C,     249,          2,          3,          3,2,19910910,       2152,    -3.4917,  -151.0177,       4725,  4246.4,   1.3334,  34.6975,2,  34.6981,2,    181.8,2,   180.8,2,  131.64,2,   33.87,2,    0.01,2,    2.34,2,-999.000,9,-999.000,9,  -999.0,9,  -999.0,9,-999.000,9,-999.0000,9, -999.00,9, -999.00,9,  -999.0,9,  -999.0,     0.9921,-999.0000,-999.000,-999.000
31WTTUNES_3,       P16C,     249,          2,          2,          2,2,19910910,       2152,    -3.4917,  -151.0177,       4725,  4507.4,   1.3225,  34.6994,2,  34.7013,2,    186.8,2,   184.7,2,  129.65,2,   33.45,2,    0.00,2,    2.32,2,-999.000,9,-999.000,9,  -999.0,9,  -999.0,9,-999.000,9,-999.0000,9, -999.00,9, -999.00,9,  -999.0,9,  -999.0,     0.9521,-999.0000,-999.000,-999.000
31WTTUNES_3,       P16C,     249,          2,          1,          1,2,19910910,       2152,    -3.4917,  -151.0177,       4725,  4779.0,   1.3494,  34.6991,2,  34.7048,3,    186.4,2,   185.6,2,  130.45,3,   33.56,3,    0.00,2,    2.32,2,-999.000,9,-999.000,9,  -999.0,9,  -999.0,9,-999.000,9,-999.0000,9, -999.00,9, -999.00,9,  -999.0,9,  -999.0,     0.9466,-999.0000,-999.000,-999.000