BOTTLE,20211117CCHSIORKP
EXPOCODE,SECT_ID,STNNBR,CASTNO,SAMPNO,BTLNBR,BTLNBR_FLAG_W,DATE,TIME,LATITUDE,LONGITUDE,DEPTH,CTDPRS,CTDTMP,CTDSAL,CTDSAL_FLAG_W,SALNTY,SALNTY_FLAG_W,CTDOXY,CTDOXY_FLAG_W,OXYGEN,OXYGEN_FLAG_W,SILCAT,SILCAT_FLAG_W,NITRAT,NITRAT_FLAG_W,NITRIT,NITRIT_FLAG_W,PHSPHT,PHSPHT_FLAG_W,CFC-11,CFC-11_FLAG_W,CFC-12,CFC-12_FLAG_W,TCARBN,TCARBN_FLAG_W,ALKALI,ALKALI_FLAG_W,TRITUM,TRITUM_FLAG_W,HELIUM,HELIUM_FLAG_W,DELHE3,DELHE3_FLAG_W,DELC13,DELC13_FLAG_W,DELC14,DELC14_FLAG_W,C14ERR,THETA,HELIER,DELHER,TRITER
,,,,,,,,,,,METERS,DBAR,ITS-90,PSS-78,,PSS-78,,UMOL/KG,,UMOL/KG,,UMOL/KG,,UMOL/KG,,UMOL/KG,,UMOL/KG,,PMOL/KG,,PMOL/KG,,UMOL/KG,,UMOL/KG,,TU,,NMOL/KG,,PERCNT,,/MILLE,,/MILLE,,/MILLE,ITS-90,NMOL/KG,PERCNT,TU
31WTTUNES_3,       P16C,     228,          1,         36,         36,2,19910903,       1843,   -14.0067,  -150.9978,       4314,     3.7,  27.7857,  36.3823,2,  36.3756,2,    210.6,3,   210.1,2,    1.28,2,    0.11,2,    0.00,2,    0.23,2,   1.622,6,   0.881,6,  -999.0,9,  -999.0,9,-999.000,9,-999.0000,9, -999.00,9, -999.00,9,  -999.0,9,  -999.0,    27.7848,-999.0000,-999.000,-999.000
31WTTUNES_3,       P16C,     228,          1,         35,         35,2,19910903,       1843,   -14.0067,  -150.9978,       4314,    46.8,  27.7920,  36.3828,2,  36.3796,2,    207.5,2,   209.9,2,    1.28,2,    0.06,2,    0.00,2,    0.22,2,   1.598,2,   0.875,2,  -999.0,9,  -999.0,9,-999.000,9,-999.0000,9, -999.00,9, -999.00,9,  -999.0,9,  -999.0,    27.7810,-999.0000,-999.000,-999.000
31WTTUNES_3,       P16C,     228,          1,         34,         34,2,19910903,       1843,   -14.0067,  -150.9978,       4314,    87.0,  27.5425,  36.3974,2,  36.3825,2,    206.8,2,   204.1,2,    1.27,2,    0.11,2,    0.00,2,    0.22,2,   1.615,2,   0.872,2,  -999.0,9,  -999.0,9,-999.000,9,-999.0000,9, -999.00,9, -999.00,9,  -999.0,9,  -999.0,    27.5222,-999.0000,-999.000,-999.000
31WTTUNES_3,       P16C,     228,          1,         33,         33,2,19910903,       1843,   -14.0067,  -150.9978,       4314,   127.4,  25.6812,  36.3480,2,  36.3503,2,    188.7,2,   198.4,2,    1.47,2,   -0.02,2,    0.40,2,    0.30,2,   1.674,2,   0.885,2,  -999.0,9,  -999.0,9,-999.000,9,-999.0000,9, -999.00,9, -999.00,9,  -999.0,9,  -999.0,    25.6529,-999.0000,-999.000,-999.000
31WTTUNES_3,       P16C,     228,          1,         32,         32,2,19910903,       1843,   -14.0067,  -150.9978,       4314,   167.5,  23.4901,  36.3296,2,  36.3416,2,    178.1,2,   174.3,2,    1.27,2,    3.01,2,    0.15,2,    0.46,2,   1.754,2,   0.946,2,  -999.0,9,  -999.0,9,-999.000,9,-999.0000,9, -999.00,9, -999.00,9,  -999.0,9,  -999.0,    23.4552,-999.0000,-999.000,-999.000
31WTTUNES_3,       P16C,     228,          1,         31,         31,2,19910903,       1843,   -14.0067,  -150.9978,       4314,   207.4,  21.4275,  36.0561,2,  36.0412,2,    173.8,2,   174.6,2,    1.46,2,    4.12,2,    0.02,2,    0.52,2,   1.770,2,   0.951,2,  -999.0,9,  -999.0,9,-999.000,9,-999.0000,9, -999.00,9, -999.00,9,  -999.0,9,  -999.0,    21.3869,-999.0000,-999.000,-999.000
31WTTUNES_3,       P16C,     228,          1,         30,         30,2,19910903,       1843,   -14.0067,  -150.9978,       4314,   258.1,  19.1924,  35.6802,2,  35.6281,2,    170.7,2,   170.9,2,    2.27,2,    6.28,2,    0.01,2,    0.66,2,   1.577,6,   0.823,6,  -999.0,9,  -999.0,9,-999.000,9,-999.0000,9, -999.00,9, -999.00,9,  -999.0,9,  -999.0,    19.1458,-999.0000,-999.000,-999.000
31WTTUNES_3,       P16C,     228,          1,         29,         29,2,19910903,       1843,   -14.0067,  -150.9978,       4314,   307.4,  15.6857,  35.1747,2,  35.0653,2,    147.1,2,   136.9,2,    6.65,2,   13.41,2,    0.00,2,    1.18,2,-999.000,9,-999.000,9,  -999.0,9,  -999.0,9,-999.000,9,-999.0000,9, -999.00,9, -999.00,9,  -999.0,9,  -999.0,    15.6374,-999.0000,-999.000,-999.000
31WTTUNES_3,       P16C,     228,          1,         28,         28,2,19910903,       1843,   -14.0067,  -150.9978,       4314,   359.2,  12.3179,  34.8014,2,  34.7962,2,    106.4,2,   105.0,2,   12.81,2,   18.58,2,    0.01,2,    1.56,2,   0.665,2,   0.352,2,  -999.0,9,  -999.0,9,-999.000,9,-999.0000,9, -999.00,9, -999.00,9,  -999.0,9,  -999.0,    12.2701,-999.0000,-999.000,-999.000
31WTTUNES_3,       P16C,     228,          1,         27,         27,2,19910903,       1843,   -14.0067,  -150.9978,       4314,   409.1,  10.2338,  34.6516,2,  34.6620,2,     97.9,2,    97.8,2,   18.38,2,   25.03,2,    0.00,2,    1.94,2,   0.297,6,   0.147,6,  -999.0,9,  -999.0,9,-999.000,9,-999.0000,9, -999.00,9, -999.00,9,  -999.0,9,  -999.0,    10.1854,-999.0000,-999.000,-999.000
31WTTUNES_3,       P16C,     228,          1,         26,         26,2,19910903,       1843,   -14.0067,  -150.9978,       4314,   457.7,   8.5107,  34.5709,2,  34.5783,2,    114.8,2,   112.2,2,   23.15,2,   27.25,2,    0.01,2,    1.99,2,   0.132,3,   0.037,3,  -999.0,9,  -999.0,9,-999.000,9,-999.0000,9, -999.00,9, -999.00,9,  -999.0,9,  -999.0,     8.4621,-999.0000,-999.000,-999.000
31WTTUNES_3,       P16C,     228,          1,         25,         25,2,19910903,       1843,   -14.0067,  -150.9978,       4314,   506.5,   7.1959,  34.5293,2,  34.5356,2,    128.6,2,   128.7,2,   28.33,2,   29.75,2,    0.01,2,    2.13,2,-999.000,9,-999.000,9,  -999.0,9,  -999.0,9,-999.000,9,-999.0000,9, -999.00,9, -999.00,9,  -999.0,9,  -999.0,     7.1470,-999.0000,-999.000,-999.000
31WTTUNES_3,       P16C,     228,          1,         24,         24,2,19910903,       1843,   -14.0067,  -150.9978,       4314,   611.2,   6.3176,  34.5214,2,  34.5243,2,    116.5,2,   114.7,2,   41.27,2,   33.60,2,    0.01,2,    2.35,2,   0.026,6,   0.012,6,  -999.0,9,  -999.0,9,-999.000,9,-999.0000,9, -999.00,9, -999.00,9,  -999.0,9,  -999.0,     6.2622,-999.0000,-999.000,-999.000
31WTTUNES_3,       P16C,     228,          1,         23,         23,2,19910903,       1843,   -14.0067,  -150.9978,       4314,   714.2,   5.6935,  34.5176,2,  34.5107,2,    108.5,2,   112.5,2,   49.23,2,   35.90,2,    0.00,2,    2.52,2,   0.004,2,  -0.003,2,  -999.0,9,  -999.0,9,-999.000,9,-999.0000,9, -999.00,9, -999.00,9,  -999.0,9,  -999.0,     5.6317,-999.0000,-999.000,-999.000
31WTTUNES_3,       P16C,     228,          1,         22,         22,2,19910903,       1843,   -14.0067,  -150.9978,       4314,   765.9,   5.4326,  34.5133,2,  34.5162,2,    110.4,2,   102.5,2,   53.22,2,   37.17,2,    0.00,2,    2.61,2,   0.002,2,  -0.001,2,  -999.0,9,  -999.0,9,-999.000,9,-999.0000,9, -999.00,9, -999.00,9,  -999.0,9,  -999.0,     5.3675,-999.0000,-999.000,-999.000
31WTTUNES_3,       P16C,     228,          1,         21,         21,2,19910903,       1843,   -14.0067,  -150.9978,       4314,   816.0,   5.2122,  34.5040,2,  34.5029,2,    127.6,2,   120.5,2,   54.20,2,   35.88,2,    0.00,2,    2.52,2,   0.006,6,  -0.001,6,  -999.0,9,  -999.0,9,-999.000,9,-999.0000,9, -999.00,9, -999.00,9,  -999.0,9,  -999.0,     5.1441,-999.0000,-999.000,-999.000
31WTTUNES_3,       P16C,     228,          1,         20,         20,2,19910903,       1843,   -14.0067,  -150.9978,       4314,   918.3,   4.7834,  34.5030,2,  34.5013,2,    130.3,2,   134.0,2,   59.79,2,   35.21,2,    0.00,2,    2.47,2,   0.037,4,   0.002,2,  -999.0,9,  -999.0,9,-999.000,9,-999.0000,9, -999.00,9, -999.00,9,  -999.0,9,  -999.0,     4.7089,-999.0000,-999.000,-999.000
31WTTUNES_3,       P16C,     228,          1,         19,         19,2,19910903,       1843,   -14.0067,  -150.9978,       4314,  1020.6,   4.4128,  34.5118,2,  34.5115,2,    132.2,2,   131.7,2,   67.74,2,   35.96,2,    0.00,2,    2.53,2,   0.003,6,   0.002,6,  -999.0,9,  -999.0,9,-999.000,9,-999.0000,9, -999.00,9, -999.00,9,  -999.0,9,  -999.0,     4.3323,-999.0000,-999.000,-999.000
31WTTUNES_3,       P16C,     228,          1,         18,         18,2,19910903,       1843,   -14.0067,  -150.9978,       4314,  1122.3,   4.1098,  34.5343,2,  34.5353,2,    120.4,2,   119.3,2,   79.08,2,   37.22,2,    0.00,2,    2.63,2,   0.014,2,  -0.004,2,  -999.0,9,  -999.0,9,-999.000,9,-999.0000,9, -999.00,9, -999.00,9,  -999.0,9,  -999.0,     4.0228,-999.0000,-999.000,-999.000
31WTTUNES_3,       P16C,     228,          1,         17,         17,2,19910903,       1843,   -14.0067,  -150.9978,       4314,  1225.1,   3.7229,  34.5471,2,  34.5472,2,    125.6,2,   124.2,2,   85.46,2,   37.26,2,    0.00,2,    2.63,2,   0.004,2,   0.000,2,  -999.0,9,  -999.0,9,-999.000,9,-999.0000,9, -999.00,9, -999.00,9,  -999.0,9,  -999.0,     3.6307,-999.0000,-999.000,-999.000
31WTTUNES_3,       P16C,     228,          1,         16,         16,2,19910903,       1843,   -14.0067,  -150.9978,       4314,  1327.7,   3.4068,  34.5561,2,  34.5563,2,    132.2,2,   133.4,2,   89.85,2,   36.77,2,    0.00,2,    2.58,2,-999.000,9,-999.000,9,  -999.0,9,  -999.0,9,-999.000,9,-999.0000,9, -999.00,9, -999.00,9,  -999.0,9,  -999.0,     3.3090,-999.0000,-999.000,-999.000
31WTTUNES_3,       P16C,     228,          1,         15,         15,2,19910903,       1843,   -14.0067,  -150.9978,       4314,  1427.7,   3.1559,  34.5695,2,  34.5692,2,    135.6,2,   136.0,2,   95.41,2,   36.72,2,    0.00,2,    2.58,2,-999.000,9,-999.000,9,  -999.0,9,  -999.0,9,-999.000,9,-999.0000,9, -999.00,9, -999.00,9,  -999.0,9,  -999.0,     3.0524,-999.0000,-999.000,-999.000
31WTTUNES_3,       P16C,     228,          1,         14,         14,2,19910903,       1843,   -14.0067,  -150.9978,       4314,  1629.0,   2.7130,  34.5959,2,  34.5952,2,    140.4,2,   141.1,2,  104.97,2,   36.57,2,    0.00,2,    2.56,2,-999.000,9,-999.000,9,  -999.0,9,  -999.0,9,-999.000,9,-999.0000,9, -999.00,9, -999.00,9,  -999.0,9,  -999.0,     2.5979,-999.0000,-999.000,-999.000
31WTTUNES_3,       P16C,     228,          1,         13,         13,2,19910903,       1843,   -14.0067,  -150.9978,       4314,  1832.0,   2.4063,  34.6183,2,  34.6205,2,    144.9,2,   146.2,2,  113.73,2,   36.04,2,    0.00,2,    2.51,2,-999.000,9,-999.000,9,  -999.0,9,  -999.0,9,-999.000,9,-999.0000,9, -999.00,9, -999.00,9,  -999.0,9,  -999.0,     2.2782,-999.0000,-999.000,-999.000
31WTTUNES_3,       P16C,     228,          1,         12,         12,2,19910903,       1843,   -14.0067,  -150.9978,       4314,  2036.1,   2.1347,  34.6380,2,  34.6415,2,    148.6,2,   149.3,2,  119.49,2,   36.03,2,    0.00,2,    2.51,2,   0.000,2,  -0.009,2,  -999.0,9,  -999.0,9,-999.000,9,-999.0000,9, -999.00,9, -999.00,9,  -999.0,9,  -999.0,     1.9930,-999.0000,-999.000,-999.000
31WTTUNES_3,       P16C,     228,          1,         11,         11,2,19910903,       1843,   -14.0067,  -150.9978,       4314,  2232.0,   2.0323,  34.6486,2,  34.6513,2,    149.3,2,   150.7,2,  123.48,2,   33.63,4,    0.01,4,    2.34,4,-999.000,9,-999.000,9,  -999.0,9,  -999.0,9,-999.000,9,-999.0000,9, -999.00,9, -999.00,9,  -999.0,9,  -999.0,     1.8754,-999.0000,-999.000,-999.000
31WTTUNES_3,       P16C,     228,          1,         10,         10,2,19910903,       1843,   -14.0067,  -150.9978,       4314,  2431.7,   1.9449,  34.6575,2,  34.6580,2,    150.4,2,   150.6,2,  126.86,2,   35.92,2,    0.00,2,    2.50,2,-999.000,9,-999.000,9,  -999.0,9,  -999.0,9,-999.000,9,-999.0000,9, -999.00,9, -999.00,9,  -999.0,9,  -999.0,     1.7718,-999.0000,-999.000,-999.000
31WTTUNES_3,       P16C,     228,          1,          9,          9,2,19910903,       1843,   -14.0067,  -150.9978,       4314,  2631.1,   1.8552,  34.6660,2,-999.0000,9,    151.2,2,   151.0,2,  130.45,2,   36.00,2,    0.00,2,    2.50,2,-999.000,9,-999.000,9,  -999.0,9,  -999.0,9,-999.000,9,-999.0000,9, -999.00,9, -999.00,9,  -999.0,9,  -999.0,     1.6656,-999.0000,-999.000,-999.000
31WTTUNES_3,       P16C,     228,          1,          8,          8,2,19910903,       1843,   -14.0067,  -150.9978,       4314,  2843.0,   1.7725,  34.6725,2,  34.6716,2,    153.8,2,   154.4,2,  131.44,2,   35.85,2,    0.00,2,    2.49,2,-999.000,9,-999.000,9,  -999.0,9,  -999.0,9,-999.000,9,-999.0000,9, -999.00,9, -999.00,9,  -999.0,9,  -999.0,     1.5647,-999.0000,-999.000,-999.000
31WTTUNES_3,       P16C,     228,          1,          7,          7,2,19910903,       1843,   -14.0067,  -150.9978,       4314,  3049.1,   1.7012,  34.6770,2,  34.6767,2,    158.6,2,   159.7,2,  130.85,2,   35.46,2,    0.00,2,    2.46,2,   0.006,2,   0.001,2,  -999.0,9,  -999.0,9,-999.000,9,-999.0000,9, -999.00,9, -999.00,9,  -999.0,9,  -999.0,     1.4751,-999.0000,-999.000,-999.000
31WTTUNES_3,       P16C,     228,          1,          6,          6,2,19910903,       1843,   -14.0067,  -150.9978,       4314,  3311.9,   1.6261,  34.6816,2,  34.6826,2,    165.8,2,   165.9,2,  128.86,2,   34.78,2,    0.00,2,    2.42,2,-999.000,9,-999.000,9,  -999.0,9,  -999.0,9,-999.000,9,-999.0000,9, -999.00,9, -999.00,9,  -999.0,9,  -999.0,     1.3760,-999.0000,-999.000,-999.000
31WTTUNES_3,       P16C,     228,          1,          5,          5,2,19910903,       1843,   -14.0067,  -150.9978,       4314,  3572.8,   1.5441,  34.6869,2,  34.6869,2,    171.6,2,   169.5,2,  128.06,2,   34.54,2,    0.00,2,    2.40,2,-999.000,9,-999.000,9,  -999.0,9,  -999.0,9,-999.000,9,-999.0000,9, -999.00,9, -999.00,9,  -999.0,9,  -999.0,     1.2693,-999.0000,-999.000,-999.000
31WTTUNES_3,       P16C,     228,          1,          4,          4,2,19910903,       1843,   -14.0067,  -150.9978,       4314,  3839.3,   1.4375,  34.6942,2,  34.6944,2,    179.5,2,   180.1,2,  126.27,2,   33.96,2,    0.00,2,    2.36,2,-999.000,9,-999.000,9,  -999.0,9,  -999.0,9,-999.000,9,-999.0000,9, -999.00,9, -999.00,9,  -999.0,9,  -999.0,     1.1375,-999.0000,-999.000,-999.000
31WTTUNES_3,       P16C,     228,          1,          3,          3,2,19910903,       1843,   -14.0067,  -150.9978,       4314,  4100.7,   1.3768,  34.6982,2,  34.6979,2,    185.5,2,   185.6,2,  124.87,2,   33.62,2,    0.00,2,    2.32,2,-999.000,9,-999.000,9,  -999.0,9,  -999.0,9,-999.000,9,-999.0000,9, -999.00,9, -999.00,9,  -999.0,9,  -999.0,     1.0502,-999.0000,-999.000,-999.000
31WTTUNES_3,       P16C,     228,          1,          2,          2,2,19910903,       1843,   -14.0067,  -150.9978,       4314,  4312.5,   1.3589,  34.7000,2,  34.7009,2,    187.9,2,   187.6,2,  124.45,2,   33.34,2,    0.00,2,    2.31,2,   0.006,2,  -0.004,2,  -999.0,9,  -999.0,9,-999.000,9,-999.0000,9, -999.00,9, -999.00,9,  -999.0,9,  -999.0,     1.0095,-999.0000,-999.000,-999.000
31WTTUNES_3,       P16C,     228,          1,          1,          1,2,19910903,       1843,   -14.0067,  -150.9978,       4314,  4356.3,   1.3613,  34.6998,2,  34.7003,2,    188.2,2,   188.4,2,  124.65,2,   33.30,2,    0.00,2,    2.30,2,   0.001,6,  -0.005,6,  -999.0,9,  -999.0,9,-999.000,9,-999.0000,9, -999.00,9, -999.00,9,  -999.0,9,  -999.0,     1.0069,-999.0000,-999.000,-999.000