BOTTLE,20211117CCHSIORKP
EXPOCODE,SECT_ID,STNNBR,CASTNO,SAMPNO,BTLNBR,BTLNBR_FLAG_W,DATE,TIME,LATITUDE,LONGITUDE,DEPTH,CTDPRS,CTDTMP,CTDSAL,CTDSAL_FLAG_W,SALNTY,SALNTY_FLAG_W,CTDOXY,CTDOXY_FLAG_W,OXYGEN,OXYGEN_FLAG_W,SILCAT,SILCAT_FLAG_W,NITRAT,NITRAT_FLAG_W,NITRIT,NITRIT_FLAG_W,PHSPHT,PHSPHT_FLAG_W,CFC-11,CFC-11_FLAG_W,CFC-12,CFC-12_FLAG_W,TCARBN,TCARBN_FLAG_W,ALKALI,ALKALI_FLAG_W,TRITUM,TRITUM_FLAG_W,HELIUM,HELIUM_FLAG_W,DELHE3,DELHE3_FLAG_W,DELC13,DELC13_FLAG_W,DELC14,DELC14_FLAG_W,C14ERR,THETA,HELIER,DELHER,TRITER
,,,,,,,,,,,METERS,DBAR,ITS-90,PSS-78,,PSS-78,,UMOL/KG,,UMOL/KG,,UMOL/KG,,UMOL/KG,,UMOL/KG,,UMOL/KG,,PMOL/KG,,PMOL/KG,,UMOL/KG,,UMOL/KG,,TU,,NMOL/KG,,PERCNT,,/MILLE,,/MILLE,,/MILLE,ITS-90,NMOL/KG,PERCNT,TU
31WTTUNES_3,       P16C,     303,          1,         36,         36,2,19910924,       0654,    11.3847,  -152.2120,       5380,     5.6,  28.8144,  33.9087,2,  33.8600,2,    205.1,3,   220.6,2,    2.50,2,    0.07,2,    0.00,2,    0.21,2,-999.000,9,-999.000,9,  -999.0,9,  -999.0,9,-999.000,9,-999.0000,9, -999.00,9, -999.00,9,  -999.0,9,  -999.0,    28.8131,-999.0000,-999.000,-999.000
31WTTUNES_3,       P16C,     303,          1,         35,         35,2,19910924,       0654,    11.3847,  -152.2120,       5380,    46.7,  25.4732,  34.3927,2,  34.4465,2,    218.7,2,   220.5,2,    2.91,2,    0.15,2,    0.01,2,    0.32,2,-999.000,9,-999.000,9,  -999.0,9,  -999.0,9,-999.000,9,-999.0000,9, -999.00,9, -999.00,9,  -999.0,9,  -999.0,    25.4630,-999.0000,-999.000,-999.000
31WTTUNES_3,       P16C,     303,          1,         34,         34,2,19910924,       0654,    11.3847,  -152.2120,       5380,    77.4,  17.1033,  34.4691,2,  34.4549,2,    152.5,2,   140.2,2,   10.02,2,   12.40,2,    0.09,2,    1.10,2,-999.000,9,-999.000,9,  -999.0,9,  -999.0,9,-999.000,9,-999.0000,9, -999.00,9, -999.00,9,  -999.0,9,  -999.0,    17.0906,-999.0000,-999.000,-999.000
31WTTUNES_3,       P16C,     303,          1,         33,         33,2,19910924,       0654,    11.3847,  -152.2120,       5380,   108.1,  13.6496,  34.3155,2,  34.3233,2,    122.3,2,    99.7,2,   18.75,2,   21.02,2,    0.01,2,    1.72,2,-999.000,9,-999.000,9,  -999.0,9,  -999.0,9,-999.000,9,-999.0000,9, -999.00,9, -999.00,9,  -999.0,9,  -999.0,    13.6344,-999.0000,-999.000,-999.000
31WTTUNES_3,       P16C,     303,          1,         32,         32,2,19910924,       0654,    11.3847,  -152.2120,       5380,   139.3,  11.6926,  34.4814,2,  34.4830,2,     39.8,2,    45.2,2,   28.49,2,   28.57,2,    0.01,2,    2.31,2,-999.000,9,-999.000,9,  -999.0,9,  -999.0,9,-999.000,9,-999.0000,9, -999.00,9, -999.00,9,  -999.0,9,  -999.0,    11.6749,-999.0000,-999.000,-999.000
31WTTUNES_3,       P16C,     303,          1,         31,         31,2,19910924,       0654,    11.3847,  -152.2120,       5380,   189.5,  10.5247,  34.5616,2,  34.5608,2,     32.6,2,    32.1,2,   32.97,2,   31.72,2,    0.01,2,    2.43,2,-999.000,9,-999.000,9,  -999.0,9,  -999.0,9,-999.000,9,-999.0000,9, -999.00,9, -999.00,9,  -999.0,9,  -999.0,    10.5022,-999.0000,-999.000,-999.000
31WTTUNES_3,       P16C,     303,          1,         30,         30,2,19910924,       0654,    11.3847,  -152.2120,       5380,   240.1,   9.9186,  34.5964,2,  34.5944,2,     23.5,2,    23.8,2,   36.42,2,   33.72,2,    0.01,2,    2.54,2,-999.000,9,-999.000,9,  -999.0,9,  -999.0,9,-999.000,9,-999.0000,9, -999.00,9, -999.00,9,  -999.0,9,  -999.0,     9.8909,-999.0000,-999.000,-999.000
31WTTUNES_3,       P16C,     303,          1,         29,         29,2,19910924,       0654,    11.3847,  -152.2120,       5380,   290.7,   9.2951,  34.5796,2,  34.5798,2,     17.5,2,    19.0,2,   40.48,2,   34.74,2,    0.01,2,    2.64,2,-999.000,9,-999.000,9,  -999.0,9,  -999.0,9,-999.000,9,-999.0000,9, -999.00,9, -999.00,9,  -999.0,9,  -999.0,     9.2628,-999.0000,-999.000,-999.000
31WTTUNES_3,       P16C,     303,          1,         28,         28,2,19910924,       0654,    11.3847,  -152.2120,       5380,   351.5,   8.5417,  34.5621,2,  34.5675,2,     20.4,2,    22.9,2,   45.98,2,   36.14,2,    0.01,2,    2.74,2,-999.000,9,-999.000,9,  -999.0,9,  -999.0,9,-999.000,9,-999.0000,9, -999.00,9, -999.00,9,  -999.0,9,  -999.0,     8.5047,-999.0000,-999.000,-999.000
31WTTUNES_3,       P16C,     303,          1,         27,         27,2,19910924,       0654,    11.3847,  -152.2120,       5380,   414.0,   7.8191,  34.5487,2,  34.5496,2,     29.6,2,    36.2,2,   51.26,2,   37.17,2,    0.01,2,    2.76,2,-999.000,9,-999.000,9,  -999.0,9,  -999.0,9,-999.000,9,-999.0000,9, -999.00,9, -999.00,9,  -999.0,9,  -999.0,     7.7774,-999.0000,-999.000,-999.000
31WTTUNES_3,       P16C,     303,          1,         26,         26,2,19910924,       0654,    11.3847,  -152.2120,       5380,   516.5,   6.8399,  34.5342,2,  34.5353,2,     33.4,2,    30.2,2,   61.62,2,   39.07,2,    0.01,2,    2.92,2,-999.000,9,-999.000,9,  -999.0,9,  -999.0,9,-999.000,9,-999.0000,9, -999.00,9, -999.00,9,  -999.0,9,  -999.0,     6.7914,-999.0000,-999.000,-999.000
31WTTUNES_3,       P16C,     303,          1,         25,         25,2,19910924,       0654,    11.3847,  -152.2120,       5380,   618.5,   6.1072,  34.5198,2,  34.5192,2,     40.5,2,    41.3,2,   71.38,2,   39.94,2,    0.01,2,    2.93,2,-999.000,9,-999.000,9,  -999.0,9,  -999.0,9,-999.000,9,-999.0000,9, -999.00,9, -999.00,9,  -999.0,9,  -999.0,     6.0521,-999.0000,-999.000,-999.000
31WTTUNES_3,       P16C,     303,          1,         24,         24,2,19910924,       0654,    11.3847,  -152.2120,       5380,   718.8,   5.5358,  34.5257,2,  34.5250,2,     37.8,2,    35.6,2,   80.12,2,   41.44,2,    0.01,2,    3.02,2,-999.000,9,-999.000,9,  -999.0,9,  -999.0,9,-999.000,9,-999.0000,9, -999.00,9, -999.00,9,  -999.0,9,  -999.0,     5.4743,-999.0000,-999.000,-999.000
31WTTUNES_3,       P16C,     303,          1,         23,         23,2,19910924,       0654,    11.3847,  -152.2120,       5380,   820.5,   4.9719,  34.5368,2,  34.5362,2,     30.0,2,    31.1,2,   90.70,2,   43.09,2,    0.01,2,    3.15,2,-999.000,9,-999.000,9,  -999.0,9,  -999.0,9,-999.000,9,-999.0000,9, -999.00,9, -999.00,9,  -999.0,9,  -999.0,     4.9047,-999.0000,-999.000,-999.000
31WTTUNES_3,       P16C,     303,          1,         22,         22,2,19910924,       0654,    11.3847,  -152.2120,       5380,   923.5,   4.5214,  34.5493,2,  34.5488,2,     36.6,2,    36.2,2,   98.42,2,   43.09,2,    0.01,2,    3.16,2,-999.000,9,-999.000,9,  -999.0,9,  -999.0,9,-999.000,9,-999.0000,9, -999.00,9, -999.00,9,  -999.0,9,  -999.0,     4.4482,-999.0000,-999.000,-999.000
31WTTUNES_3,       P16C,     303,          1,         21,         21,2,19910924,       0654,    11.3847,  -152.2120,       5380,  1027.0,   4.1439,  34.5612,2,  34.5582,2,     46.9,2,    48.2,2,  105.55,2,   42.56,2,    0.01,2,    3.12,2,-999.000,9,-999.000,9,  -999.0,9,  -999.0,9,-999.000,9,-999.0000,9, -999.00,9, -999.00,9,  -999.0,9,  -999.0,     4.0648,-999.0000,-999.000,-999.000
31WTTUNES_3,       P16C,     303,          1,         20,         20,2,19910924,       0654,    11.3847,  -152.2120,       5380,  1222.5,   3.4520,  34.5838,2,  34.5791,2,     60.7,2,    58.7,2,  119.16,2,   42.02,2,    0.01,2,    3.05,2,-999.000,9,-999.000,9,  -999.0,9,  -999.0,9,-999.000,9,-999.0000,9, -999.00,9, -999.00,9,  -999.0,9,  -999.0,     3.3624,-999.0000,-999.000,-999.000
31WTTUNES_3,       P16C,     303,          1,         19,         19,2,19910924,       0654,    11.3847,  -152.2120,       5380,  1426.2,   2.9871,  34.6009,2,  34.5997,2,     74.6,2,    73.6,2,  131.57,2,   41.09,2,    0.01,2,    2.96,2,-999.000,9,-999.000,9,  -999.0,9,  -999.0,9,-999.000,9,-999.0000,9, -999.00,9, -999.00,9,  -999.0,9,  -999.0,     2.8854,-999.0000,-999.000,-999.000
31WTTUNES_3,       P16C,     303,          1,         18,         18,2,19910924,       0654,    11.3847,  -152.2120,       5380,  1636.5,   2.6071,  34.6185,2,  34.6177,2,     85.2,2,    87.0,2,  140.12,2,   40.31,2,    0.01,2,    2.89,2,-999.000,9,-999.000,9,  -999.0,9,  -999.0,9,-999.000,9,-999.0000,9, -999.00,9, -999.00,9,  -999.0,9,  -999.0,     2.4925,-999.0000,-999.000,-999.000
31WTTUNES_3,       P16C,     303,          1,         17,         17,2,19910924,       0654,    11.3847,  -152.2120,       5380,  1841.3,   2.3028,  34.6345,2,  34.6327,2,     94.4,2,    95.9,2,  147.04,2,   39.67,2,    0.01,2,    2.84,2,-999.000,9,-999.000,9,  -999.0,9,  -999.0,9,-999.000,9,-999.0000,9, -999.00,9, -999.00,9,  -999.0,9,  -999.0,     2.1753,-999.0000,-999.000,-999.000
31WTTUNES_3,       P16C,     303,          1,         16,         16,2,19910924,       0654,    11.3847,  -152.2120,       5380,  2049.5,   2.0963,  34.6463,2,  34.6460,2,    100.5,2,   102.0,2,  151.94,2,   39.23,2,    0.01,2,    2.80,2,-999.000,9,-999.000,9,  -999.0,9,  -999.0,9,-999.000,9,-999.0000,9, -999.00,9, -999.00,9,  -999.0,9,  -999.0,     1.9541,-999.0000,-999.000,-999.000
31WTTUNES_3,       P16C,     303,          1,         15,         15,2,19910924,       0654,    11.3847,  -152.2120,       5380,  2257.7,   1.9543,  34.6566,2,  34.6553,2,    108.3,2,   108.6,2,  154.39,2,   38.79,2,    0.01,2,    2.75,2,-999.000,9,-999.000,9,  -999.0,9,  -999.0,9,-999.000,9,-999.0000,9, -999.00,9, -999.00,9,  -999.0,9,  -999.0,     1.7965,-999.0000,-999.000,-999.000
31WTTUNES_3,       P16C,     303,          1,         14,         14,2,19910924,       0654,    11.3847,  -152.2120,       5380,  2414.9,   1.8953,  34.6609,2,  34.6611,2,    111.2,2,   112.2,2,  155.83,2,   38.59,2,    0.01,2,    2.73,2,-999.000,9,-999.000,9,  -999.0,9,  -999.0,9,-999.000,9,-999.0000,9, -999.00,9, -999.00,9,  -999.0,9,  -999.0,     1.7247,-999.0000,-999.000,-999.000
31WTTUNES_3,       P16C,     303,          1,         13,         13,2,19910924,       0654,    11.3847,  -152.2120,       5380,  2571.4,   1.8367,  34.6651,2,  34.6637,2,    115.1,2,   115.6,2,  157.06,2,   38.25,2,    0.01,2,    2.71,2,-999.000,9,-999.000,9,  -999.0,9,  -999.0,9,-999.000,9,-999.0000,9, -999.00,9, -999.00,9,  -999.0,9,  -999.0,     1.6529,-999.0000,-999.000,-999.000
31WTTUNES_3,       P16C,     303,          1,         12,         12,2,19910924,       0654,    11.3847,  -152.2120,       5380,  2727.5,   1.8030,  34.6678,2,  34.6669,2,    116.9,2,   118.3,2,  158.09,2,   38.03,2,    0.00,2,    2.70,2,-999.000,9,-999.000,9,  -999.0,9,  -999.0,9,-999.000,9,-999.0000,9, -999.00,9, -999.00,9,  -999.0,9,  -999.0,     1.6055,-999.0000,-999.000,-999.000
31WTTUNES_3,       P16C,     303,          1,         11,         11,2,19910924,       0654,    11.3847,  -152.2120,       5380,  2985.9,   1.7168,  34.6726,2,  34.6726,2,    124.0,2,   125.8,2,  158.32,2,   37.71,2,    0.01,2,    2.65,2,-999.000,9,-999.000,9,  -999.0,9,  -999.0,9,-999.000,9,-999.0000,9, -999.00,9, -999.00,9,  -999.0,9,  -999.0,     1.4966,-999.0000,-999.000,-999.000
31WTTUNES_3,       P16C,     303,          1,         10,         10,2,19910924,       0654,    11.3847,  -152.2120,       5380,  3244.2,   1.6409,  34.6761,2,  34.6753,2,    129.3,2,   130.8,2,  160.57,2,   37.49,2,    0.00,2,    2.62,2,-999.000,9,-999.000,9,  -999.0,9,  -999.0,9,-999.000,9,-999.0000,9, -999.00,9, -999.00,9,  -999.0,9,  -999.0,     1.3972,-999.0000,-999.000,-999.000
31WTTUNES_3,       P16C,     303,          1,          9,          9,2,19910924,       0654,    11.3847,  -152.2120,       5380,  3503.3,   1.5589,  34.6797,2,  34.6781,2,    137.2,2,   138.8,2,  160.38,2,   37.00,2,    0.00,2,    2.57,2,-999.000,9,-999.000,9,  -999.0,9,  -999.0,9,-999.000,9,-999.0000,9, -999.00,9, -999.00,9,  -999.0,9,  -999.0,     1.2910,-999.0000,-999.000,-999.000
31WTTUNES_3,       P16C,     303,          1,          8,          8,2,19910924,       0654,    11.3847,  -152.2120,       5380,  3763.0,   1.4976,  34.6841,2,  34.6832,2,    146.0,2,   148.0,2,  156.54,2,   36.46,2,    0.00,2,    2.53,2,-999.000,9,-999.000,9,  -999.0,9,  -999.0,9,-999.000,9,-999.0000,9, -999.00,9, -999.00,9,  -999.0,9,  -999.0,     1.2043,-999.0000,-999.000,-999.000
31WTTUNES_3,       P16C,     303,          1,          7,          7,2,19910924,       0654,    11.3847,  -152.2120,       5380,  4023.1,   1.4356,  34.6879,2,  34.6895,2,    157.7,2,   159.9,2,  150.24,2,   35.44,2,    0.00,2,    2.46,2,-999.000,9,-999.000,9,  -999.0,9,  -999.0,9,-999.000,9,-999.0000,9, -999.00,9, -999.00,9,  -999.0,9,  -999.0,     1.1159,-999.0000,-999.000,-999.000
31WTTUNES_3,       P16C,     303,          1,          6,          6,2,19910924,       0654,    11.3847,  -152.2120,       5380,  4283.5,   1.3919,  34.6924,2,  34.6905,2,    168.1,2,   169.3,2,  144.77,2,   34.70,2,    0.00,2,    2.41,2,-999.000,9,-999.000,9,  -999.0,9,  -999.0,9,-999.000,9,-999.0000,9, -999.00,9, -999.00,9,  -999.0,9,  -999.0,     1.0447,-999.0000,-999.000,-999.000
31WTTUNES_3,       P16C,     303,          1,          5,          5,2,19910924,       0654,    11.3847,  -152.2120,       5380,  4544.0,   1.3707,  34.6949,2,  34.6944,2,    174.7,2,   175.6,2,  141.33,2,   34.41,2,    0.00,2,    2.40,2,-999.000,9,-999.000,9,  -999.0,9,  -999.0,9,-999.000,9,-999.0000,9, -999.00,9, -999.00,9,  -999.0,9,  -999.0,     0.9947,-999.0000,-999.000,-999.000
31WTTUNES_3,       P16C,     303,          1,          4,          4,2,19910924,       0654,    11.3847,  -152.2120,       5380,  4804.5,   1.3752,  34.6965,2,  34.6952,2,    178.9,2,   179.5,2,  139.31,2,   34.31,2,    0.00,2,    2.37,2,-999.000,9,-999.000,9,  -999.0,9,  -999.0,9,-999.000,9,-999.0000,9, -999.00,9, -999.00,9,  -999.0,9,  -999.0,     0.9686,-999.0000,-999.000,-999.000
31WTTUNES_3,       P16C,     303,          1,          3,          3,2,19910924,       0654,    11.3847,  -152.2120,       5380,  5065.1,   1.3989,  34.6968,2,  34.6967,2,    180.8,2,   179.7,2,  138.71,2,   34.15,2,    0.01,2,    2.37,2,-999.000,9,-999.000,9,  -999.0,9,  -999.0,9,-999.000,9,-999.0000,9, -999.00,9, -999.00,9,  -999.0,9,  -999.0,     0.9601,-999.0000,-999.000,-999.000
31WTTUNES_3,       P16C,     303,          1,          2,          2,2,19910924,       0654,    11.3847,  -152.2120,       5380,  5326.3,   1.4306,  34.6966,2,  34.6961,2,    181.1,2,   179.3,2,  138.72,2,   34.19,2,    0.01,2,    2.36,2,-999.000,9,-999.000,9,  -999.0,9,  -999.0,9,-999.000,9,-999.0000,9, -999.00,9, -999.00,9,  -999.0,9,  -999.0,     0.9584,-999.0000,-999.000,-999.000
31WTTUNES_3,       P16C,     303,          1,          1,          1,2,19910924,       0654,    11.3847,  -152.2120,       5380,  5447.0,   1.4456,  34.6966,2,  34.6971,2,    180.8,2,   178.9,2,  138.74,2,   34.17,2,    0.00,2,    2.36,2,-999.000,9,-999.000,9,  -999.0,9,  -999.0,9,-999.000,9,-999.0000,9, -999.00,9, -999.00,9,  -999.0,9,  -999.0,     0.9577,-999.0000,-999.000,-999.000