BOTTLE,20211117CCHSIORKP
EXPOCODE,SECT_ID,STNNBR,CASTNO,SAMPNO,BTLNBR,BTLNBR_FLAG_W,DATE,TIME,LATITUDE,LONGITUDE,DEPTH,CTDPRS,CTDTMP,CTDSAL,CTDSAL_FLAG_W,SALNTY,SALNTY_FLAG_W,CTDOXY,CTDOXY_FLAG_W,OXYGEN,OXYGEN_FLAG_W,SILCAT,SILCAT_FLAG_W,NITRAT,NITRAT_FLAG_W,NITRIT,NITRIT_FLAG_W,PHSPHT,PHSPHT_FLAG_W,CFC-11,CFC-11_FLAG_W,CFC-12,CFC-12_FLAG_W,TCARBN,TCARBN_FLAG_W,ALKALI,ALKALI_FLAG_W,TRITUM,TRITUM_FLAG_W,HELIUM,HELIUM_FLAG_W,DELHE3,DELHE3_FLAG_W,DELC13,DELC13_FLAG_W,DELC14,DELC14_FLAG_W,C14ERR,THETA,HELIER,DELHER,TRITER
,,,,,,,,,,,METERS,DBAR,ITS-90,PSS-78,,PSS-78,,UMOL/KG,,UMOL/KG,,UMOL/KG,,UMOL/KG,,UMOL/KG,,UMOL/KG,,PMOL/KG,,PMOL/KG,,UMOL/KG,,UMOL/KG,,TU,,NMOL/KG,,PERCNT,,/MILLE,,/MILLE,,/MILLE,ITS-90,NMOL/KG,PERCNT,TU
31WTTUNES_3,       P16C,     237,          1,         36,         36,2,19910907,       0224,    -9.4967,  -150.9943,       4929,     5.7,  28.6723,  35.8091,2,  35.8013,2,    204.7,3,   213.9,2,    0.76,2,    1.38,2,    0.03,2,    0.33,2,-999.000,9,-999.000,9,  -999.0,9,  -999.0,9,-999.000,9,-999.0000,9, -999.00,9, -999.00,9,  -999.0,9,  -999.0,    28.6709,-999.0000,-999.000,-999.000
31WTTUNES_3,       P16C,     237,          1,         35,         35,2,19910907,       0224,    -9.4967,  -150.9943,       4929,    47.9,  28.5436,  35.8078,2,  35.7989,2,    195.6,2,   213.1,2,    1.00,2,    1.36,2,    0.04,2,    0.32,2,-999.000,9,-999.000,9,  -999.0,9,  -999.0,9,-999.000,9,-999.0000,9, -999.00,9, -999.00,9,  -999.0,9,  -999.0,    28.5323,-999.0000,-999.000,-999.000
31WTTUNES_3,       P16C,     237,          1,         34,         34,2,19910907,       0224,    -9.4967,  -150.9943,       4929,    87.6,  28.4731,  35.9419,2,  35.8694,2,    195.3,2,   205.4,2,    1.23,2,    0.73,2,    0.03,2,    0.28,2,-999.000,9,-999.000,9,  -999.0,9,  -999.0,9,-999.000,9,-999.0000,9, -999.00,9, -999.00,9,  -999.0,9,  -999.0,    28.4522,-999.0000,-999.000,-999.000
31WTTUNES_3,       P16C,     237,          1,         33,         33,2,19910907,       0224,    -9.4967,  -150.9943,       4929,   128.7,  26.5300,  36.2724,2,  36.2465,2,    171.5,2,   181.9,2,    1.85,2,    0.98,2,    0.81,2,    0.45,2,-999.000,9,-999.000,9,  -999.0,9,  -999.0,9,-999.000,9,-999.0000,9, -999.00,9, -999.00,9,  -999.0,9,  -999.0,    26.5007,-999.0000,-999.000,-999.000
31WTTUNES_3,       P16C,     237,          1,         32,         32,2,19910907,       0224,    -9.4967,  -150.9943,       4929,   169.5,  24.0874,  36.3722,2,  36.3641,2,    169.8,2,   170.6,2,    1.50,2,    3.73,2,    0.13,2,    0.51,2,-999.000,9,-999.000,9,  -999.0,9,  -999.0,9,-999.000,9,-999.0000,9, -999.00,9, -999.00,9,  -999.0,9,  -999.0,    24.0514,-999.0000,-999.000,-999.000
31WTTUNES_3,       P16C,     237,          1,         31,         31,2,19910907,       0224,    -9.4967,  -150.9943,       4929,   209.1,  20.8535,  35.9549,2,  36.1595,2,    168.5,2,   171.5,2,    1.37,2,    4.41,2,    0.02,2,    0.52,2,-999.000,9,-999.000,9,  -999.0,9,  -999.0,9,-999.000,9,-999.0000,9, -999.00,9, -999.00,9,  -999.0,9,  -999.0,    20.8134,-999.0000,-999.000,-999.000
31WTTUNES_3,       P16C,     237,          1,         30,         30,2,19910907,       0224,    -9.4967,  -150.9943,       4929,   259.4,  16.0898,  35.2376,2,  35.5243,2,    128.2,2,   152.5,2,    3.12,2,    8.91,2,    0.02,2,    0.85,2,-999.000,9,-999.000,9,  -999.0,9,  -999.0,9,-999.000,9,-999.0000,9, -999.00,9, -999.00,9,  -999.0,9,  -999.0,    16.0485,-999.0000,-999.000,-999.000
31WTTUNES_3,       P16C,     237,          1,         29,         29,2,19910907,       0224,    -9.4967,  -150.9943,       4929,   310.5,  12.8786,  34.8886,2,  34.9012,2,     89.8,2,    93.2,2,   12.28,2,   21.19,2,    0.01,2,    1.70,2,-999.000,9,-999.000,9,  -999.0,9,  -999.0,9,-999.000,9,-999.0000,9, -999.00,9, -999.00,9,  -999.0,9,  -999.0,    12.8360,-999.0000,-999.000,-999.000
31WTTUNES_3,       P16C,     237,          1,         28,         28,2,19910907,       0224,    -9.4967,  -150.9943,       4929,   361.4,  10.5578,  34.7440,2,  34.7545,2,     78.4,2,    76.1,2,   20.68,2,   27.75,2,    0.01,2,    2.07,2,-999.000,9,-999.000,9,  -999.0,9,  -999.0,9,-999.000,9,-999.0000,9, -999.00,9, -999.00,9,  -999.0,9,  -999.0,    10.5142,-999.0000,-999.000,-999.000
31WTTUNES_3,       P16C,     237,          1,         27,         27,2,19910907,       0224,    -9.4967,  -150.9943,       4929,   412.8,   9.2801,  34.6849,2,  34.6905,2,     81.8,2,    82.1,2,   25.86,2,   31.47,2,    0.01,2,    2.24,2,-999.000,9,-999.000,9,  -999.0,9,  -999.0,9,-999.000,9,-999.0000,9, -999.00,9, -999.00,9,  -999.0,9,  -999.0,     9.2340,-999.0000,-999.000,-999.000
31WTTUNES_3,       P16C,     237,          1,         26,         26,2,19910907,       0224,    -9.4967,  -150.9943,       4929,   463.0,   8.6105,  34.6486,2,  34.6433,2,     84.4,2,    84.5,2,   30.27,2,   32.54,2,    0.01,2,    2.28,2,-999.000,9,-999.000,9,  -999.0,9,  -999.0,9,-999.000,9,-999.0000,9, -999.00,9, -999.00,9,  -999.0,9,  -999.0,     8.5610,-999.0000,-999.000,-999.000
31WTTUNES_3,       P16C,     237,          1,         25,         25,2,19910907,       0224,    -9.4967,  -150.9943,       4929,   515.6,   7.9296,  34.6136,2,  34.6099,2,     90.2,2,    88.8,2,   32.98,2,   34.38,2,    0.00,2,    2.39,2,-999.000,9,-999.000,9,  -999.0,9,  -999.0,9,-999.000,9,-999.0000,9, -999.00,9, -999.00,9,  -999.0,9,  -999.0,     7.8769,-999.0000,-999.000,-999.000
31WTTUNES_3,       P16C,     237,          1,         24,         24,2,19910907,       0224,    -9.4967,  -150.9943,       4929,   566.4,   7.4585,  34.5844,2,  34.5783,2,     97.7,2,    95.5,2,   36.06,2,   35.00,2,    0.00,2,    2.44,2,-999.000,9,-999.000,9,  -999.0,9,  -999.0,9,-999.000,9,-999.0000,9, -999.00,9, -999.00,9,  -999.0,9,  -999.0,     7.4024,-999.0000,-999.000,-999.000
31WTTUNES_3,       P16C,     237,          1,         23,         23,2,19910907,       0224,    -9.4967,  -150.9943,       4929,   615.4,   6.8979,  34.5586,2,  34.5624,2,    102.0,2,   101.3,2,   38.94,2,   35.17,2,    0.01,2,    2.45,2,-999.000,9,-999.000,9,  -999.0,9,  -999.0,9,-999.000,9,-999.0000,9, -999.00,9, -999.00,9,  -999.0,9,  -999.0,     6.8395,-999.0000,-999.000,-999.000
31WTTUNES_3,       P16C,     237,          1,         22,         22,2,19910907,       0224,    -9.4967,  -150.9943,       4929,   717.7,   6.0033,  34.5361,2,  34.5327,2,     94.3,2,    93.8,2,   50.00,2,   37.89,2,    0.00,2,    2.66,2,-999.000,9,-999.000,9,  -999.0,9,  -999.0,9,-999.000,9,-999.0000,9, -999.00,9, -999.00,9,  -999.0,9,  -999.0,     5.9394,-999.0000,-999.000,-999.000
31WTTUNES_3,       P16C,     237,          1,         21,         21,2,19910907,       0224,    -9.4967,  -150.9943,       4929,   820.1,   5.3324,  34.5285,2,  34.5286,2,     97.8,2,    96.6,2,   60.11,2,   38.78,2,    0.00,2,    2.73,2,-999.000,9,-999.000,9,  -999.0,9,  -999.0,9,-999.000,9,-999.0000,9, -999.00,9, -999.00,9,  -999.0,9,  -999.0,     5.2630,-999.0000,-999.000,-999.000
31WTTUNES_3,       P16C,     237,          1,         20,         20,2,19910907,       0224,    -9.4967,  -150.9943,       4929,   923.7,   4.8272,  34.5304,2,  34.5335,2,    102.6,2,   101.5,2,   67.64,2,   38.86,2,    0.00,2,    2.74,2,-999.000,9,-999.000,9,  -999.0,9,  -999.0,9,-999.000,9,-999.0000,9, -999.00,9, -999.00,9,  -999.0,9,  -999.0,     4.7521,-999.0000,-999.000,-999.000
31WTTUNES_3,       P16C,     237,          1,         19,         19,2,19910907,       0224,    -9.4967,  -150.9943,       4929,  1026.4,   4.3420,  34.5387,2,  34.5411,2,    108.7,2,   107.3,2,   76.79,2,   38.69,2,    0.00,2,    2.74,2,-999.000,9,-999.000,9,  -999.0,9,  -999.0,9,-999.000,9,-999.0000,9, -999.00,9, -999.00,9,  -999.0,9,  -999.0,     4.2614,-999.0000,-999.000,-999.000
31WTTUNES_3,       P16C,     237,          1,         18,         18,2,19910907,       0224,    -9.4967,  -150.9943,       4929,  1179.8,   3.8443,  34.5551,2,  34.5537,2,    114.8,2,   114.0,2,   86.88,2,   38.31,2,    0.00,2,    2.71,2,-999.000,9,-999.000,9,  -999.0,9,  -999.0,9,-999.000,9,-999.0000,9, -999.00,9, -999.00,9,  -999.0,9,  -999.0,     3.7547,-999.0000,-999.000,-999.000
31WTTUNES_3,       P16C,     237,          1,         17,         17,2,19910907,       0224,    -9.4967,  -150.9943,       4929,  1386.0,   3.2627,  34.5767,2,  34.5769,2,    121.9,2,   122.5,2,   98.69,2,   37.95,2,    0.00,2,    2.68,2,-999.000,9,-999.000,9,  -999.0,9,  -999.0,9,-999.000,9,-999.0000,9, -999.00,9, -999.00,9,  -999.0,9,  -999.0,     3.1614,-999.0000,-999.000,-999.000
31WTTUNES_3,       P16C,     237,          1,         16,         16,2,19910907,       0224,    -9.4967,  -150.9943,       4929,  1591.1,   2.7881,  34.6012,2,  34.5981,2,    129.1,2,   129.5,2,  108.59,2,   37.68,2,    0.00,2,    2.64,2,-999.000,9,-999.000,9,  -999.0,9,  -999.0,9,-999.000,9,-999.0000,9, -999.00,9, -999.00,9,  -999.0,9,  -999.0,     2.6752,-999.0000,-999.000,-999.000
31WTTUNES_3,       P16C,     237,          1,         15,         15,2,19910907,       0224,    -9.4967,  -150.9943,       4929,  1796.0,   2.3732,  34.6262,2,  34.6225,2,    133.7,2,   135.8,2,  117.18,2,   36.41,3,    0.01,2,    2.54,3,-999.000,9,-999.000,9,  -999.0,9,  -999.0,9,-999.000,9,-999.0000,9, -999.00,9, -999.00,9,  -999.0,9,  -999.0,     2.2485,-999.0000,-999.000,-999.000
31WTTUNES_3,       P16C,     237,          1,         14,         14,2,19910907,       0224,    -9.4967,  -150.9943,       4929,  2001.3,   2.1484,  34.6412,2,  34.6407,2,    138.2,2,   139.9,2,  122.71,2,   36.94,2,    0.00,2,    2.56,2,-999.000,9,-999.000,9,  -999.0,9,  -999.0,9,-999.000,9,-999.0000,9, -999.00,9, -999.00,9,  -999.0,9,  -999.0,     2.0095,-999.0000,-999.000,-999.000
31WTTUNES_3,       P16C,     237,          1,         13,         13,2,19910907,       0224,    -9.4967,  -150.9943,       4929,  2155.9,   2.0454,  34.6498,2,  34.6502,2,    139.7,2,   141.0,2,  126.35,2,   36.70,2,    0.01,2,    2.53,2,-999.000,9,-999.000,9,  -999.0,9,  -999.0,9,-999.000,9,-999.0000,9, -999.00,9, -999.00,9,  -999.0,9,  -999.0,     1.8949,-999.0000,-999.000,-999.000
31WTTUNES_3,       P16C,     237,          1,         12,         12,2,19910907,       0224,    -9.4967,  -150.9943,       4929,  2410.6,   1.8944,  34.6635,2,  34.6631,2,    141.2,2,   142.9,2,  131.70,2,   35.17,4,    0.01,2,    2.34,4,-999.000,9,-999.000,9,  -999.0,9,  -999.0,9,-999.000,9,-999.0000,9, -999.00,9, -999.00,9,  -999.0,9,  -999.0,     1.7242,-999.0000,-999.000,-999.000
31WTTUNES_3,       P16C,     237,          1,         11,         11,2,19910907,       0224,    -9.4967,  -150.9943,       4929,  2564.5,   1.8255,  34.6700,2,  34.6677,2,    141.2,2,   142.5,2,  134.96,2,   35.27,4,    0.01,2,    2.41,4,-999.000,9,-999.000,9,  -999.0,9,  -999.0,9,-999.000,9,-999.0000,9, -999.00,9, -999.00,9,  -999.0,9,  -999.0,     1.6425,-999.0000,-999.000,-999.000
31WTTUNES_3,       P16C,     237,          1,         10,         10,2,19910907,       0224,    -9.4967,  -150.9943,       4929,  2822.4,   1.7462,  34.6757,2,  34.6794,3,    146.0,2,   147.8,2,  135.94,2,   33.78,4,    0.01,2,    2.33,4,-999.000,9,-999.000,9,  -999.0,9,  -999.0,9,-999.000,9,-999.0000,9, -999.00,9, -999.00,9,  -999.0,9,  -999.0,     1.5409,-999.0000,-999.000,-999.000
31WTTUNES_3,       P16C,     237,          1,          9,          9,2,19910907,       0224,    -9.4967,  -150.9943,       4929,  2977.6,   1.6948,  34.6788,2,  34.6794,2,    149.3,2,   150.3,2,  136.74,2,   36.42,2,    0.00,2,    2.52,2,-999.000,9,-999.000,9,  -999.0,9,  -999.0,9,-999.000,9,-999.0000,9, -999.00,9, -999.00,9,  -999.0,9,  -999.0,     1.4758,-999.0000,-999.000,-999.000
31WTTUNES_3,       P16C,     237,          1,          8,          8,2,19910907,       0224,    -9.4967,  -150.9943,       4929,  3236.0,   1.6276,  34.6829,2,  34.6836,2,    154.9,2,   156.1,2,  135.82,2,   36.11,2,    0.00,2,    2.48,2,-999.000,9,-999.000,9,  -999.0,9,  -999.0,9,-999.000,9,-999.0000,9, -999.00,9, -999.00,9,  -999.0,9,  -999.0,     1.3850,-999.0000,-999.000,-999.000
31WTTUNES_3,       P16C,     237,          1,          7,          7,2,19910907,       0224,    -9.4967,  -150.9943,       4929,  3496.2,   1.5483,  34.6874,2,  34.6879,2,    161.4,2,   162.4,2,  134.53,2,   35.65,2,    0.00,2,    2.46,2,-999.000,9,-999.000,9,  -999.0,9,  -999.0,9,-999.000,9,-999.0000,9, -999.00,9, -999.00,9,  -999.0,9,  -999.0,     1.2813,-999.0000,-999.000,-999.000
31WTTUNES_3,       P16C,     237,          1,          6,          6,2,19910907,       0224,    -9.4967,  -150.9943,       4929,  3755.0,   1.4775,  34.6914,2,  34.6924,2,    169.9,2,   170.2,2,  131.91,2,   35.05,2,    0.00,2,    2.40,2,-999.000,9,-999.000,9,  -999.0,9,  -999.0,9,-999.000,9,-999.0000,9, -999.00,9, -999.00,9,  -999.0,9,  -999.0,     1.1854,-999.0000,-999.000,-999.000
31WTTUNES_3,       P16C,     237,          1,          5,          5,2,19910907,       0224,    -9.4967,  -150.9943,       4929,  4013.6,   1.4056,  34.6957,2,  34.6960,2,    176.6,2,   177.3,2,  129.49,2,   34.50,2,    0.00,2,    2.39,2,-999.000,9,-999.000,9,  -999.0,9,  -999.0,9,-999.000,9,-999.0000,9, -999.00,9, -999.00,9,  -999.0,9,  -999.0,     1.0878,-999.0000,-999.000,-999.000
31WTTUNES_3,       P16C,     237,          1,          4,          4,2,19910907,       0224,    -9.4967,  -150.9943,       4929,  4273.8,   1.3551,  34.6990,2,  34.7003,2,    183.4,2,   185.2,2,  126.49,2,   34.04,2,    0.00,2,    2.35,2,-999.000,9,-999.000,9,  -999.0,9,  -999.0,9,-999.000,9,-999.0000,9, -999.00,9, -999.00,9,  -999.0,9,  -999.0,     1.0101,-999.0000,-999.000,-999.000
31WTTUNES_3,       P16C,     237,          1,          3,          3,2,19910907,       0224,    -9.4967,  -150.9943,       4929,  4533.3,   1.3061,  34.7026,2,  34.7017,2,    190.9,2,   190.8,2,  123.30,2,   33.57,2,    0.00,2,    2.31,2,-999.000,9,-999.000,9,  -999.0,9,  -999.0,9,-999.000,9,-999.0000,9, -999.00,9, -999.00,9,  -999.0,9,  -999.0,     0.9333,-999.0000,-999.000,-999.000
31WTTUNES_3,       P16C,     237,          1,          2,          2,3,19910907,       0224,    -9.4967,  -150.9943,       4929,  4793.4,   1.3169,  34.7037,2,  34.6284,4,    193.4,2,   138.0,4,  117.45,4,   36.76,4,    0.00,4,    2.59,4,-999.000,9,-999.000,9,  -999.0,9,  -999.0,9,-999.000,9,-999.0000,9, -999.00,9, -999.00,9,  -999.0,9,  -999.0,     0.9135,-999.0000,-999.000,-999.000
31WTTUNES_3,       P16C,     237,          1,          1,          1,2,19910907,       0224,    -9.4967,  -150.9943,       4929,  4991.0,   1.3316,  34.7040,2,  34.7034,2,    195.1,2,   193.6,2,  122.61,2,   33.26,2,    0.01,2,    2.30,2,-999.000,9,-999.000,9,  -999.0,9,  -999.0,9,-999.000,9,-999.0000,9, -999.00,9, -999.00,9,  -999.0,9,  -999.0,     0.9040,-999.0000,-999.000,-999.000