BOTTLE,20211117CCHSIORKP
EXPOCODE,SECT_ID,STNNBR,CASTNO,SAMPNO,BTLNBR,BTLNBR_FLAG_W,DATE,TIME,LATITUDE,LONGITUDE,DEPTH,CTDPRS,CTDTMP,CTDSAL,CTDSAL_FLAG_W,SALNTY,SALNTY_FLAG_W,CTDOXY,CTDOXY_FLAG_W,OXYGEN,OXYGEN_FLAG_W,SILCAT,SILCAT_FLAG_W,NITRAT,NITRAT_FLAG_W,NITRIT,NITRIT_FLAG_W,PHSPHT,PHSPHT_FLAG_W,CFC-11,CFC-11_FLAG_W,CFC-12,CFC-12_FLAG_W,TCARBN,TCARBN_FLAG_W,ALKALI,ALKALI_FLAG_W,TRITUM,TRITUM_FLAG_W,HELIUM,HELIUM_FLAG_W,DELHE3,DELHE3_FLAG_W,DELC13,DELC13_FLAG_W,DELC14,DELC14_FLAG_W,C14ERR,THETA,HELIER,DELHER,TRITER
,,,,,,,,,,,METERS,DBAR,ITS-90,PSS-78,,PSS-78,,UMOL/KG,,UMOL/KG,,UMOL/KG,,UMOL/KG,,UMOL/KG,,UMOL/KG,,PMOL/KG,,PMOL/KG,,UMOL/KG,,UMOL/KG,,TU,,NMOL/KG,,PERCNT,,/MILLE,,/MILLE,,/MILLE,ITS-90,NMOL/KG,PERCNT,TU
31WTTUNES_3,       P16C,     310,          1,         36,         36,2,19910926,       2120,    14.8385,  -152.8915,       5836,     6.9,  27.8627,  34.1659,2,  34.1579,2,    207.7,3,   212.3,2,    2.36,2,    0.11,2,    0.00,2,    0.16,2,   1.695,2,   0.977,2,  1907.5,2,  2245.6,2,-999.000,9,-999.0000,9, -999.00,9,    1.56,2,   100.5,2,     3.8,    27.8611,-999.0000,-999.000,-999.000
31WTTUNES_3,       P16C,     310,          1,         35,         35,2,19910926,       2120,    14.8385,  -152.8915,       5836,    58.5,  24.8180,  34.5598,2,  34.4679,2,    227.3,2,   227.3,2,    2.35,2,    0.11,2,    0.00,2,    0.15,2,   1.865,6,   1.038,6,  1939.1,2,  2272.5,2,   1.611,2,   1.7300,2,   -1.13,2,    1.55,2,    96.3,2,     3.0,    24.8054,   0.0080,   0.150,   0.006
31WTTUNES_3,       P16C,     310,          1,         34,         34,2,19910926,       2120,    14.8385,  -152.8915,       5836,   109.9,  18.2692,  34.6881,2,  34.7355,2,    183.3,2,   207.4,2,    3.13,2,    0.38,2,    0.05,2,    0.29,2,   2.366,2,   1.277,2,  2036.8,2,  2300.9,2,-999.000,9,-999.0000,9, -999.00,9,    1.30,2,   104.9,2,     3.0,    18.2502,-999.0000,-999.000,-999.000
31WTTUNES_3,       P16C,     310,          1,         33,         33,2,19910926,       2120,    14.8385,  -152.8915,       5836,   136.2,  15.3552,  34.3755,2,  34.5565,2,    149.1,2,   167.5,2,    6.84,2,    7.81,2,    0.03,2,    0.72,2,   2.164,2,   1.219,2,  2079.4,2,  2285.1,2,   2.138,2,   1.7730,2,    2.82,2,    0.85,2,   100.5,2,     3.0,    15.3344,   0.0080,   0.150,   0.006
31WTTUNES_3,       P16C,     310,          1,         32,         32,2,19910926,       2120,    14.8385,  -152.8915,       5836,   161.1,  13.3537,  34.2802,2,  34.3058,2,    121.4,2,   126.9,2,   14.36,2,   16.57,2,    0.01,2,    1.35,2,   1.755,2,   0.915,2,  2128.7,2,  2265.8,2,-999.000,9,-999.0000,9, -999.00,9,    0.43,2,    59.3,2,     3.0,    13.3313,-999.0000,-999.000,-999.000
31WTTUNES_3,       P16C,     310,          1,         31,         31,2,19910926,       2120,    14.8385,  -152.8915,       5836,   212.6,  11.2574,  34.5326,2,  34.5390,2,     27.3,2,    30.0,2,   30.18,2,   29.93,2,    0.00,2,    2.41,2,   0.398,6,   0.220,6,  2234.4,2,  2292.2,2,   0.930,2,   1.8030,2,   10.75,2,   -0.15,2,   -40.5,2,     2.8,    11.2309,   0.0080,   0.150,   0.004
31WTTUNES_3,       P16C,     310,          1,         30,         30,2,19910926,       2120,    14.8385,  -152.8915,       5836,   263.4,  10.0663,  34.5501,2,  34.5508,2,     22.3,2,    26.9,2,   34.52,2,   31.79,2,    0.00,2,    2.47,2,   0.191,2,   0.128,2,  2247.9,2,  2299.7,2,   0.569,2,   1.8100,2,    9.36,2,   -0.17,2,   -82.4,2,     3.8,    10.0356,   0.0090,   0.150,   0.003
31WTTUNES_3,       P16C,     310,          1,         29,         29,2,19910926,       2120,    14.8385,  -152.8915,       5836,   313.4,   9.4187,  34.5596,2,  34.5596,2,     17.4,2,    20.4,2,   38.47,2,   33.66,2,    0.00,2,    2.58,2,   0.088,2,   0.062,2,  2261.8,2,  2299.4,2,   0.336,2,   1.8210,2,    7.83,2,   -0.15,6,   -91.3,6,     8.8,     9.3836,   0.0090,   0.150,   0.004
31WTTUNES_3,       P16C,     310,          1,         28,         28,2,19910926,       2120,    14.8385,  -152.8915,       5836,   415.3,   8.3851,  34.5401,2,  34.5533,2,     20.1,2,    18.5,2,   45.79,2,   36.08,2,    0.00,2,    2.72,2,   0.016,6,   0.019,6,  2275.5,2,  2307.8,2,   0.101,2,   1.8240,2,    6.75,2,   -0.13,2,  -111.8,2,     2.4,     8.3415,   0.0090,   0.150,   0.002
31WTTUNES_3,       P16C,     310,          1,         27,         27,2,19910926,       2120,    14.8385,  -152.8915,       5836,   515.8,   7.4461,  34.5085,2,  34.5064,2,     20.2,2,    18.9,2,   57.25,2,   37.98,2,    0.00,2,    2.88,2,   0.006,2,   0.008,2,  2294.0,2,  2319.2,2,   0.097,2,   1.8240,2,    7.93,2,   -0.19,2,  -129.7,2,     2.8,     7.3953,   0.0090,   0.150,   0.002
31WTTUNES_3,       P16C,     310,          1,         26,         26,2,19910926,       2120,    14.8385,  -152.8915,       5836,   617.2,   6.6024,  34.4919,2,  34.4956,2,     16.0,2,    15.7,2,   69.72,2,   40.34,2,    0.00,2,    3.05,2,  -0.006,2,   0.002,2,  2312.0,2,  2330.0,2,   0.008,2,   1.8440,2,   10.38,2,   -0.23,2,  -149.3,2,     2.3,     6.5451,   0.0090,   0.150,   0.001
31WTTUNES_3,       P16C,     310,          1,         25,         25,2,19910926,       2120,    14.8385,  -152.8915,       5836,   719.1,   5.8197,  34.4998,2,  34.5031,2,     20.9,2,    20.6,2,   80.80,2,   41.99,2,    0.00,2,    3.11,2,   0.002,2,   0.004,2,  2324.9,2,  2343.7,2,-999.000,9,-999.0000,9, -999.00,9,   -0.30,2,  -171.4,2,     2.3,     5.7567,-999.0000,-999.000,-999.000
31WTTUNES_3,       P16C,     310,          1,         24,         24,2,19910926,       2120,    14.8385,  -152.8915,       5836,   818.6,   5.2196,  34.5046,2,  34.5099,2,     20.8,2,    21.5,2,   90.05,2,   43.05,2,    0.00,2,    3.16,2,   0.001,2,   0.002,2,  2337.1,2,  2350.8,2,-999.000,9,-999.0000,9, -999.00,9,   -0.41,2,  -189.5,2,     2.6,     5.1512,-999.0000,-999.000,-999.000
31WTTUNES_3,       P16C,     310,          1,         23,         23,2,19910926,       2120,    14.8385,  -152.8915,       5836,   919.9,   4.6790,  34.5190,2,  34.5223,2,     28.0,2,    28.9,2,   98.76,2,   43.36,2,    0.00,2,    3.17,2,-999.000,9,-999.000,9,  2345.2,2,  2363.1,2,-999.000,9,-999.0000,9, -999.00,9, -999.00,9,  -999.0,9,  -999.0,     4.6051,-999.0000,-999.000,-999.000
31WTTUNES_3,       P16C,     310,          1,         22,         22,2,19910926,       2120,    14.8385,  -152.8915,       5836,  1018.8,   4.3193,  34.5353,2,  34.5398,2,     35.2,2,    36.2,2,  105.87,2,   43.30,2,    0.00,2,    3.16,2,  -0.012,2,  -0.005,2,  2350.6,2,  2370.1,2,-999.000,9,-999.0000,9, -999.00,9,   -0.43,2,  -207.9,2,     2.5,     4.2396,-999.0000,-999.000,-999.000
31WTTUNES_3,       P16C,     310,          1,         21,         21,2,19910926,       2120,    14.8385,  -152.8915,       5836,  1219.2,   3.7013,  34.5584,2,  34.5620,2,     47.8,2,    48.9,2,  117.92,2,   42.61,2,    0.00,2,    3.09,2,-999.000,9,-999.000,9,  2354.9,2,  2382.7,2,-999.000,9,-999.0000,9, -999.00,9, -999.00,9,  -999.0,9,  -999.0,     3.6097,-999.0000,-999.000,-999.000
31WTTUNES_3,       P16C,     310,          1,         20,         20,2,19910926,       2120,    14.8385,  -152.8915,       5836,  1421.3,   3.1153,  34.5834,2,  34.5840,2,     61.3,2,    62.6,2,  129.99,2,   41.85,2,    0.00,2,    3.02,2,-999.000,9,-999.000,9,  2362.9,2,  2399.0,2,-999.000,9,-999.0000,9, -999.00,9, -999.00,9,  -999.0,9,  -999.0,     3.0127,-999.0000,-999.000,-999.000
31WTTUNES_3,       P16C,     310,          1,         19,         19,2,19910926,       2120,    14.8385,  -152.8915,       5836,  1623.9,   2.6523,  34.6028,2,  34.6048,2,     74.4,2,    74.9,2,  141.46,2,   40.88,2,    0.00,2,    2.93,2,-999.000,9,-999.000,9,  2365.3,2,  2406.5,2,-999.000,9,-999.0000,9, -999.00,9, -999.00,9,  -999.0,9,  -999.0,     2.5382,-999.0000,-999.000,-999.000
31WTTUNES_3,       P16C,     310,          1,         18,         18,2,19910926,       2120,    14.8385,  -152.8915,       5836,  1829.0,   2.3104,  34.6185,2,  34.6207,2,     85.6,2,    85.7,2,  148.97,2,   40.08,2,    0.00,2,    2.86,2,-999.000,9,-999.000,9,  2357.5,2,  -999.0,9,-999.000,9,-999.0000,9, -999.00,9, -999.00,9,  -999.0,9,  -999.0,     2.1839,-999.0000,-999.000,-999.000
31WTTUNES_3,       P16C,     310,          1,         17,         17,2,19910926,       2120,    14.8385,  -152.8915,       5836,  2035.3,   2.0747,  34.6338,2,  34.6333,2,     96.8,2,    97.0,2,  152.72,2,   39.54,2,    0.00,2,    2.81,2,-999.000,9,-999.000,9,  2353.9,2,  2420.7,2,-999.000,9,-999.0000,9, -999.00,9, -999.00,9,  -999.0,9,  -999.0,     1.9341,-999.0000,-999.000,-999.000
31WTTUNES_3,       P16C,     310,          1,         16,         16,2,19910926,       2120,    14.8385,  -152.8915,       5836,  2243.5,   1.9111,  34.6469,2,  34.6472,2,    106.5,2,   106.3,2,  154.49,2,   39.01,2,    0.00,2,    2.76,2,-999.000,9,-999.000,9,  2354.4,2,  -999.0,9,-999.000,9,-999.0000,9, -999.00,9, -999.00,9,  -999.0,9,  -999.0,     1.7553,-999.0000,-999.000,-999.000
31WTTUNES_3,       P16C,     310,          1,         15,         15,2,19910926,       2120,    14.8385,  -152.8915,       5836,  2451.5,   1.8176,  34.6558,2,  34.6561,2,    112.9,2,   113.3,2,  155.87,2,   38.67,2,    0.00,2,    2.72,2,-999.000,9,-999.000,9,  2352.1,2,  2429.8,2,-999.000,9,-999.0000,9, -999.00,9, -999.00,9,  -999.0,9,  -999.0,     1.6450,-999.0000,-999.000,-999.000
31WTTUNES_3,       P16C,     310,          1,         14,         14,2,19910926,       2120,    14.8385,  -152.8915,       5836,  2660.1,   1.7546,  34.6626,2,  34.6631,2,    118.2,2,   118.2,2,  156.84,2,   38.24,2,    0.00,2,    2.69,2,-999.000,9,-999.000,9,  2349.6,2,  -999.0,9,-999.000,9,-999.0000,9, -999.00,9, -999.00,9,  -999.0,9,  -999.0,     1.5643,-999.0000,-999.000,-999.000
31WTTUNES_3,       P16C,     310,          1,         13,         13,2,19910926,       2120,    14.8385,  -152.8915,       5836,  2868.7,   1.7000,  34.6678,2,  34.6686,2,    122.0,2,   121.8,2,  158.02,2,   37.98,2,    0.00,2,    2.66,2,-999.000,9,-999.000,9,  -999.0,9,  -999.0,9,-999.000,9,-999.0000,9, -999.00,9, -999.00,9,  -999.0,9,  -999.0,     1.4913,-999.0000,-999.000,-999.000
31WTTUNES_3,       P16C,     310,          1,         12,         12,2,19910926,       2120,    14.8385,  -152.8915,       5836,  3079.4,   1.6504,  34.6720,2,  34.6726,2,    124.8,2,   126.0,2,  159.59,2,   37.81,2,    0.00,2,    2.64,2,-999.000,9,-999.000,9,  2350.3,2,  2432.7,2,-999.000,9,-999.0000,9, -999.00,9, -999.00,9,  -999.0,9,  -999.0,     1.4227,-999.0000,-999.000,-999.000
31WTTUNES_3,       P16C,     310,          1,         11,         11,2,19910926,       2120,    14.8385,  -152.8915,       5836,  3341.0,   1.5885,  34.6757,2,  34.6759,2,    131.2,2,   132.2,2,  159.58,2,   37.43,2,    0.00,2,    2.61,2,-999.000,9,-999.000,9,  2344.8,2,  -999.0,9,-999.000,9,-999.0000,9, -999.00,9, -999.00,9,  -999.0,9,  -999.0,     1.3364,-999.0000,-999.000,-999.000
31WTTUNES_3,       P16C,     310,          1,         10,         10,2,19910926,       2120,    14.8385,  -152.8915,       5836,  3603.6,   1.5363,  34.6792,2,  34.6812,2,    136.9,2,   137.8,2,  159.76,2,   37.06,2,    0.00,2,    2.57,2,-999.000,9,-999.000,9,  2340.3,2,  2433.2,2,-999.000,9,-999.0000,9, -999.00,9, -999.00,9,  -999.0,9,  -999.0,     1.2586,-999.0000,-999.000,-999.000
31WTTUNES_3,       P16C,     310,          1,          9,          9,2,19910926,       2120,    14.8385,  -152.8915,       5836,  3865.5,   1.4779,  34.6840,2,  34.6842,2,    147.4,2,   148.3,2,  155.40,2,   36.32,2,    0.00,2,    2.52,2,-999.000,9,-999.000,9,  2330.9,2,  -999.0,9,-999.000,9,-999.0000,9, -999.00,9, -999.00,9,  -999.0,9,  -999.0,     1.1742,-999.0000,-999.000,-999.000
31WTTUNES_3,       P16C,     310,          1,          8,          8,2,19910926,       2120,    14.8385,  -152.8915,       5836,  4123.7,   1.4432,  34.6877,2,  34.6893,2,    156.3,2,   157.1,2,  150.05,2,   35.78,2,    0.00,2,    2.47,2,-999.000,9,-999.000,9,  2323.9,2,  2421.9,2,-999.000,9,-999.0000,9, -999.00,9, -999.00,9,  -999.0,9,  -999.0,     1.1122,-999.0000,-999.000,-999.000
31WTTUNES_3,       P16C,     310,          1,          7,          7,2,19910926,       2120,    14.8385,  -152.8915,       5836,  4379.5,   1.4264,  34.6901,2,  34.6906,2,    162.3,2,   163.7,2,  145.49,2,   35.13,2,    0.00,2,    2.42,2,-999.000,9,-999.000,9,  2315.6,2,  -999.0,9,-999.000,9,-999.0000,9, -999.00,9, -999.00,9,  -999.0,9,  -999.0,     1.0674,-999.0000,-999.000,-999.000
31WTTUNES_3,       P16C,     310,          1,          6,          6,2,19910926,       2120,    14.8385,  -152.8915,       5836,  4634.5,   1.4044,  34.6929,2,  34.6936,2,    169.5,2,   171.1,2,  141.69,2,   34.69,2,    0.00,2,    2.40,2,-999.000,9,-999.000,9,  2308.5,2,  -999.0,9,-999.000,9,-999.0000,9, -999.00,9, -999.00,9,  -999.0,9,  -999.0,     1.0168,-999.0000,-999.000,-999.000
31WTTUNES_3,       P16C,     310,          1,          5,          5,2,19910926,       2120,    14.8385,  -152.8915,       5836,  4886.7,   1.4020,  34.6945,2,  34.6958,2,    173.8,2,   174.6,2,  139.30,2,   34.37,2,    0.00,2,    2.38,2,-999.000,9,-999.000,9,  2304.1,2,  2408.6,2,-999.000,9,-999.0000,9, -999.00,9, -999.00,9,  -999.0,9,  -999.0,     0.9847,-999.0000,-999.000,-999.000
31WTTUNES_3,       P16C,     310,          1,          4,          4,2,19910926,       2120,    14.8385,  -152.8915,       5836,  5143.7,   1.4080,  34.6959,2,  34.6969,2,    178.2,2,   178.4,2,  137.31,2,   34.05,2,    0.00,2,    2.36,2,-999.000,9,-999.000,9,  2300.3,2,  -999.0,9,-999.000,9,-999.0000,9, -999.00,9, -999.00,9,  -999.0,9,  -999.0,     0.9593,-999.0000,-999.000,-999.000
31WTTUNES_3,       P16C,     310,          1,          3,          3,2,19910926,       2120,    14.8385,  -152.8915,       5836,  5408.8,   1.4310,  34.6964,2,  34.6975,2,    179.9,2,   180.6,2,  136.11,2,   33.99,2,    0.00,2,    2.35,2,-999.000,9,-999.000,9,  2295.8,2,  2406.2,2,-999.000,9,-999.0000,9, -999.00,9, -999.00,9,  -999.0,9,  -999.0,     0.9484,-999.0000,-999.000,-999.000
31WTTUNES_3,       P16C,     310,          1,          2,          2,2,19910926,       2120,    14.8385,  -152.8915,       5836,  5675.0,   1.4658,  34.6964,2,  34.6977,2,    181.2,2,   180.8,2,  136.50,2,   34.04,2,    0.00,2,    2.35,2,-999.000,9,-999.000,9,  2297.7,2,  -999.0,9,-999.000,9,-999.0000,9, -999.00,9, -999.00,9,  -999.0,9,  -999.0,     0.9480,-999.0000,-999.000,-999.000
31WTTUNES_3,       P16C,     310,          1,          1,          1,2,19910926,       2120,    14.8385,  -152.8915,       5836,  5919.0,   1.4993,  34.6964,2,  34.6971,2,    179.9,2,   183.0,2,  136.49,2,   34.04,2,    0.00,2,    2.35,2,-999.000,9,-999.000,9,  2299.0,2,  2402.8,2,-999.000,9,-999.0000,9, -999.00,9, -999.00,9,  -999.0,9,  -999.0,     0.9483,-999.0000,-999.000,-999.000