BOTTLE,20211117CCHSIORKP
EXPOCODE,SECT_ID,STNNBR,CASTNO,SAMPNO,BTLNBR,BTLNBR_FLAG_W,DATE,TIME,LATITUDE,LONGITUDE,DEPTH,CTDPRS,CTDTMP,CTDSAL,CTDSAL_FLAG_W,SALNTY,SALNTY_FLAG_W,CTDOXY,CTDOXY_FLAG_W,OXYGEN,OXYGEN_FLAG_W,SILCAT,SILCAT_FLAG_W,NITRAT,NITRAT_FLAG_W,NITRIT,NITRIT_FLAG_W,PHSPHT,PHSPHT_FLAG_W,CFC-11,CFC-11_FLAG_W,CFC-12,CFC-12_FLAG_W,TCARBN,TCARBN_FLAG_W,ALKALI,ALKALI_FLAG_W,TRITUM,TRITUM_FLAG_W,HELIUM,HELIUM_FLAG_W,DELHE3,DELHE3_FLAG_W,DELC13,DELC13_FLAG_W,DELC14,DELC14_FLAG_W,C14ERR,THETA,HELIER,DELHER,TRITER
,,,,,,,,,,,METERS,DBAR,ITS-90,PSS-78,,PSS-78,,UMOL/KG,,UMOL/KG,,UMOL/KG,,UMOL/KG,,UMOL/KG,,UMOL/KG,,PMOL/KG,,PMOL/KG,,UMOL/KG,,UMOL/KG,,TU,,NMOL/KG,,PERCNT,,/MILLE,,/MILLE,,/MILLE,ITS-90,NMOL/KG,PERCNT,TU
31WTTUNES_3,       P16C,     325,          1,         15,         15,2,19910930,       1853,    18.8795,  -155.6392,        899,     6.0,  26.5336,  34.6682,2,  34.6399,2,    205.7,3,   199.7,2,    2.82,2,    0.13,2,    0.00,2,    0.13,2,-999.000,9,-999.000,9,  -999.0,9,  -999.0,9,-999.000,9,-999.0000,9, -999.00,9, -999.00,9,  -999.0,9,  -999.0,    26.5323,-999.0000,-999.000,-999.000
31WTTUNES_3,       P16C,     325,          1,         14,         14,2,19910930,       1853,    18.8795,  -155.6392,        899,    45.3,  26.4804,  34.6991,2,  34.6983,2,    207.5,2,   208.3,2,    3.01,2,    0.13,2,    0.00,2,    0.12,2,-999.000,9,-999.000,9,  -999.0,9,  -999.0,9,-999.000,9,-999.0000,9, -999.00,9, -999.00,9,  -999.0,9,  -999.0,    26.4702,-999.0000,-999.000,-999.000
31WTTUNES_3,       P16C,     325,          1,         13,         13,2,19910930,       1853,    18.8795,  -155.6392,        899,    85.5,  24.3211,  34.9723,2,  34.9876,2,    218.7,2,   215.6,2,    3.22,2,    0.18,2,    0.00,2,    0.10,2,-999.000,9,-999.000,9,  -999.0,9,  -999.0,9,-999.000,9,-999.0000,9, -999.00,9, -999.00,9,  -999.0,9,  -999.0,    24.3030,-999.0000,-999.000,-999.000
31WTTUNES_3,       P16C,     325,          1,         12,         12,2,19910930,       1853,    18.8795,  -155.6392,        899,   125.9,  22.1844,  35.1180,2,  35.1087,2,    212.1,2,   205.8,2,    3.41,2,    0.35,2,    0.09,2,    0.14,2,-999.000,9,-999.000,9,  -999.0,9,  -999.0,9,-999.000,9,-999.0000,9, -999.00,9, -999.00,9,  -999.0,9,  -999.0,    22.1593,-999.0000,-999.000,-999.000
31WTTUNES_3,       P16C,     325,          1,         11,         11,2,19910930,       1853,    18.8795,  -155.6392,        899,   166.0,  19.6924,  35.0442,2,  35.0104,2,    191.5,2,   177.5,2,    4.63,2,    3.06,2,    0.04,2,    0.32,2,-999.000,9,-999.000,9,  -999.0,9,  -999.0,9,-999.000,9,-999.0000,9, -999.00,9, -999.00,9,  -999.0,9,  -999.0,    19.6620,-999.0000,-999.000,-999.000
31WTTUNES_3,       P16C,     325,          1,         10,         10,2,19910930,       1853,    18.8795,  -155.6392,        899,   206.2,  15.7393,  34.5794,2,  34.5734,2,    186.4,2,   179.8,2,    8.30,2,    7.88,2,    0.01,2,    0.66,2,-999.000,9,-999.000,9,  -999.0,9,  -999.0,9,-999.000,9,-999.0000,9, -999.00,9, -999.00,9,  -999.0,9,  -999.0,    15.7071,-999.0000,-999.000,-999.000
31WTTUNES_3,       P16C,     325,          1,          9,          9,2,19910930,       1853,    18.8795,  -155.6392,        899,   258.0,  11.2107,  34.1910,2,  34.1791,2,    174.6,2,   177.8,2,   19.54,2,   16.41,2,    0.01,2,    1.24,2,-999.000,9,-999.000,9,  -999.0,9,  -999.0,9,-999.000,9,-999.0000,9, -999.00,9, -999.00,9,  -999.0,9,  -999.0,    11.1787,-999.0000,-999.000,-999.000
31WTTUNES_3,       P16C,     325,          1,          8,          8,2,19910930,       1853,    18.8795,  -155.6392,        899,   308.7,   9.6800,  34.1281,2,  34.1277,2,    164.3,2,   160.6,2,   28.14,2,   21.12,2,    0.01,2,    1.58,2,-999.000,9,-999.000,9,  -999.0,9,  -999.0,9,-999.000,9,-999.0000,9, -999.00,9, -999.00,9,  -999.0,9,  -999.0,     9.6451,-999.0000,-999.000,-999.000
31WTTUNES_3,       P16C,     325,          1,          7,          7,2,19910930,       1853,    18.8795,  -155.6392,        899,   359.8,   8.6851,  34.1382,2,  34.1444,2,    127.8,2,   126.2,2,   37.97,2,   25.79,2,    0.01,2,    1.94,2,-999.000,9,-999.000,9,  -999.0,9,  -999.0,9,-999.000,9,-999.0000,9, -999.00,9, -999.00,9,  -999.0,9,  -999.0,     8.6469,-999.0000,-999.000,-999.000
31WTTUNES_3,       P16C,     325,          1,          6,          6,2,19910930,       1853,    18.8795,  -155.6392,        899,   410.1,   7.4910,  34.2139,2,  34.2034,2,     69.8,2,    74.1,2,   52.52,2,   32.07,2,    0.01,2,    2.44,2,-999.000,9,-999.000,9,  -999.0,9,  -999.0,9,-999.000,9,-999.0000,9, -999.00,9, -999.00,9,  -999.0,9,  -999.0,     7.4510,-999.0000,-999.000,-999.000
31WTTUNES_3,       P16C,     325,          1,          5,          5,2,19910930,       1853,    18.8795,  -155.6392,        899,   510.7,   6.3426,  34.2935,2,  34.2795,2,     36.6,2,    38.4,2,   69.97,2,   37.63,2,    0.01,2,    2.83,2,-999.000,9,-999.000,9,  -999.0,9,  -999.0,9,-999.000,9,-999.0000,9, -999.00,9, -999.00,9,  -999.0,9,  -999.0,     6.2968,-999.0000,-999.000,-999.000
31WTTUNES_3,       P16C,     325,          1,          4,          4,2,19910930,       1853,    18.8795,  -155.6392,        899,   610.9,   5.5450,  34.3592,2,  34.3721,2,     29.6,2,    29.4,2,   86.40,2,   40.61,2,    0.00,2,    3.01,2,-999.000,9,-999.000,9,  -999.0,9,  -999.0,9,-999.000,9,-999.0000,9, -999.00,9, -999.00,9,  -999.0,9,  -999.0,     5.4934,-999.0000,-999.000,-999.000
31WTTUNES_3,       P16C,     325,          1,          3,          3,2,19910930,       1853,    18.8795,  -155.6392,        899,   709.4,   4.9630,  34.4213,2,  34.4218,2,     29.6,2,    30.3,2,   96.29,2,   41.71,2,    0.00,2,    3.05,2,-999.000,9,-999.000,9,  -999.0,9,  -999.0,9,-999.000,9,-999.0000,9, -999.00,9, -999.00,9,  -999.0,9,  -999.0,     4.9057,-999.0000,-999.000,-999.000
31WTTUNES_3,       P16C,     325,          1,          2,          2,2,19910930,       1853,    18.8795,  -155.6392,        899,   809.5,   4.7467,  34.4592,2,  34.4567,2,     33.4,2,    33.4,2,   99.83,2,   41.87,2,    0.00,2,    3.06,2,-999.000,9,-999.000,9,  -999.0,9,  -999.0,9,-999.000,9,-999.0000,9, -999.00,9, -999.00,9,  -999.0,9,  -999.0,     4.6820,-999.0000,-999.000,-999.000
31WTTUNES_3,       P16C,     325,          1,          1,          1,2,19910930,       1853,    18.8795,  -155.6392,        899,   937.1,   4.2464,-999.0000,5,  34.4940,2,   -999.0,5,    41.1,2,  109.53,2,   42.17,2,    0.00,2,    3.06,2,-999.000,9,-999.000,9,  -999.0,9,  -999.0,9,-999.000,9,-999.0000,9, -999.00,9, -999.00,9,  -999.0,9,  -999.0,     4.1742,-999.0000,-999.000,-999.000
31WTTUNES_3,       P16C,     326,          1,          7,          7,2,19910930,       2007,    18.8805,  -155.6562,        244,     5.0,  26.4918,  34.5860,2,  34.5893,2,    214.4,3,   206.5,2,    2.86,2,    0.14,2,    0.00,2,    0.11,2,-999.000,9,-999.000,9,  -999.0,9,  -999.0,9,-999.000,9,-999.0000,9, -999.00,9, -999.00,9,  -999.0,9,  -999.0,    26.4907,-999.0000,-999.000,-999.000
31WTTUNES_3,       P16C,     326,          1,          6,          6,2,19910930,       2007,    18.8805,  -155.6562,        244,    40.7,  26.4119,  34.6739,2,  34.6997,2,    203.8,2,   211.5,2,    2.85,2,    0.14,2,    0.00,2,    0.12,2,-999.000,9,-999.000,9,  -999.0,9,  -999.0,9,-999.000,9,-999.0000,9, -999.00,9, -999.00,9,  -999.0,9,  -999.0,    26.4028,-999.0000,-999.000,-999.000
31WTTUNES_3,       P16C,     326,          1,          5,          5,2,19910930,       2007,    18.8805,  -155.6562,        244,    80.4,  24.7524,  34.9463,2,  34.9490,2,    222.3,2,   215.1,2,    2.85,2,    0.14,2,    0.00,2,    0.08,2,-999.000,9,-999.000,9,  -999.0,9,  -999.0,9,-999.000,9,-999.0000,9, -999.00,9, -999.00,9,  -999.0,9,  -999.0,    24.7351,-999.0000,-999.000,-999.000
31WTTUNES_3,       P16C,     326,          1,          4,          4,2,19910930,       2007,    18.8805,  -155.6562,        244,   120.0,  21.8640,  35.1125,2,  35.1098,2,    208.8,2,   206.8,2,    3.25,2,    0.47,2,    0.11,2,    0.15,2,-999.000,9,-999.000,9,  -999.0,9,  -999.0,9,-999.000,9,-999.0000,9, -999.00,9, -999.00,9,  -999.0,9,  -999.0,    21.8404,-999.0000,-999.000,-999.000
31WTTUNES_3,       P16C,     326,          1,          3,          3,2,19910930,       2007,    18.8805,  -155.6562,        244,   158.9,  20.0164,  35.0678,2,  35.0575,2,    192.7,2,   192.3,2,    4.06,2,    2.39,2,    0.05,2,    0.28,2,-999.000,9,-999.000,9,  -999.0,9,  -999.0,9,-999.000,9,-999.0000,9, -999.00,9, -999.00,9,  -999.0,9,  -999.0,    19.9870,-999.0000,-999.000,-999.000
31WTTUNES_3,       P16C,     326,          1,          2,          2,2,19910930,       2007,    18.8805,  -155.6562,        244,   199.4,  15.0942,  34.5223,2,  34.5241,2,    181.1,2,   183.9,2,    8.94,2,    8.64,2,    0.01,2,    0.71,2,-999.000,9,-999.000,9,  -999.0,9,  -999.0,9,-999.000,9,-999.0000,9, -999.00,9, -999.00,9,  -999.0,9,  -999.0,    15.0639,-999.0000,-999.000,-999.000
31WTTUNES_3,       P16C,     326,          1,          1,          1,2,19910930,       2007,    18.8805,  -155.6562,        244,   284.4,   9.9364,-999.0000,5,  34.1426,2,   -999.0,5,   162.2,2,   25.61,2,   19.87,2,    0.01,2,    1.50,2,-999.000,9,-999.000,9,  -999.0,9,  -999.0,9,-999.000,9,-999.0000,9, -999.00,9, -999.00,9,  -999.0,9,  -999.0,     9.9037,-999.0000,-999.000,-999.000