BOTTLE,20211117CCHSIORKP
EXPOCODE,SECT_ID,STNNBR,CASTNO,SAMPNO,BTLNBR,BTLNBR_FLAG_W,DATE,TIME,LATITUDE,LONGITUDE,DEPTH,CTDPRS,CTDTMP,CTDSAL,CTDSAL_FLAG_W,SALNTY,SALNTY_FLAG_W,CTDOXY,CTDOXY_FLAG_W,OXYGEN,OXYGEN_FLAG_W,SILCAT,SILCAT_FLAG_W,NITRAT,NITRAT_FLAG_W,NITRIT,NITRIT_FLAG_W,PHSPHT,PHSPHT_FLAG_W,CFC-11,CFC-11_FLAG_W,CFC-12,CFC-12_FLAG_W,TCARBN,TCARBN_FLAG_W,ALKALI,ALKALI_FLAG_W,TRITUM,TRITUM_FLAG_W,HELIUM,HELIUM_FLAG_W,DELHE3,DELHE3_FLAG_W,DELC13,DELC13_FLAG_W,DELC14,DELC14_FLAG_W,C14ERR,THETA,HELIER,DELHER,TRITER
,,,,,,,,,,,METERS,DBAR,ITS-90,PSS-78,,PSS-78,,UMOL/KG,,UMOL/KG,,UMOL/KG,,UMOL/KG,,UMOL/KG,,UMOL/KG,,PMOL/KG,,PMOL/KG,,UMOL/KG,,UMOL/KG,,TU,,NMOL/KG,,PERCNT,,/MILLE,,/MILLE,,/MILLE,ITS-90,NMOL/KG,PERCNT,TU
31WTTUNES_3,       P16C,     272,          1,         36,         36,2,19910916,       0040,     0.6667,  -150.9967,       4199,     5.5,  27.5391,  34.8249,2,  34.8188,2,    214.8,3,   210.9,2,    2.74,2,    1.87,2,    0.20,2,    0.37,2,   1.671,2,   0.937,2,  -999.0,9,  -999.0,9,-999.000,9,-999.0000,9, -999.00,9, -999.00,9,  -999.0,9,  -999.0,    27.5378,-999.0000,-999.000,-999.000
31WTTUNES_3,       P16C,     272,          1,         35,         35,4,19910916,       0040,     0.6667,  -150.9967,       4199,    37.0,  26.6028,  34.9434,2,-999.0000,9,    200.0,2,  -999.0,9, -999.00,9, -999.00,9, -999.00,9, -999.00,9,-999.000,9,-999.000,9,  -999.0,9,  -999.0,9,-999.000,9,-999.0000,9, -999.00,9, -999.00,9,  -999.0,9,  -999.0,    26.5944,-999.0000,-999.000,-999.000
31WTTUNES_3,       P16C,     272,          1,         34,         34,2,19910916,       0040,     0.6667,  -150.9967,       4199,    66.1,  26.3386,  35.1016,2,  35.1226,2,    190.6,2,   192.3,2,    3.52,2,    4.92,2,    0.30,2,    0.58,2,   1.627,2,   0.929,2,  -999.0,9,  -999.0,9,-999.000,9,-999.0000,9, -999.00,9, -999.00,9,  -999.0,9,  -999.0,    26.3238,-999.0000,-999.000,-999.000
31WTTUNES_3,       P16C,     272,          1,         33,         33,2,19910916,       0040,     0.6667,  -150.9967,       4199,    92.4,  25.7876,  35.1313,2,  35.1238,2,    174.5,2,   177.8,2,    4.30,2,    5.93,2,    0.42,2,    0.63,2,   1.602,2,   0.884,2,  -999.0,9,  -999.0,9,-999.000,9,-999.0000,9, -999.00,9, -999.00,9,  -999.0,9,  -999.0,    25.7671,-999.0000,-999.000,-999.000
31WTTUNES_3,       P16C,     272,          1,         32,         32,2,19910916,       0040,     0.6667,  -150.9967,       4199,   115.5,  23.8084,  35.0259,2,  35.0579,2,    144.9,2,   138.4,2,    6.85,2,   10.02,2,    0.06,2,    0.79,2,   1.493,2,   0.814,2,  -999.0,9,  -999.0,9,-999.000,9,-999.0000,9, -999.00,9, -999.00,9,  -999.0,9,  -999.0,    23.7842,-999.0000,-999.000,-999.000
31WTTUNES_3,       P16C,     272,          1,         31,         31,2,19910916,       0040,     0.6667,  -150.9967,       4199,   147.7,  19.6987,  35.0033,2,  35.0006,2,    140.3,2,   137.9,2,    8.99,2,   11.17,2,    0.03,2,    0.86,2,   1.498,2,   0.816,2,  -999.0,9,  -999.0,9,-999.000,9,-999.0000,9, -999.00,9, -999.00,9,  -999.0,9,  -999.0,    19.6716,-999.0000,-999.000,-999.000
31WTTUNES_3,       P16C,     272,          1,         30,         30,2,19910916,       0040,     0.6667,  -150.9967,       4199,   182.6,  14.1294,  34.8333,2,  34.8342,2,    136.0,2,   138.2,2,   16.82,2,   16.93,2,    0.01,2,    1.26,2,   1.091,2,   0.599,2,  -999.0,9,  -999.0,9,-999.000,9,-999.0000,9, -999.00,9, -999.00,9,  -999.0,9,  -999.0,    14.1029,-999.0000,-999.000,-999.000
31WTTUNES_3,       P16C,     272,          1,         29,         29,2,19910916,       0040,     0.6667,  -150.9967,       4199,   225.2,  13.0781,  34.8463,2,  34.8780,2,    127.3,2,   115.6,2,   19.56,2,   22.54,2,    0.01,2,    1.63,2,   0.669,6,   0.401,6,  -999.0,9,  -999.0,9,-999.000,9,-999.0000,9, -999.00,9, -999.00,9,  -999.0,9,  -999.0,    13.0470,-999.0000,-999.000,-999.000
31WTTUNES_3,       P16C,     272,          1,         28,         28,2,19910916,       0040,     0.6667,  -150.9967,       4199,   266.3,  12.0159,  34.8473,2,  34.8357,2,     82.5,2,    69.8,2,   24.25,2,   27.95,2,    0.01,2,    1.97,2,   0.388,2,   0.222,2,  -999.0,9,  -999.0,9,-999.000,9,-999.0000,9, -999.00,9, -999.00,9,  -999.0,9,  -999.0,    11.9811,-999.0000,-999.000,-999.000
31WTTUNES_3,       P16C,     272,          1,         27,         27,2,19910916,       0040,     0.6667,  -150.9967,       4199,   307.5,  11.7348,  34.8342,2,  34.8288,2,     56.9,2,    60.3,2,   25.81,2,   29.81,2,    0.01,2,    2.10,2,   0.314,2,   0.190,2,  -999.0,9,  -999.0,9,-999.000,9,-999.0000,9, -999.00,9, -999.00,9,  -999.0,9,  -999.0,    11.6951,-999.0000,-999.000,-999.000
31WTTUNES_3,       P16C,     272,          1,         26,         26,2,19910916,       0040,     0.6667,  -150.9967,       4199,   348.5,  10.4985,  34.7574,2,  34.7581,2,     19.1,2,    23.6,2,   32.67,2,   34.97,2,    0.01,2,    2.45,2,   0.110,2,   0.069,2,  -999.0,9,  -999.0,9,-999.000,9,-999.0000,9, -999.00,9, -999.00,9,  -999.0,9,  -999.0,    10.4566,-999.0000,-999.000,-999.000
31WTTUNES_3,       P16C,     272,          1,         25,         25,2,19910916,       0040,     0.6667,  -150.9967,       4199,   389.2,  10.1295,  34.7358,2,  34.7302,2,     20.4,2,    23.2,2,   34.04,2,   35.42,2,    0.01,2,    2.47,2,   0.093,6,   0.057,6,  -999.0,9,  -999.0,9,-999.000,9,-999.0000,9, -999.00,9, -999.00,9,  -999.0,9,  -999.0,    10.0837,-999.0000,-999.000,-999.000
31WTTUNES_3,       P16C,     272,          1,         24,         24,2,19910916,       0040,     0.6667,  -150.9967,       4199,   428.7,   9.2722,  34.6798,2,  34.6838,2,     27.4,2,    28.4,2,   36.79,2,   36.52,2,    0.01,2,    2.53,2,   0.050,2,   0.037,2,  -999.0,9,  -999.0,9,-999.000,9,-999.0000,9, -999.00,9, -999.00,9,  -999.0,9,  -999.0,     9.2243,-999.0000,-999.000,-999.000
31WTTUNES_3,       P16C,     272,          1,         23,         23,2,19910916,       0040,     0.6667,  -150.9967,       4199,   469.3,   8.6076,  34.6477,2,  34.6586,2,     31.7,2,    32.3,2,   39.33,2,   37.52,2,    0.01,2,    2.60,2,   0.035,2,   0.022,2,  -999.0,9,  -999.0,9,-999.000,9,-999.0000,9, -999.00,9, -999.00,9,  -999.0,9,  -999.0,     8.5574,-999.0000,-999.000,-999.000
31WTTUNES_3,       P16C,     272,          1,         22,         22,2,19910916,       0040,     0.6667,  -150.9967,       4199,   509.3,   8.1620,  34.6290,2,  34.6282,2,     37.9,2,    40.6,2,   42.08,2,   38.18,2,    0.01,2,    2.66,2,   0.016,2,   0.017,6,  -999.0,9,  -999.0,9,-999.000,9,-999.0000,9, -999.00,9, -999.00,9,  -999.0,9,  -999.0,     8.1091,-999.0000,-999.000,-999.000
31WTTUNES_3,       P16C,     272,          1,         21,         21,2,19910916,       0040,     0.6667,  -150.9967,       4199,   560.5,   7.6221,  34.6046,2,  34.6060,2,     51.8,2,    51.4,2,   44.24,2,   37.87,2,    0.01,2,    2.65,2,   0.019,6,   0.018,6,  -999.0,9,  -999.0,9,-999.000,9,-999.0000,9, -999.00,9, -999.00,9,  -999.0,9,  -999.0,     7.5660,-999.0000,-999.000,-999.000
31WTTUNES_3,       P16C,     272,          1,         20,         20,2,19910916,       0040,     0.6667,  -150.9967,       4199,   611.6,   6.8391,  34.5734,2,  34.5779,2,     62.7,2,    62.6,2,   49.52,2,   38.08,2,    0.01,2,    2.68,2,   0.011,2,   0.054,4,  -999.0,9,  -999.0,9,-999.000,9,-999.0000,9, -999.00,9, -999.00,9,  -999.0,9,  -999.0,     6.7813,-999.0000,-999.000,-999.000
31WTTUNES_3,       P16C,     272,          1,         19,         19,2,19910916,       0040,     0.6667,  -150.9967,       4199,   714.4,   6.2683,  34.5595,2,  34.5586,2,     67.7,2,    67.6,2,   57.35,2,   38.98,2,    0.01,2,    2.75,2,   0.006,2,   0.014,2,  -999.0,9,  -999.0,9,-999.000,9,-999.0000,9, -999.00,9, -999.00,9,  -999.0,9,  -999.0,     6.2033,-999.0000,-999.000,-999.000
31WTTUNES_3,       P16C,     272,          1,         18,         18,2,19910916,       0040,     0.6667,  -150.9967,       4199,   816.3,   5.6633,  34.5503,2,  34.5510,2,     73.8,2,    72.0,2,   65.38,2,   39.38,2,    0.01,2,    2.79,2,  -0.001,2,   0.005,2,  -999.0,9,  -999.0,9,-999.000,9,-999.0000,9, -999.00,9, -999.00,9,  -999.0,9,  -999.0,     5.5923,-999.0000,-999.000,-999.000
31WTTUNES_3,       P16C,     272,          1,         17,         17,2,19910916,       0040,     0.6667,  -150.9967,       4199,   919.6,   4.9890,  34.5493,2,  34.5478,2,     83.2,2,    82.0,2,   76.16,2,   39.13,2,    0.01,2,    2.78,2,-999.000,9,-999.000,9,  -999.0,9,  -999.0,9,-999.000,9,-999.0000,9, -999.00,9, -999.00,9,  -999.0,9,  -999.0,     4.9129,-999.0000,-999.000,-999.000
31WTTUNES_3,       P16C,     272,          1,         16,         16,2,19910916,       0040,     0.6667,  -150.9967,       4199,  1021.6,   4.6891,  34.5545,2,  34.5506,2,     82.5,2,    81.8,2,   81.05,2,   39.38,2,    0.01,2,    2.80,2,   0.002,2,   0.008,2,  -999.0,9,  -999.0,9,-999.000,9,-999.0000,9, -999.00,9, -999.00,9,  -999.0,9,  -999.0,     4.6062,-999.0000,-999.000,-999.000
31WTTUNES_3,       P16C,     272,          1,         15,         15,2,19910916,       0040,     0.6667,  -150.9967,       4199,  1122.8,   4.2649,  34.5630,2,  34.5610,2,     84.3,2,    82.4,2,   92.02,2,   39.78,2,    0.01,2,    2.84,2,-999.000,9,-999.000,9,  -999.0,9,  -999.0,9,-999.000,9,-999.0000,9, -999.00,9, -999.00,9,  -999.0,9,  -999.0,     4.1765,-999.0000,-999.000,-999.000
31WTTUNES_3,       P16C,     272,          1,         14,         14,2,19910916,       0040,     0.6667,  -150.9967,       4199,  1326.6,   3.3877,  34.5914,2,  34.5851,2,     87.1,2,    85.8,2,  110.81,2,   40.08,2,    0.01,2,    2.85,2,  -0.002,2,   0.003,2,  -999.0,9,  -999.0,9,-999.000,9,-999.0000,9, -999.00,9, -999.00,9,  -999.0,9,  -999.0,     3.2901,-999.0000,-999.000,-999.000
31WTTUNES_3,       P16C,     272,          1,         13,         13,4,19910916,       0040,     0.6667,  -150.9967,       4199,  1530.3,   2.9959,  34.6067,2,-999.0000,9,     94.0,2,  -999.0,9, -999.00,9, -999.00,9, -999.00,9, -999.00,9,-999.000,9,-999.000,9,  -999.0,9,  -999.0,9,-999.000,9,-999.0000,9, -999.00,9, -999.00,9,  -999.0,9,  -999.0,     2.8855,-999.0000,-999.000,-999.000
31WTTUNES_3,       P16C,     272,          1,         12,         12,2,19910916,       0040,     0.6667,  -150.9967,       4199,  1736.8,   2.5938,  34.6255,2,  34.6238,2,     99.5,2,    97.1,2,  132.75,2,   39.54,2,    0.00,2,    2.79,2,-999.000,9,-999.000,9,  -999.0,9,  -999.0,9,-999.000,9,-999.0000,9, -999.00,9, -999.00,9,  -999.0,9,  -999.0,     2.4710,-999.0000,-999.000,-999.000
31WTTUNES_3,       P16C,     272,          1,         11,         11,2,19910916,       0040,     0.6667,  -150.9967,       4199,  1942.5,   2.3203,  34.6381,2,  34.6366,2,    106.4,2,   106.7,2, -999.00,9, -999.00,9, -999.00,9, -999.00,9,-999.000,9,-999.000,9,  -999.0,9,  -999.0,9,-999.000,9,-999.0000,9, -999.00,9, -999.00,9,  -999.0,9,  -999.0,     2.1840,-999.0000,-999.000,-999.000
31WTTUNES_3,       P16C,     272,          1,         10,         10,2,19910916,       0040,     0.6667,  -150.9967,       4199,  2150.3,   2.0638,  34.6525,2,  34.6504,2,    113.7,2,   113.9,2,  144.91,2,   38.58,2,    0.01,2,    2.70,2,-999.000,9,-999.000,9,  -999.0,9,  -999.0,9,-999.000,9,-999.0000,9, -999.00,9, -999.00,9,  -999.0,9,  -999.0,     1.9134,-999.0000,-999.000,-999.000
31WTTUNES_3,       P16C,     272,          1,          9,          9,2,19910916,       0040,     0.6667,  -150.9967,       4199,  2357.9,   1.9138,  34.6597,2,  34.6592,2,    119.3,2,   119.3,2,  147.85,2,   38.17,2,    0.01,2,    2.67,2,-999.000,9,-999.000,9,  -999.0,9,  -999.0,9,-999.000,9,-999.0000,9, -999.00,9, -999.00,9,  -999.0,9,  -999.0,     1.7479,-999.0000,-999.000,-999.000
31WTTUNES_3,       P16C,     272,          1,          8,          8,2,19910916,       0040,     0.6667,  -150.9967,       4199,  2566.0,   1.8066,  34.6666,2,  34.6680,2,    124.3,2,   123.4,2,  150.60,2,   37.94,2,    0.00,2,    2.63,2,-999.000,9,-999.000,9,  -999.0,9,  -999.0,9,-999.000,9,-999.0000,9, -999.00,9, -999.00,9,  -999.0,9,  -999.0,     1.6238,-999.0000,-999.000,-999.000
31WTTUNES_3,       P16C,     272,          1,          7,          7,2,19910916,       0040,     0.6667,  -150.9967,       4199,  2776.3,   1.7428,  34.6707,2,  34.6708,2,    129.1,2,   128.8,2,  150.84,2,   37.54,2,    0.00,2,    2.60,2,-999.000,9,-999.000,9,  -999.0,9,  -999.0,9,-999.000,9,-999.0000,9, -999.00,9, -999.00,9,  -999.0,9,  -999.0,     1.5419,-999.0000,-999.000,-999.000
31WTTUNES_3,       P16C,     272,          1,          6,          6,2,19910916,       0040,     0.6667,  -150.9967,       4199,  2982.8,   1.6937,  34.6729,2,  34.6736,2,    134.7,2,   134.8,2,  149.67,2,   37.19,2,    0.00,2,    2.57,2,-999.000,9,-999.000,9,  -999.0,9,  -999.0,9,-999.000,9,-999.0000,9, -999.00,9, -999.00,9,  -999.0,9,  -999.0,     1.4742,-999.0000,-999.000,-999.000
31WTTUNES_3,       P16C,     272,          1,          5,          5,2,19910916,       0040,     0.6667,  -150.9967,       4199,  3241.3,   1.6052,  34.6784,2,  34.6779,2,    141.6,2,   141.9,2,  149.87,2,   36.79,2,    0.00,2,    2.54,2,-999.000,9,-999.000,9,  -999.0,9,  -999.0,9,-999.000,9,-999.0000,9, -999.00,9, -999.00,9,  -999.0,9,  -999.0,     1.3626,-999.0000,-999.000,-999.000
31WTTUNES_3,       P16C,     272,          1,          4,          4,2,19910916,       0040,     0.6667,  -150.9967,       4199,  3499.5,   1.4794,  34.6865,2,  34.6859,2,    151.9,2,   153.4,2,  148.70,2,   36.03,2,    0.00,2,    2.47,2,-999.000,9,-999.000,9,  -999.0,9,  -999.0,9,-999.000,9,-999.0000,9, -999.00,9, -999.00,9,  -999.0,9,  -999.0,     1.2139,-999.0000,-999.000,-999.000
31WTTUNES_3,       P16C,     272,          1,          3,          3,2,19910916,       0040,     0.6667,  -150.9967,       4199,  3759.4,   1.4270,  34.6908,2,  34.6910,2,    158.2,2,   159.2,2,  148.51,2,   35.73,2,    0.00,2,    2.43,2,-999.000,9,-999.000,9,  -999.0,9,  -999.0,9,-999.000,9,-999.0000,9, -999.00,9, -999.00,9,  -999.0,9,  -999.0,     1.1357,-999.0000,-999.000,-999.000
31WTTUNES_3,       P16C,     272,          1,          2,          2,2,19910916,       0040,     0.6667,  -150.9967,       4199,  4017.9,   1.4049,  34.6932,2,  34.6926,2,    162.9,2,   164.1,2,  147.74,2,   35.44,2,    0.00,2,    2.41,2,-999.000,9,-999.000,9,  -999.0,9,  -999.0,9,-999.000,9,-999.0000,9, -999.00,9, -999.00,9,  -999.0,9,  -999.0,     1.0866,-999.0000,-999.000,-999.000
31WTTUNES_3,       P16C,     272,          1,          1,          1,2,19910916,       0040,     0.6667,  -150.9967,       4199,  4243.0,   1.3869,  34.6945,2,  34.6961,2,    166.4,2,   167.3,2,  144.62,2,   35.13,2,    0.00,2,    2.40,2,-999.000,9,-999.000,9,  -999.0,9,  -999.0,9,-999.000,9,-999.0000,9, -999.00,9, -999.00,9,  -999.0,9,  -999.0,     1.0443,-999.0000,-999.000,-999.000
31WTTUNES_3,       P16C,     273,          1,         11,         10,2,19910916,       0503,     0.8285,  -151.0020,       4235,    29.7,  26.7390,  34.9193,2,  34.8786,2,    199.7,2,   208.6,2, -999.00,9, -999.00,9, -999.00,9, -999.00,9,-999.000,9,-999.000,9,  -999.0,9,  -999.0,9,-999.000,9,-999.0000,9, -999.00,9, -999.00,9,  -999.0,9,  -999.0,    26.7323,-999.0000,-999.000,-999.000
31WTTUNES_3,       P16C,     273,          1,         10,          9,2,19910916,       0503,     0.8285,  -151.0020,       4235,   153.1,  17.4938,  34.9229,2,  34.9622,2,    140.7,2,   138.9,2, -999.00,9, -999.00,9, -999.00,9, -999.00,9,-999.000,9,-999.000,9,  -999.0,9,  -999.0,9,-999.000,9,-999.0000,9, -999.00,9, -999.00,9,  -999.0,9,  -999.0,    17.4680,-999.0000,-999.000,-999.000
31WTTUNES_3,       P16C,     273,          1,          9,          8,2,19910916,       0503,     0.8285,  -151.0020,       4235,   307.4,  11.6725,  34.8316,2,  34.8259,2,     57.5,2,    60.0,2, -999.00,9, -999.00,9, -999.00,9, -999.00,9,-999.000,9,-999.000,9,  -999.0,9,  -999.0,9,-999.000,9,-999.0000,9, -999.00,9, -999.00,9,  -999.0,9,  -999.0,    11.6330,-999.0000,-999.000,-999.000
31WTTUNES_3,       P16C,     273,          1,          8,          7,2,19910916,       0503,     0.8285,  -151.0020,       4235,   511.0,   8.0397,  34.6234,2,  34.6187,2,     47.0,2,    51.7,2, -999.00,9, -999.00,9, -999.00,9, -999.00,9,-999.000,9,-999.000,9,  -999.0,9,  -999.0,9,-999.000,9,-999.0000,9, -999.00,9, -999.00,9,  -999.0,9,  -999.0,     7.9871,-999.0000,-999.000,-999.000
31WTTUNES_3,       P16C,     273,          1,          7,          6,2,19910916,       0503,     0.8285,  -151.0020,       4235,  1021.0,   4.6762,  34.5538,2,  34.5518,2,     82.6,2,    80.5,2, -999.00,9, -999.00,9, -999.00,9, -999.00,9,-999.000,9,-999.000,9,  -999.0,9,  -999.0,9,-999.000,9,-999.0000,9, -999.00,9, -999.00,9,  -999.0,9,  -999.0,     4.5934,-999.0000,-999.000,-999.000
31WTTUNES_3,       P16C,     273,          1,          6,          5,2,19910916,       0503,     0.8285,  -151.0020,       4235,  1535.9,   3.1385,  34.5985,2,  34.5987,2,     94.3,2,    94.4,2, -999.00,9, -999.00,9, -999.00,9, -999.00,9,-999.000,9,-999.000,9,  -999.0,9,  -999.0,9,-999.000,9,-999.0000,9, -999.00,9, -999.00,9,  -999.0,9,  -999.0,     3.0260,-999.0000,-999.000,-999.000
31WTTUNES_3,       P16C,     273,          1,          5,          4,2,19910916,       0503,     0.8285,  -151.0020,       4235,  2050.9,   2.1669,  34.6471,2,  34.6462,2,    108.2,2,   110.0,2, -999.00,9, -999.00,9, -999.00,9, -999.00,9,-999.000,9,-999.000,9,  -999.0,9,  -999.0,9,-999.000,9,-999.0000,9, -999.00,9, -999.00,9,  -999.0,9,  -999.0,     2.0235,-999.0000,-999.000,-999.000
31WTTUNES_3,       P16C,     273,          1,          4,          3,2,19910916,       0503,     0.8285,  -151.0020,       4235,  2565.6,   1.8206,  34.6660,2,  34.6645,2,    122.8,2,   153.4,4, -999.00,9, -999.00,9, -999.00,9, -999.00,9,-999.000,9,-999.000,9,  -999.0,9,  -999.0,9,-999.000,9,-999.0000,9, -999.00,9, -999.00,9,  -999.0,9,  -999.0,     1.6376,-999.0000,-999.000,-999.000
31WTTUNES_3,       P16C,     273,          1,          3,          2,3,19910916,       0503,     0.8285,  -151.0020,       4235,  3084.0,   1.6732,  34.6758,2,  34.6877,4,    134.3,2,   156.0,4, -999.00,9, -999.00,9, -999.00,9, -999.00,9,-999.000,9,-999.000,9,  -999.0,9,  -999.0,9,-999.000,9,-999.0000,9, -999.00,9, -999.00,9,  -999.0,9,  -999.0,     1.4445,-999.0000,-999.000,-999.000
31WTTUNES_3,       P16C,     273,          1,          2,          1,3,19910916,       0503,     0.8285,  -151.0020,       4235,  3602.5,   1.4458,  34.6908,2,  34.6956,4,    154.6,2,   168.2,4, -999.00,9, -999.00,9, -999.00,9, -999.00,9,-999.000,9,-999.000,9,  -999.0,9,  -999.0,9,-999.000,9,-999.0000,9, -999.00,9, -999.00,9,  -999.0,9,  -999.0,     1.1705,-999.0000,-999.000,-999.000
31WTTUNES_3,       P16C,     273,          1,          1,         11,4,19910916,       0503,     0.8285,  -151.0020,       4235,  4254.4,   1.4020,  34.6961,2,-999.0000,9,    165.9,2,  -999.0,9, -999.00,9, -999.00,9, -999.00,9, -999.00,9,-999.000,9,-999.000,9,  -999.0,9,  -999.0,9,-999.000,9,-999.0000,9, -999.00,9, -999.00,9,  -999.0,9,  -999.0,     1.0577,-999.0000,-999.000,-999.000