BOTTLE,20211117CCHSIORKP
EXPOCODE,SECT_ID,STNNBR,CASTNO,SAMPNO,BTLNBR,BTLNBR_FLAG_W,DATE,TIME,LATITUDE,LONGITUDE,DEPTH,CTDPRS,CTDTMP,CTDSAL,CTDSAL_FLAG_W,SALNTY,SALNTY_FLAG_W,CTDOXY,CTDOXY_FLAG_W,OXYGEN,OXYGEN_FLAG_W,SILCAT,SILCAT_FLAG_W,NITRAT,NITRAT_FLAG_W,NITRIT,NITRIT_FLAG_W,PHSPHT,PHSPHT_FLAG_W,CFC-11,CFC-11_FLAG_W,CFC-12,CFC-12_FLAG_W,TCARBN,TCARBN_FLAG_W,ALKALI,ALKALI_FLAG_W,TRITUM,TRITUM_FLAG_W,HELIUM,HELIUM_FLAG_W,DELHE3,DELHE3_FLAG_W,DELC13,DELC13_FLAG_W,DELC14,DELC14_FLAG_W,C14ERR,THETA,HELIER,DELHER,TRITER
,,,,,,,,,,,METERS,DBAR,ITS-90,PSS-78,,PSS-78,,UMOL/KG,,UMOL/KG,,UMOL/KG,,UMOL/KG,,UMOL/KG,,UMOL/KG,,PMOL/KG,,PMOL/KG,,UMOL/KG,,UMOL/KG,,TU,,NMOL/KG,,PERCNT,,/MILLE,,/MILLE,,/MILLE,ITS-90,NMOL/KG,PERCNT,TU
31WTTUNES_3,       P16C,     227,          1,         36,         36,2,19910903,       1217,   -14.5092,  -150.9907,       4441,     3.6,  27.5358,  36.3045,2,  36.3033,2,    210.8,2,   208.7,2,    1.61,2,    0.10,2,    0.00,2,    0.21,2,-999.000,9,-999.000,9,  -999.0,9,  -999.0,9,-999.000,9,-999.0000,9, -999.00,9, -999.00,9,  -999.0,9,  -999.0,    27.5349,-999.0000,-999.000,-999.000
31WTTUNES_3,       P16C,     227,          1,         35,         35,2,19910903,       1217,   -14.5092,  -150.9907,       4441,    45.9,  27.4432,  36.3024,2,  36.3031,2,    206.2,2,   207.9,2,    1.82,2,    0.10,2,    0.00,2,    0.22,2,-999.000,9,-999.000,9,  -999.0,9,  -999.0,9,-999.000,9,-999.0000,9, -999.00,9, -999.00,9,  -999.0,9,  -999.0,    27.4325,-999.0000,-999.000,-999.000
31WTTUNES_3,       P16C,     227,          1,         34,         34,2,19910903,       1217,   -14.5092,  -150.9907,       4441,    85.8,  27.4243,  36.3318,2,  36.3180,2,    207.6,2,   209.5,2,    1.61,2,    0.10,2,    0.00,2,    0.21,2,-999.000,9,-999.000,9,  -999.0,9,  -999.0,9,-999.000,9,-999.0000,9, -999.00,9, -999.00,9,  -999.0,9,  -999.0,    27.4043,-999.0000,-999.000,-999.000
31WTTUNES_3,       P16C,     227,          1,         33,         33,2,19910903,       1217,   -14.5092,  -150.9907,       4441,   125.8,  26.5216,  36.3064,2,  36.3113,2,    191.0,2,   215.9,2,    1.62,2,    0.13,2,    0.01,2,    0.22,2,-999.000,9,-999.000,9,  -999.0,9,  -999.0,9,-999.000,9,-999.0000,9, -999.00,9, -999.00,9,  -999.0,9,  -999.0,    26.4929,-999.0000,-999.000,-999.000
31WTTUNES_3,       P16C,     227,          1,         32,         32,2,19910903,       1217,   -14.5092,  -150.9907,       4441,   167.6,  24.1448,  36.3151,2,  36.3160,2,    176.0,2,   177.9,2,    1.62,2,    2.21,2,    0.18,2,    0.41,2,-999.000,9,-999.000,9,  -999.0,9,  -999.0,9,-999.000,9,-999.0000,9, -999.00,9, -999.00,9,  -999.0,9,  -999.0,    24.1091,-999.0000,-999.000,-999.000
31WTTUNES_3,       P16C,     227,          1,         31,         31,2,19910903,       1217,   -14.5092,  -150.9907,       4441,   207.5,  22.3811,  36.1704,2,  36.1150,2,    173.6,2,   172.0,2,    1.62,2,    3.76,2,    0.01,2,    0.49,2,-999.000,9,-999.000,9,  -999.0,9,  -999.0,9,-999.000,9,-999.0000,9, -999.00,9, -999.00,9,  -999.0,9,  -999.0,    22.3393,-999.0000,-999.000,-999.000
31WTTUNES_3,       P16C,     227,          1,         30,         30,2,19910903,       1217,   -14.5092,  -150.9907,       4441,   258.8,  19.7195,  35.7565,2,  35.7122,2,    173.8,2,   169.8,2,    2.42,2,    5.59,2,    0.01,2,    0.62,2,-999.000,9,-999.000,9,  -999.0,9,  -999.0,9,-999.000,9,-999.0000,9, -999.00,9, -999.00,9,  -999.0,9,  -999.0,    19.6718,-999.0000,-999.000,-999.000
31WTTUNES_3,       P16C,     227,          1,         29,         29,2,19910903,       1217,   -14.5092,  -150.9907,       4441,   309.2,  16.8555,  35.3368,2,  35.2036,2,    163.7,2,   155.4,2,    5.02,2,   10.42,2,    0.02,2,    0.95,2,-999.000,9,-999.000,9,  -999.0,9,  -999.0,9,-999.000,9,-999.0000,9, -999.00,9, -999.00,9,  -999.0,9,  -999.0,    16.8044,-999.0000,-999.000,-999.000
31WTTUNES_3,       P16C,     227,          1,         28,         28,2,19910903,       1217,   -14.5092,  -150.9907,       4441,   360.4,  13.1898,  34.8774,2,  34.8426,2,    124.9,2,   120.3,2,   10.62,2,   17.31,2,    0.01,2,    1.38,2,-999.000,9,-999.000,9,  -999.0,9,  -999.0,9,-999.000,9,-999.0000,9, -999.00,9, -999.00,9,  -999.0,9,  -999.0,    13.1395,-999.0000,-999.000,-999.000
31WTTUNES_3,       P16C,     227,          1,         27,         27,2,19910903,       1217,   -14.5092,  -150.9907,       4441,   411.3,  10.6918,  34.6721,2,  34.6624,2,    108.0,2,   111.0,2,   16.24,2,   23.31,2,    0.03,2,    1.76,2,-999.000,9,-999.000,9,  -999.0,9,  -999.0,9,-999.000,9,-999.0000,9, -999.00,9, -999.00,9,  -999.0,9,  -999.0,    10.6417,-999.0000,-999.000,-999.000
31WTTUNES_3,       P16C,     227,          1,         26,         26,2,19910903,       1217,   -14.5092,  -150.9907,       4441,   460.4,   9.1298,  34.5733,2,  34.5643,2,    116.7,2,   118.3,2,   21.04,2,   27.24,2,    0.01,2,    1.93,2,-999.000,9,-999.000,9,  -999.0,9,  -999.0,9,-999.000,9,-999.0000,9, -999.00,9, -999.00,9,  -999.0,9,  -999.0,     9.0788,-999.0000,-999.000,-999.000
31WTTUNES_3,       P16C,     227,          1,         25,         25,2,19910903,       1217,   -14.5092,  -150.9907,       4441,   510.0,   7.9078,  34.5204,2,  34.5034,2,    125.7,2,   132.0,2,   25.86,2,   29.34,2,    0.02,2,    2.11,2,-999.000,9,-999.000,9,  -999.0,9,  -999.0,9,-999.000,9,-999.0000,9, -999.00,9, -999.00,9,  -999.0,9,  -999.0,     7.8558,-999.0000,-999.000,-999.000
31WTTUNES_3,       P16C,     227,          1,         24,         24,2,19910903,       1217,   -14.5092,  -150.9907,       4441,   561.8,   7.0176,  34.4894,2,  34.4921,2,    136.4,2,   136.4,2,   29.67,2,   30.52,2,    0.01,2,    2.16,2,-999.000,9,-999.000,9,  -999.0,9,  -999.0,9,-999.000,9,-999.0000,9, -999.00,9, -999.00,9,  -999.0,9,  -999.0,     6.9640,-999.0000,-999.000,-999.000
31WTTUNES_3,       P16C,     227,          1,         23,         23,2,19910903,       1217,   -14.5092,  -150.9907,       4441,   612.4,   6.5783,  34.4820,2,  34.4801,2,    139.0,2,   140.0,2,   33.09,2,   31.46,2,    0.00,2,    2.20,2,-999.000,9,-999.000,9,  -999.0,9,  -999.0,9,-999.000,9,-999.0000,9, -999.00,9, -999.00,9,  -999.0,9,  -999.0,     6.5217,-999.0000,-999.000,-999.000
31WTTUNES_3,       P16C,     227,          1,         22,         22,2,19910903,       1217,   -14.5092,  -150.9907,       4441,   663.7,   6.1832,  34.4762,2,  34.4736,2,    142.8,2,   144.0,2,   37.09,2,   32.14,2,    0.00,2,    2.25,2,-999.000,9,-999.000,9,  -999.0,9,  -999.0,9,-999.000,9,-999.0000,9, -999.00,9, -999.00,9,  -999.0,9,  -999.0,     6.1236,-999.0000,-999.000,-999.000
31WTTUNES_3,       P16C,     227,          1,         21,         21,2,19910903,       1217,   -14.5092,  -150.9907,       4441,   713.4,   5.6014,  34.4712,2,  34.4732,2,    146.1,2,   145.9,2,   44.33,2,   33.11,2,    0.00,2,    2.30,2,-999.000,9,-999.000,9,  -999.0,9,  -999.0,9,-999.000,9,-999.0000,9, -999.00,9, -999.00,9,  -999.0,9,  -999.0,     5.5402,-999.0000,-999.000,-999.000
31WTTUNES_3,       P16C,     227,          1,         20,         20,2,19910903,       1217,   -14.5092,  -150.9907,       4441,   814.9,   5.0267,  34.4804,2,  34.4818,2,    143.0,2,   143.4,2,   53.56,2,   34.27,2,    0.00,2,    2.39,2,-999.000,9,-999.000,9,  -999.0,9,  -999.0,9,-999.000,9,-999.0000,9, -999.00,9, -999.00,9,  -999.0,9,  -999.0,     4.9597,-999.0000,-999.000,-999.000
31WTTUNES_3,       P16C,     227,          1,         19,         19,2,19910903,       1217,   -14.5092,  -150.9907,       4441,   913.4,   4.6070,  34.4947,2,  34.4950,2,    140.3,2,   139.6,2,   60.59,2,   35.14,2,    0.00,2,    2.43,2,-999.000,9,-999.000,9,  -999.0,9,  -999.0,9,-999.000,9,-999.0000,9, -999.00,9, -999.00,9,  -999.0,9,  -999.0,     4.5342,-999.0000,-999.000,-999.000
31WTTUNES_3,       P16C,     227,          1,         18,         18,2,19910903,       1217,   -14.5092,  -150.9907,       4441,  1013.8,   4.2719,  34.5115,2,  34.5101,2,    137.2,2,   136.1,2,   69.83,2,   35.65,2,    0.01,2,    2.49,2,-999.000,9,-999.000,9,  -999.0,9,  -999.0,9,-999.000,9,-999.0000,9, -999.00,9, -999.00,9,  -999.0,9,  -999.0,     4.1929,-999.0000,-999.000,-999.000
31WTTUNES_3,       P16C,     227,          1,         17,         17,2,19910903,       1217,   -14.5092,  -150.9907,       4441,  1215.2,   3.5676,  34.5470,2,  34.5468,2,    135.2,2,   134.1,2,   85.69,2,   36.58,2,    0.00,2,    2.55,2,-999.000,9,-999.000,9,  -999.0,9,  -999.0,9,-999.000,9,   1.8630,2,   20.43,2, -999.00,9,  -999.0,9,  -999.0,     3.4777,-999.0000,-999.000,-999.000
31WTTUNES_3,       P16C,     227,          1,         16,         16,2,19910903,       1217,   -14.5092,  -150.9907,       4441,  1421.5,   3.0918,  34.5713,2,  34.5736,2,    138.6,2,   138.4,2,   97.15,2,   36.72,2,    0.00,2,    2.55,2,-999.000,9,-999.000,9,  -999.0,9,  -999.0,9,-999.000,9,   1.8970,2,   22.12,2, -999.00,9,  -999.0,9,  -999.0,     2.9894,-999.0000,-999.000,-999.000
31WTTUNES_3,       P16C,     227,          1,         15,         15,2,19910903,       1217,   -14.5092,  -150.9907,       4441,  1638.5,   2.6484,  34.5992,2,  34.6009,2,    142.6,2,   142.9,2,  107.20,2,   36.62,2,    0.00,2,    2.51,2,-999.000,9,-999.000,9,  -999.0,9,  -999.0,9,-999.000,9,   1.8880,2,   24.50,2, -999.00,9,  -999.0,9,  -999.0,     2.5332,-999.0000,-999.000,-999.000
31WTTUNES_3,       P16C,     227,          1,         14,         14,2,19910903,       1217,   -14.5092,  -150.9907,       4441,  1846.5,   2.3218,  34.6233,2,  34.6231,2,    145.6,2,   146.8,2,  114.25,2,   36.34,2,    0.00,2,    2.52,2,-999.000,9,-999.000,9,  -999.0,9,  -999.0,9,-999.000,9,   1.9010,2,   26.44,2, -999.00,9,  -999.0,9,  -999.0,     2.1936,-999.0000,-999.000,-999.000
31WTTUNES_3,       P16C,     227,          1,         13,         13,2,19910903,       1217,   -14.5092,  -150.9907,       4441,  2050.7,   2.1337,  34.6390,2,  34.6364,2,    148.5,2,   148.6,2,  119.30,2,   36.02,2,    0.01,2,    2.50,2,-999.000,9,-999.000,9,  -999.0,9,  -999.0,9,-999.000,9,-999.0000,9, -999.00,9, -999.00,9,  -999.0,9,  -999.0,     1.9908,-999.0000,-999.000,-999.000
31WTTUNES_3,       P16C,     227,          1,         12,         12,2,19910903,       1217,   -14.5092,  -150.9907,       4441,  2254.3,   2.0254,  34.6490,2,  34.6464,2,    149.9,2,   150.4,2,  122.94,2,   36.14,2,    0.00,2,    2.50,2,-999.000,9,-999.000,9,  -999.0,9,  -999.0,9,-999.000,9,   1.9150,2,   28.11,2, -999.00,9,  -999.0,9,  -999.0,     1.8668,-999.0000,-999.000,-999.000
31WTTUNES_3,       P16C,     227,          1,         11,         11,2,19910903,       1217,   -14.5092,  -150.9907,       4441,  2406.8,   1.9593,  34.6554,2,  34.6574,2,    150.4,2,   150.5,2,  125.99,2,   34.76,4,    0.01,4,    2.40,4,-999.000,9,-999.000,9,  -999.0,9,  -999.0,9,-999.000,9,   1.9320,2,   29.85,2, -999.00,9,  -999.0,9,  -999.0,     1.7882,-999.0000,-999.000,-999.000
31WTTUNES_3,       P16C,     227,          1,         10,         10,2,19910903,       1217,   -14.5092,  -150.9907,       4441,  2561.3,   1.8960,  34.6617,2,  34.6586,2,    152.4,2,   151.7,2,  128.03,2,   36.09,2,    0.00,2,    2.49,2,-999.000,9,-999.000,9,  -999.0,9,  -999.0,9,-999.000,9,   1.9260,2,   29.06,2, -999.00,9,  -999.0,9,  -999.0,     1.7121,-999.0000,-999.000,-999.000
31WTTUNES_3,       P16C,     227,          1,          9,          9,2,19910903,       1217,   -14.5092,  -150.9907,       4441,  2714.7,   1.8401,  34.6675,2,  34.6647,2,    152.5,2,   151.7,2,  130.88,2,   36.24,2,    0.00,2,    2.49,2,-999.000,9,-999.000,9,  -999.0,9,  -999.0,9,-999.000,9,   1.9330,2,   29.79,2, -999.00,9,  -999.0,9,  -999.0,     1.6430,-999.0000,-999.000,-999.000
31WTTUNES_3,       P16C,     227,          1,          8,          8,2,19910903,       1217,   -14.5092,  -150.9907,       4441,  2866.9,   1.7650,  34.6729,2,  34.6700,2,    155.1,2,   154.5,2,  132.37,2,   35.95,2,    0.00,2,    2.48,2,-999.000,9,-999.000,9,  -999.0,9,  -999.0,9,-999.000,9,   1.9360,2,   29.05,2, -999.00,9,  -999.0,9,  -999.0,     1.5551,-999.0000,-999.000,-999.000
31WTTUNES_3,       P16C,     227,          1,          7,          7,2,19910903,       1217,   -14.5092,  -150.9907,       4441,  3075.5,   1.7106,  34.6751,2,  34.6747,2,    160.9,2,   160.7,2,  129.98,2,   35.46,2,    0.00,2,    2.43,2,-999.000,9,-999.000,9,  -999.0,9,  -999.0,9,-999.000,9,-999.0000,5,   26.13,2, -999.00,9,  -999.0,9,  -999.0,     1.4818,-999.0000,-999.000,-999.000
31WTTUNES_3,       P16C,     227,          1,          6,          6,2,19910903,       1217,   -14.5092,  -150.9907,       4441,  3338.8,   1.6410,  34.6804,2,  34.6820,2,    166.0,2,   165.5,2,  130.01,2,   35.07,2,    0.00,2,    2.40,2,-999.000,9,-999.000,9,  -999.0,9,  -999.0,9,-999.000,9,-999.0000,9, -999.00,9, -999.00,9,  -999.0,9,  -999.0,     1.3878,-999.0000,-999.000,-999.000
31WTTUNES_3,       P16C,     227,          1,          5,          5,2,19910903,       1217,   -14.5092,  -150.9907,       4441,  3602.3,   1.5302,  34.6874,2,  34.6865,2,    173.5,2,   173.6,2,  127.63,2,   34.54,2,    0.00,2,    2.36,2,-999.000,9,-999.000,9,  -999.0,9,  -999.0,9,-999.000,9,-999.0000,9, -999.00,9, -999.00,9,  -999.0,9,  -999.0,     1.2528,-999.0000,-999.000,-999.000
31WTTUNES_3,       P16C,     227,          1,          4,          4,2,19910903,       1217,   -14.5092,  -150.9907,       4441,  3862.7,   1.4558,  34.6930,2,  34.6922,2,    179.9,2,   179.8,2,  126.46,2,   34.08,2,    0.00,2,    2.35,2,-999.000,9,-999.000,9,  -999.0,9,  -999.0,9,-999.000,9,-999.0000,5,   18.42,3, -999.00,9,  -999.0,9,  -999.0,     1.1529,-999.0000,-999.000,-999.000
31WTTUNES_3,       P16C,     227,          1,          3,          3,2,19910903,       1217,   -14.5092,  -150.9907,       4441,  4119.6,   1.4028,  34.6969,2,  34.6993,2,    185.5,2,   193.7,4,  126.21,2,   33.69,2,    0.00,2,    2.32,2,-999.000,9,-999.000,9,  -999.0,9,  -999.0,9,-999.000,9,   1.8940,2,   16.75,2, -999.00,9,  -999.0,9,  -999.0,     1.0734,-999.0000,-999.000,-999.000
31WTTUNES_3,       P16C,     227,          1,          2,          2,2,19910903,       1217,   -14.5092,  -150.9907,       4441,  4374.7,   1.3629,  34.6996,2,  34.6995,2,    189.6,2,   188.1,2,  125.72,2,   33.49,2,    0.00,2,    2.31,2,-999.000,9,-999.000,9,  -999.0,9,  -999.0,9,-999.000,9,   1.8830,2,   15.20,2, -999.00,9,  -999.0,9,  -999.0,     1.0064,-999.0000,-999.000,-999.000
31WTTUNES_3,       P16C,     227,          1,          1,          1,2,19910903,       1217,   -14.5092,  -150.9907,       4441,  4487.0,   1.3287,  34.7018,2,  34.7038,2,    191.2,2,   193.3,2,  125.23,2,   33.20,2,    0.00,2,    2.29,2,-999.000,9,-999.000,9,  -999.0,9,  -999.0,9,-999.000,9,-999.0000,9, -999.00,9, -999.00,9,  -999.0,9,  -999.0,     0.9604,-999.0000,-999.000,-999.000