BOTTLE,20211117CCHSIORKP
EXPOCODE,SECT_ID,STNNBR,CASTNO,SAMPNO,BTLNBR,BTLNBR_FLAG_W,DATE,TIME,LATITUDE,LONGITUDE,DEPTH,CTDPRS,CTDTMP,CTDSAL,CTDSAL_FLAG_W,SALNTY,SALNTY_FLAG_W,CTDOXY,CTDOXY_FLAG_W,OXYGEN,OXYGEN_FLAG_W,SILCAT,SILCAT_FLAG_W,NITRAT,NITRAT_FLAG_W,NITRIT,NITRIT_FLAG_W,PHSPHT,PHSPHT_FLAG_W,CFC-11,CFC-11_FLAG_W,CFC-12,CFC-12_FLAG_W,TCARBN,TCARBN_FLAG_W,ALKALI,ALKALI_FLAG_W,TRITUM,TRITUM_FLAG_W,HELIUM,HELIUM_FLAG_W,DELHE3,DELHE3_FLAG_W,DELC13,DELC13_FLAG_W,DELC14,DELC14_FLAG_W,C14ERR,THETA,HELIER,DELHER,TRITER
,,,,,,,,,,,METERS,DBAR,ITS-90,PSS-78,,PSS-78,,UMOL/KG,,UMOL/KG,,UMOL/KG,,UMOL/KG,,UMOL/KG,,UMOL/KG,,PMOL/KG,,PMOL/KG,,UMOL/KG,,UMOL/KG,,TU,,NMOL/KG,,PERCNT,,/MILLE,,/MILLE,,/MILLE,ITS-90,NMOL/KG,PERCNT,TU
31WTTUNES_3,       P16C,     262,          1,         36,         36,2,19910914,       0615,    -1.0067,  -150.9973,       4731,     5.4,  27.9149,  35.4221,2,  35.4212,2,    214.1,3,   223.1,2,    3.60,2,    3.95,2,    0.18,2,    0.52,2,   2.276,4,   2.866,4,  2001.1,2,  2330.0,2,-999.000,9,-999.0000,9, -999.00,9,    1.55,2,    88.9,2,     3.2,    27.9136,-999.0000,-999.000,-999.000
31WTTUNES_3,       P16C,     262,          1,         35,         35,2,19910914,       0615,    -1.0067,  -150.9973,       4731,    47.1,  27.0926,  35.4047,2,  35.4186,2,    204.6,2,   211.2,2,    3.60,2,    4.31,2,    0.33,2,    0.55,2,   1.648,2,   0.915,2,  2010.9,2,  2328.8,2,   1.149,2,   1.6930,2,   -1.07,2,    1.35,2,    92.3,2,     2.9,    27.0817,   0.0080,   0.150,   0.007
31WTTUNES_3,       P16C,     262,          1,         34,         34,2,19910914,       0615,    -1.0067,  -150.9973,       4731,    76.4,  26.5366,  35.3756,2,  35.3606,2,    190.6,2,   187.6,2,    4.00,2,    5.03,2,    0.48,2,    0.61,2,   1.643,2,   0.920,2,  2023.1,2,  2321.9,2,-999.000,9,-999.0000,9, -999.00,9,    1.27,2,    89.0,2,     2.8,    26.5193,-999.0000,-999.000,-999.000
31WTTUNES_3,       P16C,     262,          1,         33,         33,2,19910914,       0615,    -1.0067,  -150.9973,       4731,   105.2,  26.2218,  35.5975,2,  35.5811,2,    171.2,2,   185.3,2,    3.80,2,    5.65,2,    0.88,2,    0.71,2,   1.641,2,   0.925,2,  2041.8,2,  2338.0,2,   1.054,2,   1.7080,2,   -0.70,2,    1.22,2,    83.5,2,     2.8,    26.1981,   0.0080,   0.150,   0.007
31WTTUNES_3,       P16C,     262,          1,         32,         32,2,19910914,       0615,    -1.0067,  -150.9973,       4731,   135.3,  22.1304,  35.7124,2,  35.7653,2,    142.9,2,   141.4,2,    4.99,2,    9.75,2,    0.46,2,    0.96,2,   1.641,6,   0.913,6,  2094.6,2,  2355.3,2,   0.782,2,   1.7310,2,   -0.16,2,    1.00,2,    91.1,2,     4.0,    22.1035,   0.0080,   0.150,   0.006
31WTTUNES_3,       P16C,     262,          1,         31,         31,2,19910914,       0615,    -1.0067,  -150.9973,       4731,   166.1,  19.1396,  35.4949,2,  35.5610,2,    120.7,2,   117.8,2,    7.36,2,   13.82,2,    0.03,2,    1.14,2,   1.249,2,   0.695,2,  2128.1,2,  2341.5,2,   0.650,2,   1.7470,2,    1.11,2,    0.85,2,    84.1,2,     2.9,    19.1097,   0.0080,   0.150,   0.006
31WTTUNES_3,       P16C,     262,          1,         30,         30,2,19910914,       0615,    -1.0067,  -150.9973,       4731,   208.3,  14.1856,  35.0704,2,  35.0738,2,     93.0,2,    86.7,2,   16.10,2,   22.72,2,    0.01,2,    1.67,2,   0.663,2,   0.393,2,  2173.1,2,  2313.9,2,   0.461,2,   1.7800,2,    3.57,2,    0.42,2,    16.6,2,     2.7,    14.1551,   0.0080,   0.150,   0.005
31WTTUNES_3,       P16C,     262,          1,         29,         29,2,19910914,       0615,    -1.0067,  -150.9973,       4731,   260.5,  11.9688,  34.8578,2,  34.8920,2,     74.6,2,    74.9,2,   22.04,2,   26.50,2,    0.01,2,    1.90,2,   0.416,6,   0.241,6,  2192.4,2,  2304.9,2,   0.394,2,   1.7940,2,    4.96,2,    0.28,2,   -21.6,2,     3.5,    11.9349,   0.0080,   0.150,   0.005
31WTTUNES_3,       P16C,     262,          1,         28,         28,2,19910914,       0615,    -1.0067,  -150.9973,       4731,   310.5,  11.7227,  34.8319,2,  34.8381,2,     58.3,2,    66.8,2,   24.62,2,   28.10,2,    0.00,2,    1.96,2,   0.369,2,   0.214,2,  2201.9,2,  2306.6,2,   0.196,2,   1.8020,2,    5.53,2,    0.19,2,   -24.4,2,     2.7,    11.6826,   0.0080,   0.150,   0.004
31WTTUNES_3,       P16C,     262,          1,         27,         27,2,19910914,       0615,    -1.0067,  -150.9973,       4731,   361.9,  10.6470,  34.7719,2,  34.7758,2,     34.5,2,    27.5,2,   31.38,2,   33.69,2,    0.00,2,    2.36,2,   0.148,2,   0.098,2,  2242.8,2,  2304.6,2,   0.216,2,   1.8050,2,    5.65,2,   -0.06,2,   -58.7,2,     2.8,    10.6031,   0.0080,   0.150,   0.004
31WTTUNES_3,       P16C,     262,          1,         26,         26,2,19910914,       0615,    -1.0067,  -150.9973,       4731,   412.8,   9.6445,  34.7073,2,  34.7427,2,     33.1,2,    21.2,2,   34.15,2,   35.33,2,    0.00,2,    2.45,2,   0.095,2,   0.066,2,  2254.5,2,  2306.0,2,   0.142,2,   1.8050,2,    5.39,2,   -0.07,6,   -73.9,2,     2.8,     9.5973,   0.0080,   0.150,   0.003
31WTTUNES_3,       P16C,     262,          1,         25,         25,2,19910914,       0615,    -1.0067,  -150.9973,       4731,   463.0,   8.6628,  34.6573,2,  34.6879,2,     38.3,2,    28.6,2,   37.92,2,   36.96,2,    0.00,2,    2.54,2,   0.053,2,   0.032,2,  2259.8,2,  2308.7,2,-999.000,9,-999.0000,9, -999.00,9,   -0.06,2,   -95.0,2,     2.6,     8.6131,-999.0000,-999.000,-999.000
31WTTUNES_3,       P16C,     262,          1,         24,         24,2,19910914,       0615,    -1.0067,  -150.9973,       4731,   514.7,   8.0286,  34.6240,2,  34.6537,2,     45.0,2,    39.6,2,   40.71,2,   37.58,2,    0.00,2,    2.59,2,   0.068,2,   0.056,2,  2261.0,2,  2308.8,2,   0.047,2,   1.8250,2,    6.48,2,    0.04,2,  -102.0,2,     2.6,     7.9756,   0.0090,   0.150,   0.003
31WTTUNES_3,       P16C,     262,          1,         23,         23,2,19910914,       0615,    -1.0067,  -150.9973,       4731,   565.5,   7.5810,  34.5993,2,  34.6132,2,     60.2,2,    50.1,2,   43.48,2,   37.73,2,    0.00,2,    2.61,2,   0.018,6,   0.017,6,  2258.0,2,  2312.8,2,-999.000,9,-999.0000,9, -999.00,9, -999.00,9,  -999.0,9,  -999.0,     7.5245,-999.0000,-999.000,-999.000
31WTTUNES_3,       P16C,     262,          1,         22,         22,2,19910914,       0615,    -1.0067,  -150.9973,       4731,   616.6,   6.8676,  34.5759,2,  34.5877,2,     61.0,2,    64.8,2,   47.06,2,   37.47,2,    0.00,2,    2.61,2,   0.016,2,   0.014,2,  2258.0,2,  2315.5,2,   0.025,2,   1.8270,2,    8.47,2, -999.00,9,  -999.0,9,  -999.0,     6.8091,   0.0090,   0.150,   0.002
31WTTUNES_3,       P16C,     262,          1,         21,         21,2,19910914,       0615,    -1.0067,  -150.9973,       4731,   719.3,   6.2984,  34.5620,2,  34.5620,2,     66.6,2,    66.1,2,   56.59,2,   38.91,2,    0.00,2,    2.73,2,   0.003,2,   0.009,2,  2268.4,2,  2324.8,2,-999.000,9,-999.0000,9, -999.00,9,   -0.04,2,  -136.1,2,     2.6,     6.2327,-999.0000,-999.000,-999.000
31WTTUNES_3,       P16C,     262,          1,         20,         20,2,19910914,       0615,    -1.0067,  -150.9973,       4731,   820.7,   5.6683,  34.5490,2,  34.5635,3,     78.6,2,    78.7,2,   63.53,2,   38.71,2,    0.00,2,    2.72,2,-999.000,9,-999.000,9,  2272.2,2,  2334.1,2,   0.000,2,   1.8620,2,   12.49,2, -999.00,9,  -999.0,9,  -999.0,     5.5969,   0.0090,   0.150,   0.002
31WTTUNES_3,       P16C,     262,          1,         19,         19,2,19910914,       0615,    -1.0067,  -150.9973,       4731,   922.2,   4.9057,  34.5501,2,  34.5480,2,     88.9,2,    89.6,2,   74.45,2,   38.60,2,    0.00,2,    2.72,2,-999.000,9,-999.000,9,  2282.1,2,  2344.2,2,-999.000,9,-999.0000,9, -999.00,9, -999.00,9,  -999.0,9,  -999.0,     4.8299,-999.0000,-999.000,-999.000
31WTTUNES_3,       P16C,     262,          1,         18,         18,2,19910914,       0615,    -1.0067,  -150.9973,       4731,  1024.6,   4.4959,  34.5596,2,  34.5549,2,     81.7,2,    81.2,2,   85.75,2,   39.67,2,    0.00,2,    2.82,2,-999.000,9,-999.000,9,  2298.5,2,  2356.4,2,-999.000,9,-999.0000,9, -999.00,9,    0.01,2,  -178.2,2,     2.5,     4.4142,-999.0000,-999.000,-999.000
31WTTUNES_3,       P16C,     262,          1,         17,         17,2,19910914,       0615,    -1.0067,  -150.9973,       4731,  1126.7,   4.2562,  34.5634,2,  34.5631,2,     84.8,2,    85.0,2,   92.69,2,   39.62,2,    0.00,2,    2.80,2,-999.000,9,-999.000,9,  2305.1,2,  -999.0,9,-999.000,9,-999.0000,9, -999.00,9, -999.00,9,  -999.0,9,  -999.0,     4.1675,-999.0000,-999.000,-999.000
31WTTUNES_3,       P16C,     262,          1,         16,         16,2,19910914,       0615,    -1.0067,  -150.9973,       4731,  1332.6,   3.4669,  34.5897,2,  34.5871,2,     87.9,2,    91.1,2,  112.33,2,   39.93,2,    0.00,2,    2.84,2,-999.000,9,-999.000,9,  2324.4,2,  2386.7,2,-999.000,9,-999.0000,9, -999.00,9, -999.00,9,  -999.0,9,  -999.0,     3.3680,-999.0000,-999.000,-999.000
31WTTUNES_3,       P16C,     262,          1,         15,         15,2,19910914,       0615,    -1.0067,  -150.9973,       4731,  1533.3,   2.8867,  34.6111,2,  34.6150,2,     98.7,2,    98.7,2,  124.83,2,   39.32,2,    0.00,2,    2.78,2,-999.000,9,-999.000,9,  2330.8,2,  -999.0,9,-999.000,9,-999.0000,9, -999.00,9, -999.00,9,  -999.0,9,  -999.0,     2.7773,-999.0000,-999.000,-999.000
31WTTUNES_3,       P16C,     262,          1,         14,         14,2,19910914,       0615,    -1.0067,  -150.9973,       4731,  1742.8,   2.5895,  34.6253,2,  34.6242,2,    102.1,2,   103.4,2,  132.57,2,   39.07,2,    0.00,2,    2.76,2,-999.000,9,-999.000,9,  2339.0,2,  2407.8,2,-999.000,9,-999.0000,9, -999.00,9, -999.00,9,  -999.0,9,  -999.0,     2.4663,-999.0000,-999.000,-999.000
31WTTUNES_3,       P16C,     262,          1,         13,         13,2,19910914,       0615,    -1.0067,  -150.9973,       4731,  1948.8,   2.2934,  34.6418,2,  34.6415,2,    105.6,2,   106.2,2,  141.89,2,   38.81,2,    0.00,2,    2.73,2,-999.000,9,-999.000,9,  2343.8,2,  -999.0,9,-999.000,9,-999.0000,9, -999.00,9, -999.00,9,  -999.0,9,  -999.0,     2.1569,-999.0000,-999.000,-999.000
31WTTUNES_3,       P16C,     262,          1,         12,         12,2,19910914,       0615,    -1.0067,  -150.9973,       4731,  2153.8,   2.1077,  34.6519,2,  34.6511,2,    112.4,2,   112.9,2,  144.67,2,   38.56,2,    0.00,2,    2.70,2,-999.000,9,-999.000,9,  2346.4,2,  2423.6,2,-999.000,9,-999.0000,9, -999.00,9, -999.00,9,  -999.0,9,  -999.0,     1.9563,-999.0000,-999.000,-999.000
31WTTUNES_3,       P16C,     262,          1,         11,         11,2,19910914,       0615,    -1.0067,  -150.9973,       4731,  2359.3,   1.9135,  34.6602,2,  34.6651,2,    122.1,2,   123.7,2,  145.86,2,   37.94,2,    0.00,2,    2.64,2,-999.000,9,-999.000,9,  2341.8,2,  -999.0,9,-999.000,9,-999.0000,9, -999.00,9, -999.00,9,  -999.0,9,  -999.0,     1.7475,-999.0000,-999.000,-999.000
31WTTUNES_3,       P16C,     262,          1,         10,         10,2,19910914,       0615,    -1.0067,  -150.9973,       4731,  2566.8,   1.8084,  34.6671,2,  34.6692,2,    125.6,2,   126.5,2,  149.03,2,   37.69,2,    0.00,2,    2.63,2,-999.000,9,-999.000,9,  2344.5,2,  2425.2,2,-999.000,9,-999.0000,9, -999.00,9, -999.00,9,  -999.0,9,  -999.0,     1.6255,-999.0000,-999.000,-999.000
31WTTUNES_3,       P16C,     262,          1,          9,          9,2,19910914,       0615,    -1.0067,  -150.9973,       4731,  2772.0,   1.7280,  34.6711,2,  34.6696,2,    131.7,2,   132.4,2,  148.64,2,   37.33,2,    0.00,2,    2.59,2,-999.000,9,-999.000,9,  2339.9,2,  -999.0,9,-999.000,9,-999.0000,9, -999.00,9, -999.00,9,  -999.0,9,  -999.0,     1.5279,-999.0000,-999.000,-999.000
31WTTUNES_3,       P16C,     262,          1,          8,          8,2,19910914,       0615,    -1.0067,  -150.9973,       4731,  2977.9,   1.6670,  34.6746,2,  34.6737,2,    135.8,2,   137.1,2,  148.84,2,   37.02,2,    0.00,2,    2.55,2,-999.000,9,-999.000,9,  2338.1,2,  2426.6,2,-999.000,9,-999.0000,9, -999.00,9, -999.00,9,  -999.0,9,  -999.0,     1.4487,-999.0000,-999.000,-999.000
31WTTUNES_3,       P16C,     262,          1,          7,          7,2,19910914,       0615,    -1.0067,  -150.9973,       4731,  3237.3,   1.6167,  34.6778,2,  34.6789,2,    141.8,2,   142.9,2,  147.45,2,   36.62,2,    0.00,2,    2.53,2,-999.000,9,-999.000,9,  2333.1,2,  -999.0,9,-999.000,9,-999.0000,9, -999.00,9, -999.00,9,  -999.0,9,  -999.0,     1.3742,-999.0000,-999.000,-999.000
31WTTUNES_3,       P16C,     262,          1,          6,          6,2,19910914,       0615,    -1.0067,  -150.9973,       4731,  3495.6,   1.5084,  34.6854,2,  34.6877,2,    150.8,2,   151.4,2,  147.45,2,   36.16,2,    0.00,2,    2.47,2,-999.000,9,-999.000,9,  2330.7,2,  2425.9,2,-999.000,9,-999.0000,9, -999.00,9, -999.00,9,  -999.0,9,  -999.0,     1.2425,-999.0000,-999.000,-999.000
31WTTUNES_3,       P16C,     262,          1,          5,          5,2,19910914,       0615,    -1.0067,  -150.9973,       4731,  3751.2,   1.4349,  34.6911,2,  34.6905,2,    157.8,2,   158.6,2,  147.85,2,   35.65,2,    0.00,2,    2.42,2,-999.000,9,-999.000,9,  2326.0,2,  -999.0,9,-999.000,9,-999.0000,9, -999.00,9, -999.00,9,  -999.0,9,  -999.0,     1.1443,-999.0000,-999.000,-999.000
31WTTUNES_3,       P16C,     262,          1,          4,          4,2,19910914,       0615,    -1.0067,  -150.9973,       4731,  4003.5,   1.4079,  34.6939,2,  34.7040,3,    163.4,2,   163.2,2,  146.47,2,   35.34,2,    0.00,2,    2.40,2,-999.000,9,-999.000,9,  2323.4,2,  2427.9,2,-999.000,9,-999.0000,9, -999.00,9, -999.00,9,  -999.0,9,  -999.0,     1.0911,-999.0000,-999.000,-999.000
31WTTUNES_3,       P16C,     262,          1,          3,          3,2,19910914,       0615,    -1.0067,  -150.9973,       4731,  4259.3,   1.3916,  34.6954,2,  34.6967,2,    167.4,2,   168.3,2,  143.69,2,   34.99,2,    0.00,2,    2.38,2,-999.000,9,-999.000,9,  2317.2,2,  -999.0,9,-999.000,9,-999.0000,9, -999.00,9, -999.00,9,  -999.0,9,  -999.0,     1.0471,-999.0000,-999.000,-999.000
31WTTUNES_3,       P16C,     262,          1,          2,          2,2,19910914,       0615,    -1.0067,  -150.9973,       4731,  4519.4,   1.3559,  34.6986,2,  34.6995,2,    177.2,2,   178.5,2,  137.14,2,   34.22,2,    0.00,2,    2.36,2,-999.000,9,-999.000,9,  2303.8,2,  2411.1,2,-999.000,9,-999.0000,9, -999.00,9, -999.00,9,  -999.0,9,  -999.0,     0.9832,-999.0000,-999.000,-999.000
31WTTUNES_3,       P16C,     262,          1,          1,          1,2,19910914,       0615,    -1.0067,  -150.9973,       4731,  4783.0,   1.3077,  34.7016,2,  34.7032,2,    187.3,2,   188.4,2,  131.40,2,   33.51,2,    0.00,2,    2.28,2,-999.000,9,-999.000,9,  2292.1,2,  2398.6,2,-999.000,9,-999.0000,9, -999.00,9, -999.00,9,  -999.0,9,  -999.0,     0.9058,-999.0000,-999.000,-999.000
31WTTUNES_3,       P16C,     263,          1,         11,         11,2,19910914,       1049,    -0.8307,  -150.9910,       4250,    19.5,  27.5021,  35.4091,2,  35.4143,2,    200.6,2,   217.6,2, -999.00,9, -999.00,9, -999.00,9, -999.00,9,-999.000,9,-999.000,9,  -999.0,9,  -999.0,9,-999.000,9,-999.0000,9, -999.00,9, -999.00,9,  -999.0,9,  -999.0,    27.4975,-999.0000,-999.000,-999.000
31WTTUNES_3,       P16C,     263,          1,         10,         10,2,19910914,       1049,    -0.8307,  -150.9910,       4250,   155.4,  20.6266,  35.6639,2,  35.6699,2,    122.0,2,   124.2,2, -999.00,9, -999.00,9, -999.00,9, -999.00,9,-999.000,9,-999.000,9,  -999.0,9,  -999.0,9,-999.000,9,-999.0000,9, -999.00,9, -999.00,9,  -999.0,9,  -999.0,    20.5972,-999.0000,-999.000,-999.000
31WTTUNES_3,       P16C,     263,          1,          9,          9,2,19910914,       1049,    -0.8307,  -150.9910,       4250,   308.2,  11.6039,  34.8289,2,  34.8196,2,     50.3,2,    49.0,2, -999.00,9, -999.00,9, -999.00,9, -999.00,9,-999.000,9,-999.000,9,  -999.0,9,  -999.0,9,-999.000,9,-999.0000,9, -999.00,9, -999.00,9,  -999.0,9,  -999.0,    11.5644,-999.0000,-999.000,-999.000
31WTTUNES_3,       P16C,     263,          1,          8,          8,2,19910914,       1049,    -0.8307,  -150.9910,       4250,   511.1,   8.3244,  34.6352,2,  34.6346,2,     44.0,2,    44.5,2, -999.00,9, -999.00,9, -999.00,9, -999.00,9,-999.000,9,-999.000,9,  -999.0,9,  -999.0,9,-999.000,9,-999.0000,9, -999.00,9, -999.00,9,  -999.0,9,  -999.0,     8.2706,-999.0000,-999.000,-999.000
31WTTUNES_3,       P16C,     263,          1,          7,          7,2,19910914,       1049,    -0.8307,  -150.9910,       4250,   766.1,   5.9506,  34.5509,2,  34.5588,2,     76.3,2,    71.4,2, -999.00,9, -999.00,9, -999.00,9, -999.00,9,-999.000,9,-999.000,9,  -999.0,9,  -999.0,9,-999.000,9,-999.0000,9, -999.00,9, -999.00,9,  -999.0,9,  -999.0,     5.8824,-999.0000,-999.000,-999.000
31WTTUNES_3,       P16C,     263,          1,          6,          6,2,19910914,       1049,    -0.8307,  -150.9910,       4250,  1022.7,   4.6483,  34.5520,2,  34.5602,2,     82.6,2,    81.5,2, -999.00,9, -999.00,9, -999.00,9, -999.00,9,-999.000,9,-999.000,9,  -999.0,9,  -999.0,9,-999.000,9,-999.0000,9, -999.00,9, -999.00,9,  -999.0,9,  -999.0,     4.5655,-999.0000,-999.000,-999.000
31WTTUNES_3,       P16C,     263,          1,          5,          5,2,19910914,       1049,    -0.8307,  -150.9910,       4250,  2045.9,   2.2593,  34.6415,2,  34.6460,2,    105.6,2,   109.1,2, -999.00,9, -999.00,9, -999.00,9, -999.00,9,-999.000,9,-999.000,9,  -999.0,9,  -999.0,9,-999.000,9,-999.0000,9, -999.00,9, -999.00,9,  -999.0,9,  -999.0,     2.1150,-999.0000,-999.000,-999.000
31WTTUNES_3,       P16C,     263,          1,          4,          4,4,19910914,       1049,    -0.8307,  -150.9910,       4250,  3074.2,   1.6733,  34.6740,2,-999.0000,9,    136.7,2,  -999.0,9, -999.00,9, -999.00,9, -999.00,9, -999.00,9,-999.000,9,-999.000,9,  -999.0,9,  -999.0,9,-999.000,9,-999.0000,9, -999.00,9, -999.00,9,  -999.0,9,  -999.0,     1.4456,-999.0000,-999.000,-999.000
31WTTUNES_3,       P16C,     263,          1,          3,          3,3,19910914,       1049,    -0.8307,  -150.9910,       4250,  3592.9,   1.4714,  34.6880,2,  35.3650,4,    153.8,2,   182.2,4, -999.00,9, -999.00,9, -999.00,9, -999.00,9,-999.000,9,-999.000,9,  -999.0,9,  -999.0,9,-999.000,9,-999.0000,9, -999.00,9, -999.00,9,  -999.0,9,  -999.0,     1.1964,-999.0000,-999.000,-999.000
31WTTUNES_3,       P16C,     263,          1,          2,          2,2,19910914,       1049,    -0.8307,  -150.9910,       4250,  4112.5,   1.4070,  34.6949,2,  34.6985,2,    166.4,2,   164.9,2, -999.00,9, -999.00,9, -999.00,9, -999.00,9,-999.000,9,-999.000,9,  -999.0,9,  -999.0,9,-999.000,9,-999.0000,9, -999.00,9, -999.00,9,  -999.0,9,  -999.0,     1.0783,-999.0000,-999.000,-999.000
31WTTUNES_3,       P16C,     263,          1,          1,          1,2,19910914,       1049,    -0.8307,  -150.9910,       4250,  4365.0,   1.3765,  34.6977,2,  34.6979,2,    172.1,2,   172.4,2, -999.00,9, -999.00,9, -999.00,9, -999.00,9,-999.000,9,-999.000,9,  -999.0,9,  -999.0,9,-999.000,9,-999.0000,9, -999.00,9, -999.00,9,  -999.0,9,  -999.0,     1.0207,-999.0000,-999.000,-999.000