BOTTLE,20211117CCHSIORKP
EXPOCODE,SECT_ID,STNNBR,CASTNO,SAMPNO,BTLNBR,BTLNBR_FLAG_W,DATE,TIME,LATITUDE,LONGITUDE,DEPTH,CTDPRS,CTDTMP,CTDSAL,CTDSAL_FLAG_W,SALNTY,SALNTY_FLAG_W,CTDOXY,CTDOXY_FLAG_W,OXYGEN,OXYGEN_FLAG_W,SILCAT,SILCAT_FLAG_W,NITRAT,NITRAT_FLAG_W,NITRIT,NITRIT_FLAG_W,PHSPHT,PHSPHT_FLAG_W,CFC-11,CFC-11_FLAG_W,CFC-12,CFC-12_FLAG_W,TCARBN,TCARBN_FLAG_W,ALKALI,ALKALI_FLAG_W,TRITUM,TRITUM_FLAG_W,HELIUM,HELIUM_FLAG_W,DELHE3,DELHE3_FLAG_W,DELC13,DELC13_FLAG_W,DELC14,DELC14_FLAG_W,C14ERR,THETA,HELIER,DELHER,TRITER
,,,,,,,,,,,METERS,DBAR,ITS-90,PSS-78,,PSS-78,,UMOL/KG,,UMOL/KG,,UMOL/KG,,UMOL/KG,,UMOL/KG,,UMOL/KG,,PMOL/KG,,PMOL/KG,,UMOL/KG,,UMOL/KG,,TU,,NMOL/KG,,PERCNT,,/MILLE,,/MILLE,,/MILLE,ITS-90,NMOL/KG,PERCNT,TU
31WTTUNES_3,       P16C,     284,          1,         36,         36,2,19910918,       0528,     2.6565,  -151.0098,       4623,     5.7,  27.9312,  34.7571,2,  34.7504,2,    207.8,3,   209.4,2,    2.30,2,    1.14,2,    0.07,2,    0.30,2,-999.000,9,-999.000,9,  -999.0,9,  -999.0,9,-999.000,9,-999.0000,9, -999.00,9, -999.00,9,  -999.0,9,  -999.0,    27.9298,-999.0000,-999.000,-999.000
31WTTUNES_3,       P16C,     284,          1,         35,         35,2,19910918,       0528,     2.6565,  -151.0098,       4623,    36.8,  27.5898,  34.7487,2,  34.7425,2,    209.7,2,   209.7,2,    1.91,2,    1.20,2,    0.07,2,    0.32,2,-999.000,9,-999.000,9,  -999.0,9,  -999.0,9,-999.000,9,-999.0000,9, -999.00,9, -999.00,9,  -999.0,9,  -999.0,    27.5812,-999.0000,-999.000,-999.000
31WTTUNES_3,       P16C,     284,          1,         34,         34,2,19910918,       0528,     2.6565,  -151.0098,       4623,    65.9,  27.4743,  34.7486,2,  34.7380,2,    210.3,2,   208.4,2,    2.30,2,    1.50,2,    0.09,2,    0.35,2,-999.000,9,-999.000,9,  -999.0,9,  -999.0,9,-999.000,9,-999.0000,9, -999.00,9, -999.00,9,  -999.0,9,  -999.0,    27.4590,-999.0000,-999.000,-999.000
31WTTUNES_3,       P16C,     284,          1,         33,         33,2,19910918,       0528,     2.6565,  -151.0098,       4623,    95.9,  25.6844,  34.9694,2,  34.9658,2,    195.7,2,   199.6,2,    3.49,2,    4.53,2,    0.27,2,    0.57,2,-999.000,9,-999.000,9,  -999.0,9,  -999.0,9,-999.000,9,-999.0000,9, -999.00,9, -999.00,9,  -999.0,9,  -999.0,    25.6632,-999.0000,-999.000,-999.000
31WTTUNES_3,       P16C,     284,          1,         32,         32,2,19910918,       0528,     2.6565,  -151.0098,       4623,   126.9,  24.3453,  34.8627,2,  34.8465,2,    150.9,2,   138.5,2,    6.46,2,    7.87,2,    1.11,2,    0.84,2,-999.000,9,-999.000,9,  -999.0,9,  -999.0,9,-999.000,9,-999.0000,9, -999.00,9, -999.00,9,  -999.0,9,  -999.0,    24.3184,-999.0000,-999.000,-999.000
31WTTUNES_3,       P16C,     284,          1,         31,         31,2,19910918,       0528,     2.6565,  -151.0098,       4623,   157.6,  16.4503,  34.6810,2,  34.6997,2,    105.1,2,   103.9,2,   15.16,2,   17.19,2,    0.02,2,    1.32,2,-999.000,9,-999.000,9,  -999.0,9,  -999.0,9,-999.000,9,-999.0000,9, -999.00,9, -999.00,9,  -999.0,9,  -999.0,    16.4250,-999.0000,-999.000,-999.000
31WTTUNES_3,       P16C,     284,          1,         30,         30,2,19910918,       0528,     2.6565,  -151.0098,       4623,   197.6,  11.6867,  34.7832,2,  34.7644,2,     91.2,2,    98.0,2,   23.67,2,   24.49,2,    0.01,2,    1.78,2,-999.000,9,-999.000,9,  -999.0,9,  -999.0,9,-999.000,9,-999.0000,9, -999.00,9, -999.00,9,  -999.0,9,  -999.0,    11.6614,-999.0000,-999.000,-999.000
31WTTUNES_3,       P16C,     284,          1,         29,         29,2,19910918,       0528,     2.6565,  -151.0098,       4623,   249.4,  11.2978,  34.7916,2,  34.7962,2,     43.9,2,    45.1,2,   27.03,2,   30.53,2,    0.01,2,    2.15,2,-999.000,9,-999.000,9,  -999.0,9,  -999.0,9,-999.000,9,-999.0000,9, -999.00,9, -999.00,9,  -999.0,9,  -999.0,    11.2665,-999.0000,-999.000,-999.000
31WTTUNES_3,       P16C,     284,          1,         28,         28,2,19910918,       0528,     2.6565,  -151.0098,       4623,   300.0,  10.8763,  34.7675,2,  34.7718,2,     65.0,2,    68.8,2,   26.64,2,   28.99,2,    0.01,2,    2.06,2,-999.000,9,-999.000,9,  -999.0,9,  -999.0,9,-999.000,9,-999.0000,9, -999.00,9, -999.00,9,  -999.0,9,  -999.0,    10.8395,-999.0000,-999.000,-999.000
31WTTUNES_3,       P16C,     284,          1,         27,         27,2,19910918,       0528,     2.6565,  -151.0098,       4623,   351.2,  10.4759,  34.7415,2,  34.7457,2,     68.3,2,    65.1,2,   28.03,2,   29.95,2,    0.01,2,    2.13,2,-999.000,9,-999.000,9,  -999.0,9,  -999.0,9,-999.000,9,-999.0000,9, -999.00,9, -999.00,9,  -999.0,9,  -999.0,    10.4337,-999.0000,-999.000,-999.000
31WTTUNES_3,       P16C,     284,          1,         26,         26,2,19910918,       0528,     2.6565,  -151.0098,       4623,   412.0,   9.9713,  34.7068,2,  34.7203,2,     67.2,2,    61.4,2,   30.40,2,   31.29,2,    0.01,2,    2.21,2,-999.000,9,-999.000,9,  -999.0,9,  -999.0,9,-999.000,9,-999.0000,9, -999.00,9, -999.00,9,  -999.0,9,  -999.0,     9.9232,-999.0000,-999.000,-999.000
31WTTUNES_3,       P16C,     284,          1,         25,         25,2,19910918,       0528,     2.6565,  -151.0098,       4623,   463.3,   9.6316,  34.6898,2,  34.6851,2,     61.0,2,    59.6,2,   32.98,2,   32.35,2,    0.01,2,    2.29,2,-999.000,9,-999.000,9,  -999.0,9,  -999.0,9,-999.000,9,-999.0000,9, -999.00,9, -999.00,9,  -999.0,9,  -999.0,     9.5785,-999.0000,-999.000,-999.000
31WTTUNES_3,       P16C,     284,          1,         24,         24,2,19910918,       0528,     2.6565,  -151.0098,       4623,   514.6,   9.1152,  34.6575,2,  34.6527,2,     63.2,2,    61.4,2,   35.36,2,   33.18,2,    0.00,2,    2.35,2,-999.000,9,-999.000,9,  -999.0,9,  -999.0,9,-999.000,9,-999.0000,9, -999.00,9, -999.00,9,  -999.0,9,  -999.0,     9.0581,-999.0000,-999.000,-999.000
31WTTUNES_3,       P16C,     284,          1,         23,         23,2,19910918,       0528,     2.6565,  -151.0098,       4623,   564.8,   8.3699,  34.6294,2,  34.6217,2,     29.2,2,    28.8,2,   44.67,2,   37.83,2,    0.00,2,    2.73,2,-999.000,9,-999.000,9,  -999.0,9,  -999.0,9,-999.000,9,-999.0000,9, -999.00,9, -999.00,9,  -999.0,9,  -999.0,     8.3102,-999.0000,-999.000,-999.000
31WTTUNES_3,       P16C,     284,          1,         22,         22,2,19910918,       0528,     2.6565,  -151.0098,       4623,   616.9,   7.2637,  34.5872,2,  34.5828,2,     36.0,2,    37.4,2,   52.19,2,   39.29,2,    0.00,2,    2.84,2,-999.000,9,-999.000,9,  -999.0,9,  -999.0,9,-999.000,9,-999.0000,9, -999.00,9, -999.00,9,  -999.0,9,  -999.0,     7.2033,-999.0000,-999.000,-999.000
31WTTUNES_3,       P16C,     284,          1,         21,         21,2,19910918,       0528,     2.6565,  -151.0098,       4623,   719.7,   6.3502,  34.5609,2,  34.5569,2,     57.3,2,    58.6,2,   60.12,2,   39.25,2,    0.00,2,    2.83,2,-999.000,9,-999.000,9,  -999.0,9,  -999.0,9,-999.000,9,-999.0000,9, -999.00,9, -999.00,9,  -999.0,9,  -999.0,     6.2842,-999.0000,-999.000,-999.000
31WTTUNES_3,       P16C,     284,          1,         20,         20,2,19910918,       0528,     2.6565,  -151.0098,       4623,   821.1,   5.7204,  34.5507,2,  34.5476,2,     68.3,2,    71.6,2,   69.02,2,   39.01,2,    0.00,2,    2.79,2,-999.000,9,-999.000,9,  -999.0,9,  -999.0,9,-999.000,9,-999.0000,9, -999.00,9, -999.00,9,  -999.0,9,  -999.0,     5.6485,-999.0000,-999.000,-999.000
31WTTUNES_3,       P16C,     284,          1,         19,         19,2,19910918,       0528,     2.6565,  -151.0098,       4623,   923.4,   5.0514,  34.5501,2,  34.5472,2,     79.8,2,    78.1,2,   79.12,2,   39.02,2,    0.00,2,    2.81,2,-999.000,9,-999.000,9,  -999.0,9,  -999.0,9,-999.000,9,-999.0000,9, -999.00,9, -999.00,9,  -999.0,9,  -999.0,     4.9746,-999.0000,-999.000,-999.000
31WTTUNES_3,       P16C,     284,          1,         18,         18,2,19910918,       0528,     2.6565,  -151.0098,       4623,  1026.2,   4.5545,  34.5577,2,  34.5659,3,     78.0,2,    79.1,2,   89.63,2,   39.43,2,    0.00,2,    2.84,2,-999.000,9,-999.000,9,  -999.0,9,  -999.0,9,-999.000,9,-999.0000,9, -999.00,9, -999.00,9,  -999.0,9,  -999.0,     4.4722,-999.0000,-999.000,-999.000
31WTTUNES_3,       P16C,     284,          1,         17,         17,2,19910918,       0528,     2.6565,  -151.0098,       4623,  1127.5,   4.2353,  34.5668,2,  34.5649,2,     78.1,2,    75.9,2,   97.16,2,   39.79,2,    0.00,2,    2.88,2,-999.000,9,-999.000,9,  -999.0,9,  -999.0,9,-999.000,9,-999.0000,9, -999.00,9, -999.00,9,  -999.0,9,  -999.0,     4.1467,-999.0000,-999.000,-999.000
31WTTUNES_3,       P16C,     284,          1,         16,         16,2,19910918,       0528,     2.6565,  -151.0098,       4623,  1332.3,   3.5896,  34.5864,2,  34.5826,2,     81.6,2,    80.8,2,  111.22,2,   39.90,2,    0.00,2,    2.87,2,   0.004,2,   0.015,2,  -999.0,9,  -999.0,9,-999.000,9,-999.0000,9, -999.00,9, -999.00,9,  -999.0,9,  -999.0,     3.4895,-999.0000,-999.000,-999.000
31WTTUNES_3,       P16C,     284,          1,         15,         15,2,19910918,       0528,     2.6565,  -151.0098,       4623,  1538.7,   3.0149,  34.6092,2,  34.6064,2,     85.7,2,    85.4,2,  125.09,2,   39.81,2,    0.00,2,    2.86,2,  -0.002,6,   0.002,6,  -999.0,9,  -999.0,9,-999.000,9,-999.0000,9, -999.00,9, -999.00,9,  -999.0,9,  -999.0,     2.9035,-999.0000,-999.000,-999.000
31WTTUNES_3,       P16C,     284,          1,         14,         14,4,19910918,       0528,     2.6565,  -151.0098,       4623,  1743.4,   2.6152,  34.6267,2,-999.0000,9,     93.0,2,  -999.0,9, -999.00,9, -999.00,9, -999.00,9, -999.00,9,-999.000,9,-999.000,9,  -999.0,9,  -999.0,9,-999.000,9,-999.0000,9, -999.00,9, -999.00,9,  -999.0,9,  -999.0,     2.4916,-999.0000,-999.000,-999.000
31WTTUNES_3,       P16C,     284,          1,         13,         13,2,19910918,       0528,     2.6565,  -151.0098,       4623,  1948.7,   2.3951,  34.6380,2,  34.6343,2,     98.2,2,    99.0,2,  140.74,2,   39.06,2,    0.00,2,    2.79,2,  -0.004,2,  -0.005,2,  -999.0,9,  -999.0,9,-999.000,9,-999.0000,9, -999.00,9, -999.00,9,  -999.0,9,  -999.0,     2.2571,-999.0000,-999.000,-999.000
31WTTUNES_3,       P16C,     284,          1,         12,         12,2,19910918,       0528,     2.6565,  -151.0098,       4623,  2154.3,   2.1078,  34.6520,2,  34.6464,2,    107.3,2,   106.4,2,  146.30,2,   38.52,2,    0.00,2,    2.74,2,-999.000,9,-999.000,9,  -999.0,9,  -999.0,9,-999.000,9,-999.0000,9, -999.00,9, -999.00,9,  -999.0,9,  -999.0,     1.9564,-999.0000,-999.000,-999.000
31WTTUNES_3,       P16C,     284,          1,         11,         11,2,19910918,       0528,     2.6565,  -151.0098,       4623,  2361.2,   1.9052,  34.6632,2,  34.6574,2,    114.8,2,   114.8,2,  151.05,2,   38.03,2,    0.00,2,    2.69,2,  -0.004,2,  -0.005,2,  -999.0,9,  -999.0,9,-999.000,9,-999.0000,9, -999.00,9, -999.00,9,  -999.0,9,  -999.0,     1.7391,-999.0000,-999.000,-999.000
31WTTUNES_3,       P16C,     284,          1,         10,         10,2,19910918,       0528,     2.6565,  -151.0098,       4623,  2567.7,   1.8239,  34.6682,2,  34.6669,2,    119.4,2,   119.5,2,  152.84,2,   37.64,2,    0.00,2,    2.65,2,  -0.004,2,  -0.005,2,  -999.0,9,  -999.0,9,-999.000,9,-999.0000,9, -999.00,9, -999.00,9,  -999.0,9,  -999.0,     1.6406,-999.0000,-999.000,-999.000
31WTTUNES_3,       P16C,     284,          1,          9,          9,2,19910918,       0528,     2.6565,  -151.0098,       4623,  2773.7,   1.7835,  34.6702,2,  34.6716,2,    122.5,2,   121.9,2,  153.06,2,   37.44,2,    0.00,2,    2.63,2,-999.000,9,-999.000,9,  -999.0,9,  -999.0,9,-999.000,9,-999.0000,9, -999.00,9, -999.00,9,  -999.0,9,  -999.0,     1.5820,-999.0000,-999.000,-999.000
31WTTUNES_3,       P16C,     284,          1,          8,          8,2,19910918,       0528,     2.6565,  -151.0098,       4623,  2980.8,   1.7251,  34.6726,2,  34.6730,2,    127.8,2,   128.3,2,  151.48,2,   37.10,2,    0.00,2,    2.60,2,  -0.002,2,  -0.002,2,  -999.0,9,  -999.0,9,-999.000,9,-999.0000,9, -999.00,9, -999.00,9,  -999.0,9,  -999.0,     1.5052,-999.0000,-999.000,-999.000
31WTTUNES_3,       P16C,     284,          1,          7,          7,2,19910918,       0528,     2.6565,  -151.0098,       4623,  3136.6,   1.6432,  34.6769,2,  34.6775,2,    134.7,2,   134.4,2,  150.90,2,   36.60,2,    0.00,2,    2.55,2,   0.005,2,   0.002,2,  -999.0,9,  -999.0,9,-999.000,9,-999.0000,9, -999.00,9, -999.00,9,  -999.0,9,  -999.0,     1.4101,-999.0000,-999.000,-999.000
31WTTUNES_3,       P16C,     284,          1,          6,          6,2,19910918,       0528,     2.6565,  -151.0098,       4623,  3395.6,   1.5094,  34.6847,2,  34.6828,2,    146.4,2,   145.7,2,  149.53,2,   36.01,2,    0.00,2,    2.50,2,-999.000,9,-999.000,9,  -999.0,9,  -999.0,9,-999.000,9,-999.0000,9, -999.00,9, -999.00,9,  -999.0,9,  -999.0,     1.2537,-999.0000,-999.000,-999.000
31WTTUNES_3,       P16C,     284,          1,          5,          5,2,19910918,       0528,     2.6565,  -151.0098,       4623,  3654.0,   1.4373,  34.6895,2,  34.6897,2,    155.1,2,   155.4,2,  148.54,2,   35.42,2,    0.00,2,    2.45,2,  -0.004,2,  -0.003,2,  -999.0,9,  -999.0,9,-999.000,9,-999.0000,9, -999.00,9, -999.00,9,  -999.0,9,  -999.0,     1.1568,-999.0000,-999.000,-999.000
31WTTUNES_3,       P16C,     284,          1,          4,          4,2,19910918,       0528,     2.6565,  -151.0098,       4623,  3914.8,   1.4256,  34.6918,2,  34.6920,2,    158.6,2,   158.7,2,  146.97,2,   35.17,2,    0.00,2,    2.43,2,  -0.001,2,  -0.004,2,  -999.0,9,  -999.0,9,-999.000,9,-999.0000,9, -999.00,9, -999.00,9,  -999.0,9,  -999.0,     1.1179,-999.0000,-999.000,-999.000
31WTTUNES_3,       P16C,     284,          1,          3,          3,2,19910918,       0528,     2.6565,  -151.0098,       4623,  4175.1,   1.4079,  34.6936,2,  34.6914,2,    164.3,2,   163.2,2,  144.61,2,   34.83,2,    0.00,2,    2.41,2,-999.000,9,-999.000,9,  -999.0,9,  -999.0,9,-999.000,9,-999.0000,9, -999.00,9, -999.00,9,  -999.0,9,  -999.0,     1.0723,-999.0000,-999.000,-999.000
31WTTUNES_3,       P16C,     284,          1,          2,          2,2,19910918,       0528,     2.6565,  -151.0098,       4623,  4433.9,   1.3846,  34.6955,2,  34.6960,2,    169.7,2,   168.7,2,  141.45,2,   34.38,2,    0.00,2,    2.39,2,  -0.004,6,  -0.001,6,  -999.0,9,  -999.0,9,-999.000,9,-999.0000,9, -999.00,9, -999.00,9,  -999.0,9,  -999.0,     1.0208,-999.0000,-999.000,-999.000
31WTTUNES_3,       P16C,     284,          1,          1,          1,2,19910918,       0528,     2.6565,  -151.0098,       4623,  4675.0,   1.3935,  34.6960,2,  34.6963,2,    171.2,2,   171.6,2,  139.68,2,   34.19,2,    0.00,2,    2.36,2,-999.000,9,-999.000,9,  -999.0,9,  -999.0,9,-999.000,9,-999.0000,9, -999.00,9, -999.00,9,  -999.0,9,  -999.0,     1.0015,-999.0000,-999.000,-999.000
31WTTUNES_3,       P16C,     285,          1,         11,         11,2,19910918,       1025,     2.8248,  -151.0048,       4792,    22.2,  27.5781,  34.7565,2,  34.7490,2,    219.1,2,   216.0,2, -999.00,9, -999.00,9, -999.00,9, -999.00,9,-999.000,9,-999.000,9,  -999.0,9,  -999.0,9,-999.000,9,-999.0000,9, -999.00,9, -999.00,9,  -999.0,9,  -999.0,    27.5730,-999.0000,-999.000,-999.000
31WTTUNES_3,       P16C,     285,          1,         10,         10,2,19910918,       1025,     2.8248,  -151.0048,       4792,   158.2,  14.2432,  34.6865,6,  34.6667,2,    108.5,2,   102.0,2, -999.00,9, -999.00,9, -999.00,9, -999.00,9,-999.000,9,-999.000,9,  -999.0,9,  -999.0,9,-999.000,9,-999.0000,9, -999.00,9, -999.00,9,  -999.0,9,  -999.0,    14.2201,-999.0000,-999.000,-999.000
31WTTUNES_3,       P16C,     285,          1,          9,          9,2,19910918,       1025,     2.8248,  -151.0048,       4792,   309.9,  10.8454,  34.7642,2,  34.7655,2,     65.5,2,    70.3,2, -999.00,9, -999.00,9, -999.00,9, -999.00,9,-999.000,9,-999.000,9,  -999.0,9,  -999.0,9,-999.000,9,-999.0000,9, -999.00,9, -999.00,9,  -999.0,9,  -999.0,    10.8075,-999.0000,-999.000,-999.000
31WTTUNES_3,       P16C,     285,          1,          8,          8,4,19910918,       1025,     2.8248,  -151.0048,       4792,   513.1,   9.3601,  34.6731,2,-999.0000,9,     65.2,2,  -999.0,9, -999.00,9, -999.00,9, -999.00,9, -999.00,9,-999.000,9,-999.000,9,  -999.0,9,  -999.0,9,-999.000,9,-999.0000,9, -999.00,9, -999.00,9,  -999.0,9,  -999.0,     9.3022,-999.0000,-999.000,-999.000
31WTTUNES_3,       P16C,     285,          1,          7,          7,2,19910918,       1025,     2.8248,  -151.0048,       4792,   768.4,   5.9434,  34.5517,2,  34.5496,2,     66.7,2,    63.1,2, -999.00,9, -999.00,9, -999.00,9, -999.00,9,-999.000,9,-999.000,9,  -999.0,9,  -999.0,9,-999.000,9,-999.0000,9, -999.00,9, -999.00,9,  -999.0,9,  -999.0,     5.8751,-999.0000,-999.000,-999.000
31WTTUNES_3,       P16C,     285,          1,          6,          6,2,19910918,       1025,     2.8248,  -151.0048,       4792,  1533.0,   3.0084,  34.6034,2,  34.6034,2,     87.4,2,    85.7,2, -999.00,9, -999.00,9, -999.00,9, -999.00,9,-999.000,9,-999.000,9,  -999.0,9,  -999.0,9,-999.000,9,-999.0000,9, -999.00,9, -999.00,9,  -999.0,9,  -999.0,     2.8976,-999.0000,-999.000,-999.000
31WTTUNES_3,       P16C,     285,          1,          5,          5,2,19910918,       1025,     2.8248,  -151.0048,       4792,  3048.9,   1.6938,  34.6729,2,  34.6734,2,    129.5,2,   130.9,2, -999.00,9, -999.00,9, -999.00,9, -999.00,9,-999.000,9,-999.000,9,  -999.0,9,  -999.0,9,-999.000,9,-999.0000,9, -999.00,9, -999.00,9,  -999.0,9,  -999.0,     1.4680,-999.0000,-999.000,-999.000
31WTTUNES_3,       P16C,     285,          1,          4,          4,4,19910918,       1025,     2.8248,  -151.0048,       4792,  3546.1,   1.4700,  34.6861,2,-999.0000,9,    151.5,2,  -999.0,9, -999.00,9, -999.00,9, -999.00,9, -999.00,9,-999.000,9,-999.000,9,  -999.0,9,  -999.0,9,-999.000,9,-999.0000,9, -999.00,9, -999.00,9,  -999.0,9,  -999.0,     1.1999,-999.0000,-999.000,-999.000
31WTTUNES_3,       P16C,     285,          1,          3,          3,2,19910918,       1025,     2.8248,  -151.0048,       4792,  4046.2,   1.4158,  34.6915,2,  34.6899,2,    163.2,2,   160.6,2, -999.00,9, -999.00,9, -999.00,9, -999.00,9,-999.000,9,-999.000,9,  -999.0,9,  -999.0,9,-999.000,9,-999.0000,9, -999.00,9, -999.00,9,  -999.0,9,  -999.0,     1.0942,-999.0000,-999.000,-999.000
31WTTUNES_3,       P16C,     285,          1,          2,          2,2,19910918,       1025,     2.8248,  -151.0048,       4792,  4548.5,   1.3904,  34.6953,2,  34.6948,2,    173.6,2,   170.2,2, -999.00,9, -999.00,9, -999.00,9, -999.00,9,-999.000,9,-999.000,9,  -999.0,9,  -999.0,9,-999.000,9,-999.0000,9, -999.00,9, -999.00,9,  -999.0,9,  -999.0,     1.0132,-999.0000,-999.000,-999.000
31WTTUNES_3,       P16C,     285,          1,          1,          1,2,19910918,       1025,     2.8248,  -151.0048,       4792,  4805.0,   1.4098,  34.6959,2,  34.6960,2,    173.8,2,   172.7,2, -999.00,9, -999.00,9, -999.00,9, -999.00,9,-999.000,9,-999.000,9,  -999.0,9,  -999.0,9,-999.000,9,-999.0000,9, -999.00,9, -999.00,9,  -999.0,9,  -999.0,     1.0020,-999.0000,-999.000,-999.000