BOTTLE,20211117CCHSIORKP
EXPOCODE,SECT_ID,STNNBR,CASTNO,SAMPNO,BTLNBR,BTLNBR_FLAG_W,DATE,TIME,LATITUDE,LONGITUDE,DEPTH,CTDPRS,CTDTMP,CTDSAL,CTDSAL_FLAG_W,SALNTY,SALNTY_FLAG_W,CTDOXY,CTDOXY_FLAG_W,OXYGEN,OXYGEN_FLAG_W,SILCAT,SILCAT_FLAG_W,NITRAT,NITRAT_FLAG_W,NITRIT,NITRIT_FLAG_W,PHSPHT,PHSPHT_FLAG_W,CFC-11,CFC-11_FLAG_W,CFC-12,CFC-12_FLAG_W,TCARBN,TCARBN_FLAG_W,ALKALI,ALKALI_FLAG_W,TRITUM,TRITUM_FLAG_W,HELIUM,HELIUM_FLAG_W,DELHE3,DELHE3_FLAG_W,DELC13,DELC13_FLAG_W,DELC14,DELC14_FLAG_W,C14ERR,THETA,HELIER,DELHER,TRITER
,,,,,,,,,,,METERS,DBAR,ITS-90,PSS-78,,PSS-78,,UMOL/KG,,UMOL/KG,,UMOL/KG,,UMOL/KG,,UMOL/KG,,UMOL/KG,,PMOL/KG,,PMOL/KG,,UMOL/KG,,UMOL/KG,,TU,,NMOL/KG,,PERCNT,,/MILLE,,/MILLE,,/MILLE,ITS-90,NMOL/KG,PERCNT,TU
31WTTUNES_3,       P16C,     300,          3,         36,         36,2,19910923,       0445,     9.9273,  -151.9353,       5266,     5.7,  28.3006,  33.9788,2,  33.9659,2,    215.2,3,   209.6,2,    2.29,2,    0.00,2,    0.00,2,    0.16,2,-999.000,9,-999.000,9,  -999.0,9,  -999.0,9,-999.000,9,-999.0000,9, -999.00,9, -999.00,9,  -999.0,9,  -999.0,    28.2993,-999.0000,-999.000,-999.000
31WTTUNES_3,       P16C,     300,          3,         35,         35,2,19910923,       0445,     9.9273,  -151.9353,       5266,    49.4,  22.2797,  34.4815,2,  34.5005,2,    226.5,2,   221.5,2,    3.09,2,    0.04,2,    0.00,2,    0.28,2,   2.092,2,   1.112,2,  -999.0,9,  -999.0,9,-999.000,9,-999.0000,9, -999.00,9, -999.00,9,  -999.0,9,  -999.0,    22.2699,-999.0000,-999.000,-999.000
31WTTUNES_3,       P16C,     300,          3,         34,         34,2,19910923,       0445,     9.9273,  -151.9353,       5266,    89.9,  14.8504,  34.4213,2,  34.4496,2,    114.9,2,   103.7,2,   14.04,2,   17.50,2,    0.14,2,    1.45,2,   1.573,6,   0.827,6,  -999.0,9,  -999.0,9,-999.000,9,-999.0000,9, -999.00,9, -999.00,9,  -999.0,9,  -999.0,    14.8370,-999.0000,-999.000,-999.000
31WTTUNES_3,       P16C,     300,          3,         33,         33,2,19910923,       0445,     9.9273,  -151.9353,       5266,   131.1,  12.1397,  34.6835,2,  34.7028,2,     10.2,2,     8.5,2,   28.76,2,   32.98,2,    0.01,2,    2.43,2,   0.232,3,   0.199,3,  -999.0,9,  -999.0,9,-999.000,9,-999.0000,9, -999.00,9, -999.00,9,  -999.0,9,  -999.0,    12.1225,-999.0000,-999.000,-999.000
31WTTUNES_3,       P16C,     300,          3,         32,         32,2,19910923,       0445,     9.9273,  -151.9353,       5266,   172.1,  11.2902,  34.7294,2,  34.7290,2,     11.5,2,    12.4,2,   30.36,2,   33.63,2,    0.00,2,    2.42,2,   0.136,6,   0.086,6,  -999.0,9,  -999.0,9,-999.000,9,-999.0000,9, -999.00,9, -999.00,9,  -999.0,9,  -999.0,    11.2687,-999.0000,-999.000,-999.000
31WTTUNES_3,       P16C,     300,          3,         31,         31,2,19910923,       0445,     9.9273,  -151.9353,       5266,   212.7,  10.8246,  34.7181,2,  34.7176,2,     11.8,2,    14.8,2,   31.97,2,   33.89,2,    0.01,2,    2.44,2,   0.106,2,   0.069,2,  -999.0,9,  -999.0,9,-999.000,9,-999.0000,9, -999.00,9, -999.00,9,  -999.0,9,  -999.0,    10.7987,-999.0000,-999.000,-999.000
31WTTUNES_3,       P16C,     300,          3,         30,         30,2,19910923,       0445,     9.9273,  -151.9353,       5266,   263.5,  10.2803,  34.6966,2,  34.6877,2,     10.1,2,    12.6,2,   34.57,2,   34.71,2,    0.01,2,    2.51,2,   0.057,6,   0.038,6,  -999.0,9,  -999.0,9,-999.000,9,-999.0000,9, -999.00,9, -999.00,9,  -999.0,9,  -999.0,    10.2492,-999.0000,-999.000,-999.000
31WTTUNES_3,       P16C,     300,          3,         29,         29,2,19910923,       0445,     9.9273,  -151.9353,       5266,   314.0,   9.6894,  34.6634,2,  34.6629,2,     12.6,2,    13.8,2,   37.17,2,   35.48,2,    0.01,2,    2.58,2,   0.034,2,   0.038,2,  -999.0,9,  -999.0,9,-999.000,9,-999.0000,9, -999.00,9, -999.00,9,  -999.0,9,  -999.0,     9.6536,-999.0000,-999.000,-999.000
31WTTUNES_3,       P16C,     300,          3,         28,         28,2,19910923,       0445,     9.9273,  -151.9353,       5266,   365.6,   9.1866,  34.6435,2,  34.6403,2,      7.4,2,     8.7,2,   41.75,2,   36.35,2,    0.01,2,    2.72,2,   0.030,2,   0.036,2,  -999.0,9,  -999.0,9,-999.000,9,-999.0000,9, -999.00,9, -999.00,9,  -999.0,9,  -999.0,     9.1462,-999.0000,-999.000,-999.000
31WTTUNES_3,       P16C,     300,          3,         27,         27,2,19910923,       0445,     9.9273,  -151.9353,       5266,   416.5,   8.5614,  34.6102,2,  34.6064,2,      7.7,2,     9.5,2,   46.94,2,   36.73,2,    0.01,2,    2.83,2,   0.024,2,   0.013,2,  -999.0,9,  -999.0,9,-999.000,9,-999.0000,9, -999.00,9, -999.00,9,  -999.0,9,  -999.0,     8.5173,-999.0000,-999.000,-999.000
31WTTUNES_3,       P16C,     300,          3,         26,         26,2,19910923,       0445,     9.9273,  -151.9353,       5266,   467.3,   7.9812,  34.5800,2,  34.5808,2,     11.3,2,    12.7,2,   51.33,2,   37.26,2,    0.01,2,    2.86,2,   0.005,6,   0.005,6,  -999.0,9,  -999.0,9,-999.000,9,-999.0000,9, -999.00,9, -999.00,9,  -999.0,9,  -999.0,     7.9334,-999.0000,-999.000,-999.000
31WTTUNES_3,       P16C,     300,          3,         25,         25,2,19910923,       0445,     9.9273,  -151.9353,       5266,   517.7,   7.5005,  34.5587,2,  34.5553,2,     14.7,2,    16.9,2,   56.71,2,   38.23,2,    0.01,2,    2.91,2,   0.000,2,  -0.005,2,  -999.0,9,  -999.0,9,-999.000,9,-999.0000,9, -999.00,9, -999.00,9,  -999.0,9,  -999.0,     7.4493,-999.0000,-999.000,-999.000
31WTTUNES_3,       P16C,     300,          3,         24,         24,2,19910923,       0445,     9.9273,  -151.9353,       5266,   619.8,   6.4872,  34.5287,2,  34.5280,2,     23.7,2,    25.1,2,   66.87,2,   40.06,2,    0.01,2,    2.95,2,   0.000,6,  -0.005,6,  -999.0,9,  -999.0,9,-999.000,9,-999.0000,9, -999.00,9, -999.00,9,  -999.0,9,  -999.0,     6.4303,-999.0000,-999.000,-999.000
31WTTUNES_3,       P16C,     300,          3,         23,         23,2,19910923,       0445,     9.9273,  -151.9353,       5266,   722.7,   5.7242,  34.5351,2,  34.5396,2,     30.4,2,    31.4,2,   76.03,2,   41.36,2,    0.01,2,    3.03,2,  -0.003,2,   0.000,2,  -999.0,9,  -999.0,9,-999.000,9,-999.0000,9, -999.00,9, -999.00,9,  -999.0,9,  -999.0,     5.6614,-999.0000,-999.000,-999.000
31WTTUNES_3,       P16C,     300,          3,         22,         22,2,19910923,       0445,     9.9273,  -151.9353,       5266,   825.1,   5.1013,  34.5405,2,  34.5396,2,     36.5,2,    35.5,2,   85.40,2,   42.03,2,    0.01,2,    3.06,2,-999.000,9,-999.000,9,  -999.0,9,  -999.0,9,-999.000,9,-999.0000,9, -999.00,9, -999.00,9,  -999.0,9,  -999.0,     5.0329,-999.0000,-999.000,-999.000
31WTTUNES_3,       P16C,     300,          3,         21,         21,2,19910923,       0445,     9.9273,  -151.9353,       5266,   928.1,   4.5752,  34.5510,2,  34.5641,3,     44.8,2,    43.7,2,   94.57,2,   41.99,2,    0.01,2,    3.05,2,-999.000,9,-999.000,9,  -999.0,9,  -999.0,9,-999.000,9,-999.0000,9, -999.00,9, -999.00,9,  -999.0,9,  -999.0,     4.5013,-999.0000,-999.000,-999.000
31WTTUNES_3,       P16C,     300,          3,         20,         20,2,19910923,       0445,     9.9273,  -151.9353,       5266,  1030.3,   4.1293,  34.5636,2,  34.5600,2,     53.0,2,    51.2,2,  103.53,2,   41.55,2,    0.01,2,    3.03,2,  -0.009,2,  -0.005,2,  -999.0,9,  -999.0,9,-999.000,9,-999.0000,9, -999.00,9, -999.00,9,  -999.0,9,  -999.0,     4.0500,-999.0000,-999.000,-999.000
31WTTUNES_3,       P16C,     300,          3,         19,         19,2,19910923,       0445,     9.9273,  -151.9353,       5266,  1234.7,   3.4750,  34.5846,2,  34.5824,2,     68.3,2,    65.8,2,  117.07,2,   40.69,2,    0.01,2,    2.96,2,   0.000,2,  -0.005,2,  -999.0,9,  -999.0,9,-999.000,9,-999.0000,9, -999.00,9, -999.00,9,  -999.0,9,  -999.0,     3.3841,-999.0000,-999.000,-999.000
31WTTUNES_3,       P16C,     300,          3,         18,         18,2,19910923,       0445,     9.9273,  -151.9353,       5266,  1440.6,   3.0549,  34.6006,2,  34.6011,2,     77.4,2,    77.0,2,  126.85,2,   40.54,2,    0.01,2,    2.91,2,-999.000,9,-999.000,9,  -999.0,9,  -999.0,9,-999.000,9,-999.0000,9, -999.00,9, -999.00,9,  -999.0,9,  -999.0,     2.9513,-999.0000,-999.000,-999.000
31WTTUNES_3,       P16C,     300,          3,         17,         17,2,19910923,       0445,     9.9273,  -151.9353,       5266,  1646.8,   2.6797,  34.6188,2,  34.6223,2,     86.8,2,    85.3,2,  135.81,2,   40.01,2,    0.01,2,    2.85,2,-999.000,9,-999.000,9,  -999.0,9,  -999.0,9,-999.000,9,-999.0000,9, -999.00,9, -999.00,9,  -999.0,9,  -999.0,     2.5633,-999.0000,-999.000,-999.000
31WTTUNES_3,       P16C,     300,          3,         16,         16,2,19910923,       0445,     9.9273,  -151.9353,       5266,  1853.1,   2.3757,  34.6310,2,  34.6325,2,     92.6,2,    92.9,2,  143.37,2,   39.53,2,    0.01,2,    2.82,2,-999.000,9,-999.000,9,  -999.0,9,  -999.0,9,-999.000,9,-999.0000,9, -999.00,9, -999.00,9,  -999.0,9,  -999.0,     2.2461,-999.0000,-999.000,-999.000
31WTTUNES_3,       P16C,     300,          3,         15,         15,2,19910923,       0445,     9.9273,  -151.9353,       5266,  2057.4,   2.1293,  34.6452,2,  34.6474,2,    101.8,2,   102.4,2,  148.77,2,   39.10,2,    0.01,2,    2.76,2,-999.000,9,-999.000,9,  -999.0,9,  -999.0,9,-999.000,9,-999.0000,9, -999.00,9, -999.00,9,  -999.0,9,  -999.0,     1.9859,-999.0000,-999.000,-999.000
31WTTUNES_3,       P16C,     300,          3,         14,         14,2,19910923,       0445,     9.9273,  -151.9353,       5266,  2264.6,   1.9691,  34.6556,2,  34.6565,2,    109.0,2,   108.5,2,  151.97,2,   38.68,2,    0.00,2,    2.72,2,-999.000,9,-999.000,9,  -999.0,9,  -999.0,9,-999.000,9,-999.0000,9, -999.00,9, -999.00,9,  -999.0,9,  -999.0,     1.8105,-999.0000,-999.000,-999.000
31WTTUNES_3,       P16C,     300,          3,         13,         13,2,19910923,       0445,     9.9273,  -151.9353,       5266,  2470.6,   1.8825,  34.6623,2,  34.6631,2,    111.7,2,   112.2,2,  154.16,2,   38.45,2,    0.00,2,    2.70,2,-999.000,9,-999.000,9,  -999.0,9,  -999.0,9,-999.000,9,-999.0000,9, -999.00,9, -999.00,9,  -999.0,9,  -999.0,     1.7071,-999.0000,-999.000,-999.000
31WTTUNES_3,       P16C,     300,          3,         12,         12,2,19910923,       0445,     9.9273,  -151.9353,       5266,  2677.8,   1.8158,  34.6673,2,  34.6641,2,    118.0,2,   117.4,2,  155.17,2,   37.94,2,    0.01,2,    2.66,2,-999.000,9,-999.000,9,  -999.0,9,  -999.0,9,-999.000,9,-999.0000,9, -999.00,9, -999.00,9,  -999.0,9,  -999.0,     1.6226,-999.0000,-999.000,-999.000
31WTTUNES_3,       P16C,     300,          3,         11,         11,2,19910923,       0445,     9.9273,  -151.9353,       5266,  2884.5,   1.7536,  34.6714,2,  34.6700,2,    121.1,2,   121.2,2,  156.18,2,   37.87,2,    0.00,2,    2.64,2,-999.000,9,-999.000,9,  -999.0,9,  -999.0,9,-999.000,9,-999.0000,9, -999.00,9, -999.00,9,  -999.0,9,  -999.0,     1.5423,-999.0000,-999.000,-999.000
31WTTUNES_3,       P16C,     300,          3,         10,         10,2,19910923,       0445,     9.9273,  -151.9353,       5266,  3090.8,   1.6792,  34.6754,2,  34.6737,2,    126.5,2,   126.4,2,  157.39,2,   37.58,2,    0.00,2,    2.60,2,-999.000,9,-999.000,9,  -999.0,9,  -999.0,9,-999.000,9,-999.0000,9, -999.00,9, -999.00,9,  -999.0,9,  -999.0,     1.4497,-999.0000,-999.000,-999.000
31WTTUNES_3,       P16C,     300,          3,          9,          9,2,19910923,       0445,     9.9273,  -151.9353,       5266,  3347.3,   1.5935,  34.6792,2,  34.6791,2,    133.8,2,   133.9,2,  157.80,2,   37.10,2,    0.00,2,    2.57,2,-999.000,9,-999.000,9,  -999.0,9,  -999.0,9,-999.000,9,-999.0000,9, -999.00,9, -999.00,9,  -999.0,9,  -999.0,     1.3406,-999.0000,-999.000,-999.000
31WTTUNES_3,       P16C,     300,          3,          8,          8,2,19910923,       0445,     9.9273,  -151.9353,       5266,  3606.6,   1.5238,  34.6843,2,  34.6834,2,    144.2,2,   144.3,2,  154.23,2,   36.46,2,    0.00,2,    2.52,2,-999.000,9,-999.000,9,  -999.0,9,  -999.0,9,-999.000,9,-999.0000,9, -999.00,9, -999.00,9,  -999.0,9,  -999.0,     1.2461,-999.0000,-999.000,-999.000
31WTTUNES_3,       P16C,     300,          3,          7,          7,2,19910923,       0445,     9.9273,  -151.9353,       5266,  3865.8,   1.4593,  34.6886,2,  34.6893,2,    155.3,2,   155.0,2,  149.26,2,   35.74,2,    0.00,2,    2.46,2,-999.000,9,-999.000,9,  -999.0,9,  -999.0,9,-999.000,9,-999.0000,9, -999.00,9, -999.00,9,  -999.0,9,  -999.0,     1.1561,-999.0000,-999.000,-999.000
31WTTUNES_3,       P16C,     300,          3,          6,          6,2,19910923,       0445,     9.9273,  -151.9353,       5266,  4123.9,   1.3905,  34.6925,2,  34.6952,2,    165.3,2,   165.5,2,  144.70,2,   34.97,2,    0.00,2,    2.41,2,-999.000,9,-999.000,9,  -999.0,9,  -999.0,9,-999.000,9,-999.0000,9, -999.00,9, -999.00,9,  -999.0,9,  -999.0,     1.0611,-999.0000,-999.000,-999.000
31WTTUNES_3,       P16C,     300,          3,          5,          5,2,19910923,       0445,     9.9273,  -151.9353,       5266,  4382.0,   1.3579,  34.6960,2,  34.6948,2,    173.8,2,   173.3,2,  140.33,2,   34.34,2,    0.00,2,    2.38,2,-999.000,9,-999.000,9,  -999.0,9,  -999.0,9,-999.000,9,-999.0000,9, -999.00,9, -999.00,9,  -999.0,9,  -999.0,     1.0008,-999.0000,-999.000,-999.000
31WTTUNES_3,       P16C,     300,          3,          4,          4,2,19910923,       0445,     9.9273,  -151.9353,       5266,  4641.0,   1.3695,  34.6966,2,  34.6975,2,    176.9,2,   176.3,2,  138.55,2,   34.15,2,    0.00,2,    2.36,2,-999.000,9,-999.000,9,  -999.0,9,  -999.0,9,-999.000,9,-999.0000,9, -999.00,9, -999.00,9,  -999.0,9,  -999.0,     0.9822,-999.0000,-999.000,-999.000
31WTTUNES_3,       P16C,     300,          3,          3,          3,2,19910923,       0445,     9.9273,  -151.9353,       5266,  4901.7,   1.3929,  34.6969,2,  34.6967,2,    177.2,2,   177.8,2,  137.97,2,   33.95,2,    0.00,2,    2.36,2,-999.000,9,-999.000,9,  -999.0,9,  -999.0,9,-999.000,9,-999.0000,9, -999.00,9, -999.00,9,  -999.0,9,  -999.0,     0.9740,-999.0000,-999.000,-999.000
31WTTUNES_3,       P16C,     300,          3,          2,          2,2,19910923,       0445,     9.9273,  -151.9353,       5266,  5163.7,   1.4209,  34.6973,2,  34.7001,3,    178.7,2,   179.3,2,  137.79,2,   34.38,2,    0.00,2,    2.35,2,-999.000,9,-999.000,9,  -999.0,9,  -999.0,9,-999.000,9,-999.0000,9, -999.00,9, -999.00,9,  -999.0,9,  -999.0,     0.9692,-999.0000,-999.000,-999.000
31WTTUNES_3,       P16C,     300,          3,          1,          1,2,19910923,       0445,     9.9273,  -151.9353,       5266,  5349.0,   1.4429,  34.6969,2,  34.7119,4,    178.2,2,   181.2,2,  137.80,2,   34.48,2,    0.00,2,    2.35,2,-999.000,9,-999.000,9,  -999.0,9,  -999.0,9,-999.000,9,-999.0000,9, -999.00,9, -999.00,9,  -999.0,9,  -999.0,     0.9674,-999.0000,-999.000,-999.000