BOTTLE,20211117CCHSIORKP
EXPOCODE,SECT_ID,STNNBR,CASTNO,SAMPNO,BTLNBR,BTLNBR_FLAG_W,DATE,TIME,LATITUDE,LONGITUDE,DEPTH,CTDPRS,CTDTMP,CTDSAL,CTDSAL_FLAG_W,SALNTY,SALNTY_FLAG_W,CTDOXY,CTDOXY_FLAG_W,OXYGEN,OXYGEN_FLAG_W,SILCAT,SILCAT_FLAG_W,NITRAT,NITRAT_FLAG_W,NITRIT,NITRIT_FLAG_W,PHSPHT,PHSPHT_FLAG_W,CFC-11,CFC-11_FLAG_W,CFC-12,CFC-12_FLAG_W,TCARBN,TCARBN_FLAG_W,ALKALI,ALKALI_FLAG_W,TRITUM,TRITUM_FLAG_W,HELIUM,HELIUM_FLAG_W,DELHE3,DELHE3_FLAG_W,DELC13,DELC13_FLAG_W,DELC14,DELC14_FLAG_W,C14ERR,THETA,HELIER,DELHER,TRITER
,,,,,,,,,,,METERS,DBAR,ITS-90,PSS-78,,PSS-78,,UMOL/KG,,UMOL/KG,,UMOL/KG,,UMOL/KG,,UMOL/KG,,UMOL/KG,,PMOL/KG,,PMOL/KG,,UMOL/KG,,UMOL/KG,,TU,,NMOL/KG,,PERCNT,,/MILLE,,/MILLE,,/MILLE,ITS-90,NMOL/KG,PERCNT,TU
31WTTUNES_3,       P16C,     229,          1,         36,         36,2,19910904,       0055,   -13.5023,  -151.0135,       4632,     5.2,  27.8620,  36.3440,2,  36.3356,2,    211.1,3,   211.6,2,    1.20,2,    0.20,2,    0.00,2,    0.22,2,-999.000,9,-999.000,9,  -999.0,9,  -999.0,9,-999.000,9,-999.0000,9, -999.00,9, -999.00,9,  -999.0,9,  -999.0,    27.8608,-999.0000,-999.000,-999.000
31WTTUNES_3,       P16C,     229,          1,         35,         35,2,19910904,       0055,   -13.5023,  -151.0135,       4632,    48.0,  27.7539,  36.3594,2,  36.3388,2,    211.4,2,   210.7,2,    1.22,2,    0.20,2,    0.00,2,    0.23,2,-999.000,9,-999.000,9,  -999.0,9,  -999.0,9,-999.000,9,-999.0000,9, -999.00,9, -999.00,9,  -999.0,9,  -999.0,    27.7426,-999.0000,-999.000,-999.000
31WTTUNES_3,       P16C,     229,          1,         34,         34,2,19910904,       0055,   -13.5023,  -151.0135,       4632,    88.1,  27.5511,  36.3784,2,  36.3608,2,    203.8,2,   211.3,2,    1.45,2,    0.20,2,    0.00,2,    0.22,2,-999.000,9,-999.000,9,  -999.0,9,  -999.0,9,-999.000,9,-999.0000,9, -999.00,9, -999.00,9,  -999.0,9,  -999.0,    27.5305,-999.0000,-999.000,-999.000
31WTTUNES_3,       P16C,     229,          1,         33,         33,2,19910904,       0055,   -13.5023,  -151.0135,       4632,   127.6,  24.9583,  36.3827,2,  36.3606,2,    181.5,2,   195.1,2,    1.46,2,   -0.38,2,    0.92,2,    0.37,2,-999.000,9,-999.000,9,  -999.0,9,  -999.0,9,-999.000,9,-999.0000,9, -999.00,9, -999.00,9,  -999.0,9,  -999.0,    24.9306,-999.0000,-999.000,-999.000
31WTTUNES_3,       P16C,     229,          1,         32,         32,2,19910904,       0055,   -13.5023,  -151.0135,       4632,   168.8,  23.3853,  36.3454,2,  36.3778,2,    179.3,2,   184.4,2,    1.30,2,    2.02,2,    0.66,2,    0.45,2,-999.000,9,-999.000,9,  -999.0,9,  -999.0,9,-999.000,9,-999.0000,9, -999.00,9, -999.00,9,  -999.0,9,  -999.0,    23.3502,-999.0000,-999.000,-999.000
31WTTUNES_3,       P16C,     229,          1,         31,         31,2,19910904,       0055,   -13.5023,  -151.0135,       4632,   207.9,  21.6068,  36.0569,2,  36.2263,2,    174.7,2,   173.7,2,    1.12,2,    3.83,2,    0.03,2,    0.49,2,-999.000,9,-999.000,9,  -999.0,9,  -999.0,9,-999.000,9,-999.0000,9, -999.00,9, -999.00,9,  -999.0,9,  -999.0,    21.5659,-999.0000,-999.000,-999.000
31WTTUNES_3,       P16C,     229,          1,         30,         30,2,19910904,       0055,   -13.5023,  -151.0135,       4632,   248.3,  19.2872,  35.6546,2,  35.8931,2,    174.1,2,   173.2,2,    1.74,2,    4.80,2,    0.02,2,    0.55,2,-999.000,9,-999.000,9,  -999.0,9,  -999.0,9,-999.000,9,-999.0000,9, -999.00,9, -999.00,9,  -999.0,9,  -999.0,    19.2422,-999.0000,-999.000,-999.000
31WTTUNES_3,       P16C,     229,          1,         29,         29,2,19910904,       0055,   -13.5023,  -151.0135,       4632,   290.1,  15.2624,  35.1070,2,  35.1616,2,    149.2,2,   151.4,2,    5.13,2,    8.90,2,    0.01,2,    0.85,2,-999.000,9,-999.000,9,  -999.0,9,  -999.0,9,-999.000,9,-999.0000,9, -999.00,9, -999.00,9,  -999.0,9,  -999.0,    15.2178,-999.0000,-999.000,-999.000
31WTTUNES_3,       P16C,     229,          1,         28,         28,2,19910904,       0055,   -13.5023,  -151.0135,       4632,   331.6,  12.9076,  34.8609,2,  34.8743,2,    119.4,2,   115.8,2,   10.10,2,   14.90,2,    0.02,2,    1.30,2,-999.000,9,-999.000,9,  -999.0,9,  -999.0,9,-999.000,9,-999.0000,9, -999.00,9, -999.00,9,  -999.0,9,  -999.0,    12.8620,-999.0000,-999.000,-999.000
31WTTUNES_3,       P16C,     229,          1,         27,         27,2,19910904,       0055,   -13.5023,  -151.0135,       4632,   371.0,  10.9950,  34.7066,2,  34.7162,2,     98.3,2,    99.7,2,   15.46,2,   21.72,2,    0.02,2,    1.71,2,-999.000,9,-999.000,9,  -999.0,9,  -999.0,9,-999.000,9,-999.0000,9, -999.00,9, -999.00,9,  -999.0,9,  -999.0,    10.9490,-999.0000,-999.000,-999.000
31WTTUNES_3,       P16C,     229,          1,         26,         26,2,19910904,       0055,   -13.5023,  -151.0135,       4632,   412.3,   9.2076,  34.6179,2,  34.6568,2,    104.0,2,    99.8,2,   18.86,2,   22.75,2,    0.01,2,    1.76,2,-999.000,9,-999.000,9,  -999.0,9,  -999.0,9,-999.000,9,-999.0000,9, -999.00,9, -999.00,9,  -999.0,9,  -999.0,     9.1619,-999.0000,-999.000,-999.000
31WTTUNES_3,       P16C,     229,          1,         25,         25,2,19910904,       0055,   -13.5023,  -151.0135,       4632,   463.2,   7.9880,  34.5634,2,  34.7673,4,    119.4,2,   115.8,2,   21.05,2,   24.58,2,    0.01,2,    1.79,2,-999.000,9,-999.000,9,  -999.0,9,  -999.0,9,-999.000,9,-999.0000,9, -999.00,9, -999.00,9,  -999.0,9,  -999.0,     7.9406,-999.0000,-999.000,-999.000
31WTTUNES_3,       P16C,     229,          1,         24,         24,2,19910904,       0055,   -13.5023,  -151.0135,       4632,   531.1,   7.0007,  34.5367,2,  34.5463,2,    123.5,2,   123.7,2,   30.39,2,   27.62,2,    0.01,2,    1.94,2,-999.000,9,-999.000,9,  -999.0,9,  -999.0,9,-999.000,9,-999.0000,9, -999.00,9, -999.00,9,  -999.0,9,  -999.0,     6.9501,-999.0000,-999.000,-999.000
31WTTUNES_3,       P16C,     229,          1,         23,         23,2,19910904,       0055,   -13.5023,  -151.0135,       4632,   610.3,   6.3042,  34.5288,2,  34.5247,2,    111.7,2,   114.7,2,   40.10,2,   34.59,2,    0.00,2,    2.41,2,-999.000,9,-999.000,9,  -999.0,9,  -999.0,9,-999.000,9,-999.0000,9, -999.00,9, -999.00,9,  -999.0,9,  -999.0,     6.2490,-999.0000,-999.000,-999.000
31WTTUNES_3,       P16C,     229,          1,         22,         22,2,19910904,       0055,   -13.5023,  -151.0135,       4632,   713.4,   5.6542,  34.5179,2,  34.5172,2,    108.1,2,   102.5,2,   50.81,2,   37.12,2,    0.00,2,    2.59,2,-999.000,9,-999.000,9,  -999.0,9,  -999.0,9,-999.000,9,-999.0000,9, -999.00,9, -999.00,9,  -999.0,9,  -999.0,     5.5928,-999.0000,-999.000,-999.000
31WTTUNES_3,       P16C,     229,          1,         21,         21,2,19910904,       0055,   -13.5023,  -151.0135,       4632,   811.8,   5.2354,  34.5136,2,  34.5142,2,    112.2,2,   103.3,2,   57.38,2,   38.12,2,    0.00,2,    2.67,2,-999.000,9,-999.000,9,  -999.0,9,  -999.0,9,-999.000,9,-999.0000,9, -999.00,9, -999.00,9,  -999.0,9,  -999.0,     5.1675,-999.0000,-999.000,-999.000
31WTTUNES_3,       P16C,     229,          1,         20,         20,2,19910904,       0055,   -13.5023,  -151.0135,       4632,   906.3,   4.8837,  34.5150,2,  34.5133,2,    113.5,2,   110.5,2,   63.54,2,   38.00,2,    0.00,2,    2.66,2,-999.000,9,-999.000,9,  -999.0,9,  -999.0,9,-999.000,9,-999.0000,9, -999.00,9, -999.00,9,  -999.0,9,  -999.0,     4.8096,-999.0000,-999.000,-999.000
31WTTUNES_3,       P16C,     229,          1,         19,         19,2,19910904,       0055,   -13.5023,  -151.0135,       4632,  1005.4,   4.5569,  34.5193,2,  34.5172,2,    117.4,2,   116.2,2,   69.32,2,   37.74,2,    0.00,2,    2.64,2,-999.000,9,-999.000,9,  -999.0,9,  -999.0,9,-999.000,9,-999.0000,9, -999.00,9, -999.00,9,  -999.0,9,  -999.0,     4.4764,-999.0000,-999.000,-999.000
31WTTUNES_3,       P16C,     229,          1,         18,         18,2,19910904,       0055,   -13.5023,  -151.0135,       4632,  1195.7,   3.7511,  34.5470,2,  34.5425,2,    122.6,2,   121.5,2,   84.59,3,   36.28,2,    0.00,2,    2.53,2,-999.000,9,-999.000,9,  -999.0,9,  -999.0,9,-999.000,9,-999.0000,9, -999.00,9, -999.00,9,  -999.0,9,  -999.0,     3.6611,-999.0000,-999.000,-999.000
31WTTUNES_3,       P16C,     229,          1,         17,         17,2,19910904,       0055,   -13.5023,  -151.0135,       4632,  1405.9,   3.2074,  34.5658,2,  34.5667,2,    136.2,2,   136.1,2,   94.31,2,   36.93,2,    0.00,2,    2.57,2,-999.000,9,-999.000,9,  -999.0,9,  -999.0,9,-999.000,9,-999.0000,9, -999.00,9, -999.00,9,  -999.0,9,  -999.0,     3.1052,-999.0000,-999.000,-999.000
31WTTUNES_3,       P16C,     229,          1,         16,         16,2,19910904,       0055,   -13.5023,  -151.0135,       4632,  1616.8,   2.8015,  34.5911,2,  34.5946,2,    139.1,2,   140.7,2,  103.66,2,   36.76,2,    0.00,2,    2.56,2,-999.000,9,-999.000,9,  -999.0,9,  -999.0,9,-999.000,9,-999.0000,9, -999.00,9, -999.00,9,  -999.0,9,  -999.0,     2.6863,-999.0000,-999.000,-999.000
31WTTUNES_3,       P16C,     229,          1,         15,         15,2,19910904,       0055,   -13.5023,  -151.0135,       4632,  1816.1,   2.4524,  34.6145,2,  34.6172,2,    143.4,2,   145.3,2,  111.60,2,   36.56,2,    0.00,2,    2.53,2,-999.000,9,-999.000,9,  -999.0,9,  -999.0,9,-999.000,9,-999.0000,9, -999.00,9, -999.00,9,  -999.0,9,  -999.0,     2.3249,-999.0000,-999.000,-999.000
31WTTUNES_3,       P16C,     229,          1,         14,         14,2,19910904,       0055,   -13.5023,  -151.0135,       4632,  2013.0,   2.1936,  34.6350,2,  34.6341,2,    146.0,2,   146.8,2,  118.18,2,   36.49,2,    0.00,2,    2.53,2,-999.000,9,-999.000,9,  -999.0,9,  -999.0,9,-999.000,9,-999.0000,9, -999.00,9, -999.00,9,  -999.0,9,  -999.0,     2.0531,-999.0000,-999.000,-999.000
31WTTUNES_3,       P16C,     229,          1,         13,         13,2,19910904,       0055,   -13.5023,  -151.0135,       4632,  2215.3,   2.0814,  34.6456,2,  34.6451,2,    147.8,2,   148.7,2,  122.57,2,   35.26,4,    0.00,2,    2.41,4,-999.000,9,-999.000,9,  -999.0,9,  -999.0,9,-999.000,9,-999.0000,9, -999.00,9, -999.00,9,  -999.0,9,  -999.0,     1.9251,-999.0000,-999.000,-999.000
31WTTUNES_3,       P16C,     229,          1,         12,         12,2,19910904,       0055,   -13.5023,  -151.0135,       4632,  2370.4,   1.9606,  34.6565,2,  34.6549,2,    149.5,2,   149.4,2,  126.17,2,   36.11,2,    0.00,2,    2.49,2,-999.000,9,-999.000,9,  -999.0,9,  -999.0,9,-999.000,9,-999.0000,9, -999.00,9, -999.00,9,  -999.0,9,  -999.0,     1.7927,-999.0000,-999.000,-999.000
31WTTUNES_3,       P16C,     229,          1,         11,         11,2,19910904,       0055,   -13.5023,  -151.0135,       4632,  2525.2,   1.8923,  34.6630,2,  34.6620,2,    150.8,2,   151.0,2,  127.79,2,   30.83,4,    0.01,2,    2.14,4,-999.000,9,-999.000,9,  -999.0,9,  -999.0,9,-999.000,9,-999.0000,9, -999.00,9, -999.00,9,  -999.0,9,  -999.0,     1.7117,-999.0000,-999.000,-999.000
31WTTUNES_3,       P16C,     229,          1,         10,         10,2,19910904,       0055,   -13.5023,  -151.0135,       4632,  2674.0,   1.8382,  34.6683,2,  34.6653,2,    151.4,2,   151.4,2,  130.01,2,   36.02,2,    0.00,2,    2.49,2,-999.000,9,-999.000,9,  -999.0,9,  -999.0,9,-999.000,9,-999.0000,9, -999.00,9, -999.00,9,  -999.0,9,  -999.0,     1.6449,-999.0000,-999.000,-999.000
31WTTUNES_3,       P16C,     229,          1,          9,          9,2,19910904,       0055,   -13.5023,  -151.0135,       4632,  2825.2,   1.7921,  34.6721,2,  34.6683,2,    153.0,2,   152.4,2,  131.63,2,   36.05,2,    0.00,2,    2.50,2,-999.000,9,-999.000,9,  -999.0,9,  -999.0,9,-999.000,9,-999.0000,9, -999.00,9, -999.00,9,  -999.0,9,  -999.0,     1.5856,-999.0000,-999.000,-999.000
31WTTUNES_3,       P16C,     229,          1,          8,          8,4,19910904,       0055,   -13.5023,  -151.0135,       4632,  2976.1,   1.7330,  34.6760,2,-999.0000,9,    155.3,2,  -999.0,9, -999.00,9, -999.00,9, -999.00,9, -999.00,9,-999.000,9,-999.000,9,  -999.0,9,  -999.0,9,-999.000,9,-999.0000,9, -999.00,9, -999.00,9,  -999.0,9,  -999.0,     1.5134,-999.0000,-999.000,-999.000
31WTTUNES_3,       P16C,     229,          1,          7,          7,2,19910904,       0055,   -13.5023,  -151.0135,       4632,  3176.3,   1.6733,  34.6800,2,  34.6773,2,    159.8,2,   159.0,2,  132.30,2,   35.63,2,    0.00,2,    2.46,2,-999.000,9,-999.000,9,  -999.0,9,  -999.0,9,-999.000,9,-999.0000,9, -999.00,9, -999.00,9,  -999.0,9,  -999.0,     1.4355,-999.0000,-999.000,-999.000
31WTTUNES_3,       P16C,     229,          1,          6,          6,2,19910904,       0055,   -13.5023,  -151.0135,       4632,  3428.1,   1.5887,  34.6842,2,  34.6844,2,    167.7,2,   169.0,2,  128.97,2,   35.04,2,    0.00,2,    2.42,2,-999.000,9,-999.000,9,  -999.0,9,  -999.0,9,-999.000,9,-999.0000,9, -999.00,9, -999.00,9,  -999.0,9,  -999.0,     1.3277,-999.0000,-999.000,-999.000
31WTTUNES_3,       P16C,     229,          1,          5,          5,2,19910904,       0055,   -13.5023,  -151.0135,       4632,  3685.2,   1.5108,  34.6897,2,  34.6881,2,    174.7,2,   175.3,2,  127.22,2,   34.49,2,    0.00,2,    2.39,2,-999.000,9,-999.000,9,  -999.0,9,  -999.0,9,-999.000,9,-999.0000,9, -999.00,9, -999.00,9,  -999.0,9,  -999.0,     1.2252,-999.0000,-999.000,-999.000
31WTTUNES_3,       P16C,     229,          1,          4,          4,2,19910904,       0055,   -13.5023,  -151.0135,       4632,  3949.4,   1.4449,  34.6943,2,  34.6934,2,    179.5,2,   178.8,2,  127.45,2,   34.27,2,    0.00,2,    2.38,2,-999.000,9,-999.000,9,  -999.0,9,  -999.0,9,-999.000,9,-999.0000,9, -999.00,9, -999.00,9,  -999.0,9,  -999.0,     1.1329,-999.0000,-999.000,-999.000
31WTTUNES_3,       P16C,     229,          1,          3,          3,2,19910904,       0055,   -13.5023,  -151.0135,       4632,  4214.2,   1.3742,  34.6994,2,  34.6981,2,    185.5,2,   185.2,2,  126.30,2,   33.82,2,    0.00,2,    2.35,2,-999.000,9,-999.000,9,  -999.0,9,  -999.0,9,-999.000,9,-999.0000,9, -999.00,9, -999.00,9,  -999.0,9,  -999.0,     1.0353,-999.0000,-999.000,-999.000
31WTTUNES_3,       P16C,     229,          1,          2,          2,2,19910904,       0055,   -13.5023,  -151.0135,       4632,  4472.8,   1.3304,  34.7024,2,  34.7005,2,    191.2,2,   190.8,2,  124.35,2,   33.42,2,    0.00,2,    2.30,2,-999.000,9,-999.000,9,  -999.0,9,  -999.0,9,-999.000,9,-999.0000,9, -999.00,9, -999.00,9,  -999.0,9,  -999.0,     0.9638,-999.0000,-999.000,-999.000
31WTTUNES_3,       P16C,     229,          1,          1,          1,2,19910904,       0055,   -13.5023,  -151.0135,       4632,  4691.0,   1.3000,  34.7048,2,  34.7070,2,    194.2,2,   194.1,2,  123.80,2,   33.17,2,    0.00,2,    2.28,2,-999.000,9,-999.000,9,  -999.0,9,  -999.0,9,-999.000,9,-999.0000,9, -999.00,9, -999.00,9,  -999.0,9,  -999.0,     0.9090,-999.0000,-999.000,-999.000