BOTTLE,20211117CCHSIORKP
EXPOCODE,SECT_ID,STNNBR,CASTNO,SAMPNO,BTLNBR,BTLNBR_FLAG_W,DATE,TIME,LATITUDE,LONGITUDE,DEPTH,CTDPRS,CTDTMP,CTDSAL,CTDSAL_FLAG_W,SALNTY,SALNTY_FLAG_W,CTDOXY,CTDOXY_FLAG_W,OXYGEN,OXYGEN_FLAG_W,SILCAT,SILCAT_FLAG_W,NITRAT,NITRAT_FLAG_W,NITRIT,NITRIT_FLAG_W,PHSPHT,PHSPHT_FLAG_W,CFC-11,CFC-11_FLAG_W,CFC-12,CFC-12_FLAG_W,TCARBN,TCARBN_FLAG_W,ALKALI,ALKALI_FLAG_W,TRITUM,TRITUM_FLAG_W,HELIUM,HELIUM_FLAG_W,DELHE3,DELHE3_FLAG_W,DELC13,DELC13_FLAG_W,DELC14,DELC14_FLAG_W,C14ERR,THETA,HELIER,DELHER,TRITER
,,,,,,,,,,,METERS,DBAR,ITS-90,PSS-78,,PSS-78,,UMOL/KG,,UMOL/KG,,UMOL/KG,,UMOL/KG,,UMOL/KG,,UMOL/KG,,PMOL/KG,,PMOL/KG,,UMOL/KG,,UMOL/KG,,TU,,NMOL/KG,,PERCNT,,/MILLE,,/MILLE,,/MILLE,ITS-90,NMOL/KG,PERCNT,TU
31WTTUNES_3,       P16C,     295,          1,         36,         36,2,19910921,       1352,     7.4477,  -151.4640,       5302,     6.3,  28.6566,  33.5705,2,  33.6080,2,    213.8,3,   211.8,2,    1.90,2,    0.03,2,    0.00,2,    0.10,2,-999.000,9,-999.000,9,  -999.0,9,  -999.0,9,-999.000,9,-999.0000,9, -999.00,9, -999.00,9,  -999.0,9,  -999.0,    28.6551,-999.0000,-999.000,-999.000
31WTTUNES_3,       P16C,     295,          1,         35,         35,2,19910921,       1352,     7.4477,  -151.4640,       5302,    58.3,  28.7971,  33.8265,2,  34.1311,2,    216.5,2,   217.3,2,    1.90,2,    0.01,2,    0.01,2,    0.13,2,-999.000,9,-999.000,9,  -999.0,9,  -999.0,9,-999.000,9,-999.0000,9, -999.00,9, -999.00,9,  -999.0,9,  -999.0,    28.7831,-999.0000,-999.000,-999.000
31WTTUNES_3,       P16C,     295,          1,         34,         34,2,19910921,       1352,     7.4477,  -151.4640,       5302,    82.9,  25.6991,  34.5147,2,  34.6148,2,    222.7,2,   211.3,2,    2.71,2,    0.07,2,    0.01,2,    0.22,2,-999.000,9,-999.000,9,  -999.0,9,  -999.0,9,-999.000,9,-999.0000,9, -999.00,9, -999.00,9,  -999.0,9,  -999.0,    25.6807,-999.0000,-999.000,-999.000
31WTTUNES_3,       P16C,     295,          1,         33,         33,2,19910921,       1352,     7.4477,  -151.4640,       5302,   107.6,  19.5708,  34.7414,2,  34.7427,2,    163.9,2,   141.3,2,    8.31,2,    8.22,2,    0.45,2,    0.85,2,-999.000,9,-999.000,9,  -999.0,9,  -999.0,9,-999.000,9,-999.0000,9, -999.00,9, -999.00,9,  -999.0,9,  -999.0,    19.5513,-999.0000,-999.000,-999.000
31WTTUNES_3,       P16C,     295,          1,         32,         32,2,19910921,       1352,     7.4477,  -151.4640,       5302,   134.2,  14.5611,  34.6135,2,  34.6026,2,     96.1,2,    95.8,2,   17.30,2,   19.32,2,    0.02,2,    1.53,2,-999.000,9,-999.000,9,  -999.0,9,  -999.0,9,-999.000,9,-999.0000,9, -999.00,9, -999.00,9,  -999.0,9,  -999.0,    14.5412,-999.0000,-999.000,-999.000
31WTTUNES_3,       P16C,     295,          1,         31,         31,2,19910921,       1352,     7.4477,  -151.4640,       5302,   159.8,  12.5516,  34.6326,2,  34.6329,2,     64.0,2,    65.7,2,   25.30,2,   26.12,2,    0.01,2,    1.96,2,-999.000,9,-999.000,9,  -999.0,9,  -999.0,9,-999.000,9,-999.0000,9, -999.00,9, -999.00,9,  -999.0,9,  -999.0,    12.5302,-999.0000,-999.000,-999.000
31WTTUNES_3,       P16C,     295,          1,         30,         30,2,19910921,       1352,     7.4477,  -151.4640,       5302,   210.2,  10.8437,  34.6850,2,  34.6810,2,     30.5,2,    29.3,2,   31.31,2,   32.65,2,    0.01,2,    2.38,2,-999.000,9,-999.000,9,  -999.0,9,  -999.0,9,-999.000,9,-999.0000,9, -999.00,9, -999.00,9,  -999.0,9,  -999.0,    10.8181,-999.0000,-999.000,-999.000
31WTTUNES_3,       P16C,     295,          1,         29,         29,2,19910921,       1352,     7.4477,  -151.4640,       5302,   259.5,  10.0576,  34.6854,2,  34.6855,2,     26.8,2,    29.8,2,   33.11,2,   33.86,2,    0.01,2,    2.42,2,-999.000,9,-999.000,9,  -999.0,9,  -999.0,9,-999.000,9,-999.0000,9, -999.00,9, -999.00,9,  -999.0,9,  -999.0,    10.0274,-999.0000,-999.000,-999.000
31WTTUNES_3,       P16C,     295,          1,         28,         28,2,19910921,       1352,     7.4477,  -151.4640,       5302,   310.3,   9.6411,  34.6736,2,  34.6724,2,     25.4,2,    23.6,2,   35.71,2,   35.54,2,    0.00,2,    2.53,2,-999.000,9,-999.000,9,  -999.0,9,  -999.0,9,-999.000,9,-999.0000,9, -999.00,9, -999.00,9,  -999.0,9,  -999.0,     9.6059,-999.0000,-999.000,-999.000
31WTTUNES_3,       P16C,     295,          1,         27,         27,2,19910921,       1352,     7.4477,  -151.4640,       5302,   409.1,   8.9861,  34.6471,2,  34.6409,2,     23.9,2,    22.9,2,   40.33,2,   36.71,2,    0.00,2,    2.66,2,-999.000,9,-999.000,9,  -999.0,9,  -999.0,9,-999.000,9,-999.0000,9, -999.00,9, -999.00,9,  -999.0,9,  -999.0,     8.9415,-999.0000,-999.000,-999.000
31WTTUNES_3,       P16C,     295,          1,         26,         26,2,19910921,       1352,     7.4477,  -151.4640,       5302,   508.3,   8.0918,  34.6014,2,  34.5942,2,     17.3,2,    16.4,2,   49.52,2,   38.42,2,    0.00,2,    2.87,2,-999.000,9,-999.000,9,  -999.0,9,  -999.0,9,-999.000,9,-999.0000,9, -999.00,9, -999.00,9,  -999.0,9,  -999.0,     8.0392,-999.0000,-999.000,-999.000
31WTTUNES_3,       P16C,     295,          1,         25,         25,2,19910921,       1352,     7.4477,  -151.4640,       5302,   605.2,   7.1140,  34.5728,2,  34.5710,2,     20.4,2,    21.3,2,   57.32,2,   40.74,2,    0.00,2,    2.98,2,-999.000,9,-999.000,9,  -999.0,9,  -999.0,9,-999.000,9,-999.0000,9, -999.00,9, -999.00,9,  -999.0,9,  -999.0,     7.0555,-999.0000,-999.000,-999.000
31WTTUNES_3,       P16C,     295,          1,         24,         24,2,19910921,       1352,     7.4477,  -151.4640,       5302,   704.6,   6.3803,  34.5576,2,  34.5559,2,     17.0,2,    15.8,2,   66.93,2,   42.80,2,    0.00,2,    3.11,2,-999.000,9,-999.000,9,  -999.0,9,  -999.0,9,-999.000,9,-999.0000,9, -999.00,9, -999.00,9,  -999.0,9,  -999.0,     6.3156,-999.0000,-999.000,-999.000
31WTTUNES_3,       P16C,     295,          1,         23,         23,2,19910921,       1352,     7.4477,  -151.4640,       5302,   802.6,   5.7157,  34.5472,2,  34.5480,2,     21.7,2,    25.0,2,   76.34,2,   43.36,2,    0.00,2,    3.12,2,-999.000,9,-999.000,9,  -999.0,9,  -999.0,9,-999.000,9,-999.0000,9, -999.00,9, -999.00,9,  -999.0,9,  -999.0,     5.6455,-999.0000,-999.000,-999.000
31WTTUNES_3,       P16C,     295,          1,         22,         22,2,19910921,       1352,     7.4477,  -151.4640,       5302,   904.1,   5.1824,  34.5510,2,  34.5510,2,     29.6,2,    29.3,2,   83.94,2,   43.87,2,    0.00,2,    3.15,2,-999.000,9,-999.000,9,  -999.0,9,  -999.0,9,-999.000,9,-999.0000,9, -999.00,9, -999.00,9,  -999.0,9,  -999.0,     5.1064,-999.0000,-999.000,-999.000
31WTTUNES_3,       P16C,     295,          1,         21,         21,2,19910921,       1352,     7.4477,  -151.4640,       5302,  1001.9,   4.7633,  34.5561,2,  34.5563,2,     41.3,2,    40.3,2,   91.96,2,   43.32,2,    0.00,2,    3.12,2,-999.000,9,-999.000,9,  -999.0,9,  -999.0,9,-999.000,9,-999.0000,9, -999.00,9, -999.00,9,  -999.0,9,  -999.0,     4.6815,-999.0000,-999.000,-999.000
31WTTUNES_3,       P16C,     295,          1,         20,         20,2,19910921,       1352,     7.4477,  -151.4640,       5302,  1203.8,   3.9086,  34.5769,2,  34.5757,2,     51.5,2,    51.2,2,  109.36,2,   42.98,2,    0.00,2,    3.08,2,-999.000,9,-999.000,9,  -999.0,9,  -999.0,9,-999.000,9,-999.0000,9, -999.00,9, -999.00,9,  -999.0,9,  -999.0,     3.8163,-999.0000,-999.000,-999.000
31WTTUNES_3,       P16C,     295,          1,         19,         19,2,19910921,       1352,     7.4477,  -151.4640,       5302,  1407.8,   3.3874,  34.5935,2,  34.5934,2,     63.5,2,    63.1,2,  121.16,2,   42.14,2,    0.00,2,    3.01,2,-999.000,9,-999.000,9,  -999.0,9,  -999.0,9,-999.000,9,-999.0000,9, -999.00,9, -999.00,9,  -999.0,9,  -999.0,     3.2829,-999.0000,-999.000,-999.000
31WTTUNES_3,       P16C,     295,          1,         18,         18,2,19910921,       1352,     7.4477,  -151.4640,       5302,  1614.2,   2.8847,  34.6091,2,  34.6081,2,     78.2,2,    77.5,2,  130.78,2,   41.14,2,    0.00,2,    2.93,2,-999.000,9,-999.000,9,  -999.0,9,  -999.0,9,-999.000,9,-999.0000,9, -999.00,9, -999.00,9,  -999.0,9,  -999.0,     2.7685,-999.0000,-999.000,-999.000
31WTTUNES_3,       P16C,     295,          1,         17,         17,2,19910921,       1352,     7.4477,  -151.4640,       5302,  1821.7,   2.5153,  34.6259,2,  34.6225,2,     88.7,2,    87.8,2,  138.18,2,   40.43,2,    0.00,2,    2.85,2,-999.000,9,-999.000,9,  -999.0,9,  -999.0,9,-999.000,9,-999.0000,9, -999.00,9, -999.00,9,  -999.0,9,  -999.0,     2.3864,-999.0000,-999.000,-999.000
31WTTUNES_3,       P16C,     295,          1,         16,         16,2,19910921,       1352,     7.4477,  -151.4640,       5302,  2027.8,   2.1915,  34.6409,2,  34.6372,2,     96.7,2,    95.0,2,  145.99,2,   40.04,2,    0.00,2,    2.82,2,-999.000,9,-999.000,9,  -999.0,9,  -999.0,9,-999.000,9,-999.0000,9, -999.00,9, -999.00,9,  -999.0,9,  -999.0,     2.0497,-999.0000,-999.000,-999.000
31WTTUNES_3,       P16C,     295,          1,         15,         15,2,19910921,       1352,     7.4477,  -151.4640,       5302,  2237.2,   2.0065,  34.6530,2,  34.6521,2,    103.9,2,   102.8,2,  151.01,2,   39.49,2,    0.00,2,    2.78,2,-999.000,9,-999.000,9,  -999.0,9,  -999.0,9,-999.000,9,-999.0000,9, -999.00,9, -999.00,9,  -999.0,9,  -999.0,     1.8496,-999.0000,-999.000,-999.000
31WTTUNES_3,       P16C,     295,          1,         14,         14,2,19910921,       1352,     7.4477,  -151.4640,       5302,  2393.8,   1.9112,  34.6583,2,  34.6561,2,    109.5,2,   109.2,2,  151.82,2,   39.00,2,    0.00,2,    2.73,2,-999.000,9,-999.000,9,  -999.0,9,  -999.0,9,-999.000,9,-999.0000,9, -999.00,9, -999.00,9,  -999.0,9,  -999.0,     1.7421,-999.0000,-999.000,-999.000
31WTTUNES_3,       P16C,     295,          1,         13,         13,2,19910921,       1352,     7.4477,  -151.4640,       5302,  2550.3,   1.8708,  34.6641,2,  34.6622,2,    109.6,2,   110.0,2,  154.84,2,   38.95,2,    0.00,2,    2.72,2,-999.000,9,-999.000,9,  -999.0,9,  -999.0,9,-999.000,9,-999.0000,9, -999.00,9, -999.00,9,  -999.0,9,  -999.0,     1.6883,-999.0000,-999.000,-999.000
31WTTUNES_3,       P16C,     295,          1,         12,         12,2,19910921,       1352,     7.4477,  -151.4640,       5302,  2706.5,   1.8221,  34.6665,2,  34.6653,2,    114.4,2,   114.1,2,  154.85,2,   38.60,2,    0.00,2,    2.70,2,-999.000,9,-999.000,9,  -999.0,9,  -999.0,9,-999.000,9,-999.0000,9, -999.00,9, -999.00,9,  -999.0,9,  -999.0,     1.6261,-999.0000,-999.000,-999.000
31WTTUNES_3,       P16C,     295,          1,         11,         11,2,19910921,       1352,     7.4477,  -151.4640,       5302,  2864.5,   1.7865,  34.6694,2,  34.6690,2,    115.5,2,   116.2,2,  156.27,2,   38.36,2,    0.00,2,    2.68,2,-999.000,9,-999.000,9,  -999.0,9,  -999.0,9,-999.000,9,-999.0000,9, -999.00,9, -999.00,9,  -999.0,9,  -999.0,     1.5764,-999.0000,-999.000,-999.000
31WTTUNES_3,       P16C,     295,          1,         10,         10,2,19910921,       1352,     7.4477,  -151.4640,       5302,  3073.8,   1.6837,  34.6748,2,  34.6741,2,    124.8,2,   123.6,2,  156.47,2,   38.06,2,    0.00,2,    2.64,2,-999.000,9,-999.000,9,  -999.0,9,  -999.0,9,-999.000,9,-999.0000,9, -999.00,9, -999.00,9,  -999.0,9,  -999.0,     1.4558,-999.0000,-999.000,-999.000
31WTTUNES_3,       P16C,     295,          1,          9,          9,2,19910921,       1352,     7.4477,  -151.4640,       5302,  3334.2,   1.5937,  34.6794,2,  34.6796,2,    133.4,2,   133.3,2,  155.29,2,   37.46,2,    0.00,2,    2.59,2,-999.000,9,-999.000,9,  -999.0,9,  -999.0,9,-999.000,9,-999.0000,9, -999.00,9, -999.00,9,  -999.0,9,  -999.0,     1.3421,-999.0000,-999.000,-999.000
31WTTUNES_3,       P16C,     295,          1,          8,          8,2,19910921,       1352,     7.4477,  -151.4640,       5302,  3594.1,   1.4948,  34.6845,2,  34.6901,3,    145.6,2,   145.2,2,  151.10,2,   36.61,2,    0.00,2,    2.52,2,-999.000,9,-999.000,9,  -999.0,9,  -999.0,9,-999.000,9,-999.0000,9, -999.00,9, -999.00,9,  -999.0,9,  -999.0,     1.2192,-999.0000,-999.000,-999.000
31WTTUNES_3,       P16C,     295,          1,          7,          7,2,19910921,       1352,     7.4477,  -151.4640,       5302,  3855.9,   1.4308,  34.6894,2,  34.6881,2,    156.0,2,   156.8,2,  146.51,2,   35.76,2,    0.00,2,    2.46,2,-999.000,9,-999.000,9,  -999.0,9,  -999.0,9,-999.000,9,-999.0000,9, -999.00,9, -999.00,9,  -999.0,9,  -999.0,     1.1292,-999.0000,-999.000,-999.000
31WTTUNES_3,       P16C,     295,          1,          6,          6,2,19910921,       1352,     7.4477,  -151.4640,       5302,  4118.0,   1.3901,  34.6926,2,  34.6928,2,    164.1,2,   164.9,2,  142.12,2,   35.10,2,    0.00,2,    2.42,2,-999.000,9,-999.000,9,  -999.0,9,  -999.0,9,-999.000,9,-999.0000,9, -999.00,9, -999.00,9,  -999.0,9,  -999.0,     1.0613,-999.0000,-999.000,-999.000
31WTTUNES_3,       P16C,     295,          1,          5,          5,2,19910921,       1352,     7.4477,  -151.4640,       5302,  4379.8,   1.3682,  34.6944,2,  34.6942,2,    169.9,2,   170.2,2,  139.72,2,   34.81,2,    0.00,2,    2.40,2,-999.000,9,-999.000,9,  -999.0,9,  -999.0,9,-999.000,9,-999.0000,9, -999.00,9, -999.00,9,  -999.0,9,  -999.0,     1.0110,-999.0000,-999.000,-999.000
31WTTUNES_3,       P16C,     295,          1,          4,          4,2,19910921,       1352,     7.4477,  -151.4640,       5302,  4641.8,   1.3850,  34.6948,2,  34.6946,2,    171.9,2,   172.0,2,  138.73,2,   34.66,2,    0.00,2,    2.40,2,-999.000,9,-999.000,9,  -999.0,9,  -999.0,9,-999.000,9,-999.0000,9, -999.00,9, -999.00,9,  -999.0,9,  -999.0,     0.9972,-999.0000,-999.000,-999.000
31WTTUNES_3,       P16C,     295,          1,          3,          3,2,19910921,       1352,     7.4477,  -151.4640,       5302,  4903.5,   1.4089,  34.6951,2,  34.6967,2,    172.9,2,   173.2,2,  138.55,2,   34.62,2,    0.00,2,    2.39,2,-999.000,9,-999.000,9,  -999.0,9,  -999.0,9,-999.000,9,-999.0000,9, -999.00,9, -999.00,9,  -999.0,9,  -999.0,     0.9894,-999.0000,-999.000,-999.000
31WTTUNES_3,       P16C,     295,          1,          2,          2,2,19910921,       1352,     7.4477,  -151.4640,       5302,  5166.4,   1.4384,  34.6951,2,  34.6965,2,    174.6,2,   174.2,2,  138.36,2,   34.58,2,    0.00,2,    2.40,2,-999.000,9,-999.000,9,  -999.0,9,  -999.0,9,-999.000,9,-999.0000,9, -999.00,9, -999.00,9,  -999.0,9,  -999.0,     0.9858,-999.0000,-999.000,-999.000
31WTTUNES_3,       P16C,     295,          1,          1,          1,2,19910921,       1352,     7.4477,  -151.4640,       5302,  5403.0,   1.4677,  34.6944,2,  34.6971,2,    173.4,2,   175.8,2,  138.38,2,   34.53,2,    0.00,2,    2.39,2,-999.000,9,-999.000,9,  -999.0,9,  -999.0,9,-999.000,9,-999.0000,9, -999.00,9, -999.00,9,  -999.0,9,  -999.0,     0.9846,-999.0000,-999.000,-999.000