BOTTLE,20211117CCHSIORKP
EXPOCODE,SECT_ID,STNNBR,CASTNO,SAMPNO,BTLNBR,BTLNBR_FLAG_W,DATE,TIME,LATITUDE,LONGITUDE,DEPTH,CTDPRS,CTDTMP,CTDSAL,CTDSAL_FLAG_W,SALNTY,SALNTY_FLAG_W,CTDOXY,CTDOXY_FLAG_W,OXYGEN,OXYGEN_FLAG_W,SILCAT,SILCAT_FLAG_W,NITRAT,NITRAT_FLAG_W,NITRIT,NITRIT_FLAG_W,PHSPHT,PHSPHT_FLAG_W,CFC-11,CFC-11_FLAG_W,CFC-12,CFC-12_FLAG_W,TCARBN,TCARBN_FLAG_W,ALKALI,ALKALI_FLAG_W,TRITUM,TRITUM_FLAG_W,HELIUM,HELIUM_FLAG_W,DELHE3,DELHE3_FLAG_W,DELC13,DELC13_FLAG_W,DELC14,DELC14_FLAG_W,C14ERR,THETA,HELIER,DELHER,TRITER
,,,,,,,,,,,METERS,DBAR,ITS-90,PSS-78,,PSS-78,,UMOL/KG,,UMOL/KG,,UMOL/KG,,UMOL/KG,,UMOL/KG,,UMOL/KG,,PMOL/KG,,PMOL/KG,,UMOL/KG,,UMOL/KG,,TU,,NMOL/KG,,PERCNT,,/MILLE,,/MILLE,,/MILLE,ITS-90,NMOL/KG,PERCNT,TU
31WTTUNES_3,       P16C,     286,          1,         36,         35,2,19910918,       1500,     2.9785,  -151.0032,       5090,     5.3,  27.6238,  34.7631,2,  34.7547,2,    211.9,3,   209.0,2,    2.50,2,    1.31,2,    0.07,2,    0.32,2,   1.672,2,   1.043,4,  1963.9,2,  2267.2,2,-999.000,9,-999.0000,9, -999.00,9, -999.00,9,    91.0,2,     2.9,    27.6225,-999.0000,-999.000,-999.000
31WTTUNES_3,       P16C,     286,          1,         35,         34,2,19910918,       1500,     2.9785,  -151.0032,       5090,    58.4,  27.5064,  34.7502,2,  34.7427,2,    206.2,2,   208.7,2,    2.50,2,    1.37,2,    0.09,2,    0.34,2,   1.664,6,   0.928,6,  1966.2,2,  2285.0,2,   1.303,2,   1.7140,2,   -1.19,2,    1.54,2,    95.5,2,     3.0,    27.4929,   0.0080,   0.150,   0.008
31WTTUNES_3,       P16C,     286,          1,         34,         33,2,19910918,       1500,     2.9785,  -151.0032,       5090,   108.6,  25.5241,  34.9775,2,  34.9496,2,    190.3,2,   186.6,2,    3.89,2,    4.70,2,    0.30,2,    0.59,2,   1.664,2,   0.965,2,  2016.5,2,  2298.5,2,   1.325,2,   0.0000,2,    0.00,2,    1.53,2,    91.7,2,     3.1,    25.5002,-999.0000,   0.150,   0.008
31WTTUNES_3,       P16C,     286,          1,         33,         32,2,19910918,       1500,     2.9785,  -151.0032,       5090,   134.2,  24.9411,  34.9029,2,  34.9032,2,    168.3,2,   175.3,2,    4.70,2,    5.66,2,    0.84,2,    0.70,2,   1.612,2,   0.900,2,  2031.9,2,  2291.7,2,   1.390,2,   1.7290,2,    0.56,2,    1.20,2,    86.3,2,     3.1,    24.9121,   0.0080,   0.150,   0.009
31WTTUNES_3,       P16C,     286,          1,         32,         31,2,19910918,       1500,     2.9785,  -151.0032,       5090,   159.6,  14.4784,  34.6225,2,  34.7270,2,    107.7,2,   106.6,2,   13.39,2,   15.83,2,    0.03,2,    1.23,2,   1.276,2,   0.701,2,  2115.8,2,  2287.2,2,   1.609,2,   1.7760,2,    6.63,2,    1.02,2,    59.0,2,     2.5,    14.4549,   0.0080,   0.150,   0.009
31WTTUNES_3,       P16C,     286,          1,         31,         30,2,19910918,       1500,     2.9785,  -151.0032,       5090,   185.3,  11.9147,  34.7470,2,  34.7614,3,     95.8,2,   183.4,4,    6.29,3,    5.73,3,    0.12,3,    0.63,3,   1.502,6,   0.903,6,  -999.0,9,  2286.7,2,   1.276,2,   1.7250,2,    0.92,2,    0.47,2,    64.0,3,     2.8,    11.8907,   0.0080,   0.110,   0.008
31WTTUNES_3,       P16C,     286,          1,         30,         29,2,19910918,       1500,     2.9785,  -151.0032,       5090,   210.7,  11.6645,  34.8156,2,  34.7547,2,     64.6,2,    93.6,2,   24.08,2,   24.81,2,    0.01,2,    1.82,2,   0.522,2,   0.292,2,  2186.4,2,  2302.2,2,   0.641,2,   1.8070,2,    6.72,2,    1.22,4,   -36.0,2,     5.7,    11.6375,   0.0080,   0.150,   0.006
31WTTUNES_3,       P16C,     286,          1,         29,         28,2,19910918,       1500,     2.9785,  -151.0032,       5090,   236.5,  11.4558,  34.7905,2,  34.8172,2,     68.4,2,    56.2,2,   25.27,2,   28.89,2,    0.01,2,    2.07,2,   0.308,6,   0.183,6,  2213.7,2,  2302.6,2,   0.372,2,   1.7950,2,    5.39,2,    0.40,2,   -31.8,2,     2.8,    11.4260,   0.0080,   0.150,   0.005
31WTTUNES_3,       P16C,     286,          1,         28,         27,2,19910918,       1500,     2.9785,  -151.0032,       5090,   261.5,  11.2159,  34.7865,2,  34.7783,2,     77.0,2,    85.6,2,   24.68,2,   26.57,2,    0.01,2,    1.92,2,   0.379,2,   0.221,2,  2197.7,2,  2306.1,2,   0.426,2,   1.8090,2,    6.19,2,    0.26,2,   -34.5,2,     2.6,    11.1832,   0.0080,   0.150,   0.005
31WTTUNES_3,       P16C,     286,          1,         27,         26,2,19910918,       1500,     2.9785,  -151.0032,       5090,   312.2,  10.8984,  34.7659,2,  34.7644,2,     61.0,2,    63.2,2,   26.87,2,   29.53,2,    0.00,2,    2.09,2,   0.248,2,   0.120,2,  2216.5,2,  2302.4,2,   0.325,2,   1.8120,2,    5.97,2,    0.30,2,   -79.4,3,     2.4,    10.8600,   0.0090,   0.150,   0.004
31WTTUNES_3,       P16C,     286,          1,         26,         25,2,19910918,       1500,     2.9785,  -151.0032,       5090,   415.2,  10.2725,  34.7256,2,  34.7203,2,     62.6,2,    63.7,2,   29.26,2,   30.56,2,    0.01,2,    2.18,2,   0.189,2,   0.113,2,  2222.0,2,  2305.5,2,   0.273,2,   1.8220,2,    6.19,2,   -0.85,4,  -999.0,5,  -999.0,    10.2231,   0.0090,   0.150,   0.004
31WTTUNES_3,       P16C,     286,          1,         25,         36,2,19910918,       1500,     2.9785,  -151.0032,       5090,   516.3,   9.0701,  34.6530,2,  34.6551,2,     64.6,2,    61.1,2,   35.23,2,   32.83,2,    0.00,2,    2.33,2,   0.099,2,   0.071,2,  2236.6,2,  2308.9,2,-999.000,5,   1.8200,2,    6.58,2,    0.26,2,  -999.0,9,  -999.0,     9.0129,   0.0090,   0.150,-999.000
31WTTUNES_3,       P16C,     286,          1,         24,         24,2,19910918,       1500,     2.9785,  -151.0032,       5090,   619.0,   7.3497,  34.5929,2,  34.5956,2,     32.6,2,    27.0,2,   50.83,2,   39.41,2,    0.00,2,    2.88,2,  -0.002,2,   0.005,2,  2284.9,2,  2319.2,2,   0.016,2,   1.8470,2,    8.43,2,   -0.03,2,  -125.3,2,     2.5,     7.2888,   0.0090,   0.150,   0.002
31WTTUNES_3,       P16C,     286,          1,         23,         23,2,19910918,       1500,     2.9785,  -151.0032,       5090,   721.2,   6.3250,  34.5618,2,  34.5641,2,     54.3,2,    54.0,2,   58.03,2,   39.27,2,    0.00,2,    2.84,2,   0.000,2,   0.003,2,  2280.4,2,  2327.2,2,   0.008,2,   1.8570,2,   10.62,2,    0.11,2,  -128.6,2,     2.7,     6.2590,   0.0090,   0.150,   0.001
31WTTUNES_3,       P16C,     286,          1,         22,         22,2,19910918,       1500,     2.9785,  -151.0032,       5090,   824.0,   5.6348,  34.5498,2,  34.5480,2,     69.3,2,    69.4,2,   67.34,2,   38.99,2,    0.00,2,    2.81,2,  -0.004,2,   0.005,2,  2285.8,2,  2334.4,2,   0.007,2,   1.7820,2,   13.00,2, -999.00,9,  -999.0,9,  -999.0,     5.5633,   0.0080,   0.150,   0.002
31WTTUNES_3,       P16C,     286,          1,         21,         21,2,19910918,       1500,     2.9785,  -151.0032,       5090,   926.0,   5.0831,  34.5495,2,  34.5472,2,     78.7,2,    77.0,2,   76.47,2,   38.85,2,    0.00,2,    2.81,2,  -0.006,2,  -0.006,2,  2293.1,2,  2345.6,2,-999.000,9,-999.0000,9, -999.00,9, -999.00,9,  -999.0,9,  -999.0,     5.0057,-999.0000,-999.000,-999.000
31WTTUNES_3,       P16C,     286,          1,         20,         20,2,19910918,       1500,     2.9785,  -151.0032,       5090,  1028.7,   4.6496,  34.5567,2,  34.5537,2,     76.4,2,    75.1,2,   85.80,2,   39.57,2,    0.00,2,    2.85,2,  -0.002,6,   0.005,6,  2304.2,2,  2353.8,2,   0.002,2,   1.8750,2,   17.00,2,    0.09,2,  -169.1,2,     2.4,     4.5663,   0.0090,   0.150,   0.002
31WTTUNES_3,       P16C,     286,          1,         19,         19,2,19910918,       1500,     2.9785,  -151.0032,       5090,  1232.2,   3.8476,  34.5782,2,  34.5741,2,     78.4,2,    77.3,2,  105.04,2,   39.78,2,    0.00,2,    2.90,2,-999.000,9,-999.000,9,  2325.2,2,  2376.1,2,   0.005,2,   1.9050,2,   20.58,2, -999.00,9,  -999.0,9,  -999.0,     3.7535,   0.0090,   0.150,   0.002
31WTTUNES_3,       P16C,     286,          1,         18,         18,2,19910918,       1500,     2.9785,  -151.0032,       5090,  1435.3,   3.2279,  34.5992,2,  34.5948,2,     83.5,2,    83.1,2,  118.73,2,   39.79,2,    0.00,2,    2.87,2,  -0.005,2,   0.016,2,  2334.7,2,  2392.4,2,-999.000,9,-999.0000,9, -999.00,9, -999.00,9,  -999.0,9,  -999.0,     3.1230,-999.0000,-999.000,-999.000
31WTTUNES_3,       P16C,     286,          1,         17,         17,2,19910918,       1500,     2.9785,  -151.0032,       5090,  1638.0,   2.8882,  34.6139,2,  34.6170,2,     88.0,2,    87.8,2,  130.27,2,   39.61,2,    0.00,2,    2.86,2,  -0.002,2,   0.007,2,  2344.4,2,  -999.0,9,-999.000,9,-999.0000,9, -999.00,9, -999.00,9,  -999.0,9,  -999.0,     2.7700,-999.0000,-999.000,-999.000
31WTTUNES_3,       P16C,     286,          1,         16,         16,2,19910918,       1500,     2.9785,  -151.0032,       5090,  1840.7,   2.5756,  34.6297,2,  34.6286,2,     93.4,2,    94.2,2,  137.23,2,   39.22,2,    0.00,2,    2.83,2,-999.000,9,-999.000,9,  2345.7,2,  2409.8,2,-999.000,9,-999.0000,9, -999.00,9, -999.00,9,  -999.0,9,  -999.0,     2.4442,-999.0000,-999.000,-999.000
31WTTUNES_3,       P16C,     286,          1,         15,         15,2,19910918,       1500,     2.9785,  -151.0032,       5090,  2047.9,   2.3144,  34.6418,2,  34.6402,2,    100.6,2,   101.4,2,  143.21,2,   38.79,2,    0.00,2,    2.79,2,  -0.005,2,  -0.001,2,  2348.7,2,  -999.0,9,-999.000,9,-999.0000,9, -999.00,9, -999.00,9,  -999.0,9,  -999.0,     2.1691,-999.0000,-999.000,-999.000
31WTTUNES_3,       P16C,     286,          1,         14,         14,2,19910918,       1500,     2.9785,  -151.0032,       5090,  2255.9,   2.0401,  34.6558,2,  34.6539,2,    110.1,2,   110.9,2,  148.00,2,   38.16,2,    0.00,2,    2.73,2,-999.000,9,-999.000,9,  2349.4,2,  2425.8,2,-999.000,9,-999.0000,9, -999.00,9, -999.00,9,  -999.0,9,  -999.0,     1.8809,-999.0000,-999.000,-999.000
31WTTUNES_3,       P16C,     286,          1,         13,         13,2,19910918,       1500,     2.9785,  -151.0032,       5090,  2463.2,   1.8837,  34.6639,2,  34.6624,2,    116.9,2,   117.7,2,  151.79,2,   37.71,2,    0.00,2,    2.68,2,-999.000,9,-999.000,9,  2349.8,2,  -999.0,9,-999.000,9,-999.0000,9, -999.00,9, -999.00,9,  -999.0,9,  -999.0,     1.7090,-999.0000,-999.000,-999.000
31WTTUNES_3,       P16C,     286,          1,         12,         12,2,19910918,       1500,     2.9785,  -151.0032,       5090,  2670.9,   1.8215,  34.6685,2,  34.6677,2,    119.1,2,   120.4,2,  153.61,2,   37.58,2,    0.00,2,    2.66,2,  -0.004,6,   0.001,6,  2351.1,2,  2433.0,2,-999.000,9,-999.0000,9, -999.00,9, -999.00,9,  -999.0,9,  -999.0,     1.6288,-999.0000,-999.000,-999.000
31WTTUNES_3,       P16C,     286,          1,         11,         11,2,19910918,       1500,     2.9785,  -151.0032,       5090,  2877.4,   1.7659,  34.6711,2,  34.6694,2,    123.7,2,   125.1,2,  153.05,2,   37.25,2,    0.00,2,    2.64,2,-999.000,9,-999.000,9,  2347.4,2,  2435.4,2,-999.000,9,-999.0000,9, -999.00,9, -999.00,9,  -999.0,9,  -999.0,     1.5550,-999.0000,-999.000,-999.000
31WTTUNES_3,       P16C,     286,          1,         10,         10,2,19910918,       1500,     2.9785,  -151.0032,       5090,  3082.7,   1.6817,  34.6748,2,  34.6737,2,    130.9,2,   131.1,2,  152.68,2,   36.95,2,    0.00,2,    2.59,2,-999.000,9,-999.000,9,  2343.1,2,  2434.4,2,-999.000,9,-999.0000,9, -999.00,9, -999.00,9,  -999.0,9,  -999.0,     1.4530,-999.0000,-999.000,-999.000
31WTTUNES_3,       P16C,     286,          1,          9,          9,2,19910918,       1500,     2.9785,  -151.0032,       5090,  3331.4,   1.5239,  34.6831,2,  34.6822,2,    143.2,2,   143.7,2,  151.32,2,   36.22,2,    0.00,2,    2.54,2,-999.000,9,-999.000,9,  2334.0,2,  -999.0,9,-999.000,9,-999.0000,9, -999.00,9, -999.00,9,  -999.0,9,  -999.0,     1.2742,-999.0000,-999.000,-999.000
31WTTUNES_3,       P16C,     286,          1,          8,          8,2,19910918,       1500,     2.9785,  -151.0032,       5090,  3580.7,   1.4625,  34.6880,2,  34.6867,2,    152.1,2,   153.2,2,  149.17,2,   35.57,2,    0.00,2,    2.49,2,-999.000,9,-999.000,9,  2329.6,2,  2430.1,2,-999.000,9,-999.0000,9, -999.00,9, -999.00,9,  -999.0,9,  -999.0,     1.1890,-999.0000,-999.000,-999.000
31WTTUNES_3,       P16C,     286,          1,          7,          7,2,19910918,       1500,     2.9785,  -151.0032,       5090,  3831.8,   1.4214,  34.6910,2,  34.6895,2,    158.8,2,   158.7,2,  146.81,2,   35.08,2,    0.00,2,    2.44,2,-999.000,9,-999.000,9,  2322.5,2,  -999.0,9,-999.000,9,-999.0000,9, -999.00,9, -999.00,9,  -999.0,9,  -999.0,     1.1227,-999.0000,-999.000,-999.000
31WTTUNES_3,       P16C,     286,          1,          6,          6,2,19910918,       1500,     2.9785,  -151.0032,       5090,  4085.7,   1.3801,  34.6937,2,  34.6934,2,    165.3,2,   165.4,2,  143.16,2,   34.68,2,    0.00,2,    2.41,2,-999.000,9,-999.000,9,  2318.7,2,  -999.0,9,-999.000,9,-999.0000,9, -999.00,9, -999.00,9,  -999.0,9,  -999.0,     1.0552,-999.0000,-999.000,-999.000
31WTTUNES_3,       P16C,     286,          1,          5,          5,2,19910918,       1500,     2.9785,  -151.0032,       5090,  4343.1,   1.3805,  34.6948,2,  34.6938,2,    169.5,2,   168.9,2,  141.80,2,   34.65,2,    0.00,2,    2.40,2,-999.000,9,-999.000,9,  2312.8,2,  -999.0,9,-999.000,9,-999.0000,9, -999.00,9, -999.00,9,  -999.0,9,  -999.0,     1.0270,-999.0000,-999.000,-999.000
31WTTUNES_3,       P16C,     286,          1,          4,          4,2,19910918,       1500,     2.9785,  -151.0032,       5090,  4601.5,   1.3903,  34.6958,2,  34.6948,2,    171.8,2,   171.5,2,  140.64,2,   34.36,2,    0.00,2,    2.40,2,-999.000,9,-999.000,9,  2312.9,2,  2417.7,2,-999.000,9,-999.0000,9, -999.00,9, -999.00,9,  -999.0,9,  -999.0,     1.0070,-999.0000,-999.000,-999.000
31WTTUNES_3,       P16C,     286,          1,          3,          3,2,19910918,       1500,     2.9785,  -151.0032,       5090,  4857.7,   1.4096,  34.6962,2,  34.6979,2,    174.4,2,   173.3,2,  139.67,2,   34.27,2,    0.00,2,    2.38,2,-999.000,9,-999.000,9,  2310.4,2,  -999.0,9,-999.000,9,-999.0000,9, -999.00,9, -999.00,9,  -999.0,9,  -999.0,     0.9955,-999.0000,-999.000,-999.000
31WTTUNES_3,       P16C,     286,          1,          2,          2,2,19910918,       1500,     2.9785,  -151.0032,       5090,  5114.8,   1.4294,  34.6968,2,  34.7038,3,    176.8,2,   176.4,2,  138.11,2,   34.09,2,    0.00,2,    2.37,2,-999.000,9,-999.000,9,  2311.6,2,  2411.9,2,-999.000,9,-999.0000,9, -999.00,9, -999.00,9,  -999.0,9,  -999.0,     0.9835,-999.0000,-999.000,-999.000
31WTTUNES_3,       P16C,     286,          1,          1,          1,2,19910918,       1500,     2.9785,  -151.0032,       5090,  5167.0,   1.4344,  34.6971,2,  34.6967,2,    177.3,2,   177.8,2,  138.54,2,   34.05,2,    0.00,2,    2.37,2,-999.000,9,-999.000,9,  2308.0,2,  -999.0,9,-999.000,9,-999.0000,9, -999.00,9, -999.00,9,  -999.0,9,  -999.0,     0.9819,-999.0000,-999.000,-999.000