BOTTLE,20211117CCHSIORKP
EXPOCODE,SECT_ID,STNNBR,CASTNO,SAMPNO,BTLNBR,BTLNBR_FLAG_W,DATE,TIME,LATITUDE,LONGITUDE,DEPTH,CTDPRS,CTDTMP,CTDSAL,CTDSAL_FLAG_W,SALNTY,SALNTY_FLAG_W,CTDOXY,CTDOXY_FLAG_W,OXYGEN,OXYGEN_FLAG_W,SILCAT,SILCAT_FLAG_W,NITRAT,NITRAT_FLAG_W,NITRIT,NITRIT_FLAG_W,PHSPHT,PHSPHT_FLAG_W,CFC-11,CFC-11_FLAG_W,CFC-12,CFC-12_FLAG_W,TCARBN,TCARBN_FLAG_W,ALKALI,ALKALI_FLAG_W,TRITUM,TRITUM_FLAG_W,HELIUM,HELIUM_FLAG_W,DELHE3,DELHE3_FLAG_W,DELC13,DELC13_FLAG_W,DELC14,DELC14_FLAG_W,C14ERR,THETA,HELIER,DELHER,TRITER
,,,,,,,,,,,METERS,DBAR,ITS-90,PSS-78,,PSS-78,,UMOL/KG,,UMOL/KG,,UMOL/KG,,UMOL/KG,,UMOL/KG,,UMOL/KG,,PMOL/KG,,PMOL/KG,,UMOL/KG,,UMOL/KG,,TU,,NMOL/KG,,PERCNT,,/MILLE,,/MILLE,,/MILLE,ITS-90,NMOL/KG,PERCNT,TU
31WTTUNES_3,       P16C,     274,          1,         36,         35,2,19910916,       0855,     0.9935,  -150.9982,       3763,     5.1,  27.4416,  34.8408,2,  34.8359,2,    218.7,3,   214.9,2,    3.00,2,    1.89,2,    0.13,2,    0.36,2,   1.674,2,   0.969,3,  1975.7,2,  2290.3,2,   1.295,2,   1.7010,2,   -1.36,2,    0.01,2,    74.9,3,     4.0,    27.4404,   0.0080,   0.150,   0.008
31WTTUNES_3,       P16C,     274,          1,         35,         34,2,19910916,       0855,     0.9935,  -150.9982,       3763,    36.5,  26.7070,  34.8946,2,  34.8688,2,    202.7,2,   209.3,2,    3.20,2,    2.87,2,    0.26,2,    0.44,2,   1.669,2,   0.941,2,  1986.3,2,  2292.2,2,   1.326,2,   1.7210,2,   -0.89,2,    1.37,2,    93.0,2,     3.6,    26.6987,   0.0080,   0.150,   0.008
31WTTUNES_3,       P16C,     274,          1,         34,         33,2,19910916,       0855,     0.9935,  -150.9982,       3763,    65.8,  26.3620,  35.0438,2,  35.0327,2,    187.7,2,   192.4,2,    3.79,2,    4.25,2,    0.37,2,    0.55,2,   1.618,2,   0.896,2,  2007.3,2,  2301.7,2,   1.305,2,   1.7490,2,   -0.52,2,    1.36,2,    94.0,2,     4.0,    26.3471,   0.0080,   0.150,   0.008
31WTTUNES_3,       P16C,     274,          1,         33,         32,2,19910916,       0855,     0.9935,  -150.9982,       3763,    92.1,  26.0629,  35.1304,2,  35.1382,2,    179.6,2,   185.9,2,    4.01,2,    5.46,2,    0.36,2,    0.61,2,   1.601,2,   0.888,2,  2021.0,2,  2297.9,2,   1.276,2,   1.7130,2,   -0.59,2,    1.21,2,    92.3,2,     3.6,    26.0423,   0.0080,   0.150,   0.008
31WTTUNES_3,       P16C,     274,          1,         32,         31,2,19910916,       0855,     0.9935,  -150.9982,       3763,   122.0,  21.2336,  34.9848,2,  35.0037,2,    137.1,2,   135.7,2,    7.73,2,   10.48,2,    0.03,2,    0.81,2,   1.511,2,   0.815,2,  2066.8,2,  2297.5,2,   1.447,2,   1.7530,2,    2.84,2,    1.13,2,   110.5,2,     3.9,    21.2101,   0.0080,   0.150,   0.009
31WTTUNES_3,       P16C,     274,          1,         31,         30,2,19910916,       0855,     0.9935,  -150.9982,       3763,   153.2,  16.7119,  34.8230,2,  34.8053,2,    139.8,2,   135.1,2,   14.59,2,   14.59,2,    0.02,2,    1.10,2,   1.330,2,   0.718,2,  2104.8,2,  2298.7,2,   1.466,2,   1.7730,2,    6.15,2,    0.75,2,    64.7,2,     4.7,    16.6870,   0.0080,   0.150,   0.009
31WTTUNES_3,       P16C,     274,          1,         30,         29,2,19910916,       0855,     0.9935,  -150.9982,       3763,   195.9,  13.3728,  34.7622,2,  34.7832,2,    124.2,2,   120.7,2,   20.48,2,   20.70,2,    0.01,2,    1.50,2,   0.830,2,   0.451,2,  2151.5,2,  2302.8,2,   0.916,2,   1.7970,2,    6.36,2,    0.57,2,    18.4,2,     3.5,    13.3454,   0.0080,   0.150,   0.007
31WTTUNES_3,       P16C,     274,          1,         29,         28,2,19910916,       0855,     0.9935,  -150.9982,       3763,   236.4,  12.3367,  34.8450,2,  34.8401,2,    103.0,2,    93.4,2,   22.25,2,   24.90,2,    0.01,2,    1.76,2,   0.453,2,   0.249,2,  2181.8,2,  2304.2,2,   0.515,2,   1.7970,2,    5.29,2,    0.54,2,    -5.4,2,     3.8,    12.3052,   0.0080,   0.150,   0.005
31WTTUNES_3,       P16C,     274,          1,         28,         27,2,19910916,       0855,     0.9935,  -150.9982,       3763,   277.1,  11.8386,  34.8392,2,  34.8363,2,     71.4,2,    70.5,2,   24.21,2,   27.74,2,    0.01,2,    1.95,2,-999.000,9,-999.000,9,  2201.9,2,  2292.9,2,-999.000,9,-999.0000,9, -999.00,9,    0.41,2,   -29.2,2,     4.3,    11.8027,-999.0000,-999.000,-999.000
31WTTUNES_3,       P16C,     274,          1,         27,         26,2,19910916,       0855,     0.9935,  -150.9982,       3763,   313.1,  11.6375,  34.8265,2,  34.8251,2,     53.9,2,    53.2,2,   25.97,2,   29.79,2,    0.01,2,    2.08,2,   0.311,2,   0.185,2,  2216.9,2,  2301.9,2,   0.362,2,   1.8200,2,    5.49,2,    0.31,2,   -35.9,2,     4.0,    11.5973,   0.0090,   0.150,   0.005
31WTTUNES_3,       P16C,     274,          1,         26,         25,2,19910916,       0855,     0.9935,  -150.9982,       3763,   352.7,  11.0575,  34.7799,2,  34.7921,2,     24.0,2,    28.0,2,   29.31,2,   33.09,2,    0.01,2,    2.30,2,-999.000,9,-999.000,9,  2239.6,2,  2303.4,2,-999.000,9,-999.0000,9, -999.00,9,    0.23,2,   -53.9,2,     3.4,    11.0138,-999.0000,-999.000,-999.000
31WTTUNES_3,       P16C,     274,          1,         25,         36,2,19910916,       0855,     0.9935,  -150.9982,       3763,   391.9,  10.3548,  34.7437,2,  34.7543,2,     19.3,2,    19.4,2, -999.00,9, -999.00,9, -999.00,9, -999.00,9,-999.000,9,-999.000,9,  2253.1,2,  2303.3,2,-999.000,9,-999.0000,9, -999.00,9,    0.02,2,   -71.0,2,     3.9,    10.3080,-999.0000,-999.000,-999.000
31WTTUNES_3,       P16C,     274,          1,         24,         23,2,19910916,       0855,     0.9935,  -150.9982,       3763,   431.4,   8.8607,  34.6599,2,  34.6722,2,     28.9,2,    29.5,2,   38.14,2,   37.10,2,    0.01,2,    2.56,2,   0.038,2,   0.027,2,  2260.6,2,  2308.6,2,   0.089,2,   1.8580,2,    6.13,2, -999.00,9,  -999.0,9,  -999.0,     8.8139,   0.0090,   0.150,   0.003
31WTTUNES_3,       P16C,     274,          1,         23,         22,2,19910916,       0855,     0.9935,  -150.9982,       3763,   469.5,   8.2803,  34.6365,2,  34.6358,2,     34.9,2,    35.6,2,   41.66,2,   38.29,2,    0.01,2,    2.65,2,-999.000,9,-999.000,9,  2265.5,2,  2305.5,2,-999.000,9,-999.0000,9, -999.00,9, -999.00,9,  -113.1,2,     4.1,     8.2312,-999.0000,-999.000,-999.000
31WTTUNES_3,       P16C,     274,          1,         22,         21,2,19910916,       0855,     0.9935,  -150.9982,       3763,   519.1,   7.7882,  34.6089,2,  34.6068,2,     53.9,2,    53.8,2,   43.43,2,   37.60,2,    0.01,2,    2.60,2,   0.021,2,   0.025,2,  2257.4,2,  2314.1,2,   0.040,2,   1.8070,2,    7.49,2,    0.12,2,  -999.0,9,  -999.0,     7.7357,   0.0080,   0.150,   0.003
31WTTUNES_3,       P16C,     274,          1,         21,         20,2,19910916,       0855,     0.9935,  -150.9982,       3763,   596.4,   7.0957,  34.5788,2,  34.5759,2,     64.2,2,    64.8,2,   51.26,2,   38.35,2,    0.01,2,    2.68,2,   0.007,2,   0.014,2,  2265.5,2,  2319.2,2,   0.020,2,   1.8350,2,    9.59,2, -999.00,9,  -132.3,2,     3.2,     7.0382,   0.0090,   0.150,   0.002
31WTTUNES_3,       P16C,     274,          1,         20,         19,2,19910916,       0855,     0.9935,  -150.9982,       3763,   696.7,   6.2172,  34.5584,2,  34.5555,2,     68.7,2,    68.7,2,   58.70,2,   39.20,2,    0.01,2,    2.75,2,-999.000,9,-999.000,9,  2275.0,2,  2324.8,2,-999.000,9,-999.0000,9, -999.00,9,    0.17,2,  -141.2,2,     3.3,     6.1542,-999.0000,-999.000,-999.000
31WTTUNES_3,       P16C,     274,          1,         19,         18,2,19910916,       0855,     0.9935,  -150.9982,       3763,   800.5,   5.7490,  34.5515,2,  34.5476,2,     72.6,2,    74.7,2,   67.12,2,   39.35,2,    0.01,2,    2.77,2,-999.000,9,-999.000,9,  2281.1,2,  2334.7,2,-999.000,9,-999.0000,9, -999.00,9,    0.16,2,  -999.0,9,  -999.0,     5.6788,-999.0000,-999.000,-999.000
31WTTUNES_3,       P16C,     274,          1,         18,         17,2,19910916,       0855,     0.9935,  -150.9982,       3763,   902.9,   5.0952,  34.5488,2,  34.5500,2,     82.2,2,    81.7,2,   75.93,2,   39.11,2,    0.01,2,    2.76,2,-999.000,9,-999.000,9,  2288.2,2,  2345.4,2,-999.000,9,-999.0000,9, -999.00,9, -999.00,9,  -999.0,9,  -999.0,     5.0199,-999.0000,-999.000,-999.000
31WTTUNES_3,       P16C,     274,          1,         17,         16,2,19910916,       0855,     0.9935,  -150.9982,       3763,  1006.2,   4.7027,  34.5541,2,  34.5545,2,     82.2,2,    82.3,2,   83.56,2,   39.56,2,    0.01,2,    2.81,2,-999.000,9,-999.000,9,  2297.9,2,  2350.9,2,-999.000,9,-999.0000,9, -999.00,9, -999.00,9,  -163.4,2,     3.1,     4.6210,-999.0000,-999.000,-999.000
31WTTUNES_3,       P16C,     274,          1,         16,         15,2,19910916,       0855,     0.9935,  -150.9982,       3763,  1160.1,   4.1883,  34.5664,2,  34.5661,2,     85.0,2,    82.6,2,   96.08,2,   39.93,2,    0.00,2,    2.84,2,-999.000,9,-999.000,9,  2309.7,2,  -999.0,9,-999.000,9,   1.9060,3,   19.07,2,    0.10,2,  -999.0,9,  -999.0,     4.0974,-999.0000,-999.000,-999.000
31WTTUNES_3,       P16C,     274,          1,         15,         14,2,19910916,       0855,     0.9935,  -150.9982,       3763,  1366.8,   3.3527,  34.5932,2,  34.5904,2,     88.2,2,    87.6,2,  114.28,2,   40.13,2,    0.00,2,    2.85,2,-999.000,9,-999.000,9,  2329.3,2,  2388.3,2,-999.000,9,   1.9210,3,   22.54,2, -999.00,9,  -999.0,9,  -999.0,     3.2521,-999.0000,-999.000,-999.000
31WTTUNES_3,       P16C,     274,          1,         14,         13,2,19910916,       0855,     0.9935,  -150.9982,       3763,  1571.6,   3.0688,  34.6064,2,  34.6069,2,     91.3,2,    91.8,2,  124.65,2,   39.93,2,    0.00,2,    2.83,2,-999.000,9,-999.000,9,  2337.9,2,  -999.0,9,-999.000,9,-999.0000,9, -999.00,9, -999.00,9,  -999.0,9,  -999.0,     2.9540,-999.0000,-999.000,-999.000
31WTTUNES_3,       P16C,     274,          1,         13,         12,2,19910916,       0855,     0.9935,  -150.9982,       3763,  1777.3,   2.5439,  34.6269,2,  34.6252,2,    101.4,2,   101.7,2,  133.64,2,   39.38,2,    0.00,2,    2.77,2,-999.000,9,-999.000,9,  2343.5,2,  -999.0,9,-999.000,9,   1.9280,2,   25.76,2, -999.00,9,  -999.0,9,  -999.0,     2.4183,-999.0000,-999.000,-999.000
31WTTUNES_3,       P16C,     274,          1,         12,         11,2,19910916,       0855,     0.9935,  -150.9982,       3763,  1983.8,   2.2065,  34.6449,2,  34.6419,2,    108.2,2,   107.8,2,  141.85,2,   39.08,2,    0.00,2,    2.73,2,-999.000,9,-999.000,9,  2349.3,2,  -999.0,9,-999.000,9,   1.9110,2,   27.30,2, -999.00,9,  -999.0,9,  -999.0,     2.0683,-999.0000,-999.000,-999.000
31WTTUNES_3,       P16C,     274,          1,         11,         10,2,19910916,       0855,     0.9935,  -150.9982,       3763,  2137.6,   2.0912,  34.6511,2,  34.6523,2,    112.6,2,   112.7,2,  144.38,2,   38.73,2,    0.00,2,    2.70,2,-999.000,9,-999.000,9,  2348.1,2,  2423.0,2,-999.000,9,   1.9250,2,   27.28,2, -999.00,9,  -999.0,9,  -999.0,     1.9415,-999.0000,-999.000,-999.000
31WTTUNES_3,       P16C,     274,          1,         10,          9,2,19910916,       0855,     0.9935,  -150.9982,       3763,  2291.6,   1.9753,  34.6569,2,  34.6557,2,    116.0,2,   116.2,2,  147.12,2,   38.44,2,    0.00,2,    2.68,2,-999.000,9,-999.000,9,  2349.3,2,  -999.0,9,-999.000,9,   1.9330,2,   27.98,2, -999.00,9,  -999.0,9,  -999.0,     1.8142,-999.0000,-999.000,-999.000
31WTTUNES_3,       P16C,     274,          1,          9,          8,2,19910916,       0855,     0.9935,  -150.9982,       3763,  2446.7,   1.8415,  34.6641,2,  34.6631,2,    123.3,2,   123.2,2,  148.08,2,   38.04,2,    0.00,2,    2.64,2,-999.000,9,-999.000,9,  2345.4,2,  2426.8,2,-999.000,9,   1.9420,3,   27.21,2, -999.00,9,  -999.0,9,  -999.0,     1.6689,-999.0000,-999.000,-999.000
31WTTUNES_3,       P16C,     274,          1,          8,          7,2,19910916,       0855,     0.9935,  -150.9982,       3763,  2551.3,   1.8086,  34.6664,2,  34.6661,2,    124.7,2,   125.2,2,  149.06,2,   37.89,2,    0.00,2,    2.63,2,-999.000,9,-999.000,9,  2345.0,2,  -999.0,9,-999.000,9,-999.0000,9, -999.00,9, -999.00,9,  -999.0,9,  -999.0,     1.6271,-999.0000,-999.000,-999.000
31WTTUNES_3,       P16C,     274,          1,          7,          6,2,19910916,       0855,     0.9935,  -150.9982,       3763,  2655.1,   1.7897,  34.6681,2,  34.6675,2,    126.0,2,   125.8,2,  150.59,2,   37.90,2,    0.00,2,    2.62,2,-999.000,9,-999.000,9,  2346.5,2,  2429.4,2,-999.000,9,   1.9260,2,   27.08,2, -999.00,9,  -999.0,9,  -999.0,     1.5992,-999.0000,-999.000,-999.000
31WTTUNES_3,       P16C,     274,          1,          5,          5,2,19910916,       0855,     0.9935,  -150.9982,       3763,  2967.7,   1.6704,  34.6743,2,  34.6726,2,    135.1,2,   135.2,2,  149.60,2,   37.25,2,    0.00,2,    2.57,2,-999.000,9,-999.000,9,  2340.9,2,  -999.0,9,-999.000,9,   1.9160,2,   24.49,2, -999.00,9,  -999.0,9,  -999.0,     1.4530,-999.0000,-999.000,-999.000
31WTTUNES_3,       P16C,     274,          1,          4,          4,2,19910916,       0855,     0.9935,  -150.9982,       3763,  3123.9,   1.6412,  34.6763,2,  34.6773,2,    138.4,2,   138.4,2,  148.61,2,   37.10,2,    0.00,2,    2.55,2,-999.000,9,-999.000,9,  2338.3,2,  2425.5,2,-999.000,9,   1.9280,2,   23.20,2, -999.00,9,  -999.0,9,  -999.0,     1.4094,-999.0000,-999.000,-999.000
31WTTUNES_3,       P16C,     274,          1,          3,          3,2,19910916,       0855,     0.9935,  -150.9982,       3763,  3386.0,   1.5237,  34.6838,2,  34.6812,2,    147.9,2,   148.0,2,  148.02,2,   36.50,2,    0.00,2,    2.50,2,-999.000,9,-999.000,9,  2332.4,2,  -999.0,9,-999.000,9,   1.9110,2,   20.18,2, -999.00,9,  -999.0,9,  -999.0,     1.2685,-999.0000,-999.000,-999.000
31WTTUNES_3,       P16C,     274,          1,          2,          2,2,19910916,       0855,     0.9935,  -150.9982,       3763,  3647.0,   1.4667,  34.6879,2,  34.6875,2,    155.1,2,   154.7,2,  147.23,2,   36.10,2,    0.00,2,    2.46,2,-999.000,9,-999.000,9,  2330.1,2,  2427.6,2,-999.000,9,-999.0000,9, -999.00,9, -999.00,9,  -999.0,9,  -999.0,     1.1863,-999.0000,-999.000,-999.000
31WTTUNES_3,       P16C,     274,          1,          1,          1,2,19910916,       0855,     0.9935,  -150.9982,       3763,  3849.0,   1.4128,  34.6917,2,  34.6916,2,    159.5,2,   161.2,2,  147.02,2,   35.65,2,    0.00,2,    2.43,2,-999.000,9,-999.000,9,  2329.2,2,  2427.0,2,-999.000,9,-999.0000,9, -999.00,9, -999.00,9,  -999.0,9,  -999.0,     1.1125,-999.0000,-999.000,-999.000
31WTTUNES_3,       P16C,     275,          1,         11,         11,2,19910916,       1318,     1.1512,  -151.0062,       4277,    21.1,  27.3636,  34.8170,2,  34.8094,2,    213.6,2,   220.2,2, -999.00,9, -999.00,9, -999.00,9, -999.00,9,-999.000,9,-999.000,9,  -999.0,9,  -999.0,9,-999.000,9,-999.0000,9, -999.00,9, -999.00,9,  -999.0,9,  -999.0,    27.3587,-999.0000,-999.000,-999.000
31WTTUNES_3,       P16C,     275,          1,         10,         10,2,19910916,       1318,     1.1512,  -151.0062,       4277,   156.4,  14.0114,  34.7309,2,  34.7528,2,    121.5,2,   127.5,2, -999.00,9, -999.00,9, -999.00,9, -999.00,9,-999.000,9,-999.000,9,  -999.0,9,  -999.0,9,-999.000,9,-999.0000,9, -999.00,9, -999.00,9,  -999.0,9,  -999.0,    13.9889,-999.0000,-999.000,-999.000
31WTTUNES_3,       P16C,     275,          1,          9,          9,2,19910916,       1318,     1.1512,  -151.0062,       4277,   309.5,  11.5393,  34.8204,2,  34.8194,2,     49.8,2,    51.9,2, -999.00,9, -999.00,9, -999.00,9, -999.00,9,-999.000,9,-999.000,9,  -999.0,9,  -999.0,9,-999.000,9,-999.0000,9, -999.00,9, -999.00,9,  -999.0,9,  -999.0,    11.4999,-999.0000,-999.000,-999.000
31WTTUNES_3,       P16C,     275,          1,          8,          8,2,19910916,       1318,     1.1512,  -151.0062,       4277,   514.2,   8.0119,  34.6193,2,  34.6024,2,     51.4,2,    59.8,2, -999.00,9, -999.00,9, -999.00,9, -999.00,9,-999.000,9,-999.000,9,  -999.0,9,  -999.0,9,-999.000,9,-999.0000,9, -999.00,9, -999.00,9,  -999.0,9,  -999.0,     7.9590,-999.0000,-999.000,-999.000
31WTTUNES_3,       P16C,     275,          1,          7,          7,2,19910916,       1318,     1.1512,  -151.0062,       4277,   769.5,   5.8245,  34.5530,2,  34.5567,2,     70.9,2,    69.0,2, -999.00,9, -999.00,9, -999.00,9, -999.00,9,-999.000,9,-999.000,9,  -999.0,9,  -999.0,9,-999.000,9,-999.0000,9, -999.00,9, -999.00,9,  -999.0,9,  -999.0,     5.7568,-999.0000,-999.000,-999.000
31WTTUNES_3,       P16C,     275,          1,          6,          6,2,19910916,       1318,     1.1512,  -151.0062,       4277,  1537.0,   3.0732,  34.6022,2,  34.6062,2,     89.1,2,    89.9,2, -999.00,9, -999.00,9, -999.00,9, -999.00,9,-999.000,9,-999.000,9,  -999.0,9,  -999.0,9,-999.000,9,-999.0000,9, -999.00,9, -999.00,9,  -999.0,9,  -999.0,     2.9613,-999.0000,-999.000,-999.000
31WTTUNES_3,       P16C,     275,          1,          5,          5,2,19910916,       1318,     1.1512,  -151.0062,       4277,  2278.4,   2.0206,  34.6534,2,  34.6543,2,    114.7,2,   116.8,2, -999.00,9, -999.00,9, -999.00,9, -999.00,9,-999.000,9,-999.000,9,  -999.0,9,  -999.0,9,-999.000,9,-999.0000,9, -999.00,9, -999.00,9,  -999.0,9,  -999.0,     1.8599,-999.0000,-999.000,-999.000
31WTTUNES_3,       P16C,     275,          1,          4,          4,2,19910916,       1318,     1.1512,  -151.0062,       4277,  3084.9,   1.6902,  34.6745,2,  34.6726,2,    133.8,2,   135.2,2, -999.00,9, -999.00,9, -999.00,9, -999.00,9,-999.000,9,-999.000,9,  -999.0,9,  -999.0,9,-999.000,9,-999.0000,9, -999.00,9, -999.00,9,  -999.0,9,  -999.0,     1.4609,-999.0000,-999.000,-999.000
31WTTUNES_3,       P16C,     275,          1,          3,          3,2,19910916,       1318,     1.1512,  -151.0062,       4277,  3597.9,   1.4734,  34.6882,2,  34.6863,2,    153.4,2,   153.3,2, -999.00,9, -999.00,9, -999.00,9, -999.00,9,-999.000,9,-999.000,9,  -999.0,9,  -999.0,9,-999.000,9,-999.0000,9, -999.00,9, -999.00,9,  -999.0,9,  -999.0,     1.1978,-999.0000,-999.000,-999.000
31WTTUNES_3,       P16C,     275,          1,          2,          2,2,19910916,       1318,     1.1512,  -151.0062,       4277,  4104.3,   1.4124,  34.6948,2,  34.6932,2,    164.1,2,   163.2,2, -999.00,9, -999.00,9, -999.00,9, -999.00,9,-999.000,9,-999.000,9,  -999.0,9,  -999.0,9,-999.000,9,-999.0000,9, -999.00,9, -999.00,9,  -999.0,9,  -999.0,     1.0845,-999.0000,-999.000,-999.000
31WTTUNES_3,       P16C,     275,          1,          1,          1,2,19910916,       1318,     1.1512,  -151.0062,       4277,  4321.0,   1.3925,  34.6970,2,  34.6961,2,    168.2,2,   168.5,2, -999.00,9, -999.00,9, -999.00,9, -999.00,9,-999.000,9,-999.000,9,  -999.0,9,  -999.0,9,-999.000,9,-999.0000,9, -999.00,9, -999.00,9,  -999.0,9,  -999.0,     1.0411,-999.0000,-999.000,-999.000