BOTTLE,20211117CCHSIORKP
EXPOCODE,SECT_ID,STNNBR,CASTNO,SAMPNO,BTLNBR,BTLNBR_FLAG_W,DATE,TIME,LATITUDE,LONGITUDE,DEPTH,CTDPRS,CTDTMP,CTDSAL,CTDSAL_FLAG_W,SALNTY,SALNTY_FLAG_W,CTDOXY,CTDOXY_FLAG_W,OXYGEN,OXYGEN_FLAG_W,SILCAT,SILCAT_FLAG_W,NITRAT,NITRAT_FLAG_W,NITRIT,NITRIT_FLAG_W,PHSPHT,PHSPHT_FLAG_W,CFC-11,CFC-11_FLAG_W,CFC-12,CFC-12_FLAG_W,TCARBN,TCARBN_FLAG_W,ALKALI,ALKALI_FLAG_W,TRITUM,TRITUM_FLAG_W,HELIUM,HELIUM_FLAG_W,DELHE3,DELHE3_FLAG_W,DELC13,DELC13_FLAG_W,DELC14,DELC14_FLAG_W,C14ERR,THETA,HELIER,DELHER,TRITER
,,,,,,,,,,,METERS,DBAR,ITS-90,PSS-78,,PSS-78,,UMOL/KG,,UMOL/KG,,UMOL/KG,,UMOL/KG,,UMOL/KG,,UMOL/KG,,PMOL/KG,,PMOL/KG,,UMOL/KG,,UMOL/KG,,TU,,NMOL/KG,,PERCNT,,/MILLE,,/MILLE,,/MILLE,ITS-90,NMOL/KG,PERCNT,TU
31WTTUNES_3,       P16C,     235,          4,         36,         36,2,19910906,       1247,   -10.5078,  -150.9882,       4929,     4.0,  28.5564,  35.8383,2,  35.8341,2,    204.8,3,   205.7,2,    0.60,2,    1.23,2,    0.03,2,    0.31,2,-999.000,9,-999.000,9,  1991.0,2,  2360.7,2,-999.000,9,-999.0000,9, -999.00,9,    1.76,2,    95.0,2,     3.8,    28.5555,-999.0000,-999.000,-999.000
31WTTUNES_3,       P16C,     235,          4,         35,         35,2,19910906,       1247,   -10.5078,  -150.9882,       4929,    49.8,  28.5453,  35.8441,2,  35.8344,2,    201.3,2,   204.7,2,    0.45,2,    1.23,2,    0.03,2,    0.32,2,-999.000,9,-999.000,9,  1992.6,2,  2360.4,2,-999.000,9,-999.0000,9, -999.00,9,    1.72,2,    81.5,2,     2.8,    28.5334,-999.0000,-999.000,-999.000
31WTTUNES_3,       P16C,     235,          4,         34,         34,2,19910906,       1247,   -10.5078,  -150.9882,       4929,    99.7,  28.1229,  36.0050,2,  35.9289,2,    193.3,2,   197.0,2,    0.88,2,    1.01,2,    0.19,2,    0.37,2,-999.000,9,-999.000,9,  2005.3,2,  2365.1,2,-999.000,9,-999.0000,9, -999.00,9,    1.71,2,    82.3,2,     3.0,    28.0994,-999.0000,-999.000,-999.000
31WTTUNES_3,       P16C,     235,          4,         33,         33,2,19910906,       1247,   -10.5078,  -150.9882,       4929,   150.0,  25.3642,  36.3743,2,  36.3770,2,    174.6,2,   176.3,2,    0.93,2,    3.05,2,    0.61,2,    0.52,2,-999.000,9,-999.000,9,  2081.5,2,  2395.3,2,-999.000,9,-999.0000,9, -999.00,9,    1.38,2,    98.0,2,     3.0,    25.3311,-999.0000,-999.000,-999.000
31WTTUNES_3,       P16C,     235,          4,         32,         32,2,19910906,       1247,   -10.5078,  -150.9882,       4929,   201.6,  22.3796,  36.2143,2,  36.2085,2,    175.9,2,   173.4,2,    0.59,2,    4.33,2,    0.02,2,    0.53,2,-999.000,9,-999.000,9,  2099.1,2,  2386.3,2,-999.000,9,-999.0000,9, -999.00,9,    1.35,2,   105.9,2,     3.0,    22.3390,-999.0000,-999.000,-999.000
31WTTUNES_3,       P16C,     235,          4,         31,         31,2,19910906,       1247,   -10.5078,  -150.9882,       4929,   240.4,  19.7007,  35.6887,2,  35.5995,2,    169.2,2,   164.9,2,    1.79,2,    6.90,2,    0.01,2,    0.70,2,-999.000,9,-999.000,9,  2108.6,2,  2345.5,2,-999.000,9,-999.0000,9, -999.00,9,    1.24,2,   120.9,2,     2.8,    19.6565,-999.0000,-999.000,-999.000
31WTTUNES_3,       P16C,     235,          4,         30,         30,2,19910906,       1247,   -10.5078,  -150.9882,       4929,   281.7,  15.7856,  35.1545,2,  35.1626,2,    135.2,2,   138.6,2,    4.72,2,   12.21,2,    0.01,2,    1.10,2,-999.000,9,-999.000,9,  2131.8,2,  2317.6,2,-999.000,9,-999.0000,9, -999.00,9,    1.01,2,    91.7,2,     2.8,    15.7413,-999.0000,-999.000,-999.000
31WTTUNES_3,       P16C,     235,          4,         29,         29,2,19910906,       1247,   -10.5078,  -150.9882,       4929,   322.6,  12.8805,  34.8196,2,  34.8253,2,     93.7,2,    96.5,2,   10.71,2,   19.86,2,    0.01,2,    1.68,2,-999.000,9,-999.000,9,  2180.9,2,  2301.3,2,-999.000,9,-999.0000,9, -999.00,9,    0.69,2,    43.8,2,     4.3,    12.8362,-999.0000,-999.000,-999.000
31WTTUNES_3,       P16C,     235,          4,         28,         28,2,19910906,       1247,   -10.5078,  -150.9882,       4929,   363.5,  10.3826,  34.6748,2,  34.6590,2,     75.3,2,    83.7,2,   18.25,2,   27.06,2,    0.01,2,    2.08,2,-999.000,9,-999.000,9,  2211.3,2,  2296.7,2,-999.000,9,-999.0000,9, -999.00,9,    0.49,2,   -30.9,2,     2.5,    10.3392,-999.0000,-999.000,-999.000
31WTTUNES_3,       P16C,     235,          4,         27,         27,2,19910906,       1247,   -10.5078,  -150.9882,       4929,   388.9,   9.8305,  34.6705,2,  34.6649,2,     78.4,2,    80.6,2,   23.09,2,   30.10,2,    0.00,2,    2.22,2,-999.000,9,-999.000,9,  2224.4,2,  2300.8,2,-999.000,9,-999.0000,9, -999.00,9,    0.50,2,   -61.0,2,     3.9,     9.7857,-999.0000,-999.000,-999.000
31WTTUNES_3,       P16C,     235,          4,         26,         26,2,19910906,       1247,   -10.5078,  -150.9882,       4929,   439.6,   8.6090,  34.6286,2,  34.6256,2,     90.7,2,    91.2,2,   27.57,2,   31.71,2,    0.01,2,    2.26,2,-999.000,9,-999.000,9,  2230.0,2,  2304.8,2,-999.000,9,-999.0000,9, -999.00,9,    0.53,2,   -84.6,2,     2.6,     8.5621,-999.0000,-999.000,-999.000
31WTTUNES_3,       P16C,     235,          4,         25,         25,2,19910906,       1247,   -10.5078,  -150.9882,       4929,   491.2,   7.7194,  34.5934,2,  34.5863,2,     93.1,2,    92.3,2,   33.00,2,   34.02,2,    0.00,2,    2.39,2,-999.000,9,-999.000,9,  2238.5,2,  2307.2,2,-999.000,9,-999.0000,9, -999.00,9,    0.41,2,  -100.6,2,     3.3,     7.6702,-999.0000,-999.000,-999.000
31WTTUNES_3,       P16C,     235,          4,         24,         24,2,19910906,       1247,   -10.5078,  -150.9882,       4929,   592.9,   6.7328,  34.5512,2,  34.5472,2,     99.1,2,    97.1,2,   41.69,2,   35.99,2,    0.00,2,    2.52,2,-999.000,9,-999.000,9,  2253.2,2,  2314.6,2,-999.000,9,-999.0000,9, -999.00,9,    0.33,2,  -120.7,2,     4.1,     6.6772,-999.0000,-999.000,-999.000
31WTTUNES_3,       P16C,     235,          4,         23,         23,2,19910906,       1247,   -10.5078,  -150.9882,       4929,   693.5,   6.0804,  34.5341,2,  34.5250,2,     97.0,2,    88.9,2,   50.76,2,   38.18,2,    0.00,2,    2.67,2,-999.000,9,-999.000,9,  2270.7,2,  -999.0,9,-999.000,9,-999.0000,9, -999.00,9,    0.24,2,  -139.3,2,     3.2,     6.0185,-999.0000,-999.000,-999.000
31WTTUNES_3,       P16C,     235,          4,         22,         22,2,19910906,       1247,   -10.5078,  -150.9882,       4929,   797.8,   5.4988,  34.5226,2,  34.5178,2,     94.1,2,    95.3,2,   57.35,2,   38.68,2,    0.00,2,    2.72,2,-999.000,9,-999.000,9,  2273.7,2,  2326.5,2,-999.000,9,-999.0000,9, -999.00,9,    0.31,2,  -151.8,2,     2.5,     5.4304,-999.0000,-999.000,-999.000
31WTTUNES_3,       P16C,     235,          4,         21,         21,2,19910906,       1247,   -10.5078,  -150.9882,       4929,   899.3,   4.8125,  34.5207,2,  34.5219,2,    104.8,2,   104.1,2,   67.21,2,   38.35,2,    0.00,2,    2.70,2,-999.000,9,-999.000,9,  2280.9,2,  -999.0,9,-999.000,9,-999.0000,9, -999.00,9,    0.36,2,  -156.0,2,     3.4,     4.7396,-999.0000,-999.000,-999.000
31WTTUNES_3,       P16C,     235,          4,         20,         20,2,19910906,       1247,   -10.5078,  -150.9882,       4929,   999.1,   4.3747,  34.5329,2,  34.5329,2,    109.5,2,   107.8,2,   74.18,2,   38.31,2,    0.00,2,    2.70,2,  -0.001,6,   0.003,6,  2285.5,2,  2347.3,2,-999.000,9,-999.0000,9, -999.00,9,    0.19,2,  -167.2,2,     3.3,     4.2963,-999.0000,-999.000,-999.000
31WTTUNES_3,       P16C,     235,          4,         19,         19,2,19910906,       1247,   -10.5078,  -150.9882,       4929,  1203.9,   3.6420,  34.5589,2,  34.5551,2,    118.4,2,   115.0,2,   88.84,2,   38.07,2,    0.00,2,    2.70,2,  -0.002,2,   0.001,2,  2297.6,2,  -999.0,9,-999.000,9,   1.8710,2,   20.33,2,    0.16,2,  -188.8,2,     3.7,     3.5523,-999.0000,-999.000,-999.000
31WTTUNES_3,       P16C,     235,          4,         18,         18,2,19910906,       1247,   -10.5078,  -150.9882,       4929,  1379.3,   3.2308,  34.5777,2,  34.5734,2,    123.0,2,   121.8,2,   98.12,2,   37.65,2,    0.00,2,    2.67,2,  -0.002,2,   0.000,2,  2310.6,2,  2373.8,2,-999.000,9,-999.0000,9, -999.00,9, -999.00,9,  -999.0,9,  -999.0,     3.1304,-999.0000,-999.000,-999.000
31WTTUNES_3,       P16C,     235,          4,         17,         17,2,19910906,       1247,   -10.5078,  -150.9882,       4929,  1581.5,   2.7573,  34.6022,2,  34.6016,2,    130.8,2,   129.5,2,  107.78,2,   37.28,2,    0.00,2,    2.64,2,   0.006,2,   0.009,3,  2315.7,2,  -999.0,9,-999.000,9,   1.9350,3,   24.43,2, -999.00,9,  -999.0,9,  -999.0,     2.6456,-999.0000,-999.000,-999.000
31WTTUNES_3,       P16C,     235,          4,         16,         16,2,19910906,       1247,   -10.5078,  -150.9882,       4929,  1787.6,   2.4199,  34.6220,2,  34.6166,2,    137.3,2,   137.4,2,  114.19,2,   36.82,2,    0.00,2,    2.58,2,  -0.002,6,   0.002,2,  2318.4,2,  2391.1,2,-999.000,9,   1.9100,2,   25.73,2, -999.00,9,  -999.0,9,  -999.0,     2.2951,-999.0000,-999.000,-999.000
31WTTUNES_3,       P16C,     235,          4,         15,         15,2,19910906,       1247,   -10.5078,  -150.9882,       4929,  1991.0,   2.1833,  34.6407,2,  34.6376,2,    139.5,2,   140.5,2,  120.00,2,   36.67,2,    0.00,2,    2.55,2,   0.002,2,   0.001,2,  2323.2,2,  -999.0,9,-999.000,9,-999.0000,5,   27.54,3, -999.00,9,  -999.0,9,  -999.0,     2.0448,-999.0000,-999.000,-999.000
31WTTUNES_3,       P16C,     235,          4,         14,         14,2,19910906,       1247,   -10.5078,  -150.9882,       4929,  2165.6,   2.0247,  34.6515,2,  34.6484,2,    144.8,2,   144.9,2,  123.91,2,   36.26,2,    0.00,2,    2.53,2,   0.012,3,   0.002,2,  2328.0,2,  2404.3,2,-999.000,9,-999.0000,5,   29.10,3, -999.00,9,  -999.0,9,  -999.0,     1.8738,-999.0000,-999.000,-999.000
31WTTUNES_3,       P16C,     235,          4,         13,         13,2,19910906,       1247,   -10.5078,  -150.9882,       4929,  2338.5,   1.9257,  34.6606,2,  34.6584,2,    146.8,2,   146.3,2,  127.62,2,   36.14,2,    0.01,2,    2.51,2,  -0.003,6,  -0.002,6,  2329.5,2,  -999.0,9,-999.000,9,   1.9430,2,   30.93,2, -999.00,9,  -999.0,9,  -999.0,     1.7613,-999.0000,-999.000,-999.000
31WTTUNES_3,       P16C,     235,          4,         12,         12,2,19910906,       1247,   -10.5078,  -150.9882,       4929,  2486.7,   1.8552,  34.6669,2,  34.6683,2,    146.5,2,   147.6,2,  130.57,2,   33.09,4,    0.00,2,    2.22,4,   0.005,2,   0.003,2,  2334.5,2,  -999.0,9,-999.000,9,   1.9470,2,   31.29,2, -999.00,9,  -999.0,9,  -999.0,     1.6787,-999.0000,-999.000,-999.000
31WTTUNES_3,       P16C,     235,          4,         11,         11,2,19910906,       1247,   -10.5078,  -150.9882,       4929,  2636.8,   1.7937,  34.6725,2,  34.6708,2,    148.2,2,   149.7,2,  131.79,2,   36.15,2,    0.00,2,    2.49,2,  -0.002,2,   0.001,2,  2334.9,2,  2416.3,2,-999.000,9,   1.9600,3,   30.03,2, -999.00,9,  -999.0,9,  -999.0,     1.6047,-999.0000,-999.000,-999.000
31WTTUNES_3,       P16C,     235,          4,         10,         10,2,19910906,       1247,   -10.5078,  -150.9882,       4929,  2822.4,   1.7372,  34.6762,2,  34.6751,2,    150.4,2,   149.7,2,  135.11,2,   36.10,2,    0.00,2,    2.50,2,   0.001,6,  -0.002,6,  2335.5,2,  -999.0,9,-999.000,9,   1.9320,2,   28.59,2, -999.00,9,  -999.0,9,  -999.0,     1.5321,-999.0000,-999.000,-999.000
31WTTUNES_3,       P16C,     235,          4,          9,          9,2,19910906,       1247,   -10.5078,  -150.9882,       4929,  3005.0,   1.6858,  34.6801,2,  34.6791,2,    153.4,2,   153.3,2,  135.74,2,   36.05,2,    0.00,2,    2.49,2,   0.019,4,  -0.001,2,  2335.8,2,  2417.5,2,-999.000,9,-999.0000,9, -999.00,9, -999.00,9,  -999.0,9,  -999.0,     1.4643,-999.0000,-999.000,-999.000
31WTTUNES_3,       P16C,     235,          4,          8,          8,2,19910906,       1247,   -10.5078,  -150.9882,       4929,  3260.1,   1.6238,  34.6840,2,  34.6824,2,    157.5,2,   157.3,2,  136.00,2,   35.82,2,    0.00,2,    2.47,2,  -0.003,2,   0.000,2,  2332.1,2,  -999.0,9,-999.000,9,   1.9220,2,   23.66,2, -999.00,9,  -999.0,9,  -999.0,     1.3788,-999.0000,-999.000,-999.000
31WTTUNES_3,       P16C,     235,          4,          7,          7,2,19910906,       1247,   -10.5078,  -150.9882,       4929,  3515.3,   1.5357,  34.6885,2,  34.6912,2,    165.5,2,   166.3,2,  132.41,2,   35.04,2,    0.00,2,    2.41,2,  -0.002,6,   0.000,6,  2323.8,2,  2410.2,2,-999.000,9,   1.9560,3,   20.99,2, -999.00,9,  -999.0,9,  -999.0,     1.2671,-999.0000,-999.000,-999.000
31WTTUNES_3,       P16C,     235,          4,          6,          6,2,19910906,       1247,   -10.5078,  -150.9882,       4929,  3773.3,   1.4597,  34.6927,2,  34.6920,2,    172.9,2,   172.4,2,  130.74,2,   34.62,2,    0.00,2,    2.40,2,   0.003,2,   0.001,2,  2316.3,2,  -999.0,9,-999.000,9,   1.9380,3,   19.01,2, -999.00,9,  -999.0,9,  -999.0,     1.1662,-999.0000,-999.000,-999.000
31WTTUNES_3,       P16C,     235,          4,          5,          5,2,19910906,       1247,   -10.5078,  -150.9882,       4929,  4031.6,   1.3907,  34.6970,2,  34.6975,2,    179.9,2,   179.4,2,  128.69,2,   34.20,2,    0.00,2,    2.35,2,  -0.003,2,   0.000,2,  2311.8,2,  2398.0,2,-999.000,9,   1.8920,2,   16.62,2, -999.00,9,  -999.0,9,  -999.0,     1.0713,-999.0000,-999.000,-999.000
31WTTUNES_3,       P16C,     235,          4,          4,          4,2,19910906,       1247,   -10.5078,  -150.9882,       4929,  4286.6,   1.3259,  34.7012,2,  34.6999,2,    188.1,2,   187.2,2,  125.27,2,   33.61,2,    0.00,2,    2.31,2,  -0.005,6,  -0.001,6,  2301.0,2,  -999.0,9,-999.000,9,   1.8930,2,   14.87,2, -999.00,9,  -999.0,9,  -999.0,     0.9804,-999.0000,-999.000,-999.000
31WTTUNES_3,       P16C,     235,          4,          3,          3,2,19910906,       1247,   -10.5078,  -150.9882,       4929,  4488.7,   1.3089,  34.7029,2,  34.7022,2,    192.0,2,   189.9,2,  124.95,2,   33.32,2,    0.00,2,    2.29,2,  -0.001,2,  -0.005,2,  2297.8,2,  2387.9,2,-999.000,9,   1.8850,2,   14.14,2, -999.00,9,  -999.0,9,  -999.0,     0.9411,-999.0000,-999.000,-999.000
31WTTUNES_3,       P16C,     235,          4,          2,          2,2,19910906,       1247,   -10.5078,  -150.9882,       4929,  4733.2,   1.3050,  34.7044,2,  34.7042,2,    195.1,2,   192.8,2,  122.89,2,   33.23,2,    0.00,2,    2.28,2,   0.011,4,   0.013,4,  2294.5,2,  -999.0,9,-999.000,9,   1.8800,2,   13.22,2, -999.00,9,  -999.0,9,  -999.0,     0.9090,-999.0000,-999.000,-999.000
31WTTUNES_3,       P16C,     235,          4,          1,          1,2,19910906,       1247,   -10.5078,  -150.9882,       4929,  4943.0,   1.3151,  34.7052,2,  34.7046,2,    197.3,2,   193.9,2,  122.43,2,   33.09,2,    0.00,2,    2.27,2,  -0.004,6,  -0.001,6,  2294.6,2,  2382.2,2,-999.000,9,-999.0000,9, -999.00,9, -999.00,9,  -999.0,9,  -999.0,     0.8939,-999.0000,-999.000,-999.000