BOTTLE,20211117CCHSIORKP
EXPOCODE,SECT_ID,STNNBR,CASTNO,SAMPNO,BTLNBR,BTLNBR_FLAG_W,DATE,TIME,LATITUDE,LONGITUDE,DEPTH,CTDPRS,CTDTMP,CTDSAL,CTDSAL_FLAG_W,SALNTY,SALNTY_FLAG_W,CTDOXY,CTDOXY_FLAG_W,OXYGEN,OXYGEN_FLAG_W,SILCAT,SILCAT_FLAG_W,NITRAT,NITRAT_FLAG_W,NITRIT,NITRIT_FLAG_W,PHSPHT,PHSPHT_FLAG_W,CFC-11,CFC-11_FLAG_W,CFC-12,CFC-12_FLAG_W,TCARBN,TCARBN_FLAG_W,ALKALI,ALKALI_FLAG_W,TRITUM,TRITUM_FLAG_W,HELIUM,HELIUM_FLAG_W,DELHE3,DELHE3_FLAG_W,DELC13,DELC13_FLAG_W,DELC14,DELC14_FLAG_W,C14ERR,THETA,HELIER,DELHER,TRITER
,,,,,,,,,,,METERS,DBAR,ITS-90,PSS-78,,PSS-78,,UMOL/KG,,UMOL/KG,,UMOL/KG,,UMOL/KG,,UMOL/KG,,UMOL/KG,,PMOL/KG,,PMOL/KG,,UMOL/KG,,UMOL/KG,,TU,,NMOL/KG,,PERCNT,,/MILLE,,/MILLE,,/MILLE,ITS-90,NMOL/KG,PERCNT,TU
31WTTUNES_3,       P16C,     244,          3,         36,         36,2,19910909,       0719,    -6.0310,  -151.0080,       5139,     6.2,  28.1518,  35.3415,2,  35.3374,2,    213.4,3,   216.0,2,    1.76,2,    3.36,2,    0.12,2,    0.50,2,   0.135,4,   0.086,4,  -999.0,9,  -999.0,9,-999.000,9,-999.0000,9, -999.00,9, -999.00,9,  -999.0,9,  -999.0,    28.1503,-999.0000,-999.000,-999.000
31WTTUNES_3,       P16C,     244,          3,         35,         35,2,19910909,       0719,    -6.0310,  -151.0080,       5139,    57.7,  28.0890,  35.3510,2,  35.3439,2,    210.6,2,   215.3,2,    1.76,2,    3.50,2,    0.12,2,    0.48,2,   1.628,2,   0.900,2,  -999.0,9,  -999.0,9,-999.000,9,-999.0000,9, -999.00,9, -999.00,9,  -999.0,9,  -999.0,    28.0753,-999.0000,-999.000,-999.000
31WTTUNES_3,       P16C,     244,          3,         34,         34,2,19910909,       0719,    -6.0310,  -151.0080,       5139,   107.7,  28.1248,  35.9341,2,  35.9435,2,    179.8,2,   179.5,2,    1.76,2,    2.67,2,    1.31,2,    0.66,2,   1.625,2,   0.900,2,  -999.0,9,  -999.0,9,-999.000,9,-999.0000,9, -999.00,9, -999.00,9,  -999.0,9,  -999.0,    28.0994,-999.0000,-999.000,-999.000
31WTTUNES_3,       P16C,     244,          3,         33,         33,2,19910909,       0719,    -6.0310,  -151.0080,       5139,   158.9,  22.9052,  36.2244,2,  36.2066,2,    169.9,2,   168.8,2,    1.18,2,    5.59,2,    0.02,2,    0.65,2,   1.822,2,   0.986,2,  -999.0,9,  -999.0,9,-999.000,9,-999.0000,9, -999.00,9, -999.00,9,  -999.0,9,  -999.0,    22.8727,-999.0000,-999.000,-999.000
31WTTUNES_3,       P16C,     244,          3,         32,         32,2,19910909,       0719,    -6.0310,  -151.0080,       5139,   208.7,  16.8716,  35.3750,2,  35.3399,2,    106.6,2,    98.0,2,    7.55,2,   16.86,2,    0.01,2,    1.53,2,   1.269,2,   0.692,2,  -999.0,9,  -999.0,9,-999.000,9,-999.0000,9, -999.00,9, -999.00,9,  -999.0,9,  -999.0,    16.8373,-999.0000,-999.000,-999.000
31WTTUNES_3,       P16C,     244,          3,         31,         31,2,19910909,       0719,    -6.0310,  -151.0080,       5139,   259.9,  12.3204,  34.9059,2,  34.9185,2,     68.0,2,    69.7,2,   16.65,2,   25.81,2,    0.00,2,    2.05,2,   0.461,2,   0.282,2,  -999.0,9,  -999.0,9,-999.000,9,-999.0000,9, -999.00,9, -999.00,9,  -999.0,9,  -999.0,    12.2859,-999.0000,-999.000,-999.000
31WTTUNES_3,       P16C,     244,          3,         30,         30,2,19910909,       0719,    -6.0310,  -151.0080,       5139,   311.7,  10.7321,  34.7906,2,  34.7815,2,     52.3,2,    48.7,2,   25.93,2,   32.07,2,    0.00,2,    2.29,2,  -0.012,4,  -0.005,4,  -999.0,9,  -999.0,9,-999.000,9,-999.0000,9, -999.00,9, -999.00,9,  -999.0,9,  -999.0,    10.6942,-999.0000,-999.000,-999.000
31WTTUNES_3,       P16C,     244,          3,         29,         29,2,19910909,       0719,    -6.0310,  -151.0080,       5139,   362.0,  10.0052,  34.7487,2,  34.7400,2,     36.5,2,    32.5,2,   30.39,2,   34.89,2,    0.00,2,    2.52,2,   0.058,6,   0.038,6,  -999.0,9,  -999.0,9,-999.000,9,-999.0000,9, -999.00,9, -999.00,9,  -999.0,9,  -999.0,     9.9630,-999.0000,-999.000,-999.000
31WTTUNES_3,       P16C,     244,          3,         28,         28,2,19910909,       0719,    -6.0310,  -151.0080,       5139,   413.3,   9.5005,  34.7165,2,  34.7020,2,     41.9,2,    58.8,2,   29.61,2,   33.76,2,    0.00,2,    2.39,2,   0.065,2,   0.046,2,  -999.0,9,  -999.0,9,-999.000,9,-999.0000,9, -999.00,9, -999.00,9,  -999.0,9,  -999.0,     9.4537,-999.0000,-999.000,-999.000
31WTTUNES_3,       P16C,     244,          3,         27,         27,2,19910909,       0719,    -6.0310,  -151.0080,       5139,   464.3,   9.0957,  34.6890,2,  34.6728,2,     63.4,2,    62.4,2,   31.36,2,   34.45,2,    0.00,2,    2.40,2,   0.045,2,   0.033,2,  -999.0,9,  -999.0,9,-999.000,9,-999.0000,9, -999.00,9, -999.00,9,  -999.0,9,  -999.0,     9.0443,-999.0000,-999.000,-999.000
31WTTUNES_3,       P16C,     244,          3,         26,         26,2,19910909,       0719,    -6.0310,  -151.0080,       5139,   515.7,   8.5388,  34.6543,2,  34.6366,2,     57.5,2,    56.3,2,   35.42,2,   36.68,2,    0.00,2,    2.56,2,   0.016,6,   0.013,6,  -999.0,9,  -999.0,9,-999.000,9,-999.0000,9, -999.00,9, -999.00,9,  -999.0,9,  -999.0,     8.4838,-999.0000,-999.000,-999.000
31WTTUNES_3,       P16C,     244,          3,         25,         25,2,19910909,       0719,    -6.0310,  -151.0080,       5139,   617.3,   7.4051,  34.5969,2,  34.5887,2,     52.6,2,    58.3,2,   44.12,2,   38.76,2,    0.00,2,    2.71,2,   0.006,2,   0.016,2,  -999.0,9,  -999.0,9,-999.000,9,-999.0000,9, -999.00,9, -999.00,9,  -999.0,9,  -999.0,     7.3440,-999.0000,-999.000,-999.000
31WTTUNES_3,       P16C,     244,          3,         24,         24,2,19910909,       0719,    -6.0310,  -151.0080,       5139,   721.3,   6.3230,  34.5528,2,  34.5480,2,     74.3,2,    74.6,2,   51.66,2,   39.15,2,    0.00,2,    2.90,4,  -0.001,2,   0.003,2,  -999.0,9,  -999.0,9,-999.000,9,-999.0000,9, -999.00,9, -999.00,9,  -999.0,9,  -999.0,     6.2570,-999.0000,-999.000,-999.000
31WTTUNES_3,       P16C,     244,          3,         23,         23,2,19910909,       0719,    -6.0310,  -151.0080,       5139,   821.5,   5.4406,  34.5384,2,  34.5356,2,     84.2,2,    83.9,2,   60.37,2,   39.19,2,    0.00,2,    2.82,2,  -0.003,6,   0.001,6,  -999.0,9,  -999.0,9,-999.000,9,-999.0000,9, -999.00,9, -999.00,9,  -999.0,9,  -999.0,     5.3704,-999.0000,-999.000,-999.000
31WTTUNES_3,       P16C,     244,          3,         22,         22,2,19910909,       0719,    -6.0310,  -151.0080,       5139,   923.6,   4.8505,  34.5416,2,  34.5378,2,     86.4,2,    85.4,2,   70.81,2,   39.78,2,    0.00,2,    2.80,2,  -0.003,2,   0.001,2,  -999.0,9,  -999.0,9,-999.000,9,-999.0000,9, -999.00,9, -999.00,9,  -999.0,9,  -999.0,     4.7752,-999.0000,-999.000,-999.000
31WTTUNES_3,       P16C,     244,          3,         21,         21,2,19910909,       0719,    -6.0310,  -151.0080,       5139,  1027.2,   4.3356,  34.5510,2,  34.5478,2,     93.5,2,    92.1,2,   78.93,2,   39.34,2,    0.00,2,    2.77,2,  -0.001,6,   0.001,6,  -999.0,9,  -999.0,9,-999.000,9,-999.0000,9, -999.00,9, -999.00,9,  -999.0,9,  -999.0,     4.2549,-999.0000,-999.000,-999.000
31WTTUNES_3,       P16C,     244,          3,         20,         20,2,19910909,       0719,    -6.0310,  -151.0080,       5139,  1179.6,   3.7387,  34.5693,2,  34.5673,2,    101.0,2,   100.4,2,   94.79,2,   39.00,2,    0.00,2,    2.79,2,   0.005,2,   0.008,2,  -999.0,9,  -999.0,9,-999.000,9,   1.8640,2,   20.43,2, -999.00,9,  -999.0,9,  -999.0,     3.6500,-999.0000,-999.000,-999.000
31WTTUNES_3,       P16C,     244,          3,         19,         19,2,19910909,       0719,    -6.0310,  -151.0080,       5139,  1385.8,   3.3230,  34.5863,2,  34.5826,2,    104.1,2,   104.6,2,  105.81,2,   38.95,2,    0.00,2,    2.78,2,-999.000,9,-999.000,9,  -999.0,9,  -999.0,9,-999.000,9,   1.8700,2,   22.45,2, -999.00,9,  -999.0,9,  -999.0,     3.2211,-999.0000,-999.000,-999.000
31WTTUNES_3,       P16C,     244,          3,         18,         18,2,19910909,       0719,    -6.0310,  -151.0080,       5139,  1590.0,   2.9509,  34.6031,2,  34.6040,2,    105.6,2,   104.4,2,  116.64,2,   39.13,3,    0.00,2,    2.82,3,-999.000,9,-999.000,9,  -999.0,9,  -999.0,9,-999.000,9,   1.9190,2,   24.05,2, -999.00,9,  -999.0,9,  -999.0,     2.8360,-999.0000,-999.000,-999.000
31WTTUNES_3,       P16C,     244,          3,         17,         17,2,19910909,       0719,    -6.0310,  -151.0080,       5139,  1794.4,   2.6392,  34.6167,2,  34.6211,2,    116.3,2,   116.8,2,  121.27,2,   38.21,2,    0.00,2,    2.68,2,-999.000,9,-999.000,9,  -999.0,9,  -999.0,9,-999.000,9,   1.9250,2,   25.22,2, -999.00,9,  -999.0,9,  -999.0,     2.5110,-999.0000,-999.000,-999.000
31WTTUNES_3,       P16C,     244,          3,         16,         16,2,19910909,       0719,    -6.0310,  -151.0080,       5139,  1997.4,   2.3223,  34.6351,2,  34.6417,2,    120.4,2,   120.4,2,  129.01,2,   38.17,2,    0.00,2,    2.70,2,-999.000,9,-999.000,9,  -999.0,9,  -999.0,9,-999.000,9,-999.0000,5,   27.04,3, -999.00,9,  -999.0,9,  -999.0,     2.1812,-999.0000,-999.000,-999.000
31WTTUNES_3,       P16C,     244,          3,         15,         15,2,19910909,       0719,    -6.0310,  -151.0080,       5139,  2199.2,   2.1280,  34.6484,2,  34.6492,2,    123.0,2,   124.6,2,  135.19,2,   37.92,2,    0.00,2,    2.68,2,-999.000,9,-999.000,9,  -999.0,9,  -999.0,9,-999.000,9,-999.0000,9, -999.00,9, -999.00,9,  -999.0,9,  -999.0,     1.9724,-999.0000,-999.000,-999.000
31WTTUNES_3,       P16C,     244,          3,         14,         14,2,19910909,       0719,    -6.0310,  -151.0080,       5139,  2351.8,   1.9913,  34.6571,2,  34.6565,2,    126.7,2,   131.0,2,  135.77,2,   37.48,2,    0.00,2,    2.64,2,-999.000,9,-999.000,9,  -999.0,9,  -999.0,9,-999.000,9,-999.0000,5,   30.03,3, -999.00,9,  -999.0,9,  -999.0,     1.8246,-999.0000,-999.000,-999.000
31WTTUNES_3,       P16C,     244,          3,         13,         13,2,19910909,       0719,    -6.0310,  -151.0080,       5139,  2500.0,   1.9235,  34.6625,2,  34.6690,3,    135.8,2,   134.2,2,  136.54,2,   37.27,2,    0.00,2,    2.57,2,-999.000,9,-999.000,9,  -999.0,9,  -999.0,9,-999.000,9,   1.9660,3,   31.01,2, -999.00,9,  -999.0,9,  -999.0,     1.7447,-999.0000,-999.000,-999.000
31WTTUNES_3,       P16C,     244,          3,         12,         12,2,19910909,       0719,    -6.0310,  -151.0080,       5139,  2648.3,   1.8308,  34.6684,2,  34.6677,2,    132.7,2,   132.5,2,  142.15,2,   37.23,2,    0.00,2,    2.58,2,-999.000,9,-999.000,9,  -999.0,9,  -999.0,9,-999.000,9,   1.9500,2,   30.53,2, -999.00,9,  -999.0,9,  -999.0,     1.6400,-999.0000,-999.000,-999.000
31WTTUNES_3,       P16C,     244,          3,         11,         11,2,19910909,       0719,    -6.0310,  -151.0080,       5139,  2797.1,   1.7762,  34.6725,2,  34.6726,2,    136.0,2,   135.1,2,  142.92,2,   37.07,2,    0.00,2,    2.58,2,-999.000,9,-999.000,9,  -999.0,9,  -999.0,9,-999.000,9,-999.0000,9, -999.00,9, -999.00,9,  -999.0,9,  -999.0,     1.5727,-999.0000,-999.000,-999.000
31WTTUNES_3,       P16C,     244,          3,         10,         10,2,19910909,       0719,    -6.0310,  -151.0080,       5139,  2942.8,   1.7288,  34.6748,2,  34.6743,2,    139.4,2,   139.1,2,  143.50,2,   36.73,2,    0.00,2,    2.77,4,-999.000,9,-999.000,9,  -999.0,9,  -999.0,9,-999.000,9,   1.9370,2,   27.74,2, -999.00,9,  -999.0,9,  -999.0,     1.5125,-999.0000,-999.000,-999.000
31WTTUNES_3,       P16C,     244,          3,          9,          9,2,19910909,       0719,    -6.0310,  -151.0080,       5139,  3187.7,   1.6176,  34.6806,2,  34.6920,4,    150.8,2,   150.4,2,  140.40,2,   36.05,2,    0.00,2,    2.59,4,-999.000,9,-999.000,9,  -999.0,9,  -999.0,9,-999.000,9,   1.9540,3,   23.55,2, -999.00,9,  -999.0,9,  -999.0,     1.3800,-999.0000,-999.000,-999.000
31WTTUNES_3,       P16C,     244,          3,          8,          8,2,19910909,       0719,    -6.0310,  -151.0080,       5139,  3432.8,   1.5398,  34.6850,2,  34.6851,2,    158.2,2,   157.3,2,  139.63,2,   35.66,2,    0.00,2,    2.65,4,-999.000,9,-999.000,9,  -999.0,9,  -999.0,9,-999.000,9,   1.9210,2,   21.08,2, -999.00,9,  -999.0,9,  -999.0,     1.2795,-999.0000,-999.000,-999.000
31WTTUNES_3,       P16C,     244,          3,          7,          7,2,19910909,       0719,    -6.0310,  -151.0080,       5139,  3685.0,   1.4942,  34.6882,2,  34.6891,2,    162.5,2,   161.6,2,  138.27,2,   35.42,2,    0.00,2,    2.45,2,-999.000,9,-999.000,9,  -999.0,9,  -999.0,9,-999.000,9,   1.9500,3,   19.17,2, -999.00,9,  -999.0,9,  -999.0,     1.2091,-999.0000,-999.000,-999.000
31WTTUNES_3,       P16C,     244,          3,          6,          6,2,19910909,       0719,    -6.0310,  -151.0080,       5139,  3956.3,   1.4255,  34.6923,2,  34.6930,2,    170.3,2,   169.8,2,  135.18,2,   34.83,2,    0.00,2,    2.40,2,-999.000,9,-999.000,9,  -999.0,9,  -999.0,9,-999.000,9,   1.9500,3,   17.39,2, -999.00,9,  -999.0,9,  -999.0,     1.1133,-999.0000,-999.000,-999.000
31WTTUNES_3,       P16C,     244,          3,          5,          5,2,19910909,       0719,    -6.0310,  -151.0080,       5139,  4221.7,   1.3597,  34.6964,2,  34.7044,3,    178.2,2,   177.4,2,  132.28,2,   34.11,2,    0.00,2,    2.37,2,-999.000,9,-999.000,9,  -999.0,9,  -999.0,9,-999.000,9,-999.0000,5,   15.84,3, -999.00,9,  -999.0,9,  -999.0,     1.0205,-999.0000,-999.000,-999.000
31WTTUNES_3,       P16C,     244,          3,          4,          4,2,19910909,       0719,    -6.0310,  -151.0080,       5139,  4487.1,   1.3369,  34.6987,2,  34.6987,2,    184.7,2,   182.9,2,  129.00,2,   33.86,2,    0.00,2,    2.34,2,-999.000,9,-999.000,9,  -999.0,9,  -999.0,9,-999.000,9,   1.8970,2,   14.79,2, -999.00,9,  -999.0,9,  -999.0,     0.9684,-999.0000,-999.000,-999.000
31WTTUNES_3,       P16C,     244,          3,          3,          3,2,19910909,       0719,    -6.0310,  -151.0080,       5139,  4753.9,   1.3287,  34.7006,2,  34.7050,2,    189.2,2,   187.7,2,  126.87,2,   33.47,2,    0.00,2,    2.32,2,-999.000,9,-999.000,9,  -999.0,9,  -999.0,9,-999.000,9,   1.9300,3,   13.57,2, -999.00,9,  -999.0,9,  -999.0,     0.9295,-999.0000,-999.000,-999.000
31WTTUNES_3,       P16C,     244,          3,          2,          2,3,19910909,       0719,    -6.0310,  -151.0080,       5139,  5014.4,   1.3445,  34.7012,2,  34.7178,4,    191.2,2,   189.0,4,  126.09,4,   33.42,4,    0.00,4,    2.36,4,-999.000,9,-999.000,9,  -999.0,9,  -999.0,9,-999.000,9,   1.8770,2,   13.54,2, -999.00,9,  -999.0,9,  -999.0,     0.9137,-999.0000,-999.000,-999.000
31WTTUNES_3,       P16C,     244,          3,          1,          1,2,19910909,       0719,    -6.0310,  -151.0080,       5139,  5231.0,   1.3679,  34.7011,2,  34.7042,2,    190.8,2,   194.2,2,  125.70,2,   33.28,2,    0.00,2,    2.28,2,-999.000,9,-999.000,9,  -999.0,9,  -999.0,9,-999.000,9,-999.0000,9, -999.00,9, -999.00,9,  -999.0,9,  -999.0,     0.9098,-999.0000,-999.000,-999.000