BOTTLE,20211117CCHSIORKP
EXPOCODE,SECT_ID,STNNBR,CASTNO,SAMPNO,BTLNBR,BTLNBR_FLAG_W,DATE,TIME,LATITUDE,LONGITUDE,DEPTH,CTDPRS,CTDTMP,CTDSAL,CTDSAL_FLAG_W,SALNTY,SALNTY_FLAG_W,CTDOXY,CTDOXY_FLAG_W,OXYGEN,OXYGEN_FLAG_W,SILCAT,SILCAT_FLAG_W,NITRAT,NITRAT_FLAG_W,NITRIT,NITRIT_FLAG_W,PHSPHT,PHSPHT_FLAG_W,CFC-11,CFC-11_FLAG_W,CFC-12,CFC-12_FLAG_W,TCARBN,TCARBN_FLAG_W,ALKALI,ALKALI_FLAG_W,TRITUM,TRITUM_FLAG_W,HELIUM,HELIUM_FLAG_W,DELHE3,DELHE3_FLAG_W,DELC13,DELC13_FLAG_W,DELC14,DELC14_FLAG_W,C14ERR,THETA,HELIER,DELHER,TRITER
,,,,,,,,,,,METERS,DBAR,ITS-90,PSS-78,,PSS-78,,UMOL/KG,,UMOL/KG,,UMOL/KG,,UMOL/KG,,UMOL/KG,,UMOL/KG,,PMOL/KG,,PMOL/KG,,UMOL/KG,,UMOL/KG,,TU,,NMOL/KG,,PERCNT,,/MILLE,,/MILLE,,/MILLE,ITS-90,NMOL/KG,PERCNT,TU
31WTTUNES_3,       P16C,     322,          1,         28,         28,2,19910930,       1114,    18.8553,  -155.5675,       3087,     6.6,  26.6360,  34.6483,2,  34.7368,2,    208.1,3,   216.0,2,    2.89,2,    0.16,2,    0.00,2,    0.11,2,-999.000,9,-999.000,9,  -999.0,9,  -999.0,9,-999.000,9,-999.0000,9, -999.00,9, -999.00,9,  -999.0,9,  -999.0,    26.6345,-999.0000,-999.000,-999.000
31WTTUNES_3,       P16C,     322,          1,         27,         27,2,19910930,       1114,    18.8553,  -155.5675,       3087,    47.6,  26.5431,  34.7716,2,  34.7799,2,    206.7,2,   219.3,2,    2.48,2,    0.16,2,    0.00,2,    0.09,2,-999.000,9,-999.000,9,  -999.0,9,  -999.0,9,-999.000,9,-999.0000,9, -999.00,9, -999.00,9,  -999.0,9,  -999.0,    26.5323,-999.0000,-999.000,-999.000
31WTTUNES_3,       P16C,     322,          1,         26,         26,2,19910930,       1114,    18.8553,  -155.5675,       3087,    87.6,  23.7984,  34.9302,2,  34.9006,2,    222.6,2,   220.1,2,    2.69,2,    0.16,2,    0.00,2,    0.12,2,-999.000,9,-999.000,9,  -999.0,9,  -999.0,9,-999.000,9,-999.0000,9, -999.00,9, -999.00,9,  -999.0,9,  -999.0,    23.7801,-999.0000,-999.000,-999.000
31WTTUNES_3,       P16C,     322,          1,         25,         25,2,19910930,       1114,    18.8553,  -155.5675,       3087,   127.1,  21.4405,  35.2075,2,  35.1671,2,    210.0,2,   203.2,2,    2.90,2,    0.64,2,    0.09,2,    0.17,2,-999.000,9,-999.000,9,  -999.0,9,  -999.0,9,-999.000,9,-999.0000,9, -999.00,9, -999.00,9,  -999.0,9,  -999.0,    21.4158,-999.0000,-999.000,-999.000
31WTTUNES_3,       P16C,     322,          1,         24,         24,2,19910930,       1114,    18.8553,  -155.5675,       3087,   168.5,  18.5896,  34.9434,2,  34.9162,2,    189.7,2,   188.5,2,    5.16,2,    4.22,2,    0.02,2,    0.39,2,-999.000,9,-999.000,9,  -999.0,9,  -999.0,9,-999.000,9,-999.0000,9, -999.00,9, -999.00,9,  -999.0,9,  -999.0,    18.5601,-999.0000,-999.000,-999.000
31WTTUNES_3,       P16C,     322,          1,         23,         23,2,19910930,       1114,    18.8553,  -155.5675,       3087,   209.8,  14.1592,  34.4031,2,  34.5044,2,    187.9,2,   188.5,2,    8.64,2,    8.46,2,    0.01,2,    0.68,2,-999.000,9,-999.000,9,  -999.0,9,  -999.0,9,-999.000,9,-999.0000,9, -999.00,9, -999.00,9,  -999.0,9,  -999.0,    14.1288,-999.0000,-999.000,-999.000
31WTTUNES_3,       P16C,     322,          1,         22,         22,2,19910930,       1114,    18.8553,  -155.5675,       3087,   258.8,  10.8434,  34.1678,2,  34.2115,2,    174.6,2,   181.9,2,   15.63,2,   14.31,2,    0.01,2,    1.11,2,-999.000,9,-999.000,9,  -999.0,9,  -999.0,9,-999.000,9,-999.0000,9, -999.00,9, -999.00,9,  -999.0,9,  -999.0,    10.8119,-999.0000,-999.000,-999.000
31WTTUNES_3,       P16C,     322,          1,         21,         21,2,19910930,       1114,    18.8553,  -155.5675,       3087,   310.2,   9.1834,  34.1340,2,  34.1370,2,    143.9,2,   152.3,2,   29.37,2,   22.13,2,    0.00,2,    1.66,2,-999.000,9,-999.000,9,  -999.0,9,  -999.0,9,-999.000,9,-999.0000,9, -999.00,9, -999.00,9,  -999.0,9,  -999.0,     9.1494,-999.0000,-999.000,-999.000
31WTTUNES_3,       P16C,     322,          1,         20,         20,2,19910930,       1114,    18.8553,  -155.5675,       3087,   361.0,   8.3256,  34.1460,2,  34.1513,2,    110.9,2,   112.8,2,   40.64,2,   27.47,2,    0.00,2,    2.08,2,-999.000,9,-999.000,9,  -999.0,9,  -999.0,9,-999.000,9,-999.0000,9, -999.00,9, -999.00,9,  -999.0,9,  -999.0,     8.2883,-999.0000,-999.000,-999.000
31WTTUNES_3,       P16C,     322,          1,         19,         19,2,19910930,       1114,    18.8553,  -155.5675,       3087,   411.4,   7.7571,  34.1928,2,  34.2040,2,     81.4,2,    75.1,2,   51.10,2,   31.77,2,    0.00,2,    2.43,2,-999.000,9,-999.000,9,  -999.0,9,  -999.0,9,-999.000,9,-999.0000,9, -999.00,9, -999.00,9,  -999.0,9,  -999.0,     7.7161,-999.0000,-999.000,-999.000
31WTTUNES_3,       P16C,     322,          1,         18,         18,2,19910930,       1114,    18.8553,  -155.5675,       3087,   462.7,   6.9787,  34.2495,2,  34.2524,2,     52.3,2,    48.9,2,   61.15,2,   35.36,2,    0.00,2,    2.70,2,-999.000,9,-999.000,9,  -999.0,9,  -999.0,9,-999.000,9,-999.0000,9, -999.00,9, -999.00,9,  -999.0,9,  -999.0,     6.9351,-999.0000,-999.000,-999.000
31WTTUNES_3,       P16C,     322,          1,         17,         17,2,19910930,       1114,    18.8553,  -155.5675,       3087,   514.7,   6.4524,  34.2860,2,  34.2915,2,     37.2,2,    35.6,2,   70.58,2,   38.01,2,    0.00,2,    2.88,2,-999.000,9,-999.000,9,  -999.0,9,  -999.0,9,-999.000,9,-999.0000,9, -999.00,9, -999.00,9,  -999.0,9,  -999.0,     6.4058,-999.0000,-999.000,-999.000
31WTTUNES_3,       P16C,     322,          1,         16,         16,2,19910930,       1114,    18.8553,  -155.5675,       3087,   613.7,   5.3836,  34.3392,2,  34.3346,2,     27.7,2,    28.4,2,   84.72,2,   40.31,2,    0.00,2,    3.01,2,-999.000,9,-999.000,9,  -999.0,9,  -999.0,9,-999.000,9,-999.0000,9, -999.00,9, -999.00,9,  -999.0,9,  -999.0,     5.3325,-999.0000,-999.000,-999.000
31WTTUNES_3,       P16C,     322,          1,         15,         15,2,19910930,       1114,    18.8553,  -155.5675,       3087,   702.2,   5.0769,  34.4114,2,  34.3986,2,     28.9,2,    28.7,2,   92.30,2,   41.26,2,    0.00,2,    3.05,2,-999.000,9,-999.000,9,  -999.0,9,  -999.0,9,-999.000,9,-999.0000,9, -999.00,9, -999.00,9,  -999.0,9,  -999.0,     5.0196,-999.0000,-999.000,-999.000
31WTTUNES_3,       P16C,     322,          1,         14,         14,2,19910930,       1114,    18.8553,  -155.5675,       3087,   789.4,   4.6349,  34.4644,2,  34.4661,2,     34.9,2,    34.4,2,   98.87,2,   41.97,2,    0.00,2,    3.07,2,-999.000,9,-999.000,9,  -999.0,9,  -999.0,9,-999.000,9,-999.0000,9, -999.00,9, -999.00,9,  -999.0,9,  -999.0,     4.5725,-999.0000,-999.000,-999.000
31WTTUNES_3,       P16C,     322,          1,         13,         13,2,19910930,       1114,    18.8553,  -155.5675,       3087,   887.6,   4.2614,  34.4901,2,  34.4895,2,     40.0,2,    39.4,2,  106.45,2,   42.11,2,    0.00,2,    3.06,2,-999.000,9,-999.000,9,  -999.0,9,  -999.0,9,-999.000,9,-999.0000,9, -999.00,9, -999.00,9,  -999.0,9,  -999.0,     4.1932,-999.0000,-999.000,-999.000
31WTTUNES_3,       P16C,     322,          1,         12,         12,2,19910930,       1114,    18.8553,  -155.5675,       3087,   986.0,   4.0171,  34.5114,2,  34.5095,2,     44.5,2,    43.8,2,  111.98,2,   42.10,2,    0.00,2,    3.07,2,-999.000,9,-999.000,9,  -999.0,9,  -999.0,9,-999.000,9,-999.0000,9, -999.00,9, -999.00,9,  -999.0,9,  -999.0,     3.9425,-999.0000,-999.000,-999.000
31WTTUNES_3,       P16C,     322,          1,         11,         11,2,19910930,       1114,    18.8553,  -155.5675,       3087,  1187.6,   3.5335,  34.5401,2,  34.5400,2,     52.9,2,    52.0,2,  121.81,2,   41.83,2,    0.00,2,    3.04,2,-999.000,9,-999.000,9,  -999.0,9,  -999.0,9,-999.000,9,-999.0000,9, -999.00,9, -999.00,9,  -999.0,9,  -999.0,     3.4461,-999.0000,-999.000,-999.000
31WTTUNES_3,       P16C,     322,          1,         10,         10,2,19910930,       1114,    18.8553,  -155.5675,       3087,  1393.4,   3.1013,  34.5629,2,  34.5612,2,     62.2,2,    61.9,2,  131.65,2,   41.51,2,    0.00,2,    2.99,2,-999.000,9,-999.000,9,  -999.0,9,  -999.0,9,-999.000,9,-999.0000,9, -999.00,9, -999.00,9,  -999.0,9,  -999.0,     3.0012,-999.0000,-999.000,-999.000
31WTTUNES_3,       P16C,     322,          1,          9,          9,2,19910930,       1114,    18.8553,  -155.5675,       3087,  1603.4,   2.6673,  34.5943,2,  34.5889,2,     73.5,2,    71.5,2,  139.64,2,   41.09,2,    0.00,2,    2.94,2,-999.000,9,-999.000,9,  -999.0,9,  -999.0,9,-999.000,9,-999.0000,9, -999.00,9, -999.00,9,  -999.0,9,  -999.0,     2.5547,-999.0000,-999.000,-999.000
31WTTUNES_3,       P16C,     322,          1,          8,          8,2,19910930,       1114,    18.8553,  -155.5675,       3087,  1814.9,   2.2955,  34.6162,2,  34.6124,2,     86.5,2,    84.1,2,  148.24,2,   40.32,2,    0.00,2,    2.87,2,-999.000,9,-999.000,9,  -999.0,9,  -999.0,9,-999.000,9,-999.0000,9, -999.00,9, -999.00,9,  -999.0,9,  -999.0,     2.1704,-999.0000,-999.000,-999.000
31WTTUNES_3,       P16C,     322,          1,          7,          7,2,19910930,       1114,    18.8553,  -155.5675,       3087,  2028.9,   2.1238,  34.6270,2,  34.6252,2,     94.3,2,    88.4,2,  152.14,2,   39.69,2,    0.00,2,    2.83,2,-999.000,9,-999.000,9,  -999.0,9,  -999.0,9,-999.000,9,-999.0000,9, -999.00,9, -999.00,9,  -999.0,9,  -999.0,     1.9830,-999.0000,-999.000,-999.000
31WTTUNES_3,       P16C,     322,          1,          6,          6,2,19910930,       1114,    18.8553,  -155.5675,       3087,  2238.1,   1.9772,  34.6388,2,  34.6380,2,    101.7,2,   102.2,2,  155.20,2,   39.27,2,    0.00,2,    2.77,2,-999.000,9,-999.000,9,  -999.0,9,  -999.0,9,-999.000,9,-999.0000,9, -999.00,9, -999.00,9,  -999.0,9,  -999.0,     1.8208,-999.0000,-999.000,-999.000
31WTTUNES_3,       P16C,     322,          1,          5,          5,2,19910930,       1114,    18.8553,  -155.5675,       3087,  2444.3,   1.8138,  34.6507,2,  34.6494,2,    111.1,2,   111.3,2,  158.07,2,   38.69,2,    0.00,2,    2.71,2,-999.000,9,-999.000,9,  -999.0,9,  -999.0,9,-999.000,9,-999.0000,9, -999.00,9, -999.00,9,  -999.0,9,  -999.0,     1.6420,-999.0000,-999.000,-999.000
31WTTUNES_3,       P16C,     322,          1,          4,          4,2,19910930,       1114,    18.8553,  -155.5675,       3087,  2648.7,   1.6774,  34.6612,2,  34.6576,2,    119.5,2,   123.5,3,  159.91,2,   38.27,2,    0.00,2,    2.67,2,-999.000,9,-999.000,9,  -999.0,9,  -999.0,9,-999.000,9,-999.0000,9, -999.00,9, -999.00,9,  -999.0,9,  -999.0,     1.4897,-999.0000,-999.000,-999.000
31WTTUNES_3,       P16C,     322,          1,          3,          3,2,19910930,       1114,    18.8553,  -155.5675,       3087,  2851.7,   1.6197,  34.6667,2,  34.6641,2,    124.3,2,   123.8,2,  160.73,2,   37.96,2,    0.00,2,    2.64,2,-999.000,9,-999.000,9,  -999.0,9,  -999.0,9,-999.000,9,-999.0000,9, -999.00,9, -999.00,9,  -999.0,9,  -999.0,     1.4144,-999.0000,-999.000,-999.000
31WTTUNES_3,       P16C,     322,          1,          2,          2,2,19910930,       1114,    18.8553,  -155.5675,       3087,  3055.9,   1.5723,  34.6714,2,  34.6686,2,    129.7,2,   129.4,2,  161.54,2,   37.70,2,    0.00,2,    2.63,2,-999.000,9,-999.000,9,  -999.0,9,  -999.0,9,-999.000,9,-999.0000,9, -999.00,9, -999.00,9,  -999.0,9,  -999.0,     1.3486,-999.0000,-999.000,-999.000
31WTTUNES_3,       P16C,     322,          1,          1,          1,2,19910930,       1114,    18.8553,  -155.5675,       3087,  3223.0,   1.5547,  34.6737,2,  34.6720,2,    130.8,2,   131.6,2,  160.72,2,   37.37,2,    0.00,2,    2.60,2,-999.000,9,-999.000,9,  -999.0,9,  -999.0,9,-999.000,9,-999.0000,9, -999.00,9, -999.00,9,  -999.0,9,  -999.0,     1.3151,-999.0000,-999.000,-999.000