BOTTLE,20211117CCHSIORKP
EXPOCODE,SECT_ID,STNNBR,CASTNO,SAMPNO,BTLNBR,BTLNBR_FLAG_W,DATE,TIME,LATITUDE,LONGITUDE,DEPTH,CTDPRS,CTDTMP,CTDSAL,CTDSAL_FLAG_W,SALNTY,SALNTY_FLAG_W,CTDOXY,CTDOXY_FLAG_W,OXYGEN,OXYGEN_FLAG_W,SILCAT,SILCAT_FLAG_W,NITRAT,NITRAT_FLAG_W,NITRIT,NITRIT_FLAG_W,PHSPHT,PHSPHT_FLAG_W,CFC-11,CFC-11_FLAG_W,CFC-12,CFC-12_FLAG_W,TCARBN,TCARBN_FLAG_W,ALKALI,ALKALI_FLAG_W,TRITUM,TRITUM_FLAG_W,HELIUM,HELIUM_FLAG_W,DELHE3,DELHE3_FLAG_W,DELC13,DELC13_FLAG_W,DELC14,DELC14_FLAG_W,C14ERR,THETA,HELIER,DELHER,TRITER
,,,,,,,,,,,METERS,DBAR,ITS-90,PSS-78,,PSS-78,,UMOL/KG,,UMOL/KG,,UMOL/KG,,UMOL/KG,,UMOL/KG,,UMOL/KG,,PMOL/KG,,PMOL/KG,,UMOL/KG,,UMOL/KG,,TU,,NMOL/KG,,PERCNT,,/MILLE,,/MILLE,,/MILLE,ITS-90,NMOL/KG,PERCNT,TU
31WTTUNES_3,       P16C,     231,          1,         36,         36,2,19910904,       1326,   -12.5002,  -151.0083,       4799,     3.2,  28.2794,  35.9477,3,  35.9174,2,    210.3,3,   210.9,2,    0.94,2,    0.22,2,    0.00,3,    0.23,2,-999.000,9,-999.000,9,  -999.0,9,  -999.0,9,-999.000,9,-999.0000,9, -999.00,9, -999.00,9,  -999.0,9,  -999.0,    28.2786,-999.0000,-999.000,-999.000
31WTTUNES_3,       P16C,     231,          1,         35,         35,2,19910904,       1326,   -12.5002,  -151.0083,       4799,    55.7,  28.0427,  36.2416,2,  36.2592,2,    208.7,2,   211.2,2,    1.12,2,    0.22,2,    0.00,3,    0.23,2,-999.000,9,-999.000,9,  -999.0,9,  -999.0,9,-999.000,9,-999.0000,9, -999.00,9, -999.00,9,  -999.0,9,  -999.0,    28.0295,-999.0000,-999.000,-999.000
31WTTUNES_3,       P16C,     231,          1,         34,         34,2,19910904,       1326,   -12.5002,  -151.0083,       4799,   106.4,  27.6387,  36.3277,2,  36.3324,2,    207.7,2,   197.4,2,    1.11,2,    0.34,2,    0.15,3,    0.32,2,-999.000,9,-999.000,9,  -999.0,9,  -999.0,9,-999.000,9,-999.0000,9, -999.00,9, -999.00,9,  -999.0,9,  -999.0,    27.6138,-999.0000,-999.000,-999.000
31WTTUNES_3,       P16C,     231,          1,         33,         33,2,19910904,       1326,   -12.5002,  -151.0083,       4799,   157.5,  24.1340,  36.3578,2,  36.3441,2,    182.9,2,   181.8,2,    1.10,2,    2.20,2,    0.75,3,    0.49,2,-999.000,9,-999.000,9,  -999.0,9,  -999.0,9,-999.000,9,-999.0000,9, -999.00,9, -999.00,9,  -999.0,9,  -999.0,    24.1005,-999.0000,-999.000,-999.000
31WTTUNES_3,       P16C,     231,          1,         32,         32,2,19910904,       1326,   -12.5002,  -151.0083,       4799,   208.5,  22.1165,  36.1986,2,  36.0995,2,    176.5,2,   176.2,2,    1.09,2,    4.15,2,    0.03,3,    0.52,2,-999.000,9,-999.000,9,  -999.0,9,  -999.0,9,-999.000,9,-999.0000,9, -999.00,9, -999.00,9,  -999.0,9,  -999.0,    22.0748,-999.0000,-999.000,-999.000
31WTTUNES_3,       P16C,     231,          1,         31,         31,2,19910904,       1326,   -12.5002,  -151.0083,       4799,   257.6,  19.8619,  35.7869,2,  35.5877,2,    173.4,2,   165.3,2,    2.27,2,    7.02,2,    0.01,3,    0.72,2,-999.000,9,-999.000,9,  -999.0,9,  -999.0,9,-999.000,9,-999.0000,9, -999.00,9, -999.00,9,  -999.0,9,  -999.0,    19.8142,-999.0000,-999.000,-999.000
31WTTUNES_3,       P16C,     231,          1,         30,         30,2,19910904,       1326,   -12.5002,  -151.0083,       4799,   308.3,  15.5378,  35.0980,2,  35.0118,2,    137.4,2,   126.6,2,    6.58,2,   14.38,2,    0.01,3,    1.30,2,-999.000,9,-999.000,9,  -999.0,9,  -999.0,9,-999.000,9,-999.0000,9, -999.00,9, -999.00,9,  -999.0,9,  -999.0,    15.4897,-999.0000,-999.000,-999.000
31WTTUNES_3,       P16C,     231,          1,         29,         29,2,19910904,       1326,   -12.5002,  -151.0083,       4799,   359.5,  12.0667,  34.7626,2,  34.7575,2,     90.9,2,    92.1,2,   13.05,2,   22.25,2,    0.01,3,    1.84,2,-999.000,9,-999.000,9,  -999.0,9,  -999.0,9,-999.000,9,-999.0000,9, -999.00,9, -999.00,9,  -999.0,9,  -999.0,    12.0195,-999.0000,-999.000,-999.000
31WTTUNES_3,       P16C,     231,          1,         28,         28,2,19910904,       1326,   -12.5002,  -151.0083,       4799,   408.8,  10.4110,  34.6602,2,  34.6539,2,     89.2,2,    89.7,2,   18.75,2,   27.13,2,    0.01,3,    2.07,2,-999.000,9,-999.000,9,  -999.0,9,  -999.0,9,-999.000,9,-999.0000,9, -999.00,9, -999.00,9,  -999.0,9,  -999.0,    10.3620,-999.0000,-999.000,-999.000
31WTTUNES_3,       P16C,     231,          1,         27,         27,2,19910904,       1326,   -12.5002,  -151.0083,       4799,   460.0,   8.5452,  34.5642,2,  34.5716,2,    106.8,2,   108.6,2,   23.46,2,   29.37,2,    0.01,3,    2.14,2,-999.000,9,-999.000,9,  -999.0,9,  -999.0,9,-999.000,9,-999.0000,9, -999.00,9, -999.00,9,  -999.0,9,  -999.0,     8.4964,-999.0000,-999.000,-999.000
31WTTUNES_3,       P16C,     231,          1,         26,         26,2,19910904,       1326,   -12.5002,  -151.0083,       4799,   511.6,   7.4853,  34.5310,2,  34.5327,2,    124.0,2,   125.5,2,   27.59,2,   30.72,2,    0.01,3,    2.16,2,-999.000,9,-999.000,9,  -999.0,9,  -999.0,9,-999.000,9,-999.0000,9, -999.00,9, -999.00,9,  -999.0,9,  -999.0,     7.4348,-999.0000,-999.000,-999.000
31WTTUNES_3,       P16C,     231,          1,         25,         25,2,19910904,       1326,   -12.5002,  -151.0083,       4799,   610.6,   6.2675,  34.4945,2,  34.4919,2,    135.1,2,   138.7,2,   37.42,2,   32.68,2,    0.01,3,    2.27,3,-999.000,9,-999.000,9,  -999.0,9,  -999.0,9,-999.000,9,-999.0000,9, -999.00,9, -999.00,9,  -999.0,9,  -999.0,     6.2125,-999.0000,-999.000,-999.000
31WTTUNES_3,       P16C,     231,          1,         24,         24,2,19910904,       1326,   -12.5002,  -151.0083,       4799,   713.2,   5.6843,  34.5077,2,  34.5095,2,    120.0,2,   118.2,2,   48.43,2,   28.53,3,    0.01,3,    1.93,3,-999.000,9,-999.000,9,  -999.0,9,  -999.0,9,-999.000,9,-999.0000,9, -999.00,9, -999.00,9,  -999.0,9,  -999.0,     5.6227,-999.0000,-999.000,-999.000
31WTTUNES_3,       P16C,     231,          1,         23,         23,2,19910904,       1326,   -12.5002,  -151.0083,       4799,   814.7,   4.9474,  34.5042,2,  34.5001,2,    124.4,2,   126.3,2,   57.88,2,   34.27,2,    0.01,3,    2.39,2,-999.000,9,-999.000,9,  -999.0,9,  -999.0,9,-999.000,9,-999.0000,9, -999.00,9, -999.00,9,  -999.0,9,  -999.0,     4.8809,-999.0000,-999.000,-999.000
31WTTUNES_3,       P16C,     231,          1,         22,         22,2,19910904,       1326,   -12.5002,  -151.0083,       4799,   919.8,   4.4898,  34.5119,2,  34.5064,2,    131.7,2,   130.9,2,   64.57,2,   34.59,2,    0.01,3,    2.41,2,-999.000,9,-999.000,9,  -999.0,9,  -999.0,9,-999.000,9,-999.0000,9, -999.00,9, -999.00,9,  -999.0,9,  -999.0,     4.4173,-999.0000,-999.000,-999.000
31WTTUNES_3,       P16C,     231,          1,         21,         21,2,19910904,       1326,   -12.5002,  -151.0083,       4799,  1024.2,   4.3028,  34.5191,2,  34.5152,2,    131.5,2,   130.9,2,   68.70,2,   36.14,2,    0.01,3,    2.50,2,-999.000,9,-999.000,9,  -999.0,9,  -999.0,9,-999.000,9,-999.0000,9, -999.00,9, -999.00,9,  -999.0,9,  -999.0,     4.2227,-999.0000,-999.000,-999.000
31WTTUNES_3,       P16C,     231,          1,         20,         20,2,19910904,       1326,   -12.5002,  -151.0083,       4799,  1127.7,   4.1250,  34.5258,2,  34.5266,2,    132.1,2,   131.2,2,   74.02,2,   36.42,2,    0.01,3,    2.54,2,-999.000,9,-999.000,9,  -999.0,9,  -999.0,9,-999.000,9,-999.0000,9, -999.00,9, -999.00,9,  -999.0,9,  -999.0,     4.0375,-999.0000,-999.000,-999.000
31WTTUNES_3,       P16C,     231,          1,         19,         19,2,19910904,       1326,   -12.5002,  -151.0083,       4799,  1229.0,   3.7015,  34.5482,2,  34.5468,2,    124.7,2,   124.5,2,   86.02,2,   36.00,2,    0.01,3,    2.51,2,-999.000,9,-999.000,9,  -999.0,9,  -999.0,9,-999.000,9,-999.0000,9, -999.00,9, -999.00,9,  -999.0,9,  -999.0,     3.6091,-999.0000,-999.000,-999.000
31WTTUNES_3,       P16C,     231,          1,         18,         18,2,19910904,       1326,   -12.5002,  -151.0083,       4799,  1330.4,   3.3602,  34.5607,2,  34.5584,2,    131.9,2,   132.5,2,   91.15,2,   34.04,4,    0.01,4,    2.35,4,-999.000,9,-999.000,9,  -999.0,9,  -999.0,9,-999.000,9,-999.0000,9, -999.00,9, -999.00,9,  -999.0,9,  -999.0,     3.2627,-999.0000,-999.000,-999.000
31WTTUNES_3,       P16C,     231,          1,         17,         17,2,19910904,       1326,   -12.5002,  -151.0083,       4799,  1431.9,   3.0527,  34.5786,2,  34.5818,2,    133.9,2,   133.5,2,   98.63,2,   37.15,2,    0.01,3,    2.59,2,-999.000,9,-999.000,9,  -999.0,9,  -999.0,9,-999.000,9,-999.0000,9, -999.00,9, -999.00,9,  -999.0,9,  -999.0,     2.9499,-999.0000,-999.000,-999.000
31WTTUNES_3,       P16C,     231,          1,         16,         16,2,19910904,       1326,   -12.5002,  -151.0083,       4799,  1634.9,   2.6484,  34.6015,2,  34.5959,2,    139.9,2,   139.8,2,  105.13,2,   36.83,2,    0.01,3,    2.55,2,-999.000,9,-999.000,9,  -999.0,9,  -999.0,9,-999.000,9,   1.9090,2,   24.10,2, -999.00,9,  -999.0,9,  -999.0,     2.5334,-999.0000,-999.000,-999.000
31WTTUNES_3,       P16C,     231,          1,         15,         15,2,19910904,       1326,   -12.5002,  -151.0083,       4799,  1836.2,   2.3237,  34.6248,2,  34.6191,2,    144.0,2,   143.9,2,  113.62,2,   34.53,4,    0.02,3,    2.36,4,-999.000,9,-999.000,9,  -999.0,9,  -999.0,9,-999.000,9,   1.9450,3,   26.29,2, -999.00,9,  -999.0,9,  -999.0,     2.1964,-999.0000,-999.000,-999.000
31WTTUNES_3,       P16C,     231,          1,         14,         14,2,19910904,       1326,   -12.5002,  -151.0083,       4799,  2044.0,   2.0634,  34.6459,2,  34.6413,2,    147.6,2,   148.0,2,  120.51,2,   36.23,2,    0.01,3,    2.51,2,-999.000,9,-999.000,9,  -999.0,9,  -999.0,9,-999.000,9,-999.0000,9, -999.00,9, -999.00,9,  -999.0,9,  -999.0,     1.9222,-999.0000,-999.000,-999.000
31WTTUNES_3,       P16C,     231,          1,         13,         13,2,19910904,       1326,   -12.5002,  -151.0083,       4799,  2252.7,   1.9525,  34.6573,2,  34.6541,2,    146.5,2,   148.4,2,  125.25,2,   33.38,4,    0.01,3,    2.28,4,-999.000,9,-999.000,9,  -999.0,9,  -999.0,9,-999.000,9,   1.9550,3,   30.25,2, -999.00,9,  -999.0,9,  -999.0,     1.7952,-999.0000,-999.000,-999.000
31WTTUNES_3,       P16C,     231,          1,         12,         12,2,19910904,       1326,   -12.5002,  -151.0083,       4799,  2409.5,   1.9099,  34.6620,2,  34.6596,2,    148.5,2,   147.9,2,  128.61,2,   32.69,4,    0.01,3,    2.21,4,-999.000,9,-999.000,9,  -999.0,9,  -999.0,9,-999.000,9,   1.9530,2,   31.33,2, -999.00,9,  -999.0,9,  -999.0,     1.7394,-999.0000,-999.000,-999.000
31WTTUNES_3,       P16C,     231,          1,         11,         11,2,19910904,       1326,   -12.5002,  -151.0083,       4799,  2563.8,   1.8586,  34.6672,2,  34.6649,2,    148.2,2,   147.6,2,  131.40,2,   36.56,2,    0.01,3,    2.51,2,-999.000,9,-999.000,9,  -999.0,9,  -999.0,9,-999.000,9,   1.9420,2,   31.60,2, -999.00,9,  -999.0,9,  -999.0,     1.6751,-999.0000,-999.000,-999.000
31WTTUNES_3,       P16C,     231,          1,         10,         10,2,19910904,       1326,   -12.5002,  -151.0083,       4799,  2720.1,   1.7926,  34.6728,2,  34.6692,2,    150.2,2,   150.4,2,  132.40,2,   36.14,2,    0.01,3,    2.51,2,-999.000,9,-999.000,9,  -999.0,9,  -999.0,9,-999.000,9,   1.9700,3,   30.76,2, -999.00,9,  -999.0,9,  -999.0,     1.5959,-999.0000,-999.000,-999.000
31WTTUNES_3,       P16C,     231,          1,          9,          9,2,19910904,       1326,   -12.5002,  -151.0083,       4799,  2875.5,   1.7498,  34.6763,2,  34.6753,2,    151.7,2,   151.0,2,  134.58,2,   36.10,2,    0.01,3,    2.51,2,-999.000,9,-999.000,9,  -999.0,9,  -999.0,9,-999.000,9,-999.0000,9, -999.00,9, -999.00,9,  -999.0,9,  -999.0,     1.5394,-999.0000,-999.000,-999.000
31WTTUNES_3,       P16C,     231,          1,          8,          8,2,19910904,       1326,   -12.5002,  -151.0083,       4799,  3082.3,   1.6943,  34.6801,2,  34.6794,2,    154.8,2,   154.1,2,  135.58,2,   36.00,2,    0.01,3,    2.50,2,-999.000,9,-999.000,9,  -999.0,9,  -999.0,9,-999.000,9,   1.9640,3,   27.98,2, -999.00,9,  -999.0,9,  -999.0,     1.4651,-999.0000,-999.000,-999.000
31WTTUNES_3,       P16C,     231,          1,          7,          7,2,19910904,       1326,   -12.5002,  -151.0083,       4799,  3340.4,   1.6316,  34.6834,2,  34.6824,2,    160.7,2,   160.7,2,  133.62,2,   35.58,2,    0.01,3,    2.46,2,-999.000,9,-999.000,9,  -999.0,9,  -999.0,9,-999.000,9,   1.9350,2,   24.81,2, -999.00,9,  -999.0,9,  -999.0,     1.3784,-999.0000,-999.000,-999.000
31WTTUNES_3,       P16C,     231,          1,          6,          6,2,19910904,       1326,   -12.5002,  -151.0083,       4799,  3600.2,   1.5650,  34.6876,2,  34.6855,2,    166.9,2,   167.6,2,  131.47,2,   35.07,2,    0.01,3,    2.43,2,-999.000,9,-999.000,9,  -999.0,9,  -999.0,9,-999.000,9,   1.9380,3,   22.01,2, -999.00,9,  -999.0,9,  -999.0,     1.2868,-999.0000,-999.000,-999.000
31WTTUNES_3,       P16C,     231,          1,          5,          5,2,19910904,       1326,   -12.5002,  -151.0083,       4799,  3857.3,   1.4663,  34.6932,2,  34.6910,2,    176.3,2,   176.6,2,  128.52,2,   34.42,2,    0.01,3,    2.38,2,-999.000,9,-999.000,9,  -999.0,9,  -999.0,9,-999.000,9,-999.0000,9, -999.00,9, -999.00,9,  -999.0,9,  -999.0,     1.1637,-999.0000,-999.000,-999.000
31WTTUNES_3,       P16C,     231,          1,          4,          4,2,19910904,       1326,   -12.5002,  -151.0083,       4799,  4112.3,   1.4249,  34.6965,2,  34.6971,2,    181.6,2,   183.0,2,  125.97,2,   33.96,2,    0.01,3,    2.35,2,-999.000,9,-999.000,9,  -999.0,9,  -999.0,9,-999.000,9,   1.9260,3,   16.89,2, -999.00,9,  -999.0,9,  -999.0,     1.0957,-999.0000,-999.000,-999.000
31WTTUNES_3,       P16C,     231,          1,          3,          3,2,19910904,       1326,   -12.5002,  -151.0083,       4799,  4364.9,   1.3669,  34.7001,2,  34.7013,2,    187.3,2,   187.7,2,  125.00,2,   33.68,2,    0.01,3,    2.32,2,-999.000,9,-999.000,9,  -999.0,9,  -999.0,9,-999.000,9,   1.9350,3,   15.37,2, -999.00,9,  -999.0,9,  -999.0,     1.0113,-999.0000,-999.000,-999.000
31WTTUNES_3,       P16C,     231,          1,          2,          2,2,19910904,       1326,   -12.5002,  -151.0083,       4799,  4627.5,   1.3224,  34.7036,2,  34.7019,2,    192.9,2,   192.3,2,  124.02,2,   33.40,2,    0.01,3,    2.29,2,-999.000,9,-999.000,9,  -999.0,9,  -999.0,9,-999.000,9,   1.9380,3,   13.88,2, -999.00,9,  -999.0,9,  -999.0,     0.9382,-999.0000,-999.000,-999.000
31WTTUNES_3,       P16C,     231,          1,          1,          1,2,19910904,       1326,   -12.5002,  -151.0083,       4799,  4857.0,   1.3181,  34.7048,2,  34.7052,2,    195.5,2,   196.3,2,  122.85,2,   33.02,2,    0.01,3,    2.26,2,-999.000,9,-999.000,9,  -999.0,9,  -999.0,9,-999.000,9,-999.0000,9, -999.00,9, -999.00,9,  -999.0,9,  -999.0,     0.9070,-999.0000,-999.000,-999.000