BOTTLE,20211117CCHSIORKP
EXPOCODE,SECT_ID,STNNBR,CASTNO,SAMPNO,BTLNBR,BTLNBR_FLAG_W,DATE,TIME,LATITUDE,LONGITUDE,DEPTH,CTDPRS,CTDTMP,CTDSAL,CTDSAL_FLAG_W,SALNTY,SALNTY_FLAG_W,CTDOXY,CTDOXY_FLAG_W,OXYGEN,OXYGEN_FLAG_W,SILCAT,SILCAT_FLAG_W,NITRAT,NITRAT_FLAG_W,NITRIT,NITRIT_FLAG_W,PHSPHT,PHSPHT_FLAG_W,CFC-11,CFC-11_FLAG_W,CFC-12,CFC-12_FLAG_W,TCARBN,TCARBN_FLAG_W,ALKALI,ALKALI_FLAG_W,TRITUM,TRITUM_FLAG_W,HELIUM,HELIUM_FLAG_W,DELHE3,DELHE3_FLAG_W,DELC13,DELC13_FLAG_W,DELC14,DELC14_FLAG_W,C14ERR,THETA,HELIER,DELHER,TRITER
,,,,,,,,,,,METERS,DBAR,ITS-90,PSS-78,,PSS-78,,UMOL/KG,,UMOL/KG,,UMOL/KG,,UMOL/KG,,UMOL/KG,,UMOL/KG,,PMOL/KG,,PMOL/KG,,UMOL/KG,,UMOL/KG,,TU,,NMOL/KG,,PERCNT,,/MILLE,,/MILLE,,/MILLE,ITS-90,NMOL/KG,PERCNT,TU
31WTTUNES_3,       P16C,     268,          1,         36,         36,2,19910915,       0802,    -0.0047,  -150.9985,       4342,     7.2,  27.1231,  34.8917,2,  34.8843,2,    208.3,3,   212.8,2,    3.70,2,    2.84,2,    0.22,2,    0.43,2,   1.685,2,   0.946,2,  1987.9,2,  2291.6,2,-999.000,9,-999.0000,9, -999.00,9,   -2.18,4,   -16.1,4,     3.9,    27.1214,-999.0000,-999.000,-999.000
31WTTUNES_3,       P16C,     268,          1,         35,         35,2,19910915,       0802,    -0.0047,  -150.9985,       4342,    41.7,  26.1788,  35.0464,2,  35.0311,2,    205.7,2,   208.9,2,    3.71,2,    4.27,2,    0.19,2,    0.49,2,   1.662,2,   0.940,2,  2005.2,2,  2301.4,2,   1.245,2,   1.7360,2,   -0.56,2,    1.36,2,   102.8,2,     2.8,    26.1695,   0.0080,   0.150,   0.008
31WTTUNES_3,       P16C,     268,          1,         34,         34,2,19910915,       0802,    -0.0047,  -150.9985,       4342,    71.9,  26.0167,  35.0976,2,  35.0911,2,    198.6,2,   192.7,2,    4.32,2,    4.99,2,    0.21,2,    0.56,2,   1.663,2,   0.947,2,  2015.2,2,  2304.5,2,   1.316,2,   1.7370,2,   -0.53,2,    1.25,2,    97.8,2,     3.0,    26.0006,   0.0080,   0.150,   0.008
31WTTUNES_3,       P16C,     268,          1,         33,         33,2,19910915,       0802,    -0.0047,  -150.9985,       4342,   102.1,  25.1985,  35.1910,2,  35.1662,2,    168.8,2,   164.8,2,    5.12,2,    7.62,2,    0.21,2,    0.69,2,   1.587,2,   0.894,2,  2039.4,2,  2307.4,2,   1.275,2,   1.7470,2,    0.58,2,    1.06,2,   101.9,2,     2.7,    25.1763,   0.0080,   0.150,   0.008
31WTTUNES_3,       P16C,     268,          1,         32,         32,2,19910915,       0802,    -0.0047,  -150.9985,       4342,   141.4,  22.1522,  35.2670,2,  35.2371,2,    138.4,2,   131.8,2,    7.30,2,   10.73,2,    0.03,2,    0.86,2,   1.452,2,   0.797,2,  2081.4,2,  2313.3,2,   1.165,2,   1.7690,2,    2.15,2,    0.87,2,    99.0,2,     2.8,    22.1241,   0.0080,   0.150,   0.008
31WTTUNES_3,       P16C,     268,          1,         31,         31,2,19910915,       0802,    -0.0047,  -150.9985,       4342,   186.2,  15.9378,  35.0422,2,  34.9990,2,    142.6,2,   138.2,2,   12.46,2,   14.43,2,    0.01,2,    1.09,2,   1.201,2,   0.654,2,  2112.3,2,  2304.4,2,   1.087,2,   1.7710,2,    4.45,2,    0.76,2,    63.5,2,     3.1,    15.9084,   0.0080,   0.150,   0.008
31WTTUNES_3,       P16C,     268,          1,         30,         30,2,19910915,       0802,    -0.0047,  -150.9985,       4342,   227.6,  13.3887,  34.9637,2,  34.9664,2,    130.6,2,   124.9,2,   16.05,2,   19.61,2,    0.01,2,    1.43,2,   0.756,2,   0.432,2,  2151.1,2,  2309.6,2,   0.587,2,   1.7760,2,    4.26,2,    0.67,2,  -999.0,5,  -999.0,    13.3567,   0.0080,   0.150,   0.006
31WTTUNES_3,       P16C,     268,          1,         29,         29,2,19910915,       0802,    -0.0047,  -150.9985,       4342,   269.5,  12.4861,  34.8925,2,  34.8918,2,    115.3,2,   111.5,2,   19.23,2,   22.41,2,    0.01,2,    1.61,2,   0.611,2,   0.339,2,  2169.7,2,  2304.6,2,-999.000,9,-999.0000,9, -999.00,9,    0.50,2,    -8.4,2,     4.5,    12.4499,-999.0000,-999.000,-999.000
31WTTUNES_3,       P16C,     268,          1,         28,         28,2,19910915,       0802,    -0.0047,  -150.9985,       4342,   307.9,  11.9976,  34.8531,2,  34.8530,2,     83.1,2,    85.6,2,   22.40,2,   25.82,2,    0.01,2,    1.83,2,   0.442,2,   0.255,2,  2193.1,2,  2305.7,2,   0.435,2,   1.7920,2,    5.24,2,    0.44,2,   -22.1,2,     4.5,    11.9573,   0.0080,   0.150,   0.005
31WTTUNES_3,       P16C,     268,          1,         27,         27,2,19910915,       0802,    -0.0047,  -150.9985,       4342,   350.5,  10.6200,  34.7544,2,  34.7893,2,     26.5,2,    29.7,2,   29.75,2,   32.89,2,    0.01,2,    2.29,2,   0.212,2,   0.123,2,  2241.7,2,  2303.1,2,   0.299,2,   1.8000,2,    5.51,2,    0.09,2,   -51.4,2,     3.8,    10.5776,   0.0080,   0.150,   0.004
31WTTUNES_3,       P16C,     268,          1,         26,         26,2,19910915,       0802,    -0.0047,  -150.9985,       4342,   390.2,  10.1259,  34.7370,2,  34.7355,2,     16.1,2,    17.4,2,   34.72,2,   35.95,2,    0.01,2,    2.50,2,   0.091,2,   0.067,2,  2264.9,2,  2305.3,2,   0.154,2,   1.8070,2,    5.71,2,    0.08,2,   -71.8,2,     3.7,    10.0800,   0.0080,   0.150,   0.003
31WTTUNES_3,       P16C,     268,          1,         25,         25,2,19910915,       0802,    -0.0047,  -150.9985,       4342,   432.2,   9.5280,  34.6991,2,  34.7044,2,     28.9,2,    28.4,2,   35.52,2,   36.11,2,    0.01,2,    2.49,2,   0.072,6,   0.043,6,  2261.2,2,  2305.8,2,   0.116,2,   1.8180,2,    6.03,2,    0.08,2,   -81.0,2,     3.2,     9.4789,   0.0090,   0.150,   0.003
31WTTUNES_3,       P16C,     268,          1,         24,         24,2,19910915,       0802,    -0.0047,  -150.9985,       4342,   472.7,   8.1783,  34.6322,2,  34.6303,2,     37.7,2,    38.4,2,   42.48,2,   38.36,2,    0.01,2,    2.64,2,   0.016,2,   0.015,2,  2270.8,2,  2309.1,2,   0.024,2,   1.8330,2,    6.97,2,   -0.01,2,  -101.2,2,     3.6,     8.1292,   0.0090,   0.150,   0.002
31WTTUNES_3,       P16C,     268,          1,         23,         23,2,19910915,       0802,    -0.0047,  -150.9985,       4342,   513.5,   7.8806,  34.6179,2,  34.6134,2,     45.7,2,    44.9,2,   44.08,2,   38.31,2,    0.01,2,    2.66,2,   0.021,2,   0.014,2,  2271.3,2,  2309.7,2,   0.032,2,   1.8120,2,    7.26,2,    0.11,2,  -109.7,2,     2.8,     7.8283,   0.0090,   0.150,   0.002
31WTTUNES_3,       P16C,     268,          1,         22,         22,2,19910915,       0802,    -0.0047,  -150.9985,       4342,   564.8,   7.6527,  34.6073,2,  34.6030,2,     48.3,2,    48.5,2,   45.67,2,   38.65,2,    0.00,2,    2.68,2,   0.012,6,   0.010,6,  2275.5,2,  2312.9,2,-999.000,9,-999.0000,9, -999.00,9, -999.00,9,  -999.0,9,  -999.0,     7.5960,-999.0000,-999.000,-999.000
31WTTUNES_3,       P16C,     268,          1,         21,         21,2,19910915,       0802,    -0.0047,  -150.9985,       4342,   615.5,   7.2619,  34.5917,2,  34.5846,2,     53.5,2,    56.3,2,   49.25,2,   38.65,2,    0.00,2,    2.70,2,   0.009,2,   0.008,2,  2279.1,2,  2316.5,2,-999.000,9,-999.0000,9, -999.00,9, -999.00,9,  -999.0,9,  -999.0,     7.2017,-999.0000,-999.000,-999.000
31WTTUNES_3,       P16C,     268,          1,         20,         20,2,19910915,       0802,    -0.0047,  -150.9985,       4342,   717.4,   6.3480,  34.5613,2,  34.5549,2,     65.9,2,    69.9,2,   58.60,2,   39.01,2,    0.00,2,    2.73,2,   0.007,2,   0.004,2,  2287.9,2,  2326.4,2,   0.010,2,   1.8430,2,   11.10,2,    0.19,2,  -141.1,2,     5.0,     6.2823,   0.0090,   0.150,   0.001
31WTTUNES_3,       P16C,     268,          1,         19,         19,2,19910915,       0802,    -0.0047,  -150.9985,       4342,   820.2,   5.4397,  34.5490,2,  34.5472,2,     76.1,2,    75.2,2,   70.70,2,   39.48,2,    0.00,2,    2.79,2,  -0.003,2,  -0.002,2,  2303.7,2,  2338.8,2,-999.000,9,-999.0000,9, -999.00,9, -999.00,9,  -999.0,9,  -999.0,     5.3696,-999.0000,-999.000,-999.000
31WTTUNES_3,       P16C,     268,          1,         18,         18,2,19910915,       0802,    -0.0047,  -150.9985,       4342,   922.3,   4.8720,  34.5504,2,  34.5482,2,     83.9,2,    82.5,2,   79.25,2,   39.38,2,    0.00,2,    2.81,2,-999.000,9,-999.000,9,  -999.0,9,  -999.0,9,   0.003,2,   1.8620,2,   15.70,2, -999.00,9,  -999.0,9,  -999.0,     4.7965,   0.0090,   0.150,   0.001
31WTTUNES_3,       P16C,     268,          1,         17,         17,2,19910915,       0802,    -0.0047,  -150.9985,       4342,  1025.3,   4.6610,  34.5549,2,  34.5541,2,     81.7,2,    80.3,2,   84.42,2,   39.89,2,    0.00,2,    2.82,2,   0.007,2,   0.016,3,  -999.0,9,  -999.0,9,-999.000,9,-999.0000,9, -999.00,9,    0.14,2,  -177.3,2,     2.5,     4.5779,-999.0000,-999.000,-999.000
31WTTUNES_3,       P16C,     268,          1,         16,         16,2,19910915,       0802,    -0.0047,  -150.9985,       4342,  1127.4,   4.0747,  34.5686,2,  34.5655,2,     85.7,2,    84.7,2,   97.13,2,   39.90,2,    0.00,2,    2.83,2,-999.000,9,-999.000,9,  -999.0,9,  -999.0,9,   0.003,2,   1.8540,2,   19.65,2, -999.00,9,  -999.0,9,  -999.0,     3.9875,   0.0090,   0.150,   0.001
31WTTUNES_3,       P16C,     268,          1,         15,         15,2,19910915,       0802,    -0.0047,  -150.9985,       4342,  1332.6,   3.4943,  34.5880,2,  34.5849,2,     86.9,2,    86.4,2,  111.03,2,   40.16,2,    0.00,2,    2.84,2,-999.000,9,-999.000,9,  -999.0,9,  -999.0,9,-999.000,9,   1.8760,2,   22.28,2, -999.00,9,  -999.0,9,  -999.0,     3.3951,-999.0000,-999.000,-999.000
31WTTUNES_3,       P16C,     268,          1,         14,         14,2,19910915,       0802,    -0.0047,  -150.9985,       4342,  1538.6,   2.9892,  34.6055,2,  34.6024,2,     99.0,2,    97.4,2,  121.76,2,   39.45,2,    0.00,2,    2.79,2,-999.000,9,-999.000,9,  -999.0,9,  -999.0,9,-999.000,9,   1.8840,2,   23.45,2, -999.00,9,  -999.0,9,  -999.0,     2.8782,-999.0000,-999.000,-999.000
31WTTUNES_3,       P16C,     268,          1,         13,         13,2,19910915,       0802,    -0.0047,  -150.9985,       4342,  1744.2,   2.6398,  34.6231,2,  34.6217,2,     98.7,2,    98.3,2,  133.09,2,   39.71,2,    0.00,2,    2.78,2,-999.000,9,-999.000,9,  -999.0,9,  -999.0,9,-999.000,9,   1.9080,2,   25.97,2, -999.00,9,  -999.0,9,  -999.0,     2.5158,-999.0000,-999.000,-999.000
31WTTUNES_3,       P16C,     268,          1,         12,         12,2,19910915,       0802,    -0.0047,  -150.9985,       4342,  1949.6,   2.3511,  34.6376,2,  34.6360,2,    105.9,2,   105.7,2,  140.45,2,   39.20,2,    0.00,2,    2.74,2,-999.000,9,-999.000,9,  -999.0,9,  -999.0,9,-999.000,9,   1.9110,2,   26.65,2, -999.00,9,  -999.0,9,  -999.0,     2.2137,-999.0000,-999.000,-999.000
31WTTUNES_3,       P16C,     268,          1,         11,         11,2,19910915,       0802,    -0.0047,  -150.9985,       4342,  2156.5,   2.0815,  34.6516,2,  34.6502,2,    113.3,2,   112.9,2,  145.64,2,   38.80,2,    0.00,2,    2.70,2,-999.000,9,-999.000,9,  -999.0,9,  -999.0,9,-999.000,9,   1.9170,2,   27.54,2, -999.00,9,  -999.0,9,  -999.0,     1.9304,-999.0000,-999.000,-999.000
31WTTUNES_3,       P16C,     268,          1,         10,         10,2,19910915,       0802,    -0.0047,  -150.9985,       4342,  2366.1,   1.9302,  34.6583,2,  34.6578,2,    121.0,2,   120.4,2,  147.24,2,   38.24,2,    0.00,2,    2.65,2,-999.000,9,-999.000,9,  -999.0,9,  -999.0,9,-999.000,9,   1.9150,2,   26.34,2, -999.00,9,  -999.0,9,  -999.0,     1.7633,-999.0000,-999.000,-999.000
31WTTUNES_3,       P16C,     268,          1,          9,          9,2,19910915,       0802,    -0.0047,  -150.9985,       4342,  2568.2,   1.8492,  34.6640,2,  34.6635,2,    123.8,2,   123.4,2,  149.45,2,   38.05,2,    0.00,2,    2.63,2,-999.000,9,-999.000,9,  -999.0,9,  -999.0,9,-999.000,9,   1.9080,2,   27.20,2, -999.00,9,  -999.0,9,  -999.0,     1.6655,-999.0000,-999.000,-999.000
31WTTUNES_3,       P16C,     268,          1,          8,          8,2,19910915,       0802,    -0.0047,  -150.9985,       4342,  2774.8,   1.7621,  34.6694,2,  34.6686,2,    128.6,2,   129.2,2,  149.87,2,   37.64,2,    0.00,2,    2.60,2,-999.000,9,-999.000,9,  -999.0,9,  -999.0,9,-999.000,9,   1.9540,3,   25.57,2, -999.00,9,  -999.0,9,  -999.0,     1.5609,-999.0000,-999.000,-999.000
31WTTUNES_3,       P16C,     268,          1,          7,          7,2,19910915,       0802,    -0.0047,  -150.9985,       4342,  2981.5,   1.6778,  34.6740,2,  34.6743,2,    134.7,2,   136.5,2,  149.89,2,   37.14,2,    0.00,2,    2.56,2,-999.000,9,-999.000,9,  -999.0,9,  -999.0,9,-999.000,9,   1.9600,3,   23.83,2, -999.00,9,  -999.0,9,  -999.0,     1.4588,-999.0000,-999.000,-999.000
31WTTUNES_3,       P16C,     268,          1,          6,          6,2,19910915,       0802,    -0.0047,  -150.9985,       4342,  3188.4,   1.6157,  34.6777,6,  34.6769,2,    141.7,2,   141.0,2,  148.73,2,   36.88,2,    0.00,2,    2.54,2,-999.000,9,-999.000,9,  -999.0,9,  -999.0,9,-999.000,9,-999.0000,9, -999.00,9, -999.00,9,  -999.0,9,  -999.0,     1.3781,-999.0000,-999.000,-999.000
31WTTUNES_3,       P16C,     268,          1,          5,          5,2,19910915,       0802,    -0.0047,  -150.9985,       4342,  3447.0,   1.5181,  34.6848,6,  34.6838,2,    149.1,2,   148.7,2,  148.95,2,   36.43,2,    0.00,2,    2.49,2,-999.000,9,-999.000,9,  -999.0,9,  -999.0,9,-999.000,9,-999.0000,9, -999.00,9, -999.00,9,  -999.0,9,  -999.0,     1.2569,-999.0000,-999.000,-999.000
31WTTUNES_3,       P16C,     268,          1,          4,          4,2,19910915,       0802,    -0.0047,  -150.9985,       4342,  3706.6,   1.4247,  34.6914,6,  34.6926,3,    158.3,2,   157.8,2,  148.37,2,   35.86,2,    0.01,2,    2.43,2,-999.000,9,-999.000,9,  -999.0,9,  -999.0,9,-999.000,9,   1.9300,2,   17.00,2, -999.00,9,  -999.0,9,  -999.0,     1.1391,-999.0000,-999.000,-999.000
31WTTUNES_3,       P16C,     268,          1,          3,          3,2,19910915,       0802,    -0.0047,  -150.9985,       4342,  3966.6,   1.3980,  34.6940,6,  34.6924,2,    164.3,2,   162.9,2,  146.61,2,   35.57,2,    0.00,2,    2.41,2,-999.000,9,-999.000,9,  -999.0,9,  -999.0,9,-999.000,9,-999.0000,9, -999.00,9, -999.00,9,  -999.0,9,  -999.0,     1.0854,-999.0000,-999.000,-999.000
31WTTUNES_3,       P16C,     268,          1,          2,          2,2,19910915,       0802,    -0.0047,  -150.9985,       4342,  4225.2,   1.3837,  34.6957,6,  34.6946,2,    169.5,2,   167.6,2,  143.87,2,   35.17,2,    0.00,2,    2.39,2,-999.000,9,-999.000,9,  -999.0,9,  -999.0,9,-999.000,9,   1.9140,2,   15.10,2, -999.00,9,  -999.0,9,  -999.0,     1.0433,-999.0000,-999.000,-999.000
31WTTUNES_3,       P16C,     268,          1,          1,          1,2,19910915,       0802,    -0.0047,  -150.9985,       4342,  4389.0,   1.3861,  34.6972,2,  34.6969,2,    170.0,2,   170.6,2,  143.29,2,   35.02,2,    0.00,2,    2.39,2,-999.000,9,-999.000,9,  -999.0,9,  -999.0,9,-999.000,9,-999.0000,9, -999.00,9, -999.00,9,  -999.0,9,  -999.0,     1.0272,-999.0000,-999.000,-999.000
31WTTUNES_3,       P16C,     269,          1,         11,         11,2,19910915,       1225,     0.1530,  -150.9972,       3773,    20.2,  26.6020,  34.9328,2,  34.9185,2,    203.0,3,   204.0,2, -999.00,9, -999.00,9, -999.00,9, -999.00,9,-999.000,9,-999.000,9,  -999.0,9,  -999.0,9,-999.000,9,-999.0000,9, -999.00,9, -999.00,9,  -999.0,9,  -999.0,    26.5974,-999.0000,-999.000,-999.000
31WTTUNES_3,       P16C,     269,          1,         10,         10,2,19910915,       1225,     0.1530,  -150.9972,       3773,   152.2,  20.0581,  35.2418,2,  35.1900,2,    137.3,2,   135.4,2, -999.00,9, -999.00,9, -999.00,9, -999.00,9,-999.000,9,-999.000,9,  -999.0,9,  -999.0,9,-999.000,9,-999.0000,9, -999.00,9, -999.00,9,  -999.0,9,  -999.0,    20.0298,-999.0000,-999.000,-999.000
31WTTUNES_3,       P16C,     269,          1,          9,          9,2,19910915,       1225,     0.1530,  -150.9972,       3773,   307.7,  11.9675,  34.8509,2,  34.8509,2,     78.4,2,    84.2,2, -999.00,9, -999.00,9, -999.00,9, -999.00,9,-999.000,9,-999.000,9,  -999.0,9,  -999.0,9,-999.000,9,-999.0000,9, -999.00,9, -999.00,9,  -999.0,9,  -999.0,    11.9273,-999.0000,-999.000,-999.000
31WTTUNES_3,       P16C,     269,          1,          8,          8,2,19910915,       1225,     0.1530,  -150.9972,       3773,   499.7,   7.9733,  34.6218,2,  34.6225,2,     44.4,2,    41.9,2, -999.00,9, -999.00,9, -999.00,9, -999.00,9,-999.000,9,-999.000,9,  -999.0,9,  -999.0,9,-999.000,9,-999.0000,9, -999.00,9, -999.00,9,  -999.0,9,  -999.0,     7.9221,-999.0000,-999.000,-999.000
31WTTUNES_3,       P16C,     269,          1,          7,          7,2,19910915,       1225,     0.1530,  -150.9972,       3773,   744.6,   6.1461,  34.5555,2,  34.5539,2,     73.8,2,    70.6,2, -999.00,9, -999.00,9, -999.00,9, -999.00,9,-999.000,9,-999.000,9,  -999.0,9,  -999.0,9,-999.000,9,-999.0000,9, -999.00,9, -999.00,9,  -999.0,9,  -999.0,     6.0789,-999.0000,-999.000,-999.000
31WTTUNES_3,       P16C,     269,          1,          6,          6,2,19910915,       1225,     0.1530,  -150.9972,       3773,  1499.6,   3.1103,  34.5985,2,  34.5963,2,     94.4,2,    92.4,2, -999.00,9, -999.00,9, -999.00,9, -999.00,9,-999.000,9,-999.000,9,  -999.0,9,  -999.0,9,-999.000,9,-999.0000,9, -999.00,9, -999.00,9,  -999.0,9,  -999.0,     3.0011,-999.0000,-999.000,-999.000
31WTTUNES_3,       P16C,     269,          1,          5,          5,3,19910915,       1225,     0.1530,  -150.9972,       3773,  2012.5,   2.3350,  34.6376,2,  34.8666,4,    105.6,2,   114.0,4, -999.00,9, -999.00,9, -999.00,9, -999.00,9,-999.000,9,-999.000,9,  -999.0,9,  -999.0,9,-999.000,9,-999.0000,9, -999.00,9, -999.00,9,  -999.0,9,  -999.0,     2.1924,-999.0000,-999.000,-999.000
31WTTUNES_3,       P16C,     269,          1,          4,          4,2,19910915,       1225,     0.1530,  -150.9972,       3773,  2530.3,   1.8498,  34.6632,2,  34.6631,2,    123.4,2,   123.6,2, -999.00,9, -999.00,9, -999.00,9, -999.00,9,-999.000,9,-999.000,9,  -999.0,9,  -999.0,9,-999.000,9,-999.0000,9, -999.00,9, -999.00,9,  -999.0,9,  -999.0,     1.6695,-999.0000,-999.000,-999.000
31WTTUNES_3,       P16C,     269,          1,          3,          3,2,19910915,       1225,     0.1530,  -150.9972,       3773,  3049.0,   1.6785,  34.6744,2,  34.6732,2,    136.0,2,   135.8,2, -999.00,9, -999.00,9, -999.00,9, -999.00,9,-999.000,9,-999.000,9,  -999.0,9,  -999.0,9,-999.000,9,-999.0000,9, -999.00,9, -999.00,9,  -999.0,9,  -999.0,     1.4531,-999.0000,-999.000,-999.000
31WTTUNES_3,       P16C,     269,          1,          2,          2,2,19910915,       1225,     0.1530,  -150.9972,       3773,  3569.5,   1.5047,  34.6857,2,  34.6850,2,    153.0,2,   151.7,2, -999.00,9, -999.00,9, -999.00,9, -999.00,9,-999.000,9,-999.000,9,  -999.0,9,  -999.0,9,-999.000,9,-999.0000,9, -999.00,9, -999.00,9,  -999.0,9,  -999.0,     1.2313,-999.0000,-999.000,-999.000
31WTTUNES_3,       P16C,     269,          1,          1,          1,2,19910915,       1225,     0.1530,  -150.9972,       3773,  3817.0,   1.4097,  34.6928,2,  34.6916,2,    162.1,2,   161.2,2, -999.00,9, -999.00,9, -999.00,9, -999.00,9,-999.000,9,-999.000,9,  -999.0,9,  -999.0,9,-999.000,9,-999.0000,9, -999.00,9, -999.00,9,  -999.0,9,  -999.0,     1.1128,-999.0000,-999.000,-999.000