BOTTLE,20211117CCHSIORKP
EXPOCODE,SECT_ID,STNNBR,CASTNO,SAMPNO,BTLNBR,BTLNBR_FLAG_W,DATE,TIME,LATITUDE,LONGITUDE,DEPTH,CTDPRS,CTDTMP,CTDSAL,CTDSAL_FLAG_W,SALNTY,SALNTY_FLAG_W,CTDOXY,CTDOXY_FLAG_W,OXYGEN,OXYGEN_FLAG_W,SILCAT,SILCAT_FLAG_W,NITRAT,NITRAT_FLAG_W,NITRIT,NITRIT_FLAG_W,PHSPHT,PHSPHT_FLAG_W,CFC-11,CFC-11_FLAG_W,CFC-12,CFC-12_FLAG_W,TCARBN,TCARBN_FLAG_W,ALKALI,ALKALI_FLAG_W,TRITUM,TRITUM_FLAG_W,HELIUM,HELIUM_FLAG_W,DELHE3,DELHE3_FLAG_W,DELC13,DELC13_FLAG_W,DELC14,DELC14_FLAG_W,C14ERR,THETA,HELIER,DELHER,TRITER
,,,,,,,,,,,METERS,DBAR,ITS-90,PSS-78,,PSS-78,,UMOL/KG,,UMOL/KG,,UMOL/KG,,UMOL/KG,,UMOL/KG,,UMOL/KG,,PMOL/KG,,PMOL/KG,,UMOL/KG,,UMOL/KG,,TU,,NMOL/KG,,PERCNT,,/MILLE,,/MILLE,,/MILLE,ITS-90,NMOL/KG,PERCNT,TU
31WTTUNES_3,       P16C,     297,          1,         36,         36,2,19910922,       0316,     8.4342,  -151.6477,       5147,     6.6,  28.7660,  33.7276,2,  33.7527,2,    212.5,3,   217.4,2,    2.25,2,    0.10,2,    0.00,2,    0.12,2,-999.000,9,-999.000,9,  -999.0,9,  -999.0,9,-999.000,9,-999.0000,9, -999.00,9, -999.00,9,  -999.0,9,  -999.0,    28.7644,-999.0000,-999.000,-999.000
31WTTUNES_3,       P16C,     297,          1,         35,         35,2,19910922,       0316,     8.4342,  -151.6477,       5147,    47.2,  28.3970,  34.1667,2,  34.2085,2,    217.4,2,   219.9,2,    2.27,2,    0.05,2,    0.00,2,    0.14,2,-999.000,9,-999.000,9,  -999.0,9,  -999.0,9,-999.000,9,-999.0000,9, -999.00,9, -999.00,9,  -999.0,9,  -999.0,    28.3858,-999.0000,-999.000,-999.000
31WTTUNES_3,       P16C,     297,          1,         34,         34,2,19910922,       0316,     8.4342,  -151.6477,       5147,    88.3,  16.4337,  34.4990,2,  34.5270,2,    137.9,2,   138.8,2,    9.61,2,   10.44,2,    0.50,2,    1.08,2,-999.000,9,-999.000,9,  -999.0,9,  -999.0,9,-999.000,9,-999.0000,9, -999.00,9, -999.00,9,  -999.0,9,  -999.0,    16.4195,-999.0000,-999.000,-999.000
31WTTUNES_3,       P16C,     297,          1,         33,         33,2,19910922,       0316,     8.4342,  -151.6477,       5147,   129.0,  12.1387,  34.6602,2,  34.6816,2,     27.8,2,    15.2,2,   28.24,2,   32.39,2,    0.02,2,    2.41,2,-999.000,9,-999.000,9,  -999.0,9,  -999.0,9,-999.000,9,-999.0000,9, -999.00,9, -999.00,9,  -999.0,9,  -999.0,    12.1219,-999.0000,-999.000,-999.000
31WTTUNES_3,       P16C,     297,          1,         32,         32,2,19910922,       0316,     8.4342,  -151.6477,       5147,   169.3,  11.2481,  34.7089,2,  34.7036,2,     14.5,2,    20.6,2,   30.64,2,   33.30,2,    0.01,2,    2.41,2,-999.000,9,-999.000,9,  -999.0,9,  -999.0,9,-999.000,9,-999.0000,9, -999.00,9, -999.00,9,  -999.0,9,  -999.0,    11.2270,-999.0000,-999.000,-999.000
31WTTUNES_3,       P16C,     297,          1,         31,         31,2,19910922,       0316,     8.4342,  -151.6477,       5147,   210.9,  10.5838,  34.6947,2,  34.6940,2,     24.4,2,    27.2,2,   32.23,2,   33.65,2,    0.01,2,    2.42,2,-999.000,9,-999.000,9,  -999.0,9,  -999.0,9,-999.000,9,-999.0000,9, -999.00,9, -999.00,9,  -999.0,9,  -999.0,    10.5585,-999.0000,-999.000,-999.000
31WTTUNES_3,       P16C,     297,          1,         30,         30,2,19910922,       0316,     8.4342,  -151.6477,       5147,   261.9,  10.0326,  34.6856,2,  34.6840,2,     26.3,2,    26.9,2,   34.03,2,   34.71,2,    0.00,2,    2.47,2,-999.000,9,-999.000,9,  -999.0,9,  -999.0,9,-999.000,9,-999.0000,9, -999.00,9, -999.00,9,  -999.0,9,  -999.0,    10.0022,-999.0000,-999.000,-999.000
31WTTUNES_3,       P16C,     297,          1,         29,         29,2,19910922,       0316,     8.4342,  -151.6477,       5147,   313.2,   9.6153,  34.6731,2,  34.6724,2,     24.7,2,    23.1,2,   35.83,2,   35.64,2,    0.01,2,    2.54,2,-999.000,9,-999.000,9,  -999.0,9,  -999.0,9,-999.000,9,-999.0000,9, -999.00,9, -999.00,9,  -999.0,9,  -999.0,     9.5798,-999.0000,-999.000,-999.000
31WTTUNES_3,       P16C,     297,          1,         28,         28,2,19910922,       0316,     8.4342,  -151.6477,       5147,   362.3,   9.3286,  34.6591,2,  34.6612,2,     24.9,2,    22.6,2,   37.42,2,   36.25,2,    0.00,2,    2.59,2,-999.000,9,-999.000,9,  -999.0,9,  -999.0,9,-999.000,9,-999.0000,9, -999.00,9, -999.00,9,  -999.0,9,  -999.0,     9.2882,-999.0000,-999.000,-999.000
31WTTUNES_3,       P16C,     297,          1,         27,         27,2,19910922,       0316,     8.4342,  -151.6477,       5147,   414.7,   8.9387,  34.6386,2,  34.6374,2,     18.4,2,    15.8,2,   41.59,2,   37.15,2,    0.00,2,    2.71,2,-999.000,9,-999.000,9,  -999.0,9,  -999.0,9,-999.000,9,-999.0000,9, -999.00,9, -999.00,9,  -999.0,9,  -999.0,     8.8934,-999.0000,-999.000,-999.000
31WTTUNES_3,       P16C,     297,          1,         26,         26,2,19910922,       0316,     8.4342,  -151.6477,       5147,   465.6,   8.3554,  34.6098,2,  34.6101,2,     12.2,2,    11.7,2,   47.15,2,   37.99,2,    0.00,2,    2.84,2,-999.000,9,-999.000,9,  -999.0,9,  -999.0,9,-999.000,9,-999.0000,9, -999.00,9, -999.00,9,  -999.0,9,  -999.0,     8.3065,-999.0000,-999.000,-999.000
31WTTUNES_3,       P16C,     297,          1,         25,         25,2,19910922,       0316,     8.4342,  -151.6477,       5147,   516.8,   7.7138,  34.5794,2,  34.5802,2,     14.4,2,    14.1,2,   53.50,2,   38.99,2,    0.00,2,    2.93,2,-999.000,9,-999.000,9,  -999.0,9,  -999.0,9,-999.000,9,-999.0000,9, -999.00,9, -999.00,9,  -999.0,9,  -999.0,     7.6619,-999.0000,-999.000,-999.000
31WTTUNES_3,       P16C,     297,          1,         24,         24,2,19910922,       0316,     8.4342,  -151.6477,       5147,   618.8,   6.7480,  34.5557,2,  34.5553,2,     17.0,2,    16.6,2,   63.40,2,   41.48,2,    0.00,2,    3.04,2,-999.000,9,-999.000,9,  -999.0,9,  -999.0,9,-999.000,9,-999.0000,9, -999.00,9, -999.00,9,  -999.0,9,  -999.0,     6.6899,-999.0000,-999.000,-999.000
31WTTUNES_3,       P16C,     297,          1,         23,         23,2,19910922,       0316,     8.4342,  -151.6477,       5147,   720.6,   6.0190,  34.5479,2,  34.5474,2,     22.9,2,    23.0,2,   70.73,2,   42.81,2,    0.00,2,    3.08,2,-999.000,9,-999.000,9,  -999.0,9,  -999.0,9,-999.000,9,-999.0000,9, -999.00,9, -999.00,9,  -999.0,9,  -999.0,     5.9548,-999.0000,-999.000,-999.000
31WTTUNES_3,       P16C,     297,          1,         22,         22,2,19910922,       0316,     8.4342,  -151.6477,       5147,   822.3,   5.4164,  34.5478,2,  34.5482,2,     34.0,2,    33.7,2,   79.85,2,   43.35,2,    0.00,2,    3.09,2,-999.000,9,-999.000,9,  -999.0,9,  -999.0,9,-999.000,9,-999.0000,9, -999.00,9, -999.00,9,  -999.0,9,  -999.0,     5.3463,-999.0000,-999.000,-999.000
31WTTUNES_3,       P16C,     297,          1,         21,         21,2,19910922,       0316,     8.4342,  -151.6477,       5147,   924.5,   4.9452,  34.5526,2,  34.5561,2,     41.8,2,    42.1,2,   87.97,2,   43.10,2,    0.00,2,    3.07,2,-999.000,9,-999.000,9,  -999.0,9,  -999.0,9,-999.000,9,-999.0000,9, -999.00,9, -999.00,9,  -999.0,9,  -999.0,     4.8689,-999.0000,-999.000,-999.000
31WTTUNES_3,       P16C,     297,          1,         20,         20,2,19910922,       0316,     8.4342,  -151.6477,       5147,  1026.8,   4.5308,  34.5592,2,  34.5596,2,     49.6,2,    49.2,2,   95.10,2,   42.74,2,    0.00,2,    3.05,2,-999.000,9,-999.000,9,  -999.0,9,  -999.0,9,-999.000,9,-999.0000,9, -999.00,9, -999.00,9,  -999.0,9,  -999.0,     4.4486,-999.0000,-999.000,-999.000
31WTTUNES_3,       P16C,     297,          1,         19,         19,2,19910922,       0316,     8.4342,  -151.6477,       5147,  1232.1,   3.8002,  34.5792,2,  34.5793,2,     56.1,2,    55.6,2,  111.52,2,   42.77,2,    0.00,2,    3.06,2,-999.000,9,-999.000,9,  -999.0,9,  -999.0,9,-999.000,9,   1.8730,2,   21.17,2, -999.00,9,  -999.0,9,  -999.0,     3.7066,-999.0000,-999.000,-999.000
31WTTUNES_3,       P16C,     297,          1,         18,         18,2,19910922,       0316,     8.4342,  -151.6477,       5147,  1437.3,   3.2916,  34.5967,2,  34.5957,2,     66.5,2,    66.2,2,  122.80,2,   42.08,2,    0.00,2,    3.00,2,-999.000,9,-999.000,9,  -999.0,9,  -999.0,9,-999.000,9,   1.8830,2,   23.47,2, -999.00,9,  -999.0,9,  -999.0,     3.1856,-999.0000,-999.000,-999.000
31WTTUNES_3,       P16C,     297,          1,         17,         17,2,19910922,       0316,     8.4342,  -151.6477,       5147,  1642.1,   2.8404,  34.6128,2,  34.6103,2,     79.1,2,    78.0,2,  131.70,2,   41.22,2,    0.00,2,    2.92,2,-999.000,9,-999.000,9,  -999.0,9,  -999.0,9,-999.000,9,   1.8820,2,   25.26,2, -999.00,9,  -999.0,9,  -999.0,     2.7224,-999.0000,-999.000,-999.000
31WTTUNES_3,       P16C,     297,          1,         16,         16,2,19910922,       0316,     8.4342,  -151.6477,       5147,  1849.5,   2.5222,  34.6261,2,  34.6240,2,     88.7,2,    88.5,2,  138.82,2,   40.66,2,    0.00,2,    2.86,2,-999.000,9,-999.000,9,  -999.0,9,  -999.0,9,-999.000,9,   1.8950,2,   26.11,2, -999.00,9,  -999.0,9,  -999.0,     2.3908,-999.0000,-999.000,-999.000
31WTTUNES_3,       P16C,     297,          1,         15,         15,2,19910922,       0316,     8.4342,  -151.6477,       5147,  2054.6,   2.2440,  34.6392,2,  34.6364,2,     95.9,2,    94.7,2,  145.15,2,   40.10,2,    0.00,2,    2.82,2,-999.000,9,-999.000,9,  -999.0,9,  -999.0,9,-999.000,9,   1.9070,2,   27.22,2, -999.00,9,  -999.0,9,  -999.0,     2.0991,-999.0000,-999.000,-999.000
31WTTUNES_3,       P16C,     297,          1,         14,         14,2,19910922,       0316,     8.4342,  -151.6477,       5147,  2259.9,   2.0409,  34.6515,2,  34.6484,2,    102.6,2,   101.8,2,  150.09,2,   39.59,2,    0.00,2,    2.77,2,-999.000,9,-999.000,9,  -999.0,9,  -999.0,9,-999.000,9,   1.9320,2,   28.75,2, -999.00,9,  -999.0,9,  -999.0,     1.8814,-999.0000,-999.000,-999.000
31WTTUNES_3,       P16C,     297,          1,         13,         13,2,19910922,       0316,     8.4342,  -151.6477,       5147,  2415.2,   1.9446,  34.6587,2,  34.6561,2,    107.8,2,   107.2,2,  152.66,2,   39.08,2,    0.00,2,    2.74,2,-999.000,9,-999.000,9,  -999.0,9,  -999.0,9,-999.000,9,   1.9140,2,   29.99,2, -999.00,9,  -999.0,9,  -999.0,     1.7730,-999.0000,-999.000,-999.000
31WTTUNES_3,       P16C,     297,          1,         12,         12,2,19910922,       0316,     8.4342,  -151.6477,       5147,  2570.9,   1.8797,  34.6637,2,  34.6629,2,    110.8,2,   110.2,2,  154.84,2,   38.88,2,    0.00,2,    2.72,2,-999.000,9,-999.000,9,  -999.0,9,  -999.0,9,-999.000,9,   1.9380,2,   32.11,2, -999.00,9,  -999.0,9,  -999.0,     1.6953,-999.0000,-999.000,-999.000
31WTTUNES_3,       P16C,     297,          1,         11,         11,2,19910922,       0316,     8.4342,  -151.6477,       5147,  2725.1,   1.8264,  34.6661,2,  34.6649,2,    115.6,2,   115.1,2,  154.84,2,   38.62,2,    0.00,2,    2.70,2,-999.000,9,-999.000,9,  -999.0,9,  -999.0,9,-999.000,9,   1.9170,2,   30.96,2, -999.00,9,  -999.0,9,  -999.0,     1.6286,-999.0000,-999.000,-999.000
31WTTUNES_3,       P16C,     297,          1,         10,         10,2,19910922,       0316,     8.4342,  -151.6477,       5147,  2879.7,   1.7797,  34.6697,2,  34.6683,2,    118.6,2,   118.1,2,  155.83,2,   38.41,2,    0.00,2,    2.68,2,-999.000,9,-999.000,9,  -999.0,9,  -999.0,9,-999.000,9,   1.9480,2,   30.32,2, -999.00,9,  -999.0,9,  -999.0,     1.5683,-999.0000,-999.000,-999.000
31WTTUNES_3,       P16C,     297,          1,          9,          9,2,19910922,       0316,     8.4342,  -151.6477,       5147,  3139.2,   1.7071,  34.6741,2,  34.6747,2,    124.7,2,   124.6,2,  156.42,2,   38.01,2,    0.00,2,    2.64,2,-999.000,9,-999.000,9,  -999.0,9,  -999.0,9,-999.000,9,   1.9210,2,   27.81,2, -999.00,9,  -999.0,9,  -999.0,     1.4721,-999.0000,-999.000,-999.000
31WTTUNES_3,       P16C,     297,          1,          8,          8,2,19910922,       0316,     8.4342,  -151.6477,       5147,  3398.4,   1.5838,  34.6802,2,  34.6810,2,    134.4,2,   134.2,2,  155.82,2,   37.35,2,    0.00,2,    2.58,2,-999.000,9,-999.000,9,  -999.0,9,  -999.0,9,-999.000,9,   1.9130,2,   23.64,2, -999.00,9,  -999.0,9,  -999.0,     1.3260,-999.0000,-999.000,-999.000
31WTTUNES_3,       P16C,     297,          1,          7,          7,2,19910922,       0316,     8.4342,  -151.6477,       5147,  3656.9,   1.5269,  34.6841,2,  34.6842,2,    144.7,2,   145.1,2,  151.68,2,   36.65,2,    0.00,2,    2.53,2,-999.000,9,-999.000,9,  -999.0,9,  -999.0,9,-999.000,9,   1.8920,2,   20.31,2, -999.00,9,  -999.0,9,  -999.0,     1.2439,-999.0000,-999.000,-999.000
31WTTUNES_3,       P16C,     297,          1,          6,          6,2,19910922,       0316,     8.4342,  -151.6477,       5147,  3917.1,   1.4722,  34.6883,2,  34.6881,2,    153.8,2,   153.7,2,  147.92,2,   35.99,2,    0.00,2,    2.49,2,-999.000,9,-999.000,9,  -999.0,9,  -999.0,9,-999.000,9,   1.9020,2,   18.35,2, -999.00,9,  -999.0,9,  -999.0,     1.1630,-999.0000,-999.000,-999.000
31WTTUNES_3,       P16C,     297,          1,          5,          5,2,19910922,       0316,     8.4342,  -151.6477,       5147,  4177.1,   1.4031,  34.6919,2,  34.6924,2,    164.3,2,   163.8,2,  143.78,2,   35.29,2,    0.00,2,    2.43,2,-999.000,9,-999.000,9,  -999.0,9,  -999.0,9,-999.000,9,   1.9080,2,   15.86,2, -999.00,9,  -999.0,9,  -999.0,     1.0674,-999.0000,-999.000,-999.000
31WTTUNES_3,       P16C,     297,          1,          4,          4,2,19910922,       0316,     8.4342,  -151.6477,       5147,  4437.1,   1.3833,  34.6940,2,  34.6942,2,    169.9,2,   169.7,2,  140.61,2,   34.83,2,    0.00,2,    2.40,2,-999.000,9,-999.000,9,  -999.0,9,  -999.0,9,-999.000,9,   1.8860,2,   15.28,2, -999.00,9,  -999.0,9,  -999.0,     1.0191,-999.0000,-999.000,-999.000
31WTTUNES_3,       P16C,     297,          1,          3,          3,2,19910922,       0316,     8.4342,  -151.6477,       5147,  4697.3,   1.3944,  34.6948,2,  34.6960,2,    173.3,2,   172.7,2,  139.43,2,   34.62,2,    0.00,2,    2.40,2,-999.000,9,-999.000,9,  -999.0,9,  -999.0,9,-999.000,9,   1.8990,2,   14.86,2, -999.00,9,  -999.0,9,  -999.0,     0.9998,-999.0000,-999.000,-999.000
31WTTUNES_3,       P16C,     297,          1,          2,          2,2,19910922,       0316,     8.4342,  -151.6477,       5147,  4957.7,   1.4124,  34.6952,2,  34.6960,2,    175.6,2,   174.7,2,  138.65,2,   34.52,2,    0.00,2,    2.39,2,-999.000,9,-999.000,9,  -999.0,9,  -999.0,9,-999.000,9,   1.8890,2,   14.15,2, -999.00,9,  -999.0,9,  -999.0,     0.9862,-999.0000,-999.000,-999.000
31WTTUNES_3,       P16C,     297,          1,          1,          1,2,19910922,       0316,     8.4342,  -151.6477,       5147,  5215.0,   1.4406,  34.6954,2,  34.6963,2,    176.0,2,   177.9,2,  138.45,2,   34.46,2,    0.00,2,    2.37,2,-999.000,9,-999.000,9,  -999.0,9,  -999.0,9,-999.000,9,-999.0000,9, -999.00,9, -999.00,9,  -999.0,9,  -999.0,     0.9820,-999.0000,-999.000,-999.000