BOTTLE,20211117CCHSIORKP
EXPOCODE,SECT_ID,STNNBR,CASTNO,SAMPNO,BTLNBR,BTLNBR_FLAG_W,DATE,TIME,LATITUDE,LONGITUDE,DEPTH,CTDPRS,CTDTMP,CTDSAL,CTDSAL_FLAG_W,SALNTY,SALNTY_FLAG_W,CTDOXY,CTDOXY_FLAG_W,OXYGEN,OXYGEN_FLAG_W,SILCAT,SILCAT_FLAG_W,NITRAT,NITRAT_FLAG_W,NITRIT,NITRIT_FLAG_W,PHSPHT,PHSPHT_FLAG_W,CFC-11,CFC-11_FLAG_W,CFC-12,CFC-12_FLAG_W,TCARBN,TCARBN_FLAG_W,ALKALI,ALKALI_FLAG_W,TRITUM,TRITUM_FLAG_W,HELIUM,HELIUM_FLAG_W,DELHE3,DELHE3_FLAG_W,DELC13,DELC13_FLAG_W,DELC14,DELC14_FLAG_W,C14ERR,THETA,HELIER,DELHER,TRITER
,,,,,,,,,,,METERS,DBAR,ITS-90,PSS-78,,PSS-78,,UMOL/KG,,UMOL/KG,,UMOL/KG,,UMOL/KG,,UMOL/KG,,UMOL/KG,,PMOL/KG,,PMOL/KG,,UMOL/KG,,UMOL/KG,,TU,,NMOL/KG,,PERCNT,,/MILLE,,/MILLE,,/MILLE,ITS-90,NMOL/KG,PERCNT,TU
31WTTUNES_3,       P16C,     315,          1,         36,         36,2,19910928,       0744,    17.2813,  -153.3630,       5096,     8.2,  26.6708,  34.6060,2,  34.6097,2,    215.1,3,   219.8,2,    1.66,2,    0.10,2,    0.00,2,    0.15,2,-999.000,9,-999.000,9,  -999.0,9,  -999.0,9,-999.000,9,-999.0000,9, -999.00,9, -999.00,9,  -999.0,9,  -999.0,    26.6689,-999.0000,-999.000,-999.000
31WTTUNES_3,       P16C,     315,          1,         35,         35,2,19910928,       0744,    17.2813,  -153.3630,       5096,    49.0,  26.6465,  34.6061,2,  34.6034,2,    209.6,2,   220.1,2,    1.66,2,    0.11,2,    0.00,2,    0.15,2,-999.000,9,-999.000,9,  -999.0,9,  -999.0,9,-999.000,9,-999.0000,9, -999.00,9, -999.00,9,  -999.0,9,  -999.0,    26.6354,-999.0000,-999.000,-999.000
31WTTUNES_3,       P16C,     315,          1,         34,         34,2,19910928,       0744,    17.2813,  -153.3630,       5096,    89.3,  24.8422,  34.7475,2,  34.8595,2,    229.3,2,   225.0,2,    2.07,2,    0.12,2,    0.00,2,    0.14,2,-999.000,9,-999.000,9,  -999.0,9,  -999.0,9,-999.000,9,-999.0000,9, -999.00,9, -999.00,9,  -999.0,9,  -999.0,    24.8229,-999.0000,-999.000,-999.000
31WTTUNES_3,       P16C,     315,          1,         33,         33,2,19910928,       0744,    17.2813,  -153.3630,       5096,   129.9,  22.4770,  35.0495,2,  35.0736,2,    227.0,2,   226.4,2,    2.07,2,    0.18,2,    0.00,2,    0.13,2,-999.000,9,-999.000,9,  -999.0,9,  -999.0,9,-999.000,9,-999.0000,9, -999.00,9, -999.00,9,  -999.0,9,  -999.0,    22.4509,-999.0000,-999.000,-999.000
31WTTUNES_3,       P16C,     315,          1,         32,         32,2,19910928,       0744,    17.2813,  -153.3630,       5096,   170.6,  18.9773,  34.8136,2,  34.8542,2,    187.6,2,   193.9,2,    2.89,2,    0.92,2,    0.16,2,    0.34,2,-999.000,9,-999.000,9,  -999.0,9,  -999.0,9,-999.000,9,-999.0000,9, -999.00,9, -999.00,9,  -999.0,9,  -999.0,    18.9470,-999.0000,-999.000,-999.000
31WTTUNES_3,       P16C,     315,          1,         31,         31,2,19910928,       0744,    17.2813,  -153.3630,       5096,   211.2,  14.7710,  34.4076,2,  34.4709,2,    137.3,2,   142.0,2,    9.55,2,   11.85,2,    0.01,2,    1.03,2,-999.000,9,-999.000,9,  -999.0,9,  -999.0,9,-999.000,9,-999.0000,9, -999.00,9, -999.00,9,  -999.0,9,  -999.0,    14.7395,-999.0000,-999.000,-999.000
31WTTUNES_3,       P16C,     315,          1,         30,         30,2,19910928,       0744,    17.2813,  -153.3630,       5096,   262.5,  11.5069,  34.1762,2,  34.1738,2,    183.7,2,   177.5,2,   16.03,2,   14.64,2,    0.00,2,    1.20,2,-999.000,9,-999.000,9,  -999.0,9,  -999.0,9,-999.000,9,-999.0000,9, -999.00,9, -999.00,9,  -999.0,9,  -999.0,    11.4738,-999.0000,-999.000,-999.000
31WTTUNES_3,       P16C,     315,          1,         29,         29,2,19910928,       0744,    17.2813,  -153.3630,       5096,   312.0,   9.5365,  34.1137,2,  34.1134,2,    168.2,2,   153.3,2,   29.76,2,   22.37,2,    0.00,2,    1.69,2,-999.000,9,-999.000,9,  -999.0,9,  -999.0,9,-999.000,9,-999.0000,9, -999.00,9, -999.00,9,  -999.0,9,  -999.0,     9.5016,-999.0000,-999.000,-999.000
31WTTUNES_3,       P16C,     315,          1,         28,         28,2,19910928,       0744,    17.2813,  -153.3630,       5096,   364.6,   8.1127,  34.1008,2,  34.1611,2,    117.1,2,    93.4,2,   45.11,2,   29.72,2,    0.00,2,    2.28,2,-999.000,9,-999.000,9,  -999.0,9,  -999.0,9,-999.000,9,-999.0000,9, -999.00,9, -999.00,9,  -999.0,9,  -999.0,     8.0756,-999.0000,-999.000,-999.000
31WTTUNES_3,       P16C,     315,          1,         27,         27,2,19910928,       0744,    17.2813,  -153.3630,       5096,   415.2,   7.4317,  34.2123,2,  34.2270,2,     63.9,2,    50.6,2,   58.63,2,   34.99,2,    0.00,2,    2.69,2,-999.000,9,-999.000,9,  -999.0,9,  -999.0,9,-999.000,9,-999.0000,9, -999.00,9, -999.00,9,  -999.0,9,  -999.0,     7.3914,-999.0000,-999.000,-999.000
31WTTUNES_3,       P16C,     315,          1,         26,         26,2,19910928,       0744,    17.2813,  -153.3630,       5096,   466.0,   6.8379,  34.2781,2,  34.3144,2,     38.2,2,    29.9,2,   65.10,2,   37.37,2,    0.00,2,    2.87,2,-999.000,9,-999.000,9,  -999.0,9,  -999.0,9,-999.000,9,-999.0000,9, -999.00,9, -999.00,9,  -999.0,9,  -999.0,     6.7945,-999.0000,-999.000,-999.000
31WTTUNES_3,       P16C,     315,          1,         25,         25,2,19910928,       0744,    17.2813,  -153.3630,       5096,   518.4,   6.3987,  34.2887,2,  34.3631,2,     29.7,2,    23.7,2,   71.98,2,   39.20,2,    0.00,2,    2.97,2,-999.000,9,-999.000,9,  -999.0,9,  -999.0,9,-999.000,9,-999.0000,9, -999.00,9, -999.00,9,  -999.0,9,  -999.0,     6.3519,-999.0000,-999.000,-999.000
31WTTUNES_3,       P16C,     315,          1,         24,         24,2,19910928,       0744,    17.2813,  -153.3630,       5096,   620.0,   5.7961,  34.4166,2,  34.4316,2,     25.7,2,    26.6,2,   80.66,2,   40.87,2,    0.00,2,    3.05,2,-999.000,9,-999.000,9,  -999.0,9,  -999.0,9,-999.000,9,-999.0000,9, -999.00,9, -999.00,9,  -999.0,9,  -999.0,     5.7425,-999.0000,-999.000,-999.000
31WTTUNES_3,       P16C,     315,          1,         23,         23,2,19910928,       0744,    17.2813,  -153.3630,       5096,   723.1,   5.2848,  34.4576,2,  34.4744,2,     32.2,2,    34.8,2,   88.94,2,   41.60,2,    0.00,2,    3.04,2,-999.000,9,-999.000,9,  -999.0,9,  -999.0,9,-999.000,9,-999.0000,9, -999.00,9, -999.00,9,  -999.0,9,  -999.0,     5.2244,-999.0000,-999.000,-999.000
31WTTUNES_3,       P16C,     315,          1,         22,         22,2,19910928,       0744,    17.2813,  -153.3630,       5096,   825.2,   4.9434,  34.4999,2,  34.5019,2,     34.8,2,    34.7,2,   93.18,2,   42.38,2,    0.00,2,    3.08,2,-999.000,9,-999.000,9,  -999.0,9,  -999.0,9,-999.000,9,-999.0000,9, -999.00,9, -999.00,9,  -999.0,9,  -999.0,     4.8761,-999.0000,-999.000,-999.000
31WTTUNES_3,       P16C,     315,          1,         21,         21,2,19910928,       0744,    17.2813,  -153.3630,       5096,   925.2,   4.5505,  34.5191,2,  34.5186,2,     35.2,2,    35.4,2,  100.66,2,   42.86,2,    0.00,2,    3.12,2,-999.000,9,-999.000,9,  -999.0,9,  -999.0,9,-999.000,9,-999.0000,9, -999.00,9, -999.00,9,  -999.0,9,  -999.0,     4.4770,-999.0000,-999.000,-999.000
31WTTUNES_3,       P16C,     315,          1,         20,         20,2,19910928,       0744,    17.2813,  -153.3630,       5096,  1028.1,   4.1620,  34.5299,2,  34.5303,2,     45.0,2,    45.6,2,  107.95,2,   42.34,2,    0.00,2,    3.09,2,-999.000,9,-999.000,9,  -999.0,9,  -999.0,9,-999.000,9,-999.0000,9, -999.00,9, -999.00,9,  -999.0,9,  -999.0,     4.0827,-999.0000,-999.000,-999.000
31WTTUNES_3,       P16C,     315,          1,         19,         19,2,19910928,       0744,    17.2813,  -153.3630,       5096,  1226.9,   3.5492,  34.5523,2,  34.5510,2,     55.6,2,    53.9,2,  121.07,2,   42.03,2,    0.00,2,    3.03,2,-999.000,9,-999.000,9,  -999.0,9,  -999.0,9,-999.000,9,-999.0000,9, -999.00,9, -999.00,9,  -999.0,9,  -999.0,     3.4585,-999.0000,-999.000,-999.000
31WTTUNES_3,       P16C,     315,          1,         18,         18,2,19910928,       0744,    17.2813,  -153.3630,       5096,  1434.1,   3.0246,  34.5828,2,  34.5818,2,     65.2,2,    63.4,2,  131.99,2,   41.88,2,    0.00,2,    2.99,2,-999.000,9,-999.000,9,  -999.0,9,  -999.0,9,-999.000,9,-999.0000,9, -999.00,9, -999.00,9,  -999.0,9,  -999.0,     2.9220,-999.0000,-999.000,-999.000
31WTTUNES_3,       P16C,     315,          1,         17,         17,2,19910928,       0744,    17.2813,  -153.3630,       5096,  1643.5,   2.6300,  34.5991,2,  34.5999,2,     75.7,2,    75.5,2,  141.49,2,   40.94,2,    0.00,2,    2.92,2,-999.000,9,-999.000,9,  -999.0,9,  -999.0,9,-999.000,9,-999.0000,9, -999.00,9, -999.00,9,  -999.0,9,  -999.0,     2.5146,-999.0000,-999.000,-999.000
31WTTUNES_3,       P16C,     315,          1,         16,         16,2,19910928,       0744,    17.2813,  -153.3630,       5096,  1849.6,   2.3388,  34.6144,2,  34.6160,2,     86.2,2,    86.4,2,  147.95,2,   40.27,2,    0.00,2,    2.85,2,-999.000,9,-999.000,9,  -999.0,9,  -999.0,9,-999.000,9,-999.0000,9, -999.00,9, -999.00,9,  -999.0,9,  -999.0,     2.2101,-999.0000,-999.000,-999.000
31WTTUNES_3,       P16C,     315,          1,         15,         15,2,19910928,       0744,    17.2813,  -153.3630,       5096,  2057.4,   2.1260,  34.6294,2,  34.6309,2,     94.8,2,    95.7,2,  152.41,2,   39.65,2,    0.00,2,    2.81,2,-999.000,9,-999.000,9,  -999.0,9,  -999.0,9,-999.000,9,-999.0000,9, -999.00,9, -999.00,9,  -999.0,9,  -999.0,     1.9827,-999.0000,-999.000,-999.000
31WTTUNES_3,       P16C,     315,          1,         14,         14,2,19910928,       0744,    17.2813,  -153.3630,       5096,  2262.2,   1.9688,  34.6404,2,  34.6417,2,    102.6,2,   103.3,2,  155.24,2,   39.24,2,    0.00,2,    2.77,2,-999.000,9,-999.000,9,  -999.0,9,  -999.0,9,-999.000,9,-999.0000,9, -999.00,9, -999.00,9,  -999.0,9,  -999.0,     1.8105,-999.0000,-999.000,-999.000
31WTTUNES_3,       P16C,     315,          1,         13,         13,2,19910928,       0744,    17.2813,  -153.3630,       5096,  2416.7,   1.8754,  34.6484,2,  34.6480,2,    108.2,2,   108.3,2,  157.07,2,   38.99,2,    0.00,2,    2.73,2,-999.000,9,-999.000,9,  -999.0,9,  -999.0,9,-999.000,9,-999.0000,9, -999.00,9, -999.00,9,  -999.0,9,  -999.0,     1.7050,-999.0000,-999.000,-999.000
31WTTUNES_3,       P16C,     315,          1,         12,         12,2,19910928,       0744,    17.2813,  -153.3630,       5096,  2571.1,   1.7944,  34.6529,2,  34.6547,2,    113.0,2,   113.0,2,  158.50,2,   38.73,2,    0.00,2,    2.72,2,-999.000,9,-999.000,9,  -999.0,9,  -999.0,9,-999.000,9,-999.0000,9, -999.00,9, -999.00,9,  -999.0,9,  -999.0,     1.6115,-999.0000,-999.000,-999.000
31WTTUNES_3,       P16C,     315,          1,         11,         11,2,19910928,       0744,    17.2813,  -153.3630,       5096,  2725.1,   1.7283,  34.6602,2,  34.6606,2,    117.3,2,   117.9,2,  159.32,2,   38.31,2,    0.00,2,    2.69,2,-999.000,9,-999.000,9,  -999.0,9,  -999.0,9,-999.000,9,-999.0000,9, -999.00,9, -999.00,9,  -999.0,9,  -999.0,     1.5325,-999.0000,-999.000,-999.000
31WTTUNES_3,       P16C,     315,          1,         10,         10,2,19910928,       0744,    17.2813,  -153.3630,       5096,  2883.9,   1.6782,  34.6621,2,  34.6633,2,    121.2,2,   121.2,2,  160.14,2,   38.27,2,    0.00,2,    2.67,2,-999.000,9,-999.000,9,  -999.0,9,  -999.0,9,-999.000,9,-999.0000,9, -999.00,9, -999.00,9,  -999.0,9,  -999.0,     1.4686,-999.0000,-999.000,-999.000
31WTTUNES_3,       P16C,     315,          1,          9,          9,2,19910928,       0744,    17.2813,  -153.3630,       5096,  3089.9,   1.6166,  34.6698,2,  34.6690,2,    126.0,2,   125.8,2,  161.36,2,   37.85,2,    0.00,2,    2.64,2,-999.000,9,-999.000,9,  -999.0,9,  -999.0,9,-999.000,9,-999.0000,9, -999.00,9, -999.00,9,  -999.0,9,  -999.0,     1.3887,-999.0000,-999.000,-999.000
31WTTUNES_3,       P16C,     315,          1,          8,          8,2,19910928,       0744,    17.2813,  -153.3630,       5096,  3349.0,   1.5656,  34.6754,2,  34.6749,2,    132.1,2,   131.7,2,  161.57,2,   37.50,2,    0.00,2,    2.61,2,-999.000,9,-999.000,9,  -999.0,9,  -999.0,9,-999.000,9,-999.0000,9, -999.00,9, -999.00,9,  -999.0,9,  -999.0,     1.3132,-999.0000,-999.000,-999.000
31WTTUNES_3,       P16C,     315,          1,          7,          7,2,19910928,       0744,    17.2813,  -153.3630,       5096,  3605.2,   1.5133,  34.6789,2,  34.6806,2,    139.1,2,   138.9,2,  159.76,2,   36.87,2,    0.00,2,    2.58,2,-999.000,9,-999.000,9,  -999.0,9,  -999.0,9,-999.000,9,-999.0000,9, -999.00,9, -999.00,9,  -999.0,9,  -999.0,     1.2361,-999.0000,-999.000,-999.000
31WTTUNES_3,       P16C,     315,          1,          6,          6,2,19910928,       0744,    17.2813,  -153.3630,       5096,  3866.3,   1.4763,  34.6829,2,  34.6824,2,    146.9,2,   147.0,2,  156.94,2,   36.63,2,    0.00,2,    2.53,2,-999.000,9,-999.000,9,  -999.0,9,  -999.0,9,-999.000,9,-999.0000,9, -999.00,9, -999.00,9,  -999.0,9,  -999.0,     1.1725,-999.0000,-999.000,-999.000
31WTTUNES_3,       P16C,     315,          1,          5,          5,2,19910928,       0744,    17.2813,  -153.3630,       5096,  4123.9,   1.4513,  34.6864,2,  34.6840,2,    154.1,2,   153.2,2,  153.72,2,   36.12,2,    0.00,2,    2.51,2,-999.000,9,-999.000,9,  -999.0,9,  -999.0,9,-999.000,9,-999.0000,9, -999.00,9, -999.00,9,  -999.0,9,  -999.0,     1.1201,-999.0000,-999.000,-999.000
31WTTUNES_3,       P16C,     315,          1,          4,          4,2,19910928,       0744,    17.2813,  -153.3630,       5096,  4381.3,   1.4467,  34.6887,2,  34.6879,2,    159.4,2,   157.9,2,  150.50,2,   35.65,2,    0.00,2,    2.47,2,-999.000,9,-999.000,9,  -999.0,9,  -999.0,9,-999.000,9,-999.0000,9, -999.00,9, -999.00,9,  -999.0,9,  -999.0,     1.0868,-999.0000,-999.000,-999.000
31WTTUNES_3,       P16C,     315,          1,          3,          3,2,19910928,       0744,    17.2813,  -153.3630,       5096,  4643.4,   1.4416,  34.6914,2,  34.6901,2,    164.7,2,   164.1,2,  146.68,2,   35.29,2,    0.00,2,    2.45,2,-999.000,9,-999.000,9,  -999.0,9,  -999.0,9,-999.000,9,-999.0000,9, -999.00,9, -999.00,9,  -999.0,9,  -999.0,     1.0517,-999.0000,-999.000,-999.000
31WTTUNES_3,       P16C,     315,          1,          2,          2,2,19910928,       0744,    17.2813,  -153.3630,       5096,  4905.8,   1.4358,  34.6937,2,  34.6920,2,    170.3,2,   169.0,2,  142.44,2,   34.94,2,    0.00,2,    2.41,2,-999.000,9,-999.000,9,  -999.0,9,  -999.0,9,-999.000,9,-999.0000,9, -999.00,9, -999.00,9,  -999.0,9,  -999.0,     1.0151,-999.0000,-999.000,-999.000
31WTTUNES_3,       P16C,     315,          1,          1,          1,2,19910928,       0744,    17.2813,  -153.3630,       5096,  5161.0,   1.4302,  34.6948,2,  34.6961,2,    175.6,2,   175.4,2,  139.22,2,   34.53,2,    0.00,2,    2.40,2,-999.000,9,-999.000,9,  -999.0,9,  -999.0,9,-999.000,9,-999.0000,9, -999.00,9, -999.00,9,  -999.0,9,  -999.0,     0.9786,-999.0000,-999.000,-999.000