BOTTLE,20211117CCHSIORKP
EXPOCODE,SECT_ID,STNNBR,CASTNO,SAMPNO,BTLNBR,BTLNBR_FLAG_W,DATE,TIME,LATITUDE,LONGITUDE,DEPTH,CTDPRS,CTDTMP,CTDSAL,CTDSAL_FLAG_W,SALNTY,SALNTY_FLAG_W,CTDOXY,CTDOXY_FLAG_W,OXYGEN,OXYGEN_FLAG_W,SILCAT,SILCAT_FLAG_W,NITRAT,NITRAT_FLAG_W,NITRIT,NITRIT_FLAG_W,PHSPHT,PHSPHT_FLAG_W,CFC-11,CFC-11_FLAG_W,CFC-12,CFC-12_FLAG_W,TCARBN,TCARBN_FLAG_W,ALKALI,ALKALI_FLAG_W,TRITUM,TRITUM_FLAG_W,HELIUM,HELIUM_FLAG_W,DELHE3,DELHE3_FLAG_W,DELC13,DELC13_FLAG_W,DELC14,DELC14_FLAG_W,C14ERR,THETA,HELIER,DELHER,TRITER
,,,,,,,,,,,METERS,DBAR,ITS-90,PSS-78,,PSS-78,,UMOL/KG,,UMOL/KG,,UMOL/KG,,UMOL/KG,,UMOL/KG,,UMOL/KG,,PMOL/KG,,PMOL/KG,,UMOL/KG,,UMOL/KG,,TU,,NMOL/KG,,PERCNT,,/MILLE,,/MILLE,,/MILLE,ITS-90,NMOL/KG,PERCNT,TU
31WTTUNES_3,       P16C,     234,          1,         36,         36,2,19910905,       1018,   -11.0123,  -151.0022,       5056,     5.3,  28.5486,  35.8760,2,  35.8694,2,    212.3,3,   210.1,2,    0.96,2,    1.00,2,    0.02,2,    0.31,2,   1.582,2,   0.886,2,  -999.0,9,  -999.0,9,-999.000,9,-999.0000,9, -999.00,9, -999.00,9,  -999.0,9,  -999.0,    28.5474,-999.0000,-999.000,-999.000
31WTTUNES_3,       P16C,     234,          1,         35,         35,2,19910905,       1018,   -11.0123,  -151.0022,       5056,    46.9,  28.4380,  35.9088,2,  35.8923,2,    205.2,2,   207.6,2,    1.15,2,    0.91,2,    0.02,2,    0.30,2,   1.584,2,   0.894,2,  -999.0,9,  -999.0,9,   1.038,2,   1.7030,2,   -1.01,2, -999.00,9,  -999.0,9,  -999.0,    28.4267,   0.0080,   0.150,   0.007
31WTTUNES_3,       P16C,     234,          1,         34,         34,2,19910905,       1018,   -11.0123,  -151.0022,       5056,    86.2,  28.1185,  36.1858,2,  36.1064,2,    205.6,2,   205.8,2,    1.35,2,    0.20,2,    0.00,2,    0.27,2,   1.601,2,   0.890,2,  -999.0,9,  -999.0,9,   0.998,2,   1.7070,2,   -1.18,2, -999.00,9,  -999.0,9,  -999.0,    28.0982,   0.0080,   0.150,   0.007
31WTTUNES_3,       P16C,     234,          1,         33,         33,2,19910905,       1018,   -11.0123,  -151.0022,       5056,   146.3,  24.5450,  36.3797,2,  36.3713,2,    177.0,2,   174.0,2,    1.35,2,    1.84,2,    1.08,2,    0.53,2,   1.790,2,   0.983,2,  -999.0,9,  -999.0,9,   0.794,2,   1.7140,2,   -0.73,2, -999.00,9,  -999.0,9,  -999.0,    24.5135,   0.0080,   0.150,   0.006
31WTTUNES_3,       P16C,     234,          1,         32,         32,2,19910905,       1018,   -11.0123,  -151.0022,       5056,   166.6,  23.4611,  36.3439,2,  36.3121,2,    175.4,2,   175.3,2,    1.14,2,    4.22,2,    0.05,2,    0.59,2,   1.779,2,   0.973,2,  -999.0,9,  -999.0,9,   0.770,2,   1.7280,2,   -0.82,2, -999.00,9,  -999.0,9,  -999.0,    23.4263,   0.0080,   0.150,   0.006
31WTTUNES_3,       P16C,     234,          1,         31,         31,2,19910905,       1018,   -11.0123,  -151.0022,       5056,   208.3,  21.5001,  36.0455,2,  36.0283,2,    174.0,2,   169.4,2,    1.34,2,    4.91,2,    0.01,2,    0.60,2,   1.794,2,   0.976,2,  -999.0,9,  -999.0,9,   0.708,2,   1.7340,2,   -0.34,2, -999.00,9,  -999.0,9,  -999.0,    21.4593,   0.0080,   0.150,   0.006
31WTTUNES_3,       P16C,     234,          1,         30,         30,2,19910905,       1018,   -11.0123,  -151.0022,       5056,   234.0,  19.9759,  35.7294,2,  35.7740,2,    167.7,2,   165.5,2,    1.92,2,    6.27,2,    0.01,2,    0.69,2,   1.688,2,   0.910,2,  -999.0,9,  -999.0,9,-999.000,9,-999.0000,9, -999.00,9, -999.00,9,  -999.0,9,  -999.0,    19.9325,-999.0000,-999.000,-999.000
31WTTUNES_3,       P16C,     234,          1,         29,         29,2,19910905,       1018,   -11.0123,  -151.0022,       5056,   259.6,  17.0987,  35.3522,2,  35.4689,2,    148.0,2,   154.4,2,    3.29,2,    8.71,2,    0.01,2,    0.88,2,   1.605,2,   0.860,2,  -999.0,9,  -999.0,9,   0.618,2,   1.7580,2,    0.16,2, -999.00,9,  -999.0,9,  -999.0,    17.0555,   0.0080,   0.150,   0.006
31WTTUNES_3,       P16C,     234,          1,         28,         28,2,19910905,       1018,   -11.0123,  -151.0022,       5056,   309.2,  13.5535,  34.8666,2,  35.0520,2,    104.3,2,   129.6,2,    6.43,2,   14.02,2,    0.00,2,    1.33,2,   1.259,2,   0.684,2,  -999.0,9,  -999.0,9,   0.502,2,   1.7740,2,    0.95,2, -999.00,9,  -999.0,9,  -999.0,    13.5098,   0.0080,   0.150,   0.005
31WTTUNES_3,       P16C,     234,          1,         27,         27,2,19910905,       1018,   -11.0123,  -151.0022,       5056,   360.1,   9.6073,  34.6062,2,  34.7058,2,     88.3,2,    77.6,2,   15.45,2,   24.48,2,    0.00,2,    2.07,2,   0.529,2,   0.287,2,  -999.0,9,  -999.0,9,-999.000,9,-999.0000,9, -999.00,9, -999.00,9,  -999.0,9,  -999.0,     9.5664,-999.0000,-999.000,-999.000
31WTTUNES_3,       P16C,     234,          1,         26,         26,3,19910905,       1018,   -11.0123,  -151.0022,       5056,   409.1,   8.5108,  34.5977,2,  35.3715,4,     98.3,2,   136.3,4,    9.56,4,   15.22,4,    0.01,4,    1.33,4,   1.118,2,   0.614,2,  -999.0,9,  -999.0,9,-999.000,9,-999.0000,9, -999.00,9, -999.00,9,  -999.0,9,  -999.0,     8.4675,-999.0000,-999.000,-999.000
31WTTUNES_3,       P16C,     234,          1,         25,         25,4,19910905,       1018,   -11.0123,  -151.0022,       5056,   510.2,   7.4194,  34.5777,2,-999.0000,9,     94.9,2,  -999.0,9, -999.00,9, -999.00,9, -999.00,9, -999.00,9,-999.000,9,-999.000,9,  -999.0,9,  -999.0,9,-999.000,9,-999.0000,9, -999.00,9, -999.00,9,  -999.0,9,  -999.0,     7.3692,-999.0000,-999.000,-999.000
31WTTUNES_3,       P16C,     234,          1,         24,         24,4,19910905,       1018,   -11.0123,  -151.0022,       5056,   612.2,   6.4637,  34.5435,2,-999.0000,9,     87.4,2,  -999.0,9, -999.00,9, -999.00,9, -999.00,9, -999.00,9,-999.000,9,-999.000,9,  -999.0,9,  -999.0,9,-999.000,9,-999.0000,9, -999.00,9, -999.00,9,  -999.0,9,  -999.0,     6.4076,-999.0000,-999.000,-999.000
31WTTUNES_3,       P16C,     234,          1,         23,         23,3,19910905,       1018,   -11.0123,  -151.0022,       5056,   712.3,   5.8045,  34.5285,2,-999.0000,9,     93.9,2,  -999.0,9, -999.00,9, -999.00,9, -999.00,9, -999.00,9,-999.000,9,-999.000,9,  -999.0,9,  -999.0,9,-999.000,9,-999.0000,9, -999.00,9, -999.00,9,  -999.0,9,  -999.0,     5.7423,-999.0000,-999.000,-999.000
31WTTUNES_3,       P16C,     234,          1,         22,         22,4,19910905,       1018,   -11.0123,  -151.0022,       5056,   813.8,   5.2580,  34.5242,2,-999.0000,9,     96.7,2,  -999.0,9, -999.00,9, -999.00,9, -999.00,9, -999.00,9,-999.000,9,-999.000,9,  -999.0,9,  -999.0,9,-999.000,9,-999.0000,9, -999.00,9, -999.00,9,  -999.0,9,  -999.0,     5.1897,-999.0000,-999.000,-999.000
31WTTUNES_3,       P16C,     234,          1,         21,         21,4,19910905,       1018,   -11.0123,  -151.0022,       5056,   915.8,   4.7678,  34.5226,2,-999.0000,9,    103.2,2,  -999.0,9, -999.00,9, -999.00,9, -999.00,9, -999.00,9,-999.000,9,-999.000,9,  -999.0,9,  -999.0,9,-999.000,9,-999.0000,9, -999.00,9, -999.00,9,  -999.0,9,  -999.0,     4.6936,-999.0000,-999.000,-999.000
31WTTUNES_3,       P16C,     234,          1,         20,         20,4,19910905,       1018,   -11.0123,  -151.0022,       5056,  1019.3,   4.3690,  34.5286,2,-999.0000,9,    109.2,2,  -999.0,9, -999.00,9, -999.00,9, -999.00,9, -999.00,9,-999.000,9,-999.000,9,  -999.0,9,  -999.0,9,-999.000,9,-999.0000,9, -999.00,9, -999.00,9,  -999.0,9,  -999.0,     4.2888,-999.0000,-999.000,-999.000
31WTTUNES_3,       P16C,     234,          1,         19,         19,4,19910905,       1018,   -11.0123,  -151.0022,       5056,  1218.8,   3.7232,  34.5532,2,-999.0000,9,    114.8,2,  -999.0,9, -999.00,9, -999.00,9, -999.00,9, -999.00,9,-999.000,9,-999.000,9,  -999.0,9,  -999.0,9,-999.000,9,-999.0000,9, -999.00,9, -999.00,9,  -999.0,9,  -999.0,     3.6314,-999.0000,-999.000,-999.000
31WTTUNES_3,       P16C,     234,          1,         18,         18,4,19910905,       1018,   -11.0123,  -151.0022,       5056,  1413.9,   3.1881,  34.5804,2,-999.0000,9,    116.2,2,  -999.0,9, -999.00,9, -999.00,9, -999.00,9, -999.00,9,-999.000,9,-999.000,9,  -999.0,9,  -999.0,9,-999.000,9,-999.0000,9, -999.00,9, -999.00,9,  -999.0,9,  -999.0,     3.0855,-999.0000,-999.000,-999.000
31WTTUNES_3,       P16C,     234,          1,         17,         17,4,19910905,       1018,   -11.0123,  -151.0022,       5056,  1607.9,   2.7220,  34.6039,2,-999.0000,9,    128.8,2,  -999.0,9, -999.00,9, -999.00,9, -999.00,9, -999.00,9,-999.000,9,-999.000,9,  -999.0,9,  -999.0,9,-999.000,9,-999.0000,9, -999.00,9, -999.00,9,  -999.0,9,  -999.0,     2.6085,-999.0000,-999.000,-999.000
31WTTUNES_3,       P16C,     234,          1,         16,         16,4,19910905,       1018,   -11.0123,  -151.0022,       5056,  1807.6,   2.4295,  34.6221,2,-999.0000,9,    135.6,2,  -999.0,9, -999.00,9, -999.00,9, -999.00,9, -999.00,9,-999.000,9,-999.000,9,  -999.0,9,  -999.0,9,-999.000,9,-999.0000,9, -999.00,9, -999.00,9,  -999.0,9,  -999.0,     2.3030,-999.0000,-999.000,-999.000
31WTTUNES_3,       P16C,     234,          1,         15,         15,2,19910905,       1018,   -11.0123,  -151.0022,       5056,  2007.8,   2.1721,  34.6390,2,  34.6370,2,    143.6,2,   141.8,2,  121.68,2,   36.74,2,    0.00,2,    2.58,2,-999.000,9,-999.000,9,  -999.0,9,  -999.0,9,-999.000,9,-999.0000,9, -999.00,9, -999.00,9,  -999.0,9,  -999.0,     2.0324,-999.0000,-999.000,-999.000
31WTTUNES_3,       P16C,     234,          1,         14,         14,2,19910905,       1018,   -11.0123,  -151.0022,       5056,  2208.9,   1.9923,  34.6538,2,  34.6537,2,    145.6,2,   144.4,2,  126.99,2,   36.45,2,    0.00,2,    2.56,2,-999.000,9,-999.000,9,  -999.0,9,  -999.0,9,-999.000,9,-999.0000,9, -999.00,9, -999.00,9,  -999.0,9,  -999.0,     1.8381,-999.0000,-999.000,-999.000
31WTTUNES_3,       P16C,     234,          1,         13,         13,2,19910905,       1018,   -11.0123,  -151.0022,       5056,  2416.0,   1.8957,  34.6626,2,  34.6616,2,    147.5,2,   146.4,2,  131.33,2,   36.49,2,    0.00,2,    2.60,4,-999.000,9,-999.000,9,  -999.0,9,  -999.0,9,-999.000,9,-999.0000,9, -999.00,9, -999.00,9,  -999.0,9,  -999.0,     1.7250,-999.0000,-999.000,-999.000
31WTTUNES_3,       P16C,     234,          1,         12,         12,2,19910905,       1018,   -11.0123,  -151.0022,       5056,  2623.8,   1.8120,  34.6698,2,  34.6728,3,    147.1,2,   147.2,2,  135.26,2,   36.53,2,    0.00,2,    2.67,4,-999.000,9,-999.000,9,  -999.0,9,  -999.0,9,-999.000,9,-999.0000,9, -999.00,9, -999.00,9,  -999.0,9,  -999.0,     1.6239,-999.0000,-999.000,-999.000
31WTTUNES_3,       P16C,     234,          1,         11,         11,2,19910905,       1018,   -11.0123,  -151.0022,       5056,  2779.4,   1.7537,  34.6746,2,  34.6743,2,    147.7,2,   148.7,2,  136.46,2,   36.33,2,    0.00,2,    2.53,2,-999.000,9,-999.000,9,  -999.0,9,  -999.0,9,-999.000,9,-999.0000,9, -999.00,9, -999.00,9,  -999.0,9,  -999.0,     1.5523,-999.0000,-999.000,-999.000
31WTTUNES_3,       P16C,     234,          1,         10,         10,2,19910905,       1018,   -11.0123,  -151.0022,       5056,  2992.4,   1.6975,  34.6785,2,  34.6924,4,    150.9,2,   152.6,2,  136.87,2,   35.95,2,    0.00,2,    2.59,4,-999.000,9,-999.000,9,  -999.0,9,  -999.0,9,-999.000,9,-999.0000,9, -999.00,9, -999.00,9,  -999.0,9,  -999.0,     1.4770,-999.0000,-999.000,-999.000
31WTTUNES_3,       P16C,     234,          1,          9,          9,2,19910905,       1018,   -11.0123,  -151.0022,       5056,  3254.5,   1.6056,  34.6830,2,  34.6830,2,    160.6,2,   162.4,2,  133.74,2,   35.47,2,    0.00,2,    2.46,2,-999.000,9,-999.000,9,  -999.0,9,  -999.0,9,-999.000,9,-999.0000,9, -999.00,9, -999.00,9,  -999.0,9,  -999.0,     1.3617,-999.0000,-999.000,-999.000
31WTTUNES_3,       P16C,     234,          1,          8,          8,2,19910905,       1018,   -11.0123,  -151.0022,       5056,  3509.6,   1.5191,  34.6881,2,  34.6875,2,    168.9,2,   168.9,2,  131.61,2,   34.94,2,    0.00,2,    2.43,2,-999.000,9,-999.000,9,  -999.0,9,  -999.0,9,-999.000,9,-999.0000,9, -999.00,9, -999.00,9,  -999.0,9,  -999.0,     1.2515,-999.0000,-999.000,-999.000
31WTTUNES_3,       P16C,     234,          1,          7,          7,2,19910905,       1018,   -11.0123,  -151.0022,       5056,  3719.1,   1.4682,  34.6912,2,  34.6914,2,    174.7,2,   175.2,2,  129.27,2,   34.49,2,    0.01,2,    2.39,2,-999.000,9,-999.000,9,  -999.0,9,  -999.0,9,-999.000,9,-999.0000,9, -999.00,9, -999.00,9,  -999.0,9,  -999.0,     1.1802,-999.0000,-999.000,-999.000
31WTTUNES_3,       P16C,     234,          1,          6,          6,2,19910905,       1018,   -11.0123,  -151.0022,       5056,  3984.9,   1.3876,  34.6960,2,  34.6954,2,    182.5,2,   181.2,2,  127.91,2,   34.17,2,    0.00,2,    2.36,2,-999.000,9,-999.000,9,  -999.0,9,  -999.0,9,-999.000,9,-999.0000,9, -999.00,9, -999.00,9,  -999.0,9,  -999.0,     1.0733,-999.0000,-999.000,-999.000
31WTTUNES_3,       P16C,     234,          1,          5,          5,2,19910905,       1018,   -11.0123,  -151.0022,       5056,  4251.2,   1.3322,  34.6991,2,  34.6991,2,    187.7,2,   186.5,2,  126.56,2,   33.70,2,    0.00,2,    2.34,2,-999.000,9,-999.000,9,  -999.0,9,  -999.0,9,-999.000,9,-999.0000,9, -999.00,9, -999.00,9,  -999.0,9,  -999.0,     0.9905,-999.0000,-999.000,-999.000
31WTTUNES_3,       P16C,     234,          1,          4,          4,2,19910905,       1018,   -11.0123,  -151.0022,       5056,  4517.6,   1.2966,  34.7023,2,  34.7019,2,    192.9,2,   191.5,2,  124.61,2,   33.31,2,    0.00,2,    2.30,2,-999.000,9,-999.000,9,  -999.0,9,  -999.0,9,-999.000,9,-999.0000,9, -999.00,9, -999.00,9,  -999.0,9,  -999.0,     0.9259,-999.0000,-999.000,-999.000
31WTTUNES_3,       P16C,     234,          1,          3,          3,2,19910905,       1018,   -11.0123,  -151.0022,       5056,  4726.5,   1.2871,  34.7045,2,  34.7044,2,    195.5,2,   193.9,2,  124.63,2,   33.16,2,    0.00,2,    2.29,2,-999.000,9,-999.000,9,  -999.0,9,  -999.0,9,-999.000,9,-999.0000,9, -999.00,9, -999.00,9,  -999.0,9,  -999.0,     0.8925,-999.0000,-999.000,-999.000
31WTTUNES_3,       P16C,     234,          1,          2,          2,3,19910905,       1018,   -11.0123,  -151.0022,       5056,  4985.2,   1.3075,  34.7043,2,  34.6993,4,    195.9,2,   194.8,4,  126.03,4,   33.67,4,    0.00,4,    2.33,4,-999.000,9,-999.000,9,  -999.0,9,  -999.0,9,-999.000,9,-999.0000,9, -999.00,9, -999.00,9,  -999.0,9,  -999.0,     0.8814,-999.0000,-999.000,-999.000
31WTTUNES_3,       P16C,     234,          1,          1,          1,2,19910905,       1018,   -11.0123,  -151.0022,       5056,  5129.0,   1.3195,  34.7049,2,  34.7048,2,    194.7,2,   195.7,2,  123.50,2,   32.99,2,    0.00,2,    2.28,2,-999.000,9,-999.000,9,  -999.0,9,  -999.0,9,-999.000,9,-999.0000,9, -999.00,9, -999.00,9,  -999.0,9,  -999.0,     0.8756,-999.0000,-999.000,-999.000