BOTTLE,20211117CCHSIORKP
EXPOCODE,SECT_ID,STNNBR,CASTNO,SAMPNO,BTLNBR,BTLNBR_FLAG_W,DATE,TIME,LATITUDE,LONGITUDE,DEPTH,CTDPRS,CTDTMP,CTDSAL,CTDSAL_FLAG_W,SALNTY,SALNTY_FLAG_W,CTDOXY,CTDOXY_FLAG_W,OXYGEN,OXYGEN_FLAG_W,SILCAT,SILCAT_FLAG_W,NITRAT,NITRAT_FLAG_W,NITRIT,NITRIT_FLAG_W,PHSPHT,PHSPHT_FLAG_W,CFC-11,CFC-11_FLAG_W,CFC-12,CFC-12_FLAG_W,TCARBN,TCARBN_FLAG_W,ALKALI,ALKALI_FLAG_W,TRITUM,TRITUM_FLAG_W,HELIUM,HELIUM_FLAG_W,DELHE3,DELHE3_FLAG_W,DELC13,DELC13_FLAG_W,DELC14,DELC14_FLAG_W,C14ERR,THETA,HELIER,DELHER,TRITER
,,,,,,,,,,,METERS,DBAR,ITS-90,PSS-78,,PSS-78,,UMOL/KG,,UMOL/KG,,UMOL/KG,,UMOL/KG,,UMOL/KG,,UMOL/KG,,PMOL/KG,,PMOL/KG,,UMOL/KG,,UMOL/KG,,TU,,NMOL/KG,,PERCNT,,/MILLE,,/MILLE,,/MILLE,ITS-90,NMOL/KG,PERCNT,TU
31WTTUNES_3,       P16C,     266,          2,         36,         36,2,19910914,       2327,    -0.3427,  -150.9990,       4388,     6.9,  26.9032,  34.9853,2,  34.9821,2,    202.8,3,   204.7,2,    3.61,2,    3.57,2,    0.23,2,    0.48,2,   1.678,2,   0.926,2,  -999.0,9,  -999.0,9,-999.000,9,-999.0000,9, -999.00,9, -999.00,9,  -999.0,9,  -999.0,    26.9016,-999.0000,-999.000,-999.000
31WTTUNES_3,       P16C,     266,          2,         35,         35,2,19910914,       2327,    -0.3427,  -150.9990,       4388,    43.3,  27.0608,  35.2752,2,  35.2749,2,    205.4,2,   203.7,2,    3.40,2,    4.38,2,    0.23,2,    0.54,2,-999.000,9,-999.000,9,  -999.0,9,  -999.0,9,-999.000,9,-999.0000,9, -999.00,9, -999.00,9,  -999.0,9,  -999.0,    27.0509,-999.0000,-999.000,-999.000
31WTTUNES_3,       P16C,     266,          2,         34,         34,2,19910914,       2327,    -0.3427,  -150.9990,       4388,    72.1,  26.6321,  35.2804,2,  35.2848,2,    202.4,2,   200.5,2,    3.39,2,    4.74,2,    0.23,2,    0.56,2,   1.654,2,   0.923,2,  -999.0,9,  -999.0,9,-999.000,9,-999.0000,9, -999.00,9, -999.00,9,  -999.0,9,  -999.0,    26.6158,-999.0000,-999.000,-999.000
31WTTUNES_3,       P16C,     266,          2,         33,         33,2,19910914,       2327,    -0.3427,  -150.9990,       4388,   104.5,  25.7361,  35.2930,2,  35.2952,2,    176.8,2,   171.5,2,    4.36,2,    6.67,2,    0.33,2,    0.67,2,-999.000,9,-999.000,9,  -999.0,9,  -999.0,9,-999.000,9,-999.0000,9, -999.00,9, -999.00,9,  -999.0,9,  -999.0,    25.7129,-999.0000,-999.000,-999.000
31WTTUNES_3,       P16C,     266,          2,         32,         32,2,19910914,       2327,    -0.3427,  -150.9990,       4388,   144.0,  22.4759,  35.3073,2,  35.3403,2,    135.6,2,   130.5,2,    6.51,2,   11.14,2,    0.03,2,    0.91,2,   1.394,2,   0.771,2,  -999.0,9,  -999.0,9,-999.000,9,-999.0000,9, -999.00,9, -999.00,9,  -999.0,9,  -999.0,    22.4469,-999.0000,-999.000,-999.000
31WTTUNES_3,       P16C,     266,          2,         31,         31,2,19910914,       2327,    -0.3427,  -150.9990,       4388,   188.7,  16.9199,  35.0640,2,  35.1512,2,    139.9,2,   136.5,2,   10.40,2,   14.67,2,    0.02,2,    1.13,2,-999.000,9,-999.000,9,  -999.0,9,  -999.0,9,-999.000,9,-999.0000,9, -999.00,9, -999.00,9,  -999.0,9,  -999.0,    16.8888,-999.0000,-999.000,-999.000
31WTTUNES_3,       P16C,     266,          2,         30,         30,2,19910914,       2327,    -0.3427,  -150.9990,       4388,   229.9,  13.7751,  35.0086,2,  35.0083,2,    127.6,2,   124.2,2,   14.89,2,   19.26,2,    0.01,2,    1.42,2,   0.782,2,   0.434,2,  -999.0,9,  -999.0,9,-999.000,9,-999.0000,9, -999.00,9, -999.00,9,  -999.0,9,  -999.0,    13.7422,-999.0000,-999.000,-999.000
31WTTUNES_3,       P16C,     266,          2,         29,         29,2,19910914,       2327,    -0.3427,  -150.9990,       4388,   270.8,  12.2313,  34.8737,2,  34.8578,2,     95.9,2,    84.6,2,   22.13,2,   25.93,2,    0.01,2,    1.85,2,-999.000,9,-999.000,9,  -999.0,9,  -999.0,9,-999.000,9,-999.0000,9, -999.00,9, -999.00,9,  -999.0,9,  -999.0,    12.1954,-999.0000,-999.000,-999.000
31WTTUNES_3,       P16C,     266,          2,         28,         28,2,19910914,       2327,    -0.3427,  -150.9990,       4388,   310.0,  11.6913,  34.8225,2,  34.8145,2,     56.1,2,    40.8,2,   27.60,2,   31.21,2,    0.01,2,    2.20,2,   0.251,2,   0.154,2,  -999.0,9,  -999.0,9,-999.000,9,-999.0000,9, -999.00,9, -999.00,9,  -999.0,9,  -999.0,    11.6514,-999.0000,-999.000,-999.000
31WTTUNES_3,       P16C,     266,          2,         27,         27,2,19910914,       2327,    -0.3427,  -150.9990,       4388,   351.3,  10.5743,  34.7577,2,  34.7502,2,     23.1,2,    20.5,2,   33.08,2,   35.12,2,    0.01,2,    2.45,2,   0.114,6,   0.068,6,  -999.0,9,  -999.0,9,-999.000,9,-999.0000,9, -999.00,9, -999.00,9,  -999.0,9,  -999.0,    10.5319,-999.0000,-999.000,-999.000
31WTTUNES_3,       P16C,     266,          2,         26,         26,2,19910914,       2327,    -0.3427,  -150.9990,       4388,   391.3,  10.1825,  34.7423,2,  34.7256,2,     15.7,2,    20.3,2,   35.02,2,   36.21,2,    0.00,2,    2.52,2,   0.076,2,   0.059,2,  -999.0,9,  -999.0,9,-999.000,9,-999.0000,9, -999.00,9, -999.00,9,  -999.0,9,  -999.0,    10.1362,-999.0000,-999.000,-999.000
31WTTUNES_3,       P16C,     266,          2,         25,         25,2,19910914,       2327,    -0.3427,  -150.9990,       4388,   432.3,   8.9784,  34.6744,2,  34.6671,2,     28.3,2,    29.5,2,   38.72,2,   37.58,2,    0.00,2,    2.60,2,   0.033,2,   0.021,2,  -999.0,9,  -999.0,9,-999.000,9,-999.0000,9, -999.00,9, -999.00,9,  -999.0,9,  -999.0,     8.9312,-999.0000,-999.000,-999.000
31WTTUNES_3,       P16C,     266,          2,         24,         24,2,19910914,       2327,    -0.3427,  -150.9990,       4388,   473.3,   8.1422,  34.6285,2,  34.6335,2,     40.5,2,    38.3,2,   41.66,2,   38.23,2,    0.00,2,    2.64,2,   0.020,2,   0.012,2,  -999.0,9,  -999.0,9,-999.000,9,-999.0000,9, -999.00,9, -999.00,9,  -999.0,9,  -999.0,     8.0933,-999.0000,-999.000,-999.000
31WTTUNES_3,       P16C,     266,          2,         23,         23,2,19910914,       2327,    -0.3427,  -150.9990,       4388,   513.7,   7.7109,  34.6098,2,  34.6142,2,     46.5,2,    53.8,2,   42.23,2,   37.32,2,    0.00,2,    2.60,2,   0.023,2,   0.022,2,  -999.0,9,  -999.0,9,-999.000,9,-999.0000,9, -999.00,9, -999.00,9,  -999.0,9,  -999.0,     7.6593,-999.0000,-999.000,-999.000
31WTTUNES_3,       P16C,     266,          2,         22,         22,2,19910914,       2327,    -0.3427,  -150.9990,       4388,   564.1,   7.5065,  34.6022,2,  34.6024,2,     49.6,2,    50.5,2,   45.16,2,   38.23,2,    0.00,2,    2.67,2,-999.000,9,-999.000,9,  -999.0,9,  -999.0,9,-999.000,9,-999.0000,9, -999.00,9, -999.00,9,  -999.0,9,  -999.0,     7.4505,-999.0000,-999.000,-999.000
31WTTUNES_3,       P16C,     266,          2,         21,         21,2,19910914,       2327,    -0.3427,  -150.9990,       4388,   614.0,   7.1688,  34.5831,2,  34.5891,2,     54.8,2,    54.5,2,   48.08,2,   38.58,2,    0.00,2,    2.70,2,   0.009,2,   0.008,2,  -999.0,9,  -999.0,9,-999.000,9,-999.0000,9, -999.00,9, -999.00,9,  -999.0,9,  -999.0,     7.1092,-999.0000,-999.000,-999.000
31WTTUNES_3,       P16C,     266,          2,         20,         20,2,19910914,       2327,    -0.3427,  -150.9990,       4388,   716.2,   5.9484,  34.5542,2,  34.5610,2,     70.5,2,    66.7,2,   56.87,2,   38.98,2,    0.00,2,    2.75,2,-999.000,9,-999.000,9,  -999.0,9,  -999.0,9,-999.000,9,-999.0000,9, -999.00,9, -999.00,9,  -999.0,9,  -999.0,     5.8849,-999.0000,-999.000,-999.000
31WTTUNES_3,       P16C,     266,          2,         19,         19,2,19910914,       2327,    -0.3427,  -150.9990,       4388,   818.5,   5.3557,  34.5489,2,  34.5516,2,     76.8,2,    75.0,2,   68.60,2,   39.39,2,    0.00,2,    2.79,2,  -0.002,2,   0.003,2,  -999.0,9,  -999.0,9,-999.000,9,-999.0000,9, -999.00,9, -999.00,9,  -999.0,9,  -999.0,     5.2862,-999.0000,-999.000,-999.000
31WTTUNES_3,       P16C,     266,          2,         18,         18,2,19910914,       2327,    -0.3427,  -150.9990,       4388,   921.4,   4.8038,  34.5506,2,  34.5512,2,     86.9,2,    86.1,2,   79.35,2,   39.08,2,    0.00,2,    2.77,2,-999.000,9,-999.000,9,  -999.0,9,  -999.0,9,-999.000,9,-999.0000,9, -999.00,9, -999.00,9,  -999.0,9,  -999.0,     4.7289,-999.0000,-999.000,-999.000
31WTTUNES_3,       P16C,     266,          2,         17,         17,2,19910914,       2327,    -0.3427,  -150.9990,       4388,  1023.1,   4.6540,  34.5552,2,  34.5567,2,     82.2,2,    81.7,2,   83.65,2,   39.68,2,    0.00,2,    2.83,2,-999.000,9,-999.000,9,  -999.0,9,  -999.0,9,-999.000,9,-999.0000,9, -999.00,9, -999.00,9,  -999.0,9,  -999.0,     4.5712,-999.0000,-999.000,-999.000
31WTTUNES_3,       P16C,     266,          2,         16,         16,2,19910914,       2327,    -0.3427,  -150.9990,       4388,  1125.5,   4.0664,  34.5672,2,  34.5667,2,     89.2,2,    87.2,2,   94.78,2,   39.53,2,    0.00,2,    2.82,2,-999.000,9,-999.000,9,  -999.0,9,  -999.0,9,-999.000,9,-999.0000,9, -999.00,9, -999.00,9,  -999.0,9,  -999.0,     3.9794,-999.0000,-999.000,-999.000
31WTTUNES_3,       P16C,     266,          2,         15,         15,2,19910914,       2327,    -0.3427,  -150.9990,       4388,  1330.8,   3.4553,  34.5896,2,  34.5906,2,     87.8,2,    87.7,2,  110.62,2,   39.98,2,    0.00,2,    2.84,2,-999.000,9,-999.000,9,  -999.0,9,  -999.0,9,-999.000,9,-999.0000,9, -999.00,9, -999.00,9,  -999.0,9,  -999.0,     3.3567,-999.0000,-999.000,-999.000
31WTTUNES_3,       P16C,     266,          2,         14,         14,2,19910914,       2327,    -0.3427,  -150.9990,       4388,  1535.4,   2.9002,  34.6090,2,  34.6058,2,     99.6,2,    99.3,2,  121.95,2,   39.21,2,    0.00,2,    2.79,2,-999.000,9,-999.000,9,  -999.0,9,  -999.0,9,-999.000,9,-999.0000,9, -999.00,9, -999.00,9,  -999.0,9,  -999.0,     2.7905,-999.0000,-999.000,-999.000
31WTTUNES_3,       P16C,     266,          2,         13,         13,2,19910914,       2327,    -0.3427,  -150.9990,       4388,  1740.7,   2.5984,  34.6254,2,  34.6238,2,     99.5,2,    99.7,2,  132.68,2,   39.41,2,    0.00,2,    2.80,2,-999.000,9,-999.000,9,  -999.0,9,  -999.0,9,-999.000,9,-999.0000,9, -999.00,9, -999.00,9,  -999.0,9,  -999.0,     2.4753,-999.0000,-999.000,-999.000
31WTTUNES_3,       P16C,     266,          2,         12,         12,2,19910914,       2327,    -0.3427,  -150.9990,       4388,  1944.4,   2.3402,  34.6380,2,  34.6378,2,    106.5,2,   106.8,2,  138.93,2,   39.00,2,    0.00,2,    2.75,2,-999.000,9,-999.000,9,  -999.0,9,  -999.0,9,-999.000,9,-999.0000,9, -999.00,9, -999.00,9,  -999.0,9,  -999.0,     2.2035,-999.0000,-999.000,-999.000
31WTTUNES_3,       P16C,     266,          2,         11,         11,2,19910914,       2327,    -0.3427,  -150.9990,       4388,  2148.4,   2.0966,  34.6514,2,  34.6488,2,    112.1,2,   113.1,2,  144.19,2,   38.54,2,    0.00,2,    2.71,2,-999.000,9,-999.000,9,  -999.0,9,  -999.0,9,-999.000,9,-999.0000,9, -999.00,9, -999.00,9,  -999.0,9,  -999.0,     1.9459,-999.0000,-999.000,-999.000
31WTTUNES_3,       P16C,     266,          2,         10,         10,2,19910914,       2327,    -0.3427,  -150.9990,       4388,  2353.8,   1.9530,  34.6574,2,  34.6612,2,    120.4,2,   120.8,2,  144.96,2,   38.08,2,    0.00,2,    2.67,2,-999.000,9,-999.000,9,  -999.0,9,  -999.0,9,-999.000,9,-999.0000,9, -999.00,9, -999.00,9,  -999.0,9,  -999.0,     1.7868,-999.0000,-999.000,-999.000
31WTTUNES_3,       P16C,     266,          2,          9,          9,2,19910914,       2327,    -0.3427,  -150.9990,       4388,  2559.1,   1.8385,  34.6646,2,  34.6653,2,    123.8,2,   124.5,2,  148.65,2,   37.76,2,    0.00,2,    2.64,2,-999.000,9,-999.000,9,  -999.0,9,  -999.0,9,-999.000,9,-999.0000,9, -999.00,9, -999.00,9,  -999.0,9,  -999.0,     1.6557,-999.0000,-999.000,-999.000
31WTTUNES_3,       P16C,     266,          2,          8,          8,2,19910914,       2327,    -0.3427,  -150.9990,       4388,  2765.9,   1.7672,  34.6690,2,  34.6700,2,    129.3,2,   130.0,2,  148.43,2,   37.46,2,    0.00,2,    2.61,2,-999.000,9,-999.000,9,  -999.0,9,  -999.0,9,-999.000,9,-999.0000,9, -999.00,9, -999.00,9,  -999.0,9,  -999.0,     1.5668,-999.0000,-999.000,-999.000
31WTTUNES_3,       P16C,     266,          2,          7,          7,2,19910914,       2327,    -0.3427,  -150.9990,       4388,  2970.5,   1.6899,  34.6736,2,  34.6730,2,    134.3,2,   135.3,2,  149.00,2,   37.20,2,    0.00,2,    2.58,2,-999.000,9,-999.000,9,  -999.0,9,  -999.0,9,-999.000,9,-999.0000,9, -999.00,9, -999.00,9,  -999.0,9,  -999.0,     1.4717,-999.0000,-999.000,-999.000
31WTTUNES_3,       P16C,     266,          2,          6,          6,2,19910914,       2327,    -0.3427,  -150.9990,       4388,  3177.2,   1.6222,  34.6775,2,  34.6771,2,    140.8,2,   141.5,2,  148.59,2,   36.79,2,    0.00,2,    2.54,2,-999.000,9,-999.000,9,  -999.0,9,  -999.0,9,-999.000,9,-999.0000,9, -999.00,9, -999.00,9,  -999.0,9,  -999.0,     1.3855,-999.0000,-999.000,-999.000
31WTTUNES_3,       P16C,     266,          2,          5,          5,2,19910914,       2327,    -0.3427,  -150.9990,       4388,  3435.0,   1.5171,  34.6841,2,  34.6832,2,    149.9,2,   150.9,2,  147.98,2,   36.28,2,    0.00,2,    2.49,2,-999.000,9,-999.000,9,  -999.0,9,  -999.0,9,-999.000,9,-999.0000,9, -999.00,9, -999.00,9,  -999.0,9,  -999.0,     1.2572,-999.0000,-999.000,-999.000
31WTTUNES_3,       P16C,     266,          2,          4,          4,2,19910914,       2327,    -0.3427,  -150.9990,       4388,  3692.0,   1.4359,  34.6899,2,  34.6910,2,    158.2,2,   158.6,2,  147.77,2,   35.71,2,    0.00,2,    2.44,2,-999.000,9,-999.000,9,  -999.0,9,  -999.0,9,-999.000,9,-999.0000,9, -999.00,9, -999.00,9,  -999.0,9,  -999.0,     1.1514,-999.0000,-999.000,-999.000
31WTTUNES_3,       P16C,     266,          2,          3,          3,4,19910914,       2327,    -0.3427,  -150.9990,       4388,  3952.4,   1.4165,  34.6925,2,-999.0000,9,    161.8,2,  -999.0,9, -999.00,9, -999.00,9, -999.00,9, -999.00,9,-999.000,9,-999.000,9,  -999.0,9,  -999.0,9,-999.000,9,-999.0000,9, -999.00,9, -999.00,9,  -999.0,9,  -999.0,     1.1050,-999.0000,-999.000,-999.000
31WTTUNES_3,       P16C,     266,          2,          2,          2,2,19910914,       2327,    -0.3427,  -150.9990,       4388,  4213.4,   1.3876,  34.6949,2,  34.6971,2,    166.5,2,   169.1,2,  143.46,2,   35.06,2,    0.00,2,    2.40,2,-999.000,9,-999.000,9,  -999.0,9,  -999.0,9,-999.000,9,-999.0000,9, -999.00,9, -999.00,9,  -999.0,9,  -999.0,     1.0483,-999.0000,-999.000,-999.000
31WTTUNES_3,       P16C,     266,          2,          1,          1,2,19910914,       2327,    -0.3427,  -150.9990,       4388,  4431.0,   1.3719,  34.6967,2,  34.6973,2,    172.9,2,   174.6,2,  140.70,2,   34.69,2,    0.00,2,    2.37,2,-999.000,9,-999.000,9,  -999.0,9,  -999.0,9,-999.000,9,-999.0000,9, -999.00,9, -999.00,9,  -999.0,9,  -999.0,     1.0087,-999.0000,-999.000,-999.000
31WTTUNES_3,       P16C,     267,          1,         10,         10,2,19910915,       0349,    -0.1740,  -151.0013,       4108,   152.0,  20.2017,  35.3080,2,  35.3090,2,    136.6,2,   129.4,2, -999.00,9, -999.00,9, -999.00,9, -999.00,9,-999.000,9,-999.000,9,  -999.0,9,  -999.0,9,-999.000,9,-999.0000,9, -999.00,9, -999.00,9,  -999.0,9,  -999.0,    20.1735,-999.0000,-999.000,-999.000
31WTTUNES_3,       P16C,     267,          1,          9,          9,2,19910915,       0349,    -0.1740,  -151.0013,       4108,   306.0,  11.8618,  34.8462,2,  34.8460,2,     69.4,2,    81.4,2, -999.00,9, -999.00,9, -999.00,9, -999.00,9,-999.000,9,-999.000,9,  -999.0,9,  -999.0,9,-999.000,9,-999.0000,9, -999.00,9, -999.00,9,  -999.0,9,  -999.0,    11.8220,-999.0000,-999.000,-999.000
31WTTUNES_3,       P16C,     267,          1,          8,          8,2,19910915,       0349,    -0.1740,  -151.0013,       4108,   507.8,   7.8212,  34.6128,2,  34.6109,2,     58.5,2,    57.0,2, -999.00,9, -999.00,9, -999.00,9, -999.00,9,-999.000,9,-999.000,9,  -999.0,9,  -999.0,9,-999.000,9,-999.0000,9, -999.00,9, -999.00,9,  -999.0,9,  -999.0,     7.7697,-999.0000,-999.000,-999.000
31WTTUNES_3,       P16C,     267,          1,          7,          7,2,19910915,       0349,    -0.1740,  -151.0013,       4108,   763.2,   5.7011,  34.5496,2,  34.5510,2,     74.8,2,    71.9,2, -999.00,9, -999.00,9, -999.00,9, -999.00,9,-999.000,9,-999.000,9,  -999.0,9,  -999.0,9,-999.000,9,-999.0000,9, -999.00,9, -999.00,9,  -999.0,9,  -999.0,     5.6347,-999.0000,-999.000,-999.000
31WTTUNES_3,       P16C,     267,          1,          6,          6,2,19910915,       0349,    -0.1740,  -151.0013,       4108,  1019.1,   4.5792,  34.5551,2,  34.5555,2,     82.6,2,    80.6,2, -999.00,9, -999.00,9, -999.00,9, -999.00,9,-999.000,9,-999.000,9,  -999.0,9,  -999.0,9,-999.000,9,-999.0000,9, -999.00,9, -999.00,9,  -999.0,9,  -999.0,     4.4973,-999.0000,-999.000,-999.000
31WTTUNES_3,       P16C,     267,          1,          5,          5,2,19910915,       0349,    -0.1740,  -151.0013,       4108,  1788.3,   2.5607,  34.6255,2,  34.6282,2,    100.5,2,   100.7,2, -999.00,9, -999.00,9, -999.00,9, -999.00,9,-999.000,9,-999.000,9,  -999.0,9,  -999.0,9,-999.000,9,-999.0000,9, -999.00,9, -999.00,9,  -999.0,9,  -999.0,     2.4340,-999.0000,-999.000,-999.000
31WTTUNES_3,       P16C,     267,          1,          4,          4,2,19910915,       0349,    -0.1740,  -151.0013,       4108,  2560.8,   1.8334,  34.6643,2,  34.6661,2,    124.3,2,   124.6,2, -999.00,9, -999.00,9, -999.00,9, -999.00,9,-999.000,9,-999.000,9,  -999.0,9,  -999.0,9,-999.000,9,-999.0000,9, -999.00,9, -999.00,9,  -999.0,9,  -999.0,     1.6506,-999.0000,-999.000,-999.000
31WTTUNES_3,       P16C,     267,          1,          2,          2,2,19910915,       0349,    -0.1740,  -151.0013,       4108,  3593.4,   1.4920,  34.6870,2,  34.6869,2,    153.8,2,   151.9,2, -999.00,9, -999.00,9, -999.00,9, -999.00,9,-999.000,9,-999.000,9,  -999.0,9,  -999.0,9,-999.000,9,-999.0000,9, -999.00,9, -999.00,9,  -999.0,9,  -999.0,     1.2164,-999.0000,-999.000,-999.000
31WTTUNES_3,       P16C,     267,          1,          1,          1,2,19910915,       0349,    -0.1740,  -151.0013,       4108,  4139.0,   1.3995,  34.6958,2,  34.6967,2,    167.3,2,   165.6,2, -999.00,9, -999.00,9, -999.00,9, -999.00,9,-999.000,9,-999.000,9,  -999.0,9,  -999.0,9,-999.000,9,-999.0000,9, -999.00,9, -999.00,9,  -999.0,9,  -999.0,     1.0681,-999.0000,-999.000,-999.000