BOTTLE,20211117CCHSIORKP
EXPOCODE,SECT_ID,STNNBR,CASTNO,SAMPNO,BTLNBR,BTLNBR_FLAG_W,DATE,TIME,LATITUDE,LONGITUDE,DEPTH,CTDPRS,CTDTMP,CTDSAL,CTDSAL_FLAG_W,SALNTY,SALNTY_FLAG_W,CTDOXY,CTDOXY_FLAG_W,OXYGEN,OXYGEN_FLAG_W,SILCAT,SILCAT_FLAG_W,NITRAT,NITRAT_FLAG_W,NITRIT,NITRIT_FLAG_W,PHSPHT,PHSPHT_FLAG_W,CFC-11,CFC-11_FLAG_W,CFC-12,CFC-12_FLAG_W,TCARBN,TCARBN_FLAG_W,ALKALI,ALKALI_FLAG_W,TRITUM,TRITUM_FLAG_W,HELIUM,HELIUM_FLAG_W,DELHE3,DELHE3_FLAG_W,DELC13,DELC13_FLAG_W,DELC14,DELC14_FLAG_W,C14ERR,THETA,HELIER,DELHER,TRITER
,,,,,,,,,,,METERS,DBAR,ITS-90,PSS-78,,PSS-78,,UMOL/KG,,UMOL/KG,,UMOL/KG,,UMOL/KG,,UMOL/KG,,UMOL/KG,,PMOL/KG,,PMOL/KG,,UMOL/KG,,UMOL/KG,,TU,,NMOL/KG,,PERCNT,,/MILLE,,/MILLE,,/MILLE,ITS-90,NMOL/KG,PERCNT,TU
31WTTUNES_3,       P16C,     236,          1,         36,         36,2,19910906,       1925,   -10.0032,  -150.9892,       4704,     5.0,  28.5195,  35.8129,2,  35.8135,2,    167.7,6,   210.8,2,    1.13,2,    1.30,2,    0.03,2,    0.34,2,   1.578,2,   0.895,2,  -999.0,9,  -999.0,9,-999.000,9,-999.0000,9, -999.00,9, -999.00,9,  -999.0,9,  -999.0,    28.5183,-999.0000,-999.000,-999.000
31WTTUNES_3,       P16C,     236,          1,         35,         35,2,19910906,       1925,   -10.0032,  -150.9892,       4704,    38.5,  28.4966,  35.8165,2,  35.8125,2,    211.8,6,   211.7,2,    1.19,2,    1.35,2,    0.03,2,    0.33,2,   1.508,2,   0.874,2,  -999.0,9,  -999.0,9,-999.000,9,-999.0000,9, -999.00,9, -999.00,9,  -999.0,9,  -999.0,    28.4874,-999.0000,-999.000,-999.000
31WTTUNES_3,       P16C,     236,          1,         34,         34,2,19910906,       1925,   -10.0032,  -150.9892,       4704,    77.9,  28.4355,  35.9242,2,  35.8836,2,    208.0,6,   207.9,2,    1.06,2,    0.96,2,    0.04,2,    0.33,2,   1.738,2,   0.953,2,  -999.0,9,  -999.0,9,-999.000,9,-999.0000,9, -999.00,9, -999.00,9,  -999.0,9,  -999.0,    28.4169,-999.0000,-999.000,-999.000
31WTTUNES_3,       P16C,     236,          1,         33,         33,2,19910906,       1925,   -10.0032,  -150.9892,       4704,   119.0,  26.3109,  36.2955,2,  36.1541,2,    190.6,6,   189.8,2,    1.50,2,    0.41,2,    0.98,2,    0.46,2,   1.565,2,   0.910,2,  -999.0,9,  -999.0,9,-999.000,9,-999.0000,9, -999.00,9, -999.00,9,  -999.0,9,  -999.0,    26.2840,-999.0000,-999.000,-999.000
31WTTUNES_3,       P16C,     236,          1,         32,         32,2,19910906,       1925,   -10.0032,  -150.9892,       4704,   157.6,  24.2405,  36.3847,2,  36.3663,2,    173.6,6,   172.9,2,    1.38,2,    2.84,2,    0.78,2,    0.54,2,   0.014,4,   0.004,4,  -999.0,9,  -999.0,9,-999.000,9,-999.0000,9, -999.00,9, -999.00,9,  -999.0,9,  -999.0,    24.2069,-999.0000,-999.000,-999.000
31WTTUNES_3,       P16C,     236,          1,         31,         31,2,19910906,       1925,   -10.0032,  -150.9892,       4704,   197.5,  22.2379,  36.1717,2,  36.2449,2,    161.0,6,   173.6,2,    1.24,2,    4.21,2,    0.03,2,    0.53,2,   1.918,2,   1.049,2,  -999.0,9,  -999.0,9,-999.000,9,-999.0000,9, -999.00,9, -999.00,9,  -999.0,9,  -999.0,    22.1982,-999.0000,-999.000,-999.000
31WTTUNES_3,       P16C,     236,          1,         30,         30,2,19910906,       1925,   -10.0032,  -150.9892,       4704,   223.4,  21.0136,  35.9653,2,  35.9837,2,    180.2,2,   171.9,2,    1.49,2,    5.30,2,    0.01,2,    0.62,2,   1.797,6,   0.980,6,  -999.0,9,  -999.0,9,-999.000,9,-999.0000,9, -999.00,9, -999.00,9,  -999.0,9,  -999.0,    20.9706,-999.0000,-999.000,-999.000
31WTTUNES_3,       P16C,     236,          1,         29,         29,2,19910906,       1925,   -10.0032,  -150.9892,       4704,   249.2,  19.2970,  35.6730,2,  35.6684,2,    162.9,2,   157.5,2,    2.71,2,    7.88,2,    0.01,2,    0.79,2,   1.700,2,   0.917,2,  -999.0,9,  -999.0,9,-999.000,9,-999.0000,9, -999.00,9, -999.00,9,  -999.0,9,  -999.0,    19.2518,-999.0000,-999.000,-999.000
31WTTUNES_3,       P16C,     236,          1,         28,         28,2,19910906,       1925,   -10.0032,  -150.9892,       4704,   273.8,  17.1971,  35.3536,2,  35.3910,2,    137.3,2,   138.8,2,    4.50,2,   11.11,2,    0.01,2,    1.04,2,   1.500,2,   0.815,2,  -999.0,9,  -999.0,9,-999.000,9,-999.0000,9, -999.00,9, -999.00,9,  -999.0,9,  -999.0,    17.1514,-999.0000,-999.000,-999.000
31WTTUNES_3,       P16C,     236,          1,         27,         27,2,19910906,       1925,   -10.0032,  -150.9892,       4704,   299.5,  14.7170,  35.0630,2,  35.0841,2,    115.5,2,   112.9,2,    8.41,2,   16.44,2,    0.01,2,    1.40,2,   1.061,2,   0.590,2,  -999.0,9,  -999.0,9,-999.000,9,-999.0000,9, -999.00,9, -999.00,9,  -999.0,9,  -999.0,    14.6720,-999.0000,-999.000,-999.000
31WTTUNES_3,       P16C,     236,          1,         26,         26,2,19910906,       1925,   -10.0032,  -150.9892,       4704,   350.7,  12.0317,  34.8186,2,  34.8253,2,     82.5,6,    87.9,2,   15.03,2,   23.54,2,    0.00,2,    1.86,2,   0.503,2,   0.290,2,  -999.0,9,  -999.0,9,-999.000,9,-999.0000,9, -999.00,9, -999.00,9,  -999.0,9,  -999.0,    11.9856,-999.0000,-999.000,-999.000
31WTTUNES_3,       P16C,     236,          1,         25,         25,2,19910906,       1925,   -10.0032,  -150.9892,       4704,   401.0,   9.8905,  34.6884,2,  34.6828,2,     89.2,2,    88.7,2,   22.43,2,   28.75,2,    0.01,2,    2.11,2,   0.160,2,   0.099,2,  -999.0,9,  -999.0,9,-999.000,9,-999.0000,9, -999.00,9, -999.00,9,  -999.0,9,  -999.0,     9.8440,-999.0000,-999.000,-999.000
31WTTUNES_3,       P16C,     236,          1,         24,         24,2,19910906,       1925,   -10.0032,  -150.9892,       4704,   441.7,   8.8677,  34.6371,2,  34.6313,2,     98.4,2,   100.1,2,   26.15,2,   28.02,2,    0.01,2,    1.91,2,   0.077,2,   0.051,2,  -999.0,9,  -999.0,9,-999.000,9,-999.0000,9, -999.00,9, -999.00,9,  -999.0,9,  -999.0,     8.8197,-999.0000,-999.000,-999.000
31WTTUNES_3,       P16C,     236,          1,         23,         23,2,19910906,       1925,   -10.0032,  -150.9892,       4704,   492.9,   7.9782,  34.5925,2,  34.5936,2,    109.6,2,   111.8,2,   31.04,2,   31.53,2,    0.00,2,    2.19,2,   0.047,2,   0.033,2,  -999.0,9,  -999.0,9,-999.000,9,-999.0000,9, -999.00,9, -999.00,9,  -999.0,9,  -999.0,     7.9278,-999.0000,-999.000,-999.000
31WTTUNES_3,       P16C,     236,          1,         22,         22,2,19910906,       1925,   -10.0032,  -150.9892,       4704,   590.9,   6.6624,  34.5449,2,  34.5429,2,    106.1,2,   104.7,2,   42.29,2,   34.51,2,    0.01,2,    2.39,2,   0.014,6,   0.009,6,  -999.0,9,  -999.0,9,-999.000,9,-999.0000,9, -999.00,9, -999.00,9,  -999.0,9,  -999.0,     6.6074,-999.0000,-999.000,-999.000
31WTTUNES_3,       P16C,     236,          1,         21,         21,2,19910906,       1925,   -10.0032,  -150.9892,       4704,   693.6,   6.0617,  34.5346,2,  34.5296,2,     98.2,2,    95.5,2,   50.27,2,   37.48,2,    0.00,2,    2.60,2,   1.578,4,   0.880,4,  -999.0,9,  -999.0,9,-999.000,9,-999.0000,9, -999.00,9, -999.00,9,  -999.0,9,  -999.0,     5.9999,-999.0000,-999.000,-999.000
31WTTUNES_3,       P16C,     236,          1,         20,         20,2,19910906,       1925,   -10.0032,  -150.9892,       4704,   794.4,   5.2528,  34.5245,2,  34.5233,2,    101.4,2,    99.4,2,   58.84,2,   38.16,2,    0.00,2,    2.67,2,-999.000,9,-999.000,9,  -999.0,9,  -999.0,9,-999.000,9,-999.0000,9, -999.00,9, -999.00,9,  -999.0,9,  -999.0,     5.1864,-999.0000,-999.000,-999.000
31WTTUNES_3,       P16C,     236,          1,         19,         19,2,19910906,       1925,   -10.0032,  -150.9892,       4704,   893.9,   4.7851,  34.5289,2,  34.5274,2,    105.0,2,   102.9,2,   67.20,2,   38.42,2,    0.00,2,    2.69,2,   0.006,2,   0.004,2,  -999.0,9,  -999.0,9,-999.000,9,-999.0000,9, -999.00,9, -999.00,9,  -999.0,9,  -999.0,     4.7127,-999.0000,-999.000,-999.000
31WTTUNES_3,       P16C,     236,          1,         18,         18,2,19910906,       1925,   -10.0032,  -150.9892,       4704,   993.1,   4.3158,  34.5396,2,  34.5356,2,    108.7,2,   107.6,2,   76.35,2,   38.33,2,    0.00,2,    2.68,2,-999.000,9,-999.000,9,  -999.0,9,  -999.0,9,-999.000,9,-999.0000,9, -999.00,9, -999.00,9,  -999.0,9,  -999.0,     4.2383,-999.0000,-999.000,-999.000
31WTTUNES_3,       P16C,     236,          1,         17,         17,2,19910906,       1925,   -10.0032,  -150.9892,       4704,  1197.3,   3.6979,  34.5592,2,  34.5578,2,    116.2,2,   116.4,2,   91.08,2,   38.01,2,    0.00,2,    2.67,2,-999.000,9,-999.000,9,  -999.0,9,  -999.0,9,-999.000,9,-999.0000,9, -999.00,9, -999.00,9,  -999.0,9,  -999.0,     3.6082,-999.0000,-999.000,-999.000
31WTTUNES_3,       P16C,     236,          1,         16,         16,2,19910906,       1925,   -10.0032,  -150.9892,       4704,  1403.3,   3.1500,  34.5811,2,  34.5777,2,    124.2,2,   124.0,2,  101.20,2,   37.69,2,    0.00,2,    2.64,2,-999.000,9,-999.000,9,  -999.0,9,  -999.0,9,-999.000,9,-999.0000,9, -999.00,9, -999.00,9,  -999.0,9,  -999.0,     3.0486,-999.0000,-999.000,-999.000
31WTTUNES_3,       P16C,     236,          1,         15,         15,2,19910906,       1925,   -10.0032,  -150.9892,       4704,  1581.8,   2.7075,  34.6036,2,  34.5969,2,    131.3,2,   128.9,2,  108.99,2,   37.45,2,    0.00,2,    2.62,2,-999.000,9,-999.000,9,  -999.0,9,  -999.0,9,-999.000,9,-999.0000,9, -999.00,9, -999.00,9,  -999.0,9,  -999.0,     2.5962,-999.0000,-999.000,-999.000
31WTTUNES_3,       P16C,     236,          1,         14,         14,2,19910906,       1925,   -10.0032,  -150.9892,       4704,  1787.3,   2.4457,  34.6206,2,  34.6187,2,    134.3,2,   135.1,2,  116.98,2,   37.14,2,    0.00,2,    2.58,2,-999.000,9,-999.000,9,  -999.0,9,  -999.0,9,-999.000,9,-999.0000,9, -999.00,9, -999.00,9,  -999.0,9,  -999.0,     2.3207,-999.0000,-999.000,-999.000
31WTTUNES_3,       P16C,     236,          1,         13,         13,2,19910906,       1925,   -10.0032,  -150.9892,       4704,  1993.8,   2.1994,  34.6377,2,  34.6374,2,    138.6,2,   141.6,2,  122.27,2,   36.63,2,    0.00,2,    2.55,2,-999.000,9,-999.000,9,  -999.0,9,  -999.0,9,-999.000,9,-999.0000,9, -999.00,9, -999.00,9,  -999.0,9,  -999.0,     2.0604,-999.0000,-999.000,-999.000
31WTTUNES_3,       P16C,     236,          1,         12,         12,2,19910906,       1925,   -10.0032,  -150.9892,       4704,  2200.2,   2.0003,  34.6536,2,  34.6533,2,    141.9,2,   143.5,2,  126.69,2,   36.70,2,    0.00,2,    2.54,2,  -0.002,2,   0.001,2,  -999.0,9,  -999.0,9,-999.000,9,-999.0000,9, -999.00,9, -999.00,9,  -999.0,9,  -999.0,     1.8468,-999.0000,-999.000,-999.000
31WTTUNES_3,       P16C,     236,          1,         11,         11,3,19910906,       1925,   -10.0032,  -150.9892,       4704,  2407.3,   1.8821,  34.6638,2,  34.6138,4,    143.5,2,   132.9,4,  111.77,4,   37.33,4,    0.00,4,    2.60,4,   0.000,2,   0.005,2,  -999.0,9,  -999.0,9,-999.000,9,-999.0000,9, -999.00,9, -999.00,9,  -999.0,9,  -999.0,     1.7123,-999.0000,-999.000,-999.000
31WTTUNES_3,       P16C,     236,          1,         10,         10,2,19910906,       1925,   -10.0032,  -150.9892,       4704,  2612.2,   1.8064,  34.6708,2,  34.6683,2,    145.4,2,   146.3,2,  133.95,2,   36.54,2,    0.01,2,    2.52,2,-999.000,9,-999.000,9,  -999.0,9,  -999.0,9,-999.000,9,-999.0000,9, -999.00,9, -999.00,9,  -999.0,9,  -999.0,     1.6194,-999.0000,-999.000,-999.000
31WTTUNES_3,       P16C,     236,          1,          9,          9,2,19910906,       1925,   -10.0032,  -150.9892,       4704,  2793.4,   1.7362,  34.6763,2,  34.6753,2,    146.9,2,   148.1,2,  135.95,2,   35.69,3,    0.00,2,    2.43,3,-999.000,9,-999.000,9,  -999.0,9,  -999.0,9,-999.000,9,-999.0000,9, -999.00,9, -999.00,9,  -999.0,9,  -999.0,     1.5338,-999.0000,-999.000,-999.000
31WTTUNES_3,       P16C,     236,          1,          8,          8,2,19910906,       1925,   -10.0032,  -150.9892,       4704,  3053.4,   1.6616,  34.6807,2,  34.6806,2,    151.7,2,   153.3,2,  137.76,2,   35.82,2,    0.00,2,    2.46,2,   0.006,2,   0.010,2,  -999.0,9,  -999.0,9,-999.000,9,-999.0000,9, -999.00,9, -999.00,9,  -999.0,9,  -999.0,     1.4361,-999.0000,-999.000,-999.000
31WTTUNES_3,       P16C,     236,          1,          7,          7,2,19910906,       1925,   -10.0032,  -150.9892,       4704,  3236.2,   1.6129,  34.6833,2,  34.6830,2,    156.2,2,   157.7,2,  136.88,2,   35.63,2,    0.00,2,    2.42,2,   0.001,2,   0.007,2,  -999.0,9,  -999.0,9,-999.000,9,-999.0000,9, -999.00,9, -999.00,9,  -999.0,9,  -999.0,     1.3706,-999.0000,-999.000,-999.000
31WTTUNES_3,       P16C,     236,          1,          6,          6,2,19910906,       1925,   -10.0032,  -150.9892,       4704,  3495.3,   1.5297,  34.6877,2,  34.6881,2,    162.5,2,   163.9,2,  135.42,2,   35.29,2,    0.01,2,    2.40,2,  -0.003,6,   0.000,6,  -999.0,9,  -999.0,9,-999.000,9,-999.0000,9, -999.00,9, -999.00,9,  -999.0,9,  -999.0,     1.2633,-999.0000,-999.000,-999.000
31WTTUNES_3,       P16C,     236,          1,          5,          5,2,19910906,       1925,   -10.0032,  -150.9892,       4704,  3753.3,   1.4645,  34.6918,2,  34.6912,2,    170.0,2,   170.2,2,  132.23,2,   34.81,2,    0.00,2,    2.35,2,  -0.001,2,   0.000,2,  -999.0,9,  -999.0,9,-999.000,9,-999.0000,9, -999.00,9, -999.00,9,  -999.0,9,  -999.0,     1.1730,-999.0000,-999.000,-999.000
31WTTUNES_3,       P16C,     236,          1,          4,          4,2,19910906,       1925,   -10.0032,  -150.9892,       4704,  4011.4,   1.4139,  34.6956,2,  34.6952,2,    176.3,2,   176.7,2,  131.16,2,   33.60,3,    0.01,2,    2.29,3,  -0.003,2,   0.002,2,  -999.0,9,  -999.0,9,-999.000,9,-999.0000,9, -999.00,9, -999.00,9,  -999.0,9,  -999.0,     1.0960,-999.0000,-999.000,-999.000
31WTTUNES_3,       P16C,     236,          1,          3,          3,2,19910906,       1925,   -10.0032,  -150.9892,       4704,  4272.6,   1.3569,  34.6988,2,  34.6999,2,    183.8,2,   184.5,2,  127.77,2,   33.94,2,    0.00,2,    2.31,2,  -0.003,2,   0.000,2,  -999.0,9,  -999.0,9,-999.000,9,-999.0000,9, -999.00,9, -999.00,9,  -999.0,9,  -999.0,     1.0120,-999.0000,-999.000,-999.000
31WTTUNES_3,       P16C,     236,          1,          2,          2,2,19910906,       1925,   -10.0032,  -150.9892,       4704,  4482.5,   1.3184,  34.7018,2,  34.7032,2,    189.1,2,   189.3,2,  125.34,2,   33.05,3,    0.01,2,    2.25,3,   0.000,2,   0.002,2,  -999.0,9,  -999.0,9,-999.000,9,-999.0000,9, -999.00,9, -999.00,9,  -999.0,9,  -999.0,     0.9510,-999.0000,-999.000,-999.000
31WTTUNES_3,       P16C,     236,          1,          1,          1,2,19910906,       1925,   -10.0032,  -150.9892,       4704,  4723.0,   1.3049,  34.7040,2,  34.7046,2,    192.9,2,   192.8,2,  124.65,2,   33.48,2,    0.00,2,    2.30,2,  -0.002,2,   0.003,2,  -999.0,9,  -999.0,9,-999.000,9,-999.0000,9, -999.00,9, -999.00,9,  -999.0,9,  -999.0,     0.9101,-999.0000,-999.000,-999.000