BOTTLE,20211117CCHSIORKP
EXPOCODE,SECT_ID,STNNBR,CASTNO,SAMPNO,BTLNBR,BTLNBR_FLAG_W,DATE,TIME,LATITUDE,LONGITUDE,DEPTH,CTDPRS,CTDTMP,CTDSAL,CTDSAL_FLAG_W,SALNTY,SALNTY_FLAG_W,CTDOXY,CTDOXY_FLAG_W,OXYGEN,OXYGEN_FLAG_W,SILCAT,SILCAT_FLAG_W,NITRAT,NITRAT_FLAG_W,NITRIT,NITRIT_FLAG_W,PHSPHT,PHSPHT_FLAG_W,CFC-11,CFC-11_FLAG_W,CFC-12,CFC-12_FLAG_W,TCARBN,TCARBN_FLAG_W,ALKALI,ALKALI_FLAG_W,TRITUM,TRITUM_FLAG_W,HELIUM,HELIUM_FLAG_W,DELHE3,DELHE3_FLAG_W,DELC13,DELC13_FLAG_W,DELC14,DELC14_FLAG_W,C14ERR,THETA,HELIER,DELHER,TRITER
,,,,,,,,,,,METERS,DBAR,ITS-90,PSS-78,,PSS-78,,UMOL/KG,,UMOL/KG,,UMOL/KG,,UMOL/KG,,UMOL/KG,,UMOL/KG,,PMOL/KG,,PMOL/KG,,UMOL/KG,,UMOL/KG,,TU,,NMOL/KG,,PERCNT,,/MILLE,,/MILLE,,/MILLE,ITS-90,NMOL/KG,PERCNT,TU
31WTTUNES_3,       P16C,     256,          1,         36,         36,2,19910912,       0944,    -1.9977,  -150.9912,       4760,     4.9,  27.5841,  35.4346,2,  35.4265,2,    216.9,3,   219.0,2,    3.07,2,    4.13,3,    0.21,2,    0.56,2,   1.688,2,   0.936,2,  2010.8,2,  2328.4,2,-999.000,9,-999.0000,9, -999.00,9,    1.33,2,    89.0,2,     3.1,    27.5829,-999.0000,-999.000,-999.000
31WTTUNES_3,       P16C,     256,          1,         35,         35,2,19910912,       0944,    -1.9977,  -150.9912,       4760,    47.4,  27.5430,  35.4540,2,  35.4222,2,    217.8,2,   218.2,2,    2.87,2,    4.13,3,    0.21,2,    0.56,2,   1.676,2,   0.927,2,  2011.7,2,  2326.8,2,   1.138,2,   1.7100,2,   -1.11,2,    1.34,2,    92.2,2,     2.9,    27.5319,   0.0080,   0.150,   0.008
31WTTUNES_3,       P16C,     256,          1,         34,         34,2,19910912,       0944,    -1.9977,  -150.9912,       4760,    85.8,  27.2619,  35.4326,2,  35.4218,2,    214.4,2,   214.1,2,    3.45,2,    4.29,3,    0.26,2,    0.59,2,   1.686,6,   0.938,6,  2014.5,2,  2326.5,2,-999.000,9,-999.0000,9, -999.00,9,    1.27,2,    85.0,2,     3.1,    27.2420,-999.0000,-999.000,-999.000
31WTTUNES_3,       P16C,     256,          1,         33,         33,2,19910912,       0944,    -1.9977,  -150.9912,       4760,   116.0,  26.9187,  35.4646,2,  35.4687,2,    211.9,2,   206.7,2,    3.26,2,    4.14,3,    0.54,2,    0.64,2,   1.682,2,   0.942,2,  2027.1,2,  2331.0,2,   1.085,2,   1.7150,2,   -1.16,2,    1.27,2,    87.5,2,     3.0,    26.8921,   0.0080,   0.150,   0.008
31WTTUNES_3,       P16C,     256,          1,         32,         32,2,19910912,       0944,    -1.9977,  -150.9912,       4760,   146.8,  21.6416,  35.7588,2,  35.6699,2,    154.0,2,   129.6,2,    5.54,2,    8.90,3,    1.48,2,    1.07,2,   0.271,4,   0.168,4,  2127.2,2,  2349.9,2,-999.000,9,-999.0000,9, -999.00,9,    1.08,2,   102.1,2,     2.7,    21.6128,-999.0000,-999.000,-999.000
31WTTUNES_3,       P16C,     256,          1,         31,         31,2,19910912,       0944,    -1.9977,  -150.9912,       4760,   178.5,  14.8880,  35.0795,2,  34.9581,2,     55.1,2,    23.4,2,   21.04,2,   30.77,3,    0.00,2,    2.17,2,   0.385,2,   0.236,2,  2222.6,2,  2303.4,2,   0.427,2,   1.7940,2,    4.97,2,    0.11,2,     1.5,2,     3.0,    14.8610,   0.0080,   0.150,   0.005
31WTTUNES_3,       P16C,     256,          1,         30,         30,2,19910912,       0944,    -1.9977,  -150.9912,       4760,   209.6,  12.7987,  34.9266,2,  34.8937,2,     22.5,2,    25.4,2,   23.88,2,   31.58,3,    0.01,2,    2.23,2,   1.627,4,   0.873,4,  2229.3,2,  2299.3,2,   0.370,2,   1.8010,2,    5.11,2,    0.12,2,   -16.5,2,     2.6,    12.7702,   0.0080,   0.150,   0.005
31WTTUNES_3,       P16C,     256,          1,         29,         29,2,19910912,       0944,    -1.9977,  -150.9912,       4760,   249.7,  12.2905,  34.8887,2,  34.8731,2,     39.3,2,    48.4,2,   23.31,2,   29.69,3,    0.00,2,    2.10,2,   0.306,2,   0.198,2,  2215.7,2,  2303.1,2,   0.329,2,   1.7990,2,    4.70,2,    0.18,2,   -37.3,2,     2.6,    12.2575,   0.0080,   0.150,   0.005
31WTTUNES_3,       P16C,     256,          1,         28,         28,2,19910912,       0944,    -1.9977,  -150.9912,       4760,   310.9,  11.7133,  34.8476,2,  34.8346,2,     23.5,2,    22.0,2,   27.28,2,   33.02,3,    0.00,2,    2.35,2,   0.157,6,   0.101,6,  2241.0,2,  2305.2,2,   0.218,2,   1.8060,2,    4.96,2,    0.01,2,   -45.6,2,     3.1,    11.6733,   0.0080,   0.150,   0.004
31WTTUNES_3,       P16C,     256,          1,         27,         27,2,19910912,       0944,    -1.9977,  -150.9912,       4760,   360.9,  10.9180,  34.8022,2,  34.7811,2,     44.7,2,    72.9,2,   25.01,2,   29.74,3,    0.00,2,    2.08,2,   0.227,2,   0.138,2,  -999.0,9,  2307.2,2,-999.000,9,-999.0000,9, -999.00,9,    0.37,3,   -64.5,2,     4.5,    10.8735,-999.0000,-999.000,-999.000
31WTTUNES_3,       P16C,     256,          1,         26,         26,2,19910912,       0944,    -1.9977,  -150.9912,       4760,   412.0,  10.0391,  34.7423,2,  34.7144,2,     68.7,2,    44.7,2,   31.63,2,   34.85,3,    0.00,2,    2.42,2,   0.080,2,   0.050,2,  2245.6,2,  2304.8,2,   0.086,2,   1.8140,2,    4.97,2,    0.20,2,   -75.9,2,     2.6,     9.9907,   0.0090,   0.150,   0.003
31WTTUNES_3,       P16C,     256,          1,         25,         25,2,19910912,       0944,    -1.9977,  -150.9912,       4760,   462.1,   8.9016,  34.6779,2,  34.6673,2,     45.6,2,    38.6,2,   36.16,2,   37.58,3,    0.00,2,    2.58,2,   0.059,2,   0.041,2,  2257.8,2,  2305.7,2,-999.000,9,-999.0000,9, -999.00,9,    0.09,2,   -94.6,2,     3.1,     8.8512,-999.0000,-999.000,-999.000
31WTTUNES_3,       P16C,     256,          1,         24,         24,2,19910912,       0944,    -1.9977,  -150.9912,       4760,   514.2,   8.2482,  34.6375,2,  34.6323,2,     52.4,2,    58.2,2,   37.48,2,   36.88,3,    0.00,2,    2.52,2,   0.036,2,   0.022,2,  2246.8,2,  2308.3,2,-999.000,9,-999.0000,9, -999.00,9,    0.22,2,   -99.0,2,     2.6,     8.1944,-999.0000,-999.000,-999.000
31WTTUNES_3,       P16C,     256,          1,         23,         23,2,19910912,       0944,    -1.9977,  -150.9912,       4760,   566.4,   7.3741,  34.5938,2,  34.5906,2,     63.7,2,    65.8,2,   43.15,2,   38.04,3,    0.01,2,    2.60,2,   0.020,2,   0.012,2,  2253.7,2,  2310.5,2,-999.000,9,-999.0000,9, -999.00,9, -999.00,9,  -999.0,9,  -999.0,     7.3184,-999.0000,-999.000,-999.000
31WTTUNES_3,       P16C,     256,          1,         22,         22,2,19910912,       0944,    -1.9977,  -150.9912,       4760,   617.6,   7.2034,  34.5912,2,  34.5783,2,     57.2,2,    65.7,2,   46.55,2,   38.93,3,    0.00,2,    2.68,2,-999.000,9,-999.000,9,  2261.0,2,  2316.0,2,-999.000,5,   1.8420,2,    8.24,2, -999.00,9,  -999.0,9,  -999.0,     7.1432,   0.0090,   0.150,-999.000
31WTTUNES_3,       P16C,     256,          1,         21,         21,2,19910912,       0944,    -1.9977,  -150.9912,       4760,   719.8,   6.3074,  34.5611,2,  34.5537,2,     65.4,2,    69.9,2,   57.88,2,   40.23,3,    0.01,2,    2.78,2,   0.037,4,   0.227,4,  2273.8,2,  -999.0,9,-999.000,9,-999.0000,9, -999.00,9,    0.22,2,  -134.4,2,     2.6,     6.2416,-999.0000,-999.000,-999.000
31WTTUNES_3,       P16C,     256,          1,         20,         20,2,19910912,       0944,    -1.9977,  -150.9912,       4760,   822.2,   5.5521,  34.5468,2,  34.5431,2,     80.0,2,    84.5,2,   68.44,2,   39.69,3,    0.00,2,    2.75,2,-999.000,9,-999.000,9,  2278.1,2,  2342.1,2,-999.000,9,-999.0000,9, -999.00,9, -999.00,9,  -999.0,9,  -999.0,     5.4811,-999.0000,-999.000,-999.000
31WTTUNES_3,       P16C,     256,          1,         19,         19,2,19910912,       0944,    -1.9977,  -150.9912,       4760,   925.1,   4.8266,  34.5482,2,  34.5470,2,     88.2,2,    86.3,2,   77.68,2,   40.08,3,    0.00,2,    2.79,2,   0.000,2,   0.007,2,  2290.9,2,  2349.5,2,-999.000,9,-999.0000,9, -999.00,9, -999.00,9,  -999.0,9,  -999.0,     4.7513,-999.0000,-999.000,-999.000
31WTTUNES_3,       P16C,     256,          1,         18,         18,2,19910912,       0944,    -1.9977,  -150.9912,       4760,  1026.2,   4.5135,  34.5534,2,  34.5527,2,     88.0,2,    87.9,2,   84.70,2,   40.31,3,    0.00,2,    2.82,2,-999.000,9,-999.000,9,  -999.0,9,  -999.0,9,-999.000,9,-999.0000,9, -999.00,9,    0.09,2,  -175.4,2,     2.5,     4.4315,-999.0000,-999.000,-999.000
31WTTUNES_3,       P16C,     256,          1,         17,         17,2,19910912,       0944,    -1.9977,  -150.9912,       4760,  1231.0,   3.7288,  34.5745,2,  34.5732,2,     94.8,2,    94.1,2,  100.12,2,   40.23,3,    0.00,2,    2.81,2,-999.000,9,-999.000,9,  -999.0,9,  -999.0,9,-999.000,9,-999.0000,9, -999.00,9, -999.00,9,  -999.0,9,  -999.0,     3.6359,-999.0000,-999.000,-999.000
31WTTUNES_3,       P16C,     256,          1,         16,         16,2,19910912,       0944,    -1.9977,  -150.9912,       4760,  1434.8,   3.1391,  34.5955,2,  34.5942,2,    104.7,2,   103.2,2,  112.94,2,   39.74,3,    0.00,2,    2.77,2,-999.000,9,-999.000,9,  -999.0,9,  -999.0,9,-999.000,9,-999.0000,9, -999.00,9, -999.00,9,  -999.0,9,  -999.0,     3.0351,-999.0000,-999.000,-999.000
31WTTUNES_3,       P16C,     256,          1,         15,         15,2,19910912,       0944,    -1.9977,  -150.9912,       4760,  1639.7,   2.7507,  34.6157,2,  34.6227,2,    102.0,2,   101.2,2,  125.74,2,   39.97,3,    0.01,2,    2.79,2,-999.000,9,-999.000,9,  -999.0,9,  -999.0,9,-999.000,9,-999.0000,9, -999.00,9, -999.00,9,  -999.0,9,  -999.0,     2.6342,-999.0000,-999.000,-999.000
31WTTUNES_3,       P16C,     256,          1,         14,         14,2,19910912,       0944,    -1.9977,  -150.9912,       4760,  1844.7,   2.3999,  34.6361,2,  34.6350,2,    103.4,2,   103.6,2,  136.09,2,   40.05,3,    0.01,2,    2.79,2,-999.000,9,-999.000,9,  -999.0,9,  -999.0,9,-999.000,9,-999.0000,9, -999.00,9, -999.00,9,  -999.0,9,  -999.0,     2.2707,-999.0000,-999.000,-999.000
31WTTUNES_3,       P16C,     256,          1,         13,         13,2,19910912,       0944,    -1.9977,  -150.9912,       4760,  2049.5,   2.2370,  34.6461,2,  34.6441,2,    105.9,2,   106.4,2,  141.73,2,   39.87,3,    0.01,2,    2.77,2,-999.000,9,-999.000,9,  -999.0,9,  -999.0,9,-999.000,9,-999.0000,9, -999.00,9, -999.00,9,  -999.0,9,  -999.0,     2.0926,-999.0000,-999.000,-999.000
31WTTUNES_3,       P16C,     256,          1,         12,         12,2,19910912,       0944,    -1.9977,  -150.9912,       4760,  2255.7,   2.0577,  34.6537,2,  34.6519,2,    115.3,2,   115.8,2,  142.84,2,   39.17,3,    0.00,2,    2.71,2,-999.000,9,-999.000,9,  -999.0,9,  -999.0,9,-999.000,9,-999.0000,9, -999.00,9, -999.00,9,  -999.0,9,  -999.0,     1.8982,-999.0000,-999.000,-999.000
31WTTUNES_3,       P16C,     256,          1,         11,         11,2,19910912,       0944,    -1.9977,  -150.9912,       4760,  2461.6,   1.9360,  34.6593,2,  34.6576,2,    121.8,2,   121.8,2,  143.76,2,   38.89,3,    0.00,2,    2.68,2,-999.000,9,-999.000,9,  -999.0,9,  -999.0,9,-999.000,9,-999.0000,9, -999.00,9, -999.00,9,  -999.0,9,  -999.0,     1.7604,-999.0000,-999.000,-999.000
31WTTUNES_3,       P16C,     256,          1,         10,         10,2,19910912,       0944,    -1.9977,  -150.9912,       4760,  2668.4,   1.8230,  34.6651,2,  34.6631,2,    128.9,2,   129.7,2,  144.11,2,   38.40,3,    0.00,2,    2.63,2,-999.000,9,-999.000,9,  -999.0,9,  -999.0,9,-999.000,9,-999.0000,9, -999.00,9, -999.00,9,  -999.0,9,  -999.0,     1.6305,-999.0000,-999.000,-999.000
31WTTUNES_3,       P16C,     256,          1,          9,          9,2,19910912,       0944,    -1.9977,  -150.9912,       4760,  2876.9,   1.7266,  34.6699,2,  34.6684,2,    135.1,2,   135.7,2,  144.07,2,   37.93,3,    0.00,2,    2.59,2,-999.000,9,-999.000,9,  -999.0,9,  -999.0,9,-999.000,9,-999.0000,9, -999.00,9, -999.00,9,  -999.0,9,  -999.0,     1.5166,-999.0000,-999.000,-999.000
31WTTUNES_3,       P16C,     256,          1,          8,          8,2,19910912,       0944,    -1.9977,  -150.9912,       4760,  3082.6,   1.6608,  34.6748,2,  34.6745,2,    142.0,2,   142.6,2,  143.12,2,   37.49,3,    0.01,2,    2.56,2,-999.000,9,-999.000,9,  -999.0,9,  -999.0,9,-999.000,9,-999.0000,9, -999.00,9, -999.00,9,  -999.0,9,  -999.0,     1.4325,-999.0000,-999.000,-999.000
31WTTUNES_3,       P16C,     256,          1,          7,          7,2,19910912,       0944,    -1.9977,  -150.9912,       4760,  3343.9,   1.5362,  34.6822,2,  34.6954,4,    148.6,2,   149.1,2,  144.96,2,   37.05,3,    0.00,2,    2.52,2,-999.000,9,-999.000,9,  -999.0,9,  -999.0,9,-999.000,9,-999.0000,9, -999.00,9, -999.00,9,  -999.0,9,  -999.0,     1.2850,-999.0000,-999.000,-999.000
31WTTUNES_3,       P16C,     256,          1,          6,          6,2,19910912,       0944,    -1.9977,  -150.9912,       4760,  3603.7,   1.4650,  34.6884,2,  34.6877,2,    154.8,2,   155.3,2,  146.26,2,   36.77,3,    0.00,2,    2.48,2,-999.000,9,-999.000,9,  -999.0,9,  -999.0,9,-999.000,9,-999.0000,9, -999.00,9, -999.00,9,  -999.0,9,  -999.0,     1.1891,-999.0000,-999.000,-999.000
31WTTUNES_3,       P16C,     256,          1,          5,          5,2,19910912,       0944,    -1.9977,  -150.9912,       4760,  3863.0,   1.4167,  34.6919,2,  34.6922,2,    160.3,2,   160.5,2,  145.11,2,   36.32,3,    0.01,2,    2.46,2,-999.000,9,-999.000,9,  -999.0,9,  -999.0,9,-999.000,9,-999.0000,9, -999.00,9, -999.00,9,  -999.0,9,  -999.0,     1.1147,-999.0000,-999.000,-999.000
31WTTUNES_3,       P16C,     256,          1,          4,          4,2,19910912,       0944,    -1.9977,  -150.9912,       4760,  4123.3,   1.4001,  34.6939,2,  34.6932,2,    164.8,2,   164.9,2,  143.02,2,   35.93,3,    0.00,2,    2.42,2,-999.000,9,-999.000,9,  -999.0,9,  -999.0,9,-999.000,9,-999.0000,9, -999.00,9, -999.00,9,  -999.0,9,  -999.0,     1.0704,-999.0000,-999.000,-999.000
31WTTUNES_3,       P16C,     256,          1,          3,          3,2,19910912,       0944,    -1.9977,  -150.9912,       4760,  4385.1,   1.3904,  34.6956,2,  34.6965,2,    170.3,2,   170.2,2,  139.98,2,   35.49,3,    0.00,2,    2.40,2,-999.000,9,-999.000,9,  -999.0,9,  -999.0,9,-999.000,9,-999.0000,9, -999.00,9, -999.00,9,  -999.0,9,  -999.0,     1.0319,-999.0000,-999.000,-999.000
31WTTUNES_3,       P16C,     256,          1,          2,          2,2,19910912,       0944,    -1.9977,  -150.9912,       4760,  4643.7,   1.3275,  34.6999,2,  34.7024,2,    184.7,2,   183.7,2,  130.74,2,   34.31,3,    0.00,2,    2.34,2,-999.000,9,-999.000,9,  -999.0,9,  -999.0,9,-999.000,9,-999.0000,9, -999.00,9, -999.00,9,  -999.0,9,  -999.0,     0.9412,-999.0000,-999.000,-999.000
31WTTUNES_3,       P16C,     256,          1,          1,          1,2,19910912,       0944,    -1.9977,  -150.9912,       4760,  4821.0,   1.3259,  34.7008,2,  34.7019,2,    186.4,2,   185.9,2,  130.35,2,   34.18,3,    0.00,2,    2.33,2,-999.000,9,-999.000,9,  -999.0,9,  -999.0,9,-999.000,9,-999.0000,9, -999.00,9, -999.00,9,  -999.0,9,  -999.0,     0.9189,-999.0000,-999.000,-999.000
31WTTUNES_3,       P16C,     257,          1,         11,         11,4,19910912,       1412,    -1.8327,  -150.9933,       4839,    20.9,  27.6144,  35.4421,2,-999.0000,9,    199.0,2,  -999.0,9, -999.00,9, -999.00,9, -999.00,9, -999.00,9,-999.000,9,-999.000,9,  -999.0,9,  -999.0,9,-999.000,9,-999.0000,9, -999.00,9, -999.00,9,  -999.0,9,  -999.0,    27.6096,-999.0000,-999.000,-999.000
31WTTUNES_3,       P16C,     257,          1,         10,         10,2,19910912,       1412,    -1.8327,  -150.9933,       4839,   136.5,  24.8143,  35.8046,2,  35.8230,2,    155.1,2,   158.4,2, -999.00,9, -999.00,9, -999.00,9, -999.00,9,-999.000,9,-999.000,9,  -999.0,9,  -999.0,9,-999.000,9,-999.0000,9, -999.00,9, -999.00,9,  -999.0,9,  -999.0,    24.7848,-999.0000,-999.000,-999.000
31WTTUNES_3,       P16C,     257,          1,          9,          9,2,19910912,       1412,    -1.8327,  -150.9933,       4839,   299.6,  11.6067,  34.8392,2,  34.8418,2,     27.0,2,    31.1,2, -999.00,9, -999.00,9, -999.00,9, -999.00,9,-999.000,9,-999.000,9,  -999.0,9,  -999.0,9,-999.000,9,-999.0000,9, -999.00,9, -999.00,9,  -999.0,9,  -999.0,    11.5684,-999.0000,-999.000,-999.000
31WTTUNES_3,       P16C,     257,          1,          8,          8,2,19910912,       1412,    -1.8327,  -150.9933,       4839,   483.7,   8.6376,  34.6535,2,  34.6582,2,     52.3,2,    47.7,2, -999.00,9, -999.00,9, -999.00,9, -999.00,9,-999.000,9,-999.000,9,  -999.0,9,  -999.0,9,-999.000,9,-999.0000,9, -999.00,9, -999.00,9,  -999.0,9,  -999.0,     8.5857,-999.0000,-999.000,-999.000
31WTTUNES_3,       P16C,     257,          1,          7,          7,2,19910912,       1412,    -1.8327,  -150.9933,       4839,   728.3,   6.2402,  34.5506,2,  34.5514,2,     78.2,2,    76.6,2, -999.00,9, -999.00,9, -999.00,9, -999.00,9,-999.000,9,-999.000,9,  -999.0,9,  -999.0,9,-999.000,9,-999.0000,9, -999.00,9, -999.00,9,  -999.0,9,  -999.0,     6.1740,-999.0000,-999.000,-999.000
31WTTUNES_3,       P16C,     257,          1,          6,          6,2,19910912,       1412,    -1.8327,  -150.9933,       4839,  1538.4,   2.8358,  34.6065,2,  34.6058,2,    100.7,2,   102.1,2, -999.00,9, -999.00,9, -999.00,9, -999.00,9,-999.000,9,-999.000,9,  -999.0,9,  -999.0,9,-999.000,9,-999.0000,9, -999.00,9, -999.00,9,  -999.0,9,  -999.0,     2.7265,-999.0000,-999.000,-999.000
31WTTUNES_3,       P16C,     257,          1,          5,          5,2,19910912,       1412,    -1.8327,  -150.9933,       4839,  3086.3,   1.6576,  34.6727,2,  34.6749,2,    138.1,2,   142.0,2, -999.00,9, -999.00,9, -999.00,9, -999.00,9,-999.000,9,-999.000,9,  -999.0,9,  -999.0,9,-999.000,9,-999.0000,9, -999.00,9, -999.00,9,  -999.0,9,  -999.0,     1.4290,-999.0000,-999.000,-999.000
31WTTUNES_3,       P16C,     257,          1,          4,          4,2,19910912,       1412,    -1.8327,  -150.9933,       4839,  3603.4,   1.4821,  34.6852,2,  34.6857,2,    152.8,2,   155.4,2, -999.00,9, -999.00,9, -999.00,9, -999.00,9,-999.000,9,-999.000,9,  -999.0,9,  -999.0,9,-999.000,9,-999.0000,9, -999.00,9, -999.00,9,  -999.0,9,  -999.0,     1.2058,-999.0000,-999.000,-999.000
31WTTUNES_3,       P16C,     257,          1,          3,          3,2,19910912,       1412,    -1.8327,  -150.9933,       4839,  4123.4,   1.4044,  34.6933,2,  34.6936,2,    163.8,2,   164.7,2, -999.00,9, -999.00,9, -999.00,9, -999.00,9,-999.000,9,-999.000,9,  -999.0,9,  -999.0,9,-999.000,9,-999.0000,9, -999.00,9, -999.00,9,  -999.0,9,  -999.0,     1.0746,-999.0000,-999.000,-999.000
31WTTUNES_3,       P16C,     257,          1,          2,          2,2,19910912,       1412,    -1.8327,  -150.9933,       4839,  4643.5,   1.3423,  34.6993,2,  34.7003,2,    183.3,2,   183.0,2, -999.00,9, -999.00,9, -999.00,9, -999.00,9,-999.000,9,-999.000,9,  -999.0,9,  -999.0,9,-999.000,9,-999.0000,9, -999.00,9, -999.00,9,  -999.0,9,  -999.0,     0.9556,-999.0000,-999.000,-999.000
31WTTUNES_3,       P16C,     257,          1,          1,          1,2,19910912,       1412,    -1.8327,  -150.9933,       4839,  4899.0,   1.3310,  34.7019,2,  34.7056,2,    186.8,2,   187.0,2, -999.00,9, -999.00,9, -999.00,9, -999.00,9,-999.000,9,-999.000,9,  -999.0,9,  -999.0,9,-999.000,9,-999.0000,9, -999.00,9, -999.00,9,  -999.0,9,  -999.0,     0.9145,-999.0000,-999.000,-999.000