BOTTLE,20211117CCHSIORKP
EXPOCODE,SECT_ID,STNNBR,CASTNO,SAMPNO,BTLNBR,BTLNBR_FLAG_W,DATE,TIME,LATITUDE,LONGITUDE,DEPTH,CTDPRS,CTDTMP,CTDSAL,CTDSAL_FLAG_W,SALNTY,SALNTY_FLAG_W,CTDOXY,CTDOXY_FLAG_W,OXYGEN,OXYGEN_FLAG_W,SILCAT,SILCAT_FLAG_W,NITRAT,NITRAT_FLAG_W,NITRIT,NITRIT_FLAG_W,PHSPHT,PHSPHT_FLAG_W,CFC-11,CFC-11_FLAG_W,CFC-12,CFC-12_FLAG_W,TCARBN,TCARBN_FLAG_W,ALKALI,ALKALI_FLAG_W,TRITUM,TRITUM_FLAG_W,HELIUM,HELIUM_FLAG_W,DELHE3,DELHE3_FLAG_W,DELC13,DELC13_FLAG_W,DELC14,DELC14_FLAG_W,C14ERR,THETA,HELIER,DELHER,TRITER
,,,,,,,,,,,METERS,DBAR,ITS-90,PSS-78,,PSS-78,,UMOL/KG,,UMOL/KG,,UMOL/KG,,UMOL/KG,,UMOL/KG,,UMOL/KG,,PMOL/KG,,PMOL/KG,,UMOL/KG,,UMOL/KG,,TU,,NMOL/KG,,PERCNT,,/MILLE,,/MILLE,,/MILLE,ITS-90,NMOL/KG,PERCNT,TU
31WTTUNES_3,       P16C,     301,          1,         36,         36,2,19910923,       1509,    10.4025,  -152.0238,       4700,     6.3,  28.0592,  33.8990,2,  33.9021,2,    218.0,3,   220.3,2,    1.93,2,    0.05,2,    0.00,2,    0.16,2,-999.000,9,-999.000,9,  -999.0,9,  -999.0,9,-999.000,9,-999.0000,9, -999.00,9, -999.00,9,  -999.0,9,  -999.0,    28.0577,-999.0000,-999.000,-999.000
31WTTUNES_3,       P16C,     301,          1,         35,         35,2,19910923,       1509,    10.4025,  -152.0238,       4700,    35.2,  27.8012,  33.9762,2,  34.4652,2,    210.1,2,   227.5,2,    2.33,2,    0.05,2,    0.00,2,    0.21,2,-999.000,9,-999.000,9,  -999.0,9,  -999.0,9,-999.000,9,-999.0000,9, -999.00,9, -999.00,9,  -999.0,9,  -999.0,    27.7930,-999.0000,-999.000,-999.000
31WTTUNES_3,       P16C,     301,          1,         34,         34,2,19910923,       1509,    10.4025,  -152.0238,       4700,    65.7,  21.5281,  34.8909,2,  34.8869,2,    224.4,2,   203.9,2,    3.31,2,    0.84,2,    0.03,2,    0.28,2,-999.000,9,-999.000,9,  -999.0,9,  -999.0,9,-999.000,9,-999.0000,9, -999.00,9, -999.00,9,  -999.0,9,  -999.0,    21.5154,-999.0000,-999.000,-999.000
31WTTUNES_3,       P16C,     301,          1,         33,         33,2,19910923,       1509,    10.4025,  -152.0238,       4700,    86.5,  17.9930,  34.6891,2,  34.4981,2,    176.9,2,   132.3,2,   10.69,2,   13.33,2,    0.12,2,    1.12,2,-999.000,9,-999.000,9,  -999.0,9,  -999.0,9,-999.000,9,-999.0000,9, -999.00,9, -999.00,9,  -999.0,9,  -999.0,    17.9782,-999.0000,-999.000,-999.000
31WTTUNES_3,       P16C,     301,          1,         32,         32,2,19910923,       1509,    10.4025,  -152.0238,       4700,   107.3,  14.7282,  34.3995,2,  34.3861,2,    101.8,2,    75.7,2,   21.26,2,   23.94,2,    0.01,2,    1.89,2,-999.000,9,-999.000,9,  -999.0,9,  -999.0,9,-999.000,9,-999.0000,9, -999.00,9, -999.00,9,  -999.0,9,  -999.0,    14.7123,-999.0000,-999.000,-999.000
31WTTUNES_3,       P16C,     301,          1,         31,         31,2,19910923,       1509,    10.4025,  -152.0238,       4700,   127.0,  12.7566,  34.3401,2,  34.5975,2,     79.7,2,    23.9,2,   27.82,2,   30.52,2,    0.01,2,    2.35,2,-999.000,9,-999.000,9,  -999.0,9,  -999.0,9,-999.000,9,-999.0000,9, -999.00,9, -999.00,9,  -999.0,9,  -999.0,    12.7395,-999.0000,-999.000,-999.000
31WTTUNES_3,       P16C,     301,          1,         30,         30,2,19910923,       1509,    10.4025,  -152.0238,       4700,   147.8,  11.9569,  34.6332,2,  34.6293,2,     17.3,2,    21.7,2,   30.23,2,   32.00,2,    0.01,2,    2.39,2,-999.000,9,-999.000,9,  -999.0,9,  -999.0,9,-999.000,9,-999.0000,9, -999.00,9, -999.00,9,  -999.0,9,  -999.0,    11.9378,-999.0000,-999.000,-999.000
31WTTUNES_3,       P16C,     301,          1,         29,         29,2,19910923,       1509,    10.4025,  -152.0238,       4700,   168.4,  11.2857,  34.6148,2,  34.5844,2,     25.3,2,    29.7,2,   31.62,2,   31.68,2,    0.00,2,    2.38,2,-999.000,9,-999.000,9,  -999.0,9,  -999.0,9,-999.000,9,-999.0000,9, -999.00,9, -999.00,9,  -999.0,9,  -999.0,    11.2647,-999.0000,-999.000,-999.000
31WTTUNES_3,       P16C,     301,          1,         28,         28,2,19910923,       1509,    10.4025,  -152.0238,       4700,   208.8,  10.1324,  34.5804,2,  34.5802,2,     24.5,2,    24.8,2,   35.21,2,   33.05,2,    0.00,2,    2.47,2,-999.000,9,-999.000,9,  -999.0,9,  -999.0,9,-999.000,9,-999.0000,9, -999.00,9, -999.00,9,  -999.0,9,  -999.0,    10.1081,-999.0000,-999.000,-999.000
31WTTUNES_3,       P16C,     301,          1,         27,         27,2,19910923,       1509,    10.4025,  -152.0238,       4700,   261.0,   9.5496,  34.6036,2,  34.6030,2,     20.4,2,    20.1,2,   38.41,2,   34.80,2,    0.00,2,    2.55,2,-999.000,9,-999.000,9,  -999.0,9,  -999.0,9,-999.000,9,-999.0000,9, -999.00,9, -999.00,9,  -999.0,9,  -999.0,     9.5202,-999.0000,-999.000,-999.000
31WTTUNES_3,       P16C,     301,          1,         26,         26,2,19910923,       1509,    10.4025,  -152.0238,       4700,   311.2,   9.0176,  34.5921,2,  34.5916,2,     23.1,2,    23.0,2,   41.80,2,   35.75,2,    0.00,2,    2.61,2,-999.000,9,-999.000,9,  -999.0,9,  -999.0,9,-999.000,9,-999.0000,9, -999.00,9, -999.00,9,  -999.0,9,  -999.0,     8.9837,-999.0000,-999.000,-999.000
31WTTUNES_3,       P16C,     301,          1,         25,         25,2,19910923,       1509,    10.4025,  -152.0238,       4700,   411.8,   8.1890,  34.5807,2,  34.5777,2,     26.3,2,    25.9,2,   48.20,2,   37.23,2,    0.00,2,    2.73,2,-999.000,9,-999.000,9,  -999.0,9,  -999.0,9,-999.000,9,-999.0000,9, -999.00,9, -999.00,9,  -999.0,9,  -999.0,     8.1464,-999.0000,-999.000,-999.000
31WTTUNES_3,       P16C,     301,          1,         24,         24,2,19910923,       1509,    10.4025,  -152.0238,       4700,   513.0,   7.2848,  34.5427,2,  34.5451,2,     25.2,2,    28.7,2,   56.59,2,   38.31,2,    0.00,2,    2.82,2,-999.000,9,-999.000,9,  -999.0,9,  -999.0,9,-999.000,9,-999.0000,9, -999.00,9, -999.00,9,  -999.0,9,  -999.0,     7.2349,-999.0000,-999.000,-999.000
31WTTUNES_3,       P16C,     301,          1,         23,         23,2,19910923,       1509,    10.4025,  -152.0238,       4700,   614.4,   6.4053,  34.5258,2,  34.5272,2,     30.0,2,    20.2,2,   68.18,2,   40.54,2,    0.00,2,    3.01,2,-999.000,9,-999.000,9,  -999.0,9,  -999.0,9,-999.000,9,-999.0000,9, -999.00,9, -999.00,9,  -999.0,9,  -999.0,     6.3492,-999.0000,-999.000,-999.000
31WTTUNES_3,       P16C,     301,          1,         22,         22,2,19910923,       1509,    10.4025,  -152.0238,       4700,   716.5,   5.7177,  34.5303,2,  34.5305,2,     18.7,2,    15.7,2,   78.37,2,   42.72,2,    0.00,2,    3.14,2,-999.000,9,-999.000,9,  -999.0,9,  -999.0,9,-999.000,9,-999.0000,9, -999.00,9, -999.00,9,  -999.0,9,  -999.0,     5.6555,-999.0000,-999.000,-999.000
31WTTUNES_3,       P16C,     301,          1,         21,         21,2,19910923,       1509,    10.4025,  -152.0238,       4700,   817.9,   5.0452,  34.5386,2,  34.5329,2,     26.3,2,    22.0,2,   84.97,2,   43.14,2,    0.00,2,    3.14,2,-999.000,9,-999.000,9,  -999.0,9,  -999.0,9,-999.000,9,-999.0000,9, -999.00,9, -999.00,9,  -999.0,9,  -999.0,     4.9778,-999.0000,-999.000,-999.000
31WTTUNES_3,       P16C,     301,          1,         20,         20,2,19910923,       1509,    10.4025,  -152.0238,       4700,   919.0,   4.6331,  34.5487,2,  34.5457,2,     35.6,2,    32.8,2,   94.76,2,   43.38,2,    0.00,2,    3.13,2,-999.000,9,-999.000,9,  -999.0,9,  -999.0,9,-999.000,9,-999.0000,9, -999.00,9, -999.00,9,  -999.0,9,  -999.0,     4.5595,-999.0000,-999.000,-999.000
31WTTUNES_3,       P16C,     301,          1,         19,         19,2,19910923,       1509,    10.4025,  -152.0238,       4700,  1020.4,   4.2333,  34.5609,2,  34.5557,2,     45.2,2,    43.1,2,  103.18,2,   42.85,2,    0.00,2,    3.10,2,-999.000,9,-999.000,9,  -999.0,9,  -999.0,9,-999.000,9,-999.0000,9, -999.00,9, -999.00,9,  -999.0,9,  -999.0,     4.1540,-999.0000,-999.000,-999.000
31WTTUNES_3,       P16C,     301,          1,         18,         18,2,19910923,       1509,    10.4025,  -152.0238,       4700,  1222.8,   3.5632,  34.5829,2,  34.5802,2,     62.6,2,    60.0,2,  116.79,2,   41.91,2,    0.00,2,    3.02,2,-999.000,9,-999.000,9,  -999.0,9,  -999.0,9,-999.000,9,-999.0000,9, -999.00,9, -999.00,9,  -999.0,9,  -999.0,     3.4727,-999.0000,-999.000,-999.000
31WTTUNES_3,       P16C,     301,          1,         17,         17,2,19910923,       1509,    10.4025,  -152.0238,       4700,  1428.9,   3.0920,  34.5994,2,  34.5957,2,     73.0,2,    71.2,2,  127.19,2,   41.25,2,    0.00,2,    2.95,2,-999.000,9,-999.000,9,  -999.0,9,  -999.0,9,-999.000,9,   1.8840,2,   23.35,2, -999.00,9,  -999.0,9,  -999.0,     2.9889,-999.0000,-999.000,-999.000
31WTTUNES_3,       P16C,     301,          1,         16,         16,2,19910923,       1509,    10.4025,  -152.0238,       4700,  1632.6,   2.5905,  34.6199,2,  34.6176,2,     86.9,2,    86.3,2,  138.41,2,   40.29,2,    0.00,2,    2.85,2,-999.000,9,-999.000,9,  -999.0,9,  -999.0,9,-999.000,9,   1.8970,2,   24.98,2, -999.00,9,  -999.0,9,  -999.0,     2.4764,-999.0000,-999.000,-999.000
31WTTUNES_3,       P16C,     301,          1,         15,         15,2,19910923,       1509,    10.4025,  -152.0238,       4700,  1836.4,   2.2865,  34.6358,2,  34.6335,2,     94.7,2,    94.5,2,  146.62,2,   39.77,2,    0.00,2,    2.82,2,-999.000,9,-999.000,9,  -999.0,9,  -999.0,9,-999.000,9,-999.0000,9, -999.00,9, -999.00,9,  -999.0,9,  -999.0,     2.1596,-999.0000,-999.000,-999.000
31WTTUNES_3,       P16C,     301,          1,         14,         14,2,19910923,       1509,    10.4025,  -152.0238,       4700,  2042.3,   2.0745,  34.6486,2,  34.6470,2,    102.0,2,   101.5,2,  151.05,2,   39.34,2,    0.00,2,    2.77,2,-999.000,9,-999.000,9,  -999.0,9,  -999.0,9,-999.000,9,   1.9230,2,   28.45,2, -999.00,9,  -999.0,9,  -999.0,     1.9332,-999.0000,-999.000,-999.000
31WTTUNES_3,       P16C,     301,          1,         13,         13,2,19910923,       1509,    10.4025,  -152.0238,       4700,  2250.4,   1.9621,  34.6568,2,  34.6578,2,    107.8,2,   107.7,2,  153.68,2,   38.96,2,    0.00,2,    2.73,2,-999.000,9,-999.000,9,  -999.0,9,  -999.0,9,-999.000,9,-999.0000,9, -999.00,9, -999.00,9,  -999.0,9,  -999.0,     1.8048,-999.0000,-999.000,-999.000
31WTTUNES_3,       P16C,     301,          1,         12,         12,3,19910923,       1509,    10.4025,  -152.0238,       4700,  2403.9,   1.8937,  34.6616,2,  34.5622,4,    111.2,2,    95.3,4,   98.08,4,   32.87,4,    0.01,4,    2.37,4,-999.000,9,-999.000,9,  -999.0,9,  -999.0,9,-999.000,9,-999.0000,9, -999.00,9, -999.00,9,  -999.0,9,  -999.0,     1.7241,-999.0000,-999.000,-999.000
31WTTUNES_3,       P16C,     301,          1,         11,         11,2,19910923,       1509,    10.4025,  -152.0238,       4700,  2558.5,   1.8484,  34.6654,2,  34.6651,2,    114.4,2,   113.0,2,  156.92,2,   38.48,2,    0.00,2,    2.69,2,-999.000,9,-999.000,9,  -999.0,9,  -999.0,9,-999.000,9,   1.9190,2,   31.21,2, -999.00,9,  -999.0,9,  -999.0,     1.6655,-999.0000,-999.000,-999.000
31WTTUNES_3,       P16C,     301,          1,         10,         10,2,19910923,       1509,    10.4025,  -152.0238,       4700,  2709.0,   1.8060,  34.6684,2,  34.6679,2,    115.6,2,   116.2,2,  157.55,2,   38.33,2,    0.00,2,    2.67,2,-999.000,9,-999.000,9,  -999.0,9,  -999.0,9,-999.000,9,   1.9430,2,   30.76,2, -999.00,9,  -999.0,9,  -999.0,     1.6101,-999.0000,-999.000,-999.000
31WTTUNES_3,       P16C,     301,          1,          9,          9,2,19910923,       1509,    10.4025,  -152.0238,       4700,  2858.6,   1.7653,  34.6706,2,  34.6704,2,    119.4,2,   119.3,2,  158.17,2,   38.05,2,    0.00,2,    2.65,2,-999.000,9,-999.000,9,  -999.0,9,  -999.0,9,-999.000,9,   1.9480,2,   29.35,2, -999.00,9,  -999.0,9,  -999.0,     1.5562,-999.0000,-999.000,-999.000
31WTTUNES_3,       P16C,     301,          1,          8,          8,2,19910923,       1509,    10.4025,  -152.0238,       4700,  3063.0,   1.6818,  34.6753,2,  34.6739,2,    125.1,2,   125.7,2,  158.41,2,   37.67,2,    0.00,2,    2.62,2,-999.000,9,-999.000,9,  -999.0,9,  -999.0,9,-999.000,9,   1.9340,2,   26.21,2, -999.00,9,  -999.0,9,  -999.0,     1.4549,-999.0000,-999.000,-999.000
31WTTUNES_3,       P16C,     301,          1,          7,          7,2,19910923,       1509,    10.4025,  -152.0238,       4700,  3325.1,   1.6007,  34.6789,2,  34.6777,2,    133.0,2,   134.3,2,  158.23,2,   37.09,2,    0.00,2,    2.58,2,-999.000,9,-999.000,9,  -999.0,9,  -999.0,9,-999.000,9,   1.9060,2,   22.62,2, -999.00,9,  -999.0,9,  -999.0,     1.3498,-999.0000,-999.000,-999.000
31WTTUNES_3,       P16C,     301,          1,          6,          6,2,19910923,       1509,    10.4025,  -152.0238,       4700,  3587.4,   1.5438,  34.6824,2,  34.6808,2,    141.2,2,   143.3,2,  155.05,2,   36.62,2,    0.00,2,    2.53,2,-999.000,9,-999.000,9,  -999.0,9,  -999.0,9,-999.000,9,   1.9040,2,   20.06,2, -999.00,9,  -999.0,9,  -999.0,     1.2676,-999.0000,-999.000,-999.000
31WTTUNES_3,       P16C,     301,          1,          5,          5,2,19910923,       1509,    10.4025,  -152.0238,       4700,  3848.8,   1.4773,  34.6872,2,  34.6861,2,    153.0,2,   153.9,2,  150.26,2,   35.95,2,    0.00,2,    2.48,2,-999.000,9,-999.000,9,  -999.0,9,  -999.0,9,-999.000,9,   1.8990,2,   18.56,2, -999.00,9,  -999.0,9,  -999.0,     1.1753,-999.0000,-999.000,-999.000
31WTTUNES_3,       P16C,     301,          1,          4,          4,2,19910923,       1509,    10.4025,  -152.0238,       4700,  4105.4,   1.4169,  34.6910,2,  34.6897,2,    161.6,2,   162.2,2,  146.89,2,   35.24,2,    0.00,2,    2.43,2,-999.000,9,-999.000,9,  -999.0,9,  -999.0,9,-999.000,9,   1.8940,2,   14.95,2, -999.00,9,  -999.0,9,  -999.0,     1.0887,-999.0000,-999.000,-999.000
31WTTUNES_3,       P16C,     301,          1,          3,          3,2,19910923,       1509,    10.4025,  -152.0238,       4700,  4364.2,   1.3710,  34.6949,2,  34.6934,2,    171.4,2,   171.3,2,  141.50,2,   34.66,2,    0.00,2,    2.39,2,-999.000,9,-999.000,9,  -999.0,9,  -999.0,9,-999.000,9,   1.9020,2,   14.93,2, -999.00,9,  -999.0,9,  -999.0,     1.0155,-999.0000,-999.000,-999.000
31WTTUNES_3,       P16C,     301,          1,          2,          2,2,19910923,       1509,    10.4025,  -152.0238,       4700,  4625.7,   1.3630,  34.6968,2,  34.6975,2,    177.0,2,   176.3,2,  138.92,2,   34.38,2,    0.00,2,    2.38,2,-999.000,9,-999.000,9,  -999.0,9,  -999.0,9,-999.000,9,   1.9270,3,   13.86,2, -999.00,9,  -999.0,9,  -999.0,     0.9778,-999.0000,-999.000,-999.000
31WTTUNES_3,       P16C,     301,          1,          1,          1,2,19910923,       1509,    10.4025,  -152.0238,       4700,  4867.0,   1.3859,  34.6970,2,  34.6971,2,    176.9,2,   178.1,2,  138.73,2,   34.28,2,    0.00,2,    2.36,2,-999.000,9,-999.000,9,  -999.0,9,  -999.0,9,-999.000,9,-999.0000,9, -999.00,9, -999.00,9,  -999.0,9,  -999.0,     0.9715,-999.0000,-999.000,-999.000