BOTTLE,20211117CCHSIORKP
EXPOCODE,SECT_ID,STNNBR,CASTNO,SAMPNO,BTLNBR,BTLNBR_FLAG_W,DATE,TIME,LATITUDE,LONGITUDE,DEPTH,CTDPRS,CTDTMP,CTDSAL,CTDSAL_FLAG_W,SALNTY,SALNTY_FLAG_W,CTDOXY,CTDOXY_FLAG_W,OXYGEN,OXYGEN_FLAG_W,SILCAT,SILCAT_FLAG_W,NITRAT,NITRAT_FLAG_W,NITRIT,NITRIT_FLAG_W,PHSPHT,PHSPHT_FLAG_W,CFC-11,CFC-11_FLAG_W,CFC-12,CFC-12_FLAG_W,TCARBN,TCARBN_FLAG_W,ALKALI,ALKALI_FLAG_W,TRITUM,TRITUM_FLAG_W,HELIUM,HELIUM_FLAG_W,DELHE3,DELHE3_FLAG_W,DELC13,DELC13_FLAG_W,DELC14,DELC14_FLAG_W,C14ERR,THETA,HELIER,DELHER,TRITER
,,,,,,,,,,,METERS,DBAR,ITS-90,PSS-78,,PSS-78,,UMOL/KG,,UMOL/KG,,UMOL/KG,,UMOL/KG,,UMOL/KG,,UMOL/KG,,PMOL/KG,,PMOL/KG,,UMOL/KG,,UMOL/KG,,TU,,NMOL/KG,,PERCNT,,/MILLE,,/MILLE,,/MILLE,ITS-90,NMOL/KG,PERCNT,TU
31WTTUNES_3,       P16C,     291,          1,         36,         36,2,19910920,       1052,     5.4823,  -151.0953,       5240,     6.5,  28.9283,  34.4723,2,  34.4862,2,    205.6,3,   208.4,2,    2.17,2,    0.08,2,    0.01,2,    0.16,2,-999.000,9,-999.000,9,  -999.0,9,  -999.0,9,-999.000,9,-999.0000,9, -999.00,9, -999.00,9,  -999.0,9,  -999.0,    28.9267,-999.0000,-999.000,-999.000
31WTTUNES_3,       P16C,     291,          1,         35,         35,2,19910920,       1052,     5.4823,  -151.0953,       5240,    58.1,  28.8655,  34.6545,2,  34.6808,2,    207.9,2,   201.3,2,    2.39,2,    0.11,2,    0.02,2,    0.20,2,-999.000,9,-999.000,9,  -999.0,9,  -999.0,9,-999.000,9,-999.0000,9, -999.00,9, -999.00,9,  -999.0,9,  -999.0,    28.8515,-999.0000,-999.000,-999.000
31WTTUNES_3,       P16C,     291,          1,         34,         34,2,19910920,       1052,     5.4823,  -151.0953,       5240,    82.6,  27.6590,  34.6548,2,  34.6394,2,    192.3,2,   189.2,2,    3.40,2,    0.56,2,    0.09,2,    0.24,2,-999.000,9,-999.000,9,  -999.0,9,  -999.0,9,-999.000,9,-999.0000,9, -999.00,9, -999.00,9,  -999.0,9,  -999.0,    27.6397,-999.0000,-999.000,-999.000
31WTTUNES_3,       P16C,     291,          1,         33,         33,2,19910920,       1052,     5.4823,  -151.0953,       5240,   107.0,  25.8000,  34.7396,2,  34.9502,2,    168.1,2,   146.2,2,    5.01,2,    6.92,2,    0.22,2,    0.64,2,-999.000,9,-999.000,9,  -999.0,9,  -999.0,9,-999.000,9,-999.0000,9, -999.00,9, -999.00,9,  -999.0,9,  -999.0,    25.7763,-999.0000,-999.000,-999.000
31WTTUNES_3,       P16C,     291,          1,         32,         32,2,19910920,       1052,     5.4823,  -151.0953,       5240,   132.4,  23.1258,  34.9359,2,  34.8827,2,    135.4,2,   131.3,2,    7.82,2,   10.09,2,    0.03,2,    0.81,2,-999.000,9,-999.000,9,  -999.0,9,  -999.0,9,-999.000,9,-999.0000,9, -999.00,9, -999.00,9,  -999.0,9,  -999.0,    23.0988,-999.0000,-999.000,-999.000
31WTTUNES_3,       P16C,     291,          1,         31,         31,2,19910920,       1052,     5.4823,  -151.0953,       5240,   158.8,  17.2326,  34.7182,2,  34.6926,2,    102.7,2,   101.3,2,   16.20,2,   17.85,2,    0.01,2,    1.36,2,-999.000,9,-999.000,9,  -999.0,9,  -999.0,9,-999.000,9,-999.0000,9, -999.00,9, -999.00,9,  -999.0,9,  -999.0,    17.2062,-999.0000,-999.000,-999.000
31WTTUNES_3,       P16C,     291,          1,         30,         30,2,19910920,       1052,     5.4823,  -151.0953,       5240,   209.3,  12.1124,  34.6182,2,  34.6146,2,     68.1,2,    71.3,2,   26.96,2,   26.45,2,    0.01,2,    1.96,2,-999.000,9,-999.000,9,  -999.0,9,  -999.0,9,-999.000,9,-999.0000,9, -999.00,9, -999.00,9,  -999.0,9,  -999.0,    12.0851,-999.0000,-999.000,-999.000
31WTTUNES_3,       P16C,     291,          1,         29,         29,2,19910920,       1052,     5.4823,  -151.0953,       5240,   260.9,  10.0653,  34.6464,2,  34.6427,2,     66.1,2,    66.1,2,   33.36,2,   30.68,2,    0.01,2,    2.20,2,-999.000,9,-999.000,9,  -999.0,9,  -999.0,9,-999.000,9,-999.0000,9, -999.00,9, -999.00,9,  -999.0,9,  -999.0,    10.0349,-999.0000,-999.000,-999.000
31WTTUNES_3,       P16C,     291,          1,         28,         28,2,19910920,       1052,     5.4823,  -151.0953,       5240,   312.0,   9.4884,  34.6560,2,  34.6574,2,     66.8,2,    63.8,2,   33.97,2,   32.27,2,    0.01,2,    2.29,2,-999.000,9,-999.000,9,  -999.0,9,  -999.0,9,-999.000,9,-999.0000,9, -999.00,9, -999.00,9,  -999.0,9,  -999.0,     9.4533,-999.0000,-999.000,-999.000
31WTTUNES_3,       P16C,     291,          1,         27,         27,2,19910920,       1052,     5.4823,  -151.0953,       5240,   414.0,   8.8175,  34.6424,2,  34.6368,2,     67.7,2,    62.7,2,   36.78,2,   33.81,2,    0.01,2,    2.39,2,-999.000,9,-999.000,9,  -999.0,9,  -999.0,9,-999.000,9,-999.0000,9, -999.00,9, -999.00,9,  -999.0,9,  -999.0,     8.7727,-999.0000,-999.000,-999.000
31WTTUNES_3,       P16C,     291,          1,         26,         26,2,19910920,       1052,     5.4823,  -151.0953,       5240,   516.5,   8.1745,  34.6199,2,  34.6193,2,     34.5,2,    32.6,2,   44.17,2,   37.76,2,    0.01,2,    2.71,2,-999.000,9,-999.000,9,  -999.0,9,  -999.0,9,-999.000,9,-999.0000,9, -999.00,9, -999.00,9,  -999.0,9,  -999.0,     8.1209,-999.0000,-999.000,-999.000
31WTTUNES_3,       P16C,     291,          1,         25,         25,2,19910920,       1052,     5.4823,  -151.0953,       5240,   617.3,   7.3340,  34.5871,2,  34.5869,2,     34.5,2,    31.6,2,   51.36,2,   39.59,2,    0.01,2,    2.85,2,-999.000,9,-999.000,9,  -999.0,9,  -999.0,9,-999.000,9,-999.0000,9, -999.00,9, -999.00,9,  -999.0,9,  -999.0,     7.2734,-999.0000,-999.000,-999.000
31WTTUNES_3,       P16C,     291,          1,         24,         24,2,19910920,       1052,     5.4823,  -151.0953,       5240,   720.1,   6.4387,  34.5600,2,  34.5588,2,     39.2,2,    37.2,2,   60.94,2,   40.69,2,    0.01,2,    2.94,2,-999.000,9,-999.000,9,  -999.0,9,  -999.0,9,-999.000,9,-999.0000,9, -999.00,9, -999.00,9,  -999.0,9,  -999.0,     6.3722,-999.0000,-999.000,-999.000
31WTTUNES_3,       P16C,     291,          1,         23,         23,2,19910920,       1052,     5.4823,  -151.0953,       5240,   822.2,   5.7766,  34.5524,2,  34.5504,2,     36.1,2,    35.5,2,   70.71,2,   42.09,2,    0.01,2,    3.03,2,-999.000,9,-999.000,9,  -999.0,9,  -999.0,9,-999.000,9,-999.0000,9, -999.00,9, -999.00,9,  -999.0,9,  -999.0,     5.7043,-999.0000,-999.000,-999.000
31WTTUNES_3,       P16C,     291,          1,         22,         22,2,19910920,       1052,     5.4823,  -151.0953,       5240,   924.1,   5.1447,  34.5543,2,  34.5543,2,     43.9,2,    42.0,2,   81.49,2,   42.56,2,    0.00,2,    3.06,2,-999.000,9,-999.000,9,  -999.0,9,  -999.0,9,-999.000,9,-999.0000,9, -999.00,9, -999.00,9,  -999.0,9,  -999.0,     5.0671,-999.0000,-999.000,-999.000
31WTTUNES_3,       P16C,     291,          1,         21,         21,2,19910920,       1052,     5.4823,  -151.0953,       5240,  1026.5,   4.6559,  34.5608,2,  34.5590,2,     56.2,2,    54.4,2,   89.08,2,   41.66,2,    0.00,2,    3.01,2,-999.000,9,-999.000,9,  -999.0,9,  -999.0,9,-999.000,9,-999.0000,9, -999.00,9, -999.00,9,  -999.0,9,  -999.0,     4.5728,-999.0000,-999.000,-999.000
31WTTUNES_3,       P16C,     291,          1,         20,         20,2,19910920,       1052,     5.4823,  -151.0953,       5240,  1230.3,   3.8192,  34.5816,2,  34.5794,2,     68.8,2,    66.7,2,  105.62,2,   41.21,2,    0.00,2,    2.97,2,-999.000,9,-999.000,9,  -999.0,9,  -999.0,9,-999.000,9,-999.0000,9, -999.00,9, -999.00,9,  -999.0,9,  -999.0,     3.7256,-999.0000,-999.000,-999.000
31WTTUNES_3,       P16C,     291,          1,         19,         19,2,19910920,       1052,     5.4823,  -151.0953,       5240,  1433.6,   3.3874,  34.5975,2,  34.5920,2,     71.8,2,    70.0,2,  117.79,2,   41.11,2,    0.00,2,    2.97,2,-999.000,9,-999.000,9,  -999.0,9,  -999.0,9,-999.000,9,-999.0000,9, -999.00,9, -999.00,9,  -999.0,9,  -999.0,     3.2808,-999.0000,-999.000,-999.000
31WTTUNES_3,       P16C,     291,          1,         18,         18,2,19910920,       1052,     5.4823,  -151.0953,       5240,  1639.3,   2.9421,  34.6133,2,  34.6099,2,     80.4,2,    79.1,2,  129.17,2,   40.61,2,    0.00,2,    2.92,2,-999.000,9,-999.000,9,  -999.0,9,  -999.0,9,-999.000,9,-999.0000,9, -999.00,9, -999.00,9,  -999.0,9,  -999.0,     2.8231,-999.0000,-999.000,-999.000
31WTTUNES_3,       P16C,     291,          1,         17,         17,2,19910920,       1052,     5.4823,  -151.0953,       5240,  1845.5,   2.6224,  34.6249,2,  34.6221,2,     89.4,2,    88.6,2,  135.97,2,   39.96,2,    0.00,2,    2.85,2,-999.000,9,-999.000,9,  -999.0,9,  -999.0,9,-999.000,9,-999.0000,9, -999.00,9, -999.00,9,  -999.0,9,  -999.0,     2.4900,-999.0000,-999.000,-999.000
31WTTUNES_3,       P16C,     291,          1,         16,         16,2,19910920,       1052,     5.4823,  -151.0953,       5240,  2050.2,   2.2987,  34.6394,2,  34.6364,2,     98.6,2,    97.5,2,  143.56,2,   39.47,2,    0.00,2,    2.80,2,-999.000,9,-999.000,9,  -999.0,9,  -999.0,9,-999.000,9,-999.0000,9, -999.00,9, -999.00,9,  -999.0,9,  -999.0,     2.1534,-999.0000,-999.000,-999.000
31WTTUNES_3,       P16C,     291,          1,         15,         15,2,19910920,       1052,     5.4823,  -151.0953,       5240,  2256.2,   2.0657,  34.6537,2,  34.6539,2,    103.9,2,   103.8,2,  150.16,2,   39.06,2,    0.00,2,    2.76,2,-999.000,9,-999.000,9,  -999.0,9,  -999.0,9,-999.000,9,-999.0000,9, -999.00,9, -999.00,9,  -999.0,9,  -999.0,     1.9060,-999.0000,-999.000,-999.000
31WTTUNES_3,       P16C,     291,          1,         14,         14,2,19910920,       1052,     5.4823,  -151.0953,       5240,  2410.5,   1.9396,  34.6616,2,  34.6598,2,    109.9,2,   109.3,2,  153.17,2,   38.61,2,    0.00,2,    2.72,2,-999.000,9,-999.000,9,  -999.0,9,  -999.0,9,-999.000,9,-999.0000,9, -999.00,9, -999.00,9,  -999.0,9,  -999.0,     1.7685,-999.0000,-999.000,-999.000
31WTTUNES_3,       P16C,     291,          1,         13,         13,2,19910920,       1052,     5.4823,  -151.0953,       5240,  2564.3,   1.8738,  34.6660,2,  34.6633,2,    113.4,2,   112.9,2,  155.00,2,   38.42,2,    0.00,2,    2.70,2,-999.000,9,-999.000,9,  -999.0,9,  -999.0,9,-999.000,9,-999.0000,9, -999.00,9, -999.00,9,  -999.0,9,  -999.0,     1.6900,-999.0000,-999.000,-999.000
31WTTUNES_3,       P16C,     291,          1,         12,         12,2,19910920,       1052,     5.4823,  -151.0953,       5240,  2718.2,   1.8325,  34.6688,2,  34.6665,2,    116.0,2,   115.2,2,  155.62,2,   38.22,2,    0.00,2,    2.68,2,-999.000,9,-999.000,9,  -999.0,9,  -999.0,9,-999.000,9,-999.0000,9, -999.00,9, -999.00,9,  -999.0,9,  -999.0,     1.6352,-999.0000,-999.000,-999.000
31WTTUNES_3,       P16C,     291,          1,         11,         11,2,19910920,       1052,     5.4823,  -151.0953,       5240,  2872.5,   1.7695,  34.6723,2,  34.6702,2,    119.9,2,   119.9,2,  156.05,2,   38.02,2,    0.00,2,    2.66,2,-999.000,9,-999.000,9,  -999.0,9,  -999.0,9,-999.000,9,-999.0000,9, -999.00,9, -999.00,9,  -999.0,9,  -999.0,     1.5590,-999.0000,-999.000,-999.000
31WTTUNES_3,       P16C,     291,          1,         10,         10,2,19910920,       1052,     5.4823,  -151.0953,       5240,  3078.3,   1.6760,  34.6766,2,  34.6741,2,    128.8,2,   128.4,2,  154.68,2,   37.47,2,    0.00,2,    2.61,2,-999.000,9,-999.000,9,  -999.0,9,  -999.0,9,-999.000,9,-999.0000,9, -999.00,9, -999.00,9,  -999.0,9,  -999.0,     1.4478,-999.0000,-999.000,-999.000
31WTTUNES_3,       P16C,     291,          1,          9,          9,2,19910920,       1052,     5.4823,  -151.0953,       5240,  3337.4,   1.5638,  34.6822,2,  34.6826,2,    139.2,2,   139.1,2,  153.32,2,   36.82,2,    0.00,2,    2.55,2,-999.000,9,-999.000,9,  -999.0,9,  -999.0,9,-999.000,9,-999.0000,9, -999.00,9, -999.00,9,  -999.0,9,  -999.0,     1.3125,-999.0000,-999.000,-999.000
31WTTUNES_3,       P16C,     291,          1,          8,          8,2,19910920,       1052,     5.4823,  -151.0953,       5240,  3596.2,   1.4895,  34.6866,2,  34.6863,2,    150.3,2,   149.4,2,  149.96,2,   36.13,2,    0.00,2,    2.50,2,-999.000,9,-999.000,9,  -999.0,9,  -999.0,9,-999.000,9,-999.0000,9, -999.00,9, -999.00,9,  -999.0,9,  -999.0,     1.2138,-999.0000,-999.000,-999.000
31WTTUNES_3,       P16C,     291,          1,          7,          7,2,19910920,       1052,     5.4823,  -151.0953,       5240,  3855.7,   1.4378,  34.6904,2,  34.6914,2,    158.5,2,   158.0,2,  146.80,2,   35.58,2,    0.00,2,    2.45,2,-999.000,9,-999.000,9,  -999.0,9,  -999.0,9,-999.000,9,-999.0000,9, -999.00,9, -999.00,9,  -999.0,9,  -999.0,     1.1361,-999.0000,-999.000,-999.000
31WTTUNES_3,       P16C,     291,          1,          6,          6,2,19910920,       1052,     5.4823,  -151.0953,       5240,  4114.5,   1.3983,  34.6938,2,  34.6928,2,    165.6,2,   164.4,2,  144.04,2,   35.08,2,    0.00,2,    2.42,2,-999.000,9,-999.000,9,  -999.0,9,  -999.0,9,-999.000,9,-999.0000,9, -999.00,9, -999.00,9,  -999.0,9,  -999.0,     1.0697,-999.0000,-999.000,-999.000
31WTTUNES_3,       P16C,     291,          1,          5,          5,2,19910920,       1052,     5.4823,  -151.0953,       5240,  4374.7,   1.3819,  34.6952,2,  34.6942,2,    170.2,2,   169.6,2,  141.48,2,   34.68,2,    0.00,2,    2.40,2,-999.000,9,-999.000,9,  -999.0,9,  -999.0,9,-999.000,9,-999.0000,9, -999.00,9, -999.00,9,  -999.0,9,  -999.0,     1.0248,-999.0000,-999.000,-999.000
31WTTUNES_3,       P16C,     291,          1,          4,          4,2,19910920,       1052,     5.4823,  -151.0953,       5240,  4634.0,   1.3861,  34.6962,2,  34.6948,2,    173.6,2,   172.2,2,  140.32,2,   34.54,2,    0.00,2,    2.39,2,-999.000,9,-999.000,9,  -999.0,9,  -999.0,9,-999.000,9,-999.0000,9, -999.00,9, -999.00,9,  -999.0,9,  -999.0,     0.9992,-999.0000,-999.000,-999.000
31WTTUNES_3,       P16C,     291,          1,          3,          3,2,19910920,       1052,     5.4823,  -151.0953,       5240,  4896.0,   1.4085,  34.6963,2,  34.6952,2,    174.9,2,   173.2,2,  139.55,2,   34.48,2,    0.00,2,    2.39,2,-999.000,9,-999.000,9,  -999.0,9,  -999.0,9,-999.000,9,-999.0000,9, -999.00,9, -999.00,9,  -999.0,9,  -999.0,     0.9899,-999.0000,-999.000,-999.000
31WTTUNES_3,       P16C,     291,          1,          2,          2,2,19910920,       1052,     5.4823,  -151.0953,       5240,  5159.3,   1.4364,  34.6962,2,  34.6954,2,    174.6,2,   174.0,2,  139.38,2,   34.43,2,    0.00,2,    2.38,2,-999.000,9,-999.000,9,  -999.0,9,  -999.0,9,-999.000,9,-999.0000,9, -999.00,9, -999.00,9,  -999.0,9,  -999.0,     0.9848,-999.0000,-999.000,-999.000
31WTTUNES_3,       P16C,     291,          1,          1,          1,2,19910920,       1052,     5.4823,  -151.0953,       5240,  5311.0,   1.4559,  34.6959,2,  34.6979,2,    174.2,2,   175.1,2,  139.20,2,   34.38,2,    0.00,2,    2.38,2,-999.000,9,-999.000,9,  -999.0,9,  -999.0,9,-999.000,9,-999.0000,9, -999.00,9, -999.00,9,  -999.0,9,  -999.0,     0.9848,-999.0000,-999.000,-999.000