BOTTLE,20211117CCHSIORKP
EXPOCODE,SECT_ID,STNNBR,CASTNO,SAMPNO,BTLNBR,BTLNBR_FLAG_W,DATE,TIME,LATITUDE,LONGITUDE,DEPTH,CTDPRS,CTDTMP,CTDSAL,CTDSAL_FLAG_W,SALNTY,SALNTY_FLAG_W,CTDOXY,CTDOXY_FLAG_W,OXYGEN,OXYGEN_FLAG_W,SILCAT,SILCAT_FLAG_W,NITRAT,NITRAT_FLAG_W,NITRIT,NITRIT_FLAG_W,PHSPHT,PHSPHT_FLAG_W,CFC-11,CFC-11_FLAG_W,CFC-12,CFC-12_FLAG_W,TCARBN,TCARBN_FLAG_W,ALKALI,ALKALI_FLAG_W,TRITUM,TRITUM_FLAG_W,HELIUM,HELIUM_FLAG_W,DELHE3,DELHE3_FLAG_W,DELC13,DELC13_FLAG_W,DELC14,DELC14_FLAG_W,C14ERR,THETA,HELIER,DELHER,TRITER
,,,,,,,,,,,METERS,DBAR,ITS-90,PSS-78,,PSS-78,,UMOL/KG,,UMOL/KG,,UMOL/KG,,UMOL/KG,,UMOL/KG,,UMOL/KG,,PMOL/KG,,PMOL/KG,,UMOL/KG,,UMOL/KG,,TU,,NMOL/KG,,PERCNT,,/MILLE,,/MILLE,,/MILLE,ITS-90,NMOL/KG,PERCNT,TU
31WTTUNES_3,       P16C,     318,          1,         36,         36,2,19910929,       1206,    18.2093,  -153.9775,       5175,     6.7,  26.7549,  34.7280,2,  34.7699,2,    210.2,3,   216.2,2,    2.12,2,    0.06,2,    0.00,2,    0.10,2,   1.775,6,   1.056,3,  -999.0,9,  -999.0,9,-999.000,9,-999.0000,9, -999.00,9, -999.00,9,  -999.0,9,  -999.0,    26.7534,-999.0000,-999.000,-999.000
31WTTUNES_3,       P16C,     318,          1,         35,         35,2,19910929,       1206,    18.2093,  -153.9775,       5175,    50.7,  26.7374,  34.7322,2,  34.7691,2,    212.1,2,   215.0,2,    2.33,2,    0.11,2,    0.00,2,    0.09,2,   1.758,6,   0.995,6,  -999.0,9,  -999.0,9,-999.000,9,-999.0000,9, -999.00,9, -999.00,9,  -999.0,9,  -999.0,    26.7258,-999.0000,-999.000,-999.000
31WTTUNES_3,       P16C,     318,          1,         34,         34,2,19910929,       1206,    18.2093,  -153.9775,       5175,    91.0,  25.2488,  35.0243,2,  34.8668,2,    233.5,2,   227.4,2,    2.12,2,    0.12,2,    0.00,2,    0.10,2,   1.923,2,   1.083,2,  -999.0,9,  -999.0,9,-999.000,9,-999.0000,9, -999.00,9, -999.00,9,  -999.0,9,  -999.0,    25.2290,-999.0000,-999.000,-999.000
31WTTUNES_3,       P16C,     318,          1,         33,         33,2,19910929,       1206,    18.2093,  -153.9775,       5175,   130.6,  21.8729,  35.1133,2,  35.1033,2,    217.4,2,   219.6,2,    2.32,2,    0.09,2,    0.04,2,    0.14,2,   2.144,6,   1.206,6,  -999.0,9,  -999.0,9,-999.000,9,-999.0000,9, -999.00,9, -999.00,9,  -999.0,9,  -999.0,    21.8472,-999.0000,-999.000,-999.000
31WTTUNES_3,       P16C,     318,          1,         32,         32,2,19910929,       1206,    18.2093,  -153.9775,       5175,   170.7,  19.0047,  34.9827,2,  35.0065,2,    194.0,2,   191.3,2,    3.74,2,    3.12,2,    0.03,2,    0.33,2,   2.248,6,   1.219,6,  -999.0,9,  -999.0,9,-999.000,9,-999.0000,9, -999.00,9, -999.00,9,  -999.0,9,  -999.0,    18.9743,-999.0000,-999.000,-999.000
31WTTUNES_3,       P16C,     318,          1,         31,         31,2,19910929,       1206,    18.2093,  -153.9775,       5175,   209.9,  16.0996,  34.6365,2,  34.5881,2,    186.4,2,   190.0,2,    6.80,2,    7.30,2,    0.01,2,    0.62,2,   2.306,6,   1.197,6,  -999.0,9,  -999.0,9,-999.000,9,-999.0000,9, -999.00,9, -999.00,9,  -999.0,9,  -999.0,    16.0663,-999.0000,-999.000,-999.000
31WTTUNES_3,       P16C,     318,          1,         30,         30,2,19910929,       1206,    18.2093,  -153.9775,       5175,   259.8,  12.1181,  34.2191,2,  34.1966,2,    192.1,2,   195.2,2,   13.94,2,   13.12,2,    0.00,2,    1.00,2,   2.303,2,   1.162,2,  -999.0,9,  -999.0,9,-999.000,9,-999.0000,9, -999.00,9, -999.00,9,  -999.0,9,  -999.0,    12.0842,-999.0000,-999.000,-999.000
31WTTUNES_3,       P16C,     318,          1,         29,         29,2,19910929,       1206,    18.2093,  -153.9775,       5175,   311.2,   9.4361,  34.1011,2,  34.1025,2,    170.1,2,   172.5,2,   26.15,2,   20.55,2,    0.00,2,    1.52,2,   1.697,2,   0.857,6,  -999.0,9,  -999.0,9,-999.000,9,-999.0000,9, -999.00,9, -999.00,9,  -999.0,9,  -999.0,     9.4015,-999.0000,-999.000,-999.000
31WTTUNES_3,       P16C,     318,          1,         28,         28,2,19910929,       1206,    18.2093,  -153.9775,       5175,   362.1,   8.3648,  34.1125,2,  34.1303,2,    131.9,2,   117.2,2,   40.42,2,   27.50,2,    0.00,2,    2.07,2,   0.811,6,   0.412,6,  -999.0,9,  -999.0,9,-999.000,9,-999.0000,9, -999.00,9, -999.00,9,  -999.0,9,  -999.0,     8.3273,-999.0000,-999.000,-999.000
31WTTUNES_3,       P16C,     318,          1,         27,         27,2,19910929,       1206,    18.2093,  -153.9775,       5175,   414.4,   7.4812,  34.1454,2,  34.1424,2,     86.7,2,    80.0,2,   54.27,2,   32.53,2,    0.00,2,    2.45,2,   0.339,6,   0.187,6,  -999.0,9,  -999.0,9,-999.000,9,-999.0000,9, -999.00,9, -999.00,9,  -999.0,9,  -999.0,     7.4409,-999.0000,-999.000,-999.000
31WTTUNES_3,       P16C,     318,          1,         26,         26,2,19910929,       1206,    18.2093,  -153.9775,       5175,   465.2,   6.4346,  34.1476,2,  34.1683,2,     60.9,2,    53.5,2,   67.11,2,   36.47,2,    0.00,2,    2.72,2,   0.149,2,   0.385,4,  -999.0,9,  -999.0,9,-999.000,9,-999.0000,9, -999.00,9, -999.00,9,  -999.0,9,  -999.0,     6.3928,-999.0000,-999.000,-999.000
31WTTUNES_3,       P16C,     318,          1,         25,         25,2,19910929,       1206,    18.2093,  -153.9775,       5175,   516.0,   5.8461,  34.2321,2,  34.2521,2,     38.0,2,    34.5,2,   78.92,2,   39.20,2,    0.00,2,    2.91,2,   0.044,2,   0.030,2,  -999.0,9,  -999.0,9,-999.000,9,-999.0000,9, -999.00,9, -999.00,9,  -999.0,9,  -999.0,     5.8018,-999.0000,-999.000,-999.000
31WTTUNES_3,       P16C,     318,          1,         24,         24,2,19910929,       1206,    18.2093,  -153.9775,       5175,   617.4,   5.2755,  34.3673,2,  34.3868,2,     28.4,2,    28.1,2,   87.68,2,   41.12,2,    0.00,2,    3.04,2,   0.012,2,   0.009,2,  -999.0,9,  -999.0,9,-999.000,9,-999.0000,9, -999.00,9, -999.00,9,  -999.0,9,  -999.0,     5.2246,-999.0000,-999.000,-999.000
31WTTUNES_3,       P16C,     318,          1,         23,         23,2,19910929,       1206,    18.2093,  -153.9775,       5175,   718.3,   5.0856,  34.4616,2,  34.4614,2,     30.3,2,    30.0,2,   91.14,2,   41.62,2,    0.00,2,    3.06,2,   0.000,2,   0.001,2,  -999.0,9,  -999.0,9,-999.000,9,-999.0000,9, -999.00,9, -999.00,9,  -999.0,9,  -999.0,     5.0268,-999.0000,-999.000,-999.000
31WTTUNES_3,       P16C,     318,          1,         22,         22,2,19910929,       1206,    18.2093,  -153.9775,       5175,   823.2,   4.7245,  34.4914,2,  34.4926,2,     35.6,2,    35.9,2,   98.07,2,   42.03,2,    0.00,2,    3.06,2,   0.000,2,   0.004,2,  -999.0,9,  -999.0,9,-999.000,9,-999.0000,9, -999.00,9, -999.00,9,  -999.0,9,  -999.0,     4.6587,-999.0000,-999.000,-999.000
31WTTUNES_3,       P16C,     318,          1,         21,         21,2,19910929,       1206,    18.2093,  -153.9775,       5175,   926.6,   4.3533,  34.5098,2,  34.5125,2,     40.7,2,    40.9,2,  106.44,2,   42.24,2,    0.00,2,    3.07,2,   0.003,2,   0.007,2,  -999.0,9,  -999.0,9,-999.000,9,-999.0000,9, -999.00,9, -999.00,9,  -999.0,9,  -999.0,     4.2812,-999.0000,-999.000,-999.000
31WTTUNES_3,       P16C,     318,          1,         20,         20,2,19910929,       1206,    18.2093,  -153.9775,       5175,  1030.3,   4.0023,  34.5246,2,  34.5245,2,     44.6,2,    44.1,2,  111.74,2,   42.19,2,    0.00,2,    3.08,2,   0.000,2,   0.005,2,  -999.0,9,  -999.0,9,-999.000,9,-999.0000,9, -999.00,9, -999.00,9,  -999.0,9,  -999.0,     3.9242,-999.0000,-999.000,-999.000
31WTTUNES_3,       P16C,     318,          1,         19,         19,2,19910929,       1206,    18.2093,  -153.9775,       5175,  1234.7,   3.4584,  34.5557,2,  34.5555,2,     57.3,2,    57.0,2,  123.16,2,   41.77,2,    0.00,2,    3.00,2,  -0.003,2,   0.005,2,  -999.0,9,  -999.0,9,-999.000,9,-999.0000,9, -999.00,9, -999.00,9,  -999.0,9,  -999.0,     3.3678,-999.0000,-999.000,-999.000
31WTTUNES_3,       P16C,     318,          1,         18,         18,2,19910929,       1206,    18.2093,  -153.9775,       5175,  1438.6,   2.9940,  34.5804,2,  34.5789,2,     67.0,2,    67.4,2,  133.35,2,   41.40,2,    0.00,2,    2.96,2,-999.000,9,-999.000,9,  -999.0,9,  -999.0,9,-999.000,9,-999.0000,9, -999.00,9, -999.00,9,  -999.0,9,  -999.0,     2.8913,-999.0000,-999.000,-999.000
31WTTUNES_3,       P16C,     318,          1,         17,         17,2,19910929,       1206,    18.2093,  -153.9775,       5175,  1645.0,   2.6412,  34.6008,2,  34.5997,2,     76.1,2,    76.1,2,  140.90,2,   40.87,2,    0.00,2,    2.91,2,-999.000,9,-999.000,9,  -999.0,9,  -999.0,9,-999.000,9,-999.0000,9, -999.00,9, -999.00,9,  -999.0,9,  -999.0,     2.5256,-999.0000,-999.000,-999.000
31WTTUNES_3,       P16C,     318,          1,         16,         16,2,19910929,       1206,    18.2093,  -153.9775,       5175,  1850.5,   2.3383,  34.6153,2,  34.6140,2,     86.5,2,    86.4,2,  148.44,2,   40.36,2,    0.00,2,    2.85,2,-999.000,9,-999.000,9,  -999.0,9,  -999.0,9,-999.000,9,-999.0000,9, -999.00,9, -999.00,9,  -999.0,9,  -999.0,     2.2096,-999.0000,-999.000,-999.000
31WTTUNES_3,       P16C,     318,          1,         15,         15,2,19910929,       1206,    18.2093,  -153.9775,       5175,  2056.1,   2.0677,  34.6315,2,  34.6303,2,     97.6,2,    97.6,2,  153.35,2,   39.63,2,    0.00,2,    2.81,2,-999.000,9,-999.000,9,  -999.0,9,  -999.0,9,-999.000,9,-999.0000,9, -999.00,9, -999.00,9,  -999.0,9,  -999.0,     1.9255,-999.0000,-999.000,-999.000
31WTTUNES_3,       P16C,     318,          1,         14,         14,2,19910929,       1206,    18.2093,  -153.9775,       5175,  2262.4,   1.9033,  34.6440,2,  34.6421,2,    105.5,2,   104.6,2,  155.80,2,   39.16,2,    0.00,2,    2.75,2,-999.000,9,-999.000,9,  -999.0,9,  -999.0,9,-999.000,9,-999.0000,9, -999.00,9, -999.00,9,  -999.0,9,  -999.0,     1.7461,-999.0000,-999.000,-999.000
31WTTUNES_3,       P16C,     318,          1,         13,         13,2,19910929,       1206,    18.2093,  -153.9775,       5175,  2467.1,   1.7847,  34.6532,2,  34.6523,2,    111.2,2,   111.4,2,  159.88,2,   38.85,2,    0.00,2,    2.70,2,-999.000,9,-999.000,9,  -999.0,9,  -999.0,9,-999.000,9,-999.0000,9, -999.00,9, -999.00,9,  -999.0,9,  -999.0,     1.6113,-999.0000,-999.000,-999.000
31WTTUNES_3,       P16C,     318,          1,         12,         12,2,19910929,       1206,    18.2093,  -153.9775,       5175,  2673.7,   1.7078,  34.6604,2,  34.6586,2,    117.5,2,   117.4,2,  160.30,2,   38.48,2,    0.00,2,    2.69,2,-999.000,9,-999.000,9,  -999.0,9,  -999.0,9,-999.000,9,-999.0000,9, -999.00,9, -999.00,9,  -999.0,9,  -999.0,     1.5172,-999.0000,-999.000,-999.000
31WTTUNES_3,       P16C,     318,          1,         11,         11,2,19910929,       1206,    18.2093,  -153.9775,       5175,  2879.5,   1.6445,  34.6667,2,  34.6659,2,    123.0,2,   123.4,2,  160.72,2,   38.01,2,    0.00,2,    2.64,2,-999.000,9,-999.000,9,  -999.0,9,  -999.0,9,-999.000,9,-999.0000,9, -999.00,9, -999.00,9,  -999.0,9,  -999.0,     1.4361,-999.0000,-999.000,-999.000
31WTTUNES_3,       P16C,     318,          1,         10,         10,2,19910929,       1206,    18.2093,  -153.9775,       5175,  3086.5,   1.5924,  34.6716,2,  34.6698,2,    127.9,2,   129.7,2,  161.34,2,   37.70,2,    0.00,2,    2.61,2,-999.000,9,-999.000,9,  -999.0,9,  -999.0,9,-999.000,9,-999.0000,9, -999.00,9, -999.00,9,  -999.0,9,  -999.0,     1.3654,-999.0000,-999.000,-999.000
31WTTUNES_3,       P16C,     318,          1,          9,          9,2,19910929,       1206,    18.2093,  -153.9775,       5175,  3345.7,   1.5408,  34.6761,2,  34.6749,2,    134.0,2,   134.9,2,  161.14,2,   37.28,2,    0.00,2,    2.60,2,-999.000,9,-999.000,9,  -999.0,9,  -999.0,9,-999.000,9,-999.0000,9, -999.00,9, -999.00,9,  -999.0,9,  -999.0,     1.2894,-999.0000,-999.000,-999.000
31WTTUNES_3,       P16C,     318,          1,          8,          8,2,19910929,       1206,    18.2093,  -153.9775,       5175,  3606.0,   1.4961,  34.6807,2,  34.6791,2,    141.0,2,   143.7,2,  158.71,2,   36.77,2,    0.00,2,    2.55,2,-999.000,9,-999.000,9,  -999.0,9,  -999.0,9,-999.000,9,-999.0000,9, -999.00,9, -999.00,9,  -999.0,9,  -999.0,     1.2192,-999.0000,-999.000,-999.000
31WTTUNES_3,       P16C,     318,          1,          7,          7,2,19910929,       1206,    18.2093,  -153.9775,       5175,  3865.4,   1.4639,  34.6847,2,  34.6832,2,    148.7,2,   150.2,2,  155.04,2,   36.20,2,    0.00,2,    2.50,2,-999.000,9,-999.000,9,  -999.0,9,  -999.0,9,-999.000,9,-999.0000,9, -999.00,9, -999.00,9,  -999.0,9,  -999.0,     1.1606,-999.0000,-999.000,-999.000
31WTTUNES_3,       P16C,     318,          1,          6,          6,2,19910929,       1206,    18.2093,  -153.9775,       5175,  4126.2,   1.4588,  34.6871,2,  34.6863,2,    153.8,2,   155.4,2,  152.81,2,   36.09,2,    0.00,2,    2.48,2,-999.000,9,-999.000,9,  -999.0,9,  -999.0,9,-999.000,9,-999.0000,9, -999.00,9, -999.00,9,  -999.0,9,  -999.0,     1.1273,-999.0000,-999.000,-999.000
31WTTUNES_3,       P16C,     318,          1,          5,          5,2,19910929,       1206,    18.2093,  -153.9775,       5175,  4386.4,   1.4516,  34.6896,2,  34.6881,2,    158.9,2,   159.7,2,  150.37,2,   35.62,2,    0.00,2,    2.48,2,-999.000,9,-999.000,9,  -999.0,9,  -999.0,9,-999.000,9,-999.0000,9, -999.00,9, -999.00,9,  -999.0,9,  -999.0,     1.0910,-999.0000,-999.000,-999.000
31WTTUNES_3,       P16C,     318,          1,          4,          4,2,19910929,       1206,    18.2093,  -153.9775,       5175,  4647.4,   1.4435,  34.6923,2,  34.6903,2,    164.7,2,   166.1,2,  145.90,2,   35.10,2,    0.00,2,    2.41,2,-999.000,9,-999.000,9,  -999.0,9,  -999.0,9,-999.000,9,-999.0000,9, -999.00,9, -999.00,9,  -999.0,9,  -999.0,     1.0530,-999.0000,-999.000,-999.000
31WTTUNES_3,       P16C,     318,          1,          3,          3,2,19910929,       1206,    18.2093,  -153.9775,       5175,  4908.9,   1.4359,  34.6947,2,  34.6932,2,    170.8,2,   171.4,2,  142.44,2,   34.74,2,    0.00,2,    2.40,2,-999.000,9,-999.000,9,  -999.0,9,  -999.0,9,-999.000,9,-999.0000,9, -999.00,9, -999.00,9,  -999.0,9,  -999.0,     1.0148,-999.0000,-999.000,-999.000
31WTTUNES_3,       P16C,     318,          1,          2,          2,2,19910929,       1206,    18.2093,  -153.9775,       5175,  5169.9,   1.4355,  34.6963,2,  34.6950,2,    174.5,2,   176.2,2,  138.77,2,   34.43,2,    0.00,2,    2.39,2,-999.000,9,-999.000,9,  -999.0,9,  -999.0,9,-999.000,9,-999.0000,9, -999.00,9, -999.00,9,  -999.0,9,  -999.0,     0.9826,-999.0000,-999.000,-999.000
31WTTUNES_3,       P16C,     318,          1,          1,          1,2,19910929,       1206,    18.2093,  -153.9775,       5175,  5245.0,   1.4341,  34.6969,2,  34.6952,2,    176.0,2,   175.7,2,  137.56,2,   34.37,2,    0.00,2,    2.37,2,-999.000,9,-999.000,9,  -999.0,9,  -999.0,9,-999.000,9,-999.0000,9, -999.00,9, -999.00,9,  -999.0,9,  -999.0,     0.9720,-999.0000,-999.000,-999.000