BOTTLE,20211117CCHSIORKP
EXPOCODE,SECT_ID,STNNBR,CASTNO,SAMPNO,BTLNBR,BTLNBR_FLAG_W,DATE,TIME,LATITUDE,LONGITUDE,DEPTH,CTDPRS,CTDTMP,CTDSAL,CTDSAL_FLAG_W,SALNTY,SALNTY_FLAG_W,CTDOXY,CTDOXY_FLAG_W,OXYGEN,OXYGEN_FLAG_W,SILCAT,SILCAT_FLAG_W,NITRAT,NITRAT_FLAG_W,NITRIT,NITRIT_FLAG_W,PHSPHT,PHSPHT_FLAG_W,CFC-11,CFC-11_FLAG_W,CFC-12,CFC-12_FLAG_W,TCARBN,TCARBN_FLAG_W,ALKALI,ALKALI_FLAG_W,TRITUM,TRITUM_FLAG_W,HELIUM,HELIUM_FLAG_W,DELHE3,DELHE3_FLAG_W,DELC13,DELC13_FLAG_W,DELC14,DELC14_FLAG_W,C14ERR,THETA,HELIER,DELHER,TRITER
,,,,,,,,,,,METERS,DBAR,ITS-90,PSS-78,,PSS-78,,UMOL/KG,,UMOL/KG,,UMOL/KG,,UMOL/KG,,UMOL/KG,,UMOL/KG,,PMOL/KG,,PMOL/KG,,UMOL/KG,,UMOL/KG,,TU,,NMOL/KG,,PERCNT,,/MILLE,,/MILLE,,/MILLE,ITS-90,NMOL/KG,PERCNT,TU
31WTTUNES_3,       P16C,     238,          1,         36,         36,2,19910907,       0836,    -9.0005,  -150.9963,       3837,     4.5,  28.4494,  35.7928,2,  35.7922,2,    212.9,3,   216.9,2,    0.70,2,    1.29,2,    0.03,2,    0.31,2,   1.587,2,   0.902,2,  1988.0,2,  2357.5,2,-999.000,9,-999.0000,9, -999.00,9,    1.79,2,    77.3,2,     3.9,    28.4483,-999.0000,-999.000,-999.000
31WTTUNES_3,       P16C,     238,          1,         35,         35,2,19910907,       0836,    -9.0005,  -150.9963,       3837,    33.1,  28.4341,  35.7998,2,  35.7928,2,    216.5,2,   216.3,2,    1.11,2,    1.29,2,    0.03,2,    0.32,2,   1.571,2,   0.899,2,  1988.0,2,  2358.8,2,-999.000,9,-999.0000,9, -999.00,9, -999.00,9,  -999.0,9,  -999.0,    28.4262,-999.0000,-999.000,-999.000
31WTTUNES_3,       P16C,     238,          1,         34,         34,2,19910907,       0836,    -9.0005,  -150.9963,       3837,    58.6,  28.3477,  35.8932,2,  35.8599,2,    211.6,2,   216.6,2,    0.74,2,    0.51,2,    0.01,2,    0.28,2,   1.580,2,   0.890,2,  1988.9,2,  2364.0,2,   1.046,2,   1.6950,2,   -0.94,2,    1.78,2,    79.3,2,     3.4,    28.3338,   0.0080,   0.150,   0.007
31WTTUNES_3,       P16C,     238,          1,         33,         33,2,19910907,       0836,    -9.0005,  -150.9963,       3837,    82.5,  28.2894,  35.9088,2,  35.8949,2,    210.8,2,   214.0,2,    0.95,2,    0.27,2,    0.01,2,    0.26,2,   1.575,2,   0.890,2,  1991.7,2,  2366.3,2,   1.041,2,   1.6980,2,   -0.95,2,    1.79,2,    81.9,2,     3.8,    28.2698,   0.0080,   0.150,   0.007
31WTTUNES_3,       P16C,     238,          1,         32,         32,2,19910907,       0836,    -9.0005,  -150.9963,       3837,   109.5,  27.8619,  36.1358,2,  35.9761,2,    197.6,2,   207.4,2,    0.96,2,    0.30,2,    0.02,2,    0.24,2,   1.584,6,   0.878,6,  1999.5,2,  2371.1,2,   1.006,2,   1.7160,2,   -0.81,2,    1.74,2,    90.1,2,     3.5,    27.8361,   0.0080,   0.150,   0.007
31WTTUNES_3,       P16C,     238,          1,         31,         31,2,19910907,       0836,    -9.0005,  -150.9963,       3837,   135.0,  25.7019,  36.3620,2,  36.2396,2,    182.3,2,   190.8,2,    1.17,2,    0.31,2,    0.83,2,    0.38,2,   1.624,6,   0.907,6,  2042.3,2,  2389.1,2,   0.924,2,   1.7090,2,   -0.43,2,    1.48,2,    96.4,2,     3.1,    25.6718,   0.0080,   0.150,   0.007
31WTTUNES_3,       P16C,     238,          1,         30,         30,2,19910907,       0836,    -9.0005,  -150.9963,       3837,   158.9,  24.3248,  36.3757,2,  36.3657,2,    176.2,2,   178.1,2,    1.00,2,    2.92,2,    0.08,2,    0.44,2,   1.767,2,   0.981,2,  2080.9,2,  2396.9,2,   0.817,2,   1.7360,2,   -0.67,2,    1.24,2,   110.4,2,     3.0,    24.2909,   0.0080,   0.150,   0.007
31WTTUNES_3,       P16C,     238,          1,         29,         29,2,19910907,       0836,    -9.0005,  -150.9963,       3837,   198.4,  21.5757,  36.0551,2,  36.0262,2,    173.1,2,   172.9,2,    1.20,2,    4.26,2,    0.01,2,    0.51,2,   1.790,2,   0.980,2,  2094.5,2,  2374.6,2,   0.738,2,   1.7450,2,   -0.27,2,    1.27,2,   129.3,2,     3.3,    21.5368,   0.0080,   0.150,   0.006
31WTTUNES_3,       P16C,     238,          1,         28,         28,2,19910907,       0836,    -9.0005,  -150.9963,       3837,   239.4,  17.7916,  35.4483,2,  35.6011,2,    154.1,2,   159.4,2,    2.38,2,    6.71,2,    0.08,2,    0.71,2,   1.632,2,   0.884,2,  2104.3,2,  2344.3,2,   0.666,2,   1.7480,2,    0.26,2,    1.13,2,   120.2,2,     3.2,    17.7506,   0.0080,   0.150,   0.006
31WTTUNES_3,       P16C,     238,          1,         27,         27,2,19910907,       0836,    -9.0005,  -150.9963,       3837,   278.7,  14.6817,  35.0734,2,  35.1116,2,     96.7,2,    98.1,2,    8.39,2,   17.29,2,    0.01,2,    1.50,2,   1.129,2,   0.619,2,  2164.7,2,  2316.8,2,   0.482,2,   1.7690,2,    1.51,2,    0.76,2,    69.5,2,     4.4,    14.6400,   0.0080,   0.150,   0.005
31WTTUNES_3,       P16C,     238,          1,         26,         26,2,19910907,       0836,    -9.0005,  -150.9963,       3837,   320.4,  12.0638,  34.8415,2,  34.8353,2,     58.9,2,    59.3,2,   16.96,2,   24.98,2,    0.06,2,    2.00,2,   0.442,2,   0.243,2,  2210.3,2,  2306.5,2,   0.234,2,   1.7970,2,    2.75,2,    0.47,2,   -15.4,2,     2.8,    12.0217,   0.0080,   0.150,   0.004
31WTTUNES_3,       P16C,     238,          1,         25,         25,2,19910907,       0836,    -9.0005,  -150.9963,       3837,   361.8,  10.5690,  34.7489,2,  34.7451,2,     63.9,2,    66.4,2,   22.01,2,   29.70,2,    0.01,2,    2.20,2,   0.185,2,   0.116,2,  2218.5,2,  2303.3,2,   0.127,2,   1.8100,2,    3.54,2,    0.38,2,   -51.7,2,     3.2,    10.5253,   0.0080,   0.150,   0.003
31WTTUNES_3,       P16C,     238,          1,         24,         24,2,19910907,       0836,    -9.0005,  -150.9963,       3837,   413.6,   9.0446,  34.6782,2,  34.6899,2,     74.8,2,    78.9,2,   25.91,2,   31.58,2,    0.00,2,    2.24,2,   0.093,2,   0.067,2,  2221.8,2,  2302.4,2,   0.073,2,   1.8160,2,    4.17,2,    0.28,2,   -80.6,2,     2.7,    -9.0013,   0.0090,   0.150,   0.002
31WTTUNES_3,       P16C,     238,          1,         23,         23,2,19910907,       0836,    -9.0005,  -150.9963,       3837,   464.2,   8.3638,  34.6394,2,  34.6394,2,     81.3,2,    78.5,2,   30.78,2,   33.97,2,    0.00,2,    2.37,2,   0.039,2,   0.030,2,  2228.8,2,  2302.8,2,-999.000,9,-999.0000,9, -999.00,9,    0.38,2,   -96.6,2,     2.8,     8.3150,-999.0000,-999.000,-999.000
31WTTUNES_3,       P16C,     238,          1,         22,         22,2,19910907,       0836,    -9.0005,  -150.9963,       3837,   516.1,   7.8892,  34.6123,2,  34.6105,2,     82.4,2,    79.8,2,   34.29,2,   35.08,2,    0.00,2,    2.44,2,   0.023,2,   0.016,2,  2237.4,2,  2307.9,2,   0.020,2,   1.8290,2,    5.89,2,    0.42,2,   -98.1,2,     3.7,     7.8366,   0.0090,   0.150,   0.001
31WTTUNES_3,       P16C,     238,          1,         21,         21,2,19910907,       0836,    -9.0005,  -150.9963,       3837,   617.8,   6.7786,  34.5596,2,  34.5800,4,     87.2,2,    83.0,2,   38.97,2,   36.17,2,    0.00,2,    2.51,2,   0.016,2,   0.013,2,  2241.5,2,  2308.8,2,   0.016,2,   1.7930,2,    7.12,2,    0.40,2,  -117.0,2,     2.7,     6.7204,   0.0080,   0.150,   0.001
31WTTUNES_3,       P16C,     238,          1,         20,         20,2,19910907,       0836,    -9.0005,  -150.9963,       3837,   720.1,   5.9016,  34.5383,2,  34.5834,4,     88.3,2,    89.3,2,   49.46,2,   37.37,2,    0.00,2,    2.62,2,   0.078,4,   0.054,4,  2252.7,2,  2321.2,2,-999.000,9,-999.0000,9, -999.00,9,    0.33,2,  -128.8,2,     2.8,     5.8380,-999.0000,-999.000,-999.000
31WTTUNES_3,       P16C,     238,          1,         19,         19,2,19910907,       0836,    -9.0005,  -150.9963,       3837,   821.8,   5.2338,  34.5302,2,  34.5274,2,     95.2,2,    93.4,2,   61.92,2,   39.00,2,    0.00,2,    2.72,2,   0.000,2,   0.000,2,  2270.5,2,  2329.6,2,   0.002,2,   1.8430,2,   13.05,2,    0.29,2,  -157.3,2,     2.7,     5.1650,   0.0090,   0.150,   0.001
31WTTUNES_3,       P16C,     238,          1,         18,         18,2,19910907,       0836,    -9.0005,  -150.9963,       3837,   923.9,   4.6908,  34.5339,2,  34.5305,2,    102.3,2,    99.9,2,   70.09,2,   38.79,2,    0.00,2,    2.72,2,  -0.001,2,   0.001,2,  2276.0,2,  2342.3,2,-999.000,9,-999.0000,9, -999.00,9,   -0.49,4,  -999.0,5,  -999.0,     4.6164,-999.0000,-999.000,-999.000
31WTTUNES_3,       P16C,     238,          1,         17,         17,2,19910907,       0836,    -9.0005,  -150.9963,       3837,  1027.2,   4.1883,  34.5452,2,  34.5413,2,    109.5,2,   107.6,2,   79.23,2,   38.35,2,    0.00,2,    2.69,2,  -0.002,2,   0.001,2,  2279.7,2,  2349.1,2,   0.002,2,   1.8720,2,   17.54,2,    0.17,2,  -176.7,2,     2.5,     4.1088,   0.0090,   0.150,   0.001
31WTTUNES_3,       P16C,     238,          1,         16,         16,2,19910907,       0836,    -9.0005,  -150.9963,       3837,  1127.9,   3.9064,  34.5528,2,  34.5496,2,    114.3,2,   113.7,2,   86.64,2,   38.11,2,    0.00,2,    2.69,2,  -0.004,6,   0.003,6,  2285.4,2,  -999.0,9,-999.000,9,-999.0000,9, -999.00,9, -999.00,9,  -999.0,9,  -999.0,     3.8206,-999.0000,-999.000,-999.000
31WTTUNES_3,       P16C,     238,          1,         15,         15,2,19910907,       0836,    -9.0005,  -150.9963,       3837,  1231.7,   3.5871,  34.5642,2,  34.5734,2,    117.8,2,   117.0,2,   94.81,2,   36.40,4,    0.01,2,    2.54,4,   0.008,2,   0.002,2,  2294.7,2,  2366.4,2,  -0.002,2,   1.8770,2,   21.76,2,    0.09,2,  -202.6,2,     3.0,     3.4956,   0.0090,   0.150,   0.001
31WTTUNES_3,       P16C,     238,          1,         14,         14,2,19910907,       0836,    -9.0005,  -150.9963,       3837,  1334.8,   3.3169,  34.5794,2,  34.5775,2,    116.5,2,   114.9,2,  101.44,2,   37.85,2,    0.00,2,    2.66,2,-999.000,9,-999.000,9,  2304.0,2,  -999.0,9,-999.000,9,-999.0000,9, -999.00,9, -999.00,9,  -999.0,9,  -999.0,     3.2193,-999.0000,-999.000,-999.000
31WTTUNES_3,       P16C,     238,          1,         13,         13,2,19910907,       0836,    -9.0005,  -150.9963,       3837,  1488.0,   2.9261,  34.5994,2,  34.5946,2,    119.3,2,   118.1,2,  110.39,2,   37.18,3,    0.00,2,    2.59,3,  -0.004,2,   0.007,2,  2310.8,2,  2382.9,2,-999.000,9,-999.0000,9, -999.00,9, -999.00,9,  -999.0,9,  -999.0,     2.8200,-999.0000,-999.000,-999.000
31WTTUNES_3,       P16C,     238,          1,         12,         12,2,19910907,       0836,    -9.0005,  -150.9963,       3837,  1642.2,   2.7211,  34.6092,2,  34.6071,2,    121.7,2,   123.1,2,  115.28,2,   34.48,4,    0.00,2,    2.36,4,-999.000,9,-999.000,9,  2318.5,2,  2390.2,2,-999.000,9,-999.0000,9, -999.00,9, -999.00,9,  -999.0,9,  -999.0,     2.6048,-999.0000,-999.000,-999.000
31WTTUNES_3,       P16C,     238,          1,         11,         11,2,19910907,       0836,    -9.0005,  -150.9963,       3837,  1847.4,   2.4497,  34.6212,2,  34.6227,2,    134.8,2,   135.0,2,  119.77,2,   34.38,4,    0.02,4,    2.38,4,-999.000,9,-999.000,9,  2316.3,2,  -999.0,9,-999.000,9,-999.0000,9, -999.00,9, -999.00,9,  -999.0,9,  -999.0,     2.3196,-999.0000,-999.000,-999.000
31WTTUNES_3,       P16C,     238,          1,         10,         10,2,19910907,       0836,    -9.0005,  -150.9963,       3837,  2053.6,   2.2200,  34.6390,2,  34.6431,2,    134.7,2,   136.2,2,  126.79,2,   32.07,4,    0.00,2,    2.18,4,-999.000,9,-999.000,9,  2316.1,2,  2402.3,2,-999.000,9,-999.0000,9, -999.00,9, -999.00,9,  -999.0,9,  -999.0,     2.0756,-999.0000,-999.000,-999.000
31WTTUNES_3,       P16C,     238,          1,          9,          9,2,19910907,       0836,    -9.0005,  -150.9963,       3837,  2260.0,   2.0418,  34.6522,2,  34.6517,2,    139.3,2,   140.3,2,  129.54,2,   36.76,2,    0.00,2,    2.54,2,-999.000,9,-999.000,9,  2319.1,2,  -999.0,9,-999.000,9,-999.0000,9, -999.00,9, -999.00,9,  -999.0,9,  -999.0,     1.8822,-999.0000,-999.000,-999.000
31WTTUNES_3,       P16C,     238,          1,          8,          8,2,19910907,       0836,    -9.0005,  -150.9963,       3837,  2467.7,   1.9043,  34.6629,2,  34.6743,4,    143.1,2,   143.6,2,  133.64,2,   36.51,2,    0.00,2,    2.47,3,-999.000,9,-999.000,9,  2318.1,2,  2413.2,2,-999.000,9,-999.0000,9, -999.00,9, -999.00,9,  -999.0,9,  -999.0,     1.7288,-999.0000,-999.000,-999.000
31WTTUNES_3,       P16C,     238,          1,          7,          7,2,19910907,       0836,    -9.0005,  -150.9963,       3837,  2674.0,   1.8155,  34.6701,2,  34.6718,2,    145.8,2,   145.5,2,  136.59,2,   36.46,2,    0.00,2,    2.53,2,-999.000,9,-999.000,9,  2321.8,2,  -999.0,9,-999.000,9,-999.0000,9, -999.00,9, -999.00,9,  -999.0,9,  -999.0,     1.6226,-999.0000,-999.000,-999.000
31WTTUNES_3,       P16C,     238,          1,          6,          6,2,19910907,       0836,    -9.0005,  -150.9963,       3837,  2879.5,   1.7457,  34.6758,2,  34.6755,2,    148.2,2,   148.5,2,  137.79,2,   36.26,2,    0.00,2,    2.47,2,-999.000,9,-999.000,9,  2323.2,2,  -999.0,9,-999.000,9,-999.0000,9, -999.00,9, -999.00,9,  -999.0,9,  -999.0,     1.5350,-999.0000,-999.000,-999.000
31WTTUNES_3,       P16C,     238,          1,          5,          5,2,19910907,       0836,    -9.0005,  -150.9963,       3837,  3085.7,   1.6889,  34.6799,2,  34.6791,2,    152.5,2,   152.2,2,  138.39,2,   35.92,2,    0.00,2,    2.48,2,-999.000,9,-999.000,9,  2319.8,2,  2416.0,2,-999.000,9,-999.0000,9, -999.00,9, -999.00,9,  -999.0,9,  -999.0,     1.4596,-999.0000,-999.000,-999.000
31WTTUNES_3,       P16C,     238,          1,          4,          4,2,19910907,       0836,    -9.0005,  -150.9963,       3837,  3293.4,   1.6142,  34.6838,2,  34.6820,2,    157.4,2,   158.4,2,  137.65,2,   35.67,2,    0.00,2,    2.45,2,-999.000,9,-999.000,9,  2317.6,2,  -999.0,9,-999.000,9,-999.0000,9, -999.00,9, -999.00,9,  -999.0,9,  -999.0,     1.3662,-999.0000,-999.000,-999.000
31WTTUNES_3,       P16C,     238,          1,          3,          3,2,19910907,       0836,    -9.0005,  -150.9963,       3837,  3501.6,   1.5316,  34.6883,2,  34.6875,2,    163.7,2,   163.2,2,  137.09,2,   35.28,2,    0.00,2,    2.44,2,-999.000,9,-999.000,9,  2312.3,2,  2415.8,2,-999.000,9,-999.0000,9, -999.00,9, -999.00,9,  -999.0,9,  -999.0,     1.2645,-999.0000,-999.000,-999.000
31WTTUNES_3,       P16C,     238,          1,          2,          2,2,19910907,       0836,    -9.0005,  -150.9963,       3837,  3708.2,   1.4737,  34.6913,2,  34.6926,2,    169.2,2,   168.9,2,  135.18,2,   34.84,2,    0.00,2,    2.40,2,-999.000,9,-999.000,9,  2306.4,2,  2406.8,2,-999.000,9,-999.0000,9, -999.00,9, -999.00,9,  -999.0,9,  -999.0,     1.1867,-999.0000,-999.000,-999.000
31WTTUNES_3,       P16C,     238,          1,          1,          1,2,19910907,       0836,    -9.0005,  -150.9963,       3837,  3883.0,   1.4315,  34.6936,2,  34.6930,2,    173.4,2,   171.7,2,  133.46,2,   34.60,2,    0.00,2,    2.38,2,-999.000,9,-999.000,9,  2300.6,2,  2406.4,2,-999.000,9,-999.0000,9, -999.00,9, -999.00,9,  -999.0,9,  -999.0,     1.1270,-999.0000,-999.000,-999.000