BOTTLE,20211117CCHSIORKP
EXPOCODE,SECT_ID,STNNBR,CASTNO,SAMPNO,BTLNBR,BTLNBR_FLAG_W,DATE,TIME,LATITUDE,LONGITUDE,DEPTH,CTDPRS,CTDTMP,CTDSAL,CTDSAL_FLAG_W,SALNTY,SALNTY_FLAG_W,CTDOXY,CTDOXY_FLAG_W,OXYGEN,OXYGEN_FLAG_W,SILCAT,SILCAT_FLAG_W,NITRAT,NITRAT_FLAG_W,NITRIT,NITRIT_FLAG_W,PHSPHT,PHSPHT_FLAG_W,CFC-11,CFC-11_FLAG_W,CFC-12,CFC-12_FLAG_W,TCARBN,TCARBN_FLAG_W,ALKALI,ALKALI_FLAG_W,TRITUM,TRITUM_FLAG_W,HELIUM,HELIUM_FLAG_W,DELHE3,DELHE3_FLAG_W,DELC13,DELC13_FLAG_W,DELC14,DELC14_FLAG_W,C14ERR,THETA,HELIER,DELHER,TRITER
,,,,,,,,,,,METERS,DBAR,ITS-90,PSS-78,,PSS-78,,UMOL/KG,,UMOL/KG,,UMOL/KG,,UMOL/KG,,UMOL/KG,,UMOL/KG,,PMOL/KG,,PMOL/KG,,UMOL/KG,,UMOL/KG,,TU,,NMOL/KG,,PERCNT,,/MILLE,,/MILLE,,/MILLE,ITS-90,NMOL/KG,PERCNT,TU
31WTTUNES_3,       P16C,     247,          1,         36,         36,2,19910910,       0809,    -4.5195,  -151.0072,       4664,     6.4,  27.9243,  35.4048,2,  35.3947,2,    211.9,3,   213.1,2,    1.99,2,    3.94,2,    0.14,2,    0.51,2,-999.000,9,-999.000,9,  -999.0,9,  -999.0,9,-999.000,9,-999.0000,9, -999.00,9, -999.00,9,  -999.0,9,  -999.0,    27.9228,-999.0000,-999.000,-999.000
31WTTUNES_3,       P16C,     247,          1,         35,         35,2,19910910,       0809,    -4.5195,  -151.0072,       4664,    47.9,  27.8251,  35.4207,2,  35.4160,2,    214.7,2,   210.8,2,    2.19,2,    4.15,2,    0.17,2,    0.51,2,-999.000,9,-999.000,9,  -999.0,9,  -999.0,9,-999.000,9,-999.0000,9, -999.00,9, -999.00,9,  -999.0,9,  -999.0,    27.8139,-999.0000,-999.000,-999.000
31WTTUNES_3,       P16C,     247,          1,         34,         34,2,19910910,       0809,    -4.5195,  -151.0072,       4664,    88.5,  27.7527,  35.4317,2,  35.4263,2,    211.5,2,   211.1,2,    2.19,2,    4.27,2,    0.21,2,    0.54,2,-999.000,9,-999.000,9,  -999.0,9,  -999.0,9,-999.000,9,-999.0000,9, -999.00,9, -999.00,9,  -999.0,9,  -999.0,    27.7320,-999.0000,-999.000,-999.000
31WTTUNES_3,       P16C,     247,          1,         33,         33,2,19910910,       0809,    -4.5195,  -151.0072,       4664,   128.0,  27.6589,  35.9282,2,  36.1306,2,    196.7,2,   176.6,2,    2.38,2,    1.49,2,    2.01,2,    0.63,2,-999.000,9,-999.000,9,  -999.0,9,  -999.0,9,-999.000,9,-999.0000,9, -999.00,9, -999.00,9,  -999.0,9,  -999.0,    27.6289,-999.0000,-999.000,-999.000
31WTTUNES_3,       P16C,     247,          1,         32,         32,2,19910910,       0809,    -4.5195,  -151.0072,       4664,   158.9,  22.8190,  36.1724,2,  36.0752,2,    170.8,2,   167.9,2,    1.98,2,    6.05,2,    0.03,2,    0.66,2,-999.000,9,-999.000,9,  -999.0,9,  -999.0,9,-999.000,9,-999.0000,9, -999.00,9, -999.00,9,  -999.0,9,  -999.0,    22.7865,-999.0000,-999.000,-999.000
31WTTUNES_3,       P16C,     247,          1,         31,         31,2,19910910,       0809,    -4.5195,  -151.0072,       4664,   188.2,  17.2042,  35.4102,2,  35.1559,2,    117.0,2,    75.4,2,   11.58,2,   21.49,2,    0.01,2,    1.69,2,-999.000,9,-999.000,9,  -999.0,9,  -999.0,9,-999.000,9,-999.0000,9, -999.00,9, -999.00,9,  -999.0,9,  -999.0,    17.1728,-999.0000,-999.000,-999.000
31WTTUNES_3,       P16C,     247,          1,         30,         30,2,19910910,       0809,    -4.5195,  -151.0072,       4664,   227.6,  12.6618,  34.9169,2,  34.9355,2,     24.6,2,    21.5,2,   21.99,2,   31.22,2,    0.01,2,    2.22,2,-999.000,9,-999.000,9,  -999.0,9,  -999.0,9,-999.000,9,-999.0000,9, -999.00,9, -999.00,9,  -999.0,9,  -999.0,    12.6310,-999.0000,-999.000,-999.000
31WTTUNES_3,       P16C,     247,          1,         29,         29,2,19910910,       0809,    -4.5195,  -151.0072,       4664,   268.7,  11.7614,  34.8485,2,  34.8877,2,     65.5,2,    58.4,2,   22.38,2,   28.68,2,    0.00,2,    2.03,2,-999.000,9,-999.000,9,  -999.0,9,  -999.0,9,-999.000,9,-999.0000,9, -999.00,9, -999.00,9,  -999.0,9,  -999.0,    11.7268,-999.0000,-999.000,-999.000
31WTTUNES_3,       P16C,     247,          1,         28,         28,2,19910910,       0809,    -4.5195,  -151.0072,       4664,   311.2,  11.2706,  34.8305,2,  34.8332,2,     91.1,2,    68.6,2,   22.98,2,   28.62,2,    0.00,2,    2.03,2,-999.000,9,-999.000,9,  -999.0,9,  -999.0,9,-999.000,9,-999.0000,9, -999.00,9, -999.00,9,  -999.0,9,  -999.0,    11.2315,-999.0000,-999.000,-999.000
31WTTUNES_3,       P16C,     247,          1,         27,         27,2,19910910,       0809,    -4.5195,  -151.0072,       4664,   361.8,  10.4472,  34.7743,2,  34.7809,2,     45.4,2,    45.8,2,   26.77,2,   32.48,2,    0.00,2,    2.31,2,-999.000,9,-999.000,9,  -999.0,9,  -999.0,9,-999.000,9,-999.0000,9, -999.00,9, -999.00,9,  -999.0,9,  -999.0,    10.4038,-999.0000,-999.000,-999.000
31WTTUNES_3,       P16C,     247,          1,         26,         26,2,19910910,       0809,    -4.5195,  -151.0072,       4664,   411.3,   9.6696,  34.7271,2,  34.7227,2,     26.1,2,    27.9,2,   31.98,2,   35.93,2,    0.00,2,    2.55,2,-999.000,9,-999.000,9,  -999.0,9,  -999.0,9,-999.000,9,-999.0000,9, -999.00,9, -999.00,9,  -999.0,9,  -999.0,     9.6224,-999.0000,-999.000,-999.000
31WTTUNES_3,       P16C,     247,          1,         25,         25,2,19910910,       0809,    -4.5195,  -151.0072,       4664,   463.2,   8.6683,  34.6677,2,  34.6755,2,     27.4,2,    29.4,2,   35.36,2,   37.69,2,    0.00,2,    2.63,2,-999.000,9,-999.000,9,  -999.0,9,  -999.0,9,-999.000,9,-999.0000,9, -999.00,9, -999.00,9,  -999.0,9,  -999.0,     8.6186,-999.0000,-999.000,-999.000
31WTTUNES_3,       P16C,     247,          1,         24,         24,2,19910910,       0809,    -4.5195,  -151.0072,       4664,   506.1,   8.1101,  34.6373,2,  34.6402,2,     30.4,2,    31.6,2,   39.95,2,   39.18,2,    0.00,2,    2.72,2,-999.000,9,-999.000,9,  -999.0,9,  -999.0,9,-999.000,9,-999.0000,9, -999.00,9, -999.00,9,  -999.0,9,  -999.0,     8.0577,-999.0000,-999.000,-999.000
31WTTUNES_3,       P16C,     247,          1,         23,         23,2,19910910,       0809,    -4.5195,  -151.0072,       4664,   565.1,   7.5733,  34.6095,2,  34.6124,2,     39.6,2,    43.0,2,   45.34,2,   39.74,2,    0.00,2,    2.77,2,-999.000,9,-999.000,9,  -999.0,9,  -999.0,9,-999.000,9,-999.0000,9, -999.00,9, -999.00,9,  -999.0,9,  -999.0,     7.5168,-999.0000,-999.000,-999.000
31WTTUNES_3,       P16C,     247,          1,         22,         22,2,19910910,       0809,    -4.5195,  -151.0072,       4664,   667.0,   6.7578,  34.5731,2,  34.5673,2,     59.6,2,    65.1,2,   48.74,2,   39.13,2,    0.00,2,    2.72,2,-999.000,9,-999.000,9,  -999.0,9,  -999.0,9,-999.000,9,-999.0000,9, -999.00,9, -999.00,9,  -999.0,9,  -999.0,     6.6948,-999.0000,-999.000,-999.000
31WTTUNES_3,       P16C,     247,          1,         21,         21,2,19910910,       0809,    -4.5195,  -151.0072,       4664,   767.7,   6.0242,  34.5453,2,  34.5443,2,     79.9,2,    85.7,2,   55.51,2,   38.25,2,    0.00,2,    2.67,2,-999.000,9,-999.000,9,  -999.0,9,  -999.0,9,-999.000,9,-999.0000,9, -999.00,9, -999.00,9,  -999.0,9,  -999.0,     5.9555,-999.0000,-999.000,-999.000
31WTTUNES_3,       P16C,     247,          1,         20,         20,2,19910910,       0809,    -4.5195,  -151.0072,       4664,   870.4,   5.3365,  34.5352,2,  34.5349,2,     98.3,2,    97.6,2,   62.89,2,   37.99,2,    0.00,2,    2.66,2,-999.000,9,-999.000,9,  -999.0,9,  -999.0,9,-999.000,9,-999.0000,9, -999.00,9, -999.00,9,  -999.0,9,  -999.0,     5.2625,-999.0000,-999.000,-999.000
31WTTUNES_3,       P16C,     247,          1,         19,         19,2,19910910,       0809,    -4.5195,  -151.0072,       4664,   972.4,   4.7032,  34.5400,2,  34.5378,2,    100.8,2,    98.3,2,   72.67,2,   38.45,2,    0.00,2,    2.71,2,-999.000,9,-999.000,9,  -999.0,9,  -999.0,9,-999.000,9,-999.0000,9, -999.00,9, -999.00,9,  -999.0,9,  -999.0,     4.6245,-999.0000,-999.000,-999.000
31WTTUNES_3,       P16C,     247,          1,         18,         18,2,19910910,       0809,    -4.5195,  -151.0072,       4664,  1073.9,   4.2346,  34.5530,2,  34.5492,2,    100.8,2,    99.2,2,   83.64,2,   38.76,2,    0.00,2,    2.74,2,-999.000,9,-999.000,9,  -999.0,9,  -999.0,9,-999.000,9,-999.0000,9, -999.00,9, -999.00,9,  -999.0,9,  -999.0,     4.1507,-999.0000,-999.000,-999.000
31WTTUNES_3,       P16C,     247,          1,         17,         17,2,19910910,       0809,    -4.5195,  -151.0072,       4664,  1225.1,   3.6412,  34.5731,2,  34.5732,2,    102.6,2,   101.6,2,   97.39,2,   38.92,2,    0.00,2,    2.75,2,-999.000,9,-999.000,9,  -999.0,9,  -999.0,9,-999.000,9,-999.0000,9, -999.00,9, -999.00,9,  -999.0,9,  -999.0,     3.5497,-999.0000,-999.000,-999.000
31WTTUNES_3,       P16C,     247,          1,         16,         16,2,19910910,       0809,    -4.5195,  -151.0072,       4664,  1377.9,   3.3210,  34.5870,2,  34.5855,2,    102.1,2,   102.4,2,  106.95,2,   39.12,2,    0.00,2,    2.77,2,-999.000,9,-999.000,9,  -999.0,9,  -999.0,9,-999.000,9,-999.0000,9, -999.00,9, -999.00,9,  -999.0,9,  -999.0,     3.2198,-999.0000,-999.000,-999.000
31WTTUNES_3,       P16C,     247,          1,         15,         15,2,19910910,       0809,    -4.5195,  -151.0072,       4664,  1529.0,   3.0251,  34.6012,2,  34.6022,2,    100.0,2,   101.7,2,  116.72,2,   39.43,2,    0.00,2,    2.79,2,-999.000,9,-999.000,9,  -999.0,9,  -999.0,9,-999.000,9,-999.0000,9, -999.00,9, -999.00,9,  -999.0,9,  -999.0,     2.9145,-999.0000,-999.000,-999.000
31WTTUNES_3,       P16C,     247,          1,         14,         14,2,19910910,       0809,    -4.5195,  -151.0072,       4664,  1728.8,   2.6297,  34.6206,2,  34.6201,2,    106.9,2,   107.5,2,  125.66,2,   39.07,2,    0.00,2,    2.76,2,-999.000,9,-999.000,9,  -999.0,9,  -999.0,9,-999.000,9,-999.0000,9, -999.00,9, -999.00,9,  -999.0,9,  -999.0,     2.5071,-999.0000,-999.000,-999.000
31WTTUNES_3,       P16C,     247,          1,         13,         13,2,19910910,       0809,    -4.5195,  -151.0072,       4664,  1930.3,   2.3674,  34.6363,2,  34.6339,2,    109.5,2,   109.8,2,  133.41,2,   38.97,2,    0.00,2,    2.74,2,-999.000,9,-999.000,9,  -999.0,9,  -999.0,9,-999.000,9,-999.0000,9, -999.00,9, -999.00,9,  -999.0,9,  -999.0,     2.2314,-999.0000,-999.000,-999.000
31WTTUNES_3,       P16C,     247,          1,         12,         12,2,19910910,       0809,    -4.5195,  -151.0072,       4664,  2128.5,   2.2039,  34.6438,2,  34.6431,2,    119.1,2,   118.8,2,  134.59,2,   38.29,2,    0.00,2,    2.69,2,-999.000,9,-999.000,9,  -999.0,9,  -999.0,9,-999.000,9,-999.0000,9, -999.00,9, -999.00,9,  -999.0,9,  -999.0,     2.0532,-999.0000,-999.000,-999.000
31WTTUNES_3,       P16C,     247,          1,         11,         11,2,19910910,       0809,    -4.5195,  -151.0072,       4664,  2329.6,   2.0567,  34.6532,2,  34.6513,2,    121.7,2,   122.5,2,  137.74,2,   37.98,2,    0.00,2,    2.66,2,-999.000,9,-999.000,9,  -999.0,9,  -999.0,9,-999.000,9,-999.0000,9, -999.00,9, -999.00,9,  -999.0,9,  -999.0,     1.8908,-999.0000,-999.000,-999.000
31WTTUNES_3,       P16C,     247,          1,         10,         10,2,19910910,       0809,    -4.5195,  -151.0072,       4664,  2528.9,   1.9085,  34.6611,2,  34.6614,2,    128.2,2,   131.9,2,  138.71,2,   37.52,2,    0.00,2,    2.61,2,-999.000,9,-999.000,9,  -999.0,9,  -999.0,9,-999.000,9,-999.0000,9, -999.00,9, -999.00,9,  -999.0,9,  -999.0,     1.7273,-999.0000,-999.000,-999.000
31WTTUNES_3,       P16C,     247,          1,          9,          9,4,19910910,       0809,    -4.5195,  -151.0072,       4664,  2728.2,   1.8281,  34.6672,2,-999.0000,9,    134.9,2,  -999.0,9, -999.00,9, -999.00,9, -999.00,9, -999.00,9,-999.000,9,-999.000,9,  -999.0,9,  -999.0,9,-999.000,9,-999.0000,9, -999.00,9, -999.00,9,  -999.0,9,  -999.0,     1.6300,-999.0000,-999.000,-999.000
31WTTUNES_3,       P16C,     247,          1,          8,          8,2,19910910,       0809,    -4.5195,  -151.0072,       4664,  2928.5,   1.7237,  34.6735,2,  34.6734,2,    140.8,2,   141.8,2,  141.07,2,   36.90,2,    0.00,2,    2.55,2,-999.000,9,-999.000,9,  -999.0,9,  -999.0,9,-999.000,9,-999.0000,9, -999.00,9, -999.00,9,  -999.0,9,  -999.0,     1.5089,-999.0000,-999.000,-999.000
31WTTUNES_3,       P16C,     247,          1,          7,          7,2,19910910,       0809,    -4.5195,  -151.0072,       4664,  3175.7,   1.6095,  34.6795,2,  34.6806,2,    149.0,2,   151.0,2,  140.24,2,   36.28,2,    0.00,2,    2.50,2,-999.000,9,-999.000,9,  -999.0,9,  -999.0,9,-999.000,9,-999.0000,9, -999.00,9, -999.00,9,  -999.0,9,  -999.0,     1.3733,-999.0000,-999.000,-999.000
31WTTUNES_3,       P16C,     247,          1,          6,          6,2,19910910,       0809,    -4.5195,  -151.0072,       4664,  3421.5,   1.5181,  34.6850,2,  34.6850,2,    156.1,2,   157.5,2,  139.81,2,   35.92,2,    0.00,2,    2.47,2,-999.000,9,-999.000,9,  -999.0,9,  -999.0,9,-999.000,9,-999.0000,9, -999.00,9, -999.00,9,  -999.0,9,  -999.0,     1.2595,-999.0000,-999.000,-999.000
31WTTUNES_3,       P16C,     247,          1,          5,          5,2,19910910,       0809,    -4.5195,  -151.0072,       4664,  3666.4,   1.4385,  34.6900,2,  34.6895,2,    163.0,2,   163.4,2,  139.18,2,   35.55,2,    0.00,2,    2.43,2,-999.000,9,-999.000,9,  -999.0,9,  -999.0,9,-999.000,9,-999.0000,9, -999.00,9, -999.00,9,  -999.0,9,  -999.0,     1.1566,-999.0000,-999.000,-999.000
31WTTUNES_3,       P16C,     247,          1,          4,          4,2,19910910,       0809,    -4.5195,  -151.0072,       4664,  3920.1,   1.3925,  34.6935,2,  34.6924,2,    170.6,2,   170.6,2,  135.97,2,   35.14,2,    0.00,2,    2.40,2,-999.000,9,-999.000,9,  -999.0,9,  -999.0,9,-999.000,9,-999.0000,9, -999.00,9, -999.00,9,  -999.0,9,  -999.0,     1.0851,-999.0000,-999.000,-999.000
31WTTUNES_3,       P16C,     247,          1,          3,          3,2,19910910,       0809,    -4.5195,  -151.0072,       4664,  4172.5,   1.3516,  34.6965,2,  34.6971,2,    178.3,2,   179.8,2,  130.96,2,   34.32,2,    0.00,2,    2.35,2,-999.000,9,-999.000,9,  -999.0,9,  -999.0,9,-999.000,9,-999.0000,9, -999.00,9, -999.00,9,  -999.0,9,  -999.0,     1.0180,-999.0000,-999.000,-999.000
31WTTUNES_3,       P16C,     247,          1,          2,          2,2,19910910,       0809,    -4.5195,  -151.0072,       4664,  4423.2,   1.3179,  34.6992,2,  34.7017,3,    185.1,2,   183.0,2,  129.54,2,   34.06,2,    0.00,2,    2.33,2,-999.000,9,-999.000,9,  -999.0,9,  -999.0,9,-999.000,9,-999.0000,9, -999.00,9, -999.00,9,  -999.0,9,  -999.0,     0.9573,-999.0000,-999.000,-999.000
31WTTUNES_3,       P16C,     247,          1,          1,          1,2,19910910,       0809,    -4.5195,  -151.0072,       4664,  4703.0,   1.3151,  34.7009,2,  34.7009,2,    189.0,2,   188.4,2,  126.90,2,   33.75,2,    0.00,2,    2.30,2,-999.000,9,-999.000,9,  -999.0,9,  -999.0,9,-999.000,9,-999.0000,9, -999.00,9, -999.00,9,  -999.0,9,  -999.0,     0.9223,-999.0000,-999.000,-999.000