BOTTLE,20211117CCHSIORKP
EXPOCODE,SECT_ID,STNNBR,CASTNO,SAMPNO,BTLNBR,BTLNBR_FLAG_W,DATE,TIME,LATITUDE,LONGITUDE,DEPTH,CTDPRS,CTDTMP,CTDSAL,CTDSAL_FLAG_W,SALNTY,SALNTY_FLAG_W,CTDOXY,CTDOXY_FLAG_W,OXYGEN,OXYGEN_FLAG_W,SILCAT,SILCAT_FLAG_W,NITRAT,NITRAT_FLAG_W,NITRIT,NITRIT_FLAG_W,PHSPHT,PHSPHT_FLAG_W,CFC-11,CFC-11_FLAG_W,CFC-12,CFC-12_FLAG_W,TCARBN,TCARBN_FLAG_W,ALKALI,ALKALI_FLAG_W,TRITUM,TRITUM_FLAG_W,HELIUM,HELIUM_FLAG_W,DELHE3,DELHE3_FLAG_W,DELC13,DELC13_FLAG_W,DELC14,DELC14_FLAG_W,C14ERR,THETA,HELIER,DELHER,TRITER
,,,,,,,,,,,METERS,DBAR,ITS-90,PSS-78,,PSS-78,,UMOL/KG,,UMOL/KG,,UMOL/KG,,UMOL/KG,,UMOL/KG,,UMOL/KG,,PMOL/KG,,PMOL/KG,,UMOL/KG,,UMOL/KG,,TU,,NMOL/KG,,PERCNT,,/MILLE,,/MILLE,,/MILLE,ITS-90,NMOL/KG,PERCNT,TU
31WTTUNES_3,       P16C,     288,          2,         36,         36,2,19910919,       1039,     4.0088,  -151.0163,       5061,     6.5,  28.3513,  34.9450,2,  34.9362,2,    210.7,3,   212.5,2,    2.39,2,    0.66,2,    0.06,2,    0.27,2,   1.616,2,   1.050,4,  -999.0,9,  -999.0,9,-999.000,9,-999.0000,9, -999.00,9, -999.00,9,  -999.0,9,  -999.0,    28.3497,-999.0000,-999.000,-999.000
31WTTUNES_3,       P16C,     288,          2,         35,         35,2,19910919,       1039,     4.0088,  -151.0163,       5061,    58.5,  27.4508,  34.7703,2,  34.7646,2,    206.9,2,   208.9,2,    2.61,2,    1.48,2,    0.12,2,    0.35,2,   1.651,2,   0.925,2,  -999.0,9,  -999.0,9,   1.299,2,   1.7050,2,   -1.04,2, -999.00,9,  -999.0,9,  -999.0,    27.4372,   0.0080,   0.150,   0.008
31WTTUNES_3,       P16C,     288,          2,         34,         34,2,19910919,       1039,     4.0088,  -151.0163,       5061,   108.5,  26.1143,  34.8877,2,  34.8993,2,    201.7,2,   201.0,2,    3.62,2,    3.86,2,    0.25,2,    0.52,2,   1.709,2,   0.935,2,  -999.0,9,  -999.0,9,   1.345,2,   1.7130,2,   -0.68,2, -999.00,9,  -999.0,9,  -999.0,    26.0900,   0.0080,   0.150,   0.008
31WTTUNES_3,       P16C,     288,          2,         33,         33,2,19910919,       1039,     4.0088,  -151.0163,       5061,   133.2,  25.6283,  34.9245,2,  34.9111,2,    184.2,2,   184.4,2,    4.04,2,    4.80,2,    0.43,2,    0.59,2,   1.661,2,   0.966,3,  -999.0,9,  -999.0,9,-999.000,9,-999.0000,9, -999.00,9, -999.00,9,  -999.0,9,  -999.0,    25.5990,-999.0000,-999.000,-999.000
31WTTUNES_3,       P16C,     288,          2,         32,         32,2,19910919,       1039,     4.0088,  -151.0163,       5061,   156.4,  18.3273,  34.7390,2,  34.6934,2,    109.2,2,   106.8,2,   16.12,2,   17.42,2,    0.02,2,    1.32,2,   1.164,2,   0.629,2,  -999.0,9,  -999.0,9,-999.000,5,   1.7770,2,    7.51,2, -999.00,9,  -999.0,9,  -999.0,    18.3002,   0.0080,   0.150,-999.000
31WTTUNES_3,       P16C,     288,          2,         31,         31,2,19910919,       1039,     4.0088,  -151.0163,       5061,   180.5,  12.9273,  34.6848,2,  34.7343,2,    107.3,2,   104.6,2,   23.65,2,   23.57,2,    0.01,2,    1.70,2,   0.588,2,   0.324,2,  -999.0,9,  -999.0,9,-999.000,9,-999.0000,9, -999.00,9, -999.00,9,  -999.0,9,  -999.0,    12.9026,-999.0000,-999.000,-999.000
31WTTUNES_3,       P16C,     288,          2,         30,         30,2,19910919,       1039,     4.0088,  -151.0163,       5061,   204.4,  11.5987,  34.7689,2,  34.7649,2,     95.0,2,   103.5,2,   23.86,2,   24.52,2,    0.01,2,    1.77,2,   0.481,2,   0.271,2,  -999.0,9,  -999.0,9,   0.535,2,   1.7970,2,    6.15,2, -999.00,9,  -999.0,9,  -999.0,    11.5727,   0.0080,   0.150,   0.005
31WTTUNES_3,       P16C,     288,          2,         29,         29,2,19910919,       1039,     4.0088,  -151.0163,       5061,   253.1,  11.0962,  34.7805,2,  34.7756,2,     72.2,2,    75.2,2,   25.66,2,   28.10,2,    0.01,2,    1.98,2,   0.310,2,   0.174,2,  -999.0,9,  -999.0,9,   0.365,2,-999.0000,9, -999.00,9, -999.00,9,  -999.0,9,  -999.0,    11.0648,-999.0000,   0.150,   0.004
31WTTUNES_3,       P16C,     288,          2,         28,         28,2,19910919,       1039,     4.0088,  -151.0163,       5061,   297.4,  10.8264,  34.7663,2,  34.7642,2,     65.3,2,    68.0,2,   26.86,2,   29.21,2,    0.01,2,    2.06,2,   0.257,2,   0.149,2,  -999.0,9,  -999.0,9,   0.339,2,   1.8030,2,    5.78,2, -999.00,9,  -999.0,9,  -999.0,    10.7900,   0.0080,   0.150,   0.004
31WTTUNES_3,       P16C,     288,          2,         27,         27,2,19910919,       1039,     4.0088,  -151.0163,       5061,   337.5,  10.4610,  34.7437,2,  34.7475,2,     59.0,2,    64.7,2,   28.06,2,   30.11,2,    0.01,2,    2.11,2,   0.221,2,   0.126,2,  -999.0,9,  -999.0,9,-999.000,9,-999.0000,9, -999.00,9, -999.00,9,  -999.0,9,  -999.0,    10.4205,-999.0000,-999.000,-999.000
31WTTUNES_3,       P16C,     288,          2,         26,         26,2,19910919,       1039,     4.0088,  -151.0163,       5061,   386.8,  10.1168,  34.7224,2,  34.7266,2,     57.4,2,    58.3,2,   29.67,2,   31.34,2,    0.01,2,    2.19,2,   0.174,6,   0.102,6,  -999.0,9,  -999.0,9,   0.241,2,   1.8000,2,    6.04,2, -999.00,9,  -999.0,9,  -999.0,    10.0713,   0.0080,   0.150,   0.004
31WTTUNES_3,       P16C,     288,          2,         25,         25,2,19910919,       1039,     4.0088,  -151.0163,       5061,   493.5,   9.0321,  34.6533,2,  34.6635,2,     61.1,2,    63.7,2,   33.44,2,   32.37,2,    0.00,2,    2.27,2,   0.125,2,   0.074,2,  -999.0,9,  -999.0,9,-999.000,9,-999.0000,9, -999.00,9, -999.00,9,  -999.0,9,  -999.0,     8.9777,-999.0000,-999.000,-999.000
31WTTUNES_3,       P16C,     288,          2,         24,         24,2,19910919,       1039,     4.0088,  -151.0163,       5061,   601.3,   7.9013,  34.6123,2,  34.6148,2,     29.6,2,    27.6,2,   45.53,2,   38.25,2,    0.00,2,    2.75,2,   0.013,6,   0.008,6,  -999.0,9,  -999.0,9,   0.029,2,   1.8290,2,    7.35,2, -999.00,9,  -999.0,9,  -999.0,     7.8396,   0.0090,   0.150,   0.002
31WTTUNES_3,       P16C,     288,          2,         23,         23,2,19910919,       1039,     4.0088,  -151.0163,       5061,   704.8,   6.6488,  34.5687,2,  34.5692,2,     50.9,2,    48.6,2,   54.64,2,   39.30,2,    0.00,2,    2.80,2,   0.004,2,   0.037,4,  -999.0,9,  -999.0,9,-999.000,9,-999.0000,9, -999.00,9, -999.00,9,  -999.0,9,  -999.0,     6.5827,-999.0000,-999.000,-999.000
31WTTUNES_3,       P16C,     288,          2,         22,         22,2,19910919,       1039,     4.0088,  -151.0163,       5061,   800.7,   5.9414,  34.5537,2,  34.5529,2,     59.5,2,    56.5,2,   62.57,2,   39.86,2,    0.00,2,    2.84,2,   0.000,2,   0.002,2,  -999.0,9,  -999.0,9,-999.000,9,-999.0000,9, -999.00,9, -999.00,9,  -999.0,9,  -999.0,     5.8700,-999.0000,-999.000,-999.000
31WTTUNES_3,       P16C,     288,          2,         21,         21,2,19910919,       1039,     4.0088,  -151.0163,       5061,   888.6,   5.4635,  34.5483,2,  34.5455,2,     65.6,2,    65.4,2,   70.69,2,   39.47,2,    0.00,2,    2.82,2,   0.003,2,   0.004,2,  -999.0,9,  -999.0,9,-999.000,9,-999.0000,9, -999.00,9, -999.00,9,  -999.0,9,  -999.0,     5.3870,-999.0000,-999.000,-999.000
31WTTUNES_3,       P16C,     288,          2,         20,         20,2,19910919,       1039,     4.0088,  -151.0163,       5061,   973.6,   4.9740,  34.5530,2,  34.5502,2,     65.0,2,    64.0,2,   80.99,2,   40.27,2,    0.00,2,    2.87,2,   0.002,2,   0.005,2,  -999.0,9,  -999.0,9,-999.000,9,-999.0000,9, -999.00,9, -999.00,9,  -999.0,9,  -999.0,     4.8931,-999.0000,-999.000,-999.000
31WTTUNES_3,       P16C,     288,          2,         19,         19,2,19910919,       1039,     4.0088,  -151.0163,       5061,  1153.3,   4.2972,  34.5677,2,  34.5659,2,     65.5,2,    65.8,2,   96.43,2,   40.72,2,    0.00,2,    2.93,2,  -0.003,2,  -0.007,2,  -999.0,9,  -999.0,9,-999.000,9,-999.0000,9, -999.00,9, -999.00,9,  -999.0,9,  -999.0,     4.2059,-999.0000,-999.000,-999.000
31WTTUNES_3,       P16C,     288,          2,         18,         18,2,19910919,       1039,     4.0088,  -151.0163,       5061,  1350.8,   3.5872,  34.5881,2,  34.5883,2,     73.9,2,    75.2,2,  114.24,2,   40.47,2,    0.00,2,    2.90,2,-999.000,9,-999.000,9,  -999.0,9,  -999.0,9,-999.000,9,-999.0000,9, -999.00,9, -999.00,9,  -999.0,9,  -999.0,     3.4856,-999.0000,-999.000,-999.000
31WTTUNES_3,       P16C,     288,          2,         17,         17,2,19910919,       1039,     4.0088,  -151.0163,       5061,  1561.8,   2.9383,  34.6113,2,  34.6093,2,     83.4,2,    86.6,2,  127.31,2,   39.83,2,    0.00,2,    2.84,2,-999.000,9,-999.000,9,  -999.0,9,  -999.0,9,-999.000,9,-999.0000,9, -999.00,9, -999.00,9,  -999.0,9,  -999.0,     2.8259,-999.0000,-999.000,-999.000
31WTTUNES_3,       P16C,     288,          2,         16,         16,2,19910919,       1039,     4.0088,  -151.0163,       5061,  1794.3,   2.5419,  34.6288,2,  34.6258,2,     94.2,2,    95.6,2,  136.42,2,   39.33,2,    0.00,2,    2.80,2,  -0.001,2,  -0.001,2,  -999.0,9,  -999.0,9,-999.000,9,-999.0000,9, -999.00,9, -999.00,9,  -999.0,9,  -999.0,     2.4149,-999.0000,-999.000,-999.000
31WTTUNES_3,       P16C,     288,          2,         15,         15,2,19910919,       1039,     4.0088,  -151.0163,       5061,  1990.8,   2.3184,  34.6410,2,  34.6376,2,    101.2,2,   101.5,2,  141.57,2,   38.89,2,    0.00,2,    2.75,2,-999.000,9,-999.000,9,  -999.0,9,  -999.0,9,-999.000,9,-999.0000,9, -999.00,9, -999.00,9,  -999.0,9,  -999.0,     2.1780,-999.0000,-999.000,-999.000
31WTTUNES_3,       P16C,     288,          2,         14,         14,2,19910919,       1039,     4.0088,  -151.0163,       5061,  2129.1,   2.1826,  34.6481,2,  34.6462,2,    104.3,2,   104.5,2,  145.34,2,   38.79,2,    0.00,2,    2.74,2,-999.000,9,-999.000,9,  -999.0,9,  -999.0,9,-999.000,9,-999.0000,9, -999.00,9, -999.00,9,  -999.0,9,  -999.0,     2.0322,-999.0000,-999.000,-999.000
31WTTUNES_3,       P16C,     288,          2,         13,         13,2,19910919,       1039,     4.0088,  -151.0163,       5061,  2341.2,   1.9604,  34.6600,2,  34.6574,2,    111.7,2,   112.8,2,  150.49,2,   38.19,2,    0.00,2,    2.68,2,-999.000,9,-999.000,9,  -999.0,9,  -999.0,9,-999.000,9,-999.0000,9, -999.00,9, -999.00,9,  -999.0,9,  -999.0,     1.7951,-999.0000,-999.000,-999.000
31WTTUNES_3,       P16C,     288,          2,         12,         12,2,19910919,       1039,     4.0088,  -151.0163,       5061,  2559.3,   1.8609,  34.6658,2,  34.6643,2,    116.9,2,   117.2,2,  152.29,2,   37.90,2,    0.00,2,    2.65,2,-999.000,9,-999.000,9,  -999.0,9,  -999.0,9,-999.000,9,-999.0000,9, -999.00,9, -999.00,9,  -999.0,9,  -999.0,     1.6778,-999.0000,-999.000,-999.000
31WTTUNES_3,       P16C,     288,          2,         11,         11,2,19910919,       1039,     4.0088,  -151.0163,       5061,  2767.6,   1.8126,  34.6689,2,  34.6675,2,    120.8,2,   121.4,2,  152.89,2,   37.60,2,    0.00,2,    2.63,2,  -0.002,2,  -0.005,2,  -999.0,9,  -999.0,9,-999.000,9,-999.0000,9, -999.00,9, -999.00,9,  -999.0,9,  -999.0,     1.6111,-999.0000,-999.000,-999.000
31WTTUNES_3,       P16C,     288,          2,         10,         10,2,19910919,       1039,     4.0088,  -151.0163,       5061,  2979.7,   1.7348,  34.6729,2,  34.6718,2,    125.2,2,   125.1,2,  153.90,2,   37.40,2,    0.00,2,    2.61,2,-999.000,9,-999.000,9,  -999.0,9,  -999.0,9,-999.000,9,-999.0000,9, -999.00,9, -999.00,9,  -999.0,9,  -999.0,     1.5148,-999.0000,-999.000,-999.000
31WTTUNES_3,       P16C,     288,          2,          9,          9,2,19910919,       1039,     4.0088,  -151.0163,       5061,  3247.7,   1.5959,  34.6800,2,  34.6796,2,    136.4,2,   138.8,2,  152.13,2,   36.61,2,    0.00,2,    2.54,2,-999.000,9,-999.000,9,  -999.0,9,  -999.0,9,-999.000,9,-999.0000,9, -999.00,9, -999.00,9,  -999.0,9,  -999.0,     1.3529,-999.0000,-999.000,-999.000
31WTTUNES_3,       P16C,     288,          2,          8,          8,2,19910919,       1039,     4.0088,  -151.0163,       5061,  3517.0,   1.5043,  34.6860,2,  34.6838,2,    148.2,2,   149.2,2,  150.36,2,   35.96,2,    0.00,2,    2.48,2,-999.000,9,-999.000,9,  -999.0,9,  -999.0,9,-999.000,9,-999.0000,9, -999.00,9, -999.00,9,  -999.0,9,  -999.0,     1.2364,-999.0000,-999.000,-999.000
31WTTUNES_3,       P16C,     288,          2,          7,          7,2,19910919,       1039,     4.0088,  -151.0163,       5061,  3786.3,   1.4454,  34.6898,2,  34.6877,2,    156.1,2,   157.0,2,  146.82,2,   35.32,2,    0.00,2,    2.44,2,-999.000,9,-999.000,9,  -999.0,9,  -999.0,9,-999.000,9,-999.0000,9, -999.00,9, -999.00,9,  -999.0,9,  -999.0,     1.1508,-999.0000,-999.000,-999.000
31WTTUNES_3,       P16C,     288,          2,          6,          6,2,19910919,       1039,     4.0088,  -151.0163,       5061,  4038.5,   1.3991,  34.6932,2,  34.6912,2,    163.8,2,   163.9,2,  143.67,2,   34.92,2,    0.00,2,    2.41,2,   0.003,2,   0.010,2,  -999.0,9,  -999.0,9,-999.000,9,-999.0000,9, -999.00,9, -999.00,9,  -999.0,9,  -999.0,     1.0788,-999.0000,-999.000,-999.000
31WTTUNES_3,       P16C,     288,          2,          5,          5,2,19910919,       1039,     4.0088,  -151.0163,       5061,  4270.7,   1.3757,  34.6951,2,  34.6952,2,    169.1,2,   169.2,2,  141.12,2,   34.58,2,    0.00,2,    2.39,2,-999.000,9,-999.000,9,  -999.0,9,  -999.0,9,-999.000,9,-999.0000,9, -999.00,9, -999.00,9,  -999.0,9,  -999.0,     1.0305,-999.0000,-999.000,-999.000
31WTTUNES_3,       P16C,     288,          2,          4,          4,2,19910919,       1039,     4.0088,  -151.0163,       5061,  4517.9,   1.3768,  34.6963,2,  34.6958,2,    172.7,2,   172.2,2,  139.95,2,   34.33,2,    0.00,2,    2.37,2,-999.000,9,-999.000,9,  -999.0,9,  -999.0,9,-999.000,9,-999.0000,9, -999.00,9, -999.00,9,  -999.0,9,  -999.0,     1.0036,-999.0000,-999.000,-999.000
31WTTUNES_3,       P16C,     288,          2,          3,          3,2,19910919,       1039,     4.0088,  -151.0163,       5061,  4791.1,   1.4057,  34.6963,2,  34.6961,2,    173.8,2,   172.9,2,  139.37,2,   34.28,2,    0.00,2,    2.37,2,-999.000,9,-999.000,9,  -999.0,9,  -999.0,9,-999.000,9,-999.0000,9, -999.00,9, -999.00,9,  -999.0,9,  -999.0,     0.9996,-999.0000,-999.000,-999.000
31WTTUNES_3,       P16C,     288,          2,          2,          2,2,19910919,       1039,     4.0088,  -151.0163,       5061,  5076.6,   1.4355,  34.6965,2,  34.6960,2,    174.7,2,   174.5,2,  139.18,2,   34.28,2,    0.00,2,    2.38,2,-999.000,9,-999.000,9,  -999.0,9,  -999.0,9,-999.000,9,-999.0000,9, -999.00,9, -999.00,9,  -999.0,9,  -999.0,     0.9941,-999.0000,-999.000,-999.000
31WTTUNES_3,       P16C,     288,          2,          1,          1,2,19910919,       1039,     4.0088,  -151.0163,       5061,  5141.0,   1.4430,  34.6967,2,  34.6973,2,    175.1,2,   176.5,2,  138.80,2,   34.14,2,    0.00,2,    2.37,2,  -0.007,2,   1.194,4,  -999.0,9,  -999.0,9,-999.000,9,-999.0000,9, -999.00,9, -999.00,9,  -999.0,9,  -999.0,     0.9934,-999.0000,-999.000,-999.000