BOTTLE,20211117CCHSIORKP
EXPOCODE,SECT_ID,STNNBR,CASTNO,SAMPNO,BTLNBR,BTLNBR_FLAG_W,DATE,TIME,LATITUDE,LONGITUDE,DEPTH,CTDPRS,CTDTMP,CTDSAL,CTDSAL_FLAG_W,SALNTY,SALNTY_FLAG_W,CTDOXY,CTDOXY_FLAG_W,OXYGEN,OXYGEN_FLAG_W,SILCAT,SILCAT_FLAG_W,NITRAT,NITRAT_FLAG_W,NITRIT,NITRIT_FLAG_W,PHSPHT,PHSPHT_FLAG_W,CFC-11,CFC-11_FLAG_W,CFC-12,CFC-12_FLAG_W,TCARBN,TCARBN_FLAG_W,ALKALI,ALKALI_FLAG_W,TRITUM,TRITUM_FLAG_W,HELIUM,HELIUM_FLAG_W,DELHE3,DELHE3_FLAG_W,DELC13,DELC13_FLAG_W,DELC14,DELC14_FLAG_W,C14ERR,THETA,HELIER,DELHER,TRITER
,,,,,,,,,,,METERS,DBAR,ITS-90,PSS-78,,PSS-78,,UMOL/KG,,UMOL/KG,,UMOL/KG,,UMOL/KG,,UMOL/KG,,UMOL/KG,,PMOL/KG,,PMOL/KG,,UMOL/KG,,UMOL/KG,,TU,,NMOL/KG,,PERCNT,,/MILLE,,/MILLE,,/MILLE,ITS-90,NMOL/KG,PERCNT,TU
31WTTUNES_3,       P16C,     299,          1,         36,         36,2,19910922,       1600,     9.4192,  -151.8220,       5214,     5.8,  28.2191,  33.8199,2,  33.8324,2,    217.2,3,   215.2,2,    2.00,2,    0.04,2,    0.01,2,    0.13,2,-999.000,9,-999.000,9,  -999.0,9,  -999.0,9,-999.000,9,-999.0000,9, -999.00,9, -999.00,9,  -999.0,9,  -999.0,    28.2178,-999.0000,-999.000,-999.000
31WTTUNES_3,       P16C,     299,          1,         35,         35,2,19910922,       1600,     9.4192,  -151.8220,       5214,    46.2,  25.9791,  34.3102,2,  34.4324,2,    222.0,2,   223.7,2,    2.38,2,    0.00,2,    0.01,2,    0.20,2,-999.000,9,-999.000,9,  -999.0,9,  -999.0,9,-999.000,9,-999.0000,9, -999.00,9, -999.00,9,  -999.0,9,  -999.0,    25.9688,-999.0000,-999.000,-999.000
31WTTUNES_3,       P16C,     299,          1,         34,         34,2,19910922,       1600,     9.4192,  -151.8220,       5214,    88.0,  14.4728,  34.3941,2,  34.3943,2,    110.2,2,   111.1,2,   13.39,2,   14.99,2,    0.28,2,    1.36,2,-999.000,9,-999.000,9,  -999.0,9,  -999.0,9,-999.000,9,-999.0000,9, -999.00,9, -999.00,9,  -999.0,9,  -999.0,    14.4599,-999.0000,-999.000,-999.000
31WTTUNES_3,       P16C,     299,          1,         33,         33,2,19910922,       1600,     9.4192,  -151.8220,       5214,   118.1,  12.3412,  34.6937,2,  34.6777,2,      6.5,2,     8.0,2,   27.54,2,   31.95,2,    0.02,2,    2.41,2,-999.000,9,-999.000,9,  -999.0,9,  -999.0,9,-999.000,9,-999.0000,9, -999.00,9, -999.00,9,  -999.0,9,  -999.0,    12.3256,-999.0000,-999.000,-999.000
31WTTUNES_3,       P16C,     299,          1,         32,         32,2,19910922,       1600,     9.4192,  -151.8220,       5214,   159.4,  11.5555,  34.7279,2,  34.7288,2,     10.2,2,     9.3,2,   29.87,2,   33.22,2,    0.01,2,    2.42,2,-999.000,9,-999.000,9,  -999.0,9,  -999.0,9,-999.000,9,-999.0000,9, -999.00,9, -999.00,9,  -999.0,9,  -999.0,    11.5353,-999.0000,-999.000,-999.000
31WTTUNES_3,       P16C,     299,          1,         31,         31,2,19910922,       1600,     9.4192,  -151.8220,       5214,   210.4,  10.7534,  34.7103,2,  34.6851,2,     15.6,2,    15.9,2,   32.23,2,   33.64,2,    0.01,2,    2.42,2,-999.000,9,-999.000,9,  -999.0,9,  -999.0,9,-999.000,9,-999.0000,9, -999.00,9, -999.00,9,  -999.0,9,  -999.0,    10.7279,-999.0000,-999.000,-999.000
31WTTUNES_3,       P16C,     299,          1,         30,         30,2,19910922,       1600,     9.4192,  -151.8220,       5214,   261.2,  10.1502,  34.6840,2,  34.6842,2,     14.8,2,    13.1,2,   34.77,2,   34.63,2,    0.01,2,    2.50,2,-999.000,9,-999.000,9,  -999.0,9,  -999.0,9,-999.000,9,-999.0000,9, -999.00,9, -999.00,9,  -999.0,9,  -999.0,    10.1196,-999.0000,-999.000,-999.000
31WTTUNES_3,       P16C,     299,          1,         29,         29,2,19910922,       1600,     9.4192,  -151.8220,       5214,   312.3,   9.7750,  34.6763,2,  34.6728,2,      5.8,2,     7.0,2,   37.71,2,   35.62,2,    0.01,2,    2.62,2,-999.000,9,-999.000,9,  -999.0,9,  -999.0,9,-999.000,9,-999.0000,9, -999.00,9, -999.00,9,  -999.0,9,  -999.0,     9.7392,-999.0000,-999.000,-999.000
31WTTUNES_3,       P16C,     299,          1,         28,         28,2,19910922,       1600,     9.4192,  -151.8220,       5214,   362.9,   9.3167,  34.6552,2,  34.6533,2,      9.6,2,     9.0,2,   40.65,2,   36.35,2,    0.01,2,    2.68,2,-999.000,9,-999.000,9,  -999.0,9,  -999.0,9,-999.000,9,-999.0000,9, -999.00,9, -999.00,9,  -999.0,9,  -999.0,     9.2762,-999.0000,-999.000,-999.000
31WTTUNES_3,       P16C,     299,          1,         27,         27,2,19910922,       1600,     9.4192,  -151.8220,       5214,   413.6,   8.8835,  34.6276,2,  34.6199,2,      9.2,2,    10.8,2,   44.97,2,   36.77,2,    0.01,2,    2.76,2,-999.000,9,-999.000,9,  -999.0,9,  -999.0,9,-999.000,9,-999.0000,9, -999.00,9, -999.00,9,  -999.0,9,  -999.0,     8.8385,-999.0000,-999.000,-999.000
31WTTUNES_3,       P16C,     299,          1,         26,         26,2,19910922,       1600,     9.4192,  -151.8220,       5214,   515.1,   7.6976,  34.5662,2,  34.5622,2,     17.4,2,    19.9,2,   54.80,2,   38.13,2,    0.01,2,    2.85,2,-999.000,9,-999.000,9,  -999.0,9,  -999.0,9,-999.000,9,-999.0000,9, -999.00,9, -999.00,9,  -999.0,9,  -999.0,     7.6459,-999.0000,-999.000,-999.000
31WTTUNES_3,       P16C,     299,          1,         25,         25,2,19910922,       1600,     9.4192,  -151.8220,       5214,   618.0,   6.6162,  34.5346,2,  34.5333,2,     21.1,2,    22.0,2,   67.79,2,   40.79,2,    0.01,2,    2.99,2,-999.000,9,-999.000,9,  -999.0,9,  -999.0,9,-999.000,9,-999.0000,9, -999.00,9, -999.00,9,  -999.0,9,  -999.0,     6.5588,-999.0000,-999.000,-999.000
31WTTUNES_3,       P16C,     299,          1,         24,         24,2,19910922,       1600,     9.4192,  -151.8220,       5214,   719.4,   5.9383,  34.5375,2,  34.5355,2,     33.0,2,    32.6,2,   74.67,2,   41.62,2,    0.01,2,    2.99,2,-999.000,9,-999.000,9,  -999.0,9,  -999.0,9,-999.000,9,-999.0000,9, -999.00,9, -999.00,9,  -999.0,9,  -999.0,     5.8746,-999.0000,-999.000,-999.000
31WTTUNES_3,       P16C,     299,          1,         23,         23,2,19910922,       1600,     9.4192,  -151.8220,       5214,   822.5,   5.3050,  34.5437,2,  34.5431,2,     42.6,2,    41.8,2,   81.74,2,   42.14,2,    0.01,2,    3.00,2,-999.000,9,-999.000,9,  -999.0,9,  -999.0,9,-999.000,9,-999.0000,9, -999.00,9, -999.00,9,  -999.0,9,  -999.0,     5.2355,-999.0000,-999.000,-999.000
31WTTUNES_3,       P16C,     299,          1,         22,         22,2,19910922,       1600,     9.4192,  -151.8220,       5214,   924.6,   4.7963,  34.5523,2,  34.5533,2,     51.0,2,    50.6,2,   90.40,2,   42.14,2,    0.01,2,    2.99,2,-999.000,9,-999.000,9,  -999.0,9,  -999.0,9,-999.000,9,-999.0000,9, -999.00,9, -999.00,9,  -999.0,9,  -999.0,     4.7212,-999.0000,-999.000,-999.000
31WTTUNES_3,       P16C,     299,          1,         21,         21,2,19910922,       1600,     9.4192,  -151.8220,       5214,  1025.6,   4.4247,  34.5617,2,  34.5604,2,     51.7,2,    52.4,2,   98.07,2,   42.29,2,    0.01,2,    3.01,2,-999.000,9,-999.000,9,  -999.0,9,  -999.0,9,-999.000,9,-999.0000,9, -999.00,9, -999.00,9,  -999.0,9,  -999.0,     4.3435,-999.0000,-999.000,-999.000
31WTTUNES_3,       P16C,     299,          1,         20,         20,2,19910922,       1600,     9.4192,  -151.8220,       5214,  1230.7,   3.7173,  34.5810,2,  34.5804,2,     63.4,2,    63.7,2,  114.40,2,   41.93,2,    0.01,2,    2.96,2,-999.000,9,-999.000,9,  -999.0,9,  -999.0,9,-999.000,9,-999.0000,9, -999.00,9, -999.00,9,  -999.0,9,  -999.0,     3.6246,-999.0000,-999.000,-999.000
31WTTUNES_3,       P16C,     299,          1,         19,         19,2,19910922,       1600,     9.4192,  -151.8220,       5214,  1437.3,   3.1707,  34.5986,2,  34.5981,2,     74.3,2,    73.8,2,  126.02,2,   41.40,2,    0.01,2,    2.91,2,-999.000,9,-999.000,9,  -999.0,9,  -999.0,9,-999.000,9,-999.0000,9, -999.00,9, -999.00,9,  -999.0,9,  -999.0,     3.0662,-999.0000,-999.000,-999.000
31WTTUNES_3,       P16C,     299,          1,         18,         18,2,19910922,       1600,     9.4192,  -151.8220,       5214,  1644.2,   2.7861,  34.6131,2,  34.6123,2,     83.9,2,    83.1,2,  134.29,2,   41.09,2,    0.01,2,    2.86,2,-999.000,9,-999.000,9,  -999.0,9,  -999.0,9,-999.000,9,-999.0000,9, -999.00,9, -999.00,9,  -999.0,9,  -999.0,     2.6687,-999.0000,-999.000,-999.000
31WTTUNES_3,       P16C,     299,          1,         17,         17,2,19910922,       1600,     9.4192,  -151.8220,       5214,  1848.9,   2.4666,  34.6280,2,  34.6286,2,     92.1,2,    92.0,2,  140.77,2,   40.20,2,    0.01,2,    2.81,2,-999.000,9,-999.000,9,  -999.0,9,  -999.0,9,-999.000,9,-999.0000,9, -999.00,9, -999.00,9,  -999.0,9,  -999.0,     2.3360,-999.0000,-999.000,-999.000
31WTTUNES_3,       P16C,     299,          1,         16,         16,2,19910922,       1600,     9.4192,  -151.8220,       5214,  2054.1,   2.2381,  34.6401,2,  34.6392,2,     97.8,2,    98.7,2,  147.06,2,   40.04,2,    0.01,2,    2.77,2,-999.000,9,-999.000,9,  -999.0,9,  -999.0,9,-999.000,9,-999.0000,9, -999.00,9, -999.00,9,  -999.0,9,  -999.0,     2.0934,-999.0000,-999.000,-999.000
31WTTUNES_3,       P16C,     299,          1,         15,         15,2,19910922,       1600,     9.4192,  -151.8220,       5214,  2261.7,   2.0300,  34.6518,2,  34.6511,2,    105.0,2,   105.3,2,  151.19,2,   39.37,2,    0.01,2,    2.73,2,-999.000,9,-999.000,9,  -999.0,9,  -999.0,9,-999.000,9,-999.0000,9, -999.00,9, -999.00,9,  -999.0,9,  -999.0,     1.8706,-999.0000,-999.000,-999.000
31WTTUNES_3,       P16C,     299,          1,         14,         14,2,19910922,       1600,     9.4192,  -151.8220,       5214,  2416.6,   1.9466,  34.6583,2,  34.6570,2,    108.7,2,   109.4,2,  152.56,2,   39.05,2,    0.01,2,    2.71,2,-999.000,9,-999.000,9,  -999.0,9,  -999.0,9,-999.000,9,-999.0000,9, -999.00,9, -999.00,9,  -999.0,9,  -999.0,     1.7749,-999.0000,-999.000,-999.000
31WTTUNES_3,       P16C,     299,          1,         13,         13,2,19910922,       1600,     9.4192,  -151.8220,       5214,  2571.0,   1.8855,  34.6635,2,  34.6625,2,    112.1,2,   112.1,2,  154.53,2,   38.68,2,    0.01,2,    2.70,2,-999.000,9,-999.000,9,  -999.0,9,  -999.0,9,-999.000,9,-999.0000,9, -999.00,9, -999.00,9,  -999.0,9,  -999.0,     1.7009,-999.0000,-999.000,-999.000
31WTTUNES_3,       P16C,     299,          1,         12,         12,2,19910922,       1600,     9.4192,  -151.8220,       5214,  2724.9,   1.8379,  34.6663,2,  34.6653,2,    115.2,2,   115.2,2,  155.10,2,   38.74,2,    0.01,2,    2.68,2,-999.000,9,-999.000,9,  -999.0,9,  -999.0,9,-999.000,9,-999.0000,9, -999.00,9, -999.00,9,  -999.0,9,  -999.0,     1.6399,-999.0000,-999.000,-999.000
31WTTUNES_3,       P16C,     299,          1,         11,         11,2,19910922,       1600,     9.4192,  -151.8220,       5214,  2879.8,   1.8019,  34.6685,2,  34.6680,2,    117.5,2,   118.4,2,  155.69,2,   38.48,2,    0.01,2,    2.66,2,-999.000,9,-999.000,9,  -999.0,9,  -999.0,9,-999.000,9,-999.0000,9, -999.00,9, -999.00,9,  -999.0,9,  -999.0,     1.5900,-999.0000,-999.000,-999.000
31WTTUNES_3,       P16C,     299,          1,         10,         10,2,19910922,       1600,     9.4192,  -151.8220,       5214,  3085.9,   1.7239,  34.6726,2,  34.6714,2,    123.6,2,   123.7,2,  156.27,2,   38.16,2,    0.01,2,    2.64,2,-999.000,9,-999.000,9,  -999.0,9,  -999.0,9,-999.000,9,-999.0000,9, -999.00,9, -999.00,9,  -999.0,9,  -999.0,     1.4938,-999.0000,-999.000,-999.000
31WTTUNES_3,       P16C,     299,          1,          9,          9,2,19910922,       1600,     9.4192,  -151.8220,       5214,  3342.7,   1.6269,  34.6782,2,  34.6771,2,    132.0,2,   132.5,2,  156.26,2,   37.59,2,    0.01,2,    2.59,2,-999.000,9,-999.000,9,  -999.0,9,  -999.0,9,-999.000,9,-999.0000,9, -999.00,9, -999.00,9,  -999.0,9,  -999.0,     1.3737,-999.0000,-999.000,-999.000
31WTTUNES_3,       P16C,     299,          1,          8,          8,2,19910922,       1600,     9.4192,  -151.8220,       5214,  3600.4,   1.5615,  34.6817,2,  34.6804,2,    140.1,2,   140.4,2,  154.08,2,   37.07,2,    0.01,2,    2.55,2,-999.000,9,-999.000,9,  -999.0,9,  -999.0,9,-999.000,9,-999.0000,9, -999.00,9, -999.00,9,  -999.0,9,  -999.0,     1.2835,-999.0000,-999.000,-999.000
31WTTUNES_3,       P16C,     299,          1,          7,          7,2,19910922,       1600,     9.4192,  -151.8220,       5214,  3858.6,   1.4918,  34.6861,2,  34.6842,2,    149.9,2,   151.0,2,  150.13,2,   36.34,2,    0.01,2,    2.49,2,-999.000,9,-999.000,9,  -999.0,9,  -999.0,9,-999.000,9,-999.0000,9, -999.00,9, -999.00,9,  -999.0,9,  -999.0,     1.1884,-999.0000,-999.000,-999.000
31WTTUNES_3,       P16C,     299,          1,          6,          6,2,19910922,       1600,     9.4192,  -151.8220,       5214,  4117.1,   1.4335,  34.6909,2,  34.6895,2,    160.3,2,   160.6,2,  145.79,2,   35.66,2,    0.01,2,    2.44,2,-999.000,9,-999.000,9,  -999.0,9,  -999.0,9,-999.000,9,-999.0000,9, -999.00,9, -999.00,9,  -999.0,9,  -999.0,     1.1036,-999.0000,-999.000,-999.000
31WTTUNES_3,       P16C,     299,          1,          5,          5,2,19910922,       1600,     9.4192,  -151.8220,       5214,  4375.8,   1.3843,  34.6943,2,  34.6948,2,    168.8,2,   169.6,2,  141.24,2,   34.98,2,    0.01,2,    2.40,2,-999.000,9,-999.000,9,  -999.0,9,  -999.0,9,-999.000,9,-999.0000,9, -999.00,9, -999.00,9,  -999.0,9,  -999.0,     1.0271,-999.0000,-999.000,-999.000
31WTTUNES_3,       P16C,     299,          1,          4,          4,2,19910922,       1600,     9.4192,  -151.8220,       5214,  4635.0,   1.3875,  34.6947,2,  34.6960,2,    173.4,2,   172.9,2,  139.65,2,   34.77,2,    0.01,2,    2.39,2,-999.000,9,-999.000,9,  -999.0,9,  -999.0,9,-999.000,9,-999.0000,9, -999.00,9, -999.00,9,  -999.0,9,  -999.0,     1.0004,-999.0000,-999.000,-999.000
31WTTUNES_3,       P16C,     299,          1,          3,          3,2,19910922,       1600,     9.4192,  -151.8220,       5214,  4894.5,   1.3918,  34.6959,2,  34.6952,2,    176.8,2,   176.4,2,  138.07,2,   34.56,2,    0.01,2,    2.37,2,-999.000,9,-999.000,9,  -999.0,9,  -999.0,9,-999.000,9,-999.0000,9, -999.00,9, -999.00,9,  -999.0,9,  -999.0,     0.9739,-999.0000,-999.000,-999.000
31WTTUNES_3,       P16C,     299,          1,          2,          2,2,19910922,       1600,     9.4192,  -151.8220,       5214,  5155.1,   1.4200,  34.6964,2,  34.6960,2,    177.3,2,   177.4,2,  137.86,2,   34.56,2,    0.01,2,    2.38,2,-999.000,9,-999.000,9,  -999.0,9,  -999.0,9,-999.000,9,-999.0000,9, -999.00,9, -999.00,9,  -999.0,9,  -999.0,     0.9694,-999.0000,-999.000,-999.000
31WTTUNES_3,       P16C,     299,          1,          1,          1,2,19910922,       1600,     9.4192,  -151.8220,       5214,  5281.0,   1.4352,  34.6959,2,  34.6963,2,    177.3,2,   178.8,2,  137.85,2,   34.53,2,    0.00,2,    2.37,2,-999.000,9,-999.000,9,  -999.0,9,  -999.0,9,-999.000,9,-999.0000,9, -999.00,9, -999.00,9,  -999.0,9,  -999.0,     0.9685,-999.0000,-999.000,-999.000