BOTTLE,20211117CCHSIORKP
EXPOCODE,SECT_ID,STNNBR,CASTNO,SAMPNO,BTLNBR,BTLNBR_FLAG_W,DATE,TIME,LATITUDE,LONGITUDE,DEPTH,CTDPRS,CTDTMP,CTDSAL,CTDSAL_FLAG_W,SALNTY,SALNTY_FLAG_W,CTDOXY,CTDOXY_FLAG_W,OXYGEN,OXYGEN_FLAG_W,SILCAT,SILCAT_FLAG_W,NITRAT,NITRAT_FLAG_W,NITRIT,NITRIT_FLAG_W,PHSPHT,PHSPHT_FLAG_W,CFC-11,CFC-11_FLAG_W,CFC-12,CFC-12_FLAG_W,TCARBN,TCARBN_FLAG_W,ALKALI,ALKALI_FLAG_W,TRITUM,TRITUM_FLAG_W,HELIUM,HELIUM_FLAG_W,DELHE3,DELHE3_FLAG_W,DELC13,DELC13_FLAG_W,DELC14,DELC14_FLAG_W,C14ERR,THETA,HELIER,DELHER,TRITER
,,,,,,,,,,,METERS,DBAR,ITS-90,PSS-78,,PSS-78,,UMOL/KG,,UMOL/KG,,UMOL/KG,,UMOL/KG,,UMOL/KG,,UMOL/KG,,PMOL/KG,,PMOL/KG,,UMOL/KG,,UMOL/KG,,TU,,NMOL/KG,,PERCNT,,/MILLE,,/MILLE,,/MILLE,ITS-90,NMOL/KG,PERCNT,TU
31WTTUNES_3,       P16C,     321,          1,         36,         36,2,19910930,       0712,    18.8205,  -155.4245,       4455,     6.9,  26.7589,  34.7782,2,  34.7850,2,    214.0,3,   214.9,2,    1.95,2,    0.12,2,    0.00,2,    0.09,2,-999.000,9,-999.000,9,  -999.0,9,  -999.0,9,-999.000,9,-999.0000,9, -999.00,9, -999.00,9,  -999.0,9,  -999.0,    26.7573,-999.0000,-999.000,-999.000
31WTTUNES_3,       P16C,     321,          1,         35,         35,2,19910930,       0712,    18.8205,  -155.4245,       4455,    37.1,  26.6510,  34.7872,2,  34.7793,2,    208.4,2,   217.4,2,    1.95,2,    0.12,2,    0.00,2,    0.09,2,-999.000,9,-999.000,9,  -999.0,9,  -999.0,9,-999.000,9,-999.0000,9, -999.00,9, -999.00,9,  -999.0,9,  -999.0,    26.6426,-999.0000,-999.000,-999.000
31WTTUNES_3,       P16C,     321,          1,         34,         34,2,19910930,       0712,    18.8205,  -155.4245,       4455,    67.5,  25.2749,  34.9904,2,  34.9412,2,    225.4,2,   220.2,2,    1.94,2,    0.12,2,    0.00,2,    0.07,2,-999.000,9,-999.000,9,  -999.0,9,  -999.0,9,-999.000,9,-999.0000,9, -999.00,9, -999.00,9,  -999.0,9,  -999.0,    25.2601,-999.0000,-999.000,-999.000
31WTTUNES_3,       P16C,     321,          1,         33,         33,2,19910930,       0712,    18.8205,  -155.4245,       4455,    97.5,  23.1136,  35.0287,2,  35.0155,2,    227.1,2,   223.6,2,    1.94,2,    0.17,2,    0.00,2,    0.10,2,-999.000,9,-999.000,9,  -999.0,9,  -999.0,9,-999.000,9,-999.0000,9, -999.00,9, -999.00,9,  -999.0,9,  -999.0,    23.0936,-999.0000,-999.000,-999.000
31WTTUNES_3,       P16C,     321,          1,         32,         32,2,19910930,       0712,    18.8205,  -155.4245,       4455,   138.4,  20.7300,  35.1697,2,  35.1459,2,    207.3,2,   203.7,2,    2.54,2,    1.62,2,    0.04,2,    0.21,2,-999.000,9,-999.000,9,  -999.0,9,  -999.0,9,-999.000,9,-999.0000,9, -999.00,9, -999.00,9,  -999.0,9,  -999.0,    20.7037,-999.0000,-999.000,-999.000
31WTTUNES_3,       P16C,     321,          1,         31,         31,2,19910930,       0712,    18.8205,  -155.4245,       4455,   179.2,  18.2795,  34.9327,2,  34.7355,2,    194.3,2,   189.1,2,    5.41,2,    5.84,2,    0.01,2,    0.50,2,-999.000,9,-999.000,9,  -999.0,9,  -999.0,9,-999.000,9,-999.0000,9, -999.00,9, -999.00,9,  -999.0,9,  -999.0,    18.2484,-999.0000,-999.000,-999.000
31WTTUNES_3,       P16C,     321,          1,         30,         30,2,19910930,       0712,    18.8205,  -155.4245,       4455,   219.0,  14.5435,  34.4905,2,  34.3813,2,    197.7,2,   191.1,2,    9.51,2,    9.90,2,    0.00,2,    0.78,2,-999.000,9,-999.000,9,  -999.0,9,  -999.0,9,-999.000,9,-999.0000,9, -999.00,9, -999.00,9,  -999.0,9,  -999.0,    14.5111,-999.0000,-999.000,-999.000
31WTTUNES_3,       P16C,     321,          1,         29,         29,2,19910930,       0712,    18.8205,  -155.4245,       4455,   259.6,  13.0069,  34.2635,2,  34.2120,2,    188.2,2,   174.8,2,   15.89,2,   14.79,2,    0.00,2,    1.12,2,-999.000,9,-999.000,9,  -999.0,9,  -999.0,9,-999.000,9,-999.0000,9, -999.00,9, -999.00,9,  -999.0,9,  -999.0,    12.9713,-999.0000,-999.000,-999.000
31WTTUNES_3,       P16C,     321,          1,         28,         28,2,19910930,       0712,    18.8205,  -155.4245,       4455,   310.4,   9.4832,  34.1307,2,  34.1360,2,    161.9,2,   159.8,2,   26.79,2,   20.89,2,    0.00,2,    1.55,2,-999.000,9,-999.000,9,  -999.0,9,  -999.0,9,-999.000,9,-999.0000,9, -999.00,9, -999.00,9,  -999.0,9,  -999.0,     9.4486,-999.0000,-999.000,-999.000
31WTTUNES_3,       P16C,     321,          1,         27,         27,2,19910930,       0712,    18.8205,  -155.4245,       4455,   361.8,   8.2567,  34.1471,2,  34.1323,2,    110.2,2,   109.4,2,   40.99,2,   27.98,2,    0.00,2,    2.11,2,-999.000,9,-999.000,9,  -999.0,9,  -999.0,9,-999.000,9,-999.0000,9, -999.00,9, -999.00,9,  -999.0,9,  -999.0,     8.2195,-999.0000,-999.000,-999.000
31WTTUNES_3,       P16C,     321,          1,         26,         26,2,19910930,       0712,    18.8205,  -155.4245,       4455,   414.0,   7.1628,  34.1481,2,  34.1440,2,     79.2,2,    77.1,2,   54.35,2,   32.65,2,    0.00,2,    2.46,2,-999.000,9,-999.000,9,  -999.0,9,  -999.0,9,-999.000,9,-999.0000,9, -999.00,9, -999.00,9,  -999.0,9,  -999.0,     7.1234,-999.0000,-999.000,-999.000
31WTTUNES_3,       P16C,     321,          1,         25,         25,2,19910930,       0712,    18.8205,  -155.4245,       4455,   464.6,   6.3646,  34.1666,2,  34.1583,2,     54.7,2,    58.2,2,   63.62,2,   35.54,2,    0.00,2,    2.67,2,-999.000,9,-999.000,9,  -999.0,9,  -999.0,9,-999.000,9,-999.0000,9, -999.00,9, -999.00,9,  -999.0,9,  -999.0,     6.3231,-999.0000,-999.000,-999.000
31WTTUNES_3,       P16C,     321,          1,         24,         24,2,19910930,       0712,    18.8205,  -155.4245,       4455,   515.6,   6.0250,  34.2475,2,  34.2158,2,     35.7,2,    40.6,2,   71.66,2,   37.79,2,    0.00,2,    2.84,2,-999.000,9,-999.000,9,  -999.0,9,  -999.0,9,-999.000,9,-999.0000,9, -999.00,9, -999.00,9,  -999.0,9,  -999.0,     5.9800,-999.0000,-999.000,-999.000
31WTTUNES_3,       P16C,     321,          1,         23,         23,2,19910930,       0712,    18.8205,  -155.4245,       4455,   566.5,   5.6814,  34.3117,2,  34.2827,2,     28.2,2,    29.1,2,   77.64,2,   39.30,2,    0.00,2,    2.95,2,-999.000,9,-999.000,9,  -999.0,9,  -999.0,9,-999.000,9,-999.0000,9, -999.00,9, -999.00,9,  -999.0,9,  -999.0,     5.6332,-999.0000,-999.000,-999.000
31WTTUNES_3,       P16C,     321,          1,         22,         22,2,19910930,       0712,    18.8205,  -155.4245,       4455,   618.3,   5.5553,  34.3827,2,  34.3633,2,     28.0,2,    27.3,2,   85.26,2,   40.60,2,    0.00,2,    3.01,2,-999.000,9,-999.000,9,  -999.0,9,  -999.0,9,-999.000,9,-999.0000,9, -999.00,9, -999.00,9,  -999.0,9,  -999.0,     5.5030,-999.0000,-999.000,-999.000
31WTTUNES_3,       P16C,     321,          1,         21,         21,2,19910930,       0712,    18.8205,  -155.4245,       4455,   720.2,   4.9890,  34.4113,2,  34.4318,2,     30.2,2,    30.4,2,   93.51,2,   41.49,2,    0.00,2,    3.06,2,-999.000,9,-999.000,9,  -999.0,9,  -999.0,9,-999.000,9,-999.0000,9, -999.00,9, -999.00,9,  -999.0,9,  -999.0,     4.9306,-999.0000,-999.000,-999.000
31WTTUNES_3,       P16C,     321,          1,         20,         20,2,19910930,       0712,    18.8205,  -155.4245,       4455,   821.8,   4.5797,  34.4821,2,  34.4805,2,     36.1,2,    35.5,2,  100.94,2,   41.99,2,    0.00,2,    3.06,2,-999.000,9,-999.000,9,  -999.0,9,  -999.0,9,-999.000,9,-999.0000,9, -999.00,9, -999.00,9,  -999.0,9,  -999.0,     4.5149,-999.0000,-999.000,-999.000
31WTTUNES_3,       P16C,     321,          1,         19,         19,2,19910930,       0712,    18.8205,  -155.4245,       4455,   924.6,   4.2206,  34.5080,2,  34.5076,2,     42.2,2,    40.8,2,  107.56,2,   42.15,2,    0.00,2,    3.06,2,-999.000,9,-999.000,9,  -999.0,9,  -999.0,9,-999.000,9,-999.0000,9, -999.00,9, -999.00,9,  -999.0,9,  -999.0,     4.1496,-999.0000,-999.000,-999.000
31WTTUNES_3,       P16C,     321,          1,         18,         18,2,19910930,       0712,    18.8205,  -155.4245,       4455,  1026.1,   3.8325,  34.5185,2,  34.5142,2,     47.8,2,    46.3,2,  116.22,2,   42.09,2,    0.00,2,    3.05,2,-999.000,9,-999.000,9,  -999.0,9,  -999.0,9,-999.000,9,-999.0000,9, -999.00,9, -999.00,9,  -999.0,9,  -999.0,     3.7559,-999.0000,-999.000,-999.000
31WTTUNES_3,       P16C,     321,          1,         17,         17,2,19910930,       0712,    18.8205,  -155.4245,       4455,  1128.0,   3.5229,  34.5361,2,  34.5364,2,     53.5,2,    52.9,2,  123.87,2,   41.97,2,    0.00,2,    3.02,2,-999.000,9,-999.000,9,  -999.0,9,  -999.0,9,-999.000,9,-999.0000,9, -999.00,9, -999.00,9,  -999.0,9,  -999.0,     3.4405,-999.0000,-999.000,-999.000
31WTTUNES_3,       P16C,     321,          1,         16,         16,2,19910930,       0712,    18.8205,  -155.4245,       4455,  1230.2,   3.3041,  34.5509,2,  34.5523,2,     58.2,2,    58.2,2,  129.46,2,   41.76,2,    0.00,2,    3.03,2,-999.000,9,-999.000,9,  -999.0,9,  -999.0,9,-999.000,9,-999.0000,9, -999.00,9, -999.00,9,  -999.0,9,  -999.0,     3.2153,-999.0000,-999.000,-999.000
31WTTUNES_3,       P16C,     321,          1,         15,         15,2,19910930,       0712,    18.8205,  -155.4245,       4455,  1331.7,   3.1759,  34.5583,2,  34.5547,2,     60.8,2,    59.1,2,  130.51,2,   41.69,2,    0.00,2,    2.99,2,-999.000,9,-999.000,9,  -999.0,9,  -999.0,9,-999.000,9,-999.0000,9, -999.00,9, -999.00,9,  -999.0,9,  -999.0,     3.0802,-999.0000,-999.000,-999.000
31WTTUNES_3,       P16C,     321,          1,         14,         14,2,19910930,       0712,    18.8205,  -155.4245,       4455,  1536.6,   2.6859,  34.5897,2,  34.5932,2,     73.7,2,    73.1,2,  143.12,2,   41.05,2,    0.00,2,    2.92,2,-999.000,9,-999.000,9,  -999.0,9,  -999.0,9,-999.000,9,-999.0000,9, -999.00,9, -999.00,9,  -999.0,9,  -999.0,     2.5787,-999.0000,-999.000,-999.000
31WTTUNES_3,       P16C,     321,          1,         13,         13,2,19910930,       0712,    18.8205,  -155.4245,       4455,  1739.5,   2.3834,  34.6091,2,  34.6115,2,     83.8,2,    83.7,2,  149.54,2,   40.37,2,    0.00,2,    2.87,2,-999.000,9,-999.000,9,  -999.0,9,  -999.0,9,-999.000,9,-999.0000,9, -999.00,9, -999.00,9,  -999.0,9,  -999.0,     2.2633,-999.0000,-999.000,-999.000
31WTTUNES_3,       P16C,     321,          1,         12,         12,2,19910930,       0712,    18.8205,  -155.4245,       4455,  1944.5,   2.1416,  34.6245,2,  34.6238,2,     93.8,2,    92.4,2,  153.69,2,   39.89,2,    0.00,2,    2.82,2,-999.000,9,-999.000,9,  -999.0,9,  -999.0,9,-999.000,9,-999.0000,9, -999.00,9, -999.00,9,  -999.0,9,  -999.0,     2.0077,-999.0000,-999.000,-999.000
31WTTUNES_3,       P16C,     321,          1,         11,         11,2,19910930,       0712,    18.8205,  -155.4245,       4455,  2149.2,   2.0001,  34.6344,2,  34.6346,2,    100.8,2,   100.2,2,  156.40,2,   39.46,2,    0.00,2,    2.78,2,-999.000,9,-999.000,9,  -999.0,9,  -999.0,9,-999.000,9,-999.0000,9, -999.00,9, -999.00,9,  -999.0,9,  -999.0,     1.8510,-999.0000,-999.000,-999.000
31WTTUNES_3,       P16C,     321,          1,         10,         10,2,19910930,       0712,    18.8205,  -155.4245,       4455,  2354.0,   1.8366,  34.6470,2,  34.6466,2,    109.7,2,   108.9,2,  158.70,2,   38.82,2,    0.00,2,    2.72,2,-999.000,9,-999.000,9,  -999.0,9,  -999.0,9,-999.000,9,-999.0000,9, -999.00,9, -999.00,9,  -999.0,9,  -999.0,     1.6724,-999.0000,-999.000,-999.000
31WTTUNES_3,       P16C,     321,          1,          9,          9,2,19910930,       0712,    18.8205,  -155.4245,       4455,  2559.8,   1.7492,  34.6547,2,  34.6549,2,    115.2,2,   115.8,2,  160.59,2,   38.55,2,    0.00,2,    2.66,2,-999.000,9,-999.000,9,  -999.0,9,  -999.0,9,-999.000,9,-999.0000,9, -999.00,9, -999.00,9,  -999.0,9,  -999.0,     1.5682,-999.0000,-999.000,-999.000
31WTTUNES_3,       P16C,     321,          1,          8,          8,2,19910930,       0712,    18.8205,  -155.4245,       4455,  2764.1,   1.6780,  34.6606,2,  34.6606,2,    120.4,2,   118.9,2,  161.23,2,   38.28,2,    0.00,2,    2.63,2,-999.000,9,-999.000,9,  -999.0,9,  -999.0,9,-999.000,9,-999.0000,9, -999.00,9, -999.00,9,  -999.0,9,  -999.0,     1.4796,-999.0000,-999.000,-999.000
31WTTUNES_3,       P16C,     321,          1,          7,          7,2,19910930,       0712,    18.8205,  -155.4245,       4455,  3038.3,   1.5718,  34.6697,2,  34.6679,2,    129.5,2,   128.1,2,  161.89,2,   37.65,2,    0.00,2,    2.59,2,-999.000,9,-999.000,9,  -999.0,9,  -999.0,9,-999.000,9,-999.0000,9, -999.00,9, -999.00,9,  -999.0,9,  -999.0,     1.3498,-999.0000,-999.000,-999.000
31WTTUNES_3,       P16C,     321,          1,          6,          6,2,19910930,       0712,    18.8205,  -155.4245,       4455,  3127.8,   1.5588,  34.6710,2,  34.6712,2,    131.0,2,   130.3,2,  161.76,2,   37.47,2,    0.00,2,    2.56,2,-999.000,9,-999.000,9,  -999.0,9,  -999.0,9,-999.000,9,-999.0000,9, -999.00,9, -999.00,9,  -999.0,9,  -999.0,     1.3284,-999.0000,-999.000,-999.000
31WTTUNES_3,       P16C,     321,          1,          5,          5,2,19910930,       0712,    18.8205,  -155.4245,       4455,  3382.3,   1.5195,  34.6760,2,  34.6755,2,    136.4,2,   136.5,2,  160.76,2,   37.25,2,    0.00,2,    2.53,2,-999.000,9,-999.000,9,  -999.0,9,  -999.0,9,-999.000,9,-999.0000,9, -999.00,9, -999.00,9,  -999.0,9,  -999.0,     1.2649,-999.0000,-999.000,-999.000
31WTTUNES_3,       P16C,     321,          1,          4,          4,2,19910930,       0712,    18.8205,  -155.4245,       4455,  3642.5,   1.4749,  34.6812,2,  34.6796,2,    144.2,2,   143.3,2,  159.13,2,   36.63,2,    0.00,2,    2.53,2,-999.000,9,-999.000,9,  -999.0,9,  -999.0,9,-999.000,9,-999.0000,9, -999.00,9, -999.00,9,  -999.0,9,  -999.0,     1.1948,-999.0000,-999.000,-999.000
31WTTUNES_3,       P16C,     321,          1,          3,          3,2,19910930,       0712,    18.8205,  -155.4245,       4455,  3902.2,   1.4653,  34.6840,2,  34.6828,2,    148.6,2,   148.2,2,  157.08,2,   36.36,2,    0.00,2,    2.52,2,-999.000,9,-999.000,9,  -999.0,9,  -999.0,9,-999.000,9,-999.0000,9, -999.00,9, -999.00,9,  -999.0,9,  -999.0,     1.1580,-999.0000,-999.000,-999.000
31WTTUNES_3,       P16C,     321,          1,          2,          2,2,19910930,       0712,    18.8205,  -155.4245,       4455,  4163.4,   1.4728,  34.6856,2,  34.6844,2,    151.6,2,   150.3,2,  155.67,2,   36.14,2,    0.00,2,    2.50,2,-999.000,9,-999.000,9,  -999.0,9,  -999.0,9,-999.000,9,-999.0000,9, -999.00,9, -999.00,9,  -999.0,9,  -999.0,     1.1367,-999.0000,-999.000,-999.000
31WTTUNES_3,       P16C,     321,          1,          1,          1,2,19910930,       0712,    18.8205,  -155.4245,       4455,  4373.0,   1.4719,  34.6877,2,  34.6867,2,    154.7,2,   157.9,2,  153.20,2,   35.77,2,    0.00,2,    2.48,2,-999.000,9,-999.000,9,  -999.0,9,  -999.0,9,-999.000,9,-999.0000,9, -999.00,9, -999.00,9,  -999.0,9,  -999.0,     1.1123,-999.0000,-999.000,-999.000