BOTTLE,20211117CCHSIORKP
EXPOCODE,SECT_ID,STNNBR,CASTNO,SAMPNO,BTLNBR,BTLNBR_FLAG_W,DATE,TIME,LATITUDE,LONGITUDE,DEPTH,CTDPRS,CTDTMP,CTDSAL,CTDSAL_FLAG_W,SALNTY,SALNTY_FLAG_W,CTDOXY,CTDOXY_FLAG_W,OXYGEN,OXYGEN_FLAG_W,SILCAT,SILCAT_FLAG_W,NITRAT,NITRAT_FLAG_W,NITRIT,NITRIT_FLAG_W,PHSPHT,PHSPHT_FLAG_W,CFC-11,CFC-11_FLAG_W,CFC-12,CFC-12_FLAG_W,TCARBN,TCARBN_FLAG_W,ALKALI,ALKALI_FLAG_W,TRITUM,TRITUM_FLAG_W,HELIUM,HELIUM_FLAG_W,DELHE3,DELHE3_FLAG_W,DELC13,DELC13_FLAG_W,DELC14,DELC14_FLAG_W,C14ERR,THETA,HELIER,DELHER,TRITER
,,,,,,,,,,,METERS,DBAR,ITS-90,PSS-78,,PSS-78,,UMOL/KG,,UMOL/KG,,UMOL/KG,,UMOL/KG,,UMOL/KG,,UMOL/KG,,PMOL/KG,,PMOL/KG,,UMOL/KG,,UMOL/KG,,TU,,NMOL/KG,,PERCNT,,/MILLE,,/MILLE,,/MILLE,ITS-90,NMOL/KG,PERCNT,TU
31WTTUNES_3,       P16C,     225,          5,         24,         24,2,19910903,       0013,   -15.5277,  -150.7038,       4248,     3.5,  27.1602,  36.1895,2,  36.1213,2,   -999.0,5,   205.0,2,    1.98,2,    1.38,2,    0.00,2,    0.16,2,-999.000,9,-999.000,9,  -999.0,9,  -999.0,9,-999.000,9,-999.0000,9, -999.00,9, -999.00,9,  -999.0,9,  -999.0,    27.1594,-999.0000,-999.000,-999.000
31WTTUNES_3,       P16C,     225,          5,         23,         23,2,19910903,       0013,   -15.5277,  -150.7038,       4248,    55.5,  26.4991,  36.0869,2,  36.1276,2,   -999.0,5,   205.7,2,    1.98,2,    0.28,2,    0.00,2,    0.17,2,-999.000,9,-999.000,9,  -999.0,9,  -999.0,9,-999.000,9,-999.0000,9, -999.00,9, -999.00,9,  -999.0,9,  -999.0,    26.4865,-999.0000,-999.000,-999.000
31WTTUNES_3,       P16C,     225,          5,         22,         22,2,19910903,       0013,   -15.5277,  -150.7038,       4248,   105.3,  25.9109,  36.0529,2,  36.1150,2,   -999.0,5,   203.7,2,    1.98,2,    0.28,2,    0.00,2,    0.17,2,-999.000,9,-999.000,9,  -999.0,9,  -999.0,9,-999.000,9,-999.0000,9, -999.00,9, -999.00,9,  -999.0,9,  -999.0,    25.8874,-999.0000,-999.000,-999.000
31WTTUNES_3,       P16C,     225,          5,         21,         21,2,19910903,       0013,   -15.5277,  -150.7038,       4248,   146.0,  24.2579,  36.2077,2,  36.2113,2,   -999.0,5,   182.4,2,    1.98,2,    1.51,2,    0.05,2,    0.32,2,-999.000,9,-999.000,9,  -999.0,9,  -999.0,9,-999.000,9,-999.0000,9, -999.00,9, -999.00,9,  -999.0,9,  -999.0,    24.2268,-999.0000,-999.000,-999.000
31WTTUNES_3,       P16C,     225,          5,         20,         20,2,19910903,       0013,   -15.5277,  -150.7038,       4248,   186.3,  22.7833,  36.0394,2,  36.0370,2,   -999.0,5,   175.1,2,    1.98,2,    2.81,2,    0.02,2,    0.38,2,-999.000,9,-999.000,9,  -999.0,9,  -999.0,9,-999.000,9,-999.0000,9, -999.00,9, -999.00,9,  -999.0,9,  -999.0,    22.7453,-999.0000,-999.000,-999.000
31WTTUNES_3,       P16C,     225,          5,         19,         19,2,19910903,       0013,   -15.5277,  -150.7038,       4248,   226.5,  21.0643,  35.9254,2,  35.9479,2,   -999.0,5,   172.5,2,    2.18,2,    4.06,2,    0.01,2,    0.45,2,-999.000,9,-999.000,9,  -999.0,9,  -999.0,9,-999.000,9,-999.0000,9, -999.00,9, -999.00,9,  -999.0,9,  -999.0,    21.0207,-999.0000,-999.000,-999.000
31WTTUNES_3,       P16C,     225,          5,         18,         18,2,19910903,       0013,   -15.5277,  -150.7038,       4248,   267.4,  19.3871,  35.6674,2,  35.5884,2,   -999.0,5,   171.7,2,    2.77,2,    6.18,2,    0.01,2,    0.60,2,-999.000,9,-999.000,9,  -999.0,9,  -999.0,9,-999.000,9,-999.0000,9, -999.00,9, -999.00,9,  -999.0,9,  -999.0,    19.3385,-999.0000,-999.000,-999.000
31WTTUNES_3,       P16C,     225,          5,         17,         17,2,19910903,       0013,   -15.5277,  -150.7038,       4248,   307.9,  17.6518,  35.4324,2,  35.3110,2,   -999.0,5,   165.8,2,    4.17,2,    9.01,2,    0.01,2,    0.80,2,-999.000,9,-999.000,9,  -999.0,9,  -999.0,9,-999.000,9,-999.0000,9, -999.00,9, -999.00,9,  -999.0,9,  -999.0,    17.5993,-999.0000,-999.000,-999.000
31WTTUNES_3,       P16C,     225,          5,         16,         16,2,19910903,       0013,   -15.5277,  -150.7038,       4248,   348.8,  15.9496,  35.2097,2,  35.0193,2,   -999.0,5,   154.6,2,    6.75,2,   13.33,2,    0.00,2,    1.10,2,-999.000,9,-999.000,9,  -999.0,9,  -999.0,9,-999.000,9,-999.0000,9, -999.00,9, -999.00,9,  -999.0,9,  -999.0,    15.8942,-999.0000,-999.000,-999.000
31WTTUNES_3,       P16C,     225,          5,         15,         15,2,19910903,       0013,   -15.5277,  -150.7038,       4248,   389.0,  13.3306,  34.8845,2,  34.7878,2,   -999.0,5,   142.1,2,   10.13,2,   18.63,2,    0.00,2,    1.46,2,-999.000,9,-999.000,9,  -999.0,9,  -999.0,9,-999.000,9,-999.0000,9, -999.00,9, -999.00,9,  -999.0,9,  -999.0,    13.2758,-999.0000,-999.000,-999.000
31WTTUNES_3,       P16C,     225,          5,         14,         14,2,19910903,       0013,   -15.5277,  -150.7038,       4248,   429.2,  11.0246,  34.6608,2,  34.6356,2,   -999.0,5,   128.3,2,   14.51,2,   23.62,2,    0.00,2,    1.79,2,-999.000,9,-999.000,9,  -999.0,9,  -999.0,9,-999.000,9,-999.0000,9, -999.00,9, -999.00,9,  -999.0,9,  -999.0,    10.9712,-999.0000,-999.000,-999.000
31WTTUNES_3,       P16C,     225,          5,         13,         13,2,19910903,       0013,   -15.5277,  -150.7038,       4248,   469.6,   9.1428,  34.5453,2,  34.5525,2,   -999.0,5,   125.4,2,   18.29,2,   27.04,2,    0.00,2,    1.98,2,-999.000,9,-999.000,9,  -999.0,9,  -999.0,9,-999.000,9,-999.0000,9, -999.00,9, -999.00,9,  -999.0,9,  -999.0,     9.0908,-999.0000,-999.000,-999.000
31WTTUNES_3,       P16C,     225,          5,         12,         12,2,19910903,       0013,   -15.5277,  -150.7038,       4248,   511.8,   7.8953,  34.4850,2,  34.5087,2,   -999.0,5,   128.9,2,   21.67,2,   29.20,2,    0.00,2,    2.09,2,-999.000,9,-999.000,9,  -999.0,9,  -999.0,9,-999.000,9,-999.0000,9, -999.00,9, -999.00,9,  -999.0,9,  -999.0,     7.8432,-999.0000,-999.000,-999.000
31WTTUNES_3,       P16C,     225,          5,         11,         11,2,19910903,       0013,   -15.5277,  -150.7038,       4248,   563.1,   7.0452,  34.4564,2,  34.4506,2,   -999.0,5,   145.1,2,   25.06,2,   30.79,2,    0.00,2,    2.14,2,-999.000,9,-999.000,9,  -999.0,9,  -999.0,9,-999.000,9,-999.0000,9, -999.00,9, -999.00,9,  -999.0,9,  -999.0,     6.9914,-999.0000,-999.000,-999.000
31WTTUNES_3,       P16C,     225,          5,         10,         10,2,19910903,       0013,   -15.5277,  -150.7038,       4248,   613.7,   6.1961,  34.4357,2,  34.4500,2,   -999.0,5,   146.1,2,   30.25,2,   31.87,2,    0.00,2,    2.20,2,-999.000,9,-999.000,9,  -999.0,9,  -999.0,9,-999.000,9,-999.0000,9, -999.00,9, -999.00,9,  -999.0,9,  -999.0,     6.1411,-999.0000,-999.000,-999.000
31WTTUNES_3,       P16C,     225,          5,          9,          9,2,19910903,       0013,   -15.5277,  -150.7038,       4248,   717.5,   5.7607,  34.4659,2,  34.4583,2,   -999.0,5,   143.4,2,   41.40,2,   33.70,2,    0.00,2,    2.31,2,-999.000,9,-999.000,9,  -999.0,9,  -999.0,9,-999.000,9,-999.0000,9, -999.00,9, -999.00,9,  -999.0,9,  -999.0,     5.6983,-999.0000,-999.000,-999.000
31WTTUNES_3,       P16C,     225,          5,          8,          8,2,19910903,       0013,   -15.5277,  -150.7038,       4248,   818.7,   4.6648,  34.4862,2,  34.4807,2,   -999.0,5,   140.9,2,   55.75,2,   35.19,2,    0.00,2,    2.41,2,-999.000,9,-999.000,9,  -999.0,9,  -999.0,9,-999.000,9,-999.0000,9, -999.00,9, -999.00,9,  -999.0,9,  -999.0,     4.5998,-999.0000,-999.000,-999.000
31WTTUNES_3,       P16C,     225,          5,          7,          7,2,19910903,       0013,   -15.5277,  -150.7038,       4248,   921.8,   4.2749,  34.5000,2,  34.4977,2,   -999.0,5,   140.4,2,   64.52,2,   35.82,2,    0.00,2,    2.46,2,-999.000,9,-999.000,9,  -999.0,9,  -999.0,9,-999.000,9,-999.0000,9, -999.00,9, -999.00,9,  -999.0,9,  -999.0,     4.2037,-999.0000,-999.000,-999.000
31WTTUNES_3,       P16C,     225,          5,          6,          6,2,19910903,       0013,   -15.5277,  -150.7038,       4248,  1024.5,   3.9523,  34.5121,2,  34.5140,2,   -999.0,5,   138.5,2,   72.92,2,   36.31,2,    0.00,2,    2.51,2,-999.000,9,-999.000,9,  -999.0,9,  -999.0,9,-999.000,9,-999.0000,9, -999.00,9, -999.00,9,  -999.0,9,  -999.0,     3.8749,-999.0000,-999.000,-999.000
31WTTUNES_3,       P16C,     225,          5,          5,          5,2,19910903,       0013,   -15.5277,  -150.7038,       4248,  1228.5,   3.4267,  34.5416,2,  34.5461,2,   -999.0,5,   141.7,2,   87.08,2,   36.55,2,    0.00,2,    2.52,2,-999.000,9,-999.000,9,  -999.0,9,  -999.0,9,-999.000,9,   1.8650,2,   20.73,2, -999.00,9,  -999.0,9,  -999.0,     3.3370,-999.0000,-999.000,-999.000
31WTTUNES_3,       P16C,     225,          5,          4,          4,2,19910903,       0013,   -15.5277,  -150.7038,       4248,  1435.4,   2.9872,  34.5669,2,  34.7201,4,   -999.0,5,   143.7,2,   98.26,2,   36.69,2,    0.00,2,    2.53,2,-999.000,9,-999.000,9,  -999.0,9,  -999.0,9,-999.000,9,   1.8860,2,   23.62,2, -999.00,9,  -999.0,9,  -999.0,     2.8849,-999.0000,-999.000,-999.000
31WTTUNES_3,       P16C,     225,          5,          3,          3,2,19910903,       0013,   -15.5277,  -150.7038,       4248,  1640.6,   2.5939,  34.5967,2,  34.5985,2,   -999.0,5,   146.8,2,  106.67,2,   36.64,2,    0.00,2,    2.53,2,  -0.002,2,  -0.002,2,  -999.0,9,  -999.0,9,-999.000,9,   1.9030,2,   25.26,2, -999.00,9,  -999.0,9,  -999.0,     2.4792,-999.0000,-999.000,-999.000
31WTTUNES_3,       P16C,     225,          5,          2,          2,2,19910903,       0013,   -15.5277,  -150.7038,       4248,  1845.1,   2.3015,  34.6196,2,  34.6233,2,   -999.0,5,   150.7,2,  113.29,2,   36.49,2,    0.00,2,    2.51,2,   0.009,2,   0.039,4,  -999.0,9,  -999.0,9,-999.000,9,-999.0000,9, -999.00,9, -999.00,9,  -999.0,9,  -999.0,     2.1737,-999.0000,-999.000,-999.000
31WTTUNES_3,       P16C,     225,          5,          1,          1,2,19910903,       0013,   -15.5277,  -150.7038,       4248,  2050.0,   2.1361,  34.6340,2,  34.6341,2,   -999.0,5,   151.1,2,  119.03,2,   36.47,2,    0.00,2,    2.51,2,   0.008,2,   0.010,2,  -999.0,9,  -999.0,9,-999.000,9,-999.0000,9, -999.00,9, -999.00,9,  -999.0,9,  -999.0,     1.9933,-999.0000,-999.000,-999.000