BOTTLE,20211117CCHSIORKP
EXPOCODE,SECT_ID,STNNBR,CASTNO,SAMPNO,BTLNBR,BTLNBR_FLAG_W,DATE,TIME,LATITUDE,LONGITUDE,DEPTH,CTDPRS,CTDTMP,CTDSAL,CTDSAL_FLAG_W,SALNTY,SALNTY_FLAG_W,CTDOXY,CTDOXY_FLAG_W,OXYGEN,OXYGEN_FLAG_W,SILCAT,SILCAT_FLAG_W,NITRAT,NITRAT_FLAG_W,NITRIT,NITRIT_FLAG_W,PHSPHT,PHSPHT_FLAG_W,CFC-11,CFC-11_FLAG_W,CFC-12,CFC-12_FLAG_W,TCARBN,TCARBN_FLAG_W,ALKALI,ALKALI_FLAG_W,TRITUM,TRITUM_FLAG_W,HELIUM,HELIUM_FLAG_W,DELHE3,DELHE3_FLAG_W,DELC13,DELC13_FLAG_W,DELC14,DELC14_FLAG_W,C14ERR,THETA,HELIER,DELHER,TRITER
,,,,,,,,,,,METERS,DBAR,ITS-90,PSS-78,,PSS-78,,UMOL/KG,,UMOL/KG,,UMOL/KG,,UMOL/KG,,UMOL/KG,,UMOL/KG,,PMOL/KG,,PMOL/KG,,UMOL/KG,,UMOL/KG,,TU,,NMOL/KG,,PERCNT,,/MILLE,,/MILLE,,/MILLE,ITS-90,NMOL/KG,PERCNT,TU
31WTTUNES_3,       P16C,     254,          2,         36,         36,2,19910912,       0006,    -2.3340,  -151.0138,       4926,     6.4,  27.6184,  35.4474,2,  35.4328,2,    202.3,3,   214.0,2,    1.53,2,    4.22,2,    0.21,2,    0.55,2,-999.000,9,-999.000,9,  -999.0,9,  -999.0,9,-999.000,9,-999.0000,9, -999.00,9, -999.00,9,  -999.0,9,  -999.0,    27.6169,-999.0000,-999.000,-999.000
31WTTUNES_3,       P16C,     254,          2,         35,         35,2,19910912,       0006,    -2.3340,  -151.0138,       4926,    57.1,  27.3150,  35.4258,2,  35.4182,2,    211.2,2,   210.1,2,    1.52,2,    4.42,2,    0.26,2,    0.56,2,   1.683,2,   0.937,2,  -999.0,9,  -999.0,9,-999.000,9,-999.0000,9, -999.00,9, -999.00,9,  -999.0,9,  -999.0,    27.3018,-999.0000,-999.000,-999.000
31WTTUNES_3,       P16C,     254,          2,         34,         34,2,19910912,       0006,    -2.3340,  -151.0138,       4926,   107.0,  26.9999,  35.4399,2,  35.4344,2,    206.9,2,   207.9,2,    1.71,2,    4.62,2,    0.36,2,    0.59,2,   1.706,6,   0.951,6,  -999.0,9,  -999.0,9,-999.000,9,-999.0000,9, -999.00,9, -999.00,9,  -999.0,9,  -999.0,    26.9753,-999.0000,-999.000,-999.000
31WTTUNES_3,       P16C,     254,          2,         33,         33,2,19910912,       0006,    -2.3340,  -151.0138,       4926,   158.5,  16.4785,  35.2481,2,  35.1282,2,     75.9,2,    49.2,2,   14.04,2,   25.00,2,    0.04,2,    1.85,2,   0.807,2,   0.479,2,  -999.0,9,  -999.0,9,-999.000,9,-999.0000,9, -999.00,9, -999.00,9,  -999.0,9,  -999.0,    16.4529,-999.0000,-999.000,-999.000
31WTTUNES_3,       P16C,     254,          2,         32,         32,2,19910912,       0006,    -2.3340,  -151.0138,       4926,   209.4,  12.7975,  34.9160,2,  34.9016,2,     17.2,2,    19.3,2,   23.00,2,   31.88,2,    0.01,2,    2.22,2,   0.277,2,   0.182,2,  -999.0,9,  -999.0,9,-999.000,9,-999.0000,9, -999.00,9, -999.00,9,  -999.0,9,  -999.0,    12.7690,-999.0000,-999.000,-999.000
31WTTUNES_3,       P16C,     254,          2,         31,         31,2,19910912,       0006,    -2.3340,  -151.0138,       4926,   251.4,  12.2661,  34.8813,2,  34.8772,2,     25.9,2,    31.4,2,   23.59,2,   31.17,2,    0.01,2,    2.16,2,   0.270,2,   0.402,4,  -999.0,9,  -999.0,9,-999.000,9,-999.0000,9, -999.00,9, -999.00,9,  -999.0,9,  -999.0,    12.2328,-999.0000,-999.000,-999.000
31WTTUNES_3,       P16C,     254,          2,         30,         30,2,19910912,       0006,    -2.3340,  -151.0138,       4926,   291.2,  11.4923,  34.8374,2,  34.8316,2,     31.2,2,    31.4,2,   25.97,2,   31.94,2,    0.00,2,    2.24,2,   0.174,6,   0.118,6,  -999.0,9,  -999.0,9,-999.000,9,-999.0000,9, -999.00,9, -999.00,9,  -999.0,9,  -999.0,    11.4553,-999.0000,-999.000,-999.000
31WTTUNES_3,       P16C,     254,          2,         29,         29,2,19910912,       0006,    -2.3340,  -151.0138,       4926,   332.3,  11.2213,  34.8202,2,  34.8005,2,     27.5,2,    25.0,2,   28.16,2,   33.27,2,    0.01,2,    2.35,2,   0.121,2,   0.082,2,  -999.0,9,  -999.0,9,-999.000,9,-999.0000,9, -999.00,9, -999.00,9,  -999.0,9,  -999.0,    11.1796,-999.0000,-999.000,-999.000
31WTTUNES_3,       P16C,     254,          2,         28,         28,2,19910912,       0006,    -2.3340,  -151.0138,       4926,   371.8,  10.7663,  34.7917,2,  34.7769,2,     21.1,2,    22.1,2,   29.75,2,   34.30,2,    0.00,2,    2.41,2,   0.086,6,   0.053,6,  -999.0,9,  -999.0,9,-999.000,9,-999.0000,9, -999.00,9, -999.00,9,  -999.0,9,  -999.0,    10.7208,-999.0000,-999.000,-999.000
31WTTUNES_3,       P16C,     254,          2,         27,         27,2,19910912,       0006,    -2.3340,  -151.0138,       4926,   411.7,   9.9971,  34.7430,2,  34.7199,2,     17.7,2,    14.5,2,   34.72,2,   37.21,2,    0.00,2,    2.59,2,   0.028,2,   0.025,2,  -999.0,9,  -999.0,9,-999.000,9,-999.0000,9, -999.00,9, -999.00,9,  -999.0,9,  -999.0,     9.9490,-999.0000,-999.000,-999.000
31WTTUNES_3,       P16C,     254,          2,         26,         26,2,19910912,       0006,    -2.3340,  -151.0138,       4926,   462.5,   8.8526,  34.6788,2,  34.6649,2,     20.0,2,    23.9,2,   38.50,2,   38.86,2,    0.00,2,    2.66,2,   0.020,2,   0.023,2,  -999.0,9,  -999.0,9,-999.000,9,-999.0000,9, -999.00,9, -999.00,9,  -999.0,9,  -999.0,     8.8023,-999.0000,-999.000,-999.000
31WTTUNES_3,       P16C,     254,          2,         25,         25,2,19910912,       0006,    -2.3340,  -151.0138,       4926,   513.9,   8.2411,  34.6431,2,  34.6274,2,     27.6,2,    35.1,2,   41.27,2,   39.50,2,    0.00,2,    2.68,2,   0.008,2,   0.005,2,  -999.0,9,  -999.0,9,-999.000,9,-999.0000,9, -999.00,9, -999.00,9,  -999.0,9,  -999.0,     8.1874,-999.0000,-999.000,-999.000
31WTTUNES_3,       P16C,     254,          2,         24,         24,2,19910912,       0006,    -2.3340,  -151.0138,       4926,   563.0,   7.5872,  34.6105,2,  34.6040,2,     40.0,2,    44.1,2,   44.06,2,   39.60,2,    0.00,2,    2.70,2,   0.004,2,   0.003,2,  -999.0,9,  -999.0,9,-999.000,9,-999.0000,9, -999.00,9, -999.00,9,  -999.0,9,  -999.0,     7.5309,-999.0000,-999.000,-999.000
31WTTUNES_3,       P16C,     254,          2,         23,         23,2,19910912,       0006,    -2.3340,  -151.0138,       4926,   613.0,   7.1103,  34.5903,2,  34.5820,2,     50.0,2,    54.9,2,   48.44,2,   39.70,2,    0.00,2,    2.71,2,   0.008,2,   0.008,2,  -999.0,9,  -999.0,9,-999.000,9,-999.0000,9, -999.00,9, -999.00,9,  -999.0,9,  -999.0,     7.0511,-999.0000,-999.000,-999.000
31WTTUNES_3,       P16C,     254,          2,         22,         22,2,19910912,       0006,    -2.3340,  -151.0138,       4926,   665.3,   6.5456,  34.5706,2,  34.5651,2,     57.4,2,    58.0,2,   53.41,2,   40.14,2,    0.00,2,    2.75,2,-999.000,9,-999.000,9,  -999.0,9,  -999.0,9,-999.000,9,-999.0000,9, -999.00,9, -999.00,9,  -999.0,9,  -999.0,     6.4839,-999.0000,-999.000,-999.000
31WTTUNES_3,       P16C,     254,          2,         21,         21,2,19910912,       0006,    -2.3340,  -151.0138,       4926,   715.6,   6.2117,  34.5604,2,  34.5569,2,     60.5,2,    64.0,2,   58.19,2,   40.19,2,    0.00,2,    2.76,2,   0.000,2,   0.003,2,  -999.0,9,  -999.0,9,-999.000,9,-999.0000,9, -999.00,9, -999.00,9,  -999.0,9,  -999.0,     6.1469,-999.0000,-999.000,-999.000
31WTTUNES_3,       P16C,     254,          2,         20,         20,2,19910912,       0006,    -2.3340,  -151.0138,       4926,   812.6,   5.5471,  34.5494,2,  34.5523,2,     74.2,2,    70.3,2,   67.15,2,   40.29,2,    0.00,2,    2.79,2,-999.000,9,-999.000,9,  -999.0,9,  -999.0,9,-999.000,9,-999.0000,9, -999.00,9, -999.00,9,  -999.0,9,  -999.0,     5.4770,-999.0000,-999.000,-999.000
31WTTUNES_3,       P16C,     254,          2,         19,         19,2,19910912,       0006,    -2.3340,  -151.0138,       4926,   912.3,   4.9964,  34.5468,2,  34.5453,2,     86.1,2,    84.9,2,   73.12,2,   39.33,2,    0.00,2,    2.73,2,  -0.003,2,  -0.004,2,  -999.0,9,  -999.0,9,-999.000,9,-999.0000,9, -999.00,9, -999.00,9,  -999.0,9,  -999.0,     4.9210,-999.0000,-999.000,-999.000
31WTTUNES_3,       P16C,     254,          2,         18,         18,2,19910912,       0006,    -2.3340,  -151.0138,       4926,  1107.4,   4.1579,  34.5629,2,  34.5627,2,     90.4,2,    91.1,2,   91.64,2,   39.37,2,    0.00,2,    2.76,2,-999.000,9,-999.000,9,  -999.0,9,  -999.0,9,-999.000,9,-999.0000,9, -999.00,9, -999.00,9,  -999.0,9,  -999.0,     4.0718,-999.0000,-999.000,-999.000
31WTTUNES_3,       P16C,     254,          2,         17,         17,2,19910912,       0006,    -2.3340,  -151.0138,       4926,  1304.3,   3.5699,  34.5797,2,  34.5804,2,     97.8,2,    97.8,2,  103.58,2,   39.21,2,    0.00,2,    2.74,2,-999.000,9,-999.000,9,  -999.0,9,  -999.0,9,-999.000,9,-999.0000,9, -999.00,9, -999.00,9,  -999.0,9,  -999.0,     3.4725,-999.0000,-999.000,-999.000
31WTTUNES_3,       P16C,     254,          2,         16,         16,2,19910912,       0006,    -2.3340,  -151.0138,       4926,  1499.4,   2.9526,  34.6061,2,  34.6052,2,    101.2,2,   100.5,2,  119.11,2,   39.21,2,    0.00,2,    2.75,2,-999.000,9,-999.000,9,  -999.0,9,  -999.0,9,-999.000,9,-999.0000,9, -999.00,9, -999.00,9,  -999.0,9,  -999.0,     2.8453,-999.0000,-999.000,-999.000
31WTTUNES_3,       P16C,     254,          2,         15,         15,2,19910912,       0006,    -2.3340,  -151.0138,       4926,  1697.8,   2.6036,  34.6233,2,  34.6219,2,    104.7,2,   104.3,2,  128.27,2,   39.06,2,    0.00,2,    2.73,2,-999.000,9,-999.000,9,  -999.0,9,  -999.0,9,-999.000,9,-999.0000,9, -999.00,9, -999.00,9,  -999.0,9,  -999.0,     2.4840,-999.0000,-999.000,-999.000
31WTTUNES_3,       P16C,     254,          2,         14,         14,2,19910912,       0006,    -2.3340,  -151.0138,       4926,  1896.6,   2.3770,  34.6382,2,  34.6396,2,    104.3,2,   104.2,2,  138.03,2,   39.15,2,    0.00,2,    2.72,2,-999.000,9,-999.000,9,  -999.0,9,  -999.0,9,-999.000,9,-999.0000,9, -999.00,9, -999.00,9,  -999.0,9,  -999.0,     2.2437,-999.0000,-999.000,-999.000
31WTTUNES_3,       P16C,     254,          2,         13,         13,2,19910912,       0006,    -2.3340,  -151.0138,       4926,  2097.1,   2.2228,  34.6472,2,  34.6488,2,    106.5,2,   106.4,2,  142.01,2,   38.89,2,    0.00,2,    2.71,2,-999.000,9,-999.000,9,  -999.0,9,  -999.0,9,-999.000,9,-999.0000,9, -999.00,9, -999.00,9,  -999.0,9,  -999.0,     2.0746,-999.0000,-999.000,-999.000
31WTTUNES_3,       P16C,     254,          2,         12,         12,2,19910912,       0006,    -2.3340,  -151.0138,       4926,  2300.1,   2.0523,  34.6538,2,  34.6521,2,    115.6,2,   115.2,2,  142.21,2,   38.49,2,    0.00,2,    2.66,2,-999.000,9,-999.000,9,  -999.0,9,  -999.0,9,-999.000,9,-999.0000,9, -999.00,9, -999.00,9,  -999.0,9,  -999.0,     1.8890,-999.0000,-999.000,-999.000
31WTTUNES_3,       P16C,     254,          2,         11,         11,2,19910912,       0006,    -2.3340,  -151.0138,       4926,  2505.9,   1.9263,  34.6601,2,  34.6590,2,    123.4,2,   123.2,2,  143.00,2,   37.83,2,    0.00,2,    2.62,2,-999.000,9,-999.000,9,  -999.0,9,  -999.0,9,-999.000,9,-999.0000,9, -999.00,9, -999.00,9,  -999.0,9,  -999.0,     1.7469,-999.0000,-999.000,-999.000
31WTTUNES_3,       P16C,     254,          2,         10,         10,2,19910912,       0006,    -2.3340,  -151.0138,       4926,  2718.0,   1.8237,  34.6659,2,  34.6645,2,    129.5,2,   129.5,2,  143.60,2,   37.42,2,    0.00,2,    2.59,2,-999.000,9,-999.000,9,  -999.0,9,  -999.0,9,-999.000,9,-999.0000,9, -999.00,9, -999.00,9,  -999.0,9,  -999.0,     1.6266,-999.0000,-999.000,-999.000
31WTTUNES_3,       P16C,     254,          2,          9,          9,2,19910912,       0006,    -2.3340,  -151.0138,       4926,  2933.4,   1.7214,  34.6709,2,  34.6700,2,    135.7,2,   136.8,2,  143.60,2,   37.07,2,    0.00,2,    2.55,2,-999.000,9,-999.000,9,  -999.0,9,  -999.0,9,-999.000,9,-999.0000,9, -999.00,9, -999.00,9,  -999.0,9,  -999.0,     1.5061,-999.0000,-999.000,-999.000
31WTTUNES_3,       P16C,     254,          2,          8,          8,2,19910912,       0006,    -2.3340,  -151.0138,       4926,  3149.3,   1.6300,  34.6766,2,  34.6763,2,    142.2,2,   143.3,2,  143.59,2,   36.41,2,    0.00,2,    2.51,2,-999.000,9,-999.000,9,  -999.0,9,  -999.0,9,-999.000,9,-999.0000,9, -999.00,9, -999.00,9,  -999.0,9,  -999.0,     1.3959,-999.0000,-999.000,-999.000
31WTTUNES_3,       P16C,     254,          2,          7,          7,2,19910912,       0006,    -2.3340,  -151.0138,       4926,  3414.9,   1.5463,  34.6825,2,  34.6840,2,    149.9,2,   150.0,2,  143.79,2,   36.16,2,    0.00,2,    2.47,2,-999.000,9,-999.000,9,  -999.0,9,  -999.0,9,-999.000,9,-999.0000,9, -999.00,9, -999.00,9,  -999.0,9,  -999.0,     1.2877,-999.0000,-999.000,-999.000
31WTTUNES_3,       P16C,     254,          2,          6,          6,2,19910912,       0006,    -2.3340,  -151.0138,       4926,  3681.8,   1.4523,  34.6895,2,  34.6901,2,    158.6,2,   158.8,2,  142.78,2,   35.60,2,    0.00,2,    2.41,2,-999.000,9,-999.000,9,  -999.0,9,  -999.0,9,-999.000,9,-999.0000,9, -999.00,9, -999.00,9,  -999.0,9,  -999.0,     1.1685,-999.0000,-999.000,-999.000
31WTTUNES_3,       P16C,     254,          2,          5,          5,2,19910912,       0006,    -2.3340,  -151.0138,       4926,  3947.3,   1.4121,  34.6929,2,  34.6932,2,    163.5,2,   162.9,2,  141.78,2,   35.35,2,    0.00,2,    2.40,2,-999.000,9,-999.000,9,  -999.0,9,  -999.0,9,-999.000,9,-999.0000,9, -999.00,9, -999.00,9,  -999.0,9,  -999.0,     1.1012,-999.0000,-999.000,-999.000
31WTTUNES_3,       P16C,     254,          2,          4,          4,2,19910912,       0006,    -2.3340,  -151.0138,       4926,  4222.1,   1.4138,  34.6939,2,  34.6930,2,    165.8,2,   164.7,2,  141.98,2,   35.19,2,    0.00,2,    2.39,2,-999.000,9,-999.000,9,  -999.0,9,  -999.0,9,-999.000,9,-999.0000,9, -999.00,9, -999.00,9,  -999.0,9,  -999.0,     1.0728,-999.0000,-999.000,-999.000
31WTTUNES_3,       P16C,     254,          2,          3,          3,2,19910912,       0006,    -2.3340,  -151.0138,       4926,  4486.8,   1.3477,  34.6985,2,  34.6975,2,    179.5,2,   179.1,2,  132.81,2,   34.09,2,    0.00,2,    2.32,2,-999.000,9,-999.000,9,  -999.0,9,  -999.0,9,-999.000,9,-999.0000,9, -999.00,9, -999.00,9,  -999.0,9,  -999.0,     0.9789,-999.0000,-999.000,-999.000
31WTTUNES_3,       P16C,     254,          2,          2,          2,2,19910912,       0006,    -2.3340,  -151.0138,       4926,  4747.7,   1.3321,  34.7004,2,  34.7026,2,    186.4,2,   184.7,2,  129.42,2,   33.64,2,    0.00,2,    2.28,2,-999.000,9,-999.000,9,  -999.0,9,  -999.0,9,-999.000,9,-999.0000,9, -999.00,9, -999.00,9,  -999.0,9,  -999.0,     0.9335,-999.0000,-999.000,-999.000
31WTTUNES_3,       P16C,     254,          2,          1,          1,2,19910912,       0006,    -2.3340,  -151.0138,       4926,  5039.0,   1.3467,  34.7012,2,  34.7050,2,    187.3,2,   187.0,2,  128.62,2,   33.48,2,    0.00,2,    2.27,2,-999.000,9,-999.000,9,  -999.0,9,  -999.0,9,-999.000,9,-999.0000,9, -999.00,9, -999.00,9,  -999.0,9,  -999.0,     0.9128,-999.0000,-999.000,-999.000
31WTTUNES_3,       P16C,     255,          1,         10,         10,2,19910912,       0508,    -2.1633,  -150.9967,       4849,    30.9,  27.5588,-999.0000,5,  35.4509,2,   -999.0,5,   215.6,2, -999.00,9, -999.00,9, -999.00,9, -999.00,9,-999.000,9,-999.000,9,  -999.0,9,  -999.0,9,-999.000,9,-999.0000,9, -999.00,9, -999.00,9,  -999.0,9,  -999.0,    27.5517,-999.0000,-999.000,-999.000
31WTTUNES_3,       P16C,     255,          1,          9,          9,2,19910912,       0508,    -2.1633,  -150.9967,       4849,   156.6,  17.9044,-999.0000,5,  35.5356,2,   -999.0,5,   111.1,2, -999.00,9, -999.00,9, -999.00,9, -999.00,9,-999.000,9,-999.000,9,  -999.0,9,  -999.0,9,-999.000,9,-999.0000,9, -999.00,9, -999.00,9,  -999.0,9,  -999.0,    17.8776,-999.0000,-999.000,-999.000
31WTTUNES_3,       P16C,     255,          1,          8,          8,2,19910912,       0508,    -2.1633,  -150.9967,       4849,   310.6,  11.5369,  34.8398,2,  34.8381,2,     29.8,2,    29.1,2, -999.00,9, -999.00,9, -999.00,9, -999.00,9,-999.000,9,-999.000,9,  -999.0,9,  -999.0,9,-999.000,9,-999.0000,9, -999.00,9, -999.00,9,  -999.0,9,  -999.0,    11.4973,-999.0000,-999.000,-999.000
31WTTUNES_3,       P16C,     255,          1,          7,          7,2,19910912,       0508,    -2.1633,  -150.9967,       4849,   767.4,   5.7783,  34.5479,2,  34.5531,2,     77.0,2,    69.3,2, -999.00,9, -999.00,9, -999.00,9, -999.00,9,-999.000,9,-999.000,9,  -999.0,9,  -999.0,9,-999.000,9,-999.0000,9, -999.00,9, -999.00,9,  -999.0,9,  -999.0,     5.7110,-999.0000,-999.000,-999.000
31WTTUNES_3,       P16C,     255,          1,          6,          6,2,19910912,       0508,    -2.1633,  -150.9967,       4849,  1539.0,   2.8503,  34.6073,2,  34.6099,2,    103.9,2,   100.7,2, -999.00,9, -999.00,9, -999.00,9, -999.00,9,-999.000,9,-999.000,9,  -999.0,9,  -999.0,9,-999.000,9,-999.0000,9, -999.00,9, -999.00,9,  -999.0,9,  -999.0,     2.7408,-999.0000,-999.000,-999.000
31WTTUNES_3,       P16C,     255,          1,          5,          5,2,19910912,       0508,    -2.1633,  -150.9967,       4849,  3081.1,   1.6405,  34.6729,2,  34.6747,2,    138.2,2,   141.1,2, -999.00,9, -999.00,9, -999.00,9, -999.00,9,-999.000,9,-999.000,9,  -999.0,9,  -999.0,9,-999.000,9,-999.0000,9, -999.00,9, -999.00,9,  -999.0,9,  -999.0,     1.4129,-999.0000,-999.000,-999.000
31WTTUNES_3,       P16C,     255,          1,          4,          4,3,19910912,       0508,    -2.1633,  -150.9967,       4849,  3589.4,   1.4894,  34.6853,2,  34.9390,4,    152.1,2,   100.9,4, -999.00,9, -999.00,9, -999.00,9, -999.00,9,-999.000,9,-999.000,9,  -999.0,9,  -999.0,9,-999.000,9,-999.0000,9, -999.00,9, -999.00,9,  -999.0,9,  -999.0,     1.2143,-999.0000,-999.000,-999.000
31WTTUNES_3,       P16C,     255,          1,          3,          3,3,19910912,       0508,    -2.1633,  -150.9967,       4849,  4094.5,   1.4022,  34.6927,2,  35.2710,4,    164.2,2,   115.3,4, -999.00,9, -999.00,9, -999.00,9, -999.00,9,-999.000,9,-999.000,9,  -999.0,9,  -999.0,9,-999.000,9,-999.0000,9, -999.00,9, -999.00,9,  -999.0,9,  -999.0,     1.0757,-999.0000,-999.000,-999.000
31WTTUNES_3,       P16C,     255,          1,          2,          2,2,19910912,       0508,    -2.1633,  -150.9967,       4849,  4595.7,   1.3402,  34.6987,2,  34.7020,2,    180.9,2,   181.4,2, -999.00,9, -999.00,9, -999.00,9, -999.00,9,-999.000,9,-999.000,9,  -999.0,9,  -999.0,9,-999.000,9,-999.0000,9, -999.00,9, -999.00,9,  -999.0,9,  -999.0,     0.9591,-999.0000,-999.000,-999.000
31WTTUNES_3,       P16C,     255,          1,          1,          1,2,19910912,       0508,    -2.1633,  -150.9967,       4849,  4893.0,   1.3291,  34.7012,2,  34.7028,2,    186.4,2,   186.3,2, -999.00,9, -999.00,9, -999.00,9, -999.00,9,-999.000,9,-999.000,9,  -999.0,9,  -999.0,9,-999.000,9,-999.0000,9, -999.00,9, -999.00,9,  -999.0,9,  -999.0,     0.9134,-999.0000,-999.000,-999.000