BOTTLE,20211117CCHSIORKP
EXPOCODE,SECT_ID,STNNBR,CASTNO,SAMPNO,BTLNBR,BTLNBR_FLAG_W,DATE,TIME,LATITUDE,LONGITUDE,DEPTH,CTDPRS,CTDTMP,CTDSAL,CTDSAL_FLAG_W,SALNTY,SALNTY_FLAG_W,CTDOXY,CTDOXY_FLAG_W,OXYGEN,OXYGEN_FLAG_W,SILCAT,SILCAT_FLAG_W,NITRAT,NITRAT_FLAG_W,NITRIT,NITRIT_FLAG_W,PHSPHT,PHSPHT_FLAG_W,CFC-11,CFC-11_FLAG_W,CFC-12,CFC-12_FLAG_W,TCARBN,TCARBN_FLAG_W,ALKALI,ALKALI_FLAG_W,TRITUM,TRITUM_FLAG_W,HELIUM,HELIUM_FLAG_W,DELHE3,DELHE3_FLAG_W,DELC13,DELC13_FLAG_W,DELC14,DELC14_FLAG_W,C14ERR,THETA,HELIER,DELHER,TRITER
,,,,,,,,,,,METERS,DBAR,ITS-90,PSS-78,,PSS-78,,UMOL/KG,,UMOL/KG,,UMOL/KG,,UMOL/KG,,UMOL/KG,,UMOL/KG,,PMOL/KG,,PMOL/KG,,UMOL/KG,,UMOL/KG,,TU,,NMOL/KG,,PERCNT,,/MILLE,,/MILLE,,/MILLE,ITS-90,NMOL/KG,PERCNT,TU
31WTTUNES_3,       P16C,     222,          1,         36,         36,2,19910901,       1535,   -16.9942,  -150.4943,       3768,     4.2,  26.6634,  35.9216,2,  35.9765,2,   -999.0,5,   208.4,2,    0.87,2,    0.99,2,    0.00,2,    0.17,2,   1.709,2,   0.993,3,  -999.0,9,  2365.3,2,-999.000,9,-999.0000,9, -999.00,9,    1.63,2,   117.0,2,     3.8,    26.6625,-999.0000,-999.000,-999.000
31WTTUNES_3,       P16C,     222,          1,         35,         35,2,19910901,       1535,   -16.9942,  -150.4943,       3768,    32.0,  26.5467,  36.1157,2,  36.1223,2,   -999.0,5,   207.8,2,    0.88,2,    0.24,2,    0.00,2,    0.17,2,   1.691,2,   0.935,2,  2001.9,2,  2377.0,2,-999.000,9,-999.0000,9, -999.00,9,    1.62,2,   101.9,2,     3.6,    26.5394,-999.0000,-999.000,-999.000
31WTTUNES_3,       P16C,     222,          1,         34,         34,2,19910901,       1535,   -16.9942,  -150.4943,       3768,    56.8,  26.2645,  36.0823,2,  36.0916,2,   -999.0,5,   205.6,2,    0.89,2,    0.24,2,    0.00,2,    0.15,2,   1.697,2,   0.988,2,  -999.0,9,  2369.2,2,   0.988,2,   1.7080,2,   -1.22,2,    1.70,2,   105.0,2,     3.1,    26.2517,   0.0080,   0.150,   0.007
31WTTUNES_3,       P16C,     222,          1,         33,         33,2,19910901,       1535,   -16.9942,  -150.4943,       3768,    82.2,  26.1857,  36.0788,2,  36.0805,2,   -999.0,5,   210.5,2,    0.90,2,    0.20,2,    0.00,2,    0.16,2,   1.660,2,   0.890,2,  1998.6,2,  2378.0,2,-999.000,9,-999.0000,9, -999.00,9,    1.63,2,    88.6,2,     3.3,    26.1672,-999.0000,-999.000,-999.000
31WTTUNES_3,       P16C,     222,          1,         32,         32,2,19910901,       1535,   -16.9942,  -150.4943,       3768,   108.4,  26.1571,  36.0779,2,  36.0803,2,   -999.0,5,   205.6,2,    0.91,2,    0.24,2,    0.00,2,    0.16,2,   1.731,2,   0.937,2,  -999.0,9,  2374.3,2,   0.995,2,   1.7080,2,   -1.08,2,    1.61,2,   117.5,2,     3.6,    26.1328,   0.0080,   0.150,   0.007
31WTTUNES_3,       P16C,     222,          1,         31,         31,2,19910901,       1535,   -16.9942,  -150.4943,       3768,   132.8,  25.6193,  36.0904,2,  36.0912,2,   -999.0,5,   195.9,2,    0.92,2,    0.29,2,    0.05,2,    0.21,2,   1.757,2,   0.958,2,  2021.8,2,  2375.0,2,   0.974,2,   1.7220,2,   -0.85,2,    1.44,2,   121.7,2,     3.0,    25.5900,   0.0080,   0.150,   0.007
31WTTUNES_3,       P16C,     222,          1,         30,         30,2,19910901,       1535,   -16.9942,  -150.4943,       3768,   157.9,  23.9878,  36.0897,2,  36.1033,2,   -999.0,5,   178.7,2,    1.12,2,    1.80,2,    0.04,2,    0.33,2,   1.729,2,   0.961,2,  -999.0,9,  2372.9,2,   0.913,2,   1.7280,2,   -0.52,2,    1.26,2,   125.0,2,     3.2,    23.9543,   0.0080,   0.150,   0.007
31WTTUNES_3,       P16C,     222,          1,         29,         29,2,19910901,       1535,   -16.9942,  -150.4943,       3768,   183.5,  23.5671,  36.1171,2,  36.1320,2,   -999.0,5,   174.3,2,    0.94,2,    2.61,2,    0.03,2,    0.39,2,   1.625,2,   0.884,2,  2065.3,2,  2376.9,2,   0.891,2,   1.7240,2,   -0.31,2,    1.28,2,   119.4,2,     6.4,    23.5289,   0.0080,   0.150,   0.007
31WTTUNES_3,       P16C,     222,          1,         28,         28,2,19910901,       1535,   -16.9942,  -150.4943,       3768,   209.5,  22.4322,  36.0722,2,  36.0788,2,   -999.0,5,   170.7,2,    1.14,2,    3.47,2,    0.02,2,    0.44,2,   1.659,2,   0.886,2,  -999.0,9,  2372.7,2,   0.843,2,   1.7240,2,   -0.36,2,    1.21,2,   122.3,2,     4.1,    22.3899,   0.0080,   0.150,   0.007
31WTTUNES_3,       P16C,     222,          1,         27,         27,2,19910901,       1535,   -16.9942,  -150.4943,       3768,   234.4,  21.4916,  35.9548,2,  35.9674,2,   -999.0,5,   171.0,2,    1.15,2,    4.12,2,    0.01,2,    0.47,2,   1.671,2,   0.892,2,  2080.2,2,  2364.6,2,   0.810,2,   1.7140,2,   -0.50,2,    1.18,2,   149.6,2,     7.6,    21.4458,   0.0080,   0.150,   0.006
31WTTUNES_3,       P16C,     222,          1,         26,         26,2,19910901,       1535,   -16.9942,  -150.4943,       3768,   258.2,  20.2479,  35.7960,2,  35.7590,2,   -999.0,5,   172.7,2,    1.56,2,    4.96,2,    0.01,2,    0.52,2,   1.634,2,   0.899,2,  -999.0,9,  2350.9,2,   0.749,2,   1.7810,2,    0.02,2,    1.20,2,   142.8,2,     7.9,    20.1994,   0.0080,   0.150,   0.006
31WTTUNES_3,       P16C,     222,          1,         25,         25,2,19910901,       1535,   -16.9942,  -150.4943,       3768,   309.2,  17.9885,  35.4818,2,  35.4722,2,   -999.0,5,   172.9,2,    2.17,2,    6.69,2,    0.01,2,    0.63,2,   1.560,6,   0.822,6,  2086.6,2,  2333.6,2,   0.695,2,   1.7430,2,    0.91,2,    1.04,2,   119.2,2,     3.3,    17.9351,   0.0080,   0.150,   0.006
31WTTUNES_3,       P16C,     222,          1,         24,         24,2,19910901,       1535,   -16.9942,  -150.4943,       3768,   358.2,  14.6768,  35.0332,2,  35.1427,2,   -999.0,5,   160.7,2,    4.55,2,   11.22,2,    0.00,2,    0.95,2,   1.250,2,   0.652,2,  -999.0,9,  2305.1,2,   0.547,2,   1.7460,2,    1.36,2,    1.06,2,    92.5,2,     3.7,    14.6230,   0.0080,   0.150,   0.005
31WTTUNES_3,       P16C,     222,          1,         23,         23,2,19910901,       1535,   -16.9942,  -150.4943,       3768,   408.7,  11.8933,  34.7700,2,  34.7020,2,   -999.0,5,   152.2,2,    9.51,2,   19.38,2,    0.00,2,    1.47,2,   0.745,2,   0.386,2,  2145.1,2,  2290.7,2,   0.318,2,   1.7800,2,    1.87,2,    0.86,2,    29.4,2,     5.0,    11.8400,   0.0080,   0.150,   0.004
31WTTUNES_3,       P16C,     222,          1,         22,         22,2,19910901,       1535,   -16.9942,  -150.4943,       3768,   507.7,   7.9104,  34.4715,2,  34.4746,2,   -999.0,5,   139.3,2,   21.21,2,   29.07,2,    0.00,2,    2.06,2,   0.151,4,   0.092,2,  -999.0,9,  2291.1,2,   0.081,2,   1.8000,2,    3.73,2,    0.63,2,   -72.3,2,     2.8,     7.8587,   0.0080,   0.150,   0.002
31WTTUNES_3,       P16C,     222,          1,         21,         21,2,19910901,       1535,   -16.9942,  -150.4943,       3768,   601.8,   6.4778,  34.4182,2,  34.4390,2,   -999.0,5,   150.1,2,   24.59,2,   30.51,2,    0.00,2,    2.12,2,   0.121,2,   0.086,2,  2196.2,2,  2293.9,2,   0.058,2,   1.7780,2,    4.05,2,    0.76,2,   -88.5,2,     3.9,     6.4228,   0.0080,   0.150,   0.002
31WTTUNES_3,       P16C,     222,          1,         20,         20,2,19910901,       1535,   -16.9942,  -150.4943,       3768,   698.1,   5.7386,  34.4421,2,  34.4383,2,   -999.0,5,   147.7,2,   36.30,2,   32.98,2,    0.00,2,    2.27,2,   0.038,2,   0.020,2,  -999.0,9,  2306.9,2,-999.000,9,-999.0000,9, -999.00,9,    0.71,2,  -126.5,2,     2.7,     5.6780,-999.0000,-999.000,-999.000
31WTTUNES_3,       P16C,     222,          1,         19,         19,2,19910901,       1535,   -16.9942,  -150.4943,       3768,   793.6,   4.9133,  34.4612,2,  34.4628,2,   -999.0,5,   146.9,2,   49.60,2,   34.17,2,    0.00,2,    2.35,2,  -0.007,2,  -0.005,2,  2226.9,2,  2318.4,2,   0.005,2,   1.8120,2,   11.54,2,    0.61,2,  -146.2,2,     3.3,     4.8489,   0.0090,   0.150,   0.001
31WTTUNES_3,       P16C,     222,          1,         18,         18,2,19910901,       1535,   -16.9942,  -150.4943,       3768,   890.0,   4.3620,  34.4796,2,  34.4797,2,   -999.0,5,   146.0,2,   60.14,2,   35.06,2,    0.00,2,    2.41,2,  -0.007,2,  -0.005,2,  -999.0,9,  2330.2,2,-999.000,9,-999.0000,9, -999.00,9,    0.51,2,  -149.3,2,     6.0,     4.2930,-999.0000,-999.000,-999.000
31WTTUNES_3,       P16C,     222,          1,         17,         17,2,19910901,       1535,   -16.9942,  -150.4943,       3768,   988.1,   3.8742,  34.5033,2,  34.5005,2,   -999.0,5,   145.4,2,   70.28,2,   35.61,2,    0.00,2,    2.44,2,  -0.008,2,  -0.005,2,  2253.1,2,  2339.4,2,   0.002,2,   1.8250,2,   16.72,2,    0.46,2,  -171.5,2,     2.6,     3.8005,   0.0090,   0.150,   0.001
31WTTUNES_3,       P16C,     222,          1,         16,         16,2,19910901,       1535,   -16.9942,  -150.4943,       3768,  1087.1,   3.6221,  34.5185,2,  34.5217,2,   -999.0,5,   144.0,2,   78.43,2,   35.95,2,    0.00,2,    2.47,2,   0.020,4,   0.007,2,  -999.0,9,  -999.0,9,-999.000,9,-999.0000,9, -999.00,9, -999.00,9,  -999.0,9,  -999.0,     3.5422,-999.0000,-999.000,-999.000
31WTTUNES_3,       P16C,     222,          1,         15,         15,2,19910901,       1535,   -16.9942,  -150.4943,       3768,  1187.4,   3.3202,  34.5359,2,  34.5354,2,   -999.0,5,   143.9,2,   84.42,2,   36.24,2,    0.00,2,    2.49,2,   0.007,2,   0.000,6,  2269.2,2,  2352.4,2,  -0.002,2,   1.8450,2,   20.18,2,    0.35,2,  -185.3,2,     2.8,     3.2348,   0.0090,   0.150,   0.001
31WTTUNES_3,       P16C,     222,          1,         14,         14,2,19910901,       1535,   -16.9942,  -150.4943,       3768,  1291.8,   3.0705,  34.5560,2,  34.5553,2,   -999.0,5,   145.1,2,   91.19,2,   36.29,2,    0.00,2,    2.49,2,-999.000,9,-999.000,9,  -999.0,9,  2363.7,2,-999.000,9,-999.0000,9, -999.00,9, -999.00,9,  -999.0,9,  -999.0,     2.9790,-999.0000,-999.000,-999.000
31WTTUNES_3,       P16C,     222,          1,         13,         13,2,19910901,       1535,   -16.9942,  -150.4943,       3768,  1396.1,   2.8643,  34.5701,2,  34.5710,2,   -999.0,5,   145.9,2,   97.38,2,   36.34,2,    0.00,2,    2.48,2,  -0.001,2,   0.002,2,  2281.4,2,  2369.0,2,-999.000,9,-999.0000,9, -999.00,9, -999.00,9,  -999.0,9,  -999.0,     2.7665,-999.0000,-999.000,-999.000
31WTTUNES_3,       P16C,     222,          1,         12,         12,2,19910901,       1535,   -16.9942,  -150.4943,       3768,  1608.4,   2.5488,  34.5965,2,  34.5956,2,   -999.0,5,   147.6,2,  104.96,2,   36.29,2,    0.00,2,    2.48,2,-999.000,9,-999.000,9,  -999.0,9,  2379.3,2,-999.000,9,-999.0000,9, -999.00,9, -999.00,9,  -999.0,9,  -999.0,     2.4373,-999.0000,-999.000,-999.000
31WTTUNES_3,       P16C,     222,          1,         11,         11,2,19910901,       1535,   -16.9942,  -150.4943,       3768,  1818.1,   2.3301,  34.6153,2,  34.6166,2,   -999.0,5,   149.2,2,  111.55,2,   36.19,2,    0.00,2,    2.48,2,   0.003,2,   0.005,2,  2294.5,2,  2375.6,2,-999.000,9,-999.0000,9, -999.00,9, -999.00,9,  -999.0,9,  -999.0,     2.2042,-999.0000,-999.000,-999.000
31WTTUNES_3,       P16C,     222,          1,         10,         10,2,19910901,       1535,   -16.9942,  -150.4943,       3768,  2006.2,   2.1395,  34.6312,2,  34.6331,2,   -999.0,5,   151.8,2,  116.95,2,   36.14,2,    0.00,2,    2.46,2,-999.000,9,-999.000,9,  -999.0,9,  2392.4,2,-999.000,9,-999.0000,9, -999.00,9, -999.00,9,  -999.0,9,  -999.0,     2.0004,-999.0000,-999.000,-999.000
31WTTUNES_3,       P16C,     222,          1,          9,          9,2,19910901,       1535,   -16.9942,  -150.4943,       3768,  2197.5,   2.0014,  34.6437,2,  34.6460,2,   -999.0,5,   154.3,2,  120.36,2,   35.90,2,    0.00,2,    2.45,2,-999.000,9,-999.000,9,  2300.6,2,  2393.6,2,-999.000,9,-999.0000,9, -999.00,9, -999.00,9,  -999.0,9,  -999.0,     1.8482,-999.0000,-999.000,-999.000
31WTTUNES_3,       P16C,     222,          1,          8,          8,2,19910901,       1535,   -16.9942,  -150.4943,       3768,  2405.4,   1.8646,  34.6563,2,  34.6580,2,   -999.0,5,   157.1,2,  124.18,2,   35.79,2,    0.00,2,    2.45,2,   0.006,2,  -0.005,2,  -999.0,9,  2397.0,2,-999.000,9,-999.0000,9, -999.00,9, -999.00,9,  -999.0,9,  -999.0,     1.6953,-999.0000,-999.000,-999.000
31WTTUNES_3,       P16C,     222,          1,          7,          7,2,19910901,       1535,   -16.9942,  -150.4943,       3768,  2621.3,   1.7846,  34.6631,2,  34.6663,2,   -999.0,5,   159.8,2,  125.41,2,   35.54,2,    0.00,2,    2.43,2,-999.000,9,-999.000,9,  2302.8,2,  2397.4,2,-999.000,9,-999.0000,9, -999.00,9, -999.00,9,  -999.0,9,  -999.0,     1.5972,-999.0000,-999.000,-999.000
31WTTUNES_3,       P16C,     222,          1,          6,          6,2,19910901,       1535,   -16.9942,  -150.4943,       3768,  2834.5,   1.7048,  34.6708,2,  34.6745,2,   -999.0,5,   162.8,2,  126.85,2,   35.30,2,    0.00,2,    2.42,2,-999.000,9,-999.000,9,  -999.0,9,  2399.9,2,-999.000,9,-999.0000,9, -999.00,9, -999.00,9,  -999.0,9,  -999.0,     1.4992,-999.0000,-999.000,-999.000
31WTTUNES_3,       P16C,     222,          1,          5,          5,2,19910901,       1535,   -16.9942,  -150.4943,       3768,  3053.4,   1.6215,  34.6771,2,  34.6787,2,   -999.0,5,   166.9,2,  127.09,2,   35.05,2,    0.00,2,    2.40,2,  -0.001,2,   0.006,2,  2298.2,2,  2397.8,2,-999.000,9,-999.0000,9, -999.00,9, -999.00,9,  -999.0,9,  -999.0,     1.3970,-999.0000,-999.000,-999.000
31WTTUNES_3,       P16C,     222,          1,          4,          4,2,19910901,       1535,   -16.9942,  -150.4943,       3768,  3263.7,   1.5713,  34.6812,2,  34.6828,2,   -999.0,5,   169.9,2,  126.93,2,   34.95,2,    0.00,2,    2.39,2,-999.000,9,-999.000,9,  -999.0,9,  2395.8,2,-999.000,9,-999.0000,9, -999.00,9, -999.00,9,  -999.0,9,  -999.0,     1.3273,-999.0000,-999.000,-999.000
31WTTUNES_3,       P16C,     222,          1,          3,          3,2,19910901,       1535,   -16.9942,  -150.4943,       3768,  3474.3,   1.5281,  34.6858,2,  34.6885,2,   -999.0,5,   173.3,2,  126.77,2,   34.70,2,    0.00,2,    2.37,2,-999.000,9,-999.000,9,  2293.2,2,  2394.8,2,-999.000,9,-999.0000,9, -999.00,9, -999.00,9,  -999.0,9,  -999.0,     1.2639,-999.0000,-999.000,-999.000
31WTTUNES_3,       P16C,     222,          1,          2,          2,2,19910901,       1535,   -16.9942,  -150.4943,       3768,  3681.0,   1.5139,  34.6876,2,  34.6881,2,   -999.0,5,   175.7,2,  125.97,2,   34.50,2,    0.00,2,    2.35,2,-999.000,9,-999.000,9,  -999.0,9,  2394.1,2,-999.000,9,-999.0000,9, -999.00,9, -999.00,9,  -999.0,9,  -999.0,     1.2287,-999.0000,-999.000,-999.000
31WTTUNES_3,       P16C,     222,          1,          1,          1,2,19910901,       1535,   -16.9942,  -150.4943,       3768,  3805.0,   1.5180,  34.6889,2,-999.0000,9,   -999.0,5,   175.6,2,  126.26,2,   34.55,2,    0.00,2,    2.36,2,   0.012,4,   0.003,2,  2291.1,2,  2390.0,2,-999.000,9,-999.0000,9, -999.00,9, -999.00,9,  -999.0,9,  -999.0,     1.2195,-999.0000,-999.000,-999.000