BOTTLE,20211117CCHSIORKP
EXPOCODE,SECT_ID,STNNBR,CASTNO,SAMPNO,BTLNBR,BTLNBR_FLAG_W,DATE,TIME,LATITUDE,LONGITUDE,DEPTH,CTDPRS,CTDTMP,CTDSAL,CTDSAL_FLAG_W,SALNTY,SALNTY_FLAG_W,CTDOXY,CTDOXY_FLAG_W,OXYGEN,OXYGEN_FLAG_W,SILCAT,SILCAT_FLAG_W,NITRAT,NITRAT_FLAG_W,NITRIT,NITRIT_FLAG_W,PHSPHT,PHSPHT_FLAG_W,CFC-11,CFC-11_FLAG_W,CFC-12,CFC-12_FLAG_W,TCARBN,TCARBN_FLAG_W,ALKALI,ALKALI_FLAG_W,TRITUM,TRITUM_FLAG_W,HELIUM,HELIUM_FLAG_W,DELHE3,DELHE3_FLAG_W,DELC13,DELC13_FLAG_W,DELC14,DELC14_FLAG_W,C14ERR,THETA,HELIER,DELHER,TRITER
,,,,,,,,,,,METERS,DBAR,ITS-90,PSS-78,,PSS-78,,UMOL/KG,,UMOL/KG,,UMOL/KG,,UMOL/KG,,UMOL/KG,,UMOL/KG,,PMOL/KG,,PMOL/KG,,UMOL/KG,,UMOL/KG,,TU,,NMOL/KG,,PERCNT,,/MILLE,,/MILLE,,/MILLE,ITS-90,NMOL/KG,PERCNT,TU
31WTTUNES_3,       P16C,     306,          1,         36,         36,2,19910925,       0411,    12.8650,  -152.5035,       5581,     7.3,  28.2685,  34.1007,2,  34.0933,2,    199.7,3,   213.9,2,    1.99,2,    0.06,2,    0.00,2,    0.16,2,   1.662,2,   0.932,2,  1901.8,2,  2242.8,2,-999.000,9,-999.0000,9, -999.00,9,    1.43,2,   106.3,2,     3.8,    28.2668,-999.0000,-999.000,-999.000
31WTTUNES_3,       P16C,     306,          1,         35,         35,2,19910925,       0411,    12.8650,  -152.5035,       5581,    38.8,  27.8512,  34.2281,2,  34.2711,2,    204.7,2,   216.2,2,    1.99,2,    0.06,2,    0.00,2,    0.15,2,   1.702,2,   0.983,2,  1916.5,2,  2254.8,2,   1.412,2,   1.7260,2,   -0.84,2,    1.40,2,   101.3,2,     3.4,    27.8421,   0.0080,   0.150,   0.010
31WTTUNES_3,       P16C,     306,          1,         34,         34,2,19910925,       0411,    12.8650,  -152.5035,       5581,    68.4,  22.5427,  34.7779,2,  34.7423,2,    234.9,2,   236.8,2,    1.99,2,    0.06,2,    0.00,2,    0.14,2,   2.140,2,   1.182,2,  1977.1,2,  2300.2,2,   1.909,2,   1.7530,2,   -0.78,2,    1.23,2,   100.4,2,     3.4,    22.5290,   0.0080,   0.150,   0.006
31WTTUNES_3,       P16C,     306,          1,         33,         33,2,19910925,       0411,    12.8650,  -152.5035,       5581,   109.2,  16.7607,  34.5179,2,  34.6893,2,    164.2,2,   186.7,2,    4.56,2,    3.89,2,    0.07,2,    0.49,2,   2.231,2,   1.201,2,  2060.0,2,  2294.8,2,   2.227,2,   1.7690,2,    1.71,2,    0.94,2,   108.9,2,     3.4,    16.7429,   0.0080,   0.150,   0.007
31WTTUNES_3,       P16C,     306,          1,         32,         32,2,19910925,       0411,    12.8650,  -152.5035,       5581,   160.5,  11.4396,  34.3430,2,  34.3144,2,     82.6,2,    93.5,2,   23.51,2,   23.52,2,    0.01,2,    1.85,2,   1.156,2,   0.610,2,  2172.0,2,  2272.6,2,   1.630,2,   1.8040,2,   11.54,2,   -0.20,2,     1.4,2,     3.1,    11.4195,   0.0080,   0.150,   0.006
31WTTUNES_3,       P16C,     306,          1,         31,         31,2,19910925,       0411,    12.8650,  -152.5035,       5581,   211.1,  10.4465,  34.5384,2,  34.5459,2,     31.7,2,    31.7,2,   34.17,2,   31.75,2,    0.01,2,    2.41,2,   0.233,2,   0.146,2,  2251.5,2,  2292.4,2,   0.639,2,   1.8140,2,   10.87,2,   -0.24,2,   -65.3,2,     3.1,    10.4214,   0.0090,   0.150,   0.004
31WTTUNES_3,       P16C,     306,          1,         30,         30,2,19910925,       0411,    12.8650,  -152.5035,       5581,   262.1,   9.8800,  34.5840,2,  34.5938,2,     16.7,2,    23.8,2,   37.73,2,   34.24,2,    0.01,2,    2.53,2,   0.073,6,   0.058,6,  2256.8,2,  2302.5,2,   0.277,2,   1.6560,2,    6.15,2,   -0.19,2,   -81.5,2,     3.5,     9.8499,   0.0080,   0.150,   0.002
31WTTUNES_3,       P16C,     306,          1,         29,         29,2,19910925,       0411,    12.8650,  -152.5035,       5581,   313.7,   9.1942,  34.5760,2,  34.5757,2,     14.5,2,    17.1,2,   42.08,2,   35.38,2,    0.01,2,    2.66,2,   0.026,2,   0.021,2,  2269.6,2,  2304.7,2,   0.131,2,   1.8130,2,    6.64,2,   -0.27,2,   -98.8,2,     2.8,     9.1596,   0.0090,   0.150,   0.002
31WTTUNES_3,       P16C,     306,          1,         28,         28,2,19910925,       0411,    12.8650,  -152.5035,       5581,   414.9,   8.3106,  34.5566,2,  34.5512,2,     23.5,2,    28.8,2,   50.37,2,   37.14,2,    0.00,2,    2.73,2,   0.011,6,   0.016,2,  2276.3,2,  2315.2,2,   0.059,2,   1.8330,2,    7.67,2,   -0.20,6,  -117.5,6,     2.2,     8.2674,   0.0090,   0.150,   0.002
31WTTUNES_3,       P16C,     306,          1,         27,         27,2,19910925,       0411,    12.8650,  -152.5035,       5581,   517.9,   7.2380,  34.5267,2,  34.5270,2,     31.3,2,    35.5,2,   59.27,2,   38.36,2,    0.01,2,    2.80,2,   0.007,2,   0.014,2,  2284.6,2,  2322.8,2,   0.031,2,   1.8430,2,    9.52,2,   -0.14,2,  -137.5,2,     2.5,     7.1878,   0.0090,   0.150,   0.002
31WTTUNES_3,       P16C,     306,          1,         26,         26,2,19910925,       0411,    12.8650,  -152.5035,       5581,   619.2,   6.5154,  34.5235,2,  34.5237,2,     30.9,2,    32.4,2,   68.56,2,   40.17,2,    0.00,2,    2.92,2,   0.003,6,   0.002,6,  2300.9,2,  2334.5,2,   0.019,2,   1.8560,2,   11.20,2,   -0.20,2,  -152.0,2,     2.5,     6.4583,   0.0090,   0.150,   0.001
31WTTUNES_3,       P16C,     306,          1,         25,         25,2,19910925,       0411,    12.8650,  -152.5035,       5581,   722.8,   5.8619,  34.5256,2,  34.5260,2,     31.2,2,    31.9,2,   76.09,2,   41.42,2,    0.00,2,    2.99,2,   0.001,2,  -0.003,2,  2311.6,2,  2340.7,2,-999.000,9,-999.0000,9, -999.00,9, -999.00,9,  -999.0,9,  -999.0,     5.7983,-999.0000,-999.000,-999.000
31WTTUNES_3,       P16C,     306,          1,         24,         24,2,19910925,       0411,    12.8650,  -152.5035,       5581,   825.6,   5.2460,  34.5278,2,  34.5280,2,     39.1,2,    40.1,2,   85.18,2,   41.87,2,    0.00,2,    3.00,2,   0.000,2,   0.001,2,  2318.5,2,  2344.9,2,   0.010,2,   1.8820,2,   14.91,2,   -0.37,2,  -177.6,2,     3.3,     5.1767,   0.0090,   0.150,   0.001
31WTTUNES_3,       P16C,     306,          1,         23,         23,2,19910925,       0411,    12.8650,  -152.5035,       5581,   924.3,   4.7009,  34.5398,2,  34.5388,2,     44.2,2,    43.5,2,   94.29,2,   42.23,2,    0.00,2,    3.03,2,  -0.002,2,   0.002,2,  2326.6,2,  2361.6,2,-999.000,9,-999.0000,9, -999.00,9, -999.00,9,  -999.0,9,  -999.0,     4.6264,-999.0000,-999.000,-999.000
31WTTUNES_3,       P16C,     306,          1,         22,         22,2,19910925,       0411,    12.8650,  -152.5035,       5581,  1028.1,   4.2499,  34.5541,2,  34.5488,2,     50.4,2,    48.6,2,  101.02,2,   42.28,2,    0.00,2,    3.04,2,  -0.002,2,  -0.003,2,  2333.9,2,  2367.7,2,   0.002,2,   1.8800,2,   18.74,2,   -0.26,2,  -198.8,2,     2.4,     4.1698,   0.0090,   0.150,   0.001
31WTTUNES_3,       P16C,     306,          1,         21,         21,2,19910925,       0411,    12.8650,  -152.5035,       5581,  1233.7,   3.6094,  34.5745,2,  34.5714,2,     62.9,2,    61.2,2,  114.68,2,   41.64,2,    0.00,2,    2.98,2,   0.000,2,   0.000,2,  2343.5,2,  2382.5,2,  -0.008,2,   1.8570,2,   21.26,2, -999.00,9,  -999.0,9,  -999.0,     3.5175,   0.0090,   0.150,   0.001
31WTTUNES_3,       P16C,     306,          1,         20,         20,2,19910925,       0411,    12.8650,  -152.5035,       5581,  1439.5,   3.0956,  34.5918,2,  34.5897,2,     68.2,2,    68.9,2,  126.36,2,   41.25,2,    0.00,2,    2.94,2,   0.001,2,   0.004,2,  2351.4,2,  2395.0,2,-999.000,9,   1.8930,2,   22.78,2,   -0.20,2,  -223.6,2,     2.4,     2.9916,-999.0000,-999.000,-999.000
31WTTUNES_3,       P16C,     306,          1,         19,         19,2,19910925,       0411,    12.8650,  -152.5035,       5581,  1644.0,   2.7331,  34.6070,2,  34.6071,2,     76.5,2,    77.1,2,  137.26,2,   40.85,2,    0.00,2,    2.90,2,-999.000,9,-999.000,9,  2357.9,2,  2403.2,2,-999.000,9,   1.8950,2,   23.89,2, -999.00,9,  -999.0,9,  -999.0,     2.6165,-999.0000,-999.000,-999.000
31WTTUNES_3,       P16C,     306,          1,         18,         18,2,19910925,       0411,    12.8650,  -152.5035,       5581,  1850.6,   2.3466,  34.6249,2,  34.6233,2,     87.0,2,    86.2,2,  145.59,2,   40.14,2,    0.01,2,    2.84,2,-999.000,9,-999.000,9,  2359.2,2,  -999.0,9,-999.000,9,-999.0000,9, -999.00,9, -999.00,9,  -999.0,9,  -999.0,     2.2177,-999.0000,-999.000,-999.000
31WTTUNES_3,       P16C,     306,          1,         17,         17,2,19910925,       0411,    12.8650,  -152.5035,       5581,  2056.8,   2.1100,  34.6406,2,  34.6380,2,     98.6,2,    97.8,2,  150.34,2,   39.32,2,    0.00,2,    2.77,2,-999.000,9,-999.000,9,  2357.6,2,  2422.8,2,-999.000,9,   1.9320,3,   25.57,2, -999.00,9,  -999.0,9,  -999.0,     1.9670,-999.0000,-999.000,-999.000
31WTTUNES_3,       P16C,     306,          1,         16,         16,2,19910925,       0411,    12.8650,  -152.5035,       5581,  2263.0,   1.9528,  34.6500,2,  34.6498,2,    105.2,2,   105.2,2,  154.53,2,   39.07,2,    0.00,2,    2.73,2,-999.000,9,-999.000,9,  2357.6,2,  -999.0,9,-999.000,9,   1.9050,2,   26.79,2, -999.00,9,  -999.0,9,  -999.0,     1.7946,-999.0000,-999.000,-999.000
31WTTUNES_3,       P16C,     306,          1,         15,         15,2,19910925,       0411,    12.8650,  -152.5035,       5581,  2416.3,   1.8768,  34.6563,2,  34.6567,2,    109.1,2,   109.7,2,  156.14,2,   38.73,2,    0.00,2,    2.71,2,-999.000,9,-999.000,9,  2355.2,2,  2429.4,2,-999.000,9,-999.0000,9, -999.00,9, -999.00,9,  -999.0,9,  -999.0,     1.7064,-999.0000,-999.000,-999.000
31WTTUNES_3,       P16C,     306,          1,         14,         14,2,19910925,       0411,    12.8650,  -152.5035,       5581,  2571.9,   1.8081,  34.6619,2,  34.6624,2,    112.5,2,   112.6,2,  157.94,2,   38.57,2,    0.01,2,    2.69,2,-999.000,9,-999.000,9,  2358.3,2,  -999.0,9,-999.000,9,   1.9240,2,   27.67,2, -999.00,9,  -999.0,9,  -999.0,     1.6248,-999.0000,-999.000,-999.000
31WTTUNES_3,       P16C,     306,          1,         13,         13,2,19910925,       0411,    12.8650,  -152.5035,       5581,  2726.4,   1.7611,  34.6659,2,  34.6665,2,    115.9,2,   115.8,2,  158.76,2,   38.29,2,    0.00,2,    2.66,2,-999.000,9,-999.000,9,  2355.0,2,  2432.9,2,-999.000,9,-999.0000,9, -999.00,9, -999.00,9,  -999.0,9,  -999.0,     1.5646,-999.0000,-999.000,-999.000
31WTTUNES_3,       P16C,     306,          1,         12,         12,2,19910925,       0411,    12.8650,  -152.5035,       5581,  2881.4,   1.7210,  34.6697,2,  34.6698,2,    119.2,2,   120.4,2,  159.58,2,   37.90,2,    0.00,2,    2.64,2,-999.000,9,-999.000,9,  2355.5,2,  -999.0,9,-999.000,9,   1.9250,2,   27.22,2, -999.00,9,  -999.0,9,  -999.0,     1.5107,-999.0000,-999.000,-999.000
31WTTUNES_3,       P16C,     306,          1,         11,         11,2,19910925,       0411,    12.8650,  -152.5035,       5581,  3086.9,   1.6535,  34.6731,2,  34.6724,2,    123.0,2,   123.6,2,  161.19,2,   37.75,2,    0.00,2,    2.62,2,-999.000,9,-999.000,9,  2351.8,2,  -999.0,9,  -0.001,2,   1.9080,2,   24.78,2, -999.00,9,  -999.0,9,  -999.0,     1.4250,-999.0000,   0.110,   0.001
31WTTUNES_3,       P16C,     306,          1,         10,         10,2,19910925,       0411,    12.8650,  -152.5035,       5581,  3345.9,   1.5853,  34.6770,2,  34.6763,2,    130.6,2,   130.9,2,  161.02,2,   37.26,2,    0.00,2,    2.58,2,-999.000,9,-999.000,9,  2346.3,2,  -999.0,9,-999.000,9,   1.9010,2,   21.41,2, -999.00,9,  -999.0,9,  -999.0,     1.3328,-999.0000,-999.000,-999.000
31WTTUNES_3,       P16C,     306,          1,          9,          9,2,19910925,       0411,    12.8650,  -152.5035,       5581,  3603.0,   1.5351,  34.6799,2,  34.6798,2,    136.9,2,   137.7,2,  159.66,2,   36.78,2,    0.00,2,    2.54,2,-999.000,9,-999.000,9,  2341.1,2,  2431.6,2,-999.000,9,   1.9190,2,   19.48,2, -999.00,9,  -999.0,9,  -999.0,     1.2575,-999.0000,-999.000,-999.000
31WTTUNES_3,       P16C,     306,          1,          8,          8,2,19910925,       0411,    12.8650,  -152.5035,       5581,  3858.3,   1.4839,  34.6846,2,  34.6867,2,    146.9,2,   147.7,2,  154.34,2,   36.14,2,    0.00,2,    2.49,2,-999.000,9,-999.000,9,  2332.2,2,  -999.0,9,-999.000,9,   1.9240,3,   17.38,2, -999.00,9,  -999.0,9,  -999.0,     1.1808,-999.0000,-999.000,-999.000
31WTTUNES_3,       P16C,     306,          1,          7,          7,2,19910925,       0411,    12.8650,  -152.5035,       5581,  4117.2,   1.4300,  34.6895,2,  34.6881,2,    157.7,2,   157.7,2,  148.41,2,   35.45,2,    0.00,2,    2.43,2,-999.000,9,-999.000,9,  2321.6,2,  2422.6,2,   0.001,2,   1.8890,2,   16.30,2, -999.00,9,  -999.0,9,  -999.0,     1.1001,-999.0000,   0.110,   0.001
31WTTUNES_3,       P16C,     306,          1,          6,          6,2,19910925,       0411,    12.8650,  -152.5035,       5581,  4381.3,   1.4027,  34.6928,2,  34.6908,2,    165.2,2,   166.2,2,  143.90,2,   34.91,2,    0.00,2,    2.40,2,-999.000,9,-999.000,9,  2312.8,2,  -999.0,9,-999.000,9,   1.8890,2,   15.72,2, -999.00,9,  -999.0,9,  -999.0,     1.0442,-999.0000,-999.000,-999.000
31WTTUNES_3,       P16C,     306,          1,          5,          5,2,19910925,       0411,    12.8650,  -152.5035,       5581,  4645.6,   1.3784,  34.6954,2,  34.6944,2,    172.6,2,   172.7,2,  140.15,2,   34.46,2,    0.00,2,    2.38,2,-999.000,9,-999.000,9,  2304.6,2,  2408.0,2,-999.000,9,   1.8910,2,   14.76,2, -999.00,9,  -999.0,9,  -999.0,     0.9903,-999.0000,-999.000,-999.000
31WTTUNES_3,       P16C,     306,          1,          4,          4,2,19910925,       0411,    12.8650,  -152.5035,       5581,  4909.5,   1.3827,  34.6968,2,  34.6960,2,    176.5,2,   173.9,2,  138.19,2,   34.12,2,    0.00,2,    2.36,2,-999.000,9,-999.000,9,  2302.9,2,  -999.0,9,-999.000,9,   1.8990,2,   14.04,2, -999.00,9,  -999.0,9,  -999.0,     0.9633,-999.0000,-999.000,-999.000
31WTTUNES_3,       P16C,     306,          1,          3,          3,2,19910925,       0411,    12.8650,  -152.5035,       5581,  5171.4,   1.4060,  34.6974,2,  34.6965,2,    178.6,2,   175.5,2,  137.22,2,   34.07,2,    0.00,2,    2.35,2,-999.000,9,-999.000,9,  2301.7,2,  2405.5,2,  -0.002,2,   1.8910,2,   13.72,2, -999.00,9,  -999.0,9,  -999.0,     0.9539,-999.0000,   0.110,   0.001
31WTTUNES_3,       P16C,     306,          1,          2,          2,2,19910925,       0411,    12.8650,  -152.5035,       5581,  5431.5,   1.4359,  34.6975,2,  34.6963,2,    179.5,2,   176.0,2,  137.05,2,   34.03,2,    0.00,2,    2.34,2,-999.000,9,-999.000,9,  2300.1,2,  -999.0,9,-999.000,9,   1.9150,2,   13.78,2, -999.00,9,  -999.0,9,  -999.0,     0.9503,-999.0000,-999.000,-999.000
31WTTUNES_3,       P16C,     306,          1,          1,          1,2,19910925,       0411,    12.8650,  -152.5035,       5581,  5657.0,   1.4647,  34.6977,2,  34.6969,2,    178.2,2,   177.2,2,  136.88,2,   33.98,2,    0.00,2,    2.33,2,-999.000,9,-999.000,9,  2299.3,2,  2405.3,2,-999.000,9,-999.0000,9, -999.00,9, -999.00,9,  -999.0,9,  -999.0,     0.9493,-999.0000,-999.000,-999.000