BOTTLE,20211117CCHSIORKP
EXPOCODE,SECT_ID,STNNBR,CASTNO,SAMPNO,BTLNBR,BTLNBR_FLAG_W,DATE,TIME,LATITUDE,LONGITUDE,DEPTH,CTDPRS,CTDTMP,CTDSAL,CTDSAL_FLAG_W,SALNTY,SALNTY_FLAG_W,CTDOXY,CTDOXY_FLAG_W,OXYGEN,OXYGEN_FLAG_W,SILCAT,SILCAT_FLAG_W,NITRAT,NITRAT_FLAG_W,NITRIT,NITRIT_FLAG_W,PHSPHT,PHSPHT_FLAG_W,CFC-11,CFC-11_FLAG_W,CFC-12,CFC-12_FLAG_W,TCARBN,TCARBN_FLAG_W,ALKALI,ALKALI_FLAG_W,TRITUM,TRITUM_FLAG_W,HELIUM,HELIUM_FLAG_W,DELHE3,DELHE3_FLAG_W,DELC13,DELC13_FLAG_W,DELC14,DELC14_FLAG_W,C14ERR,THETA,HELIER,DELHER,TRITER
,,,,,,,,,,,METERS,DBAR,ITS-90,PSS-78,,PSS-78,,UMOL/KG,,UMOL/KG,,UMOL/KG,,UMOL/KG,,UMOL/KG,,UMOL/KG,,PMOL/KG,,PMOL/KG,,UMOL/KG,,UMOL/KG,,TU,,NMOL/KG,,PERCNT,,/MILLE,,/MILLE,,/MILLE,ITS-90,NMOL/KG,PERCNT,TU
31WTTUNES_3,       P16C,     320,          1,         36,         36,2,19910930,       0057,    18.5973,  -154.9518,       5245,     7.8,  26.7495,  34.6930,2,  34.6873,2,    212.1,3,   208.8,2,    2.62,2,    0.10,2,    0.00,2,    0.11,2,   1.800,2,   0.995,2,  -999.0,9,  -999.0,9,-999.000,9,-999.0000,9, -999.00,9, -999.00,9,  -999.0,9,  -999.0,    26.7477,-999.0000,-999.000,-999.000
31WTTUNES_3,       P16C,     320,          1,         35,         35,2,19910930,       0057,    18.5973,  -154.9518,       5245,    50.3,  26.2255,  34.7115,2,  34.7329,2,    215.1,2,   215.0,2,    2.40,2,    0.16,2,    0.00,2,    0.11,2,   1.794,6,   1.038,6,  -999.0,9,  -999.0,9,-999.000,9,-999.0000,9, -999.00,9, -999.00,9,  -999.0,9,  -999.0,    26.2142,-999.0000,-999.000,-999.000
31WTTUNES_3,       P16C,     320,          1,         34,         34,2,19910930,       0057,    18.5973,  -154.9518,       5245,    90.6,  24.2037,  35.0063,2,  35.0675,2,    228.6,2,   222.6,2,    2.20,2,    0.16,2,    0.00,2,    0.09,2,   2.024,2,   1.121,2,  -999.0,9,  -999.0,9,-999.000,9,-999.0000,9, -999.00,9, -999.00,9,  -999.0,9,  -999.0,    24.1845,-999.0000,-999.000,-999.000
31WTTUNES_3,       P16C,     320,          1,         33,         33,2,19910930,       0057,    18.5973,  -154.9518,       5245,   130.2,  21.3342,  35.1591,2,  35.1634,2,    206.6,2,   205.4,2,    2.40,2,    0.54,2,    0.10,2,    0.16,2,   1.478,2,   0.819,2,  -999.0,9,  -999.0,9,-999.000,9,-999.0000,9, -999.00,9, -999.00,9,  -999.0,9,  -999.0,    21.3090,-999.0000,-999.000,-999.000
31WTTUNES_3,       P16C,     320,          1,         32,         32,2,19910930,       0057,    18.5973,  -154.9518,       5245,   170.0,  19.1291,  35.0112,2,  35.0014,2,    192.6,2,   188.8,2,    3.63,2,    3.42,2,    0.02,2,    0.33,2,   2.252,6,   1.194,6,  -999.0,9,  -999.0,9,-999.000,9,-999.0000,9, -999.00,9, -999.00,9,  -999.0,9,  -999.0,    19.0987,-999.0000,-999.000,-999.000
31WTTUNES_3,       P16C,     320,          1,         31,         31,2,19910930,       0057,    18.5973,  -154.9518,       5245,   210.4,  16.5610,  34.6498,2,  34.6624,2,    186.8,2,   187.5,2,    6.28,2,    6.59,2,    0.01,2,    0.56,2,   2.295,2,   1.195,2,  -999.0,9,  -999.0,9,-999.000,9,-999.0000,9, -999.00,9, -999.00,9,  -999.0,9,  -999.0,    16.5269,-999.0000,-999.000,-999.000
31WTTUNES_3,       P16C,     320,          1,         30,         30,2,19910930,       0057,    18.5973,  -154.9518,       5245,   251.7,  12.4995,  34.2369,2,  34.3148,2,    145.5,2,   175.9,2,   11.59,2,   12.07,2,    0.00,2,    0.96,2,   2.143,2,   1.109,2,  -999.0,9,  -999.0,9,-999.000,9,-999.0000,9, -999.00,9, -999.00,9,  -999.0,9,  -999.0,    12.4659,-999.0000,-999.000,-999.000
31WTTUNES_3,       P16C,     320,          1,         29,         29,2,19910930,       0057,    18.5973,  -154.9518,       5245,   292.8,  10.0547,  34.1260,2,  34.1397,2,    163.7,2,   156.3,2,   22.82,2,   19.82,2,    0.00,2,    1.53,2,   1.255,2,   0.636,2,  -999.0,9,  -999.0,9,-999.000,9,-999.0000,9, -999.00,9, -999.00,9,  -999.0,9,  -999.0,    10.0208,-999.0000,-999.000,-999.000
31WTTUNES_3,       P16C,     320,          1,         28,         28,2,19910930,       0057,    18.5973,  -154.9518,       5245,   333.5,   9.0014,  34.1165,2,  34.1358,2,    141.6,2,   138.5,2,   31.61,2,   23.80,2,    0.00,2,    1.82,2,   1.735,4,   0.878,4,  -999.0,9,  -999.0,9,-999.000,9,-999.0000,9, -999.00,9, -999.00,9,  -999.0,9,  -999.0,     8.9653,-999.0000,-999.000,-999.000
31WTTUNES_3,       P16C,     320,          1,         27,         27,2,19910930,       0057,    18.5973,  -154.9518,       5245,   384.5,   7.8908,  34.1505,2,  34.1609,2,     96.2,2,    93.0,2,   46.12,2,   29.92,2,    0.00,2,    2.31,2,   0.501,2,   0.277,2,  -999.0,9,  -999.0,9,-999.000,9,-999.0000,9, -999.00,9, -999.00,9,  -999.0,9,  -999.0,     7.8522,-999.0000,-999.000,-999.000
31WTTUNES_3,       P16C,     320,          1,         26,         26,2,19910930,       0057,    18.5973,  -154.9518,       5245,   446.2,   6.6755,  34.1419,2,  34.1521,2,     66.8,2,    62.8,2,   61.86,2,   35.00,2,    0.00,2,    2.66,2,   0.180,4,   0.110,4,  -999.0,9,  -999.0,9,-999.000,9,-999.0000,9, -999.00,9, -999.00,9,  -999.0,9,  -999.0,     6.6347,-999.0000,-999.000,-999.000
31WTTUNES_3,       P16C,     320,          1,         25,         25,2,19910930,       0057,    18.5973,  -154.9518,       5245,   517.1,   6.0940,  34.2443,2,  34.2468,2,     41.7,2,    41.0,2,   70.64,2,   37.65,2,    0.00,2,    2.84,2,   0.077,4,   0.048,4,  -999.0,9,  -999.0,9,-999.000,9,-999.0000,9, -999.00,9, -999.00,9,  -999.0,9,  -999.0,     6.0486,-999.0000,-999.000,-999.000
31WTTUNES_3,       P16C,     320,          1,         24,         24,2,19910930,       0057,    18.5973,  -154.9518,       5245,   619.8,   5.5979,  34.3883,2,  34.3959,2,     28.7,2,    29.9,2,   85.55,2,   40.68,2,    0.00,2,    3.07,2,   0.010,2,   0.009,2,  -999.0,9,  -999.0,9,-999.000,9,-999.0000,9, -999.00,9, -999.00,9,  -999.0,9,  -999.0,     5.5452,-999.0000,-999.000,-999.000
31WTTUNES_3,       P16C,     320,          1,         23,         23,2,19910930,       0057,    18.5973,  -154.9518,       5245,   722.6,   4.9957,  34.4436,2,  34.4502,2,     33.9,2,    34.0,2,   94.33,2,   41.44,2,    0.00,2,    3.06,2,   0.001,2,  -0.005,2,  -999.0,9,  -999.0,9,-999.000,9,-999.0000,9, -999.00,9, -999.00,9,  -999.0,9,  -999.0,     4.9370,-999.0000,-999.000,-999.000
31WTTUNES_3,       P16C,     320,          1,         22,         22,2,19910930,       0057,    18.5973,  -154.9518,       5245,   825.0,   4.6088,  34.4808,2,  34.4842,2,     37.4,2,    39.3,2,  101.90,2,   41.69,2,    0.00,2,    3.06,2,  -0.004,2,  -0.002,2,  -999.0,9,  -999.0,9,-999.000,9,-999.0000,9, -999.00,9, -999.00,9,  -999.0,9,  -999.0,     4.5436,-999.0000,-999.000,-999.000
31WTTUNES_3,       P16C,     320,          1,         21,         21,2,19910930,       0057,    18.5973,  -154.9518,       5245,   927.7,   4.2979,  34.5043,2,  34.5085,2,     41.3,2,    42.4,2,  107.83,2,   41.93,2,    0.00,2,    3.10,2,   0.000,2,   0.003,2,  -999.0,9,  -999.0,9,-999.000,9,-999.0000,9, -999.00,9, -999.00,9,  -999.0,9,  -999.0,     4.2261,-999.0000,-999.000,-999.000
31WTTUNES_3,       P16C,     320,          1,         20,         20,2,19910930,       0057,    18.5973,  -154.9518,       5245,  1030.1,   3.9720,  34.5282,2,  34.5266,2,     46.5,2,    44.2,2,  113.96,2,   42.23,2,    0.00,2,    3.08,2,   0.002,2,   0.001,2,  -999.0,9,  -999.0,9,-999.000,9,-999.0000,9, -999.00,9, -999.00,9,  -999.0,9,  -999.0,     3.8941,-999.0000,-999.000,-999.000
31WTTUNES_3,       P16C,     320,          1,         19,         19,2,19910930,       0057,    18.5973,  -154.9518,       5245,  1133.2,   3.6589,  34.5410,2,  34.5439,2,     49.6,2,    50.1,2,  120.70,2,   42.06,2,    0.00,2,    3.06,2,-999.000,9,-999.000,9,  -999.0,9,  -999.0,9,-999.000,9,-999.0000,9, -999.00,9, -999.00,9,  -999.0,9,  -999.0,     3.5750,-999.0000,-999.000,-999.000
31WTTUNES_3,       P16C,     320,          1,         18,         18,2,19910930,       0057,    18.5973,  -154.9518,       5245,  1338.7,   3.1681,  34.5664,2,  34.5700,2,     60.4,2,    61.5,2,  130.52,2,   41.52,2,    0.00,2,    3.00,2,  -0.001,2,   0.015,3,  -999.0,9,  -999.0,9,-999.000,9,-999.0000,9, -999.00,9, -999.00,9,  -999.0,9,  -999.0,     3.0719,-999.0000,-999.000,-999.000
31WTTUNES_3,       P16C,     320,          1,         17,         17,2,19910930,       0057,    18.5973,  -154.9518,       5245,  1543.8,   2.7438,  34.5894,2,  34.5922,2,     71.3,2,    72.1,2,  140.94,2,   40.98,2,    0.00,2,    2.97,2,   0.004,2,   0.007,2,  -999.0,9,  -999.0,9,-999.000,9,-999.0000,9, -999.00,9, -999.00,9,  -999.0,9,  -999.0,     2.6354,-999.0000,-999.000,-999.000
31WTTUNES_3,       P16C,     320,          1,         16,         16,2,19910930,       0057,    18.5973,  -154.9518,       5245,  1748.5,   2.3634,  34.6073,2,  34.6091,2,     83.1,2,    82.2,2,  147.48,2,   40.44,2,    0.00,2,    2.89,2,-999.000,9,-999.000,9,  -999.0,9,  -999.0,9,-999.000,9,-999.0000,9, -999.00,9, -999.00,9,  -999.0,9,  -999.0,     2.2429,-999.0000,-999.000,-999.000
31WTTUNES_3,       P16C,     320,          1,         15,         15,2,19910930,       0057,    18.5973,  -154.9518,       5245,  1954.0,   2.0798,  34.6289,2,  34.6299,2,     96.0,2,    95.0,2,  154.03,2,   39.53,2,    0.00,2,    2.81,2,-999.000,9,-999.000,9,  -999.0,9,  -999.0,9,-999.000,9,-999.0000,9, -999.00,9, -999.00,9,  -999.0,9,  -999.0,     1.9460,-999.0000,-999.000,-999.000
31WTTUNES_3,       P16C,     320,          1,         14,         14,2,19910930,       0057,    18.5973,  -154.9518,       5245,  2158.3,   1.9417,  34.6390,2,  34.6411,2,    103.1,2,   103.0,2,  156.08,2,   39.05,2,    0.00,2,    2.76,2,-999.000,9,-999.000,9,  -999.0,9,  -999.0,9,-999.000,9,-999.0000,9, -999.00,9, -999.00,9,  -999.0,9,  -999.0,     1.7928,-999.0000,-999.000,-999.000
31WTTUNES_3,       P16C,     320,          1,         13,         13,2,19910930,       0057,    18.5973,  -154.9518,       5245,  2363.1,   1.8068,  34.6505,2,  34.6527,2,    110.4,2,   110.4,2,  158.54,2,   38.62,2,    0.00,2,    2.71,2,-999.000,9,-999.000,9,  -999.0,9,  -999.0,9,-999.000,9,-999.0000,9, -999.00,9, -999.00,9,  -999.0,9,  -999.0,     1.6422,-999.0000,-999.000,-999.000
31WTTUNES_3,       P16C,     320,          1,         12,         12,2,19910930,       0057,    18.5973,  -154.9518,       5245,  2567.9,   1.7057,  34.6580,2,  34.6567,2,    116.5,2,   115.5,2,  160.59,2,   38.14,2,    0.00,2,    2.68,2,-999.000,9,-999.000,9,  -999.0,9,  -999.0,9,-999.000,9,-999.0000,9, -999.00,9, -999.00,9,  -999.0,9,  -999.0,     1.5248,-999.0000,-999.000,-999.000
31WTTUNES_3,       P16C,     320,          1,         11,         11,2,19910930,       0057,    18.5973,  -154.9518,       5245,  2769.4,   1.6196,  34.6647,2,  34.6622,3,    123.0,2,   121.0,2,  162.43,2,   37.86,2,    0.00,2,    2.66,2,-999.000,9,-999.000,9,  -999.0,9,  -999.0,9,-999.000,9,-999.0000,9, -999.00,9, -999.00,9,  -999.0,9,  -999.0,     1.4220,-999.0000,-999.000,-999.000
31WTTUNES_3,       P16C,     320,          1,         10,         10,2,19910930,       0057,    18.5973,  -154.9518,       5245,  2969.7,   1.5718,  34.6705,2,  34.6708,2,    128.2,2,   128.4,2,  161.42,2,   37.43,2,    0.00,2,    2.62,2,-999.000,9,-999.000,9,  -999.0,9,  -999.0,9,-999.000,9,-999.0000,9, -999.00,9, -999.00,9,  -999.0,9,  -999.0,     1.3563,-999.0000,-999.000,-999.000
31WTTUNES_3,       P16C,     320,          1,          9,          9,2,19910930,       0057,    18.5973,  -154.9518,       5245,  3218.4,   1.4904,  34.6758,2,  34.6751,2,    136.6,2,   135.3,2,  160.81,2,   36.89,2,    0.00,2,    2.57,2,-999.000,9,-999.000,9,  -999.0,9,  -999.0,9,-999.000,9,-999.0000,9, -999.00,9, -999.00,9,  -999.0,9,  -999.0,     1.2528,-999.0000,-999.000,-999.000
31WTTUNES_3,       P16C,     320,          1,          8,          8,2,19910930,       0057,    18.5973,  -154.9518,       5245,  3456.7,   1.4574,  34.6798,2,  34.6794,2,    143.0,2,   142.3,2,  158.56,2,   36.47,2,    0.00,2,    2.54,2,-999.000,9,-999.000,9,  -999.0,9,  -999.0,9,-999.000,9,-999.0000,9, -999.00,9, -999.00,9,  -999.0,9,  -999.0,     1.1967,-999.0000,-999.000,-999.000
31WTTUNES_3,       P16C,     320,          1,          7,          7,2,19910930,       0057,    18.5973,  -154.9518,       5245,  3688.9,   1.4485,  34.6823,2,  34.6826,2,    146.9,2,   147.5,2,  156.52,2,   36.15,2,    0.00,2,    2.52,2,-999.000,9,-999.000,9,  -999.0,9,  -999.0,9,-999.000,9,-999.0000,9, -999.00,9, -999.00,9,  -999.0,9,  -999.0,     1.1641,-999.0000,-999.000,-999.000
31WTTUNES_3,       P16C,     320,          1,          6,          6,2,19910930,       0057,    18.5973,  -154.9518,       5245,  3911.7,   1.4396,  34.6851,2,  34.6853,2,    151.5,2,   152.2,2,  154.69,2,   35.88,2,    0.00,2,    2.49,2,-999.000,9,-999.000,9,  -999.0,9,  -999.0,9,-999.000,9,-999.0000,9, -999.00,9, -999.00,9,  -999.0,9,  -999.0,     1.1318,-999.0000,-999.000,-999.000
31WTTUNES_3,       P16C,     320,          1,          5,          5,2,19910930,       0057,    18.5973,  -154.9518,       5245,  4133.0,   1.4505,  34.6863,2,  34.6871,2,    153.8,2,   153.5,2,  154.07,2,   35.76,2,    0.00,2,    2.49,2,-999.000,9,-999.000,9,  -999.0,9,  -999.0,9,-999.000,9,-999.0000,9, -999.00,9, -999.00,9,  -999.0,9,  -999.0,     1.1184,-999.0000,-999.000,-999.000
31WTTUNES_3,       P16C,     320,          1,          4,          4,2,19910930,       0057,    18.5973,  -154.9518,       5245,  4369.5,   1.4616,  34.6879,2,  34.6875,2,    156.4,2,   156.5,2,  152.65,2,   35.59,2,    0.00,2,    2.47,2,-999.000,9,-999.000,9,  -999.0,9,  -999.0,9,-999.000,9,-999.0000,9, -999.00,9, -999.00,9,  -999.0,9,  -999.0,     1.1028,-999.0000,-999.000,-999.000
31WTTUNES_3,       P16C,     320,          1,          3,          3,2,19910930,       0057,    18.5973,  -154.9518,       5245,  4667.0,   1.4733,  34.6897,2,  34.6885,2,    159.9,2,   160.4,2,  150.00,2,   35.26,2,    0.00,2,    2.46,2,-999.000,9,-999.000,9,  -999.0,9,  -999.0,9,-999.000,9,-999.0000,9, -999.00,9, -999.00,9,  -999.0,9,  -999.0,     1.0797,-999.0000,-999.000,-999.000
31WTTUNES_3,       P16C,     320,          1,          2,          2,2,19910930,       0057,    18.5973,  -154.9518,       5245,  4967.5,   1.4853,  34.6914,2,  34.6910,2,    164.3,2,   164.9,2,  147.34,2,   35.09,2,    0.00,2,    2.43,2,-999.000,9,-999.000,9,  -999.0,9,  -999.0,9,-999.000,9,-999.0000,9, -999.00,9, -999.00,9,  -999.0,9,  -999.0,     1.0555,-999.0000,-999.000,-999.000
31WTTUNES_3,       P16C,     320,          1,          1,          1,2,19910930,       0057,    18.5973,  -154.9518,       5245,  5305.0,   1.4861,  34.6939,2,  34.6940,2,    169.9,2,   174.0,2,  143.26,2,   34.66,2,    0.00,2,    2.40,2,-999.000,9,-999.000,9,  -999.0,9,  -999.0,9,-999.000,9,-999.0000,9, -999.00,9, -999.00,9,  -999.0,9,  -999.0,     1.0148,-999.0000,-999.000,-999.000