BOTTLE,20211117CCHSIORKP
EXPOCODE,SECT_ID,STNNBR,CASTNO,SAMPNO,BTLNBR,BTLNBR_FLAG_W,DATE,TIME,LATITUDE,LONGITUDE,DEPTH,CTDPRS,CTDTMP,CTDSAL,CTDSAL_FLAG_W,SALNTY,SALNTY_FLAG_W,CTDOXY,CTDOXY_FLAG_W,OXYGEN,OXYGEN_FLAG_W,SILCAT,SILCAT_FLAG_W,NITRAT,NITRAT_FLAG_W,NITRIT,NITRIT_FLAG_W,PHSPHT,PHSPHT_FLAG_W,CFC-11,CFC-11_FLAG_W,CFC-12,CFC-12_FLAG_W,TCARBN,TCARBN_FLAG_W,ALKALI,ALKALI_FLAG_W,TRITUM,TRITUM_FLAG_W,HELIUM,HELIUM_FLAG_W,DELHE3,DELHE3_FLAG_W,DELC13,DELC13_FLAG_W,DELC14,DELC14_FLAG_W,C14ERR,THETA,HELIER,DELHER,TRITER
,,,,,,,,,,,METERS,DBAR,ITS-90,PSS-78,,PSS-78,,UMOL/KG,,UMOL/KG,,UMOL/KG,,UMOL/KG,,UMOL/KG,,UMOL/KG,,PMOL/KG,,PMOL/KG,,UMOL/KG,,UMOL/KG,,TU,,NMOL/KG,,PERCNT,,/MILLE,,/MILLE,,/MILLE,ITS-90,NMOL/KG,PERCNT,TU
31WTTUNES_3,       P16C,     290,          1,         36,         36,2,19910920,       0422,     4.9960,  -151.0035,       5080,     5.8,  28.9010,  34.4852,2,  34.4834,2,    203.3,3,   212.0,2,    2.02,2,    0.06,2,    0.00,2,    0.15,2,   1.595,2,   0.935,3,  1912.3,2,  2264.5,2,-999.000,9,-999.0000,9, -999.00,9,    1.68,2,    96.0,2,     4.2,    28.8996,-999.0000,-999.000,-999.000
31WTTUNES_3,       P16C,     290,          1,         35,         35,2,19910920,       0422,     4.9960,  -151.0035,       5080,    39.5,  28.7206,  34.7585,2,  34.8013,2,    210.9,2,   215.9,2,    2.43,2,    0.53,2,    0.07,2,    0.23,2,   1.613,2,   0.904,2,  1948.8,2,  2286.9,2,-999.000,5,   1.6780,2,   -0.93,2,    1.59,2,    72.7,2,     7.5,    28.7111,   0.0080,   0.150,-999.000
31WTTUNES_3,       P16C,     290,          1,         34,         34,2,19910920,       0422,     4.9960,  -151.0035,       5080,    79.3,  27.6945,  34.9892,2,  34.9768,2,    190.9,2,   200.0,2,    2.85,2,    2.12,2,    0.53,2,    0.44,2,   1.628,2,   0.889,2,  1989.2,2,  2297.2,2,   1.262,2,   1.7100,2,   -0.72,2,    1.25,2,    88.1,2,     3.8,    27.6760,   0.0080,   0.150,   0.008
31WTTUNES_3,       P16C,     290,          1,         33,         33,2,19910920,       0422,     4.9960,  -151.0035,       5080,   118.3,  26.5673,  34.9166,2,  34.9248,2,    168.8,2,   169.7,2,    4.06,2,    3.95,2,    0.77,2,    0.52,2,   1.572,2,   0.919,3,  2009.9,2,  2288.7,2,   1.363,2,   0.0000,2,    0.00,2,    1.07,2,    99.9,2,     2.8,    26.5405,-999.0000,   0.150,   0.008
31WTTUNES_3,       P16C,     290,          1,         32,         32,2,19910920,       0422,     4.9960,  -151.0035,       5080,   157.8,  20.9628,  34.8470,2,  34.7176,2,    119.0,2,   110.0,2,   13.64,2,   15.95,2,    0.02,2,    1.22,2,   1.273,2,   0.666,2,  2115.3,2,  2286.3,2,   1.604,2,   1.7760,2,    7.12,2,    0.41,6,    65.8,6,     1.9,    20.9326,   0.0080,   0.150,   0.009
31WTTUNES_3,       P16C,     290,          1,         31,         31,2,19910920,       0422,     4.9960,  -151.0035,       5080,   204.4,  12.8334,  34.6310,2,  34.6246,2,     66.1,2,    74.2,2,   24.61,2,   25.02,2,    0.01,2,    1.87,2,   0.691,2,   0.366,2,  2183.8,2,  -999.0,9,   1.089,2,   1.8000,2,    8.94,2,    0.15,2,   -10.7,2,     3.4,    12.8056,   0.0080,   0.150,   0.007
31WTTUNES_3,       P16C,     290,          1,         30,         30,2,19910920,       0422,     4.9960,  -151.0035,       5080,   247.4,  10.4679,  34.6079,2,  34.5940,2,    102.7,2,   103.2,2,   30.61,2,   26.02,2,    0.01,2,    1.90,2,   0.522,2,   0.279,2,  2187.2,2,  2299.5,2,   0.672,2,   1.7960,2,    8.94,2,    0.33,2,   -38.6,2,     2.5,    10.4384,   0.0080,   0.150,   0.006
31WTTUNES_3,       P16C,     290,          1,         29,         29,2,19910920,       0422,     4.9960,  -151.0035,       5080,   295.5,   9.9559,  34.6672,2,  34.6551,2,     94.6,2,   101.7,2,   30.62,2,   27.43,2,    0.01,2,    1.97,2,   0.356,2,   0.198,2,  2197.8,2,  2303.7,2,   0.453,2,   1.8120,2,    7.37,2,    0.40,2,   -48.9,2,     2.5,     9.9216,   0.0090,   0.150,   0.005
31WTTUNES_3,       P16C,     290,          1,         28,         28,2,19910920,       0422,     4.9960,  -151.0035,       5080,   352.7,   9.3484,  34.6509,2,  34.6565,2,     61.4,2,    75.7,2,   33.02,2,   30.74,2,    0.01,2,    2.19,2,   0.211,2,   0.120,2,  2220.1,2,  2303.8,2,   0.290,2,   1.8130,2,    6.98,2,    0.27,2,   -63.5,2,     2.5,     9.3090,   0.0090,   0.150,   0.004
31WTTUNES_3,       P16C,     290,          1,         27,         27,2,19910920,       0422,     4.9960,  -151.0035,       5080,   410.1,   8.8901,  34.6350,2,  34.6453,2,     73.1,2,    75.0,2,   35.62,2,   32.05,2,    0.01,2,    2.28,2,   0.142,2,   0.087,2,  2225.6,2,  2307.1,2,   0.212,2,   1.8240,2,    6.87,2,    0.30,2,   -81.0,2,     2.5,     8.8456,   0.0090,   0.150,   0.003
31WTTUNES_3,       P16C,     290,          1,         26,         26,2,19910920,       0422,     4.9960,  -151.0035,       5080,   461.4,   8.5102,  34.6234,2,  34.6270,2,     69.7,2,    68.0,2,   37.43,2,   33.66,2,    0.01,2,    2.38,2,  -0.008,4,  -0.006,4,  2236.3,2,  2309.3,2,   0.137,2,   0.0000,2,    0.00,2,    0.30,2,   -96.6,2,     2.5,     8.4612,-999.0000,   0.150,   0.003
31WTTUNES_3,       P16C,     290,          1,         25,         25,2,19910920,       0422,     4.9960,  -151.0035,       5080,   512.4,   8.1817,  34.6193,2,  34.6181,2,     33.9,2,    53.7,2,   41.03,2,   35.79,2,    0.00,2,    2.55,2,   0.045,6,   0.029,6,  2253.5,2,  2309.4,2,   0.079,2,   1.8260,2,    6.92,2,    0.08,2,   -98.3,2,     2.7,     8.1284,   0.0090,   0.150,   0.002
31WTTUNES_3,       P16C,     290,          1,         24,         24,2,19910920,       0422,     4.9960,  -151.0035,       5080,   563.6,   7.7578,  34.6062,2,  34.6105,2,     28.2,2,    37.9,2,   45.23,2,   37.93,2,    0.01,2,    2.72,2,   0.017,2,   0.009,2,  2268.2,2,  2314.0,2,   0.045,2,   1.8260,2,    7.52,2, -999.00,9,  -999.0,9,  -999.0,     7.7009,   0.0090,   0.150,   0.002
31WTTUNES_3,       P16C,     290,          1,         23,         23,2,19910920,       0422,     4.9960,  -151.0035,       5080,   614.9,   7.4374,  34.5950,2,  34.6014,2,     32.2,2,    25.5,2,   49.63,2,   39.87,2,    0.00,2,    2.89,2,   0.008,2,   0.006,2,  2285.8,2,  2317.3,2,   0.012,2,   1.8440,2,    8.05,2, -999.00,9,  -999.0,9,  -999.0,     7.3764,   0.0090,   0.150,   0.001
31WTTUNES_3,       P16C,     290,          1,         22,         22,2,19910920,       0422,     4.9960,  -151.0035,       5080,   718.2,   6.7387,  34.5672,2,  34.5659,2,     41.1,2,    40.8,2,   57.03,2,   40.22,2,    0.00,2,    2.90,2,  -0.002,2,   0.001,2,  2287.7,2,  2324.6,2,-999.000,9,-999.0000,9, -999.00,9,    0.03,2,  -136.3,2,     3.0,     6.6708,-999.0000,-999.000,-999.000
31WTTUNES_3,       P16C,     290,          1,         21,         21,2,19910920,       0422,     4.9960,  -151.0035,       5080,   821.9,   5.8873,  34.5504,2,  34.5490,2,     51.1,2,    53.0,2,   67.61,2,   40.62,2,    0.00,2,    2.91,2,   0.104,4,   0.338,4,  2290.5,2,  2335.3,2,   0.007,2,   1.8690,2,   12.63,2, -999.00,9,  -999.0,9,  -999.0,     5.8143,   0.0090,   0.150,   0.001
31WTTUNES_3,       P16C,     290,          1,         20,         20,2,19910920,       0422,     4.9960,  -151.0035,       5080,   923.5,   5.2202,  34.5544,2,  34.5537,2,     41.4,2,    41.8,2,   79.58,2,   42.87,2,    0.00,2,    3.06,2,   0.002,2,  -0.003,2,  2318.2,2,  2348.1,2,-999.000,9,-999.0000,9, -999.00,9, -999.00,9,  -999.0,9,  -999.0,     5.1423,-999.0000,-999.000,-999.000
31WTTUNES_3,       P16C,     290,          1,         19,         19,2,19910920,       0422,     4.9960,  -151.0035,       5080,  1024.7,   4.6969,  34.5607,2,  34.5588,2,     51.7,2,    50.8,2,   89.77,2,   42.43,2,    0.00,2,    3.06,2,  -0.003,2,   0.003,2,  2321.7,2,  2358.7,2,   0.001,2,   1.7150,2,   15.69,2,   -0.05,2,  -179.4,2,     3.8,     4.6136,   0.0080,   0.150,   0.001
31WTTUNES_3,       P16C,     290,          1,         18,         18,2,19910920,       0422,     4.9960,  -151.0035,       5080,  1228.7,   3.9756,  34.5764,2,  34.5736,2,     66.1,2,    65.6,2,  103.93,2,   41.68,2,    0.00,2,    3.00,2,-999.000,9,-999.000,9,  2329.6,2,  2374.8,2,   0.000,2,   1.8980,2,   20.05,2, -999.00,9,  -999.0,9,  -999.0,     3.8807,   0.0090,   0.150,   0.001
31WTTUNES_3,       P16C,     290,          1,         17,         17,2,19910920,       0422,     4.9960,  -151.0035,       5080,  1435.2,   3.3648,  34.5962,2,  34.5938,2,     72.6,2,    71.0,2,  118.69,2,   41.37,2,    0.00,2,    2.98,2,-999.000,9,-999.000,9,  2342.9,2,  -999.0,9,-999.000,9,-999.0000,9, -999.00,9, -999.00,9,  -999.0,9,  -999.0,     3.2583,-999.0000,-999.000,-999.000
31WTTUNES_3,       P16C,     290,          1,         16,         16,2,19910920,       0422,     4.9960,  -151.0035,       5080,  1640.6,   2.9246,  34.6136,2,  34.6109,2,     80.6,2,    79.6,2,  130.27,2,   40.92,2,    0.00,2,    2.93,2,-999.000,9,-999.000,9,  2350.2,2,  2402.6,2,-999.000,9,-999.0000,9, -999.00,9, -999.00,9,  -999.0,9,  -999.0,     2.8057,-999.0000,-999.000,-999.000
31WTTUNES_3,       P16C,     290,          1,         15,         15,2,19910920,       0422,     4.9960,  -151.0035,       5080,  1847.0,   2.5206,  34.6284,2,  34.6264,2,     93.0,2,    91.4,2,  138.47,2,   40.12,2,    0.00,2,    2.85,2,-999.000,9,-999.000,9,  2351.7,2,  -999.0,9,-999.000,9,-999.0000,9, -999.00,9, -999.00,9,  -999.0,9,  -999.0,     2.3894,-999.0000,-999.000,-999.000
31WTTUNES_3,       P16C,     290,          1,         14,         14,2,19910920,       0422,     4.9960,  -151.0035,       5080,  2052.4,   2.2313,  34.6427,2,  34.6405,2,    101.3,2,   101.3,2,  145.25,2,   39.51,2,    0.00,2,    2.80,2,-999.000,9,-999.000,9,  2354.7,2,  2420.4,2,-999.000,9,-999.0000,9, -999.00,9, -999.00,9,  -999.0,9,  -999.0,     2.0868,-999.0000,-999.000,-999.000
31WTTUNES_3,       P16C,     290,          1,         13,         13,2,19910920,       0422,     4.9960,  -151.0035,       5080,  2258.6,   2.0096,  34.6558,2,  34.6535,2,    108.2,2,   108.3,2,  150.25,2,   39.02,2,    0.00,2,    2.75,2,-999.000,9,-999.000,9,  2357.1,2,  -999.0,9,-999.000,9,-999.0000,9, -999.00,9, -999.00,9,  -999.0,9,  -999.0,     1.8508,-999.0000,-999.000,-999.000
31WTTUNES_3,       P16C,     290,          1,         12,         12,2,19910920,       0422,     4.9960,  -151.0035,       5080,  2466.5,   1.8974,  34.6627,2,  34.6620,2,    114.6,2,   114.5,2,  152.85,2,   38.61,2,    0.00,2,    2.72,2,-999.000,9,-999.000,9,  2356.2,2,  -999.0,9,-999.000,9,-999.0000,9, -999.00,9, -999.00,9,  -999.0,9,  -999.0,     1.7221,-999.0000,-999.000,-999.000
31WTTUNES_3,       P16C,     290,          1,         11,         11,2,19910920,       0422,     4.9960,  -151.0035,       5080,  2673.2,   1.8391,  34.6663,2,  34.6673,2,    117.3,2,   118.1,2,  153.86,2,   38.31,2,    0.00,2,    2.68,2,-999.000,9,-999.000,9,  2355.0,2,  2431.5,2,-999.000,9,-999.0000,9, -999.00,9, -999.00,9,  -999.0,9,  -999.0,     1.6459,-999.0000,-999.000,-999.000
31WTTUNES_3,       P16C,     290,          1,         10,         10,2,19910920,       0422,     4.9960,  -151.0035,       5080,  2880.1,   1.7559,  34.6711,2,  34.6708,2,    121.9,2,   121.2,2,  155.88,2,   38.06,2,    0.00,2,    2.66,2,-999.000,9,-999.000,9,  2353.1,2,  -999.0,9,-999.000,9,-999.0000,9, -999.00,9, -999.00,9,  -999.0,9,  -999.0,     1.5449,-999.0000,-999.000,-999.000
31WTTUNES_3,       P16C,     290,          1,          9,          9,2,19910920,       0422,     4.9960,  -151.0035,       5080,  3087.4,   1.6567,  34.6762,2,  34.6775,2,    129.3,2,   129.2,2,  155.49,2,   37.66,2,    0.00,2,    2.62,2,-999.000,9,-999.000,9,  2349.9,2,  2424.6,2,-999.000,9,-999.0000,9, -999.00,9, -999.00,9,  -999.0,9,  -999.0,     1.4281,-999.0000,-999.000,-999.000
31WTTUNES_3,       P16C,     290,          1,          8,          8,2,19910920,       0422,     4.9960,  -151.0035,       5080,  3345.6,   1.5326,  34.6825,2,  34.6828,2,    143.4,2,   143.0,2,  152.72,2,   36.70,2,    0.00,2,    2.54,2,-999.000,9,-999.000,9,  2341.3,2,  -999.0,9,-999.000,9,-999.0000,9, -999.00,9, -999.00,9,  -999.0,9,  -999.0,     1.2813,-999.0000,-999.000,-999.000
31WTTUNES_3,       P16C,     290,          1,          7,          7,2,19910920,       0422,     4.9960,  -151.0035,       5080,  3604.9,   1.4682,  34.6876,2,  34.6873,2,    152.5,2,   152.8,2,  149.34,2,   36.10,2,    0.00,2,    2.49,2,-999.000,9,-999.000,9,  2331.5,2,  2431.0,2,-999.000,9,-999.0000,9, -999.00,9, -999.00,9,  -999.0,9,  -999.0,     1.1921,-999.0000,-999.000,-999.000
31WTTUNES_3,       P16C,     290,          1,          6,          6,2,19910920,       0422,     4.9960,  -151.0035,       5080,  3865.6,   1.4209,  34.6903,2,  34.6910,2,    160.0,2,   160.0,2,  146.16,2,   35.54,2,    0.00,2,    2.45,2,-999.000,9,-999.000,9,  2328.8,2,  -999.0,9,-999.000,9,-999.0000,9, -999.00,9, -999.00,9,  -999.0,9,  -999.0,     1.1185,-999.0000,-999.000,-999.000
31WTTUNES_3,       P16C,     290,          1,          5,          5,2,19910920,       0422,     4.9960,  -151.0035,       5080,  4124.5,   1.3759,  34.6934,2,  34.6965,2,    167.7,2,   167.5,2,  142.78,2,   35.05,2,    0.00,2,    2.41,2,-999.000,9,-999.000,9,  2320.2,2,  2420.1,2,-999.000,9,-999.0000,9, -999.00,9, -999.00,9,  -999.0,9,  -999.0,     1.0468,-999.0000,-999.000,-999.000
31WTTUNES_3,       P16C,     290,          1,          4,          4,2,19910920,       0422,     4.9960,  -151.0035,       5080,  4385.0,   1.3678,  34.6950,2,  34.6961,2,    171.6,2,   171.9,2,  140.81,2,   34.69,2,    0.00,2,    2.40,2,-999.000,9,-999.000,9,  2314.3,2,  -999.0,9,-999.000,9,-999.0000,9, -999.00,9, -999.00,9,  -999.0,9,  -999.0,     1.0100,-999.0000,-999.000,-999.000
31WTTUNES_3,       P16C,     290,          1,          3,          3,2,19910920,       0422,     4.9960,  -151.0035,       5080,  4643.8,   1.3838,  34.6955,2,  34.7003,2,    173.6,2,   173.8,2,  140.03,2,   34.64,2,    0.00,2,    2.39,2,-999.000,9,-999.000,9,  2310.9,2,  2415.5,2,-999.000,9,-999.0000,9, -999.00,9, -999.00,9,  -999.0,9,  -999.0,     0.9957,-999.0000,-999.000,-999.000
31WTTUNES_3,       P16C,     290,          1,          2,          2,2,19910920,       0422,     4.9960,  -151.0035,       5080,  4905.1,   1.4134,  34.6956,2,  34.6983,2,    173.8,2,   174.5,2,  140.45,2,   34.60,2,    0.00,2,    2.39,2,-999.000,9,-999.000,9,  2312.3,2,  -999.0,9,-999.000,9,-999.0000,9, -999.00,9, -999.00,9,  -999.0,9,  -999.0,     0.9935,-999.0000,-999.000,-999.000
31WTTUNES_3,       P16C,     290,          1,          1,          1,2,19910920,       0422,     4.9960,  -151.0035,       5080,  5143.0,   1.4393,  34.6949,2,  34.6999,2,    174.2,2,   177.1,2,  139.86,2,   34.60,2,    0.00,2,    2.39,2,-999.000,9,-999.000,9,  2310.1,2,  2413.1,2,-999.000,9,-999.0000,9, -999.00,9, -999.00,9,  -999.0,9,  -999.0,     0.9896,-999.0000,-999.000,-999.000