BOTTLE,20211117CCHSIORKP
EXPOCODE,SECT_ID,STNNBR,CASTNO,SAMPNO,BTLNBR,BTLNBR_FLAG_W,DATE,TIME,LATITUDE,LONGITUDE,DEPTH,CTDPRS,CTDTMP,CTDSAL,CTDSAL_FLAG_W,SALNTY,SALNTY_FLAG_W,CTDOXY,CTDOXY_FLAG_W,OXYGEN,OXYGEN_FLAG_W,SILCAT,SILCAT_FLAG_W,NITRAT,NITRAT_FLAG_W,NITRIT,NITRIT_FLAG_W,PHSPHT,PHSPHT_FLAG_W,CFC-11,CFC-11_FLAG_W,CFC-12,CFC-12_FLAG_W,TCARBN,TCARBN_FLAG_W,ALKALI,ALKALI_FLAG_W,TRITUM,TRITUM_FLAG_W,HELIUM,HELIUM_FLAG_W,DELHE3,DELHE3_FLAG_W,DELC13,DELC13_FLAG_W,DELC14,DELC14_FLAG_W,C14ERR,THETA,HELIER,DELHER,TRITER
,,,,,,,,,,,METERS,DBAR,ITS-90,PSS-78,,PSS-78,,UMOL/KG,,UMOL/KG,,UMOL/KG,,UMOL/KG,,UMOL/KG,,UMOL/KG,,PMOL/KG,,PMOL/KG,,UMOL/KG,,UMOL/KG,,TU,,NMOL/KG,,PERCNT,,/MILLE,,/MILLE,,/MILLE,ITS-90,NMOL/KG,PERCNT,TU
31WTTUNES_3,       P16C,     316,          1,         36,         36,2,19910928,       1334,    17.6400,  -153.4308,       4930,     7.7,  26.6346,  34.5813,2,  34.5895,2,    214.6,3,   217.0,2,    1.96,2,    0.06,2,    0.00,2,    0.16,2,   1.776,6,   0.987,6,  -999.0,9,  -999.0,9,-999.000,9,-999.0000,9, -999.00,9, -999.00,9,  -999.0,9,  -999.0,    26.6329,-999.0000,-999.000,-999.000
31WTTUNES_3,       P16C,     316,          1,         35,         35,2,19910928,       1334,    17.6400,  -153.4308,       4930,    49.6,  26.6522,  34.5810,2,  34.5893,2,    212.6,2,   215.5,2,    1.75,2,    0.11,2,    0.00,2,    0.15,2,   1.766,6,   0.995,6,  -999.0,9,  -999.0,9,-999.000,9,-999.0000,9, -999.00,9, -999.00,9,  -999.0,9,  -999.0,    26.6410,-999.0000,-999.000,-999.000
31WTTUNES_3,       P16C,     316,          1,         34,         34,2,19910928,       1334,    17.6400,  -153.4308,       4930,    90.3,  24.3850,  34.7838,2,  34.6883,2,    232.7,2,   234.2,2,    2.15,2,    0.06,2,    0.00,2,    0.14,2,   1.997,2,   1.100,2,  -999.0,9,  -999.0,9,-999.000,9,-999.0000,9, -999.00,9, -999.00,9,  -999.0,9,  -999.0,    24.3659,-999.0000,-999.000,-999.000
31WTTUNES_3,       P16C,     316,          1,         33,         33,2,19910928,       1334,    17.6400,  -153.4308,       4930,   129.3,  21.8295,  34.8436,2,  34.8804,2,    229.1,2,   228.7,2,    2.14,2,    0.11,2,    0.00,2,    0.17,2,   2.165,2,   1.183,2,  -999.0,9,  -999.0,9,-999.000,9,-999.0000,9, -999.00,9, -999.00,9,  -999.0,9,  -999.0,    21.8041,-999.0000,-999.000,-999.000
31WTTUNES_3,       P16C,     316,          1,         32,         32,2,19910928,       1334,    17.6400,  -153.4308,       4930,   170.1,  19.0934,  34.8677,2,  34.8743,2,    189.2,2,   183.6,2,    4.15,2,    3.23,2,    0.04,2,    0.42,2,   2.186,6,   1.177,6,  -999.0,9,  -999.0,9,-999.000,9,-999.0000,9, -999.00,9, -999.00,9,  -999.0,9,  -999.0,    19.0630,-999.0000,-999.000,-999.000
31WTTUNES_3,       P16C,     316,          1,         31,         31,2,19910928,       1334,    17.6400,  -153.4308,       4930,   210.7,  15.2298,  34.4458,2,  34.5166,2,    145.0,2,   151.5,2,    8.79,2,   10.84,2,    0.01,2,    0.93,2,   2.027,2,   1.070,2,  -999.0,9,  -999.0,9,-999.000,9,-999.0000,9, -999.00,9, -999.00,9,  -999.0,9,  -999.0,    15.1977,-999.0000,-999.000,-999.000
31WTTUNES_3,       P16C,     316,          1,         30,         30,2,19910928,       1334,    17.6400,  -153.4308,       4930,   249.4,  12.7697,  34.2667,2,  34.3462,2,    184.8,2,   183.6,2,    9.80,2,   10.50,2,    0.00,2,    0.83,2,   2.261,6,   1.166,6,  -999.0,9,  -999.0,9,-999.000,9,-999.0000,9, -999.00,9, -999.00,9,  -999.0,9,  -999.0,    12.7360,-999.0000,-999.000,-999.000
31WTTUNES_3,       P16C,     316,          1,         29,         29,2,19910928,       1334,    17.6400,  -153.4308,       4930,   292.1,  10.4092,  34.1328,2,  34.1528,2,    177.0,2,   177.5,2,   18.67,2,   16.71,2,    0.00,2,    1.27,2,   2.011,6,   1.013,6,  -999.0,9,  -999.0,9,-999.000,9,-999.0000,9, -999.00,9, -999.00,9,  -999.0,9,  -999.0,    10.3746,-999.0000,-999.000,-999.000
31WTTUNES_3,       P16C,     316,          1,         28,         28,2,19910928,       1334,    17.6400,  -153.4308,       4930,   332.0,   9.1027,  34.1116,2,  34.1156,2,    147.9,2,   157.3,2,   26.74,2,   21.35,2,    0.00,2,    1.60,2,   1.509,2,   0.764,2,  -999.0,9,  -999.0,9,-999.000,9,-999.0000,9, -999.00,9, -999.00,9,  -999.0,9,  -999.0,     9.0666,-999.0000,-999.000,-999.000
31WTTUNES_3,       P16C,     316,          1,         27,         27,2,19910928,       1334,    17.6400,  -153.4308,       4930,   370.6,   8.0818,  34.0954,2,  34.1074,2,    127.7,2,   138.8,2,   34.21,2,   24.77,2,    0.00,2,    1.86,2,   1.146,6,   0.575,6,  -999.0,9,  -999.0,9,-999.000,9,-999.0000,9, -999.00,9, -999.00,9,  -999.0,9,  -999.0,     8.0442,-999.0000,-999.000,-999.000
31WTTUNES_3,       P16C,     316,          1,         26,         26,2,19910928,       1334,    17.6400,  -153.4308,       4930,   410.9,   7.1370,  34.0848,2,  34.0872,2,    105.6,2,   105.4,2,   48.94,2,   30.27,2,    0.00,2,    2.24,2,   0.586,2,   0.316,2,  -999.0,9,  -999.0,9,-999.000,9,-999.0000,9, -999.00,9, -999.00,9,  -999.0,9,  -999.0,     7.0981,-999.0000,-999.000,-999.000
31WTTUNES_3,       P16C,     316,          1,         25,         25,2,19910928,       1334,    17.6400,  -153.4308,       4930,   461.5,   6.5135,  34.1525,2,  34.1581,2,     61.8,2,    59.7,2,   62.87,2,   35.37,2,    0.00,2,    2.66,2,   0.189,2,   0.106,2,  -999.0,9,  -999.0,9,-999.000,9,-999.0000,9, -999.00,9, -999.00,9,  -999.0,9,  -999.0,     6.4717,-999.0000,-999.000,-999.000
31WTTUNES_3,       P16C,     316,          1,         24,         24,2,19910928,       1334,    17.6400,  -153.4308,       4930,   510.6,   6.1211,  34.2261,2,  34.2976,2,     38.5,2,    32.8,2,   68.32,2,   37.85,2,    0.00,2,    2.85,2,   0.050,2,   0.032,2,  -999.0,9,  -999.0,9,-999.000,9,-999.0000,9, -999.00,9, -999.00,9,  -999.0,9,  -999.0,     6.0762,-999.0000,-999.000,-999.000
31WTTUNES_3,       P16C,     316,          1,         23,         23,2,19910928,       1334,    17.6400,  -153.4308,       4930,   610.8,   5.8962,  34.4009,2,  34.4008,2,     27.4,2,    27.1,2,   77.60,2,   40.10,2,    0.00,2,    3.00,2,   0.004,2,   0.006,2,  -999.0,9,  -999.0,9,-999.000,9,-999.0000,9, -999.00,9, -999.00,9,  -999.0,9,  -999.0,     5.8429,-999.0000,-999.000,-999.000
31WTTUNES_3,       P16C,     316,          1,         22,         22,2,19910928,       1334,    17.6400,  -153.4308,       4930,   717.8,   5.3554,  34.4739,2,  34.4716,2,     32.2,2,    31.8,2,   84.45,2,   41.21,2,    0.00,2,    3.00,2,   0.002,2,   0.002,2,  -999.0,9,  -999.0,9,-999.000,9,-999.0000,9, -999.00,9, -999.00,9,  -999.0,9,  -999.0,     5.2951,-999.0000,-999.000,-999.000
31WTTUNES_3,       P16C,     316,          1,         21,         21,2,19910928,       1334,    17.6400,  -153.4308,       4930,   822.1,   4.9421,  34.5004,2,  34.5052,2,     29.8,2,    28.6,2,   92.12,2,   42.49,2,    0.00,2,    3.10,2,   0.004,2,   0.000,2,  -999.0,9,  -999.0,9,-999.000,9,-999.0000,9, -999.00,9, -999.00,9,  -999.0,9,  -999.0,     4.8750,-999.0000,-999.000,-999.000
31WTTUNES_3,       P16C,     316,          1,         20,         20,2,19910928,       1334,    17.6400,  -153.4308,       4930,   926.0,   4.5209,  34.5121,2,  34.5129,2,     37.6,2,    35.7,2,  100.40,2,   42.39,2,    0.00,2,    3.07,2,-999.000,9,-999.000,9,  -999.0,9,  -999.0,9,-999.000,9,-999.0000,9, -999.00,9, -999.00,9,  -999.0,9,  -999.0,     4.4476,-999.0000,-999.000,-999.000
31WTTUNES_3,       P16C,     316,          1,         19,         19,2,19910928,       1334,    17.6400,  -153.4308,       4930,  1029.2,   4.1196,  34.5237,2,  34.5252,2,     45.2,2,    44.4,2,  107.46,2,   42.19,2,    0.00,2,    3.04,2,-999.000,9,-999.000,9,  -999.0,9,  -999.0,9,-999.000,9,-999.0000,9, -999.00,9, -999.00,9,  -999.0,9,  -999.0,     4.0405,-999.0000,-999.000,-999.000
31WTTUNES_3,       P16C,     316,          1,         18,         18,2,19910928,       1334,    17.6400,  -153.4308,       4930,  1235.1,   3.4904,  34.5543,2,  34.5535,2,     56.1,2,    55.0,2,  121.58,2,   41.82,2,    0.00,2,    3.00,2,   0.001,2,   0.007,2,  -999.0,9,  -999.0,9,-999.000,9,-999.0000,9, -999.00,9, -999.00,9,  -999.0,9,  -999.0,     3.3995,-999.0000,-999.000,-999.000
31WTTUNES_3,       P16C,     316,          1,         17,         17,2,19910928,       1334,    17.6400,  -153.4308,       4930,  1440.6,   3.0660,  34.5808,2,  34.5802,2,     63.8,2,    62.9,2,  130.88,2,   41.63,2,    0.00,2,    2.97,2,-999.000,9,-999.000,9,  -999.0,9,  -999.0,9,-999.000,9,-999.0000,9, -999.00,9, -999.00,9,  -999.0,9,  -999.0,     2.9624,-999.0000,-999.000,-999.000
31WTTUNES_3,       P16C,     316,          1,         16,         16,2,19910928,       1334,    17.6400,  -153.4308,       4930,  1645.8,   2.6788,  34.5999,2,  34.6012,2,     73.2,2,    73.2,2,  139.75,2,   41.12,2,    0.00,2,    2.92,2,-999.000,9,-999.000,9,  -999.0,9,  -999.0,9,-999.000,9,-999.0000,9, -999.00,9, -999.00,9,  -999.0,9,  -999.0,     2.5626,-999.0000,-999.000,-999.000
31WTTUNES_3,       P16C,     316,          1,         15,         15,2,19910928,       1334,    17.6400,  -153.4308,       4930,  1848.9,   2.3582,  34.6149,2,  34.6146,2,     85.6,2,    84.8,2,  146.42,2,   40.36,2,    0.00,2,    2.85,2,-999.000,9,-999.000,9,  -999.0,9,  -999.0,9,-999.000,9,-999.0000,9, -999.00,9, -999.00,9,  -999.0,9,  -999.0,     2.2293,-999.0000,-999.000,-999.000
31WTTUNES_3,       P16C,     316,          1,         14,         14,2,19910928,       1334,    17.6400,  -153.4308,       4930,  2055.7,   2.1347,  34.6288,2,  34.6303,2,     94.7,2,    94.9,2,  151.86,2,   39.59,2,    0.00,2,    2.80,2,-999.000,9,-999.000,9,  -999.0,9,  -999.0,9,-999.000,9,-999.0000,9, -999.00,9, -999.00,9,  -999.0,9,  -999.0,     1.9914,-999.0000,-999.000,-999.000
31WTTUNES_3,       P16C,     316,          1,         13,         13,2,19910928,       1334,    17.6400,  -153.4308,       4930,  2260.8,   1.9721,  34.6406,2,  34.6417,2,    103.0,2,   103.9,2,  155.90,2,   39.18,2,    0.00,2,    2.75,2,-999.000,9,-999.000,9,  -999.0,9,  -999.0,9,-999.000,9,-999.0000,9, -999.00,9, -999.00,9,  -999.0,9,  -999.0,     1.8138,-999.0000,-999.000,-999.000
31WTTUNES_3,       P16C,     316,          1,         12,         12,2,19910928,       1334,    17.6400,  -153.4308,       4930,  2467.5,   1.8482,  34.6501,2,  34.6508,2,    109.9,2,   110.5,2,  156.50,2,   38.72,2,    0.00,2,    2.72,2,   0.001,2,   0.001,2,  -999.0,9,  -999.0,9,-999.000,9,-999.0000,9, -999.00,9, -999.00,9,  -999.0,9,  -999.0,     1.6736,-999.0000,-999.000,-999.000
31WTTUNES_3,       P16C,     316,          1,         11,         11,2,19910928,       1334,    17.6400,  -153.4308,       4930,  2673.1,   1.7516,  34.6577,2,  34.6567,2,    116.0,2,   115.6,2,  157.91,2,   38.32,2,    0.00,2,    2.67,2,-999.000,9,-999.000,9,  -999.0,9,  -999.0,9,-999.000,9,-999.0000,9, -999.00,9, -999.00,9,  -999.0,9,  -999.0,     1.5602,-999.0000,-999.000,-999.000
31WTTUNES_3,       P16C,     316,          1,         10,         10,2,19910928,       1334,    17.6400,  -153.4308,       4930,  2881.3,   1.6705,  34.6638,2,  34.6724,3,    121.3,2,   122.2,2,  159.33,2,   38.01,2,    0.00,2,    2.65,2,-999.000,9,-999.000,9,  -999.0,9,  -999.0,9,-999.000,9,-999.0000,9, -999.00,9, -999.00,9,  -999.0,9,  -999.0,     1.4613,-999.0000,-999.000,-999.000
31WTTUNES_3,       P16C,     316,          1,          9,          9,2,19910928,       1334,    17.6400,  -153.4308,       4930,  3087.4,   1.6069,  34.6698,2,  34.6696,2,    126.9,2,   126.4,2,  160.53,2,   37.75,2,    0.00,2,    2.61,2,  -0.002,2,  -0.005,2,  -999.0,9,  -999.0,9,-999.000,9,-999.0000,9, -999.00,9, -999.00,9,  -999.0,9,  -999.0,     1.3794,-999.0000,-999.000,-999.000
31WTTUNES_3,       P16C,     316,          1,          8,          8,2,19910928,       1334,    17.6400,  -153.4308,       4930,  3343.6,   1.5498,  34.6750,2,  34.6741,2,    132.5,2,   132.9,2,  160.53,2,   37.25,2,    0.00,2,    2.58,2,-999.000,9,-999.000,9,  -999.0,9,  -999.0,9,-999.000,9,-999.0000,9, -999.00,9, -999.00,9,  -999.0,9,  -999.0,     1.2983,-999.0000,-999.000,-999.000
31WTTUNES_3,       P16C,     316,          1,          7,          7,2,19910928,       1334,    17.6400,  -153.4308,       4930,  3600.3,   1.4968,  34.6790,2,  34.6773,2,    139.6,2,   141.3,2,  158.91,2,   36.65,2,    0.00,2,    2.54,2,-999.000,9,-999.000,9,  -999.0,9,  -999.0,9,-999.000,9,-999.0000,9, -999.00,9, -999.00,9,  -999.0,9,  -999.0,     1.2205,-999.0000,-999.000,-999.000
31WTTUNES_3,       P16C,     316,          1,          6,          6,2,19910928,       1334,    17.6400,  -153.4308,       4930,  3850.2,   1.4678,  34.6830,2,  34.6822,2,    147.3,2,   147.4,2,  156.08,2,   36.14,2,    0.00,2,    2.51,2,   0.004,2,  -0.001,2,  -999.0,9,  -999.0,9,-999.000,9,-999.0000,9, -999.00,9, -999.00,9,  -999.0,9,  -999.0,     1.1660,-999.0000,-999.000,-999.000
31WTTUNES_3,       P16C,     316,          1,          5,          5,2,19910928,       1334,    17.6400,  -153.4308,       4930,  4101.3,   1.4493,  34.6868,2,  34.6850,2,    153.7,2,   154.9,2,  153.45,2,   35.89,2,    0.00,2,    2.48,2,-999.000,9,-999.000,9,  -999.0,9,  -999.0,9,-999.000,9,-999.0000,9, -999.00,9, -999.00,9,  -999.0,9,  -999.0,     1.1207,-999.0000,-999.000,-999.000
31WTTUNES_3,       P16C,     316,          1,          4,          4,2,19910928,       1334,    17.6400,  -153.4308,       4930,  4349.3,   1.4389,  34.6896,2,  34.6875,2,    159.5,2,   161.0,2,  148.80,2,   35.58,2,    0.00,2,    2.46,2,-999.000,9,-999.000,9,  -999.0,9,  -999.0,9,-999.000,9,-999.0000,9, -999.00,9, -999.00,9,  -999.0,9,  -999.0,     1.0829,-999.0000,-999.000,-999.000
31WTTUNES_3,       P16C,     316,          1,          3,          3,2,19910928,       1334,    17.6400,  -153.4308,       4930,  4594.1,   1.4360,  34.6915,2,  34.6908,2,    164.7,2,   164.7,2,  145.77,2,   35.17,2,    0.00,2,    2.42,2,   0.003,2,   0.002,2,  -999.0,9,  -999.0,9,-999.000,9,-999.0000,9, -999.00,9, -999.00,9,  -999.0,9,  -999.0,     1.0520,-999.0000,-999.000,-999.000
31WTTUNES_3,       P16C,     316,          1,          2,          2,2,19910928,       1334,    17.6400,  -153.4308,       4930,  4832.9,   1.4259,  34.6940,2,  34.6912,2,    169.5,2,   172.8,2,  142.54,2,   34.87,2,    0.00,2,    2.40,2,-999.000,9,-999.000,9,  -999.0,9,  -999.0,9,-999.000,9,-999.0000,9, -999.00,9, -999.00,9,  -999.0,9,  -999.0,     1.0142,-999.0000,-999.000,-999.000
31WTTUNES_3,       P16C,     316,          1,          1,          1,2,19910928,       1334,    17.6400,  -153.4308,       4930,  5009.0,   1.4162,  34.6958,2,  34.6936,2,    173.8,2,   179.4,2,  138.90,2,   34.52,2,    0.00,2,    2.38,2,   0.003,6,  -0.002,6,  -999.0,9,  -999.0,9,-999.000,9,-999.0000,9, -999.00,9, -999.00,9,  -999.0,9,  -999.0,     0.9837,-999.0000,-999.000,-999.000