BOTTLE,20211117CCHSIORKP
EXPOCODE,SECT_ID,STNNBR,CASTNO,SAMPNO,BTLNBR,BTLNBR_FLAG_W,DATE,TIME,LATITUDE,LONGITUDE,DEPTH,CTDPRS,CTDTMP,CTDSAL,CTDSAL_FLAG_W,SALNTY,SALNTY_FLAG_W,CTDOXY,CTDOXY_FLAG_W,OXYGEN,OXYGEN_FLAG_W,SILCAT,SILCAT_FLAG_W,NITRAT,NITRAT_FLAG_W,NITRIT,NITRIT_FLAG_W,PHSPHT,PHSPHT_FLAG_W,CFC-11,CFC-11_FLAG_W,CFC-12,CFC-12_FLAG_W,TCARBN,TCARBN_FLAG_W,ALKALI,ALKALI_FLAG_W,TRITUM,TRITUM_FLAG_W,HELIUM,HELIUM_FLAG_W,DELHE3,DELHE3_FLAG_W,DELC13,DELC13_FLAG_W,DELC14,DELC14_FLAG_W,C14ERR,THETA,HELIER,DELHER,TRITER
,,,,,,,,,,,METERS,DBAR,ITS-90,PSS-78,,PSS-78,,UMOL/KG,,UMOL/KG,,UMOL/KG,,UMOL/KG,,UMOL/KG,,UMOL/KG,,PMOL/KG,,PMOL/KG,,UMOL/KG,,UMOL/KG,,TU,,NMOL/KG,,PERCNT,,/MILLE,,/MILLE,,/MILLE,ITS-90,NMOL/KG,PERCNT,TU
31WTTUNES_3,       P16C,     250,          1,         36,         36,2,19910911,       0408,    -3.0072,  -151.0127,       4777,     4.5,  27.5801,  35.4285,2,  35.4210,2,    210.3,3,   215.5,2,    1.62,2,    4.62,2,    0.24,2,    0.57,2,   1.659,2,   0.994,4,  2008.4,2,  2328.6,2,-999.000,9,-999.0000,9, -999.00,9,    1.46,2,    90.0,2,     2.8,    27.5791,-999.0000,-999.000,-999.000
31WTTUNES_3,       P16C,     250,          1,         35,         35,2,19910911,       0408,    -3.0072,  -151.0127,       4777,    59.2,  27.3529,  35.4523,2,  35.4494,2,    207.2,2,   215.1,2,    1.62,2,    4.84,2,    0.23,2,    0.58,2,   1.664,6,   0.931,6,  2009.8,2,  2330.5,2,   1.119,2,   1.6580,2,   -0.96,2,    1.48,2,    83.6,2,     3.4,    27.3392,   0.0080,   0.150,   0.008
31WTTUNES_3,       P16C,     250,          1,         34,         34,2,19910911,       0408,    -3.0072,  -151.0127,       4777,   106.8,  27.2824,  35.4500,2,  35.4417,2,    210.7,2,   213.8,2,    1.83,2,    4.85,2,    0.25,2,    0.58,2,   1.685,2,   0.842,3,  2010.9,2,  2330.7,2,-999.000,9,-999.0000,9, -999.00,9,    1.44,2,    90.0,2,     3.9,    27.2576,-999.0000,-999.000,-999.000
31WTTUNES_3,       P16C,     250,          1,         33,         33,2,19910911,       0408,    -3.0072,  -151.0127,       4777,   135.4,  26.8232,  35.4831,2,  35.8242,2,    208.8,2,   175.3,2,    2.03,2,    2.83,2,    2.34,2,    0.81,2,   1.800,2,   0.978,2,  2074.1,2,  2358.2,2,   0.828,2,   1.6860,2,   -0.64,2, -999.00,9,  -999.0,5,  -999.0,    26.7922,   0.0080,   0.150,   0.007
31WTTUNES_3,       P16C,     250,          1,         32,         32,2,19910911,       0408,    -3.0072,  -151.0127,       4777,   164.2,  14.9549,  35.1383,2,  35.0939,2,     87.0,2,    43.3,2,   15.16,2,   26.33,2,    0.02,2,    1.93,2,   0.700,2,   0.391,2,  2202.7,2,  2313.2,2,   0.478,2,   1.7430,2,    3.93,2,    0.34,2,    26.9,2,     2.6,    14.9301,   0.0080,   0.150,   0.005
31WTTUNES_3,       P16C,     250,          1,         31,         31,2,19910911,       0408,    -3.0072,  -151.0127,       4777,   195.2,  12.7707,  34.9311,2,  34.9303,2,     23.1,2,    23.6,2,   21.73,2,   31.02,2,    0.01,2,    2.20,2,   0.319,2,   0.195,2,  2224.4,2,  2303.1,2,   0.395,2,   1.7710,2,    5.19,2,    0.13,2,   -19.6,2,     3.0,    12.7442,   0.0080,   0.150,   0.005
31WTTUNES_3,       P16C,     250,          1,         30,         30,2,19910911,       0408,    -3.0072,  -151.0127,       4777,   226.5,  12.2874,  34.8871,2,  34.8892,2,     32.8,2,    33.6,2,   22.32,2,   30.56,2,    0.01,2,    2.16,2,   0.276,2,   0.161,2,  2222.3,2,  2304.1,2,   0.346,2,   1.7940,2,    5.25,2,    0.14,2,   -24.9,2,     2.4,    12.2575,   0.0080,   0.150,   0.004
31WTTUNES_3,       P16C,     250,          1,         29,         29,2,19910911,       0408,    -3.0072,  -151.0127,       4777,   259.4,  11.7283,  34.8370,2,  34.8367,2,     53.1,2,    54.6,2,   23.53,2,   29.51,2,    0.01,2,    2.07,2,   0.306,2,   0.179,2,  2212.1,2,  -999.0,9,   0.358,2,   1.7910,2,    5.44,2,    0.21,2,   -31.6,2,     2.7,    11.6949,   0.0080,   0.150,   0.004
31WTTUNES_3,       P16C,     250,          1,         28,         28,2,19910911,       0408,    -3.0072,  -151.0127,       4777,   311.7,  11.4818,  34.8240,2,  34.8151,2,     61.8,2,    57.4,2,   24.33,2,   29.91,2,    0.01,2,    2.09,2,   0.270,2,   0.156,2,  2217.3,2,  2302.2,2,   0.335,2,   1.8010,2,    5.45,2,    0.27,2,   -33.0,2,     2.5,    11.4423,   0.0080,   0.150,   0.004
31WTTUNES_3,       P16C,     250,          1,         27,         27,2,19910911,       0408,    -3.0072,  -151.0127,       4777,   363.7,  11.1875,  34.8102,2,  34.8017,2,     65.8,2,    88.9,2,   22.35,2,   27.38,2,    0.01,2,    1.92,2,   0.333,2,   0.187,2,  2195.8,2,  2304.8,2,   0.301,2,   1.8030,2,    4.95,2,    0.46,2,  -999.0,5,  -999.0,    11.1420,   0.0080,   0.150,   0.004
31WTTUNES_3,       P16C,     250,          1,         26,         26,2,19910911,       0408,    -3.0072,  -151.0127,       4777,   414.9,  10.6019,  34.7817,2,  34.7431,2,     90.0,2,    31.4,2,   30.91,2,   34.67,2,    0.01,2,    2.46,2,   0.080,2,   0.049,2,  2251.2,2,  -999.0,9,   0.100,2,   1.8070,2,    4.95,2,    0.13,2,   -85.6,2,     3.7,    10.5515,   0.0090,   0.150,   0.003
31WTTUNES_3,       P16C,     250,          1,         25,         25,2,19910911,       0408,    -3.0072,  -151.0127,       4777,   465.1,   9.5157,  34.7170,2,  34.6745,2,     21.3,2,    19.6,2,   38.07,2,   38.55,2,    0.01,2,    2.70,2,   0.015,6,   0.005,6,  2268.4,2,  2306.6,2,   0.027,2,   1.8150,2,    5.60,2,    0.04,2,  -102.7,2,     4.5,     9.4628,   0.0090,   0.150,   0.002
31WTTUNES_3,       P16C,     250,          1,         24,         24,2,19910911,       0408,    -3.0072,  -151.0127,       4777,   516.2,   8.4903,  34.6607,2,  34.6323,2,     18.3,2,    26.7,2,   42.26,2,   39.65,2,    0.01,2,    2.79,2,   0.013,2,   0.008,2,  2273.7,2,  -999.0,9,   0.016,2,   1.8260,2,    6.57,2,    0.05,2,  -106.8,2,     2.6,     8.4353,   0.0090,   0.150,   0.001
31WTTUNES_3,       P16C,     250,          1,         23,         23,2,19910911,       0408,    -3.0072,  -151.0127,       4777,   567.5,   7.6987,  34.6190,2,  34.5954,2,     28.2,2,    42.5,2,   46.45,2,   40.09,2,    0.01,2,    2.78,2,   0.002,6,   0.004,6,  2273.4,2,  2313.6,2,   0.009,2,   1.8400,2,    8.04,2, -999.00,9,  -999.0,9,  -999.0,     7.6415,   0.0090,   0.150,   0.001
31WTTUNES_3,       P16C,     250,          1,         22,         22,2,19910911,       0408,    -3.0072,  -151.0127,       4777,   618.8,   6.9502,  34.5843,2,  34.5775,2,     46.4,2,    52.6,2,   50.03,2,   40.05,2,    0.00,2,    2.78,2,   0.004,2,   0.001,2,  2272.2,2,  2319.6,2,   0.005,2,   1.8450,2,    9.18,2,    0.22,2,  -123.9,2,     3.4,     6.8911,   0.0090,   0.150,   0.001
31WTTUNES_3,       P16C,     250,          1,         21,         21,2,19910911,       0408,    -3.0072,  -151.0127,       4777,   720.1,   6.0700,  34.5556,2,  34.5553,2,     65.7,2,    67.6,2,   57.19,2,   39.60,2,    0.00,2,    2.77,2,   0.001,2,  -0.005,2,  2272.3,2,  2325.0,2,-999.000,9,-999.0000,9, -999.00,9, -999.00,9,  -999.0,9,  -999.0,     6.0056,-999.0000,-999.000,-999.000
31WTTUNES_3,       P16C,     250,          1,         20,         20,2,19910911,       0408,    -3.0072,  -151.0127,       4777,   822.3,   5.6776,  34.5564,2,  34.5551,2,     63.0,2,    63.0,2,   66.35,2,   40.59,2,    0.00,2,    2.85,2,  -0.003,2,  -0.005,2,  2287.7,2,  2334.8,2,   0.001,2,   1.8680,2,   13.11,2,    0.08,2,  -144.1,2,     2.4,     5.6059,   0.0090,   0.150,   0.001
31WTTUNES_3,       P16C,     250,          1,         19,         19,2,19910911,       0408,    -3.0072,  -151.0127,       4777,   924.3,   4.9261,  34.5494,2,  34.5484,2,     78.4,2,    79.9,2,   75.92,2,   39.83,2,    0.00,2,    2.81,2,  -0.003,2,  -0.005,2,  2290.2,2,  2345.7,2,-999.000,9,-999.0000,9, -999.00,9, -999.00,9,  -999.0,9,  -999.0,     4.8500,-999.0000,-999.000,-999.000
31WTTUNES_3,       P16C,     250,          1,         18,         18,2,19910911,       0408,    -3.0072,  -151.0127,       4777,  1026.3,   4.4808,  34.5536,2,  34.5529,2,     85.6,2,    85.9,2,   83.28,2,   39.52,2,    0.00,2,    2.80,2,  -0.002,2,   0.001,2,  2298.3,2,  2355.9,2,  -0.001,2,   1.9130,2,   17.09,2,    0.08,2,  -165.6,2,     2.6,     4.3990,   0.0090,   0.150,   0.001
31WTTUNES_3,       P16C,     250,          1,         17,         17,2,19910911,       0408,    -3.0072,  -151.0127,       4777,  1230.8,   3.8333,  34.5720,2,  34.5726,2,     90.4,2,    93.2,2,   99.40,2,   39.21,2,    0.00,2,    2.78,2,   0.000,2,  -0.005,2,  2310.3,2,  -999.0,9,   0.001,2,   1.8610,2,   20.55,2, -999.00,9,  -999.0,9,  -999.0,     3.7395,   0.0090,   0.150,   0.001
31WTTUNES_3,       P16C,     250,          1,         16,         16,2,19910911,       0408,    -3.0072,  -151.0127,       4777,  1436.0,   3.1086,  34.5966,2,  34.5930,2,    101.5,2,   101.1,2,  112.53,2,   38.90,2,    0.00,2,    2.76,2,-999.000,9,-999.000,9,  2321.2,2,  2387.7,2,-999.000,9,   1.9140,3,   23.25,2, -999.00,9,  -999.0,9,  -999.0,     3.0048,-999.0000,-999.000,-999.000
31WTTUNES_3,       P16C,     250,          1,         15,         15,2,19910911,       0408,    -3.0072,  -151.0127,       4777,  1639.4,   2.7076,  34.6139,2,  34.6130,2,    108.9,2,   109.7,2,  122.68,2,   38.49,2,    0.00,2,    2.72,2,-999.000,9,-999.000,9,  2326.7,2,  -999.0,9,-999.000,9,   1.9470,3,   25.35,2, -999.00,9,  -999.0,9,  -999.0,     2.5915,-999.0000,-999.000,-999.000
31WTTUNES_3,       P16C,     250,          1,         14,         14,2,19910911,       0408,    -3.0072,  -151.0127,       4777,  1844.9,   2.3920,  34.6321,2,  34.6315,2,    112.6,2,   112.9,2,  131.64,2,   38.43,2,    0.00,2,    2.70,2,-999.000,9,-999.000,9,  2335.2,2,  2411.3,2,-999.000,9,   1.9360,2,   26.45,2, -999.00,9,  -999.0,9,  -999.0,     2.2629,-999.0000,-999.000,-999.000
31WTTUNES_3,       P16C,     250,          1,         13,         13,2,19910911,       0408,    -3.0072,  -151.0127,       4777,  2050.2,   2.1739,  34.6470,2,  34.6464,2,    111.1,2,   111.2,2,  140.60,2,   38.53,2,    0.00,2,    2.71,2,-999.000,9,-999.000,9,  2343.0,2,  -999.0,9,-999.000,9,-999.0000,5,   27.57,3, -999.00,9,  -999.0,9,  -999.0,     2.0305,-999.0000,-999.000,-999.000
31WTTUNES_3,       P16C,     250,          1,         12,         12,2,19910911,       0408,    -3.0072,  -151.0127,       4777,  2255.1,   2.0203,  34.6547,2,  34.6531,2,    117.3,2,   117.4,2,  142.98,2,   38.31,2,    0.00,2,    2.66,2,-999.000,9,-999.000,9,  2342.4,2,  2424.5,2,-999.000,9,   1.9420,2,   27.45,2, -999.00,9,  -999.0,9,  -999.0,     1.8617,-999.0000,-999.000,-999.000
31WTTUNES_3,       P16C,     250,          1,         11,         11,2,19910911,       0408,    -3.0072,  -151.0127,       4777,  2462.1,   1.9402,  34.6584,2,  34.6586,2,    122.5,2,   124.6,2,  142.80,2,   37.80,2,    0.00,2,    2.64,2,-999.000,9,-999.000,9,  2337.7,2,  -999.0,9,-999.000,9,   1.9170,2,   26.72,2, -999.00,9,  -999.0,9,  -999.0,     1.7645,-999.0000,-999.000,-999.000
31WTTUNES_3,       P16C,     250,          1,         10,         10,2,19910911,       0408,    -3.0072,  -151.0127,       4777,  2669.8,   1.8285,  34.6648,2,  34.6641,2,    128.9,2,   130.2,2,  143.99,2,   37.44,2,    0.00,2,    2.59,2,-999.000,9,-999.000,9,  2336.4,2,  2424.6,2,-999.000,9,   1.9270,2,   25.68,2, -999.00,9,  -999.0,9,  -999.0,     1.6358,-999.0000,-999.000,-999.000
31WTTUNES_3,       P16C,     250,          1,          9,          9,2,19910911,       0408,    -3.0072,  -151.0127,       4777,  2876.0,   1.7634,  34.6686,2,  34.6692,2,    133.0,2,   135.4,2,  144.19,2,   37.14,2,    0.00,2,    2.58,2,-999.000,9,-999.000,9,  2334.4,2,  2424.1,2,-999.000,9,   1.9460,3,   25.56,2, -999.00,9,  -999.0,9,  -999.0,     1.5527,-999.0000,-999.000,-999.000
31WTTUNES_3,       P16C,     250,          1,          8,          8,2,19910911,       0408,    -3.0072,  -151.0127,       4777,  3082.2,   1.6668,  34.6742,2,  34.6734,2,    140.6,2,   141.4,2,  144.20,2,   36.78,2,    0.00,2,    2.54,2,-999.000,9,-999.000,9,  2329.9,2,  2422.6,2,-999.000,9,   1.9320,2,   23.11,2, -999.00,9,  -999.0,9,  -999.0,     1.4385,-999.0000,-999.000,-999.000
31WTTUNES_3,       P16C,     250,          1,          7,          7,2,19910911,       0408,    -3.0072,  -151.0127,       4777,  3339.3,   1.5841,  34.6800,2,  34.6818,2,    149.6,2,   150.4,2,  142.41,2,   36.22,2,    0.00,2,    2.49,2,-999.000,9,-999.000,9,  2328.5,2,  -999.0,9,-999.000,9,   1.9410,3,   21.96,2, -999.00,9,  -999.0,9,  -999.0,     1.3322,-999.0000,-999.000,-999.000
31WTTUNES_3,       P16C,     250,          1,          6,          6,2,19910911,       0408,    -3.0072,  -151.0127,       4777,  3593.0,   1.5253,  34.6852,2,  34.6851,2,    154.7,2,   155.3,2,  142.81,2,   35.86,2,    0.00,2,    2.46,2,-999.000,9,-999.000,9,  2323.9,2,  2421.4,2,-999.000,9,-999.0000,5,   19.99,3, -999.00,9,  -999.0,9,  -999.0,     1.2489,-999.0000,-999.000,-999.000
31WTTUNES_3,       P16C,     250,          1,          5,          5,2,19910911,       0408,    -3.0072,  -151.0127,       4777,  3849.1,   1.4539,  34.6905,2,  34.6893,2,    163.4,2,   164.1,2,  139.62,2,   35.20,2,    0.00,2,    2.40,2,-999.000,9,-999.000,9,  2314.5,2,  -999.0,9,-999.000,9,   1.9430,3,   17.72,2, -999.00,9,  -999.0,9,  -999.0,     1.1525,-999.0000,-999.000,-999.000
31WTTUNES_3,       P16C,     250,          1,          4,          4,2,19910911,       0408,    -3.0072,  -151.0127,       4777,  4103.7,   1.3963,  34.6941,2,  34.6934,2,    171.6,2,   169.2,2,  140.03,2,   34.74,2,    0.00,2,    2.39,2,-999.000,9,-999.000,9,  2312.8,2,  2419.1,2,-999.000,9,   1.9340,3,   15.65,2, -999.00,9,  -999.0,9,  -999.0,     1.0689,-999.0000,-999.000,-999.000
31WTTUNES_3,       P16C,     250,          1,          3,          3,2,19910911,       0408,    -3.0072,  -151.0127,       4777,  4361.7,   1.3254,  34.6991,2,  34.6991,2,    180.8,2,   180.8,2,  133.27,2,   34.04,2,    0.00,2,    2.34,2,-999.000,9,-999.000,9,  2298.9,2,  -999.0,9,-999.000,9,   1.9200,3,   14.33,2, -999.00,9,  -999.0,9,  -999.0,     0.9715,-999.0000,-999.000,-999.000
31WTTUNES_3,       P16C,     250,          1,          2,          2,2,19910911,       0408,    -3.0072,  -151.0127,       4777,  4624.3,   1.3364,  34.6999,2,  34.7007,2,    184.1,2,   183.8,2,  131.09,2,   33.86,2,    0.01,2,    2.31,2,-999.000,9,-999.000,9,  2292.8,2,  -999.0,9,-999.000,9,   1.8940,2,   14.26,2, -999.00,9,  -999.0,9,  -999.0,     0.9522,-999.0000,-999.000,-999.000
31WTTUNES_3,       P16C,     250,          1,          1,          1,2,19910911,       0408,    -3.0072,  -151.0127,       4777,  4841.0,   1.3469,  34.7000,6,  34.7011,2,    184.8,2,   185.4,2,  131.10,2,   33.76,2,    0.00,2,    2.29,2,-999.000,9,-999.000,9,  2293.3,2,  2419.1,2,-999.000,9,-999.0000,9, -999.00,9, -999.00,9,  -999.0,9,  -999.0,     0.9369,-999.0000,-999.000,-999.000
31WTTUNES_3,       P16C,     251,          1,         11,         11,2,19910911,       0952,    -2.8420,  -151.0038,       4715,    20.8,  27.3418,  35.4146,2,  35.4227,2,   -999.0,5,   215.8,2, -999.00,9, -999.00,9, -999.00,9, -999.00,9,-999.000,9,-999.000,9,  -999.0,9,  -999.0,9,-999.000,9,-999.0000,9, -999.00,9, -999.00,9,  -999.0,9,  -999.0,    27.3370,-999.0000,-999.000,-999.000
31WTTUNES_3,       P16C,     251,          1,         10,         10,2,19910911,       0952,    -2.8420,  -151.0038,       4715,   227.6,  12.3466,  34.8908,2,  34.8977,2,     33.9,2,    25.9,2, -999.00,9, -999.00,9, -999.00,9, -999.00,9,-999.000,9,-999.000,9,  -999.0,9,  -999.0,9,-999.000,9,-999.0000,9, -999.00,9, -999.00,9,  -999.0,9,  -999.0,    12.3164,-999.0000,-999.000,-999.000
31WTTUNES_3,       P16C,     251,          1,          9,          9,2,19910911,       0952,    -2.8420,  -151.0038,       4715,   389.0,  10.8246,  34.7937,2,  34.7992,2,    100.9,2,    98.7,2, -999.00,9, -999.00,9, -999.00,9, -999.00,9,-999.000,9,-999.000,9,  -999.0,9,  -999.0,9,-999.000,9,-999.0000,9, -999.00,9, -999.00,9,  -999.0,9,  -999.0,    10.7768,-999.0000,-999.000,-999.000
31WTTUNES_3,       P16C,     251,          1,          8,          8,2,19910911,       0952,    -2.8420,  -151.0038,       4715,   508.0,   8.4778,  34.6552,2,  34.6582,2,     23.1,2,    27.8,2, -999.00,9, -999.00,9, -999.00,9, -999.00,9,-999.000,9,-999.000,9,  -999.0,9,  -999.0,9,-999.000,9,-999.0000,9, -999.00,9, -999.00,9,  -999.0,9,  -999.0,     8.4238,-999.0000,-999.000,-999.000
31WTTUNES_3,       P16C,     251,          1,          7,          7,2,19910911,       0952,    -2.8420,  -151.0038,       4715,   790.3,   5.6696,  34.5486,2,  34.5533,2,     74.0,2,    67.6,2, -999.00,9, -999.00,9, -999.00,9, -999.00,9,-999.000,9,-999.000,9,  -999.0,9,  -999.0,9,-999.000,9,-999.0000,9, -999.00,9, -999.00,9,  -999.0,9,  -999.0,     5.6011,-999.0000,-999.000,-999.000
31WTTUNES_3,       P16C,     251,          1,          6,          6,4,19910911,       0952,    -2.8420,  -151.0038,       4715,  1027.4,   4.5657,  34.5485,2,-999.0000,9,     88.3,2,  -999.0,9, -999.00,9, -999.00,9, -999.00,9, -999.00,9,-999.000,9,-999.000,9,  -999.0,9,  -999.0,9,-999.000,9,-999.0000,9, -999.00,9, -999.00,9,  -999.0,9,  -999.0,     4.4834,-999.0000,-999.000,-999.000
31WTTUNES_3,       P16C,     251,          1,          5,          5,2,19910911,       0952,    -2.8420,  -151.0038,       4715,  2095.3,   2.1391,  34.6472,2,  34.6447,2,    111.3,6,   111.1,2, -999.00,9, -999.00,9, -999.00,9, -999.00,9,-999.000,9,-999.000,9,  -999.0,9,  -999.0,9,-999.000,9,-999.0000,9, -999.00,9, -999.00,9,  -999.0,9,  -999.0,     1.9926,-999.0000,-999.000,-999.000
31WTTUNES_3,       P16C,     251,          1,          4,          4,2,19910911,       0952,    -2.8420,  -151.0038,       4715,  3082.6,   1.6780,  34.6753,6,  34.6736,2,    141.3,6,   141.1,2, -999.00,9, -999.00,9, -999.00,9, -999.00,9,-999.000,9,-999.000,9,  -999.0,9,  -999.0,9,-999.000,9,-999.0000,9, -999.00,9, -999.00,9,  -999.0,9,  -999.0,     1.4498,-999.0000,-999.000,-999.000
31WTTUNES_3,       P16C,     251,          1,          3,          3,2,19910911,       0952,    -2.8420,  -151.0038,       4715,  3558.3,   1.5239,  34.6852,6,  34.6859,2,    153.9,6,   153.3,2, -999.00,9, -999.00,9, -999.00,9, -999.00,9,-999.000,9,-999.000,9,  -999.0,9,  -999.0,9,-999.000,9,-999.0000,9, -999.00,9, -999.00,9,  -999.0,9,  -999.0,     1.2517,-999.0000,-999.000,-999.000
31WTTUNES_3,       P16C,     251,          1,          2,          2,3,19910911,       0952,    -2.8420,  -151.0038,       4715,  4071.5,   1.4084,  34.6955,2,  35.1494,4,    169.0,6,   105.8,4, -999.00,9, -999.00,9, -999.00,9, -999.00,9,-999.000,9,-999.000,9,  -999.0,9,  -999.0,9,-999.000,9,-999.0000,9, -999.00,9, -999.00,9,  -999.0,9,  -999.0,     1.0848,-999.0000,-999.000,-999.000
31WTTUNES_3,       P16C,     251,          1,          1,          1,2,19910911,       0952,    -2.8420,  -151.0038,       4715,  4598.6,   1.3323,  34.7015,2,  34.7005,2,    184.2,6,   184.2,2, -999.00,9, -999.00,9, -999.00,9, -999.00,9,-999.000,9,-999.000,9,  -999.0,9,  -999.0,9,-999.000,9,-999.0000,9, -999.00,9, -999.00,9,  -999.0,9,  -999.0,     0.9514,-999.0000,-999.000,-999.000