BOTTLE,20211117CCHSIORKP
EXPOCODE,SECT_ID,STNNBR,CASTNO,SAMPNO,BTLNBR,BTLNBR_FLAG_W,DATE,TIME,LATITUDE,LONGITUDE,DEPTH,CTDPRS,CTDTMP,CTDSAL,CTDSAL_FLAG_W,SALNTY,SALNTY_FLAG_W,CTDOXY,CTDOXY_FLAG_W,OXYGEN,OXYGEN_FLAG_W,SILCAT,SILCAT_FLAG_W,NITRAT,NITRAT_FLAG_W,NITRIT,NITRIT_FLAG_W,PHSPHT,PHSPHT_FLAG_W,CFC-11,CFC-11_FLAG_W,CFC-12,CFC-12_FLAG_W,TCARBN,TCARBN_FLAG_W,ALKALI,ALKALI_FLAG_W,TRITUM,TRITUM_FLAG_W,HELIUM,HELIUM_FLAG_W,DELHE3,DELHE3_FLAG_W,DELC13,DELC13_FLAG_W,DELC14,DELC14_FLAG_W,C14ERR,THETA,HELIER,DELHER,TRITER
,,,,,,,,,,,METERS,DBAR,ITS-90,PSS-78,,PSS-78,,UMOL/KG,,UMOL/KG,,UMOL/KG,,UMOL/KG,,UMOL/KG,,UMOL/KG,,PMOL/KG,,PMOL/KG,,UMOL/KG,,UMOL/KG,,TU,,NMOL/KG,,PERCNT,,/MILLE,,/MILLE,,/MILLE,ITS-90,NMOL/KG,PERCNT,TU
31WTTUNES_3,       P16C,     239,          1,         36,         36,2,19910907,       1426,    -8.5013,  -150.9943,       4051,     5.3,  28.4306,  35.8026,2,  35.8011,2,    214.9,3,   210.2,2,    0.79,2,    1.35,2,    0.03,2,    0.32,2,-999.000,9,-999.000,9,  -999.0,9,  -999.0,9,-999.000,9,-999.0000,9, -999.00,9, -999.00,9,  -999.0,9,  -999.0,    28.4293,-999.0000,-999.000,-999.000
31WTTUNES_3,       P16C,     239,          1,         35,         35,2,19910907,       1426,    -8.5013,  -150.9943,       4051,    47.1,  28.4498,  35.8039,2,  35.8240,2,    209.2,2,   207.6,2,    0.99,2,    1.33,2,    0.04,2,    0.32,2,-999.000,9,-999.000,9,  -999.0,9,  -999.0,9,-999.000,9,-999.0000,9, -999.00,9, -999.00,9,  -999.0,9,  -999.0,    28.4385,-999.0000,-999.000,-999.000
31WTTUNES_3,       P16C,     239,          1,         34,         34,2,19910907,       1426,    -8.5013,  -150.9943,       4051,    87.5,  28.4479,  35.8766,2,  35.9876,2,    207.6,2,   192.4,2,    0.99,2,    1.15,2,    0.36,2,    0.37,2,-999.000,9,-999.000,9,  -999.0,9,  -999.0,9,-999.000,9,-999.0000,9, -999.00,9, -999.00,9,  -999.0,9,  -999.0,    28.4270,-999.0000,-999.000,-999.000
31WTTUNES_3,       P16C,     239,          1,         33,         33,2,19910907,       1426,    -8.5013,  -150.9943,       4051,   126.6,  27.8169,  36.0918,2,  36.2612,2,    196.7,2,   174.3,2,    1.18,2,    1.40,2,    0.43,2,    0.42,2,-999.000,9,-999.000,9,  -999.0,9,  -999.0,9,-999.000,9,-999.0000,9, -999.00,9, -999.00,9,  -999.0,9,  -999.0,    27.7871,-999.0000,-999.000,-999.000
31WTTUNES_3,       P16C,     239,          1,         32,         32,2,19910907,       1426,    -8.5013,  -150.9943,       4051,   167.2,  24.4517,  36.2818,2,  36.2754,2,    172.9,2,   170.8,2,    1.18,2,    4.29,2,    0.02,2,    0.54,2,-999.000,9,-999.000,9,  -999.0,9,  -999.0,9,-999.000,9,-999.0000,9, -999.00,9, -999.00,9,  -999.0,9,  -999.0,    24.4158,-999.0000,-999.000,-999.000
31WTTUNES_3,       P16C,     239,          1,         31,         31,2,19910907,       1426,    -8.5013,  -150.9943,       4051,   206.5,  20.8153,  35.9249,2,  35.9921,2,    165.4,2,   164.2,2,    1.39,2,    5.21,2,    0.01,2,    0.56,2,-999.000,9,-999.000,9,  -999.0,9,  -999.0,9,-999.000,9,-999.0000,9, -999.00,9, -999.00,9,  -999.0,9,  -999.0,    20.7758,-999.0000,-999.000,-999.000
31WTTUNES_3,       P16C,     239,          1,         30,         30,2,19910907,       1426,    -8.5013,  -150.9943,       4051,   256.0,  17.4278,  35.4234,2,  35.3011,2,    135.8,2,   121.9,2,    5.27,2,   12.04,2,    0.01,2,    1.08,2,-999.000,9,-999.000,9,  -999.0,9,  -999.0,9,-999.000,9,-999.0000,9, -999.00,9, -999.00,9,  -999.0,9,  -999.0,    17.3847,-999.0000,-999.000,-999.000
31WTTUNES_3,       P16C,     239,          1,         29,         29,2,19910907,       1426,    -8.5013,  -150.9943,       4051,   307.1,  12.0656,  34.8373,2,  34.8206,2,     61.2,2,    54.1,2,   18.07,2,   26.22,2,    0.00,2,    2.06,2,-999.000,9,-999.000,9,  -999.0,9,  -999.0,9,-999.000,9,-999.0000,9, -999.00,9, -999.00,9,  -999.0,9,  -999.0,    12.0253,-999.0000,-999.000,-999.000
31WTTUNES_3,       P16C,     239,          1,         28,         28,2,19910907,       1426,    -8.5013,  -150.9943,       4051,   360.3,   9.9575,  34.7229,2,  34.7337,2,     70.0,2,    73.4,2,   22.15,2,   28.54,2,    0.02,2,    2.11,2,-999.000,9,-999.000,9,  -999.0,9,  -999.0,9,-999.000,9,-999.0000,9, -999.00,9, -999.00,9,  -999.0,9,  -999.0,     9.9156,-999.0000,-999.000,-999.000
31WTTUNES_3,       P16C,     239,          1,         27,         27,2,19910907,       1426,    -8.5013,  -150.9943,       4051,   411.4,   8.9680,  34.6676,2,  34.6950,2,     82.2,2,    80.4,2,   26.04,2,   31.29,2,    0.01,2,    2.22,2,-999.000,9,-999.000,9,  -999.0,9,  -999.0,9,-999.000,9,-999.0000,9, -999.00,9, -999.00,9,  -999.0,9,  -999.0,     8.9232,-999.0000,-999.000,-999.000
31WTTUNES_3,       P16C,     239,          1,         26,         26,2,19910907,       1426,    -8.5013,  -150.9943,       4051,   462.2,   8.2758,  34.6312,2,  34.6541,2,     86.1,2,    84.8,2,   28.38,2,   31.31,2,    0.00,2,    2.21,2,-999.000,9,-999.000,9,  -999.0,9,  -999.0,9,-999.000,9,-999.0000,9, -999.00,9, -999.00,9,  -999.0,9,  -999.0,     8.2275,-999.0000,-999.000,-999.000
31WTTUNES_3,       P16C,     239,          1,         25,         25,2,19910907,       1426,    -8.5013,  -150.9943,       4051,   513.3,   7.8378,  34.6115,2,  34.6233,2,     81.9,2,    83.9,2,   31.69,2,   34.00,2,    0.00,2,    2.37,2,-999.000,9,-999.000,9,  -999.0,9,  -999.0,9,-999.000,9,-999.0000,9, -999.00,9, -999.00,9,  -999.0,9,  -999.0,     7.7857,-999.0000,-999.000,-999.000
31WTTUNES_3,       P16C,     239,          1,         24,         24,2,19910907,       1426,    -8.5013,  -150.9943,       4051,   564.2,   7.2525,  34.5749,2,  34.6062,2,     90.4,2,    80.8,2,   34.62,2,   35.14,2,    0.00,2,    2.40,2,-999.000,9,-999.000,9,  -999.0,9,  -999.0,9,-999.000,9,-999.0000,9, -999.00,9, -999.00,9,  -999.0,9,  -999.0,     7.1976,-999.0000,-999.000,-999.000
31WTTUNES_3,       P16C,     239,          1,         23,         23,2,19910907,       1426,    -8.5013,  -150.9943,       4051,   615.4,   6.5691,  34.5562,2,  34.5580,2,     85.8,2,    89.5,3,   40.84,2,   36.27,2,    0.00,2,    2.53,2,-999.000,9,-999.000,9,  -999.0,9,  -999.0,9,-999.000,9,-999.0000,9, -999.00,9, -999.00,9,  -999.0,9,  -999.0,     6.5121,-999.0000,-999.000,-999.000
31WTTUNES_3,       P16C,     239,          1,         22,         22,2,19910907,       1426,    -8.5013,  -150.9943,       4051,   666.3,   6.1113,  34.5433,2,  34.5463,2,     83.2,2,    81.3,2,   48.04,2,   38.25,2,    0.00,2,    2.68,2,-999.000,9,-999.000,9,  -999.0,9,  -999.0,9,-999.000,9,-999.0000,9, -999.00,9, -999.00,9,  -999.0,9,  -999.0,     6.0517,-999.0000,-999.000,-999.000
31WTTUNES_3,       P16C,     239,          1,         21,         21,2,19910907,       1426,    -8.5013,  -150.9943,       4051,   718.4,   5.7056,  34.5399,2,  34.5378,2,     88.3,2,    87.0,2,   53.88,2,   38.39,2,    0.00,2,    2.69,2,-999.000,9,-999.000,9,  -999.0,9,  -999.0,9,-999.000,9,-999.0000,9, -999.00,9, -999.00,9,  -999.0,9,  -999.0,     5.6432,-999.0000,-999.000,-999.000
31WTTUNES_3,       P16C,     239,          1,         20,         20,2,19910907,       1426,    -8.5013,  -150.9943,       4051,   770.7,   5.4085,  34.5333,2,  34.5349,2,     95.6,2,    88.8,2,   57.40,2,   38.58,2,    0.00,2,    2.72,2,-999.000,9,-999.000,9,  -999.0,9,  -999.0,9,-999.000,9,-999.0000,9, -999.00,9, -999.00,9,  -999.0,9,  -999.0,     5.3431,-999.0000,-999.000,-999.000
31WTTUNES_3,       P16C,     239,          1,         19,         19,2,19910907,       1426,    -8.5013,  -150.9943,       4051,   820.5,   5.1506,  34.5333,2,  34.5292,2,     98.2,2,    95.1,2,   60.33,2,   38.25,2,    0.00,2,    2.70,2,-999.000,9,-999.000,9,  -999.0,9,  -999.0,9,-999.000,9,-999.0000,9, -999.00,9, -999.00,9,  -999.0,9,  -999.0,     5.0823,-999.0000,-999.000,-999.000
31WTTUNES_3,       P16C,     239,          1,         18,         18,2,19910907,       1426,    -8.5013,  -150.9943,       4051,   923.9,   4.6632,  34.5374,2,  34.5331,2,    103.0,2,   102.1,2,   71.43,2,   38.16,2,    0.00,2,    2.70,2,-999.000,9,-999.000,9,  -999.0,9,  -999.0,9,-999.000,9,-999.0000,9, -999.00,9, -999.00,9,  -999.0,9,  -999.0,     4.5890,-999.0000,-999.000,-999.000
31WTTUNES_3,       P16C,     239,          1,         17,         17,2,19910907,       1426,    -8.5013,  -150.9943,       4051,  1000.8,   4.4026,  34.5402,2,  34.5382,2,    107.4,2,   107.5,2,   77.67,2,   38.16,2,    0.00,2,    2.70,2,-999.000,9,-999.000,9,  -999.0,9,  -999.0,9,-999.000,9,-999.0000,9, -999.00,9, -999.00,9,  -999.0,9,  -999.0,     4.3238,-999.0000,-999.000,-999.000
31WTTUNES_3,       P16C,     239,          1,         16,         16,2,19910907,       1426,    -8.5013,  -150.9943,       4051,  1205.8,   3.7227,  34.5616,2,  34.5608,2,    114.1,2,   112.8,2,   91.68,2,   37.87,2,    0.00,2,    2.69,2,-999.000,9,-999.000,9,  -999.0,9,  -999.0,9,-999.000,9,   1.8780,2,   21.25,2, -999.00,9,  -999.0,9,  -999.0,     3.6320,-999.0000,-999.000,-999.000
31WTTUNES_3,       P16C,     239,          1,         15,         15,2,19910907,       1426,    -8.5013,  -150.9943,       4051,  1410.3,   3.2635,  34.5820,2,  34.5824,2,    116.0,2,   116.6,2,  104.17,2,   37.31,3,    0.00,2,    2.62,3,-999.000,9,-999.000,9,  -999.0,9,  -999.0,9,-999.000,9,   1.8940,2,   23.86,2, -999.00,9,  -999.0,9,  -999.0,     3.1602,-999.0000,-999.000,-999.000
31WTTUNES_3,       P16C,     239,          1,         14,         14,2,19910907,       1426,    -8.5013,  -150.9943,       4051,  1589.2,   2.8609,  34.6003,2,  34.6014,2,    123.0,2,   122.5,2,  111.77,2,   37.35,3,    0.00,2,    2.63,3,-999.000,9,-999.000,9,  -999.0,9,  -999.0,9,-999.000,9,   1.9000,2,   25.42,2, -999.00,9,  -999.0,9,  -999.0,     2.7471,-999.0000,-999.000,-999.000
31WTTUNES_3,       P16C,     239,          1,         13,         13,2,19910907,       1426,    -8.5013,  -150.9943,       4051,  1796.1,   2.5194,  34.6177,2,  34.6179,2,    130.8,2,   132.7,2,  118.22,2,   36.41,3,    0.00,2,    2.56,3,-999.000,9,-999.000,9,  -999.0,9,  -999.0,9,-999.000,9,   1.9180,2,   26.99,2, -999.00,9,  -999.0,9,  -999.0,     2.3926,-999.0000,-999.000,-999.000
31WTTUNES_3,       P16C,     239,          1,         12,         12,2,19910907,       1426,    -8.5013,  -150.9943,       4051,  2002.5,   2.1845,  34.6415,2,  34.6417,2,    133.8,2,   135.0,2,  126.62,2,   34.94,4,    0.00,2,    2.42,4,-999.000,9,-999.000,9,  -999.0,9,  -999.0,9,-999.000,9,   1.9210,2,   28.19,2, -999.00,9,  -999.0,9,  -999.0,     2.0450,-999.0000,-999.000,-999.000
31WTTUNES_3,       P16C,     239,          1,         11,         11,2,19910907,       1426,    -8.5013,  -150.9943,       4051,  2209.3,   2.0075,  34.6546,2,  34.6539,2,    138.2,2,   140.7,2,  131.12,2,   35.34,4,    0.01,2,    2.45,4,-999.000,9,-999.000,9,  -999.0,9,  -999.0,9,-999.000,9,   1.9210,2,   29.43,2, -999.00,9,  -999.0,9,  -999.0,     1.8531,-999.0000,-999.000,-999.000
31WTTUNES_3,       P16C,     239,          1,         10,         10,2,19910907,       1426,    -8.5013,  -150.9943,       4051,  2363.0,   1.9223,  34.6612,2,  34.6616,2,    140.8,2,   141.8,2,  133.48,2,   34.27,4,    0.00,2,    2.34,4,-999.000,9,-999.000,9,  -999.0,9,  -999.0,9,-999.000,9,   1.9170,2,   30.04,2, -999.00,9,  -999.0,9,  -999.0,     1.7558,-999.0000,-999.000,-999.000
31WTTUNES_3,       P16C,     239,          1,          9,          9,2,19910907,       1426,    -8.5013,  -150.9943,       4051,  2543.9,   1.8526,  34.6673,2,-999.0000,9,    143.2,2,   145.2,2,  135.65,2,   36.44,2,    0.00,2,    2.52,2,-999.000,9,-999.000,9,  -999.0,9,  -999.0,9,-999.000,9,   1.9400,2,   29.91,2, -999.00,9,  -999.0,9,  -999.0,     1.6710,-999.0000,-999.000,-999.000
31WTTUNES_3,       P16C,     239,          1,          8,          8,2,19910907,       1426,    -8.5013,  -150.9943,       4051,  2647.1,   1.8022,  34.6714,2,  34.6710,2,    145.1,2,   145.5,2,  137.05,2,   36.16,2,    0.00,2,    2.48,2,-999.000,9,-999.000,9,  -999.0,9,  -999.0,9,-999.000,9,   1.9280,2,   30.51,2, -999.00,9,  -999.0,9,  -999.0,     1.6121,-999.0000,-999.000,-999.000
31WTTUNES_3,       P16C,     239,          1,          7,          7,2,19910907,       1426,    -8.5013,  -150.9943,       4051,  2801.2,   1.7607,  34.6748,2,  34.6773,2,    146.9,2,   148.3,2,  137.66,2,   36.26,2,    0.00,2,    2.51,2,-999.000,9,-999.000,9,  -999.0,9,  -999.0,9,-999.000,9,-999.0000,9, -999.00,9, -999.00,9,  -999.0,9,  -999.0,     1.5571,-999.0000,-999.000,-999.000
31WTTUNES_3,       P16C,     239,          1,          6,          6,2,19910907,       1426,    -8.5013,  -150.9943,       4051,  2982.7,   1.6677,  34.6801,2,  34.6808,2,    150.8,2,   151.9,2,  139.05,2,   36.02,2,    0.00,2,    2.48,2,-999.000,9,-999.000,9,  -999.0,9,  -999.0,9,-999.000,9,   1.9260,2,   27.30,2, -999.00,9,  -999.0,9,  -999.0,     1.4489,-999.0000,-999.000,-999.000
31WTTUNES_3,       P16C,     239,          1,          5,          5,2,19910907,       1426,    -8.5013,  -150.9943,       4051,  3241.8,   1.5964,  34.6845,2,  34.6850,2,    156.2,2,   157.8,2,  138.88,2,   35.74,2,    0.00,2,    2.47,2,-999.000,9,-999.000,9,  -999.0,9,  -999.0,9,-999.000,9,   1.9140,2,   23.67,2, -999.00,9,  -999.0,9,  -999.0,     1.3539,-999.0000,-999.000,-999.000
31WTTUNES_3,       P16C,     239,          1,          4,          4,2,19910907,       1426,    -8.5013,  -150.9943,       4051,  3501.6,   1.5150,  34.6891,2,  34.6867,2,    163.1,2,   163.6,2,  137.75,2,   35.46,2,    0.00,2,    2.44,2,-999.000,9,-999.000,9,  -999.0,9,  -999.0,9,-999.000,9,   1.8960,2,   21.20,2, -999.00,9,  -999.0,9,  -999.0,     1.2483,-999.0000,-999.000,-999.000
31WTTUNES_3,       P16C,     239,          1,          3,          3,2,19910907,       1426,    -8.5013,  -150.9943,       4051,  3761.1,   1.4737,  34.6917,2,  34.6912,2,    168.2,2,   170.0,2,  134.84,2,   34.93,2,    0.00,2,    2.40,2,-999.000,9,-999.000,9,  -999.0,9,  -999.0,9,-999.000,9,   1.9160,2,   19.01,2, -999.00,9,  -999.0,9,  -999.0,     1.1811,-999.0000,-999.000,-999.000
31WTTUNES_3,       P16C,     239,          1,          2,          2,2,19910907,       1426,    -8.5013,  -150.9943,       4051,  4019.9,   1.4234,  34.6949,2,  34.6960,2,    176.0,2,   175.4,2,  132.34,2,   34.32,2,    0.00,2,    2.37,2,-999.000,9,-999.000,9,  -999.0,9,  -999.0,9,-999.000,9,   1.8820,2,   17.76,2, -999.00,9,  -999.0,9,  -999.0,     1.1044,-999.0000,-999.000,-999.000
31WTTUNES_3,       P16C,     239,          1,          1,          1,2,19910907,       1426,    -8.5013,  -150.9943,       4051,  4215.0,   1.3647,  34.6984,2,  34.6983,2,    180.8,2,   182.9,2,  129.45,2,   33.89,2,    0.00,2,    2.34,2,-999.000,9,-999.000,9,  -999.0,9,  -999.0,9,-999.000,9,-999.0000,9, -999.00,9, -999.00,9,  -999.0,9,  -999.0,     1.0260,-999.0000,-999.000,-999.000