BOTTLE,20211117CCHSIORKP
EXPOCODE,SECT_ID,STNNBR,CASTNO,SAMPNO,BTLNBR,BTLNBR_FLAG_W,DATE,TIME,LATITUDE,LONGITUDE,DEPTH,CTDPRS,CTDTMP,CTDSAL,CTDSAL_FLAG_W,SALNTY,SALNTY_FLAG_W,CTDOXY,CTDOXY_FLAG_W,OXYGEN,OXYGEN_FLAG_W,SILCAT,SILCAT_FLAG_W,NITRAT,NITRAT_FLAG_W,NITRIT,NITRIT_FLAG_W,PHSPHT,PHSPHT_FLAG_W,CFC-11,CFC-11_FLAG_W,CFC-12,CFC-12_FLAG_W,TCARBN,TCARBN_FLAG_W,ALKALI,ALKALI_FLAG_W,TRITUM,TRITUM_FLAG_W,HELIUM,HELIUM_FLAG_W,DELHE3,DELHE3_FLAG_W,DELC13,DELC13_FLAG_W,DELC14,DELC14_FLAG_W,C14ERR,THETA,HELIER,DELHER,TRITER
,,,,,,,,,,,METERS,DBAR,ITS-90,PSS-78,,PSS-78,,UMOL/KG,,UMOL/KG,,UMOL/KG,,UMOL/KG,,UMOL/KG,,UMOL/KG,,PMOL/KG,,PMOL/KG,,UMOL/KG,,UMOL/KG,,TU,,NMOL/KG,,PERCNT,,/MILLE,,/MILLE,,/MILLE,ITS-90,NMOL/KG,PERCNT,TU
31WTTUNES_3,       P16C,     289,          1,         36,         36,4,19910919,       2117,     4.5002,  -150.9972,       5173,     6.5,  28.5289,  34.6770,2,-999.0000,9,    202.2,3,  -999.0,9, -999.00,9, -999.00,9, -999.00,9, -999.00,9,-999.000,9,-999.000,9,  -999.0,9,  -999.0,9,-999.000,9,-999.0000,9, -999.00,9, -999.00,9,  -999.0,9,  -999.0,    28.5274,-999.0000,-999.000,-999.000
31WTTUNES_3,       P16C,     289,          1,         35,         35,2,19910919,       2117,     4.5002,  -150.9972,       5173,    59.4,  27.2826,  34.7782,2,  34.7707,2,    199.5,2,   199.3,2,    2.79,2,    1.89,2,    0.22,2,    0.41,2,-999.000,9,-999.000,9,  -999.0,9,  -999.0,9,-999.000,9,-999.0000,9, -999.00,9, -999.00,9,  -999.0,9,  -999.0,    27.2689,-999.0000,-999.000,-999.000
31WTTUNES_3,       P16C,     289,          1,         34,         34,2,19910919,       2117,     4.5002,  -150.9972,       5173,   110.7,  26.2467,  34.8791,2,  34.8757,2,    199.3,2,   195.2,2,    3.16,2,    3.49,2,    0.25,2,    0.51,2,-999.000,9,-999.000,9,  -999.0,9,  -999.0,9,-999.000,9,-999.0000,9, -999.00,9, -999.00,9,  -999.0,9,  -999.0,    26.2218,-999.0000,-999.000,-999.000
31WTTUNES_3,       P16C,     289,          1,         33,         33,2,19910919,       2117,     4.5002,  -150.9972,       5173,   135.1,  25.3803,  34.9400,2,  34.9052,2,    152.9,2,   142.8,2,    5.69,2,    7.72,2,    0.26,2,    0.70,2,-999.000,9,-999.000,9,  -999.0,9,  -999.0,9,-999.000,9,-999.0000,9, -999.00,9, -999.00,9,  -999.0,9,  -999.0,    25.3506,-999.0000,-999.000,-999.000
31WTTUNES_3,       P16C,     289,          1,         32,         32,2,19910919,       2117,     4.5002,  -150.9972,       5173,   160.4,  16.6903,  34.7008,2,  34.6759,2,    107.8,2,   107.6,2,   17.47,2,   18.42,2,    0.02,2,    1.39,2,-999.000,9,-999.000,9,  -999.0,9,  -999.0,9,-999.000,9,-999.0000,9, -999.00,9, -999.00,9,  -999.0,9,  -999.0,    16.6643,-999.0000,-999.000,-999.000
31WTTUNES_3,       P16C,     289,          1,         31,         31,2,19910919,       2117,     4.5002,  -150.9972,       5173,   206.5,  11.2439,  34.7638,2,  34.7657,2,     98.1,2,   100.5,2,   24.13,2,   25.36,2,    0.01,2,    1.83,2,-999.000,9,-999.000,9,  -999.0,9,  -999.0,9,-999.000,9,-999.0000,9, -999.00,9, -999.00,9,  -999.0,9,  -999.0,    11.2181,-999.0000,-999.000,-999.000
31WTTUNES_3,       P16C,     289,          1,         30,         30,2,19910919,       2117,     4.5002,  -150.9972,       5173,   252.2,  11.0894,  34.7813,2,  34.7944,2,     60.4,2,    98.8,2,   18.81,3,   20.76,3,    0.11,3,    1.55,3,-999.000,9,-999.000,9,  -999.0,9,  -999.0,9,-999.000,9,-999.0000,9, -999.00,9, -999.00,9,  -999.0,9,  -999.0,    11.0581,-999.0000,-999.000,-999.000
31WTTUNES_3,       P16C,     289,          1,         29,         29,2,19910919,       2117,     4.5002,  -150.9972,       5173,   299.2,  10.7753,  34.7631,2,  34.7577,2,     61.3,2,    61.8,2,   27.83,2,   30.50,2,    0.01,2,    2.15,2,-999.000,9,-999.000,9,  -999.0,9,  -999.0,9,-999.000,9,-999.0000,9, -999.00,9, -999.00,9,  -999.0,9,  -999.0,    10.7388,-999.0000,-999.000,-999.000
31WTTUNES_3,       P16C,     289,          1,         28,         28,2,19910919,       2117,     4.5002,  -150.9972,       5173,   352.1,  10.2963,  34.7329,2,  34.7288,2,     57.6,2,    58.7,2,   29.79,2,   31.62,2,    0.01,2,    2.23,2,-999.000,9,-999.000,9,  -999.0,9,  -999.0,9,-999.000,9,-999.0000,9, -999.00,9, -999.00,9,  -999.0,9,  -999.0,    10.2545,-999.0000,-999.000,-999.000
31WTTUNES_3,       P16C,     289,          1,         27,         27,2,19910919,       2117,     4.5002,  -150.9972,       5173,   407.8,   9.9568,  34.7117,2,  34.7070,2,     55.3,2,    56.5,2,   31.54,2,   32.61,2,    0.01,2,    2.29,2,-999.000,9,-999.000,9,  -999.0,9,  -999.0,9,-999.000,9,-999.0000,9, -999.00,9, -999.00,9,  -999.0,9,  -999.0,     9.9093,-999.0000,-999.000,-999.000
31WTTUNES_3,       P16C,     289,          1,         26,         26,2,19910919,       2117,     4.5002,  -150.9972,       5173,   513.2,   9.1160,  34.6592,2,  34.6368,2,     69.6,2,    72.8,2,   36.04,2,   32.96,2,    0.01,2,    2.33,2,-999.000,9,-999.000,9,  -999.0,9,  -999.0,9,-999.000,9,-999.0000,9, -999.00,9, -999.00,9,  -999.0,9,  -999.0,     9.0590,-999.0000,-999.000,-999.000
31WTTUNES_3,       P16C,     289,          1,         25,         25,2,19910919,       2117,     4.5002,  -150.9972,       5173,   616.0,   7.5610,  34.5970,2,  34.5904,2,     29.6,2,    33.5,2,   51.00,2,   39.63,2,    0.01,2,    2.86,2,-999.000,9,-999.000,9,  -999.0,9,  -999.0,9,-999.000,9,-999.0000,9, -999.00,9, -999.00,9,  -999.0,9,  -999.0,     7.4993,-999.0000,-999.000,-999.000
31WTTUNES_3,       P16C,     289,          1,         24,         24,2,19910919,       2117,     4.5002,  -150.9972,       5173,   712.4,   6.6775,  34.5716,2,  34.5673,2,     43.8,2,    46.0,2,   57.30,2,   40.23,2,    0.01,2,    2.89,2,-999.000,9,-999.000,9,  -999.0,9,  -999.0,9,-999.000,9,-999.0000,9, -999.00,9, -999.00,9,  -999.0,9,  -999.0,     6.6105,-999.0000,-999.000,-999.000
31WTTUNES_3,       P16C,     289,          1,         23,         23,2,19910919,       2117,     4.5002,  -150.9972,       5173,   804.6,   6.0353,  34.5520,2,  34.5488,2,     58.6,2,    60.4,2,   64.98,2,   39.88,2,    0.01,2,    2.87,2,-999.000,9,-999.000,9,  -999.0,9,  -999.0,9,-999.000,9,-999.0000,9, -999.00,9, -999.00,9,  -999.0,9,  -999.0,     5.9630,-999.0000,-999.000,-999.000
31WTTUNES_3,       P16C,     289,          1,         22,         22,2,19910919,       2117,     4.5002,  -150.9972,       5173,   900.3,   5.4631,  34.5469,2,  34.5453,2,     65.9,2,    66.8,2,   73.44,2,   39.88,2,    0.01,2,    2.87,2,-999.000,9,-999.000,9,  -999.0,9,  -999.0,9,-999.000,9,-999.0000,9, -999.00,9, -999.00,9,  -999.0,9,  -999.0,     5.3855,-999.0000,-999.000,-999.000
31WTTUNES_3,       P16C,     289,          1,         21,         21,2,19910919,       2117,     4.5002,  -150.9972,       5173,  1007.0,   4.7814,  34.5591,2,  34.5567,2,     51.7,2,    49.8,2,   87.03,2,   42.25,2,    0.01,2,    3.05,2,-999.000,9,-999.000,9,  -999.0,9,  -999.0,9,-999.000,9,-999.0000,9, -999.00,9, -999.00,9,  -999.0,9,  -999.0,     4.6990,-999.0000,-999.000,-999.000
31WTTUNES_3,       P16C,     289,          1,         20,         20,2,19910919,       2117,     4.5002,  -150.9972,       5173,  1224.8,   3.9679,  34.5774,2,  34.5732,2,     63.9,2,    64.3,2,  104.38,2,   41.62,2,    0.01,2,    3.02,2,-999.000,9,-999.000,9,  -999.0,9,  -999.0,9,-999.000,9,   1.8510,2,   20.06,2, -999.00,9,  -999.0,9,  -999.0,     3.8735,-999.0000,-999.000,-999.000
31WTTUNES_3,       P16C,     289,          1,         19,         19,2,19910919,       2117,     4.5002,  -150.9972,       5173,  1429.2,   3.4091,  34.5956,2,  34.5928,2,     70.8,2,    70.9,2,  118.99,2,   41.21,2,    0.01,2,    2.98,2,-999.000,9,-999.000,9,  -999.0,9,  -999.0,9,-999.000,9,   1.8750,2,   22.89,2, -999.00,9,  -999.0,9,  -999.0,     3.3026,-999.0000,-999.000,-999.000
31WTTUNES_3,       P16C,     289,          1,         18,         18,2,19910919,       2117,     4.5002,  -150.9972,       5173,  1631.7,   2.9040,  34.6141,2,  34.6126,2,     81.4,2,    82.0,2,  130.80,2,   40.58,2,    0.01,2,    2.92,2,-999.000,9,-999.000,9,  -999.0,9,  -999.0,9,-999.000,9,   1.8770,2,   25.47,2, -999.00,9,  -999.0,9,  -999.0,     2.7861,-999.0000,-999.000,-999.000
31WTTUNES_3,       P16C,     289,          1,         17,         17,2,19910919,       2117,     4.5002,  -150.9972,       5173,  1836.7,   2.5135,  34.6290,2,  34.6297,2,     95.6,2,    96.2,2,  138.29,2,   39.53,2,    0.01,2,    2.83,2,-999.000,9,-999.000,9,  -999.0,9,  -999.0,9,-999.000,9,-999.0000,9, -999.00,9, -999.00,9,  -999.0,9,  -999.0,     2.3834,-999.0000,-999.000,-999.000
31WTTUNES_3,       P16C,     289,          1,         16,         16,2,19910919,       2117,     4.5002,  -150.9972,       5173,  2048.3,   2.2181,  34.6451,2,  34.6439,2,    105.2,2,   105.1,2,  144.62,2,   39.00,2,    0.01,2,    2.78,2,-999.000,9,-999.000,9,  -999.0,9,  -999.0,9,-999.000,9,   1.9060,2,   28.14,2, -999.00,9,  -999.0,9,  -999.0,     2.0742,-999.0000,-999.000,-999.000
31WTTUNES_3,       P16C,     289,          1,         15,         15,2,19910919,       2117,     4.5002,  -150.9972,       5173,  2253.1,   2.0210,  34.6546,2,  34.6541,2,    109.1,2,   109.3,2,  150.53,2,   38.75,2,    0.01,2,    2.74,2,-999.000,9,-999.000,9,  -999.0,9,  -999.0,9,-999.000,9,   1.9070,2,   29.53,2, -999.00,9,  -999.0,9,  -999.0,     1.8625,-999.0000,-999.000,-999.000
31WTTUNES_3,       P16C,     289,          1,         14,         14,2,19910919,       2117,     4.5002,  -150.9972,       5173,  2403.5,   1.9203,  34.6607,2,  34.6610,2,    113.4,2,   114.4,2,  152.50,2,   38.35,2,    0.01,2,    2.72,2,-999.000,9,-999.000,9,  -999.0,9,  -999.0,9,-999.000,9,-999.0000,9, -999.00,9, -999.00,9,  -999.0,9,  -999.0,     1.7502,-999.0000,-999.000,-999.000
31WTTUNES_3,       P16C,     289,          1,         13,         13,2,19910919,       2117,     4.5002,  -150.9972,       5173,  2554.1,   1.8505,  34.6650,2,  34.6663,2,    116.7,2,   118.5,2,  153.89,2,   38.13,2,    0.00,2,    2.69,2,-999.000,9,-999.000,9,  -999.0,9,  -999.0,9,-999.000,9,   1.9110,2,   30.36,2, -999.00,9,  -999.0,9,  -999.0,     1.6680,-999.0000,-999.000,-999.000
31WTTUNES_3,       P16C,     289,          1,         12,         12,2,19910919,       2117,     4.5002,  -150.9972,       5173,  2707.5,   1.8086,  34.6679,2,  34.6675,2,    119.5,2,   120.2,2,  154.48,2,   37.93,2,    0.00,2,    2.67,2,-999.000,9,-999.000,9,  -999.0,9,  -999.0,9,-999.000,9,   1.9220,2,   29.84,2, -999.00,9,  -999.0,9,  -999.0,     1.6128,-999.0000,-999.000,-999.000
31WTTUNES_3,       P16C,     289,          1,         11,         11,2,19910919,       2117,     4.5002,  -150.9972,       5173,  2863.4,   1.7405,  34.6712,2,  34.6708,2,    124.7,2,   125.9,2,  154.49,2,   37.59,2,    0.00,2,    2.65,2,-999.000,9,-999.000,9,  -999.0,9,  -999.0,9,-999.000,9,   1.9080,2,   28.56,2, -999.00,9,  -999.0,9,  -999.0,     1.5315,-999.0000,-999.000,-999.000
31WTTUNES_3,       P16C,     289,          1,         10,         10,2,19910919,       2117,     4.5002,  -150.9972,       5173,  3070.8,   1.6205,  34.6774,2,  34.6771,2,    135.1,2,   135.4,2,  153.29,2,   37.09,2,    0.00,2,    2.59,2,-999.000,9,-999.000,9,  -999.0,9,  -999.0,9,-999.000,9,   1.9220,2,   24.85,2, -999.00,9,  -999.0,9,  -999.0,     1.3943,-999.0000,-999.000,-999.000
31WTTUNES_3,       P16C,     289,          1,          9,          9,2,19910919,       2117,     4.5002,  -150.9972,       5173,  3334.1,   1.5321,  34.6823,2,  34.6816,2,    144.5,2,   146.5,2,  151.12,2,   36.35,2,    0.00,2,    2.54,2,-999.000,9,-999.000,9,  -999.0,9,  -999.0,9,-999.000,9,   1.8890,2,   20.70,2, -999.00,9,  -999.0,9,  -999.0,     1.2819,-999.0000,-999.000,-999.000
31WTTUNES_3,       P16C,     289,          1,          8,          8,2,19910919,       2117,     4.5002,  -150.9972,       5173,  3600.8,   1.4669,  34.6871,2,  34.6873,2,    152.9,2,   154.1,2,  149.54,2,   35.91,2,    0.00,2,    2.49,2,-999.000,9,-999.000,9,  -999.0,9,  -999.0,9,-999.000,9,   1.8880,2,   18.59,2, -999.00,9,  -999.0,9,  -999.0,     1.1913,-999.0000,-999.000,-999.000
31WTTUNES_3,       P16C,     289,          1,          7,          7,2,19910919,       2117,     4.5002,  -150.9972,       5173,  3857.2,   1.4085,  34.6908,2,  34.6899,2,    161.2,2,   161.6,2,  145.79,2,   35.26,2,    0.00,2,    2.44,2,-999.000,9,-999.000,9,  -999.0,9,  -999.0,9,-999.000,9,   1.8870,2,   16.81,2, -999.00,9,  -999.0,9,  -999.0,     1.1074,-999.0000,-999.000,-999.000
31WTTUNES_3,       P16C,     289,          1,          6,          6,2,19910919,       2117,     4.5002,  -150.9972,       5173,  4119.8,   1.3694,  34.6938,2,  34.6936,2,    168.0,2,   167.9,2,  142.63,2,   34.72,2,    0.00,2,    2.41,2,-999.000,9,-999.000,9,  -999.0,9,  -999.0,9,-999.000,9,   1.8810,2,   15.54,2, -999.00,9,  -999.0,9,  -999.0,     1.0411,-999.0000,-999.000,-999.000
31WTTUNES_3,       P16C,     289,          1,          5,          5,2,19910919,       2117,     4.5002,  -150.9972,       5173,  4378.8,   1.3625,  34.6951,2,  34.6944,2,    171.6,2,   171.8,2,  140.85,2,   34.52,2,    0.00,2,    2.40,2,-999.000,9,-999.000,9,  -999.0,9,  -999.0,9,-999.000,9,   1.8780,2,   15.15,2, -999.00,9,  -999.0,9,  -999.0,     1.0055,-999.0000,-999.000,-999.000
31WTTUNES_3,       P16C,     289,          1,          4,          4,2,19910919,       2117,     4.5002,  -150.9972,       5173,  4639.5,   1.3851,  34.6955,2,  34.6960,2,    173.0,2,   172.9,2,  140.45,2,   34.45,2,    0.01,2,    2.40,2,-999.000,9,-999.000,9,  -999.0,9,  -999.0,9,-999.000,9,-999.0000,9, -999.00,9, -999.00,9,  -999.0,9,  -999.0,     0.9976,-999.0000,-999.000,-999.000
31WTTUNES_3,       P16C,     289,          1,          3,          3,2,19910919,       2117,     4.5002,  -150.9972,       5173,  4901.5,   1.4135,  34.6954,2,  34.7013,3,    173.9,2,   173.3,2,  140.25,2,   34.43,2,    0.00,2,    2.40,2,-999.000,9,-999.000,9,  -999.0,9,  -999.0,9,-999.000,9,   1.8830,2,   14.28,2, -999.00,9,  -999.0,9,  -999.0,     0.9940,-999.0000,-999.000,-999.000
31WTTUNES_3,       P16C,     289,          1,          2,          2,2,19910919,       2117,     4.5002,  -150.9972,       5173,  5158.3,   1.4436,  34.6952,2,  34.6997,3,    174.5,2,   174.0,2,  140.45,2,   34.41,2,    0.01,2,    2.39,2,-999.000,9,-999.000,9,  -999.0,9,  -999.0,9,-999.000,9,   1.8730,2,   14.50,2, -999.00,9,  -999.0,9,  -999.0,     0.9919,-999.0000,-999.000,-999.000
31WTTUNES_3,       P16C,     289,          1,          1,          1,2,19910919,       2117,     4.5002,  -150.9972,       5173,  5233.0,   1.4536,  34.6951,2,  34.6977,2,    172.9,2,   175.2,2,  140.25,2,   34.36,2,    0.01,2,    2.40,2,-999.000,9,-999.000,9,  -999.0,9,  -999.0,9,-999.000,9,-999.0000,9, -999.00,9, -999.00,9,  -999.0,9,  -999.0,     0.9923,-999.0000,-999.000,-999.000