BOTTLE,20211117CCHSIORKP
EXPOCODE,SECT_ID,STNNBR,CASTNO,SAMPNO,BTLNBR,BTLNBR_FLAG_W,DATE,TIME,LATITUDE,LONGITUDE,DEPTH,CTDPRS,CTDTMP,CTDSAL,CTDSAL_FLAG_W,SALNTY,SALNTY_FLAG_W,CTDOXY,CTDOXY_FLAG_W,OXYGEN,OXYGEN_FLAG_W,SILCAT,SILCAT_FLAG_W,NITRAT,NITRAT_FLAG_W,NITRIT,NITRIT_FLAG_W,PHSPHT,PHSPHT_FLAG_W,CFC-11,CFC-11_FLAG_W,CFC-12,CFC-12_FLAG_W,TCARBN,TCARBN_FLAG_W,ALKALI,ALKALI_FLAG_W,TRITUM,TRITUM_FLAG_W,HELIUM,HELIUM_FLAG_W,DELHE3,DELHE3_FLAG_W,DELC13,DELC13_FLAG_W,DELC14,DELC14_FLAG_W,C14ERR,THETA,HELIER,DELHER,TRITER
,,,,,,,,,,,METERS,DBAR,ITS-90,PSS-78,,PSS-78,,UMOL/KG,,UMOL/KG,,UMOL/KG,,UMOL/KG,,UMOL/KG,,UMOL/KG,,PMOL/KG,,PMOL/KG,,UMOL/KG,,UMOL/KG,,TU,,NMOL/KG,,PERCNT,,/MILLE,,/MILLE,,/MILLE,ITS-90,NMOL/KG,PERCNT,TU
31WTTUNES_3,       P16C,     319,          1,         36,         36,2,19910929,       1829,    18.3998,  -154.4737,       5185,     7.2,  26.6169,  34.7644,2,  34.7752,2,    211.7,3,   215.1,2,    2.29,2,    0.08,2,    0.00,2,    0.19,2,-999.000,9,-999.000,9,  -999.0,9,  -999.0,9,-999.000,9,-999.0000,9, -999.00,9,    1.49,2,   101.1,2,     4.3,    26.6153,-999.0000,-999.000,-999.000
31WTTUNES_3,       P16C,     319,          1,         35,         35,2,19910929,       1829,    18.3998,  -154.4737,       5185,    50.6,  26.3373,  34.7255,2,  34.7384,2,    218.1,2,   213.8,2,    2.06,2,    0.08,2,    0.00,2,    0.11,2,-999.000,9,-999.000,9,  -999.0,9,  -999.0,9,-999.000,9,-999.0000,9, -999.00,9, -999.00,9,  -999.0,9,  -999.0,    26.3260,-999.0000,-999.000,-999.000
31WTTUNES_3,       P16C,     319,          1,         34,         34,2,19910929,       1829,    18.3998,  -154.4737,       5185,    90.2,  23.5536,  34.7770,2,  34.8464,2,    231.4,2,   236.1,2,    2.04,2,    0.07,2,    0.00,2,    0.14,2,-999.000,9,-999.000,9,  -999.0,9,  -999.0,9,-999.000,9,-999.0000,9, -999.00,9,    1.52,2,   112.8,2,     6.0,    23.5350,-999.0000,-999.000,-999.000
31WTTUNES_3,       P16C,     319,          1,         33,         33,2,19910929,       1829,    18.3998,  -154.4737,       5185,   130.6,  20.5884,  34.8590,2,  34.8326,2,    208.5,2,   193.0,2,    3.23,2,    0.88,2,    0.20,2,    0.35,2,-999.000,9,-999.000,9,  -999.0,9,  -999.0,9,-999.000,9,-999.0000,9, -999.00,9,    1.21,2,   111.0,2,     6.1,    20.5638,-999.0000,-999.000,-999.000
31WTTUNES_3,       P16C,     319,          1,         32,         32,2,19910929,       1829,    18.3998,  -154.4737,       5185,   170.3,  17.6873,  34.6943,2,  34.6327,2,    172.3,2,   163.8,2,    6.22,2,    7.87,2,    0.02,2,    0.71,2,-999.000,9,-999.000,9,  -999.0,9,  -999.0,9,-999.000,9,-999.0000,9, -999.00,9, -999.00,9,  -999.0,9,  -999.0,    17.6584,-999.0000,-999.000,-999.000
31WTTUNES_3,       P16C,     319,          1,         31,         31,2,19910929,       1829,    18.3998,  -154.4737,       5185,   210.8,  13.5737,  34.2935,2,  34.2838,2,    150.3,2,   148.4,2,   12.84,2,   14.75,2,    0.00,2,    1.19,2,-999.000,9,-999.000,9,  -999.0,9,  -999.0,9,-999.000,9,-999.0000,9, -999.00,9,    0.80,2,   101.7,2,     6.4,    13.5441,-999.0000,-999.000,-999.000
31WTTUNES_3,       P16C,     319,          1,         30,         30,2,19910929,       1829,    18.3998,  -154.4737,       5185,   262.4,  10.6126,  34.1549,2,  34.1515,2,    157.0,2,   160.3,2,   19.86,2,   18.47,2,    0.00,2,    1.43,2,-999.000,9,-999.000,9,  -999.0,9,  -999.0,9,-999.000,9,-999.0000,9, -999.00,9,    0.40,2,    38.3,2,     5.1,    10.5812,-999.0000,-999.000,-999.000
31WTTUNES_3,       P16C,     319,          1,         29,         29,2,19910929,       1829,    18.3998,  -154.4737,       5185,   312.3,   9.2722,  34.1300,2,  34.1234,2,    151.3,2,   152.3,2,   28.50,2,   22.26,2,    0.00,2,    1.68,2,-999.000,9,-999.000,9,  -999.0,9,  -999.0,9,-999.000,9,-999.0000,9, -999.00,9,    0.23,2,    13.0,2,     7.4,     9.2378,-999.0000,-999.000,-999.000
31WTTUNES_3,       P16C,     319,          1,         28,         28,2,19910929,       1829,    18.3998,  -154.4737,       5185,   363.6,   8.2314,  34.1495,2,  34.0978,2,    110.0,2,   124.8,2,   40.57,2,   27.23,2,    0.00,2,    2.03,2,-999.000,9,-999.000,9,  -999.0,9,  -999.0,9,-999.000,9,-999.0000,9, -999.00,9,    0.02,6,   -31.6,6,     2.0,     8.1940,-999.0000,-999.000,-999.000
31WTTUNES_3,       P16C,     319,          1,         27,         27,2,19910929,       1829,    18.3998,  -154.4737,       5185,   413.9,   7.1813,  34.1393,2,  34.1438,2,     87.4,2,    95.8,2,   49.60,2,   30.90,2,    0.00,2,    2.34,2,-999.000,9,-999.000,9,  -999.0,9,  -999.0,9,-999.000,9,-999.0000,9, -999.00,9,   -0.12,2,   -67.9,2,     4.2,     7.1419,-999.0000,-999.000,-999.000
31WTTUNES_3,       P16C,     319,          1,         26,         26,2,19910929,       1829,    18.3998,  -154.4737,       5185,   525.6,   5.9779,  34.2570,2,  34.2524,2,     38.3,2,    38.0,2,   74.37,2,   38.45,2,    0.00,2,    2.88,2,-999.000,9,-999.000,9,  -999.0,9,  -999.0,9,-999.000,9,-999.0000,9, -999.00,9,   -0.34,2,  -136.5,2,     4.0,     5.9322,-999.0000,-999.000,-999.000
31WTTUNES_3,       P16C,     319,          1,         25,         25,2,19910929,       1829,    18.3998,  -154.4737,       5185,   617.4,   5.4272,  34.3909,2,  34.3853,2,     31.2,2,    29.9,2,   85.81,2,   40.57,2,    0.00,2,    3.02,2,-999.000,9,-999.000,9,  -999.0,9,  -999.0,9,-999.000,9,-999.0000,9, -999.00,9,   -1.48,4,  -194.4,4,     2.8,     5.3755,-999.0000,-999.000,-999.000
31WTTUNES_3,       P16C,     319,          1,         24,         24,2,19910929,       1829,    18.3998,  -154.4737,       5185,   721.1,   4.9763,  34.4431,2,  34.4512,2,     34.3,2,    33.9,2,   94.05,2,   41.44,2,    0.00,2,    3.06,2,-999.000,9,-999.000,9,  -999.0,9,  -999.0,9,-999.000,9,-999.0000,9, -999.00,9, -999.00,9,  -999.0,9,  -999.0,     4.9179,-999.0000,-999.000,-999.000
31WTTUNES_3,       P16C,     319,          1,         23,         23,2,19910929,       1829,    18.3998,  -154.4737,       5185,   821.7,   4.6474,  34.4876,2,  34.4856,2,     35.6,2,    36.8,2,  100.08,2,   42.04,2,    0.00,2,    3.08,2,-999.000,9,-999.000,9,  -999.0,9,  -999.0,9,-999.000,9,-999.0000,9, -999.00,9,   -0.25,2,  -196.5,2,     3.8,     4.5822,-999.0000,-999.000,-999.000
31WTTUNES_3,       P16C,     319,          1,         22,         22,2,19910929,       1829,    18.3998,  -154.4737,       5185,   924.7,   4.3409,  34.5047,2,  34.5105,2,     38.7,2,    39.7,2,  106.51,2,   42.40,2,    0.00,2,    3.10,2,-999.000,9,-999.000,9,  -999.0,9,  -999.0,9,-999.000,9,-999.0000,9, -999.00,9, -999.00,9,  -999.0,9,  -999.0,     4.2690,-999.0000,-999.000,-999.000
31WTTUNES_3,       P16C,     319,          1,         21,         21,2,19910929,       1829,    18.3998,  -154.4737,       5185,  1025.3,   4.0226,  34.5225,2,  34.5195,2,     44.4,2,    42.4,2,  111.13,2,   42.33,2,    0.00,2,    3.10,2,-999.000,9,-999.000,9,  -999.0,9,  -999.0,9,-999.000,9,-999.0000,9, -999.00,9,   -0.27,2,  -212.3,2,     3.2,     3.9447,-999.0000,-999.000,-999.000
31WTTUNES_3,       P16C,     319,          1,         20,         20,2,19910929,       1829,    18.3998,  -154.4737,       5185,  1230.3,   3.4555,  34.5545,2,  34.5519,2,     55.5,2,    53.3,2,  124.20,2,   42.12,2,    0.00,2,    3.04,2,-999.000,9,-999.000,9,  -999.0,9,  -999.0,9,-999.000,9,   1.9010,2,   24.48,2, -999.00,9,  -999.0,9,  -999.0,     3.3653,-999.0000,-999.000,-999.000
31WTTUNES_3,       P16C,     319,          1,         19,         19,2,19910929,       1829,    18.3998,  -154.4737,       5185,  1435.5,   2.9371,  34.5790,2,  34.5767,2,     66.7,2,    64.2,2,  135.07,2,   41.59,2,    0.00,2,    2.99,2,-999.000,9,-999.000,9,  -999.0,9,  -999.0,9,-999.000,9,   1.8830,2,   23.84,2, -999.00,9,  -999.0,9,  -999.0,     2.8353,-999.0000,-999.000,-999.000
31WTTUNES_3,       P16C,     319,          1,         18,         18,2,19910929,       1829,    18.3998,  -154.4737,       5185,  1639.9,   2.5866,  34.5984,2,  34.5965,2,     76.5,2,    74.4,2,  142.92,2,   40.91,2,    0.00,2,    2.93,2,  -0.001,2,   0.002,2,  -999.0,9,  -999.0,9,-999.000,9,   1.9230,2,   23.08,2, -999.00,9,  -999.0,9,  -999.0,     2.4721,-999.0000,-999.000,-999.000
31WTTUNES_3,       P16C,     319,          1,         17,         17,2,19910929,       1829,    18.3998,  -154.4737,       5185,  1846.3,   2.2528,  34.6174,2,  34.6138,2,     87.4,2,    83.9,2,  150.35,2,   40.28,2,    0.00,2,    2.88,2,-999.000,9,-999.000,9,  -999.0,9,  -999.0,9,-999.000,9,   1.9190,2,   23.29,2, -999.00,9,  -999.0,9,  -999.0,     2.1255,-999.0000,-999.000,-999.000
31WTTUNES_3,       P16C,     319,          1,         16,         16,2,19910929,       1829,    18.3998,  -154.4737,       5185,  2052.1,   2.0589,  34.6314,2,  34.6290,2,     97.1,2,    95.5,2,  153.77,2,   39.50,2,    0.00,2,    2.82,2,   0.005,2,   0.006,2,  -999.0,9,  -999.0,9,-999.000,9,   1.9140,2,   23.34,2, -999.00,9,  -999.0,9,  -999.0,     1.9172,-999.0000,-999.000,-999.000
31WTTUNES_3,       P16C,     319,          1,         15,         15,2,19910929,       1829,    18.3998,  -154.4737,       5185,  2258.8,   1.9182,  34.6409,2,  34.6396,2,    104.7,2,   102.8,2,  156.78,2,   39.07,2,    0.00,2,    2.77,2,-999.000,9,-999.000,9,  -999.0,9,  -999.0,9,-999.000,9,   1.9060,2,   22.32,2, -999.00,9,  -999.0,9,  -999.0,     1.7610,-999.0000,-999.000,-999.000
31WTTUNES_3,       P16C,     319,          1,         14,         14,2,19910929,       1829,    18.3998,  -154.4737,       5185,  2414.2,   1.8136,  34.6496,2,  34.6486,2,    110.6,2,   107.9,2,  158.17,2,   38.86,2,    0.00,2,    2.74,2,   0.002,6,   0.000,6,  -999.0,9,  -999.0,9,-999.000,9,   1.9120,2,   22.71,2, -999.00,9,  -999.0,9,  -999.0,     1.6444,-999.0000,-999.000,-999.000
31WTTUNES_3,       P16C,     319,          1,         13,         13,2,19910929,       1829,    18.3998,  -154.4737,       5185,  2567.7,   1.7341,  34.6566,2,  34.6557,2,    115.3,2,   112.8,2,  159.98,2,   38.59,2,    0.00,2,    2.71,2,-999.000,9,-999.000,9,  -999.0,9,  -999.0,9,-999.000,9,   1.9050,2,   22.63,2, -999.00,9,  -999.0,9,  -999.0,     1.5526,-999.0000,-999.000,-999.000
31WTTUNES_3,       P16C,     319,          1,         12,         12,2,19910929,       1829,    18.3998,  -154.4737,       5185,  2722.7,   1.6622,  34.6608,2,  34.6563,3,    120.4,2,   117.1,2,  162.59,3,   38.32,2,    0.00,2,    2.69,2,-999.000,9,-999.000,9,  -999.0,9,  -999.0,9,-999.000,9,-999.0000,9, -999.00,9, -999.00,9,  -999.0,9,  -999.0,     1.4679,-999.0000,-999.000,-999.000
31WTTUNES_3,       P16C,     319,          1,         11,         11,2,19910929,       1829,    18.3998,  -154.4737,       5185,  2878.1,   1.6266,  34.6670,2,  34.6657,2,    124.0,2,   121.7,2,  161.16,2,   38.01,2,    0.00,2,    2.68,2,-999.000,9,-999.000,9,  -999.0,9,  -999.0,9,-999.000,9,   1.9060,2,   21.46,2, -999.00,9,  -999.0,9,  -999.0,     1.4187,-999.0000,-999.000,-999.000
31WTTUNES_3,       P16C,     319,          1,         10,         10,2,19910929,       1829,    18.3998,  -154.4737,       5185,  3082.9,   1.5716,  34.6708,2,  34.6702,2,    129.1,2,   127.3,2,  161.76,2,   37.69,2,    0.00,2,    2.63,2,   0.001,2,   0.002,2,  -999.0,9,  -999.0,9,-999.000,9,-999.0000,5,   19.83,3, -999.00,9,  -999.0,9,  -999.0,     1.3453,-999.0000,-999.000,-999.000
31WTTUNES_3,       P16C,     319,          1,          9,          9,2,19910929,       1829,    18.3998,  -154.4737,       5185,  3342.0,   1.5241,  34.6761,2,  34.6759,2,    135.1,2,   134.9,2,  161.35,2,   37.22,2,    0.00,2,    2.59,2,   0.002,2,   0.000,2,  -999.0,9,  -999.0,9,-999.000,9,   1.9000,2,   19.00,2, -999.00,9,  -999.0,9,  -999.0,     1.2734,-999.0000,-999.000,-999.000
31WTTUNES_3,       P16C,     319,          1,          8,          8,2,19910929,       1829,    18.3998,  -154.4737,       5185,  3600.0,   1.4797,  34.6811,2,  34.6794,2,    142.5,2,   141.5,2,  159.52,2,   36.69,2,    0.00,2,    2.55,2,-999.000,9,-999.000,9,  -999.0,9,  -999.0,9,-999.000,9,   1.9070,2,   17.40,2, -999.00,9,  -999.0,9,  -999.0,     1.2039,-999.0000,-999.000,-999.000
31WTTUNES_3,       P16C,     319,          1,          7,          7,2,19910929,       1829,    18.3998,  -154.4737,       5185,  3858.8,   1.4613,  34.6839,2,  34.6824,2,    148.2,2,   147.3,2,  156.48,2,   36.23,2,    0.00,2,    2.51,2,-999.000,9,-999.000,9,  -999.0,9,  -999.0,9,-999.000,9,   1.9060,2,   16.36,2, -999.00,9,  -999.0,9,  -999.0,     1.1588,-999.0000,-999.000,-999.000
31WTTUNES_3,       P16C,     319,          1,          6,          6,2,19910929,       1829,    18.3998,  -154.4737,       5185,  4118.7,   1.4541,  34.6864,2,  34.6857,2,    153.5,2,   151.9,2,  154.05,2,   35.95,2,    0.00,2,    2.49,2,   0.005,2,   0.005,2,  -999.0,9,  -999.0,9,-999.000,9,   1.8950,2,   16.09,2, -999.00,9,  -999.0,9,  -999.0,     1.1235,-999.0000,-999.000,-999.000
31WTTUNES_3,       P16C,     319,          1,          5,          5,2,19910929,       1829,    18.3998,  -154.4737,       5185,  4378.4,   1.4598,  34.6884,2,  34.6875,2,    157.3,2,   155.2,2,  152.02,2,   35.69,2,    0.00,2,    2.48,2,-999.000,9,-999.000,9,  -999.0,9,  -999.0,9,-999.000,9,   1.9030,2,   15.78,2, -999.00,9,  -999.0,9,  -999.0,     1.1000,-999.0000,-999.000,-999.000
31WTTUNES_3,       P16C,     319,          1,          4,          4,2,19910929,       1829,    18.3998,  -154.4737,       5185,  4637.4,   1.4623,  34.6905,2,  34.6912,2,    161.5,2,   159.5,2,  149.38,2,   35.48,2,    0.00,2,    2.45,2,   0.001,2,   0.002,2,  -999.0,9,  -999.0,9,-999.000,9,   1.9070,2,   15.19,2, -999.00,9,  -999.0,9,  -999.0,     1.0726,-999.0000,-999.000,-999.000
31WTTUNES_3,       P16C,     319,          1,          3,          3,2,19910929,       1829,    18.3998,  -154.4737,       5185,  4898.0,   1.4659,  34.6924,2,  34.6887,2,    166.0,2,   164.2,2,  145.95,2,   35.11,2,    0.00,2,    2.43,2,-999.000,9,-999.000,9,  -999.0,9,  -999.0,9,-999.000,9,   1.8870,2,   15.04,2, -999.00,9,  -999.0,9,  -999.0,     1.0451,-999.0000,-999.000,-999.000
31WTTUNES_3,       P16C,     319,          1,          2,          2,2,19910929,       1829,    18.3998,  -154.4737,       5185,  5156.8,   1.4661,  34.6942,2,  34.6928,2,    170.8,2,   169.2,2,  143.11,2,   34.79,2,    0.00,2,    2.40,2,   0.003,2,   0.002,2,  -999.0,9,  -999.0,9,-999.000,9,   1.8860,2,   14.30,2, -999.00,9,  -999.0,9,  -999.0,     1.0139,-999.0000,-999.000,-999.000
31WTTUNES_3,       P16C,     319,          1,          1,          1,2,19910929,       1829,    18.3998,  -154.4737,       5185,  5257.0,   1.4724,  34.6945,2,  34.6940,2,    171.2,2,   172.8,2,  142.29,2,   34.68,2,    0.00,2,    2.40,2,   0.006,2,   0.004,2,  -999.0,9,  -999.0,9,-999.000,9,-999.0000,9, -999.00,9, -999.00,9,  -999.0,9,  -999.0,     1.0075,-999.0000,-999.000,-999.000