BOTTLE,20211117CCHSIORKP
EXPOCODE,SECT_ID,STNNBR,CASTNO,SAMPNO,BTLNBR,BTLNBR_FLAG_W,DATE,TIME,LATITUDE,LONGITUDE,DEPTH,CTDPRS,CTDTMP,CTDSAL,CTDSAL_FLAG_W,SALNTY,SALNTY_FLAG_W,CTDOXY,CTDOXY_FLAG_W,OXYGEN,OXYGEN_FLAG_W,SILCAT,SILCAT_FLAG_W,NITRAT,NITRAT_FLAG_W,NITRIT,NITRIT_FLAG_W,PHSPHT,PHSPHT_FLAG_W,CFC-11,CFC-11_FLAG_W,CFC-12,CFC-12_FLAG_W,TCARBN,TCARBN_FLAG_W,ALKALI,ALKALI_FLAG_W,TRITUM,TRITUM_FLAG_W,HELIUM,HELIUM_FLAG_W,DELHE3,DELHE3_FLAG_W,DELC13,DELC13_FLAG_W,DELC14,DELC14_FLAG_W,C14ERR,THETA,HELIER,DELHER,TRITER
,,,,,,,,,,,METERS,DBAR,ITS-90,PSS-78,,PSS-78,,UMOL/KG,,UMOL/KG,,UMOL/KG,,UMOL/KG,,UMOL/KG,,UMOL/KG,,PMOL/KG,,PMOL/KG,,UMOL/KG,,UMOL/KG,,TU,,NMOL/KG,,PERCNT,,/MILLE,,/MILLE,,/MILLE,ITS-90,NMOL/KG,PERCNT,TU
31WTTUNES_3,       P16C,     248,          1,         36,         36,2,19910910,       1438,    -4.0087,  -151.0140,       4567,     5.0,  27.7306,  35.4434,2,  35.4561,2,    214.4,3,   212.0,2,    1.82,2,    4.11,2,    0.21,2,    0.54,2,  -0.004,4,  -0.005,4,  -999.0,9,  -999.0,9,-999.000,9,-999.0000,9, -999.00,9, -999.00,9,  -999.0,9,  -999.0,    27.7294,-999.0000,-999.000,-999.000
31WTTUNES_3,       P16C,     248,          1,         35,         35,2,19910910,       1438,    -4.0087,  -151.0140,       4567,    48.3,  27.7538,  35.4430,2,  35.4557,2,    214.3,2,   212.5,2,    1.80,2,    4.10,2,    0.21,2,    0.54,2,   0.135,4,   0.084,4,  -999.0,9,  -999.0,9,   1.100,2,   1.7010,2,   -1.03,2, -999.00,9,  -999.0,9,  -999.0,    27.7425,   0.0080,   0.150,   0.007
31WTTUNES_3,       P16C,     248,          1,         34,         34,2,19910910,       1438,    -4.0087,  -151.0140,       4567,   107.7,  27.6963,  35.4698,2,  35.4636,2,    208.5,2,   204.3,2,    1.78,2,    4.09,2,    0.27,2,    0.57,2,   1.660,4,   0.922,4,  -999.0,9,  -999.0,9,-999.000,9,-999.0000,9, -999.00,9, -999.00,9,  -999.0,9,  -999.0,    27.6711,-999.0000,-999.000,-999.000
31WTTUNES_3,       P16C,     248,          1,         33,         33,2,19910910,       1438,    -4.0087,  -151.0140,       4567,   132.2,  27.0591,  35.9386,2,  36.1108,2,    188.6,2,   180.2,2,    1.56,2,    1.11,2,    2.32,2,    0.65,2,   1.706,4,   0.948,4,  -999.0,9,  -999.0,9,-999.000,9,-999.0000,9, -999.00,9, -999.00,9,  -999.0,9,  -999.0,    27.0287,-999.0000,-999.000,-999.000
31WTTUNES_3,       P16C,     248,          1,         32,         32,2,19910910,       1438,    -4.0087,  -151.0140,       4567,   159.0,  21.4424,  35.9881,2,  35.9151,2,    168.1,2,   158.5,2,    1.55,2,    6.72,2,    0.02,2,    0.72,2,   1.822,2,   1.007,2,  -999.0,9,  -999.0,9,   0.673,2,   1.7420,2,   -0.20,2, -999.00,9,  -999.0,9,  -999.0,    21.4113,   0.0080,   0.150,   0.006
31WTTUNES_3,       P16C,     248,          1,         31,         31,2,19910910,       1438,    -4.0087,  -151.0140,       4567,   184.7,  14.9803,  35.1176,2,  35.2503,2,     58.7,2,    80.0,2,   10.19,2,   20.23,2,    0.01,2,    1.60,2,   0.946,4,   0.517,4,  -999.0,9,  -999.0,9,   0.497,2,   1.7670,2,    2.19,2, -999.00,9,  -999.0,9,  -999.0,    14.9523,   0.0080,   0.150,   0.005
31WTTUNES_3,       P16C,     248,          1,         30,         30,2,19910910,       1438,    -4.0087,  -151.0140,       4567,   206.8,  12.8225,  34.9248,2,  34.9482,2,     19.2,2,    22.5,2,   21.00,2,   30.83,2,    0.01,2,    2.21,2,   0.350,4,   0.208,4,  -999.0,9,  -999.0,9,-999.000,9,-999.0000,9, -999.00,9, -999.00,9,  -999.0,9,  -999.0,    12.7943,-999.0000,-999.000,-999.000
31WTTUNES_3,       P16C,     248,          1,         29,         29,2,19910910,       1438,    -4.0087,  -151.0140,       4567,   228.1,  12.3889,  34.8925,2,  34.9046,2,     29.3,2,    27.5,2,   22.37,2,   31.20,2,    0.01,2,    2.22,2,   0.279,2,   0.173,2,  -999.0,9,  -999.0,9,   0.357,2,   1.7910,2,    5.11,2, -999.00,9,  -999.0,9,  -999.0,    12.3585,   0.0080,   0.150,   0.004
31WTTUNES_3,       P16C,     248,          1,         28,         28,2,19910910,       1438,    -4.0087,  -151.0140,       4567,   249.2,  12.0796,  34.8720,2,  34.8705,2,     52.3,2,    55.8,2,   22.16,2,   29.03,2,    0.01,2,    2.07,2,   0.326,4,   0.188,4,  -999.0,9,  -999.0,9,-999.000,9,-999.0000,9, -999.00,9, -999.00,9,  -999.0,9,  -999.0,    12.0470,-999.0000,-999.000,-999.000
31WTTUNES_3,       P16C,     248,          1,         27,         27,2,19910910,       1438,    -4.0087,  -151.0140,       4567,   274.3,  11.7347,  34.8427,2,  34.8375,2,     72.8,2,    71.7,2,   22.53,2,   27.96,2,    0.01,2,    1.98,2,-999.000,9,-999.000,9,  -999.0,9,  -999.0,9,   0.372,2,   1.7930,2,    5.17,2, -999.00,9,  -999.0,9,  -999.0,    11.6993,   0.0080,   0.150,   0.004
31WTTUNES_3,       P16C,     248,          1,         26,         26,2,19910910,       1438,    -4.0087,  -151.0140,       4567,   300.5,  11.5790,  34.8350,2,  34.8224,2,     72.8,2,    62.1,2,   23.89,2,   29.56,2,    0.01,2,    2.08,2,   0.284,4,   0.162,4,  -999.0,9,  -999.0,9,   0.309,2,   1.7940,2,    5.11,2, -999.00,9,  -999.0,9,  -999.0,    11.5406,   0.0080,   0.150,   0.004
31WTTUNES_3,       P16C,     248,          1,         25,         25,2,19910910,       1438,    -4.0087,  -151.0140,       4567,   352.2,  11.1333,  34.8157,2,  34.8090,2,    102.7,2,   105.1,2,   19.94,2,   25.70,2,    0.01,2,    1.84,2,   0.385,4,   0.216,4,  -999.0,9,  -999.0,9,-999.000,9,-999.0000,9, -999.00,9, -999.00,9,  -999.0,9,  -999.0,    11.0893,-999.0000,-999.000,-999.000
31WTTUNES_3,       P16C,     248,          1,         24,         24,2,19910910,       1438,    -4.0087,  -151.0140,       4567,   401.3,  10.2338,  34.7558,2,  34.7335,2,     76.5,2,    63.4,2,   27.40,2,   32.02,2,    0.01,2,    2.27,2,   0.143,2,   0.083,2,  -999.0,9,  -999.0,9,-999.000,5,   1.8050,2,    4.70,2, -999.00,9,  -999.0,9,  -999.0,    10.1863,   0.0080,   0.150,-999.000
31WTTUNES_3,       P16C,     248,          1,         23,         23,2,19910910,       1438,    -4.0087,  -151.0140,       4567,   502.2,   8.5034,  34.6591,2,  34.6343,2,     22.6,2,    31.9,2,   41.18,2,   39.42,2,    0.00,2,    2.75,2,   1.647,4,   0.923,4,  -999.0,9,  -999.0,9,-999.000,9,-999.0000,9, -999.00,9, -999.00,9,  -999.0,9,  -999.0,     8.4499,-999.0000,-999.000,-999.000
31WTTUNES_3,       P16C,     248,          1,         22,         22,2,19910910,       1438,    -4.0087,  -151.0140,       4567,   603.0,   7.1834,  34.5916,2,  34.5928,2,     48.3,2,    49.2,2,   46.48,2,   39.44,2,    0.00,2,    2.78,2,   0.005,2,   0.005,2,  -999.0,9,  -999.0,9,   0.008,2,   1.8360,2,    8.06,2, -999.00,9,  -999.0,9,  -999.0,     7.1248,   0.0090,   0.150,   0.001
31WTTUNES_3,       P16C,     248,          1,         21,         21,2,19910910,       1438,    -4.0087,  -151.0140,       4567,   704.7,   6.3015,  34.5653,2,  34.5649,2,     55.2,2,    56.0,2,   56.51,2,   40.71,2,    0.01,2,    2.85,2,   0.285,4,   0.166,4,  -999.0,9,  -999.0,9,-999.000,9,-999.0000,9, -999.00,9, -999.00,9,  -999.0,9,  -999.0,     6.2372,-999.0000,-999.000,-999.000
31WTTUNES_3,       P16C,     248,          1,         20,         20,2,19910910,       1438,    -4.0087,  -151.0140,       4567,   802.6,   5.7678,  34.5545,2,  34.5508,2,     65.1,2,    66.1,2,   65.93,2,   40.74,2,    0.00,2,    2.87,2,   0.000,2,   0.002,2,  -999.0,9,  -999.0,9,-999.000,9,-999.0000,9, -999.00,9, -999.00,9,  -999.0,9,  -999.0,     5.6973,-999.0000,-999.000,-999.000
31WTTUNES_3,       P16C,     248,          1,         19,         19,2,19910910,       1438,    -4.0087,  -151.0140,       4567,   898.2,   5.2269,  34.5479,2,  34.5425,2,     84.8,2,    86.8,2,   72.23,2,   39.38,2,    0.00,2,    2.78,2,  -0.003,2,  -0.001,2,  -999.0,9,  -999.0,9,-999.000,9,-999.0000,9, -999.00,9, -999.00,9,  -999.0,9,  -999.0,     5.1512,-999.0000,-999.000,-999.000
31WTTUNES_3,       P16C,     248,          1,         18,         18,2,19910910,       1438,    -4.0087,  -151.0140,       4567,   994.6,   4.7751,  34.5465,2,  34.5459,2,     88.6,2,    95.6,2,   78.11,2,   38.88,2,    0.00,2,    2.75,2,  -0.003,2,   0.001,2,  -999.0,9,  -999.0,9,-999.000,9,-999.0000,9, -999.00,9, -999.00,9,  -999.0,9,  -999.0,     4.6939,-999.0000,-999.000,-999.000
31WTTUNES_3,       P16C,     248,          1,         17,         17,2,19910910,       1438,    -4.0087,  -151.0140,       4567,  1191.9,   3.9445,  34.5658,2,  34.5712,2,     97.2,2,   100.7,2,   92.86,2,   38.95,2,    0.00,2,    2.76,2,-999.000,9,-999.000,9,  -999.0,9,  -999.0,9,-999.000,9,-999.0000,9, -999.00,9, -999.00,9,  -999.0,9,  -999.0,     3.8529,-999.0000,-999.000,-999.000
31WTTUNES_3,       P16C,     248,          1,         16,         16,2,19910910,       1438,    -4.0087,  -151.0140,       4567,  1388.0,   3.4029,  34.5845,2,  34.5848,2,    100.8,2,   100.4,2,  105.84,2,   39.27,2,    0.00,2,    2.79,2,-999.000,9,-999.000,9,  -999.0,9,  -999.0,9,-999.000,9,-999.0000,9, -999.00,9, -999.00,9,  -999.0,9,  -999.0,     3.3000,-999.0000,-999.000,-999.000
31WTTUNES_3,       P16C,     248,          1,         15,         15,2,19910910,       1438,    -4.0087,  -151.0140,       4567,  1582.6,   2.9343,  34.6054,2,  34.6040,2,    102.1,2,   102.0,2,  117.83,2,   39.44,2,    0.00,2,    2.81,2,  -0.002,2,  -0.001,2,  -999.0,9,  -999.0,9,-999.000,9,-999.0000,9, -999.00,9, -999.00,9,  -999.0,9,  -999.0,     2.8202,-999.0000,-999.000,-999.000
31WTTUNES_3,       P16C,     248,          1,         14,         14,2,19910910,       1438,    -4.0087,  -151.0140,       4567,  1827.2,   2.4396,  34.6322,2,  34.6301,2,    108.2,2,   107.7,2,  131.40,2,   39.14,2,    0.00,2,    2.76,2,-999.000,9,-999.000,9,  -999.0,9,  -999.0,9,-999.000,9,-999.0000,9, -999.00,9, -999.00,9,  -999.0,9,  -999.0,     2.3113,-999.0000,-999.000,-999.000
31WTTUNES_3,       P16C,     248,          1,         13,         13,2,19910910,       1438,    -4.0087,  -151.0140,       4567,  2023.8,   2.2401,  34.6432,2,  34.6409,2,    113.4,2,   113.3,2,  135.91,2,   38.85,2,    0.00,2,    2.74,2,-999.000,9,-999.000,9,  -999.0,9,  -999.0,9,-999.000,9,-999.0000,9, -999.00,9, -999.00,9,  -999.0,9,  -999.0,     2.0979,-999.0000,-999.000,-999.000
31WTTUNES_3,       P16C,     248,          1,         12,         12,2,19910910,       1438,    -4.0087,  -151.0140,       4567,  2217.3,   2.1009,  34.6513,2,  34.6496,2,    117.9,2,   117.5,2,  138.84,2,   38.60,2,    0.00,2,    2.70,2,   0.005,2,   0.012,2,  -999.0,9,  -999.0,9,-999.000,9,-999.0000,9, -999.00,9, -999.00,9,  -999.0,9,  -999.0,     1.9441,-999.0000,-999.000,-999.000
31WTTUNES_3,       P16C,     248,          1,         11,         11,2,19910910,       1438,    -4.0087,  -151.0140,       4567,  2413.1,   1.9662,  34.6577,2,  34.6555,2,    125.6,2,   124.4,2,  139.38,2,   38.13,2,    0.00,2,    2.66,2,-999.000,9,-999.000,9,  -999.0,9,  -999.0,9,-999.000,9,-999.0000,9, -999.00,9, -999.00,9,  -999.0,9,  -999.0,     1.7944,-999.0000,-999.000,-999.000
31WTTUNES_3,       P16C,     248,          1,         10,         10,2,19910910,       1438,    -4.0087,  -151.0140,       4567,  2609.6,   1.8327,  34.6654,2,  34.6671,2,    133.0,2,   132.8,2,  140.16,2,   37.68,2,    0.00,2,    2.61,2,-999.000,9,-999.000,9,  -999.0,9,  -999.0,9,-999.000,9,-999.0000,9, -999.00,9, -999.00,9,  -999.0,9,  -999.0,     1.6454,-999.0000,-999.000,-999.000
31WTTUNES_3,       P16C,     248,          1,          9,          9,2,19910910,       1438,    -4.0087,  -151.0140,       4567,  2808.2,   1.7648,  34.6699,2,  34.6683,2,    136.2,2,   137.0,2,  141.31,2,   37.38,2,    0.00,2,    2.59,2,   0.002,2,   0.000,2,  -999.0,9,  -999.0,9,-999.000,9,-999.0000,9, -999.00,9, -999.00,9,  -999.0,9,  -999.0,     1.5605,-999.0000,-999.000,-999.000
31WTTUNES_3,       P16C,     248,          1,          8,          8,2,19910910,       1438,    -4.0087,  -151.0140,       4567,  3004.2,   1.6819,  34.6758,2,  34.6743,2,    144.8,2,   144.7,2,  139.91,2,   36.68,2,    0.00,2,    2.54,2,-999.000,9,-999.000,9,  -999.0,9,  -999.0,9,-999.000,9,-999.0000,9, -999.00,9, -999.00,9,  -999.0,9,  -999.0,     1.4607,-999.0000,-999.000,-999.000
31WTTUNES_3,       P16C,     248,          1,          7,          7,2,19910910,       1438,    -4.0087,  -151.0140,       4567,  3257.3,   1.5818,  34.6805,2,  34.6800,2,    150.4,2,   151.3,2,  140.09,2,   36.43,2,    0.00,2,    2.50,2,-999.000,9,-999.000,9,  -999.0,9,  -999.0,9,-999.000,9,-999.0000,9, -999.00,9, -999.00,9,  -999.0,9,  -999.0,     1.3382,-999.0000,-999.000,-999.000
31WTTUNES_3,       P16C,     248,          1,          6,          6,2,19910910,       1438,    -4.0087,  -151.0140,       4567,  3513.6,   1.5350,  34.6846,2,  34.6848,2,    156.6,2,   157.0,2,  139.27,2,   35.98,2,    0.00,2,    2.48,2,   0.005,2,   0.018,2,  -999.0,9,  -999.0,9,-999.000,9,-999.0000,9, -999.00,9, -999.00,9,  -999.0,9,  -999.0,     1.2666,-999.0000,-999.000,-999.000
31WTTUNES_3,       P16C,     248,          1,          5,          5,2,19910910,       1438,    -4.0087,  -151.0140,       4567,  3743.1,   1.4782,  34.6880,2,  34.6899,2,    160.3,2,   162.2,2,  138.67,2,   35.63,2,    0.00,2,    2.45,2,-999.000,9,-999.000,9,  -999.0,9,  -999.0,9,-999.000,9,-999.0000,9, -999.00,9, -999.00,9,  -999.0,9,  -999.0,     1.1874,-999.0000,-999.000,-999.000
31WTTUNES_3,       P16C,     248,          1,          4,          4,2,19910910,       1438,    -4.0087,  -151.0140,       4567,  3998.7,   1.3758,  34.6949,2,  34.6946,2,    172.8,2,   171.8,2,  134.90,2,   35.03,2,    0.00,2,    2.40,2,-999.000,9,-999.000,9,  -999.0,9,  -999.0,9,-999.000,9,-999.0000,9, -999.00,9, -999.00,9,  -999.0,9,  -999.0,     1.0604,-999.0000,-999.000,-999.000
31WTTUNES_3,       P16C,     248,          1,          3,          3,2,19910910,       1438,    -4.0087,  -151.0140,       4567,  4233.9,   1.3247,  34.6982,2,  34.7003,2,    181.6,2,   181.5,2,  129.56,2,   34.12,2,    0.00,2,    2.36,2,  -0.002,6,  -0.002,6,  -999.0,9,  -999.0,9,-999.000,9,-999.0000,9, -999.00,9, -999.00,9,  -999.0,9,  -999.0,     0.9852,-999.0000,-999.000,-999.000
31WTTUNES_3,       P16C,     248,          1,          2,          2,2,19910910,       1438,    -4.0087,  -151.0140,       4567,  4499.3,   1.3291,  34.6991,2,  34.7020,2,    185.2,2,   184.6,2,  128.15,2,   34.04,2,    0.00,2,    2.33,2,-999.000,9,-999.000,9,  -999.0,9,  -999.0,9,-999.000,9,-999.0000,9, -999.00,9, -999.00,9,  -999.0,9,  -999.0,     0.9595,-999.0000,-999.000,-999.000
31WTTUNES_3,       P16C,     248,          1,          1,          1,2,19910910,       1438,    -4.0087,  -151.0140,       4567,  4693.0,   1.3410,  34.6997,2,  34.6999,2,    185.5,2,   185.8,2,  127.72,2,   33.80,2,    0.00,2,    2.32,2,  -0.001,6,  -0.002,6,  -999.0,9,  -999.0,9,-999.000,9,-999.0000,9, -999.00,9, -999.00,9,  -999.0,9,  -999.0,     0.9486,-999.0000,-999.000,-999.000