BOTTLE,20211117CCHSIORKP
EXPOCODE,SECT_ID,STNNBR,CASTNO,SAMPNO,BTLNBR,BTLNBR_FLAG_W,DATE,TIME,LATITUDE,LONGITUDE,DEPTH,CTDPRS,CTDTMP,CTDSAL,CTDSAL_FLAG_W,SALNTY,SALNTY_FLAG_W,CTDOXY,CTDOXY_FLAG_W,OXYGEN,OXYGEN_FLAG_W,SILCAT,SILCAT_FLAG_W,NITRAT,NITRAT_FLAG_W,NITRIT,NITRIT_FLAG_W,PHSPHT,PHSPHT_FLAG_W,CFC-11,CFC-11_FLAG_W,CFC-12,CFC-12_FLAG_W,TCARBN,TCARBN_FLAG_W,ALKALI,ALKALI_FLAG_W,TRITUM,TRITUM_FLAG_W,HELIUM,HELIUM_FLAG_W,DELHE3,DELHE3_FLAG_W,DELC13,DELC13_FLAG_W,DELC14,DELC14_FLAG_W,C14ERR,THETA,HELIER,DELHER,TRITER
,,,,,,,,,,,METERS,DBAR,ITS-90,PSS-78,,PSS-78,,UMOL/KG,,UMOL/KG,,UMOL/KG,,UMOL/KG,,UMOL/KG,,UMOL/KG,,PMOL/KG,,PMOL/KG,,UMOL/KG,,UMOL/KG,,TU,,NMOL/KG,,PERCNT,,/MILLE,,/MILLE,,/MILLE,ITS-90,NMOL/KG,PERCNT,TU
31WTTUNES_3,       P16C,     323,          1,         24,         24,2,19910930,       1422,    18.8492,  -155.5990,       2386,     6.8,  26.6723,  34.7367,2,  34.7431,2,    216.3,3,   217.3,2,    2.31,2,    0.12,2,    0.00,2,    0.11,2,-999.000,9,-999.000,9,  -999.0,9,  -999.0,9,-999.000,9,-999.0000,9, -999.00,9, -999.00,9,  -999.0,9,  -999.0,    26.6707,-999.0000,-999.000,-999.000
31WTTUNES_3,       P16C,     323,          1,         23,         23,2,19910930,       1422,    18.8492,  -155.5990,       2386,    47.0,  26.4903,  34.7872,2,  34.7864,2,    213.1,2,   215.5,2,    2.12,2,    0.12,2,    0.00,2,    0.10,2,-999.000,9,-999.000,9,  -999.0,9,  -999.0,9,-999.000,9,-999.0000,9, -999.00,9, -999.00,9,  -999.0,9,  -999.0,    26.4797,-999.0000,-999.000,-999.000
31WTTUNES_3,       P16C,     323,          1,         22,         22,2,19910930,       1422,    18.8492,  -155.5990,       2386,    87.6,  22.5957,  35.0156,2,  34.9146,2,    221.2,2,   226.3,2,    2.55,2,    0.12,2,    0.00,2,    0.15,2,-999.000,9,-999.000,9,  -999.0,9,  -999.0,9,-999.000,9,-999.0000,9, -999.00,9, -999.00,9,  -999.0,9,  -999.0,    22.5780,-999.0000,-999.000,-999.000
31WTTUNES_3,       P16C,     323,          1,         21,         21,2,19910930,       1422,    18.8492,  -155.5990,       2386,   127.9,  21.0383,  35.1654,2,  35.1449,2,    204.2,2,   206.4,2,    2.36,2,    0.30,2,    0.06,2,    0.16,2,-999.000,9,-999.000,9,  -999.0,9,  -999.0,9,-999.000,9,-999.0000,9, -999.00,9, -999.00,9,  -999.0,9,  -999.0,    21.0139,-999.0000,-999.000,-999.000
31WTTUNES_3,       P16C,     323,          1,         20,         20,2,19910930,       1422,    18.8492,  -155.5990,       2386,   167.8,  18.7541,  34.9762,2,  34.9848,2,    190.9,2,   192.7,2,    3.81,2,    3.51,2,    0.03,2,    0.34,2,-999.000,9,-999.000,9,  -999.0,9,  -999.0,9,-999.000,9,-999.0000,9, -999.00,9, -999.00,9,  -999.0,9,  -999.0,    18.7245,-999.0000,-999.000,-999.000
31WTTUNES_3,       P16C,     323,          1,         19,         19,2,19910930,       1422,    18.8492,  -155.5990,       2386,   200.4,  16.0048,  34.5966,2,  34.6331,2,    184.3,2,   184.5,2,    6.90,2,    7.14,2,    0.02,2,    0.61,2,-999.000,9,-999.000,9,  -999.0,9,  -999.0,9,-999.000,9,-999.0000,9, -999.00,9, -999.00,9,  -999.0,9,  -999.0,    15.9731,-999.0000,-999.000,-999.000
31WTTUNES_3,       P16C,     323,          1,         18,         18,2,19910930,       1422,    18.8492,  -155.5990,       2386,   236.0,  13.8459,  34.4141,2,  34.3445,2,    185.1,2,   185.8,2,   10.80,2,   10.97,2,    0.01,2,    0.87,2,-999.000,9,-999.000,9,  -999.0,9,  -999.0,9,-999.000,9,-999.0000,9, -999.00,9, -999.00,9,  -999.0,9,  -999.0,    13.8121,-999.0000,-999.000,-999.000
31WTTUNES_3,       P16C,     323,          1,         17,         17,2,19910930,       1422,    18.8492,  -155.5990,       2386,   275.5,  12.5704,  34.2548,2,  34.1581,2,    181.1,2,   180.0,2,   18.40,2,   16.50,2,    0.01,2,    1.25,2,-999.000,9,-999.000,9,  -999.0,9,  -999.0,9,-999.000,9,-999.0000,9, -999.00,9, -999.00,9,  -999.0,9,  -999.0,    12.5335,-999.0000,-999.000,-999.000
31WTTUNES_3,       P16C,     323,          1,         16,         16,2,19910930,       1422,    18.8492,  -155.5990,       2386,   318.7,   9.7773,  34.1378,2,  34.1413,2,    161.2,2,   160.6,2,   26.61,2,   20.86,2,    0.01,2,    1.57,2,-999.000,9,-999.000,9,  -999.0,9,  -999.0,9,-999.000,9,-999.0000,9, -999.00,9, -999.00,9,  -999.0,9,  -999.0,     9.7410,-999.0000,-999.000,-999.000
31WTTUNES_3,       P16C,     323,          1,         15,         15,2,19910930,       1422,    18.8492,  -155.5990,       2386,   361.8,   8.2203,  34.1453,2,  34.1338,2,    110.3,2,   120.2,2,   38.72,2,   26.81,2,    0.01,2,    2.02,2,-999.000,9,-999.000,9,  -999.0,9,  -999.0,9,-999.000,9,-999.0000,9, -999.00,9, -999.00,9,  -999.0,9,  -999.0,     8.1831,-999.0000,-999.000,-999.000
31WTTUNES_3,       P16C,     323,          1,         14,         14,2,19910930,       1422,    18.8492,  -155.5990,       2386,   453.4,   7.0436,  34.2504,2,  34.2348,2,     52.5,2,    55.6,2,   56.54,2,   34.06,2,    0.01,2,    2.62,2,-999.000,9,-999.000,9,  -999.0,9,  -999.0,9,-999.000,9,-999.0000,9, -999.00,9, -999.00,9,  -999.0,9,  -999.0,     7.0007,-999.0000,-999.000,-999.000
31WTTUNES_3,       P16C,     323,          1,         13,         13,2,19910930,       1422,    18.8492,  -155.5990,       2386,   545.9,   6.1185,  34.3041,2,  34.3174,2,     34.1,2,  -999.0,9,   75.82,2,   39.08,2,    0.00,2,    2.94,2,-999.000,9,-999.000,9,  -999.0,9,  -999.0,9,-999.000,9,-999.0000,9, -999.00,9, -999.00,9,  -999.0,9,  -999.0,     6.0703,-999.0000,-999.000,-999.000
31WTTUNES_3,       P16C,     323,          1,         12,         12,2,19910930,       1422,    18.8492,  -155.5990,       2386,   641.5,   5.3167,  34.3924,2,  34.3913,2,     26.5,2,    26.0,2,   87.73,2,   41.14,2,    0.01,2,    3.05,2,-999.000,9,-999.000,9,  -999.0,9,  -999.0,9,-999.000,9,-999.0000,9, -999.00,9, -999.00,9,  -999.0,9,  -999.0,     5.2634,-999.0000,-999.000,-999.000
31WTTUNES_3,       P16C,     323,          1,         11,         11,2,19910930,       1422,    18.8492,  -155.5990,       2386,   739.8,   4.8930,  34.4276,2,  34.4261,2,     30.9,2,    31.9,2,   95.13,2,   41.54,2,    0.01,2,    3.07,2,-999.000,9,-999.000,9,  -999.0,9,  -999.0,9,-999.000,9,-999.0000,9, -999.00,9, -999.00,9,  -999.0,9,  -999.0,     4.8334,-999.0000,-999.000,-999.000
31WTTUNES_3,       P16C,     323,          1,         10,         10,2,19910930,       1422,    18.8492,  -155.5990,       2386,   841.3,   4.4894,  34.4815,2,  34.4799,2,     37.0,2,    37.1,2,  102.53,2,   42.11,2,    0.00,2,    3.07,2,-999.000,9,-999.000,9,  -999.0,9,  -999.0,9,-999.000,9,-999.0000,9, -999.00,9, -999.00,9,  -999.0,9,  -999.0,     4.4236,-999.0000,-999.000,-999.000
31WTTUNES_3,       P16C,     323,          1,          9,          9,2,19910930,       1422,    18.8492,  -155.5990,       2386,   946.1,   4.1964,  34.4970,2,  34.4977,2,     41.3,2,    41.2,2,  109.74,2,   42.16,2,    0.00,2,    3.06,2,-999.000,9,-999.000,9,  -999.0,9,  -999.0,9,-999.000,9,-999.0000,9, -999.00,9, -999.00,9,  -999.0,9,  -999.0,     4.1238,-999.0000,-999.000,-999.000
31WTTUNES_3,       P16C,     323,          1,          8,          8,2,19910930,       1422,    18.8492,  -155.5990,       2386,  1156.1,   3.6478,  34.5357,2,  34.5329,2,     50.9,2,    51.0,2,  120.83,2,   42.03,2,    0.01,2,    3.07,2,-999.000,9,-999.000,9,  -999.0,9,  -999.0,9,-999.000,9,-999.0000,9, -999.00,9, -999.00,9,  -999.0,9,  -999.0,     3.5621,-999.0000,-999.000,-999.000
31WTTUNES_3,       P16C,     323,          1,          7,          7,2,19910930,       1422,    18.8492,  -155.5990,       2386,  1367.8,   3.1470,  34.5619,2,  34.5683,2,     61.0,2,    62.7,2,  131.93,2,   41.38,2,    0.00,2,    2.98,2,-999.000,9,-999.000,9,  -999.0,9,  -999.0,9,-999.000,9,-999.0000,9, -999.00,9, -999.00,9,  -999.0,9,  -999.0,     3.0486,-999.0000,-999.000,-999.000
31WTTUNES_3,       P16C,     323,          1,          6,          6,2,19910930,       1422,    18.8492,  -155.5990,       2386,  1580.0,   2.6970,  34.5938,2,  34.5938,2,     72.6,2,    72.9,2,  141.19,2,   40.87,2,    0.00,2,    2.92,2,-999.000,9,-999.000,9,  -999.0,9,  -999.0,9,-999.000,9,-999.0000,9, -999.00,9, -999.00,9,  -999.0,9,  -999.0,     2.5860,-999.0000,-999.000,-999.000
31WTTUNES_3,       P16C,     323,          1,          5,          5,2,19910930,       1422,    18.8492,  -155.5990,       2386,  1791.8,   2.3757,  34.6118,2,  34.6101,2,     83.7,2,    82.9,2,  147.57,2,   40.46,2,    0.00,2,    2.86,2,-999.000,9,-999.000,9,  -999.0,9,  -999.0,9,-999.000,9,-999.0000,9, -999.00,9, -999.00,9,  -999.0,9,  -999.0,     2.2513,-999.0000,-999.000,-999.000
31WTTUNES_3,       P16C,     323,          1,          4,          4,2,19910930,       1422,    18.8492,  -155.5990,       2386,  2004.9,   2.1209,  34.6283,2,  34.6262,2,     94.3,2,    94.3,2,  152.95,2,   39.75,2,    0.00,2,    2.81,2,-999.000,9,-999.000,9,  -999.0,9,  -999.0,9,-999.000,9,-999.0000,9, -999.00,9, -999.00,9,  -999.0,9,  -999.0,     1.9821,-999.0000,-999.000,-999.000
31WTTUNES_3,       P16C,     323,          1,          3,          3,2,19910930,       1422,    18.8492,  -155.5990,       2386,  2221.6,   1.9687,  34.6398,2,  34.6386,2,    101.8,2,   102.6,2,  156.05,2,   39.29,2,    0.00,2,    2.76,2,-999.000,9,-999.000,9,  -999.0,9,  -999.0,9,-999.000,9,-999.0000,9, -999.00,9, -999.00,9,  -999.0,9,  -999.0,     1.8139,-999.0000,-999.000,-999.000
31WTTUNES_3,       P16C,     323,          1,          2,          2,2,19910930,       1422,    18.8492,  -155.5990,       2386,  2438.3,   1.7981,  34.6532,2,  34.6511,2,    111.7,2,   114.1,2,  158.97,2,   38.73,2,    0.00,2,    2.72,2,-999.000,9,-999.000,9,  -999.0,9,  -999.0,9,-999.000,9,-999.0000,9, -999.00,9, -999.00,9,  -999.0,9,  -999.0,     1.6270,-999.0000,-999.000,-999.000
31WTTUNES_3,       P16C,     323,          1,          1,          1,2,19910930,       1422,    18.8492,  -155.5990,       2386,  2557.0,   1.7358,  34.6576,2,  34.6553,2,    115.2,2,   116.6,2,  159.62,2,   38.42,2,    0.00,2,    2.68,2,-999.000,9,-999.000,9,  -999.0,9,  -999.0,9,-999.000,9,-999.0000,9, -999.00,9, -999.00,9,  -999.0,9,  -999.0,     1.5552,-999.0000,-999.000,-999.000
31WTTUNES_3,       P16C,     324,          1,         20,         20,2,19910930,       1655,    18.8712,  -155.6095,       1710,     6.6,  26.5866,  34.7492,2,  34.7555,2,    202.4,2,   209.8,2,    2.70,2,    0.10,2,    0.01,2,    0.10,2,-999.000,9,-999.000,9,  -999.0,9,  -999.0,9,-999.000,9,-999.0000,9, -999.00,9, -999.00,9,  -999.0,9,  -999.0,    26.5851,-999.0000,-999.000,-999.000
31WTTUNES_3,       P16C,     324,          1,         19,         19,2,19910930,       1655,    18.8712,  -155.6095,       1710,    46.0,  26.5984,  34.7649,2,  34.7817,2,    210.9,2,   211.8,2,    2.50,2,    0.10,2,    0.00,2,    0.10,2,-999.000,9,-999.000,9,  -999.0,9,  -999.0,9,-999.000,9,-999.0000,9, -999.00,9, -999.00,9,  -999.0,9,  -999.0,    26.5880,-999.0000,-999.000,-999.000
31WTTUNES_3,       P16C,     324,          1,         18,         18,2,19910930,       1655,    18.8712,  -155.6095,       1710,    86.4,  23.6868,  35.0604,2,  35.0122,2,    221.8,2,   221.5,2,    2.50,2,    0.15,2,    0.00,2,    0.09,2,-999.000,9,-999.000,9,  -999.0,9,  -999.0,9,-999.000,9,-999.0000,9, -999.00,9, -999.00,9,  -999.0,9,  -999.0,    23.6688,-999.0000,-999.000,-999.000
31WTTUNES_3,       P16C,     324,          1,         17,         17,2,19910930,       1655,    18.8712,  -155.6095,       1710,   126.2,  21.1826,  35.1902,2,  35.1833,2,    203.7,2,   207.3,2,    2.72,2,    0.29,2,    0.08,2,    0.15,2,-999.000,9,-999.000,9,  -999.0,9,  -999.0,9,-999.000,9,-999.0000,9, -999.00,9, -999.00,9,  -999.0,9,  -999.0,    21.1583,-999.0000,-999.000,-999.000
31WTTUNES_3,       P16C,     324,          1,         16,         16,2,19910930,       1655,    18.8712,  -155.6095,       1710,   164.8,  18.5763,  34.9602,2,  35.0287,2,    189.9,2,   191.6,2,    3.95,2,    2.91,2,    0.03,2,    0.31,2,-999.000,9,-999.000,9,  -999.0,9,  -999.0,9,-999.000,9,-999.0000,9, -999.00,9, -999.00,9,  -999.0,9,  -999.0,    18.5474,-999.0000,-999.000,-999.000
31WTTUNES_3,       P16C,     324,          1,         15,         15,2,19910930,       1655,    18.8712,  -155.6095,       1710,   206.9,  15.1375,  34.5342,2,  34.6325,2,    185.8,2,   184.0,2,    7.25,2,    7.19,2,    0.01,2,    0.62,2,-999.000,9,-999.000,9,  -999.0,9,  -999.0,9,-999.000,9,-999.0000,9, -999.00,9, -999.00,9,  -999.0,9,  -999.0,    15.1060,-999.0000,-999.000,-999.000
31WTTUNES_3,       P16C,     324,          1,         14,         14,2,19910930,       1655,    18.8712,  -155.6095,       1710,   258.3,  12.2676,  34.2444,2,  34.2613,2,    180.2,2,   182.3,2,   13.24,2,   12.69,2,    0.00,2,    1.01,2,-999.000,9,-999.000,9,  -999.0,9,  -999.0,9,-999.000,9,-999.0000,9, -999.00,9, -999.00,9,  -999.0,9,  -999.0,    12.2336,-999.0000,-999.000,-999.000
31WTTUNES_3,       P16C,     324,          1,         13,         13,2,19910930,       1655,    18.8712,  -155.6095,       1710,   309.5,  10.1064,  34.1435,2,  34.1415,2,    170.1,2,   164.6,2,   26.22,2,   20.42,2,    0.00,2,    1.54,2,-999.000,9,-999.000,9,  -999.0,9,  -999.0,9,-999.000,9,-999.0000,9, -999.00,9, -999.00,9,  -999.0,9,  -999.0,    10.0704,-999.0000,-999.000,-999.000
31WTTUNES_3,       P16C,     324,          1,         12,         12,2,19910930,       1655,    18.8712,  -155.6095,       1710,   360.4,   8.3457,  34.1518,2,  34.1515,2,    114.5,2,   112.8,2,   41.07,2,   27.43,2,    0.00,2,    2.09,2,-999.000,9,-999.000,9,  -999.0,9,  -999.0,9,-999.000,9,-999.0000,9, -999.00,9, -999.00,9,  -999.0,9,  -999.0,     8.3083,-999.0000,-999.000,-999.000
31WTTUNES_3,       P16C,     324,          1,         11,         11,2,19910930,       1655,    18.8712,  -155.6095,       1710,   411.6,   7.6565,  34.1979,2,  34.1881,2,     76.0,2,    85.0,2,   48.30,2,   30.56,2,    0.00,2,    2.34,2,-999.000,9,-999.000,9,  -999.0,9,  -999.0,9,-999.000,9,-999.0000,9, -999.00,9, -999.00,9,  -999.0,9,  -999.0,     7.6158,-999.0000,-999.000,-999.000
31WTTUNES_3,       P16C,     324,          1,         10,         10,2,19910930,       1655,    18.8712,  -155.6095,       1710,   513.2,   6.2614,  34.2963,2,  34.2858,2,     35.7,2,    36.8,2,   69.95,2,   37.61,2,    0.00,2,    2.86,2,-999.000,9,-999.000,9,  -999.0,9,  -999.0,9,-999.000,9,-999.0000,9, -999.00,9, -999.00,9,  -999.0,9,  -999.0,     6.2157,-999.0000,-999.000,-999.000
31WTTUNES_3,       P16C,     324,          1,          9,          9,2,19910930,       1655,    18.8712,  -155.6095,       1710,   615.7,   5.3525,  34.3605,2,  34.3578,2,     29.4,2,    29.0,2,   87.06,2,   40.59,2,    0.00,2,    3.05,2,-999.000,9,-999.000,9,  -999.0,9,  -999.0,9,-999.000,9,-999.0000,9, -999.00,9, -999.00,9,  -999.0,9,  -999.0,     5.3013,-999.0000,-999.000,-999.000
31WTTUNES_3,       P16C,     324,          1,          8,          8,2,19910930,       1655,    18.8712,  -155.6095,       1710,   718.4,   4.8981,  34.4275,2,  34.4288,2,     30.4,2,    31.1,2,   96.15,2,   41.54,2,    0.00,2,    3.07,2,-999.000,9,-999.000,9,  -999.0,9,  -999.0,9,-999.000,9,-999.0000,9, -999.00,9, -999.00,9,  -999.0,9,  -999.0,     4.8403,-999.0000,-999.000,-999.000
31WTTUNES_3,       P16C,     324,          1,          7,          7,2,19910930,       1655,    18.8712,  -155.6095,       1710,   821.9,   4.5198,  34.4758,2,  34.4752,2,     36.1,2,    36.1,2,  102.36,2,   41.85,2,    0.00,2,    3.07,2,-999.000,9,-999.000,9,  -999.0,9,  -999.0,9,-999.000,9,-999.0000,9, -999.00,9, -999.00,9,  -999.0,9,  -999.0,     4.4555,-999.0000,-999.000,-999.000
31WTTUNES_3,       P16C,     324,          1,          6,          6,2,19910930,       1655,    18.8712,  -155.6095,       1710,   924.1,   4.2238,  34.4981,2,  34.4997,2,     40.7,2,    40.8,2,  108.15,2,   42.10,2,    0.00,2,    3.08,2,-999.000,9,-999.000,9,  -999.0,9,  -999.0,9,-999.000,9,-999.0000,9, -999.00,9, -999.00,9,  -999.0,9,  -999.0,     4.1528,-999.0000,-999.000,-999.000
31WTTUNES_3,       P16C,     324,          1,          5,          5,2,19910930,       1655,    18.8712,  -155.6095,       1710,  1026.0,   3.8682,  34.5224,2,  34.5215,2,     46.7,2,    46.6,2,  116.62,2,   42.00,2,    0.00,2,    3.07,2,-999.000,9,-999.000,9,  -999.0,9,  -999.0,9,-999.000,9,-999.0000,9, -999.00,9, -999.00,9,  -999.0,9,  -999.0,     3.7914,-999.0000,-999.000,-999.000
31WTTUNES_3,       P16C,     324,          1,          4,          4,2,19910930,       1655,    18.8712,  -155.6095,       1710,  1230.8,   3.4473,  34.5451,2,  34.5443,2,     54.8,2,    55.7,2,  126.96,2,   41.85,2,    0.00,2,    3.03,2,-999.000,9,-999.000,9,  -999.0,9,  -999.0,9,-999.000,9,-999.0000,9, -999.00,9, -999.00,9,  -999.0,9,  -999.0,     3.3571,-999.0000,-999.000,-999.000
31WTTUNES_3,       P16C,     324,          1,          3,          3,2,19910930,       1655,    18.8712,  -155.6095,       1710,  1434.9,   2.9276,  34.5772,2,  34.5747,2,     66.1,2,    65.4,2,  137.50,2,   41.45,2,    0.00,2,    2.98,2,-999.000,9,-999.000,9,  -999.0,9,  -999.0,9,-999.000,9,-999.0000,9, -999.00,9, -999.00,9,  -999.0,9,  -999.0,     2.8260,-999.0000,-999.000,-999.000
31WTTUNES_3,       P16C,     324,          1,          2,          2,2,19910930,       1655,    18.8712,  -155.6095,       1710,  1640.5,   2.6069,  34.5998,2,  34.5963,2,     75.5,2,    74.9,2,  144.75,2,   40.95,2,    0.00,2,    2.93,2,-999.000,9,-999.000,9,  -999.0,9,  -999.0,9,-999.000,9,-999.0000,9, -999.00,9, -999.00,9,  -999.0,9,  -999.0,     2.4920,-999.0000,-999.000,-999.000
31WTTUNES_3,       P16C,     324,          1,          1,          1,2,19910930,       1655,    18.8712,  -155.6095,       1710,  1835.4,   2.2311,  34.6207,2,  34.6189,2,     88.3,2,    89.4,2,  152.60,2,   40.10,2,    0.00,2,    2.84,2,-999.000,9,-999.000,9,  -999.0,9,  -999.0,9,-999.000,9,-999.0000,9, -999.00,9, -999.00,9,  -999.0,9,  -999.0,     2.1051,-999.0000,-999.000,-999.000