BOTTLE,20211117CCHSIORKP
EXPOCODE,SECT_ID,STNNBR,CASTNO,SAMPNO,BTLNBR,BTLNBR_FLAG_W,DATE,TIME,LATITUDE,LONGITUDE,DEPTH,CTDPRS,CTDTMP,CTDSAL,CTDSAL_FLAG_W,SALNTY,SALNTY_FLAG_W,CTDOXY,CTDOXY_FLAG_W,OXYGEN,OXYGEN_FLAG_W,SILCAT,SILCAT_FLAG_W,NITRAT,NITRAT_FLAG_W,NITRIT,NITRIT_FLAG_W,PHSPHT,PHSPHT_FLAG_W,CFC-11,CFC-11_FLAG_W,CFC-12,CFC-12_FLAG_W,TCARBN,TCARBN_FLAG_W,ALKALI,ALKALI_FLAG_W,TRITUM,TRITUM_FLAG_W,HELIUM,HELIUM_FLAG_W,DELHE3,DELHE3_FLAG_W,DELC13,DELC13_FLAG_W,DELC14,DELC14_FLAG_W,C14ERR,THETA,HELIER,DELHER,TRITER
,,,,,,,,,,,METERS,DBAR,ITS-90,PSS-78,,PSS-78,,UMOL/KG,,UMOL/KG,,UMOL/KG,,UMOL/KG,,UMOL/KG,,UMOL/KG,,PMOL/KG,,PMOL/KG,,UMOL/KG,,UMOL/KG,,TU,,NMOL/KG,,PERCNT,,/MILLE,,/MILLE,,/MILLE,ITS-90,NMOL/KG,PERCNT,TU
31WTTUNES_3,       P16C,     317,          3,         36,         24,2,19910929,       0114,    18.0022,  -153.4973,       4968,     7.7,  26.8423,  34.5696,2,  34.5871,2,    212.4,3,   208.8,2,    1.78,2,    0.08,2,    0.00,2,    0.16,2,-999.000,9,-999.000,9,  -999.0,9,  -999.0,9,-999.000,9,-999.0000,9, -999.00,9, -999.00,9,  -999.0,9,  -999.0,    26.8405,-999.0000,-999.000,-999.000
31WTTUNES_3,       P16C,     317,          3,         35,         23,2,19910929,       0114,    18.0022,  -153.4973,       4968,    39.9,  26.7161,  34.5692,2,  34.5836,2,    212.9,2,   211.8,2,    2.19,2,    0.08,2,    0.00,2,    0.16,2,-999.000,9,-999.000,9,  -999.0,9,  -999.0,9,-999.000,9,-999.0000,9, -999.00,9, -999.00,9,  -999.0,9,  -999.0,    26.7070,-999.0000,-999.000,-999.000
31WTTUNES_3,       P16C,     317,          3,         34,         22,2,19910929,       0114,    18.0022,  -153.4973,       4968,    69.8,  26.5744,  34.5457,2,  34.5639,2,    218.8,2,   212.1,2,    1.80,2,    0.09,2,    0.00,2,    0.16,2,-999.000,9,-999.000,9,  -999.0,9,  -999.0,9,-999.000,9,-999.0000,9, -999.00,9, -999.00,9,  -999.0,9,  -999.0,    26.5586,-999.0000,-999.000,-999.000
31WTTUNES_3,       P16C,     317,          3,         33,         21,2,19910929,       0114,    18.0022,  -153.4973,       4968,   100.2,  23.3340,  34.7047,2,  34.8011,2,    233.2,2,   226.1,2,    1.81,2,    0.09,2,    0.00,2,    0.17,2,-999.000,9,-999.000,9,  -999.0,9,  -999.0,9,-999.000,9,-999.0000,9, -999.00,9, -999.00,9,  -999.0,9,  -999.0,    23.3134,-999.0000,-999.000,-999.000
31WTTUNES_3,       P16C,     317,          3,         32,         20,2,19910929,       0114,    18.0022,  -153.4973,       4968,   130.7,  22.0449,  34.8719,2,  34.8703,2,    226.2,2,   217.3,2,    2.01,2,    0.09,2,    0.00,2,    0.19,2,-999.000,9,-999.000,9,  -999.0,9,  -999.0,9,-999.000,9,-999.0000,9, -999.00,9, -999.00,9,  -999.0,9,  -999.0,    22.0190,-999.0000,-999.000,-999.000
31WTTUNES_3,       P16C,     317,          3,         31,         19,2,19910929,       0114,    18.0022,  -153.4973,       4968,   171.5,  19.9776,  34.9467,2,  34.9146,2,    198.8,2,   186.6,2,    3.65,2,    2.88,2,    0.04,2,    0.39,2,-999.000,9,-999.000,9,  -999.0,9,  -999.0,9,-999.000,9,-999.0000,9, -999.00,9, -999.00,9,  -999.0,9,  -999.0,    19.9460,-999.0000,-999.000,-999.000
31WTTUNES_3,       P16C,     317,          3,         30,         18,2,19910929,       0114,    18.0022,  -153.4973,       4968,   211.5,  16.8170,  34.6719,2,  34.5828,2,    169.6,2,   179.9,2,    6.49,2,    7.68,2,    0.01,2,    0.66,2,-999.000,9,-999.000,9,  -999.0,9,  -999.0,9,-999.000,9,-999.0000,9, -999.00,9, -999.00,9,  -999.0,9,  -999.0,    16.7824,-999.0000,-999.000,-999.000
31WTTUNES_3,       P16C,     317,          3,         29,         17,2,19910929,       0114,    18.0022,  -153.4973,       4968,   262.5,  12.6663,  34.2550,2,  34.2091,2,    189.4,2,   184.6,2,   14.42,2,   14.28,2,    0.00,2,    1.10,2,-999.000,9,-999.000,9,  -999.0,9,  -999.0,9,-999.000,9,-999.0000,9, -999.00,9, -999.00,9,  -999.0,9,  -999.0,    12.6310,-999.0000,-999.000,-999.000
31WTTUNES_3,       P16C,     317,          3,         28,         16,2,19910929,       0114,    18.0022,  -153.4973,       4968,   313.2,  10.0646,  34.1352,2,  34.1313,2,    174.0,2,   170.2,2,   24.38,2,   19.99,2,    0.00,2,    1.50,2,-999.000,9,-999.000,9,  -999.0,9,  -999.0,9,-999.000,9,-999.0000,9, -999.00,9, -999.00,9,  -999.0,9,  -999.0,    10.0282,-999.0000,-999.000,-999.000
31WTTUNES_3,       P16C,     317,          3,         27,         15,2,19910929,       0114,    18.0022,  -153.4973,       4968,   363.4,   8.7776,  34.1414,2,  34.1160,2,    128.8,2,   129.9,2,   37.19,2,   26.11,2,    0.00,2,    1.95,2,-999.000,9,-999.000,9,  -999.0,9,  -999.0,9,-999.000,9,-999.0000,9, -999.00,9, -999.00,9,  -999.0,9,  -999.0,     8.7387,-999.0000,-999.000,-999.000
31WTTUNES_3,       P16C,     317,          3,         26,         14,2,19910929,       0114,    18.0022,  -153.4973,       4968,   414.9,   7.3919,  34.1008,2,  34.1215,2,     99.2,2,    82.6,2,   54.68,2,   32.64,2,    0.00,2,    2.43,2,-999.000,9,-999.000,9,  -999.0,9,  -999.0,9,-999.000,9,-999.0000,9, -999.00,9, -999.00,9,  -999.0,9,  -999.0,     7.3518,-999.0000,-999.000,-999.000
31WTTUNES_3,       P16C,     317,          3,         25,         13,2,19910929,       0114,    18.0022,  -153.4973,       4968,   467.1,   6.7942,  34.2182,2,  34.2587,2,     54.7,2,    42.3,2,   61.39,2,   35.93,2,    0.00,2,    2.73,2,-999.000,9,-999.000,9,  -999.0,9,  -999.0,9,-999.000,9,-999.0000,9, -999.00,9, -999.00,9,  -999.0,9,  -999.0,     6.7509,-999.0000,-999.000,-999.000
31WTTUNES_3,       P16C,     317,          3,         24,         12,2,19910929,       0114,    18.0022,  -153.4973,       4968,   518.3,   6.5578,  34.2964,2,  34.3246,2,     34.1,2,    29.1,2,   70.34,2,   38.38,2,    0.00,2,    2.88,2,   0.004,2,   0.002,2,  -999.0,9,  -999.0,9,-999.000,9,-999.0000,9, -999.00,9, -999.00,9,  -999.0,9,  -999.0,     6.5104,-999.0000,-999.000,-999.000
31WTTUNES_3,       P16C,     317,          3,         23,         11,2,19910929,       0114,    18.0022,  -153.4973,       4968,   619.1,   5.8146,  34.3985,2,  34.4177,2,     27.4,2,    26.2,2,   80.73,2,   40.53,2,    0.00,2,    3.00,2,   0.014,3,   0.016,3,  -999.0,9,  -999.0,9,-999.000,9,-999.0000,9, -999.00,9, -999.00,9,  -999.0,9,  -999.0,     5.7610,-999.0000,-999.000,-999.000
31WTTUNES_3,       P16C,     317,          3,         22,         10,2,19910929,       0114,    18.0022,  -153.4973,       4968,   720.5,   5.3069,  34.4567,2,  34.4589,2,     30.4,2,    30.1,2,   88.46,2,   41.19,2,    0.00,2,    3.03,2,   0.007,2,   0.005,2,  -999.0,9,  -999.0,9,-999.000,9,-999.0000,9, -999.00,9, -999.00,9,  -999.0,9,  -999.0,     5.2467,-999.0000,-999.000,-999.000
31WTTUNES_3,       P16C,     317,          3,         21,          9,2,19910929,       0114,    18.0022,  -153.4973,       4968,   822.1,   4.8244,  34.4785,2,  34.4840,2,     34.3,2,    34.5,2,   96.82,2,   41.64,2,    0.00,2,    3.07,2,  -0.009,2,  -0.005,2,  -999.0,9,  -999.0,9,-999.000,9,-999.0000,9, -999.00,9, -999.00,9,  -999.0,9,  -999.0,     4.7582,-999.0000,-999.000,-999.000
31WTTUNES_3,       P16C,     317,          3,         20,          8,2,19910929,       0114,    18.0022,  -153.4973,       4968,   926.3,   4.4488,  34.5064,2,  34.5241,2,     39.6,2,    38.6,2,  104.37,2,   41.99,2,    0.00,2,    3.07,2,   0.004,2,   0.001,2,  -999.0,9,  -999.0,9,-999.000,9,-999.0000,9, -999.00,9, -999.00,9,  -999.0,9,  -999.0,     4.3760,-999.0000,-999.000,-999.000
31WTTUNES_3,       P16C,     317,          3,         19,          7,2,19910929,       0114,    18.0022,  -153.4973,       4968,  1084.5,   3.9326,  34.5316,2,  34.5276,2,     43.5,2,    41.4,2,  111.38,2,   42.18,2,    0.00,2,    3.06,2,   0.003,2,  -0.001,2,  -999.0,9,  -999.0,9,-999.000,9,-999.0000,9, -999.00,9, -999.00,9,  -999.0,9,  -999.0,     3.8503,-999.0000,-999.000,-999.000
31WTTUNES_3,       P16C,     317,          3,         18,          6,2,19910929,       0114,    18.0022,  -153.4973,       4968,  1162.8,   3.7026,  34.5429,2,  34.5408,2,     46.1,2,    45.5,2,  117.50,2,   42.12,2,    0.00,2,    3.06,2,   0.001,2,   0.002,2,  -999.0,9,  -999.0,9,-999.000,9,-999.0000,9, -999.00,9, -999.00,9,  -999.0,9,  -999.0,     3.6157,-999.0000,-999.000,-999.000
31WTTUNES_3,       P16C,     317,          3,         17,          5,2,19910929,       0114,    18.0022,  -153.4973,       4968,  1336.0,   3.2585,  34.5682,2,  34.5675,2,     59.5,2,    59.4,2,  127.70,2,   41.49,2,    0.00,2,    3.02,2,   0.030,4,   0.033,4,  -999.0,9,  -999.0,9,-999.000,9,-999.0000,9, -999.00,9, -999.00,9,  -999.0,9,  -999.0,     3.1615,-999.0000,-999.000,-999.000
31WTTUNES_3,       P16C,     317,          3,         16,          4,2,19910929,       0114,    18.0022,  -153.4973,       4968,  1541.4,   2.8282,  34.5903,2,  34.5869,2,     71.3,2,    70.0,2,  136.28,2,   40.92,2,    0.00,2,    2.94,2,   0.004,2,   0.003,2,  -999.0,9,  -999.0,9,-999.000,9,-999.0000,9, -999.00,9, -999.00,9,  -999.0,9,  -999.0,     2.7188,-999.0000,-999.000,-999.000
31WTTUNES_3,       P16C,     317,          3,         15,          3,2,19910929,       0114,    18.0022,  -153.4973,       4968,  1746.0,   2.4757,  34.6068,2,  34.6052,2,     81.7,2,    82.0,2,  144.25,2,   40.15,2,    0.00,2,    2.86,2,   0.002,2,   0.005,2,  -999.0,9,  -999.0,9,-999.000,9,-999.0000,9, -999.00,9, -999.00,9,  -999.0,9,  -999.0,     2.3538,-999.0000,-999.000,-999.000
31WTTUNES_3,       P16C,     317,          3,         14,          2,2,19910929,       0114,    18.0022,  -153.4973,       4968,  1952.9,   2.2034,  34.6220,2,  34.6215,2,     92.1,2,    92.7,2,  150.79,2,   39.73,2,    0.00,2,    2.82,2,   0.001,2,   0.000,2,  -999.0,9,  -999.0,9,-999.000,9,-999.0000,9, -999.00,9, -999.00,9,  -999.0,9,  -999.0,     2.0679,-999.0000,-999.000,-999.000
31WTTUNES_3,       P16C,     317,          3,         13,          1,2,19910929,       0114,    18.0022,  -153.4973,       4968,  2158.5,   2.0029,  34.6359,2,  34.6372,2,    100.3,2,   106.0,3,  154.89,2,   39.42,2,    0.00,2,    2.79,2,   0.003,2,   0.002,2,  -999.0,9,  -999.0,9,-999.000,9,-999.0000,9, -999.00,9, -999.00,9,  -999.0,9,  -999.0,     1.8530,-999.0000,-999.000,-999.000
31WTTUNES_3,       P16C,     317,          3,         12,         36,2,19910929,       0114,    18.0022,  -153.4973,       4968,  2366.2,   1.8518,  34.6480,2,  34.6474,2,    108.9,2,   107.4,2,  157.36,2,   38.79,2,    0.00,2,    2.73,2,-999.000,9,-999.000,9,  -999.0,9,  -999.0,9,-999.000,9,-999.0000,9, -999.00,9, -999.00,9,  -999.0,9,  -999.0,     1.6862,-999.0000,-999.000,-999.000
31WTTUNES_3,       P16C,     317,          3,         11,         35,2,19910929,       0114,    18.0022,  -153.4973,       4968,  2570.4,   1.7652,  34.6569,2,  34.6549,2,    114.7,2,   115.2,2,  158.42,2,   38.38,2,    0.00,2,    2.70,2,-999.000,9,-999.000,9,  -999.0,9,  -999.0,9,-999.000,9,-999.0000,9, -999.00,9, -999.00,9,  -999.0,9,  -999.0,     1.5829,-999.0000,-999.000,-999.000
31WTTUNES_3,       P16C,     317,          3,         10,         34,2,19910929,       0114,    18.0022,  -153.4973,       4968,  2781.3,   1.6932,  34.6634,2,  34.6614,2,    119.9,2,   119.2,2,  159.46,2,   38.01,2,    0.00,2,    2.67,2,-999.000,9,-999.000,9,  -999.0,9,  -999.0,9,-999.000,9,-999.0000,9, -999.00,9, -999.00,9,  -999.0,9,  -999.0,     1.4929,-999.0000,-999.000,-999.000
31WTTUNES_3,       P16C,     317,          3,          9,         33,2,19910929,       0114,    18.0022,  -153.4973,       4968,  2987.5,   1.6353,  34.6690,2,  34.6665,2,    125.0,2,   124.3,2,  160.52,2,   37.75,2,    0.00,2,    2.64,2,-999.000,9,-999.000,9,  -999.0,9,  -999.0,9,-999.000,9,-999.0000,9, -999.00,9, -999.00,9,  -999.0,9,  -999.0,     1.4168,-999.0000,-999.000,-999.000
31WTTUNES_3,       P16C,     317,          3,          8,         32,2,19910929,       0114,    18.0022,  -153.4973,       4968,  3245.3,   1.5697,  34.6748,2,  34.6739,2,    130.8,2,   130.5,2,  161.25,2,   37.47,2,    0.00,2,    2.60,2,-999.000,9,-999.000,9,  -999.0,9,  -999.0,9,-999.000,9,-999.0000,9, -999.00,9, -999.00,9,  -999.0,9,  -999.0,     1.3276,-999.0000,-999.000,-999.000
31WTTUNES_3,       P16C,     317,          3,          7,         31,2,19910929,       0114,    18.0022,  -153.4973,       4968,  3503.8,   1.5283,  34.6788,2,  34.6781,2,    136.6,2,   137.3,2,  160.26,2,   37.00,2,    0.00,2,    2.57,2,-999.000,9,-999.000,9,  -999.0,9,  -999.0,9,-999.000,9,-999.0000,9, -999.00,9, -999.00,9,  -999.0,9,  -999.0,     1.2611,-999.0000,-999.000,-999.000
31WTTUNES_3,       P16C,     317,          3,          6,         30,2,19910929,       0114,    18.0022,  -153.4973,       4968,  3762.4,   1.4883,  34.6828,2,  34.6818,2,    144.2,2,   144.8,2,  157.44,2,   36.44,2,    0.00,2,    2.53,2,-999.000,9,-999.000,9,  -999.0,9,  -999.0,9,-999.000,9,-999.0000,9, -999.00,9, -999.00,9,  -999.0,9,  -999.0,     1.1953,-999.0000,-999.000,-999.000
31WTTUNES_3,       P16C,     317,          3,          5,         29,2,19910929,       0114,    18.0022,  -153.4973,       4968,  4021.9,   1.4563,  34.6869,2,  34.6855,2,    152.3,2,   153.6,2,  153.59,2,   35.97,2,    0.00,2,    2.48,2,-999.000,9,-999.000,9,  -999.0,9,  -999.0,9,-999.000,9,-999.0000,9, -999.00,9, -999.00,9,  -999.0,9,  -999.0,     1.1362,-999.0000,-999.000,-999.000
31WTTUNES_3,       P16C,     317,          3,          4,         28,2,19910929,       0114,    18.0022,  -153.4973,       4968,  4280.5,   1.4439,  34.6895,2,  34.6893,2,    158.1,2,   158.7,2,  149.95,2,   35.56,2,    0.00,2,    2.46,2,-999.000,9,-999.000,9,  -999.0,9,  -999.0,9,-999.000,9,-999.0000,9, -999.00,9, -999.00,9,  -999.0,9,  -999.0,     1.0955,-999.0000,-999.000,-999.000
31WTTUNES_3,       P16C,     317,          3,          3,         27,2,19910929,       0114,    18.0022,  -153.4973,       4968,  4544.4,   1.4334,  34.6925,2,  34.6912,2,    164.4,2,   165.2,2,  145.50,2,   35.05,2,    0.00,2,    2.43,2,-999.000,9,-999.000,9,  -999.0,9,  -999.0,9,-999.000,9,-999.0000,9, -999.00,9, -999.00,9,  -999.0,9,  -999.0,     1.0552,-999.0000,-999.000,-999.000
31WTTUNES_3,       P16C,     317,          3,          2,         26,2,19910929,       0114,    18.0022,  -153.4973,       4968,  4801.7,   1.4243,  34.6946,2,  34.6934,2,    170.6,2,   169.2,2,  142.05,2,   34.73,2,    0.00,2,    2.40,2,-999.000,9,-999.000,9,  -999.0,9,  -999.0,9,-999.000,9,-999.0000,9, -999.00,9, -999.00,9,  -999.0,9,  -999.0,     1.0164,-999.0000,-999.000,-999.000
31WTTUNES_3,       P16C,     317,          3,          1,         25,2,19910929,       0114,    18.0022,  -153.4973,       4968,  5025.0,   1.4150,  34.6968,2,  34.6956,2,    174.2,2,   174.8,2,  138.61,2,   34.32,2,    0.00,2,    2.39,2,-999.000,9,-999.000,9,  -999.0,9,  -999.0,9,-999.000,9,-999.0000,9, -999.00,9, -999.00,9,  -999.0,9,  -999.0,     0.9806,-999.0000,-999.000,-999.000