BOTTLE,20211117CCHSIORKP
EXPOCODE,SECT_ID,STNNBR,CASTNO,SAMPNO,BTLNBR,BTLNBR_FLAG_W,DATE,TIME,LATITUDE,LONGITUDE,DEPTH,CTDPRS,CTDTMP,CTDSAL,CTDSAL_FLAG_W,SALNTY,SALNTY_FLAG_W,CTDOXY,CTDOXY_FLAG_W,OXYGEN,OXYGEN_FLAG_W,SILCAT,SILCAT_FLAG_W,NITRAT,NITRAT_FLAG_W,NITRIT,NITRIT_FLAG_W,PHSPHT,PHSPHT_FLAG_W,CFC-11,CFC-11_FLAG_W,CFC-12,CFC-12_FLAG_W,TCARBN,TCARBN_FLAG_W,ALKALI,ALKALI_FLAG_W,TRITUM,TRITUM_FLAG_W,HELIUM,HELIUM_FLAG_W,DELHE3,DELHE3_FLAG_W,DELC13,DELC13_FLAG_W,DELC14,DELC14_FLAG_W,C14ERR,THETA,HELIER,DELHER,TRITER
,,,,,,,,,,,METERS,DBAR,ITS-90,PSS-78,,PSS-78,,UMOL/KG,,UMOL/KG,,UMOL/KG,,UMOL/KG,,UMOL/KG,,UMOL/KG,,PMOL/KG,,PMOL/KG,,UMOL/KG,,UMOL/KG,,TU,,NMOL/KG,,PERCNT,,/MILLE,,/MILLE,,/MILLE,ITS-90,NMOL/KG,PERCNT,TU
31WTTUNES_3,       P16C,     252,          1,         36,         35,2,19910911,       1429,    -2.6832,  -151.0125,       4809,     5.4,  27.2833,  35.4213,2,  35.4233,2,    212.9,3,   213.0,2,    2.07,2,    4.79,2,    0.26,2,    0.58,2,   1.623,2,   0.927,2,  -999.0,9,  -999.0,9,-999.000,9,-999.0000,9, -999.00,9, -999.00,9,  -999.0,9,  -999.0,    27.2821,-999.0000,-999.000,-999.000
31WTTUNES_3,       P16C,     252,          1,         35,         34,2,19910911,       1429,    -2.6832,  -151.0125,       4809,    47.2,  27.1923,  35.4306,2,  35.4233,2,    210.8,2,   214.1,2,    2.06,2,    4.82,2,    0.27,2,    0.59,2,   1.693,2,   0.950,2,  -999.0,9,  -999.0,9,-999.000,9,-999.0000,9, -999.00,9, -999.00,9,  -999.0,9,  -999.0,    27.1814,-999.0000,-999.000,-999.000
31WTTUNES_3,       P16C,     252,          1,         34,         33,2,19910911,       1429,    -2.6832,  -151.0125,       4809,   105.9,  27.1492,  35.4426,2,  35.4391,2,    209.0,2,   217.9,2,    2.05,2,    4.95,2,    0.28,2,    0.61,2,   1.689,2,   0.937,2,  -999.0,9,  -999.0,9,-999.000,9,-999.0000,9, -999.00,9, -999.00,9,  -999.0,9,  -999.0,    27.1248,-999.0000,-999.000,-999.000
31WTTUNES_3,       P16C,     252,          1,         33,         32,2,19910911,       1429,    -2.6832,  -151.0125,       4809,   131.3,  23.1688,  35.8399,2,  35.7953,2,    161.2,2,   145.9,2,    3.03,2,    6.60,2,    1.69,2,    0.93,2,   1.757,6,   0.955,6,  -999.0,9,  -999.0,9,-999.000,9,-999.0000,9, -999.00,9, -999.00,9,  -999.0,9,  -999.0,    23.1417,-999.0000,-999.000,-999.000
31WTTUNES_3,       P16C,     252,          1,         32,         31,2,19910911,       1429,    -2.6832,  -151.0125,       4809,   158.3,  14.2723,  35.0635,2,  35.0136,2,     42.4,2,    30.3,2,   18.64,2,   28.80,2,    0.01,2,    2.11,2,-999.000,9,-999.000,9,  -999.0,9,  -999.0,9,-999.000,9,-999.0000,9, -999.00,9, -999.00,9,  -999.0,9,  -999.0,    14.2491,-999.0000,-999.000,-999.000
31WTTUNES_3,       P16C,     252,          1,         31,         30,2,19910911,       1429,    -2.6832,  -151.0125,       4809,   184.1,  13.2062,  34.9547,2,  34.9172,2,     19.9,2,    17.5,2,   22.34,2,   31.67,2,    0.01,2,    2.24,2,   0.298,2,   0.178,2,  -999.0,9,  -999.0,9,-999.000,9,-999.0000,9, -999.00,9, -999.00,9,  -999.0,9,  -999.0,    13.1806,-999.0000,-999.000,-999.000
31WTTUNES_3,       P16C,     252,          1,         30,         29,2,19910911,       1429,    -2.6832,  -151.0125,       4809,   210.5,  12.5848,  34.9045,2,  34.8847,2,     20.8,2,    35.2,2,   22.92,2,   30.51,2,    0.01,2,    2.15,2,   0.283,2,   0.166,2,  -999.0,9,  -999.0,9,-999.000,9,-999.0000,9, -999.00,9, -999.00,9,  -999.0,9,  -999.0,    12.5565,-999.0000,-999.000,-999.000
31WTTUNES_3,       P16C,     252,          1,         29,         28,2,19910911,       1429,    -2.6832,  -151.0125,       4809,   260.9,  12.0334,  34.8637,2,  34.8493,2,     56.5,2,    77.3,2,   21.92,2,   27.34,2,    0.01,2,    1.92,2,   0.385,6,   0.220,6,  -999.0,9,  -999.0,9,-999.000,9,-999.0000,9, -999.00,9, -999.00,9,  -999.0,9,  -999.0,    11.9993,-999.0000,-999.000,-999.000
31WTTUNES_3,       P16C,     252,          1,         28,         27,2,19910911,       1429,    -2.6832,  -151.0125,       4809,   312.6,  11.4801,  34.8269,2,  34.8269,2,     63.9,2,    78.2,2,   22.31,2,   27.83,2,    0.01,2,    1.95,2,-999.000,9,-999.000,9,  -999.0,9,  -999.0,9,-999.000,9,-999.0000,9, -999.00,9, -999.00,9,  -999.0,9,  -999.0,    11.4405,-999.0000,-999.000,-999.000
31WTTUNES_3,       P16C,     252,          1,         27,         26,2,19910911,       1429,    -2.6832,  -151.0125,       4809,   363.9,  11.1251,  34.8156,2,  34.8070,2,     98.2,2,    80.8,2,   22.70,2,   28.17,2,    0.01,2,    1.98,2,   0.296,2,   0.179,2,  -999.0,9,  -999.0,9,-999.000,9,-999.0000,9, -999.00,9, -999.00,9,  -999.0,9,  -999.0,    11.0796,-999.0000,-999.000,-999.000
31WTTUNES_3,       P16C,     252,          1,         26,         25,2,19910911,       1429,    -2.6832,  -151.0125,       4809,   414.6,  10.2805,  34.7602,2,  34.7559,2,     49.3,2,    41.5,2,   29.01,2,   33.19,2,    0.01,2,    2.35,2,-999.000,9,-999.000,9,  -999.0,9,  -999.0,9,-999.000,9,-999.0000,9, -999.00,9, -999.00,9,  -999.0,9,  -999.0,    10.2312,-999.0000,-999.000,-999.000
31WTTUNES_3,       P16C,     252,          1,         25,         36,2,19910911,       1429,    -2.6832,  -151.0125,       4809,   465.3,   9.5078,  34.7176,2,  34.7140,2,     15.7,2,    17.5,2,   35.10,2,   37.15,2,    0.01,2,    2.61,2,   0.031,4,   0.021,4,  -999.0,9,  -999.0,9,-999.000,9,-999.0000,9, -999.00,9, -999.00,9,  -999.0,9,  -999.0,     9.4549,-999.0000,-999.000,-999.000
31WTTUNES_3,       P16C,     252,          1,         24,         24,2,19910911,       1429,    -2.6832,  -151.0125,       4809,   515.5,   8.5601,  34.6636,2,  34.6612,2,     19.7,2,    21.6,2,   39.48,2,   39.05,2,    0.01,2,    2.71,2,   0.010,2,   0.009,2,  -999.0,9,  -999.0,9,-999.000,9,-999.0000,9, -999.00,9, -999.00,9,  -999.0,9,  -999.0,     8.5051,-999.0000,-999.000,-999.000
31WTTUNES_3,       P16C,     252,          1,         23,         23,2,19910911,       1429,    -2.6832,  -151.0125,       4809,   618.9,   7.1999,  34.5940,2,  34.5916,2,     49.9,2,    48.6,2,   46.01,2,   39.40,2,    0.01,2,    2.73,2,   0.004,2,   0.006,2,  -999.0,9,  -999.0,9,-999.000,9,-999.0000,9, -999.00,9, -999.00,9,  -999.0,9,  -999.0,     7.1396,-999.0000,-999.000,-999.000
31WTTUNES_3,       P16C,     252,          1,         22,         22,2,19910911,       1429,    -2.6832,  -151.0125,       4809,   719.5,   6.2067,  34.5616,2,  34.5590,2,     61.1,2,    62.6,2,   55.48,2,   39.84,2,    0.01,2,    2.78,2,-999.000,9,-999.000,9,  -999.0,9,  -999.0,9,-999.000,9,-999.0000,9, -999.00,9, -999.00,9,  -999.0,9,  -999.0,     6.1416,-999.0000,-999.000,-999.000
31WTTUNES_3,       P16C,     252,          1,         21,         21,2,19910911,       1429,    -2.6832,  -151.0125,       4809,   823.1,   5.4593,  34.5559,2,  34.5537,2,     63.5,2,    64.7,2,   67.79,2,   40.31,2,    0.00,2,    2.85,2,-999.000,9,-999.000,9,  -999.0,9,  -999.0,9,-999.000,9,-999.0000,9, -999.00,9, -999.00,9,  -999.0,9,  -999.0,     5.3888,-999.0000,-999.000,-999.000
31WTTUNES_3,       P16C,     252,          1,         20,         20,2,19910911,       1429,    -2.6832,  -151.0125,       4809,   925.3,   4.8940,  34.5497,2,  34.5466,2,     80.1,2,    80.2,2,   75.30,2,   39.38,2,    0.00,2,    2.82,2,-999.000,9,-999.000,9,  -999.0,9,  -999.0,9,-999.000,9,-999.0000,9, -999.00,9, -999.00,9,  -999.0,9,  -999.0,     4.8180,-999.0000,-999.000,-999.000
31WTTUNES_3,       P16C,     252,          1,         19,         19,2,19910911,       1429,    -2.6832,  -151.0125,       4809,  1026.8,   4.5551,  34.5538,2,  34.5519,2,     85.6,2,    86.0,2,   82.81,2,   39.23,2,    0.00,2,    2.81,2,   0.000,2,   0.002,2,  -999.0,9,  -999.0,9,-999.000,9,-999.0000,9, -999.00,9, -999.00,9,  -999.0,9,  -999.0,     4.4728,-999.0000,-999.000,-999.000
31WTTUNES_3,       P16C,     252,          1,         18,         18,2,19910911,       1429,    -2.6832,  -151.0125,       4809,  1181.0,   4.0090,  34.5671,2,  34.5663,2,     92.2,2,    92.1,2,   94.26,2,   38.79,2,    0.00,2,    2.80,2,-999.000,9,-999.000,9,  -999.0,9,  -999.0,9,-999.000,9,-999.0000,9, -999.00,9, -999.00,9,  -999.0,9,  -999.0,     3.9180,-999.0000,-999.000,-999.000
31WTTUNES_3,       P16C,     252,          1,         17,         17,2,19910911,       1429,    -2.6832,  -151.0125,       4809,  1385.5,   3.3089,  34.5893,2,  34.5891,2,    101.6,2,   102.3,2,  108.50,2,   38.50,2,    0.00,2,    2.76,2,-999.000,9,-999.000,9,  -999.0,9,  -999.0,9,-999.000,9,-999.0000,9, -999.00,9, -999.00,9,  -999.0,9,  -999.0,     3.2072,-999.0000,-999.000,-999.000
31WTTUNES_3,       P16C,     252,          1,         16,         16,2,19910911,       1429,    -2.6832,  -151.0125,       4809,  1588.5,   2.8348,  34.6108,2,  34.6105,2,    104.3,2,   103.2,2,  121.74,2,   38.69,2,    0.00,2,    2.77,2,-999.000,9,-999.000,9,  -999.0,9,  -999.0,9,-999.000,9,-999.0000,9, -999.00,9, -999.00,9,  -999.0,9,  -999.0,     2.7214,-999.0000,-999.000,-999.000
31WTTUNES_3,       P16C,     252,          1,         15,         15,2,19910911,       1429,    -2.6832,  -151.0125,       4809,  1794.5,   2.4836,  34.6302,2,  34.6291,2,    105.1,2,   107.3,2,  131.43,2,   38.50,2,    0.00,2,    2.74,2,-999.000,9,-999.000,9,  -999.0,9,  -999.0,9,-999.000,9,-999.0000,9, -999.00,9, -999.00,9,  -999.0,9,  -999.0,     2.3574,-999.0000,-999.000,-999.000
31WTTUNES_3,       P16C,     252,          1,         14,         14,2,19910911,       1429,    -2.6832,  -151.0125,       4809,  1998.2,   2.2756,  34.6428,2,  34.6417,2,    106.5,2,   107.6,2,  137.94,2,   38.50,2,    0.00,2,    2.74,2,-999.000,9,-999.000,9,  -999.0,9,  -999.0,9,-999.000,9,-999.0000,9, -999.00,9, -999.00,9,  -999.0,9,  -999.0,     2.1351,-999.0000,-999.000,-999.000
31WTTUNES_3,       P16C,     252,          1,         13,         13,2,19910911,       1429,    -2.6832,  -151.0125,       4809,  2202.0,   2.1106,  34.6530,2,  34.6500,2,    110.2,2,   111.3,2,  142.69,2,   38.30,2,    0.00,2,    2.72,2,-999.000,9,-999.000,9,  -999.0,9,  -999.0,9,-999.000,9,-999.0000,9, -999.00,9, -999.00,9,  -999.0,9,  -999.0,     1.9549,-999.0000,-999.000,-999.000
31WTTUNES_3,       P16C,     252,          1,         12,         12,2,19910911,       1429,    -2.6832,  -151.0125,       4809,  2404.7,   1.9681,  34.6574,2,  34.6561,2,    120.8,2,   122.1,2,  141.09,2,   37.53,2,    0.00,2,    2.65,2,-999.000,9,-999.000,9,  -999.0,9,  -999.0,9,-999.000,9,-999.0000,9, -999.00,9, -999.00,9,  -999.0,9,  -999.0,     1.7971,-999.0000,-999.000,-999.000
31WTTUNES_3,       P16C,     252,          1,         11,         11,2,19910911,       1429,    -2.6832,  -151.0125,       4809,  2607.3,   1.8510,  34.6642,2,  34.6610,2,    127.0,2,   127.7,2,  142.46,2,   37.14,2,    0.00,2,    2.62,2,-999.000,9,-999.000,9,  -999.0,9,  -999.0,9,-999.000,9,-999.0000,9, -999.00,9, -999.00,9,  -999.0,9,  -999.0,     1.6636,-999.0000,-999.000,-999.000
31WTTUNES_3,       P16C,     252,          1,         10,         10,2,19910911,       1429,    -2.6832,  -151.0125,       4809,  2810.9,   1.7589,  34.6690,2,  34.6669,2,    132.5,2,   133.6,2,  143.05,2,   36.99,2,    0.00,2,    2.59,2,-999.000,9,-999.000,9,  -999.0,9,  -999.0,9,-999.000,9,-999.0000,9, -999.00,9, -999.00,9,  -999.0,9,  -999.0,     1.5544,-999.0000,-999.000,-999.000
31WTTUNES_3,       P16C,     252,          1,          9,          9,2,19910911,       1429,    -2.6832,  -151.0125,       4809,  3012.1,   1.6750,  34.6739,2,  34.6718,2,    140.2,2,   141.2,2,  142.05,2,   36.55,2,    0.00,2,    2.55,2,-999.000,9,-999.000,9,  -999.0,9,  -999.0,9,-999.000,9,-999.0000,9, -999.00,9, -999.00,9,  -999.0,9,  -999.0,     1.4532,-999.0000,-999.000,-999.000
31WTTUNES_3,       P16C,     252,          1,          8,          8,2,19910911,       1429,    -2.6832,  -151.0125,       4809,  3263.0,   1.5715,  34.6799,2,  34.6783,2,    146.9,2,   147.5,2,  142.64,2,   36.16,2,    0.00,2,    2.52,2,-999.000,9,-999.000,9,  -999.0,9,  -999.0,9,-999.000,9,-999.0000,9, -999.00,9, -999.00,9,  -999.0,9,  -999.0,     1.3275,-999.0000,-999.000,-999.000
31WTTUNES_3,       P16C,     252,          1,          7,          7,2,19910911,       1429,    -2.6832,  -151.0125,       4809,  3513.9,   1.4966,  34.6856,2,  34.6853,2,    153.2,2,   153.3,2,  143.22,2,   35.72,2,    0.00,2,    2.48,2,-999.000,9,-999.000,9,  -999.0,9,  -999.0,9,-999.000,9,-999.0000,9, -999.00,9, -999.00,9,  -999.0,9,  -999.0,     1.2292,-999.0000,-999.000,-999.000
31WTTUNES_3,       P16C,     252,          1,          6,          6,2,19910911,       1429,    -2.6832,  -151.0125,       4809,  3764.6,   1.4223,  34.6914,2,  34.6901,2,    160.3,2,   160.1,2,  142.82,2,   35.38,2,    0.00,2,    2.44,2,-999.000,9,-999.000,9,  -999.0,9,  -999.0,9,-999.000,9,-999.0000,9, -999.00,9, -999.00,9,  -999.0,9,  -999.0,     1.1306,-999.0000,-999.000,-999.000
31WTTUNES_3,       P16C,     252,          1,          5,          5,2,19910911,       1429,    -2.6832,  -151.0125,       4809,  4016.8,   1.3991,  34.6935,2,  34.6958,2,    164.3,2,   164.6,2,  141.81,2,   35.08,2,    0.00,2,    2.41,2,-999.000,9,-999.000,9,  -999.0,9,  -999.0,9,-999.000,9,-999.0000,9, -999.00,9, -999.00,9,  -999.0,9,  -999.0,     1.0811,-999.0000,-999.000,-999.000
31WTTUNES_3,       P16C,     252,          1,          4,          4,2,19910911,       1429,    -2.6832,  -151.0125,       4809,  4268.0,   1.3510,  34.6972,2,  34.6963,2,    177.3,2,   179.2,2,  131.13,2,   33.96,2,    0.00,2,    2.35,2,-999.000,9,-999.000,9,  -999.0,9,  -999.0,9,-999.000,9,-999.0000,9, -999.00,9, -999.00,9,  -999.0,9,  -999.0,     1.0068,-999.0000,-999.000,-999.000
31WTTUNES_3,       P16C,     252,          1,          3,          3,2,19910911,       1429,    -2.6832,  -151.0125,       4809,  4520.9,   1.3252,  34.6997,2,  34.6995,2,    184.7,2,   183.8,2,  128.94,2,   33.76,2,    0.00,2,    2.32,2,-999.000,9,-999.000,9,  -999.0,9,  -999.0,9,-999.000,9,-999.0000,9, -999.00,9, -999.00,9,  -999.0,9,  -999.0,     0.9532,-999.0000,-999.000,-999.000
31WTTUNES_3,       P16C,     252,          1,          2,          2,2,19910911,       1429,    -2.6832,  -151.0125,       4809,  4771.6,   1.3379,  34.7004,2,  34.7017,2,    186.4,2,   185.2,2,  128.73,2,   33.37,2,    0.00,2,    2.31,2,-999.000,9,-999.000,9,  -999.0,9,  -999.0,9,-999.000,9,-999.0000,9, -999.00,9, -999.00,9,  -999.0,9,  -999.0,     0.9364,-999.0000,-999.000,-999.000
31WTTUNES_3,       P16C,     252,          1,          1,          1,2,19910911,       1429,    -2.6832,  -151.0125,       4809,  4865.0,   1.3359,  34.7008,2,  34.7020,2,    186.0,2,   186.4,2,  128.93,2,   33.52,2,    0.00,2,    2.31,2,-999.000,9,-999.000,9,  -999.0,9,  -999.0,9,-999.000,9,-999.0000,9, -999.00,9, -999.00,9,  -999.0,9,  -999.0,     0.9234,-999.0000,-999.000,-999.000
31WTTUNES_3,       P16C,     253,          1,         11,         11,2,19910911,       1907,    -2.5052,  -151.0085,       4819,    24.3,  27.3456,  35.4256,3,  35.4358,2,    209.1,2,   208.9,2, -999.00,9, -999.00,9, -999.00,9, -999.00,9,-999.000,9,-999.000,9,  -999.0,9,  -999.0,9,-999.000,9,-999.0000,9, -999.00,9, -999.00,9,  -999.0,9,  -999.0,    27.3400,-999.0000,-999.000,-999.000
31WTTUNES_3,       P16C,     253,          1,         10,         10,2,19910911,       1907,    -2.5052,  -151.0085,       4819,   218.6,  12.6536,  34.9007,3,  34.9032,2,     22.6,2,    21.6,2, -999.00,9, -999.00,9, -999.00,9, -999.00,9,-999.000,9,-999.000,9,  -999.0,9,  -999.0,9,-999.000,9,-999.0000,9, -999.00,9, -999.00,9,  -999.0,9,  -999.0,    12.6241,-999.0000,-999.000,-999.000
31WTTUNES_3,       P16C,     253,          1,          9,          9,2,19910911,       1907,    -2.5052,  -151.0085,       4819,   323.6,  11.4665,  34.8276,3,  34.8330,2,     36.9,2,    42.7,2, -999.00,9, -999.00,9, -999.00,9, -999.00,9,-999.000,9,-999.000,9,  -999.0,9,  -999.0,9,-999.000,9,-999.0000,9, -999.00,9, -999.00,9,  -999.0,9,  -999.0,    11.4254,-999.0000,-999.000,-999.000
31WTTUNES_3,       P16C,     253,          1,          8,          8,2,19910911,       1907,    -2.5052,  -151.0085,       4819,   453.0,   9.5053,  34.7093,3,  34.6899,2,     16.5,2,    16.7,2, -999.00,9, -999.00,9, -999.00,9, -999.00,9,-999.000,9,-999.000,9,  -999.0,9,  -999.0,9,-999.000,9,-999.0000,9, -999.00,9, -999.00,9,  -999.0,9,  -999.0,     9.4538,-999.0000,-999.000,-999.000
31WTTUNES_3,       P16C,     253,          1,          7,          7,2,19910911,       1907,    -2.5052,  -151.0085,       4819,   768.9,   5.9072,  34.5479,3,  34.5584,2,     64.2,2,    58.7,2, -999.00,9, -999.00,9, -999.00,9, -999.00,9,-999.000,9,-999.000,9,  -999.0,9,  -999.0,9,-999.000,9,-999.0000,9, -999.00,9, -999.00,9,  -999.0,9,  -999.0,     5.8390,-999.0000,-999.000,-999.000
31WTTUNES_3,       P16C,     253,          1,          6,          6,2,19910911,       1907,    -2.5052,  -151.0085,       4819,  1538.0,   2.8888,  34.5984,3,  34.6097,2,    102.5,2,   101.7,2, -999.00,9, -999.00,9, -999.00,9, -999.00,9,-999.000,9,-999.000,9,  -999.0,9,  -999.0,9,-999.000,9,-999.0000,9, -999.00,9, -999.00,9,  -999.0,9,  -999.0,     2.7790,-999.0000,-999.000,-999.000
31WTTUNES_3,       P16C,     253,          1,          5,          5,2,19910911,       1907,    -2.5052,  -151.0085,       4819,  2980.5,   1.6938,  34.6656,3,  34.6722,2,    136.4,2,   140.0,2, -999.00,9, -999.00,9, -999.00,9, -999.00,9,-999.000,9,-999.000,9,  -999.0,9,  -999.0,9,-999.000,9,-999.0000,9, -999.00,9, -999.00,9,  -999.0,9,  -999.0,     1.4746,-999.0000,-999.000,-999.000
31WTTUNES_3,       P16C,     253,          1,          4,          4,2,19910911,       1907,    -2.5052,  -151.0085,       4819,  3496.2,   1.5193,  34.6807,3,  34.6832,2,    150.7,2,   152.8,2, -999.00,9, -999.00,9, -999.00,9, -999.00,9,-999.000,9,-999.000,9,  -999.0,9,  -999.0,9,-999.000,9,-999.0000,9, -999.00,9, -999.00,9,  -999.0,9,  -999.0,     1.2531,-999.0000,-999.000,-999.000
31WTTUNES_3,       P16C,     253,          1,          3,          3,3,19910911,       1907,    -2.5052,  -151.0085,       4819,  4013.9,   1.4119,  34.6907,3,  35.3104,4,    162.9,2,   169.6,4, -999.00,9, -999.00,9, -999.00,9, -999.00,9,-999.000,9,-999.000,9,  -999.0,9,  -999.0,9,-999.000,9,-999.0000,9, -999.00,9, -999.00,9,  -999.0,9,  -999.0,     1.0939,-999.0000,-999.000,-999.000
31WTTUNES_3,       P16C,     253,          1,          2,          2,2,19910911,       1907,    -2.5052,  -151.0085,       4819,  4535.0,   1.3402,  34.6988,3,  34.6995,2,    180.7,2,   180.1,2, -999.00,9, -999.00,9, -999.00,9, -999.00,9,-999.000,9,-999.000,9,  -999.0,9,  -999.0,9,-999.000,9,-999.0000,9, -999.00,9, -999.00,9,  -999.0,9,  -999.0,     0.9661,-999.0000,-999.000,-999.000
31WTTUNES_3,       P16C,     253,          1,          1,          1,2,19910911,       1907,    -2.5052,  -151.0085,       4819,  4874.6,   1.3321,  34.7029,3,  34.7020,2,    185.6,2,   185.5,2, -999.00,9, -999.00,9, -999.00,9, -999.00,9,-999.000,9,-999.000,9,  -999.0,9,  -999.0,9,-999.000,9,-999.0000,9, -999.00,9, -999.00,9,  -999.0,9,  -999.0,     0.9185,-999.0000,-999.000,-999.000