BOTTLE,20211117CCHSIORKP
EXPOCODE,SECT_ID,STNNBR,CASTNO,SAMPNO,BTLNBR,BTLNBR_FLAG_W,DATE,TIME,LATITUDE,LONGITUDE,DEPTH,CTDPRS,CTDTMP,CTDSAL,CTDSAL_FLAG_W,SALNTY,SALNTY_FLAG_W,CTDOXY,CTDOXY_FLAG_W,OXYGEN,OXYGEN_FLAG_W,SILCAT,SILCAT_FLAG_W,NITRAT,NITRAT_FLAG_W,NITRIT,NITRIT_FLAG_W,PHSPHT,PHSPHT_FLAG_W,CFC-11,CFC-11_FLAG_W,CFC-12,CFC-12_FLAG_W,TCARBN,TCARBN_FLAG_W,ALKALI,ALKALI_FLAG_W,TRITUM,TRITUM_FLAG_W,HELIUM,HELIUM_FLAG_W,DELHE3,DELHE3_FLAG_W,DELC13,DELC13_FLAG_W,DELC14,DELC14_FLAG_W,C14ERR,THETA,HELIER,DELHER,TRITER
,,,,,,,,,,,METERS,DBAR,ITS-90,PSS-78,,PSS-78,,UMOL/KG,,UMOL/KG,,UMOL/KG,,UMOL/KG,,UMOL/KG,,UMOL/KG,,PMOL/KG,,PMOL/KG,,UMOL/KG,,UMOL/KG,,TU,,NMOL/KG,,PERCNT,,/MILLE,,/MILLE,,/MILLE,ITS-90,NMOL/KG,PERCNT,TU
31WTTUNES_3,       P16C,     309,          1,         36,         36,2,19910926,       1419,    14.3253,  -152.7807,       6001,     7.2,  27.4556,  34.4033,2,  34.3976,2,    206.6,3,   210.2,2,    1.70,2,    0.11,2,    0.00,2,    0.16,2,   1.700,2,   1.016,3,  -999.0,9,  -999.0,9,-999.000,9,-999.0000,9, -999.00,9, -999.00,9,  -999.0,9,  -999.0,    27.4539,-999.0000,-999.000,-999.000
31WTTUNES_3,       P16C,     309,          1,         35,         35,2,19910926,       1419,    14.3253,  -152.7807,       6001,    52.5,  24.2206,  34.5515,2,  34.5190,2,    231.6,2,   226.6,2,    1.91,2,    0.16,2,    0.00,2,    0.17,2,   2.006,6,   1.114,6,  -999.0,9,  -999.0,9,-999.000,9,-999.0000,9, -999.00,9, -999.00,9,  -999.0,9,  -999.0,    24.2095,-999.0000,-999.000,-999.000
31WTTUNES_3,       P16C,     309,          1,         34,         34,2,19910926,       1419,    14.3253,  -152.7807,       6001,    92.9,  20.1279,  34.6038,2,  34.6608,2,    210.2,2,   208.9,2,    3.08,2,    0.24,2,    0.01,2,    0.29,2,-999.000,9,-999.000,9,  -999.0,9,  -999.0,9,-999.000,9,-999.0000,9, -999.00,9, -999.00,9,  -999.0,9,  -999.0,    20.1107,-999.0000,-999.000,-999.000
31WTTUNES_3,       P16C,     309,          1,         33,         33,2,19910926,       1419,    14.3253,  -152.7807,       6001,   123.2,  16.4881,  34.5354,2,  34.5633,2,    174.0,2,   180.3,2,    6.02,2,    7.04,2,    0.03,2,    0.66,2,   2.208,6,   1.166,6,  -999.0,9,  -999.0,9,-999.000,9,-999.0000,9, -999.00,9, -999.00,9,  -999.0,9,  -999.0,    16.4683,-999.0000,-999.000,-999.000
31WTTUNES_3,       P16C,     309,          1,         32,         32,3,19910926,       1419,    14.3253,  -152.7807,       6001,   153.9,  13.2381,  34.2762,2,  34.2976,2,    118.5,2,  -999.0,9, -999.00,9, -999.00,9, -999.00,9, -999.00,9,-999.000,9,-999.000,9,  -999.0,9,  -999.0,9,-999.000,9,-999.0000,9, -999.00,9, -999.00,9,  -999.0,9,  -999.0,    13.2168,-999.0000,-999.000,-999.000
31WTTUNES_3,       P16C,     309,          1,         31,         31,2,19910926,       1419,    14.3253,  -152.7807,       6001,   214.9,  10.7209,  34.5434,2,  34.5099,2,     26.7,2,    38.9,2,   30.12,2,   29.85,2,    0.01,2,    2.32,2,   0.428,6,   0.235,6,  -999.0,9,  -999.0,9,-999.000,9,-999.0000,9, -999.00,9, -999.00,9,  -999.0,9,  -999.0,    10.6949,-999.0000,-999.000,-999.000
31WTTUNES_3,       P16C,     309,          1,         30,         30,2,19910926,       1419,    14.3253,  -152.7807,       6001,   265.4,  10.0418,  34.5950,2,  34.5791,2,     14.8,2,    20.1,2,   34.83,2,   32.60,2,    0.01,2,    2.49,2,   0.150,2,   0.091,2,  -999.0,9,  -999.0,9,-999.000,9,-999.0000,9, -999.00,9, -999.00,9,  -999.0,9,  -999.0,    10.0109,-999.0000,-999.000,-999.000
31WTTUNES_3,       P16C,     309,          1,         29,         29,2,19910926,       1419,    14.3253,  -152.7807,       6001,   315.1,   9.4871,  34.5882,2,  34.5893,2,     14.8,2,    15.0,2,   38.17,2,   34.26,2,    0.01,2,    2.59,2,   0.064,2,   0.034,2,  -999.0,9,  -999.0,9,-999.000,9,-999.0000,9, -999.00,9, -999.00,9,  -999.0,9,  -999.0,     9.4517,-999.0000,-999.000,-999.000
31WTTUNES_3,       P16C,     309,          1,         28,         28,2,19910926,       1419,    14.3253,  -152.7807,       6001,   418.7,   8.2291,  34.5374,2,  34.5502,2,     17.7,2,    16.4,2,   47.40,2,   36.64,2,    0.01,2,    2.73,2,   0.013,6,   0.012,6,  -999.0,9,  -999.0,9,-999.000,9,-999.0000,9, -999.00,9, -999.00,9,  -999.0,9,  -999.0,     8.1857,-999.0000,-999.000,-999.000
31WTTUNES_3,       P16C,     309,          1,         27,         27,2,19910926,       1419,    14.3253,  -152.7807,       6001,   521.9,   7.1844,  34.5101,2,  34.5097,2,     20.6,2,    19.4,2,   58.96,2,   38.60,2,    0.01,2,    2.87,2,   0.003,6,   0.007,6,  -999.0,9,  -999.0,9,-999.000,9,-999.0000,9, -999.00,9, -999.00,9,  -999.0,9,  -999.0,     7.1340,-999.0000,-999.000,-999.000
31WTTUNES_3,       P16C,     309,          1,         26,         26,2,19910926,       1419,    14.3253,  -152.7807,       6001,   625.4,   6.2779,  34.4957,2,  34.4972,2,     20.1,2,    19.4,2,   71.14,2,   40.67,2,    0.01,2,    3.01,2,  -0.001,2,   0.005,2,  -999.0,9,  -999.0,9,-999.000,9,-999.0000,9, -999.00,9, -999.00,9,  -999.0,9,  -999.0,     6.2214,-999.0000,-999.000,-999.000
31WTTUNES_3,       P16C,     309,          1,         25,         25,2,19910926,       1419,    14.3253,  -152.7807,       6001,   725.9,   5.6160,  34.4990,2,  34.5015,2,     21.7,2,    21.1,2,   81.54,2,   42.22,2,    0.01,2,    3.08,2,  -0.001,2,  -0.005,2,  -999.0,9,  -999.0,9,-999.000,9,-999.0000,9, -999.00,9, -999.00,9,  -999.0,9,  -999.0,     5.5536,-999.0000,-999.000,-999.000
31WTTUNES_3,       P16C,     309,          1,         24,         24,2,19910926,       1419,    14.3253,  -152.7807,       6001,   827.8,   5.0317,  34.5135,2,  34.5129,2,     25.4,2,    24.6,2,   91.36,2,   43.17,2,    0.01,2,    3.12,2,-999.000,9,-999.000,9,  -999.0,9,  -999.0,9,-999.000,9,-999.0000,9, -999.00,9, -999.00,9,  -999.0,9,  -999.0,     4.9636,-999.0000,-999.000,-999.000
31WTTUNES_3,       P16C,     309,          1,         23,         23,2,19910926,       1419,    14.3253,  -152.7807,       6001,  1030.7,   4.2187,  34.5378,2,  34.5378,2,     36.8,2,    36.2,2,  107.66,2,   43.28,2,    0.01,2,    3.12,2,-999.000,9,-999.000,9,  -999.0,9,  -999.0,9,-999.000,9,-999.0000,9, -999.00,9, -999.00,9,  -999.0,9,  -999.0,     4.1387,-999.0000,-999.000,-999.000
31WTTUNES_3,       P16C,     309,          1,         22,         22,2,19910926,       1419,    14.3253,  -152.7807,       6001,  1236.7,   3.5542,  34.5628,2,  34.5649,2,     50.9,2,    51.2,2,  121.60,2,   42.67,2,    0.00,2,    3.04,2,-999.000,9,-999.000,9,  -999.0,9,  -999.0,9,-999.000,9,-999.0000,9, -999.00,9, -999.00,9,  -999.0,9,  -999.0,     3.4626,-999.0000,-999.000,-999.000
31WTTUNES_3,       P16C,     309,          1,         21,         21,2,19910926,       1419,    14.3253,  -152.7807,       6001,  1441.1,   3.0287,  34.5878,2,  34.5895,2,     64.8,2,    65.3,2,  132.80,2,   41.80,2,    0.01,2,    2.97,2,-999.000,9,-999.000,9,  -999.0,9,  -999.0,9,-999.000,9,-999.0000,9, -999.00,9, -999.00,9,  -999.0,9,  -999.0,     2.9254,-999.0000,-999.000,-999.000
31WTTUNES_3,       P16C,     309,          1,         20,         20,2,19910926,       1419,    14.3253,  -152.7807,       6001,  1648.0,   2.6140,  34.6071,2,  34.6085,2,     79.1,2,    79.2,2,  142.05,2,   40.96,2,    0.01,2,    2.88,2,-999.000,9,-999.000,9,  -999.0,9,  -999.0,9,-999.000,9,-999.0000,9, -999.00,9, -999.00,9,  -999.0,9,  -999.0,     2.4984,-999.0000,-999.000,-999.000
31WTTUNES_3,       P16C,     309,          1,         19,         19,2,19910926,       1419,    14.3253,  -152.7807,       6001,  1854.1,   2.2598,  34.6266,2,  34.6244,2,     92.4,2,    92.3,2,  147.76,2,   40.06,2,    0.01,2,    2.80,2,-999.000,9,-999.000,9,  -999.0,9,  -999.0,9,-999.000,9,-999.0000,9, -999.00,9, -999.00,9,  -999.0,9,  -999.0,     2.1318,-999.0000,-999.000,-999.000
31WTTUNES_3,       P16C,     309,          1,         18,         18,2,19910926,       1419,    14.3253,  -152.7807,       6001,  2061.3,   2.0420,  34.6406,2,  34.6394,2,    101.8,2,   101.0,2,  149.55,2,   39.59,2,    0.01,2,    2.76,2,-999.000,9,-999.000,9,  -999.0,9,  -999.0,9,-999.000,9,-999.0000,9, -999.00,9, -999.00,9,  -999.0,9,  -999.0,     1.8997,-999.0000,-999.000,-999.000
31WTTUNES_3,       P16C,     309,          1,         17,         17,2,19910926,       1419,    14.3253,  -152.7807,       6001,  2267.7,   1.9287,  34.6511,2,  34.6508,2,    106.9,2,   107.4,2,  154.28,2,   39.14,2,    0.00,2,    2.73,2,-999.000,9,-999.000,9,  -999.0,9,  -999.0,9,-999.000,9,-999.0000,9, -999.00,9, -999.00,9,  -999.0,9,  -999.0,     1.7705,-999.0000,-999.000,-999.000
31WTTUNES_3,       P16C,     309,          1,         16,         16,2,19910926,       1419,    14.3253,  -152.7807,       6001,  2473.6,   1.8321,  34.6595,2,  34.6590,2,    111.3,2,   111.6,2,  156.47,2,   38.80,2,    0.01,2,    2.69,2,-999.000,9,-999.000,9,  -999.0,9,  -999.0,9,-999.000,9,-999.0000,9, -999.00,9, -999.00,9,  -999.0,9,  -999.0,     1.6573,-999.0000,-999.000,-999.000
31WTTUNES_3,       P16C,     309,          1,         15,         15,2,19910926,       1419,    14.3253,  -152.7807,       6001,  2679.0,   1.7717,  34.6652,2,  34.6635,2,    114.7,2,   115.3,2,  158.07,2,   38.61,2,    0.00,2,    2.68,2,-999.000,9,-999.000,9,  -999.0,9,  -999.0,9,-999.000,9,-999.0000,9, -999.00,9, -999.00,9,  -999.0,9,  -999.0,     1.5793,-999.0000,-999.000,-999.000
31WTTUNES_3,       P16C,     309,          1,         14,         14,2,19910926,       1419,    14.3253,  -152.7807,       6001,  2886.5,   1.7173,  34.6698,2,  34.6692,2,    118.6,2,   120.0,2,  159.29,2,   38.34,2,    0.01,2,    2.65,2,-999.000,9,-999.000,9,  -999.0,9,  -999.0,9,-999.000,9,-999.0000,9, -999.00,9, -999.00,9,  -999.0,9,  -999.0,     1.5065,-999.0000,-999.000,-999.000
31WTTUNES_3,       P16C,     309,          1,         13,         13,2,19910926,       1419,    14.3253,  -152.7807,       6001,  3092.5,   1.6608,  34.6736,2,  34.6726,2,    123.1,2,   124.9,2,  160.49,2,   37.86,2,    0.01,2,    2.62,2,-999.000,9,-999.000,9,  -999.0,9,  -999.0,9,-999.000,9,-999.0000,9, -999.00,9, -999.00,9,  -999.0,9,  -999.0,     1.4315,-999.0000,-999.000,-999.000
31WTTUNES_3,       P16C,     309,          1,         12,         12,2,19910926,       1419,    14.3253,  -152.7807,       6001,  3350.7,   1.5962,  34.6774,2,  34.6759,2,    129.5,2,   130.5,2,  160.96,2,   37.68,2,    0.00,2,    2.58,2,-999.000,9,-999.000,9,  -999.0,9,  -999.0,9,-999.000,9,-999.0000,9, -999.00,9, -999.00,9,  -999.0,9,  -999.0,     1.3429,-999.0000,-999.000,-999.000
31WTTUNES_3,       P16C,     309,          1,         11,         11,2,19910926,       1419,    14.3253,  -152.7807,       6001,  3608.4,   1.5479,  34.6805,2,  34.6793,2,    136.1,2,   137.4,2,  159.57,2,   37.13,2,    0.01,2,    2.55,2,-999.000,9,-999.000,9,  -999.0,9,  -999.0,9,-999.000,9,-999.0000,9, -999.00,9, -999.00,9,  -999.0,9,  -999.0,     1.2694,-999.0000,-999.000,-999.000
31WTTUNES_3,       P16C,     309,          1,         10,         10,2,19910926,       1419,    14.3253,  -152.7807,       6001,  3867.8,   1.4926,  34.6848,2,  34.6850,2,    145.8,2,   149.3,2,  154.68,2,   36.35,2,    0.01,2,    2.50,2,-999.000,9,-999.000,9,  -999.0,9,  -999.0,9,-999.000,9,-999.0000,9, -999.00,9, -999.00,9,  -999.0,9,  -999.0,     1.1882,-999.0000,-999.000,-999.000
31WTTUNES_3,       P16C,     309,          1,          9,          9,2,19910926,       1419,    14.3253,  -152.7807,       6001,  4125.7,   1.4474,  34.6891,2,  34.6889,2,    155.7,2,   156.7,2,  149.79,2,   35.77,2,    0.01,2,    2.44,2,-999.000,9,-999.000,9,  -999.0,9,  -999.0,9,-999.000,9,-999.0000,9, -999.00,9, -999.00,9,  -999.0,9,  -999.0,     1.1161,-999.0000,-999.000,-999.000
31WTTUNES_3,       P16C,     309,          1,          8,          8,2,19910926,       1419,    14.3253,  -152.7807,       6001,  4384.6,   1.4214,  34.6924,2,  34.6920,2,    162.5,2,   163.3,2,  145.51,2,   35.18,2,    0.01,2,    2.40,2,-999.000,9,-999.000,9,  -999.0,9,  -999.0,9,-999.000,9,-999.0000,9, -999.00,9, -999.00,9,  -999.0,9,  -999.0,     1.0619,-999.0000,-999.000,-999.000
31WTTUNES_3,       P16C,     309,          1,          7,          7,2,19910926,       1419,    14.3253,  -152.7807,       6001,  4642.2,   1.4062,  34.6947,2,  34.6938,2,    168.8,2,   169.7,2,  141.21,2,   34.82,2,    0.01,2,    2.38,2,-999.000,9,-999.000,9,  -999.0,9,  -999.0,9,-999.000,9,-999.0000,9, -999.00,9, -999.00,9,  -999.0,9,  -999.0,     1.0176,-999.0000,-999.000,-999.000
31WTTUNES_3,       P16C,     309,          1,          6,          6,2,19910926,       1419,    14.3253,  -152.7807,       6001,  4900.8,   1.4020,  34.6964,2,  34.6948,2,    173.8,2,   174.3,2,  138.09,2,   34.45,2,    0.01,2,    2.35,2,-999.000,9,-999.000,9,  -999.0,9,  -999.0,9,-999.000,9,-999.0000,9, -999.00,9, -999.00,9,  -999.0,9,  -999.0,     0.9830,-999.0000,-999.000,-999.000
31WTTUNES_3,       P16C,     309,          1,          5,          5,2,19910926,       1419,    14.3253,  -152.7807,       6001,  5158.7,   1.4130,  34.6974,2,  34.6962,2,    177.0,2,   176.4,2,  137.33,2,   34.29,2,    0.01,2,    2.33,2,-999.000,9,-999.000,9,  -999.0,9,  -999.0,9,-999.000,9,-999.0000,9, -999.00,9, -999.00,9,  -999.0,9,  -999.0,     0.9622,-999.0000,-999.000,-999.000
31WTTUNES_3,       P16C,     309,          1,          4,          4,2,19910926,       1419,    14.3253,  -152.7807,       6001,  5418.0,   1.4324,  34.6983,2,  34.6977,2,    179.5,2,   180.0,2,  135.98,2,   34.14,2,    0.01,2,    2.32,2,-999.000,9,-999.000,9,  -999.0,9,  -999.0,9,-999.000,9,-999.0000,9, -999.00,9, -999.00,9,  -999.0,9,  -999.0,     0.9486,-999.0000,-999.000,-999.000
31WTTUNES_3,       P16C,     309,          1,          3,          3,2,19910926,       1419,    14.3253,  -152.7807,       6001,  5679.1,   1.4666,  34.6980,2,  34.6971,2,    180.3,2,   178.4,2,  136.01,2,   34.15,2,    0.01,2,    2.34,2,-999.000,9,-999.000,9,  -999.0,9,  -999.0,9,-999.000,9,-999.0000,9, -999.00,9, -999.00,9,  -999.0,9,  -999.0,     0.9482,-999.0000,-999.000,-999.000
31WTTUNES_3,       P16C,     309,          1,          2,          2,2,19910926,       1419,    14.3253,  -152.7807,       6001,  5941.9,   1.5028,  34.6976,2,  34.6967,2,    181.2,2,   178.0,2,  136.23,2,   34.15,2,    0.01,2,    2.33,2,-999.000,9,-999.000,9,  -999.0,9,  -999.0,9,-999.000,9,-999.0000,9, -999.00,9, -999.00,9,  -999.0,9,  -999.0,     0.9486,-999.0000,-999.000,-999.000
31WTTUNES_3,       P16C,     309,          1,          1,          1,2,19910926,       1419,    14.3253,  -152.7807,       6001,  6093.0,   1.5238,  34.6975,2,  34.6969,2,    180.3,2,   178.2,2,  136.06,2,   34.16,2,    0.01,2,    2.32,2,-999.000,9,-999.000,9,  -999.0,9,  -999.0,9,-999.000,9,-999.0000,9, -999.00,9, -999.00,9,  -999.0,9,  -999.0,     0.9485,-999.0000,-999.000,-999.000