BOTTLE,20211117CCHSIORKP
EXPOCODE,SECT_ID,STNNBR,CASTNO,SAMPNO,BTLNBR,BTLNBR_FLAG_W,DATE,TIME,LATITUDE,LONGITUDE,DEPTH,CTDPRS,CTDTMP,CTDSAL,CTDSAL_FLAG_W,SALNTY,SALNTY_FLAG_W,CTDOXY,CTDOXY_FLAG_W,OXYGEN,OXYGEN_FLAG_W,SILCAT,SILCAT_FLAG_W,NITRAT,NITRAT_FLAG_W,NITRIT,NITRIT_FLAG_W,PHSPHT,PHSPHT_FLAG_W,CFC-11,CFC-11_FLAG_W,CFC-12,CFC-12_FLAG_W,TCARBN,TCARBN_FLAG_W,ALKALI,ALKALI_FLAG_W,TRITUM,TRITUM_FLAG_W,HELIUM,HELIUM_FLAG_W,DELHE3,DELHE3_FLAG_W,DELC13,DELC13_FLAG_W,DELC14,DELC14_FLAG_W,C14ERR,THETA,HELIER,DELHER,TRITER
,,,,,,,,,,,METERS,DBAR,ITS-90,PSS-78,,PSS-78,,UMOL/KG,,UMOL/KG,,UMOL/KG,,UMOL/KG,,UMOL/KG,,UMOL/KG,,PMOL/KG,,PMOL/KG,,UMOL/KG,,UMOL/KG,,TU,,NMOL/KG,,PERCNT,,/MILLE,,/MILLE,,/MILLE,ITS-90,NMOL/KG,PERCNT,TU
31WTTUNES_3,       P16C,     280,          1,         36,         36,2,19910917,       1022,     1.9958,  -151.0018,       4412,     6.0,  27.6238,  34.7502,2,  34.7439,2,    215.3,3,   215.3,2,    1.91,2,    1.40,2,    0.08,2,    0.33,2,   1.679,2,   1.123,4,  1962.7,2,  2285.8,2,-999.000,9,-999.0000,9, -999.00,9,    1.50,2,    98.6,2,     2.8,    27.6224,-999.0000,-999.000,-999.000
31WTTUNES_3,       P16C,     280,          1,         35,         35,2,19910917,       1022,     1.9958,  -151.0018,       4412,    44.9,  27.5306,  34.7446,2,  34.7388,2,    207.2,2,   213.8,2,    1.91,2,    1.43,2,    0.09,2,    0.33,2,   1.642,2,   0.920,2,  1963.1,2,  2283.0,2,   1.308,2,   1.7140,2,   -1.03,2,    1.48,2,   103.3,2,     2.8,    27.5202,   0.0080,   0.150,   0.008
31WTTUNES_3,       P16C,     280,          1,         34,         34,2,19910917,       1022,     1.9958,  -151.0018,       4412,    75.7,  26.5923,  34.8639,2,  34.8745,2,    207.6,2,   205.9,2,    2.69,2,    3.26,2,    0.24,2,    0.48,2,   1.686,2,   0.945,2,  1994.6,2,  -999.0,9,-999.000,9,-999.0000,9, -999.00,9,    1.33,2,    91.1,2,     2.9,    26.5751,-999.0000,-999.000,-999.000
31WTTUNES_3,       P16C,     280,          1,         33,         33,2,19910917,       1022,     1.9958,  -151.0018,       4412,   105.3,  26.1814,  34.8612,2,  34.8621,2,    195.1,2,   164.8,2,    4.26,2,    5.27,2,    0.85,2,    0.67,2,   1.603,2,   0.901,2,  2027.0,2,  2288.3,2,   1.436,2,   1.7290,2,    1.00,2,    1.04,2,    98.5,2,     2.8,    26.1577,   0.0080,   0.150,   0.009
31WTTUNES_3,       P16C,     280,          1,         32,         32,2,19910917,       1022,     1.9958,  -151.0018,       4412,   146.8,  17.0447,  34.7204,2,  34.7066,2,    118.7,2,   115.3,2,   16.42,2,   17.51,2,    0.01,2,    1.32,2,   1.127,6,   0.622,6,  2127.1,2,  2292.1,2,-999.000,9,-999.0000,9, -999.00,9,    0.50,2,    37.5,2,     2.7,    17.0205,-999.0000,-999.000,-999.000
31WTTUNES_3,       P16C,     280,          1,         31,         31,2,19910917,       1022,     1.9958,  -151.0018,       4412,   188.0,  12.7276,  34.7227,2,  34.7372,2,    114.8,2,   115.2,2,   22.30,2,   22.23,2,    0.01,2,    1.62,2,   0.695,2,   0.389,2,  2165.3,2,  2298.7,2,   0.799,2,   1.8000,2,    7.02,2,    0.51,2,     4.1,2,     3.0,    12.7023,   0.0080,   0.150,   0.006
31WTTUNES_3,       P16C,     280,          1,         30,         30,2,19910917,       1022,     1.9958,  -151.0018,       4412,   228.5,  11.6970,  34.7790,2,  34.7960,2,    101.3,2,    76.9,2,   24.07,2,   27.16,2,    0.01,2,    1.94,2,   0.389,2,   0.243,2,  2202.0,2,  2304.1,2,-999.000,9,-999.0000,9, -999.00,9,    0.35,2,  -999.0,5,  -999.0,    11.6677,-999.0000,-999.000,-999.000
31WTTUNES_3,       P16C,     280,          1,         29,         29,2,19910917,       1022,     1.9958,  -151.0018,       4412,   269.4,  11.5110,  34.8140,2,  34.8096,2,     59.4,2,    45.8,2,   26.03,2,   30.36,2,    0.01,2,    2.16,2,   0.263,2,   0.153,2,  2224.4,2,  2302.2,2,   0.336,2,   1.8020,2,    5.79,2,    0.20,2,   -37.5,2,     3.5,    11.4767,   0.0080,   0.150,   0.004
31WTTUNES_3,       P16C,     280,          1,         28,         28,2,19910917,       1022,     1.9958,  -151.0018,       4412,   309.9,  11.2930,  34.8048,2,  34.7940,2,     32.9,2,    30.7,2,   28.19,2,   32.20,2,    0.01,2,    2.29,2,   0.191,2,   0.118,2,  2237.8,2,  2303.6,2,   0.291,2,   1.8030,2,    5.57,2,    0.12,2,   -54.1,2,     3.0,    11.2540,   0.0080,   0.150,   0.004
31WTTUNES_3,       P16C,     280,          1,         27,         27,2,19910917,       1022,     1.9958,  -151.0018,       4412,   360.9,  11.0665,  34.7853,2,  34.7677,2,     30.5,2,    32.3,2,   29.76,2,   32.71,2,    0.01,2,    2.31,2,   0.166,2,   0.103,2,  2240.4,2,  2301.3,2,   0.259,2,   1.8080,2,    5.49,2,    0.02,2,   -54.3,2,     3.5,    11.0217,   0.0090,   0.150,   0.004
31WTTUNES_3,       P16C,     280,          1,         26,         26,2,19910917,       1022,     1.9958,  -151.0018,       4412,   411.5,  10.3987,  34.7316,2,  34.7123,2,     48.6,2,    57.5,2,   30.16,2,   31.42,2,    0.01,2,    2.22,2,   0.177,2,   0.111,2,  2229.1,2,  2305.2,2,-999.000,9,-999.0000,9, -999.00,9,    0.23,3,   -64.4,2,     2.9,    10.3494,-999.0000,-999.000,-999.000
31WTTUNES_3,       P16C,     280,          1,         25,         25,2,19910917,       1022,     1.9958,  -151.0018,       4412,   463.4,   9.5620,  34.6831,2,  34.6622,2,     42.9,2,    35.8,2,   36.63,2,   35.42,2,    0.01,2,    2.50,2,   0.057,6,   0.041,6,  2257.1,2,  2305.3,2,   0.101,9,-999.0000,9, -999.00,9,    0.04,2,   -92.7,2,     5.5,     9.5092,-999.0000,   0.150,   0.003
31WTTUNES_3,       P16C,     280,          1,         24,          1,2,19910917,       1022,     1.9958,  -151.0018,       4412,   513.9,   8.9002,  34.6547,2,  34.6553,2,     39.1,2,    38.1,2,   38.49,2,   36.55,2,    0.00,2,    2.58,2,   0.036,6,   0.032,6,  -999.0,9,  -999.0,9,-999.000,9,-999.0000,9, -999.00,9,    0.12,2,  -999.0,9,  -999.0,     8.8440,-999.0000,-999.000,-999.000
31WTTUNES_3,       P16C,     280,          1,         23,         24,2,19910917,       1022,     1.9958,  -151.0018,       4412,   565.7,   8.3734,  34.6261,2,  34.6148,2,     45.5,2,    44.0,2,   42.13,2,   36.42,2,    0.01,2,    2.61,2,   0.030,2,   0.025,2,  2262.8,2,  2314.8,2,-999.000,9,-999.0000,9, -999.00,9, -999.00,9,  -110.3,2,     3.0,     8.3135,-999.0000,-999.000,-999.000
31WTTUNES_3,       P16C,     280,          1,         22,         23,2,19910917,       1022,     1.9958,  -151.0018,       4412,   616.6,   7.5778,  34.5967,2,  34.5922,2,     41.2,2,    42.7,2,   47.42,2,   38.00,2,    0.01,2,    2.74,2,   0.013,2,   0.029,3,  2272.1,2,  2315.4,2,-999.000,9,-999.0000,9, -999.00,9, -999.00,9,  -999.0,9,  -999.0,     7.5160,-999.0000,-999.000,-999.000
31WTTUNES_3,       P16C,     280,          1,         21,         22,2,19910917,       1022,     1.9958,  -151.0018,       4412,   668.3,   6.5172,  34.5594,2,  34.5582,2,     62.7,2,    63.2,2,   55.27,2,   38.13,2,    0.00,2,    2.74,2,   0.026,3,   0.015,3,  2273.8,2,  2326.1,2,   0.012,2,   1.8720,2,   10.42,2, -999.00,9,  -999.0,9,  -999.0,     6.4554,   0.0090,   0.150,   0.001
31WTTUNES_3,       P16C,     280,          1,         20,         21,2,19910917,       1022,     1.9958,  -151.0018,       4412,   718.4,   6.0228,  34.5523,2,  34.5498,2,     75.2,2,    75.2,2,   59.20,2,   38.06,2,    0.01,2,    2.73,2,   0.004,6,   0.010,6,  2273.7,2,  2327.0,2,-999.000,9,-999.0000,9, -999.00,9,    0.15,2,  -999.0,9,  -999.0,     5.9588,-999.0000,-999.000,-999.000
31WTTUNES_3,       P16C,     280,          1,         19,         20,2,19910917,       1022,     1.9958,  -151.0018,       4412,   822.0,   5.4355,  34.5459,2,  34.5441,2,     83.2,2,    82.2,2,   68.02,2,   37.99,2,    0.00,2,    2.73,2,  -0.001,6,   0.005,6,  2281.6,2,  2340.5,2,-999.000,9,-999.0000,9, -999.00,9, -999.00,9,  -157.4,2,     2.5,     5.3653,-999.0000,-999.000,-999.000
31WTTUNES_3,       P16C,     280,          1,         18,         19,2,19910917,       1022,     1.9958,  -151.0018,       4412,   923.9,   5.0056,  34.5492,2,  34.5480,2,     84.7,2,    84.3,2,   77.23,2,   38.45,2,    0.00,2,    2.76,2,  -0.002,2,   0.003,2,  2293.0,2,  2347.8,2,-999.000,9,-999.0000,9, -999.00,9, -999.00,9,  -999.0,9,  -999.0,     4.9291,-999.0000,-999.000,-999.000
31WTTUNES_3,       P16C,     280,          1,         17,         18,2,19910917,       1022,     1.9958,  -151.0018,       4412,  1026.6,   4.6446,  34.5534,2,  34.5537,2,     88.8,2,    86.8,2,   84.28,2,   38.50,2,    0.00,2,    2.77,2,-999.000,9,-999.000,9,  -999.0,9,  -999.0,9,-999.000,9,-999.0000,9, -999.00,9,    0.03,2,  -999.0,9,  -999.0,     4.5616,-999.0000,-999.000,-999.000
31WTTUNES_3,       P16C,     280,          1,         16,         17,2,19910917,       1022,     1.9958,  -151.0018,       4412,  1180.0,   4.0687,  34.5722,2,  34.5696,2,     77.4,2,    76.6,2,   98.99,2,   39.84,2,    0.01,2,    2.88,2,-999.000,9,-999.000,9,  -999.0,9,  -999.0,9,-999.000,9,-999.0000,9, -999.00,9, -999.00,9,  -198.9,2,     2.6,     3.9771,-999.0000,-999.000,-999.000
31WTTUNES_3,       P16C,     280,          1,         15,         16,2,19910917,       1022,     1.9958,  -151.0018,       4412,  1386.1,   3.3719,  34.5939,2,  34.5971,2,     82.6,2,    82.4,2,  115.46,2,   40.01,2,    0.00,2,    2.87,2,-999.000,9,-999.000,9,  -999.0,9,  -999.0,9,-999.000,9,   1.9070,2,   22.96,2, -999.00,9,  -999.0,9,  -999.0,     3.2694,-999.0000,-999.000,-999.000
31WTTUNES_3,       P16C,     280,          1,         14,         15,2,19910917,       1022,     1.9958,  -151.0018,       4412,  1590.9,   2.8962,  34.6145,2,  34.6193,2,     88.2,2,    88.1,2,  127.41,2,   39.78,2,    0.00,2,    2.85,2,-999.000,9,-999.000,9,  -999.0,9,  -999.0,9,-999.000,9,   1.9230,2,   25.95,2, -999.00,9,  -999.0,9,  -999.0,     2.7819,-999.0000,-999.000,-999.000
31WTTUNES_3,       P16C,     280,          1,         13,         14,2,19910917,       1022,     1.9958,  -151.0018,       4412,  1795.9,   2.5848,  34.6286,2,  34.6276,2,     94.5,2,    95.3,2,  135.45,2,   39.33,2,    0.00,2,    2.81,2,-999.000,9,-999.000,9,  -999.0,9,  -999.0,9,-999.000,9,   1.9460,3,   27.44,2, -999.00,9,  -999.0,9,  -999.0,     2.4572,-999.0000,-999.000,-999.000
31WTTUNES_3,       P16C,     280,          1,         12,         13,2,19910917,       1022,     1.9958,  -151.0018,       4412,  2002.4,   2.3027,  34.6386,2,  34.6378,2,    104.7,2,   104.3,2,  139.56,2,   38.72,2,    0.01,2,    2.75,2,  -0.002,2,   0.019,2,  -999.0,9,  -999.0,9,-999.000,9,   1.8980,2,   27.48,2, -999.00,9,  -999.0,9,  -999.0,     2.1615,-999.0000,-999.000,-999.000
31WTTUNES_3,       P16C,     280,          1,         11,         12,2,19910917,       1022,     1.9958,  -151.0018,       4412,  2207.3,   2.0186,  34.6551,2,  34.6576,2,    110.9,2,   112.1,2,  146.62,2,   38.30,2,    0.00,2,    2.70,2,-999.000,9,-999.000,9,  -999.0,9,  -999.0,9,-999.000,9,   1.9470,3,   28.44,2, -999.00,9,  -999.0,9,  -999.0,     1.8641,-999.0000,-999.000,-999.000
31WTTUNES_3,       P16C,     280,          1,         10,         11,2,19910917,       1022,     1.9958,  -151.0018,       4412,  2393.7,   1.8387,  34.6645,2,  34.6627,2,    121.2,2,   121.8,2,  148.19,2,   37.66,2,    0.00,2,    2.65,2,-999.000,9,-999.000,9,  -999.0,9,  -999.0,9,-999.000,9,   1.9260,2,   28.16,2, -999.00,9,  -999.0,9,  -999.0,     1.6708,-999.0000,-999.000,-999.000
31WTTUNES_3,       P16C,     280,          1,          9,         10,2,19910917,       1022,     1.9958,  -151.0018,       4412,  2621.3,   1.7839,  34.6684,2,  34.6686,2,    123.4,2,   123.3,2,  150.55,2,   37.56,2,    0.00,2,    2.63,2,-999.000,9,-999.000,9,  -999.0,9,  -999.0,9,-999.000,9,   1.9420,2,   28.81,2, -999.00,9,  -999.0,9,  -999.0,     1.5965,-999.0000,-999.000,-999.000
31WTTUNES_3,       P16C,     280,          1,          8,          9,2,19910917,       1022,     1.9958,  -151.0018,       4412,  2828.1,   1.7494,  34.6706,2,  34.6714,2,    127.1,2,   127.5,2,  150.16,2,   37.27,2,    0.00,2,    2.63,2,-999.000,9,-999.000,9,  -999.0,9,  -999.0,9,-999.000,9,   1.9410,2,   26.76,2, -999.00,9,  -999.0,9,  -999.0,     1.5436,-999.0000,-999.000,-999.000
31WTTUNES_3,       P16C,     280,          1,          7,          8,2,19910917,       1022,     1.9958,  -151.0018,       4412,  3034.7,   1.6483,  34.6757,2,  34.6763,2,    133.1,2,   133.7,2,  150.56,2,   36.98,2,    0.00,2,    2.59,2,-999.000,9,-999.000,9,  -999.0,9,  -999.0,9,-999.000,9,   1.9460,3,   24.43,2, -999.00,9,  -999.0,9,  -999.0,     1.4249,-999.0000,-999.000,-999.000
31WTTUNES_3,       P16C,     280,          1,          6,          7,2,19910917,       1022,     1.9958,  -151.0018,       4412,  3293.8,   1.5174,  34.6831,2,  34.6826,2,    146.0,2,   146.3,2,  148.20,2,   36.08,2,    0.00,2,    2.50,2,  -0.009,2,   0.004,2,  -999.0,9,  -999.0,9,-999.000,9,   1.9430,3,   20.45,2, -999.00,9,  -999.0,9,  -999.0,     1.2716,-999.0000,-999.000,-999.000
31WTTUNES_3,       P16C,     280,          1,          5,          6,2,19910917,       1022,     1.9958,  -151.0018,       4412,  3552.9,   1.4309,  34.6896,2,  34.6897,2,    156.4,2,   155.9,2,  147.43,2,   35.56,2,    0.00,2,    2.45,2,-999.000,9,-999.000,9,  -999.0,9,  -999.0,9,-999.000,9,   1.9460,3,   17.44,2, -999.00,9,  -999.0,9,  -999.0,     1.1610,-999.0000,-999.000,-999.000
31WTTUNES_3,       P16C,     280,          1,          4,          5,2,19910917,       1022,     1.9958,  -151.0018,       4412,  3811.5,   1.4085,  34.6916,2,  34.6918,2,    160.8,2,   160.1,2,  146.07,2,   35.32,2,    0.00,2,    2.44,2,-999.000,9,-999.000,9,  -999.0,9,  -999.0,9,-999.000,9,   1.9160,2,   16.76,2, -999.00,9,  -999.0,9,  -999.0,     1.1123,-999.0000,-999.000,-999.000
31WTTUNES_3,       P16C,     280,          1,          3,          4,2,19910917,       1022,     1.9958,  -151.0018,       4412,  4072.2,   1.4116,  34.6926,2,  34.6928,2,    163.6,2,   162.7,2,  144.89,2,   35.12,2,    0.00,2,    2.42,2,-999.000,9,-999.000,9,  -999.0,9,  -999.0,9,-999.000,9,   1.9440,3,   15.87,2, -999.00,9,  -999.0,9,  -999.0,     1.0872,-999.0000,-999.000,-999.000
31WTTUNES_3,       P16C,     280,          1,          2,          3,2,19910917,       1022,     1.9958,  -151.0018,       4412,  4332.0,   1.3889,  34.6942,2,  34.6950,2,    167.3,2,   168.1,2,  141.57,2,   34.73,2,    0.00,2,    2.40,2,-999.000,9,-999.000,9,  -999.0,9,  -999.0,9,-999.000,9,   1.9510,3,   14.71,2, -999.00,9,  -999.0,9,  -999.0,     1.0365,-999.0000,-999.000,-999.000
31WTTUNES_3,       P16C,     280,          1,          1,          2,2,19910917,       1022,     1.9958,  -151.0018,       4412,  4453.0,   1.3725,  34.6956,2,  34.6960,2,    169.9,2,   171.7,2,  139.80,2,   34.54,2,    0.00,2,    2.40,2,-999.000,9,-999.000,9,  -999.0,9,  -999.0,9,-999.000,9,   1.9390,3,   14.67,2, -999.00,9,  -999.0,9,  -999.0,     1.0068,-999.0000,-999.000,-999.000
31WTTUNES_3,       P16C,     281,          1,         11,         11,2,19910917,       1455,     2.1468,  -151.0013,       4508,    21.2,  27.5668,  34.7496,2,  34.7396,2,    216.4,2,   211.1,2, -999.00,9, -999.00,9, -999.00,9, -999.00,9,-999.000,9,-999.000,9,  -999.0,9,  -999.0,9,-999.000,9,-999.0000,9, -999.00,9, -999.00,9,  -999.0,9,  -999.0,    27.5619,-999.0000,-999.000,-999.000
31WTTUNES_3,       P16C,     281,          1,         10,         10,2,19910917,       1455,     2.1468,  -151.0013,       4508,   156.7,  15.0146,  34.6980,2,  34.6954,2,    114.8,2,   112.9,2, -999.00,9, -999.00,9, -999.00,9, -999.00,9,-999.000,9,-999.000,9,  -999.0,9,  -999.0,9,-999.000,9,-999.0000,9, -999.00,9, -999.00,9,  -999.0,9,  -999.0,    14.9909,-999.0000,-999.000,-999.000
31WTTUNES_3,       P16C,     281,          1,          9,          9,2,19910917,       1455,     2.1468,  -151.0013,       4508,   308.6,  11.0382,  34.7775,2,  34.7948,2,     42.4,2,    38.5,2, -999.00,9, -999.00,9, -999.00,9, -999.00,9,-999.000,9,-999.000,9,  -999.0,9,  -999.0,9,-999.000,9,-999.0000,9, -999.00,9, -999.00,9,  -999.0,9,  -999.0,    11.0000,-999.0000,-999.000,-999.000
31WTTUNES_3,       P16C,     281,          1,          8,          8,2,19910917,       1455,     2.1468,  -151.0013,       4508,   511.7,   8.8244,  34.6474,2,  34.6460,2,     37.5,2,    38.8,2, -999.00,9, -999.00,9, -999.00,9, -999.00,9,-999.000,9,-999.000,9,  -999.0,9,  -999.0,9,-999.000,9,-999.0000,9, -999.00,9, -999.00,9,  -999.0,9,  -999.0,     8.7687,-999.0000,-999.000,-999.000
31WTTUNES_3,       P16C,     281,          1,          7,          7,2,19910917,       1455,     2.1468,  -151.0013,       4508,   766.0,   5.8469,  34.5447,2,  34.5437,2,     83.7,2,    81.8,2, -999.00,9, -999.00,9, -999.00,9, -999.00,9,-999.000,9,-999.000,9,  -999.0,9,  -999.0,9,-999.000,9,-999.0000,9, -999.00,9, -999.00,9,  -999.0,9,  -999.0,     5.7793,-999.0000,-999.000,-999.000
31WTTUNES_3,       P16C,     281,          1,          6,          6,2,19910917,       1455,     2.1468,  -151.0013,       4508,  1525.6,   3.0916,  34.6016,2,  34.6018,2,     86.5,2,    85.4,2, -999.00,9, -999.00,9, -999.00,9, -999.00,9,-999.000,9,-999.000,9,  -999.0,9,  -999.0,9,-999.000,9,-999.0000,9, -999.00,9, -999.00,9,  -999.0,9,  -999.0,     2.9804,-999.0000,-999.000,-999.000
31WTTUNES_3,       P16C,     281,          1,          5,          5,2,19910917,       1455,     2.1468,  -151.0013,       4508,  2516.0,   1.8335,  34.6636,2,  34.6643,2,    121.0,2,   121.0,2, -999.00,9, -999.00,9, -999.00,9, -999.00,9,-999.000,9,-999.000,9,  -999.0,9,  -999.0,9,-999.000,9,-999.0000,9, -999.00,9, -999.00,9,  -999.0,9,  -999.0,     1.6548,-999.0000,-999.000,-999.000
31WTTUNES_3,       P16C,     281,          1,          4,          4,2,19910917,       1455,     2.1468,  -151.0013,       4508,  3005.6,   1.6534,  34.6734,2,  34.6734,2,    133.3,2,   132.8,2, -999.00,9, -999.00,9, -999.00,9, -999.00,9,-999.000,9,-999.000,9,  -999.0,9,  -999.0,9,-999.000,9,-999.0000,9, -999.00,9, -999.00,9,  -999.0,9,  -999.0,     1.4327,-999.0000,-999.000,-999.000
31WTTUNES_3,       P16C,     281,          1,          3,          3,2,19910917,       1455,     2.1468,  -151.0013,       4508,  3508.4,   1.4479,  34.6866,2,  34.6871,2,    155.1,2,   155.8,2, -999.00,9, -999.00,9, -999.00,9, -999.00,9,-999.000,9,-999.000,9,  -999.0,9,  -999.0,9,-999.000,9,-999.0000,9, -999.00,9, -999.00,9,  -999.0,9,  -999.0,     1.1821,-999.0000,-999.000,-999.000
31WTTUNES_3,       P16C,     281,          1,          2,          2,2,19910917,       1455,     2.1468,  -151.0013,       4508,  4029.8,   1.4192,  34.6917,2,  34.6912,2,    163.8,2,   163.9,2, -999.00,9, -999.00,9, -999.00,9, -999.00,9,-999.000,9,-999.000,9,  -999.0,9,  -999.0,9,-999.000,9,-999.0000,9, -999.00,9, -999.00,9,  -999.0,9,  -999.0,     1.0992,-999.0000,-999.000,-999.000
31WTTUNES_3,       P16C,     281,          1,          1,          1,2,19910917,       1455,     2.1468,  -151.0013,       4508,  4543.0,   1.3594,  34.6968,2,  34.6979,2,    179.5,2,   178.2,2, -999.00,9, -999.00,9, -999.00,9, -999.00,9,-999.000,9,-999.000,9,  -999.0,9,  -999.0,9,-999.000,9,-999.0000,9, -999.00,9, -999.00,9,  -999.0,9,  -999.0,     0.9838,-999.0000,-999.000,-999.000