BOTTLE,20141010ODF
EXPOCODE,SECT_ID,STNNBR,CASTNO,SAMPNO,BTLNBR,BTLNBR_FLAG_W,DATE,TIME,LATITUDE,LONGITUDE,DEPTH,CTDPRS,CTDTMP,CTDSAL,CTDSAL_FLAG_W,SALNTY,SALNTY_FLAG_W,SALTREF,SALTREF_FLAG_W,CTDOXY,CTDOXY_FLAG_W,OXYGEN,OXYGEN_FLAG_W,REFTMP,REFTMP_FLAG_W,BTL_LAT,BTL_LON,BTL_DATE,BTL_TIME
,,,,,,,,,,,METERS,DBAR,ITS-90,PSS-78,,PSS-78,,G/KG,,UMOL/KG,,UMOL/KG,,ITS-90,,,,,
  316N20130213,ACT0213,    43,  1,     12,     12,2,20130226,1218,-34.1493,  27.9311,  3622,    10.0,  24.5258,  35.5935,2,  35.5932,2,  35.7611,2,    211.2,2,    211.7,2,  24.5279,2, -34.1570,  27.9238,20130226,1337
  316N20130213,ACT0213,    43,  1,     11,     11,2,20130226,1218,-34.1493,  27.9311,  3622,    83.2,  21.3063,  35.5136,2,  35.5090,2,  35.6764,2,    206.6,2,    196.6,3,  21.3042,2, -34.1557,  27.9252,20130226,1333
  316N20130213,ACT0213,    43,  1,     10,     10,2,20130226,1218,-34.1493,  27.9311,  3622,   152.1,  18.2982,  35.5619,2,  35.5588,2,  35.7265,2,    205.3,2,    210.6,2,  18.3032,2, -34.1554,  27.9256,20130226,1330
  316N20130213,ACT0213,    43,  1,      9,      9,2,20130226,1218,-34.1493,  27.9311,  3622,   509.2,  12.9469,  35.2010,2,  35.2008,2,  35.3668,2,    213.1,2,    210.8,2,  12.9434,2, -34.1549,  27.9261,20130226,1323
  316N20130213,ACT0213,    43,  1,      8,      8,2,20130226,1218,-34.1493,  27.9311,  3622,   706.7,  10.5024,  34.8626,2,  34.8629,2,  35.0273,2,    211.7,2,    216.4,2,  10.5001,2, -34.1543,  27.9266,20130226,1318
  316N20130213,ACT0213,    43,  1,      7,      7,2,20130226,1218,-34.1493,  27.9311,  3622,  1012.7,   7.0764,  34.5841,2,  34.5838,2,  34.7469,2,    177.1,2,    175.4,2,   7.0791,2, -34.1538,  27.9270,20130226,1312
  316N20130213,ACT0213,    43,  1,      6,      6,2,20130226,1218,-34.1493,  27.9311,  3622,  1297.4,   4.8334,  34.5476,2,  34.5462,2,  34.7091,2,    158.0,2,    156.3,2,   4.8360,2, -34.1534,  27.9275,20130226,1306
  316N20130213,ACT0213,    43,  1,      5,      5,2,20130226,1218,-34.1493,  27.9311,  3622,  1722.0,   3.3903,  34.6807,2,  34.6790,2,  34.8425,2,    155.4,2,    155.6,2,   3.3902,2, -34.1528,  27.9282,20130226,1258
  316N20130213,ACT0213,    43,  1,      4,      4,2,20130226,1218,-34.1493,  27.9311,  3622,  2050.7,   2.7204,  34.7406,2,  34.7401,2,  34.9039,2,    178.9,2,    181.6,2,   2.7198,2, -34.1522,  27.9288,20130226,1250
  316N20130213,ACT0213,    43,  1,      3,      3,2,20130226,1218,-34.1493,  27.9311,  3622,  2542.2,   2.5192,  34.8093,2,  34.8087,2,  34.9728,2,    211.1,2,    211.0,2,   2.5194,2, -34.1515,  27.9295,20130226,1240
  316N20130213,ACT0213,    43,  1,      2,      2,2,20130226,1218,-34.1493,  27.9311,  3622,  3046.1,   2.2238,  34.8166,2,  34.8150,2,  34.9792,2,    219.8,2,    218.5,2,   2.2237,2, -34.1504,  27.9304,20130226,1230
  316N20130213,ACT0213,    43,  1,      1,      1,2,20130226,1218,-34.1493,  27.9311,  3622,  3663.8,   1.1644,  34.7416,2,  34.7415,2,  34.9053,2,    215.2,2,    215.5,2,   1.1644,2, -34.1493,  27.9310,20130226,1219
  316N20130213,ACT0213,    44,  1,     12,     12,2,20130226,1559,-34.2915,  28.0169,  3710,    10.5,  24.4243,  35.5936,2,-999.0000,5,-999.0000,5,    211.4,2,    211.4,2,  24.4245,2, -34.2933,  28.0034,20130226,1721
  316N20130213,ACT0213,    44,  1,     11,     11,2,20130226,1559,-34.2915,  28.0169,  3710,    64.8,  23.6641,  35.5580,2,  35.5603,2,  35.7279,2,    214.7,2,    213.9,2,  23.5853,3, -34.2926,  28.0040,20130226,1717
  316N20130213,ACT0213,    44,  1,     10,     10,2,20130226,1559,-34.2915,  28.0169,  3710,   417.2,  14.2921,  35.3621,2,  35.3631,2,  35.5299,2,    201.9,2,    206.6,2,  14.2960,2, -34.2909,  28.0057,20130226,1710
  316N20130213,ACT0213,    44,  1,      9,      9,2,20130226,1559,-34.2915,  28.0169,  3710,   728.9,  10.6818,  34.8909,2,  34.8890,2,  35.0535,2,    214.1,2,    217.4,2,  10.6813,2, -34.2908,  28.0069,20130226,1703
  316N20130213,ACT0213,    44,  1,      8,      8,2,20130226,1559,-34.2915,  28.0169,  3710,   927.9,   8.5152,  34.6602,2,  34.6588,2,  34.8222,2,    198.6,2,    195.0,2,   8.5161,2, -34.2909,  28.0078,20130226,1658
  316N20130213,ACT0213,    44,  1,      7,      7,2,20130226,1559,-34.2915,  28.0169,  3710,  1356.3,   4.7160,  34.5406,2,  34.5376,2,  34.7005,2,    156.2,2,    158.2,2,   4.7165,2, -34.2910,  28.0094,20130226,1650
  316N20130213,ACT0213,    44,  1,      6,      6,2,20130226,1559,-34.2915,  28.0169,  3710,  1764.8,   3.3195,  34.6833,2,  34.6823,2,  34.8458,2,    156.8,2,    157.4,2,   3.3202,2, -34.2911,  28.0109,20130226,1641
  316N20130213,ACT0213,    44,  1,      5,      5,2,20130226,1559,-34.2915,  28.0169,  3710,  2292.8,   2.6329,  34.7774,2,  34.7771,2,  34.9411,2,    197.2,2,    198.2,2,   2.6327,2, -34.2912,  28.0123,20130226,1631
  316N20130213,ACT0213,    44,  1,      4,      4,2,20130226,1559,-34.2915,  28.0169,  3710,  2688.3,   2.4456,  34.8146,2,  34.8137,2,  34.9779,2,    214.1,2,    213.9,2,   2.4451,2, -34.2913,  28.0137,20130226,1622
  316N20130213,ACT0213,    44,  1,      3,      3,2,20130226,1559,-34.2915,  28.0169,  3710,  2952.2,   2.2710,  34.8172,2,  34.8165,2,  34.9807,2,    218.2,2,    217.7,2,   2.2718,2, -34.2914,  28.0146,20130226,1617
  316N20130213,ACT0213,    44,  1,      2,      2,2,20130226,1559,-34.2915,  28.0169,  3710,  3399.0,   1.8801,  34.7944,2,  34.7921,2,  34.9561,2,    218.2,2,    218.7,2,   1.8790,2, -34.2914,  28.0160,20130226,1607
  316N20130213,ACT0213,    44,  1,      1,      1,2,20130226,1559,-34.2915,  28.0169,  3710,  3751.6,   1.2009,  34.7439,2,  34.7430,2,  34.9068,2,    215.6,2,    215.8,2,   1.2005,2, -34.2915,  28.0168,20130226,1600
  316N20130213,ACT0213,    45,  1,     12,     12,2,20130226,1939,-34.4092,  28.0839,  3839,     2.4,  24.2564,  35.6040,2,  35.6039,2,  35.7718,2,    211.9,2,    211.9,2,  24.2565,2, -34.4177,  28.0676,20130226,2104
  316N20130213,ACT0213,    45,  1,     11,     11,2,20130226,1939,-34.4092,  28.0839,  3839,   219.7,  17.3768,  35.5659,2,  35.5645,2,  35.7323,2,    212.7,2,    212.7,2,  17.3698,2, -34.4178,  28.0695,20130226,2058
  316N20130213,ACT0213,    45,  1,     10,     10,2,20130226,1939,-34.4092,  28.0839,  3839,   586.1,  12.3895,  35.1229,2,  35.1236,2,  35.2892,2,    200.5,2,    206.6,3,  12.3941,2, -34.4168,  28.0725,20130226,2050
  316N20130213,ACT0213,    45,  1,      9,      9,2,20130226,1939,-34.4092,  28.0839,  3839,   926.2,   8.6708,  34.6622,2,  34.6644,2,  34.8279,2,    202.9,2,    203.4,2,   8.6819,3, -34.4158,  28.0746,20130226,2042
  316N20130213,ACT0213,    45,  1,      8,      8,2,20130226,1939,-34.4092,  28.0839,  3839,  1315.2,   5.1280,  34.5505,2,  34.5504,2,  34.7133,2,    157.2,2,    156.4,2,   5.1275,2, -34.4152,  28.0761,20130226,2034
  316N20130213,ACT0213,    45,  1,      7,      7,2,20130226,1939,-34.4092,  28.0839,  3839,  1741.6,   3.1705,  34.6393,2,  34.6388,2,  34.8021,2,    160.5,2,    166.0,3,   3.1698,2, -34.4144,  28.0778,20130226,2025
  316N20130213,ACT0213,    45,  1,      6,      6,2,20130226,1939,-34.4092,  28.0839,  3839,  2133.7,   2.7246,  34.7408,2,  34.7401,2,  34.9039,2,    180.9,2,    182.3,2,   2.7247,2, -34.4135,  28.0791,20130226,2017
  316N20130213,ACT0213,    45,  1,      5,      5,2,20130226,1939,-34.4092,  28.0839,  3839,  2640.6,   2.4816,  34.8082,2,  34.8079,2,  34.9721,2,    211.8,2,    211.3,2,   2.4818,2, -34.4122,  28.0810,20130226,2007
  316N20130213,ACT0213,    45,  1,      4,      4,2,20130226,1939,-34.4092,  28.0839,  3839,  2949.7,   2.2974,  34.8153,2,  34.8152,2,  34.9794,2,    218.8,2,    216.8,2,   2.2970,2, -34.4113,  28.0821,20130226,2001
  316N20130213,ACT0213,    45,  1,      3,      3,2,20130226,1939,-34.4092,  28.0839,  3839,  3382.4,   1.9125,  34.7955,2,  34.7953,2,  34.9594,2,    218.4,2,    217.9,2,   1.9122,2, -34.4103,  28.0830,20130226,1952
  316N20130213,ACT0213,    45,  1,      2,      2,2,20130226,1939,-34.4092,  28.0839,  3839,  3788.9,   1.4098,  34.7581,2,  34.7585,2,  34.9224,2,    215.8,2,    216.7,2,   1.4091,2, -34.4096,  28.0834,20130226,1943
  316N20130213,ACT0213,    45,  1,      1,      1,2,20130226,1939,-34.4092,  28.0839,  3839,  3885.4,   1.1099,  34.7365,2,  34.7362,2,  34.9000,2,    215.3,2,    215.8,2,   1.1108,2, -34.4092,  28.0839,20130226,1939
  316N20130213,ACT0213,    46,  1,     12,     12,2,20130226,2341,-34.5382,  28.1628,  4003,    26.3,  24.2148,  35.6087,2,  35.6081,2,  35.7760,2,    212.2,2,    212.0,2,  24.2164,2, -34.5381,  28.1641,20130227,0109
  316N20130213,ACT0213,    46,  1,     11,     11,2,20130226,2341,-34.5382,  28.1628,  4003,   125.1,  19.8537,  35.5299,2,  35.5278,2,  35.6953,2,    193.4,2,    195.5,2,  19.8539,2, -34.5381,  28.1638,20130227,0105
  316N20130213,ACT0213,    46,  1,     10,     10,2,20130226,2341,-34.5382,  28.1628,  4003,   336.1,  15.6712,  35.4903,2,  35.4920,2,  35.6594,2,    208.5,2,    205.4,2,  15.6721,2, -34.5381,  28.1634,20130227,0059
  316N20130213,ACT0213,    46,  1,      9,      9,2,20130226,2341,-34.5382,  28.1628,  4003,   616.7,  12.0776,  35.0840,2,  35.0842,2,  35.2496,2,    216.8,2,    217.8,2,  12.0788,2, -34.5381,  28.1628,20130227,0053
  316N20130213,ACT0213,    46,  1,      8,      8,2,20130226,2341,-34.5382,  28.1628,  4003,   746.2,  10.8262,  34.9085,2,  34.9086,2,  35.0732,2,    216.1,2,    218.3,2,  10.8258,2, -34.5382,  28.1628,20130227,0049
  316N20130213,ACT0213,    46,  1,      7,      7,2,20130226,2341,-34.5382,  28.1628,  4003,  1079.0,   6.7778,  34.5282,2,  34.5288,2,  34.6916,2,    194.0,2,    188.0,2,   6.7844,2, -34.5382,  28.1628,20130227,0042
  316N20130213,ACT0213,    46,  1,      6,      6,2,20130226,2341,-34.5382,  28.1628,  4003,  1345.7,   4.7794,  34.5113,2,  34.5087,2,  34.6715,2,    170.7,2,    167.6,2,   4.7827,2, -34.5382,  28.1628,20130227,0036
  316N20130213,ACT0213,    46,  1,      5,      5,2,20130226,2341,-34.5382,  28.1628,  4003,  1649.6,   3.7140,  34.6362,2,  34.6356,2,  34.7989,2,    152.6,2,    154.9,2,   3.7137,2, -34.5382,  28.1628,20130227,0029
  316N20130213,ACT0213,    46,  1,      4,      4,2,20130226,2341,-34.5382,  28.1628,  4003,  2137.6,   2.7621,  34.7391,2,  34.7388,2,  34.9026,2,    184.6,2,    184.6,2,   2.7620,2, -34.5382,  28.1628,20130227,0019
  316N20130213,ACT0213,    46,  1,      3,      3,2,20130226,2341,-34.5382,  28.1628,  4003,  2684.9,   2.4680,  34.8091,2,  34.8090,2,  34.9732,2,    212.0,2,    211.8,2,   2.4679,2, -34.5382,  28.1628,20130227,0008
  316N20130213,ACT0213,    46,  1,      2,      2,2,20130226,2341,-34.5382,  28.1628,  4003,  3488.3,   1.8283,  34.7888,2,  34.7891,2,  34.9532,2,    217.8,2,    218.2,2,   1.8297,2, -34.5382,  28.1628,20130226,2353
  316N20130213,ACT0213,    46,  1,      1,      1,2,20130226,2341,-34.5382,  28.1628,  4003,  4055.3,   1.1152,  34.7354,2,  34.7351,2,  34.8989,2,    215.6,2,    215.7,2,   1.1153,2, -34.5382,  28.1628,20130226,2341
  316N20130213,ACT0213,    47,  1,     12,     12,2,20130227,0715,-33.7196,  27.6655,  1761,    14.6,  26.6521,  35.4990,2,  35.4981,2,  35.6655,2,    203.5,2,    203.5,2,  26.6517,2, -33.7351,  27.6425,20130227,0759
  316N20130213,ACT0213,    47,  1,     11,     11,2,20130227,0715,-33.7196,  27.6655,  1761,    78.0,  20.0876,  35.4793,2,  35.4766,2,  35.6438,2,    170.9,2,    170.9,2,  20.1022,2, -33.7336,  27.6453,20130227,0755
  316N20130213,ACT0213,    47,  1,      8,      8,9,20130227,0715,-33.7196,  27.6655,  1761,   414.9,  11.6532,  35.0270,2,-999.0000,9,-999.0000,9,   -999.0,9,   -999.0,9,  11.6504,2, -33.7298,  27.6503,20130227,0747
  316N20130213,ACT0213,    47,  1,      6,      6,9,20130227,0715,-33.7196,  27.6655,  1761,   415.0,  11.6482,  35.0261,2,-999.0000,9,-999.0000,9,   -999.0,9,   -999.0,9,  11.6421,2, -33.7293,  27.6509,20130227,0745
  316N20130213,ACT0213,    47,  1,     10,     10,9,20130227,0715,-33.7196,  27.6655,  1761,   415.2,  11.6526,  35.0269,2,-999.0000,9,-999.0000,9,   -999.0,9,   -999.0,9,  11.6522,2, -33.7303,  27.6498,20130227,0748
  316N20130213,ACT0213,    47,  1,      9,      9,9,20130227,0715,-33.7196,  27.6655,  1761,   415.3,  11.6525,  35.0268,2,-999.0000,9,-999.0000,9,   -999.0,9,   -999.0,9,  11.6519,2, -33.7301,  27.6501,20130227,0747
  316N20130213,ACT0213,    47,  1,      7,      7,9,20130227,0715,-33.7196,  27.6655,  1761,   415.4,  11.6522,  35.0268,2,-999.0000,9,-999.0000,9,   -999.0,9,   -999.0,9,  11.6519,2, -33.7296,  27.6506,20130227,0746
  316N20130213,ACT0213,    47,  1,      5,      5,9,20130227,0715,-33.7196,  27.6655,  1761,   415.7,  11.6379,  35.0244,2,-999.0000,9,-999.0000,9,   -999.0,9,   -999.0,9,  11.6444,3, -33.7291,  27.6512,20130227,0745
  316N20130213,ACT0213,    47,  1,      4,      4,2,20130227,0715,-33.7196,  27.6655,  1761,   415.9,  11.6342,  35.0238,2,  35.0235,2,  35.1887,2,    202.3,2,    202.4,2,  11.6382,3, -33.7289,  27.6514,20130227,0745
  316N20130213,ACT0213,    47,  1,      3,      3,2,20130227,0715,-33.7196,  27.6655,  1761,   999.4,   4.9024,  34.5298,2,  34.5287,2,  34.6915,2,    161.4,2,    161.2,2,   4.9021,2, -33.7245,  27.6572,20130227,0733
  316N20130213,ACT0213,    47,  1,      2,      2,2,20130227,0715,-33.7196,  27.6655,  1761,  1437.1,   3.0074,  34.7028,2,  34.7019,2,  34.8655,2,    164.6,2,    164.7,2,   3.0072,2, -33.7221,  27.6616,20130227,0724
  316N20130213,ACT0213,    47,  1,      1,      1,2,20130227,0715,-33.7196,  27.6655,  1761,  1757.1,   2.7227,  34.7473,2,  34.7472,2,  34.9111,2,    188.3,2,    188.4,2,   2.7229,2, -33.7199,  27.6650,20130227,0716
  316N20130213,ACT0213,    48,  1,     12,     12,2,20130227,1024,-33.7150,  27.6606,  1715,     7.2,  26.8858,  35.4468,2,  35.4465,2,  35.6136,2,    204.5,2,    204.5,2,  26.8814,2, -33.7255,  27.6359,20130227,1106
  316N20130213,ACT0213,    48,  1,     11,     11,2,20130227,1024,-33.7150,  27.6606,  1715,    93.8,  19.2206,  35.4976,2,  35.4991,2,  35.6665,2,    172.6,2,    172.6,2,  19.2160,2, -33.7231,  27.6398,20130227,1101
  316N20130213,ACT0213,    48,  1,      6,      6,9,20130227,1024,-33.7150,  27.6606,  1715,   645.7,   8.6759,  34.6627,2,-999.0000,9,-999.0000,9,   -999.0,9,   -999.0,9,   8.6701,3, -33.7200,  27.6466,20130227,1050
  316N20130213,ACT0213,    48,  1,      7,      7,9,20130227,1024,-33.7150,  27.6606,  1715,   645.9,   8.6763,  34.6628,2,-999.0000,9,-999.0000,9,   -999.0,9,   -999.0,9,   8.6699,2, -33.7201,  27.6464,20130227,1050
  316N20130213,ACT0213,    48,  1,      5,      5,9,20130227,1024,-33.7150,  27.6606,  1715,   646.4,   8.6733,  34.6622,2,-999.0000,9,-999.0000,9,   -999.0,9,   -999.0,9,   8.6788,2, -33.7200,  27.6467,20130227,1050
  316N20130213,ACT0213,    48,  1,      4,      4,2,20130227,1024,-33.7150,  27.6606,  1715,   646.7,   8.6746,  34.6627,2,  34.6640,2,  34.8275,2,    205.1,2,    205.2,2,   8.6907,3, -33.7199,  27.6467,20130227,1050
  316N20130213,ACT0213,    48,  1,      8,      8,9,20130227,1024,-33.7150,  27.6606,  1715,   646.8,   8.6697,  34.6627,2,-999.0000,9,-999.0000,9,   -999.0,9,   -999.0,9,   8.6733,2, -33.7201,  27.6463,20130227,1050
  316N20130213,ACT0213,    48,  1,     10,     10,9,20130227,1024,-33.7150,  27.6606,  1715,   647.1,   8.6659,  34.6637,2,-999.0000,9,-999.0000,9,   -999.0,9,   -999.0,9,   8.6660,2, -33.7202,  27.6462,20130227,1050
  316N20130213,ACT0213,    48,  1,      9,      9,9,20130227,1024,-33.7150,  27.6606,  1715,   647.4,   8.6655,  34.6633,2,-999.0000,9,-999.0000,9,   -999.0,9,   -999.0,9,   8.6665,2, -33.7201,  27.6463,20130227,1050
  316N20130213,ACT0213,    48,  1,      3,      3,2,20130227,1024,-33.7150,  27.6606,  1715,  1117.5,   4.4358,  34.6043,2,  34.6020,2,  34.7651,2,    149.5,2,    147.4,2,   4.4352,2, -33.7180,  27.6523,20130227,1039
  316N20130213,ACT0213,    48,  1,      2,      2,2,20130227,1024,-33.7150,  27.6606,  1715,  1624.3,   2.7734,  34.7341,2,  34.7350,2,  34.8988,2,    184.0,2,    184.1,2,   2.7734,2, -33.7159,  27.6585,20130227,1027
  316N20130213,ACT0213,    48,  1,      1,      1,2,20130227,1024,-33.7150,  27.6606,  1715,  1731.6,   2.7401,  34.7435,2,  34.7433,2,  34.9071,2,    187.6,2,    187.7,2,   2.7407,2, -33.7151,  27.6602,20130227,1024
  316N20130213,ACT0213,    49,  1,     12,     12,2,20130227,1323,-33.7121,  27.6560,  1666,    23.6,  25.4815,  35.4781,2,  35.4791,2,  35.6464,2,    209.0,2,    209.0,2,  25.7646,3, -33.7214,  27.6269,20130227,1405
  316N20130213,ACT0213,    49,  1,     11,     11,2,20130227,1323,-33.7121,  27.6560,  1666,    56.8,  21.2116,  35.4325,2,  35.4322,2,  35.5993,2,    174.2,2,    174.2,2,  21.2155,2, -33.7205,  27.6291,20130227,1403
  316N20130213,ACT0213,    49,  1,      4,      4,2,20130227,1323,-33.7121,  27.6560,  1666,   280.8,  13.7341,  35.3003,2,  35.3001,2,  35.4666,2,    204.4,2,    207.2,2,  13.7318,2, -33.7188,  27.6343,20130227,1357
  316N20130213,ACT0213,    49,  1,      5,      5,9,20130227,1323,-33.7121,  27.6560,  1666,   281.4,  13.7342,  35.3005,2,-999.0000,9,-999.0000,9,   -999.0,9,   -999.0,9,  13.7327,2, -33.7189,  27.6342,20130227,1357
  316N20130213,ACT0213,    49,  1,      6,      6,9,20130227,1323,-33.7121,  27.6560,  1666,   281.6,  13.7168,  35.2979,2,-999.0000,9,-999.0000,9,   -999.0,9,   -999.0,9,  13.7235,3, -33.7189,  27.6341,20130227,1357
  316N20130213,ACT0213,    49,  1,      7,      7,9,20130227,1323,-33.7121,  27.6560,  1666,   282.3,  13.6970,  35.2952,2,-999.0000,9,-999.0000,9,   -999.0,9,   -999.0,9,  13.7010,2, -33.7190,  27.6340,20130227,1357
  316N20130213,ACT0213,    49,  1,      8,      8,9,20130227,1323,-33.7121,  27.6560,  1666,   282.8,  13.6976,  35.2956,2,-999.0000,9,-999.0000,9,   -999.0,9,   -999.0,9,  13.7017,2, -33.7190,  27.6338,20130227,1358
  316N20130213,ACT0213,    49,  1,      9,      9,9,20130227,1323,-33.7121,  27.6560,  1666,   282.9,  13.6903,  35.2945,2,-999.0000,9,-999.0000,9,   -999.0,9,   -999.0,9,  13.6927,2, -33.7191,  27.6337,20130227,1358
  316N20130213,ACT0213,    49,  1,     10,     10,9,20130227,1323,-33.7121,  27.6560,  1666,   283.4,  13.6935,  35.2952,2,-999.0000,9,-999.0000,9,   -999.0,9,   -999.0,9,  13.6991,2, -33.7191,  27.6336,20130227,1358
  316N20130213,ACT0213,    49,  1,      3,      3,2,20130227,1323,-33.7121,  27.6560,  1666,   846.4,   6.0654,  34.4725,2,  34.4703,2,  34.6328,2,    190.8,2,    190.8,2,   6.0637,2, -33.7170,  27.6418,20130227,1345
  316N20130213,ACT0213,    49,  1,      2,      2,2,20130227,1323,-33.7121,  27.6560,  1666,  1346.4,   3.2702,  34.6781,2,  34.6783,2,  34.8418,2,    159.2,2,    159.2,2,   3.2695,2, -33.7137,  27.6509,20130227,1331
  316N20130213,ACT0213,    49,  1,      1,      1,2,20130227,1323,-33.7121,  27.6560,  1666,  1694.5,   2.7479,  34.7411,2,  34.7418,2,  34.9056,2,    186.5,2,    186.6,2,   2.7482,2, -33.7122,  27.6556,20130227,1323