BOTTLE,20141010ODF
EXPOCODE,SECT_ID,STNNBR,CASTNO,SAMPNO,BTLNBR,BTLNBR_FLAG_W,DATE,TIME,LATITUDE,LONGITUDE,DEPTH,CTDPRS,CTDTMP,CTDSAL,CTDSAL_FLAG_W,SALNTY,SALNTY_FLAG_W,SALTREF,SALTREF_FLAG_W,CTDOXY,CTDOXY_FLAG_W,OXYGEN,OXYGEN_FLAG_W,REFTMP,REFTMP_FLAG_W,BTL_LAT,BTL_LON,BTL_DATE,BTL_TIME
,,,,,,,,,,,METERS,DBAR,ITS-90,PSS-78,,PSS-78,,G/KG,,UMOL/KG,,UMOL/KG,,ITS-90,,,,,
  316N20130213,ACT0213,    29,  1,     12,     12,2,20130223,0917,-34.9627,  28.4355,  4344,    14.3,  22.6581,  35.6820,2,  35.6824,2,  35.8507,2,    218.9,2,    218.9,2,  22.6595,2, -34.9678,  28.4349,20130223,1049
  316N20130213,ACT0213,    29,  1,     11,     11,2,20130223,0917,-34.9627,  28.4355,  4344,   104.1,  18.5129,  35.5622,2,  35.5633,2,  35.7310,2,    217.3,2,    217.4,2,  18.5297,3, -34.9674,  28.4351,20130223,1044
  316N20130213,ACT0213,    29,  1,     10,     10,2,20130223,0917,-34.9627,  28.4355,  4344,   503.7,  13.2371,  35.2433,2,  35.2422,2,  35.4084,2,    211.2,2,    213.7,2,  13.2376,2, -34.9669,  28.4358,20130223,1035
  316N20130213,ACT0213,    29,  1,      9,      9,2,20130223,0917,-34.9627,  28.4355,  4344,   813.4,   9.8637,  34.7861,2,  34.7863,2,  34.9504,2,    216.3,2,    213.7,2,   9.8639,2, -34.9665,  28.4362,20130223,1029
  316N20130213,ACT0213,    29,  1,      8,      8,2,20130223,0917,-34.9627,  28.4355,  4344,  1215.7,   5.1206,  34.4238,2,  34.4243,2,  34.5866,2,    191.4,2,    191.2,2,   5.1187,2, -34.9660,  28.4366,20130223,1021
  316N20130213,ACT0213,    29,  1,      7,      7,2,20130223,0917,-34.9627,  28.4355,  4344,  1821.6,   3.1720,  34.6603,2,  34.6610,2,  34.8244,2,    164.1,2,    164.1,2,   3.1715,2, -34.9662,  28.4371,20130223,1010
  316N20130213,ACT0213,    29,  1,      6,      6,2,20130223,0917,-34.9627,  28.4355,  4344,  2217.8,   2.7342,  34.7503,2,  34.7505,2,  34.9143,2,    188.4,2,    188.8,2,   2.7347,2, -34.9665,  28.4373,20130223,1001
  316N20130213,ACT0213,    29,  1,      5,      5,2,20130223,0917,-34.9627,  28.4355,  4344,  2832.1,   2.3877,  34.8094,2,  34.8092,2,  34.9734,2,    212.2,2,    212.4,2,   2.3876,2, -34.9657,  28.4365,20130223,0950
  316N20130213,ACT0213,    29,  1,      4,      4,2,20130223,0917,-34.9627,  28.4355,  4344,  3242.8,   2.1133,  34.8081,2,  34.8078,2,  34.9720,2,    216.8,2,    218.0,2,   2.1137,2, -34.9650,  28.4363,20130223,0942
  316N20130213,ACT0213,    29,  1,      3,      3,2,20130223,0917,-34.9627,  28.4355,  4344,  3652.6,   1.6346,  34.7738,2,  34.7733,2,  34.9373,2,    216.1,2,    216.5,2,   1.6348,2, -34.9641,  28.4360,20130223,0933
  316N20130213,ACT0213,    29,  1,      2,      2,2,20130223,0917,-34.9627,  28.4355,  4344,  4066.4,   1.3004,  34.7474,2,  34.7461,2,  34.9100,2,    215.9,2,    216.2,2,   1.3009,2, -34.9633,  28.4359,20130223,0925
  316N20130213,ACT0213,    29,  1,      1,      1,2,20130223,0917,-34.9627,  28.4355,  4344,  4408.2,   1.1141,  34.7319,2,  34.7321,2,  34.8959,2,    215.4,2,    215.5,2,   1.1142,2, -34.9627,  28.4355,20130223,0917
  316N20130213,ACT0213,    30,  1,     12,     12,2,20130223,1618,-35.1543,  28.5440,  4394,    10.6,  22.8162,  35.6796,2,  35.6796,2,  35.8479,2,    216.8,2,    217.5,2,  22.8165,2, -35.1570,  28.5465,20130223,1752
  316N20130213,ACT0213,    30,  1,     11,     11,2,20130223,1618,-35.1543,  28.5440,  4394,    84.3,  19.2811,  35.5506,2,  35.5520,2,  35.7196,2,    218.4,2,    217.1,2,  19.2821,2, -35.1570,  28.5464,20130223,1747
  316N20130213,ACT0213,    30,  1,     10,     10,2,20130223,1618,-35.1543,  28.5440,  4394,   154.5,  17.5781,  35.5592,2,  35.5589,2,  35.7266,2,    206.6,2,    207.9,2,  17.5760,2, -35.1569,  28.5463,20130223,1744
  316N20130213,ACT0213,    30,  1,      9,      9,2,20130223,1618,-35.1543,  28.5440,  4394,   505.5,  13.2068,  35.2354,2,  35.2355,2,  35.4016,2,    209.6,2,    211.8,2,  13.2046,2, -35.1568,  28.5461,20130223,1737
  316N20130213,ACT0213,    30,  1,      8,      8,2,20130223,1618,-35.1543,  28.5440,  4394,   909.1,   8.8100,  34.6706,2,  34.6684,2,  34.8319,2,    206.0,2,    203.9,2,   8.8114,2, -35.1567,  28.5459,20130223,1728
  316N20130213,ACT0213,    30,  1,      7,      7,2,20130223,1618,-35.1543,  28.5440,  4394,  1416.4,   4.1764,  34.4920,2,  34.4922,2,  34.6548,2,    172.0,2,    170.7,2,   4.1760,2, -35.1566,  28.5456,20130223,1719
  316N20130213,ACT0213,    30,  1,      6,      6,2,20130223,1618,-35.1543,  28.5440,  4394,  1927.3,   2.9875,  34.6846,2,  34.6854,2,  34.8489,2,    169.3,2,    170.4,2,   2.9872,2, -35.1564,  28.5451,20130223,1709
  316N20130213,ACT0213,    30,  1,      5,      5,2,20130223,1618,-35.1543,  28.5440,  4394,  2533.0,   2.5664,  34.7946,2,  34.7952,2,  34.9593,2,    204.1,2,    205.3,2,   2.5665,2, -35.1562,  28.5447,20130223,1658
  316N20130213,ACT0213,    30,  1,      4,      4,2,20130223,1618,-35.1543,  28.5440,  4394,  3045.9,   2.2663,  34.8144,2,  34.8147,2,  34.9789,2,    217.2,2,    217.1,2,   2.2668,2, -35.1560,  28.5443,20130223,1648
  316N20130213,ACT0213,    30,  1,      3,      3,2,20130223,1618,-35.1543,  28.5440,  4394,  3551.4,   1.7786,  34.7848,2,  34.7847,2,  34.9488,2,    217.1,2,    217.1,2,   1.7789,2, -35.1559,  28.5440,20130223,1638
  316N20130213,ACT0213,    30,  1,      2,      2,2,20130223,1618,-35.1543,  28.5440,  4394,  4074.0,   1.3043,  34.7481,2,  34.7483,2,  34.9121,2,    215.9,2,    216.5,2,   1.3044,2, -35.1553,  28.5439,20130223,1628
  316N20130213,ACT0213,    30,  1,      1,      1,2,20130223,1618,-35.1543,  28.5440,  4394,  4464.4,   1.0834,  34.7299,2,  34.7296,2,  34.8933,2,    215.2,2,    215.3,2,   1.0839,2, -35.1544,  28.5440,20130223,1619
  316N20130213,ACT0213,    31,  1,     12,     12,2,20130223,2037,-35.3494,  28.6635,  4368,    12.7,  22.6973,  35.6753,2,  35.6752,2,  35.8435,2,    218.7,2,    218.4,2,  22.6966,2, -35.3536,  28.6693,20130223,2209
  316N20130213,ACT0213,    31,  1,     11,     11,2,20130223,2037,-35.3494,  28.6635,  4368,    50.0,  22.0028,  35.6679,2,  35.6596,2,  35.8278,2,    223.2,2,    225.9,2,  21.9936,2, -35.3535,  28.6691,20130223,2207
  316N20130213,ACT0213,    31,  1,     10,     10,2,20130223,2037,-35.3494,  28.6635,  4368,   102.7,  18.3889,  35.5545,2,  35.5545,2,  35.7222,2,    209.0,2,    208.3,2,  18.3761,2, -35.3534,  28.6689,20130223,2203
  316N20130213,ACT0213,    31,  1,      9,      9,2,20130223,2037,-35.3494,  28.6635,  4368,   506.1,  13.1148,  35.2172,2,  35.2178,2,  35.3839,2,    211.0,2,    212.2,2,  13.1161,2, -35.3532,  28.6683,20130223,2155
  316N20130213,ACT0213,    31,  1,      8,      8,2,20130223,2037,-35.3494,  28.6635,  4368,  1014.4,   7.2779,  34.5410,2,  34.5414,2,  34.7042,2,    196.0,2,    194.8,2,   7.2785,2, -35.3528,  28.6675,20130223,2145
  316N20130213,ACT0213,    31,  1,      7,      7,2,20130223,2037,-35.3494,  28.6635,  4368,  1517.3,   3.9468,  34.5458,2,  34.5463,2,  34.7092,2,    162.3,2,    162.6,2,   3.9416,3, -35.3525,  28.6667,20130223,2135
  316N20130213,ACT0213,    31,  1,      6,      6,2,20130223,2037,-35.3494,  28.6635,  4368,  2023.7,   2.8658,  34.7095,2,  34.7100,2,  34.8737,2,    177.1,2,    177.3,2,   2.8646,2, -35.3521,  28.6658,20130223,2125
  316N20130213,ACT0213,    31,  1,      5,      5,2,20130223,2037,-35.3494,  28.6635,  4368,  2535.0,   2.5600,  34.7959,2,  34.7955,2,  34.9596,2,    204.5,2,    205.4,2,   2.5574,3, -35.3518,  28.6650,20130223,2115
  316N20130213,ACT0213,    31,  1,      4,      4,2,20130223,2037,-35.3494,  28.6635,  4368,  3044.6,   2.2757,  34.8131,2,  34.8135,2,  34.9776,2,    216.8,2,    216.2,2,   2.2758,2, -35.3515,  28.6644,20130223,2105
  316N20130213,ACT0213,    31,  1,      3,      3,2,20130223,2037,-35.3494,  28.6635,  4368,  3557.2,   1.8450,  34.7892,2,  34.7922,3,  34.9563,3,    217.6,2,    217.8,2,   1.8447,2, -35.3507,  28.6640,20130223,2056
  316N20130213,ACT0213,    31,  1,      2,      2,2,20130223,2037,-35.3494,  28.6635,  4368,  4063.9,   1.3142,  34.7486,2,  34.7510,3,  34.9149,3,    216.8,2,    216.1,2,   1.3142,2, -35.3499,  28.6639,20130223,2045
  316N20130213,ACT0213,    31,  1,      1,      1,2,20130223,2037,-35.3494,  28.6635,  4368,  4436.6,   1.0559,  34.7278,2,  34.7281,2,  34.8919,2,    218.2,2,    218.6,2,   1.0561,2, -35.3494,  28.6636,20130223,2037
  316N20130213,ACT0213,    32,  1,     11,     11,2,20130224,0253,-35.5356,  28.7839,  -999,    62.3,  21.3453,  35.6223,2,  35.6279,2,  35.7959,2,    229.0,2,    229.4,2,  21.3261,2, -35.5411,  28.7921,20130224,0420
  316N20130213,ACT0213,    32,  1,     10,     10,2,20130224,0253,-35.5356,  28.7839,  -999,   153.1,  17.3498,  35.5389,2,  35.5375,2,  35.7051,2,    195.2,2,    195.3,2,  17.3464,2, -35.5409,  28.7918,20130224,0416
  316N20130213,ACT0213,    32,  1,      9,      9,2,20130224,0253,-35.5356,  28.7839,  -999,   503.5,  12.8457,  35.1839,2,  35.1850,2,  35.3509,2,    212.3,2,    213.6,2,  12.8414,2, -35.5404,  28.7911,20130224,0410
  316N20130213,ACT0213,    32,  1,      8,      8,2,20130224,0253,-35.5356,  28.7839,  -999,  1009.7,   6.8115,  34.5074,2,  34.5088,2,  34.6716,2,    195.9,2,    194.6,2,   6.8126,2, -35.5396,  28.7899,20130224,0400
  316N20130213,ACT0213,    32,  1,      7,      7,2,20130224,0253,-35.5356,  28.7839,  -999,  1512.3,   3.8428,  34.5510,2,  34.5522,2,  34.7151,2,    162.5,2,    162.6,2,   3.8421,2, -35.5388,  28.7887,20130224,0351
  316N20130213,ACT0213,    32,  1,      6,      6,2,20130224,0253,-35.5356,  28.7839,  -999,  2023.7,   2.8559,  34.7144,2,  34.7157,2,  34.8794,2,    181.5,2,    181.7,2,   2.8558,2, -35.5382,  28.7878,20130224,0341
  316N20130213,ACT0213,    32,  1,      5,      5,2,20130224,0253,-35.5356,  28.7839,  -999,  2535.3,   2.5717,  34.7936,2,  34.8148,3,  34.9790,3,    204.1,2,    205.1,2,   2.5714,2, -35.5376,  28.7869,20130224,0331
  316N20130213,ACT0213,    32,  1,      4,      4,2,20130224,0253,-35.5356,  28.7839,  -999,  3041.0,   2.3000,  34.8139,2,  34.8152,2,  34.9794,2,    216.5,2,    216.4,2,   2.2996,2, -35.5370,  28.7859,20130224,0322
  316N20130213,ACT0213,    32,  1,      3,      3,2,20130224,0253,-35.5356,  28.7839,  -999,  3553.1,   1.8707,  34.7907,2,  34.7916,2,  34.9556,2,    217.9,2,    217.2,2,   1.8702,2, -35.5365,  28.7852,20130224,0312
  316N20130213,ACT0213,    32,  1,      2,      2,2,20130224,0253,-35.5356,  28.7839,  -999,  4065.2,   1.3671,  34.7520,2,  34.7527,2,  34.9166,2,    217.2,2,    217.2,2,   1.3666,2, -35.5360,  28.7845,20130224,0302
  316N20130213,ACT0213,    32,  1,      1,      1,2,20130224,0253,-35.5356,  28.7839,  -999,  4592.7,   1.1027,  34.7298,2,  34.7301,2,  34.8938,2,    217.8,2,    218.2,2,   1.1030,2, -35.5356,  28.7839,20130224,0253
  316N20130213,ACT0213,    33,  1,     12,     12,2,20130224,0708,-35.7299,  28.8949,  4623,    11.3,  22.6578,  35.6975,2,  35.6981,2,  35.8665,2,    218.0,2,    218.2,2,  22.6605,2, -35.7279,  28.8908,20130224,0847
  316N20130213,ACT0213,    33,  1,     11,     11,2,20130224,0708,-35.7299,  28.8949,  4623,    82.2,  20.2941,  35.5815,2,  35.5802,2,  35.7480,2,    231.2,2,    231.0,2,  20.2976,2, -35.7277,  28.8912,20130224,0843
  316N20130213,ACT0213,    33,  1,     10,     10,2,20130224,0708,-35.7299,  28.8949,  4623,   151.1,  17.6912,  35.5409,2,  35.5408,2,  35.7084,2,    193.0,2,    193.2,2,  17.6955,2, -35.7274,  28.8914,20130224,0840
  316N20130213,ACT0213,    33,  1,      9,      9,2,20130224,0708,-35.7299,  28.8949,  4623,   501.8,  13.5812,  35.2637,2,  35.2646,2,  35.4309,2,    197.6,2,    197.6,2,  13.5900,3, -35.7268,  28.8923,20130224,0832
  316N20130213,ACT0213,    33,  1,      8,      8,2,20130224,0708,-35.7299,  28.8949,  4623,  1005.0,   6.6562,  34.4852,2,  34.4854,2,  34.6480,2,    196.4,2,    196.7,2,   6.6555,2, -35.7263,  28.8928,20130224,0822
  316N20130213,ACT0213,    33,  1,      7,      7,2,20130224,0708,-35.7299,  28.8949,  4623,  1509.2,   3.9365,  34.5402,2,  34.5403,2,  34.7032,2,    164.2,2,    163.8,2,   3.9334,3, -35.7263,  28.8928,20130224,0812
  316N20130213,ACT0213,    33,  1,      6,      6,2,20130224,0708,-35.7299,  28.8949,  4623,  2023.9,   2.8833,  34.7048,2,  34.7052,2,  34.8688,2,    178.9,2,    179.3,2,   2.8828,2, -35.7266,  28.8930,20130224,0802
  316N20130213,ACT0213,    33,  1,      5,      5,2,20130224,0708,-35.7299,  28.8949,  4623,  2538.3,   2.5852,  34.7940,2,  34.7947,2,  34.9588,2,    204.4,2,    204.5,2,   2.5850,2, -35.7270,  28.8933,20130224,0752
  316N20130213,ACT0213,    33,  1,      4,      4,2,20130224,0708,-35.7299,  28.8949,  4623,  3040.5,   2.3209,  34.8140,2,  34.8144,2,  34.9786,2,    216.3,2,    216.4,2,   2.3206,2, -35.7276,  28.8936,20130224,0742
  316N20130213,ACT0213,    33,  1,      3,      3,2,20130224,0708,-35.7299,  28.8949,  4623,  3548.3,   1.9225,  34.7941,2,  34.7947,2,  34.9588,2,    217.6,2,    217.5,2,   1.9227,2, -35.7282,  28.8939,20130224,0732
  316N20130213,ACT0213,    33,  1,      2,      2,2,20130224,0708,-35.7299,  28.8949,  4623,  4062.2,   1.4132,  34.7553,2,  34.7549,2,  34.9188,2,    216.3,2,    216.7,2,   1.4131,2, -35.7287,  28.8942,20130224,0723
  316N20130213,ACT0213,    33,  1,      1,      1,2,20130224,0708,-35.7299,  28.8949,  4623,  4705.3,   1.1147,  34.7298,2,  34.7296,2,  34.8934,2,    215.9,2,    216.0,2,   1.1149,2, -35.7297,  28.8948,20130224,0710
  316N20130213,ACT0213,    34,  1,     12,     12,2,20130225,1458,-33.3469,  27.4778,    65,     3.6,  19.5870,  35.2284,2,  35.2298,2,  35.3959,2,    231.1,2,    230.9,2,  19.5835,2, -33.3473,  27.4765,20130225,1505
  316N20130213,ACT0213,    34,  1,     10,     10,9,20130225,1458,-33.3469,  27.4778,    65,    24.2,  17.4444,  35.2213,2,-999.0000,9,-999.0000,9,   -999.0,9,   -999.0,9,-999.0000,9, -33.3475,  27.4767,20130225,1502
  316N20130213,ACT0213,    34,  1,      7,      7,9,20130225,1458,-33.3469,  27.4778,    65,    24.2,  17.1263,  35.2131,2,-999.0000,9,-999.0000,9,   -999.0,9,   -999.0,9,-999.0000,9, -33.3475,  27.4767,20130225,1502
  316N20130213,ACT0213,    34,  1,      9,      9,9,20130225,1458,-33.3469,  27.4778,    65,    24.3,  17.4446,  35.2305,2,-999.0000,9,-999.0000,9,   -999.0,9,   -999.0,9,-999.0000,9, -33.3475,  27.4767,20130225,1502
  316N20130213,ACT0213,    34,  1,     11,     11,9,20130225,1458,-33.3469,  27.4778,    65,    24.3,  17.4446,  35.2265,2,-999.0000,9,-999.0000,9,   -999.0,9,   -999.0,9,-999.0000,9, -33.3475,  27.4767,20130225,1502
  316N20130213,ACT0213,    34,  1,      2,      2,2,20130225,1458,-33.3469,  27.4778,    65,    24.6,  17.2344,  35.2238,2,  35.2197,2,  35.3858,2,    223.9,2,    223.9,2,  17.3036,3, -33.3474,  27.4768,20130225,1501
  316N20130213,ACT0213,    34,  1,      8,      8,9,20130225,1458,-33.3469,  27.4778,    65,    24.6,  17.4525,  35.2544,2,-999.0000,9,-999.0000,9,   -999.0,9,   -999.0,9,-999.0000,9, -33.3475,  27.4767,20130225,1502
  316N20130213,ACT0213,    34,  1,      3,      3,9,20130225,1458,-33.3469,  27.4778,    65,    24.7,  16.9004,  35.1754,2,-999.0000,9,-999.0000,9,   -999.0,9,   -999.0,9,-999.0000,9, -33.3475,  27.4768,20130225,1501
  316N20130213,ACT0213,    34,  1,      6,      6,9,20130225,1458,-33.3469,  27.4778,    65,    24.7,  16.8878,  35.1789,2,-999.0000,9,-999.0000,9,   -999.0,9,   -999.0,9,-999.0000,9, -33.3475,  27.4767,20130225,1502
  316N20130213,ACT0213,    34,  1,      4,      4,9,20130225,1458,-33.3469,  27.4778,    65,    25.1,  16.7347,  35.1661,2,-999.0000,9,-999.0000,9,   -999.0,9,   -999.0,9,-999.0000,9, -33.3475,  27.4767,20130225,1501
  316N20130213,ACT0213,    34,  1,      5,      5,9,20130225,1458,-33.3469,  27.4778,    65,    25.2,  16.4012,  35.1385,2,-999.0000,9,-999.0000,9,   -999.0,9,   -999.0,9,-999.0000,9, -33.3475,  27.4767,20130225,1501
  316N20130213,ACT0213,    34,  1,      1,      1,2,20130225,1458,-33.3469,  27.4778,    65,    47.7,  13.3805,  35.0643,2,  35.0586,2,  35.2239,2,    191.4,2,    191.4,2,  13.3553,3, -33.3469,  27.4777,20130225,1459
  316N20130213,ACT0213,    35,  1,     12,     12,2,20130225,1618,-33.4667,  27.5387,   103,     2.9,  22.5208,  35.3532,2,  35.3525,2,  35.5192,2,    252.3,2,    252.3,2,  22.5218,2, -33.4691,  27.5342,20130225,1627
  316N20130213,ACT0213,    35,  1,     11,     11,2,20130225,1618,-33.4667,  27.5387,   103,    31.8,  19.5737,  35.3834,2,  35.3825,2,  35.5494,2,    176.2,2,    176.2,2,  19.5784,2, -33.4682,  27.5359,20130225,1625
  316N20130213,ACT0213,    35,  1,      7,      7,9,20130225,1618,-33.4667,  27.5387,   103,    69.8,  16.0128,  35.2410,2,-999.0000,9,-999.0000,9,   -999.0,9,   -999.0,9,-999.0000,9, -33.4674,  27.5373,20130225,1622
  316N20130213,ACT0213,    35,  1,      6,      6,9,20130225,1618,-33.4667,  27.5387,   103,    69.9,  16.0013,  35.2404,2,-999.0000,9,-999.0000,9,   -999.0,9,   -999.0,9,-999.0000,9, -33.4674,  27.5373,20130225,1622
  316N20130213,ACT0213,    35,  1,      8,      8,9,20130225,1618,-33.4667,  27.5387,   103,    70.0,  16.0233,  35.2414,2,-999.0000,9,-999.0000,9,   -999.0,9,   -999.0,9,-999.0000,9, -33.4675,  27.5372,20130225,1622
  316N20130213,ACT0213,    35,  1,      2,      2,2,20130225,1618,-33.4667,  27.5387,   103,    70.0,  15.9477,  35.2375,2,  35.2347,2,  35.4009,2,    182.8,2,    182.9,2,  15.9418,2, -33.4672,  27.5378,20130225,1620
  316N20130213,ACT0213,    35,  1,      9,      9,9,20130225,1618,-33.4667,  27.5387,   103,    70.1,  16.0154,  35.2409,2,-999.0000,9,-999.0000,9,   -999.0,9,   -999.0,9,-999.0000,9, -33.4675,  27.5371,20130225,1622
  316N20130213,ACT0213,    35,  1,     10,     10,9,20130225,1618,-33.4667,  27.5387,   103,    70.2,  16.0188,  35.2411,2,-999.0000,9,-999.0000,9,   -999.0,9,   -999.0,9,-999.0000,9, -33.4676,  27.5371,20130225,1622
  316N20130213,ACT0213,    35,  1,      5,      5,9,20130225,1618,-33.4667,  27.5387,   103,    70.5,  16.0087,  35.2410,2,-999.0000,9,-999.0000,9,   -999.0,9,   -999.0,9,-999.0000,9, -33.4674,  27.5374,20130225,1621
  316N20130213,ACT0213,    35,  1,      4,      4,9,20130225,1618,-33.4667,  27.5387,   103,    70.8,  15.9716,  35.2390,2,-999.0000,9,-999.0000,9,   -999.0,9,   -999.0,9,-999.0000,9, -33.4674,  27.5375,20130225,1621
  316N20130213,ACT0213,    35,  1,      3,      3,9,20130225,1618,-33.4667,  27.5387,   103,    70.8,  15.9790,  35.2387,2,-999.0000,9,-999.0000,9,   -999.0,9,   -999.0,9,-999.0000,9, -33.4673,  27.5375,20130225,1621
  316N20130213,ACT0213,    35,  1,      1,      1,2,20130225,1618,-33.4667,  27.5387,   103,    82.4,  15.6229,  35.2204,2,  35.2223,2,  35.3884,2,    183.2,2,    183.2,2,  15.6137,2, -33.4669,  27.5384,20130225,1619