BOTTLE,20141010ODF
EXPOCODE,SECT_ID,STNNBR,CASTNO,SAMPNO,BTLNBR,BTLNBR_FLAG_W,DATE,TIME,LATITUDE,LONGITUDE,DEPTH,CTDPRS,CTDTMP,CTDSAL,CTDSAL_FLAG_W,SALNTY,SALNTY_FLAG_W,SALTREF,SALTREF_FLAG_W,CTDOXY,CTDOXY_FLAG_W,OXYGEN,OXYGEN_FLAG_W,REFTMP,REFTMP_FLAG_W,BTL_LAT,BTL_LON,BTL_DATE,BTL_TIME
,,,,,,,,,,,METERS,DBAR,ITS-90,PSS-78,,PSS-78,,G/KG,,UMOL/KG,,UMOL/KG,,ITS-90,,,,,
  316N20130213,ACT0213,     8,  1,     12,     12,9,20130216,2121,-34.5440,  28.1607,  4009,    15.4,  25.4689,  35.5255,2,-999.0000,9,-999.0000,9,   -999.0,9,   -999.0,9,-999.0000,9, -34.5436,  28.1599,20130216,2251
  316N20130213,ACT0213,     8,  1,     11,     11,9,20130216,2121,-34.5440,  28.1607,  4009,    52.4,  22.9119,  35.4732,2,-999.0000,9,-999.0000,9,   -999.0,9,   -999.0,9,-999.0000,9, -34.5437,  28.1601,20130216,2249
  316N20130213,ACT0213,     8,  1,     10,     10,2,20130216,2121,-34.5440,  28.1607,  4009,   102.0,  20.0106,  35.4999,2,  35.5018,2,  35.6692,2,    183.8,2,    183.9,2,  20.0125,2, -34.5438,  28.1603,20130216,2247
  316N20130213,ACT0213,     8,  1,      9,      9,2,20130216,2121,-34.5440,  28.1607,  4009,   509.4,  12.9221,  35.1993,2,  35.2003,2,  35.3663,2,    214.8,2,    215.0,2,  12.9245,2, -34.5440,  28.1608,20130216,2238
  316N20130213,ACT0213,     8,  1,      8,      8,2,20130216,2121,-34.5440,  28.1607,  4009,  1010.3,   7.4343,  34.5611,2,  34.5613,2,  34.7243,2,    194.8,2,    195.4,2,   7.4369,2, -34.5440,  28.1607,20130216,2229
  316N20130213,ACT0213,     8,  1,      7,      7,2,20130216,2121,-34.5440,  28.1607,  4009,  1516.6,   3.8388,  34.5418,2,  34.5431,2,  34.7059,2,    164.8,2,    165.1,2,   3.8386,2, -34.5440,  28.1607,20130216,2217
  316N20130213,ACT0213,     8,  1,      6,      6,2,20130216,2121,-34.5440,  28.1607,  4009,  2021.1,   2.8337,  34.7166,2,  34.7164,2,  34.8801,2,    182.8,2,    184.9,2,   2.8335,2, -34.5440,  28.1607,20130216,2207
  316N20130213,ACT0213,     8,  1,      5,      5,2,20130216,2121,-34.5440,  28.1607,  4009,  2532.0,   2.5275,  34.7999,2,  34.8012,2,  34.9653,2,    207.8,2,    208.4,2,   2.5273,2, -34.5440,  28.1607,20130216,2156
  316N20130213,ACT0213,     8,  1,      4,      4,2,20130216,2121,-34.5440,  28.1607,  4009,  3040.8,   2.2156,  34.8129,2,  34.8138,2,  34.9780,2,    218.4,2,    218.4,2,   2.2152,2, -34.5440,  28.1607,20130216,2145
  316N20130213,ACT0213,     8,  1,      3,      3,2,20130216,2121,-34.5440,  28.1607,  4009,  3553.0,   1.6245,  34.7724,2,  34.7731,2,  34.9370,2,    217.0,2,    217.7,2,   1.6244,2, -34.5440,  28.1607,20130216,2135
  316N20130213,ACT0213,     8,  1,      2,      2,2,20130216,2121,-34.5440,  28.1607,  4009,  3964.8,   1.2130,  34.7411,2,  34.7402,2,  34.9040,2,    216.7,2,    217.3,2,   1.2137,2, -34.5440,  28.1607,20130216,2126
  316N20130213,ACT0213,     8,  1,      1,      1,2,20130216,2121,-34.5440,  28.1607,  4009,  4065.3,   1.0857,  34.7312,2,  34.7319,2,  34.8957,2,    215.9,2,    216.3,2,   1.0857,2, -34.5440,  28.1607,20130216,2121
  316N20130213,ACT0213,     9,  1,     12,     12,9,20130217,0113,-34.4005,  28.0946,  3835,    16.8,  25.2252,  35.5281,2,-999.0000,9,-999.0000,9,   -999.0,9,   -999.0,9,-999.0000,9, -34.3996,  28.0934,20130217,0235
  316N20130213,ACT0213,     9,  1,     11,     11,9,20130217,0113,-34.4005,  28.0946,  3835,    51.7,  23.1644,  35.5013,2,-999.0000,9,-999.0000,9,   -999.0,9,   -999.0,9,-999.0000,9, -34.3997,  28.0935,20130217,0232
  316N20130213,ACT0213,     9,  1,     10,     10,9,20130217,0113,-34.4005,  28.0946,  3835,   130.8,  18.9823,  35.5494,2,-999.0000,9,-999.0000,9,   -999.0,9,   -999.0,9,-999.0000,9, -34.3999,  28.0938,20130217,0229
  316N20130213,ACT0213,     9,  1,      9,      9,9,20130217,0113,-34.4005,  28.0946,  3835,   218.6,  17.0723,  35.5430,2,-999.0000,9,-999.0000,9,   -999.0,9,   -999.0,9,-999.0000,9, -34.4001,  28.0941,20130217,0226
  316N20130213,ACT0213,     9,  1,      8,      8,2,20130217,0113,-34.4005,  28.0946,  3835,   536.2,  12.6114,  35.1460,2,  35.1469,2,  35.3126,2,    200.6,2,    200.6,2,-999.0000,9, -34.4005,  28.0946,20130217,0220
  316N20130213,ACT0213,     9,  1,      7,      7,2,20130217,0113,-34.4005,  28.0946,  3835,  1011.0,   7.3628,  34.5815,2,  34.5828,2,  34.7459,2,    188.9,2,    183.7,2,-999.0000,9, -34.4005,  28.0946,20130217,0211
  316N20130213,ACT0213,     9,  1,      6,      6,2,20130217,0113,-34.4005,  28.0946,  3835,  1515.4,   3.7901,  34.5378,2,  34.5385,2,  34.7014,2,    165.9,2,    165.9,2,-999.0000,9, -34.4005,  28.0946,20130217,0201
  316N20130213,ACT0213,     9,  1,      5,      5,2,20130217,0113,-34.4005,  28.0946,  3835,  2022.8,   2.8266,  34.7171,2,  34.7180,2,  34.8817,2,    176.5,2,    176.6,2,-999.0000,9, -34.4005,  28.0946,20130217,0151
  316N20130213,ACT0213,     9,  1,      4,      4,2,20130217,0113,-34.4005,  28.0946,  3835,  2533.2,   2.5541,  34.8028,2,  34.8042,2,  34.9683,2,    208.6,2,    208.9,2,-999.0000,9, -34.4005,  28.0946,20130217,0141
  316N20130213,ACT0213,     9,  1,      3,      3,2,20130217,0113,-34.4005,  28.0946,  3835,  3043.9,   2.2128,  34.8132,2,  34.8138,2,  34.9780,2,    218.4,2,    218.3,2,-999.0000,9, -34.4005,  28.0946,20130217,0131
  316N20130213,ACT0213,     9,  1,      2,      2,2,20130217,0113,-34.4005,  28.0946,  3835,  3553.3,   1.6473,  34.7747,2,  34.7751,2,  34.9390,2,    216.9,2,    239.0,4,-999.0000,9, -34.4005,  28.0946,20130217,0121
  316N20130213,ACT0213,     9,  1,      1,      1,2,20130217,0113,-34.4005,  28.0946,  3835,  3884.2,   1.1639,  34.7386,2,  34.7402,2,  34.9040,2,    216.2,2,    216.3,2,-999.0000,9, -34.4005,  28.0946,20130217,0113
  316N20130213,ACT0213,    10,  1,      1,      1,9,20130217,0741,-34.2895,  28.0103,  3703,    12.7,  25.0926,  35.5544,3,-999.0000,9,-999.0000,9,   -999.0,9,   -999.0,9,-999.0000,9, -34.2886,  28.0177,20130217,0630
  316N20130213,ACT0213,    10,  1,     12,     12,2,20130217,0741,-34.2895,  28.0103,  3703,    18.3,  25.0930,  35.5574,3,  35.5546,2,  35.7223,2,   -999.0,9,   -999.0,9,-999.0000,9, -34.2842,  28.0046,20130217,0903
  316N20130213,ACT0213,    10,  1,     11,     11,2,20130217,0741,-34.2895,  28.0103,  3703,    52.4,  23.8854,  35.6249,3,  35.6431,2,  35.8112,2,   -999.0,9,   -999.0,9,-999.0000,9, -34.2845,  28.0048,20130217,0900
  316N20130213,ACT0213,    10,  1,     10,     10,2,20130217,0741,-34.2895,  28.0103,  3703,   151.0,  17.9946,  35.5555,3,  35.5601,2,  35.7278,2,   -999.0,9,   -999.0,9,-999.0000,9, -34.2849,  28.0053,20130217,0856
  316N20130213,ACT0213,    10,  1,      9,      9,2,20130217,0741,-34.2895,  28.0103,  3703,   255.1,  16.4297,  35.5245,3,  35.5402,2,  35.7077,2,   -999.0,9,   -999.0,9,-999.0000,9, -34.2852,  28.0057,20130217,0852
  316N20130213,ACT0213,    10,  1,      8,      8,2,20130217,0741,-34.2895,  28.0103,  3703,   506.0,  12.8784,  35.1910,3,  35.1927,2,  35.3586,2,   -999.0,9,   -999.0,9,-999.0000,9, -34.2855,  28.0059,20130217,0847
  316N20130213,ACT0213,    10,  1,      7,      7,2,20130217,0741,-34.2895,  28.0103,  3703,  1001.7,   7.6746,  34.6213,3,  34.6499,2,  34.8133,2,   -999.0,9,   -999.0,9,-999.0000,9, -34.2862,  28.0066,20130217,0837
  316N20130213,ACT0213,    10,  1,      6,      6,2,20130217,0741,-34.2895,  28.0103,  3703,  1507.5,   4.3546,  34.6109,3,  34.6082,2,  34.7714,2,   -999.0,9,   -999.0,9,-999.0000,9, -34.2865,  28.0070,20130217,0826
  316N20130213,ACT0213,    10,  1,      5,      5,2,20130217,0741,-34.2895,  28.0103,  3703,  2018.5,   2.7965,  34.7230,3,  34.7235,2,  34.8872,2,   -999.0,9,   -999.0,9,-999.0000,9, -34.2872,  28.0077,20130217,0816
  316N20130213,ACT0213,    10,  1,      4,      4,2,20130217,0741,-34.2895,  28.0103,  3703,  2530.9,   2.5303,  34.8050,3,  34.8050,2,  34.9691,2,   -999.0,9,   -999.0,9,-999.0000,9, -34.2879,  28.0086,20130217,0806
  316N20130213,ACT0213,    10,  1,      3,      3,2,20130217,0741,-34.2895,  28.0103,  3703,  3041.2,   2.2041,  34.8125,3,  34.8152,2,  34.9794,2,   -999.0,9,   -999.0,9,-999.0000,9, -34.2887,  28.0094,20130217,0755
  316N20130213,ACT0213,    10,  1,      2,      2,2,20130217,0741,-34.2895,  28.0103,  3703,  3751.0,   1.1872,  34.7420,3,  34.7416,2,  34.9054,2,   -999.0,9,   -999.0,9,-999.0000,9, -34.2895,  28.0103,20130217,0741
  316N20130213,ACT0213,    11,  1,     12,     12,2,20130217,1139,-34.1389,  27.9240,  3616,    13.7,  26.2315,  35.4981,2,  35.4982,2,  35.6656,2,    204.9,2,    204.8,2,-999.0000,9, -34.1415,  27.9041,20130217,1303
  316N20130213,ACT0213,    11,  1,     11,     11,2,20130217,1139,-34.1389,  27.9240,  3616,    63.2,  23.5632,  35.5996,2,  35.5980,2,  35.7658,2,    219.9,2,    219.6,2,-999.0000,9, -34.1414,  27.9052,20130217,1300
  316N20130213,ACT0213,    11,  1,     10,     10,2,20130217,1139,-34.1389,  27.9240,  3616,   121.9,  18.9013,  35.5476,2,  35.5456,2,  35.7132,2,    205.3,2,    203.4,2,-999.0000,9, -34.1410,  27.9060,20130217,1257
  316N20130213,ACT0213,    11,  1,      9,      9,2,20130217,1139,-34.1389,  27.9240,  3616,   300.5,  15.4263,  35.4600,2,  35.4606,2,  35.6279,2,    206.1,2,    202.8,2,-999.0000,9, -34.1404,  27.9077,20130217,1252
  316N20130213,ACT0213,    11,  1,      8,      8,2,20130217,1139,-34.1389,  27.9240,  3616,   508.9,  12.7052,  35.1725,2,  35.1750,2,  35.3409,2,    213.7,2,    213.6,2,-999.0000,9, -34.1396,  27.9100,20130217,1246
  316N20130213,ACT0213,    11,  1,      7,      7,2,20130217,1139,-34.1389,  27.9240,  3616,  1194.2,   5.5079,  34.5132,2,  34.5145,2,  34.6772,2,    187.3,2,    169.5,3,-999.0000,9, -34.1395,  27.9122,20130217,1233
  316N20130213,ACT0213,    11,  1,      6,      6,2,20130217,1139,-34.1389,  27.9240,  3616,  1420.2,   4.4885,  34.5925,2,  34.5924,2,  34.7555,2,    147.7,2,    148.5,2,-999.0000,9, -34.1392,  27.9135,20130217,1227
  316N20130213,ACT0213,    11,  1,      5,      5,2,20130217,1139,-34.1389,  27.9240,  3616,  1737.5,   3.2430,  34.6887,2,  34.6888,2,  34.8523,2,    159.4,2,    160.2,2,-999.0000,9, -34.1388,  27.9146,20130217,1220
  316N20130213,ACT0213,    11,  1,      4,      4,2,20130217,1139,-34.1389,  27.9240,  3616,  2328.7,   2.6077,  34.7937,2,  34.7939,2,  34.9579,2,    204.8,2,    205.1,2,-999.0000,9, -34.1384,  27.9171,20130217,1208
  316N20130213,ACT0213,    11,  1,      3,      3,2,20130217,1139,-34.1389,  27.9240,  3616,  2700.3,   2.4261,  34.8174,2,  34.8167,2,  34.9809,2,    217.6,2,    215.9,2,-999.0000,9, -34.1389,  27.9181,20130217,1200
  316N20130213,ACT0213,    11,  1,      2,      2,2,20130217,1139,-34.1389,  27.9240,  3616,  3329.6,   1.9930,  34.8028,2,  34.8039,2,  34.9680,2,    216.7,2,    219.7,3,-999.0000,9, -34.1385,  27.9224,20130217,1149
  316N20130213,ACT0213,    11,  1,      1,      1,2,20130217,1139,-34.1389,  27.9240,  3616,  3656.1,   1.2277,  34.7463,2,  34.7452,2,  34.9091,2,    209.6,2,    209.4,2,-999.0000,9, -34.1389,  27.9237,20130217,1140
  316N20130213,ACT0213,    12,  1,     12,     12,2,20130217,1525,-34.0269,  27.8361,  3548,    20.1,  26.4306,  35.5078,2,  35.5128,2,  35.6802,2,    203.9,2,    203.8,2,  26.4297,2, -34.0319,  27.8116,20130217,1644
  316N20130213,ACT0213,    12,  1,     11,     11,2,20130217,1525,-34.0269,  27.8361,  3548,    55.1,  26.0120,  35.4982,2,  35.5051,2,  35.6725,2,    207.4,2,    205.9,2,  26.0784,2, -34.0314,  27.8130,20130217,1641
  316N20130213,ACT0213,    12,  1,     10,     10,2,20130217,1525,-34.0269,  27.8361,  3548,   103.6,  19.9873,  35.5585,2,  35.5628,2,  35.7305,2,    226.4,2,    230.1,2,  19.9500,3, -34.0307,  27.8148,20130217,1638
  316N20130213,ACT0213,    12,  1,      9,      9,2,20130217,1525,-34.0269,  27.8361,  3548,   403.9,  13.6834,  35.3173,2,  35.3209,2,  35.4874,2,    216.8,2,    219.7,2,  13.6782,2, -34.0294,  27.8179,20130217,1632
  316N20130213,ACT0213,    12,  1,      8,      8,2,20130217,1525,-34.0269,  27.8361,  3548,   809.6,   8.8626,  34.6797,2,  34.6795,2,  34.8431,2,    210.4,2,    206.5,2,   8.8641,2, -34.0286,  27.8216,20130217,1624
  316N20130213,ACT0213,    12,  1,      7,      7,2,20130217,1525,-34.0269,  27.8361,  3548,  1227.8,   5.2097,  34.5876,2,  34.5877,2,  34.7508,2,    152.1,2,    148.2,2,   5.2116,2, -34.0284,  27.8241,20130217,1615
  316N20130213,ACT0213,    12,  1,      6,      6,2,20130217,1525,-34.0269,  27.8361,  3548,  1624.0,   3.2641,  34.6887,2,  34.6880,2,  34.8516,2,    155.0,2,    158.0,2,   3.2595,3, -34.0277,  27.8267,20130217,1607
  316N20130213,ACT0213,    12,  1,      5,      5,2,20130217,1525,-34.0269,  27.8361,  3548,  2021.1,   2.6838,  34.7550,2,  34.7536,2,  34.9174,2,    187.7,2,    189.8,2,   2.6829,2, -34.0273,  27.8290,20130217,1559
  316N20130213,ACT0213,    12,  1,      4,      4,2,20130217,1525,-34.0269,  27.8361,  3548,  2427.1,   2.5210,  34.8081,2,  34.8077,2,  34.9718,2,    211.6,2,    216.1,3,   2.5195,2, -34.0272,  27.8310,20130217,1550
  316N20130213,ACT0213,    12,  1,      3,      3,2,20130217,1525,-34.0269,  27.8361,  3548,  2831.8,   2.2930,  34.8183,2,  34.8168,2,  34.9810,2,    219.9,2,    218.6,2,   2.2935,2, -34.0271,  27.8328,20130217,1543
  316N20130213,ACT0213,    12,  1,      2,      2,2,20130217,1525,-34.0269,  27.8361,  3548,  3242.7,   1.9882,  34.8026,2,  34.7998,3,  34.9639,3,    220.6,2,    218.9,2,   1.9864,3, -34.0271,  27.8345,20130217,1533
  316N20130213,ACT0213,    12,  1,      1,      1,2,20130217,1525,-34.0269,  27.8361,  3548,  3593.1,   1.2999,  34.7518,2,  34.7498,2,  34.9137,2,    216.4,2,    216.5,2,   1.2989,2, -34.0269,  27.8356,20130217,1526
  316N20130213,ACT0213,    13,  1,     12,     12,2,20130217,2000,-33.9107,  27.7670,  3089,    18.1,  26.3699,  35.5327,2,  35.5336,2,  35.7011,2,    204.5,2,    203.2,2,  26.3701,2, -33.9224,  27.7407,20130217,2117
  316N20130213,ACT0213,    13,  1,     11,     11,2,20130217,2000,-33.9107,  27.7670,  3089,    50.7,  25.0186,  35.4919,2,  35.5006,2,  35.6680,2,    207.6,2,    214.3,3,  24.5077,3, -33.9217,  27.7422,20130217,2114
  316N20130213,ACT0213,    13,  1,     10,     10,2,20130217,2000,-33.9107,  27.7670,  3089,   102.2,  19.5580,  35.4453,2,  35.4512,2,  35.6184,2,    169.0,2,    164.5,2,  19.4933,3, -33.9208,  27.7441,20130217,2112
  316N20130213,ACT0213,    13,  1,      9,      9,2,20130217,2000,-33.9107,  27.7670,  3089,   506.6,  12.0684,  35.0859,2,  35.0872,2,  35.2526,2,    218.6,2,    219.0,2,  12.0706,2, -33.9183,  27.7486,20130217,2103
  316N20130213,ACT0213,    13,  1,      8,      8,2,20130217,2000,-33.9107,  27.7670,  3089,  1010.7,   6.0654,  34.5129,2,  34.5112,2,  34.6740,2,    174.5,2,    177.5,2,   6.0689,2, -33.9160,  27.7530,20130217,2054
  316N20130213,ACT0213,    13,  1,      7,      7,2,20130217,2000,-33.9107,  27.7670,  3089,  1212.2,   4.8624,  34.5814,2,  34.5807,2,  34.7437,2,    149.3,2,    149.8,2,   4.8648,3, -33.9152,  27.7544,20130217,2048
  316N20130213,ACT0213,    13,  1,      6,      6,2,20130217,2000,-33.9107,  27.7670,  3089,  1526.3,   3.3205,  34.6776,2,  34.6771,2,  34.8406,2,    154.7,2,    157.3,2,   3.3193,2, -33.9138,  27.7572,20130217,2041
  316N20130213,ACT0213,    13,  1,      5,      5,2,20130217,2000,-33.9107,  27.7670,  3089,  2034.9,   2.6360,  34.7663,2,  34.7647,2,  34.9286,2,    195.3,2,    193.2,2,   2.6362,2, -33.9130,  27.7603,20130217,2030
  316N20130213,ACT0213,    13,  1,      4,      4,2,20130217,2000,-33.9107,  27.7670,  3089,  2251.1,   2.5143,  34.7909,2,  34.7910,2,  34.9551,2,    202.8,2,    203.2,2,   2.5140,2, -33.9126,  27.7617,20130217,2024
  316N20130213,ACT0213,    13,  1,      3,      3,2,20130217,2000,-33.9107,  27.7670,  3089,  2558.4,   2.3846,  34.8081,2,  34.8070,2,  34.9711,2,    212.0,2,    211.7,2,   2.3841,2, -33.9117,  27.7637,20130217,2016
  316N20130213,ACT0213,    13,  1,      2,      2,2,20130217,2000,-33.9107,  27.7670,  3089,  2936.3,   2.1761,  34.8146,2,  34.8115,3,  34.9757,3,    218.6,2,    218.8,2,   2.1758,2, -33.9111,  27.7655,20130217,2006
  316N20130213,ACT0213,    13,  1,      1,      1,2,20130217,2000,-33.9107,  27.7670,  3089,  3106.3,   2.0006,  34.8046,2,  34.8031,2,  34.9672,2,    218.5,2,    218.8,2,   2.0007,2, -33.9108,  27.7667,20130217,2001
  316N20130213,ACT0213,    14,  1,     12,     12,2,20130217,2355,-33.8188,  27.6624,  2222,    19.8,  26.2456,  35.3989,2,  35.3982,2,  35.5651,2,    205.2,2,    204.8,2,  26.2452,2, -33.8431,  27.6261,20130218,0101
  316N20130213,ACT0213,    14,  1,     11,     11,2,20130217,2355,-33.8188,  27.6624,  2222,    53.1,  22.7743,  35.4704,2,  35.4723,2,  35.6396,2,    212.0,2,    212.0,2,  22.7734,2, -33.8436,  27.6254,20130218,0058
  316N20130213,ACT0213,    14,  1,     10,     10,2,20130217,2355,-33.8188,  27.6624,  2222,   104.5,  18.4508,  35.5443,2,  35.5435,2,  35.7111,2,    193.7,2,    193.3,2,  18.4484,2, -33.8410,  27.6279,20130218,0055
  316N20130213,ACT0213,    14,  1,      9,      9,2,20130217,2355,-33.8188,  27.6624,  2222,   281.6,  14.3155,  35.3353,2,  35.3325,2,  35.4991,2,    190.4,2,    191.1,2,  14.3163,2, -33.8375,  27.6334,20130218,0050
  316N20130213,ACT0213,    14,  1,      8,      8,2,20130217,2355,-33.8188,  27.6624,  2222,   507.9,  11.0893,  34.9505,2,  34.9519,2,  35.1167,2,    219.3,2,    215.7,2,  11.0749,3, -33.8345,  27.6385,20130218,0044
  316N20130213,ACT0213,    14,  1,      7,      7,2,20130217,2355,-33.8188,  27.6624,  2222,   748.5,   8.3007,  34.6316,2,  34.6325,2,  34.7958,2,    201.0,2,    200.8,2,   8.3170,3, -33.8325,  27.6424,20130218,0038
  316N20130213,ACT0213,    14,  1,      6,      6,2,20130217,2355,-33.8188,  27.6624,  2222,  1004.5,   6.0790,  34.6212,2,  34.6180,2,  34.7812,2,    149.8,2,    148.0,2,   6.0824,3, -33.8297,  27.6473,20130218,0031
  316N20130213,ACT0213,    14,  1,      5,      5,2,20130217,2355,-33.8188,  27.6624,  2222,  1218.5,   4.1589,  34.6341,2,  34.6386,4,  34.8020,4,    145.3,2,    144.8,2,   4.1574,2, -33.8278,  27.6514,20130218,0025
  316N20130213,ACT0213,    14,  1,      4,      4,2,20130217,2355,-33.8188,  27.6624,  2222,  1437.5,   3.2317,  34.6765,2,  34.7141,4,  34.8778,4,    159.8,2,    160.4,2,   3.2312,2, -33.8259,  27.6547,20130218,0018
  316N20130213,ACT0213,    14,  1,      3,      3,2,20130217,2355,-33.8188,  27.6624,  2222,  1638.5,   2.8727,  34.7134,2,  34.7143,2,  34.8780,2,    173.6,2,    173.6,2,   2.8722,2, -33.8242,  27.6566,20130218,0012
  316N20130213,ACT0213,    14,  1,      2,      2,2,20130217,2355,-33.8188,  27.6624,  2222,  1951.4,   2.6252,  34.7653,2,  34.7661,2,  34.9300,2,    192.5,2,    193.1,2,   2.6252,2, -33.8218,  27.6591,20130218,0004
  316N20130213,ACT0213,    14,  1,      1,      1,2,20130217,2355,-33.8188,  27.6624,  2222,  2234.1,   2.5859,  34.7901,2,  34.7907,2,  34.9548,2,    203.8,2,    203.8,2,   2.5846,2, -33.8193,  27.6622,20130217,2358