BOTTLE,20141010ODF
EXPOCODE,SECT_ID,STNNBR,CASTNO,SAMPNO,BTLNBR,BTLNBR_FLAG_W,DATE,TIME,LATITUDE,LONGITUDE,DEPTH,CTDPRS,CTDTMP,CTDSAL,CTDSAL_FLAG_W,SALNTY,SALNTY_FLAG_W,SALTREF,SALTREF_FLAG_W,CTDOXY,CTDOXY_FLAG_W,OXYGEN,OXYGEN_FLAG_W,REFTMP,REFTMP_FLAG_W,BTL_LAT,BTL_LON,BTL_DATE,BTL_TIME
,,,,,,,,,,,METERS,DBAR,ITS-90,PSS-78,,PSS-78,,G/KG,,UMOL/KG,,UMOL/KG,,ITS-90,,,,,
  316N20130213,ACT0213,    50,  1,     12,     12,2,20130227,1652,-33.7154,  27.6593,  1700,    10.9,  26.9770,  35.5009,2,  35.5022,2,  35.6696,2,    203.4,2,    203.0,2,  26.9779,2, -33.7287,  27.6378,20130227,1730
  316N20130213,ACT0213,    50,  1,     11,     11,2,20130227,1652,-33.7154,  27.6593,  1700,    78.5,  20.5923,  35.4542,2,  35.4561,2,  35.6233,2,    171.3,2,    171.2,2,  20.5183,3, -33.7272,  27.6409,20130227,1727
  316N20130213,ACT0213,    50,  1,      4,      4,2,20130227,1652,-33.7154,  27.6593,  1700,   572.1,   9.9013,  34.8185,2,  34.8184,2,  34.9826,2,    192.3,2,    192.4,2,   9.9017,2, -33.7231,  27.6476,20130227,1716
  316N20130213,ACT0213,    50,  1,      5,      5,9,20130227,1652,-33.7154,  27.6593,  1700,   572.8,   9.9068,  34.8192,2,-999.0000,9,-999.0000,9,   -999.0,9,   -999.0,9,   9.9067,2, -33.7232,  27.6473,20130227,1717
  316N20130213,ACT0213,    50,  1,      7,      7,9,20130227,1652,-33.7154,  27.6593,  1700,   572.9,   9.9070,  34.8194,2,-999.0000,9,-999.0000,9,   -999.0,9,   -999.0,9,   9.9055,2, -33.7234,  27.6472,20130227,1717
  316N20130213,ACT0213,    50,  1,      9,      9,9,20130227,1652,-33.7154,  27.6593,  1700,   572.9,   9.9033,  34.8191,2,-999.0000,9,-999.0000,9,   -999.0,9,   -999.0,9,   9.9029,2, -33.7235,  27.6470,20130227,1717
  316N20130213,ACT0213,    50,  1,     10,     10,9,20130227,1652,-33.7154,  27.6593,  1700,   573.0,   9.9035,  34.8192,2,-999.0000,9,-999.0000,9,   -999.0,9,   -999.0,9,   9.9034,2, -33.7236,  27.6469,20130227,1718
  316N20130213,ACT0213,    50,  1,      8,      8,9,20130227,1652,-33.7154,  27.6593,  1700,   573.1,   9.9062,  34.8194,2,-999.0000,9,-999.0000,9,   -999.0,9,   -999.0,9,   9.9058,2, -33.7234,  27.6471,20130227,1717
  316N20130213,ACT0213,    50,  1,      6,      6,9,20130227,1652,-33.7154,  27.6593,  1700,   573.2,   9.9078,  34.8195,2,-999.0000,9,-999.0000,9,   -999.0,9,   -999.0,9,   9.9085,2, -33.7233,  27.6473,20130227,1717
  316N20130213,ACT0213,    50,  1,      3,      3,2,20130227,1652,-33.7154,  27.6593,  1700,  1077.9,   4.6332,  34.5893,2,  34.5891,2,  34.7522,2,    149.1,2,    148.4,2,   4.6348,2, -33.7197,  27.6526,20130227,1707
  316N20130213,ACT0213,    50,  1,      2,      2,2,20130227,1652,-33.7154,  27.6593,  1700,  1500.8,   2.8964,  34.7101,2,  34.7097,2,  34.8734,2,    171.2,2,    172.9,2,   2.8936,3, -33.7170,  27.6568,20130227,1658
  316N20130213,ACT0213,    50,  1,      1,      1,2,20130227,1652,-33.7154,  27.6593,  1700,  1705.4,   2.7390,  34.7433,2,  34.7435,2,  34.9074,2,    187.2,2,    187.1,2,   2.7393,2, -33.7158,  27.6588,20130227,1653
  316N20130213,ACT0213,    51,  1,     12,     12,2,20130227,1917,-33.7159,  27.6617,  1723,     2.3,  27.0137,  35.5106,2,  35.5115,2,  35.6789,2,    202.5,2,    202.4,2,  27.0144,2, -33.7295,  27.6391,20130227,2000
  316N20130213,ACT0213,    51,  1,     11,     11,2,20130227,1917,-33.7159,  27.6617,  1723,    44.0,  22.6588,  35.4087,2,  35.4050,2,  35.5719,2,    193.0,2,    196.6,2,  22.6624,2, -33.7282,  27.6414,20130227,1957
  316N20130213,ACT0213,    51,  1,      8,      8,9,20130227,1917,-33.7159,  27.6617,  1723,   476.3,  10.7671,  34.9077,2,-999.0000,9,-999.0000,9,   -999.0,9,   -999.0,9,  10.7637,2, -33.7239,  27.6486,20130227,1946
  316N20130213,ACT0213,    51,  1,      9,      9,9,20130227,1917,-33.7159,  27.6617,  1723,   476.6,  10.7653,  34.9076,2,-999.0000,9,-999.0000,9,   -999.0,9,   -999.0,9,  10.7630,2, -33.7240,  27.6485,20130227,1946
  316N20130213,ACT0213,    51,  1,      7,      7,9,20130227,1917,-33.7159,  27.6617,  1723,   476.6,  10.7669,  34.9075,2,-999.0000,9,-999.0000,9,   -999.0,9,   -999.0,9,  10.7660,2, -33.7239,  27.6487,20130227,1946
  316N20130213,ACT0213,    51,  1,      4,      4,2,20130227,1917,-33.7159,  27.6617,  1723,   476.6,  10.7606,  34.9071,2,  34.9063,2,  35.0709,2,    213.9,2,    215.8,2,  10.7613,2, -33.7237,  27.6490,20130227,1946
  316N20130213,ACT0213,    51,  1,      6,      6,9,20130227,1917,-33.7159,  27.6617,  1723,   476.7,  10.7654,  34.9076,2,-999.0000,9,-999.0000,9,   -999.0,9,   -999.0,9,  10.7642,2, -33.7238,  27.6488,20130227,1946
  316N20130213,ACT0213,    51,  1,     10,     10,9,20130227,1917,-33.7159,  27.6617,  1723,   476.8,  10.7622,  34.9071,2,-999.0000,9,-999.0000,9,   -999.0,9,   -999.0,9,  10.7602,2, -33.7241,  27.6483,20130227,1947
  316N20130213,ACT0213,    51,  1,      5,      5,9,20130227,1917,-33.7159,  27.6617,  1723,   477.4,  10.7619,  34.9071,2,-999.0000,9,-999.0000,9,   -999.0,9,   -999.0,9,  10.7640,2, -33.7238,  27.6489,20130227,1946
  316N20130213,ACT0213,    51,  1,      3,      3,2,20130227,1917,-33.7159,  27.6617,  1723,   981.9,   5.1330,  34.5072,2,  34.5044,2,  34.6671,2,    169.0,2,    167.9,2,   5.1328,2, -33.7205,  27.6546,20130227,1935
  316N20130213,ACT0213,    51,  1,      2,      2,2,20130227,1917,-33.7159,  27.6617,  1723,  1445.3,   2.9217,  34.7071,2,  34.7062,2,  34.8698,2,    168.0,2,    169.9,2,   2.9218,2, -33.7179,  27.6588,20130227,1925
  316N20130213,ACT0213,    51,  1,      1,      1,2,20130227,1917,-33.7159,  27.6617,  1723,  1720.8,   2.7064,  34.7495,2,  34.7496,2,  34.9135,2,    188.6,2,    188.6,2,   2.7065,2, -33.7161,  27.6613,20130227,1918
  316N20130213,ACT0213,    52,  1,     12,     12,2,20130227,2218,-33.7146,  27.6615,  1716,    30.7,  25.0569,  35.4155,2,  35.4281,2,  35.5951,2,    207.5,2,    207.5,2,  25.0604,2, -33.7268,  27.6397,20130227,2258
  316N20130213,ACT0213,    52,  1,     11,     11,2,20130227,2218,-33.7146,  27.6615,  1716,   147.1,  17.0207,  35.5358,2,  35.5385,2,  35.7061,2,    199.4,2,    199.4,2,  17.0764,2, -33.7248,  27.6430,20130227,2254
  316N20130213,ACT0213,    52,  1,      8,      8,9,20130227,2218,-33.7146,  27.6615,  1716,   753.6,   7.9463,  34.6588,2,-999.0000,9,-999.0000,9,   -999.0,9,   -999.0,9,   7.9460,2, -33.7206,  27.6501,20130227,2242
  316N20130213,ACT0213,    52,  1,      4,      4,2,20130227,2218,-33.7146,  27.6615,  1716,   753.6,   7.9423,  34.6581,2,  34.6559,2,  34.8193,2,    172.1,2,    172.2,2,   7.9436,2, -33.7204,  27.6506,20130227,2241
  316N20130213,ACT0213,    52,  1,      6,      6,9,20130227,2218,-33.7146,  27.6615,  1716,   753.8,   7.9443,  34.6586,2,-999.0000,9,-999.0000,9,   -999.0,9,   -999.0,9,   7.9437,2, -33.7205,  27.6504,20130227,2242
  316N20130213,ACT0213,    52,  1,      9,      9,9,20130227,2218,-33.7146,  27.6615,  1716,   753.9,   7.9449,  34.6586,2,-999.0000,9,-999.0000,9,   -999.0,9,   -999.0,9,   7.9434,2, -33.7207,  27.6500,20130227,2242
  316N20130213,ACT0213,    52,  1,      5,      5,9,20130227,2218,-33.7146,  27.6615,  1716,   753.9,   7.9440,  34.6585,2,-999.0000,9,-999.0000,9,   -999.0,9,   -999.0,9,   7.9436,2, -33.7205,  27.6504,20130227,2241
  316N20130213,ACT0213,    52,  1,      7,      7,9,20130227,2218,-33.7146,  27.6615,  1716,   754.2,   7.9444,  34.6586,2,-999.0000,9,-999.0000,9,   -999.0,9,   -999.0,9,   7.9451,2, -33.7206,  27.6503,20130227,2242
  316N20130213,ACT0213,    52,  1,     10,     10,9,20130227,2218,-33.7146,  27.6615,  1716,   754.4,   7.9403,  34.6584,2,-999.0000,9,-999.0000,9,   -999.0,9,   -999.0,9,   7.9409,2, -33.7208,  27.6499,20130227,2242
  316N20130213,ACT0213,    52,  1,      3,      3,2,20130227,2218,-33.7146,  27.6615,  1716,  1273.0,   3.5150,  34.6658,2,  34.6645,2,  34.8280,2,    157.0,2,    157.0,2,   3.5128,2, -33.7174,  27.6560,20130227,2230
  316N20130213,ACT0213,    52,  1,      2,      2,2,20130227,2218,-33.7146,  27.6615,  1716,  1599.4,   2.7558,  34.7337,2,  34.7331,2,  34.8969,2,    180.6,2,    183.2,2,   2.7540,2, -33.7157,  27.6592,20130227,2222
  316N20130213,ACT0213,    52,  1,      1,      1,2,20130227,2218,-33.7146,  27.6615,  1716,  1712.6,   2.7030,  34.7498,2,  34.7488,2,  34.9127,2,    189.1,2,    189.1,2,   2.7035,2, -33.7148,  27.6610,20130227,2218
  316N20130213,ACT0213,    53,  1,     12,     12,2,20130228,0116,-33.7147,  27.6631,  1725,    17.4,  26.8599,  35.4892,2,  35.4904,2,  35.6577,2,    202.6,2,    202.5,2,  26.8643,2, -33.7265,  27.6438,20130228,0157
  316N20130213,ACT0213,    53,  1,     11,     11,2,20130228,0116,-33.7147,  27.6631,  1725,    90.7,  19.6202,  35.4981,2,  35.4973,2,  35.6647,2,    175.0,2,    175.0,2,  19.6406,3, -33.7255,  27.6458,20130228,0154
  316N20130213,ACT0213,    53,  1,      4,      4,2,20130228,0116,-33.7147,  27.6631,  1725,   527.6,  10.3060,  34.8516,2,  34.8511,2,  35.0154,2,    209.6,2,    209.7,2,  10.3052,2, -33.7218,  27.6530,20130228,0142
  316N20130213,ACT0213,    53,  1,      5,      5,9,20130228,0116,-33.7147,  27.6631,  1725,   527.7,  10.3052,  34.8513,2,-999.0000,9,-999.0000,9,   -999.0,9,   -999.0,9,  10.3047,2, -33.7219,  27.6529,20130228,0143
  316N20130213,ACT0213,    53,  1,      6,      6,9,20130228,0116,-33.7147,  27.6631,  1725,   527.9,  10.3072,  34.8508,2,-999.0000,9,-999.0000,9,   -999.0,9,   -999.0,9,  10.3083,2, -33.7221,  27.6527,20130228,0143
  316N20130213,ACT0213,    53,  1,      7,      7,9,20130228,0116,-33.7147,  27.6631,  1725,   528.9,  10.3100,  34.8493,2,-999.0000,9,-999.0000,9,   -999.0,9,   -999.0,9,  10.3096,2, -33.7223,  27.6524,20130228,0144
  316N20130213,ACT0213,    53,  1,      9,      9,9,20130228,0116,-33.7147,  27.6631,  1725,   529.4,  10.3097,  34.8501,2,-999.0000,9,-999.0000,9,   -999.0,9,   -999.0,9,  10.3094,2, -33.7226,  27.6518,20130228,0145
  316N20130213,ACT0213,    53,  1,     10,     10,9,20130228,0116,-33.7147,  27.6631,  1725,   529.5,  10.3097,  34.8504,2,-999.0000,9,-999.0000,9,   -999.0,9,   -999.0,9,  10.3095,2, -33.7227,  27.6515,20130228,0145
  316N20130213,ACT0213,    53,  1,      8,      8,9,20130228,0116,-33.7147,  27.6631,  1725,   529.6,  10.3097,  34.8498,2,-999.0000,9,-999.0000,9,   -999.0,9,   -999.0,9,  10.3092,2, -33.7225,  27.6520,20130228,0144
  316N20130213,ACT0213,    53,  1,      3,      3,2,20130228,0116,-33.7147,  27.6631,  1725,  1085.2,   4.6350,  34.5957,2,  34.5946,2,  34.7577,2,    149.5,2,    149.4,2,   4.6364,2, -33.7185,  27.6572,20130228,0132
  316N20130213,ACT0213,    53,  1,      2,      2,2,20130228,0116,-33.7147,  27.6631,  1725,  1631.8,   2.7377,  34.7386,2,  34.7394,2,  34.9032,2,    184.1,2,    185.3,2,   2.7377,2, -33.7156,  27.6617,20130228,0120
  316N20130213,ACT0213,    53,  1,      1,      1,2,20130228,0116,-33.7147,  27.6631,  1725,  1725.4,   2.7014,  34.7504,2,  34.7510,2,  34.9149,2,    189.1,2,    189.1,2,   2.7012,2, -33.7148,  27.6629,20130228,0117
  316N20130213,ACT0213,    54,  1,     12,     12,2,20130228,0429,-33.7334,  27.6517,  1757,     8.8,  26.8243,  35.4959,2,  35.4959,2,  35.6633,2,    202.1,2,    202.0,2,  26.8222,2, -33.7527,  27.6287,20130228,0513
  316N20130213,ACT0213,    54,  1,     11,     11,2,20130228,0429,-33.7334,  27.6517,  1757,    64.7,  20.9856,  35.4911,2,  35.4884,2,  35.6558,2,    191.4,2,    191.4,2,  21.0046,3, -33.7507,  27.6313,20130228,0510
  316N20130213,ACT0213,    54,  1,      8,      8,9,20130228,0429,-33.7334,  27.6517,  1757,   366.2,  12.1143,  35.0912,2,-999.0000,9,-999.0000,9,   -999.0,9,   -999.0,9,  12.1065,3, -33.7473,  27.6361,20130228,0503
  316N20130213,ACT0213,    54,  1,      9,      9,9,20130228,0429,-33.7334,  27.6517,  1757,   366.2,  12.1108,  35.0904,2,-999.0000,9,-999.0000,9,   -999.0,9,   -999.0,9,  12.0993,3, -33.7473,  27.6360,20130228,0503
  316N20130213,ACT0213,    54,  1,      4,      4,2,20130228,0429,-33.7334,  27.6517,  1757,   366.2,  12.1331,  35.0937,2,  35.0927,2,  35.2582,2,    208.7,2,    208.7,2,  12.1313,2, -33.7469,  27.6366,20130228,0502
  316N20130213,ACT0213,    54,  1,      5,      5,9,20130228,0429,-33.7334,  27.6517,  1757,   366.4,  12.1300,  35.0930,2,-999.0000,9,-999.0000,9,   -999.0,9,   -999.0,9,  12.1277,2, -33.7470,  27.6365,20130228,0502
  316N20130213,ACT0213,    54,  1,     10,     10,9,20130228,0429,-33.7334,  27.6517,  1757,   366.4,  12.0910,  35.0882,2,-999.0000,9,-999.0000,9,   -999.0,9,   -999.0,9,  12.0907,2, -33.7474,  27.6359,20130228,0503
  316N20130213,ACT0213,    54,  1,      7,      7,9,20130228,0429,-33.7334,  27.6517,  1757,   366.5,  12.1177,  35.0918,2,-999.0000,9,-999.0000,9,   -999.0,9,   -999.0,9,  12.1209,2, -33.7472,  27.6362,20130228,0503
  316N20130213,ACT0213,    54,  1,      6,      6,9,20130228,0429,-33.7334,  27.6517,  1757,   366.5,  12.1241,  35.0922,2,-999.0000,9,-999.0000,9,   -999.0,9,   -999.0,9,  12.1227,2, -33.7471,  27.6364,20130228,0502
  316N20130213,ACT0213,    54,  1,      3,      3,2,20130228,0429,-33.7334,  27.6517,  1757,   850.7,   6.5564,  34.5150,2,  34.5182,2,  34.6809,2,    186.9,2,    187.0,2,   6.5562,2, -33.7434,  27.6412,20130228,0452
  316N20130213,ACT0213,    54,  1,      2,      2,2,20130228,0429,-33.7334,  27.6517,  1757,  1463.3,   2.8562,  34.7134,2,  34.7140,2,  34.8777,2,    174.6,2,    174.6,2,   2.8562,2, -33.7367,  27.6482,20130228,0436
  316N20130213,ACT0213,    54,  1,      1,      1,2,20130228,0429,-33.7334,  27.6517,  1757,  1706.8,   2.6777,  34.7545,2,  34.7559,2,  34.9198,2,    190.9,2,    190.9,2,   2.6779,2, -33.7340,  27.6511,20130228,0430
  316N20130213,ACT0213,    55,  1,     12,     12,2,20130228,0715,-33.7207,  27.6635,  1755,    26.1,  24.3597,  35.3978,2,  35.4046,2,  35.5715,2,    209.6,2,    209.5,2,  24.3794,2, -33.7375,  27.6404,20130228,0755
  316N20130213,ACT0213,    55,  1,     11,     11,2,20130228,0715,-33.7207,  27.6635,  1755,    82.5,  19.7093,  35.4988,2,  35.5036,2,  35.6710,2,    178.5,2,    178.8,2,  19.7090,2, -33.7357,  27.6430,20130228,0752
  316N20130213,ACT0213,    55,  1,      5,      5,9,20130228,0715,-33.7207,  27.6635,  1755,   426.8,  11.5667,  35.0157,2,-999.0000,9,-999.0000,9,   -999.0,9,   -999.0,9,-999.0000,9, -33.7317,  27.6487,20130228,0744
  316N20130213,ACT0213,    55,  1,      6,      6,9,20130228,0715,-33.7207,  27.6635,  1755,   427.4,  11.5624,  35.0151,2,-999.0000,9,-999.0000,9,   -999.0,9,   -999.0,9,-999.0000,9, -33.7318,  27.6486,20130228,0744
  316N20130213,ACT0213,    55,  1,      7,      7,9,20130228,0715,-33.7207,  27.6635,  1755,   427.7,  11.5488,  35.0130,2,-999.0000,9,-999.0000,9,   -999.0,9,   -999.0,9,-999.0000,9, -33.7318,  27.6485,20130228,0745
  316N20130213,ACT0213,    55,  1,      8,      8,9,20130228,0715,-33.7207,  27.6635,  1755,   428.0,  11.5491,  35.0136,2,-999.0000,9,-999.0000,9,   -999.0,9,   -999.0,9,-999.0000,9, -33.7319,  27.6484,20130228,0745
  316N20130213,ACT0213,    55,  1,      9,      9,9,20130228,0715,-33.7207,  27.6635,  1755,   428.2,  11.5395,  35.0125,2,-999.0000,9,-999.0000,9,   -999.0,9,   -999.0,9,-999.0000,9, -33.7320,  27.6482,20130228,0745
  316N20130213,ACT0213,    55,  1,     10,     10,9,20130228,0715,-33.7207,  27.6635,  1755,   429.3,  11.5321,  35.0116,2,-999.0000,9,-999.0000,9,   -999.0,9,   -999.0,9,-999.0000,9, -33.7321,  27.6481,20130228,0745
  316N20130213,ACT0213,    55,  1,      3,      3,2,20130228,0715,-33.7207,  27.6635,  1755,  1280.2,   3.4546,  34.6678,2,  34.6671,2,  34.8305,2,    155.8,2,    156.2,2,   3.4535,2, -33.7245,  27.6580,20130228,0727
  316N20130213,ACT0213,    55,  1,      4,      4,2,20130228,0715,-33.7207,  27.6635,  1755,  1282.5,   3.4474,  34.6680,2,  35.0195,4,  35.1846,4,    156.6,2,    206.4,4,   3.4460,2, -33.7246,  27.6579,20130228,0728
  316N20130213,ACT0213,    55,  1,      2,      2,2,20130228,0715,-33.7207,  27.6635,  1755,  1686.1,   2.6879,  34.7503,2,  34.7500,2,  34.9139,2,    188.0,2,    188.1,2,   2.6880,2, -33.7221,  27.6614,20130228,0719
  316N20130213,ACT0213,    55,  1,      1,      1,2,20130228,0715,-33.7207,  27.6635,  1755,  1748.7,   2.6605,  34.7579,2,  34.7581,2,  34.9220,2,    191.1,2,    191.1,2,   2.6604,2, -33.7212,  27.6628,20130228,0716
  316N20130213,ACT0213,    56,  1,     12,     12,2,20130228,1015,-33.7167,  27.6573,  1708,    14.6,  26.6373,  35.4780,2,  35.4807,2,  35.6480,2,    202.8,2,    202.7,2,  26.6316,2, -33.7341,  27.6385,20130228,1056
  316N20130213,ACT0213,    56,  1,     11,     11,2,20130228,1015,-33.7167,  27.6573,  1708,    54.2,  21.7108,  35.4023,2,  35.3999,2,  35.5668,2,    179.6,2,    179.6,2,  21.7176,2, -33.7323,  27.6399,20130228,1053
  316N20130213,ACT0213,    56,  1,      6,      6,9,20130228,1015,-33.7167,  27.6573,  1708,   138.8,  16.9997,  35.5149,2,-999.0000,9,-999.0000,9,   -999.0,9,   -999.0,9,-999.0000,9, -33.7293,  27.6422,20130228,1049
  316N20130213,ACT0213,    56,  1,      7,      7,9,20130228,1015,-33.7167,  27.6573,  1708,   139.0,  17.0052,  35.5133,2,-999.0000,9,-999.0000,9,   -999.0,9,   -999.0,9,-999.0000,9, -33.7294,  27.6421,20130228,1049
  316N20130213,ACT0213,    56,  1,      8,      8,9,20130228,1015,-33.7167,  27.6573,  1708,   139.2,  17.0166,  35.5126,2,-999.0000,9,-999.0000,9,   -999.0,9,   -999.0,9,-999.0000,9, -33.7296,  27.6420,20130228,1049
  316N20130213,ACT0213,    56,  1,      5,      5,9,20130228,1015,-33.7167,  27.6573,  1708,   139.4,  16.9863,  35.5146,2,-999.0000,9,-999.0000,9,   -999.0,9,   -999.0,9,-999.0000,9, -33.7292,  27.6422,20130228,1048
  316N20130213,ACT0213,    56,  1,      4,      4,2,20130228,1015,-33.7167,  27.6573,  1708,   139.5,  16.9888,  35.5144,2,  35.5127,2,  35.6801,2,    179.5,2,    179.6,2,  16.9859,2, -33.7291,  27.6423,20130228,1048
  316N20130213,ACT0213,    56,  1,      9,      9,9,20130228,1015,-33.7167,  27.6573,  1708,   139.7,  17.0040,  35.5123,2,-999.0000,9,-999.0000,9,   -999.0,9,   -999.0,9,-999.0000,9, -33.7297,  27.6419,20130228,1049
  316N20130213,ACT0213,    56,  1,     10,     10,9,20130228,1015,-33.7167,  27.6573,  1708,   140.2,  16.9988,  35.5135,2,-999.0000,9,-999.0000,9,   -999.0,9,   -999.0,9,-999.0000,9, -33.7299,  27.6418,20130228,1049
  316N20130213,ACT0213,    56,  1,      3,      3,2,20130228,1015,-33.7167,  27.6573,  1708,   712.0,   7.9928,  34.6022,2,  34.6030,2,  34.7662,2,    199.3,2,    199.3,2,   7.9959,2, -33.7240,  27.6475,20130228,1037
  316N20130213,ACT0213,    56,  1,      2,      2,2,20130228,1015,-33.7167,  27.6573,  1708,  1332.5,   3.1425,  34.6902,2,  34.6908,2,  34.8544,2,    164.3,2,    164.3,2,   3.1420,2, -33.7200,  27.6536,20130228,1024
  316N20130213,ACT0213,    56,  1,      1,      1,2,20130228,1015,-33.7167,  27.6573,  1708,  1702.4,   2.6705,  34.7556,2,  34.7565,2,  34.9204,2,    191.0,2,    191.1,2,   2.6712,2, -33.7168,  27.6572,20130228,1015