BOTTLE,20141010ODF
EXPOCODE,SECT_ID,STNNBR,CASTNO,SAMPNO,BTLNBR,BTLNBR_FLAG_W,DATE,TIME,LATITUDE,LONGITUDE,DEPTH,CTDPRS,CTDTMP,CTDSAL,CTDSAL_FLAG_W,SALNTY,SALNTY_FLAG_W,SALTREF,SALTREF_FLAG_W,CTDOXY,CTDOXY_FLAG_W,OXYGEN,OXYGEN_FLAG_W,REFTMP,REFTMP_FLAG_W,BTL_LAT,BTL_LON,BTL_DATE,BTL_TIME
,,,,,,,,,,,METERS,DBAR,ITS-90,PSS-78,,PSS-78,,G/KG,,UMOL/KG,,UMOL/KG,,ITS-90,,,,,
  316N20130213,ACT0213,    57,  1,     12,     12,2,20130228,1319,-33.7252,  27.6482,  1730,     7.1,  26.4382,  35.4815,2,  35.4823,2,  35.6496,2,    203.6,2,    203.4,2,  26.4358,2, -33.7418,  27.6243,20130228,1400
  316N20130213,ACT0213,    57,  1,     11,     11,2,20130228,1319,-33.7252,  27.6482,  1730,    47.0,  22.1257,  35.4178,2,  35.4005,4,  35.5674,4,    186.1,2,    186.1,2,  22.1454,2, -33.7405,  27.6260,20130228,1358
  316N20130213,ACT0213,    57,  1,     10,     10,9,20130228,1319,-33.7252,  27.6482,  1730,   277.0,  13.4790,  35.2730,2,-999.0000,9,-999.0000,9,   -999.0,9,   -999.0,9,-999.0000,9, -33.7372,  27.6298,20130228,1352
  316N20130213,ACT0213,    57,  1,      6,      6,9,20130228,1319,-33.7252,  27.6482,  1730,   277.6,  13.4834,  35.2730,2,-999.0000,9,-999.0000,9,   -999.0,9,   -999.0,9,-999.0000,9, -33.7368,  27.6303,20130228,1351
  316N20130213,ACT0213,    57,  1,      7,      7,9,20130228,1319,-33.7252,  27.6482,  1730,   277.7,  13.4738,  35.2723,2,-999.0000,9,-999.0000,9,   -999.0,9,   -999.0,9,-999.0000,9, -33.7369,  27.6302,20130228,1352
  316N20130213,ACT0213,    57,  1,      4,      4,2,20130228,1319,-33.7252,  27.6482,  1730,   277.8,  13.4872,  35.2734,2,  35.2751,2,  35.4414,2,    209.5,2,    209.6,2,  13.4857,2, -33.7367,  27.6306,20130228,1351
  316N20130213,ACT0213,    57,  1,      8,      8,9,20130228,1319,-33.7252,  27.6482,  1730,   278.2,  13.4596,  35.2702,2,-999.0000,9,-999.0000,9,   -999.0,9,   -999.0,9,-999.0000,9, -33.7370,  27.6301,20130228,1352
  316N20130213,ACT0213,    57,  1,      5,      5,9,20130228,1319,-33.7252,  27.6482,  1730,   278.4,  13.4707,  35.2721,2,-999.0000,9,-999.0000,9,   -999.0,9,   -999.0,9,-999.0000,9, -33.7368,  27.6304,20130228,1351
  316N20130213,ACT0213,    57,  1,      9,      9,9,20130228,1319,-33.7252,  27.6482,  1730,   279.2,  13.4545,  35.2704,2,-999.0000,9,-999.0000,9,   -999.0,9,   -999.0,9,-999.0000,9, -33.7371,  27.6299,20130228,1352
  316N20130213,ACT0213,    57,  1,      3,      3,2,20130228,1319,-33.7252,  27.6482,  1730,   969.5,   5.1415,  34.4489,2,  34.4518,2,  34.6143,2,    185.2,2,    185.3,2,   5.1709,2, -33.7311,  27.6381,20130228,1338
  316N20130213,ACT0213,    57,  1,      2,      2,2,20130228,1319,-33.7252,  27.6482,  1730,  1537.1,   2.7962,  34.7215,2,  34.7225,2,  34.8862,2,    177.2,2,    177.3,2,   2.7969,2, -33.7270,  27.6450,20130228,1325
  316N20130213,ACT0213,    57,  1,      1,      1,2,20130228,1319,-33.7252,  27.6482,  1730,  1703.4,   2.6606,  34.7570,2,  34.7585,2,  34.9224,2,    190.7,2,    190.9,2,   2.6608,2, -33.7255,  27.6477,20130228,1320