BOTTLE,20141010ODF
EXPOCODE,SECT_ID,STNNBR,CASTNO,SAMPNO,BTLNBR,BTLNBR_FLAG_W,DATE,TIME,LATITUDE,LONGITUDE,DEPTH,CTDPRS,CTDTMP,CTDSAL,CTDSAL_FLAG_W,SALNTY,SALNTY_FLAG_W,SALTREF,SALTREF_FLAG_W,CTDOXY,CTDOXY_FLAG_W,OXYGEN,OXYGEN_FLAG_W,REFTMP,REFTMP_FLAG_W,BTL_LAT,BTL_LON,BTL_DATE,BTL_TIME
,,,,,,,,,,,METERS,DBAR,ITS-90,PSS-78,,PSS-78,,G/KG,,UMOL/KG,,UMOL/KG,,ITS-90,,,,,
  316N20130213,ACT0213,    15,  1,     12,     12,2,20130218,0351,-33.7272,  27.6499,  1723,    16.9,  24.8820,  35.3606,2,  35.3620,2,  35.5288,2,    207.4,2,    207.6,2,  24.8706,3, -33.7406,  27.6187,20130218,0439
  316N20130213,ACT0213,    15,  1,     11,     11,2,20130218,0351,-33.7272,  27.6499,  1723,    51.8,  21.2752,  35.4920,2,  35.4917,2,  35.6591,2,    198.7,2,    197.9,2,  21.3260,3, -33.7395,  27.6208,20130218,0436
  316N20130213,ACT0213,    15,  1,     10,     10,2,20130218,0351,-33.7272,  27.6499,  1723,   100.4,  17.9434,  35.5388,2,  35.5358,2,  35.7034,2,    194.0,2,    193.6,2,  17.9510,2, -33.7380,  27.6234,20130218,0433
  316N20130213,ACT0213,    15,  1,      9,      9,2,20130218,0351,-33.7272,  27.6499,  1723,   204.4,  14.5653,  35.3870,2,  35.5360,4,  35.7036,4,    200.6,2,    203.0,2,  14.5775,3, -33.7368,  27.6256,20130218,0431
  316N20130213,ACT0213,    15,  1,      8,      8,2,20130218,0351,-33.7272,  27.6499,  1723,   303.4,  12.8321,  35.1911,2,  35.1828,2,  35.3487,2,    205.7,2,    203.7,2,  12.8322,2, -33.7356,  27.6279,20130218,0428
  316N20130213,ACT0213,    15,  1,      7,      7,2,20130218,0351,-33.7272,  27.6499,  1723,   403.2,  11.2442,  34.9722,2,  34.9743,2,  35.1392,2,    218.8,2,    219.0,2,  11.2459,2, -33.7346,  27.6301,20130218,0425
  316N20130213,ACT0213,    15,  1,      6,      6,2,20130218,0351,-33.7272,  27.6499,  1723,   619.5,   8.7516,  34.6794,2,  34.6825,2,  34.8460,2,    206.3,2,    203.0,2,   8.7515,2, -33.7330,  27.6333,20130218,0420
  316N20130213,ACT0213,    15,  1,      5,      5,2,20130218,0351,-33.7272,  27.6499,  1723,   814.8,   6.9058,  34.5813,2,  34.5828,2,  34.7459,2,    174.3,2,    174.0,2,   6.8756,3, -33.7318,  27.6366,20130218,0414
  316N20130213,ACT0213,    15,  1,      4,      4,2,20130218,0351,-33.7272,  27.6499,  1723,   960.2,   5.3472,  34.5725,2,  34.5714,2,  34.7344,2,    155.3,2,    154.7,2,   5.3477,2, -33.7307,  27.6393,20130218,0411
  316N20130213,ACT0213,    15,  1,      3,      3,2,20130218,0351,-33.7272,  27.6499,  1723,  1201.3,   3.7778,  34.6434,2,  34.6441,2,  34.8074,2,    150.7,2,    151.0,2,   3.7778,2, -33.7293,  27.6429,20130218,0405
  316N20130213,ACT0213,    15,  1,      2,      2,2,20130218,0351,-33.7272,  27.6499,  1723,  1456.4,   3.0885,  34.6887,2,  34.6896,2,  34.8531,2,    165.1,2,    164.9,2,   3.0830,3, -33.7285,  27.6461,20130218,0358
  316N20130213,ACT0213,    15,  1,      1,      1,2,20130218,0351,-33.7272,  27.6499,  1723,  1715.4,   2.7593,  34.7394,2,  34.7400,2,  34.9038,2,    186.4,2,    186.6,2,   2.7606,2, -33.7274,  27.6494,20130218,0352
  316N20130213,ACT0213,    16,  1,     11,     11,2,20130218,0635,-33.6843,  27.6212,  1236,    12.4,  24.4220,  35.3846,2,  35.3858,2,  35.5526,2,    209.7,2,    209.7,2,  24.3242,3, -33.7046,  27.5885,20130218,0718
  316N20130213,ACT0213,    16,  1,     10,     10,2,20130218,0635,-33.6843,  27.6212,  1236,    50.1,  20.8820,  35.4190,2,  35.4126,2,  35.5796,2,    172.2,2,    169.4,2,  20.8573,2, -33.7026,  27.5915,20130218,0716
  316N20130213,ACT0213,    16,  1,      9,      9,2,20130218,0635,-33.6843,  27.6212,  1236,    81.0,  17.6360,  35.4373,2,  35.4368,2,  35.6039,2,    161.8,2,    161.9,2,  17.6416,2, -33.7010,  27.5939,20130218,0714
  316N20130213,ACT0213,    16,  1,      8,      8,2,20130218,0635,-33.6843,  27.6212,  1236,   101.6,  16.8147,  35.4410,2,  35.4431,2,  35.6103,2,    168.3,2,    169.8,2,  16.8262,2, -33.6992,  27.5966,20130218,0711
  316N20130213,ACT0213,    16,  1,      7,      7,2,20130218,0635,-33.6843,  27.6212,  1236,   303.0,  12.2662,  35.1047,2,  35.1067,2,  35.2722,2,    196.8,2,    198.0,2,  12.2637,2, -33.6952,  27.6030,20130218,0704
  316N20130213,ACT0213,    16,  1,      6,      6,2,20130218,0635,-33.6843,  27.6212,  1236,   405.6,  10.6049,  34.8920,2,  34.8926,2,  35.0571,2,    205.6,2,    207.8,2,  10.6061,2, -33.6934,  27.6059,20130218,0701
  316N20130213,ACT0213,    16,  1,      5,      5,2,20130218,0635,-33.6843,  27.6212,  1236,   501.1,   9.4741,  34.7499,2,  34.7502,2,  34.9141,2,    212.1,2,    211.2,2,   9.4773,2, -33.6917,  27.6084,20130218,0657
  316N20130213,ACT0213,    16,  1,      4,      4,2,20130218,0635,-33.6843,  27.6212,  1236,   622.6,   7.7608,  34.5962,2,  34.5967,2,  34.7599,2,    195.3,2,    194.0,2,   7.7585,2, -33.6900,  27.6111,20130218,0654
  316N20130213,ACT0213,    16,  1,      3,      3,2,20130218,0635,-33.6843,  27.6212,  1236,   817.9,   6.2870,  34.5902,2,  34.5903,2,  34.7534,2,    159.5,2,    159.5,2,   6.2880,2, -33.6884,  27.6141,20130218,0648
  316N20130213,ACT0213,    16,  1,      2,      2,2,20130218,0635,-33.6843,  27.6212,  1236,   949.0,   5.0720,  34.5612,2,  34.5619,2,  34.7249,2,    158.5,2,    158.2,2,   5.0720,2, -33.6867,  27.6171,20130218,0643
  316N20130213,ACT0213,    16,  1,      1,      1,2,20130218,0635,-33.6843,  27.6212,  1236,  1227.4,   3.7590,  34.6527,2,  34.6533,2,  34.8167,2,    149.8,2,    150.1,2,   3.7581,2, -33.6845,  27.6208,20130218,0635
  316N20130213,ACT0213,    17,  1,     12,     12,9,20130218,0905,-33.6124,  27.6012,   549,     6.6,  24.4209,  35.3554,2,-999.0000,9,-999.0000,9,   -999.0,9,   -999.0,9,  24.4175,2, -33.6294,  27.5718,20130218,0936
  316N20130213,ACT0213,    17,  1,     11,     11,9,20130218,0905,-33.6124,  27.6012,   549,     6.8,  24.4357,  35.3555,2,-999.0000,9,-999.0000,9,   -999.0,9,   -999.0,9,  24.4315,2, -33.6292,  27.5720,20130218,0936
  316N20130213,ACT0213,    17,  1,     10,     10,9,20130218,0905,-33.6124,  27.6012,   549,     6.8,  24.4253,  35.3555,2,-999.0000,9,-999.0000,9,   -999.0,9,   -999.0,9,  24.4321,2, -33.6291,  27.5722,20130218,0936
  316N20130213,ACT0213,    17,  1,      9,      9,2,20130218,0905,-33.6124,  27.6012,   549,     7.0,  24.4004,  35.3550,2,  35.3557,2,  35.5224,2,    204.5,2,    204.3,2,  24.4203,3, -33.6290,  27.5724,20130218,0936
  316N20130213,ACT0213,    17,  1,      8,      8,2,20130218,0905,-33.6124,  27.6012,   549,    26.9,  22.2100,  35.4038,2,  35.4139,3,  35.5809,3,    190.7,2,    192.2,2,  22.2297,2, -33.6274,  27.5750,20130218,0934
  316N20130213,ACT0213,    17,  1,      7,      7,2,20130218,0905,-33.6124,  27.6012,   549,    60.8,  17.2923,  35.4138,2,  35.4161,2,  35.5831,2,    160.7,2,    158.8,2,  17.2836,2, -33.6250,  27.5789,20130218,0931
  316N20130213,ACT0213,    17,  1,      6,      6,2,20130218,0905,-33.6124,  27.6012,   549,   151.9,  13.5879,  35.2458,2,  35.2503,2,  35.4165,2,    186.2,2,    188.5,2,  13.5913,2, -33.6218,  27.5841,20130218,0927
  316N20130213,ACT0213,    17,  1,      5,      5,2,20130218,0905,-33.6124,  27.6012,   549,   256.5,  10.5047,  34.8955,2,  34.8946,2,  35.0591,2,    201.8,2,    201.7,2,  10.5100,2, -33.6194,  27.5883,20130218,0922
  316N20130213,ACT0213,    17,  1,      4,      4,2,20130218,0905,-33.6124,  27.6012,   549,   357.1,   8.7170,  34.6995,2,  34.6897,2,  34.8533,2,    197.7,2,    195.9,2,   8.6773,3, -33.6170,  27.5925,20130218,0917
  316N20130213,ACT0213,    17,  1,      3,      3,2,20130218,0905,-33.6124,  27.6012,   549,   412.3,   8.3787,  34.6742,2,  34.6730,2,  34.8365,2,    194.1,2,    193.9,2,   8.3757,2, -33.6154,  27.5956,20130218,0914
  316N20130213,ACT0213,    17,  1,      2,      2,2,20130218,0905,-33.6124,  27.6012,   549,   485.0,   7.6380,  34.6369,2,  34.6362,2,  34.7995,2,    176.0,2,    177.4,2,   7.6386,2, -33.6142,  27.5980,20130218,0909
  316N20130213,ACT0213,    17,  1,      1,      1,2,20130218,0905,-33.6124,  27.6012,   549,   537.4,   7.2259,  34.6164,2,  34.6161,2,  34.7793,2,    170.7,2,    170.3,2,   7.2257,2, -33.6127,  27.6006,20130218,0906
  316N20130213,ACT0213,    18,  1,      7,      7,9,20130218,1107,-33.5650,  27.5828,   309,     1.9,  23.5012,  35.3724,2,-999.0000,9,-999.0000,9,   -999.0,9,   -999.0,9,  23.4962,2, -33.5673,  27.5729,20130218,1120
  316N20130213,ACT0213,    18,  1,     12,     12,9,20130218,1107,-33.5650,  27.5828,   309,     1.9,  23.5150,  35.3729,2,-999.0000,9,-999.0000,9,   -999.0,9,   -999.0,9,  23.5086,2, -33.5677,  27.5718,20130218,1121
  316N20130213,ACT0213,    18,  1,      6,      6,9,20130218,1107,-33.5650,  27.5828,   309,     2.0,  23.5226,  35.3723,2,-999.0000,9,-999.0000,9,   -999.0,9,   -999.0,9,  23.5336,2, -33.5671,  27.5732,20130218,1120
  316N20130213,ACT0213,    18,  1,     10,     10,9,20130218,1107,-33.5650,  27.5828,   309,     2.1,  23.5006,  35.3727,2,-999.0000,9,-999.0000,9,   -999.0,9,   -999.0,9,  23.5008,2, -33.5676,  27.5722,20130218,1121
  316N20130213,ACT0213,    18,  1,      8,      8,9,20130218,1107,-33.5650,  27.5828,   309,     2.1,  23.5384,  35.3727,2,-999.0000,9,-999.0000,9,   -999.0,9,   -999.0,9,  23.5396,2, -33.5673,  27.5728,20130218,1120
  316N20130213,ACT0213,    18,  1,      9,      9,9,20130218,1107,-33.5650,  27.5828,   309,     2.3,  23.5397,  35.3729,2,-999.0000,9,-999.0000,9,   -999.0,9,   -999.0,9,  23.5399,2, -33.5674,  27.5725,20130218,1121
  316N20130213,ACT0213,    18,  1,     11,     11,9,20130218,1107,-33.5650,  27.5828,   309,     2.3,  23.5250,  35.3730,2,-999.0000,9,-999.0000,9,   -999.0,9,   -999.0,9,  23.5264,2, -33.5677,  27.5720,20130218,1121
  316N20130213,ACT0213,    18,  1,      5,      5,2,20130218,1107,-33.5650,  27.5828,   309,     2.4,  23.5517,  35.3723,2,  35.3733,2,  35.5401,2,    210.4,2,    210.6,2,  23.5491,2, -33.5670,  27.5734,20130218,1120
  316N20130213,ACT0213,    18,  1,      4,      4,2,20130218,1107,-33.5650,  27.5828,   309,    76.2,  15.1092,  35.2447,2,  35.2454,2,  35.4116,2,    182.4,2,    182.4,2,  15.1124,2, -33.5656,  27.5774,20130218,1115
  316N20130213,ACT0213,    18,  1,      3,      3,2,20130218,1107,-33.5650,  27.5828,   309,   151.2,   9.8161,  34.8308,2,  34.8313,2,  34.9956,2,    198.0,2,    198.1,2,   9.8359,3, -33.5652,  27.5794,20130218,1113
  316N20130213,ACT0213,    18,  1,      2,      2,2,20130218,1107,-33.5650,  27.5828,   309,   233.2,   8.4399,  34.6991,2,  34.6989,2,  34.8625,2,    186.7,2,    186.6,2,   8.4591,3, -33.5651,  27.5810,20130218,1110
  316N20130213,ACT0213,    18,  1,      1,      1,2,20130218,1107,-33.5650,  27.5828,   309,   300.6,   7.6058,  34.6368,2,  34.6368,2,  34.8001,2,    175.9,2,    176.0,2,   7.6148,2, -33.5650,  27.5827,20130218,1107
  316N20130213,ACT0213,    19,  1,     12,     12,2,20130218,1229,-33.4645,  27.5431,   100,     2.4,  18.2699,  35.2287,2,  35.2292,2,  35.3954,2,    218.1,2,    218.1,2,  18.2591,2, -33.4652,  27.5394,20130218,1235
  316N20130213,ACT0213,    19,  1,      4,      4,9,20130218,1229,-33.4645,  27.5431,   100,    55.5,  14.0966,  35.1757,2,-999.0000,9,-999.0000,9,   -999.0,9,   -999.0,9,  14.0553,3, -33.4648,  27.5417,20130218,1231
  316N20130213,ACT0213,    19,  1,     11,     11,9,20130218,1229,-33.4645,  27.5431,   100,    56.0,  14.1479,  35.1800,2,-999.0000,9,-999.0000,9,   -999.0,9,   -999.0,9,  14.1525,2, -33.4650,  27.5410,20130218,1232
  316N20130213,ACT0213,    19,  1,      5,      5,9,20130218,1229,-33.4645,  27.5431,   100,    56.5,  14.1181,  35.1770,2,-999.0000,9,-999.0000,9,   -999.0,9,   -999.0,9,  14.1133,2, -33.4649,  27.5416,20130218,1231
  316N20130213,ACT0213,    19,  1,     10,     10,9,20130218,1229,-33.4645,  27.5431,   100,    56.5,  14.1365,  35.1791,2,-999.0000,9,-999.0000,9,   -999.0,9,   -999.0,9,  14.1435,2, -33.4650,  27.5412,20130218,1232
  316N20130213,ACT0213,    19,  1,      3,      3,2,20130218,1229,-33.4645,  27.5431,   100,    56.5,  14.0834,  35.1757,2,  35.1716,2,  35.3374,2,    183.2,2,    183.2,2,  14.0873,2, -33.4648,  27.5418,20130218,1231
  316N20130213,ACT0213,    19,  1,      8,      8,9,20130218,1229,-33.4645,  27.5431,   100,    56.6,  14.1158,  35.1781,2,-999.0000,9,-999.0000,9,   -999.0,9,   -999.0,9,  14.1257,2, -33.4649,  27.5413,20130218,1232
  316N20130213,ACT0213,    19,  1,      6,      6,9,20130218,1229,-33.4645,  27.5431,   100,    56.6,  14.0983,  35.1760,2,-999.0000,9,-999.0000,9,   -999.0,9,   -999.0,9,  14.1168,3, -33.4649,  27.5415,20130218,1231
  316N20130213,ACT0213,    19,  1,      7,      7,9,20130218,1229,-33.4645,  27.5431,   100,    56.7,  14.1097,  35.1772,2,-999.0000,9,-999.0000,9,   -999.0,9,   -999.0,9,  14.1245,3, -33.4649,  27.5414,20130218,1231
  316N20130213,ACT0213,    19,  1,      9,      9,9,20130218,1229,-33.4645,  27.5431,   100,    56.9,  14.1296,  35.1791,2,-999.0000,9,-999.0000,9,   -999.0,9,   -999.0,9,  14.1426,3, -33.4649,  27.5412,20130218,1232
  316N20130213,ACT0213,    19,  1,      1,      1,2,20130218,1229,-33.4645,  27.5431,   100,    86.7,   8.8569,  34.7331,2,  34.7322,2,  34.8960,2,    186.3,2,    186.3,2,   8.8522,2, -33.4644,  27.5434,20130218,1228
  316N20130213,ACT0213,    19,  1,      2,      2,2,20130218,1229,-33.4645,  27.5431,   100,    87.2,   8.8567,  34.7329,2,  34.7322,2,  34.8960,2,    186.3,2,    185.9,2,   8.8533,2, -33.4645,  27.5432,20130218,1228
  316N20130213,ACT0213,    20,  1,     12,     12,2,20130218,1342,-33.3465,  27.4823,    67,     2.7,  13.6183,  35.0729,2,-999.0000,5,-999.0000,5,    191.4,2,    191.5,2,  13.6168,2, -33.3482,  27.4790,20130218,1347
  316N20130213,ACT0213,    20,  1,      3,      3,2,20130218,1342,-33.3465,  27.4823,    67,    28.7,  11.0352,  34.9199,2,  34.9191,2,  35.0838,2,    184.9,2,    184.3,2,  11.0333,2, -33.3472,  27.4809,20130218,1344
  316N20130213,ACT0213,    20,  1,      4,      4,9,20130218,1342,-33.3465,  27.4823,    67,    28.8,  11.0030,  34.9170,2,-999.0000,9,-999.0000,9,   -999.0,9,   -999.0,9,  11.0063,2, -33.3473,  27.4808,20130218,1344
  316N20130213,ACT0213,    20,  1,      6,      6,9,20130218,1342,-33.3465,  27.4823,    67,    28.8,  10.9883,  34.9160,2,-999.0000,9,-999.0000,9,   -999.0,9,   -999.0,9,  10.9912,2, -33.3474,  27.4807,20130218,1344
  316N20130213,ACT0213,    20,  1,      5,      5,9,20130218,1342,-33.3465,  27.4823,    67,    28.9,  10.9826,  34.9151,2,-999.0000,9,-999.0000,9,   -999.0,9,   -999.0,9,  10.9842,2, -33.3473,  27.4808,20130218,1344
  316N20130213,ACT0213,    20,  1,      7,      7,9,20130218,1342,-33.3465,  27.4823,    67,    29.1,  11.0329,  34.9199,2,-999.0000,9,-999.0000,9,   -999.0,9,   -999.0,9,  11.0330,2, -33.3474,  27.4806,20130218,1344
  316N20130213,ACT0213,    20,  1,     11,     11,9,20130218,1342,-33.3465,  27.4823,    67,    29.2,  11.0156,  34.9181,2,-999.0000,9,-999.0000,9,   -999.0,9,   -999.0,9,  11.0144,2, -33.3476,  27.4802,20130218,1345
  316N20130213,ACT0213,    20,  1,      9,      9,9,20130218,1342,-33.3465,  27.4823,    67,    29.2,  10.9861,  34.9152,2,-999.0000,9,-999.0000,9,   -999.0,9,   -999.0,9,  10.9893,2, -33.3475,  27.4804,20130218,1345
  316N20130213,ACT0213,    20,  1,     10,     10,9,20130218,1342,-33.3465,  27.4823,    67,    29.4,  10.9901,  34.9157,2,-999.0000,9,-999.0000,9,   -999.0,9,   -999.0,9,  10.9908,2, -33.3476,  27.4803,20130218,1345
  316N20130213,ACT0213,    20,  1,      8,      8,9,20130218,1342,-33.3465,  27.4823,    67,    29.4,  11.0207,  34.9186,2,-999.0000,9,-999.0000,9,   -999.0,9,   -999.0,9,  11.0166,2, -33.3475,  27.4805,20130218,1344
  316N20130213,ACT0213,    20,  1,      1,      1,2,20130218,1342,-33.3465,  27.4823,    67,    53.0,   9.9769,  34.8280,2,  34.8286,2,  34.9928,2,    184.8,2,    184.6,2,   9.9764,2, -33.3464,  27.4825,20130218,1341
  316N20130213,ACT0213,    20,  1,      2,      2,2,20130218,1342,-33.3465,  27.4823,    67,    53.2,   9.9835,  34.8296,2,  34.8298,2,  34.9940,2,    184.8,2,    184.8,2,   9.9885,2, -33.3465,  27.4823,20130218,1342
  316N20130213,ACT0213,    21,  1,     12,     12,2,20130218,2347,-33.3451,  27.4863,    69,     2.7,  13.1404,  35.0780,2,  35.0787,2,  35.2442,2,    193.8,2,    193.8,2,  13.1405,2, -33.3468,  27.4856,20130218,2353
  316N20130213,ACT0213,    21,  1,      9,      9,9,20130218,2347,-33.3451,  27.4863,    69,    30.8,  12.0405,  35.0125,2,-999.0000,9,-999.0000,9,   -999.0,9,   -999.0,9,  11.9729,3, -33.3460,  27.4860,20130218,2350
  316N20130213,ACT0213,    21,  1,      8,      8,9,20130218,2347,-33.3451,  27.4863,    69,    30.8,  11.9016,  35.0021,2,-999.0000,9,-999.0000,9,   -999.0,9,   -999.0,9,  12.0068,2, -33.3460,  27.4860,20130218,2350
  316N20130213,ACT0213,    21,  1,      7,      7,9,20130218,2347,-33.3451,  27.4863,    69,    30.8,  11.8892,  35.0007,2,-999.0000,9,-999.0000,9,   -999.0,9,   -999.0,9,  11.8095,3, -33.3460,  27.4860,20130218,2350
  316N20130213,ACT0213,    21,  1,      5,      5,9,20130218,2347,-33.3451,  27.4863,    69,    30.9,  11.5881,  34.9773,2,-999.0000,9,-999.0000,9,   -999.0,9,   -999.0,9,  11.7135,3, -33.3458,  27.4861,20130218,2350
  316N20130213,ACT0213,    21,  1,      4,      4,9,20130218,2347,-33.3451,  27.4863,    69,    30.9,  11.5253,  34.9673,2,-999.0000,9,-999.0000,9,   -999.0,9,   -999.0,9,  11.5620,3, -33.3458,  27.4861,20130218,2350
  316N20130213,ACT0213,    21,  1,      3,      3,9,20130218,2347,-33.3451,  27.4863,    69,    30.9,  11.5887,  34.9740,2,-999.0000,9,-999.0000,9,   -999.0,9,   -999.0,9,  11.5722,3, -33.3458,  27.4861,20130218,2350
  316N20130213,ACT0213,    21,  1,     11,     11,9,20130218,2347,-33.3451,  27.4863,    69,    31.0,  11.9610,  35.0077,2,-999.0000,9,-999.0000,9,   -999.0,9,   -999.0,9,  11.9528,2, -33.3461,  27.4860,20130218,2351
  316N20130213,ACT0213,    21,  1,      6,      6,9,20130218,2347,-33.3451,  27.4863,    69,    31.0,  11.7878,  34.9935,2,-999.0000,9,-999.0000,9,   -999.0,9,   -999.0,9,  11.8654,3, -33.3459,  27.4860,20130218,2350
  316N20130213,ACT0213,    21,  1,     10,     10,9,20130218,2347,-33.3451,  27.4863,    69,    31.0,  11.9404,  35.0030,2,-999.0000,9,-999.0000,9,   -999.0,9,   -999.0,9,  11.9735,3, -33.3461,  27.4860,20130218,2351
  316N20130213,ACT0213,    21,  1,      2,      2,2,20130218,2347,-33.3451,  27.4863,    69,    31.1,  11.4879,  34.9633,2,  34.9438,3,  35.1085,3,    183.1,2,    183.1,2,  11.4900,2, -33.3457,  27.4861,20130218,2349
  316N20130213,ACT0213,    21,  1,      1,      1,2,20130218,2347,-33.3451,  27.4863,    69,    54.5,   9.4000,  34.7811,2,  34.7840,2,  34.9480,2,    181.3,2,    181.3,2,   9.3960,2, -33.3452,  27.4862,20130218,2347