BOTTLE,20141010ODF
# REPORTED DEPTH IS CTD_DEPTH + DISTANCE_ABOVE_BOTTOM AT MAX PRESSURE
EXPOCODE,SECT_ID,STNNBR,CASTNO,SAMPNO,BTLNBR,BTLNBR_FLAG_W,DATE,TIME,LATITUDE,LONGITUDE,DEPTH,CTDPRS,CTDTMP,CTDSAL,CTDSAL_FLAG_W,SALNTY,SALNTY_FLAG_W,SALTREF,SALTREF_FLAG_W,CTDOXY,CTDOXY_FLAG_W,OXYGEN,OXYGEN_FLAG_W,REFTMP,REFTMP_FLAG_W,BTL_LAT,BTL_LON,BTL_DATE,BTL_TIME
,,,,,,,,,,,METERS,DBAR,ITS-90,PSS-78,,PSS-78,,G/KG,,UMOL/KG,,UMOL/KG,,ITS-90,,,,,
  316N20130213,ACT0213,     1,  1,     12,     12,2,20130215,1334,-35.7272,  28.8910,  4618,    19.7,  23.3257,  35.6824,2,  35.6802,2,  35.8485,2,    216.7,2,    216.4,2,  23.3265,2, -35.7243,  28.8757,20130215,1523
  316N20130213,ACT0213,     1,  1,     11,     11,2,20130215,1334,-35.7272,  28.8910,  4618,    90.1,  19.5907,  35.5450,2,  35.5427,2,  35.7102,2,    225.1,2,    225.0,2,  19.5892,2, -35.7244,  28.8764,20130215,1519
  316N20130213,ACT0213,     1,  1,     10,     10,2,20130215,1334,-35.7272,  28.8910,  4618,   813.6,   9.7760,  34.7502,2,  34.7467,2,  34.9105,2,    222.8,2,    223.2,2,   9.7760,2, -35.7251,  28.8783,20130215,1505
  316N20130213,ACT0213,     1,  1,      9,      9,2,20130215,1334,-35.7272,  28.8910,  4618,  1517.8,   3.9922,  34.5544,2,  34.5497,3,  34.7127,3,    160.7,2,    160.1,2,   3.9912,2, -35.7261,  28.8801,20130215,1451
  316N20130213,ACT0213,     1,  1,      8,      8,2,20130215,1334,-35.7272,  28.8910,  4618,  1801.9,   3.2359,  34.6548,2,  34.6509,3,  34.8143,3,    162.1,2,    163.0,2,   3.2368,2, -35.7266,  28.8811,20130215,1445
  316N20130213,ACT0213,     1,  1,      7,      7,2,20130215,1334,-35.7272,  28.8910,  4618,  2334.5,   2.7004,  34.7761,2,  34.7719,3,  34.9359,3,    198.8,2,    199.1,2,   2.7001,2, -35.7268,  28.8827,20130215,1434
  316N20130213,ACT0213,     1,  1,      6,      6,2,20130215,1334,-35.7272,  28.8910,  4618,  2796.7,   2.4562,  34.8136,2,  34.8095,3,  34.9737,3,    214.8,2,    214.9,2,   2.4565,2, -35.7270,  28.8839,20130215,1425
  316N20130213,ACT0213,     1,  1,      5,      5,2,20130215,1334,-35.7272,  28.8910,  4618,  3178.7,   2.2258,  34.8134,2,  34.8105,3,  34.9746,3,    218.6,2,    218.5,2,   2.2266,2, -35.7274,  28.8847,20130215,1417
  316N20130213,ACT0213,     1,  1,      4,      4,2,20130215,1334,-35.7272,  28.8910,  4618,  3758.3,   1.6477,  34.7732,2,  34.7689,3,  34.9329,3,    217.1,2,    217.3,2,   1.6479,2, -35.7274,  28.8880,20130215,1356
  316N20130213,ACT0213,     1,  1,      3,      3,2,20130215,1334,-35.7272,  28.8910,  4618,  4063.2,   1.3867,  34.7524,2,  34.7483,3,  34.9121,3,    216.4,2,    216.7,2,   1.3872,2, -35.7273,  28.8890,20130215,1349
  316N20130213,ACT0213,     1,  1,      2,      2,2,20130215,1334,-35.7272,  28.8910,  4618,  4373.2,   1.2682,  34.7417,2,  34.7369,3,  34.9007,3,    216.3,2,    216.6,2,   1.2688,2, -35.7272,  28.8900,20130215,1342
  316N20130213,ACT0213,     1,  1,      1,      1,2,20130215,1334,-35.7272,  28.8910,  4618,  4681.1,   1.1108,  34.7279,2,  34.7246,3,  34.8884,3,   -999.0,9,   -999.0,5,   1.1107,2, -35.7272,  28.8909,20130215,1334
  316N20130213,ACT0213,     2,  1,     12,     12,2,20130215,1855,-35.5331,  28.7769,  4512,    21.1,  22.9566,  35.6682,2,  35.6694,2,  35.8375,2,    218.2,2,    218.0,2,  22.9581,2, -35.5337,  28.7783,20130215,2033
  316N20130213,ACT0213,     2,  1,     11,     11,2,20130215,1855,-35.5331,  28.7769,  4512,    51.5,  21.9202,  35.6705,2,  35.6735,2,  35.8417,2,    222.9,2,    223.9,2,  21.9200,2, -35.5337,  28.7783,20130215,2030
  316N20130213,ACT0213,     2,  1,     10,     10,2,20130215,1855,-35.5331,  28.7769,  4512,   203.7,  16.8689,  35.5447,2,  35.5466,2,  35.7142,2,    207.9,2,    206.6,2,  16.8625,2, -35.5336,  28.7781,20130215,2026
  316N20130213,ACT0213,     2,  1,      9,      9,2,20130215,1855,-35.5331,  28.7769,  4512,   541.7,  12.8129,  35.1833,2,  35.1847,2,  35.3506,2,    211.4,2,    213.7,2,  12.8145,2, -35.5336,  28.7781,20130215,2018
  316N20130213,ACT0213,     2,  1,      8,      8,2,20130215,1855,-35.5331,  28.7769,  4512,   907.0,   8.8113,  34.6711,2,  34.6734,2,  34.8369,2,    206.3,2,    204.0,2,   8.8185,2, -35.5336,  28.7780,20130215,2010
  316N20130213,ACT0213,     2,  1,      7,      7,2,20130215,1855,-35.5331,  28.7769,  4512,  1219.3,   4.8017,  34.3812,2,  34.3815,2,  34.5437,2,    199.3,2,    200.3,2,   4.8007,2, -35.5336,  28.7780,20130215,2003
  316N20130213,ACT0213,     2,  1,      6,      6,2,20130215,1855,-35.5331,  28.7769,  4512,  1829.4,   3.0523,  34.6463,2,  34.7846,3,  34.9486,3,    170.1,2,    170.4,2,   3.0526,2, -35.5335,  28.7778,20130215,1950
  316N20130213,ACT0213,     2,  1,      5,      5,2,20130215,1855,-35.5331,  28.7769,  4512,  2429.8,   2.6207,  34.7843,2,  34.7846,3,  34.9486,3,    200.7,2,    200.8,2,   2.6214,2, -35.5334,  28.7775,20130215,1938
  316N20130213,ACT0213,     2,  1,      4,      4,2,20130215,1855,-35.5331,  28.7769,  4512,  3255.1,   2.1263,  34.8083,2,  34.8115,3,  34.9757,3,    218.3,2,    218.6,2,   2.1265,2, -35.5332,  28.7771,20130215,1922
  316N20130213,ACT0213,     2,  1,      3,      3,2,20130215,1855,-35.5331,  28.7769,  4512,  4060.7,   1.3578,  34.7507,2,  34.7513,2,  34.9151,2,    216.9,2,    216.8,2,   1.3575,2, -35.5332,  28.7769,20130215,1906
  316N20130213,ACT0213,     2,  1,      2,      2,2,20130215,1855,-35.5331,  28.7769,  4512,  4588.2,   1.1006,  34.7281,2,  34.7286,2,  34.8924,2,    216.3,2,    216.2,2,   1.1001,3, -35.5332,  28.7769,20130215,1855
  316N20130213,ACT0213,     2,  1,      1,      1,2,20130215,1855,-35.5331,  28.7769,  4512,  4588.7,   1.0999,  34.7282,2,  34.7282,2,  34.8920,2,    216.3,2,    216.6,2,   1.1000,3, -35.5331,  28.7769,20130215,1854
  316N20130213,ACT0213,     3,  1,     12,     12,2,20130215,2321,-35.3451,  28.6625,  4370,    16.1,  23.1694,  35.6747,2,  35.6767,2,  35.8449,2,    217.1,2,    216.6,2,  23.1691,2, -35.3452,  28.6627,20130216,0104
  316N20130213,ACT0213,     3,  1,     11,     11,2,20130215,2321,-35.3451,  28.6625,  4370,    55.7,  21.6870,  35.6424,2,  35.6468,2,  35.8149,2,    227.5,2,    227.0,2,  21.7081,2, -35.3452,  28.6628,20130216,0101
  316N20130213,ACT0213,     3,  1,     10,     10,2,20130215,2321,-35.3451,  28.6625,  4370,   106.0,  18.1431,  35.5612,2,  35.5638,2,  35.7315,2,    215.3,2,    215.0,2,  18.1533,2, -35.3453,  28.6631,20130216,0058
  316N20130213,ACT0213,     3,  1,      9,      9,2,20130215,2321,-35.3451,  28.6625,  4370,   306.1,  15.8060,  35.4826,2,  35.0946,3,  35.2601,3,    198.9,2,    200.8,2,  15.8035,2, -35.3453,  28.6631,20130216,0052
  316N20130213,ACT0213,     3,  1,      8,      8,2,20130215,2321,-35.3451,  28.6625,  4370,   605.6,  12.1934,  35.0938,2,  34.5409,3,  34.7038,3,    216.3,2,    216.5,2,  12.1930,2, -35.3452,  28.6629,20130216,0045
  316N20130213,ACT0213,     3,  1,      7,      7,2,20130215,2321,-35.3451,  28.6625,  4370,  1010.0,   7.2582,  34.5434,2,  34.5460,2,  34.7089,2,    195.2,2,    194.2,2,   7.2609,2, -35.3452,  28.6628,20130216,0035
  316N20130213,ACT0213,     3,  1,      6,      6,2,20130215,2321,-35.3451,  28.6625,  4370,  1519.3,   3.8891,  34.5465,2,  34.7168,3,  34.8805,3,    162.7,2,    162.7,2,   3.8870,2, -35.3454,  28.6632,20130216,0025
  316N20130213,ACT0213,     3,  1,      5,      5,2,20130215,2321,-35.3451,  28.6625,  4370,  2023.8,   2.8339,  34.7149,2,  35.4818,3,  35.6491,3,    181.1,2,    181.2,2,   2.8343,2, -35.3456,  28.6639,20130216,0014
  316N20130213,ACT0213,     3,  1,      4,      4,2,20130215,2321,-35.3451,  28.6625,  4370,  2536.3,   2.5653,  34.7985,2,  34.7999,2,  34.9640,2,    206.5,2,    207.1,2,   2.5662,2, -35.3456,  28.6640,20130216,0004
  316N20130213,ACT0213,     3,  1,      3,      3,2,20130215,2321,-35.3451,  28.6625,  4370,  3042.3,   2.2685,  34.8148,2,  34.8154,2,  34.9796,2,    217.7,2,    218.0,2,   2.2683,2, -35.3456,  28.6639,20130215,2353
  316N20130213,ACT0213,     3,  1,      2,      2,2,20130215,2321,-35.3451,  28.6625,  4370,  3555.7,   1.7973,  34.7850,2,  34.7861,2,  34.9501,2,    218.1,2,    217.8,2,   1.7970,2, -35.3454,  28.6634,20130215,2343
  316N20130213,ACT0213,     3,  1,      1,      1,2,20130215,2321,-35.3451,  28.6625,  4370,  4424.8,   1.1046,  34.7293,2,  34.7313,2,  34.8951,2,    217.0,2,    217.4,2,   1.1043,3, -35.3451,  28.6626,20130215,2323
  316N20130213,ACT0213,     4,  1,     12,     12,2,20130216,0357,-35.1503,  28.5436,  4394,    20.5,  22.9380,  35.6688,2,  35.6683,2,  35.8365,2,    217.0,2,    217.0,2,  22.9378,2, -35.1502,  28.5430,20130216,0532
  316N20130213,ACT0213,     4,  1,     11,     11,2,20130216,0357,-35.1503,  28.5436,  4394,    71.4,  19.5049,  35.5561,2,  35.5543,2,  35.7220,2,    226.2,2,    222.2,2,  19.5144,2, -35.1504,  28.5435,20130216,0529
  316N20130213,ACT0213,     4,  1,     10,     10,2,20130216,0357,-35.1503,  28.5436,  4394,   126.9,  17.6674,  35.5359,2,  35.5348,2,  35.7024,2,    198.1,2,    197.5,2,  17.6653,2, -35.1503,  28.5435,20130216,0526
  316N20130213,ACT0213,     4,  1,      9,      9,2,20130216,0357,-35.1503,  28.5436,  4394,   202.8,  17.0318,  35.5574,2,  35.5558,2,  35.7234,2,    212.7,2,    212.8,2,  17.0324,2, -35.1504,  28.5435,20130216,0523
  316N20130213,ACT0213,     4,  1,      8,      8,2,20130216,0357,-35.1503,  28.5436,  4394,   347.1,  15.2274,  35.4354,2,  35.4335,2,  35.6006,2,    198.7,2,    202.2,2,  15.2288,2, -35.1503,  28.5435,20130216,0519
  316N20130213,ACT0213,     4,  1,      7,      7,2,20130216,0357,-35.1503,  28.5436,  4394,   779.3,  10.1588,  34.8196,2,  34.8188,2,  34.9830,2,    213.8,2,    215.2,2,  10.1564,2, -35.1503,  28.5436,20130216,0511
  316N20130213,ACT0213,     4,  1,      6,      6,2,20130216,0357,-35.1503,  28.5436,  4394,  1258.4,   4.7058,  34.4208,2,  34.4197,2,  34.5820,2,    190.7,2,    189.2,2,   4.7050,2, -35.1503,  28.5435,20130216,0501
  316N20130213,ACT0213,     4,  1,      5,      5,2,20130216,0357,-35.1503,  28.5436,  4394,  2025.7,   2.8452,  34.7141,2,  34.7138,2,  34.8775,2,    177.2,2,    178.7,2,   2.8457,2, -35.1503,  28.5436,20130216,0446
  316N20130213,ACT0213,     4,  1,      4,      4,2,20130216,0357,-35.1503,  28.5436,  4394,  2534.2,   2.5610,  34.7957,2,  34.7947,2,  34.9588,2,    206.0,2,    206.4,2,   2.5607,2, -35.1504,  28.5435,20130216,0435
  316N20130213,ACT0213,     4,  1,      3,      3,2,20130216,0357,-35.1503,  28.5436,  4394,  3037.9,   2.2748,  34.8124,2,  34.8110,2,  34.9752,2,    216.4,2,    216.9,2,   2.2741,2, -35.1504,  28.5436,20130216,0425
  316N20130213,ACT0213,     4,  1,      2,      2,2,20130216,0357,-35.1503,  28.5436,  4394,  3556.3,   1.7920,  34.7840,2,  34.7833,2,  34.9473,2,    217.3,2,    217.6,2,   1.7918,2, -35.1503,  28.5435,20130216,0415
  316N20130213,ACT0213,     4,  1,      1,      1,2,20130216,0357,-35.1503,  28.5436,  4394,  4449.9,   1.0971,  34.7287,2,  34.7280,2,  34.8917,2,    216.9,2,    228.7,4,   1.0970,2, -35.1503,  28.5436,20130216,0358
  316N20130213,ACT0213,     5,  1,     12,     12,2,20130216,0820,-34.9563,  28.4252,  -999,    14.2,  23.1521,  35.6247,2,  35.6235,2,  35.7915,2,    216.4,2,    216.4,2,  23.1514,2, -34.9563,  28.4252,20130216,0959
  316N20130213,ACT0213,     5,  1,     11,     11,2,20130216,0820,-34.9563,  28.4252,  -999,    74.0,  19.5606,  35.5349,2,  35.5261,2,  35.6936,2,    204.6,2,    203.8,2,  19.5558,2, -34.9563,  28.4252,20130216,0955
  316N20130213,ACT0213,     5,  1,     10,     10,2,20130216,0820,-34.9563,  28.4252,  -999,   142.0,  17.6137,  35.5569,2,  35.5554,2,  35.7230,2,    199.2,2,    207.6,4,  17.6069,2, -34.9563,  28.4252,20130216,0951
  316N20130213,ACT0213,     5,  1,      9,      9,2,20130216,0820,-34.9563,  28.4252,  -999,   252.1,  16.5901,  35.5394,2,  35.5380,2,  35.7056,2,    206.9,2,    207.7,2,  16.5924,2, -34.9563,  28.4252,20130216,0948
  316N20130213,ACT0213,     5,  1,      8,      8,9,20130216,0820,-34.9563,  28.4252,  -999,   351.0,  15.1693,  35.4314,2,-999.0000,9,-999.0000,9,   -999.0,9,   -999.0,9,  15.1649,2, -34.9563,  28.4252,20130216,0944
  316N20130213,ACT0213,     5,  1,      7,      7,2,20130216,0820,-34.9563,  28.4252,  -999,   807.8,   9.8949,  34.7815,2,  34.7840,2,  34.9480,2,    219.3,2,    217.6,2,   9.8945,2, -34.9563,  28.4252,20130216,0935
  316N20130213,ACT0213,     5,  1,      6,      6,2,20130216,0820,-34.9563,  28.4252,  -999,  1156.5,   5.5710,  34.4196,2,  34.4179,2,  34.5802,2,    195.4,2,    197.9,2,   5.5703,2, -34.9563,  28.4252,20130216,0928
  316N20130213,ACT0213,     5,  1,      5,      5,2,20130216,0820,-34.9563,  28.4252,  -999,  1621.6,   3.5124,  34.5882,2,  34.5858,2,  34.7489,2,    163.3,2,    162.5,2,   3.5140,2, -34.9563,  28.4252,20130216,0918
  316N20130213,ACT0213,     5,  1,      4,      4,2,20130216,0820,-34.9563,  28.4252,  -999,  2529.0,   2.5468,  34.7984,2,  34.7967,2,  34.9607,2,    206.1,2,    228.2,4,   2.5471,2, -34.9563,  28.4252,20130216,0901
  316N20130213,ACT0213,     5,  1,      3,      3,2,20130216,0820,-34.9563,  28.4252,  -999,  3042.1,   2.2567,  34.8128,2,  34.8105,2,  34.9746,2,    217.3,2,    217.5,2,   2.2567,2, -34.9563,  28.4252,20130216,0851
  316N20130213,ACT0213,     5,  1,      2,      2,2,20130216,0820,-34.9563,  28.4252,  -999,  3551.6,   1.7510,  34.7814,2,  34.7790,2,  34.9430,2,    217.2,2,    217.4,2,   1.7509,2, -34.9563,  28.4252,20130216,0841
  316N20130213,ACT0213,     5,  1,      1,      1,2,20130216,0820,-34.9563,  28.4252,  -999,  4374.6,   1.0829,  34.7284,2,  34.7270,2,  34.8908,2,    216.0,2,    216.1,2,   1.0828,2, -34.9563,  28.4252,20130216,0824
  316N20130213,ACT0213,     6,  1,     11,     11,2,20130216,1255,-34.8160,  28.3294,  -999,    30.0,  22.6413,  35.6644,2,  35.6643,2,  35.8325,2,    221.5,2,    221.6,2,  22.6373,2, -34.8112,  28.3179,20130216,1429
  316N20130213,ACT0213,     6,  1,     12,     12,2,20130216,1255,-34.8160,  28.3294,  -999,    30.3,  22.6382,  35.6641,2,  35.6628,2,  35.8309,2,    221.5,2,    221.4,2,  22.6388,2, -34.8112,  28.3179,20130216,1429
  316N20130213,ACT0213,     6,  1,     10,     10,2,20130216,1255,-34.8160,  28.3294,  -999,    78.1,  19.0699,  35.5656,2,  35.5652,2,  35.7329,2,    232.2,2,    233.1,2,  19.0761,2, -34.8116,  28.3184,20130216,1425
  316N20130213,ACT0213,     6,  1,      9,      9,2,20130216,1255,-34.8160,  28.3294,  -999,   511.1,  13.2369,  35.2453,2,  35.2467,2,  35.4129,2,    216.6,2,    215.3,2,  13.2361,2, -34.8122,  28.3197,20130216,1415
  316N20130213,ACT0213,     6,  1,      8,      8,2,20130216,1255,-34.8160,  28.3294,  -999,   783.8,  10.2528,  34.8317,2,  34.8323,2,  34.9965,2,    217.9,2,    217.4,2,  10.2468,2, -34.8122,  28.3204,20130216,1409
  316N20130213,ACT0213,     6,  1,      7,      7,2,20130216,1255,-34.8160,  28.3294,  -999,  1087.5,   6.1707,  34.4456,2,  34.4474,2,  34.6098,2,    198.1,2,    199.7,2,   6.1709,2, -34.8124,  28.3210,20130216,1402
  316N20130213,ACT0213,     6,  1,      6,      6,2,20130216,1255,-34.8160,  28.3294,  -999,  1161.0,   5.7276,  34.4620,2,  34.4600,2,  34.6225,2,    208.5,3,    188.2,2,   5.7370,2, -34.8125,  28.3213,20130216,1400
  316N20130213,ACT0213,     6,  1,      5,      5,2,20130216,1255,-34.8160,  28.3294,  -999,  2526.3,   2.5817,  34.8002,2,  34.8008,2,  34.9649,2,    210.5,2,    208.2,2,   2.5815,2, -34.8133,  28.3244,20130216,1335
  316N20130213,ACT0213,     6,  1,      4,      4,2,20130216,1255,-34.8160,  28.3294,  -999,  3041.1,   2.2629,  34.8142,2,  34.8148,2,  34.9789,2,    216.9,2,    217.9,2,   2.2626,2, -34.8139,  28.3256,20130216,1324
  316N20130213,ACT0213,     6,  1,      3,      3,2,20130216,1255,-34.8160,  28.3294,  -999,  3551.6,   1.7790,  34.7836,2,  34.7829,2,  34.9469,2,    216.4,2,    217.4,2,   1.7796,2, -34.8148,  28.3270,20130216,1314
  316N20130213,ACT0213,     6,  1,      2,      2,2,20130216,1255,-34.8160,  28.3294,  -999,  4062.4,   1.2644,  34.7437,2,  34.7435,2,  34.9074,2,    216.2,2,    216.7,2,   1.2642,2, -34.8155,  28.3283,20130216,1304
  316N20130213,ACT0213,     6,  1,      1,      1,2,20130216,1255,-34.8160,  28.3294,  -999,  4349.5,   1.1094,  34.7306,2,  34.7305,2,  34.8943,2,    216.0,2,    216.1,2,   1.1096,2, -34.8160,  28.3294,20130216,1255
  316N20130213,ACT0213,     7,  1,     12,     12,2,20130216,1712,-34.6772,  28.2579,  4166,    20.9,  23.6445,  35.6562,2,  35.6611,2,  35.8292,2,    214.3,2,    214.4,2,  23.6474,2, -34.6805,  28.2611,20130216,1844
  316N20130213,ACT0213,     7,  1,     11,     11,2,20130216,1712,-34.6772,  28.2579,  4166,    55.5,  22.0218,  35.6628,2,  35.6644,2,  35.8326,2,    224.2,2,    223.6,2,  22.0217,2, -34.6805,  28.2610,20130216,1841
  316N20130213,ACT0213,     7,  1,     10,     10,2,20130216,1712,-34.6772,  28.2579,  4166,   104.5,  18.5439,  35.5674,2,  35.5664,2,  35.7341,2,    225.0,2,    227.0,2,  18.5518,2, -34.6805,  28.2609,20130216,1838
  316N20130213,ACT0213,     7,  1,      9,      9,2,20130216,1712,-34.6772,  28.2579,  4166,   203.2,  17.0595,  35.5515,2,  35.5506,2,  35.7183,2,    203.4,2,    207.5,2,  17.0597,2, -34.6805,  28.2611,20130216,1835
  316N20130213,ACT0213,     7,  1,      8,      8,2,20130216,1712,-34.6772,  28.2579,  4166,   512.3,  13.0449,  35.2115,2,  35.2102,2,  35.3762,2,    211.7,2,    212.0,2,  13.0462,2, -34.6806,  28.2616,20130216,1828
  316N20130213,ACT0213,     7,  1,      7,      7,2,20130216,1712,-34.6772,  28.2579,  4166,  1007.7,   7.3636,  34.5504,2,  34.5482,2,  34.7111,2,    196.4,2,    194.7,2,   7.3662,2, -34.6803,  28.2616,20130216,1818
  316N20130213,ACT0213,     7,  1,      6,      6,2,20130216,1712,-34.6772,  28.2579,  4166,  1520.9,   3.9005,  34.5534,2,  34.5523,2,  34.7152,2,    160.6,2,    160.5,2,   3.9003,2, -34.6788,  28.2604,20130216,1808
  316N20130213,ACT0213,     7,  1,      5,      5,2,20130216,1712,-34.6772,  28.2579,  4166,  2022.5,   2.8402,  34.7127,2,  34.7123,2,  34.8760,2,    180.1,2,    180.3,2,   2.8399,2, -34.6782,  28.2600,20130216,1757
  316N20130213,ACT0213,     7,  1,      4,      4,2,20130216,1712,-34.6772,  28.2579,  4166,  2534.1,   2.5486,  34.7966,2,  34.7956,2,  34.9597,2,    205.5,2,    206.0,2,   2.5484,2, -34.6771,  28.2589,20130216,1745
  316N20130213,ACT0213,     7,  1,      3,      3,2,20130216,1712,-34.6772,  28.2579,  4166,  3044.5,   2.2538,  34.8137,2,  34.8131,2,  34.9773,2,    217.4,2,    217.7,2,   2.2542,2, -34.6763,  28.2581,20130216,1735
  316N20130213,ACT0213,     7,  1,      2,      2,2,20130216,1712,-34.6772,  28.2579,  4166,  3558.2,   1.7333,  34.7800,2,  34.7791,2,  34.9431,2,    217.1,2,    217.7,2,   1.7331,2, -34.6765,  28.2577,20130216,1725
  316N20130213,ACT0213,     7,  1,      1,      1,2,20130216,1712,-34.6772,  28.2579,  4166,  4229.2,   1.0962,  34.7305,2,  34.7311,2,  34.8948,2,    216.0,2,    216.2,2,   1.0977,3, -34.6772,  28.2579,20130216,1711