BOTTLE,20141010ODF
EXPOCODE,SECT_ID,STNNBR,CASTNO,SAMPNO,BTLNBR,BTLNBR_FLAG_W,DATE,TIME,LATITUDE,LONGITUDE,DEPTH,CTDPRS,CTDTMP,CTDSAL,CTDSAL_FLAG_W,SALNTY,SALNTY_FLAG_W,SALTREF,SALTREF_FLAG_W,CTDOXY,CTDOXY_FLAG_W,OXYGEN,OXYGEN_FLAG_W,REFTMP,REFTMP_FLAG_W,BTL_LAT,BTL_LON,BTL_DATE,BTL_TIME
,,,,,,,,,,,METERS,DBAR,ITS-90,PSS-78,,PSS-78,,G/KG,,UMOL/KG,,UMOL/KG,,ITS-90,,,,,
  316N20130213,ACT0213,    22,  1,     12,     12,2,20130219,0055,-33.4677,  27.5470,   100,     3.9,  19.2977,  35.2089,2,  35.2089,2,  35.3749,2,    224.8,2,    224.8,2,  19.2897,2, -33.4699,  27.5461,20130219,0102
  316N20130213,ACT0213,    22,  1,      2,      2,2,20130219,0055,-33.4677,  27.5470,   100,    46.4,  13.8084,  35.1520,2,  35.1510,2,  35.3168,2,    184.5,2,    184.5,2,  13.8080,2, -33.4685,  27.5469,20130219,0057
  316N20130213,ACT0213,    22,  1,      8,      8,9,20130219,0055,-33.4677,  27.5470,   100,    46.4,  13.8065,  35.1522,2,-999.0000,9,-999.0000,9,   -999.0,9,   -999.0,9,  13.8071,2, -33.4688,  27.5467,20130219,0059
  316N20130213,ACT0213,    22,  1,      9,      9,9,20130219,0055,-33.4677,  27.5470,   100,    46.5,  13.8074,  35.1521,2,-999.0000,9,-999.0000,9,   -999.0,9,   -999.0,9,  13.8069,2, -33.4689,  27.5467,20130219,0059
  316N20130213,ACT0213,    22,  1,      7,      7,9,20130219,0055,-33.4677,  27.5470,   100,    46.5,  13.8020,  35.1518,2,-999.0000,9,-999.0000,9,   -999.0,9,   -999.0,9,  13.8035,2, -33.4688,  27.5468,20130219,0058
  316N20130213,ACT0213,    22,  1,      5,      5,9,20130219,0055,-33.4677,  27.5470,   100,    46.5,  13.8029,  35.1518,2,-999.0000,9,-999.0000,9,   -999.0,9,   -999.0,9,  13.8047,2, -33.4686,  27.5468,20130219,0058
  316N20130213,ACT0213,    22,  1,      3,      3,9,20130219,0055,-33.4677,  27.5470,   100,    46.5,  13.8013,  35.1515,2,-999.0000,9,-999.0000,9,   -999.0,9,   -999.0,9,  13.8025,2, -33.4685,  27.5469,20130219,0058
  316N20130213,ACT0213,    22,  1,     11,     11,9,20130219,0055,-33.4677,  27.5470,   100,    46.5,  13.8036,  35.1518,2,-999.0000,9,-999.0000,9,   -999.0,9,   -999.0,9,  13.8026,2, -33.4690,  27.5466,20130219,0059
  316N20130213,ACT0213,    22,  1,      4,      4,9,20130219,0055,-33.4677,  27.5470,   100,    46.5,  13.8016,  35.1516,2,-999.0000,9,-999.0000,9,   -999.0,9,   -999.0,9,  13.8050,2, -33.4686,  27.5469,20130219,0058
  316N20130213,ACT0213,    22,  1,     10,     10,9,20130219,0055,-33.4677,  27.5470,   100,    46.6,  13.8073,  35.1522,2,-999.0000,9,-999.0000,9,   -999.0,9,   -999.0,9,  13.8075,2, -33.4689,  27.5467,20130219,0059
  316N20130213,ACT0213,    22,  1,      6,      6,9,20130219,0055,-33.4677,  27.5470,   100,    46.6,  13.8050,  35.1519,2,-999.0000,9,-999.0000,9,   -999.0,9,   -999.0,9,  13.8062,2, -33.4687,  27.5468,20130219,0058
  316N20130213,ACT0213,    22,  1,      1,      1,2,20130219,0055,-33.4677,  27.5470,   100,    88.0,   8.5747,  34.7093,2,  34.7073,2,  34.8710,2,    185.0,2,    185.1,2,   8.5685,2, -33.4677,  27.5470,20130219,0055
  316N20130213,ACT0213,    23,  1,     12,     12,2,20130219,0152,-33.5690,  27.5864,   325,     3.5,  24.0846,  35.3864,2,  35.3875,2,  35.5544,2,    204.9,2,    204.8,2,  24.0847,2, -33.5777,  27.5759,20130219,0205
  316N20130213,ACT0213,    23,  1,     11,     11,2,20130219,0152,-33.5690,  27.5864,   325,    52.6,  18.9186,  35.4330,2,  35.4356,2,  35.6027,2,    164.3,2,    164.3,2,  18.9096,2, -33.5753,  27.5790,20130219,0203
  316N20130213,ACT0213,    23,  1,      3,      3,2,20130219,0152,-33.5690,  27.5864,   325,   110.6,  13.0375,  35.1679,2,  35.1654,2,  35.3313,2,    185.0,2,    185.0,2,  13.0101,3, -33.5724,  27.5828,20130219,0159
  316N20130213,ACT0213,    23,  1,      6,      6,9,20130219,0152,-33.5690,  27.5864,   325,   111.1,  13.0267,  35.1669,2,-999.0000,9,-999.0000,9,   -999.0,9,   -999.0,9,  13.0283,2, -33.5727,  27.5824,20130219,0159
  316N20130213,ACT0213,    23,  1,      4,      4,9,20130219,0152,-33.5690,  27.5864,   325,   111.2,  13.0486,  35.1695,2,-999.0000,9,-999.0000,9,   -999.0,9,   -999.0,9,  13.0455,2, -33.5725,  27.5827,20130219,0159
  316N20130213,ACT0213,    23,  1,      5,      5,9,20130219,0152,-33.5690,  27.5864,   325,   111.3,  13.0206,  35.1673,2,-999.0000,9,-999.0000,9,   -999.0,9,   -999.0,9,  13.0172,2, -33.5726,  27.5826,20130219,0159
  316N20130213,ACT0213,    23,  1,      8,      8,9,20130219,0152,-33.5690,  27.5864,   325,   112.0,  13.0026,  35.1653,2,-999.0000,9,-999.0000,9,   -999.0,9,   -999.0,9,  13.0118,3, -33.5729,  27.5821,20130219,0200
  316N20130213,ACT0213,    23,  1,      7,      7,9,20130219,0152,-33.5690,  27.5864,   325,   112.0,  13.0257,  35.1679,2,-999.0000,9,-999.0000,9,   -999.0,9,   -999.0,9,  13.0221,2, -33.5728,  27.5823,20130219,0200
  316N20130213,ACT0213,    23,  1,      9,      9,9,20130219,0152,-33.5690,  27.5864,   325,   112.1,  12.9858,  35.1640,2,-999.0000,9,-999.0000,9,   -999.0,9,   -999.0,9,  13.0011,3, -33.5730,  27.5820,20130219,0200
  316N20130213,ACT0213,    23,  1,     10,     10,9,20130219,0152,-33.5690,  27.5864,   325,   112.2,  12.9904,  35.1644,2,-999.0000,9,-999.0000,9,   -999.0,9,   -999.0,9,  12.9870,2, -33.5731,  27.5818,20130219,0200
  316N20130213,ACT0213,    23,  1,      2,      2,2,20130219,0152,-33.5690,  27.5864,   325,   229.3,   8.7553,  34.7264,2,  34.7271,2,  34.8908,2,    190.8,2,    190.8,2,   8.7531,2, -33.5705,  27.5849,20130219,0155
  316N20130213,ACT0213,    23,  1,      1,      1,2,20130219,0152,-33.5690,  27.5864,   325,   299.8,   7.6374,  34.6373,2,  34.6368,2,  34.8001,2,    177.0,2,    177.0,2,   7.6355,2, -33.5694,  27.5861,20130219,0153
  316N20130213,ACT0213,    24,  1,     12,     12,2,20130221,1408,-34.2967,  28.0199,  3712,    14.2,  24.3647,  35.5754,2,  35.5749,2,  35.7426,2,    212.4,2,    211.7,2,  24.3854,3, -34.3089,  28.0091,20130221,1526
  316N20130213,ACT0213,    24,  1,     11,     11,2,20130221,1408,-34.2967,  28.0199,  3712,   154.4,  18.4586,  35.5519,2,  35.5517,2,  35.7194,2,    203.1,2,    202.7,2,  18.4250,3, -34.3079,  28.0101,20130221,1522
  316N20130213,ACT0213,    24,  1,     10,     10,2,20130221,1408,-34.2967,  28.0199,  3712,   506.1,  13.3182,  35.2627,2,  35.2613,2,  35.4275,2,    220.5,2,    216.8,2,  13.3172,2, -34.3065,  28.0115,20130221,1514
  316N20130213,ACT0213,    24,  1,      9,      9,2,20130221,1408,-34.2967,  28.0199,  3712,   814.0,   9.7062,  34.7698,2,  34.7707,2,  34.9346,2,    214.7,2,    213.1,2,   9.7059,2, -34.3053,  28.0126,20130221,1508
  316N20130213,ACT0213,    24,  1,      8,      8,2,20130221,1408,-34.2967,  28.0199,  3712,  1009.5,   7.8215,  34.6458,2,  34.6477,2,  34.8110,2,    164.5,2,    170.5,3,   7.8284,3, -34.3046,  28.0133,20130221,1503
  316N20130213,ACT0213,    24,  1,      7,      7,2,20130221,1408,-34.2967,  28.0199,  3712,  1315.6,   4.8316,  34.5240,2,  34.5234,2,  34.6862,2,    165.2,2,    162.3,2,   4.8345,3, -34.3034,  28.0144,20130221,1456
  316N20130213,ACT0213,    24,  1,      6,      6,2,20130221,1408,-34.2967,  28.0199,  3712,  1818.8,   3.0444,  34.6794,2,  34.6790,2,  34.8425,2,    168.4,2,    167.4,2,   3.0438,2, -34.3018,  28.0157,20130221,1447
  316N20130213,ACT0213,    24,  1,      5,      5,2,20130221,1408,-34.2967,  28.0199,  3712,  2218.0,   2.6290,  34.7618,2,  34.7612,2,  34.9251,2,    186.9,2,    189.8,2,   2.6305,2, -34.3007,  28.0165,20130221,1438
  316N20130213,ACT0213,    24,  1,      4,      4,2,20130221,1408,-34.2967,  28.0199,  3712,  2750.4,   2.4077,  34.8155,2,  34.8156,2,  34.9798,2,    214.1,2,    215.0,2,   2.4077,2, -34.2993,  28.0178,20130221,1428
  316N20130213,ACT0213,    24,  1,      3,      3,2,20130221,1408,-34.2967,  28.0199,  3712,  3053.5,   2.1718,  34.8121,2,  34.8126,2,  34.9768,2,    218.1,2,    217.9,2,   2.1732,2, -34.2985,  28.0187,20130221,1421
  316N20130213,ACT0213,    24,  1,      2,      2,2,20130221,1408,-34.2967,  28.0199,  3712,  3406.4,   1.8004,  34.7888,2,  34.7886,2,  34.9526,2,    219.8,2,    217.6,2,   1.8012,2, -34.2975,  28.0194,20130221,1415
  316N20130213,ACT0213,    24,  1,      1,      1,2,20130221,1408,-34.2967,  28.0199,  3712,  3757.7,   1.1166,  34.7375,2,  34.7387,2,  34.9025,2,    217.6,2,    217.6,2,   1.1158,2, -34.2965,  28.0200,20130221,1407
  316N20130213,ACT0213,    25,  1,     12,     12,2,20130221,1732,-34.4127,  28.0934,  3847,    16.5,  24.4133,  35.5906,2,  35.5896,2,  35.7574,2,    211.5,2,    211.4,2,  24.4098,2, -34.4227,  28.0964,20130221,1856
  316N20130213,ACT0213,    25,  1,     11,     11,2,20130221,1732,-34.4127,  28.0934,  3847,    50.5,  24.2620,  35.5822,2,  35.5795,2,  35.7472,2,    212.1,2,    212.1,2,  24.2586,2, -34.4221,  28.0963,20130221,1853
  316N20130213,ACT0213,    25,  1,     10,     10,2,20130221,1732,-34.4127,  28.0934,  3847,   105.0,  20.1373,  35.5181,2,  35.5160,2,  35.6834,2,    197.2,2,    195.5,2,  20.1544,3, -34.4214,  28.0963,20130221,1850
  316N20130213,ACT0213,    25,  1,      9,      9,2,20130221,1732,-34.4127,  28.0934,  3847,   510.8,  13.2054,  35.2455,2,  35.2477,2,  35.4139,2,    208.4,2,    216.3,3,  13.2024,2, -34.4201,  28.0960,20130221,1842
  316N20130213,ACT0213,    25,  1,      8,      8,2,20130221,1732,-34.4127,  28.0934,  3847,  1012.9,   7.9526,  34.6506,2,  34.6461,2,  34.8095,2,    186.8,2,    176.2,3,   7.9576,2, -34.4187,  28.0958,20130221,1832
  316N20130213,ACT0213,    25,  1,      7,      7,2,20130221,1732,-34.4127,  28.0934,  3847,  1523.0,   4.0370,  34.6055,2,  34.6034,2,  34.7666,2,    149.2,2,    151.1,2,   4.0362,2, -34.4174,  28.0955,20130221,1822
  316N20130213,ACT0213,    25,  1,      6,      6,2,20130221,1732,-34.4127,  28.0934,  3847,  2027.9,   2.8119,  34.7217,2,  34.7212,2,  34.8849,2,    175.6,2,    177.6,2,   2.8117,2, -34.4164,  28.0953,20130221,1812
  316N20130213,ACT0213,    25,  1,      5,      5,2,20130221,1732,-34.4127,  28.0934,  3847,  2326.5,   2.6472,  34.7802,2,  34.7792,2,  34.9432,2,    197.3,2,    198.8,2,   2.6474,2, -34.4157,  28.0951,20130221,1805
  316N20130213,ACT0213,    25,  1,      4,      4,2,20130221,1732,-34.4127,  28.0934,  3847,  2848.8,   2.3469,  34.8155,2,  34.8164,2,  34.9806,2,    215.2,2,    216.0,2,   2.3467,2, -34.4146,  28.0944,20130221,1755
  316N20130213,ACT0213,    25,  1,      3,      3,2,20130221,1732,-34.4127,  28.0934,  3847,  3053.1,   2.1931,  34.8124,2,  34.8121,2,  34.9762,2,    217.6,2,    217.6,2,   2.1929,2, -34.4141,  28.0941,20130221,1749
  316N20130213,ACT0213,    25,  1,      2,      2,2,20130221,1732,-34.4127,  28.0934,  3847,  3562.2,   1.6231,  34.7739,2,  34.7741,2,  34.9381,2,    217.7,2,    216.7,2,   1.6244,2, -34.4132,  28.0937,20130221,1739
  316N20130213,ACT0213,    25,  1,      1,      1,2,20130221,1732,-34.4127,  28.0934,  3847,  3891.2,   1.1161,  34.7361,2,  34.7368,2,  34.9006,2,    215.5,2,    215.6,2,   1.1257,3, -34.4126,  28.0934,20130221,1731
  316N20130213,ACT0213,    26,  1,     12,     12,2,20130221,2345,-34.5539,  28.1547,  4018,    18.3,  24.2786,  35.5986,2,  35.5969,2,  35.7648,2,    211.2,2,    211.3,2,  24.2792,2, -34.5547,  28.1507,20130222,0113
  316N20130213,ACT0213,    26,  1,     11,     11,2,20130221,2345,-34.5539,  28.1547,  4018,    52.9,  24.0991,  35.5861,2,  35.5882,2,  35.7560,2,    212.5,2,    211.9,2,  24.0912,3, -34.5547,  28.1507,20130222,0110
  316N20130213,ACT0213,    26,  1,     10,     10,2,20130221,2345,-34.5539,  28.1547,  4018,   102.2,  20.4629,  35.5118,2,  35.5113,2,  35.6787,2,    195.7,2,    195.5,2,  20.4619,2, -34.5547,  28.1508,20130222,0107
  316N20130213,ACT0213,    26,  1,      9,      9,2,20130221,2345,-34.5539,  28.1547,  4018,   300.9,  16.2066,  35.5151,2,  35.5142,2,  35.6817,2,    202.9,2,    203.2,2,  16.2072,2, -34.5547,  28.1509,20130222,0102
  316N20130213,ACT0213,    26,  1,      8,      8,2,20130221,2345,-34.5539,  28.1547,  4018,   609.2,  12.1154,  35.0908,2,  35.0913,2,  35.2568,2,    218.5,2,    218.4,2,  12.1173,2, -34.5546,  28.1512,20130222,0055
  316N20130213,ACT0213,    26,  1,      7,      7,2,20130221,2345,-34.5539,  28.1547,  4018,  1012.4,   7.8334,  34.6252,2,  34.6237,2,  34.7870,2,    185.1,2,    180.6,2,   7.8199,3, -34.5546,  28.1517,20130222,0047
  316N20130213,ACT0213,    26,  1,      6,      6,2,20130221,2345,-34.5539,  28.1547,  4018,  1515.0,   4.0302,  34.5791,2,  34.5796,2,  34.7427,2,    156.1,2,    155.9,2,   4.0254,2, -34.5545,  28.1520,20130222,0037
  316N20130213,ACT0213,    26,  1,      5,      5,2,20130221,2345,-34.5539,  28.1547,  4018,  2025.5,   2.8406,  34.7149,2,  34.7161,2,  34.8798,2,    183.3,2,    183.9,2,   2.8405,2, -34.5544,  28.1525,20130222,0027
  316N20130213,ACT0213,    26,  1,      4,      4,2,20130221,2345,-34.5539,  28.1547,  4018,  2535.7,   2.5291,  34.7962,2,  34.8001,3,  34.9642,3,    205.9,2,    205.4,2,   2.5295,2, -34.5541,  28.1527,20130222,0016
  316N20130213,ACT0213,    26,  1,      3,      3,2,20130221,2345,-34.5539,  28.1547,  4018,  3036.4,   2.2272,  34.8130,2,  34.8135,2,  34.9777,2,    217.2,2,    217.7,2,   2.2268,2, -34.5540,  28.1532,20130222,0006
  316N20130213,ACT0213,    26,  1,      2,      2,2,20130221,2345,-34.5539,  28.1547,  4018,  3552.3,   1.6587,  34.7761,2,  34.7751,2,  34.9390,2,    216.9,2,    216.9,2,   1.6588,2, -34.5540,  28.1538,20130221,2355
  316N20130213,ACT0213,    26,  1,      1,      1,2,20130221,2345,-34.5539,  28.1547,  4018,  4072.5,   1.1252,  34.7354,2,  34.7358,2,  34.8996,2,    215.6,2,    215.6,2,   1.1247,2, -34.5540,  28.1547,20130221,2344
  316N20130213,ACT0213,    27,  1,     12,     12,2,20130222,0932,-34.6743,  28.2578,  4161,    12.2,  24.4745,  35.5853,2,  35.5829,2,  35.7507,2,    211.0,2,    210.8,2,  24.4745,2, -34.6737,  28.2578,20130222,1100
  316N20130213,ACT0213,    27,  1,     11,     11,2,20130222,0932,-34.6743,  28.2578,  4161,    61.5,  22.8982,  35.5955,2,  35.5944,2,  35.7623,2,    217.3,2,    218.4,2,  22.9092,2, -34.6737,  28.2578,20130222,1058
  316N20130213,ACT0213,    27,  1,     10,     10,2,20130222,0932,-34.6743,  28.2578,  4161,   130.6,  19.4038,  35.5228,2,  35.5234,2,  35.6909,2,    187.3,2,    187.7,2,  19.3914,2, -34.6736,  28.2578,20130222,1055
  316N20130213,ACT0213,    27,  1,      9,      9,2,20130222,0932,-34.6743,  28.2578,  4161,   504.0,  13.1035,  35.2089,2,  35.2099,2,  35.3759,2,    199.1,2,    200.1,2,  13.1067,2, -34.6738,  28.2578,20130222,1047
  316N20130213,ACT0213,    27,  1,      8,      8,2,20130222,0932,-34.6743,  28.2578,  4161,   757.1,  10.5214,  34.8692,2,  34.8680,2,  35.0324,2,    216.8,2,    216.6,2,  10.5218,2, -34.6737,  28.2578,20130222,1042
  316N20130213,ACT0213,    27,  1,      7,      7,2,20130222,0932,-34.6743,  28.2578,  4161,  1010.9,   7.4720,  34.5462,2,  34.5452,2,  34.7081,2,    199.5,2,    197.9,2,   7.4721,2, -34.6738,  28.2578,20130222,1036
  316N20130213,ACT0213,    27,  1,      6,      6,2,20130222,0932,-34.6743,  28.2578,  4161,  1509.2,   3.9829,  34.5508,2,  34.5507,2,  34.7136,2,    160.1,2,    160.0,2,   3.9791,3, -34.6737,  28.2578,20130222,1026
  316N20130213,ACT0213,    27,  1,      5,      5,2,20130222,0932,-34.6743,  28.2578,  4161,  2020.1,   2.8425,  34.7131,2,  34.7142,2,  34.8779,2,    179.0,2,    179.6,2,   2.8416,2, -34.6741,  28.2578,20130222,1016
  316N20130213,ACT0213,    27,  1,      4,      4,2,20130222,0932,-34.6743,  28.2578,  4161,  2532.5,   2.5400,  34.7981,2,  34.7982,2,  34.9623,2,    205.0,2,    206.0,2,   2.5402,2, -34.6743,  28.2578,20130222,1006
  316N20130213,ACT0213,    27,  1,      3,      3,2,20130222,0932,-34.6743,  28.2578,  4161,  3045.2,   2.2293,  34.8122,2,  34.8118,2,  34.9759,2,    216.5,2,    217.0,2,   2.2290,2, -34.6746,  28.2578,20130222,0956
  316N20130213,ACT0213,    27,  1,      2,      2,2,20130222,0932,-34.6743,  28.2578,  4161,  3553.8,   1.7141,  34.7801,2,  34.7790,2,  34.9430,2,    216.6,2,    216.7,2,   1.7151,2, -34.6746,  28.2578,20130222,0946
  316N20130213,ACT0213,    27,  1,      1,      1,2,20130222,0932,-34.6743,  28.2578,  4161,  4224.2,   1.0706,  34.7307,2,  34.7298,2,  34.8935,2,    215.4,2,    215.4,2,   1.0709,2, -34.6744,  28.2578,20130222,0933
  316N20130213,ACT0213,    28,  1,     12,     12,2,20130223,0155,-34.8281,  28.3713,  -999,    14.3,  22.9159,  35.6559,2,  35.6544,2,  35.8225,2,    216.3,2,    216.2,2,  22.9126,2, -34.8356,  28.3799,20130223,0320
  316N20130213,ACT0213,    28,  1,     11,     11,2,20130223,0155,-34.8281,  28.3713,  -999,    63.8,  22.5395,  35.6731,2,  35.6736,2,  35.8418,2,    218.9,2,    219.0,2,  22.5390,2, -34.8355,  28.3794,20130223,0318
  316N20130213,ACT0213,    28,  1,     10,     10,2,20130223,0155,-34.8281,  28.3713,  -999,   135.3,  18.1589,  35.5577,2,  35.5576,2,  35.7253,2,    207.0,2,    206.7,2,  18.1601,2, -34.8353,  28.3792,20130223,0315
  316N20130213,ACT0213,    28,  1,      9,      9,2,20130223,0155,-34.8281,  28.3713,  -999,   508.3,  13.3683,  35.2555,2,  35.2567,2,  35.4229,2,    209.9,2,    211.6,2,  13.3712,2, -34.8346,  28.3786,20130223,0307
  316N20130213,ACT0213,    28,  1,      8,      8,2,20130223,0155,-34.8281,  28.3713,  -999,   759.6,  10.6181,  34.8752,2,  34.8769,2,  35.0413,2,    219.5,2,    220.1,2,  10.6190,2, -34.8340,  28.3781,20130223,0302
  316N20130213,ACT0213,    28,  1,      7,      7,2,20130223,0155,-34.8281,  28.3713,  -999,  1010.4,   7.5601,  34.5704,2,  34.5688,2,  34.7318,2,    196.5,2,    194.3,2,   7.5585,2, -34.8336,  28.3775,20130223,0257
  316N20130213,ACT0213,    28,  1,      6,      6,2,20130223,0155,-34.8281,  28.3713,  -999,  1509.9,   3.9392,  34.5438,2,  34.5448,2,  34.7077,2,    162.9,2,    162.7,2,   3.9396,2, -34.8327,  28.3765,20130223,0247
  316N20130213,ACT0213,    28,  1,      5,      5,2,20130223,0155,-34.8281,  28.3713,  -999,  2019.0,   2.8723,  34.7071,2,  34.7085,2,  34.8722,2,    176.7,2,    177.7,2,   2.8720,2, -34.8317,  28.3753,20130223,0237
  316N20130213,ACT0213,    28,  1,      4,      4,2,20130223,0155,-34.8281,  28.3713,  -999,  2529.5,   2.5714,  34.8019,2,  34.8029,2,  34.9671,2,    208.0,2,    208.6,2,   2.5712,2, -34.8308,  28.3744,20130223,0228
  316N20130213,ACT0213,    28,  1,      3,      3,2,20130223,0155,-34.8281,  28.3713,  -999,  3038.9,   2.2656,  34.8157,2,  34.8160,2,  34.9801,2,    218.3,2,    217.8,2,   2.2656,2, -34.8298,  28.3734,20130223,0218
  316N20130213,ACT0213,    28,  1,      2,      2,2,20130223,0155,-34.8281,  28.3713,  -999,  3556.4,   1.7492,  34.7824,2,  34.7824,2,  34.9465,2,    217.3,2,    217.3,2,   1.7490,2, -34.8291,  28.3724,20130223,0209
  316N20130213,ACT0213,    28,  1,      1,      1,2,20130223,0155,-34.8281,  28.3713,  -999,  4346.6,   1.1096,  34.7324,2,  34.7328,2,  34.8965,2,    215.6,2,    215.7,2,   1.1098,2, -34.8281,  28.3712,20130223,0154