BOTTLE,20141010ODF
EXPOCODE,SECT_ID,STNNBR,CASTNO,SAMPNO,BTLNBR,BTLNBR_FLAG_W,DATE,TIME,LATITUDE,LONGITUDE,DEPTH,CTDPRS,CTDTMP,CTDSAL,CTDSAL_FLAG_W,SALNTY,SALNTY_FLAG_W,SALTREF,SALTREF_FLAG_W,CTDOXY,CTDOXY_FLAG_W,OXYGEN,OXYGEN_FLAG_W,REFTMP,REFTMP_FLAG_W,BTL_LAT,BTL_LON,BTL_DATE,BTL_TIME
,,,,,,,,,,,METERS,DBAR,ITS-90,PSS-78,,PSS-78,,G/KG,,UMOL/KG,,UMOL/KG,,ITS-90,,,,,
  316N20130213,ACT0213,    36,  1,     12,     12,2,20130225,1729,-33.5648,  27.5818,   307,     9.9,  26.6944,  35.5392,2,  35.5399,2,  35.7075,2,    203.7,2,    203.7,2,  26.6968,2, -33.5701,  27.5724,20130225,1740
  316N20130213,ACT0213,    36,  1,     11,     11,2,20130225,1729,-33.5648,  27.5818,   307,    50.8,  21.7188,  35.3977,2,  35.3930,2,  35.5599,2,    182.8,2,    182.8,2,  21.8081,3, -33.5687,  27.5746,20130225,1738
  316N20130213,ACT0213,    36,  1,      7,      7,9,20130225,1729,-33.5648,  27.5818,   307,   150.2,  14.2190,  35.1791,2,-999.0000,9,-999.0000,9,   -999.0,9,   -999.0,9,-999.0000,9, -33.5664,  27.5786,20130225,1734
  316N20130213,ACT0213,    36,  1,      3,      3,2,20130225,1729,-33.5648,  27.5818,   307,   150.4,  14.2137,  35.1801,2,  35.1790,2,  35.3448,2,    179.5,2,    179.6,2,  14.2418,2, -33.5660,  27.5793,20130225,1733
  316N20130213,ACT0213,    36,  1,      8,      8,9,20130225,1729,-33.5648,  27.5818,   307,   150.8,  14.2805,  35.1831,2,-999.0000,9,-999.0000,9,   -999.0,9,   -999.0,9,-999.0000,9, -33.5665,  27.5784,20130225,1734
  316N20130213,ACT0213,    36,  1,      5,      5,9,20130225,1729,-33.5648,  27.5818,   307,   150.9,  14.1511,  35.1709,2,-999.0000,9,-999.0000,9,   -999.0,9,   -999.0,9,-999.0000,9, -33.5662,  27.5788,20130225,1734
  316N20130213,ACT0213,    36,  1,      4,      4,9,20130225,1729,-33.5648,  27.5818,   307,   151.1,  14.1373,  35.1701,2,-999.0000,9,-999.0000,9,   -999.0,9,   -999.0,9,-999.0000,9, -33.5662,  27.5790,20130225,1734
  316N20130213,ACT0213,    36,  1,     10,     10,9,20130225,1729,-33.5648,  27.5818,   307,   151.1,  14.2099,  35.1767,2,-999.0000,9,-999.0000,9,   -999.0,9,   -999.0,9,-999.0000,9, -33.5667,  27.5781,20130225,1735
  316N20130213,ACT0213,    36,  1,      6,      6,9,20130225,1729,-33.5648,  27.5818,   307,   151.1,  14.1824,  35.1754,2,-999.0000,9,-999.0000,9,   -999.0,9,   -999.0,9,-999.0000,9, -33.5663,  27.5787,20130225,1734
  316N20130213,ACT0213,    36,  1,      9,      9,9,20130225,1729,-33.5648,  27.5818,   307,   151.7,  14.2243,  35.1789,2,-999.0000,9,-999.0000,9,   -999.0,9,   -999.0,9,-999.0000,9, -33.5666,  27.5783,20130225,1735
  316N20130213,ACT0213,    36,  1,      2,      2,2,20130225,1729,-33.5648,  27.5818,   307,   251.8,   9.9719,  34.8639,2,  34.8628,2,  35.0272,2,    188.2,2,    188.3,2,   9.9697,2, -33.5651,  27.5811,20130225,1731
  316N20130213,ACT0213,    36,  1,      1,      1,2,20130225,1729,-33.5648,  27.5818,   307,   289.5,   8.8328,  34.7525,2,  34.7524,2,  34.9163,2,    185.3,2,    185.3,2,   8.8247,3, -33.5644,  27.5826,20130225,1728
  316N20130213,ACT0213,    37,  1,     12,     12,2,20130225,1844,-33.6083,  27.6038,   548,     3.0,  26.4813,  35.5479,2,  35.5478,2,  35.7154,2,    203.9,2,    204.1,2,  26.4816,2, -33.6207,  27.5847,20130225,1906
  316N20130213,ACT0213,    37,  1,     11,     11,2,20130225,1844,-33.6083,  27.6038,   548,    47.0,  22.2550,  35.3727,2,  35.3739,2,  35.5407,2,    199.3,2,    186.2,3,  22.2736,3, -33.6187,  27.5876,20130225,1903
  316N20130213,ACT0213,    37,  1,     10,     10,9,20130225,1844,-33.6083,  27.6038,   548,    92.7,  18.8814,  35.4779,2,-999.0000,9,-999.0000,9,   -999.0,9,   -999.0,9,-999.0000,9, -33.6168,  27.5905,20130225,1901
  316N20130213,ACT0213,    37,  1,      4,      4,2,20130225,1844,-33.6083,  27.6038,   548,    93.2,  18.8702,  35.4756,2,  35.4793,2,  35.6466,2,    163.2,2,    163.2,2,  18.8763,2, -33.6159,  27.5918,20130225,1859
  316N20130213,ACT0213,    37,  1,      9,      9,9,20130225,1844,-33.6083,  27.6038,   548,    93.3,  18.8763,  35.4768,2,-999.0000,9,-999.0000,9,   -999.0,9,   -999.0,9,-999.0000,9, -33.6166,  27.5907,20130225,1900
  316N20130213,ACT0213,    37,  1,      5,      5,9,20130225,1844,-33.6083,  27.6038,   548,    93.3,  18.8671,  35.4755,2,-999.0000,9,-999.0000,9,   -999.0,9,   -999.0,9,-999.0000,9, -33.6161,  27.5914,20130225,1900
  316N20130213,ACT0213,    37,  1,      6,      6,9,20130225,1844,-33.6083,  27.6038,   548,    93.7,  18.8654,  35.4750,2,-999.0000,9,-999.0000,9,   -999.0,9,   -999.0,9,-999.0000,9, -33.6163,  27.5912,20130225,1900
  316N20130213,ACT0213,    37,  1,      8,      8,9,20130225,1844,-33.6083,  27.6038,   548,    94.1,  18.8586,  35.4743,2,-999.0000,9,-999.0000,9,   -999.0,9,   -999.0,9,-999.0000,9, -33.6165,  27.5908,20130225,1900
  316N20130213,ACT0213,    37,  1,      7,      7,9,20130225,1844,-33.6083,  27.6038,   548,    94.2,  18.8658,  35.4753,2,-999.0000,9,-999.0000,9,   -999.0,9,   -999.0,9,-999.0000,9, -33.6164,  27.5910,20130225,1900
  316N20130213,ACT0213,    37,  1,      3,      3,2,20130225,1844,-33.6083,  27.6038,   548,   259.0,  12.6504,  35.1515,2,  35.1481,2,  35.3138,2,    197.9,2,    197.9,2,  12.6445,3, -33.6128,  27.5964,20130225,1855
  316N20130213,ACT0213,    37,  1,      2,      2,2,20130225,1844,-33.6083,  27.6038,   548,   463.5,   8.3593,  34.7081,2,  34.7147,2,  34.8784,2,    184.7,2,    184.8,2,   8.3878,3, -33.6107,  27.6000,20130225,1849
  316N20130213,ACT0213,    37,  1,      1,      1,2,20130225,1844,-33.6083,  27.6038,   548,   526.5,   7.5418,  34.6407,2,  34.6388,2,  34.8022,2,    176.3,2,    176.4,2,   7.5487,3, -33.6089,  27.6030,20130225,1845
  316N20130213,ACT0213,    38,  1,     12,     12,2,20130225,2032,-33.6706,  27.6302,  1179,     9.6,  26.2651,  35.5433,2,  35.5431,2,  35.7107,2,    204.6,2,    204.9,2,  26.2652,2, -33.6873,  27.6054,20130225,2108
  316N20130213,ACT0213,    38,  1,     11,     11,2,20130225,2032,-33.6706,  27.6302,  1179,    51.7,  23.1465,  35.4956,2,  35.4974,2,  35.6648,2,    218.3,2,    217.9,2,  23.1360,2, -33.6854,  27.6080,20130225,2105
  316N20130213,ACT0213,    38,  1,     10,     10,2,20130225,2032,-33.6706,  27.6302,  1179,   121.9,  18.0734,  35.5226,2,  35.5196,2,  35.6871,2,    177.8,2,    176.2,2,  18.0569,3, -33.6832,  27.6110,20130225,2102
  316N20130213,ACT0213,    38,  1,      5,      5,2,20130225,2032,-33.6706,  27.6302,  1179,   315.0,  12.6735,  35.1600,2,  35.1601,2,  35.3259,2,    200.6,2,    201.2,2,  12.6734,2, -33.6803,  27.6153,20130225,2057
  316N20130213,ACT0213,    38,  1,      9,      9,9,20130225,2032,-33.6706,  27.6302,  1179,   315.1,  12.6885,  35.1617,2,-999.0000,9,-999.0000,9,   -999.0,9,   -999.0,9,-999.0000,9, -33.6808,  27.6147,20130225,2057
  316N20130213,ACT0213,    38,  1,      8,      8,9,20130225,2032,-33.6706,  27.6302,  1179,   315.7,  12.6859,  35.1609,2,-999.0000,9,-999.0000,9,   -999.0,9,   -999.0,9,-999.0000,9, -33.6807,  27.6148,20130225,2057
  316N20130213,ACT0213,    38,  1,      6,      6,9,20130225,2032,-33.6706,  27.6302,  1179,   315.8,  12.6784,  35.1600,2,-999.0000,9,-999.0000,9,   -999.0,9,   -999.0,9,-999.0000,9, -33.6805,  27.6151,20130225,2057
  316N20130213,ACT0213,    38,  1,      7,      7,9,20130225,2032,-33.6706,  27.6302,  1179,   315.9,  12.6780,  35.1600,2,-999.0000,9,-999.0000,9,   -999.0,9,   -999.0,9,-999.0000,9, -33.6806,  27.6150,20130225,2057
  316N20130213,ACT0213,    38,  1,      4,      4,2,20130225,2032,-33.6706,  27.6302,  1179,   703.7,   6.9858,  34.5821,2,  34.5810,2,  34.7441,2,    174.1,2,    173.7,2,   6.9874,2, -33.6759,  27.6216,20130225,2049
  316N20130213,ACT0213,    38,  1,      3,      3,2,20130225,2032,-33.6706,  27.6302,  1179,   820.5,   5.6395,  34.5388,2,  34.5367,2,  34.6996,2,    164.5,2,    165.0,2,   5.6378,2, -33.6746,  27.6237,20130225,2044
  316N20130213,ACT0213,    38,  1,      2,      2,2,20130225,2032,-33.6706,  27.6302,  1179,  1129.3,   3.1919,  34.6796,2,  34.6766,2,  34.8401,2,    162.9,2,    163.0,2,   3.1908,2, -33.6718,  27.6280,20130225,2037
  316N20130213,ACT0213,    38,  1,      1,      1,2,20130225,2032,-33.6706,  27.6302,  1179,  1160.9,   3.1663,  34.6805,2,  34.6797,2,  34.8433,2,    165.1,2,    164.1,2,   3.1643,2, -33.6709,  27.6297,20130225,2033
  316N20130213,ACT0213,    39,  1,     12,     12,2,20130225,2252,-33.7265,  27.6552,  1739,     3.2,  26.0903,  35.5272,2,  35.5264,2,  35.6939,2,    205.8,2,    205.8,2,  26.0894,2, -33.7516,  27.6197,20130225,2349
  316N20130213,ACT0213,    39,  1,     11,     11,2,20130225,2252,-33.7265,  27.6552,  1739,    13.1,  26.0985,  35.5271,2,  35.5270,2,  35.6945,2,    205.8,2,    205.6,2,  26.0972,2, -33.7496,  27.6220,20130225,2346
  316N20130213,ACT0213,    39,  1,     10,     10,2,20130225,2252,-33.7265,  27.6552,  1739,    72.5,  20.8240,  35.4451,2,  35.4433,2,  35.6105,2,    169.6,2,    170.6,2,  20.8142,3, -33.7470,  27.6255,20130225,2342
  316N20130213,ACT0213,    39,  1,      9,      9,2,20130225,2252,-33.7265,  27.6552,  1739,   161.0,  16.6125,  35.4940,2,  35.4946,2,  35.6619,2,    183.4,2,    181.6,2,  16.6128,2, -33.7449,  27.6284,20130225,2339
  316N20130213,ACT0213,    39,  1,      8,      8,2,20130225,2252,-33.7265,  27.6552,  1739,   324.7,  12.8286,  35.1934,2,  35.1947,2,  35.3607,2,    213.6,2,    215.1,2,  12.8313,2, -33.7421,  27.6323,20130225,2334
  316N20130213,ACT0213,    39,  1,      7,      7,2,20130225,2252,-33.7265,  27.6552,  1739,   558.3,   9.6189,  34.7628,2,  34.7624,2,  34.9263,2,    211.3,2,    212.4,2,   9.6190,2, -33.7383,  27.6374,20130225,2327
  316N20130213,ACT0213,    39,  1,      6,      6,2,20130225,2252,-33.7265,  27.6552,  1739,   754.1,   6.6722,  34.5101,2,  34.5098,2,  34.6726,2,    192.2,2,    191.4,2,   6.6721,2, -33.7362,  27.6404,20130225,2322
  316N20130213,ACT0213,    39,  1,      5,      5,2,20130225,2252,-33.7265,  27.6552,  1739,   969.1,   4.6871,  34.5883,2,  34.5868,2,  34.7499,2,    148.6,2,    149.7,2,   4.6860,2, -33.7340,  27.6437,20130225,2316
  316N20130213,ACT0213,    39,  1,      4,      4,2,20130225,2252,-33.7265,  27.6552,  1739,  1121.2,   3.9842,  34.6322,2,  34.6312,2,  34.7945,2,    148.0,2,    147.1,2,   3.9832,2, -33.7321,  27.6466,20130225,2311
  316N20130213,ACT0213,    39,  1,      3,      3,2,20130225,2252,-33.7265,  27.6552,  1739,  1279.2,   3.3328,  34.6727,2,  34.6722,2,  34.8357,2,    156.8,2,    157.7,2,   3.3336,2, -33.7307,  27.6491,20130225,2305
  316N20130213,ACT0213,    39,  1,      2,      2,2,20130225,2252,-33.7265,  27.6552,  1739,  1434.7,   3.0046,  34.6993,2,  34.6984,2,  34.8620,2,    169.1,2,    168.8,2,   3.0040,2, -33.7291,  27.6515,20130225,2300
  316N20130213,ACT0213,    39,  1,      1,      1,2,20130225,2252,-33.7265,  27.6552,  1739,  1721.1,   2.7976,  34.7307,2,  34.7307,2,  34.8945,2,    182.7,2,    182.8,2,   2.7970,2, -33.7270,  27.6545,20130225,2253
  316N20130213,ACT0213,    40,  1,     12,     12,2,20130226,0215,-33.8136,  27.6812,  2270,    14.0,  25.9935,  35.4888,2,  35.4893,2,  35.6567,2,    205.6,2,    205.6,2,  25.9935,2, -33.8307,  27.6532,20130226,0309
  316N20130213,ACT0213,    40,  1,     11,     11,2,20130226,0215,-33.8136,  27.6812,  2270,    52.2,  21.9997,  35.4439,2,  35.4431,2,  35.6102,2,    211.4,2,    193.7,3,  22.0070,2, -33.8292,  27.6551,20130226,0306
  316N20130213,ACT0213,    40,  1,     10,     10,2,20130226,0215,-33.8136,  27.6812,  2270,   102.4,  19.6557,  35.4936,2,  35.4956,2,  35.6629,2,    177.0,2,    174.0,2,  19.6209,2, -33.8278,  27.6568,20130226,0304
  316N20130213,ACT0213,    40,  1,      9,      9,2,20130226,0215,-33.8136,  27.6812,  2270,   151.8,  17.2792,  35.5290,3,  35.4956,3,  35.6630,3,    180.5,2,    182.4,2,  17.2830,2, -33.8269,  27.6579,20130226,0302
  316N20130213,ACT0213,    40,  1,      8,      8,2,20130226,0215,-33.8136,  27.6812,  2270,   203.9,  16.4490,  35.5263,2,  35.5253,2,  35.6928,2,    203.3,2,    201.3,2,  16.4512,2, -33.8261,  27.6591,20130226,0300
  316N20130213,ACT0213,    40,  1,      7,      7,2,20130226,0215,-33.8136,  27.6812,  2270,   404.0,  12.5589,  35.1535,2,  35.1526,2,  35.3183,2,    212.8,2,    214.7,2,  12.5579,2, -33.8233,  27.6625,20130226,0256
  316N20130213,ACT0213,    40,  1,      6,      6,2,20130226,0215,-33.8136,  27.6812,  2270,   606.4,   9.9155,  34.8027,2,  34.8035,2,  34.9677,2,    199.1,2,    208.1,3,   9.9161,2, -33.8213,  27.6653,20130226,0252
  316N20130213,ACT0213,    40,  1,      5,      5,2,20130226,0215,-33.8136,  27.6812,  2270,   808.8,   7.0312,  34.5451,3,  34.5590,3,  34.7220,3,    188.0,2,    185.7,2,   7.0595,2, -33.8200,  27.6675,20130226,0247
  316N20130213,ACT0213,    40,  1,      4,      4,2,20130226,0215,-33.8136,  27.6812,  2270,   999.3,   5.2014,  34.5639,2,  34.5624,2,  34.7254,2,    154.5,2,    154.1,2,   5.2010,2, -33.8184,  27.6700,20130226,0243
  316N20130213,ACT0213,    40,  1,      3,      3,2,20130226,0215,-33.8136,  27.6812,  2270,  1462.4,   3.1889,  34.6847,2,  34.6830,2,  34.8466,2,    159.2,2,    161.7,2,   3.1887,2, -33.8165,  27.6742,20130226,0233
  316N20130213,ACT0213,    40,  1,      2,      2,2,20130226,0215,-33.8136,  27.6812,  2270,  1962.0,   2.7166,  34.7512,2,  34.7499,2,  34.9137,2,    190.1,2,    189.6,2,   2.7163,2, -33.8147,  27.6784,20130226,0222
  316N20130213,ACT0213,    40,  1,      1,      1,2,20130226,0215,-33.8136,  27.6812,  2270,  2262.8,   2.5799,  34.7873,2,  34.7867,2,  34.9508,2,    200.9,2,    201.6,2,   2.5798,2, -33.8135,  27.6809,20130226,0216
  316N20130213,ACT0213,    41,  1,     12,     12,2,20130226,0522,-33.9056,  27.7713,  3127,    13.9,  25.7727,  35.5145,2,  35.5132,2,  35.6807,2,    206.1,2,    206.1,2,  25.7730,2, -33.9257,  27.7579,20130226,0641
  316N20130213,ACT0213,    41,  1,     11,     11,2,20130226,0522,-33.9056,  27.7713,  3127,    77.6,  21.2524,  35.5187,3,  35.5014,3,  35.6688,3,    199.4,2,    199.3,2,  21.2432,2, -33.9234,  27.7581,20130226,0637
  316N20130213,ACT0213,    41,  1,     10,     10,2,20130226,0522,-33.9056,  27.7713,  3127,   135.6,  18.0912,  35.5567,2,  35.5550,2,  35.7227,2,    204.3,2,    204.6,2,  18.0673,3, -33.9221,  27.7583,20130226,0634
  316N20130213,ACT0213,    41,  1,      9,      9,2,20130226,0522,-33.9056,  27.7713,  3127,   221.9,  16.6926,  35.5366,2,  35.5373,2,  35.7048,2,    201.3,2,    201.5,2,  16.6807,3, -33.9208,  27.7583,20130226,0631
  316N20130213,ACT0213,    41,  1,      8,      8,2,20130226,0522,-33.9056,  27.7713,  3127,   472.8,  12.2260,  35.1076,2,  35.1076,2,  35.2732,2,    214.9,2,    213.2,2,  12.2295,2, -33.9183,  27.7586,20130226,0626
  316N20130213,ACT0213,    41,  1,      7,      7,2,20130226,0522,-33.9056,  27.7713,  3127,   736.9,   9.3687,  34.7296,2,  34.7291,2,  34.8929,2,    208.2,2,    209.6,2,   9.3695,2, -33.9162,  27.7588,20130226,0620
  316N20130213,ACT0213,    41,  1,      6,      6,2,20130226,0522,-33.9056,  27.7713,  3127,  1006.0,   5.4166,  34.4922,2,  34.4924,2,  34.6550,2,    174.3,2,    175.3,2,   5.4207,2, -33.9126,  27.7596,20130226,0610
  316N20130213,ACT0213,    41,  1,      5,      5,2,20130226,0522,-33.9056,  27.7713,  3127,  1261.2,   4.3200,  34.5910,2,  34.5896,2,  34.7528,2,    151.3,2,    150.5,2,   4.3200,2, -33.9109,  27.7603,20130226,0605
  316N20130213,ACT0213,    41,  1,      4,      4,2,20130226,0522,-33.9056,  27.7713,  3127,  1485.5,   3.6171,  34.6614,2,  34.6608,2,  34.8242,2,    150.7,2,    151.3,2,   3.6168,2, -33.9096,  27.7614,20130226,0559
  316N20130213,ACT0213,    41,  1,      3,      3,2,20130226,0522,-33.9056,  27.7713,  3127,  2039.7,   2.7619,  34.7435,2,  34.7426,2,  34.9064,2,    186.5,2,    185.9,2,   2.7632,2, -33.9079,  27.7641,20130226,0548
  316N20130213,ACT0213,    41,  1,      2,      2,2,20130226,0522,-33.9056,  27.7713,  3127,  2510.6,   2.4617,  34.8078,2,  34.8069,2,  34.9710,2,    210.9,2,    211.0,2,   2.4607,2, -33.9060,  27.7669,20130226,0537
  316N20130213,ACT0213,    41,  1,      1,      1,2,20130226,0522,-33.9056,  27.7713,  3127,  3201.3,   2.1707,  34.8135,2,  34.8152,2,  34.9794,2,    218.5,2,    218.7,2,   2.1713,2, -33.9057,  27.7710,20130226,0523
  316N20130213,ACT0213,    42,  1,     12,     12,2,20130226,0840,-34.0306,  27.8474,  -999,    12.4,  24.4317,  35.5778,2,  35.5771,2,  35.7449,2,    210.4,2,    210.7,2,  24.4318,2, -34.0498,  27.8249,20130226,1004
  316N20130213,ACT0213,    42,  1,     11,     11,2,20130226,0840,-34.0306,  27.8474,  -999,    84.7,  21.1681,  35.5499,2,  35.5506,2,  35.7183,2,    217.3,2,    211.5,2,  21.1483,3, -34.0486,  27.8268,20130226,1000
  316N20130213,ACT0213,    42,  1,     10,     10,2,20130226,0840,-34.0306,  27.8474,  -999,   153.5,  17.9615,  35.5608,2,  35.5603,2,  35.7280,2,    202.0,2,    205.3,2,  17.9325,3, -34.0478,  27.8281,20130226,0958
  316N20130213,ACT0213,    42,  1,      9,      9,2,20130226,0840,-34.0306,  27.8474,  -999,   306.9,  15.8284,  35.4883,2,  35.4885,2,  35.6559,2,    201.6,2,    203.1,2,  15.8274,2, -34.0466,  27.8300,20130226,0954
  316N20130213,ACT0213,    42,  1,      8,      8,2,20130226,0840,-34.0306,  27.8474,  -999,   504.0,  12.8105,  35.1900,2,  35.1903,2,  35.3562,2,    214.3,2,    215.4,2,  12.8082,2, -34.0451,  27.8326,20130226,0950
  316N20130213,ACT0213,    42,  1,      7,      7,2,20130226,0840,-34.0306,  27.8474,  -999,   703.7,  10.3035,  34.8415,2,  34.8459,2,  35.0102,2,    218.7,2,    218.6,2,  10.3165,3, -34.0437,  27.8343,20130226,0945
  316N20130213,ACT0213,    42,  1,      6,      6,2,20130226,0840,-34.0306,  27.8474,  -999,  1029.0,   6.0925,  34.4900,2,  34.4940,2,  34.6566,2,    185.0,2,    184.7,2,   6.0951,2, -34.0416,  27.8366,20130226,0938
  316N20130213,ACT0213,    42,  1,      5,      5,2,20130226,0840,-34.0306,  27.8474,  -999,  1456.3,   3.9445,  34.6210,2,  34.6224,2,  34.7857,2,    148.6,2,    149.4,2,   3.9439,2, -34.0394,  27.8392,20130226,0929
  316N20130213,ACT0213,    42,  1,      4,      4,2,20130226,0840,-34.0306,  27.8474,  -999,  1972.3,   2.8414,  34.7239,2,  34.7249,2,  34.8886,2,    178.1,2,    177.4,2,   2.8411,2, -34.0365,  27.8416,20130226,0919
  316N20130213,ACT0213,    42,  1,      3,      3,2,20130226,0840,-34.0306,  27.8474,  -999,  2536.2,   2.4834,  34.8133,2,  34.8136,2,  34.9777,2,    212.9,2,    213.1,2,   2.4833,2, -34.0317,  27.8452,20130226,0901
  316N20130213,ACT0213,    42,  1,      2,      2,2,20130226,0840,-34.0306,  27.8474,  -999,  3041.9,   2.3077,  34.8195,2,  34.8199,2,  34.9841,2,    218.4,2,    218.5,2,   2.3078,2, -34.0313,  27.8463,20130226,0851
  316N20130213,ACT0213,    42,  1,      1,      1,2,20130226,0840,-34.0306,  27.8474,  -999,  3629.0,   1.5024,  34.7663,2,  34.7677,2,  34.9316,2,    216.3,2,    216.4,2,   1.5014,2, -34.0306,  27.8475,20130226,0839