BOTTLE,20211025CCHSIORKP
EXPOCODE,SECT_ID,STNNBR,CASTNO,SAMPNO,BTLNBR,BTLNBR_FLAG_W,DATE,TIME,LATITUDE,LONGITUDE,DEPTH,CTDPRS,CTDTMP,CTDSAL,CTDSAL_FLAG_W,SALNTY,SALNTY_FLAG_W,OXYGEN,OXYGEN_FLAG_W,SILCAT,SILCAT_FLAG_W,NITRAT,NITRAT_FLAG_W,NITRIT,NITRIT_FLAG_W,PHSPHT,PHSPHT_FLAG_W,CFC-11,CFC-11_FLAG_W,CFC-12,CFC-12_FLAG_W,SF6,SF6_FLAG_W,TCARBN,TCARBN_FLAG_W,ALKALI,ALKALI_FLAG_W,THETA
,,,,,,,,,,,METERS,DBAR,ITS-90,PSS-78,,PSS-78,,UMOL/KG,,UMOL/KG,,UMOL/KG,,UMOL/KG,,UMOL/KG,,PMOL/KG,,PMOL/KG,,FMOL/KG,,UMOL/KG,,UMOL/KG,,DEG C
06MT20060606,      EqAtl,       9,          1,       9001,          1,2,20060608,       0000,    -2.3327,   -34.9998,       3925,  1312.7,   4.5065,  34.9276,2,  34.9298,2,   210.7,6,   18.52,6,   24.00,6,    0.00,6,    1.63,6,   0.175,2,   0.108,2, -999.00,9,  -999.0,9,  -999.0,9,   4.3982
06MT20060606,      EqAtl,       9,          1,       9002,          2,2,20060608,       0000,    -2.3327,   -34.9998,       3925,  1097.1,   4.5681,  34.7136,2,-999.0000,9,   166.8,2,   26.04,2,   31.31,2,    0.00,2,    2.13,2,   0.064,6,   0.042,6, -999.00,9,  -999.0,9,  -999.0,9,   4.4791
06MT20060606,      EqAtl,       9,          1,       9003,          3,2,20060608,       0000,    -2.3327,   -34.9998,       3925,   898.0,   4.5666,  34.5606,2,  34.5628,2,   156.4,2,   28.88,2,   34.24,2,    0.00,2,    2.34,2,   0.132,2,   0.070,2, -999.00,9,  -999.0,9,  -999.0,9,   4.4953
06MT20060606,      EqAtl,       9,          1,       9004,          4,2,20060608,       0000,    -2.3327,   -34.9998,       3925,   696.4,   4.7950,  34.4712,2,  34.4716,2,   163.5,2,   27.26,2,   34.09,2,    0.00,2,    2.32,2,   0.518,2,   0.265,2, -999.00,9,  -999.0,9,  -999.0,9,   4.7396
06MT20060606,      EqAtl,       9,          1,       9005,          5,2,20060608,       0000,    -2.3327,   -34.9998,       3925,   498.2,   7.1192,  34.6093,2,-999.0000,9,   124.7,2,   17.89,2,   33.28,2,    0.00,2,    2.19,2,   0.918,2,   0.453,2, -999.00,9,  -999.0,9,  -999.0,9,   7.0714
06MT20060606,      EqAtl,       9,          1,       9006,          6,2,20060608,       0000,    -2.3327,   -34.9998,       3925,   298.4,  11.7950,  35.1165,2,-999.0000,9,   120.1,2,    8.62,2,   23.36,2,    0.00,2,    1.55,2,   1.839,2,   0.976,2, -999.00,9,  -999.0,9,  -999.0,9,  11.7563
06MT20060606,      EqAtl,       9,          1,       9007,          7,2,20060608,       0000,    -2.3327,   -34.9998,       3925,   252.0,  12.3897,  35.1927,2,-999.0000,9,   119.7,2,    7.87,2,   22.47,2,    0.00,2,    1.49,2,   1.901,2,   1.033,2, -999.00,9,  -999.0,9,  -999.0,9,  12.3560
06MT20060606,      EqAtl,       9,          1,       9008,          8,2,20060608,       0000,    -2.3327,   -34.9998,       3925,   202.7,  12.8799,  35.2603,2,-999.0000,9,   127.9,2,    6.96,2,   20.48,2,    0.01,2,    1.38,2,   2.090,2,   1.107,2, -999.00,9,  -999.0,9,  -999.0,9,  12.8521
06MT20060606,      EqAtl,       9,          1,       9009,          9,2,20060608,       0000,    -2.3327,   -34.9998,       3925,   120.1,  14.8077,  35.5130,2,-999.0000,9,   117.1,2,    5.47,2,   18.65,2,    0.04,2,    1.25,2,   2.045,2,   1.155,2, -999.00,9,  -999.0,9,  -999.0,9,  14.7896
06MT20060606,      EqAtl,       9,          1,       9010,         10,2,20060608,       0000,    -2.3327,   -34.9998,       3925,   102.0,  17.6898,  35.8675,2,-999.0000,9,   133.2,2,    3.41,2,   12.60,2,    0.14,2,    0.90,2,   2.066,2,   1.206,2, -999.00,9,  -999.0,9,  -999.0,9,  17.6724
06MT20060606,      EqAtl,       9,          1,       9011,         11,2,20060608,       0000,    -2.3327,   -34.9998,       3925,   101.6,  17.6617,  35.8640,2,-999.0000,9,  -999.0,9, -999.00,9, -999.00,9, -999.00,9, -999.00,9,-999.000,9,-999.000,9, -999.00,9,  -999.0,9,  -999.0,9,  17.6444
06MT20060606,      EqAtl,       9,          1,       9012,         12,2,20060608,       0000,    -2.3327,   -34.9998,       3925,    80.8,  21.5266,  36.1381,2,-999.0000,9,   157.3,2,    1.78,2,    4.01,2,    0.34,2,    0.45,2,   1.907,2,   1.166,2, -999.00,9,  -999.0,9,  -999.0,9,  21.5108
06MT20060606,      EqAtl,       9,          1,       9013,         13,2,20060608,       0000,    -2.3327,   -34.9998,       3925,    79.9,  21.3704,  36.1442,2,-999.0000,9,  -999.0,9, -999.00,9, -999.00,9, -999.00,9, -999.00,9,-999.000,9,-999.000,9, -999.00,9,  -999.0,9,  -999.0,9,  21.3548
06MT20060606,      EqAtl,       9,          1,       9014,         14,2,20060608,       0000,    -2.3327,   -34.9998,       3925,    62.9,  27.5535,  36.2886,2,-999.0000,9,   203.4,2,    0.45,2,    0.00,2,    0.01,2,    0.01,2,   1.642,6,   1.039,6, -999.00,9,  -999.0,9,  -999.0,9,  27.5388
06MT20060606,      EqAtl,       9,          1,       9015,         15,2,20060608,       0000,    -2.3327,   -34.9998,       3925,    61.8,  27.7255,  36.2170,2,-999.0000,9,  -999.0,9, -999.00,9, -999.00,9, -999.00,9, -999.00,9,-999.000,9,-999.000,9, -999.00,9,  -999.0,9,  -999.0,9,  27.7110
06MT20060606,      EqAtl,       9,          1,       9016,         16,2,20060608,       0000,    -2.3327,   -34.9998,       3925,    41.5,  28.2133,  36.1714,2,-999.0000,9,   198.2,2,    0.66,2,    0.02,2,    0.01,2,    0.01,2,   1.735,2,   0.988,2, -999.00,9,  -999.0,9,  -999.0,9,  28.2034
06MT20060606,      EqAtl,       9,          1,       9017,         17,2,20060608,       0000,    -2.3327,   -34.9998,       3925,    42.0,  28.2126,  36.1719,2,-999.0000,9,  -999.0,9, -999.00,9, -999.00,9, -999.00,9, -999.00,9,-999.000,9,-999.000,9, -999.00,9,  -999.0,9,  -999.0,9,  28.2026
06MT20060606,      EqAtl,       9,          1,       9018,         18,2,20060608,       0000,    -2.3327,   -34.9998,       3925,    21.2,  28.2129,  36.1667,2,-999.0000,9,   198.0,2,    0.61,2,    0.03,2,    0.01,2,    0.00,2,   1.737,2,   0.983,2, -999.00,9,  -999.0,9,  -999.0,9,  28.2079
06MT20060606,      EqAtl,       9,          1,       9019,         19,2,20060608,       0000,    -2.3327,   -34.9998,       3925,    21.9,  28.2173,  36.1680,2,-999.0000,9,  -999.0,9, -999.00,9, -999.00,9, -999.00,9, -999.00,9,-999.000,9,-999.000,9, -999.00,9,  -999.0,9,  -999.0,9,  28.2121
06MT20060606,      EqAtl,       9,          1,       9020,         20,2,20060608,       0000,    -2.3327,   -34.9998,       3925,    11.4,  28.2154,  36.1684,2,  36.1650,2,   198.2,6,    0.31,6,    0.04,6,    0.00,6,    0.00,6,   1.597,2,   1.013,2, -999.00,9,  -999.0,9,  -999.0,9,  28.2127
06MT20060606,      EqAtl,       9,          1,       9021,         21,2,20060608,       0000,    -2.3327,   -34.9998,       3925,    11.2,  28.2153,  36.1687,2,-999.0000,9,  -999.0,9, -999.00,9, -999.00,9, -999.00,9, -999.00,9,-999.000,9,-999.000,9, -999.00,9,  -999.0,9,  -999.0,9,  28.2126
06MT20060606,      EqAtl,      10,          1,      10015,         15,2,20060608,       0000,    -2.0007,   -35.0002,       3933,   901.3,   4.5028,  34.5775,2,-999.0000,9,  -999.0,9, -999.00,9, -999.00,9, -999.00,9, -999.00,9,-999.000,9,-999.000,9, -999.00,9,  -999.0,9,  -999.0,9,   4.4317
06MT20060606,      EqAtl,      10,          1,      10016,         16,2,20060608,       0000,    -2.0007,   -35.0002,       3933,   895.6,   4.4830,  34.5677,2,-999.0000,9,  -999.0,9, -999.00,9, -999.00,9, -999.00,9, -999.00,9,-999.000,9,-999.000,9, -999.00,9,  -999.0,9,  -999.0,9,   4.4125
06MT20060606,      EqAtl,      11,          1,      11001,          1,2,20060608,       0000,    -1.6675,   -34.9980,       4325,  1278.0,   4.5740,  34.8776,2,  34.8800,2,   195.4,6,   20.85,6,   26.11,6,    0.00,6,    1.80,6,   0.122,2,   0.068,2, -999.00,9,  2195.3,2,  2307.1,6,   4.4683
06MT20060606,      EqAtl,      11,          1,      11002,          2,2,20060608,       0000,    -1.6675,   -34.9980,       4325,  1207.8,   4.6216,  34.8078,2,-999.0000,9,   178.2,2,   23.08,2,   28.57,2,    0.00,2,    1.98,2,   0.089,2,   0.039,2, -999.00,9,  -999.0,9,  -999.0,9,   4.5220
06MT20060606,      EqAtl,      11,          1,      11003,          3,2,20060608,       0000,    -1.6675,   -34.9980,       4325,  1107.9,   4.6144,  34.7604,2,-999.0000,9,   170.9,2,   24.40,2,   30.42,2,    0.01,2,    2.07,2,   0.069,2,   0.044,2, -999.00,9,  2210.0,2,  2302.8,2,   4.5240
06MT20060606,      EqAtl,      11,          1,      11004,          4,2,20060608,       0000,    -1.6675,   -34.9980,       4325,   907.0,   4.5766,  34.5876,2,  34.5863,2,   154.5,2,   28.21,2,   34.26,2,    0.00,2,    2.35,2,   0.086,2,   0.048,2, -999.00,9,  2220.0,2,  2299.0,2,   4.5044
06MT20060606,      EqAtl,      11,          1,      11005,          5,2,20060608,       0000,    -1.6675,   -34.9980,       4325,   701.6,   4.6806,  34.4476,2,-999.0000,9,   171.9,2,   27.17,2,   33.51,2,    0.00,2,    2.30,2,   0.732,6,   0.337,6, -999.00,9,  2209.2,2,  2293.0,2,   4.6255
06MT20060606,      EqAtl,      11,          1,      11006,          6,2,20060608,       0000,    -1.6675,   -34.9980,       4325,   499.5,   7.0812,  34.5905,2,  34.5912,2,   149.3,3,   16.58,2,   30.84,2,    0.00,2,    2.05,2,   1.274,2,   0.641,2, -999.00,9,  2198.6,2,  2290.1,2,   7.0334
06MT20060606,      EqAtl,      11,          1,      11007,          7,2,20060608,       0000,    -1.6675,   -34.9980,       4325,   298.8,  11.4939,  35.0813,2,-999.0000,9,   100.0,2,    9.33,2,   26.45,2,    0.00,2,    1.70,2,   1.599,2,   0.854,2, -999.00,9,  2200.2,2,  2302.0,2,  11.4558
06MT20060606,      EqAtl,      11,          1,      11008,          8,2,20060608,       0000,    -1.6675,   -34.9980,       4325,   249.0,  12.3068,  35.1858,2,-999.0000,9,   102.2,2,    8.28,2,   24.54,2,    0.01,2,    1.61,2,   1.785,2,   0.940,2, -999.00,9,  2196.5,2,  2306.9,2,  12.2736
06MT20060606,      EqAtl,      11,          1,      11009,          9,2,20060608,       0000,    -1.6675,   -34.9980,       4325,   201.8,  13.0339,  35.2811,2,  35.2804,2,   133.1,2,    6.56,2,   19.38,2,    0.00,2,    1.30,2,   2.076,2,   1.130,2, -999.00,9,  2171.9,2,  2314.5,2,  13.0060
06MT20060606,      EqAtl,      11,          1,      11010,         10,2,20060608,       0000,    -1.6675,   -34.9980,       4325,   118.2,  14.6410,  35.5043,2,-999.0000,9,   164.5,2,    4.37,2,   13.16,2,    0.02,2,    0.94,2,   2.339,2,   1.331,2, -999.00,9,  2146.6,2,  2327.7,2,  14.6234
06MT20060606,      EqAtl,      11,          1,      11011,         11,2,20060608,       0000,    -1.6675,   -34.9980,       4325,   100.7,  17.4501,  35.9169,2,-999.0000,9,  -999.0,9, -999.00,9, -999.00,9, -999.00,9, -999.00,9,-999.000,9,-999.000,9, -999.00,9,  2147.7,2,  2346.6,2,  17.4331
06MT20060606,      EqAtl,      11,          1,      11012,         12,2,20060608,       0000,    -1.6675,   -34.9980,       4325,   104.1,  17.0800,  35.8770,2,-999.0000,9,   153.9,2,    2.81,2,   10.20,2,    0.04,2,    0.74,2,   2.213,6,   1.264,6, -999.00,9,  -999.0,9,  -999.0,9,  17.0627
06MT20060606,      EqAtl,      11,          1,      11013,         13,2,20060608,       0000,    -1.6675,   -34.9980,       4325,    76.8,  24.5789,  36.3893,2,-999.0000,9,  -999.0,9, -999.00,9, -999.00,9, -999.00,9, -999.00,9,   1.772,2,   1.086,2, -999.00,9,  2082.7,2,  2379.5,2,  24.5624
06MT20060606,      EqAtl,      11,          1,      11014,         14,2,20060608,       0000,    -1.6675,   -34.9980,       4325,    57.4,  27.0046,  36.2752,2,-999.0000,9,   201.1,2,    0.53,2,    0.00,2,    0.01,2,    0.02,2,   1.714,2,   1.075,2, -999.00,9,  2044.4,2,  2370.6,2,  26.9914
06MT20060606,      EqAtl,      11,          1,      11015,         15,2,20060608,       0000,    -1.6675,   -34.9980,       4325,    55.1,  27.0189,  36.2673,2,-999.0000,9,  -999.0,9, -999.00,9, -999.00,9, -999.00,9, -999.00,9,-999.000,9,-999.000,9, -999.00,9,  -999.0,9,  -999.0,9,  27.0062
06MT20060606,      EqAtl,      11,          1,      11016,         16,2,20060608,       0000,    -1.6675,   -34.9980,       4325,    38.6,  27.6624,  36.2172,2,-999.0000,9,   200.8,2,    0.54,2,    0.00,2,    0.01,2,    0.01,2,   2.054,2,   1.038,2, -999.00,9,  2032.6,2,  2366.8,2,  27.6534
06MT20060606,      EqAtl,      11,          1,      11017,         17,2,20060608,       0000,    -1.6675,   -34.9980,       4325,    39.8,  27.6329,  36.2221,2,-999.0000,9,  -999.0,9, -999.00,9, -999.00,9, -999.00,9, -999.00,9,-999.000,9,-999.000,9, -999.00,9,  -999.0,9,  -999.0,9,  27.6236
06MT20060606,      EqAtl,      11,          1,      11018,         18,2,20060608,       0000,    -1.6675,   -34.9980,       4325,    21.7,  27.9078,  36.2114,2,-999.0000,9,   201.2,2,    0.50,2,    0.02,2,    0.01,2,    0.00,2,   1.701,2,   0.992,2, -999.00,9,  2026.3,2,  2366.2,2,  27.9027
06MT20060606,      EqAtl,      11,          1,      11019,         19,2,20060608,       0000,    -1.6675,   -34.9980,       4325,    21.6,  27.9083,  36.2118,2,-999.0000,9,  -999.0,9, -999.00,9, -999.00,9, -999.00,9, -999.00,9,-999.000,9,-999.000,9, -999.00,9,  -999.0,9,  -999.0,9,  27.9032
06MT20060606,      EqAtl,      11,          1,      11020,         20,2,20060608,       0000,    -1.6675,   -34.9980,       4325,    12.4,  27.9132,  36.2116,2,-999.0000,9,   202.8,6,    0.45,6,    0.03,6,    0.00,6,    0.00,6,   1.629,2,   0.976,2, -999.00,9,  2026.1,6,  2366.6,2,  27.9103
06MT20060606,      EqAtl,      11,          1,      11021,         21,2,20060608,       0000,    -1.6675,   -34.9980,       4325,     7.2,  28.0344,  36.2125,2,-999.0000,9,  -999.0,9, -999.00,9, -999.00,9, -999.00,9, -999.00,9,-999.000,9,-999.000,9, -999.00,9,  -999.0,9,  -999.0,9,  28.0327
06MT20060606,      EqAtl,      12,          1,      12001,          1,2,20060608,       0000,    -1.3352,   -34.9987,       4376,    68.4,  23.0209,  36.3226,2,-999.0000,9,  -999.0,9, -999.00,9, -999.00,9, -999.00,9, -999.00,9,-999.000,9,-999.000,9, -999.00,9,  -999.0,9,  -999.0,9,  23.0069
06MT20060606,      EqAtl,      12,          1,      12002,          2,2,20060608,       0000,    -1.3352,   -34.9987,       4376,    61.3,  25.4075,  36.2755,2,-999.0000,9,  -999.0,9, -999.00,9, -999.00,9, -999.00,9, -999.00,9,-999.000,9,-999.000,9, -999.00,9,  -999.0,9,  -999.0,9,  25.3940
06MT20060606,      EqAtl,      12,          1,      12003,          3,2,20060608,       0000,    -1.3352,   -34.9987,       4376,    50.3,  26.8614,  36.3411,2,-999.0000,9,  -999.0,9, -999.00,9, -999.00,9, -999.00,9, -999.00,9,-999.000,9,-999.000,9, -999.00,9,  -999.0,9,  -999.0,9,  26.8499