BOTTLE,20211025CCHSIORKP
EXPOCODE,SECT_ID,STNNBR,CASTNO,SAMPNO,BTLNBR,BTLNBR_FLAG_W,DATE,TIME,LATITUDE,LONGITUDE,DEPTH,CTDPRS,CTDTMP,CTDSAL,CTDSAL_FLAG_W,SALNTY,SALNTY_FLAG_W,OXYGEN,OXYGEN_FLAG_W,SILCAT,SILCAT_FLAG_W,NITRAT,NITRAT_FLAG_W,NITRIT,NITRIT_FLAG_W,PHSPHT,PHSPHT_FLAG_W,CFC-11,CFC-11_FLAG_W,CFC-12,CFC-12_FLAG_W,SF6,SF6_FLAG_W,TCARBN,TCARBN_FLAG_W,ALKALI,ALKALI_FLAG_W,THETA
,,,,,,,,,,,METERS,DBAR,ITS-90,PSS-78,,PSS-78,,UMOL/KG,,UMOL/KG,,UMOL/KG,,UMOL/KG,,UMOL/KG,,PMOL/KG,,PMOL/KG,,FMOL/KG,,UMOL/KG,,UMOL/KG,,DEG C
06MT20060606,      EqAtl,     106,          1,     106001,          1,2,20060706,       0000,    12.0013,   -23.0013,       4823,  1313.4,   4.8638,  34.9406,2,  34.9374,2,   171.1,6,   21.63,6,   27.29,6,    0.00,6,    1.90,6,   0.005,2,   0.007,2, -999.00,9,  2204.5,6,  2310.1,6,   4.7518
06MT20060606,      EqAtl,     106,          1,     106002,          2,2,20060706,       0000,    12.0013,   -23.0013,       4823,  1098.9,   5.4494,  34.8547,2,-999.0000,9,   134.1,2,   23.58,2,   31.98,2,    0.00,2,    2.20,2,   0.008,2,   0.006,2, -999.00,9,  2223.8,2,  2306.2,2,   5.3527
06MT20060606,      EqAtl,     106,          1,     106003,          3,2,20060706,       0000,    12.0013,   -23.0013,       4823,   897.8,   5.9389,  34.7885,2,  34.7913,2,   107.8,2,   23.99,2,   35.40,2,    0.00,2,    2.39,2,   0.012,6,   0.007,6, -999.00,9,  2234.8,2,  2302.9,2,   5.8580
06MT20060606,      EqAtl,     106,          1,     106004,          4,2,20060706,       0000,    12.0013,   -23.0013,       4823,   694.4,   7.3757,  34.8819,2,-999.0000,9,    73.6,2,   20.02,2,   37.06,2,    0.00,2,    2.41,2,   0.085,2,   0.050,2, -999.00,9,  2244.2,2,  2299.0,2,   7.3065
06MT20060606,      EqAtl,     106,          1,     106005,          5,2,20060706,       0000,    12.0013,   -23.0013,       4823,   598.8,   8.2602,  34.9562,2,-999.0000,9,    56.1,2,   18.18,2,   37.37,2,    0.00,2,    2.40,2,   0.180,2,   0.091,2, -999.00,9,  2249.0,2,  2300.6,2,   8.1969
06MT20060606,      EqAtl,     106,          1,     106006,          6,2,20060706,       0000,    12.0013,   -23.0013,       4823,   497.9,   9.2340,  35.0439,2,  35.0443,2,    45.9,2,   15.74,2,   36.71,2,    0.00,2,    2.29,2,   0.338,2,   0.185,2, -999.00,9,  2248.8,2,  2305.9,2,   9.1781
06MT20060606,      EqAtl,     106,          1,     106007,          7,2,20060706,       0000,    12.0013,   -23.0013,       4823,   448.6,   9.8377,  35.1115,2,-999.0000,9,    41.9,2,   14.32,2,   36.03,2,    0.00,2,    2.21,2,   0.439,2,   0.248,2, -999.00,9,  2248.6,2,  2301.8,2,   9.7854
06MT20060606,      EqAtl,     106,          1,     106008,          8,2,20060706,       0000,    12.0013,   -23.0013,       4823,   398.3,  10.5595,  35.1903,2,-999.0000,9,    41.4,2,   13.16,2,   34.84,2,    0.00,2,    2.11,2,   0.685,2,   0.357,2, -999.00,9,  2246.0,2,  2311.0,2,  10.5111
06MT20060606,      EqAtl,     106,          1,     106009,          9,2,20060706,       0000,    12.0013,   -23.0013,       4823,   348.4,  11.2012,  35.2565,2,-999.0000,9,    44.3,2,   11.36,2,   32.99,2,    0.00,2,    2.00,2,   0.908,6,   0.494,6, -999.00,9,  2240.3,2,  2309.1,2,  11.1573
06MT20060606,      EqAtl,     106,          1,     106010,         10,2,20060706,       0000,    12.0013,   -23.0013,       4823,   300.4,  11.8356,  35.3079,2,-999.0000,9,    55.2,2,   10.11,2,   30.28,2,    0.00,2,    1.88,2,   1.176,2,   0.641,2, -999.00,9,  2230.3,2,  2309.7,2,  11.7965
06MT20060606,      EqAtl,     106,          1,     106011,         11,2,20060706,       0000,    12.0013,   -23.0013,       4823,   270.6,  12.0230,  35.2876,2,-999.0000,9,    64.2,6,    9.35,6,   28.46,6,    0.00,6,    1.80,6,   1.325,2,   0.713,2, -999.00,9,  2223.7,2,  2309.7,2,  11.9874
06MT20060606,      EqAtl,     106,          1,     106012,         12,2,20060706,       0000,    12.0013,   -23.0013,       4823,   240.0,  12.0167,  35.2277,2,-999.0000,9,    77.3,2,    9.20,2,   27.36,2,    0.00,2,    1.77,2,   1.429,2,   0.775,2, -999.00,9,  2214.8,2,  2308.2,2,  11.9852
06MT20060606,      EqAtl,     106,          1,     106013,         13,2,20060706,       0000,    12.0013,   -23.0013,       4823,   201.3,  12.3447,  35.2409,2,-999.0000,9,    87.3,2,    8.58,2,   25.75,2,    0.00,2,    1.68,2,   1.627,2,   0.885,2, -999.00,9,  2205.4,2,  2310.3,2,  12.3179
06MT20060606,      EqAtl,     106,          1,     106014,         14,2,20060706,       0000,    12.0013,   -23.0013,       4823,   160.7,  12.9543,  35.3077,2,-999.0000,9,    85.4,2,    7.80,2,   25.16,2,    0.01,2,    1.64,2,   1.700,2,   0.928,2, -999.00,9,  2204.3,2,  2310.3,2,  12.9322
06MT20060606,      EqAtl,     106,          1,     106015,         15,2,20060706,       0000,    12.0013,   -23.0013,       4823,   120.7,  13.4235,  35.3633,2,-999.0000,9,    84.1,2,    7.25,2,   24.54,2,    0.01,2,    1.60,2,   1.794,6,   0.962,6, -999.00,9,  2203.2,2,  2314.5,2,  13.4065
06MT20060606,      EqAtl,     106,          1,     106016,         16,2,20060706,       0000,    12.0013,   -23.0013,       4823,   100.3,  13.9289,  35.4206,2,-999.0000,9,    80.0,2,    6.72,2,   24.36,2,    0.01,2,    1.57,2,   1.777,3,   1.090,3, -999.00,9,  2204.3,2,  2315.2,2,  13.9144
06MT20060606,      EqAtl,     106,          1,     106017,         17,2,20060706,       0000,    12.0013,   -23.0013,       4823,    80.9,  14.5981,  35.4939,2,-999.0000,9,    66.3,2,    6.01,2,   24.62,2,    0.05,2,    1.55,2,   1.818,2,   0.998,2, -999.00,9,  2211.7,2,  2319.7,2,  14.5861
06MT20060606,      EqAtl,     106,          1,     106018,         18,2,20060706,       0000,    12.0013,   -23.0013,       4823,    62.0,  16.8343,  35.7384,2,-999.0000,9,    67.0,2,    4.35,2,   21.47,2,    0.20,2,    1.29,2,   1.907,2,   1.045,2, -999.00,9,  2206.7,2,  2328.8,2,  16.8241
06MT20060606,      EqAtl,     106,          1,     106019,         19,2,20060706,       0000,    12.0013,   -23.0013,       4823,    41.9,  23.0658,  36.2392,2,-999.0000,9,   215.6,2,    0.18,2,    0.36,2,    0.01,2,    0.08,2,   1.978,2,   1.183,2, -999.00,9,  2064.3,2,  2364.0,2,  23.0572
06MT20060606,      EqAtl,     106,          1,     106020,         20,2,20060706,       0000,    12.0013,   -23.0013,       4823,    21.7,  26.0390,  36.2090,2,-999.0000,9,   209.1,2,    0.00,2,    0.04,2,    0.00,2,    0.06,2,   1.838,2,   0.975,2, -999.00,9,  2048.7,2,  2369.4,2,  26.0341
06MT20060606,      EqAtl,     106,          1,     106021,         21,2,20060706,       0000,    12.0013,   -23.0013,       4823,    11.5,  26.2702,  36.2281,2,  36.2295,2,   206.5,2,    0.40,2,    0.11,2,    0.00,2,    0.07,2,   1.755,2,   1.082,2, -999.00,9,  2048.8,6,  2368.3,6,  26.2676
06MT20060606,      EqAtl,     107,          1,     107001,          1,2,20060706,       0000,    12.4912,   -22.9977,       4811,  1308.9,   4.8169,  34.9586,2,-999.0000,9,  -999.0,9, -999.00,9, -999.00,9, -999.00,9, -999.00,9,-999.000,9,-999.000,9, -999.00,9,  -999.0,9,  -999.0,9,   4.7058
06MT20060606,      EqAtl,     107,          1,     107002,          2,2,20060706,       0000,    12.4912,   -22.9977,       4811,  1308.6,   4.8171,  34.9588,2,-999.0000,9,  -999.0,9, -999.00,9, -999.00,9, -999.00,9, -999.00,9,-999.000,9,-999.000,9, -999.00,9,  -999.0,9,  -999.0,9,   4.7060
06MT20060606,      EqAtl,     107,          1,     107003,          3,2,20060706,       0000,    12.4912,   -22.9977,       4811,   101.1,  15.9968,  35.6796,2,-999.0000,9,  -999.0,9, -999.00,9, -999.00,9, -999.00,9, -999.00,9,-999.000,9,-999.000,9, -999.00,9,  -999.0,9,  -999.0,9,  15.9808
06MT20060606,      EqAtl,     107,          1,     107004,          4,2,20060706,       0000,    12.4912,   -22.9977,       4811,    80.7,  19.1057,  35.9459,2,-999.0000,9,  -999.0,9, -999.00,9, -999.00,9, -999.00,9, -999.00,9,-999.000,9,-999.000,9, -999.00,9,  -999.0,9,  -999.0,9,  19.0912
06MT20060606,      EqAtl,     107,          1,     107005,          5,2,20060706,       0000,    12.4912,   -22.9977,       4811,    60.3,  22.8173,  36.1350,2,-999.0000,9,  -999.0,9, -999.00,9, -999.00,9, -999.00,9, -999.00,9,-999.000,9,-999.000,9, -999.00,9,  -999.0,9,  -999.0,9,  22.8050
06MT20060606,      EqAtl,     107,          1,     107006,          6,2,20060706,       0000,    12.4912,   -22.9977,       4811,    40.2,  25.1610,  36.1894,2,-999.0000,9,  -999.0,9, -999.00,9, -999.00,9, -999.00,9, -999.00,9,-999.000,9,-999.000,9, -999.00,9,  -999.0,9,  -999.0,9,  25.1522
06MT20060606,      EqAtl,     107,          1,     107007,          7,2,20060706,       0000,    12.4912,   -22.9977,       4811,    20.3,  25.4276,  36.1995,2,-999.0000,9,  -999.0,9, -999.00,9, -999.00,9, -999.00,9, -999.00,9,-999.000,9,-999.000,9, -999.00,9,  -999.0,9,  -999.0,9,  25.4231
06MT20060606,      EqAtl,     107,          1,     107008,          8,2,20060706,       0000,    12.4912,   -22.9977,       4811,    10.4,  25.5537,  36.2088,2,-999.0000,9,  -999.0,9, -999.00,9, -999.00,9, -999.00,9, -999.00,9,-999.000,9,-999.000,9, -999.00,9,  -999.0,9,  -999.0,9,  25.5514
06MT20060606,      EqAtl,     108,          1,     108001,          1,2,20060706,       0000,    12.9993,   -23.0008,       4597,  1301.5,   4.9719,  34.9696,2,  34.9697,2,   170.0,6,   21.70,6,   28.08,6,    0.01,6,    1.85,6,   0.009,2,   0.011,2, -999.00,9,  2204.7,6,  2311.6,6,   4.8599
06MT20060606,      EqAtl,     108,          1,     108002,          2,2,20060706,       0000,    12.9993,   -23.0008,       4597,  1098.3,   5.6789,  34.9255,2,-999.0000,9,   138.6,2,   22.44,2,   31.80,2,    0.01,2,    2.10,2,   0.012,2,   0.013,2, -999.00,9,  2218.4,2,  2311.5,2,   5.5803
06MT20060606,      EqAtl,     108,          1,     108003,          3,2,20060706,       0000,    12.9993,   -23.0008,       4597,   897.9,   6.4996,  34.8889,2,  34.8898,2,   108.3,2,   21.96,2,   35.04,2,    0.01,2,    2.29,2,   0.040,2,   0.021,2, -999.00,9,  2228.9,2,  2302.5,2,   6.4147
06MT20060606,      EqAtl,     108,          1,     108004,          4,2,20060706,       0000,    12.9993,   -23.0008,       4597,   697.0,   7.9621,  34.9757,2,-999.0000,9,    74.5,2,   18.62,2,   36.61,2,    0.01,2,    2.32,2,   0.150,6,   0.091,6, -999.00,9,  2239.4,2,  2303.4,2,   7.8895
06MT20060606,      EqAtl,     108,          1,     108005,          5,2,20060706,       0000,    12.9993,   -23.0008,       4597,   598.4,   8.6655,  34.9995,2,-999.0000,9,    53.3,2,   17.48,2,   37.32,2,    0.01,2,    2.35,2,   0.241,2,   0.120,2, -999.00,9,  2247.1,2,  2301.3,2,   8.6004
06MT20060606,      EqAtl,     108,          1,     108006,          6,2,20060706,       0000,    12.9993,   -23.0008,       4597,   500.0,   9.5361,  35.0698,2,  35.0691,2,    43.1,2,   15.04,2,   36.35,2,    0.01,2,    2.25,2,   0.396,2,   0.219,2, -999.00,9,  2248.1,2,  2301.3,2,   9.4788
06MT20060606,      EqAtl,     108,          1,     108007,          7,2,20060706,       0000,    12.9993,   -23.0008,       4597,   450.3,  10.6464,  35.2294,2,-999.0000,9,    47.8,2,   12.43,2,   33.83,2,    0.01,2,    2.04,2,   0.668,2,   0.361,2, -999.00,9,  2239.9,2,  2308.1,2,  10.5912
06MT20060606,      EqAtl,     108,          1,     108008,          8,2,20060706,       0000,    12.9993,   -23.0008,       4597,   400.1,  11.2199,  35.2627,2,-999.0000,9,    49.7,2,   10.92,2,   32.48,2,    0.01,2,    1.95,2,   0.958,2,   0.501,2, -999.00,9,  2235.8,2,  2310.1,2,  11.1693
06MT20060606,      EqAtl,     108,          1,     108009,          9,2,20060706,       0000,    12.9993,   -23.0008,       4597,   349.9,  11.5109,  35.2357,2,-999.0000,9,    62.1,2,   10.47,2,   30.51,2,    0.01,2,    1.86,2,   1.162,2,   0.630,2, -999.00,9,  2224.7,2,  2308.6,2,  11.4661
06MT20060606,      EqAtl,     108,          1,     108010,         10,2,20060706,       0000,    12.9993,   -23.0008,       4597,   299.1,  11.6436,  35.1985,2,-999.0000,9,    72.7,2,    9.86,2,   28.97,2,    0.01,2,    1.82,2,   1.338,2,   0.719,2, -999.00,9,  2217.5,2,  2306.9,2,  11.6051
06MT20060606,      EqAtl,     108,          1,     108011,         11,2,20060706,       0000,    12.9993,   -23.0008,       4597,   270.2,  12.0209,  35.2294,2,-999.0000,9,    78.3,6,    9.32,6,   27.46,6,    0.01,6,    1.75,6,   1.447,2,   0.778,2, -999.00,9,  2212.6,2,  2307.8,2,  11.9854
06MT20060606,      EqAtl,     108,          1,     108012,         12,2,20060706,       0000,    12.9993,   -23.0008,       4597,   240.0,  12.2474,  35.2303,2,-999.0000,9,    81.4,2,    9.13,2,   27.10,2,    0.01,2,    1.70,2,   1.551,2,   0.840,2, -999.00,9,  2207.9,2,  2307.3,2,  12.2155
06MT20060606,      EqAtl,     108,          1,     108013,         13,2,20060706,       0000,    12.9993,   -23.0008,       4597,   200.7,  12.7992,  35.2808,2,-999.0000,9,    93.6,2,    7.96,2,   24.81,2,    0.01,2,    1.58,2,-999.000,9,-999.000,9, -999.00,9,  2197.3,2,  2311.7,2,  12.7718
06MT20060606,      EqAtl,     108,          1,     108014,         14,2,20060706,       0000,    12.9993,   -23.0008,       4597,   160.6,  13.5837,  35.3758,2,-999.0000,9,    84.5,2,    7.22,2,   24.56,2,    0.02,2,    1.56,2,   1.799,2,   0.988,2, -999.00,9,  2200.8,2,  2317.2,2,  13.5609
06MT20060606,      EqAtl,     108,          1,     108015,         15,2,20060706,       0000,    12.9993,   -23.0008,       4597,   121.0,  14.7080,  35.4981,2,-999.0000,9,    67.7,2,    6.42,2,   24.85,2,    0.03,2,    1.58,2,   1.863,2,   1.021,2, -999.00,9,  2208.9,2,  2319.2,2,  14.6899
06MT20060606,      EqAtl,     108,          1,     108016,         16,2,20060706,       0000,    12.9993,   -23.0008,       4597,   100.0,  16.0020,  35.6122,2,-999.0000,9,    57.0,2,    5.89,2,   24.20,2,    0.11,2,    1.50,2,   1.961,2,   1.055,2, -999.00,9,  2213.4,2,  2321.3,2,  15.9861
06MT20060606,      EqAtl,     108,          1,     108017,         17,2,20060706,       0000,    12.9993,   -23.0008,       4597,    80.7,  19.8649,  35.9264,2,-999.0000,9,   122.4,2,    2.58,2,   11.76,2,    0.72,2,    0.75,2,   1.902,2,   1.131,2, -999.00,9,  2152.2,2,  2340.7,2,  19.8500
06MT20060606,      EqAtl,     108,          1,     108018,         18,2,20060706,       0000,    12.9993,   -23.0008,       4597,    60.8,  23.9533,  36.1230,2,-999.0000,9,   213.1,2,    0.03,2,    0.01,2,    0.01,2,    0.03,2,   1.944,2,   1.176,2, -999.00,9,  2049.9,2,  2358.8,2,  23.9405
06MT20060606,      EqAtl,     108,          1,     108019,         19,2,20060706,       0000,    12.9993,   -23.0008,       4597,    40.6,  25.1699,  36.1713,2,-999.0000,9,   211.2,2,    0.00,2,    0.00,2,    0.00,2,    0.03,2,   1.803,2,   1.109,2, -999.00,9,  2044.4,2,  2363.7,2,  25.1610
06MT20060606,      EqAtl,     108,          1,     108020,         20,2,20060706,       0000,    12.9993,   -23.0008,       4597,    20.8,  25.5048,  36.1792,2,-999.0000,9,   209.1,2,    0.04,2,    0.06,2,    0.00,2,    0.01,2,   1.792,2,   1.092,2, -999.00,9,  2044.1,2,  2363.8,2,  25.5002
06MT20060606,      EqAtl,     108,          1,     108021,         21,2,20060706,       0000,    12.9993,   -23.0008,       4597,    10.5,  25.6260,  36.1832,2,  36.1852,2,   208.3,2,    0.34,2,    0.10,2,    0.00,2,    0.03,2,   1.811,2,   1.121,2, -999.00,9,  2043.6,6,  2363.5,6,  25.6237
06MT20060606,      EqAtl,     109,          1,     109001,          1,2,20060706,       0000,    13.4870,   -22.9880,       4406,  1314.7,   4.9205,  34.9849,2,-999.0000,9,  -999.0,9, -999.00,9, -999.00,9, -999.00,9, -999.00,9,-999.000,9,-999.000,9, -999.00,9,  -999.0,9,  -999.0,9,   4.8078
06MT20060606,      EqAtl,     109,          1,     109002,          2,2,20060706,       0000,    13.4870,   -22.9880,       4406,   101.1,  14.6840,  35.4958,2,-999.0000,9,  -999.0,9, -999.00,9, -999.00,9, -999.00,9, -999.00,9,-999.000,9,-999.000,9, -999.00,9,  -999.0,9,  -999.0,9,  14.6689
06MT20060606,      EqAtl,     109,          1,     109003,          3,2,20060706,       0000,    13.4870,   -22.9880,       4406,    81.2,  16.1818,  35.6193,2,-999.0000,9,  -999.0,9, -999.00,9, -999.00,9, -999.00,9, -999.00,9,-999.000,9,-999.000,9, -999.00,9,  -999.0,9,  -999.0,9,  16.1688
06MT20060606,      EqAtl,     109,          1,     109004,          4,2,20060706,       0000,    13.4870,   -22.9880,       4406,    60.8,  22.8014,  36.0823,2,-999.0000,9,  -999.0,9, -999.00,9, -999.00,9, -999.00,9, -999.00,9,-999.000,9,-999.000,9, -999.00,9,  -999.0,9,  -999.0,9,  22.7890
06MT20060606,      EqAtl,     109,          1,     109005,          5,2,20060706,       0000,    13.4870,   -22.9880,       4406,    40.4,  25.1380,  36.1831,2,-999.0000,9,  -999.0,9, -999.00,9, -999.00,9, -999.00,9, -999.00,9,-999.000,9,-999.000,9, -999.00,9,  -999.0,9,  -999.0,9,  25.1292
06MT20060606,      EqAtl,     109,          1,     109006,          6,2,20060706,       0000,    13.4870,   -22.9880,       4406,    20.3,  25.5747,  36.1950,2,-999.0000,9,  -999.0,9, -999.00,9, -999.00,9, -999.00,9, -999.00,9,-999.000,9,-999.000,9, -999.00,9,  -999.0,9,  -999.0,9,  25.5702
06MT20060606,      EqAtl,     109,          1,     109007,          7,2,20060706,       0000,    13.4870,   -22.9880,       4406,    10.9,  25.6070,  36.1973,2,-999.0000,9,  -999.0,9, -999.00,9, -999.00,9, -999.00,9, -999.00,9,-999.000,9,-999.000,9, -999.00,9,  -999.0,9,  -999.0,9,  25.6046