BOTTLE,20211025CCHSIORKP
EXPOCODE,SECT_ID,STNNBR,CASTNO,SAMPNO,BTLNBR,BTLNBR_FLAG_W,DATE,TIME,LATITUDE,LONGITUDE,DEPTH,CTDPRS,CTDTMP,CTDSAL,CTDSAL_FLAG_W,SALNTY,SALNTY_FLAG_W,OXYGEN,OXYGEN_FLAG_W,SILCAT,SILCAT_FLAG_W,NITRAT,NITRAT_FLAG_W,NITRIT,NITRIT_FLAG_W,PHSPHT,PHSPHT_FLAG_W,CFC-11,CFC-11_FLAG_W,CFC-12,CFC-12_FLAG_W,SF6,SF6_FLAG_W,TCARBN,TCARBN_FLAG_W,ALKALI,ALKALI_FLAG_W,THETA
,,,,,,,,,,,METERS,DBAR,ITS-90,PSS-78,,PSS-78,,UMOL/KG,,UMOL/KG,,UMOL/KG,,UMOL/KG,,UMOL/KG,,PMOL/KG,,PMOL/KG,,FMOL/KG,,UMOL/KG,,UMOL/KG,,DEG C
06MT20060606,      EqAtl,      68,          1,      68001,          1,2,20060627,       0000,     1.0005,   -10.0022,       4779,  1313.3,   4.4956,  34.9133,2,  34.9128,2,   203.6,6,   20.09,6,   25.09,6,    0.01,6,    1.70,6,-999.000,9,-999.000,9, -999.00,9,  2189.0,2,  2309.1,6,   4.3873
06MT20060606,      EqAtl,      68,          1,      68002,          2,2,20060627,       0000,     1.0005,   -10.0022,       4779,  1098.0,   4.5337,  34.7026,2,-999.0000,9,   163.7,2,   27.03,2,   31.49,2,    0.01,2,    2.17,2,-999.000,9,-999.000,9, -999.00,9,  2214.3,6,  2302.6,2,   4.4450
06MT20060606,      EqAtl,      68,          1,      68003,          3,2,20060627,       0000,     1.0005,   -10.0022,       4779,   897.7,   4.6253,  34.5677,2,  34.5690,2,   150.8,2,   29.15,2,   34.85,2,    0.00,2,    2.37,2,-999.000,9,-999.000,9,    0.02,3,  2221.5,2,  2298.9,2,   4.5536
06MT20060606,      EqAtl,      68,          1,      68004,          4,2,20060627,       0000,     1.0005,   -10.0022,       4779,   698.5,   5.5043,  34.5165,2,-999.0000,9,   141.1,2,   24.16,2,   35.27,2,    0.01,2,    2.37,2,   0.372,6,   0.188,6, -999.00,9,  2217.2,2,  2291.0,2,   5.4449
06MT20060606,      EqAtl,      68,          1,      68005,          5,2,20060627,       0000,     1.0005,   -10.0022,       4779,   498.3,   7.1890,  34.6467,2,  34.6500,2,   111.0,2,   18.37,2,   34.45,2,    0.01,2,    2.28,2,   0.575,2,   0.298,2, -999.00,9,  2220.6,2,  2294.4,2,   7.1409
06MT20060606,      EqAtl,      68,          1,      68006,          6,2,20060627,       0000,     1.0005,   -10.0022,       4779,   300.1,  10.0138,  34.9333,2,-999.0000,9,   100.5,2,   11.91,2,   29.54,2,    0.01,2,    1.90,2,   1.288,2,   0.691,2,    0.21,3,  2208.7,2,  2297.8,2,   9.9788
06MT20060606,      EqAtl,      68,          1,      68007,          7,2,20060627,       0000,     1.0005,   -10.0022,       4779,   249.6,  11.3461,  35.0874,2,-999.0000,9,    87.7,2,   10.13,2,   28.06,2,    0.01,2,    1.82,2,   1.455,2,   0.781,2,    0.32,3,  2209.9,2,  2306.9,2,  11.3146
06MT20060606,      EqAtl,      68,          1,      68008,          8,2,20060627,       0000,     1.0005,   -10.0022,       4779,   201.7,  12.9895,  35.2773,2,-999.0000,9,    84.9,2,    8.17,2,   25.38,2,    0.01,2,    1.66,2,   1.730,2,   0.911,2,    0.39,3,  2204.4,2,  2312.1,2,  12.9617
06MT20060606,      EqAtl,      68,          1,      68009,          9,2,20060627,       0000,     1.0005,   -10.0022,       4779,   159.8,  13.9909,  35.4041,2,-999.0000,9,   104.5,2,    6.74,2,   21.48,2,    0.01,2,    1.43,2,   1.901,6,   1.029,6,    0.47,3,  2187.1,2,  2318.6,2,  13.9678
06MT20060606,      EqAtl,      68,          1,      68010,         10,2,20060627,       0000,     1.0005,   -10.0022,       4779,   119.8,  14.2617,  35.4429,2,-999.0000,9,   112.6,2,    6.33,2,   19.91,2,    0.01,2,    1.35,2,   2.020,2,   1.097,2,     0.4,3,  2180.5,2,  2322.1,2,  14.2441
06MT20060606,      EqAtl,      68,          1,      68011,         11,2,20060627,       0000,     1.0005,   -10.0022,       4779,   101.3,  14.3642,  35.4595,2,-999.0000,9,   118.2,2,    5.95,2,   19.09,2,    0.02,2,    1.30,2,   2.044,2,   1.120,2,    0.64,3,  2176.4,2,  2323.2,2,  14.3493
06MT20060606,      EqAtl,      68,          1,      68012,         12,2,20060627,       0000,     1.0005,   -10.0022,       4779,   100.2,  14.3770,  35.4622,2,-999.0000,9,  -999.0,9, -999.00,9, -999.00,9, -999.00,9, -999.00,9,-999.000,9,-999.000,9, -999.00,9,  -999.0,9,  -999.0,9,  14.3622
06MT20060606,      EqAtl,      68,          1,      68013,         13,2,20060627,       0000,     1.0005,   -10.0022,       4779,    80.1,  14.8924,  35.5287,2,-999.0000,9,   116.3,2,    5.41,2,   18.29,2,    0.06,2,    1.24,2,   2.102,2,   1.165,2, -999.00,9,  2176.1,2,  2325.9,2,  14.8803
06MT20060606,      EqAtl,      68,          1,      68014,         14,2,20060627,       0000,     1.0005,   -10.0022,       4779,    59.6,  18.1551,  35.7296,2,-999.0000,9,   131.9,2,    3.00,2,   12.18,2,    0.38,2,    0.86,2,   2.073,2,   1.200,2,    0.68,3,  2154.5,2,  2337.9,2,  18.1448
06MT20060606,      EqAtl,      68,          1,      68015,         15,2,20060627,       0000,     1.0005,   -10.0022,       4779,    60.3,  18.1252,  35.7297,2,-999.0000,9,  -999.0,9, -999.00,9, -999.00,9, -999.00,9, -999.00,9,-999.000,9,-999.000,9, -999.00,9,  -999.0,9,  -999.0,9,  18.1148
06MT20060606,      EqAtl,      68,          1,      68016,         16,2,20060627,       0000,     1.0005,   -10.0022,       4779,    39.0,  25.3266,  35.3413,2,-999.0000,9,   197.4,2,    0.64,2,    0.56,2,    0.04,2,    0.06,2,   1.926,2,   1.087,2, -999.00,9,  2010.8,2,  2314.7,2,  25.3181
06MT20060606,      EqAtl,      68,          1,      68017,         17,2,20060627,       0000,     1.0005,   -10.0022,       4779,    39.1,  25.3548,  35.3380,2,-999.0000,9,  -999.0,9, -999.00,9, -999.00,9, -999.00,9, -999.00,9,-999.000,9,-999.000,9, -999.00,9,  -999.0,9,  -999.0,9,  25.3462
06MT20060606,      EqAtl,      68,          1,      68018,         18,2,20060627,       0000,     1.0005,   -10.0022,       4779,    21.3,  26.1865,  35.1929,2,-999.0000,9,   202.4,2,    0.18,2,    0.06,2,    0.00,2,    0.02,2,   1.821,2,   1.024,2,    1.29,3,  -999.0,9,  -999.0,9,  26.1817
06MT20060606,      EqAtl,      68,          1,      68019,         19,2,20060627,       0000,     1.0005,   -10.0022,       4779,    22.1,  26.1847,  35.1937,2,-999.0000,9,  -999.0,9, -999.00,9, -999.00,9, -999.00,9, -999.00,9,-999.000,9,-999.000,9, -999.00,9,  -999.0,9,  -999.0,9,  26.1797
06MT20060606,      EqAtl,      68,          1,      68020,         20,2,20060627,       0000,     1.0005,   -10.0022,       4779,    12.4,  26.1971,  35.1905,2,-999.0000,9,   202.8,2,    0.26,2,    0.07,2,    0.00,2,    0.02,2,   1.711,2,   1.049,2,    1.11,3,  1979.1,2,  2301.4,2,  26.1943
06MT20060606,      EqAtl,      68,          1,      68021,         21,2,20060627,       0000,     1.0005,   -10.0022,       4779,    12.8,  26.1980,  35.1900,2,-999.0000,9,  -999.0,9, -999.00,9, -999.00,9, -999.00,9, -999.00,9,-999.000,9,-999.000,9, -999.00,9,  -999.0,9,  -999.0,9,  26.1951
06MT20060606,      EqAtl,      69,          1,      69001,          1,2,20060627,       0000,     1.5007,   -10.0037,       4641,  1299.7,   4.5113,  34.8987,2,  34.8939,2,   197.7,6,   20.02,6,   25.81,6,    0.00,6,    1.80,6,   0.099,2,   0.047,2, -999.00,9,  2193.8,2,  2308.3,6,   4.4042
06MT20060606,      EqAtl,      69,          1,      69002,          2,2,20060627,       0000,     1.5007,   -10.0037,       4641,  1097.0,   4.5424,  34.6956,2,  34.6969,2,   162.3,2,   26.13,2,   32.61,2,    0.00,2,    2.22,2,   0.038,6,   0.015,6, -999.00,9,  2215.5,2,  2302.6,2,   4.4537
06MT20060606,      EqAtl,      69,          1,      69003,          3,2,20060627,       0000,     1.5007,   -10.0037,       4641,   887.3,   4.6230,  34.5724,2,-999.0000,9,   150.8,2,   28.49,2,   35.39,2,    0.00,2,    2.39,2,   0.072,2,   0.039,2, -999.00,9,  2222.1,2,  2298.7,2,   4.5522
06MT20060606,      EqAtl,      69,          1,      69004,          4,2,20060627,       0000,     1.5007,   -10.0037,       4641,   694.2,   5.6786,  34.5212,2,-999.0000,9,   142.4,2,   22.57,2,   35.35,2,    0.00,2,    2.34,2,   0.492,2,   0.245,2, -999.00,9,  2215.2,2,  2290.3,2,   5.6187
06MT20060606,      EqAtl,      69,          1,      69005,          5,2,20060627,       0000,     1.5007,   -10.0037,       4641,   498.8,   7.2352,  34.6456,2,-999.0000,9,   128.1,2,   17.58,2,   33.30,2,    0.00,2,    2.18,2,   0.895,2,   0.425,2, -999.00,9,  2211.0,2,  2291.2,2,   7.1868
06MT20060606,      EqAtl,      69,          1,      69006,          6,2,20060627,       0000,     1.5007,   -10.0037,       4641,   301.0,  10.5474,  34.9912,2,-999.0000,9,    96.5,2,   10.98,2,   28.88,2,    0.00,2,    1.89,2,   1.371,2,   0.742,2, -999.00,9,  2209.4,2,  2300.0,2,  10.5111
06MT20060606,      EqAtl,      69,          1,      69007,          7,2,20060627,       0000,     1.5007,   -10.0037,       4641,   249.9,  11.6806,  35.1209,2,-999.0000,9,    82.2,2,    9.74,2,   28.29,2,    0.01,2,    1.83,2,   1.428,6,   0.771,6, -999.00,9,  2213.6,2,  2305.9,2,  11.6484
06MT20060606,      EqAtl,      69,          1,      69008,          8,2,20060627,       0000,     1.5007,   -10.0037,       4641,   200.8,  13.0188,  35.2806,2,-999.0000,9,    83.1,2,    7.72,2,   24.95,2,    0.00,2,    1.68,2,   1.709,2,   0.911,2, -999.00,9,  2203.8,2,  2312.3,2,  12.9911
06MT20060606,      EqAtl,      69,          1,      69009,          9,2,20060627,       0000,     1.5007,   -10.0037,       4641,   160.3,  14.0384,  35.4108,2,-999.0000,9,   105.0,2,    6.39,2,   21.11,2,    0.01,2,    1.46,2,   1.933,2,   1.063,2, -999.00,9,  2189.1,2,  2323.4,2,  14.0151
06MT20060606,      EqAtl,      69,          1,      69010,         10,2,20060627,       0000,     1.5007,   -10.0037,       4641,   121.1,  14.3402,  35.4583,2,-999.0000,9,   123.2,2,    5.71,2,   18.70,2,    0.01,2,    1.30,2,   2.063,6,   1.134,6, -999.00,9,  2175.2,2,  2323.8,2,  14.3224
06MT20060606,      EqAtl,      69,          1,      69011,         11,2,20060627,       0000,     1.5007,   -10.0037,       4641,    99.9,  14.7230,  35.5121,2,-999.0000,9,   126.5,6,    5.20,6,   17.80,6,    0.02,6,    1.26,6,   2.121,2,   1.185,2, -999.00,9,  2170.8,2,  2325.2,2,  14.7080
06MT20060606,      EqAtl,      69,          1,      69012,         12,2,20060627,       0000,     1.5007,   -10.0037,       4641,    99.8,  14.7246,  35.5124,2,-999.0000,9,  -999.0,9, -999.00,9, -999.00,9, -999.00,9, -999.00,9,-999.000,9,-999.000,9, -999.00,9,  -999.0,9,  -999.0,9,  14.7097
06MT20060606,      EqAtl,      69,          1,      69013,         13,2,20060627,       0000,     1.5007,   -10.0037,       4641,    80.2,  15.5720,  35.5978,2,-999.0000,9,   112.7,2,    5.00,2,   18.42,2,    0.08,2,    1.27,2,   2.069,2,   1.170,2, -999.00,9,  2178.4,2,  2328.4,2,  15.5595
06MT20060606,      EqAtl,      69,          1,      69014,         14,2,20060627,       0000,     1.5007,   -10.0037,       4641,    60.8,  17.0662,  35.7056,2,-999.0000,9,   119.5,2,    3.77,2,   15.22,2,    0.28,2,    1.02,2,   2.071,2,   1.156,2, -999.00,9,  2170.0,2,  2335.4,2,  17.0561
06MT20060606,      EqAtl,      69,          1,      69015,         15,2,20060627,       0000,     1.5007,   -10.0037,       4641,    60.2,  17.0816,  35.7081,2,-999.0000,9,  -999.0,9, -999.00,9, -999.00,9, -999.00,9, -999.00,9,-999.000,9,-999.000,9, -999.00,9,  -999.0,9,  -999.0,9,  17.0716
06MT20060606,      EqAtl,      69,          1,      69016,         16,2,20060627,       0000,     1.5007,   -10.0037,       4641,    41.3,  22.1291,  35.8338,2,-999.0000,9,   177.5,2,    1.40,2,    2.64,2,    0.13,2,    0.31,2,   2.069,2,   1.113,2, -999.00,9,  2104.9,2,  2350.7,2,  22.1209
06MT20060606,      EqAtl,      69,          1,      69017,         17,2,20060627,       0000,     1.5007,   -10.0037,       4641,    41.2,  22.3225,  35.8084,2,-999.0000,9,  -999.0,9, -999.00,9, -999.00,9, -999.00,9, -999.00,9,-999.000,9,-999.000,9, -999.00,9,  -999.0,9,  -999.0,9,  22.3142
06MT20060606,      EqAtl,      69,          1,      69018,         18,2,20060627,       0000,     1.5007,   -10.0037,       4641,    20.2,  26.7501,  34.9996,2,-999.0000,9,   203.4,2,    0.10,2,    0.03,2,    0.00,2,    0.01,2,   1.772,2,   1.038,2, -999.00,9,  -999.0,9,  -999.0,9,  26.7455
06MT20060606,      EqAtl,      69,          1,      69019,         19,2,20060627,       0000,     1.5007,   -10.0037,       4641,    20.6,  26.7338,  35.0065,2,-999.0000,9,  -999.0,9, -999.00,9, -999.00,9, -999.00,9, -999.00,9,-999.000,9,-999.000,9, -999.00,9,  -999.0,9,  -999.0,9,  26.7291
06MT20060606,      EqAtl,      69,          1,      69020,         20,2,20060627,       0000,     1.5007,   -10.0037,       4641,    10.5,  26.9107,  34.9596,2,-999.0000,9,   202.4,2,    0.02,2,    0.06,2,    0.00,2,    0.00,2,   1.679,2,   1.010,2, -999.00,9,  1950.7,6,  2282.6,2,  26.9083
06MT20060606,      EqAtl,      69,          1,      69021,         21,2,20060627,       0000,     1.5007,   -10.0037,       4641,    10.9,  26.9149,  34.9595,2,-999.0000,9,  -999.0,9, -999.00,9, -999.00,9, -999.00,9, -999.00,9,-999.000,9,-999.000,9, -999.00,9,  -999.0,9,  -999.0,9,  26.9124
06MT20060606,      EqAtl,      70,          1,      70001,          1,2,20060627,       0000,     1.9938,   -11.0282,       4610,  1312.8,   4.4991,  34.9096,2,  34.9065,2,   201.3,6,   20.04,6,   24.72,6,    0.01,6,    1.73,6,   0.102,6,   0.060,6, -999.00,9,  2192.4,2,  2309.2,6,   4.3909
06MT20060606,      EqAtl,      70,          1,      70002,          2,2,20060627,       0000,     1.9938,   -11.0282,       4610,  1106.9,   4.5968,  34.7205,2,-999.0000,9,   163.7,2,   26.38,2,   31.32,2,    0.01,2,    2.17,2,   0.035,2,   0.026,2, -999.00,9,  2215.5,2,  2305.1,2,   4.5067
06MT20060606,      EqAtl,      70,          1,      70003,          3,2,20060627,       0000,     1.9938,   -11.0282,       4610,   904.1,   4.6093,  34.5835,2,-999.0000,9,   151.3,2,   28.68,2,   33.89,2,    0.01,2,    2.36,2,   0.065,2,   0.031,2, -999.00,9,  2222.4,2,  2298.5,2,   4.5372
06MT20060606,      EqAtl,      70,          1,      70004,          4,2,20060627,       0000,     1.9938,   -11.0282,       4610,   702.3,   5.7182,  34.5394,2,-999.0000,9,   138.3,2,   23.26,2,   34.32,2,    0.01,2,    2.34,2,   0.410,2,   0.207,2, -999.00,9,  2218.0,2,  2291.5,2,   5.6573
06MT20060606,      EqAtl,      70,          1,      70005,          5,2,20060627,       0000,     1.9938,   -11.0282,       4610,   503.6,   7.0647,  34.6298,2,  34.6264,2,   131.8,2,   18.57,2,   32.06,2,    0.00,2,    2.15,2,-999.000,9,-999.000,9, -999.00,9,  2210.3,2,  2288.7,2,   7.0165
06MT20060606,      EqAtl,      70,          1,      70006,          6,2,20060627,       0000,     1.9938,   -11.0282,       4610,   301.7,  10.0537,  34.9377,2,-999.0000,9,   102.7,2,   12.34,2,   29.08,2,    0.01,2,    1.91,2,   1.286,2,   0.678,2, -999.00,9,  2206.9,2,  2299.1,2,  10.0184
06MT20060606,      EqAtl,      70,          1,      70007,          7,2,20060627,       0000,     1.9938,   -11.0282,       4610,   251.8,  11.9870,  35.1672,2,-999.0000,9,    82.2,2,    9.60,2,   27.74,2,    0.01,2,    1.78,2,   1.413,2,   0.768,2, -999.00,9,  2209.2,2,  2306.5,2,  11.9540
06MT20060606,      EqAtl,      70,          1,      70008,          8,2,20060627,       0000,     1.9938,   -11.0282,       4610,   201.6,  13.5292,  35.3454,2,-999.0000,9,    93.2,2,    7.42,2,   23.64,2,    0.01,2,    1.56,2,   1.837,2,   1.000,2, -999.00,9,  2195.6,2,  2314.3,2,  13.5006
06MT20060606,      EqAtl,      70,          1,      70009,          9,2,20060627,       0000,     1.9938,   -11.0282,       4610,   160.8,  14.3515,  35.4556,2,-999.0000,9,   105.0,2,    6.53,2,   20.47,2,    0.01,2,    1.41,2,   1.974,2,   1.077,2, -999.00,9,  2185.2,2,  2322.1,2,  14.3278
06MT20060606,      EqAtl,      70,          1,      70010,         10,2,20060627,       0000,     1.9938,   -11.0282,       4610,   120.7,  14.7935,  35.5187,2,-999.0000,9,   117.7,2,    6.10,2,   18.31,2,    0.01,2,    1.29,2,   2.121,2,   1.159,2, -999.00,9,  2173.5,2,  2325.0,2,  14.7754
06MT20060606,      EqAtl,      70,          1,      70011,         11,2,20060627,       0000,     1.9938,   -11.0282,       4610,   101.2,  15.1376,  35.5674,2,-999.0000,9,   123.1,6,    5.33,6,   17.13,6,    0.03,6,    1.22,6,   2.128,6,   1.184,6, -999.00,9,  2170.1,2,  2326.8,2,  15.1221
06MT20060606,      EqAtl,      70,          1,      70012,         12,2,20060627,       0000,     1.9938,   -11.0282,       4610,   101.4,  15.1534,  35.5693,2,-999.0000,9,  -999.0,9, -999.00,9, -999.00,9, -999.00,9, -999.00,9,-999.000,9,-999.000,9, -999.00,9,  -999.0,9,  -999.0,9,  15.1379
06MT20060606,      EqAtl,      70,          1,      70013,         13,2,20060627,       0000,     1.9938,   -11.0282,       4610,    80.9,  15.4118,  35.6006,2,-999.0000,9,   119.9,2,    5.11,2,   17.14,2,    0.06,2,    1.20,2,   2.136,2,   1.198,2, -999.00,9,  2171.3,2,  2329.0,2,  15.3993
06MT20060606,      EqAtl,      70,          1,      70014,         14,2,20060627,       0000,     1.9938,   -11.0282,       4610,    59.8,  17.2734,  35.7560,2,-999.0000,9,   121.3,2,    3.76,2,   14.82,2,    0.42,2,    0.98,2,   2.105,2,   1.197,2, -999.00,9,  2165.7,2,  2336.4,2,  17.2634
06MT20060606,      EqAtl,      70,          1,      70015,         15,2,20060627,       0000,     1.9938,   -11.0282,       4610,    60.3,  17.2453,  35.7552,2,-999.0000,9,  -999.0,9, -999.00,9, -999.00,9, -999.00,9, -999.00,9,-999.000,9,-999.000,9, -999.00,9,  -999.0,9,  -999.0,9,  17.2352
06MT20060606,      EqAtl,      70,          1,      70016,         16,2,20060627,       0000,     1.9938,   -11.0282,       4610,    40.7,  22.7079,  35.8502,2,-999.0000,9,   184.8,2,    1.10,2,    0.98,2,    0.05,2,    0.18,2,   2.075,2,   1.111,2, -999.00,9,  2079.1,2,  2346.3,2,  22.6996
06MT20060606,      EqAtl,      70,          1,      70017,         17,2,20060627,       0000,     1.9938,   -11.0282,       4610,    40.8,  22.4826,  35.8726,2,-999.0000,9,  -999.0,9, -999.00,9, -999.00,9, -999.00,9, -999.00,9,-999.000,9,-999.000,9, -999.00,9,  -999.0,9,  -999.0,9,  22.4744
06MT20060606,      EqAtl,      70,          1,      70018,         18,2,20060627,       0000,     1.9938,   -11.0282,       4610,    21.7,  26.9351,  34.9243,2,-999.0000,9,   200.6,2,    0.44,2,    0.01,2,    0.00,2,    0.00,2,   1.805,2,   1.039,2, -999.00,9,  -999.0,9,  -999.0,9,  26.9301
06MT20060606,      EqAtl,      70,          1,      70019,         19,2,20060627,       0000,     1.9938,   -11.0282,       4610,    21.3,  26.9397,  34.9234,2,-999.0000,9,  -999.0,9, -999.00,9, -999.00,9, -999.00,9, -999.00,9,-999.000,9,-999.000,9, -999.00,9,  -999.0,9,  -999.0,9,  26.9348
06MT20060606,      EqAtl,      70,          1,      70020,         20,2,20060627,       0000,     1.9938,   -11.0282,       4610,    12.1,  26.9838,  34.9141,2,-999.0000,9,   200.9,2,    0.33,2,    0.04,2,    0.00,2,    0.01,2,   1.638,2,   1.059,2, -999.00,9,  1949.5,6,  2280.8,2,  26.9810
06MT20060606,      EqAtl,      70,          1,      70021,         21,2,20060627,       0000,     1.9938,   -11.0282,       4610,    12.2,  26.9874,  34.9143,2,-999.0000,9,  -999.0,9, -999.00,9, -999.00,9, -999.00,9, -999.00,9,-999.000,9,-999.000,9, -999.00,9,  -999.0,9,  -999.0,9,  26.9846