BOTTLE,20211025CCHSIORKP
EXPOCODE,SECT_ID,STNNBR,CASTNO,SAMPNO,BTLNBR,BTLNBR_FLAG_W,DATE,TIME,LATITUDE,LONGITUDE,DEPTH,CTDPRS,CTDTMP,CTDSAL,CTDSAL_FLAG_W,SALNTY,SALNTY_FLAG_W,OXYGEN,OXYGEN_FLAG_W,SILCAT,SILCAT_FLAG_W,NITRAT,NITRAT_FLAG_W,NITRIT,NITRIT_FLAG_W,PHSPHT,PHSPHT_FLAG_W,CFC-11,CFC-11_FLAG_W,CFC-12,CFC-12_FLAG_W,SF6,SF6_FLAG_W,TCARBN,TCARBN_FLAG_W,ALKALI,ALKALI_FLAG_W,THETA
,,,,,,,,,,,METERS,DBAR,ITS-90,PSS-78,,PSS-78,,UMOL/KG,,UMOL/KG,,UMOL/KG,,UMOL/KG,,UMOL/KG,,PMOL/KG,,PMOL/KG,,FMOL/KG,,UMOL/KG,,UMOL/KG,,DEG C
06MT20060606,      EqAtl,      19,          1,      19001,          1,2,20060610,       0000,     0.9952,   -34.9967,       3774,  1312.7,   4.5763,  34.9296,2,-999.0000,9,   208.4,6,   18.73,6,   24.17,6,    0.00,6,    1.29,6,   0.202,2,   0.100,2, -999.00,9,  2185.8,2,  2307.8,6,   4.4673
06MT20060606,      EqAtl,      19,          1,      19002,          2,2,20060610,       0000,     0.9952,   -34.9967,       3774,  1099.7,   4.6389,  34.7793,2,  34.7842,2,   173.1,2,   24.11,2,   29.89,2,    0.00,2,    1.72,3,   0.062,6,   0.040,6, -999.00,9,  2205.7,2,  2303.4,2,   4.5490
06MT20060606,      EqAtl,      19,          1,      19003,          3,2,20060610,       0000,     0.9952,   -34.9967,       3774,   896.6,   4.5983,  34.5749,2,-999.0000,9,   154.0,2,   28.21,2,   34.42,2,    0.00,2,    2.07,2,   0.082,2,   0.045,2, -999.00,9,  2217.2,2,  2297.8,2,   4.5269
06MT20060606,      EqAtl,      19,          1,      19004,          4,2,20060610,       0000,     0.9952,   -34.9967,       3774,   696.4,   5.1637,  34.5077,2,  34.5127,2,   149.4,2,   25.40,2,   34.71,2,    0.01,2,    2.09,2,   0.353,2,   0.189,2, -999.00,9,  2213.7,2,  2292.0,2,   5.1063
06MT20060606,      EqAtl,      19,          1,      19005,          5,2,20060610,       0000,     0.9952,   -34.9967,       3774,   497.4,   7.1869,  34.6321,2,-999.0000,9,   127.4,2,   17.52,2,   32.93,2,    0.01,2,    1.94,2,   0.858,2,   0.416,2, -999.00,9,  2210.0,2,  2289.5,2,   7.1389
06MT20060606,      EqAtl,      19,          1,      19006,          6,2,20060610,       0000,     0.9952,   -34.9967,       3774,   300.1,  11.5516,  35.0935,2,-999.0000,9,   116.9,2,    8.95,2,   24.28,2,    0.01,2,    1.73,2,   1.731,2,   0.950,2, -999.00,9,  2187.7,2,  2304.8,2,  11.5132
06MT20060606,      EqAtl,      19,          1,      19007,          7,2,20060610,       0000,     0.9952,   -34.9967,       3774,   249.3,  12.5820,  35.2249,2,-999.0000,9,   104.7,2,    7.97,2,   23.60,2,    0.01,2,    1.57,2,   1.782,2,   0.972,2, -999.00,9,  -999.0,9,  -999.0,9,  12.5483
06MT20060606,      EqAtl,      19,          1,      19008,          8,2,20060610,       0000,     0.9952,   -34.9967,       3774,   199.9,  13.2072,  35.3064,2,-999.0000,9,   167.1,2,    5.79,2,   15.16,2,    0.01,2,    1.09,2,   2.404,6,   1.292,6, -999.00,9,  2147.6,2,  2316.1,2,  13.1793
06MT20060606,      EqAtl,      19,          1,      19009,          9,2,20060610,       0000,     0.9952,   -34.9967,       3774,   119.1,  15.6730,  35.6805,2,-999.0000,9,   171.1,2,    3.77,2,   11.13,2,    0.02,2,    0.83,2,   2.312,2,   1.308,2, -999.00,9,  -999.0,9,  -999.0,9,  15.6544
06MT20060606,      EqAtl,      19,          1,      19010,         10,2,20060610,       0000,     0.9952,   -34.9967,       3774,   101.2,  16.7163,  35.8443,2,-999.0000,9,   177.0,2,    2.92,2,    8.85,2,    0.03,2,    0.67,2,   2.345,2,   1.360,2, -999.00,9,  2130.3,2,  2346.7,2,  16.6997
06MT20060606,      EqAtl,      19,          1,      19011,         11,2,20060610,       0000,     0.9952,   -34.9967,       3774,    99.3,  16.7552,  35.8503,2,-999.0000,9,  -999.0,9, -999.00,9, -999.00,9, -999.00,9, -999.00,9,-999.000,9,-999.000,9, -999.00,9,  -999.0,9,  -999.0,9,  16.7389
06MT20060606,      EqAtl,      19,          1,      19012,         12,2,20060610,       0000,     0.9952,   -34.9967,       3774,    80.5,  20.9418,  36.2663,2,-999.0000,9,   154.5,2,    2.14,2,    7.37,2,    0.09,2,    0.47,2,   1.952,2,   1.184,2, -999.00,9,  -999.0,9,  -999.0,9,  20.9263
06MT20060606,      EqAtl,      19,          1,      19013,         13,2,20060610,       0000,     0.9952,   -34.9967,       3774,    59.6,  26.0978,  36.1611,2,-999.0000,9,  -999.0,9, -999.00,9, -999.00,9, -999.00,9, -999.00,9,-999.000,9,-999.000,9, -999.00,9,  -999.0,9,  -999.0,9,  26.0844
06MT20060606,      EqAtl,      19,          1,      19014,         14,2,20060610,       0000,     0.9952,   -34.9967,       3774,    59.9,  26.2017,  36.1599,2,-999.0000,9,   193.8,2,    0.50,2,    0.29,2,    0.03,2,    0.02,2,   1.687,2,   1.061,2, -999.00,9,  2037.5,2,  2362.1,2,  26.1882
06MT20060606,      EqAtl,      19,          1,      19015,         15,2,20060610,       0000,     0.9952,   -34.9967,       3774,    41.1,  28.2392,  35.9911,2,-999.0000,9,  -999.0,9, -999.00,9, -999.00,9, -999.00,9, -999.00,9,-999.000,9,-999.000,9, -999.00,9,  -999.0,9,  -999.0,9,  28.2294
06MT20060606,      EqAtl,      19,          1,      19016,         16,2,20060610,       0000,     0.9952,   -34.9967,       3774,    40.6,  28.2392,  35.9883,2,-999.0000,9,   198.2,2,    0.62,2,    0.00,2,    0.00,2,    0.00,2,   2.001,2,   1.009,2, -999.00,9,  -999.0,9,  -999.0,9,  28.2295
06MT20060606,      EqAtl,      19,          1,      19017,         17,2,20060610,       0000,     0.9952,   -34.9967,       3774,    21.2,  28.2694,  35.8957,2,-999.0000,9,  -999.0,9, -999.00,9, -999.00,9, -999.00,9, -999.00,9,-999.000,9,-999.000,9, -999.00,9,  -999.0,9,  -999.0,9,  28.2644
06MT20060606,      EqAtl,      19,          1,      19018,         18,2,20060610,       0000,     0.9952,   -34.9967,       3774,    20.6,  28.2683,  35.8955,2,  35.8939,2,   199.4,2,    0.68,2,    0.00,2,    0.00,2,    0.00,2,   1.973,2,   0.998,2, -999.00,9,  -999.0,9,  -999.0,9,  28.2634
06MT20060606,      EqAtl,      19,          1,      19019,         19,2,20060610,       0000,     0.9952,   -34.9967,       3774,    10.6,  28.2669,  35.8939,2,-999.0000,9,  -999.0,9, -999.00,9, -999.00,9, -999.00,9, -999.00,9,-999.000,9,-999.000,9, -999.00,9,  -999.0,9,  -999.0,9,  28.2644
06MT20060606,      EqAtl,      19,          1,      19020,         20,2,20060610,       0000,     0.9952,   -34.9967,       3774,    10.9,  28.2779,  35.8942,2,-999.0000,9,   199.2,6,    0.54,6,    0.02,6,    0.01,6,    0.01,6,   1.587,2,   0.987,2, -999.00,9,  2000.7,6,  2343.4,2,  28.2753
06MT20060606,      EqAtl,      21,          1,      21001,          1,2,20060610,       0000,     1.6685,   -34.9993,       4024,  1318.2,   4.5505,  34.9344,2,  34.9339,2,   210.0,6,   18.27,6,   23.99,6,    0.00,6,    1.67,6,   0.191,2,   0.106,2, -999.00,9,  -999.0,9,  -999.0,9,   4.4412
06MT20060606,      EqAtl,      21,          1,      21002,          2,2,20060610,       0000,     1.6685,   -34.9993,       4024,  1095.7,   4.7126,  34.7872,2,-999.0000,9,   171.3,2,   24.03,2,   29.98,2,    0.01,2,    2.06,2,   0.068,2,   0.042,2, -999.00,9,  -999.0,9,  -999.0,9,   4.6224
06MT20060606,      EqAtl,      21,          1,      21003,          3,2,20060610,       0000,     1.6685,   -34.9993,       4024,   897.0,   4.6354,  34.5760,2,  34.5753,2,   154.0,2,   28.41,2,   34.66,2,    0.00,2,    2.38,2,   0.097,2,   0.049,2, -999.00,9,  -999.0,9,  -999.0,9,   4.5637
06MT20060606,      EqAtl,      21,          1,      21004,          4,2,20060610,       0000,     1.6685,   -34.9993,       4024,   698.0,   5.2841,  34.5044,2,-999.0000,9,   150.8,2,   25.88,2,   34.54,2,    0.00,2,    2.35,2,   0.471,2,   0.238,2, -999.00,9,  -999.0,9,  -999.0,9,   5.2259
06MT20060606,      EqAtl,      21,          1,      21005,          5,2,20060610,       0000,     1.6685,   -34.9993,       4024,   496.7,   6.9758,  34.6116,2,  34.6111,2,   130.7,2,   18.05,2,   33.07,2,    0.01,2,    2.19,2,   0.829,6,   0.415,6, -999.00,9,  -999.0,9,  -999.0,9,   6.9286
06MT20060606,      EqAtl,      21,          1,      21006,          6,2,20060610,       0000,     1.6685,   -34.9993,       4024,   301.2,  11.6169,  35.1063,2,-999.0000,9,   106.2,2,    8.92,2,   25.56,2,    0.00,2,    1.70,2,   1.654,2,   0.892,2, -999.00,9,  -999.0,9,  -999.0,9,  11.5782
06MT20060606,      EqAtl,      21,          1,      21007,          7,2,20060610,       0000,     1.6685,   -34.9993,       4024,   251.8,  11.9016,  35.1425,2,  35.1410,2,   113.3,2,    8.52,2,   23.98,2,    0.01,2,    1.61,2,   1.754,2,   0.937,2, -999.00,9,  -999.0,9,  -999.0,9,  11.8688
06MT20060606,      EqAtl,      21,          1,      21008,          8,2,20060610,       0000,     1.6685,   -34.9993,       4024,   201.5,  12.9859,  35.2753,2,-999.0000,9,   137.6,2,    6.44,2,   19.10,2,    0.01,2,    1.32,2,   2.096,6,   1.130,6, -999.00,9,  -999.0,9,  -999.0,9,  12.9581
06MT20060606,      EqAtl,      21,          1,      21009,          9,2,20060610,       0000,     1.6685,   -34.9993,       4024,   119.7,  13.6409,  35.3793,2,-999.0000,9,   167.4,2,    5.32,2,   14.65,2,    0.01,2,    1.07,2,   2.292,2,   1.267,2, -999.00,9,  -999.0,9,  -999.0,9,  13.6239
06MT20060606,      EqAtl,      21,          1,      21010,         10,2,20060610,       0000,     1.6685,   -34.9993,       4024,   101.2,  14.6642,  35.5372,2,-999.0000,9,   171.9,2,    4.67,2,   12.54,2,    0.02,2,    0.92,2,   2.313,2,   1.300,2, -999.00,9,  -999.0,9,  -999.0,9,  14.6491
06MT20060606,      EqAtl,      21,          1,      21011,         11,2,20060610,       0000,     1.6685,   -34.9993,       4024,   101.3,  14.6517,  35.5348,2,-999.0000,9,  -999.0,9, -999.00,9, -999.00,9, -999.00,9, -999.00,9,-999.000,9,-999.000,9, -999.00,9,  -999.0,9,  -999.0,9,  14.6366
06MT20060606,      EqAtl,      21,          1,      21012,         12,2,20060610,       0000,     1.6685,   -34.9993,       4024,    79.2,  17.1791,  35.7557,2,-999.0000,9,   115.0,2,    4.04,2,   15.59,2,    0.06,2,    0.96,2,   1.954,2,   1.119,2, -999.00,9,  -999.0,9,  -999.0,9,  17.1659
06MT20060606,      EqAtl,      21,          1,      21013,         13,2,20060610,       0000,     1.6685,   -34.9993,       4024,    59.7,  26.1747,  36.1739,2,-999.0000,9,  -999.0,9, -999.00,9, -999.00,9, -999.00,9,    0.01,2,   1.696,6,   1.069,6, -999.00,9,  -999.0,9,  -999.0,9,  26.1613
06MT20060606,      EqAtl,      21,          1,      21014,         14,2,20060610,       0000,     1.6685,   -34.9993,       4024,    60.7,  26.2900,  36.1655,2,-999.0000,9,   197.4,2,    0.16,2,    0.17,2,    0.03,2,    0.01,2,-999.000,9,-999.000,9, -999.00,9,  -999.0,9,  -999.0,9,  26.2763
06MT20060606,      EqAtl,      21,          1,      21015,         15,2,20060610,       0000,     1.6685,   -34.9993,       4024,    40.8,  28.1321,  35.7510,2,-999.0000,9,  -999.0,9, -999.00,9, -999.00,9, -999.00,9, -999.00,9,   1.800,2,   1.026,2, -999.00,9,  -999.0,9,  -999.0,9,  28.1224
06MT20060606,      EqAtl,      21,          1,      21016,         16,2,20060610,       0000,     1.6685,   -34.9993,       4024,    41.9,  28.1309,  35.7543,2,-999.0000,9,   200.5,2,    0.14,2,    0.00,2,    0.00,2,    0.00,2,-999.000,9,-999.000,9, -999.00,9,  -999.0,9,  -999.0,9,  28.1210
06MT20060606,      EqAtl,      21,          1,      21017,         17,2,20060610,       0000,     1.6685,   -34.9993,       4024,    21.5,  28.1365,  35.7494,2,-999.0000,9,  -999.0,9, -999.00,9, -999.00,9, -999.00,9, -999.00,9,   1.537,2,   0.996,2, -999.00,9,  -999.0,9,  -999.0,9,  28.1314
06MT20060606,      EqAtl,      21,          1,      21018,         18,2,20060610,       0000,     1.6685,   -34.9993,       4024,    21.9,  28.1359,  35.7495,2,-999.0000,9,   202.2,2,    0.17,2,    0.01,2,    0.00,2,    0.01,2,-999.000,9,-999.000,9, -999.00,9,  -999.0,9,  -999.0,9,  28.1307
06MT20060606,      EqAtl,      21,          1,      21019,         19,2,20060610,       0000,     1.6685,   -34.9993,       4024,    11.5,  28.1307,  35.7494,2,  35.7479,2,  -999.0,9, -999.00,9, -999.00,9, -999.00,9, -999.00,9,   1.594,2,   1.018,2, -999.00,9,  -999.0,9,  -999.0,9,  28.1280
06MT20060606,      EqAtl,      21,          1,      21020,         20,2,20060610,       0000,     1.6685,   -34.9993,       4024,    11.5,  28.1309,  35.7495,2,-999.0000,9,   202.4,6,    0.10,6,    0.03,6,    0.00,6,    0.01,6,-999.000,9,-999.000,9, -999.00,9,  -999.0,9,  -999.0,9,  28.1282
06MT20060606,      EqAtl,      22,          1,      22001,          1,2,20060610,       0000,     2.0003,   -34.9998,       3900,  1312.7,   4.5887,  34.9410,2,  34.9420,2,  -999.0,9, -999.00,9, -999.00,9, -999.00,9, -999.00,9,-999.000,9,-999.000,9, -999.00,9,  -999.0,9,  -999.0,9,   4.4795
06MT20060606,      EqAtl,      22,          1,      22002,          2,2,20060610,       0000,     2.0003,   -34.9998,       3900,  1098.3,   4.6817,  34.7424,2,-999.0000,9,  -999.0,9, -999.00,9, -999.00,9, -999.00,9, -999.00,9,-999.000,9,-999.000,9, -999.00,9,  -999.0,9,  -999.0,9,   4.5916
06MT20060606,      EqAtl,      22,          1,      22003,          3,2,20060610,       0000,     2.0003,   -34.9998,       3900,   896.7,   4.6430,  34.5707,2,  34.5706,2,  -999.0,9, -999.00,9, -999.00,9, -999.00,9, -999.00,9,-999.000,9,-999.000,9, -999.00,9,  -999.0,9,  -999.0,9,   4.5713
06MT20060606,      EqAtl,      22,          1,      22004,          4,2,20060610,       0000,     2.0003,   -34.9998,       3900,   697.3,   5.2932,  34.5243,2,-999.0000,9,  -999.0,9, -999.00,9, -999.00,9, -999.00,9, -999.00,9,-999.000,9,-999.000,9, -999.00,9,  -999.0,9,  -999.0,9,   5.2350
06MT20060606,      EqAtl,      22,          1,      22005,          5,2,20060610,       0000,     2.0003,   -34.9998,       3900,   497.3,   7.0631,  34.6181,2,  34.6191,2,  -999.0,9, -999.00,9, -999.00,9, -999.00,9, -999.00,9,-999.000,9,-999.000,9, -999.00,9,  -999.0,9,  -999.0,9,   7.0156
06MT20060606,      EqAtl,      22,          1,      22006,          6,2,20060610,       0000,     2.0003,   -34.9998,       3900,   303.2,  11.6722,  35.1121,2,-999.0000,9,  -999.0,9, -999.00,9, -999.00,9, -999.00,9, -999.00,9,-999.000,9,-999.000,9, -999.00,9,  -999.0,9,  -999.0,9,  11.6331
06MT20060606,      EqAtl,      22,          1,      22007,          7,2,20060610,       0000,     2.0003,   -34.9998,       3900,   254.0,  12.0315,  35.1586,2,  35.1583,2,  -999.0,9, -999.00,9, -999.00,9, -999.00,9, -999.00,9,-999.000,9,-999.000,9, -999.00,9,  -999.0,9,  -999.0,9,  11.9982
06MT20060606,      EqAtl,      22,          1,      22008,          8,2,20060610,       0000,     2.0003,   -34.9998,       3900,     9.8,  28.2216,  35.6721,2,  35.6684,2,  -999.0,9, -999.00,9, -999.00,9, -999.00,9, -999.00,9,-999.000,9,-999.000,9, -999.00,9,  -999.0,9,  -999.0,9,  28.2193