BOTTLE,20211025CCHSIORKP
EXPOCODE,SECT_ID,STNNBR,CASTNO,SAMPNO,BTLNBR,BTLNBR_FLAG_W,DATE,TIME,LATITUDE,LONGITUDE,DEPTH,CTDPRS,CTDTMP,CTDSAL,CTDSAL_FLAG_W,SALNTY,SALNTY_FLAG_W,OXYGEN,OXYGEN_FLAG_W,SILCAT,SILCAT_FLAG_W,NITRAT,NITRAT_FLAG_W,NITRIT,NITRIT_FLAG_W,PHSPHT,PHSPHT_FLAG_W,CFC-11,CFC-11_FLAG_W,CFC-12,CFC-12_FLAG_W,SF6,SF6_FLAG_W,TCARBN,TCARBN_FLAG_W,ALKALI,ALKALI_FLAG_W,THETA
,,,,,,,,,,,METERS,DBAR,ITS-90,PSS-78,,PSS-78,,UMOL/KG,,UMOL/KG,,UMOL/KG,,UMOL/KG,,UMOL/KG,,PMOL/KG,,PMOL/KG,,FMOL/KG,,UMOL/KG,,UMOL/KG,,DEG C
06MT20060606,      EqAtl,      23,          1,      23001,          1,2,20060610,       0000,     2.3323,   -34.9985,       3900,  1335.4,   4.4936,  34.9506,2,  34.9526,2,   214.3,6,   18.20,6,   23.32,6,    0.00,6,    1.61,6,   0.193,2,   0.111,2, -999.00,9,  2181.6,2,  2310.6,6,   4.3832
06MT20060606,      EqAtl,      23,          1,      23002,          2,2,20060610,       0000,     2.3323,   -34.9985,       3900,  1106.3,   4.6731,  34.7769,2,-999.0000,9,   167.7,2,   24.71,2,   30.70,2,    0.00,2,    2.09,2,   0.037,2,   0.017,2, -999.00,9,  2208.0,2,  2304.6,2,   4.5823
06MT20060606,      EqAtl,      23,          1,      23003,          3,2,20060610,       0000,     2.3323,   -34.9985,       3900,   903.1,   4.7657,  34.6052,2,  34.6079,2,   152.0,2,   27.50,2,   34.22,2,    0.00,2,    2.33,2,   0.105,6,   0.056,6, -999.00,9,  2217.1,2,  2299.0,2,   4.6925
06MT20060606,      EqAtl,      23,          1,      23004,          4,2,20060610,       0000,     2.3323,   -34.9985,       3900,   653.9,   6.0092,  34.5785,2,-999.0000,9,   124.5,2,   22.34,2,   35.89,2,    0.00,2,    2.38,2,   0.267,6,   0.138,6, -999.00,9,  2220.8,2,  2288.7,2,   5.9512
06MT20060606,      EqAtl,      23,          1,      23005,          5,2,20060610,       0000,     2.3323,   -34.9985,       3900,   501.3,   6.7689,  34.5923,2,  34.5906,2,   139.0,2,   18.53,2,   32.72,2,    0.00,2,    2.17,2,   0.892,2,   0.449,2, -999.00,9,  2206.6,2,  2289.4,2,   6.7221
06MT20060606,      EqAtl,      23,          1,      23006,          6,2,20060610,       0000,     2.3323,   -34.9985,       3900,   302.1,  11.6280,  35.1076,2,-999.0000,9,   109.3,2,    9.32,2,   25.32,2,    0.01,2,    1.68,2,   1.662,2,   0.913,2, -999.00,9,  2193.2,2,  2304.1,2,  11.5892
06MT20060606,      EqAtl,      23,          1,      23007,          7,2,20060610,       0000,     2.3323,   -34.9985,       3900,   251.9,  12.0701,  35.1627,2,-999.0000,9,   110.2,2,    8.61,2,   24.08,2,    0.01,2,    1.61,2,   1.754,2,   0.949,2, -999.00,9,  -999.0,9,  -999.0,9,  12.0370
06MT20060606,      EqAtl,      23,          1,      23008,          8,2,20060610,       0000,     2.3323,   -34.9985,       3900,   201.8,  12.6892,  35.2348,2,  35.2207,2,   112.3,2,    8.06,2,   22.87,2,    0.00,2,    1.53,2,   1.877,2,   1.017,2, -999.00,9,  2187.3,2,  2308.3,2,  12.6618
06MT20060606,      EqAtl,      23,          1,      23009,          9,2,20060610,       0000,     2.3323,   -34.9985,       3900,   160.8,  13.0616,  35.2854,2,-999.0000,9,   163.7,2,    5.96,2,   15.90,2,    0.01,2,    1.16,2,   2.302,2,   1.265,2, -999.00,9,  -999.0,9,  -999.0,9,  13.0394
06MT20060606,      EqAtl,      23,          1,      23010,         10,2,20060610,       0000,     2.3323,   -34.9985,       3900,   121.0,  13.8149,  35.4096,2,-999.0000,9,   165.4,2,    5.62,2,   14.54,2,    0.01,2,    1.05,2,   2.258,2,   1.260,2, -999.00,9,  -999.0,9,  -999.0,9,  13.7975
06MT20060606,      EqAtl,      23,          1,      23011,         11,2,20060610,       0000,     2.3323,   -34.9985,       3900,   101.1,  14.6854,  35.5471,2,-999.0000,9,   166.4,2,    4.79,2,   13.15,2,    0.02,2,    0.96,2,   2.241,2,   1.260,2, -999.00,9,  2144.5,2,  2329.1,2,  14.6703
06MT20060606,      EqAtl,      23,          1,      23012,         12,2,20060610,       0000,     2.3323,   -34.9985,       3900,   100.7,  14.6877,  35.5476,2,-999.0000,9,  -999.0,9, -999.00,9, -999.00,9, -999.00,9, -999.00,9,-999.000,9,-999.000,9, -999.00,9,  -999.0,9,  -999.0,9,  14.6726
06MT20060606,      EqAtl,      23,          1,      23013,         13,2,20060610,       0000,     2.3323,   -34.9985,       3900,    80.2,  17.5090,  35.8794,2,-999.0000,9,   148.3,2,    3.56,2,   11.47,2,    0.10,2,    0.73,2,   2.058,2,   1.208,2, -999.00,9,  -999.0,9,  -999.0,9,  17.4954
06MT20060606,      EqAtl,      23,          1,      23014,         14,2,20060610,       0000,     2.3323,   -34.9985,       3900,    60.9,  26.4756,  36.1529,2,-999.0000,9,   198.5,2,    0.50,2,    0.14,2,    0.02,2,    0.01,2,   1.654,2,   1.037,2, -999.00,9,  2030.7,2,  2367.9,2,  26.4618
06MT20060606,      EqAtl,      23,          1,      23015,         15,2,20060610,       0000,     2.3323,   -34.9985,       3900,    59.7,  26.6204,  36.1451,2,-999.0000,9,  -999.0,9, -999.00,9, -999.00,9, -999.00,9, -999.00,9,-999.000,9,-999.000,9, -999.00,9,  -999.0,9,  -999.0,9,  26.6068
06MT20060606,      EqAtl,      23,          1,      23016,         16,2,20060610,       0000,     2.3323,   -34.9985,       3900,    39.9,  28.2437,  35.6445,2,-999.0000,9,   202.7,2,    0.38,2,    0.00,2,    0.00,2,    0.00,2,   1.814,6,   1.028,6, -999.00,9,  -999.0,9,  -999.0,9,  28.2342
06MT20060606,      EqAtl,      23,          1,      23017,         17,2,20060610,       0000,     2.3323,   -34.9985,       3900,    40.5,  28.2465,  35.6451,2,-999.0000,9,  -999.0,9, -999.00,9, -999.00,9, -999.00,9, -999.00,9,-999.000,9,-999.000,9, -999.00,9,  -999.0,9,  -999.0,9,  28.2369
06MT20060606,      EqAtl,      23,          1,      23018,         18,2,20060610,       0000,     2.3323,   -34.9985,       3900,    20.3,  28.2467,  35.6438,2,-999.0000,9,   202.9,2,    0.39,2,    0.02,2,    0.00,2,    0.00,2,   1.690,2,   1.003,2, -999.00,9,  -999.0,9,  -999.0,9,  28.2419
06MT20060606,      EqAtl,      23,          1,      23019,         19,2,20060610,       0000,     2.3323,   -34.9985,       3900,    20.2,  28.2429,  35.6440,2,-999.0000,9,  -999.0,9, -999.00,9, -999.00,9, -999.00,9, -999.00,9,-999.000,9,-999.000,9, -999.00,9,  -999.0,9,  -999.0,9,  28.2381
06MT20060606,      EqAtl,      23,          1,      23020,         20,2,20060610,       0000,     2.3323,   -34.9985,       3900,    13.9,  28.2478,  35.6448,2,-999.0000,9,   201.9,6,    0.38,6,    0.03,6,    0.00,6,    0.02,6,   1.599,2,   1.010,2, -999.00,9,  1981.3,6,  2325.3,2,  28.2445
06MT20060606,      EqAtl,      23,          1,      23021,         21,2,20060610,       0000,     2.3323,   -34.9985,       3900,    14.2,  28.2492,  35.6447,2,-999.0000,9,  -999.0,9, -999.00,9, -999.00,9, -999.00,9, -999.00,9,-999.000,9,-999.000,9, -999.00,9,  -999.0,9,  -999.0,9,  28.2458
06MT20060606,      EqAtl,      24,          1,      24001,          1,2,20060610,       0000,     2.6698,   -35.0012,       3753,    22.1,  28.1457,  35.4789,2,-999.0000,9,  -999.0,9, -999.00,9, -999.00,9, -999.00,9, -999.00,9,-999.000,9,-999.000,9, -999.00,9,  -999.0,9,  -999.0,9,  28.1405
06MT20060606,      EqAtl,      24,          1,      24002,          2,2,20060610,       0000,     2.6698,   -35.0012,       3753,    82.1,  15.8862,  35.7749,2,-999.0000,9,  -999.0,9, -999.00,9, -999.00,9, -999.00,9, -999.00,9,-999.000,9,-999.000,9, -999.00,9,  -999.0,9,  -999.0,9,  15.8732
06MT20060606,      EqAtl,      24,          1,      24003,          3,2,20060610,       0000,     2.6698,   -35.0012,       3753,   213.0,  12.6426,  35.2313,2,-999.0000,9,  -999.0,9, -999.00,9, -999.00,9, -999.00,9, -999.00,9,-999.000,9,-999.000,9, -999.00,9,  -999.0,9,  -999.0,9,  12.6138
06MT20060606,      EqAtl,      24,          1,      24004,          4,2,20060610,       0000,     2.6698,   -35.0012,       3753,   400.3,  10.3897,  34.9600,2,-999.0000,9,  -999.0,9, -999.00,9, -999.00,9, -999.00,9, -999.00,9,-999.000,9,-999.000,9, -999.00,9,  -999.0,9,  -999.0,9,  10.3417
06MT20060606,      EqAtl,      24,          1,      24005,          5,2,20060610,       0000,     2.6698,   -35.0012,       3753,   600.3,   6.4785,  34.6091,2,-999.0000,9,  -999.0,9, -999.00,9, -999.00,9, -999.00,9, -999.00,9,-999.000,9,-999.000,9, -999.00,9,  -999.0,9,  -999.0,9,   6.4233
06MT20060606,      EqAtl,      24,          1,      24006,          6,2,20060610,       0000,     2.6698,   -35.0012,       3753,   906.2,   4.7483,  34.5957,2,-999.0000,9,  -999.0,9, -999.00,9, -999.00,9, -999.00,9, -999.00,9,-999.000,9,-999.000,9, -999.00,9,  -999.0,9,  -999.0,9,   4.6750
06MT20060606,      EqAtl,      24,          1,      24007,          7,2,20060610,       0000,     2.6698,   -35.0012,       3753,    81.5,  17.1044,  35.8725,2,-999.0000,9,  -999.0,9, -999.00,9, -999.00,9, -999.00,9, -999.00,9,-999.000,9,-999.000,9, -999.00,9,  -999.0,9,  -999.0,9,  17.0908
06MT20060606,      EqAtl,      24,          1,      24008,          8,2,20060610,       0000,     2.6698,   -35.0012,       3753,    21.4,  28.1405,  35.5353,2,-999.0000,9,  -999.0,9, -999.00,9, -999.00,9, -999.00,9, -999.00,9,-999.000,9,-999.000,9, -999.00,9,  -999.0,9,  -999.0,9,  28.1354
06MT20060606,      EqAtl,      25,          1,      25001,          1,2,20060610,       0000,     3.0013,   -34.9987,       3915,  1312.0,   4.5498,  34.9287,2,  34.9264,2,   205.5,6,   18.90,6,   24.71,6,    0.00,6,    1.68,6,   0.144,6,   0.076,6, -999.00,9,  2187.6,2,  2307.3,6,   4.4411
06MT20060606,      EqAtl,      25,          1,      25002,          2,2,20060610,       0000,     3.0013,   -34.9987,       3915,  1107.5,   4.7151,  34.7905,2,-999.0000,9,   168.2,2,   23.62,2,   30.36,2,    0.00,2,    2.07,2,   0.036,2,   0.030,2, -999.00,9,  2208.3,2,  2306.9,2,   4.6238
06MT20060606,      EqAtl,      25,          1,      25003,          3,2,20060610,       0000,     3.0013,   -34.9987,       3915,   904.7,   4.7453,  34.6067,2,-999.0000,9,   149.6,2,   27.67,2,   34.33,2,    0.00,2,    2.36,2,   0.058,2,   0.038,2, -999.00,9,  2219.6,2,  2298.8,2,   4.6721
06MT20060606,      EqAtl,      25,          1,      25004,          4,2,20060610,       0000,     3.0013,   -34.9987,       3915,   702.8,   5.4685,  34.5553,2,  34.5565,2,   131.7,2,   24.76,2,   35.44,2,    0.01,2,    2.40,2,   0.186,2,   0.098,2, -999.00,9,  2222.2,2,  2291.4,2,   5.4089
06MT20060606,      EqAtl,      25,          1,      25005,          5,2,20060610,       0000,     3.0013,   -34.9987,       3915,   503.2,   8.1033,  34.7652,2,-999.0000,9,   103.8,2,   16.06,2,   33.49,2,    0.01,2,    2.15,2,   0.703,2,   0.362,2, -999.00,9,  2218.1,2,  2291.8,2,   8.0511
06MT20060606,      EqAtl,      25,          1,      25006,          6,2,20060610,       0000,     3.0013,   -34.9987,       3915,   301.8,  11.7197,  35.1177,2,  35.1059,2,   111.0,2,    8.78,2,   24.86,2,    0.00,2,    1.66,2,   1.676,2,   0.902,2, -999.00,9,  2193.5,2,  2304.2,2,  11.6807
06MT20060606,      EqAtl,      25,          1,      25007,          7,2,20060610,       0000,     3.0013,   -34.9987,       3915,   251.6,  11.9700,  35.1490,2,-999.0000,9,   113.3,2,    8.45,2,   24.03,2,    0.01,2,    1.61,2,   1.756,2,   0.956,2, -999.00,9,  2189.4,2,  2307.4,2,  11.9371
06MT20060606,      EqAtl,      25,          1,      25008,          8,2,20060610,       0000,     3.0013,   -34.9987,       3915,   201.6,  12.4066,  35.2001,2,-999.0000,9,   127.5,2,    7.50,2,   21.18,2,    0.01,2,    1.46,2,-999.000,9,-999.000,9, -999.00,9,  2177.8,2,  2310.4,2,  12.3797
06MT20060606,      EqAtl,      25,          1,      25009,          9,2,20060610,       0000,     3.0013,   -34.9987,       3915,   160.2,  12.6238,  35.2232,2,-999.0000,9,   161.4,2,    6.46,2,   16.65,2,    0.01,2,    1.22,2,   2.242,2,   1.257,2, -999.00,9,  2154.3,2,  2312.6,2,  12.6022
06MT20060606,      EqAtl,      25,          1,      25010,         10,2,20060610,       0000,     3.0013,   -34.9987,       3915,   121.9,  12.9747,  35.2757,2,  35.2725,2,   163.9,2,    5.88,2,   16.04,2,    0.01,2,    1.15,2,   2.251,2,   1.242,2, -999.00,9,  2150.6,2,  2315.9,2,  12.9580
06MT20060606,      EqAtl,      25,          1,      25011,         11,2,20060610,       0000,     3.0013,   -34.9987,       3915,   100.5,  14.1679,  35.4792,2,-999.0000,9,   159.4,2,    5.28,2,   14.71,2,    0.02,2,    1.05,2,-999.000,9,-999.000,9, -999.00,9,  -999.0,9,  2327.6,2,  14.1532
06MT20060606,      EqAtl,      25,          1,      25012,         12,2,20060610,       0000,     3.0013,   -34.9987,       3915,   101.0,  14.1595,  35.4781,2,-999.0000,9,  -999.0,9, -999.00,9, -999.00,9, -999.00,9, -999.00,9,   2.168,6,   1.200,6, -999.00,9,  -999.0,9,  -999.0,9,  14.1448
06MT20060606,      EqAtl,      25,          1,      25013,         13,2,20060610,       0000,     3.0013,   -34.9987,       3915,    81.5,  14.9635,  35.6042,2,-999.0000,9,   157.8,2,    4.34,2,   13.55,2,    0.03,2,    0.94,2,   2.175,2,   1.209,2, -999.00,9,  2149.5,2,  2333.0,2,  14.9512
06MT20060606,      EqAtl,      25,          1,      25014,         14,2,20060610,       0000,     3.0013,   -34.9987,       3915,    61.5,  22.0818,  36.2288,2,-999.0000,9,   157.7,2,    1.73,2,    5.76,2,    0.22,2,    0.36,2,   1.866,2,   1.109,2, -999.00,9,  2114.5,2,  2364.5,2,  22.0695
06MT20060606,      EqAtl,      25,          1,      25015,         15,2,20060610,       0000,     3.0013,   -34.9987,       3915,    61.6,  22.0928,  36.2313,2,-999.0000,9,  -999.0,9, -999.00,9, -999.00,9, -999.00,9, -999.00,9,-999.000,9,-999.000,9, -999.00,9,  -999.0,9,  -999.0,9,  22.0805
06MT20060606,      EqAtl,      25,          1,      25016,         16,2,20060610,       0000,     3.0013,   -34.9987,       3915,    40.8,  27.2727,  36.0184,2,-999.0000,9,   203.4,2,    0.08,2,    0.01,2,    0.01,2,    0.00,2,   1.817,2,   1.034,2, -999.00,9,  2012.9,2,  2349.5,2,  27.2632
06MT20060606,      EqAtl,      25,          1,      25017,         17,2,20060610,       0000,     3.0013,   -34.9987,       3915,    41.3,  27.2427,  36.0431,2,-999.0000,9,  -999.0,9, -999.00,9, -999.00,9, -999.00,9, -999.00,9,-999.000,9,-999.000,9, -999.00,9,  -999.0,9,  -999.0,9,  27.2331
06MT20060606,      EqAtl,      25,          1,      25018,         18,2,20060610,       0000,     3.0013,   -34.9987,       3915,    20.7,  28.1133,  35.5222,2,-999.0000,9,   204.3,2,    0.09,2,    0.00,2,    0.01,2,    0.00,2,   1.734,2,   1.009,2, -999.00,9,  -999.0,9,  -999.0,9,  28.1084
06MT20060606,      EqAtl,      25,          1,      25019,         19,2,20060610,       0000,     3.0013,   -34.9987,       3915,    20.3,  28.1124,  35.5311,2,-999.0000,9,  -999.0,9, -999.00,9, -999.00,9, -999.00,9, -999.00,9,-999.000,9,-999.000,9, -999.00,9,  -999.0,9,  -999.0,9,  28.1076
06MT20060606,      EqAtl,      25,          1,      25020,         20,2,20060610,       0000,     3.0013,   -34.9987,       3915,    10.7,  28.1015,  35.4956,2,-999.0000,9,   202.3,6,    0.03,6,    0.03,6,    0.00,6,    0.01,6,   1.586,6,   1.028,6, -999.00,9,  1970.2,6,  2315.8,2,  28.0990
06MT20060606,      EqAtl,      25,          1,      25021,         21,2,20060610,       0000,     3.0013,   -34.9987,       3915,    10.0,  28.0977,  35.4937,2,-999.0000,9,  -999.0,9, -999.00,9, -999.00,9, -999.00,9, -999.00,9,-999.000,9,-999.000,9, -999.00,9,  -999.0,9,  -999.0,9,  28.0953
06MT20060606,      EqAtl,      26,          1,      26001,          1,2,20060610,       0000,     3.4998,   -35.0012,       3978,  1311.2,   4.5764,  34.9157,2,-999.0000,9,  -999.0,9, -999.00,9, -999.00,9, -999.00,9, -999.00,9,-999.000,9,-999.000,9, -999.00,9,  -999.0,9,  -999.0,9,   4.4675
06MT20060606,      EqAtl,      26,          1,      26002,          2,2,20060610,       0000,     3.4998,   -35.0012,       3978,  1312.0,   4.5739,  34.9171,2,-999.0000,9,  -999.0,9, -999.00,9, -999.00,9, -999.00,9, -999.00,9,-999.000,9,-999.000,9, -999.00,9,  -999.0,9,  -999.0,9,   4.4650