BOTTLE,20211025CCHSIORKP
EXPOCODE,SECT_ID,STNNBR,CASTNO,SAMPNO,BTLNBR,BTLNBR_FLAG_W,DATE,TIME,LATITUDE,LONGITUDE,DEPTH,CTDPRS,CTDTMP,CTDSAL,CTDSAL_FLAG_W,SALNTY,SALNTY_FLAG_W,OXYGEN,OXYGEN_FLAG_W,SILCAT,SILCAT_FLAG_W,NITRAT,NITRAT_FLAG_W,NITRIT,NITRIT_FLAG_W,PHSPHT,PHSPHT_FLAG_W,CFC-11,CFC-11_FLAG_W,CFC-12,CFC-12_FLAG_W,SF6,SF6_FLAG_W,TCARBN,TCARBN_FLAG_W,ALKALI,ALKALI_FLAG_W,THETA
,,,,,,,,,,,METERS,DBAR,ITS-90,PSS-78,,PSS-78,,UMOL/KG,,UMOL/KG,,UMOL/KG,,UMOL/KG,,UMOL/KG,,PMOL/KG,,PMOL/KG,,FMOL/KG,,UMOL/KG,,UMOL/KG,,DEG C
06MT20060606,      EqAtl,      42,          1,      42001,          1,2,20060618,       0000,    -0.7505,   -23.0000,       3916,  3650.6,   2.4573,  34.9037,2,  34.9032,2,   252.4,6,   34.50,6,   20.62,6,    0.00,6,    1.44,6,   0.096,2,   0.058,2, -999.00,9,  2188.9,2,  2334.0,2,   2.1495
06MT20060606,      EqAtl,      42,          1,      42002,          2,2,20060618,       0000,    -0.7505,   -23.0000,       3916,  3543.6,   2.4590,  34.9043,2,  34.9042,2,   252.1,2,   34.95,2,   20.81,2,    0.00,2,    1.44,2,   0.089,2,   0.052,2, -999.00,9,  2188.7,2,  2328.4,2,   2.1628
06MT20060606,      EqAtl,      42,          1,      42003,          3,2,20060618,       0000,    -0.7505,   -23.0000,       3916,  3032.0,   2.6629,  34.9157,2,  34.9152,2,   246.6,2,   34.01,2,   21.34,2,    0.00,2,    1.46,2,   0.033,2,   0.023,2, -999.00,9,  2189.6,2,  2328.3,2,   2.4162
06MT20060606,      EqAtl,      42,          1,      42004,          4,2,20060618,       0000,    -0.7505,   -23.0000,       3916,  2627.1,   2.9171,  34.9315,2,  34.9315,2,   246.0,2,   29.69,2,   21.33,2,    0.00,2,    1.43,2,   0.031,2,   0.024,2, -999.00,9,  2184.2,2,  2321.8,2,   2.7062
06MT20060606,      EqAtl,      42,          1,      42005,          5,2,20060618,       0000,    -0.7505,   -23.0000,       3916,  2322.9,   3.2086,  34.9516,2,  34.9508,2,   249.7,2,   23.57,2,   20.45,2,    0.00,2,    1.37,2,   0.127,2,   0.046,2, -999.00,9,  2176.6,2,  2316.3,2,   3.0222
06MT20060606,      EqAtl,      42,          1,      42006,          6,2,20060618,       0000,    -0.7505,   -23.0000,       3916,  2020.5,   3.5583,  34.9685,2,  34.9675,2,   247.9,2,   19.02,2,   19.86,2,    0.00,2,    1.35,2,   0.112,2,   0.061,2, -999.00,9,  2172.9,2,  2310.9,2,   3.3953
06MT20060606,      EqAtl,      42,          1,      42007,          7,2,20060618,       0000,    -0.7505,   -23.0000,       3916,  1712.6,   3.9984,  34.9821,2,  34.9825,2,   243.1,2,   15.47,2,   20.12,2,    0.00,2,    1.35,2,   0.295,2,   0.149,2, -999.00,9,  2171.8,2,  2306.8,2,   3.8585
06MT20060606,      EqAtl,      42,          1,      42008,          8,2,20060618,       0000,    -0.7505,   -23.0000,       3916,  1512.1,   4.3045,  34.9610,2,  34.9608,2,   225.3,2,   16.79,2,   22.37,2,    0.00,2,    1.50,2,   0.235,2,   0.119,2, -999.00,9,  2176.4,2,  2308.4,2,   4.1797
06MT20060606,      EqAtl,      42,          1,      42009,          9,2,20060618,       0000,    -0.7505,   -23.0000,       3916,  1106.6,   4.5361,  34.7003,2,-999.0000,9,   165.1,2,   26.68,2,   32.16,2,    0.00,2,    2.17,2,   0.046,2,   0.028,2, -999.00,9,  2217.8,2,  2301.7,2,   4.4466
06MT20060606,      EqAtl,      42,          1,      42010,         10,2,20060618,       0000,    -0.7505,   -23.0000,       3916,   901.9,   4.5944,  34.5521,2,  34.5525,2,   153.9,2,   28.62,2,   34.71,2,    0.00,2,    2.36,2,   0.114,2,   0.057,2, -999.00,9,  2222.8,2,  2297.0,2,   4.5226
06MT20060606,      EqAtl,      42,          1,      42011,         11,2,20060618,       0000,    -0.7505,   -23.0000,       3916,   699.9,   5.4264,  34.5058,2,-999.0000,9,   148.3,6,   24.00,6,   34.46,6,    0.00,6,    2.32,6,   0.462,6,   0.239,6, -999.00,9,  2216.2,2,  2291.5,2,   5.3673
06MT20060606,      EqAtl,      42,          1,      42012,         12,2,20060618,       0000,    -0.7505,   -23.0000,       3916,   500.2,   7.4147,  34.6543,2,  34.6504,2,   122.1,2,   16.92,2,   33.08,2,    0.00,2,    2.14,2,   0.937,2,   0.487,2, -999.00,9,  2216.1,2,  2290.1,2,   7.3655
06MT20060606,      EqAtl,      42,          1,      42013,         13,2,20060618,       0000,    -0.7505,   -23.0000,       3916,   300.9,  11.3152,  35.0735,2,-999.0000,9,    86.6,2,   10.53,2,   28.16,2,    0.01,2,    1.82,2,   1.429,2,   0.774,2, -999.00,9,  2209.6,2,  2302.2,2,  11.2772
06MT20060606,      EqAtl,      42,          1,      42014,         14,2,20060618,       0000,    -0.7505,   -23.0000,       3916,   200.4,  13.5187,  35.3491,2,-999.0000,9,  -999.0,9, -999.00,9, -999.00,9, -999.00,9, -999.00,9,-999.000,9,-999.000,9, -999.00,9,  -999.0,9,  -999.0,9,  13.4903
06MT20060606,      EqAtl,      42,          1,      42015,         15,2,20060618,       0000,    -0.7505,   -23.0000,       3916,   160.4,  14.1921,  35.4456,2,-999.0000,9,   147.8,2,    5.53,2,   15.83,2,    0.02,2,    1.12,2,   2.277,2,   1.242,2, -999.00,9,  2161.3,2,  2324.5,2,  14.1686
06MT20060606,      EqAtl,      42,          1,      42016,         16,2,20060618,       0000,    -0.7505,   -23.0000,       3916,   120.9,  15.2065,  35.5959,2,-999.0000,9,   168.6,2,    4.03,2,   12.06,2,    0.03,2,    0.89,2,   2.399,2,   1.306,2, -999.00,9,  2143.9,2,  2333.2,2,  15.1880
06MT20060606,      EqAtl,      42,          1,      42017,         17,2,20060618,       0000,    -0.7505,   -23.0000,       3916,   101.5,  16.2474,  35.7546,2,-999.0000,9,   169.6,2,    3.43,2,   10.20,2,    0.06,2,    0.79,2,   2.336,2,   1.321,2, -999.00,9,  2141.3,2,  2344.2,2,  16.2311
06MT20060606,      EqAtl,      42,          1,      42018,         18,2,20060618,       0000,    -0.7505,   -23.0000,       3916,    80.1,  18.2412,  36.0364,2,-999.0000,9,   172.1,2,    2.38,2,    7.71,2,    0.11,2,    0.62,2,   2.342,2,   1.303,2, -999.00,9,  2134.1,2,  2359.0,2,  18.2273
06MT20060606,      EqAtl,      42,          1,      42019,         19,2,20060618,       0000,    -0.7505,   -23.0000,       3916,    51.9,  23.6277,  36.2782,2,-999.0000,9,   176.0,2,    1.39,2,    2.57,2,    0.23,2,    0.32,2,   1.906,6,   1.157,6, -999.00,9,  2103.4,2,  2373.3,2,  23.6168
06MT20060606,      EqAtl,      42,          1,      42020,         20,2,20060618,       0000,    -0.7505,   -23.0000,       3916,    40.6,  25.5988,  36.1873,2,-999.0000,9,   196.1,2,    0.67,2,    0.48,2,    0.07,2,    0.10,2,   1.786,2,   1.101,2, -999.00,9,  2055.9,2,  2365.6,2,  25.5898
06MT20060606,      EqAtl,      42,          1,      42021,         21,2,20060618,       0000,    -0.7505,   -23.0000,       3916,     9.7,  26.5977,  35.9008,2,  35.8912,2,   199.9,2,    1.71,2,    0.04,2,    0.01,2,    0.05,2,   1.696,2,   1.067,2, -999.00,9,  2028.0,6,  2347.6,2,  26.5955
06MT20060606,      EqAtl,      43,          1,      43001,          1,2,20060618,       0000,    -0.5010,   -23.0010,       3916,  1312.3,   4.5065,  34.9167,2,  34.9140,2,   205.6,6,   19.63,6,   24.84,6,    0.00,6,    1.69,6,   0.144,6,   0.080,6, -999.00,9,  2188.3,2,  2315.1,2,   4.3982
06MT20060606,      EqAtl,      43,          1,      43002,          2,2,20060618,       0000,    -0.5010,   -23.0010,       3916,  1109.3,   4.5139,  34.7507,2,-999.0000,9,   172.4,2,   25.76,2,   30.82,2,    0.01,2,    2.06,2,   0.042,2,   0.034,2, -999.00,9,  2208.8,2,  2305.0,2,   4.4242
06MT20060606,      EqAtl,      43,          1,      43003,          3,2,20060618,       0000,    -0.5010,   -23.0010,       3916,   904.7,   4.5527,  34.5930,2,-999.0000,9,   155.1,2,   28.83,2,   34.06,2,    0.00,2,    2.30,2,   0.055,2,   0.039,2, -999.00,9,  2218.7,2,  2298.7,2,   4.4809
06MT20060606,      EqAtl,      43,          1,      43004,          4,2,20060618,       0000,    -0.5010,   -23.0010,       3916,   703.4,   5.1647,  34.5014,2,-999.0000,9,   150.5,2,   25.51,2,   34.71,2,    0.00,2,    2.34,2,   0.376,2,   0.200,2, -999.00,9,  2214.1,2,  2290.8,2,   5.1067
06MT20060606,      EqAtl,      43,          1,      43005,          5,2,20060618,       0000,    -0.5010,   -23.0010,       3916,   500.5,   7.0513,  34.6210,2,-999.0000,9,   129.1,2,   17.89,2,   33.13,2,    0.01,2,    2.14,2,-999.000,9,-999.000,9, -999.00,9,  2210.3,2,  2288.8,2,   7.0035
06MT20060606,      EqAtl,      43,          1,      43006,          6,2,20060618,       0000,    -0.5010,   -23.0010,       3916,   300.7,  10.5661,  34.9820,2,-999.0000,9,   103.6,2,   11.05,2,   28.40,2,    0.01,2,    1.80,2,   1.438,2,   0.776,2, -999.00,9,  2205.0,2,  2298.7,2,  10.5298
06MT20060606,      EqAtl,      43,          1,      43007,          7,2,20060618,       0000,    -0.5010,   -23.0010,       3916,   250.3,  12.4829,  35.2118,2,-999.0000,9,    89.0,2,    8.82,2,   25.68,2,    0.01,2,    1.66,2,   1.661,2,   0.913,2, -999.00,9,  2203.9,2,  2307.8,2,  12.4492
06MT20060606,      EqAtl,      43,          1,      43008,          8,2,20060618,       0000,    -0.5010,   -23.0010,       3916,   199.4,  13.6312,  35.3657,2,-999.0000,9,   151.1,2,    6.06,2,   17.83,2,    0.01,2,    1.24,2,-999.000,9,-999.000,9, -999.00,9,  2164.9,2,  2319.2,2,  13.6028
06MT20060606,      EqAtl,      43,          1,      43009,          9,2,20060618,       0000,    -0.5010,   -23.0010,       3916,   160.3,  14.4541,  35.4843,2,-999.0000,9,   154.7,2,    4.78,2,   14.46,2,    0.02,2,    1.05,2,   2.225,2,   1.240,2, -999.00,9,  2152.1,2,  2328.0,2,  14.4304
06MT20060606,      EqAtl,      43,          1,      43010,         10,2,20060618,       0000,    -0.5010,   -23.0010,       3916,   119.7,  15.9500,  35.7080,2,-999.0000,9,   170.1,2,    3.63,2,   11.06,2,    0.05,2,    0.85,2,   2.332,2,   1.327,2, -999.00,9,  2137.8,2,  2341.8,2,  15.9310
06MT20060606,      EqAtl,      43,          1,      43011,         11,2,20060618,       0000,    -0.5010,   -23.0010,       3916,   101.0,  17.5848,  35.9351,2,-999.0000,9,   165.7,6,    3.08,6,    9.49,6,    0.09,6,    0.73,6,   2.194,3,   0.815,3, -999.00,9,  2136.1,2,  2356.3,2,  17.5677
06MT20060606,      EqAtl,      43,          1,      43012,         12,2,20060618,       0000,    -0.5010,   -23.0010,       3916,   101.6,  17.5458,  35.9298,2,-999.0000,9,  -999.0,9, -999.00,9, -999.00,9, -999.00,9, -999.00,9,-999.000,9,-999.000,9, -999.00,9,  -999.0,9,  -999.0,9,  17.5286
06MT20060606,      EqAtl,      43,          1,      43013,         13,2,20060618,       0000,    -0.5010,   -23.0010,       3916,    79.8,  20.2550,  36.3001,2,-999.0000,9,   177.5,2,    1.81,2,    5.12,2,    0.21,2,    0.47,2,   2.122,2,   1.256,2, -999.00,9,  2121.0,2,  2376.5,2,  20.2400
06MT20060606,      EqAtl,      43,          1,      43014,         14,2,20060618,       0000,    -0.5010,   -23.0010,       3916,    60.4,  22.4594,  36.4491,2,-999.0000,9,   187.2,2,    1.24,2,    2.87,2,    0.23,2,    0.28,2,   1.970,6,   1.183,6, -999.00,9,  2098.8,2,  2388.8,2,  22.4472
06MT20060606,      EqAtl,      43,          1,      43015,         15,2,20060618,       0000,    -0.5010,   -23.0010,       3916,    60.3,  22.4705,  36.4482,2,-999.0000,9,  -999.0,9, -999.00,9, -999.00,9, -999.00,9, -999.00,9,-999.000,9,-999.000,9, -999.00,9,  -999.0,9,  -999.0,9,  22.4583
06MT20060606,      EqAtl,      43,          1,      43016,         16,2,20060618,       0000,    -0.5010,   -23.0010,       3916,    40.1,  25.3761,  36.1898,2,-999.0000,9,   196.3,2,    0.64,2,    0.75,2,    0.09,2,    0.12,2,   2.122,2,   1.087,2, -999.00,9,  2055.6,2,  2369.8,2,  25.3673
06MT20060606,      EqAtl,      43,          1,      43017,         17,2,20060618,       0000,    -0.5010,   -23.0010,       3916,    40.5,  25.2726,  36.2012,2,-999.0000,9,  -999.0,9, -999.00,9, -999.00,9, -999.00,9, -999.00,9,-999.000,9,-999.000,9, -999.00,9,  -999.0,9,  -999.0,9,  25.2637
06MT20060606,      EqAtl,      43,          1,      43018,         18,2,20060618,       0000,    -0.5010,   -23.0010,       3916,    20.3,  26.6110,  35.7843,2,-999.0000,9,   198.3,2,    0.62,2,    0.03,2,    0.01,2,    0.04,2,   2.058,2,   1.047,2, -999.00,9,  -999.0,9,  -999.0,9,  26.6064
06MT20060606,      EqAtl,      43,          1,      43019,         19,2,20060618,       0000,    -0.5010,   -23.0010,       3916,    20.8,  26.6109,  35.7839,2,-999.0000,9,  -999.0,9, -999.00,9, -999.00,9, -999.00,9, -999.00,9,-999.000,9,-999.000,9, -999.00,9,  -999.0,9,  -999.0,9,  26.6062
06MT20060606,      EqAtl,      43,          1,      43020,         20,2,20060618,       0000,    -0.5010,   -23.0010,       3916,    11.5,  26.6328,  35.7612,2,-999.0000,9,   198.4,2,    0.75,2,    0.03,2,    0.01,2,    0.06,2,   1.714,2,   1.039,2, -999.00,9,  2016.6,6,  2341.5,2,  26.6302
06MT20060606,      EqAtl,      43,          1,      43021,         21,2,20060618,       0000,    -0.5010,   -23.0010,       3916,    11.7,  26.6336,  35.7614,2,-999.0000,9,  -999.0,9, -999.00,9, -999.00,9, -999.00,9, -999.00,9,-999.000,9,-999.000,9, -999.00,9,  -999.0,9,  -999.0,9,  26.6309
06MT20060606,      EqAtl,      44,          1,      44001,          1,2,20060619,       0000,    -0.2537,   -23.0002,       3657,   300.9,  10.3818,  34.9587,2,-999.0000,9,  -999.0,9, -999.00,9, -999.00,9, -999.00,9, -999.00,9,-999.000,9,-999.000,9, -999.00,9,  -999.0,9,  -999.0,9,  10.3459
06MT20060606,      EqAtl,      44,          1,      44002,          2,2,20060619,       0000,    -0.2537,   -23.0002,       3657,   120.1,  15.9440,  35.7116,2,-999.0000,9,  -999.0,9, -999.00,9, -999.00,9, -999.00,9, -999.00,9,-999.000,9,-999.000,9, -999.00,9,  -999.0,9,  -999.0,9,  15.9250
06MT20060606,      EqAtl,      44,          1,      44003,          3,2,20060619,       0000,    -0.2537,   -23.0002,       3657,    80.2,  18.8117,  36.1226,2,-999.0000,9,  -999.0,9, -999.00,9, -999.00,9, -999.00,9, -999.00,9,-999.000,9,-999.000,9, -999.00,9,  -999.0,9,  -999.0,9,  18.7974
06MT20060606,      EqAtl,      44,          1,      44004,          4,2,20060619,       0000,    -0.2537,   -23.0002,       3657,    40.1,  24.9228,  36.2960,2,-999.0000,9,  -999.0,9, -999.00,9, -999.00,9, -999.00,9, -999.00,9,-999.000,9,-999.000,9, -999.00,9,  -999.0,9,  -999.0,9,  24.9141
06MT20060606,      EqAtl,      44,          1,      44005,          5,2,20060619,       0000,    -0.2537,   -23.0002,       3657,    11.9,  26.7343,  35.5724,2,-999.0000,9,  -999.0,9, -999.00,9, -999.00,9, -999.00,9, -999.00,9,-999.000,9,-999.000,9, -999.00,9,  -999.0,9,  -999.0,9,  26.7316