BOTTLE,20211025CCHSIORKP
EXPOCODE,SECT_ID,STNNBR,CASTNO,SAMPNO,BTLNBR,BTLNBR_FLAG_W,DATE,TIME,LATITUDE,LONGITUDE,DEPTH,CTDPRS,CTDTMP,CTDSAL,CTDSAL_FLAG_W,SALNTY,SALNTY_FLAG_W,OXYGEN,OXYGEN_FLAG_W,SILCAT,SILCAT_FLAG_W,NITRAT,NITRAT_FLAG_W,NITRIT,NITRIT_FLAG_W,PHSPHT,PHSPHT_FLAG_W,CFC-11,CFC-11_FLAG_W,CFC-12,CFC-12_FLAG_W,SF6,SF6_FLAG_W,TCARBN,TCARBN_FLAG_W,ALKALI,ALKALI_FLAG_W,THETA
,,,,,,,,,,,METERS,DBAR,ITS-90,PSS-78,,PSS-78,,UMOL/KG,,UMOL/KG,,UMOL/KG,,UMOL/KG,,UMOL/KG,,PMOL/KG,,PMOL/KG,,FMOL/KG,,UMOL/KG,,UMOL/KG,,DEG C
06MT20060606,      EqAtl,      34,          1,      34001,          1,2,20060617,       0000,    -3.5023,   -23.0008,       5475,  1311.2,   4.4157,  34.8710,2,-999.0000,9,  -999.0,9, -999.00,9, -999.00,9, -999.00,9, -999.00,9,-999.000,9,-999.000,9, -999.00,9,  -999.0,9,  -999.0,9,   4.3085
06MT20060606,      EqAtl,      34,          1,      34002,          2,2,20060617,       0000,    -3.5023,   -23.0008,       5475,    99.2,  16.9257,  35.6752,2,-999.0000,9,  -999.0,9, -999.00,9, -999.00,9, -999.00,9, -999.00,9,-999.000,9,-999.000,9, -999.00,9,  -999.0,9,  -999.0,9,  16.9093
06MT20060606,      EqAtl,      34,          1,      34003,          3,2,20060617,       0000,    -3.5023,   -23.0008,       5475,    77.7,  21.3363,  36.0274,2,-999.0000,9,  -999.0,9, -999.00,9, -999.00,9, -999.00,9, -999.00,9,-999.000,9,-999.000,9, -999.00,9,  -999.0,9,  -999.0,9,  21.3212
06MT20060606,      EqAtl,      34,          1,      34004,          4,2,20060617,       0000,    -3.5023,   -23.0008,       5475,    59.0,  26.5302,  36.2906,2,-999.0000,9,  -999.0,9, -999.00,9, -999.00,9, -999.00,9, -999.00,9,-999.000,9,-999.000,9, -999.00,9,  -999.0,9,  -999.0,9,  26.5168
06MT20060606,      EqAtl,      34,          1,      34005,          5,2,20060617,       0000,    -3.5023,   -23.0008,       5475,    39.2,  26.9248,  36.2922,2,-999.0000,9,  -999.0,9, -999.00,9, -999.00,9, -999.00,9, -999.00,9,-999.000,9,-999.000,9, -999.00,9,  -999.0,9,  -999.0,9,  26.9158
06MT20060606,      EqAtl,      34,          1,      34006,          6,2,20060617,       0000,    -3.5023,   -23.0008,       5475,    19.9,  26.9237,  36.2938,2,-999.0000,9,  -999.0,9, -999.00,9, -999.00,9, -999.00,9, -999.00,9,-999.000,9,-999.000,9, -999.00,9,  -999.0,9,  -999.0,9,  26.9191
06MT20060606,      EqAtl,      34,          1,      34007,          7,2,20060617,       0000,    -3.5023,   -23.0008,       5475,    11.2,  26.9157,  36.2945,2,-999.0000,9,  -999.0,9, -999.00,9, -999.00,9, -999.00,9, -999.00,9,-999.000,9,-999.000,9, -999.00,9,  -999.0,9,  -999.0,9,  26.9131
06MT20060606,      EqAtl,      35,          1,      35001,          1,2,20060617,       0000,    -3.0003,   -23.0007,       5473,  1311.6,   4.5566,  34.8862,2,  34.8839,2,   196.7,6,   20.46,6,   26.04,6,    0.00,6,    1.77,6,   0.126,2,   0.069,2, -999.00,9,  2190.9,2,  2308.8,6,   4.4480
06MT20060606,      EqAtl,      35,          1,      35002,          2,2,20060617,       0000,    -3.0003,   -23.0007,       5473,  1096.3,   4.3947,  34.7019,2,  34.7050,2,   167.2,2,   26.54,2,   31.61,2,    0.00,2,    2.15,2,   0.031,2,   0.011,2, -999.00,9,  2211.2,2,  2303.3,2,   4.3073
06MT20060606,      EqAtl,      35,          1,      35003,          3,2,20060617,       0000,    -3.0003,   -23.0007,       5473,   898.1,   4.3908,  34.5318,2,  34.5319,2,   162.3,2,   29.62,2,   34.99,2,    0.00,2,    2.33,2,   0.162,6,   0.082,6, -999.00,9,  2214.4,2,  2300.4,2,   4.3208
06MT20060606,      EqAtl,      35,          1,      35004,          4,2,20060617,       0000,    -3.0003,   -23.0007,       5473,   698.1,   4.9287,  34.4711,2,-999.0000,9,   157.2,2,   25.91,2,   35.44,2,    0.00,2,    2.34,2,   0.426,2,   0.227,2, -999.00,9,  2210.7,2,  2293.3,2,   4.8725
06MT20060606,      EqAtl,      35,          1,      35005,          5,2,20060617,       0000,    -3.0003,   -23.0007,       5473,   498.9,   7.4191,  34.6595,2,-999.0000,9,    95.9,2,   18.04,2,   37.14,2,    0.01,2,    2.34,2,   0.520,2,   0.260,2, -999.00,9,  2227.8,2,  2291.7,2,   7.3700
06MT20060606,      EqAtl,      35,          1,      35006,          6,2,20060617,       0000,    -3.0003,   -23.0007,       5473,   300.9,  11.5652,  35.1023,2,-999.0000,9,    81.4,2,    9.83,2,   28.54,2,    0.01,2,    1.81,2,   1.440,2,   0.780,2, -999.00,9,  2211.4,2,  2303.0,2,  11.5267
06MT20060606,      EqAtl,      35,          1,      35007,          7,2,20060617,       0000,    -3.0003,   -23.0007,       5473,   250.9,  12.4309,  35.2049,2,-999.0000,9,    81.9,2,    8.78,2,   26.80,2,    0.01,2,    1.72,2,   1.630,2,   0.881,2, -999.00,9,  2207.8,2,  2308.3,2,  12.3973
06MT20060606,      EqAtl,      35,          1,      35008,          8,2,20060617,       0000,    -3.0003,   -23.0007,       5473,   200.9,  13.2873,  35.3131,2,-999.0000,9,  -999.0,9, -999.00,9, -999.00,9, -999.00,9, -999.00,9,-999.000,9,-999.000,9, -999.00,9,  -999.0,9,  -999.0,9,  13.2592
06MT20060606,      EqAtl,      35,          1,      35009,          9,2,20060617,       0000,    -3.0003,   -23.0007,       5473,   201.4,  13.2810,  35.3126,2,-999.0000,9,    83.8,2,    7.83,2,   24.99,2,    0.01,2,    1.63,2,   1.792,6,   0.985,6, -999.00,9,  2201.9,2,  2313.0,2,  13.2528
06MT20060606,      EqAtl,      35,          1,      35010,         10,2,20060617,       0000,    -3.0003,   -23.0007,       5473,   160.1,  13.7511,  35.3768,2,-999.0000,9,    93.7,2,    7.27,2,   23.14,2,    0.01,2,    1.51,2,   1.899,2,   1.057,2, -999.00,9,  2194.0,2,  2316.9,2,  13.7282
06MT20060606,      EqAtl,      35,          1,      35011,         11,2,20060617,       0000,    -3.0003,   -23.0007,       5473,   119.9,  14.2544,  35.4448,2,-999.0000,9,    97.2,2,    6.74,2,   21.81,2,    0.02,2,    1.42,2,   2.010,2,   1.121,2, -999.00,9,  2190.5,2,  2319.3,2,  14.2368
06MT20060606,      EqAtl,      35,          1,      35012,         12,2,20060617,       0000,    -3.0003,   -23.0007,       5473,   100.7,  15.1730,  35.5467,2,-999.0000,9,   111.1,6,    5.44,6,   18.72,6,    0.06,6,    1.26,6,   2.087,2,   1.165,2, -999.00,9,  2177.9,2,  2329.0,2,  15.1576
06MT20060606,      EqAtl,      35,          1,      35013,         13,2,20060617,       0000,    -3.0003,   -23.0007,       5473,   100.4,  15.2497,  35.5531,2,-999.0000,9,  -999.0,9, -999.00,9, -999.00,9, -999.00,9, -999.00,9,-999.000,9,-999.000,9, -999.00,9,  -999.0,9,  -999.0,9,  15.2343
06MT20060606,      EqAtl,      35,          1,      35014,         14,2,20060617,       0000,    -3.0003,   -23.0007,       5473,    80.4,  18.3113,  35.7570,2,-999.0000,9,   137.7,2,    3.62,2,   11.52,2,    0.56,2,    0.85,2,   2.018,6,   1.174,6, -999.00,9,  2148.3,2,  2345.4,2,  18.2973
06MT20060606,      EqAtl,      35,          1,      35015,         15,2,20060617,       0000,    -3.0003,   -23.0007,       5473,    61.2,  22.7466,  36.0711,2,-999.0000,9,   181.2,2,    1.99,2,    2.65,2,    0.11,2,    0.34,2,   1.967,2,   1.145,2, -999.00,9,  2101.3,2,  2360.1,2,  22.7342
06MT20060606,      EqAtl,      35,          1,      35016,         16,2,20060617,       0000,    -3.0003,   -23.0007,       5473,    60.7,  22.7365,  36.0792,2,-999.0000,9,  -999.0,9, -999.00,9, -999.00,9, -999.00,9, -999.00,9,-999.000,9,-999.000,9, -999.00,9,  -999.0,9,  -999.0,9,  22.7242
06MT20060606,      EqAtl,      35,          1,      35017,         17,2,20060617,       0000,    -3.0003,   -23.0007,       5473,    40.5,  26.8122,  36.1141,2,-999.0000,9,   201.8,2,    0.81,2,    0.00,2,    0.00,2,    0.08,2,   1.672,2,   1.070,2, -999.00,9,  2041.4,2,  2363.3,2,  26.8029
06MT20060606,      EqAtl,      35,          1,      35018,         18,2,20060617,       0000,    -3.0003,   -23.0007,       5473,    40.1,  26.8240,  36.1176,2,-999.0000,9,  -999.0,9, -999.00,9, -999.00,9, -999.00,9, -999.00,9,-999.000,9,-999.000,9, -999.00,9,  -999.0,9,  -999.0,9,  26.8148
06MT20060606,      EqAtl,      35,          1,      35019,         19,2,20060617,       0000,    -3.0003,   -23.0007,       5473,    21.1,  27.0032,  36.0676,2,-999.0000,9,   200.5,2,    0.68,2,    0.00,2,    0.00,2,    0.07,2,   1.650,6,   1.050,6, -999.00,9,  -999.0,9,  -999.0,9,  26.9983
06MT20060606,      EqAtl,      35,          1,      35020,         20,2,20060617,       0000,    -3.0003,   -23.0007,       5473,    20.8,  27.0033,  36.0675,2,-999.0000,9,  -999.0,9, -999.00,9, -999.00,9, -999.00,9, -999.00,9,-999.000,9,-999.000,9, -999.00,9,  -999.0,9,  -999.0,9,  26.9985
06MT20060606,      EqAtl,      35,          1,      35021,         21,2,20060617,       0000,    -3.0003,   -23.0007,       5473,    10.5,  26.9977,  36.0692,2,  36.0627,2,   200.2,2,    0.56,2,    0.04,2,    0.00,2,    0.07,2,   1.645,2,   1.031,2, -999.00,9,  2034.5,6,  2358.9,2,  26.9953
06MT20060606,      EqAtl,      37,          1,      37001,          1,2,20060617,       0000,    -2.3332,   -23.0005,       4680,  1301.6,   4.5537,  34.8832,2,  34.8821,2,   195.8,6,   20.94,6,   26.18,6,    0.00,6,    1.76,6,   0.128,6,   0.063,6, -999.00,9,  2191.0,2,  2308.3,6,   4.4460
06MT20060606,      EqAtl,      37,          1,      37002,          2,2,20060617,       0000,    -2.3332,   -23.0005,       4680,  1099.4,   4.4341,  34.7142,2,-999.0000,9,   169.0,2,   27.06,2,   31.44,2,    0.00,2,    2.13,2,   0.042,2,   0.022,2, -999.00,9,  2209.9,2,  2303.2,2,   4.3461
06MT20060606,      EqAtl,      37,          1,      37003,          3,2,20060617,       0000,    -2.3332,   -23.0005,       4680,   896.6,   4.3761,  34.5396,2,-999.0000,9,   158.9,2,   30.59,2,   34.76,2,    0.00,2,    2.33,2,   0.098,2,   0.054,2, -999.00,9,  2218.8,2,  2299.4,2,   4.3063
06MT20060606,      EqAtl,      37,          1,      37004,          4,2,20060617,       0000,    -2.3332,   -23.0005,       4680,   699.1,   5.0617,  34.4810,2,-999.0000,9,   150.8,2,   27.12,2,   35.08,2,    0.00,2,    2.36,2,   0.386,2,   0.204,2, -999.00,9,  2214.1,2,  2292.0,2,   5.0047
06MT20060606,      EqAtl,      37,          1,      37005,          5,2,20060617,       0000,    -2.3332,   -23.0005,       4680,   499.1,   6.8151,  34.5715,2,-999.0000,9,   150.6,3,   17.90,2,   31.48,2,    0.00,2,    2.07,2,   1.219,2,   0.619,2, -999.00,9,  2198.3,3,  2297.8,2,   6.7683
06MT20060606,      EqAtl,      37,          1,      37006,          6,2,20060617,       0000,    -2.3332,   -23.0005,       4680,   300.6,  10.5732,  34.9863,2,-999.0000,9,    83.7,2,   11.68,2,   30.24,2,    0.00,2,    1.91,2,   1.273,2,   0.695,2, -999.00,9,  2215.4,2,  2299.0,2,  10.5369
06MT20060606,      EqAtl,      37,          1,      37007,          7,2,20060617,       0000,    -2.3332,   -23.0005,       4680,   250.5,  11.8426,  35.1326,2,-999.0000,9,    86.9,2,    9.28,2,   27.17,2,    0.01,2,    1.71,2,   1.576,2,   0.874,2, -999.00,9,  2205.6,2,  2306.6,2,  11.8101
06MT20060606,      EqAtl,      37,          1,      37008,          8,2,20060617,       0000,    -2.3332,   -23.0005,       4680,   199.8,  13.0994,  35.2876,2,-999.0000,9,  -999.0,9, -999.00,9, -999.00,9, -999.00,9, -999.00,9,   1.806,2,   0.989,2, -999.00,9,  2201.6,2,  2312.7,2,  13.0717
06MT20060606,      EqAtl,      37,          1,      37009,          9,2,20060617,       0000,    -2.3332,   -23.0005,       4680,   159.4,  13.6227,  35.3584,2,-999.0000,9,    89.7,2,    7.56,2,   23.70,2,    0.01,2,    1.54,2,   1.853,6,   1.038,6, -999.00,9,  2196.5,2,  2314.3,2,  13.6000
06MT20060606,      EqAtl,      37,          1,      37010,         10,2,20060617,       0000,    -2.3332,   -23.0005,       4680,   119.2,  14.3645,  35.4597,2,-999.0000,9,  -999.0,9, -999.00,9, -999.00,9, -999.00,9, -999.00,9,-999.000,9,-999.000,9, -999.00,9,  -999.0,9,  -999.0,9,  14.3469
06MT20060606,      EqAtl,      37,          1,      37011,         11,2,20060617,       0000,    -2.3332,   -23.0005,       4680,   100.3,  15.2611,  35.5383,2,-999.0000,9,  -999.0,9, -999.00,9, -999.00,9, -999.00,9, -999.00,9,-999.000,9,-999.000,9, -999.00,9,  -999.0,9,  -999.0,9,  15.2457
06MT20060606,      EqAtl,      37,          1,      37012,         12,2,20060617,       0000,    -2.3332,   -23.0005,       4680,   100.2,  15.2625,  35.5391,2,-999.0000,9,   103.8,6,    5.68,6,   19.59,6,    0.04,6,    1.28,6,   2.047,2,   1.188,2, -999.00,9,  2182.1,2,  2325.4,2,  15.2471
06MT20060606,      EqAtl,      37,          1,      37013,         13,2,20060617,       0000,    -2.3332,   -23.0005,       4680,    79.8,  18.0618,  35.7475,2,-999.0000,9,  -999.0,9, -999.00,9, -999.00,9, -999.00,9, -999.00,9,   2.006,2,   1.178,2, -999.00,9,  2162.7,2,  2336.7,2,  18.0480
06MT20060606,      EqAtl,      37,          1,      37014,         14,2,20060617,       0000,    -2.3332,   -23.0005,       4680,    62.1,  26.4603,  36.2774,2,-999.0000,9,   199.8,2,    0.57,2,    0.00,2,    0.00,2,    0.07,2,   1.717,2,   1.093,2, -999.00,9,  2050.1,2,  2372.2,2,  26.4462
06MT20060606,      EqAtl,      37,          1,      37015,         15,2,20060617,       0000,    -2.3332,   -23.0005,       4680,    60.4,  26.4945,  36.2836,2,-999.0000,9,   200.1,2,    0.90,2,    0.03,2,    0.01,2,    0.07,2,-999.000,9,-999.000,9, -999.00,9,  -999.0,9,  -999.0,9,  26.4808
06MT20060606,      EqAtl,      37,          1,      37016,         16,2,20060617,       0000,    -2.3332,   -23.0005,       4680,    41.4,  26.5662,  36.2958,2,-999.0000,9,   201.8,2,    0.42,2,    0.02,2,    0.00,2,    0.07,2,   1.928,2,   1.090,2, -999.00,9,  2048.7,2,  2377.5,2,  26.5568
06MT20060606,      EqAtl,      37,          1,      37017,         17,2,20060617,       0000,    -2.3332,   -23.0005,       4680,    41.4,  26.5633,  36.2959,2,-999.0000,9,  -999.0,9, -999.00,9, -999.00,9, -999.00,9, -999.00,9,-999.000,9,-999.000,9, -999.00,9,  -999.0,9,  -999.0,9,  26.5539
06MT20060606,      EqAtl,      37,          1,      37018,         18,2,20060617,       0000,    -2.3332,   -23.0005,       4680,    19.2,  26.6362,  36.2964,2,-999.0000,9,  -999.0,9, -999.00,9, -999.00,9, -999.00,9, -999.00,9,   1.876,6,   1.082,6, -999.00,9,  -999.0,9,  -999.0,9,  26.6318
06MT20060606,      EqAtl,      37,          1,      37019,         19,2,20060617,       0000,    -2.3332,   -23.0005,       4680,    20.5,  26.6227,  36.2963,2,-999.0000,9,   201.3,2,    0.57,2,    0.04,2,    0.00,2,    0.08,2,-999.000,9,-999.000,9, -999.00,9,  -999.0,9,  -999.0,9,  26.6180
06MT20060606,      EqAtl,      37,          1,      37020,         20,2,20060617,       0000,    -2.3332,   -23.0005,       4680,    11.8,  26.7106,  36.3003,2,-999.0000,9,  -999.0,9, -999.00,9, -999.00,9, -999.00,9, -999.00,9,   1.688,2,   1.083,2, -999.00,9,  2049.1,6,  2377.6,2,  26.7079
06MT20060606,      EqAtl,      37,          1,      37021,         21,2,20060617,       0000,    -2.3332,   -23.0005,       4680,    11.1,  26.7287,  36.3006,2,-999.0000,9,   200.6,2,    0.95,2,    0.06,2,    0.00,2,    0.08,2,-999.000,9,-999.000,9, -999.00,9,  -999.0,9,  -999.0,9,  26.7262
06MT20060606,      EqAtl,      38,          1,      38001,          1,2,20060617,       0000,    -2.0105,   -23.0270,       4680,   301.4,  10.5265,  34.9826,2,  34.9758,2,  -999.0,9, -999.00,9, -999.00,9, -999.00,9, -999.00,9,-999.000,9,-999.000,9, -999.00,9,  -999.0,9,  -999.0,9,  10.4902
06MT20060606,      EqAtl,      38,          1,      38002,          2,2,20060617,       0000,    -2.0105,   -23.0270,       4680,   120.7,  13.9406,  35.4063,2,-999.0000,9,  -999.0,9, -999.00,9, -999.00,9, -999.00,9, -999.00,9,-999.000,9,-999.000,9, -999.00,9,  -999.0,9,  -999.0,9,  13.9232
06MT20060606,      EqAtl,      38,          1,      38003,          3,2,20060617,       0000,    -2.0105,   -23.0270,       4680,    81.4,  15.8761,  35.5891,2,-999.0000,9,  -999.0,9, -999.00,9, -999.00,9, -999.00,9, -999.00,9,-999.000,9,-999.000,9, -999.00,9,  -999.0,9,  -999.0,9,  15.8633
06MT20060606,      EqAtl,      38,          1,      38004,          4,2,20060617,       0000,    -2.0105,   -23.0270,       4680,    40.8,  26.5696,  36.3192,2,  36.3200,2,  -999.0,9, -999.00,9, -999.00,9, -999.00,9, -999.00,9,-999.000,9,-999.000,9, -999.00,9,  -999.0,9,  -999.0,9,  26.5603
06MT20060606,      EqAtl,      38,          1,      38005,          5,2,20060617,       0000,    -2.0105,   -23.0270,       4680,    12.1,  26.7241,  36.2863,2,-999.0000,9,  -999.0,9, -999.00,9, -999.00,9, -999.00,9, -999.00,9,-999.000,9,-999.000,9, -999.00,9,  -999.0,9,  -999.0,9,  26.7213