BOTTLE,20211025CCHSIORKP
EXPOCODE,SECT_ID,STNNBR,CASTNO,SAMPNO,BTLNBR,BTLNBR_FLAG_W,DATE,TIME,LATITUDE,LONGITUDE,DEPTH,CTDPRS,CTDTMP,CTDSAL,CTDSAL_FLAG_W,SALNTY,SALNTY_FLAG_W,OXYGEN,OXYGEN_FLAG_W,SILCAT,SILCAT_FLAG_W,NITRAT,NITRAT_FLAG_W,NITRIT,NITRIT_FLAG_W,PHSPHT,PHSPHT_FLAG_W,CFC-11,CFC-11_FLAG_W,CFC-12,CFC-12_FLAG_W,SF6,SF6_FLAG_W,TCARBN,TCARBN_FLAG_W,ALKALI,ALKALI_FLAG_W,THETA
,,,,,,,,,,,METERS,DBAR,ITS-90,PSS-78,,PSS-78,,UMOL/KG,,UMOL/KG,,UMOL/KG,,UMOL/KG,,UMOL/KG,,PMOL/KG,,PMOL/KG,,FMOL/KG,,UMOL/KG,,UMOL/KG,,DEG C
06MT20060606,      EqAtl,      55,          1,      55001,          1,2,20060623,       0000,    -0.0035,   -17.0217,       3513,  1312.5,   4.5008,  34.9040,2,  34.9024,2,   203.3,6,   20.43,6,   25.28,6,    0.00,6,    1.72,6,   0.104,6,   0.060,6, -999.00,9,  2189.4,6,  2307.2,2,   4.3926
06MT20060606,      EqAtl,      55,          1,      55002,          2,2,20060623,       0000,    -0.0035,   -17.0217,       3513,  1097.8,   4.5472,  34.7338,2,-999.0000,9,   168.8,2,   26.25,2,   31.06,2,    0.00,2,    2.12,2,   0.036,2,   0.019,2, -999.00,9,  2210.8,2,  2305.3,2,   4.4583
06MT20060606,      EqAtl,      55,          1,      55003,          3,2,20060623,       0000,    -0.0035,   -17.0217,       3513,   898.1,   4.6900,  34.5456,2,  34.5459,2,   153.2,2,   29.17,2,   35.09,2,    0.00,2,    2.37,2,   0.132,2,   0.074,2, -999.00,9,  2219.4,2,  2296.8,2,   4.6179
06MT20060606,      EqAtl,      55,          1,      55004,          4,2,20060623,       0000,    -0.0035,   -17.0217,       3513,   698.4,   5.2981,  34.5050,2,  34.5044,2,   148.7,2,   24.78,2,   34.90,2,    0.00,2,    2.33,2,   0.402,2,   0.206,2, -999.00,9,  2213.9,2,  2291.7,2,   5.2398
06MT20060606,      EqAtl,      55,          1,      55005,          5,2,20060623,       0000,    -0.0035,   -17.0217,       3513,   499.0,   7.0670,  34.6166,2,-999.0000,9,   132.8,2,   18.20,2,   33.04,2,    0.00,2,    2.14,2,   0.880,2,   0.443,2, -999.00,9,  2207.2,2,  2289.4,2,   7.0193
06MT20060606,      EqAtl,      55,          1,      55006,          6,2,20060623,       0000,    -0.0035,   -17.0217,       3513,   297.3,  10.1109,  34.9290,2,-999.0000,9,   112.7,2,   11.31,2,   28.50,2,    0.01,2,    1.79,2,   1.450,2,   0.750,2, -999.00,9,  2200.6,2,  2299.3,2,  10.0760
06MT20060606,      EqAtl,      55,          1,      55007,          7,2,20060623,       0000,    -0.0035,   -17.0217,       3513,   250.0,  12.1206,  35.1644,2,-999.0000,9,    88.5,2,    9.06,2,   26.74,2,    0.01,2,    1.70,2,   1.574,6,   0.829,6, -999.00,9,  2205.1,2,  2306.4,2,  12.0876
06MT20060606,      EqAtl,      55,          1,      55008,          8,2,20060623,       0000,    -0.0035,   -17.0217,       3513,   198.4,  13.6569,  35.3652,2,-999.0000,9,  -999.0,9, -999.00,9, -999.00,9, -999.00,9, -999.00,9,-999.000,9,-999.000,9, -999.00,9,  -999.0,9,  -999.0,9,  13.6286
06MT20060606,      EqAtl,      55,          1,      55009,          9,2,20060623,       0000,    -0.0035,   -17.0217,       3513,   198.7,  13.6727,  35.3672,2,-999.0000,9,   113.0,2,    6.73,2,   20.90,2,    0.01,2,    1.38,2,   1.968,2,   1.046,2, -999.00,9,  2182.0,2,  2305.8,2,  13.6443
06MT20060606,      EqAtl,      55,          1,      55010,         10,2,20060623,       0000,    -0.0035,   -17.0217,       3513,   159.0,  14.1744,  35.4435,2,-999.0000,9,   159.3,2,    4.79,2,   14.55,2,    0.01,2,    1.04,2,   2.310,2,   1.280,2, -999.00,9,  2148.7,2,  2323.5,2,  14.1512
06MT20060606,      EqAtl,      55,          1,      55011,         11,2,20060623,       0000,    -0.0035,   -17.0217,       3513,   121.4,  14.9303,  35.5524,2,-999.0000,9,   166.9,6,    4.21,6,   12.52,6,    0.02,6,    0.92,6,   2.352,2,   1.340,2, -999.00,9,  2140.7,2,  2329.2,2,  14.9119
06MT20060606,      EqAtl,      55,          1,      55012,         12,2,20060623,       0000,    -0.0035,   -17.0217,       3513,    99.5,  15.5126,  35.6376,2,-999.0000,9,   172.1,2,    3.66,2,   11.09,2,    0.04,2,    0.83,2,   2.360,2,   1.338,2, -999.00,9,  2135.6,2,  2337.3,2,  15.4971
06MT20060606,      EqAtl,      55,          1,      55013,         13,2,20060623,       0000,    -0.0035,   -17.0217,       3513,    99.1,  15.5245,  35.6399,2,-999.0000,9,  -999.0,9, -999.00,9, -999.00,9, -999.00,9, -999.00,9,-999.000,9,-999.000,9, -999.00,9,  -999.0,9,  -999.0,9,  15.5091
06MT20060606,      EqAtl,      55,          1,      55014,         14,2,20060623,       0000,    -0.0035,   -17.0217,       3513,    80.0,  16.1679,  35.7317,2,-999.0000,9,   167.5,2,    3.17,2,   10.84,2,    0.08,2,    0.81,2,   2.342,6,   1.266,6, -999.00,9,  2137.9,2,  2341.9,2,  16.1551
06MT20060606,      EqAtl,      55,          1,      55015,         15,2,20060623,       0000,    -0.0035,   -17.0217,       3513,    61.1,  16.8008,  35.8226,2,-999.0000,9,   166.0,2,    3.27,2,   10.20,2,    0.10,2,    0.77,2,   2.315,2,   1.264,2, -999.00,9,  2138.1,2,  2344.2,2,  16.7908
06MT20060606,      EqAtl,      55,          1,      55016,         16,2,20060623,       0000,    -0.0035,   -17.0217,       3513,    54.3,  17.0462,  35.8571,2,-999.0000,9,  -999.0,9, -999.00,9, -999.00,9, -999.00,9, -999.00,9,-999.000,9,-999.000,9, -999.00,9,  -999.0,9,  -999.0,9,  17.0372
06MT20060606,      EqAtl,      55,          1,      55017,         17,2,20060623,       0000,    -0.0035,   -17.0217,       3513,    39.5,  22.1976,  36.1770,2,-999.0000,9,   183.9,2,    1.14,2,    3.80,2,    0.18,2,    0.31,2,   2.018,2,   1.169,2, -999.00,9,  2098.0,2,  2365.5,2,  22.1897
06MT20060606,      EqAtl,      55,          1,      55018,         18,2,20060623,       0000,    -0.0035,   -17.0217,       3513,    41.0,  22.3545,  36.1867,2,-999.0000,9,  -999.0,9, -999.00,9, -999.00,9, -999.00,9, -999.00,9,-999.000,9,-999.000,9, -999.00,9,  -999.0,9,  -999.0,9,  22.3463
06MT20060606,      EqAtl,      55,          1,      55019,         19,2,20060623,       0000,    -0.0035,   -17.0217,       3513,    20.8,  24.2514,  36.0277,2,-999.0000,9,   198.1,2,    0.60,2,    1.10,2,    0.07,2,    0.13,2,   1.842,2,   1.102,2, -999.00,9,  -999.0,9,  -999.0,9,  24.2470
06MT20060606,      EqAtl,      55,          1,      55020,         20,2,20060623,       0000,    -0.0035,   -17.0217,       3513,    20.2,  24.4071,  35.9978,2,-999.0000,9,  -999.0,9, -999.00,9, -999.00,9, -999.00,9, -999.00,9,-999.000,9,-999.000,9, -999.00,9,  -999.0,9,  -999.0,9,  24.4028
06MT20060606,      EqAtl,      55,          1,      55021,         21,2,20060623,       0000,    -0.0035,   -17.0217,       3513,    10.7,  24.8093,  35.8911,2,  35.8759,2,   198.1,2,    0.17,2,    0.30,2,    0.03,2,    0.09,2,   1.825,2,   1.079,2, -999.00,9,  2041.9,2,  2348.1,6,  24.8070
06MT20060606,      EqAtl,      56,          1,      56001,          1,2,20060623,       0000,    -0.0022,   -16.0298,       3356,  1310.9,   4.4890,  34.9047,2,  34.9032,2,   203.3,6,   20.29,6,   25.61,6,    0.00,6,    1.72,6,   0.120,6,   0.064,6, -999.00,9,  2188.4,2,  2307.3,6,   4.3810
06MT20060606,      EqAtl,      56,          1,      56002,          2,2,20060623,       0000,    -0.0022,   -16.0298,       3356,  1105.7,   4.5289,  34.7449,2,-999.0000,9,   169.1,2,   26.00,2,   31.09,2,    0.00,2,    2.07,2,   0.038,2,   0.029,2, -999.00,9,  2209.3,2,  2303.0,2,   4.4394
06MT20060606,      EqAtl,      56,          1,      56003,          3,2,20060623,       0000,    -0.0022,   -16.0298,       3356,   904.3,   4.6562,  34.5453,2,  34.5461,2,   152.7,2,   28.26,2,   34.54,2,    0.00,2,    2.35,2,   0.133,2,   0.070,2, -999.00,9,  2217.9,2,  2297.1,2,   4.5838
06MT20060606,      EqAtl,      56,          1,      56004,          4,2,20060623,       0000,    -0.0022,   -16.0298,       3356,   703.3,   5.3805,  34.5092,2,-999.0000,9,   113.3,4,   11.35,4,   27.95,4,    0.01,4,    1.78,4,   1.507,4,   0.772,4, -999.00,9,  2197.3,4,  2298.3,4,   5.3214
06MT20060606,      EqAtl,      56,          1,      56005,          5,2,20060623,       0000,    -0.0022,   -16.0298,       3356,   504.1,   7.0845,  34.6167,2,-999.0000,9,   131.8,2,   17.73,2,   32.58,2,    0.01,2,    2.12,2,   0.935,2,   0.478,2, -999.00,9,  2206.7,2,  2287.4,2,   7.0362
06MT20060606,      EqAtl,      56,          1,      56006,          6,2,20060623,       0000,    -0.0022,   -16.0298,       3356,   302.5,  10.5227,  34.9710,2,-999.0000,9,   114.4,2,   10.75,2,   26.99,2,    0.00,2,    1.75,2,   1.529,2,   0.789,2, -999.00,9,  2196.2,2,  2296.8,2,  10.4863
06MT20060606,      EqAtl,      56,          1,      56007,          7,2,20060623,       0000,    -0.0022,   -16.0298,       3356,   252.6,  12.8779,  35.2625,2,-999.0000,9,    87.2,2,    8.39,2,   25.00,2,    0.01,2,    1.63,2,   1.693,2,   0.905,2, -999.00,9,  2202.0,2,  2310.4,2,  12.8432
06MT20060606,      EqAtl,      56,          1,      56008,          8,2,20060623,       0000,    -0.0022,   -16.0298,       3356,   202.7,  13.7560,  35.3795,2,-999.0000,9,  -999.0,9, -999.00,9, -999.00,9, -999.00,9, -999.00,9,   2.039,2,   1.072,2, -999.00,9,  -999.0,9,  -999.0,9,  13.7269
06MT20060606,      EqAtl,      56,          1,      56009,          9,2,20060623,       0000,    -0.0022,   -16.0298,       3356,   202.1,  13.7694,  35.3817,2,-999.0000,9,   118.5,2,    6.78,2,   19.83,2,    0.01,2,    1.34,2,-999.000,9,-999.000,9, -999.00,9,  2178.0,2,  2319.3,2,  13.7404
06MT20060606,      EqAtl,      56,          1,      56010,         10,2,20060623,       0000,    -0.0022,   -16.0298,       3356,   162.3,  14.2207,  35.4496,2,-999.0000,9,   158.8,2,    5.12,2,   14.49,2,    0.01,2,    1.03,2,   2.276,6,   1.232,6, -999.00,9,  2149.0,2,  2326.1,2,  14.1969
06MT20060606,      EqAtl,      56,          1,      56011,         11,2,20060623,       0000,    -0.0022,   -16.0298,       3356,   121.9,  15.0800,  35.5743,2,-999.0000,9,   159.6,2,    4.60,2,   13.39,2,    0.02,2,    0.96,2,   2.307,2,   1.246,2, -999.00,9,  2145.5,2,  2331.2,2,  15.0614
06MT20060606,      EqAtl,      56,          1,      56012,         12,2,20060623,       0000,    -0.0022,   -16.0298,       3356,   101.7,  15.4330,  35.6280,2,-999.0000,9,   169.3,2,    4.02,2,   11.33,2,    0.03,2,    0.85,2,   2.365,2,   1.286,2, -999.00,9,  2137.4,2,  2337.4,2,  15.4173
06MT20060606,      EqAtl,      56,          1,      56013,         13,2,20060623,       0000,    -0.0022,   -16.0298,       3356,   100.4,  15.4666,  35.6328,2,-999.0000,9,  -999.0,9, -999.00,9, -999.00,9, -999.00,9, -999.00,9,-999.000,9,-999.000,9, -999.00,9,  -999.0,9,  -999.0,9,  15.4510
06MT20060606,      EqAtl,      56,          1,      56014,         14,2,20060623,       0000,    -0.0022,   -16.0298,       3356,    81.7,  16.3030,  35.7499,2,-999.0000,9,   168.9,2,    3.26,2,   10.18,2,    0.07,2,    0.79,2,   2.312,2,   1.280,2, -999.00,9,  2135.2,2,  2341.7,2,  16.2899
06MT20060606,      EqAtl,      56,          1,      56015,         15,2,20060623,       0000,    -0.0022,   -16.0298,       3356,    59.5,  18.1259,  36.0110,2,-999.0000,9,   167.0,2,    2.98,2,    8.75,2,    0.12,2,    0.66,2,   2.232,2,   1.223,2, -999.00,9,  2133.4,2,  2356.8,2,  18.1156
06MT20060606,      EqAtl,      56,          1,      56016,         16,2,20060623,       0000,    -0.0022,   -16.0298,       3356,    60.0,  18.0894,  36.0065,2,-999.0000,9,  -999.0,9, -999.00,9, -999.00,9, -999.00,9, -999.00,9,-999.000,9,-999.000,9, -999.00,9,  -999.0,9,  -999.0,9,  18.0790
06MT20060606,      EqAtl,      56,          1,      56017,         17,2,20060623,       0000,    -0.0022,   -16.0298,       3356,    42.5,  21.0020,  36.1156,2,-999.0000,9,   180.6,2,    1.93,2,    4.54,2,    0.16,2,    0.39,2,   2.055,6,   1.165,6, -999.00,9,  2101.1,2,  2363.8,2,  20.9938
06MT20060606,      EqAtl,      56,          1,      56018,         18,2,20060623,       0000,    -0.0022,   -16.0298,       3356,    41.0,  21.1436,  36.1089,2,-999.0000,9,  -999.0,9, -999.00,9, -999.00,9, -999.00,9, -999.00,9,-999.000,9,-999.000,9, -999.00,9,  -999.0,9,  -999.0,9,  21.1357
06MT20060606,      EqAtl,      56,          1,      56019,         19,2,20060623,       0000,    -0.0022,   -16.0298,       3356,    19.7,  23.4461,  35.9162,2,-999.0000,9,   197.6,2,    0.76,2,    1.76,2,    0.08,2,    0.18,2,   1.885,2,   1.093,2, -999.00,9,  -999.0,9,  -999.0,9,  23.4420
06MT20060606,      EqAtl,      56,          1,      56020,         20,2,20060623,       0000,    -0.0022,   -16.0298,       3356,    20.9,  23.3890,  35.9241,2,-999.0000,9,  -999.0,9, -999.00,9, -999.00,9, -999.00,9, -999.00,9,-999.000,9,-999.000,9, -999.00,9,  -999.0,9,  -999.0,9,  23.3847
06MT20060606,      EqAtl,      56,          1,      56021,         21,2,20060623,       0000,    -0.0022,   -16.0298,       3356,    11.9,  24.9456,  35.7402,2,-999.0000,9,   210.8,2,    0.00,2,    0.00,2,    0.02,2,    0.07,2,   1.841,2,   1.076,2, -999.00,9,  2026.6,6,  2340.1,2,  24.9430
06MT20060606,      EqAtl,      57,          1,      57001,          1,2,20060624,       0000,    -0.0005,   -15.0193,       3890,  1311.4,   4.4607,  34.9210,2,  34.9231,2,   208.0,6,   18.74,6,   24.84,6,    0.00,6,    1.66,6,   0.148,2,   0.085,2, -999.00,9,  2184.1,2,  2308.0,2,   4.3529
06MT20060606,      EqAtl,      57,          1,      57002,          2,2,20060624,       0000,    -0.0005,   -15.0193,       3890,  1108.3,   4.5298,  34.7592,2,-999.0000,9,   172.4,2,   24.68,2,   30.80,2,    0.00,2,    2.05,2,   0.040,6,   0.023,6, -999.00,9,  2207.6,2,  2304.4,2,   4.4401
06MT20060606,      EqAtl,      57,          1,      57003,          3,2,20060624,       0000,    -0.0005,   -15.0193,       3890,   905.2,   4.6414,  34.5574,2,  34.5602,2,   152.7,2,   27.94,2,   35.07,2,    0.00,2,    2.38,2,   0.108,2,   0.065,2, -999.00,9,  2218.2,2,  2296.4,2,   4.5690
06MT20060606,      EqAtl,      57,          1,      57004,          4,2,20060624,       0000,    -0.0005,   -15.0193,       3890,   703.4,   5.4055,  34.5077,2,-999.0000,9,   144.7,2,   24.26,2,   35.14,2,    0.01,2,    2.35,2,   0.388,2,   0.209,2, -999.00,9,  2213.4,2,  2289.8,2,   5.3462
06MT20060606,      EqAtl,      57,          1,      57005,          5,2,20060624,       0000,    -0.0005,   -15.0193,       3890,   503.7,   7.8114,  34.6910,2,-999.0000,9,   112.8,2,   16.51,2,   33.38,2,    0.00,2,    2.13,2,   0.887,2,   0.448,2, -999.00,9,  2214.8,2,  2290.3,2,   7.7603
06MT20060606,      EqAtl,      57,          1,      57006,          6,2,20060624,       0000,    -0.0005,   -15.0193,       3890,   303.6,   9.7725,  34.8899,2,-999.0000,9,   124.3,2,   11.27,2,   27.66,2,    0.01,2,    1.79,2,   1.537,2,   0.798,2, -999.00,9,  2193.6,2,  2296.8,2,   9.7376
06MT20060606,      EqAtl,      57,          1,      57007,          7,2,20060624,       0000,    -0.0005,   -15.0193,       3890,   252.5,  11.9735,  35.1531,2,-999.0000,9,    80.8,2,    9.54,2,   28.02,2,    0.01,2,    1.76,2,   1.489,2,   0.786,2, -999.00,9,  2210.4,2,  2303.4,2,  11.9405
06MT20060606,      EqAtl,      57,          1,      57008,          8,2,20060624,       0000,    -0.0005,   -15.0193,       3890,   199.9,  13.9277,  35.4014,2,-999.0000,9,   128.6,2,    6.09,2,   18.82,2,    0.01,2,    1.30,2,   2.134,2,   1.135,2, -999.00,9,  -999.0,9,  -999.0,9,  13.8988
06MT20060606,      EqAtl,      57,          1,      57009,          9,2,20060624,       0000,    -0.0005,   -15.0193,       3890,   161.4,  14.2272,  35.4473,2,-999.0000,9,   151.5,2,    5.22,2,   15.52,2,    0.01,2,    1.10,2,   2.284,2,   1.241,2, -999.00,9,  2153.8,2,  2324.3,2,  14.2036
06MT20060606,      EqAtl,      57,          1,      57010,         10,2,20060624,       0000,    -0.0005,   -15.0193,       3890,   121.4,  14.6293,  35.5092,2,-999.0000,9,   160.5,2,    4.23,2,   13.77,2,    0.02,2,    0.99,2,   2.326,6,   1.272,6, -999.00,9,  2146.8,2,  2335.2,2,  14.6112
06MT20060606,      EqAtl,      57,          1,      57011,         11,2,20060624,       0000,    -0.0005,   -15.0193,       3890,    99.3,  15.4299,  35.6213,2,-999.0000,9,   151.9,6,    4.38,6,   13.88,6,    0.03,6,    1.00,6,   2.267,2,   1.251,2, -999.00,9,  2149.7,2,  2334.6,2,  15.4145
06MT20060606,      EqAtl,      57,          1,      57012,         12,2,20060624,       0000,    -0.0005,   -15.0193,       3890,    99.5,  15.4314,  35.6215,2,-999.0000,9,  -999.0,9, -999.00,9, -999.00,9, -999.00,9, -999.00,9,-999.000,9,-999.000,9, -999.00,9,  -999.0,9,  -999.0,9,  15.4160
06MT20060606,      EqAtl,      57,          1,      57013,         13,2,20060624,       0000,    -0.0005,   -15.0193,       3890,    80.8,  16.1425,  35.7309,2,-999.0000,9,   171.1,2,    3.26,2,   10.37,2,    0.06,2,    0.79,2,   2.361,2,   1.338,2, -999.00,9,  -999.0,9,  -999.0,9,  16.1296
06MT20060606,      EqAtl,      57,          1,      57014,         14,2,20060624,       0000,    -0.0005,   -15.0193,       3890,    60.6,  17.7956,  35.9568,2,-999.0000,9,   167.0,2,    2.58,2,    8.90,2,    0.16,2,    0.69,2,   2.208,6,   1.282,6, -999.00,9,  2132.3,2,  2354.8,2,  17.7852
06MT20060606,      EqAtl,      57,          1,      57015,         15,2,20060624,       0000,    -0.0005,   -15.0193,       3890,    60.6,  17.8537,  35.9656,2,-999.0000,9,  -999.0,9, -999.00,9, -999.00,9, -999.00,9, -999.00,9,-999.000,9,-999.000,9, -999.00,9,  -999.0,9,  -999.0,9,  17.8433
06MT20060606,      EqAtl,      57,          1,      57016,         16,2,20060624,       0000,    -0.0005,   -15.0193,       3890,    41.5,  20.7539,  36.0931,2,-999.0000,9,   173.8,2,    1.86,2,    5.65,2,    0.20,2,    0.47,2,   2.126,2,   1.216,2, -999.00,9,  -999.0,9,  -999.0,9,  20.7460
06MT20060606,      EqAtl,      57,          1,      57017,         17,2,20060624,       0000,    -0.0005,   -15.0193,       3890,    42.0,  20.7098,  36.0974,2,-999.0000,9,  -999.0,9, -999.00,9, -999.00,9, -999.00,9, -999.00,9,-999.000,9,-999.000,9, -999.00,9,  2108.9,2,  2361.8,2,  20.7018
06MT20060606,      EqAtl,      57,          1,      57018,         18,2,20060624,       0000,    -0.0005,   -15.0193,       3890,    19.1,  23.5952,  35.8468,2,-999.0000,9,   198.1,2,    0.45,2,    1.42,2,    0.06,2,    0.18,2,   2.048,2,   1.108,2, -999.00,9,  -999.0,9,  -999.0,9,  23.5912
06MT20060606,      EqAtl,      57,          1,      57019,         19,2,20060624,       0000,    -0.0005,   -15.0193,       3890,    21.0,  23.4913,  35.8538,2,-999.0000,9,  -999.0,9, -999.00,9, -999.00,9, -999.00,9, -999.00,9,-999.000,9,-999.000,9, -999.00,9,  -999.0,9,  -999.0,9,  23.4869
06MT20060606,      EqAtl,      57,          1,      57020,         20,2,20060624,       0000,    -0.0005,   -15.0193,       3890,    11.6,  24.8347,  35.7888,2,-999.0000,9,   206.4,2,    0.38,2,    0.31,2,    0.03,2,    0.11,2,   1.842,2,   1.077,2, -999.00,9,  -999.0,9,  -999.0,9,  24.8322
06MT20060606,      EqAtl,      57,          1,      57021,         21,2,20060624,       0000,    -0.0005,   -15.0193,       3890,    11.5,  24.8104,  35.7896,2,-999.0000,9,  -999.0,9, -999.00,9, -999.00,9, -999.00,9, -999.00,9,-999.000,9,-999.000,9, -999.00,9,  2035.4,6,  2343.7,2,  24.8079