BOTTLE,20211025CCHSIORKP
EXPOCODE,SECT_ID,STNNBR,CASTNO,SAMPNO,BTLNBR,BTLNBR_FLAG_W,DATE,TIME,LATITUDE,LONGITUDE,DEPTH,CTDPRS,CTDTMP,CTDSAL,CTDSAL_FLAG_W,SALNTY,SALNTY_FLAG_W,OXYGEN,OXYGEN_FLAG_W,SILCAT,SILCAT_FLAG_W,NITRAT,NITRAT_FLAG_W,NITRIT,NITRIT_FLAG_W,PHSPHT,PHSPHT_FLAG_W,CFC-11,CFC-11_FLAG_W,CFC-12,CFC-12_FLAG_W,SF6,SF6_FLAG_W,TCARBN,TCARBN_FLAG_W,ALKALI,ALKALI_FLAG_W,THETA
,,,,,,,,,,,METERS,DBAR,ITS-90,PSS-78,,PSS-78,,UMOL/KG,,UMOL/KG,,UMOL/KG,,UMOL/KG,,UMOL/KG,,PMOL/KG,,PMOL/KG,,FMOL/KG,,UMOL/KG,,UMOL/KG,,DEG C
06MT20060606,      EqAtl,      13,          1,      13001,          1,2,20060608,       0000,    -0.9997,   -34.9993,       4343,  1313.7,   4.5219,  34.9072,2,-999.0000,9,   203.2,6,   19.61,6,   24.93,6,    0.00,6,    1.71,6,-999.000,9,-999.000,9, -999.00,9,  -999.0,9,  -999.0,9,   4.4134
06MT20060606,      EqAtl,      13,          1,      13002,          2,2,20060608,       0000,    -0.9997,   -34.9993,       4343,  1314.4,   4.5217,  34.9074,2,  34.9103,2,   203.1,2,   19.39,2,   25.05,2,    0.01,2,    1.71,2,   0.135,6,   0.071,6, -999.00,9,  2191.8,2,  2308.6,2,   4.4131
06MT20060606,      EqAtl,      13,          1,      13003,          3,2,20060608,       0000,    -0.9997,   -34.9993,       4343,  1207.4,   4.6209,  34.8261,2,-999.0000,9,   183.1,2,   22.40,2,   28.12,2,    0.00,2,    1.93,2,   0.094,2,   0.053,2, -999.00,9,  -999.0,9,  -999.0,9,   4.5213
06MT20060606,      EqAtl,      13,          1,      13004,          4,2,20060608,       0000,    -0.9997,   -34.9993,       4343,  1107.4,   4.6238,  34.7792,2,  34.7824,2,   173.5,2,   24.68,2,   29.74,2,    0.00,2,    2.04,2,   0.069,2,   0.040,2, -999.00,9,  2208.0,2,  2304.5,2,   4.5333
06MT20060606,      EqAtl,      13,          1,      13005,          5,2,20060608,       0000,    -0.9997,   -34.9993,       4343,   906.0,   4.6020,  34.5780,2,-999.0000,9,   153.9,2,   28.34,2,   34.33,2,    0.00,2,    2.36,2,   0.115,2,   0.046,2, -999.00,9,  2221.7,2,  2296.2,2,   4.5298
06MT20060606,      EqAtl,      13,          1,      13006,          6,2,20060608,       0000,    -0.9997,   -34.9993,       4343,   699.5,   4.7893,  34.4785,2,-999.0000,9,   163.1,2,   27.23,2,   33.88,2,    0.00,2,    2.32,2,   0.499,2,   0.251,2, -999.00,9,  2211.1,2,  2296.5,2,   4.7337
06MT20060606,      EqAtl,      13,          1,      13007,          7,2,20060608,       0000,    -0.9997,   -34.9993,       4343,   499.6,   6.9198,  34.5662,2,  34.5679,2,   161.9,3,   16.98,2,   29.65,2,    0.00,2,    2.01,2,   1.435,2,   0.730,2, -999.00,9,  2193.7,2,  2287.5,2,   6.8726
06MT20060606,      EqAtl,      13,          1,      13008,          8,2,20060608,       0000,    -0.9997,   -34.9993,       4343,   299.9,  11.4042,  35.0703,2,-999.0000,9,   110.9,2,    9.61,2,   25.48,2,    0.01,2,    1.68,2,   1.681,2,   0.896,2, -999.00,9,  2193.7,2,  2304.8,2,  11.3661
06MT20060606,      EqAtl,      13,          1,      13009,          9,2,20060608,       0000,    -0.9997,   -34.9993,       4343,   250.0,  12.3363,  35.1892,2,-999.0000,9,   106.6,2,    8.04,2,   23.76,2,    0.01,2,    1.58,2,   1.776,2,   0.984,2, -999.00,9,  2192.0,2,  2308.0,2,  12.3029
06MT20060606,      EqAtl,      13,          1,      13010,         10,2,20060608,       0000,    -0.9997,   -34.9993,       4343,   202.0,  13.0443,  35.2826,2,-999.0000,9,   117.0,2,    7.04,2,   21.01,2,    0.01,2,    1.41,2,   1.896,2,   1.051,2, -999.00,9,  2182.4,2,  2316.6,2,  13.0164
06MT20060606,      EqAtl,      13,          1,      13011,         11,2,20060608,       0000,    -0.9997,   -34.9993,       4343,   121.1,  15.8302,  35.6917,2,-999.0000,9,   169.6,2,    3.60,2,   10.71,2,    0.02,2,    0.81,2,   2.294,2,   1.323,2, -999.00,9,  2140.4,2,  2343.9,2,  15.8111
06MT20060606,      EqAtl,      13,          1,      13012,         12,2,20060608,       0000,    -0.9997,   -34.9993,       4343,   100.9,  18.1031,  35.9911,2,-999.0000,9,   159.6,2,    2.53,2,    8.76,2,    0.03,2,    0.70,2,   2.162,6,   1.266,6, -999.00,9,  2141.8,2,  2355.5,2,  18.0856
06MT20060606,      EqAtl,      13,          1,      13013,         13,2,20060608,       0000,    -0.9997,   -34.9993,       4343,   101.1,  18.0808,  35.9914,2,-999.0000,9,  -999.0,9, -999.00,9, -999.00,9, -999.00,9, -999.00,9,-999.000,9,-999.000,9, -999.00,9,  -999.0,9,  -999.0,9,  18.0633
06MT20060606,      EqAtl,      13,          1,      13014,         14,2,20060608,       0000,    -0.9997,   -34.9993,       4343,    80.4,  20.6059,  36.1540,2,-999.0000,9,   152.2,2,    1.91,2,    6.15,2,    0.15,2,    0.54,2,   1.987,2,   1.195,2, -999.00,9,  2135.8,2,  2370.0,2,  20.5906
06MT20060606,      EqAtl,      13,          1,      13015,         15,2,20060608,       0000,    -0.9997,   -34.9993,       4343,    58.2,  27.1462,  36.3972,2,-999.0000,9,  -999.0,9, -999.00,9, -999.00,9, -999.00,9, -999.00,9,-999.000,9,-999.000,9, -999.00,9,  -999.0,9,  -999.0,9,  27.1327
06MT20060606,      EqAtl,      13,          1,      13016,         16,2,20060608,       0000,    -0.9997,   -34.9993,       4343,    58.9,  27.1053,  36.4104,2,-999.0000,9,   200.6,2,    0.62,2,    0.01,2,    0.01,2,    0.01,2,   1.857,2,   1.066,2, -999.00,9,  2042.9,2,  2376.5,2,  27.0917
06MT20060606,      EqAtl,      13,          1,      13017,         17,2,20060608,       0000,    -0.9997,   -34.9993,       4343,    41.0,  27.7344,  36.2721,2,-999.0000,9,  -999.0,9, -999.00,9, -999.00,9, -999.00,9, -999.00,9,-999.000,9,-999.000,9, -999.00,9,  -999.0,9,  -999.0,9,  27.7248
06MT20060606,      EqAtl,      13,          1,      13018,         18,2,20060608,       0000,    -0.9997,   -34.9993,       4343,    40.9,  27.7372,  36.2723,2,-999.0000,9,   200.9,2,    0.59,2,    0.03,2,    0.01,2,    0.00,2,   1.763,2,   1.053,2, -999.00,9,  2030.7,2,  2372.6,2,  27.7276
06MT20060606,      EqAtl,      13,          1,      13019,         19,2,20060608,       0000,    -0.9997,   -34.9993,       4343,    20.5,  27.7596,  36.2694,2,-999.0000,9,   200.5,2,    0.54,2,    0.03,2,    0.01,2,    0.00,2,   1.598,2,   1.027,2, -999.00,9,  2031.8,2,  2373.5,2,  27.7548
06MT20060606,      EqAtl,      13,          1,      13020,         20,2,20060608,       0000,    -0.9997,   -34.9993,       4343,    10.0,  27.7594,  36.2692,2,  36.2675,2,   199.9,6,    0.56,6,    0.05,6,    0.00,6,    0.02,6,   1.598,2,   1.020,2, -999.00,9,  2031.8,6,  2371.3,2,  27.7571
06MT20060606,      EqAtl,      13,          1,      13021,         21,2,20060608,       0000,    -0.9997,   -34.9993,       4343,    11.5,  27.7590,  36.2694,2,-999.0000,9,  -999.0,9, -999.00,9, -999.00,9, -999.00,9, -999.00,9,-999.000,9,-999.000,9, -999.00,9,  -999.0,9,  -999.0,9,  27.7563
06MT20060606,      EqAtl,      16,          1,      16001,          1,2,20060609,       0000,    -0.0010,   -34.9992,       4610,  4600.1,   1.0392,  34.7489,2,-999.0000,9,   229.3,6,   83.22,6,   29.62,6,    0.00,6,    2.12,6,   0.058,6,   0.034,6, -999.00,9,  2242.4,3,  2355.2,6,   0.6667
06MT20060606,      EqAtl,      16,          1,      16002,          2,2,20060609,       0000,    -0.0010,   -34.9992,       4610,  4498.4,   1.0700,  34.7533,2,  34.7571,2,   229.4,3,   82.97,4,   29.06,4,    0.00,2,    2.06,4,   0.058,2,   0.026,2, -999.00,9,  2240.0,3,  2361.8,2,   0.7080
06MT20060606,      EqAtl,      16,          1,      16003,          3,2,20060609,       0000,    -0.0010,   -34.9992,       4610,  3992.3,   2.2375,  34.8877,2,  34.8928,2,   260.2,2,   34.18,3,   19.86,2,    0.00,2,    1.41,2,   0.276,2,   0.153,2, -999.00,9,  2181.3,2,  2331.1,2,   1.8974
06MT20060606,      EqAtl,      16,          1,      16004,          4,2,20060609,       0000,    -0.0010,   -34.9992,       4610,  3497.7,   2.4757,  34.9104,2,  34.9134,2,   261.1,2,   28.21,3,   19.24,2,    0.00,2,    1.36,2,   0.222,2,   0.137,2, -999.00,9,  2174.7,2,  2321.0,2,   2.1841
06MT20060606,      EqAtl,      16,          1,      16005,          5,2,20060609,       0000,    -0.0010,   -34.9992,       4610,  2995.0,   2.7996,  34.9310,2,-999.0000,9,   257.0,2,   25.77,3,   19.52,2,    0.00,2,    1.36,2,   0.171,2,   0.069,2, -999.00,9,  2172.8,2,  2319.5,2,   2.5537
06MT20060606,      EqAtl,      16,          1,      16006,          6,2,20060609,       0000,    -0.0010,   -34.9992,       4610,  2498.2,   3.0578,  34.9479,2,  34.9492,2,   257.4,2,   21.25,3,   19.04,2,    0.00,2,    1.33,2,   0.186,2,   0.109,2, -999.00,9,  -999.0,9,  2316.3,2,   2.8569
06MT20060606,      EqAtl,      16,          1,      16007,          7,2,20060609,       0000,    -0.0010,   -34.9992,       4610,  2193.9,   3.3700,  34.9641,2,-999.0000,9,   256.9,2,   18.20,2,   18.78,2,    0.00,2,    1.30,2,   0.287,2,   0.158,2, -999.00,9,  2165.6,2,  2318.4,2,   3.1934
06MT20060606,      EqAtl,      16,          1,      16008,          8,2,20060609,       0000,    -0.0010,   -34.9992,       4610,  1998.6,   3.6624,  34.9747,2,-999.0000,9,   254.2,2,   16.19,2,   18.90,2,    0.00,2,    1.31,2,   0.476,2,   0.191,2, -999.00,9,  -999.0,9,  2307.8,2,   3.5000
06MT20060606,      EqAtl,      16,          1,      16009,          9,2,20060609,       0000,    -0.0010,   -34.9992,       4610,  1795.4,   3.8268,  34.9786,2,-999.0000,9,   249.9,2,   15.58,2,   19.26,2,    0.00,2,    1.33,2,   0.360,2,   0.201,2, -999.00,9,  -999.0,9,  2306.7,2,   3.6813
06MT20060606,      EqAtl,      16,          1,      16010,         10,2,20060609,       0000,    -0.0010,   -34.9992,       4610,  1496.5,   4.3048,  34.9656,2,-999.0000,9,   228.7,2,   16.22,2,   21.30,2,    0.00,2,    1.49,2,   0.276,2,   0.150,2, -999.00,9,  2174.6,2,  2310.4,2,   4.1815
06MT20060606,      EqAtl,      16,          1,      16011,         11,2,20060609,       0000,    -0.0010,   -34.9992,       4610,  1297.4,   4.6258,  34.9011,2,  34.9091,2,   200.9,2,   19.36,2,   25.14,2,    0.00,2,    1.74,2,   0.171,2,   0.083,2, -999.00,9,  2189.8,2,  2308.3,2,   4.5177
06MT20060606,      EqAtl,      16,          1,      16012,         12,2,20060609,       0000,    -0.0010,   -34.9992,       4610,  1097.7,   4.5779,  34.7660,2,-999.0000,9,   174.0,2,   24.20,2,   29.86,2,    0.00,2,    2.08,2,   0.054,6,   0.028,6, -999.00,9,  -999.0,9,  2303.5,2,   4.4887
06MT20060606,      EqAtl,      16,          1,      16013,         13,2,20060609,       0000,    -0.0010,   -34.9992,       4610,   898.5,   4.6306,  34.5545,2,-999.0000,9,   153.8,2,   28.09,2,   34.43,2,    0.00,2,    2.40,2,   0.118,2,   0.068,2, -999.00,9,  2219.2,2,  2296.0,2,   4.5589
06MT20060606,      EqAtl,      16,          1,      16014,         14,2,20060609,       0000,    -0.0010,   -34.9992,       4610,   701.8,   5.2464,  34.4863,2,-999.0000,9,   158.4,2,   24.49,2,   33.68,2,    0.01,2,    2.33,2,   0.626,2,   0.335,2, -999.00,9,  2209.7,2,  2294.1,2,   5.1881
06MT20060606,      EqAtl,      16,          1,      16015,         15,2,20060609,       0000,    -0.0010,   -34.9992,       4610,   480.4,   7.7944,  34.6863,2,-999.0000,9,   118.5,6,   16.15,6,   32.48,6,    0.00,6,    2.15,6,   1.026,2,   0.471,2, -999.00,9,  2211.7,2,  2290.4,2,   7.7458
06MT20060606,      EqAtl,      16,          1,      16016,         16,2,20060609,       0000,    -0.0010,   -34.9992,       4610,   299.9,  11.7624,  35.1178,2,-999.0000,9,   136.5,2,    8.52,2,   22.67,2,    0.00,2,    1.53,2,   1.978,2,   0.972,2, -999.00,9,  -999.0,9,  2305.7,2,  11.7236
06MT20060606,      EqAtl,      16,          1,      16017,         17,2,20060609,       0000,    -0.0010,   -34.9992,       4610,   199.8,  13.3379,  35.3218,2,-999.0000,9,   168.6,2,    5.52,2,   14.67,2,    0.01,2,    1.05,2,   2.394,2,   1.295,2, -999.00,9,  -999.0,9,  2317.7,2,  13.3099
06MT20060606,      EqAtl,      16,          1,      16018,         18,2,20060609,       0000,    -0.0010,   -34.9992,       4610,   120.1,  16.0955,  35.7448,2,-999.0000,9,   173.7,2,    3.45,2,    9.91,2,    0.02,2,    0.74,2,-999.000,9,-999.000,9, -999.00,9,  2135.1,2,  2340.2,2,  16.0763
06MT20060606,      EqAtl,      16,          1,      16019,         19,2,20060609,       0000,    -0.0010,   -34.9992,       4610,    82.1,  22.3989,  36.6256,2,-999.0000,9,   188.6,2,    1.07,2,    2.53,2,    0.18,2,    0.24,2,   2.002,2,   1.232,2, -999.00,9,  -999.0,9,  2398.3,2,  22.3823
06MT20060606,      EqAtl,      16,          1,      16020,         20,2,20060609,       0000,    -0.0010,   -34.9992,       4610,    38.3,  27.9981,  36.0864,2,-999.0000,9,   199.1,2,    0.64,2,    0.00,2,    0.01,2,    0.00,2,   1.593,2,   1.034,2, -999.00,9,  2016.9,2,  2357.6,2,  27.9890
06MT20060606,      EqAtl,      17,          1,      17001,          1,2,20060609,       0000,     0.3325,   -35.0000,       4070,  1297.1,   4.5580,  34.9215,2,  34.9237,2,   206.0,6,   19.01,6,   24.31,6,    0.00,6,    1.64,6,   0.172,2,   0.095,2, -999.00,9,  2186.2,2,  2308.5,6,   4.4506
06MT20060606,      EqAtl,      17,          1,      17002,          2,2,20060609,       0000,     0.3325,   -35.0000,       4070,  1100.9,   4.5926,  34.7770,2,-999.0000,9,   174.5,2,   25.07,2,   29.62,2,    0.00,2,    2.00,2,   0.059,2,   0.038,2, -999.00,9,  2206.0,2,  2307.6,2,   4.5030
06MT20060606,      EqAtl,      17,          1,      17003,          3,2,20060609,       0000,     0.3325,   -35.0000,       4070,   902.4,   4.6186,  34.5669,2,-999.0000,9,   153.5,2,   28.56,2,   34.31,2,    0.00,2,    2.33,2,   0.102,6,   0.059,6, -999.00,9,  2218.1,2,  2301.4,2,   4.5466
06MT20060606,      EqAtl,      17,          1,      17004,          4,2,20060609,       0000,     0.3325,   -35.0000,       4070,   696.9,   5.2948,  34.4943,2,-999.0000,9,   154.5,2,   24.72,2,   33.86,2,    0.00,2,    2.28,2,   0.553,2,   0.283,2, -999.00,9,  2210.5,2,  2295.0,2,   5.2367
06MT20060606,      EqAtl,      17,          1,      17005,          5,2,20060609,       0000,     0.3325,   -35.0000,       4070,   497.6,   7.7596,  34.6828,2,-999.0000,9,   119.6,2,   16.12,2,   32.23,2,    0.00,2,    2.08,2,   0.945,2,   0.477,2, -999.00,9,  2211.3,2,  2291.4,2,   7.7094
06MT20060606,      EqAtl,      17,          1,      17006,          6,2,20060609,       0000,     0.3325,   -35.0000,       4070,   303.9,  11.5131,  35.0893,2,-999.0000,9,   118.7,2,    9.23,2,   23.99,2,    0.00,2,    1.57,2,   1.777,2,   0.947,2, -999.00,9,  2187.9,2,  2303.6,2,  11.4743
06MT20060606,      EqAtl,      17,          1,      17007,          7,2,20060609,       0000,     0.3325,   -35.0000,       4070,   252.3,  12.9908,  35.2727,2,-999.0000,9,   151.1,2,    6.46,2,   17.55,2,    0.01,2,    1.22,2,   2.176,6,   1.202,6, -999.00,9,  -999.0,9,  -999.0,9,  12.9559
06MT20060606,      EqAtl,      17,          1,      17008,          8,2,20060609,       0000,     0.3325,   -35.0000,       4070,   202.3,  13.1054,  35.2888,2,-999.0000,9,   169.8,2,    5.53,2,   14.82,2,    0.00,2,    1.04,2,   2.412,2,   1.317,2, -999.00,9,  2146.5,2,  2315.4,2,  13.0773
06MT20060606,      EqAtl,      17,          1,      17009,          9,2,20060609,       0000,     0.3325,   -35.0000,       4070,   121.4,  17.2122,  35.9197,2,-999.0000,9,   178.4,2,    1.91,2,    5.46,2,    0.06,2,    0.47,2,   2.314,2,   1.364,2, -999.00,9,  -999.0,9,  -999.0,9,  17.1919
06MT20060606,      EqAtl,      17,          1,      17010,         10,2,20060609,       0000,     0.3325,   -35.0000,       4070,   100.1,  19.7550,  36.3194,2,-999.0000,9,   183.0,2,    1.88,2,    5.36,2,    0.06,2,    0.44,2,   2.173,2,   1.285,2, -999.00,9,  2120.9,2,  2382.4,2,  19.7365
06MT20060606,      EqAtl,      17,          1,      17011,         11,2,20060609,       0000,     0.3325,   -35.0000,       4070,   101.2,  19.4708,  36.2792,2,-999.0000,9,  -999.0,9, -999.00,9, -999.00,9, -999.00,9, -999.00,9,-999.000,9,-999.000,9, -999.00,9,  -999.0,9,  -999.0,9,  19.4523
06MT20060606,      EqAtl,      17,          1,      17012,         12,2,20060609,       0000,     0.3325,   -35.0000,       4070,    81.7,  23.3694,  36.6363,2,-999.0000,9,   188.0,2,    0.95,2,    2.32,2,    0.13,2,    0.20,2,   1.878,2,   1.170,2, -999.00,9,  -999.0,9,  -999.0,9,  23.3524
06MT20060606,      EqAtl,      17,          1,      17013,         13,2,20060609,       0000,     0.3325,   -35.0000,       4070,    58.5,  25.4118,  36.2697,2,-999.0000,9,  -999.0,9, -999.00,9, -999.00,9, -999.00,9, -999.00,9,-999.000,9,-999.000,9, -999.00,9,  -999.0,9,  -999.0,9,  25.3989
06MT20060606,      EqAtl,      17,          1,      17014,         14,2,20060609,       0000,     0.3325,   -35.0000,       4070,    60.3,  25.3937,  36.2732,2,-999.0000,9,   181.8,2,    0.85,2,    1.31,2,    0.09,2,    0.08,2,   1.740,2,   1.099,2, -999.00,9,  2009.6,2,  2350.9,2,  25.3804
06MT20060606,      EqAtl,      17,          1,      17015,         15,2,20060609,       0000,     0.3325,   -35.0000,       4070,    40.1,  28.1982,  36.0154,2,-999.0000,9,  -999.0,9, -999.00,9, -999.00,9, -999.00,9, -999.00,9,-999.000,9,-999.000,9, -999.00,9,  -999.0,9,  -999.0,9,  28.1887
06MT20060606,      EqAtl,      17,          1,      17016,         16,2,20060609,       0000,     0.3325,   -35.0000,       4070,    40.8,  28.1995,  36.0161,2,-999.0000,9,   199.1,2,    0.40,2,    0.00,2,    0.00,2,    0.00,2,   1.791,2,   1.032,2, -999.00,9,  -999.0,9,  -999.0,9,  28.1898
06MT20060606,      EqAtl,      17,          1,      17017,         17,2,20060609,       0000,     0.3325,   -35.0000,       4070,    19.9,  28.2121,  35.9653,2,-999.0000,9,  -999.0,9, -999.00,9, -999.00,9, -999.00,9, -999.00,9,-999.000,9,-999.000,9, -999.00,9,  -999.0,9,  -999.0,9,  28.2074
06MT20060606,      EqAtl,      17,          1,      17018,         18,2,20060609,       0000,     0.3325,   -35.0000,       4070,    21.0,  28.2139,  35.9660,2,-999.0000,9,   198.9,2,    0.45,2,    0.02,2,    0.00,2,    0.00,2,   1.773,2,   1.014,2, -999.00,9,  -999.0,9,  -999.0,9,  28.2089
06MT20060606,      EqAtl,      17,          1,      17019,         19,2,20060609,       0000,     0.3325,   -35.0000,       4070,    12.1,  28.3207,  35.9583,2,-999.0000,9,  -999.0,9, -999.00,9, -999.00,9, -999.00,9, -999.00,9,-999.000,9,-999.000,9, -999.00,9,  -999.0,9,  -999.0,9,  28.3178
06MT20060606,      EqAtl,      17,          1,      17020,         20,2,20060609,       0000,     0.3325,   -35.0000,       4070,    11.4,  28.3635,  35.9560,2,-999.0000,9,   199.4,6,    0.47,6,    0.02,6,    0.00,6,    0.00,6,   1.576,2,   1.002,2, -999.00,9,  2005.1,6,  2349.7,2,  28.3608
06MT20060606,      EqAtl,      18,          1,      18001,          1,2,20060609,       0000,     0.6652,   -34.9988,       3774,   246.0,  12.9841,  35.2677,2,-999.0000,9,  -999.0,9, -999.00,9, -999.00,9, -999.00,9, -999.00,9,-999.000,9,-999.000,9, -999.00,9,  -999.0,9,  -999.0,9,  12.9501
06MT20060606,      EqAtl,      18,          1,      18002,          2,2,20060609,       0000,     0.6652,   -34.9988,       3774,    98.1,  17.5734,  35.9697,2,-999.0000,9,  -999.0,9, -999.00,9, -999.00,9, -999.00,9, -999.00,9,-999.000,9,-999.000,9, -999.00,9,  -999.0,9,  -999.0,9,  17.5568
06MT20060606,      EqAtl,      18,          1,      18003,          3,2,20060609,       0000,     0.6652,   -34.9988,       3774,    58.5,  26.3781,  36.1515,2,-999.0000,9,  -999.0,9, -999.00,9, -999.00,9, -999.00,9, -999.00,9,-999.000,9,-999.000,9, -999.00,9,  -999.0,9,  -999.0,9,  26.3649
06MT20060606,      EqAtl,      18,          1,      18004,          4,2,20060609,       0000,     0.6652,   -34.9988,       3774,    19.5,  28.2683,  35.9821,2,-999.0000,9,  -999.0,9, -999.00,9, -999.00,9, -999.00,9, -999.00,9,-999.000,9,-999.000,9, -999.00,9,  -999.0,9,  -999.0,9,  28.2637