BOTTLE,20211025CCHSIORKP
EXPOCODE,SECT_ID,STNNBR,CASTNO,SAMPNO,BTLNBR,BTLNBR_FLAG_W,DATE,TIME,LATITUDE,LONGITUDE,DEPTH,CTDPRS,CTDTMP,CTDSAL,CTDSAL_FLAG_W,SALNTY,SALNTY_FLAG_W,OXYGEN,OXYGEN_FLAG_W,SILCAT,SILCAT_FLAG_W,NITRAT,NITRAT_FLAG_W,NITRIT,NITRIT_FLAG_W,PHSPHT,PHSPHT_FLAG_W,CFC-11,CFC-11_FLAG_W,CFC-12,CFC-12_FLAG_W,SF6,SF6_FLAG_W,TCARBN,TCARBN_FLAG_W,ALKALI,ALKALI_FLAG_W,THETA
,,,,,,,,,,,METERS,DBAR,ITS-90,PSS-78,,PSS-78,,UMOL/KG,,UMOL/KG,,UMOL/KG,,UMOL/KG,,UMOL/KG,,PMOL/KG,,PMOL/KG,,FMOL/KG,,UMOL/KG,,UMOL/KG,,DEG C
06MT20060606,      EqAtl,      49,          1,      49001,          1,2,20060620,       0000,     1.0000,   -23.0015,       4354,  1313.2,   4.5189,  34.9281,2,-999.0000,9,   206.2,6,   18.66,6,   24.55,6,    0.00,6,    1.65,6,   0.149,2,   0.086,2, -999.00,9,  2186.7,2,  2312.4,6,   4.4104
06MT20060606,      EqAtl,      49,          1,      49002,          2,2,20060620,       0000,     1.0000,   -23.0015,       4354,  1107.0,   4.5364,  34.7452,2,-999.0000,9,   171.5,2,   25.07,2,   30.94,2,    0.00,2,    2.06,2,   0.044,2,   0.026,2, -999.00,9,  2207.8,2,  2306.0,2,   4.4468
06MT20060606,      EqAtl,      49,          1,      49003,          3,2,20060620,       0000,     1.0000,   -23.0015,       4354,   904.9,   4.5918,  34.5959,2,-999.0000,9,   154.2,2,   28.13,2,   34.21,2,    0.00,2,    2.31,2,   0.076,6,   0.039,6, -999.00,9,  2217.8,2,  2300.3,2,   4.5197
06MT20060606,      EqAtl,      49,          1,      49004,          4,2,20060620,       0000,     1.0000,   -23.0015,       4354,   703.3,   5.5592,  34.5230,2,  34.5201,2,   147.8,2,   23.96,2,   34.75,2,    0.01,2,    2.29,2,   0.478,2,   0.237,2, -999.00,9,  2212.0,2,  2291.5,2,   5.4991
06MT20060606,      EqAtl,      49,          1,      49005,          5,2,20060620,       0000,     1.0000,   -23.0015,       4354,   503.1,   7.0231,  34.6209,2,-999.0000,9,   127.2,2,   17.91,2,   33.81,2,    0.00,2,    2.17,2,   0.814,2,   0.406,2,    0.33,3,  2210.3,2,  2292.7,2,   6.9751
06MT20060606,      EqAtl,      49,          1,      49006,          6,2,20060620,       0000,     1.0000,   -23.0015,       4354,   301.7,  10.8491,  35.0152,2,-999.0000,9,   110.4,2,   10.30,2,   27.57,2,    0.00,2,    1.74,2,   1.505,2,   0.783,2,     0.7,3,  2197.1,2,  2300.8,2,  10.8120
06MT20060606,      EqAtl,      49,          1,      49007,          7,2,20060620,       0000,     1.0000,   -23.0015,       4354,   251.0,  12.3433,  35.2034,2,-999.0000,9,   114.0,2,    7.70,2,   23.20,2,    0.00,2,    1.51,2,   1.775,2,   0.935,2, -999.00,9,  2187.2,2,  2311.4,2,  12.3098
06MT20060606,      EqAtl,      49,          1,      49008,          8,2,20060620,       0000,     1.0000,   -23.0015,       4354,   200.0,  13.3170,  35.3214,2,-999.0000,9,   129.6,2,    6.35,2,   20.28,2,    0.00,2,    1.36,2,   2.035,2,   1.081,2,    0.84,3,  2174.0,2,  2315.6,2,  13.2890
06MT20060606,      EqAtl,      49,          1,      49009,          9,2,20060620,       0000,     1.0000,   -23.0015,       4354,   154.4,  14.0244,  35.4161,2,-999.0000,9,   114.6,2,    6.22,2,   20.40,2,    0.01,2,    1.35,2,   2.002,2,   1.095,2, -999.00,9,  2179.4,2,  2322.3,2,  14.0020
06MT20060606,      EqAtl,      49,          1,      49010,         10,2,20060620,       0000,     1.0000,   -23.0015,       4354,   121.3,  14.7363,  35.5100,2,-999.0000,9,   107.6,2,    5.67,2,   20.02,2,    0.01,2,    1.32,2,   2.019,2,   1.108,2,    0.91,3,  2181.5,2,  2326.3,2,  14.7181
06MT20060606,      EqAtl,      49,          1,      49011,         11,2,20060620,       0000,     1.0000,   -23.0015,       4354,   100.0,  15.4092,  35.6187,2,-999.0000,9,  -999.0,9, -999.00,9, -999.00,9, -999.00,9, -999.00,9,   2.140,6,   1.189,6, -999.00,9,  2161.0,2,  2334.4,2,  15.3937
06MT20060606,      EqAtl,      49,          1,      49012,         12,2,20060620,       0000,     1.0000,   -23.0015,       4354,    99.9,  15.4040,  35.6178,2,-999.0000,9,   136.1,6,    4.52,6,   15.92,6,    0.03,6,    1.09,6,-999.000,9,-999.000,9,    0.94,3,  -999.0,9,  -999.0,9,  15.3886
06MT20060606,      EqAtl,      49,          1,      49013,         13,2,20060620,       0000,     1.0000,   -23.0015,       4354,    81.4,  17.7934,  35.9000,2,-999.0000,9,   128.5,2,    3.64,2,   13.50,2,    0.13,2,    0.92,2,   2.059,2,   1.186,2,    0.96,3,  2158.0,2,  2348.4,2,  17.7795
06MT20060606,      EqAtl,      49,          1,      49014,         14,2,20060620,       0000,     1.0000,   -23.0015,       4354,    61.0,  21.3469,  36.2070,2,-999.0000,9,   169.3,2,    1.81,2,    4.72,2,    0.35,2,    0.35,2,   1.970,2,   1.143,2, -999.00,9,  2111.9,2,  2369.5,2,  21.3350
06MT20060606,      EqAtl,      49,          1,      49015,         15,2,20060620,       0000,     1.0000,   -23.0015,       4354,    61.1,  21.3086,  36.2039,2,-999.0000,9,  -999.0,9, -999.00,9, -999.00,9, -999.00,9, -999.00,9,-999.000,9,-999.000,9,    1.21,3,  -999.0,9,  -999.0,9,  21.2967
06MT20060606,      EqAtl,      49,          1,      49016,         16,2,20060620,       0000,     1.0000,   -23.0015,       4354,    40.6,  24.6192,  35.9806,2,-999.0000,9,   175.4,2,    0.98,2,    1.18,2,    0.14,2,    0.12,2,   1.883,2,   1.060,2, -999.00,9,  2072.1,2,  2356.8,2,  24.6105
06MT20060606,      EqAtl,      49,          1,      49017,         17,2,20060620,       0000,     1.0000,   -23.0015,       4354,    40.8,  24.5991,  35.9899,2,-999.0000,9,  -999.0,9, -999.00,9, -999.00,9, -999.00,9, -999.00,9,-999.000,9,-999.000,9, -999.00,9,  -999.0,9,  -999.0,9,  24.5903
06MT20060606,      EqAtl,      49,          1,      49018,         18,2,20060620,       0000,     1.0000,   -23.0015,       4354,    20.6,  27.5516,  35.2518,2,-999.0000,9,   199.3,2,    0.29,2,    0.07,2,    0.01,2,    0.02,2,   1.670,6,   1.004,6, -999.00,9,  -999.0,9,  -999.0,9,  27.5468
06MT20060606,      EqAtl,      49,          1,      49019,         19,2,20060620,       0000,     1.0000,   -23.0015,       4354,    20.5,  27.5458,  35.2579,2,-999.0000,9,  -999.0,9, -999.00,9, -999.00,9, -999.00,9, -999.00,9,-999.000,9,-999.000,9, -999.00,9,  -999.0,9,  -999.0,9,  27.5410
06MT20060606,      EqAtl,      49,          1,      49020,         20,2,20060620,       0000,     1.0000,   -23.0015,       4354,    11.6,  27.8227,  35.2071,2,-999.0000,9,   200.5,2,    0.34,2,    0.03,2,    0.00,2,    0.00,2,   1.612,2,   1.014,2,    1.22,3,  1959.9,6,  2306.0,2,  27.8200
06MT20060606,      EqAtl,      49,          1,      49021,         21,2,20060620,       0000,     1.0000,   -23.0015,       4354,    11.9,  27.8305,  35.2054,2,-999.0000,9,  -999.0,9, -999.00,9, -999.00,9, -999.00,9, -999.00,9,-999.000,9,-999.000,9, -999.00,9,  -999.0,9,  -999.0,9,  27.8277
06MT20060606,      EqAtl,      50,          1,      50001,          1,2,20060621,       0000,     0.0003,   -21.5017,       4940,  4929.8,   2.3283,  34.8782,2,-999.0000,9,   247.7,6,   45.26,6,   22.61,6,    0.00,6,    1.55,6,   0.062,2,   0.034,2, -999.00,9,  2197.2,6,  2338.4,6,   1.8735
06MT20060606,      EqAtl,      50,          1,      50002,          2,2,20060621,       0000,     0.0003,   -21.5017,       4940,  4793.3,   2.3114,  34.8783,2,  34.8788,2,   246.6,2,   45.13,2,   22.24,2,    0.00,2,    1.56,2,   0.053,2,   0.023,2, -999.00,9,  2196.9,2,  2341.8,2,   1.8742
06MT20060606,      EqAtl,      50,          1,      50003,          3,2,20060621,       0000,     0.0003,   -21.5017,       4940,  4496.0,   2.2979,  34.8803,2,-999.0000,9,   247.1,2,   43.98,2,   22.15,2,    0.00,2,    1.54,2,   0.066,2,   0.034,2, -999.00,9,  2195.4,2,  2336.8,2,   1.8973
06MT20060606,      EqAtl,      50,          1,      50004,          4,2,20060621,       0000,     0.0003,   -21.5017,       4940,  3993.9,   2.3795,  34.8958,2,-999.0000,9,   250.6,2,   36.69,2,   21.23,2,    0.00,2,    1.46,2,   0.083,2,   0.054,2, -999.00,9,  2186.6,2,  2330.1,2,   2.0353
06MT20060606,      EqAtl,      50,          1,      50005,          5,2,20060621,       0000,     0.0003,   -21.5017,       4940,  3497.6,   2.4735,  34.9028,2,-999.0000,9,   249.6,2,   36.04,2,   21.45,2,    0.00,2,    1.48,2,   0.134,2,   0.032,2, -999.00,9,  2186.0,2,  2329.8,2,   2.1820
06MT20060606,      EqAtl,      50,          1,      50006,          6,2,20060621,       0000,     0.0003,   -21.5017,       4940,  2993.6,   2.6421,  34.9134,2,  34.9148,2,   246.5,2,   34.75,2,   21.50,2,    0.00,2,    1.47,2,   0.026,6,   0.010,6, -999.00,9,  2184.6,2,  2330.1,2,   2.3998
06MT20060606,      EqAtl,      50,          1,      50007,          7,2,20060621,       0000,     0.0003,   -21.5017,       4940,  2696.2,   2.8398,  34.9251,2,-999.0000,9,   245.9,2,   29.33,2,   21.29,2,    0.00,2,    1.45,2,   0.036,2,   0.023,2, -999.00,9,  2180.9,2,  2323.2,2,   2.6235
06MT20060606,      EqAtl,      50,          1,      50008,          8,2,20060621,       0000,     0.0003,   -21.5017,       4940,  2397.7,   3.1309,  34.9445,2,  34.9443,2,   247.7,2,   25.72,2,   20.57,2,    0.00,2,    1.40,2,   0.088,2,   0.036,2, -999.00,9,  2175.2,2,  2318.3,2,   2.9386
06MT20060606,      EqAtl,      50,          1,      50009,          9,2,20060621,       0000,     0.0003,   -21.5017,       4940,  2098.7,   3.4678,  34.9635,2,-999.0000,9,   248.9,2,   20.30,2,   20.03,2,    0.00,2,    1.36,2,   0.105,2,   0.059,2, -999.00,9,  2168.8,2,  2313.2,2,   3.2988
06MT20060606,      EqAtl,      50,          1,      50010,         10,2,20060621,       0000,     0.0003,   -21.5017,       4940,  1697.7,   4.0005,  34.9818,2,  34.9835,2,   243.8,2,   15.72,2,   20.09,2,    0.00,2,    1.34,2,   0.338,6,   0.172,6, -999.00,9,  2167.0,2,  2307.4,2,   3.8619
06MT20060606,      EqAtl,      50,          1,      50011,         11,2,20060621,       0000,     0.0003,   -21.5017,       4940,  1295.6,   4.5362,  34.8935,2,-999.0000,9,   198.6,6,   20.45,6,   26.09,6,    0.00,6,    1.74,6,   0.116,2,   0.062,2, -999.00,9,  2191.2,2,  2308.2,2,   4.4292
06MT20060606,      EqAtl,      50,          1,      50012,         12,2,20060621,       0000,     0.0003,   -21.5017,       4940,   896.8,   4.5814,  34.5728,2,-999.0000,9,   153.9,2,   27.89,2,   34.49,2,    0.00,2,    2.34,2,   0.092,2,   0.043,2, -999.00,9,  2218.7,2,  2296.3,2,   4.5101
06MT20060606,      EqAtl,      50,          1,      50013,         13,2,20060621,       0000,     0.0003,   -21.5017,       4940,   698.5,   5.2768,  34.4950,2,  34.4958,2,   151.8,2,   24.23,2,   34.72,2,    0.00,2,    2.32,2,   0.479,2,   0.242,2, -999.00,9,  2212.0,2,  2289.7,2,   5.2187
06MT20060606,      EqAtl,      50,          1,      50014,         14,2,20060621,       0000,     0.0003,   -21.5017,       4940,   399.3,   8.9445,  34.8090,2,-999.0000,9,   101.1,2,   13.59,2,   31.65,2,    0.00,2,    2.02,2,   1.036,6,   0.546,6, -999.00,9,  2215.0,2,  2293.3,2,   8.9009
06MT20060606,      EqAtl,      50,          1,      50015,         15,2,20060621,       0000,     0.0003,   -21.5017,       4940,   250.3,  13.6753,  35.3675,2,-999.0000,9,   131.0,2,    6.10,2,   18.86,2,    0.01,2,    1.29,2,   2.163,2,   1.176,2, -999.00,9,  2171.0,2,  2317.5,2,  13.6395
06MT20060606,      EqAtl,      50,          1,      50016,         16,2,20060621,       0000,     0.0003,   -21.5017,       4940,   199.2,  13.9422,  35.4095,2,-999.0000,9,   156.7,2,    5.11,2,   15.26,2,    0.01,2,    1.08,2,   2.363,2,   1.241,2, -999.00,9,  2152.2,2,  2322.1,2,  13.9134
06MT20060606,      EqAtl,      50,          1,      50017,         17,2,20060621,       0000,     0.0003,   -21.5017,       4940,   149.8,  14.9498,  35.5546,2,-999.0000,9,   162.9,2,    4.39,2,   12.85,2,    0.03,2,    0.94,2,   2.315,2,   1.329,2, -999.00,9,  2144.1,2,  2332.1,2,  14.9271
06MT20060606,      EqAtl,      50,          1,      50018,         18,2,20060621,       0000,     0.0003,   -21.5017,       4940,    99.5,  17.9715,  35.9710,2,-999.0000,9,   158.4,2,    3.16,2,    9.99,2,    0.11,2,    0.73,2,   2.269,2,   1.246,2, -999.00,9,  2139.8,2,  2355.3,2,  17.9544
06MT20060606,      EqAtl,      50,          1,      50019,         19,2,20060621,       0000,     0.0003,   -21.5017,       4940,    60.7,  21.0231,  36.3144,2,-999.0000,9,   179.5,2,    1.78,2,    4.49,2,    0.20,2,    0.39,2,   2.067,2,   1.247,2, -999.00,9,  2110.8,2,  2376.0,2,  21.0114
06MT20060606,      EqAtl,      50,          1,      50020,         20,2,20060621,       0000,     0.0003,   -21.5017,       4940,    20.2,  25.1909,  36.0614,2,-999.0000,9,   193.7,2,    0.85,2,    0.60,2,    0.08,2,    0.10,2,   1.794,6,   1.088,6, -999.00,9,  2055.5,2,  2358.5,2,  25.1865
06MT20060606,      EqAtl,      50,          1,      50021,         21,2,20060621,       0000,     0.0003,   -21.5017,       4940,     9.7,  25.6357,  36.0708,2,  36.0701,2,   197.6,2,    0.86,2,    0.24,2,    0.06,2,    0.08,2,   1.780,2,   1.084,2, -999.00,9,  2048.2,6,  2360.1,6,  25.6336
06MT20060606,      EqAtl,      51,          1,      51001,          1,2,20060621,       0000,     0.0077,   -21.0118,       4125,  1312.4,   4.4665,  34.9166,2,-999.0000,9,  -999.0,9, -999.00,9, -999.00,9, -999.00,9, -999.00,9,-999.000,9,-999.000,9, -999.00,9,  -999.0,9,  -999.0,9,   4.3586
06MT20060606,      EqAtl,      51,          1,      51002,          2,2,20060621,       0000,     0.0077,   -21.0118,       4125,  1312.3,   4.4673,  34.9160,2,  34.9193,2,   207.8,6,   19.22,6,   24.91,6,    0.00,6,    1.66,6,   0.132,2,   0.073,2, -999.00,9,  -999.0,9,  2306.9,2,   4.3594
06MT20060606,      EqAtl,      51,          1,      51003,          3,2,20060621,       0000,     0.0077,   -21.0118,       4125,  1099.0,   4.5258,  34.6765,2,-999.0000,9,   162.0,2,   27.20,2,   32.83,2,    0.00,2,    2.19,2,   0.036,2,   0.017,2, -999.00,9,  -999.0,9,  2301.3,2,   4.4371
06MT20060606,      EqAtl,      51,          1,      51004,          4,2,20060621,       0000,     0.0077,   -21.0118,       4125,   895.1,   4.5908,  34.5548,2,-999.0000,9,   154.2,2,   28.72,2,   34.69,2,    0.00,2,    2.36,2,   0.108,6,   0.064,6, -999.00,9,  -999.0,9,  2298.0,2,   4.5196
06MT20060606,      EqAtl,      51,          1,      51005,          5,2,20060621,       0000,     0.0077,   -21.0118,       4125,   697.2,   5.5302,  34.5084,2,-999.0000,9,   145.5,2,   23.93,2,   35.11,2,    0.01,2,    2.31,2,   0.488,2,   0.235,2, -999.00,9,  -999.0,9,  2291.4,2,   5.4708
06MT20060606,      EqAtl,      51,          1,      51006,          6,2,20060621,       0000,     0.0077,   -21.0118,       4125,   502.6,   8.1514,  34.7240,2,-999.0000,9,   107.3,2,   15.57,2,   33.45,2,    0.01,2,    2.10,2,   0.884,2,   0.467,2, -999.00,9,  -999.0,9,  2289.0,2,   8.0992
06MT20060606,      EqAtl,      51,          1,      51007,          7,2,20060621,       0000,     0.0077,   -21.0118,       4125,   300.6,  11.7687,  35.1247,2,-999.0000,9,    89.8,2,    9.58,2,   27.42,2,    0.01,2,    1.72,2,   1.552,2,   0.854,2, -999.00,9,  -999.0,9,  2305.0,2,  11.7298
06MT20060606,      EqAtl,      51,          1,      51008,          8,2,20060621,       0000,     0.0077,   -21.0118,       4125,   250.3,  13.7295,  35.3732,2,-999.0000,9,   139.5,2,    6.14,2,   18.20,2,    0.01,2,    1.23,2,-999.000,9,-999.000,9, -999.00,9,  -999.0,9,  2318.6,2,  13.6936
06MT20060606,      EqAtl,      51,          1,      51009,          9,2,20060621,       0000,     0.0077,   -21.0118,       4125,   200.8,  13.9266,  35.4057,2,-999.0000,9,   157.5,2,    5.43,2,   15.04,2,    0.01,2,    1.07,2,   2.257,6,   1.235,6, -999.00,9,  -999.0,9,  2322.2,2,  13.8976
06MT20060606,      EqAtl,      51,          1,      51010,         10,2,20060621,       0000,     0.0077,   -21.0118,       4125,   160.5,  14.5952,  35.4985,2,-999.0000,9,   163.9,2,    4.56,2,   13.36,2,    0.02,2,    0.96,2,   2.347,2,   1.315,2, -999.00,9,  -999.0,9,  2327.9,2,  14.5713
06MT20060606,      EqAtl,      51,          1,      51011,         11,2,20060621,       0000,     0.0077,   -21.0118,       4125,   120.6,  16.4792,  35.7805,2,-999.0000,9,   160.5,6,    3.66,6,   11.24,6,    0.05,6,    0.82,6,   2.251,2,   1.251,2, -999.00,9,  -999.0,9,  2345.8,2,  16.4596
06MT20060606,      EqAtl,      51,          1,      51012,         12,2,20060621,       0000,     0.0077,   -21.0118,       4125,   101.4,  18.6944,  36.0780,2,-999.0000,9,   165.7,2,    2.58,2,    8.26,2,    0.16,2,    0.65,2,   2.151,2,   1.252,2, -999.00,9,  -999.0,9,  2362.3,2,  18.6764
06MT20060606,      EqAtl,      51,          1,      51013,         13,2,20060621,       0000,     0.0077,   -21.0118,       4125,   101.1,  18.7126,  36.0807,2,-999.0000,9,  -999.0,9, -999.00,9, -999.00,9, -999.00,9, -999.00,9,-999.000,9,-999.000,9, -999.00,9,  -999.0,9,  -999.0,9,  18.6947
06MT20060606,      EqAtl,      51,          1,      51014,         14,2,20060621,       0000,     0.0077,   -21.0118,       4125,    78.8,  19.7287,  36.2484,2,-999.0000,9,   177.0,2,    2.08,2,    5.80,2,    0.18,2,    0.51,2,   2.162,2,   1.264,2, -999.00,9,  -999.0,9,  2373.6,2,  19.7142
06MT20060606,      EqAtl,      51,          1,      51015,         15,2,20060621,       0000,     0.0077,   -21.0118,       4125,    61.3,  20.7290,  36.3698,2,-999.0000,9,   180.3,2,    1.73,2,    4.71,2,    0.22,2,    0.40,2,   2.144,6,   1.201,6, -999.00,9,  -999.0,9,  2380.9,2,  20.7173
06MT20060606,      EqAtl,      51,          1,      51016,         16,2,20060621,       0000,     0.0077,   -21.0118,       4125,    60.5,  20.8654,  36.3787,2,-999.0000,9,  -999.0,9, -999.00,9, -999.00,9, -999.00,9, -999.00,9,-999.000,9,-999.000,9, -999.00,9,  -999.0,9,  -999.0,9,  20.8538
06MT20060606,      EqAtl,      51,          1,      51017,         17,2,20060621,       0000,     0.0077,   -21.0118,       4125,    40.8,  23.0231,  36.3144,2,-999.0000,9,   185.3,2,    0.98,2,    2.81,2,    0.23,2,    0.26,2,   1.959,2,   1.176,2, -999.00,9,  -999.0,9,  2376.7,2,  23.0147
06MT20060606,      EqAtl,      51,          1,      51018,         18,2,20060621,       0000,     0.0077,   -21.0118,       4125,    40.7,  23.0376,  36.3123,2,-999.0000,9,  -999.0,9, -999.00,9, -999.00,9, -999.00,9, -999.00,9,-999.000,9,-999.000,9, -999.00,9,  -999.0,9,  -999.0,9,  23.0292
06MT20060606,      EqAtl,      51,          1,      51019,         19,2,20060621,       0000,     0.0077,   -21.0118,       4125,    20.1,  25.2262,  36.1867,2,-999.0000,9,   197.6,2,    0.67,2,    0.41,2,    0.07,2,    0.10,2,   1.803,2,   1.107,2, -999.00,9,  -999.0,9,  -999.0,9,  25.2218
06MT20060606,      EqAtl,      51,          1,      51020,         20,2,20060621,       0000,     0.0077,   -21.0118,       4125,    20.8,  25.2587,  36.1882,2,-999.0000,9,  -999.0,9, -999.00,9, -999.00,9, -999.00,9, -999.00,9,-999.000,9,-999.000,9, -999.00,9,  -999.0,9,  -999.0,9,  25.2541
06MT20060606,      EqAtl,      51,          1,      51021,         21,2,20060621,       0000,     0.0077,   -21.0118,       4125,    11.0,  25.3650,  36.1965,2,  36.1992,2,   199.2,2,    0.66,2,    0.27,2,    0.05,2,    0.10,2,   1.801,2,   1.104,2, -999.00,9,  -999.0,9,  2366.9,2,  25.3626