BOTTLE,20211025CCHSIORKP
EXPOCODE,SECT_ID,STNNBR,CASTNO,SAMPNO,BTLNBR,BTLNBR_FLAG_W,DATE,TIME,LATITUDE,LONGITUDE,DEPTH,CTDPRS,CTDTMP,CTDSAL,CTDSAL_FLAG_W,SALNTY,SALNTY_FLAG_W,OXYGEN,OXYGEN_FLAG_W,SILCAT,SILCAT_FLAG_W,NITRAT,NITRAT_FLAG_W,NITRIT,NITRIT_FLAG_W,PHSPHT,PHSPHT_FLAG_W,CFC-11,CFC-11_FLAG_W,CFC-12,CFC-12_FLAG_W,SF6,SF6_FLAG_W,TCARBN,TCARBN_FLAG_W,ALKALI,ALKALI_FLAG_W,THETA
,,,,,,,,,,,METERS,DBAR,ITS-90,PSS-78,,PSS-78,,UMOL/KG,,UMOL/KG,,UMOL/KG,,UMOL/KG,,UMOL/KG,,PMOL/KG,,PMOL/KG,,FMOL/KG,,UMOL/KG,,UMOL/KG,,DEG C
06MT20060606,      EqAtl,      31,          1,      31001,          1,2,20060613,       0000,    -0.6645,   -32.4978,       4279,  1313.1,   4.5556,  34.8872,2,  34.8894,2,   199.2,2,   20.00,2,   25.70,2,    0.01,2,    1.77,2,   0.118,6,   0.067,6, -999.00,9,  2191.6,2,  2303.7,6,   4.4468
06MT20060606,      EqAtl,      31,          1,      31002,          2,2,20060613,       0000,    -0.6645,   -32.4978,       4279,  1108.9,   4.5672,  34.7332,2,-999.0000,9,   169.0,6,   25.20,6,   31.04,6,    0.01,6,    2.09,6,   0.051,2,   0.023,2, -999.00,9,  2209.8,2,  2303.2,2,   4.4772
06MT20060606,      EqAtl,      31,          1,      31003,          3,2,20060613,       0000,    -0.6645,   -32.4978,       4279,   903.1,   4.6093,  34.5565,2,-999.0000,9,   154.0,2,   28.54,2,   34.47,2,    0.01,2,    2.36,2,   0.112,2,   0.060,2, -999.00,9,  2218.9,2,  2296.3,2,   4.5373
06MT20060606,      EqAtl,      31,          1,      31004,          4,2,20060613,       0000,    -0.6645,   -32.4978,       4279,   700.9,   5.2037,  34.4996,2,-999.0000,9,   151.8,2,   25.20,2,   34.38,2,    0.01,2,    2.35,2,   0.419,2,   0.224,2, -999.00,9,  2214.8,2,  2289.8,2,   5.1457
06MT20060606,      EqAtl,      31,          1,      31005,          5,2,20060613,       0000,    -0.6645,   -32.4978,       4279,   500.7,   7.3367,  34.6353,2,-999.0000,9,   131.6,2,   17.24,2,   32.33,2,    0.01,2,    2.13,2,   1.030,2,   0.455,2, -999.00,9,  2208.8,2,  2285.5,2,   7.2878
06MT20060606,      EqAtl,      31,          1,      31006,          6,2,20060613,       0000,    -0.6645,   -32.4978,       4279,   300.4,  11.8856,  35.1285,2,  35.1309,2,   117.9,2,    8.14,2,   23.40,2,    0.01,2,    1.56,2,   1.818,2,   0.990,2, -999.00,9,  2186.2,2,  2307.1,2,  11.8464
06MT20060606,      EqAtl,      31,          1,      31007,          7,2,20060613,       0000,    -0.6645,   -32.4978,       4279,   251.3,  12.8910,  35.2591,2,-999.0000,9,   117.9,2,    7.47,2,   21.28,2,    0.01,2,    1.42,2,   1.927,2,   1.033,2, -999.00,9,  2182.2,2,  2310.9,2,  12.8565
06MT20060606,      EqAtl,      31,          1,      31008,          8,2,20060613,       0000,    -0.6645,   -32.4978,       4279,   202.0,  13.6377,  35.3649,2,-999.0000,9,  -999.0,9, -999.00,9, -999.00,9, -999.00,9, -999.00,9,-999.000,9,-999.000,9, -999.00,9,  -999.0,9,  -999.0,9,  13.6089
06MT20060606,      EqAtl,      31,          1,      31009,          9,2,20060613,       0000,    -0.6645,   -32.4978,       4279,   161.2,  15.0571,  35.5685,2,-999.0000,9,   169.2,2,    4.11,2,   12.00,2,    0.01,2,    0.90,2,   2.349,5,-999.000,5, -999.00,9,  2141.1,2,  2328.8,2,  15.0325
06MT20060606,      EqAtl,      31,          1,      31010,         10,2,20060613,       0000,    -0.6645,   -32.4978,       4279,   119.8,  16.4758,  35.7927,2,-999.0000,9,   175.1,2,    3.31,2,    9.24,2,    0.01,2,    0.72,2,   2.357,2,   1.330,2, -999.00,9,  2132.6,2,  2342.8,2,  16.4564
06MT20060606,      EqAtl,      31,          1,      31011,         11,2,20060613,       0000,    -0.6645,   -32.4978,       4279,   101.7,  16.7976,  35.8461,2,-999.0000,9,   176.5,6,    3.11,6,    8.73,6,    0.02,6,    0.67,6,   2.312,6,   1.318,6, -999.00,9,  2131.3,2,  2347.5,2,  16.7809
06MT20060606,      EqAtl,      31,          1,      31012,         12,2,20060613,       0000,    -0.6645,   -32.4978,       4279,    91.9,  18.2249,  36.0415,2,-999.0000,9,  -999.0,9, -999.00,9, -999.00,9, -999.00,9, -999.00,9,   2.231,2,   1.296,2, -999.00,9,  -999.0,9,  -999.0,9,  18.2089
06MT20060606,      EqAtl,      31,          1,      31013,         13,2,20060613,       0000,    -0.6645,   -32.4978,       4279,    80.9,  22.1420,  36.3226,2,-999.0000,9,   172.1,2,    1.22,2,    2.98,2,    0.22,2,    0.32,2,   1.950,2,   1.184,2, -999.00,9,  2112.1,2,  2374.8,2,  22.1258
06MT20060606,      EqAtl,      31,          1,      31014,         14,2,20060613,       0000,    -0.6645,   -32.4978,       4279,    60.9,  26.9734,  36.4827,2,-999.0000,9,   199.2,2,    0.50,2,    0.03,2,    0.02,2,    0.03,2,   1.723,2,   1.080,2, -999.00,9,  2051.8,2,  2381.0,2,  26.9594
06MT20060606,      EqAtl,      31,          1,      31015,         15,2,20060613,       0000,    -0.6645,   -32.4978,       4279,    60.7,  26.9773,  36.4847,2,-999.0000,9,  -999.0,9, -999.00,9, -999.00,9, -999.00,9, -999.00,9,-999.000,9,-999.000,9, -999.00,9,  -999.0,9,  -999.0,9,  26.9633
06MT20060606,      EqAtl,      31,          1,      31016,         16,2,20060613,       0000,    -0.6645,   -32.4978,       4279,    40.0,  27.3729,  36.2655,2,-999.0000,9,   199.5,2,    0.43,2,    0.00,2,    0.01,2,    0.00,2,   1.886,2,   1.034,2, -999.00,9,  2033.9,2,  2369.0,2,  27.3636
06MT20060606,      EqAtl,      31,          1,      31017,         17,2,20060613,       0000,    -0.6645,   -32.4978,       4279,    40.2,  27.3440,  36.2740,2,-999.0000,9,  -999.0,9, -999.00,9, -999.00,9, -999.00,9, -999.00,9,-999.000,9,-999.000,9, -999.00,9,  -999.0,9,  -999.0,9,  27.3347
06MT20060606,      EqAtl,      31,          1,      31018,         18,2,20060613,       0000,    -0.6645,   -32.4978,       4279,    20.0,  27.6736,  36.2297,2,  36.2311,2,   199.5,2,    0.36,2,    0.00,2,    0.00,2,    0.01,2,   1.984,6,   1.034,6, -999.00,9,  -999.0,9,  -999.0,9,  27.6689
06MT20060606,      EqAtl,      31,          1,      31019,         19,2,20060613,       0000,    -0.6645,   -32.4978,       4279,    19.7,  27.6721,  36.2300,2,-999.0000,9,  -999.0,9, -999.00,9, -999.00,9, -999.00,9, -999.00,9,-999.000,9,-999.000,9, -999.00,9,  -999.0,9,  -999.0,9,  27.6675
06MT20060606,      EqAtl,      31,          1,      31020,         20,2,20060613,       0000,    -0.6645,   -32.4978,       4279,    12.5,  27.6731,  36.2303,2,  36.2305,2,   198.7,2,    0.50,2,    0.03,2,    0.00,2,    0.01,2,   1.608,2,   1.032,2, -999.00,9,  2027.5,6,  2363.4,2,  27.6702
06MT20060606,      EqAtl,      31,          1,      31021,         21,2,20060613,       0000,    -0.6645,   -32.4978,       4279,    12.4,  27.6712,  36.2304,2,-999.0000,9,  -999.0,9, -999.00,9, -999.00,9, -999.00,9, -999.00,9,-999.000,9,-999.000,9, -999.00,9,  -999.0,9,  -999.0,9,  27.6683
06MT20060606,      EqAtl,      32,          1,      32001,          1,2,20060613,       0000,    -1.3330,   -32.5000,       4310,  1301.2,   4.5419,  34.9036,2,-999.0000,9,  -999.0,9, -999.00,9, -999.00,9, -999.00,9, -999.00,9,-999.000,9,-999.000,9, -999.00,9,  -999.0,9,  -999.0,9,   4.4343
06MT20060606,      EqAtl,      32,          1,      32002,          2,2,20060613,       0000,    -1.3330,   -32.5000,       4310,  1301.1,   4.5423,  34.9035,2,-999.0000,9,  -999.0,9, -999.00,9, -999.00,9, -999.00,9, -999.00,9,-999.000,9,-999.000,9, -999.00,9,  -999.0,9,  -999.0,9,   4.4347
06MT20060606,      EqAtl,      32,          1,      32003,          3,2,20060613,       0000,    -1.3330,   -32.5000,       4310,  1300.9,   4.5424,  34.9035,2,-999.0000,9,  -999.0,9, -999.00,9, -999.00,9, -999.00,9, -999.00,9,-999.000,9,-999.000,9, -999.00,9,  -999.0,9,  -999.0,9,   4.4348
06MT20060606,      EqAtl,      32,          1,      32004,          4,2,20060613,       0000,    -1.3330,   -32.5000,       4310,  1300.6,   4.5423,  34.9035,2,-999.0000,9,  -999.0,9, -999.00,9, -999.00,9, -999.00,9, -999.00,9,-999.000,9,-999.000,9, -999.00,9,  -999.0,9,  -999.0,9,   4.4348
06MT20060606,      EqAtl,      32,          1,      32005,          5,2,20060613,       0000,    -1.3330,   -32.5000,       4310,  1301.1,   4.5418,  34.9035,2,-999.0000,9,  -999.0,9, -999.00,9, -999.00,9, -999.00,9, -999.00,9,-999.000,9,-999.000,9, -999.00,9,  -999.0,9,  -999.0,9,   4.4342
06MT20060606,      EqAtl,      32,          1,      32006,          6,2,20060613,       0000,    -1.3330,   -32.5000,       4310,  1300.6,   4.5425,  34.9035,2,-999.0000,9,  -999.0,9, -999.00,9, -999.00,9, -999.00,9, -999.00,9,-999.000,9,-999.000,9, -999.00,9,  -999.0,9,  -999.0,9,   4.4350
06MT20060606,      EqAtl,      32,          1,      32007,          7,2,20060613,       0000,    -1.3330,   -32.5000,       4310,  1300.9,   4.5422,  34.9035,2,-999.0000,9,  -999.0,9, -999.00,9, -999.00,9, -999.00,9, -999.00,9,-999.000,9,-999.000,9, -999.00,9,  -999.0,9,  -999.0,9,   4.4346
06MT20060606,      EqAtl,      32,          1,      32008,          8,2,20060613,       0000,    -1.3330,   -32.5000,       4310,  1300.8,   4.5422,  34.9034,2,-999.0000,9,  -999.0,9, -999.00,9, -999.00,9, -999.00,9, -999.00,9,-999.000,9,-999.000,9, -999.00,9,  -999.0,9,  -999.0,9,   4.4347
06MT20060606,      EqAtl,      32,          1,      32009,          9,2,20060613,       0000,    -1.3330,   -32.5000,       4310,  1300.1,   4.5426,  34.9035,2,-999.0000,9,  -999.0,9, -999.00,9, -999.00,9, -999.00,9, -999.00,9,-999.000,9,-999.000,9, -999.00,9,  -999.0,9,  -999.0,9,   4.4351
06MT20060606,      EqAtl,      32,          1,      32010,         10,2,20060613,       0000,    -1.3330,   -32.5000,       4310,  1300.6,   4.5423,  34.9034,2,-999.0000,9,  -999.0,9, -999.00,9, -999.00,9, -999.00,9, -999.00,9,-999.000,9,-999.000,9, -999.00,9,  -999.0,9,  -999.0,9,   4.4348
06MT20060606,      EqAtl,      32,          1,      32011,         11,2,20060613,       0000,    -1.3330,   -32.5000,       4310,  1301.3,   4.5414,  34.9036,2,-999.0000,9,  -999.0,9, -999.00,9, -999.00,9, -999.00,9, -999.00,9,-999.000,9,-999.000,9, -999.00,9,  -999.0,9,  -999.0,9,   4.4338
06MT20060606,      EqAtl,      32,          1,      32012,         12,2,20060613,       0000,    -1.3330,   -32.5000,       4310,  1300.0,   4.5427,  34.9034,2,-999.0000,9,  -999.0,9, -999.00,9, -999.00,9, -999.00,9, -999.00,9,-999.000,9,-999.000,9, -999.00,9,  -999.0,9,  -999.0,9,   4.4352
06MT20060606,      EqAtl,      32,          1,      32013,         13,2,20060613,       0000,    -1.3330,   -32.5000,       4310,  1300.3,   4.5424,  34.9033,2,-999.0000,9,  -999.0,9, -999.00,9, -999.00,9, -999.00,9, -999.00,9,-999.000,9,-999.000,9, -999.00,9,  -999.0,9,  -999.0,9,   4.4349
06MT20060606,      EqAtl,      32,          1,      32014,         14,2,20060613,       0000,    -1.3330,   -32.5000,       4310,  1300.6,   4.5424,  34.9034,2,-999.0000,9,  -999.0,9, -999.00,9, -999.00,9, -999.00,9, -999.00,9,-999.000,9,-999.000,9, -999.00,9,  -999.0,9,  -999.0,9,   4.4349
06MT20060606,      EqAtl,      32,          1,      32015,         15,2,20060613,       0000,    -1.3330,   -32.5000,       4310,  1300.2,   4.5426,  34.9035,2,-999.0000,9,  -999.0,9, -999.00,9, -999.00,9, -999.00,9, -999.00,9,-999.000,9,-999.000,9, -999.00,9,  -999.0,9,  -999.0,9,   4.4351
06MT20060606,      EqAtl,      32,          1,      32016,         16,2,20060613,       0000,    -1.3330,   -32.5000,       4310,  1300.4,   4.5425,  34.9034,2,-999.0000,9,  -999.0,9, -999.00,9, -999.00,9, -999.00,9, -999.00,9,-999.000,9,-999.000,9, -999.00,9,  -999.0,9,  -999.0,9,   4.4350
06MT20060606,      EqAtl,      32,          1,      32017,         17,2,20060613,       0000,    -1.3330,   -32.5000,       4310,  1299.6,   4.5428,  34.9034,2,-999.0000,9,  -999.0,9, -999.00,9, -999.00,9, -999.00,9, -999.00,9,-999.000,9,-999.000,9, -999.00,9,  -999.0,9,  -999.0,9,   4.4354
06MT20060606,      EqAtl,      32,          1,      32018,         18,2,20060613,       0000,    -1.3330,   -32.5000,       4310,  1300.2,   4.5426,  34.9035,2,-999.0000,9,  -999.0,9, -999.00,9, -999.00,9, -999.00,9, -999.00,9,-999.000,9,-999.000,9, -999.00,9,  -999.0,9,  -999.0,9,   4.4351
06MT20060606,      EqAtl,      32,          1,      32019,         19,2,20060613,       0000,    -1.3330,   -32.5000,       4310,  1299.9,   4.5427,  34.9034,2,-999.0000,9,  -999.0,9, -999.00,9, -999.00,9, -999.00,9, -999.00,9,-999.000,9,-999.000,9, -999.00,9,  -999.0,9,  -999.0,9,   4.4352
06MT20060606,      EqAtl,      32,          1,      32020,         20,2,20060613,       0000,    -1.3330,   -32.5000,       4310,  1299.7,   4.5428,  34.9034,2,-999.0000,9,  -999.0,9, -999.00,9, -999.00,9, -999.00,9, -999.00,9,-999.000,9,-999.000,9, -999.00,9,  -999.0,9,  -999.0,9,   4.4353
06MT20060606,      EqAtl,      32,          1,      32021,         21,2,20060613,       0000,    -1.3330,   -32.5000,       4310,  1299.7,   4.5428,  34.9033,2,-999.0000,9,  -999.0,9, -999.00,9, -999.00,9, -999.00,9, -999.00,9,-999.000,9,-999.000,9, -999.00,9,  -999.0,9,  -999.0,9,   4.4353
06MT20060606,      EqAtl,      33,          1,      33001,          1,2,20060616,       0000,    -4.0002,   -23.0038,       5558,  1318.0,   4.3949,  34.9063,2,  34.9058,2,   205.8,6,   19.59,6,   25.23,6,    0.00,6,    1.72,6,   0.112,6,   0.058,6, -999.00,9,  2187.4,2,  2312.7,6,   4.2872
06MT20060606,      EqAtl,      33,          1,      33002,          2,2,20060616,       0000,    -4.0002,   -23.0038,       5558,  1096.7,   4.2876,  34.7151,2,  34.7134,2,   173.1,2,   27.13,2,   31.23,2,    0.00,2,    2.15,2,   0.030,2,   0.009,2, -999.00,9,  2209.2,2,  2306.7,2,   4.2010
06MT20060606,      EqAtl,      33,          1,      33003,          3,2,20060616,       0000,    -4.0002,   -23.0038,       5558,   897.4,   4.2960,  34.5063,2,  34.5044,2,   163.2,2,   30.79,2,   34.70,2,    0.00,2,    2.40,2,   0.176,2,   0.089,2, -999.00,9,  2216.0,2,  2300.7,2,   4.2267
06MT20060606,      EqAtl,      33,          1,      33004,          4,2,20060616,       0000,    -4.0002,   -23.0038,       5558,   698.4,   5.4334,  34.5021,2,-999.0000,9,   134.0,2,   24.62,2,   36.96,2,    0.00,2,    2.46,2,   0.290,2,   0.164,2, -999.00,9,  2220.2,2,  2293.0,2,   5.3744
06MT20060606,      EqAtl,      33,          1,      33005,          5,2,20060616,       0000,    -4.0002,   -23.0038,       5558,   502.9,   7.3102,  34.6526,2,  34.6470,2,    94.1,2,   18.41,2,   36.54,2,    0.00,2,    2.38,2,   0.547,2,   0.249,2, -999.00,9,  2228.8,2,  2292.0,2,   7.2611
06MT20060606,      EqAtl,      33,          1,      33006,          6,2,20060616,       0000,    -4.0002,   -23.0038,       5558,   301.0,  11.2655,  35.0607,2,-999.0000,9,    99.8,2,    9.80,2,   27.08,2,    0.00,2,    1.78,2,   1.542,2,   0.841,2, -999.00,9,  2201.0,2,  2306.9,2,  11.2276
06MT20060606,      EqAtl,      33,          1,      33007,          7,2,20060616,       0000,    -4.0002,   -23.0038,       5558,   251.1,  11.9856,  35.1521,2,-999.0000,9,    84.6,2,    9.37,2,   26.43,2,    0.01,2,    1.78,2,   1.520,6,   0.826,6, -999.00,9,  2207.1,2,  2309.1,2,  11.9527
06MT20060606,      EqAtl,      33,          1,      33008,          8,2,20060616,       0000,    -4.0002,   -23.0038,       5558,   202.1,  12.5830,  35.2270,2,-999.0000,9,  -999.0,9, -999.00,9, -999.00,9, -999.00,9, -999.00,9,-999.000,9,-999.000,9, -999.00,9,  -999.0,9,  -999.0,9,  12.5557
06MT20060606,      EqAtl,      33,          1,      33009,          9,2,20060616,       0000,    -4.0002,   -23.0038,       5558,   201.7,  12.5883,  35.2277,2,-999.0000,9,    90.2,2,    8.46,2,   25.80,2,    0.00,2,    1.68,2,   1.696,2,   0.933,2, -999.00,9,  2200.3,2,  2313.0,2,  12.5611
06MT20060606,      EqAtl,      33,          1,      33010,         10,2,20060616,       0000,    -4.0002,   -23.0038,       5558,   160.5,  12.9912,  35.2780,2,-999.0000,9,    93.3,2,    7.68,2,   24.35,2,    0.01,2,    1.62,2,   1.815,2,   0.995,2, -999.00,9,  2196.8,2,  2316.3,2,  12.9691
06MT20060606,      EqAtl,      33,          1,      33011,         11,2,20060616,       0000,    -4.0002,   -23.0038,       5558,   121.6,  13.8492,  35.3901,2,-999.0000,9,    90.6,6,    6.82,6,   23.42,6,    0.01,6,    1.53,6,   1.937,2,   1.076,2, -999.00,9,  2195.0,2,  2319.6,2,  13.8317
06MT20060606,      EqAtl,      33,          1,      33012,         12,2,20060616,       0000,    -4.0002,   -23.0038,       5558,   101.8,  15.5691,  35.5612,2,-999.0000,9,    97.8,2,    5.44,2,   20.02,2,    0.04,2,    1.32,2,   2.033,2,   1.146,2, -999.00,9,  2185.0,2,  2327.4,2,  15.5533
06MT20060606,      EqAtl,      33,          1,      33013,         13,2,20060616,       0000,    -4.0002,   -23.0038,       5558,   101.8,  15.5805,  35.5606,2,-999.0000,9,  -999.0,9, -999.00,9, -999.00,9, -999.00,9, -999.00,9,-999.000,9,-999.000,9, -999.00,9,  -999.0,9,  -999.0,9,  15.5647
06MT20060606,      EqAtl,      33,          1,      33014,         14,2,20060616,       0000,    -4.0002,   -23.0038,       5558,    81.2,  21.7606,  36.1856,2,-999.0000,9,   165.3,2,    1.89,2,    4.16,2,    0.41,2,    0.43,2,   1.949,2,   1.167,2, -999.00,9,  2116.0,2,  2372.0,2,  21.7446
06MT20060606,      EqAtl,      33,          1,      33015,         15,2,20060616,       0000,    -4.0002,   -23.0038,       5558,    60.5,  26.2616,  36.3584,2,-999.0000,9,   203.8,2,    0.74,2,    0.12,2,    0.02,2,    0.08,2,   2.055,2,   1.091,2, -999.00,9,  2060.1,2,  2382.2,2,  26.2479
06MT20060606,      EqAtl,      33,          1,      33016,         16,2,20060616,       0000,    -4.0002,   -23.0038,       5558,    60.4,  26.2630,  36.3589,2,-999.0000,9,  -999.0,9, -999.00,9, -999.00,9, -999.00,9, -999.00,9,-999.000,9,-999.000,9, -999.00,9,  -999.0,9,  -999.0,9,  26.2494
06MT20060606,      EqAtl,      33,          1,      33017,         17,2,20060616,       0000,    -4.0002,   -23.0038,       5558,    41.0,  27.0584,  36.2621,2,-999.0000,9,   204.6,2,    0.79,2,    0.00,2,    0.00,2,    0.05,2,   1.681,6,   1.062,6, -999.00,9,  2037.4,2,  2371.9,2,  27.0489
06MT20060606,      EqAtl,      33,          1,      33018,         18,2,20060616,       0000,    -4.0002,   -23.0038,       5558,    41.2,  27.0527,  36.2694,2,-999.0000,9,  -999.0,9, -999.00,9, -999.00,9, -999.00,9, -999.00,9,-999.000,9,-999.000,9, -999.00,9,  -999.0,9,  -999.0,9,  27.0432
06MT20060606,      EqAtl,      33,          1,      33019,         19,2,20060616,       0000,    -4.0002,   -23.0038,       5558,    20.2,  27.1283,  35.9656,2,-999.0000,9,   201.9,2,    0.67,2,    0.02,2,    0.00,2,    0.05,2,   1.680,2,   1.057,2, -999.00,9,  -999.0,9,  -999.0,9,  27.1236
06MT20060606,      EqAtl,      33,          1,      33020,         20,2,20060616,       0000,    -4.0002,   -23.0038,       5558,    20.3,  27.1315,  35.9650,2,-999.0000,9,  -999.0,9, -999.00,9, -999.00,9, -999.00,9, -999.00,9,-999.000,9,-999.000,9, -999.00,9,  -999.0,9,  -999.0,9,  27.1268
06MT20060606,      EqAtl,      33,          1,      33021,         21,2,20060616,       0000,    -4.0002,   -23.0038,       5558,     9.9,  27.1381,  35.9640,2,-999.0000,9,   201.7,2,    0.94,2,    0.05,2,    0.00,2,    0.06,2,   1.661,2,   1.054,2, -999.00,9,  2022.9,6,  2356.0,2,  27.1358