BOTTLE,20211025CCHSIORKP
EXPOCODE,SECT_ID,STNNBR,CASTNO,SAMPNO,BTLNBR,BTLNBR_FLAG_W,DATE,TIME,LATITUDE,LONGITUDE,DEPTH,CTDPRS,CTDTMP,CTDSAL,CTDSAL_FLAG_W,SALNTY,SALNTY_FLAG_W,OXYGEN,OXYGEN_FLAG_W,SILCAT,SILCAT_FLAG_W,NITRAT,NITRAT_FLAG_W,NITRIT,NITRIT_FLAG_W,PHSPHT,PHSPHT_FLAG_W,CFC-11,CFC-11_FLAG_W,CFC-12,CFC-12_FLAG_W,SF6,SF6_FLAG_W,TCARBN,TCARBN_FLAG_W,ALKALI,ALKALI_FLAG_W,THETA
,,,,,,,,,,,METERS,DBAR,ITS-90,PSS-78,,PSS-78,,UMOL/KG,,UMOL/KG,,UMOL/KG,,UMOL/KG,,UMOL/KG,,PMOL/KG,,PMOL/KG,,FMOL/KG,,UMOL/KG,,UMOL/KG,,DEG C
06MT20060606,      EqAtl,      46,          1,      46001,          1,2,20060619,       0000,     0.1210,   -23.1162,       3862,   700.0,   5.3471,  34.5144,2,  34.5103,2,   148.1,6,   24.34,6,   35.03,6,    0.00,6,    2.33,6,   0.404,6,   0.212,6, -999.00,9,  2221.4,2,  2292.7,6,   5.2884
06MT20060606,      EqAtl,      46,          1,      46002,          2,2,20060619,       0000,     0.1210,   -23.1162,       3862,   500.1,   7.0995,  34.6264,2,  34.6242,2,   128.9,2,   18.16,2,   33.06,2,    0.00,2,    2.16,2,   0.849,2,   0.443,2, -999.00,9,  2216.5,2,  2292.3,2,   7.0515
06MT20060606,      EqAtl,      46,          1,      46003,          3,2,20060619,       0000,     0.1210,   -23.1162,       3862,   299.9,   9.6858,  34.8800,2,-999.0000,9,   134.8,2,   11.56,2,   26.33,2,    0.01,2,    1.73,2,   1.647,2,   0.863,2, -999.00,9,  2193.7,2,  2298.2,2,   9.6516
06MT20060606,      EqAtl,      46,          1,      46004,          4,2,20060619,       0000,     0.1210,   -23.1162,       3862,   250.5,  11.2988,  35.0731,2,-999.0000,9,    98.5,2,   10.54,2,   27.29,3,    0.00,2,    1.74,2,   1.528,3,   0.813,3, -999.00,9,  2210.3,3,  2304.1,2,  11.2673
06MT20060606,      EqAtl,      46,          1,      46005,          5,2,20060619,       0000,     0.1210,   -23.1162,       3862,   201.2,  13.6625,  35.3702,2,-999.0000,9,   147.7,2,    5.62,2,   16.63,2,    0.01,2,    1.16,2,   2.216,2,   1.208,2, -999.00,9,  2165.5,2,  2320.4,2,  13.6338
06MT20060606,      EqAtl,      46,          1,      46006,          6,2,20060619,       0000,     0.1210,   -23.1162,       3862,   160.5,  14.2477,  35.4536,2,-999.0000,9,   160.3,2,    4.93,2,   14.25,2,    0.01,2,    1.01,2,   2.308,6,   1.256,6, -999.00,9,  2155.9,2,  2326.0,2,  14.2242
06MT20060606,      EqAtl,      46,          1,      46007,          7,2,20060619,       0000,     0.1210,   -23.1162,       3862,   119.6,  15.6930,  35.6720,2,-999.0000,9,   168.6,2,    3.95,2,   11.48,2,    0.04,2,    0.86,2,   2.353,2,   1.318,2, -999.00,9,  2146.0,2,  2339.6,2,  15.6743
06MT20060606,      EqAtl,      46,          1,      46008,          8,2,20060619,       0000,     0.1210,   -23.1162,       3862,    99.8,  17.1979,  35.8710,2,-999.0000,9,  -999.0,9, -999.00,9, -999.00,9, -999.00,9, -999.00,9,   2.207,2,   1.229,2, -999.00,9,  -999.0,9,  -999.0,9,  17.1812
06MT20060606,      EqAtl,      46,          1,      46009,          9,2,20060619,       0000,     0.1210,   -23.1162,       3862,    99.7,  17.2415,  35.8774,2,-999.0000,9,   156.7,2,    3.80,2,   11.36,2,    0.07,2,    0.82,2,-999.000,9,-999.000,9, -999.00,9,  2148.9,2,  2351.2,2,  17.2248
06MT20060606,      EqAtl,      46,          1,      46010,         10,2,20060619,       0000,     0.1210,   -23.1162,       3862,    80.4,  18.9832,  36.1458,2,-999.0000,9,   171.3,2,    2.66,2,    7.58,2,    0.14,2,    0.60,2,   2.190,2,   1.252,2, -999.00,9,  2136.4,2,  2366.9,2,  18.9688
06MT20060606,      EqAtl,      46,          1,      46011,         11,2,20060619,       0000,     0.1210,   -23.1162,       3862,    60.5,  20.3482,  36.3274,2,-999.0000,9,   178.1,6,    2.01,6,    5.42,6,    0.18,6,    0.44,6,   2.088,2,   1.242,2, -999.00,9,  2127.0,2,  2378.4,2,  20.3368
06MT20060606,      EqAtl,      46,          1,      46012,         12,2,20060619,       0000,     0.1210,   -23.1162,       3862,    61.3,  20.3213,  36.3250,2,-999.0000,9,  -999.0,9, -999.00,9, -999.00,9, -999.00,9, -999.00,9,-999.000,9,-999.000,9, -999.00,9,  -999.0,9,  -999.0,9,  20.3098
06MT20060606,      EqAtl,      46,          1,      46013,         13,2,20060619,       0000,     0.1210,   -23.1162,       3862,    39.5,  25.4962,  36.1803,2,-999.0000,9,   194.7,2,    0.88,2,    0.67,2,    0.08,2,    0.09,2,   1.777,2,   1.082,2, -999.00,9,  2054.3,2,  2369.4,2,  25.4875
06MT20060606,      EqAtl,      46,          1,      46014,         14,2,20060619,       0000,     0.1210,   -23.1162,       3862,    39.1,  25.5319,  36.1783,2,-999.0000,9,  -999.0,9, -999.00,9, -999.00,9, -999.00,9, -999.00,9,-999.000,9,-999.000,9, -999.00,9,  -999.0,9,  -999.0,9,  25.5233
06MT20060606,      EqAtl,      46,          1,      46015,         15,2,20060619,       0000,     0.1210,   -23.1162,       3862,    21.1,  26.5167,  35.6918,2,-999.0000,9,   196.4,2,    0.67,2,    0.09,2,    0.02,2,    0.03,2,   1.831,2,   1.044,2, -999.00,9,  2025.7,2,  2341.6,2,  26.5119
06MT20060606,      EqAtl,      46,          1,      46016,         16,2,20060619,       0000,     0.1210,   -23.1162,       3862,    21.0,  26.5206,  35.6907,2,-999.0000,9,  -999.0,9, -999.00,9, -999.00,9, -999.00,9, -999.00,9,-999.000,9,-999.000,9, -999.00,9,  -999.0,9,  -999.0,9,  26.5158
06MT20060606,      EqAtl,      46,          1,      46017,         17,2,20060619,       0000,     0.1210,   -23.1162,       3862,    10.4,  27.0990,  35.3720,2,-999.0000,9,   199.0,2,    0.61,2,    0.03,2,    0.00,2,    0.01,2,   1.680,2,   1.033,2, -999.00,9,  1989.0,6,  2312.8,2,  27.0966
06MT20060606,      EqAtl,      46,          1,      46018,         18,2,20060619,       0000,     0.1210,   -23.1162,       3862,    10.9,  27.0961,  35.3736,2,-999.0000,9,  -999.0,9, -999.00,9, -999.00,9, -999.00,9, -999.00,9,-999.000,9,-999.000,9, -999.00,9,  -999.0,9,  -999.0,9,  27.0936
06MT20060606,      EqAtl,      46,          1,      46019,         19,2,20060619,       0000,     0.1210,   -23.1162,       3862,    11.0,  27.1018,  35.3708,2,-999.0000,9,  -999.0,9, -999.00,9, -999.00,9, -999.00,9, -999.00,9,-999.000,9,-999.000,9, -999.00,9,  -999.0,9,  -999.0,9,  27.0993
06MT20060606,      EqAtl,      46,          1,      46020,         20,2,20060619,       0000,     0.1210,   -23.1162,       3862,    11.4,  27.1040,  35.3698,2,-999.0000,9,  -999.0,9, -999.00,9, -999.00,9, -999.00,9, -999.00,9,-999.000,9,-999.000,9, -999.00,9,  -999.0,9,  -999.0,9,  27.1014
06MT20060606,      EqAtl,      46,          1,      46021,         21,2,20060619,       0000,     0.1210,   -23.1162,       3862,    11.3,  27.0950,  35.3742,2,-999.0000,9,  -999.0,9, -999.00,9, -999.00,9, -999.00,9, -999.00,9,-999.000,9,-999.000,9, -999.00,9,  -999.0,9,  -999.0,9,  27.0924
06MT20060606,      EqAtl,      47,          1,      47001,          1,2,20060620,       0000,     0.4160,   -23.0010,       3862,  1312.3,   4.5721,  34.8956,2,  34.8916,2,   197.2,2,   20.38,2,   26.38,2,    0.00,2,    1.76,2,   0.122,6,   0.064,6, -999.00,9,  2191.4,2,  2307.8,6,   4.4632
06MT20060606,      EqAtl,      47,          1,      47002,          2,2,20060620,       0000,     0.4160,   -23.0010,       3862,  1097.6,   4.5174,  34.6856,2,-999.0000,9,   162.0,2,   26.93,2,   32.61,2,    0.00,2,    2.21,2,   0.032,2,   0.021,2, -999.00,9,  2213.4,2,  2301.8,2,   4.4289
06MT20060606,      EqAtl,      47,          1,      47003,          3,2,20060620,       0000,     0.4160,   -23.0010,       3862,   897.0,   4.5724,  34.5749,2,-999.0000,9,   154.7,2,   28.59,2,   34.65,2,    0.00,2,    2.32,2,   0.095,2,   0.049,2, -999.00,9,  2217.6,2,  2298.4,2,   4.5012
06MT20060606,      EqAtl,      47,          1,      47004,          4,2,20060620,       0000,     0.4160,   -23.0010,       3862,   697.8,   5.3254,  34.5053,2,-999.0000,9,   148.3,2,   24.80,2,   34.97,2,    0.00,2,    2.32,2,   0.412,2,   0.206,2, -999.00,9,  2213.0,2,  2292.9,2,   5.2670
06MT20060606,      EqAtl,      47,          1,      47005,          5,2,20060620,       0000,     0.4160,   -23.0010,       3862,   501.8,   6.8911,  34.6082,2,-999.0000,9,   129.5,2,   18.44,2,   33.29,2,    0.00,2,    2.18,2,   0.820,2,   0.391,2, -999.00,9,  2210.3,2,  2290.4,2,   6.8438
06MT20060606,      EqAtl,      47,          1,      47006,          6,2,20060620,       0000,     0.4160,   -23.0010,       3862,   299.1,  10.2938,  34.9495,2,-999.0000,9,   127.9,2,   10.60,2,   25.78,2,    0.01,2,    1.69,2,   1.665,2,   0.883,2, -999.00,9,  2187.6,2,  2299.7,2,  10.2583
06MT20060606,      EqAtl,      47,          1,      47007,          7,2,20060620,       0000,     0.4160,   -23.0010,       3862,   251.9,  12.3318,  35.1938,2,-999.0000,9,    93.1,2,    8.48,2,   25.20,2,    0.01,2,    1.64,2,   1.648,2,   0.907,2, -999.00,9,  2199.2,2,  2308.3,2,  12.2982
06MT20060606,      EqAtl,      47,          1,      47008,          8,2,20060620,       0000,     0.4160,   -23.0010,       3862,   200.5,  13.6508,  35.3692,2,-999.0000,9,   151.1,2,    5.53,2,   16.40,2,    0.01,2,    1.15,2,   2.236,2,   1.231,2, -999.00,9,  2155.9,2,  2321.1,2,  13.6222
06MT20060606,      EqAtl,      47,          1,      47009,          9,2,20060620,       0000,     0.4160,   -23.0010,       3862,   160.9,  14.2906,  35.4634,2,-999.0000,9,   166.1,2,    5.08,2,   13.89,2,    0.01,2,    1.00,2,   2.354,6,   1.281,6, -999.00,9,  2143.6,2,  2325.4,2,  14.2670
06MT20060606,      EqAtl,      47,          1,      47010,         10,2,20060620,       0000,     0.4160,   -23.0010,       3862,   122.0,  15.1908,  35.5956,2,-999.0000,9,   162.8,2,    4.55,2,   12.91,2,    0.03,2,    0.94,2,   2.321,2,   1.292,2, -999.00,9,  2141.8,2,  2336.0,2,  15.1721
06MT20060606,      EqAtl,      47,          1,      47011,         11,2,20060620,       0000,     0.4160,   -23.0010,       3862,   100.5,  16.6806,  35.7985,2,-999.0000,9,   151.9,6,    4.01,6,   12.35,6,    0.06,6,    0.89,6,   2.468,2,   1.384,2, -999.00,9,  2145.2,2,  2347.9,2,  16.6642
06MT20060606,      EqAtl,      47,          1,      47012,         12,2,20060620,       0000,     0.4160,   -23.0010,       3862,   100.4,  16.6832,  35.7990,2,-999.0000,9,  -999.0,9, -999.00,9, -999.00,9, -999.00,9, -999.00,9,-999.000,9,-999.000,9, -999.00,9,  -999.0,9,  -999.0,9,  16.6668
06MT20060606,      EqAtl,      47,          1,      47013,         13,2,20060620,       0000,     0.4160,   -23.0010,       3862,    78.1,  19.3883,  36.1981,2,-999.0000,9,   175.7,2,    2.23,2,    6.36,2,    0.14,2,    0.52,2,   2.171,2,   1.284,2, -999.00,9,  2123.1,2,  2370.6,2,  19.3741
06MT20060606,      EqAtl,      47,          1,      47014,         14,2,20060620,       0000,     0.4160,   -23.0010,       3862,    57.4,  23.8541,  36.3821,2,-999.0000,9,   185.9,2,    1.37,2,    2.50,2,    0.20,2,    0.22,2,   1.886,2,   1.149,2, -999.00,9,  2085.3,2,  2382.3,2,  23.8420
06MT20060606,      EqAtl,      47,          1,      47015,         15,2,20060620,       0000,     0.4160,   -23.0010,       3862,    57.5,  23.8586,  36.3840,2,-999.0000,9,  -999.0,9, -999.00,9, -999.00,9, -999.00,9, -999.00,9,-999.000,9,-999.000,9, -999.00,9,  -999.0,9,  -999.0,9,  23.8465
06MT20060606,      EqAtl,      47,          1,      47016,         16,2,20060620,       0000,     0.4160,   -23.0010,       3862,    40.1,  25.4789,  36.1088,2,-999.0000,9,   190.8,2,    1.01,2,    0.42,2,    0.06,2,    0.07,2,   2.176,2,   1.102,2, -999.00,9,  2050.4,2,  2362.1,2,  25.4701
06MT20060606,      EqAtl,      47,          1,      47017,         17,2,20060620,       0000,     0.4160,   -23.0010,       3862,    39.7,  25.4985,  36.0980,2,-999.0000,9,  -999.0,9, -999.00,9, -999.00,9, -999.00,9, -999.00,9,-999.000,9,-999.000,9, -999.00,9,  -999.0,9,  -999.0,9,  25.4897
06MT20060606,      EqAtl,      47,          1,      47018,         18,2,20060620,       0000,     0.4160,   -23.0010,       3862,    21.0,  26.7617,  35.5125,2,-999.0000,9,   195.6,2,    0.57,2,    0.04,2,    0.02,2,    0.03,2,   1.993,2,   1.026,2, -999.00,9,  -999.0,9,  -999.0,9,  26.7569
06MT20060606,      EqAtl,      47,          1,      47019,         19,2,20060620,       0000,     0.4160,   -23.0010,       3862,    21.5,  26.7445,  35.5195,2,-999.0000,9,  -999.0,9, -999.00,9, -999.00,9, -999.00,9, -999.00,9,-999.000,9,-999.000,9, -999.00,9,  -999.0,9,  -999.0,9,  26.7396
06MT20060606,      EqAtl,      47,          1,      47020,         20,2,20060620,       0000,     0.4160,   -23.0010,       3862,    11.1,  27.3578,  35.2515,2,-999.0000,9,   199.0,2,    0.51,2,    0.03,2,    0.01,2,    0.00,2,   1.636,2,   1.007,2, -999.00,9,  1971.3,6,  2303.0,2,  27.3552
06MT20060606,      EqAtl,      47,          1,      47021,         21,2,20060620,       0000,     0.4160,   -23.0010,       3862,    11.1,  27.3581,  35.2515,2,  35.2469,2,  -999.0,9, -999.00,9, -999.00,9, -999.00,9, -999.00,9,-999.000,9,-999.000,9, -999.00,9,  -999.0,9,  -999.0,9,  27.3555
06MT20060606,      EqAtl,      48,          1,      48001,          1,2,20060620,       0000,     0.7510,   -22.9938,       4421,  4264.6,   2.3011,  34.8839,2,  34.8816,2,   246.2,6,   42.57,6,   22.50,6,    0.00,6,    1.51,6,   0.051,2,   0.028,2, -999.00,9,  2195.8,6,  2337.7,2,   1.9279
06MT20060606,      EqAtl,      48,          1,      48002,          2,2,20060620,       0000,     0.7510,   -22.9938,       4421,  4055.6,   2.3310,  34.8886,2,-999.0000,9,   247.1,2,   40.46,2,   21.85,2,    0.00,2,    1.49,2,   0.062,6,   0.032,6, -999.00,9,  2193.9,2,  2337.4,2,   1.9811
06MT20060606,      EqAtl,      48,          1,      48003,          3,2,20060620,       0000,     0.7510,   -22.9938,       4421,  3647.3,   2.4489,  34.9008,2,  34.8983,2,   248.1,2,   36.38,2,   21.45,2,    0.00,2,    1.46,2,   0.048,2,   0.028,2, -999.00,9,  2188.2,2,  2332.5,2,   2.1417
06MT20060606,      EqAtl,      48,          1,      48004,          4,2,20060620,       0000,     0.7510,   -22.9938,       4421,  3197.0,   2.5937,  34.9123,2,  34.9113,2,   246.0,2,   34.25,2,   21.55,2,    0.00,2,    1.45,2,   0.022,2,   0.020,2, -999.00,9,  2185.0,2,  2328.3,2,   2.3314
06MT20060606,      EqAtl,      48,          1,      48005,          5,2,20060620,       0000,     0.7510,   -22.9938,       4421,  2796.0,   2.8226,  34.9269,2,  34.9250,2,   246.8,2,   30.53,2,   21.00,2,    0.00,2,    1.42,2,   0.055,2,   0.022,2, -999.00,9,  2179.5,2,  2323.6,2,   2.5966
06MT20060606,      EqAtl,      48,          1,      48006,          6,2,20060620,       0000,     0.7510,   -22.9938,       4421,  2499.1,   2.9951,  34.9383,2,  34.9361,2,   246.5,2,   27.67,2,   20.63,2,    0.00,2,    1.41,2,   0.039,2,   0.021,2, -999.00,9,  2175.3,2,  2322.6,2,   2.7953
06MT20060606,      EqAtl,      48,          1,      48007,          7,2,20060620,       0000,     0.7510,   -22.9938,       4421,  2096.5,   3.4942,  34.9664,2,  34.9646,2,   248.6,2,   19.68,2,   20.05,2,    0.00,2,    1.33,2,   0.119,2,   0.067,2, -999.00,9,  2168.0,2,  2314.3,2,   3.3250
06MT20060606,      EqAtl,      48,          1,      48008,          8,2,20060620,       0000,     0.7510,   -22.9938,       4421,  1796.1,   3.8887,  34.9806,2,-999.0000,9,   246.4,2,   15.80,2,   19.95,2,    0.00,2,    1.33,2,   0.028,2,   0.013,2, -999.00,9,  2165.3,2,  2310.4,2,   3.7423
06MT20060606,      EqAtl,      48,          1,      48009,          9,2,20060620,       0000,     0.7510,   -22.9938,       4421,  1497.2,   4.3470,  34.9525,2,  34.9518,2,   220.2,2,   17.41,2,   23.18,2,    0.00,2,    1.54,2,   0.175,2,   0.101,2, -999.00,9,  2178.5,2,  2308.9,2,   4.2232
06MT20060606,      EqAtl,      48,          1,      48010,         10,2,20060620,       0000,     0.7510,   -22.9938,       4421,  1097.4,   4.5232,  34.7046,2,-999.0000,9,   165.4,2,   25.89,2,   32.48,2,    0.00,2,    2.12,2,   0.045,2,   0.025,2, -999.00,9,  2210.8,2,  2304.6,2,   4.4346
06MT20060606,      EqAtl,      48,          1,      48011,         11,2,20060620,       0000,     0.7510,   -22.9938,       4421,   799.3,   4.7721,  34.5518,2,  34.5545,2,   150.4,2,   27.49,2,   35.44,2,    0.00,2,    2.34,2,   0.141,2,   0.068,2, -999.00,9,  2217.3,2,  2298.8,2,   4.7080
06MT20060606,      EqAtl,      48,          1,      48012,         12,2,20060620,       0000,     0.7510,   -22.9938,       4421,   498.5,   6.9510,  34.6122,2,  34.6103,2,   127.9,2,   18.58,2,   33.60,2,    0.01,2,    2.17,2,   0.772,6,   0.397,6, -999.00,9,  2210.4,2,  2293.4,2,   6.9038
06MT20060606,      EqAtl,      48,          1,      48013,         13,2,20060620,       0000,     0.7510,   -22.9938,       4421,   300.4,  10.9392,  35.0325,2,-999.0000,9,   108.5,2,   10.08,2,   26.44,2,    0.00,2,    1.71,2,-999.000,9,-999.000,9, -999.00,9,  2197.3,2,  2301.6,2,  10.9021
06MT20060606,      EqAtl,      48,          1,      48014,         14,2,20060620,       0000,     0.7510,   -22.9938,       4421,   200.0,  13.5839,  35.3571,2,-999.0000,9,   128.8,2,    6.05,2,   18.91,2,    0.01,2,    1.29,2,   2.067,2,   1.123,2, -999.00,9,  2171.1,2,  2320.1,2,  13.5555
06MT20060606,      EqAtl,      48,          1,      48015,         15,2,20060620,       0000,     0.7510,   -22.9938,       4421,   160.6,  14.0217,  35.4254,2,-999.0000,9,   146.0,2,    5.41,2,   16.27,2,    0.02,2,    1.14,2,   2.251,2,   1.206,2, -999.00,9,  2160.2,2,  2324.9,2,  13.9984
06MT20060606,      EqAtl,      48,          1,      48016,         16,2,20060620,       0000,     0.7510,   -22.9938,       4421,   121.1,  15.4735,  35.6299,2,-999.0000,9,   148.6,2,    4.76,2,   14.05,2,    0.04,2,    0.99,2,   2.326,2,   1.231,2, -999.00,9,  2153.1,2,  2335.2,2,  15.4547
06MT20060606,      EqAtl,      48,          1,      48017,         17,2,20060620,       0000,     0.7510,   -22.9938,       4421,   100.7,  16.9839,  35.8304,2,-999.0000,9,   149.8,2,    3.71,2,   12.06,2,    0.08,2,    0.86,2,   2.152,2,   1.204,2, -999.00,9,  2146.8,2,  2346.0,2,  16.9672
06MT20060606,      EqAtl,      48,          1,      48018,         18,2,20060620,       0000,     0.7510,   -22.9938,       4421,    83.2,  19.1314,  36.1606,2,-999.0000,9,   174.4,2,    2.26,2,    6.60,2,    0.17,2,    0.53,2,   2.256,6,   1.256,6, -999.00,9,  2124.6,2,  2368.0,2,  19.1164
06MT20060606,      EqAtl,      48,          1,      48019,         19,2,20060620,       0000,     0.7510,   -22.9938,       4421,    61.0,  23.5617,  36.3085,2,-999.0000,9,   186.1,2,    1.27,2,    2.50,2,    0.20,2,    0.20,2,   1.862,2,   1.109,2, -999.00,9,  2084.7,2,  2381.0,2,  23.5490
06MT20060606,      EqAtl,      48,          1,      48020,         20,2,20060620,       0000,     0.7510,   -22.9938,       4421,    40.9,  25.2228,  35.9496,2,-999.0000,9,   185.5,2,    0.77,2,    0.55,2,    0.08,2,    0.09,2,   1.760,2,   1.061,2, -999.00,9,  2051.6,2,  2351.4,2,  25.2138
06MT20060606,      EqAtl,      48,          1,      48021,         21,2,20060620,       0000,     0.7510,   -22.9938,       4421,    11.6,  27.6331,  35.1482,2,-999.0000,9,   204.1,2,    0.30,2,    0.00,2,    0.00,2,    0.00,2,   1.596,2,   1.012,2, -999.00,9,  1960.0,2,  2299.2,6,  27.6304