BOTTLE,20211025CCHSIORKP
EXPOCODE,SECT_ID,STNNBR,CASTNO,SAMPNO,BTLNBR,BTLNBR_FLAG_W,DATE,TIME,LATITUDE,LONGITUDE,DEPTH,CTDPRS,CTDTMP,CTDSAL,CTDSAL_FLAG_W,SALNTY,SALNTY_FLAG_W,OXYGEN,OXYGEN_FLAG_W,SILCAT,SILCAT_FLAG_W,NITRAT,NITRAT_FLAG_W,NITRIT,NITRIT_FLAG_W,PHSPHT,PHSPHT_FLAG_W,CFC-11,CFC-11_FLAG_W,CFC-12,CFC-12_FLAG_W,SF6,SF6_FLAG_W,TCARBN,TCARBN_FLAG_W,ALKALI,ALKALI_FLAG_W,THETA
,,,,,,,,,,,METERS,DBAR,ITS-90,PSS-78,,PSS-78,,UMOL/KG,,UMOL/KG,,UMOL/KG,,UMOL/KG,,UMOL/KG,,PMOL/KG,,PMOL/KG,,FMOL/KG,,UMOL/KG,,UMOL/KG,,DEG C
06MT20060606,      EqAtl,      83,          1,      83001,          1,2,20060701,       0000,     1.3260,   -23.0177,       3746,  1311.4,   4.5559,  34.9104,2,-999.0000,9,  -999.0,9, -999.00,9, -999.00,9, -999.00,9, -999.00,9,-999.000,9,-999.000,9, -999.00,9,  -999.0,9,  -999.0,9,   4.4472
06MT20060606,      EqAtl,      83,          1,      83002,          2,2,20060701,       0000,     1.3260,   -23.0177,       3746,  1099.9,   4.5733,  34.7413,2,  34.7457,2,  -999.0,9, -999.00,9, -999.00,9, -999.00,9, -999.00,9,-999.000,9,-999.000,9, -999.00,9,  -999.0,9,  -999.0,9,   4.4840
06MT20060606,      EqAtl,      83,          1,      83003,          3,2,20060701,       0000,     1.3260,   -23.0177,       3746,   897.9,   4.5621,  34.6048,2,-999.0000,9,  -999.0,9, -999.00,9, -999.00,9, -999.00,9, -999.00,9,-999.000,9,-999.000,9, -999.00,9,  -999.0,9,  -999.0,9,   4.4908
06MT20060606,      EqAtl,      83,          1,      83004,          4,2,20060701,       0000,     1.3260,   -23.0177,       3746,   697.4,   5.5830,  34.5155,2,-999.0000,9,  -999.0,9, -999.00,9, -999.00,9, -999.00,9, -999.00,9,-999.000,9,-999.000,9, -999.00,9,  -999.0,9,  -999.0,9,   5.5233
06MT20060606,      EqAtl,      83,          1,      83005,          5,2,20060701,       0000,     1.3260,   -23.0177,       3746,   599.0,   6.4015,  34.5678,2,-999.0000,9,  -999.0,9, -999.00,9, -999.00,9, -999.00,9, -999.00,9,-999.000,9,-999.000,9, -999.00,9,  -999.0,9,  -999.0,9,   6.3469
06MT20060606,      EqAtl,      83,          1,      83006,          6,2,20060701,       0000,     1.3260,   -23.0177,       3746,   497.0,   7.0442,  34.6195,2,-999.0000,9,  -999.0,9, -999.00,9, -999.00,9, -999.00,9, -999.00,9,-999.000,9,-999.000,9, -999.00,9,  -999.0,9,  -999.0,9,   6.9968
06MT20060606,      EqAtl,      83,          1,      83007,          7,2,20060701,       0000,     1.3260,   -23.0177,       3746,   449.7,   7.6850,  34.6775,2,-999.0000,9,  -999.0,9, -999.00,9, -999.00,9, -999.00,9, -999.00,9,-999.000,9,-999.000,9, -999.00,9,  -999.0,9,  -999.0,9,   7.6400
06MT20060606,      EqAtl,      83,          1,      83008,          8,2,20060701,       0000,     1.3260,   -23.0177,       3746,   400.2,   8.3131,  34.7400,2,  34.7402,2,  -999.0,9, -999.00,9, -999.00,9, -999.00,9, -999.00,9,-999.000,9,-999.000,9, -999.00,9,  -999.0,9,  -999.0,9,   8.2713
06MT20060606,      EqAtl,      83,          1,      83009,          9,2,20060701,       0000,     1.3260,   -23.0177,       3746,   349.5,   8.9822,  34.8064,2,-999.0000,9,  -999.0,9, -999.00,9, -999.00,9, -999.00,9, -999.00,9,-999.000,9,-999.000,9, -999.00,9,  -999.0,9,  -999.0,9,   8.9440
06MT20060606,      EqAtl,      83,          1,      83010,         10,2,20060701,       0000,     1.3260,   -23.0177,       3746,   299.1,  11.2549,  35.0618,2,-999.0000,9,  -999.0,9, -999.00,9, -999.00,9, -999.00,9, -999.00,9,-999.000,9,-999.000,9, -999.00,9,  -999.0,9,  -999.0,9,  11.2173
06MT20060606,      EqAtl,      83,          1,      83011,         11,2,20060701,       0000,     1.3260,   -23.0177,       3746,   268.8,  12.1955,  35.1803,2,-999.0000,9,  -999.0,9, -999.00,9, -999.00,9, -999.00,9, -999.00,9,-999.000,9,-999.000,9, -999.00,9,  -999.0,9,  -999.0,9,  12.1599
06MT20060606,      EqAtl,      83,          1,      83012,         12,2,20060701,       0000,     1.3260,   -23.0177,       3746,   240.1,  13.1107,  35.2887,2,-999.0000,9,  -999.0,9, -999.00,9, -999.00,9, -999.00,9, -999.00,9,-999.000,9,-999.000,9, -999.00,9,  -999.0,9,  -999.0,9,  13.0773
06MT20060606,      EqAtl,      83,          1,      83013,         13,2,20060701,       0000,     1.3260,   -23.0177,       3746,   198.6,  13.8630,  35.3880,2,-999.0000,9,  -999.0,9, -999.00,9, -999.00,9, -999.00,9, -999.00,9,-999.000,9,-999.000,9, -999.00,9,  -999.0,9,  -999.0,9,  13.8344
06MT20060606,      EqAtl,      83,          1,      83014,         14,2,20060701,       0000,     1.3260,   -23.0177,       3746,   160.2,  14.3651,  35.4567,2,-999.0000,9,  -999.0,9, -999.00,9, -999.00,9, -999.00,9, -999.00,9,-999.000,9,-999.000,9, -999.00,9,  -999.0,9,  -999.0,9,  14.3415
06MT20060606,      EqAtl,      83,          1,      83015,         15,2,20060701,       0000,     1.3260,   -23.0177,       3746,   121.0,  15.3050,  35.5737,2,-999.0000,9,  -999.0,9, -999.00,9, -999.00,9, -999.00,9, -999.00,9,-999.000,9,-999.000,9, -999.00,9,  -999.0,9,  -999.0,9,  15.2864
06MT20060606,      EqAtl,      83,          1,      83016,         16,2,20060701,       0000,     1.3260,   -23.0177,       3746,   100.1,  16.2345,  35.6684,2,-999.0000,9,  -999.0,9, -999.00,9, -999.00,9, -999.00,9, -999.00,9,-999.000,9,-999.000,9, -999.00,9,  -999.0,9,  -999.0,9,  16.2185
06MT20060606,      EqAtl,      83,          1,      83017,         17,2,20060701,       0000,     1.3260,   -23.0177,       3746,    80.5,  18.4241,  35.8823,2,-999.0000,9,  -999.0,9, -999.00,9, -999.00,9, -999.00,9, -999.00,9,-999.000,9,-999.000,9, -999.00,9,  -999.0,9,  -999.0,9,  18.4100
06MT20060606,      EqAtl,      83,          1,      83018,         18,2,20060701,       0000,     1.3260,   -23.0177,       3746,    59.7,  25.4009,  35.9868,2,-999.0000,9,  -999.0,9, -999.00,9, -999.00,9, -999.00,9, -999.00,9,-999.000,9,-999.000,9, -999.00,9,  -999.0,9,  -999.0,9,  25.3878
06MT20060606,      EqAtl,      83,          1,      83019,         19,2,20060701,       0000,     1.3260,   -23.0177,       3746,    40.3,  26.3065,  35.9716,2,-999.0000,9,  -999.0,9, -999.00,9, -999.00,9, -999.00,9, -999.00,9,-999.000,9,-999.000,9, -999.00,9,  -999.0,9,  -999.0,9,  26.2974
06MT20060606,      EqAtl,      83,          1,      83020,         20,2,20060701,       0000,     1.3260,   -23.0177,       3746,    19.9,  26.9014,  35.5140,2,-999.0000,9,  -999.0,9, -999.00,9, -999.00,9, -999.00,9, -999.00,9,-999.000,9,-999.000,9, -999.00,9,  -999.0,9,  -999.0,9,  26.8968
06MT20060606,      EqAtl,      83,          1,      83021,         21,2,20060701,       0000,     1.3260,   -23.0177,       3746,    11.1,  26.9219,  35.4969,2,  35.4904,2,  -999.0,9, -999.00,9, -999.00,9, -999.00,9, -999.00,9,-999.000,9,-999.000,9, -999.00,9,  -999.0,9,  -999.0,9,  26.9194
06MT20060606,      EqAtl,      84,          1,      84001,          1,2,20060701,       0000,     1.6467,   -23.0083,       4294,   240.1,  13.1351,  35.2935,2,-999.0000,9,  -999.0,9, -999.00,9, -999.00,9, -999.00,9, -999.00,9,-999.000,9,-999.000,9, -999.00,9,  -999.0,9,  -999.0,9,  13.1017
06MT20060606,      EqAtl,      84,          1,      84002,          2,2,20060701,       0000,     1.6467,   -23.0083,       4294,   100.8,  16.2211,  35.6653,2,-999.0000,9,  -999.0,9, -999.00,9, -999.00,9, -999.00,9, -999.00,9,-999.000,9,-999.000,9, -999.00,9,  -999.0,9,  -999.0,9,  16.2050
06MT20060606,      EqAtl,      84,          1,      84003,          3,2,20060701,       0000,     1.6467,   -23.0083,       4294,    60.5,  25.7433,  35.7767,2,-999.0000,9,  -999.0,9, -999.00,9, -999.00,9, -999.00,9, -999.00,9,-999.000,9,-999.000,9, -999.00,9,  -999.0,9,  -999.0,9,  25.7299
06MT20060606,      EqAtl,      84,          1,      84004,          4,2,20060701,       0000,     1.6467,   -23.0083,       4294,    20.3,  27.3547,  35.3027,2,-999.0000,9,  -999.0,9, -999.00,9, -999.00,9, -999.00,9, -999.00,9,-999.000,9,-999.000,9, -999.00,9,  -999.0,9,  -999.0,9,  27.3500
06MT20060606,      EqAtl,      84,          1,      84005,          5,2,20060701,       0000,     1.6467,   -23.0083,       4294,    10.5,  27.3878,  35.3046,2,-999.0000,9,  -999.0,9, -999.00,9, -999.00,9, -999.00,9, -999.00,9,-999.000,9,-999.000,9, -999.00,9,  -999.0,9,  -999.0,9,  27.3854
06MT20060606,      EqAtl,      85,          1,      85001,          1,2,20060701,       0000,     1.9863,   -23.0170,       4294,  1297.9,   4.5740,  34.9045,2,-999.0000,9,   197.9,6,   19.78,6,   25.26,6,    0.00,6,    1.75,6,   0.122,6,   0.067,6, -999.00,9,  2192.3,6,  2306.7,6,   4.4664
06MT20060606,      EqAtl,      85,          1,      85002,          2,2,20060701,       0000,     1.9863,   -23.0170,       4294,  1097.3,   4.5950,  34.7558,2,  34.7644,2,   170.4,2,   24.68,2,   30.11,2,    0.00,2,    2.06,2,-999.000,9,-999.000,9, -999.00,9,  2209.0,2,  2302.7,2,   4.5057
06MT20060606,      EqAtl,      85,          1,      85003,          3,2,20060701,       0000,     1.9863,   -23.0170,       4294,   898.0,   4.6881,  34.6148,2,-999.0000,9,   154.0,2,   27.58,2,   33.47,2,    0.00,2,    2.30,2,   0.069,2,   0.044,2, -999.00,9,  2218.5,2,  2291.7,2,   4.6159
06MT20060606,      EqAtl,      85,          1,      85004,          4,2,20060701,       0000,     1.9863,   -23.0170,       4294,   696.1,   5.7018,  34.5369,2,  34.5386,2,   142.2,2,   23.92,2,   34.34,2,    0.00,2,    2.35,2,   0.394,2,   0.206,2, -999.00,9,  2215.1,2,  2291.1,2,   5.6416
06MT20060606,      EqAtl,      85,          1,      85005,          5,2,20060701,       0000,     1.9863,   -23.0170,       4294,   600.6,   6.3060,  34.5611,2,-999.0000,9,   136.3,2,   20.55,2,   33.88,2,    0.00,2,    2.29,2,   0.615,2,   0.307,2, -999.00,9,  2212.1,2,  2289.4,2,   6.2516
06MT20060606,      EqAtl,      85,          1,      85006,          6,2,20060701,       0000,     1.9863,   -23.0170,       4294,   503.2,   7.0253,  34.6231,2,  34.6201,2,   132.1,2,   17.85,2,   32.33,2,    0.01,2,    2.17,2,   0.821,2,   0.424,2, -999.00,9,  2209.1,2,  2292.3,2,   6.9773
06MT20060606,      EqAtl,      85,          1,      85007,          7,2,20060701,       0000,     1.9863,   -23.0170,       4294,   453.0,   7.8339,  34.7017,2,-999.0000,9,   122.9,2,   15.68,2,   31.75,2,    0.01,2,    2.08,2,   0.944,2,   0.485,2, -999.00,9,  2208.2,2,  2291.9,2,   7.7880
06MT20060606,      EqAtl,      85,          1,      85008,          8,2,20060701,       0000,     1.9863,   -23.0170,       4294,   403.1,   8.4367,  34.7528,2,-999.0000,9,   112.3,2,   14.44,2,   31.66,2,    0.01,2,    2.06,2,   1.044,6,   0.534,6, -999.00,9,  2211.0,2,  2293.7,2,   8.3942
06MT20060606,      EqAtl,      85,          1,      85009,          9,2,20060701,       0000,     1.9863,   -23.0170,       4294,   351.3,   9.1703,  34.8358,2,-999.0000,9,   117.4,2,   12.76,2,   28.94,2,    0.01,2,    1.93,2,   1.257,2,   0.653,2, -999.00,9,  2201.8,2,  2293.3,2,   9.1314
06MT20060606,      EqAtl,      85,          1,      85010,         10,2,20060701,       0000,     1.9863,   -23.0170,       4294,   303.0,  11.4421,  35.0918,2,-999.0000,9,   109.6,2,    9.12,2,   25.22,2,    0.01,2,    1.68,2,   1.592,2,   0.840,2, -999.00,9,  2194.5,2,  2302.9,2,  11.4036
06MT20060606,      EqAtl,      85,          1,      85011,         11,2,20060701,       0000,     1.9863,   -23.0170,       4294,   272.1,  12.4945,  35.2119,2,-999.0000,9,   109.0,6,    7.72,6,   23.31,6,    0.00,6,    1.58,6,   1.763,2,   0.948,2, -999.00,9,  2190.1,2,  2308.9,2,  12.4579
06MT20060606,      EqAtl,      85,          1,      85012,         12,2,20060701,       0000,     1.9863,   -23.0170,       4294,   242.4,  13.2850,  35.3119,2,-999.0000,9,   126.4,2,    6.12,2,   19.81,2,    0.00,2,    1.38,2,   2.014,2,   1.087,2, -999.00,9,  2174.9,2,  2314.4,2,  13.2510
06MT20060606,      EqAtl,      85,          1,      85013,         13,2,20060701,       0000,     1.9863,   -23.0170,       4294,   199.8,  13.8299,  35.3863,2,-999.0000,9,   117.0,2,    6.08,2,   20.01,2,    0.01,2,    1.37,2,   1.989,2,   1.078,2, -999.00,9,  2178.9,2,  2318.0,2,  13.8012
06MT20060606,      EqAtl,      85,          1,      85014,         14,2,20060701,       0000,     1.9863,   -23.0170,       4294,   161.0,  14.3456,  35.4558,2,-999.0000,9,   112.6,2,    5.62,2,   19.70,2,    0.01,2,    1.35,2,   2.026,6,   1.115,6, -999.00,9,  2180.1,2,  2321.3,2,  14.3219
06MT20060606,      EqAtl,      85,          1,      85015,         15,2,20060701,       0000,     1.9863,   -23.0170,       4294,   120.4,  15.3122,  35.5752,2,-999.0000,9,   100.5,2,    5.40,2,   19.76,2,    0.02,2,    1.35,2,   2.067,2,   1.140,2, -999.00,9,  2185.5,2,  2327.0,2,  15.2937
06MT20060606,      EqAtl,      85,          1,      85016,         16,2,20060701,       0000,     1.9863,   -23.0170,       4294,   101.0,  16.1477,  35.6598,2,-999.0000,9,    86.2,2,    4.87,2,   20.04,2,    0.03,2,    1.32,2,   2.124,2,   1.168,2, -999.00,9,  2192.3,2,  2329.4,2,  16.1316
06MT20060606,      EqAtl,      85,          1,      85017,         17,2,20060701,       0000,     1.9863,   -23.0170,       4294,    81.2,  19.5877,  35.7908,2,-999.0000,9,   118.3,2,    2.91,2,   11.48,2,    0.20,2,    0.77,2,   1.976,2,   1.152,2, -999.00,9,  2151.5,2,  2340.2,2,  19.5729
06MT20060606,      EqAtl,      85,          1,      85018,         18,2,20060701,       0000,     1.9863,   -23.0170,       4294,    61.1,  26.7343,  35.8007,2,-999.0000,9,   191.2,2,    0.22,2,    0.66,2,    0.10,2,    0.04,2,   1.815,2,   1.029,2, -999.00,9,  2009.4,2,  2330.0,2,  26.7204
06MT20060606,      EqAtl,      85,          1,      85019,         19,2,20060701,       0000,     1.9863,   -23.0170,       4294,    40.3,  27.7866,  35.2587,2,-999.0000,9,   201.9,2,    0.00,2,    0.03,2,    0.00,2,    0.00,2,   1.585,6,   0.986,6, -999.00,9,  1962.4,2,  2300.9,2,  27.7772
06MT20060606,      EqAtl,      85,          1,      85020,         20,2,20060701,       0000,     1.9863,   -23.0170,       4294,    20.6,  27.8380,  35.2615,2,-999.0000,9,   201.1,2,    0.03,2,    0.05,2,    0.00,2,    0.01,2,   1.579,2,   0.977,2, -999.00,9,  1961.8,2,  2301.6,2,  27.8332
06MT20060606,      EqAtl,      85,          1,      85021,         21,2,20060701,       0000,     1.9863,   -23.0170,       4294,    12.7,  27.9392,  35.2733,2,  35.2747,2,   201.0,2,    0.45,2,    0.09,2,    0.01,2,    0.02,2,   1.584,2,   0.979,2, -999.00,9,  1963.3,6,  2302.7,6,  27.9362
06MT20060606,      EqAtl,      86,          1,      86001,          1,2,20060701,       0000,     2.3275,   -23.0160,       4520,  1314.7,   4.4823,  34.8879,2,-999.0000,9,  -999.0,9, -999.00,9, -999.00,9, -999.00,9, -999.00,9,-999.000,9,-999.000,9, -999.00,9,  -999.0,9,  -999.0,9,   4.3741
06MT20060606,      EqAtl,      86,          1,      86002,          2,2,20060701,       0000,     2.3275,   -23.0160,       4520,   242.0,  12.8839,  35.2611,2,-999.0000,9,  -999.0,9, -999.00,9, -999.00,9, -999.00,9, -999.00,9,-999.000,9,-999.000,9, -999.00,9,  -999.0,9,  -999.0,9,  12.8507
06MT20060606,      EqAtl,      86,          1,      86003,          3,2,20060701,       0000,     2.3275,   -23.0160,       4520,   101.2,  16.1581,  35.6520,2,-999.0000,9,  -999.0,9, -999.00,9, -999.00,9, -999.00,9, -999.00,9,-999.000,9,-999.000,9, -999.00,9,  -999.0,9,  -999.0,9,  16.1419
06MT20060606,      EqAtl,      86,          1,      86004,          4,2,20060701,       0000,     2.3275,   -23.0160,       4520,    80.1,  17.8431,  35.7351,2,-999.0000,9,  -999.0,9, -999.00,9, -999.00,9, -999.00,9, -999.00,9,-999.000,9,-999.000,9, -999.00,9,  -999.0,9,  -999.0,9,  17.8294
06MT20060606,      EqAtl,      86,          1,      86005,          5,2,20060701,       0000,     2.3275,   -23.0160,       4520,    60.7,  27.7658,  35.2769,2,-999.0000,9,  -999.0,9, -999.00,9, -999.00,9, -999.00,9, -999.00,9,-999.000,9,-999.000,9, -999.00,9,  -999.0,9,  -999.0,9,  27.7516
06MT20060606,      EqAtl,      86,          1,      86006,          6,2,20060701,       0000,     2.3275,   -23.0160,       4520,    39.1,  27.7707,  35.2591,2,-999.0000,9,  -999.0,9, -999.00,9, -999.00,9, -999.00,9, -999.00,9,-999.000,9,-999.000,9, -999.00,9,  -999.0,9,  -999.0,9,  27.7615
06MT20060606,      EqAtl,      86,          1,      86007,          7,2,20060701,       0000,     2.3275,   -23.0160,       4520,    20.9,  27.8057,  35.2526,2,-999.0000,9,  -999.0,9, -999.00,9, -999.00,9, -999.00,9, -999.00,9,-999.000,9,-999.000,9, -999.00,9,  -999.0,9,  -999.0,9,  27.8008
06MT20060606,      EqAtl,      86,          1,      86008,          8,2,20060701,       0000,     2.3275,   -23.0160,       4520,     9.9,  27.8088,  35.2519,2,-999.0000,9,  -999.0,9, -999.00,9, -999.00,9, -999.00,9, -999.00,9,-999.000,9,-999.000,9, -999.00,9,  -999.0,9,  -999.0,9,  27.8065
06MT20060606,      EqAtl,      87,          1,      87001,          1,2,20060702,       0000,     2.6487,   -23.0125,       4457,   300.2,  11.7914,  35.1442,2,-999.0000,9,  -999.0,9, -999.00,9, -999.00,9, -999.00,9, -999.00,9,-999.000,9,-999.000,9, -999.00,9,  -999.0,9,  -999.0,9,  11.7524
06MT20060606,      EqAtl,      87,          1,      87002,          2,2,20060702,       0000,     2.6487,   -23.0125,       4457,   120.7,  15.0371,  35.5450,2,-999.0000,9,  -999.0,9, -999.00,9, -999.00,9, -999.00,9, -999.00,9,-999.000,9,-999.000,9, -999.00,9,  -999.0,9,  -999.0,9,  15.0187
06MT20060606,      EqAtl,      87,          1,      87003,          3,2,20060702,       0000,     2.6487,   -23.0125,       4457,    80.5,  18.2998,  35.7662,2,-999.0000,9,  -999.0,9, -999.00,9, -999.00,9, -999.00,9, -999.00,9,-999.000,9,-999.000,9, -999.00,9,  -999.0,9,  -999.0,9,  18.2858
06MT20060606,      EqAtl,      87,          1,      87004,          4,2,20060702,       0000,     2.6487,   -23.0125,       4457,    41.1,  27.8474,  35.3464,2,-999.0000,9,  -999.0,9, -999.00,9, -999.00,9, -999.00,9, -999.00,9,-999.000,9,-999.000,9, -999.00,9,  -999.0,9,  -999.0,9,  27.8377
06MT20060606,      EqAtl,      87,          1,      87005,          5,2,20060702,       0000,     2.6487,   -23.0125,       4457,    10.8,  27.8524,  35.3490,2,-999.0000,9,  -999.0,9, -999.00,9, -999.00,9, -999.00,9, -999.00,9,-999.000,9,-999.000,9, -999.00,9,  -999.0,9,  -999.0,9,  27.8499