BOTTLE,20211025CCHSIORKP
EXPOCODE,SECT_ID,STNNBR,CASTNO,SAMPNO,BTLNBR,BTLNBR_FLAG_W,DATE,TIME,LATITUDE,LONGITUDE,DEPTH,CTDPRS,CTDTMP,CTDSAL,CTDSAL_FLAG_W,SALNTY,SALNTY_FLAG_W,OXYGEN,OXYGEN_FLAG_W,SILCAT,SILCAT_FLAG_W,NITRAT,NITRAT_FLAG_W,NITRIT,NITRIT_FLAG_W,PHSPHT,PHSPHT_FLAG_W,CFC-11,CFC-11_FLAG_W,CFC-12,CFC-12_FLAG_W,SF6,SF6_FLAG_W,TCARBN,TCARBN_FLAG_W,ALKALI,ALKALI_FLAG_W,THETA
,,,,,,,,,,,METERS,DBAR,ITS-90,PSS-78,,PSS-78,,UMOL/KG,,UMOL/KG,,UMOL/KG,,UMOL/KG,,UMOL/KG,,PMOL/KG,,PMOL/KG,,FMOL/KG,,UMOL/KG,,UMOL/KG,,DEG C
06MT20060606,      EqAtl,      94,          1,      94001,          1,2,20060703,       0000,     6.0010,   -23.0002,       4002,  1314.6,   4.5905,  34.8960,2,  34.8941,2,   186.4,6,   21.53,6,   26.76,6,    0.01,6,    1.84,6,   0.038,2,   0.024,2, -999.00,9,  2195.1,6,  2309.1,6,   4.4812
06MT20060606,      EqAtl,      94,          1,      94002,          2,2,20060703,       0000,     6.0010,   -23.0002,       4002,  1106.7,   4.8079,  34.7693,2,-999.0000,9,   155.4,2,   25.09,2,   31.53,2,    0.01,2,    2.17,2,   0.013,2,   0.007,2, -999.00,9,  2212.3,2,  2305.0,2,   4.7160
06MT20060606,      EqAtl,      94,          1,      94003,          3,2,20060703,       0000,     6.0010,   -23.0002,       4002,   905.9,   5.1830,  34.6389,2,  34.6437,2,   127.2,2,   26.93,2,   35.50,2,    0.01,2,    2.45,2,   0.022,2,   0.014,2, -999.00,9,  2225.0,2,  2297.7,2,   5.1067
06MT20060606,      EqAtl,      94,          1,      94004,          4,2,20060703,       0000,     6.0010,   -23.0002,       4002,   703.1,   6.1583,  34.6469,2,-999.0000,9,   103.1,2,   23.18,2,   37.58,2,    0.01,2,    2.49,2,   0.086,6,   0.050,6, -999.00,9,  2231.8,2,  2292.9,2,   6.0949
06MT20060606,      EqAtl,      94,          1,      94005,          5,2,20060703,       0000,     6.0010,   -23.0002,       4002,   602.1,   7.0009,  34.6962,2,-999.0000,9,    95.9,2,   20.13,2,   36.92,2,    0.01,2,    2.40,2,   0.242,2,   0.127,2, -999.00,9,  2229.4,2,  2293.1,2,   6.9431
06MT20060606,      EqAtl,      94,          1,      94006,          6,2,20060703,       0000,     6.0010,   -23.0002,       4002,   481.1,   7.9211,  34.7491,2,  34.7492,2,    94.4,2,   16.99,2,   34.74,2,    0.01,2,    2.26,2,   0.533,2,   0.279,2, -999.00,9,  2222.0,2,  2295.2,2,   7.8720
06MT20060606,      EqAtl,      94,          1,      94007,          7,2,20060703,       0000,     6.0010,   -23.0002,       4002,   452.8,   8.2483,  34.7795,2,-999.0000,9,    93.7,2,   16.38,2,   34.16,2,    0.01,2,    2.22,2,   0.613,2,   0.330,2, -999.00,9,  2219.7,2,  2292.3,2,   8.2010
06MT20060606,      EqAtl,      94,          1,      94008,          8,2,20060703,       0000,     6.0010,   -23.0002,       4002,   402.8,   8.9302,  34.8660,2,-999.0000,9,    78.7,2,   14.97,2,   34.02,2,    0.01,2,    2.17,2,   0.682,6,   0.344,6, -999.00,9,  2224.7,2,  2293.4,2,   8.8862
06MT20060606,      EqAtl,      94,          1,      94009,          9,2,20060703,       0000,     6.0010,   -23.0002,       4002,   352.7,   9.9318,  34.9513,2,-999.0000,9,    81.4,2,   12.64,2,   31.66,2,    0.01,2,    2.04,2,   0.961,2,   0.505,2, -999.00,9,  2218.5,2,  2297.3,2,   9.8907
06MT20060606,      EqAtl,      94,          1,      94010,         10,2,20060703,       0000,     6.0010,   -23.0002,       4002,   302.2,  11.1981,  35.1010,2,-999.0000,9,    77.3,2,   10.42,2,   29.58,2,    0.01,2,    1.90,2,   1.196,2,   0.647,2, -999.00,9,  2213.9,2,  2301.9,2,  11.1602
06MT20060606,      EqAtl,      94,          1,      94011,         11,2,20060703,       0000,     6.0010,   -23.0002,       4002,   271.7,  11.6844,  35.1346,2,-999.0000,9,   102.1,6,    9.14,6,   25.82,6,    0.01,6,    1.70,6,   1.544,2,   0.830,2, -999.00,9,  2194.0,2,  2306.5,2,  11.6494
06MT20060606,      EqAtl,      94,          1,      94012,         12,2,20060703,       0000,     6.0010,   -23.0002,       4002,   241.1,  12.1011,  35.1807,2,-999.0000,9,   110.6,2,    8.34,2,   23.61,2,    0.01,2,    1.58,2,   1.714,2,   0.946,2, -999.00,9,  2187.2,2,  2308.8,2,  12.0694
06MT20060606,      EqAtl,      94,          1,      94013,         13,2,20060703,       0000,     6.0010,   -23.0002,       4002,   202.0,  12.8684,  35.2758,2,-999.0000,9,   103.2,2,    7.47,2,   23.52,2,    0.01,2,    1.56,2,   1.773,6,   0.973,6, -999.00,9,  2191.7,2,  2316.6,2,  12.8407
06MT20060606,      EqAtl,      94,          1,      94014,         14,2,20060703,       0000,     6.0010,   -23.0002,       4002,   160.8,  13.7007,  35.3794,2,-999.0000,9,   113.6,2,    6.45,2,   20.88,2,    0.01,2,    1.41,2,   1.958,2,   1.069,2, -999.00,9,  2178.4,2,  2318.4,2,  13.6777
06MT20060606,      EqAtl,      94,          1,      94015,         15,2,20060703,       0000,     6.0010,   -23.0002,       4002,   120.1,  14.5117,  35.4834,2,-999.0000,9,   109.0,2,    5.94,2,   20.34,2,    0.01,2,    1.35,2,   2.019,2,   1.094,2, -999.00,9,  2178.4,2,  2324.7,2,  14.4939
06MT20060606,      EqAtl,      94,          1,      94016,         16,2,20060703,       0000,     6.0010,   -23.0002,       4002,   100.4,  15.3350,  35.5734,2,-999.0000,9,   106.3,2,    5.08,2,   19.45,2,    0.02,2,    1.28,2,   2.142,2,   1.108,2, -999.00,9,  2177.3,2,  2329.2,2,  15.3195
06MT20060606,      EqAtl,      94,          1,      94017,         17,2,20060703,       0000,     6.0010,   -23.0002,       4002,    79.8,  16.9880,  35.7329,2,-999.0000,9,   110.5,2,    3.97,2,   16.59,2,    0.05,2,    1.04,2,   2.024,6,   1.130,6, -999.00,9,  2169.1,2,  2338.6,2,  16.9748
06MT20060606,      EqAtl,      94,          1,      94018,         18,2,20060703,       0000,     6.0010,   -23.0002,       4002,    60.9,  21.4570,  35.9718,2,-999.0000,9,   150.5,2,    1.98,2,    5.90,2,    0.10,2,    0.33,2,   1.956,2,   1.122,2, -999.00,9,  2112.7,2,  2354.7,2,  21.4451
06MT20060606,      EqAtl,      94,          1,      94019,         19,2,20060703,       0000,     6.0010,   -23.0002,       4002,    41.0,  25.5848,  36.0699,2,-999.0000,9,   202.2,2,    0.37,2,    0.02,2,    0.01,2,    0.00,2,   1.725,2,   1.072,2, -999.00,9,  2025.5,2,  2357.7,2,  25.5757
06MT20060606,      EqAtl,      94,          1,      94020,         20,2,20060703,       0000,     6.0010,   -23.0002,       4002,    20.0,  28.0221,  35.3708,2,-999.0000,9,   203.1,2,    0.00,2,    0.04,2,    0.00,2,    0.00,2,   1.611,2,   1.015,2, -999.00,9,  1956.0,2,  2312.8,2,  28.0174
06MT20060606,      EqAtl,      94,          1,      94021,         21,2,20060703,       0000,     6.0010,   -23.0002,       4002,    12.3,  27.9907,  35.2362,2,  35.2501,2,   201.4,2,    0.40,2,    0.09,2,    0.00,2,    0.02,2,   1.588,2,   1.008,2, -999.00,9,  1948.5,6,  2304.5,6,  27.9878
06MT20060606,      EqAtl,      95,          1,      95001,          1,2,20060704,       0000,     6.5012,   -23.0020,       4074,  1312.2,   4.5803,  34.8880,2,-999.0000,9,  -999.0,9, -999.00,9, -999.00,9, -999.00,9, -999.00,9,-999.000,9,-999.000,9, -999.00,9,  -999.0,9,  -999.0,9,   4.4714
06MT20060606,      EqAtl,      95,          1,      95002,          2,2,20060704,       0000,     6.5012,   -23.0020,       4074,   101.5,  15.4691,  35.5732,2,-999.0000,9,  -999.0,9, -999.00,9, -999.00,9, -999.00,9, -999.00,9,-999.000,9,-999.000,9, -999.00,9,  -999.0,9,  -999.0,9,  15.4534
06MT20060606,      EqAtl,      95,          1,      95003,          3,2,20060704,       0000,     6.5012,   -23.0020,       4074,    80.1,  16.4376,  35.6603,2,-999.0000,9,  -999.0,9, -999.00,9, -999.00,9, -999.00,9, -999.00,9,-999.000,9,-999.000,9, -999.00,9,  -999.0,9,  -999.0,9,  16.4247
06MT20060606,      EqAtl,      95,          1,      95004,          4,2,20060704,       0000,     6.5012,   -23.0020,       4074,    61.1,  18.3654,  35.7995,2,-999.0000,9,  -999.0,9, -999.00,9, -999.00,9, -999.00,9, -999.00,9,-999.000,9,-999.000,9, -999.00,9,  -999.0,9,  -999.0,9,  18.3547
06MT20060606,      EqAtl,      95,          1,      95005,          5,2,20060704,       0000,     6.5012,   -23.0020,       4074,    40.4,  24.5997,  36.0528,2,-999.0000,9,  -999.0,9, -999.00,9, -999.00,9, -999.00,9, -999.00,9,-999.000,9,-999.000,9, -999.00,9,  -999.0,9,  -999.0,9,  24.5910
06MT20060606,      EqAtl,      95,          1,      95006,          6,2,20060704,       0000,     6.5012,   -23.0020,       4074,    20.9,  28.0594,  35.5512,2,-999.0000,9,  -999.0,9, -999.00,9, -999.00,9, -999.00,9, -999.00,9,-999.000,9,-999.000,9, -999.00,9,  -999.0,9,  -999.0,9,  28.0545
06MT20060606,      EqAtl,      95,          1,      95007,          7,2,20060704,       0000,     6.5012,   -23.0020,       4074,     9.9,  28.0731,  35.2301,2,-999.0000,9,  -999.0,9, -999.00,9, -999.00,9, -999.00,9, -999.00,9,-999.000,9,-999.000,9, -999.00,9,  -999.0,9,  -999.0,9,  28.0708
06MT20060606,      EqAtl,      96,          1,      96001,          1,2,20060704,       0000,     6.9960,   -23.0013,       4074,  1315.5,   4.5370,  34.9034,2,  34.9002,2,   190.0,6,   20.87,6,   26.06,6,    0.01,6,    1.80,6,   0.041,6,   0.023,6, -999.00,9,  2194.2,6,  2308.8,6,   4.4282
06MT20060606,      EqAtl,      96,          1,      96002,          2,2,20060704,       0000,     6.9960,   -23.0013,       4074,  1106.8,   4.8136,  34.7999,2,-999.0000,9,   157.7,2,   24.14,2,   30.65,2,    0.01,2,    2.12,2,   0.015,2,   0.006,2, -999.00,9,  2211.5,2,  2307.7,2,   4.7216
06MT20060606,      EqAtl,      96,          1,      96003,          3,2,20060704,       0000,     6.9960,   -23.0013,       4074,   905.6,   5.1830,  34.6495,2,  34.6496,2,   128.7,2,   25.86,2,   35.21,2,    0.01,2,    2.41,2,   0.019,2,   0.014,2, -999.00,9,  2225.6,2,  2298.9,2,   5.1067
06MT20060606,      EqAtl,      96,          1,      96004,          4,2,20060704,       0000,     6.9960,   -23.0013,       4074,   702.9,   6.2419,  34.6502,2,-999.0000,9,   100.9,2,   22.25,2,   37.07,2,    0.00,2,    2.48,2,   0.095,2,   0.048,2, -999.00,9,  2231.7,2,  2297.0,2,   6.1780
06MT20060606,      EqAtl,      96,          1,      96005,          5,2,20060704,       0000,     6.9960,   -23.0013,       4074,   601.4,   6.9544,  34.7021,2,-999.0000,9,    90.8,2,   20.02,2,   36.75,2,    0.01,2,    2.44,2,   0.189,2,   0.096,2, -999.00,9,  2232.7,2,  2293.8,2,   6.8969
06MT20060606,      EqAtl,      96,          1,      96006,          6,2,20060704,       0000,     6.9960,   -23.0013,       4074,   501.6,   7.9927,  34.7839,2,  34.7821,2,    83.6,2,   16.96,2,   35.58,2,    0.01,2,    2.29,2,   0.413,2,   0.219,2, -999.00,9,  2228.5,2,  2294.5,2,   7.9411
06MT20060606,      EqAtl,      96,          1,      96007,          7,2,20060704,       0000,     6.9960,   -23.0013,       4074,   453.6,   8.7735,  34.8791,2,-999.0000,9,    67.8,2,   15.26,2,   35.87,2,    0.01,2,    2.25,2,   0.458,6,   0.244,6, -999.00,9,  2233.3,2,  2296.5,2,   8.7243
06MT20060606,      EqAtl,      96,          1,      96008,          8,2,20060704,       0000,     6.9960,   -23.0013,       4074,   403.0,   9.9461,  35.0173,2,-999.0000,9,    53.4,2,   13.22,2,   35.02,2,    0.01,2,    2.16,2,   0.688,2,   0.339,2, -999.00,9,  2239.8,2,  2300.7,2,   9.8990
06MT20060606,      EqAtl,      96,          1,      96009,          9,2,20060704,       0000,     6.9960,   -23.0013,       4074,   352.8,  10.4251,  35.0505,2,-999.0000,9,    62.6,2,   11.74,2,   32.39,2,    0.01,2,    2.04,2,   0.879,2,   0.465,2, -999.00,9,  2230.4,2,  2301.3,2,  10.3827
06MT20060606,      EqAtl,      96,          1,      96010,         10,2,20060704,       0000,     6.9960,   -23.0013,       4074,   302.4,  11.7581,  35.1510,2,-999.0000,9,   101.3,2,    8.90,2,   25.44,2,    0.01,2,    1.68,2,   1.546,2,   0.834,2, -999.00,9,  2197.9,2,  2306.3,2,  11.7189
06MT20060606,      EqAtl,      96,          1,      96011,         11,2,20060704,       0000,     6.9960,   -23.0013,       4074,   272.1,  12.5689,  35.2407,2,-999.0000,9,    97.8,6,    7.61,6,   24.24,6,    0.01,6,    1.63,6,   1.664,2,   0.913,2, -999.00,9,  2195.8,2,  2311.3,2,  12.5321
06MT20060606,      EqAtl,      96,          1,      96012,         12,2,20060704,       0000,     6.9960,   -23.0013,       4074,   241.9,  12.9589,  35.2867,2,-999.0000,9,   101.7,2,    6.87,2,   23.29,2,    0.01,2,    1.56,2,   1.774,2,   0.957,2, -999.00,9,  2192.6,2,  2314.7,2,  12.9255
06MT20060606,      EqAtl,      96,          1,      96013,         13,2,20060704,       0000,     6.9960,   -23.0013,       4074,   201.7,  13.7289,  35.3777,2,-999.0000,9,    88.2,2,    6.64,2,   23.81,2,    0.01,2,    1.58,2,   1.777,2,   0.972,2, -999.00,9,  2198.2,2,  2316.4,2,  13.7000
06MT20060606,      EqAtl,      96,          1,      96014,         14,2,20060704,       0000,     6.9960,   -23.0013,       4074,   161.8,  14.9800,  35.5216,2,-999.0000,9,    69.1,2,    5.85,2,   24.14,2,    0.02,2,    1.59,2,   1.842,2,   1.009,2, -999.00,9,  2205.6,2,  2322.0,2,  14.9554
06MT20060606,      EqAtl,      96,          1,      96015,         15,2,20060704,       0000,     6.9960,   -23.0013,       4074,   121.2,  15.5446,  35.5786,2,-999.0000,9,    60.0,2,    5.62,2,   24.47,2,    0.02,2,    1.61,2,   1.926,2,   1.065,2, -999.00,9,  2210.5,2,  2323.2,2,  15.5257
06MT20060606,      EqAtl,      96,          1,      96016,         16,2,20060704,       0000,     6.9960,   -23.0013,       4074,   102.0,  15.8422,  35.6038,2,-999.0000,9,    56.5,2,    5.47,2,   24.42,2,    0.03,2,    1.59,2,   2.025,2,   1.079,2, -999.00,9,  2212.2,2,  2323.8,2,  15.8261
06MT20060606,      EqAtl,      96,          1,      96017,         17,2,20060704,       0000,     6.9960,   -23.0013,       4074,    81.1,  16.3427,  35.6451,2,-999.0000,9,    57.3,2,    4.71,2,   23.38,2,    0.08,2,    1.49,2,   1.942,2,   1.100,2, -999.00,9,  2210.0,2,  2326.5,2,  16.3297
06MT20060606,      EqAtl,      96,          1,      96018,         18,2,20060704,       0000,     6.9960,   -23.0013,       4074,    59.2,  18.0604,  35.7778,2,-999.0000,9,    83.4,2,    3.56,2,   17.96,2,    0.12,2,    1.10,2,   2.028,2,   1.105,2, -999.00,9,  2188.1,2,  2335.0,2,  18.0502
06MT20060606,      EqAtl,      96,          1,      96019,         19,2,20060704,       0000,     6.9960,   -23.0013,       4074,    40.7,  23.3429,  36.0228,2,-999.0000,9,   179.2,2,    0.77,2,    0.63,2,    0.03,2,    0.06,2,   1.794,2,   1.055,2, -999.00,9,  2079.1,2,  2357.3,2,  23.3345
06MT20060606,      EqAtl,      96,          1,      96020,         20,2,20060704,       0000,     6.9960,   -23.0013,       4074,    20.6,  27.9037,  35.7452,2,-999.0000,9,   208.3,2,    0.00,2,    0.04,2,    0.00,2,    0.01,2,   1.662,2,   1.020,2, -999.00,9,  1975.9,2,  2332.4,2,  27.8988
06MT20060606,      EqAtl,      96,          1,      96021,         21,2,20060704,       0000,     6.9960,   -23.0013,       4074,    10.7,  28.0864,  35.2032,2,  35.2063,2,   200.0,2,    0.19,2,    0.00,2,    0.00,2,    0.02,2,   1.581,2,   0.976,2, -999.00,9,  1946.2,6,  2297.4,6,  28.0839
06MT20060606,      EqAtl,      97,          1,      97001,          1,2,20060704,       0000,     7.4933,   -23.0018,       4510,  1312.7,   4.5588,  34.9035,2,-999.0000,9,  -999.0,9, -999.00,9, -999.00,9, -999.00,9, -999.00,9,-999.000,9,-999.000,9, -999.00,9,  -999.0,9,  -999.0,9,   4.4500
06MT20060606,      EqAtl,      97,          1,      97002,          2,2,20060704,       0000,     7.4933,   -23.0018,       4510,  1312.7,   4.5593,  34.9029,2,-999.0000,9,  -999.0,9, -999.00,9, -999.00,9, -999.00,9, -999.00,9,-999.000,9,-999.000,9, -999.00,9,  -999.0,9,  -999.0,9,   4.4505
06MT20060606,      EqAtl,      97,          1,      97003,          3,2,20060704,       0000,     7.4933,   -23.0018,       4510,  1312.6,   4.5592,  34.9029,2,-999.0000,9,  -999.0,9, -999.00,9, -999.00,9, -999.00,9, -999.00,9,-999.000,9,-999.000,9, -999.00,9,  -999.0,9,  -999.0,9,   4.4504
06MT20060606,      EqAtl,      97,          1,      97004,          4,2,20060704,       0000,     7.4933,   -23.0018,       4510,  1102.4,   4.8542,  34.7931,2,-999.0000,9,  -999.0,9, -999.00,9, -999.00,9, -999.00,9, -999.00,9,-999.000,9,-999.000,9, -999.00,9,  -999.0,9,  -999.0,9,   4.7622
06MT20060606,      EqAtl,      97,          1,      97005,          5,2,20060704,       0000,     7.4933,   -23.0018,       4510,  1101.0,   4.8570,  34.7928,2,-999.0000,9,  -999.0,9, -999.00,9, -999.00,9, -999.00,9, -999.00,9,-999.000,9,-999.000,9, -999.00,9,  -999.0,9,  -999.0,9,   4.7651
06MT20060606,      EqAtl,      97,          1,      97006,          6,2,20060704,       0000,     7.4933,   -23.0018,       4510,  1098.5,   4.8642,  34.7904,2,-999.0000,9,  -999.0,9, -999.00,9, -999.00,9, -999.00,9, -999.00,9,-999.000,9,-999.000,9, -999.00,9,  -999.0,9,  -999.0,9,   4.7725