BOTTLE,20211025CCHSIORKP
EXPOCODE,SECT_ID,STNNBR,CASTNO,SAMPNO,BTLNBR,BTLNBR_FLAG_W,DATE,TIME,LATITUDE,LONGITUDE,DEPTH,CTDPRS,CTDTMP,CTDSAL,CTDSAL_FLAG_W,SALNTY,SALNTY_FLAG_W,OXYGEN,OXYGEN_FLAG_W,SILCAT,SILCAT_FLAG_W,NITRAT,NITRAT_FLAG_W,NITRIT,NITRIT_FLAG_W,PHSPHT,PHSPHT_FLAG_W,CFC-11,CFC-11_FLAG_W,CFC-12,CFC-12_FLAG_W,SF6,SF6_FLAG_W,TCARBN,TCARBN_FLAG_W,ALKALI,ALKALI_FLAG_W,THETA
,,,,,,,,,,,METERS,DBAR,ITS-90,PSS-78,,PSS-78,,UMOL/KG,,UMOL/KG,,UMOL/KG,,UMOL/KG,,UMOL/KG,,PMOL/KG,,PMOL/KG,,FMOL/KG,,UMOL/KG,,UMOL/KG,,DEG C
06MT20060606,      EqAtl,     102,          1,     102001,          1,2,20060705,       0000,     9.9992,   -23.0050,       5366,  5004.3,   2.2918,  34.8773,2,  34.8760,2,   242.6,6,   48.02,6,   22.55,6,    0.00,6,    1.59,6,   0.011,2,   0.010,2, -999.00,9,  2207.7,6,  2351.9,6,   1.8289
06MT20060606,      EqAtl,     102,          1,     102002,          2,2,20060705,       0000,     9.9992,   -23.0050,       5366,  4498.4,   2.3155,  34.8845,2,  34.8855,2,   241.7,2,   45.02,2,   22.12,2,    0.01,2,    1.56,2,   0.007,2,   0.006,2, -999.00,9,  2202.1,2,  2345.3,2,   1.9141
06MT20060606,      EqAtl,     102,          1,     102003,          3,2,20060705,       0000,     9.9992,   -23.0050,       5366,  3993.3,   2.3727,  34.8935,2,  34.8924,2,   248.6,2,   40.23,2,   21.50,2,    0.00,2,    1.48,2,   0.009,2,   0.009,2, -999.00,9,  2190.9,2,  2337.7,2,   2.0287
06MT20060606,      EqAtl,     102,          1,     102004,          4,2,20060705,       0000,     9.9992,   -23.0050,       5366,  3497.6,   2.4955,  34.9062,2,-999.0000,9,   245.2,2,   37.19,2,   21.22,2,    0.00,2,    1.46,2,   0.000,2,   0.007,2, -999.00,9,  2189.4,2,  2333.5,2,   2.2034
06MT20060606,      EqAtl,     102,          1,     102005,          5,2,20060705,       0000,     9.9992,   -23.0050,       5366,  2998.2,   2.7208,  34.9244,2,  34.9248,2,   247.3,2,   31.44,2,   20.45,2,    0.00,2,    1.45,2,   0.044,6,   0.007,6, -999.00,9,  2180.9,2,  2324.8,2,   2.4763
06MT20060606,      EqAtl,     102,          1,     102006,          6,2,20060705,       0000,     9.9992,   -23.0050,       5366,  2496.5,   3.0563,  34.9450,2,-999.0000,9,   244.4,2,   26.42,2,   20.39,2,    0.01,2,    1.46,2,   0.000,2,   0.008,2, -999.00,9,  2176.7,2,  2323.4,2,   2.8556
06MT20060606,      EqAtl,     102,          1,     102007,          7,2,20060705,       0000,     9.9992,   -23.0050,       5366,  1997.5,   3.5344,  34.9597,2,  34.9608,2,   239.5,2,   20.59,2,   20.66,2,    0.00,2,    1.45,2,   0.000,2,   0.006,2, -999.00,9,  2172.7,2,  2314.0,2,   3.3740
06MT20060606,      EqAtl,     102,          1,     102008,          8,2,20060705,       0000,     9.9992,   -23.0050,       5366,  1698.8,   3.9166,  34.9601,2,-999.0000,9,   224.8,2,   19.64,2,   22.26,2,    0.01,2,    1.54,2,   0.033,2,   0.007,2, -999.00,9,  2178.7,2,  2311.6,2,   3.7791
06MT20060606,      EqAtl,     102,          1,     102009,          9,2,20060705,       0000,     9.9992,   -23.0050,       5366,  1497.6,   4.2667,  34.9438,2,  34.9445,2,   205.1,2,   19.79,2,   24.49,2,    0.01,2,    1.67,2,   0.009,2,   0.005,2, -999.00,9,  2187.7,2,  2315.8,2,   4.1438
06MT20060606,      EqAtl,     102,          1,     102010,         10,2,20060705,       0000,     9.9992,   -23.0050,       5366,  1298.5,   4.6522,  34.9022,2,-999.0000,9,   177.6,2,   21.88,2,   27.29,2,    0.00,2,    1.88,2,   0.007,2,   0.005,2, -999.00,9,  2201.0,2,  2309.9,2,   4.5438
06MT20060606,      EqAtl,     102,          1,     102011,         11,2,20060705,       0000,     9.9992,   -23.0050,       5366,  1098.8,   5.0900,  34.8282,2,-999.0000,9,   144.9,6,   23.73,6,   31.10,6,    0.00,6,    2.16,6,   0.006,2,   0.005,2, -999.00,9,  2217.8,2,  2307.5,2,   4.9963
06MT20060606,      EqAtl,     102,          1,     102012,         12,2,20060705,       0000,     9.9992,   -23.0050,       5366,   897.9,   5.6355,  34.7374,2,-999.0000,9,   112.4,2,   24.31,2,   35.30,2,    0.00,2,    2.42,2,   0.008,2,   0.007,2, -999.00,9,  2232.3,2,  2301.4,2,   5.5567
06MT20060606,      EqAtl,     102,          1,     102013,         13,2,20060705,       0000,     9.9992,   -23.0050,       5366,   696.7,   6.8815,  34.7846,2,  34.7836,2,    76.7,2,   20.69,2,   37.79,2,    0.00,2,    2.48,2,   0.057,2,   0.032,2, -999.00,9,  2242.9,2,  2298.0,2,   6.8147
06MT20060606,      EqAtl,     102,          1,     102014,         14,2,20060705,       0000,     9.9992,   -23.0050,       5366,   501.6,   9.0694,  35.0177,2,-999.0000,9,    45.9,2,   15.34,2,   36.95,2,    0.01,2,    2.30,2,   0.298,2,   0.166,2, -999.00,9,  2248.3,2,  2301.8,2,   9.0137
06MT20060606,      EqAtl,     102,          1,     102015,         15,2,20060705,       0000,     9.9992,   -23.0050,       5366,   301.7,  11.0924,  35.1073,2,-999.0000,9,    76.3,2,    9.88,2,   29.55,2,    0.00,2,    1.85,2,   1.291,2,   0.676,2, -999.00,9,  2218.3,2,  2304.4,2,  11.0548
06MT20060606,      EqAtl,     102,          1,     102016,         16,2,20060705,       0000,     9.9992,   -23.0050,       5366,   201.2,  12.1669,  35.2034,2,-999.0000,9,    98.6,2,    7.96,2,   24.90,2,    0.01,2,    1.63,2,   1.765,6,   0.902,6, -999.00,9,  2197.2,2,  2311.1,2,  12.1403
06MT20060606,      EqAtl,     102,          1,     102017,         17,2,20060705,       0000,     9.9992,   -23.0050,       5366,   160.8,  12.8377,  35.2821,2,-999.0000,9,    96.8,2,    7.17,2,   23.44,2,    0.01,2,    1.55,2,   1.762,2,   0.948,2, -999.00,9,  2195.2,2,  2312.0,2,  12.8157
06MT20060606,      EqAtl,     102,          1,     102018,         18,2,20060705,       0000,     9.9992,   -23.0050,       5366,   120.1,  13.5283,  35.3727,2,-999.0000,9,   121.0,2,    5.89,2,   19.63,2,    0.03,2,    1.34,2,   1.972,2,   1.058,2, -999.00,9,  2176.5,2,  2318.7,2,  13.5113
06MT20060606,      EqAtl,     102,          1,     102019,         19,2,20060705,       0000,     9.9992,   -23.0050,       5366,    80.8,  15.2038,  35.5751,2,-999.0000,9,   111.4,2,    4.81,2,   18.47,2,    0.14,2,    1.15,2,   1.987,2,   1.105,2, -999.00,9,  2178.3,2,  2332.1,2,  15.1914
06MT20060606,      EqAtl,     102,          1,     102020,         20,2,20060705,       0000,     9.9992,   -23.0050,       5366,    40.0,  22.6009,  35.8806,2,-999.0000,9,   198.8,2,    1.36,2,    0.10,2,    0.01,2,    0.09,2,   1.890,2,   1.099,2, -999.00,9,  2084.2,2,  2355.1,2,  22.5928
06MT20060606,      EqAtl,     102,          1,     102021,         21,2,20060705,       0000,     9.9992,   -23.0050,       5366,    10.9,  27.9739,  35.6738,2,  35.6790,2,   202.2,2,    0.16,2,    0.09,2,    0.00,2,    0.04,2,   1.645,2,   1.000,2, -999.00,9,  1991.5,6,  2333.7,6,  27.9713
06MT20060606,      EqAtl,     103,          1,     103001,          1,2,20060705,       0000,    10.4963,   -22.9818,       5065,  1312.3,   4.7053,  34.9177,2,-999.0000,9,  -999.0,9, -999.00,9, -999.00,9, -999.00,9, -999.00,9,-999.000,9,-999.000,9, -999.00,9,  -999.0,9,  -999.0,9,   4.5951
06MT20060606,      EqAtl,     103,          1,     103002,          2,2,20060705,       0000,    10.4963,   -22.9818,       5065,   100.3,  13.8364,  35.4008,2,-999.0000,9,  -999.0,9, -999.00,9, -999.00,9, -999.00,9, -999.00,9,-999.000,9,-999.000,9, -999.00,9,  -999.0,9,  -999.0,9,  13.8220
06MT20060606,      EqAtl,     103,          1,     103003,          3,2,20060705,       0000,    10.4963,   -22.9818,       5065,    80.7,  14.4770,  35.4728,2,-999.0000,9,  -999.0,9, -999.00,9, -999.00,9, -999.00,9, -999.00,9,-999.000,9,-999.000,9, -999.00,9,  -999.0,9,  -999.0,9,  14.4651
06MT20060606,      EqAtl,     103,          1,     103004,          4,2,20060705,       0000,    10.4963,   -22.9818,       5065,    61.1,  15.3526,  35.5532,2,-999.0000,9,  -999.0,9, -999.00,9, -999.00,9, -999.00,9, -999.00,9,-999.000,9,-999.000,9, -999.00,9,  -999.0,9,  -999.0,9,  15.3432
06MT20060606,      EqAtl,     103,          1,     103005,          5,2,20060705,       0000,    10.4963,   -22.9818,       5065,    41.1,  21.6967,  35.9079,2,-999.0000,9,  -999.0,9, -999.00,9, -999.00,9, -999.00,9, -999.00,9,-999.000,9,-999.000,9, -999.00,9,  -999.0,9,  -999.0,9,  21.6886
06MT20060606,      EqAtl,     103,          1,     103006,          6,2,20060705,       0000,    10.4963,   -22.9818,       5065,    20.3,  28.0490,  35.6888,2,-999.0000,9,  -999.0,9, -999.00,9, -999.00,9, -999.00,9, -999.00,9,-999.000,9,-999.000,9, -999.00,9,  -999.0,9,  -999.0,9,  28.0442
06MT20060606,      EqAtl,     103,          1,     103007,          7,2,20060705,       0000,    10.4963,   -22.9818,       5065,    12.0,  28.1439,  35.6994,2,-999.0000,9,  -999.0,9, -999.00,9, -999.00,9, -999.00,9, -999.00,9,-999.000,9,-999.000,9, -999.00,9,  -999.0,9,  -999.0,9,  28.1411
06MT20060606,      EqAtl,     104,          1,     104001,          1,2,20060705,       0000,    10.9980,   -22.9982,       5019,  1299.3,   4.8940,  34.9332,2,  34.9305,2,   169.3,6,   21.86,6,   28.15,6,    0.00,6,    1.91,6,   0.008,6,   0.006,6, -999.00,9,  2205.5,6,  2312.6,6,   4.7831
06MT20060606,      EqAtl,     104,          1,     104002,          2,2,20060705,       0000,    10.9980,   -22.9982,       5019,  1097.8,   5.2976,  34.8380,2,-999.0000,9,   140.0,2,   23.58,2,   32.12,2,    0.01,2,    2.17,2,-999.000,9,-999.000,9, -999.00,9,  2220.2,2,  2306.2,2,   5.2023
06MT20060606,      EqAtl,     104,          1,     104003,          3,2,20060705,       0000,    10.9980,   -22.9982,       5019,   897.7,   5.9540,  34.7810,2,-999.0000,9,   159.3,3,   23.59,2,   35.99,2,    0.01,2,    2.38,2,   0.011,2,   0.010,2, -999.00,9,  2233.2,2,  2307.6,2,   5.8730
06MT20060606,      EqAtl,     104,          1,     104004,          4,2,20060705,       0000,    10.9980,   -22.9982,       5019,   698.1,   7.2326,  34.8373,2,-999.0000,9,    72.2,2,   20.41,2,   38.91,2,    0.01,2,    2.46,2,   0.070,2,   0.052,2, -999.00,9,  2244.9,2,  2298.7,2,   7.1638
06MT20060606,      EqAtl,     104,          1,     104005,          5,2,20060705,       0000,    10.9980,   -22.9982,       5019,   598.4,   8.1445,  34.9264,2,-999.0000,9,    57.4,2,   18.18,2,   39.00,2,    0.00,2,    2.42,2,   0.163,2,   0.082,2, -999.00,9,  2248.7,2,  2300.0,2,   8.0818
06MT20060606,      EqAtl,     104,          1,     104006,          6,2,20060705,       0000,    10.9980,   -22.9982,       5019,   502.4,   9.3782,  35.0401,2,-999.0000,9,    44.5,2,   15.28,2,   37.10,2,    0.01,2,    2.30,2,   0.343,2,   0.195,2, -999.00,9,  2248.7,2,  2300.6,2,   9.3212
06MT20060606,      EqAtl,     104,          1,     104007,          7,2,20060705,       0000,    10.9980,   -22.9982,       5019,   453.5,   9.7828,  35.0644,2,-999.0000,9,    41.9,2,   14.58,2,   36.39,2,    0.01,2,    2.26,2,   0.474,2,   0.260,2, -999.00,9,  2247.7,2,  2302.2,2,   9.7302
06MT20060606,      EqAtl,     104,          1,     104008,          8,2,20060705,       0000,    10.9980,   -22.9982,       5019,   402.6,  10.2402,  35.0933,2,-999.0000,9,    44.6,2,   13.02,2,   34.83,2,    0.01,2,    2.14,2,   0.690,6,   0.348,6, -999.00,9,  2243.7,2,  2302.2,2,  10.1922
06MT20060606,      EqAtl,     104,          1,     104009,          9,2,20060705,       0000,    10.9980,   -22.9982,       5019,   349.8,  10.6287,  35.1094,2,-999.0000,9,    53.1,2,   12.04,2,   33.72,2,    0.01,2,    2.04,2,   0.855,2,   0.446,2, -999.00,9,  2236.2,2,  2303.4,2,  10.5861
06MT20060606,      EqAtl,     104,          1,     104010,         10,2,20060705,       0000,    10.9980,   -22.9982,       5019,   299.6,  10.9970,  35.1023,2,-999.0000,9,    74.6,2,   11.05,2,   30.53,2,    0.01,2,    1.90,2,   1.170,2,   0.603,2, -999.00,9,  2220.8,2,  2305.0,2,  10.9598
06MT20060606,      EqAtl,     104,          1,     104011,         11,2,20060705,       0000,    10.9980,   -22.9982,       5019,   270.4,  11.2214,  35.1079,2,-999.0000,9,    89.3,6,   10.05,6,   28.23,6,    0.00,6,    1.80,6,   1.372,2,   0.733,2, -999.00,9,  2208.2,2,  2305.2,2,  11.1875
06MT20060606,      EqAtl,     104,          1,     104012,         12,2,20060705,       0000,    10.9980,   -22.9982,       5019,   240.2,  11.5129,  35.1325,2,-999.0000,9,    96.2,2,    9.16,2,   26.40,2,    0.01,2,    1.72,2,   1.516,2,   0.798,2, -999.00,9,  2202.7,2,  2306.4,2,  11.4823
06MT20060606,      EqAtl,     104,          1,     104013,         13,2,20060705,       0000,    10.9980,   -22.9982,       5019,   199.8,  11.9894,  35.1815,2,-999.0000,9,   105.5,2,    8.37,2,   24.37,2,    0.01,2,    1.63,2,   1.710,6,   0.908,6, -999.00,9,  2193.9,2,  2307.5,2,  11.9633
06MT20060606,      EqAtl,     104,          1,     104014,         14,2,20060705,       0000,    10.9980,   -22.9982,       5019,   160.7,  12.6618,  35.2687,2,-999.0000,9,   100.3,2,    7.68,2,   24.03,2,    0.01,2,    1.57,2,   1.774,2,   0.957,2, -999.00,9,  2195.4,2,  2312.9,2,  12.6401
06MT20060606,      EqAtl,     104,          1,     104015,         15,2,20060705,       0000,    10.9980,   -22.9982,       5019,   121.5,  13.4678,  35.3688,2,-999.0000,9,    84.5,2,    6.93,2,   24.85,2,    0.03,2,    1.58,2,   1.860,2,   0.982,2, -999.00,9,  2202.9,2,  2316.9,2,  13.4507
06MT20060606,      EqAtl,     104,          1,     104016,         16,2,20060705,       0000,    10.9980,   -22.9982,       5019,   100.8,  14.1509,  35.4491,2,-999.0000,9,    87.6,2,    6.22,2,   23.56,2,    0.06,2,    1.46,2,   2.036,2,   1.018,2, -999.00,9,  2197.2,2,  2319.7,2,  14.1362
06MT20060606,      EqAtl,     104,          1,     104017,         17,2,20060705,       0000,    10.9980,   -22.9982,       5019,    80.1,  15.4811,  35.5754,2,-999.0000,9,    83.6,2,    5.14,2,   22.22,2,    0.16,2,    1.32,2,   1.894,6,   1.034,6, -999.00,9,  2198.2,2,  2327.5,2,  15.4687
06MT20060606,      EqAtl,     104,          1,     104018,         18,2,20060705,       0000,    10.9980,   -22.9982,       5019,    60.6,  18.0992,  35.7297,2,-999.0000,9,   118.8,2,    2.82,2,   11.56,2,    0.61,2,    0.73,2,   1.958,2,   1.078,2, -999.00,9,  2166.8,2,  2339.1,2,  18.0887
06MT20060606,      EqAtl,     104,          1,     104019,         19,2,20060705,       0000,    10.9980,   -22.9982,       5019,    40.8,  23.6440,  35.9679,2,-999.0000,9,   211.6,2,    0.20,2,    0.04,2,    0.00,2,    0.06,2,   1.897,2,   1.121,2, -999.00,9,  2052.4,2,  2357.7,2,  23.6355
06MT20060606,      EqAtl,     104,          1,     104020,         20,2,20060705,       0000,    10.9980,   -22.9982,       5019,    20.3,  27.2042,  36.0392,2,-999.0000,9,   209.7,2,    0.09,2,    0.01,2,    0.00,2,    0.01,2,   1.702,2,   1.054,2, -999.00,9,  2027.6,2,  2358.3,2,  27.1995
06MT20060606,      EqAtl,     104,          1,     104021,         21,2,20060705,       0000,    10.9980,   -22.9982,       5019,     9.9,  27.8617,  35.8022,2,  35.8297,2,   203.5,2,    0.30,2,    0.08,2,    0.01,2,    0.01,2,   1.633,2,   0.983,2, -999.00,9,  1997.2,6,  2349.2,2,  27.8594
06MT20060606,      EqAtl,     105,          1,     105001,          1,2,20060706,       0000,    11.5013,   -22.9927,       4967,  1310.3,   4.8307,  34.9457,2,-999.0000,9,  -999.0,9, -999.00,9, -999.00,9, -999.00,9, -999.00,9,-999.000,9,-999.000,9, -999.00,9,  -999.0,9,  -999.0,9,   4.7193
06MT20060606,      EqAtl,     105,          1,     105002,          2,2,20060706,       0000,    11.5013,   -22.9927,       4967,   101.4,  13.7982,  35.4130,2,-999.0000,9,  -999.0,9, -999.00,9, -999.00,9, -999.00,9, -999.00,9,-999.000,9,-999.000,9, -999.00,9,  -999.0,9,  -999.0,9,  13.7837
06MT20060606,      EqAtl,     105,          1,     105003,          3,2,20060706,       0000,    11.5013,   -22.9927,       4967,    81.3,  14.8384,  35.5333,2,-999.0000,9,  -999.0,9, -999.00,9, -999.00,9, -999.00,9, -999.00,9,-999.000,9,-999.000,9, -999.00,9,  -999.0,9,  -999.0,9,  14.8262
06MT20060606,      EqAtl,     105,          1,     105004,          4,2,20060706,       0000,    11.5013,   -22.9927,       4967,    62.3,  17.6436,  35.8105,2,-999.0000,9,  -999.0,9, -999.00,9, -999.00,9, -999.00,9, -999.00,9,-999.000,9,-999.000,9, -999.00,9,  -999.0,9,  -999.0,9,  17.6330
06MT20060606,      EqAtl,     105,          1,     105005,          5,2,20060706,       0000,    11.5013,   -22.9927,       4967,    40.8,  23.9881,  35.9078,2,-999.0000,9,  -999.0,9, -999.00,9, -999.00,9, -999.00,9, -999.00,9,-999.000,9,-999.000,9, -999.00,9,  -999.0,9,  -999.0,9,  23.9795
06MT20060606,      EqAtl,     105,          1,     105006,          6,2,20060706,       0000,    11.5013,   -22.9927,       4967,    20.5,  27.0268,  36.1164,2,-999.0000,9,  -999.0,9, -999.00,9, -999.00,9, -999.00,9, -999.00,9,-999.000,9,-999.000,9, -999.00,9,  -999.0,9,  -999.0,9,  27.0221
06MT20060606,      EqAtl,     105,          1,     105007,          7,2,20060706,       0000,    11.5013,   -22.9927,       4967,    10.7,  27.0709,  36.1212,2,-999.0000,9,  -999.0,9, -999.00,9, -999.00,9, -999.00,9, -999.00,9,-999.000,9,-999.000,9, -999.00,9,  -999.0,9,  -999.0,9,  27.0684