BOTTLE,20211025CCHSIORKP
EXPOCODE,SECT_ID,STNNBR,CASTNO,SAMPNO,BTLNBR,BTLNBR_FLAG_W,DATE,TIME,LATITUDE,LONGITUDE,DEPTH,CTDPRS,CTDTMP,CTDSAL,CTDSAL_FLAG_W,SALNTY,SALNTY_FLAG_W,OXYGEN,OXYGEN_FLAG_W,SILCAT,SILCAT_FLAG_W,NITRAT,NITRAT_FLAG_W,NITRIT,NITRIT_FLAG_W,PHSPHT,PHSPHT_FLAG_W,CFC-11,CFC-11_FLAG_W,CFC-12,CFC-12_FLAG_W,SF6,SF6_FLAG_W,TCARBN,TCARBN_FLAG_W,ALKALI,ALKALI_FLAG_W,THETA
,,,,,,,,,,,METERS,DBAR,ITS-90,PSS-78,,PSS-78,,UMOL/KG,,UMOL/KG,,UMOL/KG,,UMOL/KG,,UMOL/KG,,PMOL/KG,,PMOL/KG,,FMOL/KG,,UMOL/KG,,UMOL/KG,,DEG C
06MT20060606,      EqAtl,      88,          1,      88001,          1,2,20060702,       0000,     2.9935,   -23.0010,       4457,  1310.1,   4.5007,  34.8711,2,  34.8696,2,   190.0,6,   21.83,6,   26.55,6,    0.01,6,    1.82,6,   0.045,2,   0.028,2, -999.00,9,  2195.8,6,  2307.7,6,   4.3928
06MT20060606,      EqAtl,      88,          1,      88002,          2,2,20060702,       0000,     2.9935,   -23.0010,       4457,  1107.0,   4.6213,  34.7445,2,-999.0000,9,   165.0,2,   25.47,2,   30.64,2,    0.01,2,    2.14,2,   0.012,6,   0.005,6, -999.00,9,  2213.1,2,  2305.6,2,   4.5310
06MT20060606,      EqAtl,      88,          1,      88003,          3,2,20060702,       0000,     2.9935,   -23.0010,       4457,   903.6,   4.7721,  34.6018,2,-999.0000,9,   143.3,2,   27.91,2,   34.31,2,    0.01,2,    2.39,2,   0.014,2,   0.011,2, -999.00,9,  2225.8,2,  2304.9,2,   4.6989
06MT20060606,      EqAtl,      88,          1,      88004,          4,2,20060702,       0000,     2.9935,   -23.0010,       4457,   701.4,   5.5549,  34.5497,2,-999.0000,9,   134.9,2,   24.15,2,   34.66,2,    0.01,2,    2.38,2,   0.121,2,   0.072,2, -999.00,9,  2221.2,2,  2292.7,2,   5.4949
06MT20060606,      EqAtl,      88,          1,      88005,          5,2,20060702,       0000,     2.9935,   -23.0010,       4457,   601.5,   6.2253,  34.5822,2,-999.0000,9,   129.3,2,   21.69,2,   34.65,2,    0.01,2,    2.32,2,   0.226,2,   0.125,2, -999.00,9,  2217.7,2,  2292.3,2,   6.1712
06MT20060606,      EqAtl,      88,          1,      88006,          6,2,20060702,       0000,     2.9935,   -23.0010,       4457,   504.5,   7.1575,  34.6584,2,-999.0000,9,   111.5,2,   18.67,2,   34.56,2,    0.00,2,    2.29,2,   0.298,2,   0.157,2, -999.00,9,  2220.3,2,  2291.1,2,   7.1089
06MT20060606,      EqAtl,      88,          1,      88007,          7,2,20060702,       0000,     2.9935,   -23.0010,       4457,   452.6,   7.6812,  34.7153,2,-999.0000,9,    97.8,2,   17.18,2,   34.51,2,    0.01,2,    2.26,2,   0.304,6,   0.166,6, -999.00,9,  2223.4,2,  2290.9,2,   7.6359
06MT20060606,      EqAtl,      88,          1,      88008,          8,2,20060702,       0000,     2.9935,   -23.0010,       4457,   404.5,   8.5657,  34.8023,2,-999.0000,9,    87.4,2,   15.22,2,   34.01,2,    0.00,2,    2.19,2,   0.467,2,   0.238,2, -999.00,9,  2223.9,2,  2294.1,2,   8.5226
06MT20060606,      EqAtl,      88,          1,      88009,          9,2,20060702,       0000,     2.9935,   -23.0010,       4457,   352.4,  10.2849,  34.9972,2,  34.9978,2,    63.6,2,   12.31,2,   32.71,2,    0.00,2,    2.07,2,   0.804,6,   0.408,6, -999.00,9,  2229.6,2,  2300.0,2,  10.2430
06MT20060606,      EqAtl,      88,          1,      88010,         10,2,20060702,       0000,     2.9935,   -23.0010,       4457,   303.7,  12.4956,  35.2173,2,-999.0000,9,  -999.0,9, -999.00,9, -999.00,9, -999.00,9, -999.00,9,-999.000,9,-999.000,9, -999.00,9,  -999.0,9,  -999.0,9,  12.4546
06MT20060606,      EqAtl,      88,          1,      88011,         11,2,20060702,       0000,     2.9935,   -23.0010,       4457,   272.3,  12.7857,  35.2470,2,-999.0000,9,   131.5,6,    6.83,6,   20.10,6,    0.00,6,    1.40,6,   1.886,3,   0.988,3, -999.00,9,  2173.2,2,  2315.1,2,  12.7485
06MT20060606,      EqAtl,      88,          1,      88012,         12,2,20060702,       0000,     2.9935,   -23.0010,       4457,   233.8,  13.2659,  35.3119,2,-999.0000,9,   125.1,2,    6.51,2,   20.01,2,    0.01,2,    1.37,2,   1.942,3,   1.030,3, -999.00,9,  2175.0,2,  2316.0,2,  13.2332
06MT20060606,      EqAtl,      88,          1,      88013,         13,2,20060702,       0000,     2.9935,   -23.0010,       4457,   202.8,  13.7169,  35.3725,2,-999.0000,9,   120.6,2,    6.14,2,   19.57,2,    0.00,2,    1.37,2,   1.975,3,   1.040,3, -999.00,9,  2176.5,2,  2320.7,2,  13.6879
06MT20060606,      EqAtl,      88,          1,      88014,         14,2,20060702,       0000,     2.9935,   -23.0010,       4457,   162.0,  14.3495,  35.4567,2,-999.0000,9,   111.3,2,    5.79,2,   19.99,2,    0.01,2,    1.37,2,   1.958,3,   1.037,3, -999.00,9,  2180.3,2,  2324.5,2,  14.3256
06MT20060606,      EqAtl,      88,          1,      88015,         15,2,20060702,       0000,     2.9935,   -23.0010,       4457,   121.1,  15.6411,  35.6106,2,-999.0000,9,    95.4,2,    5.43,2,   19.98,2,    0.02,2,    1.35,2,   2.006,3,   1.062,3, -999.00,9,  2187.3,2,  2336.3,2,  15.6222
06MT20060606,      EqAtl,      88,          1,      88016,         16,2,20060702,       0000,     2.9935,   -23.0010,       4457,   102.1,  16.2025,  35.6531,2,-999.0000,9,    92.0,2,    4.86,2,   19.43,2,    0.05,2,    1.29,2,   2.030,3,   1.050,3, -999.00,9,  2187.7,2,  2331.6,2,  16.1862
06MT20060606,      EqAtl,      88,          1,      88017,         17,2,20060702,       0000,     2.9935,   -23.0010,       4457,    81.9,  19.4311,  35.8318,2,-999.0000,9,   116.4,2,    2.70,2,   10.79,2,    0.11,2,    0.68,2,   1.900,2,   1.038,2, -999.00,9,  2154.0,2,  2344.0,2,  19.4162
06MT20060606,      EqAtl,      88,          1,      88018,         18,2,20060702,       0000,     2.9935,   -23.0010,       4457,    60.7,  27.8598,  35.7341,2,-999.0000,9,   195.0,2,    0.14,2,    0.17,2,    0.05,2,    0.00,2,   1.885,2,   0.991,2, -999.00,9,  2001.6,2,  2338.4,2,  27.8455
06MT20060606,      EqAtl,      88,          1,      88019,         19,2,20060702,       0000,     2.9935,   -23.0010,       4457,    41.2,  28.0517,  35.3597,2,-999.0000,9,   200.1,2,    0.00,2,    0.03,2,    0.00,2,    0.00,2,   1.617,2,   0.986,2, -999.00,9,  1970.6,2,  2311.7,2,  28.0420
06MT20060606,      EqAtl,      88,          1,      88020,         20,2,20060702,       0000,     2.9935,   -23.0010,       4457,    20.2,  28.1780,  35.2994,2,-999.0000,9,   200.7,2,    0.18,2,    0.05,2,    0.00,2,    0.01,2,   1.618,6,   0.961,6, -999.00,9,  1962.5,2,  2307.0,2,  28.1732
06MT20060606,      EqAtl,      88,          1,      88021,         21,2,20060702,       0000,     2.9935,   -23.0010,       4457,    11.2,  28.1749,  35.2968,2,  35.2982,2,   200.0,2,    0.64,2,    0.09,2,    0.00,2,    0.03,2,   1.605,2,   0.957,2, -999.00,9,  1961.8,6,  2306.6,6,  28.1722
06MT20060606,      EqAtl,      89,          1,      89001,          1,2,20060702,       0000,     3.4975,   -23.0043,       4293,  1313.1,   4.5003,  34.9158,2,  34.9140,2,  -999.0,9, -999.00,9, -999.00,9, -999.00,9, -999.00,9,-999.000,9,-999.000,9, -999.00,9,  -999.0,9,  -999.0,9,   4.3920
06MT20060606,      EqAtl,      89,          1,      89002,          2,2,20060702,       0000,     3.4975,   -23.0043,       4293,   896.3,   4.8262,  34.6064,2,  34.6095,2,  -999.0,9, -999.00,9, -999.00,9, -999.00,9, -999.00,9,-999.000,9,-999.000,9, -999.00,9,  -999.0,9,  -999.0,9,   4.7532
06MT20060606,      EqAtl,      89,          1,      89003,          3,2,20060702,       0000,     3.4975,   -23.0043,       4293,   351.2,  10.0632,  34.9624,2,-999.0000,9,  -999.0,9, -999.00,9, -999.00,9, -999.00,9, -999.00,9,-999.000,9,-999.000,9, -999.00,9,  -999.0,9,  -999.0,9,  10.0220
06MT20060606,      EqAtl,      89,          1,      89004,          4,2,20060702,       0000,     3.4975,   -23.0043,       4293,   300.8,  11.5841,  35.1213,2,-999.0000,9,  -999.0,9, -999.00,9, -999.00,9, -999.00,9, -999.00,9,-999.000,9,-999.000,9, -999.00,9,  -999.0,9,  -999.0,9,  11.5455
06MT20060606,      EqAtl,      89,          1,      89005,          5,2,20060702,       0000,     3.4975,   -23.0043,       4293,   119.2,  15.2068,  35.5606,2,-999.0000,9,  -999.0,9, -999.00,9, -999.00,9, -999.00,9, -999.00,9,-999.000,9,-999.000,9, -999.00,9,  -999.0,9,  -999.0,9,  15.1885
06MT20060606,      EqAtl,      89,          1,      89006,          6,2,20060702,       0000,     3.4975,   -23.0043,       4293,    80.1,  17.9107,  35.7421,2,-999.0000,9,  -999.0,9, -999.00,9, -999.00,9, -999.00,9, -999.00,9,-999.000,9,-999.000,9, -999.00,9,  -999.0,9,  -999.0,9,  17.8970
06MT20060606,      EqAtl,      89,          1,      89007,          7,2,20060702,       0000,     3.4975,   -23.0043,       4293,    39.8,  28.2510,  35.2276,2,-999.0000,9,  -999.0,9, -999.00,9, -999.00,9, -999.00,9, -999.00,9,-999.000,9,-999.000,9, -999.00,9,  -999.0,9,  -999.0,9,  28.2416
06MT20060606,      EqAtl,      89,          1,      89008,          8,2,20060702,       0000,     3.4975,   -23.0043,       4293,    11.5,  28.2509,  35.2285,2,-999.0000,9,  -999.0,9, -999.00,9, -999.00,9, -999.00,9, -999.00,9,-999.000,9,-999.000,9, -999.00,9,  -999.0,9,  -999.0,9,  28.2482
06MT20060606,      EqAtl,      89,          1,      89009,          9,2,20060702,       0000,     3.4975,   -23.0043,       4293,    11.4,  28.2510,  35.2284,2,-999.0000,9,  -999.0,9, -999.00,9, -999.00,9, -999.00,9, -999.00,9,-999.000,9,-999.000,9, -999.00,9,  -999.0,9,  -999.0,9,  28.2483
06MT20060606,      EqAtl,      89,          1,      89010,         10,2,20060702,       0000,     3.4975,   -23.0043,       4293,    10.7,  28.2506,  35.2284,2,-999.0000,9,  -999.0,9, -999.00,9, -999.00,9, -999.00,9, -999.00,9,-999.000,9,-999.000,9, -999.00,9,  -999.0,9,  -999.0,9,  28.2481
06MT20060606,      EqAtl,      90,          1,      90001,          1,2,20060702,       0000,     3.9580,   -22.9987,       3914,  1301.2,   4.4725,  34.8953,2,  34.8936,2,   195.8,2,   21.19,2,   25.64,2,    0.00,2,    1.78,2,   0.062,6,   0.040,6, -999.00,9,  2192.8,6,  2308.9,6,   4.3656
06MT20060606,      EqAtl,      90,          1,      90002,          2,2,20060702,       0000,     3.9580,   -22.9987,       3914,  1097.0,   4.6246,  34.7525,2,-999.0000,9,   164.1,2,   25.64,2,   30.88,2,    0.01,2,    2.12,2,   0.030,2,   0.014,2, -999.00,9,  2211.6,2,  2305.3,2,   4.5351
06MT20060606,      EqAtl,      90,          1,      90003,          3,2,20060702,       0000,     3.9580,   -22.9987,       3914,   893.7,   4.9030,  34.6054,2,  34.6069,2,   143.3,2,   27.55,2,   34.62,2,    0.00,2,    2.37,2,   0.064,2,   0.045,2, -999.00,9,  2220.3,2,  2297.7,2,   4.8297
06MT20060606,      EqAtl,      90,          1,      90004,          4,2,20060702,       0000,     3.9580,   -22.9987,       3914,   697.1,   5.7712,  34.5943,2,-999.0000,9,   123.1,2,   24.48,2,   35.92,2,    0.00,2,    2.44,2,   0.146,2,   0.086,2, -999.00,9,  2225.1,2,  2293.1,2,   5.7104
06MT20060606,      EqAtl,      90,          1,      90005,          5,2,20060702,       0000,     3.9580,   -22.9987,       3914,   598.0,   6.4077,  34.6211,2,-999.0000,9,   116.3,2,   22.15,2,   35.83,2,    0.01,2,    2.40,2,   0.280,2,   0.148,2, -999.00,9,  2225.0,2,  2291.5,2,   6.3531
06MT20060606,      EqAtl,      90,          1,      90006,          6,2,20060702,       0000,     3.9580,   -22.9987,       3914,   496.9,   7.3998,  34.6838,2,  34.6828,2,   109.2,2,   17.88,2,   34.26,2,    0.01,2,    2.25,2,   0.570,2,   0.288,2, -999.00,9,  2218.9,2,  2292.1,2,   7.3510
06MT20060606,      EqAtl,      90,          1,      90007,          7,2,20060702,       0000,     3.9580,   -22.9987,       3914,   450.6,   8.3342,  34.7738,2,-999.0000,9,    99.6,2,   15.58,2,   33.14,2,    0.01,2,    2.15,2,   0.744,2,   0.374,2, -999.00,9,  2220.1,2,  2293.2,2,   8.2869
06MT20060606,      EqAtl,      90,          1,      90008,          8,2,20060702,       0000,     3.9580,   -22.9987,       3914,   401.8,   9.4834,  34.8928,2,-999.0000,9,    93.4,2,   12.88,2,   31.23,2,    0.01,2,    2.01,2,   1.036,2,   0.525,2, -999.00,9,  2215.3,2,  2297.5,2,   9.4379
06MT20060606,      EqAtl,      90,          1,      90009,          9,2,20060702,       0000,     3.9580,   -22.9987,       3914,   349.5,  10.7246,  35.0280,2,-999.0000,9,    77.2,2,   11.43,2,   30.54,2,    0.01,2,    1.95,2,   1.129,2,   0.584,2, -999.00,9,  2218.6,2,  2303.6,2,  10.6819
06MT20060606,      EqAtl,      90,          1,      90010,         10,2,20060702,       0000,     3.9580,   -22.9987,       3914,   300.0,  11.7994,  35.1447,2,-999.0000,9,    84.7,2,    9.68,2,   27.53,2,    0.01,2,    1.80,2,   1.398,2,   0.747,2, -999.00,9,  2208.1,2,  2306.1,2,  11.7605
06MT20060606,      EqAtl,      90,          1,      90011,         11,2,20060702,       0000,     3.9580,   -22.9987,       3914,   270.7,  12.3583,  35.2040,2,-999.0000,9,    95.0,6,    8.48,6,   25.24,6,    0.01,6,    1.67,6,   1.590,6,   0.856,6, -999.00,9,  2197.9,2,  2309.2,2,  12.3221
06MT20060606,      EqAtl,      90,          1,      90012,         12,2,20060702,       0000,     3.9580,   -22.9987,       3914,   237.4,  12.7702,  35.2533,2,-999.0000,9,   121.0,2,    7.18,2,   21.43,2,    0.01,2,    1.46,2,   1.903,2,   1.000,2, -999.00,9,  2179.1,2,  2309.9,2,  12.7378
06MT20060606,      EqAtl,      90,          1,      90013,         13,2,20060702,       0000,     3.9580,   -22.9987,       3914,   200.2,  13.4622,  35.3390,2,-999.0000,9,   118.7,2,    6.49,2,   20.57,2,    0.01,2,    1.41,2,   1.950,2,   1.074,2, -999.00,9,  2178.3,2,  2309.9,2,  13.4339
06MT20060606,      EqAtl,      90,          1,      90014,         14,2,20060702,       0000,     3.9580,   -22.9987,       3914,   160.9,  14.1954,  35.4320,2,-999.0000,9,   114.0,2,    6.00,2,   19.89,2,    0.01,2,    1.34,2,   1.992,2,   1.099,2, -999.00,9,  2178.8,2,  2314.5,2,  14.1719
06MT20060606,      EqAtl,      90,          1,      90015,         15,2,20060702,       0000,     3.9580,   -22.9987,       3914,   120.7,  15.4174,  35.5726,2,-999.0000,9,    94.5,2,    5.37,2,   20.69,2,    0.02,2,    1.36,2,   2.058,2,   1.128,2, -999.00,9,  2187.5,2,  2320.6,2,  15.3987
06MT20060606,      EqAtl,      90,          1,      90016,         16,2,20060702,       0000,     3.9580,   -22.9987,       3914,   100.3,  16.9280,  35.7026,2,-999.0000,9,   123.6,2,    4.17,2,   17.44,2,    0.04,2,    1.14,2,   2.119,6,   1.144,6, -999.00,9,  2173.7,2,  2328.3,2,  16.9115
06MT20060606,      EqAtl,      90,          1,      90017,         17,2,20060702,       0000,     3.9580,   -22.9987,       3914,    80.8,  19.8169,  35.8896,2,-999.0000,9,   123.7,2,    2.74,2,   11.54,2,    0.06,2,    0.72,2,   1.947,2,   1.131,2, -999.00,9,  2147.7,2,  2340.6,2,  19.8020
06MT20060606,      EqAtl,      90,          1,      90018,         18,2,20060702,       0000,     3.9580,   -22.9987,       3914,    60.4,  27.4884,  36.0433,2,-999.0000,9,   194.5,2,    0.00,2,    0.41,2,    0.14,2,    0.02,2,   1.812,2,   1.036,2, -999.00,9,  2015.9,2,  2351.3,2,  27.4743
06MT20060606,      EqAtl,      90,          1,      90019,         19,2,20060702,       0000,     3.9580,   -22.9987,       3914,    40.1,  28.2323,  35.1424,2,-999.0000,9,   203.3,2,    0.08,2,    0.00,2,    0.00,2,    0.00,2,   1.623,2,   0.985,2, -999.00,9,  1950.0,2,  2292.7,2,  28.2228
06MT20060606,      EqAtl,      90,          1,      90020,         20,2,20060702,       0000,     3.9580,   -22.9987,       3914,    21.9,  28.2366,  35.1365,2,-999.0000,9,   203.1,2,    0.03,2,    0.04,2,    0.00,2,    0.01,2,   1.584,2,   0.978,2, -999.00,9,  1949.0,2,  2292.4,2,  28.2314
06MT20060606,      EqAtl,      90,          1,      90021,         21,2,20060702,       0000,     3.9580,   -22.9987,       3914,    11.2,  28.2755,  35.1359,2,  35.1386,2,   203.2,2,    0.11,2,    0.06,2,    0.01,2,    0.03,2,   1.596,2,   0.987,2, -999.00,9,  1948.9,6,  2295.8,2,  28.2728