BOTTLE,20211025CCHSIORKP
EXPOCODE,SECT_ID,STNNBR,CASTNO,SAMPNO,BTLNBR,BTLNBR_FLAG_W,DATE,TIME,LATITUDE,LONGITUDE,DEPTH,CTDPRS,CTDTMP,CTDSAL,CTDSAL_FLAG_W,SALNTY,SALNTY_FLAG_W,OXYGEN,OXYGEN_FLAG_W,SILCAT,SILCAT_FLAG_W,NITRAT,NITRAT_FLAG_W,NITRIT,NITRIT_FLAG_W,PHSPHT,PHSPHT_FLAG_W,CFC-11,CFC-11_FLAG_W,CFC-12,CFC-12_FLAG_W,SF6,SF6_FLAG_W,TCARBN,TCARBN_FLAG_W,ALKALI,ALKALI_FLAG_W,THETA
,,,,,,,,,,,METERS,DBAR,ITS-90,PSS-78,,PSS-78,,UMOL/KG,,UMOL/KG,,UMOL/KG,,UMOL/KG,,UMOL/KG,,PMOL/KG,,PMOL/KG,,FMOL/KG,,UMOL/KG,,UMOL/KG,,DEG C
06MT20060606,      EqAtl,      77,          1,      77001,          1,2,20060629,       0000,     1.9970,   -18.0335,       4971,  1313.5,   4.4798,  34.8899,2,  34.8904,2,   199.7,2,   20.69,2,   26.40,2,    0.01,2,    1.82,2,   0.070,2,   0.040,2, -999.00,9,  2193.8,2,  2307.9,2,   4.3717
06MT20060606,      EqAtl,      77,          1,      77002,          2,2,20060629,       0000,     1.9970,   -18.0335,       4971,  1105.8,   4.6050,  34.7376,2,-999.0000,9,   164.7,2,   25.15,2,   31.71,2,    0.01,2,    2.15,2,   0.030,2,   0.013,2, -999.00,9,  2211.6,2,  2303.7,2,   4.5149
06MT20060606,      EqAtl,      77,          1,      77003,          3,2,20060629,       0000,     1.9970,   -18.0335,       4971,   904.5,   4.8018,  34.5752,2,  34.5777,2,   144.7,2,   28.36,2,   35.84,2,    0.01,2,    2.43,2,   0.065,2,   0.036,2, -999.00,9,  2221.6,2,  2301.7,2,   4.7283
06MT20060606,      EqAtl,      77,          1,      77004,          4,2,20060629,       0000,     1.9970,   -18.0335,       4971,   702.7,   5.8513,  34.5335,2,-999.0000,9,   142.2,2,   23.07,2,   34.84,2,    0.01,2,    2.33,2,   0.510,6,   0.267,6, -999.00,9,  2211.9,2,  2290.1,2,   5.7897
06MT20060606,      EqAtl,      77,          1,      77005,          5,2,20060629,       0000,     1.9970,   -18.0335,       4971,   602.0,   6.4009,  34.5715,2,-999.0000,9,   135.3,2,   20.64,2,   34.04,2,    0.01,2,    2.27,2,   0.627,2,   0.312,2, -999.00,9,  2211.4,2,  2288.1,2,   6.3460
06MT20060606,      EqAtl,      77,          1,      77006,          6,2,20060629,       0000,     1.9970,   -18.0335,       4971,   504.0,   7.0344,  34.6190,2,-999.0000,9,   128.6,2,   18.21,2,   33.40,2,    0.01,2,    2.20,2,   0.787,2,   0.414,2, -999.00,9,  2209.5,2,  2289.5,2,   6.9863
06MT20060606,      EqAtl,      77,          1,      77007,          7,2,20060629,       0000,     1.9970,   -18.0335,       4971,   453.9,   7.5197,  34.6641,2,-999.0000,9,   124.2,2,   16.71,2,   32.33,2,    0.01,2,    2.16,2,   0.903,2,   0.467,2, -999.00,9,  2209.4,2,  2290.2,2,   7.4748
06MT20060606,      EqAtl,      77,          1,      77008,          8,2,20060629,       0000,     1.9970,   -18.0335,       4971,   403.1,   8.1441,  34.7255,2,-999.0000,9,   110.4,2,   15.41,2,   32.77,2,    0.01,2,    2.15,2,   0.934,6,   0.476,6, -999.00,9,  2213.7,2,  2293.0,2,   8.1025
06MT20060606,      EqAtl,      77,          1,      77009,          9,2,20060629,       0000,     1.9970,   -18.0335,       4971,   352.1,   8.8021,  34.7985,2,-999.0000,9,    95.0,2,   14.07,2,   32.95,2,    0.01,2,    2.12,2,   0.896,2,   0.487,2, -999.00,9,  2218.4,2,  2295.2,2,   8.7641
06MT20060606,      EqAtl,      77,          1,      77010,         10,2,20060629,       0000,     1.9970,   -18.0335,       4971,   302.3,  10.4044,  34.9783,2,-999.0000,9,   104.1,2,   10.87,2,   27.70,2,    0.01,2,    1.86,2,   1.356,2,   0.734,2, -999.00,9,  2202.6,2,  2305.3,2,  10.3683
06MT20060606,      EqAtl,      77,          1,      77011,         11,2,20060629,       0000,     1.9970,   -18.0335,       4971,   282.7,  11.4159,  35.1016,2,-999.0000,9,    89.9,6,    9.90,6,   28.05,6,    0.01,6,    1.82,6,   1.331,2,   0.737,2, -999.00,9,  2207.2,2,  2301.0,2,  11.3800
06MT20060606,      EqAtl,      77,          1,      77012,         12,2,20060629,       0000,     1.9970,   -18.0335,       4971,   241.0,  13.1396,  35.2938,2,-999.0000,9,   100.8,2,    7.25,2,   23.19,2,    0.01,2,    1.58,2,   1.777,2,   0.962,2, -999.00,9,  2193.2,2,  2309.5,2,  13.1061
06MT20060606,      EqAtl,      77,          1,      77013,         13,2,20060629,       0000,     1.9970,   -18.0335,       4971,   202.3,  13.8338,  35.3855,2,-999.0000,9,   115.1,2,    6.22,2,   19.97,2,    0.00,2,    1.39,2,   1.994,2,   1.084,2, -999.00,9,  2180.1,2,  2315.4,2,  13.8047
06MT20060606,      EqAtl,      77,          1,      77014,         14,2,20060629,       0000,     1.9970,   -18.0335,       4971,   161.2,  14.0358,  35.4134,2,-999.0000,9,   112.2,2,    6.33,2,   20.25,2,    0.01,2,    1.39,2,   2.008,6,   1.107,6, -999.00,9,  2182.1,2,  2315.8,2,  14.0124
06MT20060606,      EqAtl,      77,          1,      77015,         15,2,20060629,       0000,     1.9970,   -18.0335,       4971,   122.0,  14.4727,  35.4731,2,-999.0000,9,   111.3,2,    5.80,2,   19.34,2,    0.01,2,    1.34,2,   2.079,2,   1.116,2, -999.00,9,  2179.8,2,  2317.2,2,  14.4546
06MT20060606,      EqAtl,      77,          1,      77016,         16,2,20060629,       0000,     1.9970,   -18.0335,       4971,   101.4,  15.1374,  35.5518,2,-999.0000,9,   101.0,2,    5.56,2,   19.70,2,    0.02,2,    1.35,2,   2.133,2,   1.150,2, -999.00,9,  2184.3,2,  2325.5,2,  15.1219
06MT20060606,      EqAtl,      77,          1,      77017,         17,2,20060629,       0000,     1.9970,   -18.0335,       4971,    80.3,  15.8962,  35.6203,2,-999.0000,9,    92.8,2,    5.08,2,   19.69,2,    0.07,2,    1.30,2,   2.074,2,   1.156,2, -999.00,9,  2187.4,2,  2328.5,2,  15.8835
06MT20060606,      EqAtl,      77,          1,      77018,         18,2,20060629,       0000,     1.9970,   -18.0335,       4971,    59.7,  22.1245,  35.7886,2,-999.0000,9,   157.5,2,    1.42,2,    3.76,2,    0.22,2,    0.36,2,   2.030,6,   1.156,6, -999.00,9,  2120.8,2,  2346.8,2,  22.1126
06MT20060606,      EqAtl,      77,          1,      77019,         19,2,20060629,       0000,     1.9970,   -18.0335,       4971,    38.7,  27.3692,  35.0706,2,-999.0000,9,   200.1,2,    0.11,2,    0.03,2,    0.00,2,    0.00,2,   1.644,2,   1.014,2, -999.00,9,  1964.7,2,  2293.1,2,  27.3602
06MT20060606,      EqAtl,      77,          1,      77020,         20,2,20060629,       0000,     1.9970,   -18.0335,       4971,    21.8,  27.4966,  35.0200,2,-999.0000,9,   200.7,2,    0.50,2,    0.04,2,    0.00,2,    0.01,2,   1.630,2,   1.008,2, -999.00,9,  1957.1,2,  2287.9,2,  27.4915
06MT20060606,      EqAtl,      77,          1,      77021,         21,2,20060629,       0000,     1.9970,   -18.0335,       4971,    11.1,  27.5049,  35.0215,2,  35.0154,2,   200.5,2,    0.53,2,    0.07,2,    0.01,2,    0.02,2,   1.632,2,   1.031,2, -999.00,9,  1957.0,6,  2286.7,2,  27.5023
06MT20060606,      EqAtl,      78,          1,      78001,          1,2,20060630,       0000,     1.9985,   -19.0052,       5001,  1311.3,   4.6072,  34.8756,2,  34.8751,2,  -999.0,9, -999.00,9, -999.00,9, -999.00,9, -999.00,9,-999.000,9,-999.000,9, -999.00,9,  -999.0,9,  -999.0,9,   4.4981
06MT20060606,      EqAtl,      78,          1,      78002,          2,2,20060630,       0000,     1.9985,   -19.0052,       5001,   250.9,  13.1115,  35.2911,2,-999.0000,9,  -999.0,9, -999.00,9, -999.00,9, -999.00,9, -999.00,9,-999.000,9,-999.000,9, -999.00,9,  -999.0,9,  -999.0,9,  13.0766
06MT20060606,      EqAtl,      78,          1,      78003,          3,2,20060630,       0000,     1.9985,   -19.0052,       5001,    99.6,  15.1275,  35.5581,2,-999.0000,9,  -999.0,9, -999.00,9, -999.00,9, -999.00,9, -999.00,9,-999.000,9,-999.000,9, -999.00,9,  -999.0,9,  -999.0,9,  15.1123
06MT20060606,      EqAtl,      78,          1,      78004,          4,2,20060630,       0000,     1.9985,   -19.0052,       5001,    80.0,  15.7140,  35.6226,2,-999.0000,9,  -999.0,9, -999.00,9, -999.00,9, -999.00,9, -999.00,9,-999.000,9,-999.000,9, -999.00,9,  -999.0,9,  -999.0,9,  15.7015
06MT20060606,      EqAtl,      78,          1,      78005,          5,2,20060630,       0000,     1.9985,   -19.0052,       5001,    60.0,  21.7048,  35.8358,2,-999.0000,9,  -999.0,9, -999.00,9, -999.00,9, -999.00,9, -999.00,9,-999.000,9,-999.000,9, -999.00,9,  -999.0,9,  -999.0,9,  21.6930
06MT20060606,      EqAtl,      78,          1,      78006,          6,2,20060630,       0000,     1.9985,   -19.0052,       5001,    37.5,  27.3343,  35.1125,2,-999.0000,9,  -999.0,9, -999.00,9, -999.00,9, -999.00,9, -999.00,9,-999.000,9,-999.000,9, -999.00,9,  -999.0,9,  -999.0,9,  27.3256
06MT20060606,      EqAtl,      78,          1,      78007,          7,2,20060630,       0000,     1.9985,   -19.0052,       5001,    27.9,  27.4073,  35.0696,2,-999.0000,9,  -999.0,9, -999.00,9, -999.00,9, -999.00,9, -999.00,9,-999.000,9,-999.000,9, -999.00,9,  -999.0,9,  -999.0,9,  27.4008
06MT20060606,      EqAtl,      78,          1,      78008,          8,2,20060630,       0000,     1.9985,   -19.0052,       5001,    11.2,  27.4150,  35.0633,2,  35.0642,2,  -999.0,9, -999.00,9, -999.00,9, -999.00,9, -999.00,9,-999.000,9,-999.000,9, -999.00,9,  -999.0,9,  -999.0,9,  27.4124
06MT20060606,      EqAtl,      79,          1,      79001,          1,2,20060630,       0000,     1.9932,   -20.0400,       4663,  1313.5,   4.5340,  34.9124,2,-999.0000,9,   201.0,6,   19.61,6,   24.68,6,    0.01,6,    1.73,6,   0.114,6,   0.063,6, -999.00,9,  2191.6,6,  2306.6,6,   4.4253
06MT20060606,      EqAtl,      79,          1,      79002,          2,2,20060630,       0000,     1.9932,   -20.0400,       4663,  1106.0,   4.6135,  34.7850,2,-999.0000,9,   173.1,2,   23.97,2,   29.67,2,    0.01,2,    2.03,2,   0.047,2,   0.031,2, -999.00,9,  2209.3,2,  2303.9,2,   4.5232
06MT20060606,      EqAtl,      79,          1,      79003,          3,2,20060630,       0000,     1.9932,   -20.0400,       4663,   899.5,   4.7015,  34.6001,2,  34.6079,2,   148.6,2,   28.01,2,   34.51,2,    0.01,2,    2.37,2,   0.049,2,   0.031,2, -999.00,9,  2220.8,2,  2299.8,2,   4.6291
06MT20060606,      EqAtl,      79,          1,      79004,          4,2,20060630,       0000,     1.9932,   -20.0400,       4663,   700.8,   5.5453,  34.5466,2,  34.5470,2,   125.9,2,   25.37,2,   36.18,2,    0.01,2,    2.45,2,   0.149,2,   0.084,2, -999.00,9,  2225.6,2,  2292.7,2,   5.4855
06MT20060606,      EqAtl,      79,          1,      79005,          5,2,20060630,       0000,     1.9932,   -20.0400,       4663,   586.8,   6.4375,  34.5998,2,-999.0000,9,   122.4,2,   20.49,2,   35.06,2,    0.01,2,    2.35,2,   0.436,2,   0.215,2, -999.00,9,  2220.1,2,  2292.3,2,   6.3838
06MT20060606,      EqAtl,      79,          1,      79006,          6,2,20060630,       0000,     1.9932,   -20.0400,       4663,   502.3,   7.1690,  34.6617,2,-999.0000,9,   112.8,2,   17.91,2,   34.20,2,    0.01,2,    2.26,2,   0.544,2,   0.275,2, -999.00,9,  2219.6,2,  2291.6,2,   7.1205
06MT20060606,      EqAtl,      79,          1,      79007,          7,2,20060630,       0000,     1.9932,   -20.0400,       4663,   449.2,   7.7559,  34.7089,2,-999.0000,9,   107.8,2,   16.03,2,   32.98,2,    0.01,2,    2.20,2,   0.703,2,   0.367,2, -999.00,9,  2218.1,2,  2290.8,2,   7.7107
06MT20060606,      EqAtl,      79,          1,      79008,          8,2,20060630,       0000,     1.9932,   -20.0400,       4663,   399.9,   8.6251,  34.7962,2,-999.0000,9,   102.6,2,   14.67,2,   32.15,2,    0.01,2,    2.10,2,   0.880,2,   0.448,2, -999.00,9,  2217.4,2,  2293.7,2,   8.5824
06MT20060606,      EqAtl,      79,          1,      79009,          9,2,20060630,       0000,     1.9932,   -20.0400,       4663,   349.7,   9.9249,  34.9357,2,-999.0000,9,    83.2,2,   12.78,2,   31.26,2,    0.01,2,    2.04,2,   0.967,6,   0.518,6, -999.00,9,  2220.9,2,  2297.2,2,   9.8842
06MT20060606,      EqAtl,      79,          1,      79010,         10,2,20060630,       0000,     1.9932,   -20.0400,       4663,   301.7,  11.5620,  35.1194,2,-999.0000,9,    85.2,2,    9.71,2,   27.40,2,    0.01,2,    1.81,2,   1.327,2,   0.725,2, -999.00,9,  2210.7,2,  2305.9,2,  11.5234
06MT20060606,      EqAtl,      79,          1,      79011,         11,2,20060630,       0000,     1.9932,   -20.0400,       4663,   282.8,  12.3313,  35.1971,2,-999.0000,9,    98.4,6,    8.20,6,   24.56,6,    0.00,6,    1.64,6,   1.631,2,   0.875,2,    0.39,3,  2199.4,2,  2309.8,2,  12.2935
06MT20060606,      EqAtl,      79,          1,      79012,         12,2,20060630,       0000,     1.9932,   -20.0400,       4663,   241.9,  13.2628,  35.3096,2,-999.0000,9,    97.2,2,    6.94,2,   23.22,2,    0.00,2,    1.54,2,   1.772,2,   0.965,2,    0.39,3,  2195.6,2,  2314.2,2,  13.2289
06MT20060606,      EqAtl,      79,          1,      79013,         13,2,20060630,       0000,     1.9932,   -20.0400,       4663,   201.8,  14.0177,  35.4123,2,-999.0000,9,   111.4,2,    6.10,2,   20.65,2,    0.01,2,    1.41,2,   1.963,6,   1.066,6,    0.56,3,  2183.9,2,  2319.0,2,  13.9884
06MT20060606,      EqAtl,      79,          1,      79014,         14,2,20060630,       0000,     1.9932,   -20.0400,       4663,   161.4,  14.2671,  35.4467,2,-999.0000,9,   119.0,2,    5.79,2,   19.34,2,    0.01,2,    1.32,2,   2.064,2,   1.123,2,    0.54,3,  2177.7,2,  2323.5,2,  14.2434
06MT20060606,      EqAtl,      79,          1,      79015,         15,2,20060630,       0000,     1.9932,   -20.0400,       4663,   121.1,  14.6714,  35.4982,2,-999.0000,9,   107.7,2,    5.62,2,   20.07,2,    0.02,2,    1.34,2,   2.029,2,   1.114,2,    0.57,3,  2184.0,2,  2325.1,2,  14.6533
06MT20060606,      EqAtl,      79,          1,      79016,         16,2,20060630,       0000,     1.9932,   -20.0400,       4663,   101.7,  15.0929,  35.5482,2,-999.0000,9,   102.5,2,    5.53,2,   19.49,2,    0.03,2,    1.32,2,   2.083,2,   1.125,2,    0.89,3,  2185.8,2,  2325.0,2,  15.0774
06MT20060606,      EqAtl,      79,          1,      79017,         17,2,20060630,       0000,     1.9932,   -20.0400,       4663,    80.7,  15.5595,  35.5884,2,-999.0000,9,    93.2,2,    4.62,2,   19.54,2,    0.07,2,    1.26,2,   2.003,6,   1.124,6,    0.59,3,  2190.7,2,  2328.6,2,  15.5470
06MT20060606,      EqAtl,      79,          1,      79018,         18,2,20060630,       0000,     1.9932,   -20.0400,       4663,    61.0,  25.4097,  35.8719,2,-999.0000,9,   183.8,2,    0.67,2,    1.12,2,    0.10,2,    0.12,2,   1.962,2,   1.051,2,    0.86,3,  2057.4,2,  2347.5,2,  25.3963
06MT20060606,      EqAtl,      79,          1,      79019,         19,2,20060630,       0000,     1.9932,   -20.0400,       4663,    40.6,  26.0895,  35.5437,2,-999.0000,9,   195.4,2,    0.39,2,    0.05,2,    0.02,2,    0.04,2,   1.698,2,   1.024,2,    0.92,3,  2015.4,2,  2325.5,2,  26.0804
06MT20060606,      EqAtl,      79,          1,      79020,         20,2,20060630,       0000,     1.9932,   -20.0400,       4663,    20.6,  26.8762,  35.1718,2,-999.0000,9,   197.7,2,    0.08,2,    0.01,2,    0.01,2,    0.01,2,   1.638,2,   1.017,2, -999.00,9,  1976.1,2,  2299.4,2,  26.8715
06MT20060606,      EqAtl,      79,          1,      79021,         21,2,20060630,       0000,     1.9932,   -20.0400,       4663,    12.1,  27.0336,  35.0860,2,  35.0842,2,   199.1,2,    0.26,2,    0.03,2,    0.00,2,    0.00,2,   1.598,2,   1.005,2,    0.94,3,  1965.8,6,  2295.3,6,  27.0308