BOTTLE,20211025CCHSIORKP
EXPOCODE,SECT_ID,STNNBR,CASTNO,SAMPNO,BTLNBR,BTLNBR_FLAG_W,DATE,TIME,LATITUDE,LONGITUDE,DEPTH,CTDPRS,CTDTMP,CTDSAL,CTDSAL_FLAG_W,SALNTY,SALNTY_FLAG_W,OXYGEN,OXYGEN_FLAG_W,SILCAT,SILCAT_FLAG_W,NITRAT,NITRAT_FLAG_W,NITRIT,NITRIT_FLAG_W,PHSPHT,PHSPHT_FLAG_W,CFC-11,CFC-11_FLAG_W,CFC-12,CFC-12_FLAG_W,SF6,SF6_FLAG_W,TCARBN,TCARBN_FLAG_W,ALKALI,ALKALI_FLAG_W,THETA
,,,,,,,,,,,METERS,DBAR,ITS-90,PSS-78,,PSS-78,,UMOL/KG,,UMOL/KG,,UMOL/KG,,UMOL/KG,,UMOL/KG,,PMOL/KG,,PMOL/KG,,FMOL/KG,,UMOL/KG,,UMOL/KG,,DEG C
06MT20060606,      EqAtl,      27,          1,      27001,          1,2,20060611,       0000,     3.9983,   -34.9988,       3605,  1304.2,   4.6196,  34.9038,2,  34.9036,2,   197.0,6,   19.80,6,   25.88,6,    0.00,6,    1.76,6,   0.118,2,   0.058,2, -999.00,9,  2191.1,2,  2311.0,6,   4.5110
06MT20060606,      EqAtl,      27,          1,      27002,          2,2,20060611,       0000,     3.9983,   -34.9988,       3605,  1106.4,   4.6621,  34.7730,2,-999.0000,9,   169.5,2,   23.66,2,   30.17,2,    0.00,2,    2.05,2,   0.042,2,   0.023,2, -999.00,9,  2208.0,2,  2302.0,2,   4.5714
06MT20060606,      EqAtl,      27,          1,      27003,          3,2,20060611,       0000,     3.9983,   -34.9988,       3605,   905.2,   4.7728,  34.6007,2,-999.0000,9,   150.1,2,   27.06,2,   34.64,2,    0.00,2,    2.32,2,   0.066,6,   0.040,6, -999.00,9,  2217.8,2,  2298.9,2,   4.6994
06MT20060606,      EqAtl,      27,          1,      27004,          4,2,20060611,       0000,     3.9983,   -34.9988,       3605,   702.8,   5.4811,  34.5427,2,  34.5437,2,   132.2,2,   24.80,2,   35.91,2,    0.00,2,    2.41,2,   0.194,2,   0.110,2, -999.00,9,  2222.1,2,  2291.0,2,   5.4214
06MT20060606,      EqAtl,      27,          1,      27005,          5,2,20060611,       0000,     3.9983,   -34.9988,       3605,   503.6,   7.6115,  34.7089,2,-999.0000,9,   104.8,2,   17.23,2,   34.11,2,    0.00,2,    2.21,2,   0.586,2,   0.300,2, -999.00,9,  2220.9,2,  2291.0,2,   7.5612
06MT20060606,      EqAtl,      27,          1,      27006,          6,2,20060611,       0000,     3.9983,   -34.9988,       3605,   303.2,  11.3880,  35.0647,2,  35.0638,2,   144.8,2,    8.29,2,   21.43,2,    0.01,2,    1.47,2,   1.969,2,   1.080,2, -999.00,9,  2171.4,2,  2305.4,2,  11.3496
06MT20060606,      EqAtl,      27,          1,      27007,          7,2,20060611,       0000,     3.9983,   -34.9988,       3605,   251.5,  11.8891,  35.1271,2,-999.0000,9,   157.9,2,    7.25,2,   18.89,2,    0.01,2,    1.32,2,   2.172,2,   1.173,2, -999.00,9,  2159.3,2,  2309.0,2,  11.8564
06MT20060606,      EqAtl,      27,          1,      27008,          8,2,20060611,       0000,     3.9983,   -34.9988,       3605,   203.1,  12.3342,  35.1863,2,-999.0000,9,   156.4,2,    6.80,2,   17.99,2,    0.01,2,    1.29,2,   2.287,2,   1.197,2, -999.00,9,  2158.7,2,  2309.5,2,  12.3072
06MT20060606,      EqAtl,      27,          1,      27009,          9,2,20060611,       0000,     3.9983,   -34.9988,       3605,   161.4,  12.5311,  35.2124,2,-999.0000,9,   166.9,2,    6.20,2,   16.61,2,    0.01,2,    1.19,2,   2.312,2,   1.249,2, -999.00,9,  2150.9,2,  2312.8,2,  12.5094
06MT20060606,      EqAtl,      27,          1,      27010,         10,2,20060611,       0000,     3.9983,   -34.9988,       3605,   122.0,  13.3084,  35.3282,2,-999.0000,9,   162.6,2,    5.70,2,   15.68,2,    0.02,2,    1.14,2,   2.284,6,   1.257,6, -999.00,9,  2150.9,2,  2318.5,2,  13.2913
06MT20060606,      EqAtl,      27,          1,      27011,         11,2,20060611,       0000,     3.9983,   -34.9988,       3605,   100.6,  13.7300,  35.3881,2,-999.0000,9,   143.2,2,    5.60,2,   17.11,2,    0.02,2,    1.19,2,   2.126,2,   1.217,2, -999.00,9,  2161.8,2,  2321.1,2,  13.7156
06MT20060606,      EqAtl,      27,          1,      27012,         12,2,20060611,       0000,     3.9983,   -34.9988,       3605,   101.0,  13.7160,  35.3866,2,-999.0000,9,  -999.0,9, -999.00,9, -999.00,9, -999.00,9, -999.00,9,-999.000,9,-999.000,9, -999.00,9,  -999.0,9,  -999.0,9,  13.7016
06MT20060606,      EqAtl,      27,          1,      27013,         13,2,20060611,       0000,     3.9983,   -34.9988,       3605,    81.2,  15.9239,  35.6638,2,-999.0000,9,   126.0,2,    4.39,2,   15.85,2,    0.05,2,    1.04,2,   2.038,2,   1.142,2, -999.00,9,  2166.1,2,  2332.7,2,  15.9111
06MT20060606,      EqAtl,      27,          1,      27014,         14,2,20060611,       0000,     3.9983,   -34.9988,       3605,    61.4,  22.2038,  36.1517,2,-999.0000,9,   159.0,2,    1.70,2,    3.62,2,    0.30,2,    0.27,2,   1.860,6,   1.126,6, -999.00,9,  2110.1,2,  2363.5,2,  22.1915
06MT20060606,      EqAtl,      27,          1,      27015,         15,2,20060611,       0000,     3.9983,   -34.9988,       3605,    61.4,  22.2190,  36.1537,2,-999.0000,9,  -999.0,9, -999.00,9, -999.00,9, -999.00,9, -999.00,9,-999.000,9,-999.000,9, -999.00,9,  -999.0,9,  -999.0,9,  22.2067
06MT20060606,      EqAtl,      27,          1,      27016,         16,2,20060611,       0000,     3.9983,   -34.9988,       3605,    41.5,  28.0538,  35.8430,2,-999.0000,9,   205.9,2,    0.26,2,    0.02,2,    0.01,2,    0.00,2,   2.076,2,   1.015,2, -999.00,9,  1997.6,2,  2346.4,2,  28.0440
06MT20060606,      EqAtl,      27,          1,      27017,         17,2,20060611,       0000,     3.9983,   -34.9988,       3605,    41.9,  28.0275,  35.8595,2,-999.0000,9,  -999.0,9, -999.00,9, -999.00,9, -999.00,9, -999.00,9,-999.000,9,-999.000,9, -999.00,9,  -999.0,9,  -999.0,9,  28.0176
06MT20060606,      EqAtl,      27,          1,      27018,         18,2,20060611,       0000,     3.9983,   -34.9988,       3605,    21.3,  28.2105,  35.5198,2,  35.5225,2,   203.8,2,    0.39,2,    0.03,2,    0.00,2,    0.01,2,   1.883,2,   0.972,2, -999.00,9,  -999.0,9,  -999.0,9,  28.2054
06MT20060606,      EqAtl,      27,          1,      27019,         19,2,20060611,       0000,     3.9983,   -34.9988,       3605,    21.8,  28.2103,  35.5196,2,-999.0000,9,  -999.0,9, -999.00,9, -999.00,9, -999.00,9, -999.00,9,-999.000,9,-999.000,9, -999.00,9,  -999.0,9,  -999.0,9,  28.2051
06MT20060606,      EqAtl,      27,          1,      27020,         20,2,20060611,       0000,     3.9983,   -34.9988,       3605,    11.6,  28.2045,  35.5201,2,-999.0000,9,   202.4,6,    0.42,6,    0.04,6,    0.01,6,    0.02,6,   1.570,6,   0.998,6, -999.00,9,  1976.5,6,  2318.6,2,  28.2017
06MT20060606,      EqAtl,      27,          1,      27021,         21,2,20060611,       0000,     3.9983,   -34.9988,       3605,    12.4,  28.2087,  35.5200,2,-999.0000,9,  -999.0,9, -999.00,9, -999.00,9, -999.00,9, -999.00,9,-999.000,9,-999.000,9, -999.00,9,  -999.0,9,  -999.0,9,  28.2058
06MT20060606,      EqAtl,      28,          1,      28001,          1,2,20060611,       0000,     4.4998,   -35.0013,       3874,  1315.5,   4.5403,  34.9395,2,  34.9392,2,  -999.0,9, -999.00,9, -999.00,9, -999.00,9, -999.00,9,-999.000,9,-999.000,9, -999.00,9,  -999.0,9,  -999.0,9,   4.4313
06MT20060606,      EqAtl,      28,          1,      28002,          2,2,20060611,       0000,     4.4998,   -35.0013,       3874,  1098.7,   4.8502,  34.7864,2,-999.0000,9,  -999.0,9, -999.00,9, -999.00,9, -999.00,9, -999.00,9,-999.000,9,-999.000,9, -999.00,9,  -999.0,9,  -999.0,9,   4.7586
06MT20060606,      EqAtl,      28,          1,      28003,          3,2,20060611,       0000,     4.4998,   -35.0013,       3874,   898.1,   4.9390,  34.5899,2,  34.5906,2,  -999.0,9, -999.00,9, -999.00,9, -999.00,9, -999.00,9,-999.000,9,-999.000,9, -999.00,9,  -999.0,9,  -999.0,9,   4.8651
06MT20060606,      EqAtl,      28,          1,      28004,          4,2,20060611,       0000,     4.4998,   -35.0013,       3874,   697.9,   5.6091,  34.5588,2,-999.0000,9,  -999.0,9, -999.00,9, -999.00,9, -999.00,9, -999.00,9,-999.000,9,-999.000,9, -999.00,9,  -999.0,9,  -999.0,9,   5.5492
06MT20060606,      EqAtl,      28,          1,      28005,          5,2,20060611,       0000,     4.4998,   -35.0013,       3874,   498.2,   7.7966,  34.7340,2,  34.7355,2,  -999.0,9, -999.00,9, -999.00,9, -999.00,9, -999.00,9,-999.000,9,-999.000,9, -999.00,9,  -999.0,9,  -999.0,9,   7.7461
06MT20060606,      EqAtl,      28,          1,      28006,          6,2,20060611,       0000,     4.4998,   -35.0013,       3874,   299.3,  11.0650,  35.0378,2,  35.0360,2,  -999.0,9, -999.00,9, -999.00,9, -999.00,9, -999.00,9,-999.000,9,-999.000,9, -999.00,9,  -999.0,9,  -999.0,9,  11.0278
06MT20060606,      EqAtl,      28,          1,      28007,          7,2,20060611,       0000,     4.4998,   -35.0013,       3874,    11.6,  28.3264,  35.4756,2,  35.4758,2,  -999.0,9, -999.00,9, -999.00,9, -999.00,9, -999.00,9,-999.000,9,-999.000,9, -999.00,9,  -999.0,9,  -999.0,9,  28.3236
06MT20060606,      EqAtl,      29,          1,      29001,          1,2,20060611,       0000,     4.9520,   -35.0003,       3829,  1312.7,   4.6211,  34.9369,2,  34.9390,2,   204.6,6,   19.36,6,   24.69,6,    0.01,6,    1.68,6,   0.140,6,   0.080,6, -999.00,9,  2186.8,2,  2309.1,6,   4.5116
06MT20060606,      EqAtl,      29,          1,      29002,          2,2,20060611,       0000,     4.9520,   -35.0003,       3829,  1108.2,   4.7884,  34.7816,2,-999.0000,9,   159.5,2,   25.16,2,   31.33,2,    0.00,2,    2.13,2,   0.025,2,   0.020,2, -999.00,9,  2211.2,2,  2307.0,2,   4.6965
06MT20060606,      EqAtl,      29,          1,      29003,          3,2,20060611,       0000,     4.9520,   -35.0003,       3829,   905.1,   5.1746,  34.6340,2,  34.6378,2,   132.1,2,   27.22,2,   36.12,2,    0.00,2,    2.41,2,   0.038,2,   0.030,2, -999.00,9,  2224.6,2,  2299.5,2,   5.0984
06MT20060606,      EqAtl,      29,          1,      29004,          4,2,20060611,       0000,     4.9520,   -35.0003,       3829,   706.6,   6.2178,  34.6279,2,-999.0000,9,   114.5,2,   22.90,2,   36.35,2,    0.01,2,    2.40,2,   0.211,2,   0.110,2, -999.00,9,  2224.1,2,  2293.5,2,   6.1537
06MT20060606,      EqAtl,      29,          1,      29005,          5,2,20060611,       0000,     4.9520,   -35.0003,       3829,   503.7,   8.1129,  34.7621,2,  34.7604,2,   100.6,2,   16.76,2,   33.86,2,    0.01,2,    2.18,2,   0.649,2,   0.340,2, -999.00,9,  2218.9,2,  2295.6,2,   8.0607
06MT20060606,      EqAtl,      29,          1,      29006,          6,2,20060611,       0000,     4.9520,   -35.0003,       3829,   302.7,  10.6708,  34.9882,2,-999.0000,9,   144.8,2,    9.86,2,   22.88,2,    0.01,2,    1.57,2,   1.882,2,   1.020,2, -999.00,9,  2175.8,2,  2302.4,2,  10.6340
06MT20060606,      EqAtl,      29,          1,      29007,          7,2,20060611,       0000,     4.9520,   -35.0003,       3829,   249.1,  11.2225,  35.0516,2,-999.0000,9,   151.1,2,    8.78,2,   20.95,2,    0.01,2,    1.45,2,   2.049,6,   1.100,6, -999.00,9,  2167.7,2,  2304.3,2,  11.1913
06MT20060606,      EqAtl,      29,          1,      29008,          8,2,20060611,       0000,     4.9520,   -35.0003,       3829,   196.0,  12.0472,  35.1563,2,-999.0000,9,  -999.0,9, -999.00,9, -999.00,9, -999.00,9, -999.00,9,-999.000,9,-999.000,9, -999.00,9,  -999.0,9,  -999.0,9,  12.0215
06MT20060606,      EqAtl,      29,          1,      29009,          9,2,20060611,       0000,     4.9520,   -35.0003,       3829,   197.1,  12.0457,  35.1560,2,-999.0000,9,   155.4,2,    7.47,2,   18.72,2,    0.02,2,    1.32,2,   2.138,2,   1.170,2, -999.00,9,  2161.2,2,  2314.7,2,  12.0199
06MT20060606,      EqAtl,      29,          1,      29010,         10,2,20060611,       0000,     4.9520,   -35.0003,       3829,   161.3,  13.0551,  35.3058,2,-999.0000,9,   151.1,2,    6.66,2,   17.61,2,    0.03,2,    1.22,2,   2.189,2,   1.200,2, -999.00,9,  2159.8,2,  2317.7,2,  13.0328
06MT20060606,      EqAtl,      29,          1,      29011,         11,2,20060611,       0000,     4.9520,   -35.0003,       3829,   121.3,  15.3667,  35.5961,2,-999.0000,9,   138.2,2,    5.20,2,   15.95,2,    0.09,2,    1.08,2,   2.094,2,   1.170,2, -999.00,9,  2160.6,2,  2331.3,2,  15.3480
06MT20060606,      EqAtl,      29,          1,      29012,         12,2,20060611,       0000,     4.9520,   -35.0003,       3829,   101.3,  16.3302,  35.7043,2,-999.0000,9,   134.9,2,    4.86,2,   14.74,2,    0.12,2,    0.97,2,   2.059,2,   1.180,2, -999.00,9,  2158.2,2,  2341.7,2,  16.3139
06MT20060606,      EqAtl,      29,          1,      29013,         13,2,20060611,       0000,     4.9520,   -35.0003,       3829,    81.0,  20.4731,  36.0454,2,-999.0000,9,   140.2,2,    2.70,2,    8.07,2,    0.26,2,    0.54,2,   1.939,2,   1.160,2, -999.00,9,  2134.4,2,  2360.0,2,  20.4578
06MT20060606,      EqAtl,      29,          1,      29014,         14,2,20060611,       0000,     4.9520,   -35.0003,       3829,    60.9,  23.7419,  36.1280,2,-999.0000,9,   169.9,2,    1.40,2,    1.01,2,    0.22,2,    0.12,2,   1.815,2,   1.120,2, -999.00,9,  2087.2,2,  2364.3,2,  23.7291
06MT20060606,      EqAtl,      29,          1,      29015,         15,2,20060611,       0000,     4.9520,   -35.0003,       3829,    59.7,  23.7906,  36.1287,2,-999.0000,9,  -999.0,9, -999.00,9, -999.00,9, -999.00,9, -999.00,9,-999.000,9,-999.000,9, -999.00,9,  -999.0,9,  -999.0,9,  23.7781
06MT20060606,      EqAtl,      29,          1,      29016,         16,2,20060611,       0000,     4.9520,   -35.0003,       3829,    40.5,  28.2775,  35.7865,2,-999.0000,9,   203.5,2,    0.29,2,    0.00,2,    0.01,2,    0.00,2,   1.777,2,   1.030,2, -999.00,9,  1991.0,2,  2335.8,2,  28.2679
06MT20060606,      EqAtl,      29,          1,      29017,         17,2,20060611,       0000,     4.9520,   -35.0003,       3829,    40.0,  28.3195,  35.7485,2,-999.0000,9,  -999.0,9, -999.00,9, -999.00,9, -999.00,9, -999.00,9,-999.000,9,-999.000,9, -999.00,9,  -999.0,9,  -999.0,9,  28.3100
06MT20060606,      EqAtl,      29,          1,      29018,         18,2,20060611,       0000,     4.9520,   -35.0003,       3829,    20.0,  28.2703,  35.3347,2,-999.0000,9,   200.2,2,    0.51,2,    0.00,2,    0.01,2,    0.01,2,   1.742,2,   1.020,2, -999.00,9,  -999.0,9,  -999.0,9,  28.2656
06MT20060606,      EqAtl,      29,          1,      29019,         19,2,20060611,       0000,     4.9520,   -35.0003,       3829,    20.8,  28.3364,  35.3878,2,-999.0000,9,  -999.0,9, -999.00,9, -999.00,9, -999.00,9, -999.00,9,-999.000,9,-999.000,9, -999.00,9,  -999.0,9,  -999.0,9,  28.3315
06MT20060606,      EqAtl,      29,          1,      29020,         20,2,20060611,       0000,     4.9520,   -35.0003,       3829,    12.6,  28.2398,  35.3072,2,-999.0000,9,   200.0,6,    0.50,6,    0.03,6,    0.01,6,    0.01,6,   1.565,2,   1.000,2, -999.00,9,  1964.2,6,  2312.3,2,  28.2368
06MT20060606,      EqAtl,      29,          1,      29021,         21,2,20060611,       0000,     4.9520,   -35.0003,       3829,    12.8,  28.2369,  35.3065,2,-999.0000,9,  -999.0,9, -999.00,9, -999.00,9, -999.00,9, -999.00,9,-999.000,9,-999.000,9, -999.00,9,  -999.0,9,  -999.0,9,  28.2339