BOTTLE,20211025CCHSIORKP
EXPOCODE,SECT_ID,STNNBR,CASTNO,SAMPNO,BTLNBR,BTLNBR_FLAG_W,DATE,TIME,LATITUDE,LONGITUDE,DEPTH,CTDPRS,CTDTMP,CTDSAL,CTDSAL_FLAG_W,SALNTY,SALNTY_FLAG_W,OXYGEN,OXYGEN_FLAG_W,SILCAT,SILCAT_FLAG_W,NITRAT,NITRAT_FLAG_W,NITRIT,NITRIT_FLAG_W,PHSPHT,PHSPHT_FLAG_W,CFC-11,CFC-11_FLAG_W,CFC-12,CFC-12_FLAG_W,SF6,SF6_FLAG_W,TCARBN,TCARBN_FLAG_W,ALKALI,ALKALI_FLAG_W,THETA
,,,,,,,,,,,METERS,DBAR,ITS-90,PSS-78,,PSS-78,,UMOL/KG,,UMOL/KG,,UMOL/KG,,UMOL/KG,,UMOL/KG,,PMOL/KG,,PMOL/KG,,FMOL/KG,,UMOL/KG,,UMOL/KG,,DEG C
06MT20060606,      EqAtl,      91,          1,      91001,          1,2,20060702,       0000,     4.5063,   -22.9995,       4070,  4060.1,   2.3187,  34.8845,2,  34.8837,2,   243.3,6,   44.91,6,   22.23,6,    0.00,6,    1.55,6,   0.016,2,   0.009,2, -999.00,9,  2200.8,6,  2337.3,6,   1.9687
06MT20060606,      EqAtl,      91,          1,      91002,          2,2,20060702,       0000,     4.5063,   -22.9995,       4070,  3955.7,   2.3605,  34.8889,2,-999.0000,9,   244.0,2,   42.87,2,   22.03,2,    0.00,2,    1.53,2,   0.013,2,   0.008,2, -999.00,9,  2197.9,2,  2336.9,2,   2.0212
06MT20060606,      EqAtl,      91,          1,      91003,          3,2,20060702,       0000,     4.5063,   -22.9995,       4070,  3497.0,   2.5202,  34.9040,2,  34.9048,2,   245.7,2,   38.04,2,   21.27,2,    0.00,2,    1.50,2,-999.000,9,-999.000,9, -999.00,9,  -999.0,9,  -999.0,9,   2.2276
06MT20060606,      EqAtl,      91,          1,      91004,          4,2,20060702,       0000,     4.5063,   -22.9995,       4070,  2996.4,   2.7139,  34.9185,2,-999.0000,9,   244.3,2,   34.28,2,   21.16,2,    0.00,2,    1.48,2,   0.005,2,   0.009,2, -999.00,9,  2184.9,2,  2324.4,2,   2.4697
06MT20060606,      EqAtl,      91,          1,      91005,          5,2,20060702,       0000,     4.5063,   -22.9995,       4070,  2596.8,   2.9753,  34.9342,2,  34.9337,2,   243.6,2,   30.00,2,   20.93,2,    0.00,2,    1.46,2,   0.019,2,   0.008,2, -999.00,9,  2180.6,2,  2314.7,2,   2.7662
06MT20060606,      EqAtl,      91,          1,      91006,          6,2,20060702,       0000,     4.5063,   -22.9995,       4070,  2196.8,   3.3857,  34.9540,2,-999.0000,9,   243.0,2,   29.37,2,   20.85,2,    0.00,2,    1.46,2,   0.017,2,   0.010,2, -999.00,9,  2173.5,2,  2311.0,2,   3.2086
06MT20060606,      EqAtl,      91,          1,      91007,          7,2,20060702,       0000,     4.5063,   -22.9995,       4070,  1797.3,   3.8902,  34.9698,2,  34.9697,2,   239.2,2,   23.02,2,   20.41,2,    0.01,2,    1.44,2,   0.062,6,   0.042,6, -999.00,9,  2171.7,2,  2307.4,2,   3.7437
06MT20060606,      EqAtl,      91,          1,      91008,          8,2,20060702,       0000,     4.5063,   -22.9995,       4070,  1398.2,   4.4535,  34.9328,2,-999.0000,9,   208.2,2,   18.24,2,   20.49,2,    0.01,2,    1.45,2,   0.124,2,   0.056,2, -999.00,9,  2185.9,2,  2306.7,2,   4.3378
06MT20060606,      EqAtl,      91,          1,      91009,          9,2,20060702,       0000,     4.5063,   -22.9995,       4070,  1197.1,   4.6547,  34.8635,2,  34.8643,2,   185.0,2,   22.21,2,   27.28,2,    0.00,2,    1.90,2,   0.070,2,   0.054,2, -999.00,9,  2199.0,2,  2300.9,2,   4.5557
06MT20060606,      EqAtl,      91,          1,      91010,         10,2,20060702,       0000,     4.5063,   -22.9995,       4070,   998.2,   4.8593,  34.6983,2,-999.0000,9,   141.7,2,   27.16,2,   33.84,2,    0.01,2,    2.32,2,   0.009,2,   0.009,2, -999.00,9,  2221.8,2,  2295.2,2,   4.7769
06MT20060606,      EqAtl,      91,          1,      91011,         11,2,20060702,       0000,     4.5063,   -22.9995,       4070,   796.9,   5.5209,  34.5983,2,-999.0000,9,   125.7,6,   25.52,6,   36.47,6,    0.01,6,    2.46,6,   0.126,6,   0.079,6, -999.00,9,  2227.1,2,  2294.8,2,   5.4524
06MT20060606,      EqAtl,      91,          1,      91012,         12,2,20060702,       0000,     4.5063,   -22.9995,       4070,   598.4,   6.8966,  34.6650,2,-999.0000,9,   101.6,2,   20.20,2,   36.11,2,    0.01,2,    2.36,2,   0.266,2,   0.144,2, -999.00,9,  2228.4,2,  2290.4,2,   6.8397
06MT20060606,      EqAtl,      91,          1,      91013,         13,2,20060702,       0000,     4.5063,   -22.9995,       4070,   399.3,   9.2063,  34.8634,2,-999.0000,9,    91.3,2,   13.65,2,   32.11,2,    0.01,2,    2.02,2,   0.921,2,   0.465,2, -999.00,9,  2220.0,2,  2296.2,2,   9.1619
06MT20060606,      EqAtl,      91,          1,      91014,         14,2,20060702,       0000,     4.5063,   -22.9995,       4070,   301.2,  11.3018,  35.0969,2,-999.0000,9,    78.1,2,   10.31,2,   28.96,2,    0.01,2,    1.80,2,   1.238,2,   0.660,2, -999.00,9,  2208.2,2,  2304.1,2,  11.2638
06MT20060606,      EqAtl,      91,          1,      91015,         15,2,20060702,       0000,     4.5063,   -22.9995,       4070,   119.6,  14.9493,  35.5277,2,-999.0000,9,   136.8,2,    4.82,2,   15.92,2,    0.02,2,    1.04,2,   2.244,6,   1.210,6, -999.00,9,  2161.0,2,  2327.7,2,  14.9312
06MT20060606,      EqAtl,      91,          1,      91016,         16,2,20060702,       0000,     4.5063,   -22.9995,       4070,    81.6,  23.0498,  35.9780,2,-999.0000,9,   162.6,2,    1.19,2,    2.72,2,    0.10,2,    0.17,2,   1.925,6,   1.086,6, -999.00,9,  2085.6,2,  2353.5,2,  23.0331
06MT20060606,      EqAtl,      91,          1,      91017,         17,2,20060702,       0000,     4.5063,   -22.9995,       4070,    40.6,  28.2326,  35.5917,2,-999.0000,9,   201.6,2,    0.00,2,    0.01,2,    0.02,2,    0.00,2,   1.601,2,   0.995,2, -999.00,9,  1973.2,2,  2325.6,2,  28.2230
06MT20060606,      EqAtl,      91,          1,      91018,         18,2,20060702,       0000,     4.5063,   -22.9995,       4070,    10.9,  28.3022,  35.1541,2,-999.0000,9,   200.7,2,    0.41,2,    0.05,2,    0.02,2,    0.01,2,   1.863,2,   0.999,2, -999.00,9,  1948.2,6,  2296.3,6,  28.2996
06MT20060606,      EqAtl,      92,          1,      92001,          1,2,20060703,       0000,     5.0098,   -23.0057,       4119,  1311.7,   4.5130,  34.9226,2,  34.9221,2,  -999.0,9, -999.00,9, -999.00,9, -999.00,9, -999.00,9,-999.000,9,-999.000,9, -999.00,9,  -999.0,9,  -999.0,9,   4.4047
06MT20060606,      EqAtl,      92,          1,      92002,          2,2,20060703,       0000,     5.0098,   -23.0057,       4119,   997.7,   4.8346,  34.7011,2,-999.0000,9,  -999.0,9, -999.00,9, -999.00,9, -999.00,9, -999.00,9,-999.000,9,-999.000,9, -999.00,9,  -999.0,9,  -999.0,9,   4.7524
06MT20060606,      EqAtl,      92,          1,      92003,          3,2,20060703,       0000,     5.0098,   -23.0057,       4119,   897.2,   5.1077,  34.6261,2,-999.0000,9,  -999.0,9, -999.00,9, -999.00,9, -999.00,9, -999.00,9,-999.000,9,-999.000,9, -999.00,9,  -999.0,9,  -999.0,9,   5.0327
06MT20060606,      EqAtl,      92,          1,      92004,          4,2,20060703,       0000,     5.0098,   -23.0057,       4119,   697.6,   6.4317,  34.6531,2,-999.0000,9,  -999.0,9, -999.00,9, -999.00,9, -999.00,9, -999.00,9,-999.000,9,-999.000,9, -999.00,9,  -999.0,9,  -999.0,9,   6.3673
06MT20060606,      EqAtl,      92,          1,      92005,          5,2,20060703,       0000,     5.0098,   -23.0057,       4119,   596.8,   7.3225,  34.6996,2,-999.0000,9,  -999.0,9, -999.00,9, -999.00,9, -999.00,9, -999.00,9,-999.000,9,-999.000,9, -999.00,9,  -999.0,9,  -999.0,9,   7.2638
06MT20060606,      EqAtl,      92,          1,      92006,          6,2,20060703,       0000,     5.0098,   -23.0057,       4119,   498.7,   8.5802,  34.8269,2,  34.8277,2,  -999.0,9, -999.00,9, -999.00,9, -999.00,9, -999.00,9,-999.000,9,-999.000,9, -999.00,9,  -999.0,9,  -999.0,9,   8.5267
06MT20060606,      EqAtl,      92,          1,      92007,          7,2,20060703,       0000,     5.0098,   -23.0057,       4119,   447.1,   8.9400,  34.8376,2,-999.0000,9,  -999.0,9, -999.00,9, -999.00,9, -999.00,9, -999.00,9,-999.000,9,-999.000,9, -999.00,9,  -999.0,9,  -999.0,9,   8.8910
06MT20060606,      EqAtl,      92,          1,      92008,          8,2,20060703,       0000,     5.0098,   -23.0057,       4119,   398.7,   9.7705,  34.9230,2,-999.0000,9,  -999.0,9, -999.00,9, -999.00,9, -999.00,9, -999.00,9,-999.000,9,-999.000,9, -999.00,9,  -999.0,9,  -999.0,9,   9.7245
06MT20060606,      EqAtl,      92,          1,      92009,          9,2,20060703,       0000,     5.0098,   -23.0057,       4119,   348.3,  10.5659,  35.0139,2,-999.0000,9,  -999.0,9, -999.00,9, -999.00,9, -999.00,9, -999.00,9,-999.000,9,-999.000,9, -999.00,9,  -999.0,9,  -999.0,9,  10.5237
06MT20060606,      EqAtl,      92,          1,      92010,         10,2,20060703,       0000,     5.0098,   -23.0057,       4119,   300.2,  11.6124,  35.1239,2,-999.0000,9,  -999.0,9, -999.00,9, -999.00,9, -999.00,9, -999.00,9,-999.000,9,-999.000,9, -999.00,9,  -999.0,9,  -999.0,9,  11.5738
06MT20060606,      EqAtl,      92,          1,      92011,         11,2,20060703,       0000,     5.0098,   -23.0057,       4119,   271.6,  11.9836,  35.1603,2,-999.0000,9,  -999.0,9, -999.00,9, -999.00,9, -999.00,9, -999.00,9,-999.000,9,-999.000,9, -999.00,9,  -999.0,9,  -999.0,9,  11.9480
06MT20060606,      EqAtl,      92,          1,      92012,         12,2,20060703,       0000,     5.0098,   -23.0057,       4119,   241.7,  12.4711,  35.2159,2,-999.0000,9,  -999.0,9, -999.00,9, -999.00,9, -999.00,9, -999.00,9,-999.000,9,-999.000,9, -999.00,9,  -999.0,9,  -999.0,9,  12.4386
06MT20060606,      EqAtl,      92,          1,      92013,         13,2,20060703,       0000,     5.0098,   -23.0057,       4119,   200.7,  13.0198,  35.2861,2,-999.0000,9,  -999.0,9, -999.00,9, -999.00,9, -999.00,9, -999.00,9,-999.000,9,-999.000,9, -999.00,9,  -999.0,9,  -999.0,9,  12.9921
06MT20060606,      EqAtl,      92,          1,      92014,         14,2,20060703,       0000,     5.0098,   -23.0057,       4119,   160.4,  13.5458,  35.3538,2,-999.0000,9,  -999.0,9, -999.00,9, -999.00,9, -999.00,9, -999.00,9,-999.000,9,-999.000,9, -999.00,9,  -999.0,9,  -999.0,9,  13.5231
06MT20060606,      EqAtl,      92,          1,      92015,         15,2,20060703,       0000,     5.0098,   -23.0057,       4119,   121.5,  14.5823,  35.4853,2,-999.0000,9,  -999.0,9, -999.00,9, -999.00,9, -999.00,9, -999.00,9,-999.000,9,-999.000,9, -999.00,9,  -999.0,9,  -999.0,9,  14.5642
06MT20060606,      EqAtl,      92,          1,      92016,         16,2,20060703,       0000,     5.0098,   -23.0057,       4119,   102.0,  15.5453,  35.5973,2,-999.0000,9,  -999.0,9, -999.00,9, -999.00,9, -999.00,9, -999.00,9,-999.000,9,-999.000,9, -999.00,9,  -999.0,9,  -999.0,9,  15.5294
06MT20060606,      EqAtl,      92,          1,      92017,         17,2,20060703,       0000,     5.0098,   -23.0057,       4119,    83.8,  17.3447,  35.7635,2,-999.0000,9,  -999.0,9, -999.00,9, -999.00,9, -999.00,9, -999.00,9,-999.000,9,-999.000,9, -999.00,9,  -999.0,9,  -999.0,9,  17.3306
06MT20060606,      EqAtl,      92,          1,      92018,         18,2,20060703,       0000,     5.0098,   -23.0057,       4119,    62.6,  24.8135,  36.0554,2,-999.0000,9,  -999.0,9, -999.00,9, -999.00,9, -999.00,9, -999.00,9,-999.000,9,-999.000,9, -999.00,9,  -999.0,9,  -999.0,9,  24.8000
06MT20060606,      EqAtl,      92,          1,      92019,         19,2,20060703,       0000,     5.0098,   -23.0057,       4119,    42.4,  27.9112,  35.8564,2,-999.0000,9,  -999.0,9, -999.00,9, -999.00,9, -999.00,9, -999.00,9,-999.000,9,-999.000,9, -999.00,9,  -999.0,9,  -999.0,9,  27.9012
06MT20060606,      EqAtl,      92,          1,      92020,         20,2,20060703,       0000,     5.0098,   -23.0057,       4119,    20.3,  28.1525,  35.0587,2,-999.0000,9,  -999.0,9, -999.00,9, -999.00,9, -999.00,9, -999.00,9,-999.000,9,-999.000,9, -999.00,9,  -999.0,9,  -999.0,9,  28.1477
06MT20060606,      EqAtl,      92,          1,      92021,         21,2,20060703,       0000,     5.0098,   -23.0057,       4119,    11.9,  28.1456,  35.0583,2,  35.0596,2,  -999.0,9, -999.00,9, -999.00,9, -999.00,9, -999.00,9,-999.000,9,-999.000,9, -999.00,9,  -999.0,9,  -999.0,9,  28.1428
06MT20060606,      EqAtl,      93,          1,      93001,          1,2,20060703,       0000,     5.4992,   -23.0003,       4119,  1301.6,   4.5766,  34.8809,2,-999.0000,9,  -999.0,9, -999.00,9, -999.00,9, -999.00,9, -999.00,9,-999.000,9,-999.000,9, -999.00,9,  -999.0,9,  -999.0,9,   4.4687
06MT20060606,      EqAtl,      93,          1,      93002,          2,2,20060703,       0000,     5.4992,   -23.0003,       4119,   100.0,  14.7827,  35.5118,2,-999.0000,9,  -999.0,9, -999.00,9, -999.00,9, -999.00,9, -999.00,9,-999.000,9,-999.000,9, -999.00,9,  -999.0,9,  -999.0,9,  14.7677
06MT20060606,      EqAtl,      93,          1,      93003,          3,2,20060703,       0000,     5.4992,   -23.0003,       4119,    80.2,  17.2096,  35.7463,2,-999.0000,9,  -999.0,9, -999.00,9, -999.00,9, -999.00,9, -999.00,9,-999.000,9,-999.000,9, -999.00,9,  -999.0,9,  -999.0,9,  17.1962
06MT20060606,      EqAtl,      93,          1,      93004,          4,2,20060703,       0000,     5.4992,   -23.0003,       4119,    60.0,  21.8089,  35.9765,2,-999.0000,9,  -999.0,9, -999.00,9, -999.00,9, -999.00,9, -999.00,9,-999.000,9,-999.000,9, -999.00,9,  -999.0,9,  -999.0,9,  21.7971
06MT20060606,      EqAtl,      93,          1,      93005,          5,2,20060703,       0000,     5.4992,   -23.0003,       4119,    40.2,  27.1357,  36.0078,2,-999.0000,9,  -999.0,9, -999.00,9, -999.00,9, -999.00,9, -999.00,9,-999.000,9,-999.000,9, -999.00,9,  -999.0,9,  -999.0,9,  27.1264
06MT20060606,      EqAtl,      93,          1,      93006,          6,2,20060703,       0000,     5.4992,   -23.0003,       4119,    20.4,  28.2278,  35.6484,2,-999.0000,9,  -999.0,9, -999.00,9, -999.00,9, -999.00,9, -999.00,9,-999.000,9,-999.000,9, -999.00,9,  -999.0,9,  -999.0,9,  28.2230
06MT20060606,      EqAtl,      93,          1,      93007,          7,2,20060703,       0000,     5.4992,   -23.0003,       4119,    10.4,  28.0310,  35.1435,2,-999.0000,9,  -999.0,9, -999.00,9, -999.00,9, -999.00,9, -999.00,9,-999.000,9,-999.000,9, -999.00,9,  -999.0,9,  -999.0,9,  28.0285