BOTTLE,20211025CCHSIORKP
EXPOCODE,SECT_ID,STNNBR,CASTNO,SAMPNO,BTLNBR,BTLNBR_FLAG_W,DATE,TIME,LATITUDE,LONGITUDE,DEPTH,CTDPRS,CTDTMP,CTDSAL,CTDSAL_FLAG_W,SALNTY,SALNTY_FLAG_W,OXYGEN,OXYGEN_FLAG_W,SILCAT,SILCAT_FLAG_W,NITRAT,NITRAT_FLAG_W,NITRIT,NITRIT_FLAG_W,PHSPHT,PHSPHT_FLAG_W,CFC-11,CFC-11_FLAG_W,CFC-12,CFC-12_FLAG_W,SF6,SF6_FLAG_W,TCARBN,TCARBN_FLAG_W,ALKALI,ALKALI_FLAG_W,THETA
,,,,,,,,,,,METERS,DBAR,ITS-90,PSS-78,,PSS-78,,UMOL/KG,,UMOL/KG,,UMOL/KG,,UMOL/KG,,UMOL/KG,,PMOL/KG,,PMOL/KG,,FMOL/KG,,UMOL/KG,,UMOL/KG,,DEG C
06MT20060606,      EqAtl,      80,          1,      80001,          1,2,20060630,       0000,     1.9990,   -21.0052,       4638,  1299.5,   4.5415,  34.9120,2,  34.9101,2,  -999.0,9, -999.00,9, -999.00,9, -999.00,9, -999.00,9,-999.000,9,-999.000,9, -999.00,9,  -999.0,9,  -999.0,9,   4.4341
06MT20060606,      EqAtl,      80,          1,      80002,          2,2,20060630,       0000,     1.9990,   -21.0052,       4638,  1098.3,   4.5806,  34.7616,2,-999.0000,9,  -999.0,9, -999.00,9, -999.00,9, -999.00,9, -999.00,9,-999.000,9,-999.000,9, -999.00,9,  -999.0,9,  -999.0,9,   4.4913
06MT20060606,      EqAtl,      80,          1,      80003,          3,2,20060630,       0000,     1.9990,   -21.0052,       4638,   895.1,   4.6652,  34.6077,2,-999.0000,9,  -999.0,9, -999.00,9, -999.00,9, -999.00,9, -999.00,9,-999.000,9,-999.000,9, -999.00,9,  -999.0,9,  -999.0,9,   4.5934
06MT20060606,      EqAtl,      80,          1,      80004,          4,2,20060630,       0000,     1.9990,   -21.0052,       4638,   696.8,   5.6268,  34.5509,2,  34.5396,2,  -999.0,9, -999.00,9, -999.00,9, -999.00,9, -999.00,9,-999.000,9,-999.000,9, -999.00,9,  -999.0,9,  -999.0,9,   5.5669
06MT20060606,      EqAtl,      80,          1,      80005,          5,2,20060630,       0000,     1.9990,   -21.0052,       4638,   598.1,   6.4519,  34.6007,2,-999.0000,9,  -999.0,9, -999.00,9, -999.00,9, -999.00,9, -999.00,9,-999.000,9,-999.000,9, -999.00,9,  -999.0,9,  -999.0,9,   6.3971
06MT20060606,      EqAtl,      80,          1,      80006,          6,2,20060630,       0000,     1.9990,   -21.0052,       4638,   495.3,   7.5101,  34.6928,2,-999.0000,9,  -999.0,9, -999.00,9, -999.00,9, -999.00,9, -999.00,9,-999.000,9,-999.000,9, -999.00,9,  -999.0,9,  -999.0,9,   7.4610
06MT20060606,      EqAtl,      80,          1,      80007,          7,2,20060630,       0000,     1.9990,   -21.0052,       4638,   447.6,   8.1365,  34.7383,2,-999.0000,9,  -999.0,9, -999.00,9, -999.00,9, -999.00,9, -999.00,9,-999.000,9,-999.000,9, -999.00,9,  -999.0,9,  -999.0,9,   8.0902
06MT20060606,      EqAtl,      80,          1,      80008,          8,2,20060630,       0000,     1.9990,   -21.0052,       4638,   398.3,   8.8329,  34.8174,2,-999.0000,9,  -999.0,9, -999.00,9, -999.00,9, -999.00,9, -999.00,9,-999.000,9,-999.000,9, -999.00,9,  -999.0,9,  -999.0,9,   8.7897
06MT20060606,      EqAtl,      80,          1,      80009,          9,2,20060630,       0000,     1.9990,   -21.0052,       4638,   348.1,   9.6965,  34.8976,2,-999.0000,9,  -999.0,9, -999.00,9, -999.00,9, -999.00,9, -999.00,9,-999.000,9,-999.000,9, -999.00,9,  -999.0,9,  -999.0,9,   9.6566
06MT20060606,      EqAtl,      80,          1,      80010,         10,2,20060630,       0000,     1.9990,   -21.0052,       4638,   295.0,  11.9734,  35.1511,2,-999.0000,9,  -999.0,9, -999.00,9, -999.00,9, -999.00,9, -999.00,9,-999.000,9,-999.000,9, -999.00,9,  -999.0,9,  -999.0,9,  11.9347
06MT20060606,      EqAtl,      80,          1,      80011,         11,2,20060630,       0000,     1.9990,   -21.0052,       4638,   274.0,  12.5981,  35.2205,2,-999.0000,9,  -999.0,9, -999.00,9, -999.00,9, -999.00,9, -999.00,9,-999.000,9,-999.000,9, -999.00,9,  -999.0,9,  -999.0,9,  12.5610
06MT20060606,      EqAtl,      80,          1,      80012,         12,2,20060630,       0000,     1.9990,   -21.0052,       4638,   238.7,  13.1885,  35.2980,2,-999.0000,9,  -999.0,9, -999.00,9, -999.00,9, -999.00,9, -999.00,9,-999.000,9,-999.000,9, -999.00,9,  -999.0,9,  -999.0,9,  13.1552
06MT20060606,      EqAtl,      80,          1,      80013,         13,2,20060630,       0000,     1.9990,   -21.0052,       4638,   197.0,  13.4918,  35.3406,2,-999.0000,9,  -999.0,9, -999.00,9, -999.00,9, -999.00,9, -999.00,9,-999.000,9,-999.000,9, -999.00,9,  -999.0,9,  -999.0,9,  13.4639
06MT20060606,      EqAtl,      80,          1,      80014,         14,2,20060630,       0000,     1.9990,   -21.0052,       4638,   159.1,  13.8517,  35.3870,2,-999.0000,9,  -999.0,9, -999.00,9, -999.00,9, -999.00,9, -999.00,9,-999.000,9,-999.000,9, -999.00,9,  -999.0,9,  -999.0,9,  13.8288
06MT20060606,      EqAtl,      80,          1,      80015,         15,2,20060630,       0000,     1.9990,   -21.0052,       4638,   119.4,  14.7867,  35.5096,2,-999.0000,9,  -999.0,9, -999.00,9, -999.00,9, -999.00,9, -999.00,9,-999.000,9,-999.000,9, -999.00,9,  -999.0,9,  -999.0,9,  14.7688
06MT20060606,      EqAtl,      80,          1,      80016,         16,2,20060630,       0000,     1.9990,   -21.0052,       4638,    99.3,  15.3214,  35.5704,2,-999.0000,9,  -999.0,9, -999.00,9, -999.00,9, -999.00,9, -999.00,9,-999.000,9,-999.000,9, -999.00,9,  -999.0,9,  -999.0,9,  15.3061
06MT20060606,      EqAtl,      80,          1,      80017,         17,2,20060630,       0000,     1.9990,   -21.0052,       4638,    71.6,  19.5126,  35.7770,2,-999.0000,9,  -999.0,9, -999.00,9, -999.00,9, -999.00,9, -999.00,9,-999.000,9,-999.000,9, -999.00,9,  -999.0,9,  -999.0,9,  19.4996
06MT20060606,      EqAtl,      80,          1,      80018,         18,2,20060630,       0000,     1.9990,   -21.0052,       4638,    58.9,  24.8107,  35.7573,2,-999.0000,9,  -999.0,9, -999.00,9, -999.00,9, -999.00,9, -999.00,9,-999.000,9,-999.000,9, -999.00,9,  -999.0,9,  -999.0,9,  24.7980
06MT20060606,      EqAtl,      80,          1,      80019,         19,2,20060630,       0000,     1.9990,   -21.0052,       4638,    40.9,  26.1961,  35.7126,2,-999.0000,9,  -999.0,9, -999.00,9, -999.00,9, -999.00,9, -999.00,9,-999.000,9,-999.000,9, -999.00,9,  -999.0,9,  -999.0,9,  26.1869
06MT20060606,      EqAtl,      80,          1,      80020,         20,2,20060630,       0000,     1.9990,   -21.0052,       4638,    29.4,  26.3233,  35.6917,2,-999.0000,9,  -999.0,9, -999.00,9, -999.00,9, -999.00,9, -999.00,9,-999.000,9,-999.000,9, -999.00,9,  -999.0,9,  -999.0,9,  26.3167
06MT20060606,      EqAtl,      80,          1,      80021,         21,2,20060630,       0000,     1.9990,   -21.0052,       4638,    10.3,  26.4384,  35.6738,2,  35.6826,2,  -999.0,9, -999.00,9, -999.00,9, -999.00,9, -999.00,9,-999.000,9,-999.000,9, -999.00,9,  -999.0,9,  -999.0,9,  26.4361
06MT20060606,      EqAtl,      81,          1,      81001,          1,2,20060630,       0000,     1.9873,   -22.0137,       4575,  1312.9,   4.5774,  34.8933,2,  34.8918,2,   195.2,6,   20.46,6,   25.72,6,    0.00,6,    1.78,6,   0.108,6,   0.056,6, -999.00,9,  2193.5,6,  2307.4,6,   4.4684
06MT20060606,      EqAtl,      81,          1,      81002,          2,2,20060630,       0000,     1.9873,   -22.0137,       4575,  1107.6,   4.5431,  34.7492,2,-999.0000,9,   170.4,2,   25.16,2,   30.11,2,    0.00,2,    2.09,2,   0.053,2,   0.035,2, -999.00,9,  2208.8,2,  2305.4,2,   4.4534
06MT20060606,      EqAtl,      81,          1,      81003,          3,2,20060630,       0000,     1.9873,   -22.0137,       4575,   904.3,   4.6856,  34.6125,2,-999.0000,9,   151.5,2,   27.44,2,   33.76,2,    0.00,2,    2.35,2,   0.059,2,   0.040,2, -999.00,9,  2219.2,2,  2302.2,2,   4.6129
06MT20060606,      EqAtl,      81,          1,      81004,          4,2,20060630,       0000,     1.9873,   -22.0137,       4575,   702.4,   5.6248,  34.5547,2,-999.0000,9,   133.6,2,   24.42,2,   35.42,2,    0.01,2,    2.40,2,   0.233,2,   0.119,2, -999.00,9,  2220.8,2,  2294.8,2,   5.5644
06MT20060606,      EqAtl,      81,          1,      81005,          5,2,20060630,       0000,     1.9873,   -22.0137,       4575,   600.3,   6.0962,  34.5611,2,  34.5527,2,   137.2,2,   21.77,2,   34.22,2,    0.01,2,    2.30,2,   0.543,2,   0.267,2, -999.00,9,  2215.1,2,  2291.4,2,   6.0428
06MT20060606,      EqAtl,      81,          1,      81006,          6,2,20060630,       0000,     1.9873,   -22.0137,       4575,   504.6,   7.3084,  34.6590,2,-999.0000,9,   128.6,2,   17.31,2,   32.38,2,    0.00,2,    2.13,2,   0.854,6,   0.426,6, -999.00,9,  2209.8,2,  2293.4,2,   7.2592
06MT20060606,      EqAtl,      81,          1,      81007,          7,2,20060630,       0000,     1.9873,   -22.0137,       4575,   453.0,   7.9107,  34.7103,2,-999.0000,9,   121.5,2,   15.63,2,   31.53,2,    0.00,2,    2.06,2,   0.969,2,   0.474,2, -999.00,9,  2209.0,2,  2295.9,2,   7.8646
06MT20060606,      EqAtl,      81,          1,      81008,          8,2,20060630,       0000,     1.9873,   -22.0137,       4575,   402.8,   8.5801,  34.7737,2,-999.0000,9,   115.5,2,   14.33,2,   30.50,2,    0.00,2,    2.04,2,   1.110,2,   0.548,2, -999.00,9,  2207.8,2,  2291.2,2,   8.5372
06MT20060606,      EqAtl,      81,          1,      81009,          9,2,20060630,       0000,     1.9873,   -22.0137,       4575,   352.1,   9.1854,  34.8380,2,-999.0000,9,   119.3,2,   12.66,2,   28.84,2,    0.00,2,    1.92,2,   1.270,2,   0.659,2, -999.00,9,  2200.9,2,  2294.8,2,   9.1464
06MT20060606,      EqAtl,      81,          1,      81010,         10,2,20060630,       0000,     1.9873,   -22.0137,       4575,   301.1,  11.3350,  35.0922,2,-999.0000,9,   111.4,2,    9.33,2,   25.25,2,    0.00,2,    1.66,2,   1.583,2,   0.838,2, -999.00,9,  2195.6,2,  2306.5,2,  11.2969
06MT20060606,      EqAtl,      81,          1,      81011,         11,2,20060630,       0000,     1.9873,   -22.0137,       4575,   271.3,  12.8847,  35.2637,2,-999.0000,9,   105.6,6,    7.51,6,   23.21,6,    0.00,6,    1.56,6,   1.792,6,   0.964,6, -999.00,9,  2191.6,2,  2311.8,2,  12.8474
06MT20060606,      EqAtl,      81,          1,      81012,         12,2,20060630,       0000,     1.9873,   -22.0137,       4575,   240.9,  13.1513,  35.2974,2,-999.0000,9,   103.4,2,    7.28,2,   23.01,2,    0.00,2,    1.54,2,   1.812,2,   0.980,2, -999.00,9,  2191.9,2,  2315.6,2,  13.1178
06MT20060606,      EqAtl,      81,          1,      81013,         13,2,20060630,       0000,     1.9873,   -22.0137,       4575,   199.9,  13.5322,  35.3479,2,-999.0000,9,   127.4,2,    6.40,2,   20.62,2,    0.01,2,    1.42,2,   1.962,2,   1.073,2, -999.00,9,  2181.7,2,  2318.3,2,  13.5039
06MT20060606,      EqAtl,      81,          1,      81014,         14,2,20060630,       0000,     1.9873,   -22.0137,       4575,   162.4,  14.2304,  35.4413,2,-999.0000,9,   111.3,2,    6.10,2,   20.00,2,    0.01,2,    1.38,2,   1.978,2,   1.086,2, -999.00,9,  2181.5,2,  2320.5,2,  14.2066
06MT20060606,      EqAtl,      81,          1,      81015,         15,2,20060630,       0000,     1.9873,   -22.0137,       4575,   121.3,  14.7432,  35.5088,2,-999.0000,9,  -999.0,9, -999.00,9, -999.00,9, -999.00,9, -999.00,9,-999.000,9,-999.000,9, -999.00,9,  -999.0,9,  -999.0,9,  14.7250
06MT20060606,      EqAtl,      81,          1,      81016,         16,2,20060630,       0000,     1.9873,   -22.0137,       4575,   100.9,  15.0154,  35.5406,2,-999.0000,9,   104.8,2,    5.84,2,   19.88,2,    0.02,2,    1.34,2,   2.138,6,   1.135,6, -999.00,9,  2182.9,2,  2323.7,2,  15.0001
06MT20060606,      EqAtl,      81,          1,      81017,         17,2,20060630,       0000,     1.9873,   -22.0137,       4575,    81.1,  15.9531,  35.6247,2,-999.0000,9,   107.3,2,    4.60,2,   18.39,2,    0.05,2,    1.23,2,   2.074,2,   1.146,2, -999.00,9,  2178.7,2,  2329.8,2,  15.9403
06MT20060606,      EqAtl,      81,          1,      81018,         18,2,20060630,       0000,     1.9873,   -22.0137,       4575,    61.2,  20.7483,  35.8587,2,-999.0000,9,   129.9,2,    2.61,2,    9.75,2,    0.18,2,    0.62,2,   1.961,2,   1.118,2, -999.00,9,  2134.4,2,  2345.4,2,  20.7367
06MT20060606,      EqAtl,      81,          1,      81019,         19,2,20060630,       0000,     1.9873,   -22.0137,       4575,    41.4,  27.7067,  35.1996,2,-999.0000,9,   201.0,2,    0.06,2,    0.00,2,    0.00,2,    0.00,2,   1.603,2,   1.014,2, -999.00,9,  1960.3,2,  2298.2,2,  27.6970
06MT20060606,      EqAtl,      81,          1,      81020,         20,2,20060630,       0000,     1.9873,   -22.0137,       4575,    21.3,  27.7228,  35.1993,2,  35.1991,2,   201.1,2,    0.20,2,    0.02,2,    0.00,2,    0.02,2,   1.607,2,   0.997,2, -999.00,9,  1959.7,2,  2299.7,6,  27.7178
06MT20060606,      EqAtl,      82,          1,      82001,          1,2,20060701,       0000,     0.9838,   -23.0228,       4354,  1311.2,   4.5521,  34.9107,2,  34.9105,2,   202.4,6,   19.83,6,   24.50,6,    0.00,6,    1.69,6,   0.139,2,   0.078,2, -999.00,9,  2190.0,6,  2307.8,6,   4.4435
06MT20060606,      EqAtl,      82,          1,      82002,          2,2,20060701,       0000,     0.9838,   -23.0228,       4354,  1107.5,   4.5292,  34.7062,2,  34.7335,2,   167.2,2,   25.85,2,   30.56,2,    0.00,2,    2.12,2,   0.038,2,   0.030,2, -999.00,9,  2211.1,2,  2302.5,2,   4.4396
06MT20060606,      EqAtl,      82,          1,      82003,          3,2,20060701,       0000,     0.9838,   -23.0228,       4354,   905.8,   4.5717,  34.5973,2,-999.0000,9,   155.0,2,   28.63,2,   33.18,2,    0.00,2,    2.33,2,   0.054,6,   0.037,6, -999.00,9,  2219.1,2,  2300.1,2,   4.4997
06MT20060606,      EqAtl,      82,          1,      82004,          4,2,20060701,       0000,     0.9838,   -23.0228,       4354,   698.8,   5.4021,  34.5082,2,  34.5091,2,   148.6,2,   24.23,2,   34.33,2,    0.00,2,    2.33,2,   0.419,2,   0.215,2, -999.00,9,  2214.6,2,  2290.2,2,   5.3432
06MT20060606,      EqAtl,      82,          1,      82005,          5,2,20060701,       0000,     0.9838,   -23.0228,       4354,   599.0,   6.4500,  34.5749,2,-999.0000,9,   135.3,2,   20.78,2,   33.84,2,    0.00,2,    2.25,2,   0.625,2,   0.299,2, -999.00,9,  2213.8,2,  2288.1,2,   6.3951
06MT20060606,      EqAtl,      82,          1,      82006,          6,2,20060701,       0000,     0.9838,   -23.0228,       4354,   497.7,   7.1092,  34.6217,2,-999.0000,9,   129.9,2,   17.86,2,   32.44,2,    0.01,2,    2.15,2,   0.847,2,   0.422,2, -999.00,9,  2208.9,2,  2288.5,2,   7.0614
06MT20060606,      EqAtl,      82,          1,      82007,          7,2,20060701,       0000,     0.9838,   -23.0228,       4354,   447.3,   7.7589,  34.6845,2,-999.0000,9,   116.9,2,   16.28,2,   32.22,2,    0.00,2,    2.12,2,   0.879,2,   0.451,2, -999.00,9,  2211.9,2,  2290.1,2,   7.7139
06MT20060606,      EqAtl,      82,          1,      82008,          8,2,20060701,       0000,     0.9838,   -23.0228,       4354,   398.7,   8.5288,  34.7638,2,-999.0000,9,   101.2,2,   14.92,2,   32.47,2,    0.01,2,    2.09,2,   0.948,6,   0.472,6, -999.00,9,  2216.1,2,  2291.4,2,   8.4865
06MT20060606,      EqAtl,      82,          1,      82009,          9,2,20060701,       0000,     0.9838,   -23.0228,       4354,   348.9,   9.1306,  34.8100,2,-999.0000,9,   129.8,2,   12.41,2,   27.85,2,    0.01,2,    1.85,2,   1.437,2,   0.739,2, -999.00,9,  2195.3,2,  2293.8,2,   9.0921
06MT20060606,      EqAtl,      82,          1,      82010,         10,2,20060701,       0000,     0.9838,   -23.0228,       4354,   300.6,  11.2577,  35.0604,2,-999.0000,9,   104.5,2,    9.78,2,   26.43,2,    0.01,2,    1.73,2,   1.549,2,   0.810,2,     0.3,3,  2199.1,2,  2302.4,2,  11.2199
06MT20060606,      EqAtl,      82,          1,      82011,         11,2,20060701,       0000,     0.9838,   -23.0228,       4354,   271.6,  12.2259,  35.1838,2,-999.0000,9,   113.3,6,    8.11,6,   23.19,6,    0.01,6,    1.54,6,   1.773,2,   0.945,2,    0.47,3,  2188.0,2,  2310.4,2,  12.1899
06MT20060606,      EqAtl,      82,          1,      82012,         12,2,20060701,       0000,     0.9838,   -23.0228,       4354,   240.7,  13.0994,  35.2857,2,-999.0000,9,  -999.0,9, -999.00,9, -999.00,9, -999.00,9, -999.00,9,   2.004,2,   1.089,2, -999.00,9,  2176.2,2,  2315.9,2,  13.0660
06MT20060606,      EqAtl,      82,          1,      82013,         13,2,20060701,       0000,     0.9838,   -23.0228,       4354,   201.8,  13.7808,  35.3781,2,-999.0000,9,   116.5,2,    6.03,2,   20.20,2,    0.01,2,    1.36,2,   2.013,6,   1.086,6,    0.51,3,  2179.5,2,  2319.7,2,  13.7518
06MT20060606,      EqAtl,      82,          1,      82014,         14,2,20060701,       0000,     0.9838,   -23.0228,       4354,   161.9,  14.3531,  35.4668,2,-999.0000,9,   149.4,2,    5.02,2,   15.28,2,    0.02,2,    1.11,2,   2.190,2,   1.206,2,    0.71,3,  2156.2,2,  2327.3,2,  14.3292
06MT20060606,      EqAtl,      82,          1,      82015,         15,2,20060701,       0000,     0.9838,   -23.0228,       4354,   120.8,  15.7859,  35.6732,2,-999.0000,9,   149.0,2,    4.25,2,   13.56,2,    0.03,2,    0.96,2,   2.213,2,   1.214,2, -999.00,9,  2152.3,2,  2339.5,2,  15.7669
06MT20060606,      EqAtl,      82,          1,      82016,         16,2,20060701,       0000,     0.9838,   -23.0228,       4354,   100.2,  16.5781,  35.7788,2,-999.0000,9,   150.8,2,    3.66,2,   12.73,2,    0.04,2,    0.90,2,   2.230,2,   1.226,2,    0.65,3,  2149.5,2,  2344.3,2,  16.5618
06MT20060606,      EqAtl,      82,          1,      82017,         17,2,20060701,       0000,     0.9838,   -23.0228,       4354,    83.2,  17.2856,  35.8619,2,-999.0000,9,   155.9,2,    3.01,2,   11.10,2,    0.05,2,    0.76,2,   2.135,2,   1.207,2,    0.77,3,  2144.1,2,  2351.7,2,  17.2717
06MT20060606,      EqAtl,      82,          1,      82018,         18,2,20060701,       0000,     0.9838,   -23.0228,       4354,    60.1,  24.3748,  36.0176,2,-999.0000,9,   183.2,2,    1.04,2,    1.72,2,    0.16,2,    0.17,2,   2.377,2,   1.119,2,    0.85,3,  2070.6,2,  2359.1,2,  24.3620
06MT20060606,      EqAtl,      82,          1,      82019,         19,2,20060701,       0000,     0.9838,   -23.0228,       4354,    40.9,  26.0075,  36.1293,2,-999.0000,9,   202.6,2,    0.31,2,    0.00,2,    0.01,2,    0.05,2,   1.727,6,   1.058,6,    0.94,3,  2046.8,2,  2363.5,2,  25.9983
06MT20060606,      EqAtl,      82,          1,      82020,         20,2,20060701,       0000,     0.9838,   -23.0228,       4354,    22.3,  26.4319,  35.9739,2,-999.0000,9,   202.9,2,    0.59,2,    0.02,2,    0.00,2,    0.04,2,   1.701,2,   1.049,2, -999.00,9,  2030.2,2,  2353.6,2,  26.4269
06MT20060606,      EqAtl,      82,          1,      82021,         21,2,20060701,       0000,     0.9838,   -23.0228,       4354,    13.4,  26.6280,  35.8333,2,-999.0000,9,   202.1,2,    0.73,2,    0.05,2,    0.00,2,    0.05,2,   1.667,2,   1.036,2,    1.02,3,  2018.1,6,  2346.2,6,  26.6250