BOTTLE,20211025CCHSIORKP
# Original header:
# Original header:
# Changed TCARBN fill flag to 9
# changed fill values from flag 2 to flag 9
# BOTTLE,20140512PRINUNIVRMK
# Original header:
# 10/19/2011 Initialized  
# Data source & final QC:T. Tanhua 10/18/2011 
# SHIP: Meteor 
# Cruise: 68_2; Recife to Mindelo 
# Region: Tropical Atlantic 
# 	Meridional section at 35W 5S-5N; station 1:29 
# 	Meridional section at 23W 4S-18N; station 33:49, 82:115 
# 	Meridional section at 10W 1S-2N; station 61:69 
# 	Zonal section at Eq 22W-10W; station 50:61 
# 	Zonal section at 2N 22W-10W; station 69:81 
# EXPOCODE: 06MT20060606 
# DATES: 6/6 - 7/9/2006 
# Chief Scientist: Peter Brandt 
# 106 stations with 24 place Rosette 
# Hydro: Who - L.Stramma; Status - final  
# 	Notes: 	Bottle salinity measured on a Guildline Autosal 8 
# 		Replicate precision  0.003 
# 	SBE 9plus CTD 
# 	Most casts only down to ~1300m 
# 	No bottle salt values in file 
# Nuts/O2: Who - F. Malien; Status - final  
# 	Notes: 95% confidence interval from 134 duplicates: 
# 		NO3+- 0.18 umol/kg. 
# 		PO4+- 0.016 umol/kg. 
# 		SiO2+- 0.19 umol/kg. 
# 		O2 +/- 0.55 umol/kg 
# TCO2: Who - A. Kortzinger; Status - final  
# 	Notes: coulometric titration.  Corrected to CRM 
# 	2 separate CRM batches (batch # 68 and 74) 
# 	Precision 0.94 mmol kg-1 (one standard deviation) from analyses of 88 duplicates  
# 	A small drift in the temperature of the pipette was noted.The correction to CRMs thus 
# 		followed a time-dependent function ranging from +1.93 mmol/kg at the beginning  
# 		of the cruise to -1.42 mmol/kg at the end of the cruise 
# 	See Schneider et al., 2012. 
# TA: Who - A. Kortzinger; Status - final 
# 	Notes: Potentiometric titration adjusted to CRM 
# 	CRM corrected from 2 separate batches (batch # 68 and 74) 
# 	Mean difference between measurements and CRM was 0.65+-1.90 umol kg-1  
# 		(one standard deviation n=69).  
# 	Precision of the total alkalinity single measurement was 1.29 umol kg-1  
# 		(one standard deviation n=88) from duplicate analyses 
# CFC: Who - T. Tanhua; Status - final  
# 	Notes: precision CFC-12 0.92 % and CFC-11 0.76%  
# 		calculated from 133 duplicate samples (typically two depths per station 
# 	An analytical blank of 0.003 pmol/l for CFC-12 samples.  
# 	CFC-11 free of analytical blank 
# SF6: Who - A. Schneider; Status - final  
# 	Notes: measurements on samples stored in glass ampoules  
# 	All values flagged 3 
# He: Who - M.Rhein; Status - Samples collected   
# 	Notes: No data in file. 
# Other: H2O2 samples collected 
# References: 
# Koschinsky A, Brandt P, Kortzinger, A (2009) (Eds) Tropical Atlantic 2006, Cruise No. 68, April 26 - August 7, 2006. METEOR-Berichte 09-4, 188 pp, Universitat Hamburg. ISSN 0936-8957 
# Schneider, A. T. Tanhua, A. Kortzinger and D.W.R. Wallace (2012), An evaluation of tracer fields and anthropogenic carbon in the equatorial and tropical North Atlantic, Deep-Sea Res., in press. 
EXPOCODE,SECT_ID,STNNBR,CASTNO,SAMPNO,BTLNBR,BTLNBR_FLAG_W,DATE,TIME,LATITUDE,LONGITUDE,DEPTH,CTDPRS,CTDTMP,CTDSAL,CTDSAL_FLAG_W,SALNTY,SALNTY_FLAG_W,OXYGEN,OXYGEN_FLAG_W,SILCAT,SILCAT_FLAG_W,NITRAT,NITRAT_FLAG_W,NITRIT,NITRIT_FLAG_W,PHSPHT,PHSPHT_FLAG_W,CFC-11,CFC-11_FLAG_W,CFC-12,CFC-12_FLAG_W,SF6,SF6_FLAG_W,TCARBN,TCARBN_FLAG_W,ALKALI,ALKALI_FLAG_W,THETA
,,,,,,,,,,,METERS,DBAR,ITS-90,PSS-78,,PSS-78,,UMOL/KG,,UMOL/KG,,UMOL/KG,,UMOL/KG,,UMOL/KG,,PMOL/KG,,PMOL/KG,,FMOL/KG,,UMOL/KG,,UMOL/KG,,DEG C
06MT20060606,      EqAtl,       1,          1,       1001,          1,2,20060607,       0000,    -4.9160,   -34.9185,       3320,   809.8,   4.2376,  34.4186,2,  34.4194,2,  -999.0,9, -999.00,9, -999.00,9, -999.00,9, -999.00,9,-999.000,9,-999.000,9, -999.00,9,  -999.0,9,  -999.0,9,   4.1761
06MT20060606,      EqAtl,       1,          1,       1002,          2,2,20060607,       0000,    -4.9160,   -34.9185,       3320,   810.1,   4.2353,  34.4189,2,-999.0000,9,  -999.0,9, -999.00,9, -999.00,9, -999.00,9, -999.00,9,-999.000,9,-999.000,9, -999.00,9,  -999.0,9,  -999.0,9,   4.1738
06MT20060606,      EqAtl,       1,          1,       1003,          3,2,20060607,       0000,    -4.9160,   -34.9185,       3320,   810.0,   4.2330,  34.4190,2,-999.0000,9,  -999.0,9, -999.00,9, -999.00,9, -999.00,9, -999.00,9,-999.000,9,-999.000,9, -999.00,9,  -999.0,9,  -999.0,9,   4.1715
06MT20060606,      EqAtl,       1,          1,       1004,          4,2,20060607,       0000,    -4.9160,   -34.9185,       3320,   809.6,   4.2333,  34.4188,2,-999.0000,9,  -999.0,9, -999.00,9, -999.00,9, -999.00,9, -999.00,9,-999.000,9,-999.000,9, -999.00,9,  -999.0,9,  -999.0,9,   4.1718
06MT20060606,      EqAtl,       1,          1,       1005,          5,2,20060607,       0000,    -4.9160,   -34.9185,       3320,   810.0,   4.2290,  34.4193,2,-999.0000,9,  -999.0,9, -999.00,9, -999.00,9, -999.00,9, -999.00,9,-999.000,9,-999.000,9, -999.00,9,  -999.0,9,  -999.0,9,   4.1675
06MT20060606,      EqAtl,       1,          1,       1006,          6,2,20060607,       0000,    -4.9160,   -34.9185,       3320,   810.4,   4.2353,  34.4188,2,-999.0000,9,  -999.0,9, -999.00,9, -999.00,9, -999.00,9, -999.00,9,-999.000,9,-999.000,9, -999.00,9,  -999.0,9,  -999.0,9,   4.1738
06MT20060606,      EqAtl,       1,          1,       1007,          7,2,20060607,       0000,    -4.9160,   -34.9185,       3320,   809.5,   4.2342,  34.4189,2,-999.0000,9,  -999.0,9, -999.00,9, -999.00,9, -999.00,9, -999.00,9,-999.000,9,-999.000,9, -999.00,9,  -999.0,9,  -999.0,9,   4.1728
06MT20060606,      EqAtl,       1,          1,       1008,          8,2,20060607,       0000,    -4.9160,   -34.9185,       3320,   809.6,   4.2362,  34.4187,2,-999.0000,9,  -999.0,9, -999.00,9, -999.00,9, -999.00,9, -999.00,9,-999.000,9,-999.000,9, -999.00,9,  -999.0,9,  -999.0,9,   4.1747
06MT20060606,      EqAtl,       1,          1,       1009,          9,2,20060607,       0000,    -4.9160,   -34.9185,       3320,   810.2,   4.2356,  34.4188,2,-999.0000,9,  -999.0,9, -999.00,9, -999.00,9, -999.00,9, -999.00,9,-999.000,9,-999.000,9, -999.00,9,  -999.0,9,  -999.0,9,   4.1741
06MT20060606,      EqAtl,       1,          1,       1010,         10,2,20060607,       0000,    -4.9160,   -34.9185,       3320,   810.4,   4.2309,  34.4192,2,-999.0000,9,  -999.0,9, -999.00,9, -999.00,9, -999.00,9, -999.00,9,-999.000,9,-999.000,9, -999.00,9,  -999.0,9,  -999.0,9,   4.1694
06MT20060606,      EqAtl,       1,          1,       1011,         11,2,20060607,       0000,    -4.9160,   -34.9185,       3320,   809.2,   4.2344,  34.4189,2,-999.0000,9,  -999.0,9, -999.00,9, -999.00,9, -999.00,9, -999.00,9,-999.000,9,-999.000,9, -999.00,9,  -999.0,9,  -999.0,9,   4.1730
06MT20060606,      EqAtl,       1,          1,       1012,         12,2,20060607,       0000,    -4.9160,   -34.9185,       3320,   809.9,   4.2343,  34.4189,2,-999.0000,9,  -999.0,9, -999.00,9, -999.00,9, -999.00,9, -999.00,9,-999.000,9,-999.000,9, -999.00,9,  -999.0,9,  -999.0,9,   4.1728
06MT20060606,      EqAtl,       1,          1,       1013,         13,2,20060607,       0000,    -4.9160,   -34.9185,       3320,   809.7,   4.2367,  34.4187,2,-999.0000,9,  -999.0,9, -999.00,9, -999.00,9, -999.00,9, -999.00,9,-999.000,9,-999.000,9, -999.00,9,  -999.0,9,  -999.0,9,   4.1752
06MT20060606,      EqAtl,       1,          1,       1014,         14,2,20060607,       0000,    -4.9160,   -34.9185,       3320,   809.5,   4.2366,  34.4186,2,-999.0000,9,  -999.0,9, -999.00,9, -999.00,9, -999.00,9, -999.00,9,-999.000,9,-999.000,9, -999.00,9,  -999.0,9,  -999.0,9,   4.1751
06MT20060606,      EqAtl,       1,          1,       1015,         15,2,20060607,       0000,    -4.9160,   -34.9185,       3320,   809.4,   4.2339,  34.4190,2,-999.0000,9,  -999.0,9, -999.00,9, -999.00,9, -999.00,9, -999.00,9,-999.000,9,-999.000,9, -999.00,9,  -999.0,9,  -999.0,9,   4.1725
06MT20060606,      EqAtl,       1,          1,       1016,         16,2,20060607,       0000,    -4.9160,   -34.9185,       3320,   809.3,   4.2375,  34.4186,2,-999.0000,9,  -999.0,9, -999.00,9, -999.00,9, -999.00,9, -999.00,9,-999.000,9,-999.000,9, -999.00,9,  -999.0,9,  -999.0,9,   4.1760
06MT20060606,      EqAtl,       1,          1,       1017,         17,2,20060607,       0000,    -4.9160,   -34.9185,       3320,   809.1,   4.2317,  34.4193,2,-999.0000,9,  -999.0,9, -999.00,9, -999.00,9, -999.00,9, -999.00,9,-999.000,9,-999.000,9, -999.00,9,  -999.0,9,  -999.0,9,   4.1703
06MT20060606,      EqAtl,       1,          1,       1018,         18,2,20060607,       0000,    -4.9160,   -34.9185,       3320,   809.8,   4.2306,  34.4164,2,-999.0000,9,  -999.0,9, -999.00,9, -999.00,9, -999.00,9, -999.00,9,-999.000,9,-999.000,9, -999.00,9,  -999.0,9,  -999.0,9,   4.1692
06MT20060606,      EqAtl,       1,          1,       1019,         19,2,20060607,       0000,    -4.9160,   -34.9185,       3320,    11.0,  28.4274,  36.2296,2,-999.0000,9,  -999.0,9, -999.00,9, -999.00,9, -999.00,9, -999.00,9,-999.000,9,-999.000,9, -999.00,9,  -999.0,9,  -999.0,9,  28.4248
06MT20060606,      EqAtl,       1,          1,       1020,         20,2,20060607,       0000,    -4.9160,   -34.9185,       3320,    11.0,  28.4276,  36.2293,2,  36.2289,2,  -999.0,9, -999.00,9, -999.00,9, -999.00,9, -999.00,9,-999.000,9,-999.000,9, -999.00,9,  -999.0,9,  -999.0,9,  28.4250
06MT20060606,      EqAtl,       1,          1,       1021,         21,2,20060607,       0000,    -4.9160,   -34.9185,       3320,    10.6,  28.4278,  36.2297,2,-999.0000,9,  -999.0,9, -999.00,9, -999.00,9, -999.00,9, -999.00,9,-999.000,9,-999.000,9, -999.00,9,  -999.0,9,  -999.0,9,  28.4253
06MT20060606,      EqAtl,       2,          1,       2001,          1,2,20060607,       0000,    -4.8078,   -34.8807,       3320,  1003.3,   4.0916,  34.5110,2,-999.0000,9,   177.8,2,   32.09,2,   33.89,2, -999.00,9,    2.32,2,   0.372,2,   0.185,2, -999.00,9,  -999.0,9,  -999.0,9,   4.0149
06MT20060606,      EqAtl,       2,          1,       2002,          2,2,20060607,       0000,    -4.8078,   -34.8807,       3320,  1002.8,   4.0894,  34.5078,2,  34.5139,2,   177.4,2,   32.13,2,   33.74,2, -999.00,9,    2.30,2,-999.000,9,-999.000,9, -999.00,9,  2214.0,2,  2303.4,2,   4.0128
06MT20060606,      EqAtl,       2,          1,       2003,          3,2,20060607,       0000,    -4.8078,   -34.8807,       3320,   897.9,   4.1052,  34.4514,2,-999.0000,9,   184.6,2,   31.72,2,   33.51,2, -999.00,9,    2.29,2,   0.611,2,   0.307,2, -999.00,9,  2208.9,2,  2301.0,2,   4.0373
06MT20060606,      EqAtl,       2,          1,       2004,          4,2,20060607,       0000,    -4.8078,   -34.8807,       3320,   700.3,   4.5401,  34.3973,2,-999.0000,9,   190.4,2,   27.38,2,   32.27,2, -999.00,9,    2.19,2,   1.082,2,   0.533,2, -999.00,9,  2199.6,2,  2294.8,2,   4.4859
06MT20060606,      EqAtl,       2,          1,       2005,          5,2,20060607,       0000,    -4.8078,   -34.8807,       3320,   499.9,   6.6816,  34.4909,2,-999.0000,9,  -999.0,9, -999.00,9, -999.00,9, -999.00,9, -999.00,9,   1.750,6,   0.896,6, -999.00,9,  -999.0,9,  -999.0,9,   6.6353
06MT20060606,      EqAtl,       2,          1,       2006,          6,2,20060607,       0000,    -4.8078,   -34.8807,       3320,   300.2,  11.4300,  34.9981,2,-999.0000,9,   185.0,3,    5.67,2,   16.10,3, -999.00,9,    1.14,3,   2.710,2,   1.457,2, -999.00,9,  2142.5,2,  2302.2,2,  11.3919
06MT20060606,      EqAtl,       2,          1,       2007,          7,2,20060607,       0000,    -4.8078,   -34.8807,       3320,   249.5,  13.0372,  35.2073,2,-999.0000,9,   193.4,3,    3.77,2,   11.47,3, -999.00,9,    0.86,3,   2.811,2,   1.559,2, -999.00,9,  -999.0,9,  -999.0,9,  13.0027
06MT20060606,      EqAtl,       2,          1,       2008,          8,2,20060607,       0000,    -4.8078,   -34.8807,       3320,   200.6,  14.6471,  35.4551,2,-999.0000,9,   197.6,3,    2.76,2,    7.84,3, -999.00,9,    0.62,3,   2.744,2,   1.547,2, -999.00,9,  2116.7,2,  2328.8,2,  14.6171
06MT20060606,      EqAtl,       2,          1,       2009,          9,2,20060607,       0000,    -4.8078,   -34.8807,       3320,   121.1,  22.9740,  36.9879,2,-999.0000,9,   196.7,2,    0.78,2,    0.51,2, -999.00,9,    0.16,2,   1.942,2,   1.209,2, -999.00,9,  -999.0,9,  -999.0,9,  22.9491
06MT20060606,      EqAtl,       2,          1,       2010,         10,2,20060607,       0000,    -4.8078,   -34.8807,       3320,   101.1,  24.2617,  37.1497,2,-999.0000,9,   212.9,2,    0.57,2,    0.00,2, -999.00,9,    0.08,2,   1.872,2,   1.187,2, -999.00,9,  -999.0,9,  -999.0,9,  24.2401
06MT20060606,      EqAtl,       2,          1,       2011,         11,2,20060607,       0000,    -4.8078,   -34.8807,       3320,   100.5,  24.2860,  37.1515,2,-999.0000,9,   213.1,2,    0.55,2,    0.03,2, -999.00,9,    0.09,2,-999.000,9,-999.000,9, -999.00,9,  2097.4,6,  2433.5,2,  24.2645
06MT20060606,      EqAtl,       2,          1,       2012,         12,2,20060607,       0000,    -4.8078,   -34.8807,       3320,    81.7,  27.6416,  37.4984,2,-999.0000,9,  -999.0,9, -999.00,9, -999.00,9, -999.00,9, -999.00,9,-999.000,9,-999.000,9, -999.00,9,  -999.0,9,  -999.0,9,  27.6224
06MT20060606,      EqAtl,       2,          1,       2013,         13,2,20060607,       0000,    -4.8078,   -34.8807,       3320,    60.6,  27.8070,  37.2883,2,-999.0000,9,   199.2,2,    0.54,2,    0.09,2, -999.00,9,    0.00,2,-999.000,9,-999.000,9, -999.00,9,  -999.0,9,  -999.0,9,  27.7927
06MT20060606,      EqAtl,       2,          1,       2014,         14,2,20060607,       0000,    -4.8078,   -34.8807,       3320,    61.0,  27.8086,  37.2905,2,-999.0000,9,   199.3,2,    0.52,2,    0.13,2, -999.00,9,    0.01,2,   1.573,6,   0.979,6, -999.00,9,  -999.0,9,  -999.0,9,  27.7942
06MT20060606,      EqAtl,       2,          1,       2015,         15,2,20060607,       0000,    -4.8078,   -34.8807,       3320,    39.7,  28.1981,  36.5693,2,-999.0000,9,   197.9,2,    0.48,2,    0.19,2, -999.00,9,    0.03,2,-999.000,9,-999.000,9, -999.00,9,  -999.0,9,  -999.0,9,  28.1887
06MT20060606,      EqAtl,       2,          1,       2016,         16,2,20060607,       0000,    -4.8078,   -34.8807,       3320,    40.1,  28.1952,  36.5724,2,-999.0000,9,   200.0,2,    0.77,2,    0.24,2, -999.00,9,    0.03,2,-999.000,9,-999.000,9, -999.00,9,  2040.3,2,  2392.9,2,  28.1857
06MT20060606,      EqAtl,       2,          1,       2017,         17,2,20060607,       0000,    -4.8078,   -34.8807,       3320,    21.3,  28.4970,  36.1951,2,-999.0000,9,   197.3,2,    0.59,2,    0.28,2, -999.00,9,    0.02,2,   1.521,2,   0.989,2, -999.00,9,  2020.8,2,  2365.7,6,  28.4919
06MT20060606,      EqAtl,       2,          1,       2018,         18,2,20060607,       0000,    -4.8078,   -34.8807,       3320,    20.9,  28.4968,  36.1948,2,-999.0000,9,   197.4,2,    0.60,2,    0.34,2, -999.00,9,    0.04,2,-999.000,9,-999.000,9, -999.00,9,  -999.0,9,  -999.0,9,  28.4918
06MT20060606,      EqAtl,       2,          1,       2019,         19,2,20060607,       0000,    -4.8078,   -34.8807,       3320,    10.5,  28.4999,  36.1970,2,-999.0000,9,   198.8,2,    0.46,2,    0.40,2, -999.00,9,    0.04,2,   1.555,2,   0.949,2, -999.00,9,  -999.0,9,  -999.0,9,  28.4974
06MT20060606,      EqAtl,       2,          1,       2020,         20,2,20060607,       0000,    -4.8078,   -34.8807,       3320,    11.0,  28.4985,  36.1974,2,  36.1949,2,   197.7,2,    0.64,2,    0.48,2, -999.00,9,    0.04,2,-999.000,9,-999.000,9, -999.00,9,  2020.1,2,  2367.1,2,  28.4959
06MT20060606,      EqAtl,       2,          1,       2021,         21,2,20060607,       0000,    -4.8078,   -34.8807,       3320,    11.1,  28.4990,  36.1969,2,-999.0000,9,  -999.0,9, -999.00,9, -999.00,9, -999.00,9, -999.00,9,-999.000,9,-999.000,9, -999.00,9,  -999.0,9,  -999.0,9,  28.4963
06MT20060606,      EqAtl,       3,          1,       3001,          1,2,20060607,       0000,    -4.6725,   -34.8802,       3320,  1315.2,   4.5345,  34.8785,2,  34.8798,2,  -999.0,9, -999.00,9, -999.00,9, -999.00,9, -999.00,9,-999.000,9,-999.000,9, -999.00,9,  -999.0,9,  -999.0,9,   4.4258
06MT20060606,      EqAtl,       3,          1,       3002,          2,2,20060607,       0000,    -4.6725,   -34.8802,       3320,  1313.6,   4.5347,  34.8782,2,-999.0000,9,  -999.0,9, -999.00,9, -999.00,9, -999.00,9, -999.00,9,-999.000,9,-999.000,9, -999.00,9,  -999.0,9,  -999.0,9,   4.4261
06MT20060606,      EqAtl,       4,          1,       4001,          1,2,20060607,       0000,    -4.3442,   -34.8860,       2997,  1324.2,   4.4652,  34.8542,2,  34.8615,2,  -999.0,9, -999.00,9, -999.00,9, -999.00,9, -999.00,9,-999.000,9,-999.000,9, -999.00,9,  -999.0,9,  -999.0,9,   4.3564
06MT20060606,      EqAtl,       4,          1,       4002,          2,2,20060607,       0000,    -4.3442,   -34.8860,       2997,  1322.8,   4.4651,  34.8539,2,-999.0000,9,  -999.0,9, -999.00,9, -999.00,9, -999.00,9, -999.00,9,-999.000,9,-999.000,9, -999.00,9,  -999.0,9,  -999.0,9,   4.3564