BOTTLE,20211025CCHSIORKP
EXPOCODE,SECT_ID,STNNBR,CASTNO,SAMPNO,BTLNBR,BTLNBR_FLAG_W,DATE,TIME,LATITUDE,LONGITUDE,DEPTH,CTDPRS,CTDTMP,CTDSAL,CTDSAL_FLAG_W,SALNTY,SALNTY_FLAG_W,OXYGEN,OXYGEN_FLAG_W,SILCAT,SILCAT_FLAG_W,NITRAT,NITRAT_FLAG_W,NITRIT,NITRIT_FLAG_W,PHSPHT,PHSPHT_FLAG_W,CFC-11,CFC-11_FLAG_W,CFC-12,CFC-12_FLAG_W,SF6,SF6_FLAG_W,TCARBN,TCARBN_FLAG_W,ALKALI,ALKALI_FLAG_W,THETA
,,,,,,,,,,,METERS,DBAR,ITS-90,PSS-78,,PSS-78,,UMOL/KG,,UMOL/KG,,UMOL/KG,,UMOL/KG,,UMOL/KG,,PMOL/KG,,PMOL/KG,,FMOL/KG,,UMOL/KG,,UMOL/KG,,DEG C
06MT20060606,      EqAtl,       5,          1,       5001,          1,2,20060607,       0000,    -4.0032,   -34.8838,       2997,  1296.3,   4.4966,  34.8465,2,  34.8483,2,   190.8,2,   22.56,2,   26.90,2,    0.00,2,    1.85,2,   0.095,2,   0.051,2, -999.00,9,  2196.0,2,  2308.5,2,   4.3900
06MT20060606,      EqAtl,       5,          1,       5002,          2,2,20060607,       0000,    -4.0032,   -34.8838,       2997,  1100.3,   4.3336,  34.6591,2,-999.0000,9,   169.4,6,   29.09,6,   31.89,6,    0.00,6,    2.20,6,   0.061,2,   0.038,2, -999.00,9,  2213.3,6,  2304.3,2,   4.2464
06MT20060606,      EqAtl,       5,          1,       5003,          3,2,20060607,       0000,    -4.0032,   -34.8838,       2997,   896.6,   4.3841,  34.5083,2,-999.0000,9,   164.1,2,   26.86,2,   33.83,2,    0.01,2,    2.31,2,   0.233,2,   0.119,2, -999.00,9,  2214.8,2,  2297.6,2,   4.3143
06MT20060606,      EqAtl,       5,          1,       5004,          4,2,20060607,       0000,    -4.0032,   -34.8838,       2997,   699.6,   4.9122,  34.4601,2,  34.4577,2,   165.4,2,   26.99,2,   33.67,2,    0.01,2,    2.29,2,   0.612,2,   0.310,2, -999.00,9,  2208.6,2,  2294.1,2,   4.8560
06MT20060606,      EqAtl,       5,          1,       5005,          5,2,20060607,       0000,    -4.0032,   -34.8838,       2997,   495.1,   6.2747,  34.4888,2,-999.0000,9,   175.6,3,   18.80,2,   29.93,2,    0.00,2,    2.02,2,   1.534,2,   0.775,2, -999.00,9,  2187.0,2,  2287.7,2,   6.2304
06MT20060606,      EqAtl,       5,          1,       5006,          6,2,20060607,       0000,    -4.0032,   -34.8838,       2997,   300.4,  10.2256,  34.8795,2,-999.0000,9,   161.0,3,    9.45,2,   22.70,2,    0.00,2,    1.54,2,   2.181,2,   1.127,2, -999.00,9,  2168.3,2,  2295.4,2,  10.1901
06MT20060606,      EqAtl,       5,          1,       5007,          7,2,20060607,       0000,    -4.0032,   -34.8838,       2997,   249.2,  11.6149,  35.0547,2,-999.0000,9,   156.5,6,    7.08,6,   19.35,6,    0.01,6,    1.33,6,   2.308,2,   1.228,2, -999.00,9,  2160.6,2,  2304.4,6,  11.5830
06MT20060606,      EqAtl,       5,          1,       5008,          8,2,20060607,       0000,    -4.0032,   -34.8838,       2997,   202.9,  12.6197,  35.1853,2,-999.0000,9,   162.8,2,    5.46,2,   16.09,2,    0.02,2,    1.09,2,-999.000,9,-999.000,9, -999.00,9,  2151.1,2,  2309.1,2,  12.5923
06MT20060606,      EqAtl,       5,          1,       5009,          9,2,20060607,       0000,    -4.0032,   -34.8838,       2997,   119.3,  21.6506,  36.7051,2,-999.0000,9,   185.4,2,    0.54,2,    1.66,2,    0.05,2,    0.26,2,-999.000,9,-999.000,9, -999.00,9,  2120.2,2,  2405.6,2,  21.6271
06MT20060606,      EqAtl,       5,          1,       5010,         10,2,20060607,       0000,    -4.0032,   -34.8838,       2997,    99.9,  23.5503,  37.0851,2,-999.0000,9,   197.2,2,    0.26,2,    0.14,2,    0.14,2,    0.12,2,   1.913,2,   1.186,2, -999.00,9,  2109.9,2,  2430.6,2,  23.5294
06MT20060606,      EqAtl,       5,          1,       5011,         11,2,20060607,       0000,    -4.0032,   -34.8838,       2997,    99.3,  23.6652,  37.1025,2,-999.0000,9,  -999.0,9, -999.00,9, -999.00,9, -999.00,9, -999.00,9,-999.000,9,-999.000,9, -999.00,9,  -999.0,9,  -999.0,9,  23.6443
06MT20060606,      EqAtl,       5,          1,       5012,         12,2,20060607,       0000,    -4.0032,   -34.8838,       2997,    78.9,  25.7639,  37.2054,2,-999.0000,9,   212.2,2,    0.14,2,    0.00,2,    0.02,2,    0.02,2,   1.811,2,   1.111,2, -999.00,9,  -999.0,9,  -999.0,9,  25.7463
06MT20060606,      EqAtl,       5,          1,       5013,         13,2,20060607,       0000,    -4.0032,   -34.8838,       2997,    80.2,  25.7277,  37.2018,2,-999.0000,9,  -999.0,9, -999.00,9, -999.00,9, -999.00,9, -999.00,9,-999.000,9,-999.000,9, -999.00,9,  2083.2,2,  2437.4,2,  25.7098
06MT20060606,      EqAtl,       5,          1,       5014,         14,2,20060607,       0000,    -4.0032,   -34.8838,       2997,    60.0,  28.0200,  37.1594,2,-999.0000,9,   199.8,2,    0.10,2,    0.03,2,    0.01,2,    0.01,2,   1.584,2,   0.990,2, -999.00,9,  -999.0,9,  -999.0,9,  28.0058
06MT20060606,      EqAtl,       5,          1,       5015,         15,2,20060607,       0000,    -4.0032,   -34.8838,       2997,    61.1,  27.9689,  37.1723,2,-999.0000,9,  -999.0,9, -999.00,9, -999.00,9, -999.00,9, -999.00,9,-999.000,9,-999.000,9, -999.00,9,  2062.0,2,  2432.9,2,  27.9544
06MT20060606,      EqAtl,       5,          1,       5016,         16,2,20060607,       0000,    -4.0032,   -34.8838,       2997,    39.0,  28.5834,  36.1999,2,-999.0000,9,  -999.0,9, -999.00,9, -999.00,9, -999.00,9, -999.00,9,-999.000,9,-999.000,9, -999.00,9,  -999.0,9,  -999.0,9,  28.5740
06MT20060606,      EqAtl,       5,          1,       5017,         17,2,20060607,       0000,    -4.0032,   -34.8838,       2997,    38.7,  28.5827,  36.2007,2,-999.0000,9,   198.0,2,    0.00,2,    0.05,2,    0.01,2,    0.00,2,   1.526,2,   0.908,2, -999.00,9,  2019.0,2,  2364.5,2,  28.5734
06MT20060606,      EqAtl,       5,          1,       5018,         18,2,20060607,       0000,    -4.0032,   -34.8838,       2997,    22.5,  28.6004,  36.1989,2,-999.0000,9,   198.2,2,    0.69,2,    0.09,2,    0.05,2,    0.03,2,-999.000,9,-999.000,9, -999.00,9,  -999.0,9,  -999.0,9,  28.5950
06MT20060606,      EqAtl,       5,          1,       5019,         19,2,20060607,       0000,    -4.0032,   -34.8838,       2997,    22.9,  28.5996,  36.1988,2,-999.0000,9,  -999.0,9, -999.00,9, -999.00,9, -999.00,9, -999.00,9,   1.538,2,   0.958,2, -999.00,9,  2018.9,2,  2364.4,2,  28.5941
06MT20060606,      EqAtl,       5,          1,       5020,         20,2,20060607,       0000,    -4.0032,   -34.8838,       2997,    10.5,  28.6834,  36.2005,2,  36.1994,2,   197.8,2,    1.05,2,    0.14,2,    0.06,2,    0.06,2,   1.533,2,   0.973,2, -999.00,9,  -999.0,9,  -999.0,9,  28.6809
06MT20060606,      EqAtl,       5,          1,       5021,         21,2,20060607,       0000,    -4.0032,   -34.8838,       2997,     9.8,  28.6902,  36.2005,2,-999.0000,9,  -999.0,9, -999.00,9, -999.00,9, -999.00,9, -999.00,9,-999.000,9,-999.000,9, -999.00,9,  2018.8,2,  2364.9,2,  28.6878
06MT20060606,      EqAtl,       6,          1,       6015,         15,2,20060607,       0000,    -3.5098,   -34.8832,       3700,  1260.9,   4.4531,  34.8109,2,-999.0000,9,  -999.0,9, -999.00,9, -999.00,9, -999.00,9, -999.00,9,-999.000,9,-999.000,9, -999.00,9,  -999.0,9,  -999.0,9,   4.3503
06MT20060606,      EqAtl,       6,          1,       6016,         16,2,20060607,       0000,    -3.5098,   -34.8832,       3700,  1246.4,   4.4457,  34.7931,2,-999.0000,9,  -999.0,9, -999.00,9, -999.00,9, -999.00,9, -999.00,9,-999.000,9,-999.000,9, -999.00,9,  -999.0,9,  -999.0,9,   4.3443
06MT20060606,      EqAtl,       6,          1,       6017,         17,2,20060607,       0000,    -3.5098,   -34.8832,       3700,  1241.6,   4.4535,  34.7903,2,-999.0000,9,  -999.0,9, -999.00,9, -999.00,9, -999.00,9, -999.00,9,-999.000,9,-999.000,9, -999.00,9,  -999.0,9,  -999.0,9,   4.3524
06MT20060606,      EqAtl,       6,          1,       6018,         18,2,20060607,       0000,    -3.5098,   -34.8832,       3700,  1236.3,   4.4456,  34.7879,2,-999.0000,9,  -999.0,9, -999.00,9, -999.00,9, -999.00,9, -999.00,9,-999.000,9,-999.000,9, -999.00,9,  -999.0,9,  -999.0,9,   4.3451
06MT20060606,      EqAtl,       6,          1,       6019,         19,2,20060607,       0000,    -3.5098,   -34.8832,       3700,  1233.7,   4.4435,  34.7866,2,-999.0000,9,  -999.0,9, -999.00,9, -999.00,9, -999.00,9, -999.00,9,-999.000,9,-999.000,9, -999.00,9,  -999.0,9,  -999.0,9,   4.3433
06MT20060606,      EqAtl,       6,          1,       6020,         20,2,20060607,       0000,    -3.5098,   -34.8832,       3700,  1228.5,   4.4590,  34.7822,2,-999.0000,9,  -999.0,9, -999.00,9, -999.00,9, -999.00,9, -999.00,9,-999.000,9,-999.000,9, -999.00,9,  -999.0,9,  -999.0,9,   4.3591
06MT20060606,      EqAtl,       6,          1,       6021,         21,2,20060607,       0000,    -3.5098,   -34.8832,       3700,  1222.2,   4.4659,  34.7829,2,-999.0000,9,  -999.0,9, -999.00,9, -999.00,9, -999.00,9, -999.00,9,-999.000,9,-999.000,9, -999.00,9,  -999.0,9,  -999.0,9,   4.3665
06MT20060606,      EqAtl,       7,          1,       7001,          1,2,20060608,       0000,    -3.0058,   -34.8853,       3933,  1308.9,   4.4922,  34.8415,2,  34.8405,2,   190.6,6,   22.03,6,   27.36,6,    0.00,6,    1.88,6,   0.090,2,   0.042,2, -999.00,9,  2198.9,2,  2307.9,6,   4.3845
06MT20060606,      EqAtl,       7,          1,       7002,          2,2,20060608,       0000,    -3.0058,   -34.8853,       3933,  1101.2,   4.3409,  34.6654,2,-999.0000,9,   168.2,2,   27.77,2,   31.90,2,    0.00,2,    2.20,2,   0.057,2,   0.031,2, -999.00,9,  2213.8,2,  2302.6,2,   4.2536
06MT20060606,      EqAtl,       7,          1,       7003,          3,2,20060608,       0000,    -3.0058,   -34.8853,       3933,   895.3,   4.3663,  34.5313,2,  34.5321,2,   163.7,2,   29.87,2,   34.11,2,    0.01,2,    2.34,2,   0.189,2,   0.080,2, -999.00,9,  2216.6,2,  2299.6,2,   4.2967
06MT20060606,      EqAtl,       7,          1,       7004,          4,2,20060608,       0000,    -3.0058,   -34.8853,       3933,   700.4,   4.8635,  34.4594,2,  34.4575,2,   164.9,2,   26.21,2,   33.83,2,    0.01,2,    2.31,2,   0.589,2,   0.327,2, -999.00,9,  2210.2,2,  2292.6,2,   4.8075
06MT20060606,      EqAtl,       7,          1,       7005,          5,2,20060608,       0000,    -3.0058,   -34.8853,       3933,   498.0,   7.3285,  34.6282,2,-999.0000,9,   121.4,2,   16.83,2,   32.96,2,    0.00,2,    2.17,2,   0.868,2,   0.369,2, -999.00,9,  2213.7,2,  2288.4,2,   7.2799
06MT20060606,      EqAtl,       7,          1,       7006,          6,2,20060608,       0000,    -3.0058,   -34.8853,       3933,   302.6,  11.5491,  35.0917,2,-999.0000,9,   102.9,2,    9.24,2,   25.96,2,    0.01,2,    1.70,2,   1.633,2,   0.875,2, -999.00,9,  2199.7,2,  2302.9,2,  11.5104
06MT20060606,      EqAtl,       7,          1,       7007,          7,2,20060608,       0000,    -3.0058,   -34.8853,       3933,   250.8,  12.2989,  35.1841,2,-999.0000,9,   106.1,2,    8.30,2,   24.24,2,    0.01,2,    1.61,2,   1.754,2,   0.957,2, -999.00,9,  2195.7,2,  2307.8,2,  12.2655
06MT20060606,      EqAtl,       7,          1,       7008,          8,2,20060608,       0000,    -3.0058,   -34.8853,       3933,   196.4,  12.7780,  35.2490,2,-999.0000,9,   105.9,2,    7.68,2,   23.16,2,    0.01,2,    1.52,2,   1.816,2,   1.051,2, -999.00,9,  2191.9,2,  2312.6,2,  12.7512
06MT20060606,      EqAtl,       7,          1,       7009,          9,2,20060608,       0000,    -3.0058,   -34.8853,       3933,   119.9,  14.3364,  35.4581,2,-999.0000,9,   125.2,2,    5.42,2,   18.01,2,    0.04,2,    1.22,2,   2.090,6,   1.121,6, -999.00,9,  2173.2,2,  2323.3,2,  14.3188
06MT20060606,      EqAtl,       7,          1,       7010,         10,2,20060608,       0000,    -3.0058,   -34.8853,       3933,   103.1,  17.3898,  35.8699,2,-999.0000,9,   144.2,2,    3.04,2,   11.32,2,    0.05,2,    0.83,2,   2.144,6,   1.230,6, -999.00,9,  2152.8,2,  2349.2,2,  17.3724
06MT20060606,      EqAtl,       7,          1,       7011,         11,2,20060608,       0000,    -3.0058,   -34.8853,       3933,   103.3,  17.4113,  35.8721,2,-999.0000,9,  -999.0,9, -999.00,9, -999.00,9, -999.00,9, -999.00,9,-999.000,9,   1.011,2, -999.00,9,  -999.0,9,  -999.0,9,  17.3939
06MT20060606,      EqAtl,       7,          1,       7012,         12,2,20060608,       0000,    -3.0058,   -34.8853,       3933,    81.5,  21.8867,  36.1749,2,-999.0000,9,   158.2,2,    1.66,2,    4.61,2,    0.22,2,    0.45,2,   1.937,2,   1.150,2, -999.00,9,  2123.5,2,  2366.6,2,  21.8706
06MT20060606,      EqAtl,       7,          1,       7013,         13,2,20060608,       0000,    -3.0058,   -34.8853,       3933,    79.3,  21.8822,  36.1756,2,-999.0000,9,  -999.0,9, -999.00,9, -999.00,9, -999.00,9, -999.00,9,   1.934,2,   1.093,2, -999.00,9,  -999.0,9,  -999.0,9,  21.8665
06MT20060606,      EqAtl,       7,          1,       7014,         14,2,20060608,       0000,    -3.0058,   -34.8853,       3933,    57.2,  27.7738,  36.2262,2,-999.0000,9,   205.7,2,    0.39,2,    0.00,2,    0.01,2,    0.00,2,   1.627,2,   1.031,2, -999.00,9,  2030.7,2,  2364.8,2,  27.7604
06MT20060606,      EqAtl,       7,          1,       7015,         15,2,20060608,       0000,    -3.0058,   -34.8853,       3933,    57.7,  27.8360,  36.2143,2,-999.0000,9,  -999.0,9, -999.00,9, -999.00,9, -999.00,9, -999.00,9,-999.000,9,-999.000,9, -999.00,9,  -999.0,9,  -999.0,9,  27.8224
06MT20060606,      EqAtl,       7,          1,       7016,         16,2,20060608,       0000,    -3.0058,   -34.8853,       3933,    41.5,  28.4495,  36.1317,2,-999.0000,9,   198.6,2,    0.92,2,    0.00,2,    0.00,2,    0.01,2,-999.000,9,   1.001,2, -999.00,9,  2024.5,2,  2363.2,2,  28.4396
06MT20060606,      EqAtl,       7,          1,       7017,         17,2,20060608,       0000,    -3.0058,   -34.8853,       3933,    40.8,  28.4510,  36.1314,2,-999.0000,9,  -999.0,9, -999.00,9, -999.00,9, -999.00,9, -999.00,9,   1.604,2,   1.026,2, -999.00,9,  -999.0,9,  -999.0,9,  28.4412
06MT20060606,      EqAtl,       7,          1,       7018,         18,2,20060608,       0000,    -3.0058,   -34.8853,       3933,    21.4,  28.4821,  36.0997,2,-999.0000,9,   201.3,2,    1.03,2,    0.02,2,    0.00,2,    0.02,2,-999.000,9,   1.004,2, -999.00,9,  2018.0,2,  2361.5,2,  28.4770
06MT20060606,      EqAtl,       7,          1,       7019,         19,2,20060608,       0000,    -3.0058,   -34.8853,       3933,    21.4,  28.4812,  36.0997,2,-999.0000,9,  -999.0,9, -999.00,9, -999.00,9, -999.00,9, -999.00,9,   1.581,2,   0.992,2, -999.00,9,  -999.0,9,  -999.0,9,  28.4761
06MT20060606,      EqAtl,       7,          1,       7020,         20,2,20060608,       0000,    -3.0058,   -34.8853,       3933,    11.1,  28.4793,  36.0733,2,-999.0000,9,   203.1,6,    0.38,6,    0.03,6,    0.00,6,    0.00,6,   1.606,2,   0.984,2, -999.00,9,  2016.5,6,  2356.3,2,  28.4766
06MT20060606,      EqAtl,       7,          1,       7021,         21,2,20060608,       0000,    -3.0058,   -34.8853,       3933,     9.7,  28.4743,  36.0673,2,-999.0000,9,  -999.0,9, -999.00,9, -999.00,9, -999.00,9, -999.00,9,-999.000,9,-999.000,9, -999.00,9,  -999.0,9,  -999.0,9,  28.4720