BOTTLE,20211025CCHSIORKP
EXPOCODE,SECT_ID,STNNBR,CASTNO,SAMPNO,BTLNBR,BTLNBR_FLAG_W,DATE,TIME,LATITUDE,LONGITUDE,DEPTH,CTDPRS,CTDTMP,CTDSAL,CTDSAL_FLAG_W,SALNTY,SALNTY_FLAG_W,OXYGEN,OXYGEN_FLAG_W,SILCAT,SILCAT_FLAG_W,NITRAT,NITRAT_FLAG_W,NITRIT,NITRIT_FLAG_W,PHSPHT,PHSPHT_FLAG_W,CFC-11,CFC-11_FLAG_W,CFC-12,CFC-12_FLAG_W,SF6,SF6_FLAG_W,TCARBN,TCARBN_FLAG_W,ALKALI,ALKALI_FLAG_W,THETA
,,,,,,,,,,,METERS,DBAR,ITS-90,PSS-78,,PSS-78,,UMOL/KG,,UMOL/KG,,UMOL/KG,,UMOL/KG,,UMOL/KG,,PMOL/KG,,PMOL/KG,,FMOL/KG,,UMOL/KG,,UMOL/KG,,DEG C
06MT20060606,      EqAtl,      71,          1,      71001,          1,2,20060628,       0000,     2.0002,   -12.0255,       4614,  1305.5,   4.4275,  34.8935,2,  34.8892,2,   195.9,6,   20.34,6,   25.61,6,    0.00,6,    1.77,6,   0.062,6,   0.038,6, -999.00,9,  2192.8,2,  2307.2,6,   4.3207
06MT20060606,      EqAtl,      71,          1,      71002,          2,2,20060628,       0000,     2.0002,   -12.0255,       4614,  1081.3,   4.5692,  34.7024,2,  34.7015,2,   162.8,2,   25.66,2,   31.48,2,    0.00,2,    2.17,2,   0.039,2,   0.028,2, -999.00,9,  2211.8,2,  2300.3,2,   4.4817
06MT20060606,      EqAtl,      71,          1,      71003,          3,2,20060628,       0000,     2.0002,   -12.0255,       4614,   895.7,   4.6308,  34.5735,2,-999.0000,9,   151.7,2,   27.55,2,   35.04,2,    0.00,2,    2.34,2,   0.084,2,   0.046,2, -999.00,9,  2218.9,2,  2297.9,2,   4.5593
06MT20060606,      EqAtl,      71,          1,      71004,          4,2,20060628,       0000,     2.0002,   -12.0255,       4614,   697.8,   5.6705,  34.5219,2,-999.0000,9,   142.4,2,   22.80,2,   35.19,2,    0.00,2,    2.32,2,   0.476,2,   0.253,2, -999.00,9,  2213.1,2,  2288.7,2,   5.6103
06MT20060606,      EqAtl,      71,          1,      71005,          5,2,20060628,       0000,     2.0002,   -12.0255,       4614,   496.9,   6.7064,  34.5972,2,-999.0000,9,   132.3,2,   18.87,2,   33.87,2,    0.00,2,    2.22,2,   0.800,2,   0.364,2, -999.00,9,  2209.5,2,  2289.0,2,   6.6602
06MT20060606,      EqAtl,      71,          1,      71006,          6,2,20060628,       0000,     2.0002,   -12.0255,       4614,   301.0,   9.9470,  34.9306,2,-999.0000,9,   106.3,2,   11.48,2,   28.91,2,    0.00,2,    1.88,2,   1.300,2,   0.693,2, -999.00,9,  2205.7,2,  2296.6,2,   9.9120
06MT20060606,      EqAtl,      71,          1,      71007,          7,2,20060628,       0000,     2.0002,   -12.0255,       4614,   250.1,  12.1832,  35.1823,2,-999.0000,9,    85.4,2,    8.80,2,   26.66,2,    0.00,2,    1.73,2,   1.546,2,   0.850,2, -999.00,9,  2206.6,2,  2307.2,2,  12.1501
06MT20060606,      EqAtl,      71,          1,      71008,          8,2,20060628,       0000,     2.0002,   -12.0255,       4614,   201.3,  13.4315,  35.3335,2,-999.0000,9,   102.4,2,    6.50,2,   22.29,2,    0.00,2,    1.49,2,   1.900,2,   1.017,2, -999.00,9,  2189.4,2,  2314.8,2,  13.4031
06MT20060606,      EqAtl,      71,          1,      71009,          9,2,20060628,       0000,     2.0002,   -12.0255,       4614,   159.3,  14.1709,  35.4317,2,-999.0000,9,   101.8,2,    6.14,2,   21.31,2,    0.00,2,    1.44,2,   2.091,2,   1.152,2, -999.00,9,  2186.9,2,  2319.6,2,  14.1476
06MT20060606,      EqAtl,      71,          1,      71010,         10,2,20060628,       0000,     2.0002,   -12.0255,       4614,   120.4,  14.9122,  35.5301,2,-999.0000,9,   102.5,2,    5.60,2,   19.68,2,    0.01,2,    1.37,2,   2.072,2,   1.129,2, -999.00,9,  2181.7,2,  2326.5,2,  14.8940
06MT20060606,      EqAtl,      71,          1,      71011,         11,2,20060628,       0000,     2.0002,   -12.0255,       4614,   101.7,  15.3710,  35.5875,2,-999.0000,9,   106.5,6,    5.19,6,   18.82,6,    0.01,6,    1.31,6,   2.065,6,   1.182,6, -999.00,9,  2179.6,2,  2328.0,2,  15.3553
06MT20060606,      EqAtl,      71,          1,      71012,         12,2,20060628,       0000,     2.0002,   -12.0255,       4614,   102.3,  15.3533,  35.5848,2,-999.0000,9,  -999.0,9, -999.00,9, -999.00,9, -999.00,9, -999.00,9,-999.000,9,-999.000,9, -999.00,9,  -999.0,9,  -999.0,9,  15.3375
06MT20060606,      EqAtl,      71,          1,      71013,         13,2,20060628,       0000,     2.0002,   -12.0255,       4614,    81.0,  15.9269,  35.6436,2,-999.0000,9,    99.3,2,    5.04,2,   19.19,2,    0.03,2,    1.29,2,   2.044,2,   1.200,2, -999.00,9,  2183.5,2,  2329.2,2,  15.9141
06MT20060606,      EqAtl,      71,          1,      71014,         14,2,20060628,       0000,     2.0002,   -12.0255,       4614,    60.6,  16.9792,  35.7245,2,-999.0000,9,    86.3,2,    4.50,2,   18.73,2,    0.08,2,    1.22,2,   2.044,2,   1.211,2, -999.00,9,  2189.2,2,  2333.1,2,  16.9692
06MT20060606,      EqAtl,      71,          1,      71015,         15,2,20060628,       0000,     2.0002,   -12.0255,       4614,    60.9,  16.9668,  35.7249,2,-999.0000,9,  -999.0,9, -999.00,9, -999.00,9, -999.00,9, -999.00,9,-999.000,9,-999.000,9, -999.00,9,  -999.0,9,  -999.0,9,  16.9567
06MT20060606,      EqAtl,      71,          1,      71016,         16,2,20060628,       0000,     2.0002,   -12.0255,       4614,    41.0,  25.7876,  35.2115,2,-999.0000,9,   198.7,2,    0.27,2,    0.40,2,    0.01,2,    0.04,2,   1.998,2,   1.071,2, -999.00,9,  1995.9,2,  2304.1,2,  25.7785
06MT20060606,      EqAtl,      71,          1,      71017,         17,2,20060628,       0000,     2.0002,   -12.0255,       4614,    41.2,  25.8028,  35.2102,2,-999.0000,9,  -999.0,9, -999.00,9, -999.00,9, -999.00,9, -999.00,9,-999.000,9,-999.000,9, -999.00,9,  -999.0,9,  -999.0,9,  25.7937
06MT20060606,      EqAtl,      71,          1,      71018,         18,2,20060628,       0000,     2.0002,   -12.0255,       4614,    22.0,  26.2477,  35.1509,2,-999.0000,9,   201.9,2,    0.19,2,    0.01,2,    0.00,2,    0.03,2,   2.001,2,   1.090,2, -999.00,9,  -999.0,9,  -999.0,9,  26.2428
06MT20060606,      EqAtl,      71,          1,      71019,         19,2,20060628,       0000,     2.0002,   -12.0255,       4614,    21.8,  26.2507,  35.1505,2,-999.0000,9,  -999.0,9, -999.00,9, -999.00,9, -999.00,9, -999.00,9,-999.000,9,-999.000,9, -999.00,9,  -999.0,9,  -999.0,9,  26.2458
06MT20060606,      EqAtl,      71,          1,      71020,         20,2,20060628,       0000,     2.0002,   -12.0255,       4614,    10.9,  26.2567,  35.1493,2,-999.0000,9,   202.3,2,    0.36,2,    0.07,2,    0.00,2,    0.02,2,   1.700,6,   1.066,6, -999.00,9,  1977.1,6,  2302.0,2,  26.2543
06MT20060606,      EqAtl,      71,          1,      71021,         21,2,20060628,       0000,     2.0002,   -12.0255,       4614,    11.2,  26.2568,  35.1494,2,-999.0000,9,  -999.0,9, -999.00,9, -999.00,9, -999.00,9, -999.00,9,-999.000,9,-999.000,9, -999.00,9,  -999.0,9,  -999.0,9,  26.2543
06MT20060606,      EqAtl,      72,          1,      72001,          1,2,20060628,       0000,     1.9963,   -13.0173,       4931,  1310.6,   4.4557,  34.8904,2,  34.8906,2,   195.9,2,   20.59,2,   25.73,2,    0.01,2,    1.81,2,   0.066,2,   0.039,2, -999.00,9,  -999.0,9,  -999.0,9,   4.3481
06MT20060606,      EqAtl,      72,          1,      72002,          2,2,20060628,       0000,     1.9963,   -13.0173,       4931,  1097.9,   4.5797,  34.7364,2,-999.0000,9,   164.2,2,   25.24,2,   30.47,2,    0.01,2,    2.16,2,   0.022,2,   0.024,2, -999.00,9,  -999.0,9,  -999.0,9,   4.4905
06MT20060606,      EqAtl,      72,          1,      72003,          3,2,20060628,       0000,     1.9963,   -13.0173,       4931,   897.3,   4.6071,  34.5957,2,-999.0000,9,   152.7,2,   27.66,2,   33.85,2,    0.00,2,    2.37,2,   0.061,2,   0.032,2,    0.02,3,  -999.0,9,  -999.0,9,   4.5356
06MT20060606,      EqAtl,      72,          1,      72004,          4,2,20060628,       0000,     1.9963,   -13.0173,       4931,   696.9,   5.6474,  34.5444,2,  34.5441,2,   133.8,2,   23.96,2,   34.89,2,    0.00,2,    2.40,2,   0.290,6,   0.168,6, -999.00,9,  -999.0,9,  -999.0,9,   5.5874
06MT20060606,      EqAtl,      72,          1,      72005,          5,2,20060628,       0000,     1.9963,   -13.0173,       4931,   499.3,   6.4547,  34.5769,2,-999.0000,9,   133.7,2,   19.68,2,   33.29,2,    0.00,2,    2.27,2,   0.668,2,   0.343,2, -999.00,9,  -999.0,9,  -999.0,9,   6.4093
06MT20060606,      EqAtl,      72,          1,      72006,          6,2,20060628,       0000,     1.9963,   -13.0173,       4931,   300.1,  11.0897,  35.0717,2,-999.0000,9,    68.2,2,   11.36,2,   30.71,2,    0.00,2,    2.00,2,   1.096,2,   0.601,2,    0.24,3,  -999.0,9,  -999.0,9,  11.0523
06MT20060606,      EqAtl,      72,          1,      72007,          7,2,20060628,       0000,     1.9963,   -13.0173,       4931,   249.1,  13.0584,  35.2856,2,-999.0000,9,    95.8,2,    7.58,2,   23.48,2,    0.01,2,    1.59,2,   1.775,2,   0.967,2,    0.45,3,  -999.0,9,  -999.0,9,  13.0239
06MT20060606,      EqAtl,      72,          1,      72008,          8,2,20060628,       0000,     1.9963,   -13.0173,       4931,   201.3,  13.9408,  35.3974,2,-999.0000,9,    99.7,2,    7.02,2,   21.73,2,    0.00,2,    1.50,2,   1.941,6,   1.046,6,    0.51,3,  -999.0,9,  -999.0,9,  13.9117
06MT20060606,      EqAtl,      72,          1,      72009,          9,2,20060628,       0000,     1.9963,   -13.0173,       4931,   159.7,  14.3546,  35.4568,2,-999.0000,9,   110.9,2,    6.35,2,   19.97,2,    0.01,2,    1.39,2,   2.019,2,   1.116,2, -999.00,9,  -999.0,9,  -999.0,9,  14.3311
06MT20060606,      EqAtl,      72,          1,      72010,         10,2,20060628,       0000,     1.9963,   -13.0173,       4931,   120.3,  14.8328,  35.5229,2,-999.0000,9,   117.2,2,    5.84,2,   18.68,2,    0.01,2,    1.32,2,   2.137,2,   1.177,2,    0.68,3,  -999.0,9,  -999.0,9,  14.8147
06MT20060606,      EqAtl,      72,          1,      72011,         11,2,20060628,       0000,     1.9963,   -13.0173,       4931,   100.9,  15.0363,  35.5471,2,-999.0000,9,   119.6,6,    5.53,6,   18.74,6,    0.01,6,    1.32,6,   2.072,2,   1.154,2,    0.58,3,  -999.0,9,  -999.0,9,  15.0210
06MT20060606,      EqAtl,      72,          1,      72012,         12,2,20060628,       0000,     1.9963,   -13.0173,       4931,   100.8,  15.0359,  35.5470,2,-999.0000,9,  -999.0,9, -999.00,9, -999.00,9, -999.00,9, -999.00,9,-999.000,9,-999.000,9, -999.00,9,  -999.0,9,  -999.0,9,  15.0206
06MT20060606,      EqAtl,      72,          1,      72013,         13,2,20060628,       0000,     1.9963,   -13.0173,       4931,    79.9,  16.0554,  35.6711,2,-999.0000,9,   120.0,2,    4.20,2,   16.27,2,    0.06,2,    1.12,2,   2.137,2,   1.190,2,    0.68,3,  -999.0,9,  -999.0,9,  16.0427
06MT20060606,      EqAtl,      72,          1,      72014,         14,2,20060628,       0000,     1.9963,   -13.0173,       4931,    60.0,  18.1872,  35.7715,2,-999.0000,9,    99.9,2,    3.75,2,   15.45,2,    0.14,2,    1.06,2,   2.086,6,   1.187,6,    0.63,3,  -999.0,9,  -999.0,9,  18.1768
06MT20060606,      EqAtl,      72,          1,      72015,         15,2,20060628,       0000,     1.9963,   -13.0173,       4931,    59.7,  18.1943,  35.7717,2,-999.0000,9,  -999.0,9, -999.00,9, -999.00,9, -999.00,9, -999.00,9,-999.000,9,-999.000,9, -999.00,9,  -999.0,9,  -999.0,9,  18.1839
06MT20060606,      EqAtl,      72,          1,      72016,         16,2,20060628,       0000,     1.9963,   -13.0173,       4931,    40.6,  26.4107,  35.1335,2,-999.0000,9,   195.6,2,    0.37,2,    0.87,2,    0.01,2,    0.07,2,   1.861,2,   1.079,2,    0.85,3,  -999.0,9,  -999.0,9,  26.4015
06MT20060606,      EqAtl,      72,          1,      72017,         17,2,20060628,       0000,     1.9963,   -13.0173,       4931,    40.0,  26.5033,  35.1203,2,-999.0000,9,  -999.0,9, -999.00,9, -999.00,9, -999.00,9, -999.00,9,-999.000,9,-999.000,9, -999.00,9,  -999.0,9,  -999.0,9,  26.4942
06MT20060606,      EqAtl,      72,          1,      72018,         18,2,20060628,       0000,     1.9963,   -13.0173,       4931,    21.5,  26.6849,  35.0656,2,-999.0000,9,   202.0,2,    0.20,2,    0.05,2,    0.00,2,    0.00,2,   1.702,2,   1.056,2,    0.94,3,  -999.0,9,  -999.0,9,  26.6800
06MT20060606,      EqAtl,      72,          1,      72019,         19,2,20060628,       0000,     1.9963,   -13.0173,       4931,    21.2,  26.6851,  35.0658,2,-999.0000,9,  -999.0,9, -999.00,9, -999.00,9, -999.00,9, -999.00,9,-999.000,9,-999.000,9, -999.00,9,  -999.0,9,  -999.0,9,  26.6803
06MT20060606,      EqAtl,      72,          1,      72020,         20,2,20060628,       0000,     1.9963,   -13.0173,       4931,    10.6,  26.6946,  35.0660,2,-999.0000,9,   202.4,2,    0.24,2,    0.07,2,    0.00,2,    0.01,2,   1.653,2,   1.023,2,    1.05,3,  -999.0,9,  -999.0,9,  26.6922
06MT20060606,      EqAtl,      72,          1,      72021,         21,2,20060628,       0000,     1.9963,   -13.0173,       4931,    10.1,  26.6926,  35.0660,2,-999.0000,9,  -999.0,9, -999.00,9, -999.00,9, -999.00,9, -999.00,9,-999.000,9,-999.000,9, -999.00,9,  -999.0,9,  -999.0,9,  26.6903
06MT20060606,      EqAtl,      73,          1,      73001,          1,2,20060628,       0000,     1.9875,   -14.0208,       4969,  1299.2,   4.5325,  34.8826,2,  34.8829,2,   194.8,6,   20.95,6,   25.32,6,    0.01,6,    1.78,6,   0.080,6,   0.043,6, -999.00,9,  2192.8,2,  2306.0,2,   4.4252
06MT20060606,      EqAtl,      73,          1,      73002,          2,2,20060628,       0000,     1.9875,   -14.0208,       4969,  1097.5,   4.6118,  34.7166,2,-999.0000,9,   163.3,2,   25.97,2,   30.82,2,    0.01,2,    2.13,2,   0.036,2,   0.029,2, -999.00,9,  2210.5,2,  2296.9,2,   4.5224
06MT20060606,      EqAtl,      73,          1,      73003,          3,2,20060628,       0000,     1.9875,   -14.0208,       4969,   896.5,   4.5635,  34.6025,2,  34.6062,2,   153.7,2,   28.12,2,   33.38,2,    0.01,2,    2.31,2,   0.060,2,   0.038,2, -999.00,9,  2217.5,2,  2298.1,2,   4.4923
06MT20060606,      EqAtl,      73,          1,      73004,          4,2,20060628,       0000,     1.9875,   -14.0208,       4969,   747.0,   5.2779,  34.5335,2,  34.5360,2,   133.3,2,   25.75,2,   35.07,2,    0.00,2,    2.43,2,   0.117,2,   0.068,2, -999.00,9,  2222.7,2,  2289.3,2,   5.2154
06MT20060606,      EqAtl,      73,          1,      73005,          5,2,20060628,       0000,     1.9875,   -14.0208,       4969,   300.3,  10.6762,  35.0113,2,-999.0000,9,    99.9,2,   11.03,2,   28.10,2,    0.01,2,    1.85,2,   1.384,2,   0.715,2, -999.00,9,  2205.4,2,  2296.4,2,  10.6397
06MT20060606,      EqAtl,      73,          1,      73006,          6,2,20060628,       0000,     1.9875,   -14.0208,       4969,   250.8,  12.1960,  35.1819,2,-999.0000,9,    90.7,2,    8.78,2,   26.04,2,    0.00,2,    1.70,2,   1.554,2,   0.833,2, -999.00,9,  2201.3,2,  2303.6,2,  12.1628
06MT20060606,      EqAtl,      73,          1,      73007,          7,2,20060628,       0000,     1.9875,   -14.0208,       4969,   200.0,  13.8691,  35.3838,2,-999.0000,9,    89.5,2,    7.48,2,   23.05,2,    0.00,2,    1.57,2,   1.771,2,   0.969,2, -999.00,9,  2195.7,2,  2311.9,2,  13.8403
06MT20060606,      EqAtl,      73,          1,      73008,          8,2,20060628,       0000,     1.9875,   -14.0208,       4969,   159.6,  14.4448,  35.4671,2,-999.0000,9,   113.0,2,    5.77,2,   19.54,2,    0.00,2,    1.35,2,   2.045,2,   1.094,2, -999.00,9,  2178.5,2,  2318.2,2,  14.4212
06MT20060606,      EqAtl,      73,          1,      73009,          9,2,20060628,       0000,     1.9875,   -14.0208,       4969,   120.4,  14.9691,  35.5389,2,-999.0000,9,   116.8,2,    5.44,2,   18.29,2,    0.02,2,    1.28,2,-999.000,9,-999.000,9, -999.00,9,  2173.6,2,  2322.2,2,  14.9509
06MT20060606,      EqAtl,      73,          1,      73010,         10,2,20060628,       0000,     1.9875,   -14.0208,       4969,   120.3,  14.9694,  35.5391,2,-999.0000,9,   117.2,2, -999.00,9, -999.00,9, -999.00,9, -999.00,9,   2.105,6,   1.144,6, -999.00,9,  -999.0,9,  -999.0,9,  14.9512
06MT20060606,      EqAtl,      73,          1,      73011,         11,2,20060628,       0000,     1.9875,   -14.0208,       4969,   100.7,  15.2480,  35.5764,2,-999.0000,9,   123.5,6,    4.92,6,   16.94,6,    0.02,6,    1.18,6,   2.128,2,   1.179,2, -999.00,9,  2168.1,2,  2325.7,2,  15.2325
06MT20060606,      EqAtl,      73,          1,      73012,         12,2,20060628,       0000,     1.9875,   -14.0208,       4969,   100.7,  15.2479,  35.5764,2,-999.0000,9,  -999.0,9, -999.00,9, -999.00,9, -999.00,9, -999.00,9,-999.000,9,-999.000,9, -999.00,9,  -999.0,9,  -999.0,9,  15.2324
06MT20060606,      EqAtl,      73,          1,      73013,         13,2,20060628,       0000,     1.9875,   -14.0208,       4969,    80.9,  15.3589,  35.5901,2,-999.0000,9,   122.2,2,    4.84,2,   16.69,2,    0.03,2,    1.17,2,   2.122,2,   1.181,2, -999.00,9,  2168.4,2,  2324.3,2,  15.3464
06MT20060606,      EqAtl,      73,          1,      73014,         14,2,20060628,       0000,     1.9875,   -14.0208,       4969,    60.5,  16.6156,  35.6973,2,-999.0000,9,   114.9,2,    3.81,2,   16.00,2,    0.07,2,    1.07,2,   2.118,2,   1.196,2, -999.00,9,  2169.5,2,  2331.3,2,  16.6058
06MT20060606,      EqAtl,      73,          1,      73015,         15,2,20060628,       0000,     1.9875,   -14.0208,       4969,    40.4,  27.1755,  35.2932,2,-999.0000,9,   184.7,2,    0.64,2,    1.22,2,    0.06,2,    0.09,2,   1.773,2,   1.070,2, -999.00,9,  2017.2,2,  2320.5,2,  27.1662
06MT20060606,      EqAtl,      73,          1,      73016,         16,2,20060628,       0000,     1.9875,   -14.0208,       4969,    19.8,  27.5413,  34.9545,2,-999.0000,9,   200.3,2,    0.01,2,    0.01,2,    0.00,2,    0.00,2,   1.714,6,   1.018,6, -999.00,9,  -999.0,9,  -999.0,9,  27.5367
06MT20060606,      EqAtl,      73,          1,      73017,         17,2,20060628,       0000,     1.9875,   -14.0208,       4969,    10.1,  27.5494,  34.9509,2,-999.0000,9,   200.0,2,    0.54,2,    0.04,2,    0.00,2,    0.01,2,   1.599,2,   1.021,2, -999.00,9,  1944.7,6,  2280.7,2,  27.5471
06MT20060606,      EqAtl,      73,          1,      73018,         18,2,20060628,       0000,     1.9875,   -14.0208,       4969,    10.1,  27.5488,  34.9511,2,-999.0000,9,  -999.0,9, -999.00,9, -999.00,9, -999.00,9, -999.00,9,-999.000,9,-999.000,9, -999.00,9,  -999.0,9,  -999.0,9,  27.5465