BOTTLE,20211025CCHSIORKP
EXPOCODE,SECT_ID,STNNBR,CASTNO,SAMPNO,BTLNBR,BTLNBR_FLAG_W,DATE,TIME,LATITUDE,LONGITUDE,DEPTH,CTDPRS,CTDTMP,CTDSAL,CTDSAL_FLAG_W,SALNTY,SALNTY_FLAG_W,OXYGEN,OXYGEN_FLAG_W,SILCAT,SILCAT_FLAG_W,NITRAT,NITRAT_FLAG_W,NITRIT,NITRIT_FLAG_W,PHSPHT,PHSPHT_FLAG_W,CFC-11,CFC-11_FLAG_W,CFC-12,CFC-12_FLAG_W,SF6,SF6_FLAG_W,TCARBN,TCARBN_FLAG_W,ALKALI,ALKALI_FLAG_W,THETA
,,,,,,,,,,,METERS,DBAR,ITS-90,PSS-78,,PSS-78,,UMOL/KG,,UMOL/KG,,UMOL/KG,,UMOL/KG,,UMOL/KG,,PMOL/KG,,PMOL/KG,,FMOL/KG,,UMOL/KG,,UMOL/KG,,DEG C
06MT20060606,      EqAtl,      61,          1,      61001,          1,2,20060625,       0000,    -1.4988,   -10.0013,       4237,  1312.3,   4.4652,  34.9030,2,-999.0000,9,   201.0,6,   19.48,6,   25.59,6,    0.00,6,    1.71,6,   0.118,6,   0.072,6, -999.00,9,  2189.3,6,  2308.0,2,   4.3574
06MT20060606,      EqAtl,      61,          1,      61002,          2,2,20060625,       0000,    -1.4988,   -10.0013,       4237,  1105.6,   4.5102,  34.6880,2,  34.6873,2,   164.2,2,   26.95,2,   32.87,2,    0.00,2,    2.22,2,   0.035,2,   0.025,2, -999.00,9,  2214.5,2,  2304.0,2,   4.4210
06MT20060606,      EqAtl,      61,          1,      61003,          3,2,20060625,       0000,    -1.4988,   -10.0013,       4237,   903.4,   4.5691,  34.5674,2,-999.0000,9,   151.7,2,   28.96,2,   35.45,2,    0.00,2,    2.38,2,   0.068,2,   0.045,2, -999.00,9,  2221.1,2,  2298.9,2,   4.4973
06MT20060606,      EqAtl,      61,          1,      61004,          4,2,20060625,       0000,    -1.4988,   -10.0013,       4237,   703.6,   5.4466,  34.5004,2,  34.4987,2,   148.8,2,   23.85,2,   35.12,2,    0.00,2,    2.35,2,   0.491,2,   0.239,2, -999.00,9,  2212.6,2,  2290.7,2,   5.3871
06MT20060606,      EqAtl,      61,          1,      61005,          5,2,20060625,       0000,    -1.4988,   -10.0013,       4237,   502.7,   6.5098,  34.5681,2,-999.0000,9,   137.9,2,   19.51,2,   33.92,2,    0.01,2,    2.22,2,   0.784,2,   0.400,2, -999.00,9,  2208.8,2,  2290.1,2,   6.4639
06MT20060606,      EqAtl,      61,          1,      61006,          6,2,20060625,       0000,    -1.4988,   -10.0013,       4237,   302.2,  10.1049,  34.9342,2,-999.0000,9,    71.4,2,   12.38,2,   32.89,2,    0.00,2,    2.06,2,   1.036,2,   0.550,2, -999.00,9,  2226.4,2,  2296.8,2,  10.0694
06MT20060606,      EqAtl,      61,          1,      61007,          7,2,20060625,       0000,    -1.4988,   -10.0013,       4237,   248.7,  11.8740,  35.1298,2,  35.1291,2,   101.8,2,    8.60,2,   25.64,2,    0.00,2,    1.67,2,   1.714,6,   0.916,6, -999.00,9,  2197.6,2,  2305.1,2,  11.8417
06MT20060606,      EqAtl,      61,          1,      61008,          8,2,20060625,       0000,    -1.4988,   -10.0013,       4237,   201.7,  12.8859,  35.2596,2,-999.0000,9,    86.8,2,    7.72,2,   25.52,2,    0.01,2,    1.66,2,   1.750,2,   0.932,2, -999.00,9,  2203.1,2,  2310.1,2,  12.8582
06MT20060606,      EqAtl,      61,          1,      61009,          9,2,20060625,       0000,    -1.4988,   -10.0013,       4237,   161.2,  13.6001,  35.3507,2,-999.0000,9,    87.7,2,    6.95,2,   24.52,2,    0.01,2,    1.61,2,   1.867,2,   1.011,2, -999.00,9,  2199.5,2,  2314.5,2,  13.5772
06MT20060606,      EqAtl,      61,          1,      61010,         10,2,20060625,       0000,    -1.4988,   -10.0013,       4237,   119.9,  14.2347,  35.4357,2,-999.0000,9,    92.5,2,    6.49,2,   22.72,2,    0.01,2,    1.50,2,   1.974,2,   1.072,2, -999.00,9,  2194.5,2,  2318.2,2,  14.2172
06MT20060606,      EqAtl,      61,          1,      61011,         11,2,20060625,       0000,    -1.4988,   -10.0013,       4237,   101.6,  14.4079,  35.4596,2,-999.0000,9,    93.7,2,    6.09,2,   22.19,2,    0.01,2,    1.48,2,-999.000,9,-999.000,9, -999.00,9,  2192.9,2,  2320.6,2,  14.3929
06MT20060606,      EqAtl,      61,          1,      61012,         12,2,20060625,       0000,    -1.4988,   -10.0013,       4237,   101.0,  14.4089,  35.4600,2,-999.0000,9,  -999.0,9, -999.00,9, -999.00,9, -999.00,9, -999.00,9,   2.006,2,   1.102,2, -999.00,9,  -999.0,9,  -999.0,9,  14.3940
06MT20060606,      EqAtl,      61,          1,      61013,         13,2,20060625,       0000,    -1.4988,   -10.0013,       4237,    80.5,  14.6309,  35.4903,2,-999.0000,9,    93.8,2,    5.79,2,   21.84,2,    0.01,2,    1.44,2,   2.034,2,   1.114,2, -999.00,9,  2191.8,2,  2322.4,2,  14.6189
06MT20060606,      EqAtl,      61,          1,      61014,         14,2,20060625,       0000,    -1.4988,   -10.0013,       4237,    60.9,  15.3609,  35.5714,2,-999.0000,9,   106.3,2,    4.86,2,   19.30,2,    0.06,2,    1.29,2,   2.123,6,   1.163,6, -999.00,9,  2181.9,2,  2325.4,2,  15.3515
06MT20060606,      EqAtl,      61,          1,      61015,         15,2,20060625,       0000,    -1.4988,   -10.0013,       4237,    61.4,  15.3585,  35.5713,2,-999.0000,9,  -999.0,9, -999.00,9, -999.00,9, -999.00,9, -999.00,9,-999.000,9,-999.000,9, -999.00,9,  -999.0,9,  -999.0,9,  15.3490
06MT20060606,      EqAtl,      61,          1,      61016,         16,2,20060625,       0000,    -1.4988,   -10.0013,       4237,    40.2,  19.7952,  35.7852,2,-999.0000,9,   156.1,2,    2.62,2,    8.83,2,    0.28,2,    0.70,2,   2.033,2,   1.142,2, -999.00,9,  2125.2,2,  2343.0,2,  19.7878
06MT20060606,      EqAtl,      61,          1,      61017,         17,2,20060625,       0000,    -1.4988,   -10.0013,       4237,    40.2,  19.7871,  35.7853,2,-999.0000,9,  -999.0,9, -999.00,9, -999.00,9, -999.00,9, -999.00,9,-999.000,9,-999.000,9, -999.00,9,  -999.0,9,  -999.0,9,  19.7797
06MT20060606,      EqAtl,      61,          1,      61018,         18,2,20060625,       0000,    -1.4988,   -10.0013,       4237,    20.3,  23.8357,  35.8995,2,-999.0000,9,   198.6,2,    0.92,2,    1.74,2,    0.06,2,    0.22,2,   2.016,2,   1.136,2, -999.00,9,  -999.0,9,  -999.0,9,  23.8314
06MT20060606,      EqAtl,      61,          1,      61019,         19,2,20060625,       0000,    -1.4988,   -10.0013,       4237,    20.3,  23.9066,  35.8980,2,-999.0000,9,  -999.0,9, -999.00,9, -999.00,9, -999.00,9, -999.00,9,-999.000,9,-999.000,9, -999.00,9,  -999.0,9,  -999.0,9,  23.9023
06MT20060606,      EqAtl,      61,          1,      61020,         20,2,20060625,       0000,    -1.4988,   -10.0013,       4237,    13.0,  24.5288,  35.8882,2,-999.0000,9,   202.1,2,    0.87,2,    1.10,2,    0.05,2,    0.19,2,-999.000,9,-999.000,9, -999.00,9,  2056.8,2,  2351.0,6,  24.5260
06MT20060606,      EqAtl,      61,          1,      61021,         21,2,20060625,       0000,    -1.4988,   -10.0013,       4237,    12.7,  24.5125,  35.8897,2,-999.0000,9,  -999.0,9, -999.00,9, -999.00,9, -999.00,9, -999.00,9,   1.830,2,   1.095,2, -999.00,9,  -999.0,9,  -999.0,9,  24.5098
06MT20060606,      EqAtl,      62,          1,      62001,          1,2,20060625,       0000,    -1.0002,   -10.0000,       4237,   252.0,  11.3214,  35.0739,2,-999.0000,9,  -999.0,9, -999.00,9, -999.00,9, -999.00,9, -999.00,9,-999.000,9,-999.000,9, -999.00,9,  -999.0,9,  -999.0,9,  11.2896
06MT20060606,      EqAtl,      62,          1,      62002,          2,2,20060625,       0000,    -1.0002,   -10.0000,       4237,    99.6,  14.5590,  35.4842,2,-999.0000,9,  -999.0,9, -999.00,9, -999.00,9, -999.00,9, -999.00,9,-999.000,9,-999.000,9, -999.00,9,  -999.0,9,  -999.0,9,  14.5442
06MT20060606,      EqAtl,      62,          1,      62003,          3,2,20060625,       0000,    -1.0002,   -10.0000,       4237,    60.6,  16.1699,  35.6892,2,-999.0000,9,  -999.0,9, -999.00,9, -999.00,9, -999.00,9, -999.00,9,-999.000,9,-999.000,9, -999.00,9,  -999.0,9,  -999.0,9,  16.1602
06MT20060606,      EqAtl,      62,          1,      62004,          4,2,20060625,       0000,    -1.0002,   -10.0000,       4237,    20.1,  22.6944,  35.9342,2,-999.0000,9,  -999.0,9, -999.00,9, -999.00,9, -999.00,9, -999.00,9,-999.000,9,-999.000,9, -999.00,9,  -999.0,9,  -999.0,9,  22.6903
06MT20060606,      EqAtl,      62,          1,      62005,          5,2,20060625,       0000,    -1.0002,   -10.0000,       4237,    11.3,  23.6355,  35.9140,2,-999.0000,9,  -999.0,9, -999.00,9, -999.00,9, -999.00,9, -999.00,9,-999.000,9,-999.000,9, -999.00,9,  -999.0,9,  -999.0,9,  23.6331
06MT20060606,      EqAtl,      63,          1,      63001,          1,2,20060626,       0000,    -0.6728,   -10.0073,       4544,  1305.2,   4.5024,  34.9054,2,  34.9034,2,   201.8,6,   19.20,6,   25.65,6,    0.00,6,    1.72,6,   0.128,6,   0.066,6, -999.00,9,  2189.1,2,  2306.2,6,   4.3948
06MT20060606,      EqAtl,      63,          1,      63002,          2,2,20060626,       0000,    -0.6728,   -10.0073,       4544,  1107.9,   4.4889,  34.6929,2,-999.0000,9,   163.4,2,   26.89,2,   32.26,2,    0.01,2,    2.19,2,   0.036,2,   0.016,2, -999.00,9,  2212.0,2,  2302.4,2,   4.3997
06MT20060606,      EqAtl,      63,          1,      63003,          3,2,20060626,       0000,    -0.6728,   -10.0073,       4544,   904.8,   4.6805,  34.5267,2,-999.0000,9,   152.9,2,   28.89,2,   35.28,2,    0.01,2,    2.40,2,   0.184,2,   0.096,2, -999.00,9,  2217.2,2,  2295.3,2,   4.6079
06MT20060606,      EqAtl,      63,          1,      63004,          4,2,20060626,       0000,    -0.6728,   -10.0073,       4544,   703.4,   5.3996,  34.5061,2,-999.0000,9,   142.5,2,   24.73,2,   34.60,2,    0.00,2,    2.38,2,   0.372,2,   0.186,2, -999.00,9,  -999.0,9,  -999.0,9,   5.3403
06MT20060606,      EqAtl,      63,          1,      63005,          5,2,20060626,       0000,    -0.6728,   -10.0073,       4544,   504.4,   6.6174,  34.5738,2,-999.0000,9,   133.0,2,   18.87,2,   32.93,2,    0.00,2,    2.22,2,   0.860,2,   0.424,2, -999.00,9,  2209.8,2,  2287.2,2,   6.5709
06MT20060606,      EqAtl,      63,          1,      63006,          6,2,20060626,       0000,    -0.6728,   -10.0073,       4544,   303.9,  10.8388,  35.0144,2,-999.0000,9,    94.5,2,   10.32,2,   28.48,2,    0.00,2,    1.85,2,   1.414,2,   0.741,2, -999.00,9,  2206.1,2,  2300.0,2,  10.8015
06MT20060606,      EqAtl,      63,          1,      63007,          7,2,20060626,       0000,    -0.6728,   -10.0073,       4544,   253.2,  11.6228,  35.1103,2,-999.0000,9,    82.5,2,    9.47,2,   27.87,2,    0.00,2,    1.80,2,   1.472,2,   0.780,2, -999.00,9,  2209.5,2,  2304.1,2,  11.5903
06MT20060606,      EqAtl,      63,          1,      63008,          8,2,20060626,       0000,    -0.6728,   -10.0073,       4544,   202.2,  13.7206,  35.3720,2,-999.0000,9,   108.6,2,    6.73,2,   21.00,2,    0.00,2,    1.43,2,   1.964,2,   1.026,2, -999.00,9,  2183.9,2,  2317.0,2,  13.6917
06MT20060606,      EqAtl,      63,          1,      63009,          9,2,20060626,       0000,    -0.6728,   -10.0073,       4544,   160.7,  14.1748,  35.4401,2,-999.0000,9,   137.6,2,    5.15,2,   16.97,2,    0.01,2,    1.19,2,   2.157,2,   1.175,2, -999.00,9,  2162.6,2,  2322.9,2,  14.1513
06MT20060606,      EqAtl,      63,          1,      63010,         10,2,20060626,       0000,    -0.6728,   -10.0073,       4544,   121.4,  14.4879,  35.4883,2,-999.0000,9,   154.6,2,    4.70,2,   14.36,2,    0.02,2,    1.06,2,   2.288,6,   1.240,6, -999.00,9,  2150.9,2,  2326.3,2,  14.4699
06MT20060606,      EqAtl,      63,          1,      63011,         11,2,20060626,       0000,    -0.6728,   -10.0073,       4544,   101.3,  15.0251,  35.5656,2,-999.0000,9,   157.7,6,    4.18,6,   13.24,6,    0.04,6,    0.96,6,   2.316,2,   1.263,2, -999.00,9,  2147.1,2,  2331.7,2,  15.0097
06MT20060606,      EqAtl,      63,          1,      63012,         12,2,20060626,       0000,    -0.6728,   -10.0073,       4544,   101.7,  15.0136,  35.5648,2,-999.0000,9,  -999.0,9, -999.00,9, -999.00,9, -999.00,9, -999.00,9,-999.000,9,-999.000,9, -999.00,9,  -999.0,9,  -999.0,9,  14.9982
06MT20060606,      EqAtl,      63,          1,      63013,         13,2,20060626,       0000,    -0.6728,   -10.0073,       4544,    80.2,  15.7980,  35.6803,2,-999.0000,9,   163.1,2,    3.49,2,   11.46,2,    0.04,2,    0.87,2,   2.274,6,   1.242,6, -999.00,9,  2141.4,2,  2337.4,2,  15.7854
06MT20060606,      EqAtl,      63,          1,      63014,         14,2,20060626,       0000,    -0.6728,   -10.0073,       4544,    60.8,  16.1137,  35.7262,2,-999.0000,9,   164.8,2,    3.58,2,   10.86,2,    0.05,2,    0.83,2,   2.299,2,   1.270,2, -999.00,9,  2139.8,2,  2340.6,2,  16.1040
06MT20060606,      EqAtl,      63,          1,      63015,         15,2,20060626,       0000,    -0.6728,   -10.0073,       4544,    60.9,  16.1177,  35.7275,2,-999.0000,9,  -999.0,9, -999.00,9, -999.00,9, -999.00,9, -999.00,9,-999.000,9,-999.000,9, -999.00,9,  -999.0,9,  -999.0,9,  16.1080
06MT20060606,      EqAtl,      63,          1,      63016,         16,2,20060626,       0000,    -0.6728,   -10.0073,       4544,    40.2,  17.3826,  35.9110,2,-999.0000,9,   171.0,2,    2.82,2,    8.41,2,    0.17,2,    0.68,2,   2.316,6,   1.266,6, -999.00,9,  2131.6,2,  2351.7,2,  17.3758
06MT20060606,      EqAtl,      63,          1,      63017,         17,2,20060626,       0000,    -0.6728,   -10.0073,       4544,    40.3,  17.3817,  35.9110,2,-999.0000,9,  -999.0,9, -999.00,9, -999.00,9, -999.00,9, -999.00,9,-999.000,9,-999.000,9, -999.00,9,  -999.0,9,  -999.0,9,  17.3749
06MT20060606,      EqAtl,      63,          1,      63018,         18,2,20060626,       0000,    -0.6728,   -10.0073,       4544,    20.5,  22.0533,  35.9637,2,-999.0000,9,   191.2,2,    1.37,2,    3.14,2,    0.12,2,    0.32,2,   2.037,2,   1.137,2, -999.00,9,  -999.0,9,  -999.0,9,  22.0492
06MT20060606,      EqAtl,      63,          1,      63019,         19,2,20060626,       0000,    -0.6728,   -10.0073,       4544,    21.1,  21.9986,  35.9667,2,-999.0000,9,  -999.0,9, -999.00,9, -999.00,9, -999.00,9, -999.00,9,-999.000,9,-999.000,9, -999.00,9,  -999.0,9,  -999.0,9,  21.9944
06MT20060606,      EqAtl,      63,          1,      63020,         20,2,20060626,       0000,    -0.6728,   -10.0073,       4544,    11.2,  23.2779,  35.9334,2,-999.0000,9,   198.2,2,    1.28,2,    1.84,2,    0.08,2,    0.23,2,   1.915,2,   1.147,2, -999.00,9,  2067.4,2,  2352.4,2,  23.2756
06MT20060606,      EqAtl,      63,          1,      63021,         21,2,20060626,       0000,    -0.6728,   -10.0073,       4544,    11.2,  23.2683,  35.9340,2,  35.9309,2,  -999.0,9, -999.00,9, -999.00,9, -999.00,9, -999.00,9,-999.000,9,-999.000,9, -999.00,9,  -999.0,9,  -999.0,9,  23.2660
06MT20060606,      EqAtl,      64,          1,      64001,          1,2,20060626,       0000,    -0.3530,   -10.0125,       4638,   250.9,  12.1683,  35.1728,2,-999.0000,9,  -999.0,9, -999.00,9, -999.00,9, -999.00,9, -999.00,9,-999.000,9,-999.000,9, -999.00,9,  -999.0,9,  -999.0,9,  12.1351
06MT20060606,      EqAtl,      64,          1,      64002,          2,2,20060626,       0000,    -0.3530,   -10.0125,       4638,   101.1,  14.5764,  35.5018,2,  35.4985,2,  -999.0,9, -999.00,9, -999.00,9, -999.00,9, -999.00,9,-999.000,9,-999.000,9, -999.00,9,  -999.0,9,  -999.0,9,  14.5614
06MT20060606,      EqAtl,      64,          1,      64003,          3,2,20060626,       0000,    -0.3530,   -10.0125,       4638,    61.8,  15.4816,  35.6347,2,-999.0000,9,  -999.0,9, -999.00,9, -999.00,9, -999.00,9, -999.00,9,-999.000,9,-999.000,9, -999.00,9,  -999.0,9,  -999.0,9,  15.4720
06MT20060606,      EqAtl,      64,          1,      64004,          4,2,20060626,       0000,    -0.3530,   -10.0125,       4638,    21.2,  22.1220,  35.9633,2,-999.0000,9,  -999.0,9, -999.00,9, -999.00,9, -999.00,9, -999.00,9,-999.000,9,-999.000,9, -999.00,9,  -999.0,9,  -999.0,9,  22.1178
06MT20060606,      EqAtl,      64,          1,      64005,          5,2,20060626,       0000,    -0.3530,   -10.0125,       4638,    10.9,  23.2564,  35.9358,2,-999.0000,9,  -999.0,9, -999.00,9, -999.00,9, -999.00,9, -999.00,9,-999.000,9,-999.000,9, -999.00,9,  -999.0,9,  -999.0,9,  23.2542