BOTTLE,20211025CCHSIORKP
EXPOCODE,SECT_ID,STNNBR,CASTNO,SAMPNO,BTLNBR,BTLNBR_FLAG_W,DATE,TIME,LATITUDE,LONGITUDE,DEPTH,CTDPRS,CTDTMP,CTDSAL,CTDSAL_FLAG_W,SALNTY,SALNTY_FLAG_W,OXYGEN,OXYGEN_FLAG_W,SILCAT,SILCAT_FLAG_W,NITRAT,NITRAT_FLAG_W,NITRIT,NITRIT_FLAG_W,PHSPHT,PHSPHT_FLAG_W,CFC-11,CFC-11_FLAG_W,CFC-12,CFC-12_FLAG_W,SF6,SF6_FLAG_W,TCARBN,TCARBN_FLAG_W,ALKALI,ALKALI_FLAG_W,THETA
,,,,,,,,,,,METERS,DBAR,ITS-90,PSS-78,,PSS-78,,UMOL/KG,,UMOL/KG,,UMOL/KG,,UMOL/KG,,UMOL/KG,,PMOL/KG,,PMOL/KG,,FMOL/KG,,UMOL/KG,,UMOL/KG,,DEG C
06MT20060606,      EqAtl,      65,          1,      65001,          1,2,20060626,       0000,     0.0162,    -9.8340,       4515,  3996.3,   2.3514,  34.8866,2,  34.8849,2,   244.7,6,   42.53,6,   21.92,6,    0.00,6,    1.54,6,   0.037,2,   0.027,2, -999.00,9,  2194.4,2,  2334.2,6,   2.0077
06MT20060606,      EqAtl,      65,          1,      65002,          2,2,20060626,       0000,     0.0162,    -9.8340,       4515,  3597.2,   2.4441,  34.8939,2,-999.0000,9,   242.5,2,   41.30,2,   22.22,2,    0.00,2,    1.53,2,   0.020,2,   0.012,2, -999.00,9,  2194.2,2,  2332.8,2,   2.1425
06MT20060606,      EqAtl,      65,          1,      65003,          3,2,20060626,       0000,     0.0162,    -9.8340,       4515,  3162.8,   2.6079,  34.9074,2,  34.9059,2,   241.6,2,   37.57,2,   22.07,2,    0.00,2,    1.52,2,   0.010,2,   0.008,2, -999.00,9,  2189.9,2,  2331.8,2,   2.3489
06MT20060606,      EqAtl,      65,          1,      65004,          4,2,20060626,       0000,     0.0162,    -9.8340,       4515,  2795.9,   2.8501,  34.9240,2,-999.0000,9,   243.7,2,   32.39,2,   21.14,2,    0.00,2,    1.46,2,   0.025,2,   0.020,2, -999.00,9,  2181.6,2,  2322.6,2,   2.6236
06MT20060606,      EqAtl,      65,          1,      65005,          5,2,20060626,       0000,     0.0162,    -9.8340,       4515,  2397.5,   3.0956,  34.9396,2,  34.9376,2,   244.5,2,   27.21,2,   20.64,2,    0.00,2,    1.42,2,   0.051,2,   0.026,2, -999.00,9,  2176.8,2,  2318.3,2,   2.9040
06MT20060606,      EqAtl,      65,          1,      65006,          6,2,20060626,       0000,     0.0162,    -9.8340,       4515,  1989.2,   3.6590,  34.9690,2,-999.0000,9,   244.8,2,   18.64,2,   19.89,2,    0.00,2,    1.37,2,   0.089,2,   0.061,2, -999.00,9,  2168.5,2,  2310.4,2,   3.4975
06MT20060606,      EqAtl,      65,          1,      65007,          7,2,20060626,       0000,     0.0162,    -9.8340,       4515,  1697.7,   4.0135,  34.9786,2,-999.0000,9,   240.9,2,   15.68,2,   19.84,2,    0.00,2,    1.38,2,   0.243,2,   0.121,2, -999.00,9,  2168.9,2,  2307.0,2,   3.8748
06MT20060606,      EqAtl,      65,          1,      65008,          8,2,20060626,       0000,     0.0162,    -9.8340,       4515,  1497.7,   4.3091,  34.9527,2,  34.9514,2,   220.2,2,   17.59,2,   22.28,2,    0.00,2,    1.55,2,   0.164,6,   0.078,6, -999.00,9,  2178.4,2,  2307.8,2,   4.1857
06MT20060606,      EqAtl,      65,          1,      65009,          9,2,20060626,       0000,     0.0162,    -9.8340,       4515,  1297.7,   4.4990,  34.9044,2,-999.0000,9,   201.5,2,   19.72,2,   24.85,2,    0.00,2,    1.71,2,   0.133,2,   0.071,2, -999.00,9,  2188.4,2,  2306.8,2,   4.3922
06MT20060606,      EqAtl,      65,          1,      65010,         10,2,20060626,       0000,     0.0162,    -9.8340,       4515,  1096.8,   4.5127,  34.7239,2,  34.7247,2,   165.4,2,   26.48,2,   31.40,2,    0.00,2,    2.15,2,   0.032,2,   0.023,2, -999.00,9,  2210.9,2,  2302.8,2,   4.4242
06MT20060606,      EqAtl,      65,          1,      65011,         11,2,20060626,       0000,     0.0162,    -9.8340,       4515,   897.8,   4.7164,  34.5521,2,-999.0000,9,   150.7,6,   28.64,6,   35.28,6,    0.00,6,    2.38,6,   0.143,2,   0.069,2, -999.00,9,  2218.7,2,  2298.4,2,   4.6441
06MT20060606,      EqAtl,      65,          1,      65012,         12,2,20060626,       0000,     0.0162,    -9.8340,       4515,   699.7,   5.2135,  34.5097,2,-999.0000,9,   146.0,2,   25.94,2,   35.27,2,    0.01,2,    2.36,2,   0.331,2,   0.168,2, -999.00,9,  2215.1,2,  2291.0,2,   5.1556
06MT20060606,      EqAtl,      65,          1,      65013,         13,2,20060626,       0000,     0.0162,    -9.8340,       4515,   498.2,   6.7855,  34.6105,2,-999.0000,9,   119.7,2,   19.52,2,   35.56,2,    0.01,2,    2.31,2,   0.524,6,   0.261,6, -999.00,9,  2216.7,2,  2288.3,2,   6.7389
06MT20060606,      EqAtl,      65,          1,      65014,         14,2,20060626,       0000,     0.0162,    -9.8340,       4515,   300.3,  10.5734,  34.9835,2,-999.0000,9,   101.8,2,   10.72,2,   27.96,2,    0.01,2,    1.82,2,   1.446,2,   0.753,2,    0.45,3,  2203.3,2,  2299.4,2,  10.5371
06MT20060606,      EqAtl,      65,          1,      65015,         15,2,20060626,       0000,     0.0162,    -9.8340,       4515,   249.8,  11.5642,  35.1050,2,-999.0000,9,    83.7,2,    9.82,2,   28.06,2,    0.01,2,    1.81,2,   1.502,2,   0.743,2, -999.00,9,  2209.4,2,  2304.3,2,  11.5323
06MT20060606,      EqAtl,      65,          1,      65016,         16,2,20060626,       0000,     0.0162,    -9.8340,       4515,   201.3,  13.5343,  35.3483,2,-999.0000,9,   102.5,2,    7.10,2,   22.04,2,    0.01,2,    1.47,2,   2.035,2,   1.000,2,    0.65,3,  2189.0,2,  2315.3,2,  13.5058
06MT20060606,      EqAtl,      65,          1,      65017,         17,2,20060626,       0000,     0.0162,    -9.8340,       4515,   160.5,  14.1622,  35.4364,2,-999.0000,9,   134.0,2,    5.65,2,   17.21,2,    0.01,2,    1.22,2,   2.124,6,   1.171,6,    0.78,3,  2166.8,2,  2321.3,2,  14.1388
06MT20060606,      EqAtl,      65,          1,      65018,         18,2,20060626,       0000,     0.0162,    -9.8340,       4515,   121.4,  14.5498,  35.4967,2,-999.0000,9,   147.0,2,    5.02,2,   15.16,2,    0.03,2,    1.08,2,   2.324,2,   1.242,2,    0.67,3,  2155.9,2,  2326.2,2,  14.5318
06MT20060606,      EqAtl,      65,          1,      65019,         19,2,20060626,       0000,     0.0162,    -9.8340,       4515,    79.9,  15.1191,  35.5806,2,-999.0000,9,   159.5,2,    4.25,2,   12.70,2,    0.04,2,    0.93,2,   2.294,2,   1.294,2, -999.00,9,  2144.8,2,  2334.2,2,  15.1069
06MT20060606,      EqAtl,      65,          1,      65020,         20,2,20060626,       0000,     0.0162,    -9.8340,       4515,    40.5,  20.6908,  35.9614,2,-999.0000,9,   179.2,2,    2.37,2,    5.29,2,    0.18,2,    0.44,2,   2.055,2,   1.189,2, -999.00,9,  2101.0,2,  2355.5,2,  20.6831
06MT20060606,      EqAtl,      65,          1,      65021,         21,2,20060626,       0000,     0.0162,    -9.8340,       4515,    11.3,  24.1352,  35.8583,2,-999.0000,9,   203.4,2,    0.83,2,    0.97,2,    0.06,2,    0.17,2,   1.866,2,   1.120,2, -999.00,9,  2054.4,6,  2346.9,2,  24.1328
06MT20060606,      EqAtl,      66,          1,      66001,          1,2,20060627,       0000,     0.3347,   -10.0150,       4582,  1311.9,   4.4912,  34.9078,2,-999.0000,9,   204.0,6,   19.93,6,   24.46,6,    0.00,6,    1.69,6,   0.132,2,   0.066,2, -999.00,9,  2188.2,2,  2306.7,6,   4.3831
06MT20060606,      EqAtl,      66,          1,      66002,          2,2,20060627,       0000,     0.3347,   -10.0150,       4582,  1107.5,   4.5053,  34.7084,2,-999.0000,9,   164.2,2,   27.10,2,   31.46,2,    0.00,2,    2.15,2,   0.026,6,   0.020,6, -999.00,9,  2212.2,2,  2302.0,2,   4.4160
06MT20060606,      EqAtl,      66,          1,      66003,          3,2,20060627,       0000,     0.3347,   -10.0150,       4582,   905.1,   4.6925,  34.5554,2,-999.0000,9,   151.7,2,   28.72,2,   34.22,2,    0.00,2,    2.36,2,   0.110,2,   0.068,2,    0.01,3,  2218.4,2,  2296.8,2,   4.6198
06MT20060606,      EqAtl,      66,          1,      66004,          4,2,20060627,       0000,     0.3347,   -10.0150,       4582,   703.5,   5.2278,  34.5049,2,  34.5034,2,   146.4,2,   24.69,2,   34.37,2,    0.00,2,    2.38,2,   0.347,2,   0.179,2, -999.00,9,  2215.5,2,  2291.5,2,   5.1695
06MT20060606,      EqAtl,      66,          1,      66005,          5,2,20060627,       0000,     0.3347,   -10.0150,       4582,   502.3,   7.0328,  34.6274,2,-999.0000,9,   120.7,2,   17.93,2,   33.95,2,    0.00,2,    2.22,2,   0.694,2,   0.333,2, -999.00,9,  2214.2,2,  2288.8,2,   6.9849
06MT20060606,      EqAtl,      66,          1,      66006,          6,2,20060627,       0000,     0.3347,   -10.0150,       4582,   302.5,  10.3902,  34.9631,2,-999.0000,9,   107.2,2,   10.33,2,   27.83,2,    0.00,2,    1.81,2,   1.498,2,   0.784,2, -999.00,9,  2200.4,2,  2300.2,2,  10.3541
06MT20060606,      EqAtl,      66,          1,      66007,          7,2,20060627,       0000,     0.3347,   -10.0150,       4582,   254.0,  11.6235,  35.1130,2,  35.1067,2,    80.8,2,    9.55,2,   28.60,2,    0.00,2,    1.82,2,   1.438,6,   0.763,6,    0.35,3,  2211.9,2,  2304.9,2,  11.5909
06MT20060606,      EqAtl,      66,          1,      66008,          8,2,20060627,       0000,     0.3347,   -10.0150,       4582,   202.0,  13.2820,  35.3144,2,-999.0000,9,    91.4,2,    7.66,2,   23.72,2,    0.00,2,    1.58,2,   1.798,2,   0.950,2,    0.41,3,  2197.7,2,  2316.9,2,  13.2537
06MT20060606,      EqAtl,      66,          1,      66009,          9,2,20060627,       0000,     0.3347,   -10.0150,       4582,   162.4,  14.0925,  35.4184,2,-999.0000,9,   107.3,2,    6.18,2,   20.54,2,    0.01,2,    1.41,2,   1.970,2,   1.081,2,    0.61,3,  2183.8,2,  2320.5,2,  14.0689
06MT20060606,      EqAtl,      66,          1,      66010,         10,2,20060627,       0000,     0.3347,   -10.0150,       4582,   121.1,  14.3897,  35.4660,2,-999.0000,9,   125.5,2,    5.35,2,   17.96,2,    0.02,2,    1.26,2,   2.128,2,   1.164,2,    0.68,3,  2171.0,2,  2322.0,2,  14.3718
06MT20060606,      EqAtl,      66,          1,      66011,         11,2,20060627,       0000,     0.3347,   -10.0150,       4582,   100.9,  14.6347,  35.5044,2,-999.0000,9,   132.4,6,    4.94,6,   16.88,6,    0.02,6,    1.19,6,   2.156,2,   1.172,2,     0.7,3,  2166.3,2,  2324.6,2,  14.6197
06MT20060606,      EqAtl,      66,          1,      66012,         12,2,20060627,       0000,     0.3347,   -10.0150,       4582,   100.6,  14.6396,  35.5052,2,-999.0000,9,  -999.0,9, -999.00,9, -999.00,9, -999.00,9, -999.00,9,-999.000,9,-999.000,9, -999.00,9,  -999.0,9,  -999.0,9,  14.6246
06MT20060606,      EqAtl,      66,          1,      66013,         13,2,20060627,       0000,     0.3347,   -10.0150,       4582,    81.2,  15.0915,  35.5816,2,-999.0000,9,   157.6,2,    4.14,2,   13.14,2,    0.05,2,    0.96,2,   2.275,2,   1.254,2,     0.8,3,  2149.1,2,  2335.1,2,  15.0791
06MT20060606,      EqAtl,      66,          1,      66014,         14,2,20060627,       0000,     0.3347,   -10.0150,       4582,    60.9,  15.3996,  35.6102,2,-999.0000,9,   136.8,2,    4.09,2,   15.12,2,    0.08,2,    1.04,2,   2.168,2,   1.216,2,     0.7,3,  2161.9,2,  2332.9,2,  15.3902
06MT20060606,      EqAtl,      66,          1,      66015,         15,2,20060627,       0000,     0.3347,   -10.0150,       4582,    61.0,  15.3966,  35.6101,2,-999.0000,9,  -999.0,9, -999.00,9, -999.00,9, -999.00,9, -999.00,9,-999.000,9,-999.000,9, -999.00,9,  -999.0,9,  -999.0,9,  15.3872
06MT20060606,      EqAtl,      66,          1,      66016,         16,2,20060627,       0000,     0.3347,   -10.0150,       4582,    40.2,  22.8353,  35.7644,2,-999.0000,9,   185.3,2,    0.92,2,    2.94,2,    0.12,2,    0.28,2,   1.999,2,   1.125,2,    1.05,3,  2075.5,2,  2340.4,2,  22.8271
06MT20060606,      EqAtl,      66,          1,      66017,         17,2,20060627,       0000,     0.3347,   -10.0150,       4582,    39.9,  22.9591,  35.7617,2,-999.0000,9,  -999.0,9, -999.00,9, -999.00,9, -999.00,9, -999.00,9,-999.000,9,-999.000,9, -999.00,9,  -999.0,9,  -999.0,9,  22.9509
06MT20060606,      EqAtl,      66,          1,      66018,         18,2,20060627,       0000,     0.3347,   -10.0150,       4582,    21.7,  24.9439,  35.7428,2,-999.0000,9,   206.8,2,    0.62,2,    0.25,2,    0.02,2,    0.11,2,   1.964,2,   1.131,2, -999.00,9,  -999.0,9,  -999.0,9,  24.9392
06MT20060606,      EqAtl,      66,          1,      66019,         19,2,20060627,       0000,     0.3347,   -10.0150,       4582,    21.0,  24.9327,  35.7432,2,-999.0000,9,  -999.0,9, -999.00,9, -999.00,9, -999.00,9, -999.00,9,-999.000,9,-999.000,9, -999.00,9,  -999.0,9,  -999.0,9,  24.9281
06MT20060606,      EqAtl,      66,          1,      66020,         20,2,20060627,       0000,     0.3347,   -10.0150,       4582,    13.1,  24.9458,  35.7437,2,-999.0000,9,   206.5,2,    0.56,2,    0.29,2,    0.02,2,    0.09,2,   1.817,2,   1.116,2,    1.17,3,  2037.7,6,  2338.8,2,  24.9430
06MT20060606,      EqAtl,      66,          1,      66021,         21,2,20060627,       0000,     0.3347,   -10.0150,       4582,    13.8,  24.9435,  35.7437,2,-999.0000,9,  -999.0,9, -999.00,9, -999.00,9, -999.00,9, -999.00,9,-999.000,9,-999.000,9, -999.00,9,  -999.0,9,  -999.0,9,  24.9405
06MT20060606,      EqAtl,      67,          1,      67001,          1,2,20060627,       0000,     0.6460,   -10.0393,       4828,  1314.1,   4.4740,  34.9157,2,  34.9144,2,  -999.0,9, -999.00,9, -999.00,9, -999.00,9, -999.00,9,-999.000,9,-999.000,9, -999.00,9,  -999.0,9,  -999.0,9,   4.3659
06MT20060606,      EqAtl,      67,          1,      67002,          2,2,20060627,       0000,     0.6460,   -10.0393,       4828,  1108.9,   4.5021,  34.6813,2,-999.0000,9,  -999.0,9, -999.00,9, -999.00,9, -999.00,9, -999.00,9,-999.000,9,-999.000,9, -999.00,9,  -999.0,9,  -999.0,9,   4.4127
06MT20060606,      EqAtl,      67,          1,      67003,          3,2,20060627,       0000,     0.6460,   -10.0393,       4828,   897.5,   4.7095,  34.5554,2,  34.5573,2,  -999.0,9, -999.00,9, -999.00,9, -999.00,9, -999.00,9,-999.000,9,-999.000,9, -999.00,9,  -999.0,9,  -999.0,9,   4.6373
06MT20060606,      EqAtl,      67,          1,      67004,          4,2,20060627,       0000,     0.6460,   -10.0393,       4828,   699.4,   5.3869,  34.5097,2,  34.5082,2,  -999.0,9, -999.00,9, -999.00,9, -999.00,9, -999.00,9,-999.000,9,-999.000,9, -999.00,9,  -999.0,9,  -999.0,9,   5.3281
06MT20060606,      EqAtl,      67,          1,      67005,          5,2,20060627,       0000,     0.6460,   -10.0393,       4828,   500.6,   7.2245,  34.6463,2,-999.0000,9,  -999.0,9, -999.00,9, -999.00,9, -999.00,9, -999.00,9,-999.000,9,-999.000,9, -999.00,9,  -999.0,9,  -999.0,9,   7.1760
06MT20060606,      EqAtl,      67,          1,      67006,          6,2,20060627,       0000,     0.6460,   -10.0393,       4828,   302.7,  10.0420,  34.9360,2,-999.0000,9,  -999.0,9, -999.00,9, -999.00,9, -999.00,9, -999.00,9,-999.000,9,-999.000,9, -999.00,9,  -999.0,9,  -999.0,9,  10.0066
06MT20060606,      EqAtl,      67,          1,      67007,          7,2,20060627,       0000,     0.6460,   -10.0393,       4828,   251.4,  11.0640,  35.0554,2,-999.0000,9,  -999.0,9, -999.00,9, -999.00,9, -999.00,9, -999.00,9,-999.000,9,-999.000,9, -999.00,9,  -999.0,9,  -999.0,9,  11.0328
06MT20060606,      EqAtl,      67,          1,      67008,          8,2,20060627,       0000,     0.6460,   -10.0393,       4828,   201.7,  12.2788,  35.1912,2,-999.0000,9,  -999.0,9, -999.00,9, -999.00,9, -999.00,9, -999.00,9,-999.000,9,-999.000,9, -999.00,9,  -999.0,9,  -999.0,9,  12.2520
06MT20060606,      EqAtl,      67,          1,      67009,          9,2,20060627,       0000,     0.6460,   -10.0393,       4828,   160.8,  13.1711,  35.2994,2,-999.0000,9,  -999.0,9, -999.00,9, -999.00,9, -999.00,9, -999.00,9,-999.000,9,-999.000,9, -999.00,9,  -999.0,9,  -999.0,9,  13.1488
06MT20060606,      EqAtl,      67,          1,      67010,         10,2,20060627,       0000,     0.6460,   -10.0393,       4828,   122.7,  14.2700,  35.4456,2,-999.0000,9,  -999.0,9, -999.00,9, -999.00,9, -999.00,9, -999.00,9,-999.000,9,-999.000,9, -999.00,9,  -999.0,9,  -999.0,9,  14.2520
06MT20060606,      EqAtl,      67,          1,      67011,         11,2,20060627,       0000,     0.6460,   -10.0393,       4828,   100.3,  14.3788,  35.4628,2,-999.0000,9,  -999.0,9, -999.00,9, -999.00,9, -999.00,9, -999.00,9,-999.000,9,-999.000,9, -999.00,9,  -999.0,9,  -999.0,9,  14.3640
06MT20060606,      EqAtl,      67,          1,      67012,         12,2,20060627,       0000,     0.6460,   -10.0393,       4828,   100.5,  14.3832,  35.4634,2,-999.0000,9,  -999.0,9, -999.00,9, -999.00,9, -999.00,9, -999.00,9,-999.000,9,-999.000,9, -999.00,9,  -999.0,9,  -999.0,9,  14.3684
06MT20060606,      EqAtl,      67,          1,      67013,         13,2,20060627,       0000,     0.6460,   -10.0393,       4828,    82.0,  14.9479,  35.5349,2,-999.0000,9,  -999.0,9, -999.00,9, -999.00,9, -999.00,9, -999.00,9,-999.000,9,-999.000,9, -999.00,9,  -999.0,9,  -999.0,9,  14.9355
06MT20060606,      EqAtl,      67,          1,      67014,         14,2,20060627,       0000,     0.6460,   -10.0393,       4828,    59.9,  18.3104,  35.7398,2,-999.0000,9,  -999.0,9, -999.00,9, -999.00,9, -999.00,9, -999.00,9,-999.000,9,-999.000,9, -999.00,9,  -999.0,9,  -999.0,9,  18.3000
06MT20060606,      EqAtl,      67,          1,      67015,         15,2,20060627,       0000,     0.6460,   -10.0393,       4828,    60.3,  18.2532,  35.7407,2,-999.0000,9,  -999.0,9, -999.00,9, -999.00,9, -999.00,9, -999.00,9,-999.000,9,-999.000,9, -999.00,9,  -999.0,9,  -999.0,9,  18.2427
06MT20060606,      EqAtl,      67,          1,      67016,         16,2,20060627,       0000,     0.6460,   -10.0393,       4828,    40.0,  25.0921,  35.5012,2,-999.0000,9,  -999.0,9, -999.00,9, -999.00,9, -999.00,9, -999.00,9,-999.000,9,-999.000,9, -999.00,9,  -999.0,9,  -999.0,9,  25.0834
06MT20060606,      EqAtl,      67,          1,      67017,         17,2,20060627,       0000,     0.6460,   -10.0393,       4828,    40.7,  25.0576,  35.5116,2,-999.0000,9,  -999.0,9, -999.00,9, -999.00,9, -999.00,9, -999.00,9,-999.000,9,-999.000,9, -999.00,9,  -999.0,9,  -999.0,9,  25.0487
06MT20060606,      EqAtl,      67,          1,      67018,         18,2,20060627,       0000,     0.6460,   -10.0393,       4828,    22.3,  25.3181,  35.4485,2,-999.0000,9,  -999.0,9, -999.00,9, -999.00,9, -999.00,9, -999.00,9,-999.000,9,-999.000,9, -999.00,9,  -999.0,9,  -999.0,9,  25.3132
06MT20060606,      EqAtl,      67,          1,      67019,         19,2,20060627,       0000,     0.6460,   -10.0393,       4828,    21.7,  25.3197,  35.4476,2,-999.0000,9,  -999.0,9, -999.00,9, -999.00,9, -999.00,9, -999.00,9,-999.000,9,-999.000,9, -999.00,9,  -999.0,9,  -999.0,9,  25.3149
06MT20060606,      EqAtl,      67,          1,      67020,         20,2,20060627,       0000,     0.6460,   -10.0393,       4828,    11.9,  25.3236,  35.4495,2,-999.0000,9,  -999.0,9, -999.00,9, -999.00,9, -999.00,9, -999.00,9,-999.000,9,-999.000,9, -999.00,9,  -999.0,9,  -999.0,9,  25.3210
06MT20060606,      EqAtl,      67,          1,      67021,         21,2,20060627,       0000,     0.6460,   -10.0393,       4828,    11.5,  25.3245,  35.4494,2,-999.0000,9,  -999.0,9, -999.00,9, -999.00,9, -999.00,9, -999.00,9,-999.000,9,-999.000,9, -999.00,9,  -999.0,9,  -999.0,9,  25.3220