BOTTLE,20211025CCHSIORKP
EXPOCODE,SECT_ID,STNNBR,CASTNO,SAMPNO,BTLNBR,BTLNBR_FLAG_W,DATE,TIME,LATITUDE,LONGITUDE,DEPTH,CTDPRS,CTDTMP,CTDSAL,CTDSAL_FLAG_W,SALNTY,SALNTY_FLAG_W,OXYGEN,OXYGEN_FLAG_W,SILCAT,SILCAT_FLAG_W,NITRAT,NITRAT_FLAG_W,NITRIT,NITRIT_FLAG_W,PHSPHT,PHSPHT_FLAG_W,CFC-11,CFC-11_FLAG_W,CFC-12,CFC-12_FLAG_W,SF6,SF6_FLAG_W,TCARBN,TCARBN_FLAG_W,ALKALI,ALKALI_FLAG_W,THETA
,,,,,,,,,,,METERS,DBAR,ITS-90,PSS-78,,PSS-78,,UMOL/KG,,UMOL/KG,,UMOL/KG,,UMOL/KG,,UMOL/KG,,PMOL/KG,,PMOL/KG,,FMOL/KG,,UMOL/KG,,UMOL/KG,,DEG C
06MT20060606,      EqAtl,      74,          1,      74001,          1,2,20060628,       0000,     1.9820,   -15.0137,       5033,  1311.8,   4.5284,  34.8908,2,  34.8938,2,   196.7,6,   20.64,6,   25.52,6,    0.00,6,    1.79,6,   0.090,6,   0.048,6, -999.00,9,  2192.1,2,  2307.9,6,   4.4200
06MT20060606,      EqAtl,      74,          1,      74002,          2,2,20060628,       0000,     1.9820,   -15.0137,       5033,  1097.8,   4.6138,  34.7445,2,-999.0000,9,   166.3,2,   25.83,2,   30.63,2,    0.00,2,    2.12,2,   0.038,2,   0.027,2, -999.00,9,  2208.9,2,  2305.3,2,   4.5243
06MT20060606,      EqAtl,      74,          1,      74003,          3,2,20060628,       0000,     1.9820,   -15.0137,       5033,   896.0,   4.6721,  34.5979,2,-999.0000,9,   151.1,2,   28.58,2,   34.28,2,    0.00,2,    2.34,2,   0.068,2,   0.035,2, -999.00,9,  2218.9,2,  2297.8,2,   4.6002
06MT20060606,      EqAtl,      74,          1,      74004,          4,2,20060628,       0000,     1.9820,   -15.0137,       5033,   747.2,   5.3776,  34.5219,2,-999.0000,9,   141.7,2,   24.76,2,   35.38,2,    0.00,2,    2.36,2,   0.330,2,   0.170,2, -999.00,9,  2215.3,2,  2292.9,2,   5.3145
06MT20060606,      EqAtl,      74,          1,      74005,          5,2,20060628,       0000,     1.9820,   -15.0137,       5033,   301.0,  11.2739,  35.0683,2,-999.0000,9,   101.1,2,   10.17,2,   27.00,2,    0.01,2,    1.76,2,   1.536,2,   0.819,2, -999.00,9,  2199.6,2,  2302.8,2,  11.2360
06MT20060606,      EqAtl,      74,          1,      74006,          6,2,20060628,       0000,     1.9820,   -15.0137,       5033,   250.9,  12.0039,  35.1523,2,-999.0000,9,    96.2,2,    8.99,2,   25.66,2,    0.01,2,    1.70,2,   1.613,2,   0.879,2, -999.00,9,  2200.3,2,  2306.6,2,  11.9710
06MT20060606,      EqAtl,      74,          1,      74007,          7,2,20060628,       0000,     1.9820,   -15.0137,       5033,   200.3,  14.0560,  35.4082,2,-999.0000,9,   100.6,2,    7.01,2,   21.63,2,    0.01,2,    1.48,2,   1.908,2,   1.050,2, -999.00,9,  2188.2,2,  2318.2,2,  14.0269
06MT20060606,      EqAtl,      74,          1,      74008,          8,2,20060628,       0000,     1.9820,   -15.0137,       5033,   161.8,  14.4136,  35.4645,2,-999.0000,9,   125.7,2,    5.71,2,   17.82,2,    0.01,2,    1.30,2,   2.150,6,   1.152,6, -999.00,9,  2169.8,2,  2323.2,2,  14.3897
06MT20060606,      EqAtl,      74,          1,      74009,          9,2,20060628,       0000,     1.9820,   -15.0137,       5033,   121.8,  14.6908,  35.5049,2,-999.0000,9,   123.9,2,    5.41,2,   17.72,2,    0.01,2,    1.27,2,   2.123,2,   1.178,2, -999.00,9,  2170.3,2,  2325.9,2,  14.6726
06MT20060606,      EqAtl,      74,          1,      74010,         10,2,20060628,       0000,     1.9820,   -15.0137,       5033,   121.7,  14.7056,  35.5065,2,-999.0000,9,   124.7,2,    5.44,2,   17.77,2,    0.02,2,    1.26,2,   2.133,2,   1.185,2, -999.00,9,  -999.0,9,  -999.0,9,  14.6874
06MT20060606,      EqAtl,      74,          1,      74011,         11,2,20060628,       0000,     1.9820,   -15.0137,       5033,   102.1,  15.1924,  35.5677,2,-999.0000,9,   123.1,6,    5.28,6,   17.22,6,    0.02,6,    1.21,6,   2.137,2,   1.202,2, -999.00,9,  2168.6,2,  2328.4,2,  15.1768
06MT20060606,      EqAtl,      74,          1,      74012,         12,2,20060628,       0000,     1.9820,   -15.0137,       5033,   100.4,  15.2099,  35.5704,2,-999.0000,9,  -999.0,9, -999.00,9, -999.00,9, -999.00,9, -999.00,9,-999.000,9,-999.000,9, -999.00,9,  -999.0,9,  -999.0,9,  15.1945
06MT20060606,      EqAtl,      74,          1,      74013,         13,2,20060628,       0000,     1.9820,   -15.0137,       5033,    82.4,  15.8244,  35.6306,2,-999.0000,9,   118.4,2,    4.34,2,   16.92,2,    0.07,2,    1.15,2,   2.150,2,   1.230,2, -999.00,9,  2170.6,2,  2332.9,2,  15.8114
06MT20060606,      EqAtl,      74,          1,      74014,         14,2,20060628,       0000,     1.9820,   -15.0137,       5033,    59.5,  19.4404,  35.8114,2,-999.0000,9,   133.1,2,    2.40,2,    9.00,2,    0.60,2,    0.67,2,   2.054,2,   1.208,2, -999.00,9,  2149.5,2,  2342.8,2,  19.4296
06MT20060606,      EqAtl,      74,          1,      74015,         15,2,20060628,       0000,     1.9820,   -15.0137,       5033,    40.9,  27.5810,  34.9737,2,-999.0000,9,   200.7,2,    0.22,2,    0.00,2,    0.00,2,    0.00,2,   1.744,6,   1.012,6, -999.00,9,  1948.7,2,  2283.9,2,  27.5715
06MT20060606,      EqAtl,      74,          1,      74016,         16,2,20060628,       0000,     1.9820,   -15.0137,       5033,    20.2,  27.5760,  34.9760,2,-999.0000,9,   200.2,2,    0.08,2,    0.03,2,    0.01,2,    0.01,2,   1.790,2,   1.039,2, -999.00,9,  -999.0,9,  -999.0,9,  27.5713
06MT20060606,      EqAtl,      74,          1,      74017,         17,2,20060628,       0000,     1.9820,   -15.0137,       5033,    11.4,  27.5711,  34.9758,2,-999.0000,9,   200.4,2,    0.24,2,    0.05,2,    0.01,2,    0.04,2,   1.623,2,   1.037,2, -999.00,9,  1949.2,6,  2283.7,2,  27.5684
06MT20060606,      EqAtl,      74,          1,      74018,         18,2,20060628,       0000,     1.9820,   -15.0137,       5033,    11.8,  27.5709,  34.9759,2,  34.9797,2,  -999.0,9, -999.00,9, -999.00,9, -999.00,9, -999.00,9,-999.000,9,-999.000,9, -999.00,9,  -999.0,9,  -999.0,9,  27.5682
06MT20060606,      EqAtl,      75,          1,      75001,          1,2,20060629,       0000,     1.9865,   -16.0303,       5083,  1312.0,   4.4068,  34.9214,2,  34.9254,2,   207.1,6,   20.12,6,   24.16,6,    0.00,6,    1.68,6,   0.096,2,   0.059,2, -999.00,9,  2187.6,2,  2309.0,6,   4.2995
06MT20060606,      EqAtl,      75,          1,      75002,          2,2,20060629,       0000,     1.9865,   -16.0303,       5083,  1097.5,   4.6135,  34.7652,2,-999.0000,9,   170.9,2,   25.04,2,   29.87,2,    0.00,2,    2.06,2,   0.037,2,   0.030,2, -999.00,9,  2209.5,2,  2307.9,2,   4.5240
06MT20060606,      EqAtl,      75,          1,      75003,          3,2,20060629,       0000,     1.9865,   -16.0303,       5083,   899.1,   4.5492,  34.6083,2,-999.0000,9,   155.0,2,   28.53,2,   33.55,2,    0.00,2,    2.32,2,   0.049,2,   0.031,2, -999.00,9,  2220.2,2,  2302.8,2,   4.4779
06MT20060606,      EqAtl,      75,          1,      75004,          4,2,20060629,       0000,     1.9865,   -16.0303,       5083,   697.3,   5.4520,  34.5378,2,  34.5413,2,   133.1,2,   24.74,2,   35.42,2,    0.01,2,    2.40,2,   0.214,6,   0.118,6, -999.00,9,  2222.5,2,  2292.4,2,   5.3930
06MT20060606,      EqAtl,      75,          1,      75005,          5,2,20060629,       0000,     1.9865,   -16.0303,       5083,   499.1,   7.6299,  34.7001,2,-999.0000,9,   110.8,2,   17.60,2,   33.59,2,    0.01,2,    2.21,2,   0.630,2,   0.327,2, -999.00,9,  2218.4,2,  2292.2,2,   7.5800
06MT20060606,      EqAtl,      75,          1,      75006,          6,2,20060629,       0000,     1.9865,   -16.0303,       5083,   301.8,  10.8357,  35.0243,2,-999.0000,9,   102.9,2,   10.58,2,   27.45,2,    0.00,2,    1.79,2,   1.425,2,   0.761,2, -999.00,9,  2203.7,2,  2301.5,2,  10.7987
06MT20060606,      EqAtl,      75,          1,      75007,          7,2,20060629,       0000,     1.9865,   -16.0303,       5083,   251.3,  12.6075,  35.2234,2,-999.0000,9,    98.3,2,    8.25,2,   24.50,2,    0.01,2,    1.62,2,   1.688,2,   0.906,2, -999.00,9,  2197.8,2,  2310.6,2,  12.5735
06MT20060606,      EqAtl,      75,          1,      75008,          8,2,20060629,       0000,     1.9865,   -16.0303,       5083,   201.6,  13.6332,  35.3551,2,-999.0000,9,   109.1,2,    6.95,2,   21.24,2,    0.01,2,    1.45,2,   1.955,2,   1.062,2, -999.00,9,  2187.0,2,  2316.7,2,  13.6045
06MT20060606,      EqAtl,      75,          1,      75009,          9,2,20060629,       0000,     1.9865,   -16.0303,       5083,   160.4,  13.9661,  35.4019,2,-999.0000,9,   112.5,2,    6.31,2,   20.27,2,    0.01,2,    1.41,2,   1.972,2,   1.096,2, -999.00,9,  2183.0,2,  2319.2,2,  13.9429
06MT20060606,      EqAtl,      75,          1,      75010,         10,2,20060629,       0000,     1.9865,   -16.0303,       5083,   122.2,  14.6857,  35.4961,2,-999.0000,9,   104.1,2,    6.13,2,   20.24,2,    0.01,2,    1.40,2,   2.006,2,   1.133,2, -999.00,9,  2185.9,2,  2324.2,2,  14.6674
06MT20060606,      EqAtl,      75,          1,      75011,         11,2,20060629,       0000,     1.9865,   -16.0303,       5083,   102.3,  15.2045,  35.5574,2,-999.0000,9,   102.4,6,    5.71,6,   19.98,6,    0.03,6,    1.36,6,   2.070,6,   1.153,6, -999.00,9,  2185.5,2,  2325.6,2,  15.1888
06MT20060606,      EqAtl,      75,          1,      75012,         12,2,20060629,       0000,     1.9865,   -16.0303,       5083,   102.1,  15.2012,  35.5574,2,-999.0000,9,  -999.0,9, -999.00,9, -999.00,9, -999.00,9, -999.00,9,-999.000,9,-999.000,9, -999.00,9,  -999.0,9,  -999.0,9,  15.1856
06MT20060606,      EqAtl,      75,          1,      75013,         13,2,20060629,       0000,     1.9865,   -16.0303,       5083,    81.9,  16.0227,  35.6450,2,-999.0000,9,    94.5,2,    5.27,2,   19.74,2,    0.11,2,    1.30,2,   2.064,2,   1.147,2, -999.00,9,  2187.1,2,  2331.0,2,  16.0097
06MT20060606,      EqAtl,      75,          1,      75014,         14,2,20060629,       0000,     1.9865,   -16.0303,       5083,    62.1,  18.7652,  35.8148,2,-999.0000,9,   141.3,2,    2.28,2,    9.27,2,    0.75,2,    0.69,2,   2.081,2,   1.189,2, -999.00,9,  2148.5,2,  2345.1,2,  18.7542
06MT20060606,      EqAtl,      75,          1,      75015,         15,2,20060629,       0000,     1.9865,   -16.0303,       5083,    60.6,  18.8254,  35.8167,2,-999.0000,9,  -999.0,9, -999.00,9, -999.00,9, -999.00,9, -999.00,9,-999.000,9,-999.000,9, -999.00,9,  -999.0,9,  -999.0,9,  18.8146
06MT20060606,      EqAtl,      75,          1,      75016,         16,2,20060629,       0000,     1.9865,   -16.0303,       5083,    41.1,  27.3856,  35.0459,2,-999.0000,9,   199.7,2,    0.22,2,    0.00,2,    0.01,2,    0.00,2,   1.841,2,   1.020,2, -999.00,9,  1959.1,2,  2292.8,2,  27.3761
06MT20060606,      EqAtl,      75,          1,      75017,         17,2,20060629,       0000,     1.9865,   -16.0303,       5083,    40.1,  27.4196,  35.0167,2,-999.0000,9,  -999.0,9, -999.00,9, -999.00,9, -999.00,9, -999.00,9,-999.000,9,-999.000,9, -999.00,9,  -999.0,9,  -999.0,9,  27.4103
06MT20060606,      EqAtl,      75,          1,      75018,         18,2,20060629,       0000,     1.9865,   -16.0303,       5083,    21.0,  27.4890,  34.9565,2,-999.0000,9,   199.7,2,    0.22,2,    0.02,2,    0.00,2,    0.03,2,   1.686,2,   1.020,2, -999.00,9,  -999.0,9,  -999.0,9,  27.4841
06MT20060606,      EqAtl,      75,          1,      75019,         19,2,20060629,       0000,     1.9865,   -16.0303,       5083,    21.0,  27.4893,  34.9567,2,-999.0000,9,  -999.0,9, -999.00,9, -999.00,9, -999.00,9, -999.00,9,-999.000,9,-999.000,9, -999.00,9,  -999.0,9,  -999.0,9,  27.4844
06MT20060606,      EqAtl,      75,          1,      75020,         20,2,20060629,       0000,     1.9865,   -16.0303,       5083,    12.8,  27.4864,  34.9573,2,  34.9630,2,   199.9,2,    0.20,2,    0.05,2,    0.01,2,    0.05,2,   1.608,2,   0.996,2, -999.00,9,  1953.8,6,  2287.1,2,  27.4834
06MT20060606,      EqAtl,      75,          1,      75021,         21,2,20060629,       0000,     1.9865,   -16.0303,       5083,    11.8,  27.4849,  34.9575,2,-999.0000,9,  -999.0,9, -999.00,9, -999.00,9, -999.00,9, -999.00,9,-999.000,9,-999.000,9, -999.00,9,  -999.0,9,  -999.0,9,  27.4822
06MT20060606,      EqAtl,      76,          1,      76001,          1,2,20060629,       0000,     2.0022,   -17.0085,       4796,  1312.0,   4.5025,  34.8907,2,-999.0000,9,  -999.0,9, -999.00,9, -999.00,9, -999.00,9, -999.00,9,-999.000,9,-999.000,9, -999.00,9,  -999.0,9,  -999.0,9,   4.3943
06MT20060606,      EqAtl,      76,          1,      76002,          2,2,20060629,       0000,     2.0022,   -17.0085,       4796,  1313.7,   4.4987,  34.8925,2,-999.0000,9,  -999.0,9, -999.00,9, -999.00,9, -999.00,9, -999.00,9,   0.074,6,   0.046,6, -999.00,9,  2194.5,6,  2308.7,6,   4.3904
06MT20060606,      EqAtl,      76,          1,      76003,          3,2,20060629,       0000,     2.0022,   -17.0085,       4796,  1094.9,   4.6033,  34.7358,2,  34.7390,2,  -999.0,9, -999.00,9, -999.00,9, -999.00,9, -999.00,9,   0.030,2,   0.033,2, -999.00,9,  2212.8,2,  2306.2,2,   4.5142
06MT20060606,      EqAtl,      76,          1,      76004,          4,2,20060629,       0000,     2.0022,   -17.0085,       4796,   897.9,   4.6992,  34.5981,2,  34.5997,2,  -999.0,9, -999.00,9, -999.00,9, -999.00,9, -999.00,9,   0.054,2,   0.035,2, -999.00,9,  2221.7,2,  2298.7,2,   4.6270
06MT20060606,      EqAtl,      76,          1,      76005,          5,2,20060629,       0000,     2.0022,   -17.0085,       4796,   698.1,   5.6783,  34.5503,2,-999.0000,9,  -999.0,9, -999.00,9, -999.00,9, -999.00,9, -999.00,9,   0.171,2,   0.092,2,       0,3,  2226.0,2,  2290.8,2,   5.6180
06MT20060606,      EqAtl,      76,          1,      76006,          6,2,20060629,       0000,     2.0022,   -17.0085,       4796,   500.2,   7.6261,  34.6996,2,  34.7005,2,  -999.0,9, -999.00,9, -999.00,9, -999.00,9, -999.00,9,   0.700,2,   0.372,2,    0.13,3,  2216.6,2,  2291.8,2,   7.5761
06MT20060606,      EqAtl,      76,          1,      76007,          7,2,20060629,       0000,     2.0022,   -17.0085,       4796,   299.9,  11.8472,  35.1449,2,-999.0000,9,  -999.0,9, -999.00,9, -999.00,9, -999.00,9, -999.00,9,   1.509,2,   0.813,2,     0.4,3,  2205.6,2,  2306.3,2,  11.8082
06MT20060606,      EqAtl,      76,          1,      76008,          8,2,20060629,       0000,     2.0022,   -17.0085,       4796,   251.2,  13.0102,  35.2818,2,-999.0000,9,  -999.0,9, -999.00,9, -999.00,9, -999.00,9, -999.00,9,   1.804,2,   0.955,2,    0.42,3,  2197.2,2,  2313.7,2,  12.9755
06MT20060606,      EqAtl,      76,          1,      76009,          9,2,20060629,       0000,     2.0022,   -17.0085,       4796,   199.0,  13.9868,  35.4027,2,-999.0000,9,  -999.0,9, -999.00,9, -999.00,9, -999.00,9, -999.00,9,   1.956,6,   1.080,6,    0.42,3,  2186.3,2,  2321.1,2,  13.9579
06MT20060606,      EqAtl,      76,          1,      76010,         10,2,20060629,       0000,     2.0022,   -17.0085,       4796,   160.2,  14.3201,  35.4504,2,-999.0000,9,  -999.0,9, -999.00,9, -999.00,9, -999.00,9, -999.00,9,   2.030,2,   1.126,2,    0.55,3,  2181.7,2,  2322.4,2,  14.2965
06MT20060606,      EqAtl,      76,          1,      76011,         11,2,20060629,       0000,     2.0022,   -17.0085,       4796,   121.0,  14.8168,  35.5102,2,-999.0000,9,  -999.0,9, -999.00,9, -999.00,9, -999.00,9, -999.00,9,   1.971,2,   1.105,2, -999.00,9,  2193.9,2,  2322.8,2,  14.7986
06MT20060606,      EqAtl,      76,          1,      76012,         12,2,20060629,       0000,     2.0022,   -17.0085,       4796,    99.6,  15.0570,  35.5402,2,-999.0000,9,  -999.0,9, -999.00,9, -999.00,9, -999.00,9, -999.00,9,   2.027,2,   1.125,2,    0.62,3,  2189.7,2,  2325.2,2,  15.0419
06MT20060606,      EqAtl,      76,          1,      76013,         13,2,20060629,       0000,     2.0022,   -17.0085,       4796,    98.7,  15.0614,  35.5411,2,-999.0000,9,  -999.0,9, -999.00,9, -999.00,9, -999.00,9, -999.00,9,-999.000,9,-999.000,9, -999.00,9,  -999.0,9,  -999.0,9,  15.0464
06MT20060606,      EqAtl,      76,          1,      76014,         14,2,20060629,       0000,     2.0022,   -17.0085,       4796,    80.2,  15.7039,  35.6082,2,-999.0000,9,  -999.0,9, -999.00,9, -999.00,9, -999.00,9, -999.00,9,   2.062,2,   1.139,2,    0.66,3,  2189.5,2,  2327.0,2,  15.6913
06MT20060606,      EqAtl,      76,          1,      76015,         15,2,20060629,       0000,     2.0022,   -17.0085,       4796,    60.1,  19.0370,  35.7750,2,-999.0000,9,  -999.0,9, -999.00,9, -999.00,9, -999.00,9, -999.00,9,   2.095,2,   1.190,2,     0.7,3,  2153.9,2,  2342.9,2,  19.0262
06MT20060606,      EqAtl,      76,          1,      76016,         16,2,20060629,       0000,     2.0022,   -17.0085,       4796,    59.9,  19.0728,  35.7750,2,-999.0000,9,  -999.0,9, -999.00,9, -999.00,9, -999.00,9, -999.00,9,-999.000,9,-999.000,9, -999.00,9,  -999.0,9,  -999.0,9,  19.0621
06MT20060606,      EqAtl,      76,          1,      76017,         17,2,20060629,       0000,     2.0022,   -17.0085,       4796,    39.3,  27.4284,  34.9851,2,-999.0000,9,  -999.0,9, -999.00,9, -999.00,9, -999.00,9, -999.00,9,   1.626,2,   1.000,2,    0.94,3,  1957.6,2,  2285.3,2,  27.4193
06MT20060606,      EqAtl,      76,          1,      76018,         18,2,20060629,       0000,     2.0022,   -17.0085,       4796,    39.4,  27.4274,  34.9850,2,-999.0000,9,  -999.0,9, -999.00,9, -999.00,9, -999.00,9, -999.00,9,-999.000,9,-999.000,9, -999.00,9,  -999.0,9,  -999.0,9,  27.4183
06MT20060606,      EqAtl,      76,          1,      76019,         19,2,20060629,       0000,     2.0022,   -17.0085,       4796,    21.7,  27.4416,  34.9673,2,-999.0000,9,  -999.0,9, -999.00,9, -999.00,9, -999.00,9, -999.00,9,   1.649,2,   1.025,2,    0.96,3,  -999.0,9,  -999.0,9,  27.4366
06MT20060606,      EqAtl,      76,          1,      76020,         20,2,20060629,       0000,     2.0022,   -17.0085,       4796,    11.5,  27.4724,  34.9665,2,  34.9638,2,  -999.0,9, -999.00,9, -999.00,9, -999.00,9, -999.00,9,   1.609,2,   1.001,2, -999.00,9,  1954.3,2,  2284.8,2,  27.4697
06MT20060606,      EqAtl,      76,          1,      76021,         21,2,20060629,       0000,     2.0022,   -17.0085,       4796,    11.7,  27.4763,  34.9670,2,-999.0000,9,  -999.0,9, -999.00,9, -999.00,9, -999.00,9, -999.00,9,-999.000,9,-999.000,9, -999.00,9,  -999.0,9,  -999.0,9,  27.4736