BOTTLE,20211025CCHSIORKP
EXPOCODE,SECT_ID,STNNBR,CASTNO,SAMPNO,BTLNBR,BTLNBR_FLAG_W,DATE,TIME,LATITUDE,LONGITUDE,DEPTH,CTDPRS,CTDTMP,CTDSAL,CTDSAL_FLAG_W,SALNTY,SALNTY_FLAG_W,OXYGEN,OXYGEN_FLAG_W,SILCAT,SILCAT_FLAG_W,NITRAT,NITRAT_FLAG_W,NITRIT,NITRIT_FLAG_W,PHSPHT,PHSPHT_FLAG_W,CFC-11,CFC-11_FLAG_W,CFC-12,CFC-12_FLAG_W,SF6,SF6_FLAG_W,TCARBN,TCARBN_FLAG_W,ALKALI,ALKALI_FLAG_W,THETA
,,,,,,,,,,,METERS,DBAR,ITS-90,PSS-78,,PSS-78,,UMOL/KG,,UMOL/KG,,UMOL/KG,,UMOL/KG,,UMOL/KG,,PMOL/KG,,PMOL/KG,,FMOL/KG,,UMOL/KG,,UMOL/KG,,DEG C
06MT20060606,      EqAtl,      39,          1,      39001,          1,2,20060617,       0000,    -1.6680,   -23.0005,       4539,  1312.8,   4.4841,  34.9325,2,  34.9292,2,   210.2,6,   18.22,6,   24.04,6,    0.00,6,    1.61,6,   0.206,2,   0.104,2, -999.00,9,  2185.2,2,  2317.3,2,   4.3760
06MT20060606,      EqAtl,      39,          1,      39002,          2,2,20060617,       0000,    -1.6680,   -23.0005,       4539,  1099.4,   4.5338,  34.6998,2,  34.6993,2,   164.2,2,   26.67,2,   32.12,2,    0.00,2,    2.15,2,   0.044,2,   0.026,2, -999.00,9,  2213.8,2,  2303.8,2,   4.4449
06MT20060606,      EqAtl,      39,          1,      39003,          3,2,20060617,       0000,    -1.6680,   -23.0005,       4539,   897.8,   4.3747,  34.5521,2,-999.0000,9,   161.4,2,   29.65,2,   34.01,2,    0.00,2,    2.29,2,   0.145,6,   0.078,6, -999.00,9,  2217.0,2,  2299.4,2,   4.3048
06MT20060606,      EqAtl,      39,          1,      39004,          4,2,20060617,       0000,    -1.6680,   -23.0005,       4539,   696.5,   5.6381,  34.5076,2,-999.0000,9,   151.5,2,   23.13,2,   33.87,2,    0.01,2,    2.24,2,   0.633,2,   0.322,2, -999.00,9,  2209.5,2,  2288.6,2,   5.5782
06MT20060606,      EqAtl,      39,          1,      39005,          5,2,20060617,       0000,    -1.6680,   -23.0005,       4539,   500.9,   7.2402,  34.6383,2,-999.0000,9,   125.8,2,   17.89,2,   33.61,2,    0.00,2,    2.16,2,   0.872,2,   0.435,2, -999.00,9,  2212.4,2,  2290.6,2,   7.1916
06MT20060606,      EqAtl,      39,          1,      39006,          6,2,20060617,       0000,    -1.6680,   -23.0005,       4539,   300.4,   9.7384,  34.8942,2,-999.0000,9,    87.9,2,   12.67,2,   31.76,2,    0.01,2,    1.99,2,   1.132,2,   0.597,2, -999.00,9,  2218.7,2,  2295.2,2,   9.7040
06MT20060606,      EqAtl,      39,          1,      39007,          7,2,20060617,       0000,    -1.6680,   -23.0005,       4539,   251.2,  11.5114,  35.0918,2,-999.0000,9,    88.5,2,    9.55,2,   27.70,2,    0.00,2,    1.76,2,   1.510,2,   0.822,2, -999.00,9,  2208.0,2,  2302.9,2,  11.4794
06MT20060606,      EqAtl,      39,          1,      39008,          8,2,20060617,       0000,    -1.6680,   -23.0005,       4539,   199.7,  12.8681,  35.2582,2,-999.0000,9,   103.8,2,    8.01,2,   25.32,2,    0.01,2,    1.64,2,   1.780,6,   0.979,6, -999.00,9,  2203.5,2,  2310.6,2,  12.8407
06MT20060606,      EqAtl,      39,          1,      39009,          9,2,20060617,       0000,    -1.6680,   -23.0005,       4539,   160.2,  13.4157,  35.3322,2,-999.0000,9,    90.8,2,    7.45,2,   24.14,2,    0.01,2,    1.58,2,   1.787,2,   0.993,2, -999.00,9,  2199.3,2,  2314.3,2,  13.3932
06MT20060606,      EqAtl,      39,          1,      39010,         10,2,20060617,       0000,    -1.6680,   -23.0005,       4539,   119.6,  13.8685,  35.3952,2,-999.0000,9,   102.5,2,    6.82,2,   22.00,2,    0.01,2,    1.43,2,   1.954,2,   1.092,2, -999.00,9,  2190.4,2,  2319.9,2,  13.8513
06MT20060606,      EqAtl,      39,          1,      39011,         11,2,20060617,       0000,    -1.6680,   -23.0005,       4539,   100.3,  14.4040,  35.4679,2,-999.0000,9,   125.3,6,    5.59,6,   18.26,6,    0.03,6,    1.24,6,   2.105,2,   1.191,2, -999.00,9,  2172.9,2,  2324.9,2,  14.3892
06MT20060606,      EqAtl,      39,          1,      39012,         12,2,20060617,       0000,    -1.6680,   -23.0005,       4539,   100.4,  14.3991,  35.4682,2,-999.0000,9,  -999.0,9, -999.00,9, -999.00,9, -999.00,9, -999.00,9,-999.000,9,-999.000,9, -999.00,9,  -999.0,9,  -999.0,9,  14.3843
06MT20060606,      EqAtl,      39,          1,      39013,         13,2,20060617,       0000,    -1.6680,   -23.0005,       4539,    80.4,  15.1431,  35.5317,2,-999.0000,9,   101.0,2,    5.40,2,   20.02,2,    0.07,2,    1.31,2,   2.029,6,   1.147,6, -999.00,9,  2186.5,2,  2324.9,2,  15.1308
06MT20060606,      EqAtl,      39,          1,      39014,         14,2,20060617,       0000,    -1.6680,   -23.0005,       4539,    60.8,  19.9966,  35.8236,2,-999.0000,9,   149.3,2,    2.58,2,    7.70,2,    0.38,2,    0.66,2,   1.925,2,   1.116,2, -999.00,9,  2137.9,2,  2346.4,2,  19.9853
06MT20060606,      EqAtl,      39,          1,      39015,         15,2,20060617,       0000,    -1.6680,   -23.0005,       4539,    60.7,  20.0056,  35.8270,2,-999.0000,9,  -999.0,9, -999.00,9, -999.00,9, -999.00,9, -999.00,9,-999.000,9,-999.000,9, -999.00,9,  -999.0,9,  -999.0,9,  19.9943
06MT20060606,      EqAtl,      39,          1,      39016,         16,2,20060617,       0000,    -1.6680,   -23.0005,       4539,    40.5,  26.3777,  36.2658,2,-999.0000,9,   200.9,2,    0.74,2,    0.00,2,    0.01,2,    0.06,2,-999.000,9,-999.000,9, -999.00,9,  2046.9,2,  2372.7,2,  26.3685
06MT20060606,      EqAtl,      39,          1,      39017,         17,2,20060617,       0000,    -1.6680,   -23.0005,       4539,    40.6,  26.3774,  36.2655,2,-999.0000,9,  -999.0,9, -999.00,9, -999.00,9, -999.00,9, -999.00,9,   1.701,2,   1.076,2, -999.00,9,  -999.0,9,  -999.0,9,  26.3682
06MT20060606,      EqAtl,      39,          1,      39018,         18,2,20060617,       0000,    -1.6680,   -23.0005,       4539,    21.0,  26.7457,  36.1125,2,-999.0000,9,   201.8,2,    0.59,2,    0.01,2,    0.01,2,    0.03,2,-999.000,9,-999.000,9, -999.00,9,  -999.0,9,  -999.0,9,  26.7409
06MT20060606,      EqAtl,      39,          1,      39019,         19,2,20060617,       0000,    -1.6680,   -23.0005,       4539,    21.0,  26.7458,  36.1126,2,-999.0000,9,  -999.0,9, -999.00,9, -999.00,9, -999.00,9, -999.00,9,   1.685,2,   1.063,2, -999.00,9,  -999.0,9,  -999.0,9,  26.7410
06MT20060606,      EqAtl,      39,          1,      39020,         20,2,20060617,       0000,    -1.6680,   -23.0005,       4539,    11.9,  26.7668,  36.0957,2,-999.0000,9,   201.7,2,    0.29,2,    0.04,2,    0.01,2,    0.03,2,-999.000,9,-999.000,9, -999.00,9,  2032.8,6,  2361.7,2,  26.7641
06MT20060606,      EqAtl,      39,          1,      39021,         21,2,20060617,       0000,    -1.6680,   -23.0005,       4539,    10.3,  26.7650,  36.0995,2,  36.0946,2,  -999.0,9, -999.00,9, -999.00,9, -999.00,9, -999.00,9,   1.660,2,   1.034,2, -999.00,9,  -999.0,9,  -999.0,9,  26.7626
06MT20060606,      EqAtl,      40,          1,      40001,          1,2,20060618,       0000,    -1.3472,   -23.0202,       3857,   301.1,  10.6310,  34.9880,2,-999.0000,9,  -999.0,9, -999.00,9, -999.00,9, -999.00,9, -999.00,9,-999.000,9,-999.000,9, -999.00,9,  -999.0,9,  -999.0,9,  10.5945
06MT20060606,      EqAtl,      40,          1,      40002,          2,2,20060618,       0000,    -1.3472,   -23.0202,       3857,   120.2,  14.0934,  35.4209,2,-999.0000,9,  -999.0,9, -999.00,9, -999.00,9, -999.00,9, -999.00,9,-999.000,9,-999.000,9, -999.00,9,  -999.0,9,  -999.0,9,  14.0759
06MT20060606,      EqAtl,      40,          1,      40003,          3,2,20060618,       0000,    -1.3472,   -23.0202,       3857,    78.3,  16.4610,  35.7279,2,-999.0000,9,  -999.0,9, -999.00,9, -999.00,9, -999.00,9, -999.00,9,-999.000,9,-999.000,9, -999.00,9,  -999.0,9,  -999.0,9,  16.4483
06MT20060606,      EqAtl,      40,          1,      40004,          4,2,20060618,       0000,    -1.3472,   -23.0202,       3857,    39.2,  26.1515,  36.2161,2,-999.0000,9,  -999.0,9, -999.00,9, -999.00,9, -999.00,9, -999.00,9,-999.000,9,-999.000,9, -999.00,9,  -999.0,9,  -999.0,9,  26.1427
06MT20060606,      EqAtl,      40,          1,      40005,          5,2,20060618,       0000,    -1.3472,   -23.0202,       3857,    11.8,  26.7841,  36.0223,2,-999.0000,9,  -999.0,9, -999.00,9, -999.00,9, -999.00,9, -999.00,9,-999.000,9,-999.000,9, -999.00,9,  -999.0,9,  -999.0,9,  26.7814
06MT20060606,      EqAtl,      41,          1,      41001,          1,2,20060618,       0000,    -1.0065,   -23.0097,       3857,  1313.3,   4.5626,  34.8964,2,  34.8941,2,   199.0,6,   20.21,6,   26.15,6,    0.00,6,    1.72,6,   0.134,2,   0.085,2, -999.00,9,  2198.6,2,  2306.7,6,   4.4537
06MT20060606,      EqAtl,      41,          1,      41002,          2,2,20060618,       0000,    -1.0065,   -23.0097,       3857,  1106.2,   4.5393,  34.7019,2,  34.7019,2,   165.5,2,   26.72,2,   32.30,2,    0.00,2,    2.14,2,   0.042,2,   0.027,2, -999.00,9,  2219.7,2,  2303.4,2,   4.4498
06MT20060606,      EqAtl,      41,          1,      41003,          3,2,20060618,       0000,    -1.0065,   -23.0097,       3857,   905.6,   4.4669,  34.5626,2,-999.0000,9,   157.6,2,   29.27,2,   34.47,2,    0.00,2,    2.31,2,   0.113,2,   0.065,2, -999.00,9,  2225.1,2,  2299.9,2,   4.3957
06MT20060606,      EqAtl,      41,          1,      41004,          4,2,20060618,       0000,    -1.0065,   -23.0097,       3857,   701.4,   5.5638,  34.5117,2,  34.5089,2,   146.4,2,   23.56,2,   34.94,2,    0.00,2,    2.30,2,   0.477,2,   0.249,2, -999.00,9,  2221.3,2,  2292.6,2,   5.5038
06MT20060606,      EqAtl,      41,          1,      41005,          5,2,20060618,       0000,    -1.0065,   -23.0097,       3857,   499.3,   7.4095,  34.6547,2,-999.0000,9,   123.1,2,   17.41,2,   33.30,2,    0.01,2,    2.12,2,   0.917,2,   0.432,2, -999.00,9,  2219.7,2,  2289.9,2,   7.3604
06MT20060606,      EqAtl,      41,          1,      41006,          6,2,20060618,       0000,    -1.0065,   -23.0097,       3857,   301.4,  10.5538,  34.9820,2,-999.0000,9,    92.4,2,   11.41,2,   29.47,2,    0.00,2,    1.86,2,   1.333,2,   0.720,2, -999.00,9,  2218.3,2,  2299.7,2,  10.5174
06MT20060606,      EqAtl,      41,          1,      41007,          7,2,20060618,       0000,    -1.0065,   -23.0097,       3857,   252.4,  12.1011,  35.1635,2,-999.0000,9,    87.7,2,    9.32,2,   26.82,2,    0.01,2,    1.70,2,   1.585,2,   0.861,2, -999.00,9,  -999.0,9,  -999.0,9,  12.0679
06MT20060606,      EqAtl,      41,          1,      41008,          8,2,20060618,       0000,    -1.0065,   -23.0097,       3857,   202.2,  13.2852,  35.3158,2,-999.0000,9,   118.1,2,    6.94,2,   21.58,2,    0.01,2,    1.39,2,   1.967,2,   1.062,2, -999.00,9,  2190.0,2,  2317.3,2,  13.2569
06MT20060606,      EqAtl,      41,          1,      41009,          9,2,20060618,       0000,    -1.0065,   -23.0097,       3857,   138.7,  14.3157,  35.4612,2,-999.0000,9,   141.9,2,    5.37,2,   16.65,2,    0.03,2,    1.13,2,-999.000,9,-999.000,9, -999.00,9,  -999.0,9,  -999.0,9,  14.2953
06MT20060606,      EqAtl,      41,          1,      41010,         10,2,20060618,       0000,    -1.0065,   -23.0097,       3857,   121.0,  15.0921,  35.5794,2,-999.0000,9,   166.9,2,    4.19,2,   12.30,2,    0.03,2,    0.91,2,   2.330,2,   1.316,2, -999.00,9,  -999.0,9,  -999.0,9,  15.0737
06MT20060606,      EqAtl,      41,          1,      41011,         11,2,20060618,       0000,    -1.0065,   -23.0097,       3857,   102.2,  16.3779,  35.7688,2,-999.0000,9,   170.0,6,    3.44,6,   10.22,6,    0.06,6,    0.78,6,   2.263,2,   1.290,2, -999.00,9,  2143.1,2,  2347.2,2,  16.3614
06MT20060606,      EqAtl,      41,          1,      41012,         12,2,20060618,       0000,    -1.0065,   -23.0097,       3857,   101.9,  16.3970,  35.7714,2,-999.0000,9,  -999.0,9, -999.00,9, -999.00,9, -999.00,9, -999.00,9,-999.000,9,-999.000,9, -999.00,9,  -999.0,9,  -999.0,9,  16.3805
06MT20060606,      EqAtl,      41,          1,      41013,         13,2,20060618,       0000,    -1.0065,   -23.0097,       3857,    81.2,  17.6293,  35.9503,2,-999.0000,9,   173.9,2,    2.77,2,    8.27,2,    0.10,2,    0.65,2,   2.212,2,   1.292,2, -999.00,9,  -999.0,9,  -999.0,9,  17.6155
06MT20060606,      EqAtl,      41,          1,      41014,         14,2,20060618,       0000,    -1.0065,   -23.0097,       3857,    61.2,  19.0797,  36.1391,2,-999.0000,9,   171.6,2,    2.17,2,    6.67,2,    0.08,2,    0.54,2,   2.151,2,   1.277,2, -999.00,9,  -999.0,9,  -999.0,9,  19.0687
06MT20060606,      EqAtl,      41,          1,      41015,         15,2,20060618,       0000,    -1.0065,   -23.0097,       3857,    61.5,  19.0862,  36.1393,2,-999.0000,9,  -999.0,9, -999.00,9, -999.00,9, -999.00,9, -999.00,9,-999.000,9,-999.000,9, -999.00,9,  2136.1,2,  2367.5,2,  19.0751
06MT20060606,      EqAtl,      41,          1,      41016,         16,2,20060618,       0000,    -1.0065,   -23.0097,       3857,    40.5,  25.3957,  36.2386,2,-999.0000,9,   193.5,2,    0.73,2,    0.46,2,    0.06,2,    0.12,2,   1.905,2,   1.105,2, -999.00,9,  -999.0,9,  -999.0,9,  25.3868
06MT20060606,      EqAtl,      41,          1,      41017,         17,2,20060618,       0000,    -1.0065,   -23.0097,       3857,    40.5,  25.3625,  36.2419,2,-999.0000,9,  -999.0,9, -999.00,9, -999.00,9, -999.00,9, -999.00,9,-999.000,9,-999.000,9, -999.00,9,  -999.0,9,  -999.0,9,  25.3536
06MT20060606,      EqAtl,      41,          1,      41018,         18,2,20060618,       0000,    -1.0065,   -23.0097,       3857,    20.9,  26.7169,  36.0240,2,-999.0000,9,   200.1,2,    0.53,2,    0.03,2,    0.00,2,    0.03,2,   1.752,2,   1.075,2, -999.00,9,  -999.0,9,  -999.0,9,  26.7121
06MT20060606,      EqAtl,      41,          1,      41019,         19,2,20060618,       0000,    -1.0065,   -23.0097,       3857,    21.0,  26.7131,  36.0268,2,-999.0000,9,  -999.0,9, -999.00,9, -999.00,9, -999.00,9, -999.00,9,-999.000,9,-999.000,9, -999.00,9,  -999.0,9,  -999.0,9,  26.7083
06MT20060606,      EqAtl,      41,          1,      41020,         20,2,20060618,       0000,    -1.0065,   -23.0097,       3857,    11.0,  26.7508,  36.0092,2,  36.0097,2,   199.8,2,    0.54,2,    0.06,2,    0.00,2,    0.04,2,   1.652,2,   1.037,2, -999.00,9,  2036.1,6,  2354.4,2,  26.7483
06MT20060606,      EqAtl,      41,          1,      41021,         21,2,20060618,       0000,    -1.0065,   -23.0097,       3857,    11.5,  26.7505,  36.0090,2,-999.0000,9,  -999.0,9, -999.00,9, -999.00,9, -999.00,9, -999.00,9,-999.000,9,-999.000,9, -999.00,9,  -999.0,9,  -999.0,9,  26.7479