BOTTLE,20211025CCHSIORKP
EXPOCODE,SECT_ID,STNNBR,CASTNO,SAMPNO,BTLNBR,BTLNBR_FLAG_W,DATE,TIME,LATITUDE,LONGITUDE,DEPTH,CTDPRS,CTDTMP,CTDSAL,CTDSAL_FLAG_W,SALNTY,SALNTY_FLAG_W,OXYGEN,OXYGEN_FLAG_W,SILCAT,SILCAT_FLAG_W,NITRAT,NITRAT_FLAG_W,NITRIT,NITRIT_FLAG_W,PHSPHT,PHSPHT_FLAG_W,CFC-11,CFC-11_FLAG_W,CFC-12,CFC-12_FLAG_W,SF6,SF6_FLAG_W,TCARBN,TCARBN_FLAG_W,ALKALI,ALKALI_FLAG_W,THETA
,,,,,,,,,,,METERS,DBAR,ITS-90,PSS-78,,PSS-78,,UMOL/KG,,UMOL/KG,,UMOL/KG,,UMOL/KG,,UMOL/KG,,PMOL/KG,,PMOL/KG,,FMOL/KG,,UMOL/KG,,UMOL/KG,,DEG C
06MT20060606,      EqAtl,      98,          1,      98001,          1,2,20060704,       0000,     7.9853,   -23.0068,       4757,  1301.8,   4.5664,  34.8899,2,  34.8886,2,   183.2,6,   21.91,6,   27.41,6,    0.01,6,    1.86,6,   0.020,6,   0.006,6, -999.00,9,  2199.1,6,  2310.0,6,   4.4586
06MT20060606,      EqAtl,      98,          1,      98002,          2,2,20060704,       0000,     7.9853,   -23.0068,       4757,  1097.4,   4.8931,  34.7914,2,-999.0000,9,   152.2,2,   24.54,2,   31.66,2,    0.01,2,    2.15,2,   0.008,2,   0.005,2, -999.00,9,  2216.5,2,  2305.5,2,   4.8013
06MT20060606,      EqAtl,      98,          1,      98003,          3,2,20060704,       0000,     7.9853,   -23.0068,       4757,   897.3,   5.3542,  34.6737,2,-999.0000,9,   121.0,2,   25.83,2,   36.16,2,    0.01,2,    2.43,2,   0.014,2,   0.007,2, -999.00,9,  2231.1,2,  2301.0,2,   5.2774
06MT20060606,      EqAtl,      98,          1,      98004,          4,2,20060704,       0000,     7.9853,   -23.0068,       4757,   697.3,   6.3138,  34.6867,2,-999.0000,9,    94.9,2,   23.30,2,   38.08,2,    0.01,2,    2.47,2,   0.057,2,   0.042,2, -999.00,9,  2236.9,2,  2294.3,2,   6.2500
06MT20060606,      EqAtl,      98,          1,      98005,          5,2,20060704,       0000,     7.9853,   -23.0068,       4757,   581.1,   7.2885,  34.7676,2,-999.0000,9,    80.2,2,   19.56,2,   37.86,2,    0.01,2,    2.41,2,   0.143,2,   0.078,2, -999.00,9,  2240.0,2,  2297.9,2,   7.2315
06MT20060606,      EqAtl,      98,          1,      98006,          6,2,20060704,       0000,     7.9853,   -23.0068,       4757,   497.3,   8.3057,  34.8759,2,  34.8751,2,    60.3,2,   17.33,2,   37.57,2,    0.01,2,    2.35,2,   0.237,2,   0.141,2, -999.00,9,  2243.5,2,  2294.6,2,   8.2534
06MT20060606,      EqAtl,      98,          1,      98007,          7,2,20060704,       0000,     7.9853,   -23.0068,       4757,   449.4,   9.0968,  34.9624,2,-999.0000,9,    49.2,2,   15.53,2,   36.85,2,    0.01,2,    2.29,2,   0.359,2,   0.195,2, -999.00,9,  2246.1,2,  2300.1,2,   9.0470
06MT20060606,      EqAtl,      98,          1,      98008,          8,2,20060704,       0000,     7.9853,   -23.0068,       4757,   400.0,   9.7829,  35.0280,2,-999.0000,9,    46.9,2,   13.55,2,   35.78,2,    0.01,2,    2.21,2,   0.585,6,   0.292,6, -999.00,9,  2242.8,2,  2301.8,2,   9.7366
06MT20060606,      EqAtl,      98,          1,      98009,          9,2,20060704,       0000,     7.9853,   -23.0068,       4757,   351.0,  10.3850,  35.0631,2,-999.0000,9,    59.0,2,   12.33,2,   33.30,2,    0.01,2,    2.04,2,   0.850,2,   0.443,2, -999.00,9,  2232.0,2,  2307.3,2,  10.3429
06MT20060606,      EqAtl,      98,          1,      98010,         10,2,20060704,       0000,     7.9853,   -23.0068,       4757,   300.3,  11.2491,  35.1051,2,-999.0000,9,    88.9,2,   10.18,2,   27.83,2,    0.01,2,    1.80,2,   1.377,2,   0.724,2, -999.00,9,  2209.0,2,  2305.2,2,  11.2113
06MT20060606,      EqAtl,      98,          1,      98011,         11,2,20060704,       0000,     7.9853,   -23.0068,       4757,   269.7,  11.6840,  35.1451,2,-999.0000,9,    97.8,6,    9.08,6,   26.18,6,    0.01,6,    1.70,6,   1.541,2,   0.812,2, -999.00,9,  2200.4,2,  2304.5,2,  11.6493
06MT20060606,      EqAtl,      98,          1,      98012,         12,2,20060704,       0000,     7.9853,   -23.0068,       4757,   241.4,  12.1130,  35.1910,2,-999.0000,9,    95.8,2,    8.68,2,   25.59,2,    0.01,2,    1.66,2,   1.614,2,   0.847,2, -999.00,9,  2199.6,2,  2308.4,2,  12.0812
06MT20060606,      EqAtl,      98,          1,      98013,         13,2,20060704,       0000,     7.9853,   -23.0068,       4757,   199.9,  12.6335,  35.2523,2,-999.0000,9,    90.9,2,    8.09,2,   25.09,2,    0.00,2,    1.66,2,   1.665,6,   0.876,6, -999.00,9,  2201.4,2,  2311.2,2,  12.6064
06MT20060606,      EqAtl,      98,          1,      98014,         14,2,20060704,       0000,     7.9853,   -23.0068,       4757,   160.0,  13.2006,  35.3186,2,-999.0000,9,    85.4,2,    7.38,2,   24.98,2,    0.01,2,    1.63,2,   1.677,2,   0.890,2, -999.00,9,  2201.6,2,  2316.5,2,  13.1783
06MT20060606,      EqAtl,      98,          1,      98015,         15,2,20060704,       0000,     7.9853,   -23.0068,       4757,   121.0,  13.8667,  35.3994,2,-999.0000,9,    94.5,2,    6.49,2,   22.61,2,    0.01,2,    1.50,2,   1.888,2,   1.011,2, -999.00,9,  2194.3,2,  2318.5,2,  13.8493
06MT20060606,      EqAtl,      98,          1,      98016,         16,2,20060704,       0000,     7.9853,   -23.0068,       4757,   100.0,  14.2909,  35.4505,2,-999.0000,9,    96.7,2,    6.11,2,   22.10,2,    0.02,2,    1.43,2,   1.949,2,   1.031,2, -999.00,9,  2191.1,2,  2317.8,2,  14.2762
06MT20060606,      EqAtl,      98,          1,      98017,         17,2,20060704,       0000,     7.9853,   -23.0068,       4757,    79.7,  15.1004,  35.5460,2,-999.0000,9,    93.1,2,    5.42,2,   21.40,2,    0.04,2,    1.37,2,   1.929,2,   1.068,2, -999.00,9,  2190.9,2,  2322.9,2,  15.0883
06MT20060606,      EqAtl,      98,          1,      98018,         18,2,20060704,       0000,     7.9853,   -23.0068,       4757,    58.9,  16.7605,  35.7214,2,-999.0000,9,   119.7,2,    3.69,2,   15.58,2,    0.32,2,    0.96,2,   1.999,2,   1.090,2, -999.00,9,  2168.4,2,  2335.3,2,  16.7509
06MT20060606,      EqAtl,      98,          1,      98019,         19,2,20060704,       0000,     7.9853,   -23.0068,       4757,    40.4,  22.4780,  35.9500,2,-999.0000,9,   182.0,2,    1.26,2,    1.21,2,    0.05,2,    0.12,2,   1.888,2,   1.084,2, -999.00,9,  2101.1,2,  2357.5,2,  22.4699
06MT20060606,      EqAtl,      98,          1,      98020,         20,2,20060704,       0000,     7.9853,   -23.0068,       4757,    20.9,  27.7754,  35.9606,2,-999.0000,9,   203.5,2,    0.00,2,    0.02,2,    0.00,2,    0.02,2,-999.000,9,-999.000,9, -999.00,9,  1997.5,2,  2347.7,2,  27.7705
06MT20060606,      EqAtl,      98,          1,      98021,         21,2,20060704,       0000,     7.9853,   -23.0068,       4757,    10.0,  27.9680,  35.4321,2,  35.6873,3,   201.8,2,    0.41,2,    0.00,2,    0.01,2,    0.04,2,   1.529,2,   0.957,2, -999.00,9,  1980.3,6,  2330.5,6,  27.9656
06MT20060606,      EqAtl,      99,          1,      99001,          1,2,20060704,       0000,     8.5152,   -22.9988,       4707,  1297.2,   4.6050,  34.8825,2,-999.0000,9,  -999.0,9, -999.00,9, -999.00,9, -999.00,9, -999.00,9,-999.000,9,-999.000,9, -999.00,9,  -999.0,9,  -999.0,9,   4.4972
06MT20060606,      EqAtl,      99,          1,      99002,          2,2,20060704,       0000,     8.5152,   -22.9988,       4707,  1098.4,   4.9466,  34.7872,2,-999.0000,9,  -999.0,9, -999.00,9, -999.00,9, -999.00,9, -999.00,9,-999.000,9,-999.000,9, -999.00,9,  -999.0,9,  -999.0,9,   4.8542
06MT20060606,      EqAtl,      99,          1,      99003,          3,2,20060704,       0000,     8.5152,   -22.9988,       4707,  1095.6,   4.9459,  34.7853,2,-999.0000,9,  -999.0,9, -999.00,9, -999.00,9, -999.00,9, -999.00,9,-999.000,9,-999.000,9, -999.00,9,  -999.0,9,  -999.0,9,   4.8538
06MT20060606,      EqAtl,      99,          1,      99004,          4,2,20060704,       0000,     8.5152,   -22.9988,       4707,  1092.0,   4.9478,  34.7838,2,-999.0000,9,  -999.0,9, -999.00,9, -999.00,9, -999.00,9, -999.00,9,-999.000,9,-999.000,9, -999.00,9,  -999.0,9,  -999.0,9,   4.8560
06MT20060606,      EqAtl,      99,          1,      99005,          5,2,20060704,       0000,     8.5152,   -22.9988,       4707,  1091.0,   4.9472,  34.7838,2,-999.0000,9,  -999.0,9, -999.00,9, -999.00,9, -999.00,9, -999.00,9,-999.000,9,-999.000,9, -999.00,9,  -999.0,9,  -999.0,9,   4.8555
06MT20060606,      EqAtl,      99,          1,      99006,          6,2,20060704,       0000,     8.5152,   -22.9988,       4707,  1088.7,   4.9494,  34.7819,2,-999.0000,9,  -999.0,9, -999.00,9, -999.00,9, -999.00,9, -999.00,9,-999.000,9,-999.000,9, -999.00,9,  -999.0,9,  -999.0,9,   4.8579
06MT20060606,      EqAtl,      99,          1,      99007,          7,2,20060704,       0000,     8.5152,   -22.9988,       4707,  1084.6,   4.9685,  34.7700,2,-999.0000,9,  -999.0,9, -999.00,9, -999.00,9, -999.00,9, -999.00,9,-999.000,9,-999.000,9, -999.00,9,  -999.0,9,  -999.0,9,   4.8773
06MT20060606,      EqAtl,      99,          1,      99008,          8,2,20060704,       0000,     8.5152,   -22.9988,       4707,    99.5,  14.6050,  35.5101,2,-999.0000,9,  -999.0,9, -999.00,9, -999.00,9, -999.00,9, -999.00,9,-999.000,9,-999.000,9, -999.00,9,  -999.0,9,  -999.0,9,  14.5902
06MT20060606,      EqAtl,      99,          1,      99009,          9,2,20060704,       0000,     8.5152,   -22.9988,       4707,    80.6,  15.9187,  35.6354,2,-999.0000,9,  -999.0,9, -999.00,9, -999.00,9, -999.00,9, -999.00,9,-999.000,9,-999.000,9, -999.00,9,  -999.0,9,  -999.0,9,  15.9060
06MT20060606,      EqAtl,      99,          1,      99010,         10,2,20060704,       0000,     8.5152,   -22.9988,       4707,    61.3,  18.8614,  35.8601,2,-999.0000,9,  -999.0,9, -999.00,9, -999.00,9, -999.00,9, -999.00,9,-999.000,9,-999.000,9, -999.00,9,  -999.0,9,  -999.0,9,  18.8505
06MT20060606,      EqAtl,      99,          1,      99011,         11,2,20060704,       0000,     8.5152,   -22.9988,       4707,    40.4,  23.8423,  35.9510,2,-999.0000,9,  -999.0,9, -999.00,9, -999.00,9, -999.00,9, -999.00,9,-999.000,9,-999.000,9, -999.00,9,  -999.0,9,  -999.0,9,  23.8338
06MT20060606,      EqAtl,      99,          1,      99012,         12,2,20060704,       0000,     8.5152,   -22.9988,       4707,    20.4,  27.8771,  35.9095,2,-999.0000,9,  -999.0,9, -999.00,9, -999.00,9, -999.00,9, -999.00,9,-999.000,9,-999.000,9, -999.00,9,  -999.0,9,  -999.0,9,  27.8723
06MT20060606,      EqAtl,      99,          1,      99013,         13,2,20060704,       0000,     8.5152,   -22.9988,       4707,    11.1,  27.8278,  35.5848,2,-999.0000,9,  -999.0,9, -999.00,9, -999.00,9, -999.00,9, -999.00,9,-999.000,9,-999.000,9, -999.00,9,  -999.0,9,  -999.0,9,  27.8252
06MT20060606,      EqAtl,     100,          1,     100001,          1,2,20060705,       0000,     9.0012,   -22.9960,       5002,  1311.3,   4.5872,  34.8970,2,  34.8947,2,   181.9,6,   21.80,6,   26.94,6,    0.01,6,    1.88,6,-999.000,9,-999.000,9, -999.00,9,  2201.0,6,  2308.1,6,   4.4783
06MT20060606,      EqAtl,     100,          1,     100002,          2,2,20060705,       0000,     9.0012,   -22.9960,       5002,  1108.9,   4.8796,  34.7999,2,-999.0000,9,   153.6,2,   24.14,2,   31.32,2,    0.01,2,    2.15,2,   0.015,2,   0.008,2, -999.00,9,  2216.9,2,  2305.5,2,   4.7868
06MT20060606,      EqAtl,     100,          1,     100003,          3,2,20060705,       0000,     9.0012,   -22.9960,       5002,   898.6,   5.3446,  34.6972,2,  34.6973,2,   122.0,2,   25.44,2,   35.84,2,    0.01,2,    2.41,2,   0.008,2,   0.008,2, -999.00,9,  2232.2,2,  2299.2,2,   5.2677
06MT20060606,      EqAtl,     100,          1,     100004,          4,2,20060705,       0000,     9.0012,   -22.9960,       5002,   699.0,   6.2709,  34.7021,2,-999.0000,9,    98.1,2,   22.57,2,   37.77,2,    0.01,2,    2.46,2,   0.054,6,   0.036,6, -999.00,9,  2237.9,2,  2295.8,2,   6.2072
06MT20060606,      EqAtl,     100,          1,     100005,          5,2,20060705,       0000,     9.0012,   -22.9960,       5002,   590.9,   7.6617,  34.8428,2,-999.0000,9,    67.2,2,   18.93,2,   38.03,2,    0.01,2,    2.45,2,   0.132,2,   0.069,2, -999.00,9,  2246.1,2,  2296.3,2,   7.6020
06MT20060606,      EqAtl,     100,          1,     100006,          6,2,20060705,       0000,     9.0012,   -22.9960,       5002,   499.6,   9.0758,  35.0016,2,-999.0000,9,    45.4,2,   15.55,2,   36.88,2,    0.01,2,    2.35,2,   0.290,2,   0.159,2,    0.13,3,  2250.3,2,  2299.6,2,   9.0203
06MT20060606,      EqAtl,     100,          1,     100007,          7,2,20060705,       0000,     9.0012,   -22.9960,       5002,   454.5,   9.6519,  35.0461,2,-999.0000,9,    43.2,2,   14.33,2,   36.03,2,    0.01,2,    2.26,2,   0.439,2,   0.248,2, -999.00,9,  2247.6,2,  2301.7,2,   9.5996
06MT20060606,      EqAtl,     100,          1,     100008,          8,2,20060705,       0000,     9.0012,   -22.9960,       5002,   403.0,  10.1553,  35.0677,2,-999.0000,9,    48.3,2,   12.67,2,   34.45,2,    0.01,2,    2.15,2,   0.702,2,   0.345,2,    0.21,3,  2243.1,2,  2301.2,2,  10.1075
06MT20060606,      EqAtl,     100,          1,     100009,          9,2,20060705,       0000,     9.0012,   -22.9960,       5002,   353.1,  10.4538,  35.0634,2,-999.0000,9,    61.7,2,   11.86,2,   32.57,2,    0.01,2,    2.06,2,   0.895,2,   0.470,2,    0.24,3,  2232.1,2,  2300.7,2,  10.4113
06MT20060606,      EqAtl,     100,          1,     100010,         10,2,20060705,       0000,     9.0012,   -22.9960,       5002,   301.7,  11.0951,  35.1012,2,-999.0000,9,    80.6,2,   10.09,2,   29.15,2,    0.01,2,    1.86,2,   1.303,2,   0.704,2,    0.32,3,  2216.1,2,  2303.9,2,  11.0575
06MT20060606,      EqAtl,     100,          1,     100011,         11,2,20060705,       0000,     9.0012,   -22.9960,       5002,   270.8,  11.3508,  35.1066,2,-999.0000,9,   101.7,6,    9.34,6,   26.30,6,    0.01,6,    1.74,6,   1.523,6,   0.786,6,    0.39,3,  2201.0,2,  2304.7,2,  11.3166
06MT20060606,      EqAtl,     100,          1,     100012,         12,2,20060705,       0000,     9.0012,   -22.9960,       5002,   240.6,  11.6950,  35.1436,2,-999.0000,9,   103.0,2,    9.40,2,   24.99,2,    0.01,2,    1.68,2,   1.591,2,   0.840,2,    0.49,3,  2197.9,2,  2313.0,2,  11.6640
06MT20060606,      EqAtl,     100,          1,     100013,         13,2,20060705,       0000,     9.0012,   -22.9960,       5002,   203.5,  12.0726,  35.1792,2,-999.0000,9,   118.7,2,    7.89,2,   22.62,2,    0.01,2,    1.55,2,   1.796,2,   0.943,2,     0.4,3,  2186.5,2,  2310.0,2,  12.0459
06MT20060606,      EqAtl,     100,          1,     100014,         14,2,20060705,       0000,     9.0012,   -22.9960,       5002,   161.7,  12.4437,  35.2257,2,-999.0000,9,   119.4,2,    7.25,2,   21.94,2,    0.01,2,    1.51,2,   1.856,2,   0.970,2,    0.48,3,  2183.4,2,  2314.3,2,  12.4221
06MT20060606,      EqAtl,     100,          1,     100015,         15,2,20060705,       0000,     9.0012,   -22.9960,       5002,   121.6,  13.0463,  35.3070,2,-999.0000,9,   121.8,2,    6.59,2,   20.69,2,    0.02,2,    1.42,2,   1.971,2,   1.050,2, -999.00,9,  2180.2,2,  2315.6,2,  13.0295
06MT20060606,      EqAtl,     100,          1,     100016,         16,2,20060705,       0000,     9.0012,   -22.9960,       5002,   102.8,  13.5334,  35.3735,2,-999.0000,9,   130.2,2,    5.82,2,   19.00,2,    0.03,2,    1.30,2,   2.159,6,   1.114,6, -999.00,9,  2173.6,2,  2320.2,2,  13.5189
06MT20060606,      EqAtl,     100,          1,     100017,         17,2,20060705,       0000,     9.0012,   -22.9960,       5002,    80.8,  14.7169,  35.5261,2,-999.0000,9,   129.1,2,    5.07,2,   17.67,2,    0.08,2,    1.16,2,   2.077,2,   1.132,2, -999.00,9,  2171.1,2,  2327.6,2,  14.7048
06MT20060606,      EqAtl,     100,          1,     100018,         18,2,20060705,       0000,     9.0012,   -22.9960,       5002,    59.8,  17.8393,  35.7935,2,-999.0000,9,   124.8,2,    3.56,2,   14.22,2,    0.52,2,    0.86,2,   2.069,2,   1.110,2, -999.00,9,  2167.3,2,  2340.4,2,  17.8291
06MT20060606,      EqAtl,     100,          1,     100019,         19,2,20060705,       0000,     9.0012,   -22.9960,       5002,    40.8,  23.8775,  35.9721,2,-999.0000,9,   210.3,2,    0.15,2,    0.09,2,    0.00,2,    0.02,2,   1.888,2,   1.114,2,    0.99,3,  2048.0,2,  2353.5,2,  23.8689
06MT20060606,      EqAtl,     100,          1,     100020,         20,2,20060705,       0000,     9.0012,   -22.9960,       5002,    21.2,  26.8010,  35.9726,2,-999.0000,9,   212.6,2,    0.03,2,    0.02,2,    0.00,2,    0.01,2,   1.752,6,   1.044,6, -999.00,9,  2019.4,2,  2354.5,2,  26.7962
06MT20060606,      EqAtl,     100,          1,     100021,         21,2,20060705,       0000,     9.0012,   -22.9960,       5002,    11.9,  27.2913,  35.9130,2,  35.9163,2,   205.7,2,    0.24,2,    0.08,2,    0.00,2,    0.03,2,   1.682,2,   1.016,2,    0.95,3,  2015.2,6,  2349.1,6,  27.2885
06MT20060606,      EqAtl,     101,          1,     101001,          1,2,20060705,       0000,     9.4945,   -23.0083,       5094,  1312.3,   4.5501,  34.9099,2,  34.9083,2,  -999.0,9, -999.00,9, -999.00,9, -999.00,9, -999.00,9,-999.000,9,-999.000,9, -999.00,9,  -999.0,9,  -999.0,9,   4.4414
06MT20060606,      EqAtl,     101,          1,     101002,          2,2,20060705,       0000,     9.4945,   -23.0083,       5094,   902.0,   5.5011,  34.7283,2,  34.7351,2,  -999.0,9, -999.00,9, -999.00,9, -999.00,9, -999.00,9,-999.000,9,-999.000,9, -999.00,9,  -999.0,9,  -999.0,9,   5.4228
06MT20060606,      EqAtl,     101,          1,     101003,          3,2,20060705,       0000,     9.4945,   -23.0083,       5094,   501.6,   8.9813,  34.9930,2,  34.9913,2,  -999.0,9, -999.00,9, -999.00,9, -999.00,9, -999.00,9,-999.000,9,-999.000,9, -999.00,9,  -999.0,9,  -999.0,9,   8.9259
06MT20060606,      EqAtl,     101,          1,     101004,          4,2,20060705,       0000,     9.4945,   -23.0083,       5094,    12.1,  27.6667,  36.0193,2,  36.0248,2,  -999.0,9, -999.00,9, -999.00,9, -999.00,9, -999.00,9,-999.000,9,-999.000,9, -999.00,9,  -999.0,9,  -999.0,9,  27.6639