BOTTLE,20211025CCHSIORKP
EXPOCODE,SECT_ID,STNNBR,CASTNO,SAMPNO,BTLNBR,BTLNBR_FLAG_W,DATE,TIME,LATITUDE,LONGITUDE,DEPTH,CTDPRS,CTDTMP,CTDSAL,CTDSAL_FLAG_W,SALNTY,SALNTY_FLAG_W,OXYGEN,OXYGEN_FLAG_W,SILCAT,SILCAT_FLAG_W,NITRAT,NITRAT_FLAG_W,NITRIT,NITRIT_FLAG_W,PHSPHT,PHSPHT_FLAG_W,CFC-11,CFC-11_FLAG_W,CFC-12,CFC-12_FLAG_W,SF6,SF6_FLAG_W,TCARBN,TCARBN_FLAG_W,ALKALI,ALKALI_FLAG_W,THETA
,,,,,,,,,,,METERS,DBAR,ITS-90,PSS-78,,PSS-78,,UMOL/KG,,UMOL/KG,,UMOL/KG,,UMOL/KG,,UMOL/KG,,PMOL/KG,,PMOL/KG,,FMOL/KG,,UMOL/KG,,UMOL/KG,,DEG C
06MT20060606,      EqAtl,      58,          1,      58001,          1,2,20060624,       0000,     0.0005,   -14.0128,       4171,  1310.5,   4.4899,  34.9128,2,  34.9144,2,   206.4,6,   18.72,6,   25.21,6,    0.00,6,    1.69,6,   0.143,6,   0.074,6, -999.00,9,  2187.8,2,  2307.4,6,   4.3820
06MT20060606,      EqAtl,      58,          1,      58002,          2,2,20060624,       0000,     0.0005,   -14.0128,       4171,  1098.0,   4.5309,  34.7573,2,  34.7596,2,   171.9,2,   24.45,2,   30.74,2,    0.00,2,    2.08,2,   0.037,2,   0.023,2, -999.00,9,  2208.2,2,  2303.0,2,   4.4421
06MT20060606,      EqAtl,      58,          1,      58003,          3,2,20060624,       0000,     0.0005,   -14.0128,       4171,   897.4,   4.6672,  34.5429,2,-999.0000,9,   152.7,2,   27.88,2,   34.89,2,    0.00,2,    2.38,2,   0.130,2,   0.063,2, -999.00,9,  2218.9,2,  2296.9,2,   4.5953
06MT20060606,      EqAtl,      58,          1,      58004,          4,2,20060624,       0000,     0.0005,   -14.0128,       4171,   699.2,   5.3979,  34.5087,2,-999.0000,9,   144.7,2,   24.01,2,   35.00,2,    0.01,2,    2.36,2,   0.377,2,   0.193,2, -999.00,9,  2216.0,2,  2291.4,2,   5.3390
06MT20060606,      EqAtl,      58,          1,      58005,          5,2,20060624,       0000,     0.0005,   -14.0128,       4171,   498.0,   7.7507,  34.6854,2,-999.0000,9,   115.7,2,   16.51,2,   33.40,2,    0.01,2,    2.16,2,   0.844,2,   0.431,2, -999.00,9,  2214.0,2,  2289.7,2,   7.7005
06MT20060606,      EqAtl,      58,          1,      58006,          6,2,20060624,       0000,     0.0005,   -14.0128,       4171,   300.9,  10.7294,  34.9942,2,-999.0000,9,   109.5,2,   10.08,2,   27.32,2,    0.01,2,    1.77,2,   1.536,2,   0.828,2, -999.00,9,  2200.0,2,  2301.3,2,  10.6927
06MT20060606,      EqAtl,      58,          1,      58007,          7,2,20060624,       0000,     0.0005,   -14.0128,       4171,   250.3,  12.3859,  35.1964,2,-999.0000,9,    82.2,2,    8.92,2,   27.35,2,    0.01,2,    1.73,2,   1.528,2,   0.834,2, -999.00,9,  2209.2,2,  2308.1,2,  12.3524
06MT20060606,      EqAtl,      58,          1,      58008,          8,2,20060624,       0000,     0.0005,   -14.0128,       4171,   199.7,  13.7900,  35.3801,2,-999.0000,9,   110.7,2,    6.40,2,   20.92,2,    0.01,2,    1.41,2,   2.000,6,   1.082,6, -999.00,9,  2183.8,2,  2319.4,2,  13.7613
06MT20060606,      EqAtl,      58,          1,      58009,          9,2,20060624,       0000,     0.0005,   -14.0128,       4171,   159.6,  14.1690,  35.4385,2,-999.0000,9,   142.8,2,    5.13,2,   16.53,2,    0.01,2,    1.17,2,   2.212,2,   1.190,2, -999.00,9,  2161.3,2,  2324.6,2,  14.1457
06MT20060606,      EqAtl,      58,          1,      58010,         10,2,20060624,       0000,     0.0005,   -14.0128,       4171,   120.7,  14.6390,  35.5086,2,-999.0000,9,   159.6,2,    4.36,2,   13.99,2,    0.02,2,    1.00,2,   2.340,2,   1.291,2, -999.00,9,  2147.9,2,  2329.5,2,  14.6210
06MT20060606,      EqAtl,      58,          1,      58011,         11,2,20060624,       0000,     0.0005,   -14.0128,       4171,    99.6,  15.2781,  35.6025,2,-999.0000,9,   159.2,2,    4.01,2,   13.00,2,    0.03,2,    0.96,2,   2.314,2,   1.281,2, -999.00,9,  2147.2,2,  2334.7,2,  15.2628
06MT20060606,      EqAtl,      58,          1,      58012,         12,2,20060624,       0000,     0.0005,   -14.0128,       4171,    99.5,  15.2781,  35.6029,2,-999.0000,9,  -999.0,9, -999.00,9, -999.00,9, -999.00,9, -999.00,9,-999.000,9,-999.000,9, -999.00,9,  -999.0,9,  -999.0,9,  15.2628
06MT20060606,      EqAtl,      58,          1,      58013,         13,2,20060624,       0000,     0.0005,   -14.0128,       4171,    81.5,  16.4236,  35.7655,2,-999.0000,9,   161.3,2,    3.36,2,   11.20,2,    0.08,2,    0.81,2,   2.230,2,   1.259,2, -999.00,9,  2141.6,2,  2344.0,2,  16.4104
06MT20060606,      EqAtl,      58,          1,      58014,         14,2,20060624,       0000,     0.0005,   -14.0128,       4171,    59.9,  18.5480,  36.0611,2,-999.0000,9,   169.2,2,    2.20,2,    7.95,2,    0.20,2,    0.61,2,   2.193,2,   1.260,2, -999.00,9,  2130.8,2,  2361.4,2,  18.5375
06MT20060606,      EqAtl,      58,          1,      58015,         15,2,20060624,       0000,     0.0005,   -14.0128,       4171,    60.2,  18.5445,  36.0611,2,-999.0000,9,  -999.0,9, -999.00,9, -999.00,9, -999.00,9, -999.00,9,-999.000,9,-999.000,9, -999.00,9,  -999.0,9,  -999.0,9,  18.5339
06MT20060606,      EqAtl,      58,          1,      58016,         16,2,20060624,       0000,     0.0005,   -14.0128,       4171,    40.7,  21.0241,  35.9934,2,-999.0000,9,   182.0,2,    1.47,2,    1.12,2,    0.13,2,    0.38,2,   2.082,6,   1.171,6, -999.00,9,  2095.0,2,  2356.3,2,  21.0163
06MT20060606,      EqAtl,      58,          1,      58017,         17,2,20060624,       0000,     0.0005,   -14.0128,       4171,    40.4,  21.0410,  35.9929,2,-999.0000,9,  -999.0,9, -999.00,9, -999.00,9, -999.00,9, -999.00,9,-999.000,9,-999.000,9, -999.00,9,  -999.0,9,  -999.0,9,  21.0332
06MT20060606,      EqAtl,      58,          1,      58018,         18,2,20060624,       0000,     0.0005,   -14.0128,       4171,    20.0,  24.2175,  35.9376,2,-999.0000,9,   201.7,2,    0.80,2,    0.97,2,    0.04,2,    0.17,2,   2.058,2,   1.112,2, -999.00,9,  -999.0,9,  -999.0,9,  24.2133
06MT20060606,      EqAtl,      58,          1,      58019,         19,2,20060624,       0000,     0.0005,   -14.0128,       4171,    20.3,  24.1993,  35.9380,2,-999.0000,9,  -999.0,9, -999.00,9, -999.00,9, -999.00,9, -999.00,9,-999.000,9,-999.000,9, -999.00,9,  -999.0,9,  -999.0,9,  24.1950
06MT20060606,      EqAtl,      58,          1,      58020,         20,2,20060624,       0000,     0.0005,   -14.0128,       4171,     9.2,  24.6401,  35.9459,2,-999.0000,9,   203.0,2,    0.62,2,    0.64,2,    0.03,2,    0.16,2,   1.843,2,   1.103,2, -999.00,9,  2054.4,2,  2352.8,2,  24.6381
06MT20060606,      EqAtl,      58,          1,      58021,         21,2,20060624,       0000,     0.0005,   -14.0128,       4171,     8.8,  24.6325,  35.9465,2,  35.9469,2,  -999.0,9, -999.00,9, -999.00,9, -999.00,9, -999.00,9,-999.000,9,-999.000,9, -999.00,9,  -999.0,9,  -999.0,9,  24.6306
06MT20060606,      EqAtl,      59,          1,      59001,          1,2,20060624,       0000,    -0.0010,   -13.1363,       4139,  1299.2,   4.5028,  34.9082,2,  34.9073,2,   203.3,6,   19.72,6,   25.77,6,    0.00,6,    1.71,6,   0.139,2,   0.062,2, -999.00,9,  2188.8,2,  2307.3,6,   4.3958
06MT20060606,      EqAtl,      59,          1,      59002,          2,2,20060624,       0000,    -0.0010,   -13.1363,       4139,  1097.5,   4.4976,  34.7169,2,  34.7178,2,   166.4,2,   26.29,2,   32.74,2,    0.01,2,    2.16,2,   0.035,2,   0.020,2, -999.00,9,  2212.5,2,  2305.4,2,   4.4092
06MT20060606,      EqAtl,      59,          1,      59003,          3,2,20060624,       0000,    -0.0010,   -13.1363,       4139,   898.4,   4.6855,  34.5363,2,-999.0000,9,   152.7,2,   28.26,2,   36.02,2,    0.00,2,    2.38,2,   0.150,2,   0.072,2,    0.38,3,  2218.6,2,  2301.8,2,   4.6134
06MT20060606,      EqAtl,      59,          1,      59004,          4,2,20060624,       0000,    -0.0010,   -13.1363,       4139,   698.1,   5.3087,  34.5050,2,  34.5050,2,   146.4,2,   25.44,2,   35.65,2,    0.00,2,    2.36,2,   0.370,2,   0.190,2, -999.00,9,  2215.0,2,  2298.4,2,   5.2504
06MT20060606,      EqAtl,      59,          1,      59005,          5,2,20060624,       0000,    -0.0010,   -13.1363,       4139,   498.6,   7.2581,  34.6348,2,-999.0000,9,   129.1,2,   17.14,2,   33.02,2,    0.00,2,    2.13,2,   0.958,2,   0.479,2, -999.00,9,  2209.4,2,  2289.7,2,   7.2097
06MT20060606,      EqAtl,      59,          1,      59006,          6,2,20060624,       0000,    -0.0010,   -13.1363,       4139,   295.2,  10.7386,  35.0065,2,  35.0053,2,   102.4,2,   10.24,2,   27.85,2,    0.01,2,    1.82,2,   1.461,2,   0.761,2, -999.00,9,  2203.5,2,  2299.7,2,  10.7026
06MT20060606,      EqAtl,      59,          1,      59007,          7,2,20060624,       0000,    -0.0010,   -13.1363,       4139,   249.8,  12.0394,  35.1636,2,-999.0000,9,    84.4,2,    9.38,2,   27.42,2,    0.01,2,    1.76,2,   1.520,2,   0.795,2, -999.00,9,  2208.6,2,  2307.9,2,  12.0066
06MT20060606,      EqAtl,      59,          1,      59008,          8,2,20060624,       0000,    -0.0010,   -13.1363,       4139,   202.0,  13.9558,  35.4055,2,-999.0000,9,   125.4,2,    6.19,2,   19.25,2,    0.01,2,    1.30,2,   2.115,2,   1.138,2,    0.98,3,  2174.2,2,  2320.4,2,  13.9266
06MT20060606,      EqAtl,      59,          1,      59009,          9,2,20060624,       0000,    -0.0010,   -13.1363,       4139,   160.8,  14.1539,  35.4371,2,-999.0000,9,   140.1,2,    5.58,2,   17.03,2,    0.01,2,    1.18,2,   2.201,2,   1.199,2,    0.97,3,  2163.6,2,  2314.6,2,  14.1304
06MT20060606,      EqAtl,      59,          1,      59010,         10,2,20060624,       0000,    -0.0010,   -13.1363,       4139,   121.4,  14.4360,  35.4821,2,-999.0000,9,   158.6,2,    4.75,2,   14.35,2,    0.02,2,    1.02,2,   2.297,2,   1.244,2,    0.89,3,  2149.9,2,  2319.0,2,  14.4181
06MT20060606,      EqAtl,      59,          1,      59011,         11,2,20060624,       0000,    -0.0010,   -13.1363,       4139,   100.7,  14.6014,  35.5062,2,-999.0000,9,   159.2,6,    4.69,6,   14.07,6,    0.02,6,    1.02,6,   2.312,2,   1.275,2,    0.86,3,  2148.9,2,  -999.0,9,  14.5864
06MT20060606,      EqAtl,      59,          1,      59012,         12,2,20060624,       0000,    -0.0010,   -13.1363,       4139,   101.0,  14.6005,  35.5063,2,-999.0000,9,  -999.0,9, -999.00,9, -999.00,9, -999.00,9, -999.00,9,-999.000,9,-999.000,9, -999.00,9,  -999.0,9,  -999.0,9,  14.5855
06MT20060606,      EqAtl,      59,          1,      59013,         13,2,20060624,       0000,    -0.0010,   -13.1363,       4139,    81.2,  15.2657,  35.6080,2,-999.0000,9,   162.6,2,    4.32,2,   12.85,2,    0.04,2,    0.92,2,   2.304,2,   1.298,2,    0.89,3,  2145.5,2,  2325.6,2,  15.2532
06MT20060606,      EqAtl,      59,          1,      59014,         14,2,20060624,       0000,    -0.0010,   -13.1363,       4139,    60.8,  17.1993,  35.8647,2,-999.0000,9,   160.6,2,    3.37,2,   10.73,2,    0.12,2,    0.79,2,   2.235,2,   1.294,2,    0.89,3,  2142.0,2,  2342.0,2,  17.1892
06MT20060606,      EqAtl,      59,          1,      59015,         15,2,20060624,       0000,    -0.0010,   -13.1363,       4139,    61.1,  17.2063,  35.8639,2,-999.0000,9,  -999.0,9, -999.00,9, -999.00,9, -999.00,9, -999.00,9,-999.000,9,-999.000,9, -999.00,9,  -999.0,9,  -999.0,9,  17.1961
06MT20060606,      EqAtl,      59,          1,      59016,         16,2,20060624,       0000,    -0.0010,   -13.1363,       4139,    40.8,  18.9837,  36.0643,2,-999.0000,9,   171.0,2,    2.59,2,    6.97,2,    0.17,2,    0.57,2,   2.199,2,   1.217,2,    0.97,3,  2127.3,2,  2353.5,2,  18.9764
06MT20060606,      EqAtl,      59,          1,      59017,         17,2,20060624,       0000,    -0.0010,   -13.1363,       4139,    41.3,  18.9496,  36.0665,2,-999.0000,9,  -999.0,9, -999.00,9, -999.00,9, -999.00,9, -999.00,9,-999.000,9,-999.000,9, -999.00,9,  -999.0,9,  -999.0,9,  18.9422
06MT20060606,      EqAtl,      59,          1,      59018,         18,2,20060624,       0000,    -0.0010,   -13.1363,       4139,    21.1,  23.3995,  35.9570,2,-999.0000,9,   201.3,2,    1.52,2,    1.54,2,    0.07,2,    0.22,2,   2.010,2,   1.121,2,     1.1,3,  -999.0,9,  -999.0,9,  23.3951
06MT20060606,      EqAtl,      59,          1,      59019,         19,2,20060624,       0000,    -0.0010,   -13.1363,       4139,    19.9,  23.4926,  35.9570,2,-999.0000,9,  -999.0,9, -999.00,9, -999.00,9, -999.00,9, -999.00,9,-999.000,9,-999.000,9, -999.00,9,  -999.0,9,  -999.0,9,  23.4885
06MT20060606,      EqAtl,      59,          1,      59020,         20,2,20060624,       0000,    -0.0010,   -13.1363,       4139,    10.9,  24.5527,  35.9735,2,-999.0000,9,   206.4,2,    1.03,2,    0.54,2,    0.01,2,    0.12,2,   1.847,2,   1.109,2,    1.03,3,  2053.4,6,  2354.2,2,  24.5504
06MT20060606,      EqAtl,      59,          1,      59021,         21,2,20060624,       0000,    -0.0010,   -13.1363,       4139,    11.3,  24.5415,  35.9733,2,  35.9680,2,  -999.0,9, -999.00,9, -999.00,9, -999.00,9, -999.00,9,-999.000,9,-999.000,9, -999.00,9,  -999.0,9,  -999.0,9,  24.5391
06MT20060606,      EqAtl,      60,          1,      60001,          1,2,20060625,       0000,    -0.0030,   -12.0015,       4506,  1301.0,   4.5183,  34.9035,2,  34.9008,2,   199.9,6,   19.32,6,   25.84,6,    0.00,6,    1.71,6,   0.139,2,   0.059,2, -999.00,9,  2188.9,2,  2308.5,6,   4.4110
06MT20060606,      EqAtl,      60,          1,      60002,          2,2,20060625,       0000,    -0.0030,   -12.0015,       4506,  1096.8,   4.5180,  34.7027,2,-999.0000,9,   167.8,2,   26.40,2,   31.82,2,    0.00,2,    2.12,2,   0.021,2,   0.009,2, -999.00,9,  2211.1,2,  2302.9,2,   4.4295
06MT20060606,      EqAtl,      60,          1,      60003,          3,2,20060625,       0000,    -0.0030,   -12.0015,       4506,   898.6,   4.6427,  34.5393,2,  34.5374,2,   153.7,2,   27.94,2,   35.36,2,    0.00,2,    2.36,2,   0.067,2,   0.035,2, -999.00,9,  2218.0,2,  2300.3,2,   4.5709
06MT20060606,      EqAtl,      60,          1,      60004,          4,2,20060625,       0000,    -0.0030,   -12.0015,       4506,   698.4,   5.2608,  34.5056,2,-999.0000,9,   146.9,2,   24.49,2,   35.46,2,    0.00,2,    2.35,2,   0.201,2,   0.107,2, -999.00,9,  2215.6,2,  2292.1,2,   5.2027
06MT20060606,      EqAtl,      60,          1,      60005,          5,2,20060625,       0000,    -0.0030,   -12.0015,       4506,   491.6,   7.3907,  34.6391,2,-999.0000,9,   127.6,2,   16.54,2,   32.90,2,    0.01,2,    2.12,2,   0.641,2,   0.315,2, -999.00,9,  2208.8,2,  2290.3,2,   7.3425
06MT20060606,      EqAtl,      60,          1,      60006,          6,2,20060625,       0000,    -0.0030,   -12.0015,       4506,   300.7,  10.0823,  34.9236,2,-999.0000,9,   121.1,2,   10.84,2,   27.54,2,    0.01,2,    1.76,2,   1.019,2,   0.535,2, -999.00,9,  2194.7,2,  2299.1,2,  10.0471
06MT20060606,      EqAtl,      60,          1,      60007,          7,2,20060625,       0000,    -0.0030,   -12.0015,       4506,   250.1,  12.2072,  35.1826,2,-999.0000,9,    80.8,2,    8.97,2,   27.44,2,    0.01,2,    1.74,2,   1.001,3,   0.468,3, -999.00,9,  2209.0,2,  2306.7,2,  12.1741
06MT20060606,      EqAtl,      60,          1,      60008,          8,2,20060625,       0000,    -0.0030,   -12.0015,       4506,   202.0,  14.0369,  35.4181,2,-999.0000,9,   128.6,2,    5.86,2,   18.24,2,    0.01,2,    1.26,2,   1.473,2,   0.689,2, -999.00,9,  2170.9,2,  2323.4,2,  14.0075
06MT20060606,      EqAtl,      60,          1,      60009,          9,2,20060625,       0000,    -0.0030,   -12.0015,       4506,   153.1,  14.5628,  35.5010,2,-999.0000,9,   156.6,2,    4.75,2,   14.33,2,    0.02,2,    1.02,2,   1.634,2,   0.778,2, -999.00,9,  2150.6,2,  2328.4,2,  14.5400
06MT20060606,      EqAtl,      60,          1,      60010,         10,2,20060625,       0000,    -0.0030,   -12.0015,       4506,   119.4,  14.6048,  35.5087,2,-999.0000,9,   159.6,2,    4.50,2,   13.87,2,    0.02,2,    1.00,2,   1.952,2,   0.974,2, -999.00,9,  2148.4,2,  2330.8,2,  14.5870
06MT20060606,      EqAtl,      60,          1,      60011,         11,2,20060625,       0000,    -0.0030,   -12.0015,       4506,   100.6,  14.7700,  35.5315,2,-999.0000,9,   159.0,2,    4.35,2,   13.87,2,    0.02,2,    0.99,2,   2.042,2,   1.031,2, -999.00,9,  2148.6,2,  2330.4,2,  14.7549
06MT20060606,      EqAtl,      60,          1,      60012,         12,2,20060625,       0000,    -0.0030,   -12.0015,       4506,   100.9,  14.7705,  35.5315,2,-999.0000,9,  -999.0,9, -999.00,9, -999.00,9, -999.00,9, -999.00,9,-999.000,9,-999.000,9, -999.00,9,  -999.0,9,  -999.0,9,  14.7554
06MT20060606,      EqAtl,      60,          1,      60013,         13,2,20060625,       0000,    -0.0030,   -12.0015,       4506,    81.1,  15.1374,  35.5866,2,-999.0000,9,   162.6,2,    3.87,2,   12.89,2,    0.04,2,    0.93,2,   2.118,2,   1.099,2, -999.00,9,  2144.5,2,  2333.5,2,  15.1250
06MT20060606,      EqAtl,      60,          1,      60014,         14,2,20060625,       0000,    -0.0030,   -12.0015,       4506,    60.6,  15.9877,  35.6999,2,-999.0000,9,   156.4,2,    3.85,2,   12.61,2,    0.08,2,    0.90,2,   2.153,2,   1.133,2, -999.00,9,  2147.1,2,  2342.0,2,  15.9781
06MT20060606,      EqAtl,      60,          1,      60015,         15,2,20060625,       0000,    -0.0030,   -12.0015,       4506,    60.6,  15.9948,  35.7032,2,-999.0000,9,  -999.0,9, -999.00,9, -999.00,9, -999.00,9, -999.00,9,-999.000,9,-999.000,9, -999.00,9,  -999.0,9,  -999.0,9,  15.9852
06MT20060606,      EqAtl,      60,          1,      60016,         16,2,20060625,       0000,    -0.0030,   -12.0015,       4506,    41.1,  18.6057,  36.0153,2,-999.0000,9,   169.2,2,    2.48,2,    7.59,2,    0.18,2,    0.60,2,   2.175,2,   1.150,2, -999.00,9,  2128.7,2,  2359.5,2,  18.5985
06MT20060606,      EqAtl,      60,          1,      60017,         17,2,20060625,       0000,    -0.0030,   -12.0015,       4506,    41.5,  18.5944,  36.0177,2,-999.0000,9,  -999.0,9, -999.00,9, -999.00,9, -999.00,9, -999.00,9,-999.000,9,-999.000,9, -999.00,9,  -999.0,9,  -999.0,9,  18.5871
06MT20060606,      EqAtl,      60,          1,      60018,         18,2,20060625,       0000,    -0.0030,   -12.0015,       4506,    22.4,  23.0422,  35.9884,2,-999.0000,9,   200.3,2,    0.84,2,    1.67,2,    0.06,2,    0.22,2,   1.951,2,   1.052,2, -999.00,9,  -999.0,9,  -999.0,9,  23.0376
06MT20060606,      EqAtl,      60,          1,      60019,         19,2,20060625,       0000,    -0.0030,   -12.0015,       4506,    22.0,  23.0678,  35.9865,2,-999.0000,9,  -999.0,9, -999.00,9, -999.00,9, -999.00,9, -999.00,9,-999.000,9,-999.000,9, -999.00,9,  -999.0,9,  -999.0,9,  23.0633
06MT20060606,      EqAtl,      60,          1,      60020,         20,2,20060625,       0000,    -0.0030,   -12.0015,       4506,     9.5,  24.3716,  35.9364,2,-999.0000,9,   205.9,2,    0.62,2,    0.48,2,    0.03,2,    0.12,2,   1.823,2,   1.036,2, -999.00,9,  2053.6,6,  2352.3,2,  24.3696
06MT20060606,      EqAtl,      60,          1,      60021,         21,2,20060625,       0000,    -0.0030,   -12.0015,       4506,     9.8,  24.3665,  35.9369,2,  35.9321,2,  -999.0,9, -999.00,9, -999.00,9, -999.00,9, -999.00,9,-999.000,9,-999.000,9, -999.00,9,  -999.0,9,  -999.0,9,  24.3644