BOTTLE,20130611PRINUNIVRMK
EXPOCODE,SECT_ID,STNNBR,CASTNO,SAMPNO,BTLNBR,BTLNBR_FLAG_W,DATE,TIME,LATITUDE,LONGITUDE,DEPTH,CTDPRS,CTDTMP,CTDSAL,CTDSAL_FLAG_W,SALNTY,SALNTY_FLAG_W,CTDOXY,CTDOXY_FLAG_W,OXYGEN,OXYGEN_FLAG_W,SILCAT,SILCAT_FLAG_W,NITRAT,NITRAT_FLAG_W,PHSPHT,PHSPHT_FLAG_W,CFC-11,CFC-11_FLAG_W,CFC-12,CFC-12_FLAG_W,CFC113,CFC113_FLAG_W,CCL4,CCL4_FLAG_W,MCHFRM,MCHFRM_FLAG_W,TCARBN,TCARBN_FLAG_W,ALKALI,ALKALI_FLAG_W
,,,,,,,,,,,METERS,DBAR,ITS-90,PSS-78,,PSS-78,,UMOL/KG,,UMOL/KG,,UMOL/KG,,UMOL/KG,,UMOL/KG,,PMOL/KG,,PMOL/KG,,PMOL/KG,,PMOL/KG,,PMOL/KG,,UMOL/KG,,UMOL/KG,
  18HU20070510, AR07W,   146,  1, 309867,      1,2,20070516,1736, 59.4833, -49.4667, 3335,   3441.3,   1.7398,  34.9000,2,  34.9067,2,    281.0,2,    295.7,2,     8.46,6,    13.93,6,     0.92,6, -999.000,9, -999.000,9, -999.000,9, -999.000,9, -999.000,9,   2162.3,6,   2318.6,2
  18HU20070510, AR07W,   146,  1, 309868,      2,2,20070516,1736, 59.4833, -49.4667, 3335,   3380.8,   1.7460,  34.9000,2,  34.9065,2,    280.4,2,    296.7,2,     8.49,6,    14.05,6,     0.93,6, -999.000,9, -999.000,9, -999.000,9, -999.000,9, -999.000,9,   2161.2,2,   2317.8,6
  18HU20070510, AR07W,   146,  1, 309869,      3,2,20070516,1736, 59.4833, -49.4667, 3335,   3298.8,   1.9255,  34.8991,2,  34.9058,2,    277.8,2,    294.2,2,     8.86,6,    14.26,6,     0.94,6, -999.000,9, -999.000,9, -999.000,9, -999.000,9, -999.000,9,   2160.4,2,   2319.9,2
  18HU20070510, AR07W,   146,  1, 309870,      4,2,20070516,1736, 59.4833, -49.4667, 3335,   3201.3,   2.1037,  34.8918,2,  34.8991,2,    271.6,2,    288.1,2,    11.13,6,    15.03,6,     1.00,6, -999.000,9, -999.000,9, -999.000,9, -999.000,9, -999.000,9,   2162.6,2,   2322.7,2
  18HU20070510, AR07W,   146,  1, 309871,      5,2,20070516,1736, 59.4833, -49.4667, 3335,   3079.2,   2.3243,  34.9014,2,  34.9087,2,    269.4,2,    285.5,2,    11.26,6,    15.17,6,     1.00,6, -999.000,9, -999.000,9, -999.000,9, -999.000,9, -999.000,9,   2163.1,2,   2321.3,2
  18HU20070510, AR07W,   146,  1, 309872,      6,2,20070516,1736, 59.4833, -49.4667, 3335,   2950.1,   2.5593,  34.9081,2,  34.9160,6,    263.7,2,    281.9,2,    12.84,6,    15.90,6,     1.04,6, -999.000,9, -999.000,9, -999.000,9, -999.000,9, -999.000,9,   2163.0,2,   2327.8,3
  18HU20070510, AR07W,   146,  1, 309873,      7,2,20070516,1736, 59.4833, -49.4667, 3335,   2790.2,   2.7498,  34.9135,2,  34.9211,2,    261.4,2,    278.3,2,    12.49,6,    16.20,6,     1.05,6, -999.000,9, -999.000,9, -999.000,9, -999.000,9, -999.000,9,   2162.1,2,   2320.0,2
  18HU20070510, AR07W,   146,  1, 309874,      8,2,20070516,1736, 59.4833, -49.4667, 3335,   2609.2,   2.8816,  34.9098,2,  34.9176,2,    262.2,2,    279.3,2,    11.15,6,    15.94,6,     1.03,6, -999.000,9, -999.000,9, -999.000,9, -999.000,9, -999.000,9,   2164.9,2,   2320.1,2
  18HU20070510, AR07W,   146,  1, 309875,      9,2,20070516,1736, 59.4833, -49.4667, 3335,   2409.6,   3.0260,  34.9047,2,  34.9129,6,    261.1,2,    278.7,2,    11.05,6,    16.34,6,     1.05,6, -999.000,9, -999.000,9, -999.000,9, -999.000,9, -999.000,9,   2161.4,2,   2319.5,2
  18HU20070510, AR07W,   146,  1, 309876,     10,2,20070516,1736, 59.4833, -49.4667, 3335,   2189.9,   3.1653,  34.9023,2,  34.9073,2,    260.7,2,    278.9,2,    10.55,6,    16.47,6,     1.05,6, -999.000,9, -999.000,9, -999.000,9, -999.000,9, -999.000,9,   2160.8,2,   2326.5,2
  18HU20070510, AR07W,   146,  1, 309877,     11,2,20070516,1736, 59.4833, -49.4667, 3335,   1958.8,   3.2625,  34.8909,2,  34.8979,2,    260.0,2,    278.6,2,    10.71,6,    16.88,6,     1.08,6, -999.000,9, -999.000,9, -999.000,9, -999.000,9, -999.000,9,   2161.8,2,   2328.5,2
  18HU20070510, AR07W,   146,  1, 309878,     12,2,20070516,1736, 59.4833, -49.4667, 3335,   1729.8,   3.4539,  34.8986,2,  34.9067,2,    257.1,2,    276.2,2,    10.26,6,    16.85,6,     1.08,6, -999.000,9, -999.000,9, -999.000,9, -999.000,9, -999.000,9,   2163.6,2,   2325.7,2
  18HU20070510, AR07W,   146,  1, 309879,     13,2,20070516,1736, 59.4833, -49.4667, 3335,   1500.6,   3.5829,  34.8943,2,  34.9030,2,    257.6,2,    279.1,6,     9.79,6,    16.87,6,     1.06,6, -999.000,9, -999.000,9, -999.000,9, -999.000,9, -999.000,9,   2162.1,2,   2328.6,3
  18HU20070510, AR07W,   146,  1, 309880,     14,2,20070516,1736, 59.4833, -49.4667, 3335,   1280.2,   3.6549,  34.8835,2,  34.8914,2,    261.8,2,    281.6,2,     9.11,6,    16.52,6,     1.04,6, -999.000,9, -999.000,9, -999.000,9, -999.000,9, -999.000,9,   2162.4,2,   2326.5,3
  18HU20070510, AR07W,   146,  1, 309881,     15,2,20070516,1736, 59.4833, -49.4667, 3335,   1073.0,   3.5928,  34.8587,2,  34.8662,2,    270.3,2,    291.1,2,     8.33,6,    16.03,6,     1.03,6, -999.000,9, -999.000,9, -999.000,9, -999.000,9, -999.000,9,   2161.0,2,   2318.8,2
  18HU20070510, AR07W,   146,  1, 309882,     16,2,20070516,1736, 59.4833, -49.4667, 3335,    869.9,   3.8437,  34.8840,2,  34.8920,2,    263.5,2,    283.6,2,     8.56,6,    16.33,6,     1.03,6, -999.000,9, -999.000,9, -999.000,9, -999.000,9, -999.000,9,   2161.3,2,   2323.4,3
  18HU20070510, AR07W,   146,  1, 309883,     17,2,20070516,1736, 59.4833, -49.4667, 3335,    680.8,   3.9357,  34.8804,2,  34.8875,2,    269.2,2,    289.7,2,     7.98,6,    15.86,6,     1.00,6, -999.000,9, -999.000,9, -999.000,9, -999.000,9, -999.000,9,   2158.8,2,   2325.8,3
  18HU20070510, AR07W,   146,  1, 309884,     18,2,20070516,1736, 59.4833, -49.4667, 3335,    500.8,   4.0525,  34.8835,2,  34.8908,2,    270.2,2,    291.2,2,     7.76,6,    15.53,6,     1.00,6, -999.000,9, -999.000,9, -999.000,9, -999.000,9, -999.000,9,   2159.0,2,   2319.6,2
  18HU20070510, AR07W,   146,  1, 309885,     19,2,20070516,1736, 59.4833, -49.4667, 3335,    361.0,   4.2910,  34.8995,2,-999.0000,9,    273.4,2,    294.6,2,     7.56,6,    15.22,6,     1.00,6, -999.000,9, -999.000,9, -999.000,9, -999.000,9, -999.000,9,   2156.8,2,   2327.5,3
  18HU20070510, AR07W,   146,  1, 309886,     20,2,20070516,1736, 59.4833, -49.4667, 3335,    242.4,   4.5452,  34.9081,2,-999.0000,9,    271.2,2,    292.2,2,     7.35,6,    15.07,6,     0.98,6, -999.000,9, -999.000,9, -999.000,9, -999.000,9, -999.000,9,   2154.4,2,   2323.7,2
  18HU20070510, AR07W,   146,  1, 309887,     21,2,20070516,1736, 59.4833, -49.4667, 3335,    140.5,   4.6827,  34.8942,2,-999.0000,9,    271.7,2,    292.7,2,     6.89,6,    13.99,6,     0.94,6, -999.000,9, -999.000,9, -999.000,9, -999.000,9, -999.000,9,   2150.2,2,   2323.6,2
  18HU20070510, AR07W,   146,  1, 309888,     22,2,20070516,1736, 59.4833, -49.4667, 3335,     69.1,   4.1746,  34.6838,2,-999.0000,9,    296.0,2,    319.3,2,     5.47,6,     6.87,6,     0.61,6, -999.000,9, -999.000,9, -999.000,9, -999.000,9, -999.000,9,   2109.2,2,   2320.3,2
  18HU20070510, AR07W,   146,  1, 309889,     23,2,20070516,1736, 59.4833, -49.4667, 3335,     35.1,   4.1593,  34.6468,2,-999.0000,9,    304.5,2,    328.1,2,     5.15,6,     5.58,6,     0.51,6, -999.000,9, -999.000,9, -999.000,9, -999.000,9, -999.000,9,   2097.1,2,   2321.6,2
  18HU20070510, AR07W,   146,  1, 309890,     24,2,20070516,1736, 59.4833, -49.4667, 3335,      1.2,   4.1631,  34.6295,2,-999.0000,9,    307.1,2,    331.1,2,     5.06,6,     5.10,6,     0.48,6, -999.000,9, -999.000,9, -999.000,9, -999.000,9, -999.000,9,   2093.1,2,   2321.0,2
  18HU20070510, AR07W,   154,  1, 309891,      1,2,20070516,2203, 59.7500, -49.1668, 3154,   3259.3,   1.6975,  34.8946,2,  34.9026,2,    279.7,2,    295.0,2,     9.38,6,    13.97,6,     0.92,6,    4.268,2,    2.276,2,    0.251,2,    4.324,4,    5.035,2,   2160.8,6,   2303.4,6
  18HU20070510, AR07W,   154,  1, 309892,      2,2,20070516,2203, 59.7500, -49.1668, 3154,   3199.0,   1.6991,  34.8934,2,  34.9020,2,    279.0,2,    295.1,2,     9.40,6,    14.18,6,     0.93,6,    4.196,2,    2.086,2,    0.218,2,    4.253,4,    5.040,2,   2158.5,2,   2301.6,2
  18HU20070510, AR07W,   154,  1, 309893,      3,2,20070516,2203, 59.7500, -49.1668, 3154,   3120.2,   1.8637,  34.8860,2,  34.8938,2,    276.0,2,    292.4,2,    10.11,6,    14.63,6,     0.96,6,    4.065,2,    2.068,2,    0.242,2,    4.179,4,    5.324,2,   2156.8,2,   2300.6,2
  18HU20070510, AR07W,   154,  1, 309894,      4,2,20070516,2203, 59.7500, -49.1668, 3154,   3019.5,   2.0939,  34.8921,2,  34.9002,2,    272.3,2,    288.9,2,    10.85,6,    14.88,6,     0.98,6,    3.697,2,    1.895,2,    0.225,2,    3.867,4,    5.117,2,   2159.2,2,   2301.8,2
  18HU20070510, AR07W,   154,  1, 309895,      5,2,20070516,2203, 59.7500, -49.1668, 3154,   2901.4,   2.3131,  34.8980,2,  34.9061,2,    268.0,2,    284.5,2,    12.03,6,    15.41,6,     1.01,6,    3.306,2,    1.659,2,    0.193,2,    3.527,4,    5.140,2,   2158.6,2,   2301.9,2
  18HU20070510, AR07W,   154,  1, 309896,      6,2,20070516,2203, 59.7500, -49.1668, 3154,   2769.9,   2.4884,  34.9055,2,  34.9136,6,    264.5,2,    283.3,2,    12.54,6,    15.59,6,     1.03,6,    3.067,2,    1.471,2,    0.178,2,    3.287,4,    5.054,2,   2161.3,2,   2305.3,2
  18HU20070510, AR07W,   154,  1, 309897,      7,2,20070516,2203, 59.7500, -49.1668, 3154,   2621.6,   2.6910,  34.9123,2,  34.9207,2,    261.4,2,    278.5,2,    12.57,6,    15.98,6,     1.05,6,    2.953,2,    1.403,2,    0.213,2,    3.123,4,    5.104,2,   2162.7,2,   2304.1,2
  18HU20070510, AR07W,   154,  1, 309898,      8,2,20070516,2203, 59.7500, -49.1668, 3154,   2459.5,   2.8436,  34.9105,2,  34.9189,6,    260.9,2,    278.2,2,    11.90,6,    16.03,6,     1.05,6,    2.933,2,    1.398,2,    0.148,2,    3.055,4,    5.223,2,   2160.9,2,   2300.0,2
  18HU20070510, AR07W,   154,  1, 309899,      9,2,20070516,2203, 59.7500, -49.1668, 3154,   2261.0,   3.0127,  34.9059,2,  34.9140,2,    260.7,2,    278.8,2,    11.17,6,    16.15,6,     1.06,6,    3.125,2,    1.515,2,    0.187,2,    3.226,4,    5.624,2,   2160.5,2,   2301.3,2
  18HU20070510, AR07W,   154,  1, 309900,     10,2,20070516,2203, 59.7500, -49.1668, 3154,   2061.3,   3.1850,  34.9026,2,  34.9107,2,    260.5,2,    278.8,2,    10.56,6,    16.32,6,     1.06,6,    3.479,2,    1.683,2,    0.298,2,    3.541,4,    6.202,2,   2160.6,2,   2298.7,2
  18HU20070510, AR07W,   154,  1, 309901,     11,2,20070516,2203, 59.7500, -49.1668, 3154,   1851.4,   3.3275,  34.9010,2,  34.9085,2,    259.4,2,    277.5,2,    10.41,6,    16.59,6,     1.07,6,    3.535,2,    1.750,2,    0.178,2,    3.563,4,    6.674,2,   2162.8,2,   2294.6,2
  18HU20070510, AR07W,   154,  1, 309902,     12,2,20070516,2203, 59.7500, -49.1668, 3154,   1640.1,   3.4997,  34.9070,2,  34.9128,2,    256.8,2,    275.1,2,    10.26,6,    16.67,6,     1.07,6,    3.684,2,    1.898,2,    0.235,2,    3.636,4,    6.264,2,   2162.5,2,   2295.2,2
  18HU20070510, AR07W,   154,  1, 309903,     13,2,20070516,2203, 59.7500, -49.1668, 3154,   1430.8,   3.6314,  34.9050,2,  34.9124,2,    256.9,2,    276.3,6,     9.74,6,    16.49,6,     1.06,6,    3.985,2,    1.997,2,    0.243,2,    3.877,4,    5.797,2,   2163.4,2,   2299.8,2
  18HU20070510, AR07W,   154,  1, 309904,     14,2,20070516,2203, 59.7500, -49.1668, 3154,   1227.6,   3.6430,  34.8853,2,  34.8930,2,    260.9,2,    280.8,2,     9.34,6,    16.40,6,     1.06,6,    4.397,2,    2.371,2,    0.271,2,    4.309,4,    5.334,2,   2161.9,2,   2299.0,2
  18HU20070510, AR07W,   154,  1, 309905,     15,2,20070516,2203, 59.7500, -49.1668, 3154,   1030.0,   3.6890,  34.8770,2,  34.8847,2,    264.9,2,    285.4,2,     8.76,6,    16.17,6,     1.04,6,    4.511,2,    2.392,2,    0.403,2,    4.520,4,    4.371,2,   2158.7,2,   2298.6,2
  18HU20070510, AR07W,   154,  1, 309906,     16,2,20070516,2203, 59.7500, -49.1668, 3154,    842.4,   3.6682,  34.8597,2,  34.8662,2,    270.1,2,    293.5,2,     8.29,6,    16.02,6,     1.02,6,    4.773,2,    2.628,2,    0.403,2,    4.879,4,    3.606,2,   2159.4,2,   2299.6,2
  18HU20070510, AR07W,   154,  1, 309907,     17,2,20070516,2203, 59.7500, -49.1668, 3154,    660.4,   3.9566,  34.8852,2,  34.8920,2,    268.1,2,    293.4,2,     8.14,6,    15.82,6,     1.02,6,    4.635,2,    2.629,2,    0.301,2,    4.763,4,    3.283,2,   2159.2,2,   2304.3,2
  18HU20070510, AR07W,   154,  1, 309908,     18,2,20070516,2203, 59.7500, -49.1668, 3154,    483.5,   4.1140,  34.8922,2,  34.8985,2,    268.5,2,    289.5,2,     7.86,6,    15.58,6,     1.00,6,    4.609,2,    2.510,2,    0.381,2,    4.795,4,    3.063,2,   2159.4,2,   2303.4,2
  18HU20070510, AR07W,   154,  1, 309909,     19,2,20070516,2203, 59.7500, -49.1668, 3154,    334.1,   4.2866,  34.8991,2,  34.9046,2,    269.0,2,    289.4,2,     7.72,6,    15.39,6,     0.99,6,    4.613,2,    2.541,2,    0.345,2,    4.807,4,    2.832,2,   2155.9,2,   2300.3,2
  18HU20070510, AR07W,   154,  1, 309910,     20,2,20070516,2203, 59.7500, -49.1668, 3154,    211.3,   4.4793,  34.9022,2,-999.0000,9,    270.7,2,    292.0,2,     7.46,6,    15.21,6,     0.96,6,    4.704,2,    2.685,2,    0.317,2,    4.962,4,    2.680,2,   2152.7,2,   2300.1,2
  18HU20070510, AR07W,   154,  1, 309911,     21,2,20070516,2203, 59.7500, -49.1668, 3154,    113.6,   4.5463,  34.8710,2,-999.0000,9,    269.6,2,    290.3,2,     6.82,6,    13.64,6,     0.96,6,    4.767,2,    2.758,2,    0.363,2,    5.074,4,    2.243,2,   2153.8,2,   2303.6,2
  18HU20070510, AR07W,   154,  1, 309912,     22,2,20070516,2203, 59.7500, -49.1668, 3154,     52.8,   4.1241,  34.6580,2,-999.0000,9,    302.0,2,    325.6,2,     5.53,6,     5.49,6,     0.53,6,    5.154,2,    2.928,2,    0.398,2,    5.882,4,    1.887,2,   2100.8,2,   2298.4,2
  18HU20070510, AR07W,   154,  1, 309913,     23,2,20070516,2203, 59.7500, -49.1668, 3154,     24.5,   4.1653,  34.6589,2,-999.0000,9,    304.0,2,    327.4,2,     5.59,6,     5.42,6,     0.52,6,    5.262,2,    3.130,2,    0.388,2,    6.004,4,    1.873,2,   2097.3,2,   2300.9,2
  18HU20070510, AR07W,   154,  1, 309914,     24,2,20070516,2203, 59.7500, -49.1668, 3154,      1.2,   4.1853,  34.6592,2,-999.0000,9,    304.8,2,    328.0,2,     5.52,6,     5.37,6,     0.50,6,    5.315,2,    3.133,2,    0.409,2,    6.154,4,    1.977,2,   2096.5,2,   2295.6,2