BOTTLE,20130611PRINUNIVRMK
EXPOCODE,SECT_ID,STNNBR,CASTNO,SAMPNO,BTLNBR,BTLNBR_FLAG_W,DATE,TIME,LATITUDE,LONGITUDE,DEPTH,CTDPRS,CTDTMP,CTDSAL,CTDSAL_FLAG_W,SALNTY,SALNTY_FLAG_W,CTDOXY,CTDOXY_FLAG_W,OXYGEN,OXYGEN_FLAG_W,SILCAT,SILCAT_FLAG_W,NITRAT,NITRAT_FLAG_W,PHSPHT,PHSPHT_FLAG_W,CFC-11,CFC-11_FLAG_W,CFC-12,CFC-12_FLAG_W,CFC113,CFC113_FLAG_W,CCL4,CCL4_FLAG_W,MCHFRM,MCHFRM_FLAG_W,TCARBN,TCARBN_FLAG_W,ALKALI,ALKALI_FLAG_W
,,,,,,,,,,,METERS,DBAR,ITS-90,PSS-78,,PSS-78,,UMOL/KG,,UMOL/KG,,UMOL/KG,,UMOL/KG,,UMOL/KG,,PMOL/KG,,PMOL/KG,,PMOL/KG,,PMOL/KG,,PMOL/KG,,UMOL/KG,,UMOL/KG,
  18HU20070510, AR07W,    42,  1, 309588,      1,2,20070514,0207, 55.6000, -53.6167, 2900,   2939.6,   1.8471,  34.8917,2,  34.8951,2,    277.3,2,    293.7,2,     9.62,6,    14.21,6,     0.94,6,    4.232,2,    2.098,2,    0.615,4,   39.018,4,    0.000,2,   2158.7,2,   2300.4,2
  18HU20070510, AR07W,    42,  1, 309589,      2,2,20070514,0207, 55.6000, -53.6167, 2900,   2888.9,   1.8530,  34.8918,2,  34.8951,2,    276.5,2,    291.7,2,     9.69,6,    14.20,6,     0.93,6,    4.222,2,    2.082,2,    0.603,4,   38.933,4,    0.000,2,   2159.1,6,   2297.8,2
  18HU20070510, AR07W,    42,  1, 309590,      3,2,20070514,0207, 55.6000, -53.6167, 2900,   2811.6,   1.9580,  34.8925,2,  34.8961,2,    274.9,2,    289.8,2,     9.91,6,    14.51,6,     0.94,6,    4.027,4,    1.995,4,    0.599,4,   37.255,4,    0.000,4,   2158.5,2,   2299.5,3
  18HU20070510, AR07W,    42,  1, 309591,      4,2,20070514,0207, 55.6000, -53.6167, 2900,   2688.8,   2.3548,  34.8982,2,  34.9022,2,    268.1,2,    283.4,2,    11.48,6,    15.30,6,     0.99,6,    3.434,2,    1.605,2,    0.452,4,   32.687,4,    0.000,2,   2158.2,2,   2297.7,2
  18HU20070510, AR07W,    42,  1, 309592,      5,2,20070514,0207, 55.6000, -53.6167, 2900,   2560.2,   2.5685,  34.9044,2,  34.9091,6,    264.9,2,    281.9,2,    11.63,6,    15.68,6,     1.00,6,    3.281,2,    1.513,2,    0.391,3,   31.750,4,    0.000,2,   2160.7,2,   2300.4,2
  18HU20070510, AR07W,    42,  1, 309593,      6,2,20070514,0207, 55.6000, -53.6167, 2900,   2432.1,   2.7502,  34.9068,2,  34.9142,6,    263.6,2,    279.4,2,    11.18,6,    15.80,6,     1.01,6,    3.263,2,    1.478,2,    0.423,3,   30.955,4,    0.000,2,   2156.2,3,   2303.5,2
  18HU20070510, AR07W,    42,  1, 309594,      7,2,20070514,0207, 55.6000, -53.6167, 2900,   2291.9,   2.9000,  34.9062,2,  34.9132,2,    262.7,2,    278.5,2,    10.87,6,    15.94,6,     1.03,6,    3.340,2,    1.541,2,    0.399,3,   30.958,4,    0.000,2,   2159.1,2,   2300.6,2
  18HU20070510, AR07W,    42,  1, 309595,      8,2,20070514,0207, 55.6000, -53.6167, 2900,   2149.7,   3.0136,  34.9043,2,  34.9122,2,    261.8,2,    278.3,2,    10.60,6,    16.04,6,     1.04,6,    3.442,2,    1.609,2,    0.400,3,   32.515,4,    0.000,2,   2160.9,2,   2295.0,3
  18HU20070510, AR07W,    42,  1, 309596,      9,2,20070514,0207, 55.6000, -53.6167, 2900,   1991.3,   3.1350,  34.9002,2,  34.9079,2,    261.3,2,    277.8,2,    10.49,6,    16.26,6,     1.04,6,    3.485,2,    1.602,2,    0.434,3,   32.171,4,    0.000,2,   2159.3,2,   2298.4,2
  18HU20070510, AR07W,    42,  1, 309597,     10,2,20070514,0207, 55.6000, -53.6167, 2900,   1814.6,   3.2735,  34.9008,2,  34.9079,2,    259.9,2,    276.9,2,    10.31,6,    16.41,6,     1.07,6,    3.678,2,    1.723,2,    0.503,4,   33.505,4,    0.000,2,   2160.9,2,   2295.7,3
  18HU20070510, AR07W,    42,  1, 309598,     11,2,20070514,0207, 55.6000, -53.6167, 2900,   1630.1,   3.4472,  34.9017,2,  34.9095,2,    258.3,2,    275.4,6,    10.13,6,    16.57,6,     1.07,6,    3.886,2,    1.862,2,    0.509,3,   35.787,4,    0.000,2,   2162.7,2,   2299.6,2
  18HU20070510, AR07W,    42,  1, 309599,     12,2,20070514,0207, 55.6000, -53.6167, 2900,   1433.8,   3.5656,  34.8965,2,  34.9034,2,    258.8,2,    276.4,2,     9.78,6,    16.47,6,     1.07,6,    4.050,2,    1.998,2,    0.624,4,   36.033,4,    0.000,2,   2161.9,2,   2295.8,3
  18HU20070510, AR07W,    42,  1, 309600,     13,2,20070514,0207, 55.6000, -53.6167, 2900,   1237.5,   3.5418,  34.8695,2,  34.8755,2,    264.1,2,    283.0,2,     9.24,6,    16.53,6,     1.07,6,    4.630,2,    2.361,2,    0.724,4,   41.411,4,    0.000,2,   2158.9,2,   2300.1,2
  18HU20070510, AR07W,    42,  1, 309601,     14,2,20070514,0207, 55.6000, -53.6167, 2900,   1030.2,   3.6526,  34.8768,2,  34.8837,2,    264.7,2,    283.3,3,     8.93,6,    16.32,6,     1.05,6,    4.596,2,    2.369,2,    0.781,4,   41.084,4,    0.000,2,   2155.7,2,   2299.1,2
  18HU20070510, AR07W,    42,  1, 309602,     15,2,20070514,0207, 55.6000, -53.6167, 2900,    852.0,   3.6780,  34.8678,2,-999.0000,9,    269.0,2,   -999.0,9,  -999.00,9,  -999.00,9,  -999.00,9, -999.000,9, -999.000,9, -999.000,9, -999.000,9, -999.000,9,   -999.0,9,   -999.0,9
  18HU20070510, AR07W,    42,  1, 309603,     16,2,20070514,0207, 55.6000, -53.6167, 2900,    672.1,   3.6205,  34.8506,2,  34.8548,2,    274.9,2,    295.8,2,     7.87,6,    15.47,6,     1.00,6,    5.067,2,    2.714,2,    0.935,4,   49.071,4,    0.000,2,   2155.2,2,   2293.7,3
  18HU20070510, AR07W,    42,  1, 309604,     17,2,20070514,0207, 55.6000, -53.6167, 2900,    513.6,   3.6367,  34.8472,2,  34.8520,2,    278.2,2,    298.1,2,     7.72,6,    15.27,6,     0.99,6,    5.062,2,    2.721,2,    0.956,4,   49.074,4,    0.000,2,   2151.1,2,   2298.1,2
  18HU20070510, AR07W,    42,  1, 309605,     18,2,20070514,0207, 55.6000, -53.6167, 2900,    369.7,   3.6422,  34.8441,2,  34.8481,2,    278.2,2,    298.1,2,     7.76,6,    15.43,6,     1.01,6,    5.128,2,    2.765,2,    0.952,4,   50.521,4,    0.000,2,   2152.7,2,   2297.1,2
  18HU20070510, AR07W,    42,  1, 309606,     19,2,20070514,0207, 55.6000, -53.6167, 2900,    250.4,   3.7062,  34.8425,2,-999.0000,9,    276.4,2,    296.2,2,     7.79,6,    15.20,6,     0.99,6,    5.046,2,    2.725,2,    0.939,4,   48.812,4,    0.000,2,   2154.3,2,   2293.6,3
  18HU20070510, AR07W,    42,  1, 309607,     20,2,20070514,0207, 55.6000, -53.6167, 2900,    152.0,   3.7025,  34.8287,2,-999.0000,9,    278.4,2,    299.0,2,     7.67,6,    14.90,6,     0.97,6,    5.075,2,    2.728,2,    0.959,4,   49.195,4,    0.000,2,   2151.2,2,   2297.4,2
  18HU20070510, AR07W,    42,  1, 309608,     21,2,20070514,0207, 55.6000, -53.6167, 2900,     99.7,   3.6823,  34.8168,2,-999.0000,9,    280.1,2,    300.2,2,     7.69,6,    14.82,6,     0.97,6,    5.143,2,    2.789,2,    0.979,4,   50.590,4,    0.000,2,   2150.9,2,   2294.1,2
  18HU20070510, AR07W,    42,  1, 309609,     22,2,20070514,0207, 55.6000, -53.6167, 2900,     50.8,   3.3725,  34.6596,2,-999.0000,9,    294.1,2,    315.4,2,     7.69,6,    13.33,6,     0.91,6,    5.506,2,    3.008,2,    1.061,4,   57.621,4,    0.000,2,   2139.9,2,   2287.3,2
  18HU20070510, AR07W,    42,  1, 309610,     23,2,20070514,0207, 55.6000, -53.6167, 2900,     20.6,   3.2811,  34.6274,2,-999.0000,9,    295.9,2,    317.3,2,     7.72,6,    13.26,6,     0.91,6,    5.516,2,    2.987,2,    1.115,4,   57.689,4,    0.000,2,   2141.2,2,   2287.0,2
  18HU20070510, AR07W,    42,  1, 309611,     24,2,20070514,0207, 55.6000, -53.6167, 2900,      0.9,   3.1212,  34.5738,2,-999.0000,9,    298.1,2,    319.0,2,     7.78,6,    13.34,6,     0.91,6,    5.618,2,    3.051,2,    1.122,4,   58.624,4,    0.000,2,   2136.4,2,   2283.8,2
  18HU20070510, AR07W,    48,  1, 309612,      1,2,20070514,0707, 55.8333, -53.3833, 3078,   3162.0,   1.6872,  34.8870,2,  34.8919,2,    278.6,2,    292.8,3,    10.19,6,    14.12,6,     0.94,6, -999.000,9, -999.000,9, -999.000,9, -999.000,9, -999.000,9,   -999.0,9,   -999.0,9
  18HU20070510, AR07W,    48,  1, 309613,      2,2,20070514,0707, 55.8333, -53.3833, 3078,   3102.6,   1.7084,  34.8863,2,  34.8911,2,    278.0,2,    297.5,2,    10.06,6,    14.07,6,     0.94,6, -999.000,9, -999.000,9, -999.000,9, -999.000,9, -999.000,9,   -999.0,9,   -999.0,9
  18HU20070510, AR07W,    48,  1, 309614,      3,2,20070514,0707, 55.8333, -53.3833, 3078,   3021.9,   1.8725,  34.8912,2,  34.8978,2,    276.3,2,    293.7,2,    10.17,6,    14.32,6,     0.95,6, -999.000,9, -999.000,9, -999.000,9, -999.000,9, -999.000,9,   -999.0,9,   -999.0,9
  18HU20070510, AR07W,    48,  1, 309615,      4,2,20070514,0707, 55.8333, -53.3833, 3078,   2922.8,   2.1464,  34.8943,2,  34.8998,2,    271.9,2,    287.8,2,    11.00,6,    14.77,6,     0.98,6, -999.000,9, -999.000,9, -999.000,9, -999.000,9, -999.000,9,   -999.0,9,   -999.0,9
  18HU20070510, AR07W,    48,  1, 309616,      5,2,20070514,0707, 55.8333, -53.3833, 3078,   2810.7,   2.4626,  34.9015,2,  34.9062,2,    266.4,2,    283.9,2,    12.07,6,    15.36,6,     1.01,6, -999.000,9, -999.000,9, -999.000,9, -999.000,9, -999.000,9,   -999.0,9,   -999.0,9
  18HU20070510, AR07W,    48,  1, 309617,      6,2,20070514,0707, 55.8333, -53.3833, 3078,   2690.0,   2.6521,  34.9060,2,  34.9122,6,    264.1,2,    280.2,2,    11.95,6,    15.68,6,     1.02,6, -999.000,9, -999.000,9, -999.000,9, -999.000,9, -999.000,9,   -999.0,9,   -999.0,9
  18HU20070510, AR07W,    48,  1, 309618,      7,2,20070514,0707, 55.8333, -53.3833, 3078,   2559.8,   2.8117,  34.9066,2,  34.9124,6,    262.8,2,    279.7,2,    11.59,6,    15.92,6,     1.03,6, -999.000,9, -999.000,9, -999.000,9, -999.000,9, -999.000,9,   -999.0,9,   -999.0,9
  18HU20070510, AR07W,    48,  1, 309619,      8,2,20070514,0707, 55.8333, -53.3833, 3078,   2409.4,   2.9839,  34.9052,2,  34.9103,2,    261.7,2,    279.1,2,    11.68,6,    16.04,6,     1.07,6, -999.000,9, -999.000,9, -999.000,9, -999.000,9, -999.000,9,   -999.0,9,   -999.0,9
  18HU20070510, AR07W,    48,  1, 309620,      9,2,20070514,0707, 55.8333, -53.3833, 3078,   2229.0,   3.1002,  34.9027,2,  34.9085,2,    261.1,2,    277.9,2,    10.91,6,    16.16,6,     1.04,6, -999.000,9, -999.000,9, -999.000,9, -999.000,9, -999.000,9,   -999.0,9,   -999.0,9
  18HU20070510, AR07W,    48,  1, 309621,     10,2,20070514,0707, 55.8333, -53.3833, 3078,   2011.0,   3.2524,  34.8997,2,  34.9056,2,    260.3,2,    279.8,3,    10.63,6,    16.48,6,     1.05,6, -999.000,9, -999.000,9, -999.000,9, -999.000,9, -999.000,9,   -999.0,9,   -999.0,9
  18HU20070510, AR07W,    48,  1, 309622,     11,2,20070514,0707, 55.8333, -53.3833, 3078,   1788.6,   3.4386,  34.9007,2,  34.9067,2,    258.1,2,    275.5,6,    10.57,6,    16.82,6,     1.23,4, -999.000,9, -999.000,9, -999.000,9, -999.000,9, -999.000,9,   -999.0,9,   -999.0,9
  18HU20070510, AR07W,    48,  1, 309623,     12,2,20070514,0707, 55.8333, -53.3833, 3078,   1550.1,   3.5654,  34.8937,2,  34.8994,2,    257.9,2,    276.6,2,    10.18,6,    16.72,6,     1.07,6, -999.000,9, -999.000,9, -999.000,9, -999.000,9, -999.000,9,   -999.0,9,   -999.0,9
  18HU20070510, AR07W,    48,  1, 309624,     13,2,20070514,0707, 55.8333, -53.3833, 3078,   1308.2,   3.5649,  34.8640,2,  34.8689,2,    266.9,2,    288.2,2,     9.16,6,    16.40,6,     1.05,6, -999.000,9, -999.000,9, -999.000,9, -999.000,9, -999.000,9,   -999.0,9,   -999.0,9
  18HU20070510, AR07W,    48,  1, 309625,     14,2,20070514,0707, 55.8333, -53.3833, 3078,   1088.2,   3.5136,  34.8493,2,  34.8546,2,    273.3,2,    293.1,2,     8.43,6,    15.97,6,     1.02,6, -999.000,9, -999.000,9, -999.000,9, -999.000,9, -999.000,9,   -999.0,9,   -999.0,9
  18HU20070510, AR07W,    48,  1, 309626,     15,2,20070514,0707, 55.8333, -53.3833, 3078,    891.6,   3.4892,  34.8422,2,-999.0000,9,    275.8,2,   -999.0,9,  -999.00,9,  -999.00,9,  -999.00,9, -999.000,9, -999.000,9, -999.000,9, -999.000,9, -999.000,9,   -999.0,9,   -999.0,9
  18HU20070510, AR07W,    48,  1, 309627,     16,2,20070514,0707, 55.8333, -53.3833, 3078,    707.5,   3.5539,  34.8472,2,  34.8626,2,    275.0,2,   -999.0,9,     7.96,6,    15.18,6,     0.98,6, -999.000,9, -999.000,9, -999.000,9, -999.000,9, -999.000,9,   -999.0,9,   -999.0,9
  18HU20070510, AR07W,    48,  1, 309628,     17,2,20070514,0707, 55.8333, -53.3833, 3078,    547.1,   3.6627,  34.8579,2,  34.8630,2,    273.2,2,    296.2,2,     8.12,6,    15.64,6,     1.00,6, -999.000,9, -999.000,9, -999.000,9, -999.000,9, -999.000,9,   -999.0,9,   -999.0,9
  18HU20070510, AR07W,    48,  1, 309629,     18,2,20070514,0707, 55.8333, -53.3833, 3078,    401.3,   3.6032,  34.8438,2,  34.8488,2,    278.4,2,    299.0,2,     7.87,6,    15.27,6,     0.98,6, -999.000,9, -999.000,9, -999.000,9, -999.000,9, -999.000,9,   -999.0,9,   -999.0,9
  18HU20070510, AR07W,    48,  1, 309630,     19,2,20070514,0707, 55.8333, -53.3833, 3078,    287.8,   3.6672,  34.8456,2,  34.8504,2,    276.8,2,    296.8,2,     7.84,6,    15.31,6,     0.98,6, -999.000,9, -999.000,9, -999.000,9, -999.000,9, -999.000,9,   -999.0,9,   -999.0,9
  18HU20070510, AR07W,    48,  1, 309631,     20,2,20070514,0707, 55.8333, -53.3833, 3078,    189.7,   3.7403,  34.8456,2,-999.0000,9,    274.4,2,    294.3,2,     7.80,6,    15.16,6,     0.97,6, -999.000,9, -999.000,9, -999.000,9, -999.000,9, -999.000,9,   -999.0,9,   -999.0,9
  18HU20070510, AR07W,    48,  1, 309632,     21,2,20070514,0707, 55.8333, -53.3833, 3078,    111.4,   3.6880,  34.8265,2,-999.0000,9,    277.3,2,    299.6,2,     7.70,6,    14.87,6,     0.96,6, -999.000,9, -999.000,9, -999.000,9, -999.000,9, -999.000,9,   -999.0,9,   -999.0,9
  18HU20070510, AR07W,    48,  1, 309633,     22,2,20070514,0707, 55.8333, -53.3833, 3078,     51.2,   3.5048,  34.7146,2,-999.0000,9,    289.8,2,    312.5,2,     7.62,2,    13.83,6,     0.91,6, -999.000,9, -999.000,9, -999.000,9, -999.000,9, -999.000,9,   -999.0,9,   -999.0,9
  18HU20070510, AR07W,    48,  1, 309634,     23,2,20070514,0707, 55.8333, -53.3833, 3078,     18.4,   3.4848,  34.7094,2,-999.0000,9,    289.9,2,    312.9,2,     7.68,6,    13.82,6,     0.91,6, -999.000,9, -999.000,9, -999.000,9, -999.000,9, -999.000,9,   -999.0,9,   -999.0,9
  18HU20070510, AR07W,    48,  1, 309635,     24,2,20070514,0707, 55.8333, -53.3833, 3078,      0.8,   3.4896,  34.7105,2,-999.0000,9,    291.4,2,    313.6,2,     7.64,6,    13.77,6,     0.91,6, -999.000,9, -999.000,9, -999.000,9, -999.000,9, -999.000,9,   -999.0,9,   -999.0,9