BOTTLE,20130611PRINUNIVRMK
EXPOCODE,SECT_ID,STNNBR,CASTNO,SAMPNO,BTLNBR,BTLNBR_FLAG_W,DATE,TIME,LATITUDE,LONGITUDE,DEPTH,CTDPRS,CTDTMP,CTDSAL,CTDSAL_FLAG_W,SALNTY,SALNTY_FLAG_W,CTDOXY,CTDOXY_FLAG_W,OXYGEN,OXYGEN_FLAG_W,SILCAT,SILCAT_FLAG_W,NITRAT,NITRAT_FLAG_W,PHSPHT,PHSPHT_FLAG_W,CFC-11,CFC-11_FLAG_W,CFC-12,CFC-12_FLAG_W,CFC113,CFC113_FLAG_W,CCL4,CCL4_FLAG_W,MCHFRM,MCHFRM_FLAG_W,TCARBN,TCARBN_FLAG_W,ALKALI,ALKALI_FLAG_W
,,,,,,,,,,,METERS,DBAR,ITS-90,PSS-78,,PSS-78,,UMOL/KG,,UMOL/KG,,UMOL/KG,,UMOL/KG,,UMOL/KG,,PMOL/KG,,PMOL/KG,,PMOL/KG,,PMOL/KG,,PMOL/KG,,UMOL/KG,,UMOL/KG,
  18HU20070510, AR07W,   123,  1, 309806,      1,2,20070516,0452, 58.6333, -50.4167, 3444,   3567.3,   1.7191,  34.8975,2,  34.9050,2,    280.4,2,    296.0,2,     9.21,6,    13.98,6,     0.94,6,    4.107,2,    2.086,2,    0.294,2,    4.205,4,    4.726,2,   2157.6,2,   2318.1,3
  18HU20070510, AR07W,   123,  1, 309807,      2,2,20070516,0452, 58.6333, -50.4167, 3444,   3521.1,   1.7388,  34.8945,2,  34.9029,2,    280.0,2,    295.6,2,     9.33,6,    14.23,6,     0.93,6,    4.179,2,    2.137,2,    0.257,2,    4.218,4,    4.861,2,   2159.9,2,   2311.6,3
  18HU20070510, AR07W,   123,  1, 309808,      3,2,20070516,0452, 58.6333, -50.4167, 3444,   3428.1,   1.9522,  34.8936,2,  34.9009,2,    276.7,2,    292.5,2,     9.95,6,    14.49,6,     0.96,6,    3.934,2,    1.926,2,    0.207,2,    4.113,4,    5.107,2,   2160.3,2,   2320.8,2
  18HU20070510, AR07W,   123,  1, 309809,      4,2,20070516,0452, 58.6333, -50.4167, 3444,   3318.6,   2.2005,  34.8928,2,  34.8983,2,    270.4,2,    285.9,2,    12.46,6,    15.50,6,     1.10,3,    3.329,2,    1.611,2,    0.208,2,    3.583,4,    5.092,2,   2161.7,6,   2319.2,2
  18HU20070510, AR07W,   123,  1, 309810,      5,2,20070516,0452, 58.6333, -50.4167, 3444,   3202.3,   2.3916,  34.8995,2,  34.9050,2,    267.0,2,    282.5,2,    12.77,6,    15.71,6,     1.03,6,    3.093,2,    1.435,2,    0.197,2,    3.349,4,    5.023,2,   2160.9,2,   2319.6,2
  18HU20070510, AR07W,   123,  1, 309811,      6,2,20070516,0452, 58.6333, -50.4167, 3444,   3058.1,   2.6272,  34.9098,2,  34.9161,6,    262.7,2,    278.9,2,    13.32,6,    16.12,6,     1.06,6,    2.713,2,    1.154,2,    0.178,2,    2.976,4,    4.926,2,   2161.6,2,   2321.4,2
  18HU20070510, AR07W,   123,  1, 309812,      7,2,20070516,0452, 58.6333, -50.4167, 3444,   2900.4,   2.7718,  34.9105,2,  34.9160,2,    262.2,2,    279.0,2,    12.29,6,    16.07,6,     1.05,6,    2.902,2,    1.330,2,    0.177,2,    3.149,4,    5.169,2,   2159.4,2,   2315.1,3
  18HU20070510, AR07W,   123,  1, 309813,      8,2,20070516,0452, 58.6333, -50.4167, 3444,   2709.7,   2.9211,  34.9053,2,  34.9107,2,    261.5,2,    278.5,2,    11.69,2,    16.21,6,     1.05,6,    2.978,2,    1.310,2,    0.186,2,    3.134,4,    5.403,2,   2160.6,2,   2318.8,2
  18HU20070510, AR07W,   123,  1, 309814,      9,2,20070516,0452, 58.6333, -50.4167, 3444,   2496.4,   3.0940,  34.9076,2,  34.9139,2,    261.4,2,    279.5,2,    10.66,6,    15.95,6,     1.05,6,    3.240,2,    1.598,2,    0.000,4,    3.365,4,    5.540,2,   2160.5,2,   2318.7,2
  18HU20070510, AR07W,   123,  1, 309815,     10,2,20070516,0452, 58.6333, -50.4167, 3444,   2269.2,   3.2146,  34.8968,2,  34.9023,6,    261.0,2,    279.7,2,    10.67,6,    16.56,6,     1.07,6,    3.396,2,    1.616,2,    0.214,2,    3.515,4,    6.515,2,   2160.0,2,   2318.1,2
  18HU20070510, AR07W,   123,  1, 309816,     11,2,20070516,0452, 58.6333, -50.4167, 3444,   2019.7,   3.3881,  34.8974,2,  34.9027,2,    259.0,2,    278.2,2,    10.42,6,    16.77,6,     1.08,6,    3.538,2,    1.675,2,    0.205,2,    3.602,4,    6.645,2,   2160.2,2,   2314.9,2
  18HU20070510, AR07W,   123,  1, 309817,     12,2,20070516,0452, 58.6333, -50.4167, 3444,   1769.3,   3.5774,  34.8991,2,  34.9050,2,    257.2,2,    276.3,2,    10.10,6,    16.75,6,     1.08,6,    3.752,2,    1.764,2,    0.215,2,    3.719,4,    6.204,2,   2161.5,2,   2307.7,2
  18HU20070510, AR07W,   123,  1, 309818,     13,2,20070516,0452, 58.6333, -50.4167, 3444,   1532.7,   3.5609,  34.8733,2,  34.8790,2,    262.7,2,    283.3,6,     9.46,6,    16.72,6,     1.08,6,    4.338,2,    2.219,2,    0.000,4,    4.288,4,    5.558,2,   2160.9,2,   2307.9,2
  18HU20070510, AR07W,   123,  1, 309819,     14,2,20070516,0452, 58.6333, -50.4167, 3444,   1291.0,   3.5639,  34.8589,2,  34.8647,2,    270.2,2,    290.6,2,     8.58,6,    16.31,6,     1.05,6,    4.789,2,    2.633,2,    0.326,2,    4.905,4,    4.286,2,   2160.2,2,   2314.6,3
  18HU20070510, AR07W,   123,  1, 309820,     15,2,20070516,0452, 58.6333, -50.4167, 3444,   1070.3,   3.5548,  34.8479,2,  34.8541,2,    273.7,2,    294.1,2,     8.18,6,    15.93,6,     1.03,6,    4.800,2,    2.716,2,    0.353,2,    4.971,4,    3.433,2,   2159.7,2,   2308.9,2
  18HU20070510, AR07W,   123,  1, 309821,     16,2,20070516,0452, 58.6333, -50.4167, 3444,    873.6,   3.7147,  34.8590,2,  34.8635,2,    271.8,2,    292.9,2,     8.05,6,    15.97,6,     1.02,6,    4.766,2,    2.591,2,    0.364,2,    4.934,4,    3.261,2,   2158.3,2,   2306.4,2
  18HU20070510, AR07W,   123,  1, 309822,     17,2,20070516,0452, 58.6333, -50.4167, 3444,    679.0,   3.8885,  34.8720,2,  34.8753,2,    276.9,2,    297.8,2,     7.70,6,    15.44,6,     1.00,6,    4.903,2,    2.807,2,    0.356,2,    5.246,4,    2.724,2,   2155.9,2,   2309.0,2
  18HU20070510, AR07W,   123,  1, 309823,     18,2,20070516,0452, 58.6333, -50.4167, 3444,    509.2,   3.9227,  34.8721,2,  34.8775,2,    276.4,2,    297.8,2,     7.56,6,    15.45,6,     1.00,6,    4.778,2,    2.719,2,    0.321,2,    5.129,4,    2.578,2,   2156.3,2,   2311.6,2
  18HU20070510, AR07W,   123,  1, 309824,     19,2,20070516,0452, 58.6333, -50.4167, 3444,    360.3,   4.0212,  34.8770,2,  34.8810,2,    274.2,2,    295.3,2,     7.57,6,    15.36,6,     1.00,6,    4.797,2,    2.702,2,    0.343,2,    5.089,4,    2.633,2,   2156.5,2,   2308.1,2
  18HU20070510, AR07W,   123,  1, 309825,     20,2,20070516,0452, 58.6333, -50.4167, 3444,    240.6,   4.0341,  34.8632,2,-999.0000,9,    275.6,2,    298.4,2,     7.40,6,    14.82,6,     0.98,6,    4.878,2,    2.772,2,    0.362,2,    5.289,4,    2.533,2,   2152.6,2,   2313.3,2
  18HU20070510, AR07W,   123,  1, 309826,     21,2,20070516,0452, 58.6333, -50.4167, 3444,    138.5,   4.5036,  34.8923,2,-999.0000,9,    273.2,2,    293.9,2,     7.21,6,    14.46,6,     0.97,6,    4.754,2,    2.751,2,    0.328,2,    5.044,4,    2.355,2,   2151.2,2,   2318.3,2
  18HU20070510, AR07W,   123,  1, 309827,     22,2,20070516,0452, 58.6333, -50.4167, 3444,     70.3,   4.0883,  34.7812,2,-999.0000,9,    298.3,2,    321.7,2,     6.53,6,     9.83,6,     0.75,6,    5.108,2,    2.982,2,    0.338,2,    5.806,4,    2.026,2,   2124.8,2,   2307.4,2
  18HU20070510, AR07W,   123,  1, 309828,     23,2,20070516,0452, 58.6333, -50.4167, 3444,     34.9,   4.1936,  34.7912,2,-999.0000,9,    301.5,2,    327.0,2,     6.42,6,     9.54,6,     0.72,6,    5.109,2,    2.953,2,    0.349,2,    5.829,4,    2.035,2,   2122.6,2,   2312.2,2
  18HU20070510, AR07W,   123,  1, 309829,     24,2,20070516,0452, 58.6333, -50.4167, 3444,      0.8,   4.1947,  34.7914,2,-999.0000,9,    302.1,2,    325.6,2,     6.39,6,     9.51,6,     0.73,6,    5.625,2,    3.027,2,    0.431,2,   15.887,4,   11.022,2,   2122.1,2,   2320.8,2
  18HU20070510, AR07W,   133,  1, 309830,      1,2,20070516,1038, 59.0500, -49.9333, 3510,   3514.3,   1.7413,  34.8938,2,  34.8985,2,    279.7,2,    295.2,2,     9.37,6,    14.26,6,     0.94,6,    4.634,2,    2.321,2,    0.274,2,   11.590,4,   26.308,2,   2158.9,6,   2322.8,2
  18HU20070510, AR07W,   133,  1, 309831,      2,2,20070516,1038, 59.0500, -49.9333, 3510,   3448.7,   1.7355,  34.8940,2,  34.8985,2,    279.0,2,    296.3,2,     9.28,6,    14.14,6,     0.93,6,    4.644,2,    2.315,2,    0.271,2,   11.603,4,   26.157,2,   2157.9,2,   2322.7,6
  18HU20070510, AR07W,   133,  1, 309832,      3,2,20070516,1038, 59.0500, -49.9333, 3510,   3370.6,   1.9332,  34.8961,2,  34.9001,2,    277.2,2,    293.4,2,     9.21,6,    14.46,6,     0.94,6,    4.283,2,    2.203,2,    0.242,2,   11.055,4,   24.877,2,   2157.3,2,   2320.2,2
  18HU20070510, AR07W,   133,  1, 309833,      4,2,20070516,1038, 59.0500, -49.9333, 3510,   3269.1,   2.1215,  34.8928,2,  34.8967,2,    273.4,2,    289.4,2,    10.44,6,    14.95,6,     0.97,6,    4.143,2,    2.043,2,    0.203,2,   10.643,4,   27.000,2,   2159.4,2,   2315.6,2
  18HU20070510, AR07W,   133,  1, 309834,      5,2,20070516,1038, 59.0500, -49.9333, 3510,   3149.6,   2.3121,  34.8935,2,  34.8973,2,    268.1,2,    284.7,2,    12.23,6,    15.57,6,     1.00,6,    3.604,2,    1.708,2,    0.165,2,    9.383,4,   26.710,2,   2158.0,2,   2317.0,2
  18HU20070510, AR07W,   133,  1, 309835,      6,2,20070516,1038, 59.0500, -49.9333, 3510,   3020.0,   2.5049,  34.9019,2,  34.9075,6,    264.8,2,    281.5,2,    12.61,6,    15.98,6,     1.02,6,    2.756,2,    1.514,2,    0.232,2,    8.494,4,    0.000,2,   2159.9,2,   2318.8,2
  18HU20070510, AR07W,   133,  1, 309836,      7,2,20070516,1038, 59.0500, -49.9333, 3510,   2859.5,   2.6798,  34.9084,2,  34.9127,2,    262.7,2,    280.3,2,    12.30,6,    16.05,6,     1.04,6,    3.260,2,    1.534,2,    0.110,2,    8.283,4,   25.778,2,   2160.4,2,   2314.6,2
  18HU20070510, AR07W,   133,  1, 309837,      8,2,20070516,1038, 59.0500, -49.9333, 3510,   2659.0,   2.8487,  34.9085,2,  34.9126,2,    261.7,2,    279.2,2,    11.59,6,    16.13,6,     1.04,6,    3.374,2,    1.584,2,    0.125,2,    8.755,4,   27.587,2,   2157.7,2,   2313.7,2
  18HU20070510, AR07W,   133,  1, 309838,      9,2,20070516,1038, 59.0500, -49.9333, 3510,   2439.0,   2.9869,  34.9079,2,  34.9124,2,    261.4,2,    280.1,2,    10.93,6,    16.07,6,     1.04,6,    3.260,2,    1.626,2,    0.241,2,    9.011,4,   28.680,2,   2156.9,2,   2315.9,2
  18HU20070510, AR07W,   133,  1, 309839,     10,2,20070516,1038, 59.0500, -49.9333, 3510,   2209.4,   3.1407,  34.9061,2,  34.9111,6,    260.2,2,    280.9,2,    10.60,6,    16.41,6,     1.05,6,    3.548,2,    1.748,2,    0.138,2,    9.133,4,   30.532,2,   2159.5,2,   2317.4,2
  18HU20070510, AR07W,   133,  1, 309840,     11,2,20070516,1038, 59.0500, -49.9333, 3510,   1968.4,   3.3084,  34.9047,2,  34.9093,2,    259.7,2,    279.1,2,    10.06,6,    16.31,6,     1.06,6,    3.980,2,    1.910,2,    0.198,2,    9.839,4,   31.478,2,   2158.5,2,   2313.1,2
  18HU20070510, AR07W,   133,  1, 309841,     12,2,20070516,1038, 59.0500, -49.9333, 3510,   1729.2,   3.4270,  34.9015,2,  34.9050,2,    257.6,2,    277.2,2,    10.22,6,    16.69,6,     1.09,6, -999.000,9, -999.000,9, -999.000,9, -999.000,9, -999.000,9,   2159.5,2,   2312.4,2
  18HU20070510, AR07W,   133,  1, 309842,     13,2,20070516,1038, 59.0500, -49.9333, 3510,   1499.8,   3.5532,  34.9007,2,  34.9030,2,    256.6,2,    277.2,6,     9.98,6,    16.76,6,     1.08,6,    4.226,2,    2.042,2,    0.235,2,   10.267,4,   32.003,2,   2160.7,2,   2311.4,2
  18HU20070510, AR07W,   133,  1, 309843,     14,2,20070516,1038, 59.0500, -49.9333, 3510,   1281.8,   3.6006,  34.8894,2,  34.8920,2,    259.1,2,    278.8,2,     9.50,6,    16.76,6,     1.08,6,    4.603,2,    2.294,2,    0.295,2,   11.217,4,   29.251,2,   2162.6,2,   2312.1,2
  18HU20070510, AR07W,   133,  1, 309844,     15,2,20070516,1038, 59.0500, -49.9333, 3510,   1078.0,   3.5769,  34.8727,2,  34.8747,2,    264.3,2,    284.5,2,     8.97,6,    16.55,6,     1.06,6,    4.959,2,    2.529,2,    0.331,2,   12.279,4,   25.973,2,   2160.6,2,   2308.8,2
  18HU20070510, AR07W,   133,  1, 309845,     16,2,20070516,1038, 59.0500, -49.9333, 3510,    869.1,   3.7164,  34.8824,2,  34.8847,2,    264.0,2,    284.1,2,     8.65,6,    16.27,6,     1.05,6,    4.963,2,    2.558,2,    0.342,2,   12.328,4,   22.492,2,   2160.5,2,   2312.5,6
  18HU20070510, AR07W,   133,  1, 309846,     17,2,20070516,1038, 59.0500, -49.9333, 3510,    680.0,   3.7712,  34.8766,2,  34.8790,2,    265.9,2,    286.7,2,     8.29,6,    16.13,6,     1.05,6,    5.042,2,    2.625,2,    0.349,2,   12.746,4,   19.955,2,   2158.7,2,   2318.3,2
  18HU20070510, AR07W,   133,  1, 309847,     18,2,20070516,1038, 59.0500, -49.9333, 3510,    509.4,   3.9413,  34.8883,2,  34.8910,2,    264.9,2,    286.2,2,     8.17,6,    16.15,6,     1.02,6,    4.966,2,    2.599,2,    0.358,2,   12.592,4,   19.011,2,   2158.4,2,   2315.2,2
  18HU20070510, AR07W,   133,  1, 309848,     19,2,20070516,1038, 59.0500, -49.9333, 3510,    360.2,   3.9828,  34.8806,2,  34.8835,2,    270.0,2,    290.6,2,     7.80,6,    15.68,6,     1.00,6,    5.140,2,    2.719,2,    0.383,2,   13.304,4,   16.005,2,   2155.3,2,   2312.4,2
  18HU20070510, AR07W,   133,  1, 309849,     20,2,20070516,1038, 59.0500, -49.9333, 3510,    240.1,   3.8801,  34.8503,2,  34.8513,2,    276.8,2,    298.4,2,     7.17,6,    14.85,6,     0.97,6,    5.397,2,    2.871,2,    0.414,2,   14.445,4,   13.051,2,   2151.5,2,   2314.0,2
  18HU20070510, AR07W,   133,  1, 309850,     21,2,20070516,1038, 59.0500, -49.9333, 3510,    139.7,   3.8365,  34.7851,2,  34.7824,2,    282.5,2,    304.6,2,     6.46,6,    11.82,6,     0.88,6,    5.547,2,    2.981,2,    0.443,2,   15.123,4,   11.512,2,   2142.8,2,   2315.4,2
  18HU20070510, AR07W,   133,  1, 309851,     22,2,20070516,1038, 59.0500, -49.9333, 3510,     68.0,   3.8143,  34.5766,2,  34.5800,2,    300.8,2,    324.3,2,     4.75,6,     6.26,6,     0.60,6,    5.770,2,    3.107,2,    0.491,2,   16.237,4,   10.185,2,   2102.9,2,   2309.3,2
  18HU20070510, AR07W,   133,  1, 309852,     23,2,20070516,1038, 59.0500, -49.9333, 3510,     34.5,   3.7909,  34.5268,2,  34.5282,2,    308.8,2,    332.5,2,     4.05,6,     5.26,6,     0.51,6,    5.875,2,    3.155,2,    0.498,2,   16.840,4,   10.461,2,   2091.6,2,   2309.5,2
  18HU20070510, AR07W,   133,  1, 309853,     24,2,20070516,1038, 59.0500, -49.9333, 3510,      1.5,   3.7944,  34.5228,2,-999.0000,9,    310.3,2,    334.1,2,     4.03,6,     5.16,6,     0.51,6,    5.879,2,    3.168,2,    0.495,2,   16.780,4,   10.269,2,   2088.8,2,   2305.1,2
  18HU20070510, AR07W,   145,  1, 309854,      1,2,20070516,1549, 59.4667, -49.4667, 3440,    201.1,   4.6175,  34.9072,2,-999.0000,9,    271.5,2,   -999.0,9,     7.08,6,    15.04,6,     0.97,6, -999.000,9, -999.000,9, -999.000,9, -999.000,9, -999.000,9,   -999.0,9,   -999.0,9
  18HU20070510, AR07W,   145,  1, 309855,      2,2,20070516,1549, 59.4667, -49.4667, 3440,    149.2,   4.6863,  34.8996,2,-999.0000,9,    270.3,2,   -999.0,9,     6.80,6,    14.71,6,     0.96,6, -999.000,9, -999.000,9, -999.000,9, -999.000,9, -999.000,9,   -999.0,9,   -999.0,9
  18HU20070510, AR07W,   145,  1, 309856,      3,2,20070516,1549, 59.4667, -49.4667, 3440,     99.6,   4.5753,  34.8649,2,-999.0000,9,    272.3,2,   -999.0,9,     6.56,6,    14.01,6,     0.94,6, -999.000,9, -999.000,9, -999.000,9, -999.000,9, -999.000,9,   -999.0,9,   -999.0,9
  18HU20070510, AR07W,   145,  1, 309857,      4,2,20070516,1549, 59.4667, -49.4667, 3440,     81.6,   4.3982,  34.8083,2,-999.0000,9,    278.8,2,   -999.0,9,     6.32,6,    11.01,6,     0.85,6, -999.000,9, -999.000,9, -999.000,9, -999.000,9, -999.000,9,   -999.0,9,   -999.0,9
  18HU20070510, AR07W,   145,  1, 309858,      5,2,20070516,1549, 59.4667, -49.4667, 3440,     60.0,   4.1475,  34.6709,2,-999.0000,9,    296.1,2,   -999.0,9,     5.30,6,     6.49,6,     0.60,6, -999.000,9, -999.000,9, -999.000,9, -999.000,9, -999.000,9,   -999.0,9,   -999.0,9
  18HU20070510, AR07W,   145,  1, 309859,      6,2,20070516,1549, 59.4667, -49.4667, 3440,     49.6,   4.1498,  34.6615,2,-999.0000,9,    299.9,2,   -999.0,9,     5.14,6,     6.30,6,     0.58,6, -999.000,9, -999.000,9, -999.000,9, -999.000,9, -999.000,9,   -999.0,9,   -999.0,9
  18HU20070510, AR07W,   145,  1, 309860,      7,2,20070516,1549, 59.4667, -49.4667, 3440,     39.1,   4.0839,  34.6279,2,-999.0000,9,    305.3,2,   -999.0,9,     4.97,6,     5.28,6,     0.52,6, -999.000,9, -999.000,9, -999.000,9, -999.000,9, -999.000,9,   -999.0,9,   -999.0,9
  18HU20070510, AR07W,   145,  1, 309861,      8,2,20070516,1549, 59.4667, -49.4667, 3440,     29.8,   4.0889,  34.6220,2,-999.0000,9,    306.7,2,   -999.0,9,     4.99,6,     5.12,6,     0.50,6, -999.000,9, -999.000,9, -999.000,9, -999.000,9, -999.000,9,   -999.0,9,   -999.0,9
  18HU20070510, AR07W,   145,  1, 309862,      9,2,20070516,1549, 59.4667, -49.4667, 3440,     30.0,   4.0861,  34.6232,2,-999.0000,9,    307.0,2,   -999.0,9,  -999.00,9,  -999.00,9,  -999.00,9, -999.000,9, -999.000,9, -999.000,9, -999.000,9, -999.000,9,   -999.0,9,   -999.0,9
  18HU20070510, AR07W,   145,  1, 309863,     10,2,20070516,1549, 59.4667, -49.4667, 3440,     19.3,   4.0819,  34.6229,2,-999.0000,9,    307.1,2,   -999.0,9,     4.92,6,     5.10,6,     0.50,6, -999.000,9, -999.000,9, -999.000,9, -999.000,9, -999.000,9,   -999.0,9,   -999.0,9
  18HU20070510, AR07W,   145,  1, 309864,     11,2,20070516,1549, 59.4667, -49.4667, 3440,      9.3,   4.0934,  34.6215,2,-999.0000,9,    307.3,2,   -999.0,9,     4.92,6,     5.04,6,     0.48,6, -999.000,9, -999.000,9, -999.000,9, -999.000,9, -999.000,9,   -999.0,9,   -999.0,9
  18HU20070510, AR07W,   145,  1, 309865,     12,2,20070516,1549, 59.4667, -49.4667, 3440,      2.0,   4.1041,  34.6219,2,-999.0000,9,    307.9,2,   -999.0,9,     4.92,6,     5.08,6,     0.48,6, -999.000,9, -999.000,9, -999.000,9, -999.000,9, -999.000,9,   -999.0,9,   -999.0,9
  18HU20070510, AR07W,   145,  1, 309866,     13,2,20070516,1549, 59.4667, -49.4667, 3440,      2.1,   4.1023,  34.6219,2,-999.0000,9,    307.6,2,   -999.0,9,  -999.00,9,  -999.00,9,  -999.00,9, -999.000,9, -999.000,9, -999.000,9, -999.000,9, -999.000,9,   -999.0,9,   -999.0,9