BOTTLE,20130611PRINUNIVRMK
EXPOCODE,SECT_ID,STNNBR,CASTNO,SAMPNO,BTLNBR,BTLNBR_FLAG_W,DATE,TIME,LATITUDE,LONGITUDE,DEPTH,CTDPRS,CTDTMP,CTDSAL,CTDSAL_FLAG_W,SALNTY,SALNTY_FLAG_W,CTDOXY,CTDOXY_FLAG_W,OXYGEN,OXYGEN_FLAG_W,SILCAT,SILCAT_FLAG_W,NITRAT,NITRAT_FLAG_W,PHSPHT,PHSPHT_FLAG_W,CFC-11,CFC-11_FLAG_W,CFC-12,CFC-12_FLAG_W,CFC113,CFC113_FLAG_W,CCL4,CCL4_FLAG_W,MCHFRM,MCHFRM_FLAG_W,TCARBN,TCARBN_FLAG_W,ALKALI,ALKALI_FLAG_W
,,,,,,,,,,,METERS,DBAR,ITS-90,PSS-78,,PSS-78,,UMOL/KG,,UMOL/KG,,UMOL/KG,,UMOL/KG,,UMOL/KG,,PMOL/KG,,PMOL/KG,,PMOL/KG,,PMOL/KG,,PMOL/KG,,UMOL/KG,,UMOL/KG,
  18HU20070510, AR07W,   238,  1, 310330,      1,2,20070525,1654, 41.4000, -60.6668, 4700,   4721.2,   2.2050,  34.8721,2,  34.8788,2,    247.5,2,    260.8,2,    35.18,6,    19.21,6,     1.30,6, -999.000,9, -999.000,9, -999.000,9, -999.000,9, -999.000,9,   -999.0,9,   -999.0,9
  18HU20070510, AR07W,   238,  1, 310331,      2,2,20070525,1654, 41.4000, -60.6668, 4700,   4579.9,   2.2247,  34.8761,2,  34.8820,2,    248.4,2,    263.0,2,    32.78,6,    18.97,6,     1.28,6, -999.000,9, -999.000,9, -999.000,9, -999.000,9, -999.000,9,   -999.0,9,   -999.0,9
  18HU20070510, AR07W,   238,  1, 310332,      3,2,20070525,1654, 41.4000, -60.6668, 4700,   4455.4,   2.2328,  34.8788,2,  34.8845,2,    249.1,2,    265.2,2,    30.85,6,    18.73,6,     1.26,6, -999.000,9, -999.000,9, -999.000,9, -999.000,9, -999.000,9,   -999.0,9,   -999.0,9
  18HU20070510, AR07W,   238,  1, 310333,      4,2,20070525,1654, 41.4000, -60.6668, 4700,   4294.7,   2.2425,  34.8820,2,-999.0000,9,    251.6,2,   -999.0,9,  -999.00,9,  -999.00,9,  -999.00,9, -999.000,9, -999.000,9, -999.000,9, -999.000,9, -999.000,9,   -999.0,9,   -999.0,9
  18HU20070510, AR07W,   238,  1, 310334,      5,2,20070525,1654, 41.4000, -60.6668, 4700,   4116.3,   2.2585,  34.8848,2,  34.8900,2,    251.7,2,    272.6,2,    25.64,6,    17.81,6,     1.20,6, -999.000,9, -999.000,9, -999.000,9, -999.000,9, -999.000,9,   -999.0,9,   -999.0,9
  18HU20070510, AR07W,   238,  1, 310335,      6,2,20070525,1654, 41.4000, -60.6668, 4700,   3909.6,   2.2975,  34.8890,2,  34.8945,2,    250.8,2,    268.1,2,    25.09,6,    17.87,6,     1.20,6, -999.000,9, -999.000,9, -999.000,9, -999.000,9, -999.000,9,   -999.0,9,   -999.0,9
  18HU20070510, AR07W,   238,  1, 310336,      7,2,20070525,1654, 41.4000, -60.6668, 4700,   3680.5,   2.3884,  34.8964,2,  34.9022,2,    249.0,2,    267.8,2,    24.72,6,    18.00,6,     1.21,6, -999.000,9, -999.000,9, -999.000,9, -999.000,9, -999.000,9,   -999.0,9,   -999.0,9
  18HU20070510, AR07W,   238,  1, 310337,      8,2,20070525,1654, 41.4000, -60.6668, 4700,   3429.8,   2.5124,  34.9033,2,  34.9093,2,    250.3,2,    269.8,2,    21.12,6,    17.33,6,     1.18,6, -999.000,9, -999.000,9, -999.000,9, -999.000,9, -999.000,9,   -999.0,9,   -999.0,9
  18HU20070510, AR07W,   238,  1, 310338,      9,2,20070525,1654, 41.4000, -60.6668, 4700,   3166.4,   2.7234,  34.9168,2,  34.9219,2,    247.4,2,    267.3,2,    20.19,6,    17.57,6,     1.18,6, -999.000,9, -999.000,9, -999.000,9, -999.000,9, -999.000,9,   -999.0,9,   -999.0,9
  18HU20070510, AR07W,   238,  1, 310339,     10,2,20070525,1654, 41.4000, -60.6668, 4700,   2891.0,   2.9638,  34.9289,2,  34.9349,2,    245.3,2,    266.1,2,    18.79,6,    17.68,6,     1.19,6, -999.000,9, -999.000,9, -999.000,9, -999.000,9, -999.000,9,   -999.0,9,   -999.0,9
  18HU20070510, AR07W,   238,  1, 310340,     11,2,20070525,1654, 41.4000, -60.6668, 4700,   2604.1,   3.1736,  34.9356,2,  34.9408,2,    245.5,2,    265.7,2,    16.89,6,    17.45,6,     1.16,6, -999.000,9, -999.000,9, -999.000,9, -999.000,9, -999.000,9,   -999.0,9,   -999.0,9
  18HU20070510, AR07W,   238,  1, 310341,     12,2,20070525,1654, 41.4000, -60.6668, 4700,   2309.4,   3.3477,  34.9355,2,  34.9416,2,    246.2,2,    266.8,2,    14.94,6,    17.31,6,     1.14,6, -999.000,9, -999.000,9, -999.000,9, -999.000,9, -999.000,9,   -999.0,9,   -999.0,9
  18HU20070510, AR07W,   238,  1, 310342,     13,2,20070525,1654, 41.4000, -60.6668, 4700,   2010.9,   3.5174,  34.9317,2,  34.9378,2,    247.2,2,    268.2,2,    13.12,6,    17.23,6,     1.14,6, -999.000,9, -999.000,9, -999.000,9, -999.000,9, -999.000,9,   -999.0,9,   -999.0,9
  18HU20070510, AR07W,   238,  1, 310343,     14,2,20070525,1654, 41.4000, -60.6668, 4700,   1721.7,   3.7288,  34.9391,2,  34.9484,2,    244.8,2,    265.6,2,    12.30,6,    17.34,6,     1.14,6, -999.000,9, -999.000,9, -999.000,9, -999.000,9, -999.000,9,   -999.0,9,   -999.0,9
  18HU20070510, AR07W,   238,  1, 310344,     15,2,20070525,1654, 41.4000, -60.6668, 4700,   1452.4,   4.0029,  34.9502,2,-999.0000,9,    241.6,2,   -999.0,9,  -999.00,9,  -999.00,9,  -999.00,9, -999.000,9, -999.000,9, -999.000,9, -999.000,9, -999.000,9,   -999.0,9,   -999.0,9
  18HU20070510, AR07W,   238,  1, 310345,     16,2,20070525,1654, 41.4000, -60.6668, 4700,   1199.8,   4.2070,  34.9524,2,  34.9581,2,    240.0,2,    260.3,2,    11.04,6,    17.31,6,     1.14,6, -999.000,9, -999.000,9, -999.000,9, -999.000,9, -999.000,9,   -999.0,9,   -999.0,9
  18HU20070510, AR07W,   238,  1, 310346,     17,2,20070525,1654, 41.4000, -60.6668, 4700,    962.4,   4.6140,  34.9684,2,  34.9740,2,    231.2,2,    250.5,2,    11.12,6,    17.72,6,     1.16,6, -999.000,9, -999.000,9, -999.000,9, -999.000,9, -999.000,9,   -999.0,9,   -999.0,9
  18HU20070510, AR07W,   238,  1, 310347,     18,2,20070525,1654, 41.4000, -60.6668, 4700,    731.2,   5.1644,  34.9514,2,  34.9573,2,    212.7,2,    229.9,2,    11.92,6,    18.70,6,     1.23,6, -999.000,9, -999.000,9, -999.000,9, -999.000,9, -999.000,9,   -999.0,9,   -999.0,9
  18HU20070510, AR07W,   238,  1, 310348,     19,2,20070525,1654, 41.4000, -60.6668, 4700,    516.3,   8.0655,  35.1414,2,  35.1484,2,    152.5,2,    164.2,2,    13.40,6,    22.25,6,     1.43,6, -999.000,9, -999.000,9, -999.000,9, -999.000,9, -999.000,9,   -999.0,9,   -999.0,9
  18HU20070510, AR07W,   238,  1, 310349,     20,2,20070525,1654, 41.4000, -60.6668, 4700,    330.7,  12.6277,  35.5900,2,  35.5963,2,    146.9,2,    160.0,2,     7.56,6,    16.22,6,     1.01,6, -999.000,9, -999.000,9, -999.000,9, -999.000,9, -999.000,9,   -999.0,9,   -999.0,9
  18HU20070510, AR07W,   238,  1, 310350,     21,2,20070525,1654, 41.4000, -60.6668, 4700,    195.8,  14.6209,  35.8775,2,-999.0000,9,    200.8,2,    218.9,2,     2.85,6,     6.92,6,     0.45,6, -999.000,9, -999.000,9, -999.000,9, -999.000,9, -999.000,9,   -999.0,9,   -999.0,9
  18HU20070510, AR07W,   238,  1, 310351,     22,2,20070525,1654, 41.4000, -60.6668, 4700,    115.5,  16.3483,  36.2728,2,-999.0000,9,    209.5,2,    229.9,2,     1.12,6,     2.77,6,     0.22,6, -999.000,9, -999.000,9, -999.000,9, -999.000,9, -999.000,9,   -999.0,9,   -999.0,9
  18HU20070510, AR07W,   238,  1, 310352,     23,2,20070525,1654, 41.4000, -60.6668, 4700,     54.7,  17.5231,  36.1340,2,-999.0000,9,    200.4,2,    219.3,2,     1.29,6,     2.40,6,     0.19,6, -999.000,9, -999.000,9, -999.000,9, -999.000,9, -999.000,9,   -999.0,9,   -999.0,9
  18HU20070510, AR07W,   238,  1, 310353,     24,2,20070525,1654, 41.4000, -60.6668, 4700,      3.4,  17.0045,  35.7181,2,-999.0000,9,    223.9,2,    244.9,2,     0.61,6,     0.12,6,     0.09,6, -999.000,9, -999.000,9, -999.000,9, -999.000,9, -999.000,9,   -999.0,9,   -999.0,9
  18HU20070510, AR07W,   241,  1, 310354,      1,2,20070526,0120, 42.2333, -61.1833, 3738,   3867.2,   2.1873,  34.8815,2,  34.8912,2,    254.9,2,    257.5,3,    25.61,6,    17.53,6,     1.17,6,    1.671,2,    0.765,2,    0.542,4,    2.358,4,    3.346,2,   2172.9,2,   2323.9,2
  18HU20070510, AR07W,   241,  1, 310355,      2,2,20070526,0120, 42.2333, -61.1833, 3738,   3720.6,   2.2433,  34.8860,2,  34.8949,2,    256.0,2,    275.2,2,    23.01,6,    17.15,6,     1.14,6,    1.705,2,    0.774,2,    0.067,4,    2.353,4,    3.458,2,   2170.7,2,   2327.1,2
  18HU20070510, AR07W,   241,  1, 310356,      3,2,20070526,0120, 42.2333, -61.1833, 3738,   3599.7,   2.2831,  34.8887,2,  34.8969,2,    256.4,2,    272.8,2,    21.31,6,    16.93,6,     1.13,6,    1.831,2,    0.840,2,    0.190,2,    2.479,4,    3.684,2,   2165.1,3,   2327.1,2
  18HU20070510, AR07W,   241,  1, 310357,      4,2,20070526,0120, 42.2333, -61.1833, 3738,   3470.8,   2.3446,  34.8920,2,  34.9004,2,    256.6,2,    273.6,2,    19.85,6,    16.78,6,     1.12,6,    1.931,2,    0.896,2,    0.157,2,    2.554,4,    3.803,2,   2168.6,2,   2327.0,2
  18HU20070510, AR07W,   241,  1, 310358,      5,2,20070526,0120, 42.2333, -61.1833, 3738,   3330.1,   2.3841,  34.8942,2,  34.9024,2,    256.3,2,    274.3,2,    19.07,6,    16.66,6,     1.11,6,    1.958,2,    0.946,2,    0.064,4,    2.590,4,    3.945,2,   2165.9,2,   2318.7,2
  18HU20070510, AR07W,   241,  1, 310359,      6,2,20070526,0120, 42.2333, -61.1833, 3738,   3168.9,   2.4429,  34.8970,2,  34.9056,2,    256.0,2,    273.3,2,    18.24,6,    16.63,6,     1.10,6,    1.982,2,    0.900,2,    0.168,2,    2.608,4,    3.963,2,   2166.5,2,   2320.6,3
  18HU20070510, AR07W,   241,  1, 310360,      7,2,20070526,0120, 42.2333, -61.1833, 3738,   2998.9,   2.5332,  34.9020,2,  34.9099,2,    254.7,2,    273.2,2,    17.71,6,    16.51,6,     1.10,6,    1.886,2,    0.865,2,    0.187,2,    2.493,4,    3.777,2,   2161.6,2,   2314.6,2
  18HU20070510, AR07W,   241,  1, 310361,      8,2,20070526,0120, 42.2333, -61.1833, 3738,   2790.8,   2.7087,  34.9092,2,  34.9168,2,    253.3,2,    272.5,2,    16.68,6,    16.75,6,     1.11,6,    1.848,2,    0.853,2,    0.053,4,    2.497,4,    3.970,2,   2162.4,2,   2316.0,2
  18HU20070510, AR07W,   241,  1, 310362,      9,2,20070526,0120, 42.2333, -61.1833, 3738,   2569.8,   2.9341,  34.9185,2,  34.9260,2,    251.1,2,    269.5,2,    16.04,6,    17.04,6,     1.12,6,    1.686,2,    0.743,2,    0.087,2,    2.317,4,    3.585,2,   2163.5,2,   2315.3,2
  18HU20070510, AR07W,   241,  1, 310363,     10,2,20070526,0120, 42.2333, -61.1833, 3738,   2330.2,   3.1405,  34.9235,2,  34.9321,2,    249.9,2,    269.4,2,    15.06,6,    17.18,6,     1.12,6,    1.733,2,    0.751,2,    0.181,2,    2.375,4,    3.832,2,   2157.8,4,   2315.7,2
  18HU20070510, AR07W,   241,  1, 310364,     11,4,20070526,0120, 42.2333, -61.1833, 3738,   2070.0,   3.3209,  34.9233,2,  34.7587,4,    250.2,2,    198.1,4,    12.28,4,    19.45,4,     1.29,4,    2.975,4,    1.677,4,    0.191,4,    2.756,4,    2.346,4,   2175.9,4,   2303.3,4
  18HU20070510, AR07W,   241,  1, 310365,     12,2,20070526,0120, 42.2333, -61.1833, 3738,   1810.9,   3.5456,  34.9267,2,  34.9351,2,    248.9,2,    268.6,2,    12.51,6,    17.07,6,     1.13,6,    2.239,2,    1.065,2,    0.125,2,    2.832,4,    4.756,2,   2159.9,2,   2312.3,2
  18HU20070510, AR07W,   241,  1, 310366,     13,2,20070526,0120, 42.2333, -61.1833, 3738,   1560.9,   3.7369,  34.9310,2,  34.9380,2,    246.9,2,    266.3,2,    11.73,6,    17.00,6,     1.12,6,    2.622,2,    1.297,2,    0.232,2,    3.088,4,    4.974,2,   2160.9,2,   2315.9,2
  18HU20070510, AR07W,   241,  1, 310367,     14,2,20070526,0120, 42.2333, -61.1833, 3738,   1300.6,   3.8359,  34.9177,2,  34.9248,2,    249.6,2,    269.9,2,    10.78,6,    16.74,6,     1.10,6,    3.296,2,    1.813,2,    0.186,2,    3.656,4,    4.969,2,   2159.1,2,   2314.5,2
  18HU20070510, AR07W,   241,  1, 310368,     15,2,20070526,0120, 42.2333, -61.1833, 3738,   1070.2,   3.9948,  34.9194,2,  34.9258,2,    248.3,2,    268.4,2,    10.39,6,    16.78,6,     1.10,6,    3.423,2,    1.894,2,    0.223,2,    3.718,4,    4.340,2,   2164.7,2,   2308.8,3
  18HU20070510, AR07W,   241,  1, 310369,     16,2,20070526,0120, 42.2333, -61.1833, 3738,    869.0,   4.0858,  34.9080,2,  34.9142,2,    249.0,2,    269.5,2,     9.93,6,    16.64,6,     1.09,6,    3.758,2,    2.101,2,    0.313,2,    3.957,4,    3.967,2,   2164.4,2,   2310.2,2
  18HU20070510, AR07W,   241,  1, 310370,     17,2,20070526,0120, 42.2333, -61.1833, 3738,    679.0,   4.2247,  34.8947,2,  34.9006,2,    245.7,2,    255.7,2,     9.90,6,    16.66,6,     1.10,6,    3.884,2,    2.257,2,    0.265,2,    4.038,4,    3.644,2,   2164.1,2,   2308.2,2
  18HU20070510, AR07W,   241,  1, 310371,     18,2,20070526,0120, 42.2333, -61.1833, 3738,    510.3,   4.8707,  34.9308,2,  34.9368,2,    221.1,2,    238.9,2,    11.40,6,    18.09,6,     1.19,6,    3.038,2,    1.661,2,    0.218,2,    3.089,4,    3.237,2,   2171.5,2,   2306.1,2
  18HU20070510, AR07W,   241,  1, 310372,     19,2,20070526,0120, 42.2333, -61.1833, 3738,    359.9,   5.4173,  34.8690,2,-999.0000,9,    197.7,2,    207.8,2,    12.48,6,    19.34,6,     1.28,6,    2.837,2,    1.533,2,    0.202,2,    2.748,4,    2.675,2,   2179.1,2,   2297.9,2
  18HU20070510, AR07W,   241,  1, 310373,     20,2,20070526,0120, 42.2333, -61.1833, 3738,    239.6,   6.0965,  34.7521,2,-999.0000,9,    183.4,2,    197.8,2,    12.16,6,    19.07,6,     1.29,6,    2.947,2,    1.700,2,    0.155,2,    2.773,4,    2.341,2,   2179.6,2,   2295.5,2
  18HU20070510, AR07W,   241,  1, 310374,     21,2,20070526,0120, 42.2333, -61.1833, 3738,    141.3,   7.7864,  34.7940,2,-999.0000,9,    173.4,2,    186.7,2,    10.25,6,    17.60,6,     1.20,6,    2.938,2,    1.649,2,    0.196,2,    2.402,4,    1.843,2,   2170.3,2,   2300.1,2
  18HU20070510, AR07W,   241,  1, 310375,     22,2,20070526,0120, 42.2333, -61.1833, 3738,     71.3,   4.3264,  33.4315,2,-999.0000,9,    275.8,2,    301.5,2,     3.30,6,     4.62,6,     0.69,6,    5.238,2,    3.093,2,    0.528,2,    5.733,4,    2.089,2,   2100.3,2,   2245.2,2
  18HU20070510, AR07W,   241,  1, 310376,     23,2,20070526,0120, 42.2333, -61.1833, 3738,     34.6,   4.7427,  33.1317,2,-999.0000,9,    309.5,2,    336.2,2,     0.62,6,     0.20,6,     0.34,6,    5.310,2,    3.226,2,    0.423,2,    6.150,4,    2.085,2,   2056.6,2,   2237.5,2
  18HU20070510, AR07W,   241,  1, 310377,     24,2,20070526,0120, 42.2333, -61.1833, 3738,      1.3,   7.4068,  32.6554,2,-999.0000,9,    288.5,2,    311.9,2,     0.51,6,     0.15,6,     0.31,6,    4.835,2,    2.909,2,    0.406,2,    5.940,4,    1.839,2,   2037.0,2,   2214.0,2