BOTTLE,20130611PRINUNIVRMK
EXPOCODE,SECT_ID,STNNBR,CASTNO,SAMPNO,BTLNBR,BTLNBR_FLAG_W,DATE,TIME,LATITUDE,LONGITUDE,DEPTH,CTDPRS,CTDTMP,CTDSAL,CTDSAL_FLAG_W,SALNTY,SALNTY_FLAG_W,CTDOXY,CTDOXY_FLAG_W,OXYGEN,OXYGEN_FLAG_W,SILCAT,SILCAT_FLAG_W,NITRAT,NITRAT_FLAG_W,PHSPHT,PHSPHT_FLAG_W,CFC-11,CFC-11_FLAG_W,CFC-12,CFC-12_FLAG_W,CFC113,CFC113_FLAG_W,CCL4,CCL4_FLAG_W,MCHFRM,MCHFRM_FLAG_W,TCARBN,TCARBN_FLAG_W,ALKALI,ALKALI_FLAG_W
,,,,,,,,,,,METERS,DBAR,ITS-90,PSS-78,,PSS-78,,UMOL/KG,,UMOL/KG,,UMOL/KG,,UMOL/KG,,UMOL/KG,,PMOL/KG,,PMOL/KG,,PMOL/KG,,PMOL/KG,,PMOL/KG,,UMOL/KG,,UMOL/KG,
  18HU20070510, AR07W,   192,  1, 310041,      1,2,20070518,1326, 61.3667, -50.0002,  120,     95.3,   1.1744,  33.8363,2,-999.0000,9,    311.1,2,   -999.0,9,  -999.00,9,  -999.00,9,  -999.00,9, -999.000,9, -999.000,9, -999.000,9, -999.000,9, -999.000,9,   -999.0,9,   -999.0,9
  18HU20070510, AR07W,   192,  1, 310042,      2,2,20070518,1326, 61.3667, -50.0002,  120,     95.5,   1.2447,  33.8574,2,-999.0000,9,    310.3,2,    334.4,2,     5.40,6,     8.57,6,     0.73,6, -999.000,9, -999.000,9, -999.000,9, -999.000,9, -999.000,9,   2098.0,2,   2259.6,2
  18HU20070510, AR07W,   192,  1, 310043,      3,2,20070518,1326, 61.3667, -50.0002,  120,     95.3,   1.2974,  33.8752,2,-999.0000,9,    309.9,2,   -999.0,9,  -999.00,9,  -999.00,9,  -999.00,9, -999.000,9, -999.000,9, -999.000,9, -999.000,9, -999.000,9,   -999.0,9,   -999.0,9
  18HU20070510, AR07W,   192,  1, 310044,      4,2,20070518,1326, 61.3667, -50.0002,  120,     95.3,   1.3256,  33.8852,2,-999.0000,9,    309.3,2,    333.8,2,     5.38,6,     8.75,6,     0.75,6, -999.000,9, -999.000,9, -999.000,9, -999.000,9, -999.000,9,   2100.2,2,   2263.8,2
  18HU20070510, AR07W,   192,  1, 310045,      5,2,20070518,1326, 61.3667, -50.0002,  120,     81.0,   0.5156,  33.6334,2,-999.0000,9,    316.3,2,   -999.0,9,     5.11,6,     7.88,6,     0.71,6, -999.000,9, -999.000,9, -999.000,9, -999.000,9, -999.000,9,   -999.0,9,   -999.0,9
  18HU20070510, AR07W,   192,  1, 310046,      6,2,20070518,1326, 61.3667, -50.0002,  120,     59.7,   0.0213,  33.4516,2,-999.0000,9,    325.3,2,   -999.0,9,     4.72,6,     6.75,6,     0.64,6, -999.000,9, -999.000,9, -999.000,9, -999.000,9, -999.000,9,   -999.0,9,   -999.0,9
  18HU20070510, AR07W,   192,  1, 310047,      7,2,20070518,1326, 61.3667, -50.0002,  120,     49.8,  -0.0304,  33.4233,2,-999.0000,9,    326.3,2,   -999.0,9,  -999.00,9,  -999.00,9,  -999.00,9, -999.000,9, -999.000,9, -999.000,9, -999.000,9, -999.000,9,   -999.0,9,   -999.0,9
  18HU20070510, AR07W,   192,  1, 310048,      8,2,20070518,1326, 61.3667, -50.0002,  120,     49.8,  -0.0306,  33.4235,2,-999.0000,9,    326.3,2,    351.8,2,     4.65,6,     6.64,6,     0.63,6, -999.000,9, -999.000,9, -999.000,9, -999.000,9, -999.000,9,   2080.0,2,   2239.4,2
  18HU20070510, AR07W,   192,  1, 310049,      9,2,20070518,1326, 61.3667, -50.0002,  120,     39.5,  -0.0551,  33.3221,2,-999.0000,9,    334.2,2,   -999.0,9,     4.20,6,     5.55,6,     0.57,6, -999.000,9, -999.000,9, -999.000,9, -999.000,9, -999.000,9,   -999.0,9,   -999.0,9
  18HU20070510, AR07W,   192,  1, 310050,     10,2,20070518,1326, 61.3667, -50.0002,  120,     28.9,   0.0323,  33.1222,2,-999.0000,9,    354.9,2,   -999.0,9,     2.65,6,     2.04,6,     0.36,6, -999.000,9, -999.000,9, -999.000,9, -999.000,9, -999.000,9,   -999.0,9,   -999.0,9
  18HU20070510, AR07W,   192,  1, 310051,     11,2,20070518,1326, 61.3667, -50.0002,  120,     28.8,   0.0196,  33.1110,2,-999.0000,9,    356.0,2,   -999.0,9,  -999.00,9,  -999.00,9,  -999.00,9, -999.000,9, -999.000,9, -999.000,9, -999.000,9, -999.000,9,   -999.0,9,   -999.0,9
  18HU20070510, AR07W,   192,  1, 310052,     12,2,20070518,1326, 61.3667, -50.0002,  120,     19.8,  -0.0988,  33.0409,2,-999.0000,9,    362.3,2,   -999.0,9,     1.97,6,     0.65,6,     0.28,6, -999.000,9, -999.000,9, -999.000,9, -999.000,9, -999.000,9,   -999.0,9,   -999.0,9
  18HU20070510, AR07W,   192,  1, 310053,     13,2,20070518,1326, 61.3667, -50.0002,  120,      9.8,  -0.0919,  33.0369,2,-999.0000,9,    363.5,2,   -999.0,9,  -999.00,9,  -999.00,9,  -999.00,9, -999.000,9, -999.000,9, -999.000,9, -999.000,9, -999.000,9,   -999.0,9,   -999.0,9
  18HU20070510, AR07W,   192,  1, 310054,     14,2,20070518,1326, 61.3667, -50.0002,  120,      9.9,  -0.1006,  33.0378,2,-999.0000,9,    363.4,2,    391.6,2,     1.92,6,     0.59,6,     0.28,6, -999.000,9, -999.000,9, -999.000,9, -999.000,9, -999.000,9,   2025.3,2,   2223.8,2
  18HU20070510, AR07W,   192,  1, 310055,     15,2,20070518,1326, 61.3667, -50.0002,  120,      0.7,  -0.0650,  33.0366,2,-999.0000,9,    363.8,2,   -999.0,9,  -999.00,9,  -999.00,9,  -999.00,9, -999.000,9, -999.000,9, -999.000,9, -999.000,9, -999.000,9,   -999.0,9,   -999.0,9
  18HU20070510, AR07W,   192,  1, 310056,     16,2,20070518,1326, 61.3667, -50.0002,  120,      0.7,  -0.0656,  33.0372,2,-999.0000,9,    363.8,2,   -999.0,9,  -999.00,9,  -999.00,9,  -999.00,9, -999.000,9, -999.000,9, -999.000,9, -999.000,9, -999.000,9,   -999.0,9,   -999.0,9
  18HU20070510, AR07W,   192,  1, 310057,     17,2,20070518,1326, 61.3667, -50.0002,  120,      0.8,  -0.0596,  33.0364,2,-999.0000,9,    363.6,2,    392.5,2,     1.89,6,     0.60,6,     0.25,6, -999.000,9, -999.000,9, -999.000,9, -999.000,9, -999.000,9,   2026.6,2,   2225.9,2
  18HU20070510, AR07W,   196,  1, 310058,      1,2,20070518,1548, 61.2833, -50.1500,  706,    731.8,   4.8631,  34.9360,2,  34.9423,2,    269.8,2,    289.7,2,     7.63,6,    14.79,6,     1.00,6,    4.623,2,    2.559,2,    0.313,2,    4.808,4,    2.391,2,   2153.7,2,   2316.0,6
  18HU20070510, AR07W,   196,  1, 310059,      2,2,20070518,1548, 61.2833, -50.1500,  706,    611.6,   4.8594,  34.9315,2,  34.9373,6,    269.7,2,    289.3,2,     7.56,6,    14.78,6,     1.01,6,    4.607,2,    2.538,2,    0.432,2,    4.817,4,    2.372,2,   2149.8,6,   2311.2,2
  18HU20070510, AR07W,   196,  1, 310060,      3,2,20070518,1548, 61.2833, -50.1500,  706,    532.7,   4.8637,  34.9286,2,  34.9349,2,    270.1,2,    289.8,2,     7.51,6,    14.58,6,     0.99,6,    4.612,2,    2.542,2,    0.362,2,    4.777,4,    2.298,2,   2151.3,2,   2311.9,2
  18HU20070510, AR07W,   196,  1, 310061,      4,2,20070518,1548, 61.2833, -50.1500,  706,    449.4,   4.9190,  34.9187,2,-999.0000,9,    271.4,2,    291.8,2,     7.18,6,    14.29,6,     0.98,6,    4.659,2,    2.580,2,    0.447,2,    4.890,4,    2.165,2,   2148.3,2,   2314.2,2
  18HU20070510, AR07W,   196,  1, 310062,      5,2,20070518,1548, 61.2833, -50.1500,  706,    360.8,   4.6791,  34.8511,2,-999.0000,9,    275.2,2,    295.9,2,     6.88,6,    13.43,6,     0.96,6,    4.746,2,    2.669,2,    0.371,2,    5.001,4,    2.103,2,   2142.9,2,   2307.9,2
  18HU20070510, AR07W,   196,  1, 310063,      6,2,20070518,1548, 61.2833, -50.1500,  706,    260.8,   3.3922,  34.5097,2,-999.0000,9,    287.1,2,    312.7,2,     6.36,6,    11.68,6,     0.88,6,    5.087,2,    2.907,2,    0.420,2,    5.388,4,    2.230,2,   2129.6,2,   2290.3,2
  18HU20070510, AR07W,   196,  1, 310064,      7,2,20070518,1548, 61.2833, -50.1500,  706,    170.8,   2.6305,  34.2887,2,-999.0000,9,    295.0,2,    319.2,2,     6.11,6,    10.70,6,     0.83,6,    5.448,2,    3.064,2,    0.532,2,    5.813,4,    2.360,2,   2120.4,2,   2280.2,2
  18HU20070510, AR07W,   196,  1, 310065,      8,2,20070518,1548, 61.2833, -50.1500,  706,    104.6,   1.9577,  34.0968,2,-999.0000,9,    302.1,2,    325.9,6,     5.75,6,     9.66,6,     0.78,6,    5.674,2,    3.129,2,    0.587,2,    6.081,4,    2.492,2,   2110.3,2,   2273.4,2
  18HU20070510, AR07W,   196,  1, 310066,      9,2,20070518,1548, 61.2833, -50.1500,  706,     79.8,   1.3677,  33.9269,2,-999.0000,9,    306.8,2,   -999.0,9,     5.54,6,     9.10,6,     0.77,6, -999.000,9, -999.000,9, -999.000,9, -999.000,9, -999.000,9,   -999.0,9,   -999.0,9
  18HU20070510, AR07W,   196,  1, 310067,     10,2,20070518,1548, 61.2833, -50.1500,  706,     59.5,   0.9635,  33.8069,2,-999.0000,9,    310.3,2,   -999.0,9,     5.39,6,     8.65,6,     0.75,6, -999.000,9, -999.000,9, -999.000,9, -999.000,9, -999.000,9,   -999.0,9,   -999.0,9
  18HU20070510, AR07W,   196,  1, 310068,     11,2,20070518,1548, 61.2833, -50.1500,  706,     49.8,   0.8653,  33.7759,2,-999.0000,9,    311.5,2,    336.1,2,     5.38,6,     8.50,6,     0.72,6,    6.048,2,    3.413,2,    0.561,2,    6.496,4,    2.696,2,   -999.0,9,   2256.3,2
  18HU20070510, AR07W,   196,  1, 310069,     12,2,20070518,1548, 61.2833, -50.1500,  706,     39.9,   0.7536,  33.7368,2,-999.0000,9,    312.6,2,   -999.0,9,     5.25,6,     8.30,6,     0.71,6, -999.000,9, -999.000,9, -999.000,9, -999.000,9, -999.000,9,   -999.0,9,   -999.0,9
  18HU20070510, AR07W,   196,  1, 310070,     13,2,20070518,1548, 61.2833, -50.1500,  706,     29.7,   0.5558,  33.6187,2,-999.0000,9,    316.5,2,   -999.0,9,     5.00,6,     7.76,6,     0.69,6, -999.000,9, -999.000,9, -999.000,9, -999.000,9, -999.000,9,   -999.0,9,   -999.0,9
  18HU20070510, AR07W,   196,  1, 310071,     14,2,20070518,1548, 61.2833, -50.1500,  706,     20.4,   0.4376,  33.5154,2,-999.0000,9,    325.7,2,   -999.0,9,     4.62,6,     6.73,6,     0.63,6, -999.000,9, -999.000,9, -999.000,9, -999.000,9, -999.000,9,   -999.0,9,   -999.0,9
  18HU20070510, AR07W,   196,  1, 310072,     15,2,20070518,1548, 61.2833, -50.1500,  706,      9.8,  -0.0331,  33.3016,2,-999.0000,9,    337.3,2,    364.0,2,     4.31,6,     5.05,6,     0.52,6,    6.361,2,    3.681,2,    0.619,2,    7.067,4,    2.750,2,   2064.6,2,   2236.5,2
  18HU20070510, AR07W,   196,  1, 310073,     16,2,20070518,1548, 61.2833, -50.1500,  706,      2.1,  -0.0395,  33.2919,2,-999.0000,9,    338.9,2,   -999.0,9,     4.31,6,     4.80,6,     0.50,6, -999.000,9, -999.000,9, -999.000,9, -999.000,9, -999.000,9,   -999.0,9,   -999.0,9
  18HU20070510, AR07W,   201,  1, 310074,      1,2,20070518,2132, 61.1000, -50.5167, 2877,   2972.6,   1.7534,  34.8958,2,  34.9030,2,    278.5,2,    294.0,2,     9.25,6,    14.09,6,     0.96,6,    4.086,2,    2.230,2,    0.635,4,    8.569,4,   17.623,2,   2159.2,6,   2305.5,3
  18HU20070510, AR07W,   201,  1, 310075,      2,2,20070518,2132, 61.1000, -50.5167, 2877,   2900.7,   1.8198,  34.8921,2,  34.8995,2,    276.9,2,    293.4,2,     9.61,6,    14.26,6,     1.10,3,    3.973,2,    2.186,2,    0.507,4,    8.011,4,   17.711,2,   2158.9,2,   2305.0,3
  18HU20070510, AR07W,   201,  1, 310076,      3,2,20070518,2132, 61.1000, -50.5167, 2877,   2804.4,   2.0578,  34.8938,2,  34.9012,2,    272.9,2,    289.4,2,    10.61,6,    14.69,6,     0.97,6,    3.650,6,    2.004,6,    0.454,4,    7.446,4,   17.788,6,   2158.8,2,   2306.9,3
  18HU20070510, AR07W,   201,  1, 310077,      4,2,20070518,2132, 61.1000, -50.5167, 2877,   2693.1,   2.3195,  34.8986,2,  34.9052,2,    267.9,2,    284.5,2,    11.88,6,    15.32,6,     1.02,6,    3.316,2,    1.696,2,    0.313,2,    6.452,4,   16.680,2,   2160.3,2,   2303.1,3
  18HU20070510, AR07W,   201,  1, 310078,      5,2,20070518,2132, 61.1000, -50.5167, 2877,   2560.4,   2.5495,  34.9057,2,  34.9128,2,    266.4,2,    283.4,2,    11.07,6,    15.36,6,     1.02,6,    3.319,2,    1.771,2,    0.437,2,    6.752,4,   17.171,2,   2160.2,2,   2306.9,3
  18HU20070510, AR07W,   201,  1, 310079,      6,2,20070518,2132, 61.1000, -50.5167, 2877,   2432.1,   2.7014,  34.9065,2,  34.9135,6,    265.3,2,    282.7,2,    10.78,6,    15.44,6,     1.03,6,    3.315,6,    1.790,6,    0.409,2,    6.806,4,   17.635,6,   2160.1,2,   2311.7,3
  18HU20070510, AR07W,   201,  1, 310080,      7,2,20070518,2132, 61.1000, -50.5167, 2877,   2290.9,   2.8510,  34.9083,2,  34.9158,2,    262.9,2,    280.7,2,    11.04,6,    15.77,6,     1.04,6,    3.304,2,    1.680,2,    0.304,2,    6.394,4,   17.573,2,   2160.6,2,   2303.2,3
  18HU20070510, AR07W,   201,  1, 310081,      8,2,20070518,2132, 61.1000, -50.5167, 2877,   2149.9,   2.9410,  34.9070,2,  34.9138,2,    262.4,2,    280.4,2,    10.69,6,    15.79,6,     1.04,6,    3.294,2,    1.753,2,    0.444,2,    6.622,4,   18.492,2,   2160.0,2,   2311.5,3
  18HU20070510, AR07W,   201,  1, 310082,      9,2,20070518,2132, 61.1000, -50.5167, 2877,   1991.7,   3.0368,  34.9057,2,  34.9124,2,    262.0,2,    280.7,2,    10.41,6,    15.90,6,     1.04,6,    3.364,2,    1.815,2,    0.403,2,    6.838,4,   19.041,2,   2161.7,2,   2307.0,3
  18HU20070510, AR07W,   201,  1, 310083,     10,2,20070518,2132, 61.1000, -50.5167, 2877,   1809.5,   3.1681,  34.9041,2,  34.9111,2,    260.1,2,    278.5,2,    10.61,6,    16.25,6,     1.07,6,    3.470,2,    1.750,2,    0.346,2,    6.557,4,   20.717,2,   2160.3,2,   2302.4,3
  18HU20070510, AR07W,   201,  1, 310084,     11,2,20070518,2132, 61.1000, -50.5167, 2877,   1628.3,   3.3074,  34.9051,2,  34.9120,2,    259.1,2,    277.9,6,    10.36,6,    16.22,6,     1.05,6,    3.489,2,    1.858,2,    0.462,2,    6.793,4,   20.918,2,   2160.8,2,   2301.7,3
  18HU20070510, AR07W,   201,  1, 310085,     12,2,20070518,2132, 61.1000, -50.5167, 2877,   1430.7,   3.4894,  34.9069,2,  34.9156,2,    256.6,2,    275.6,2,    10.34,6,    16.61,6,     1.09,6,    3.530,2,    1.897,2,    0.412,2,    6.996,4,   21.714,2,   2161.2,2,   2313.2,3
  18HU20070510, AR07W,   201,  1, 310086,     13,2,20070518,2132, 61.1000, -50.5167, 2877,   1230.2,   3.6176,  34.9043,2,  34.9103,2,    256.5,2,    276.0,2,     9.94,6,    16.42,6,     1.09,6,    3.825,2,    2.108,2,    0.410,2,    7.405,4,   19.940,2,   2162.1,2,   2314.5,3
  18HU20070510, AR07W,   201,  1, 310087,     14,2,20070518,2132, 61.1000, -50.5167, 2877,   1030.4,   3.6894,  34.8912,2,  34.8983,2,    259.7,2,    279.4,2,     9.38,6,    16.39,6,     1.09,6,    4.053,6,    2.320,6,    0.462,2,    8.031,4,   17.143,6,   2161.8,2,   2307.0,3
  18HU20070510, AR07W,   201,  1, 310088,     15,2,20070518,2132, 61.1000, -50.5167, 2877,    850.8,   3.9933,  34.9103,2,  34.9170,2,    256.4,2,    276.1,2,     9.18,6,    16.28,6,     1.07,6,    4.111,2,    2.333,2,    0.545,2,    7.843,4,   15.691,2,   2162.8,2,   2302.9,3
  18HU20070510, AR07W,   201,  1, 310089,     16,2,20070518,2132, 61.1000, -50.5167, 2877,    670.3,   4.1850,  34.9135,2,  34.9193,2,    258.0,2,    278.4,2,     8.88,6,    16.14,6,     1.08,6,    4.204,2,    2.409,2,    0.819,4,    8.503,4,   13.676,2,   2161.1,2,   2303.2,3
  18HU20070510, AR07W,   201,  1, 310090,     17,2,20070518,2132, 61.1000, -50.5167, 2877,    510.8,   4.4449,  34.9237,2,  34.9278,2,    262.8,2,    283.6,2,     8.32,6,    15.81,6,     1.05,6,    4.242,6,    2.518,6,    0.507,6,    9.018,4,   11.190,6,   2158.6,2,   2307.2,3
  18HU20070510, AR07W,   201,  1, 310091,     18,2,20070518,2132, 61.1000, -50.5167, 2877,    369.8,   4.6042,  34.9260,2,  34.9315,2,    267.8,2,    288.9,2,     7.93,6,    15.56,6,     1.03,6,    4.581,2,    2.641,2,    0.569,2,    9.192,4,    9.163,2,   2154.0,2,   2301.5,3
  18HU20070510, AR07W,   201,  1, 310092,     19,2,20070518,2132, 61.1000, -50.5167, 2877,    251.8,   4.7843,  34.9352,2,-999.0000,9,    268.8,2,    289.7,2,     7.63,6,    15.18,6,     0.99,6,    4.444,2,    2.653,2,    0.855,4,    9.120,4,    7.949,2,   2154.7,2,   2304.4,3
  18HU20070510, AR07W,   201,  1, 310093,     20,2,20070518,2132, 61.1000, -50.5167, 2877,    150.1,   4.6484,  34.8804,2,-999.0000,9,    274.8,2,    296.3,2,     7.15,6,    13.27,6,     0.95,6,    4.497,2,    2.753,2,    0.542,2,    9.847,4,    7.478,2,   2147.3,2,   2304.0,3
  18HU20070510, AR07W,   201,  1, 310094,     21,2,20070518,2132, 61.1000, -50.5167, 2877,    100.0,   4.4766,  34.8193,2,-999.0000,9,    275.0,2,    296.3,2,     6.59,6,    12.79,6,     0.93,6,    4.847,2,    2.795,2,    0.558,2,   10.131,4,    7.383,2,   2145.5,2,   2298.0,3
  18HU20070510, AR07W,   201,  1, 310095,     22,2,20070518,2132, 61.1000, -50.5167, 2877,     51.4,   3.2781,  34.3961,2,-999.0000,9,    304.7,2,    329.3,2,     3.67,6,     5.35,6,     0.54,6,    5.289,2,    3.162,2,    0.834,4,   11.997,4,    7.446,2,   2093.4,2,   2285.7,3
  18HU20070510, AR07W,   201,  1, 310096,     23,2,20070518,2132, 61.1000, -50.5167, 2877,     26.6,   3.3028,  34.2836,2,-999.0000,9,    308.5,2,    334.0,2,     4.36,6,     4.76,6,     0.50,6,    5.181,2,    3.156,2,    0.617,2,   12.183,4,    7.271,2,   2078.0,2,   2277.5,3
  18HU20070510, AR07W,   201,  1, 310097,     24,2,20070518,2132, 61.1000, -50.5167, 2877,      2.2,   3.0498,  34.1001,2,-999.0000,9,    331.7,2,    358.4,2,     1.93,6,     0.88,6,     0.26,6,    5.761,2,    3.285,2,    0.658,4,   12.699,4,    6.884,2,   2050.0,2,   2271.5,3