BOTTLE,20130611PRINUNIVRMK
# 2/27/12 Initialized README file  
# Data source: Jeff Jackson & Kumiko Azertu-Scott; 2/14/2012 
# 2/24/2012 version of file with calibrated CTD data from Jeff Jackson 
# SHIP: CCGS Hudson 
# Cruise: HUD2007011 
# Region: Labrador Sea and off Halifax; AR07W 
# EXPOCODE: 18HU20070510 
# DATES: 5/10 - 5/27/2007 
# Chief Scientist: Ross Hendry 
# 53 stations with 24 place Rosette 
# Serious issue with station 112 values 
# Hydro: Who - I.Yashayaev; Status - final 
# 	Notes: Salt calibration with IAPSO Batch #147 
# 	Calibration check: 
# 	Bottle Salinity = 1.0054*CTDSAL + 0.1843; RSE=0.0025 
# Nuts: Who - K.Azetsu-Scott; Status - final 
# 	Notes: Nitrate is NO3+NO2 
# 	Nutrients run in duplicate 
# O2: Who - K.Azetsu-Scott; Status - final 
# 	Notes: Replicate analyses imply precision of ~3.5umol/kg 
# 	Calibration Check: 
# 	Bottle Oxygen = 1.0827*CTDOXY - 2.4172; RSE=2.535 
# TCO2: Who - K.Azetsu-Scott; Status - final 
# 	Notes:  
# TA: Who - K.Azetsu-Scott; Status - final 
# 	Notes: significant scatter 
# CFC: Who - K.Azetsu-Scott; Status - final 
# 	Notes: includes CFC-113 and CCl4 
# 	All CCl4 flagged 3/4 
# Other:	I-129 no data in file 
# 	TOC no data in file 
# 	Ar,Kr,Xe,N2 no data in file 
# References: 
EXPOCODE,SECT_ID,STNNBR,CASTNO,SAMPNO,BTLNBR,BTLNBR_FLAG_W,DATE,TIME,LATITUDE,LONGITUDE,DEPTH,CTDPRS,CTDTMP,CTDSAL,CTDSAL_FLAG_W,SALNTY,SALNTY_FLAG_W,CTDOXY,CTDOXY_FLAG_W,OXYGEN,OXYGEN_FLAG_W,SILCAT,SILCAT_FLAG_W,NITRAT,NITRAT_FLAG_W,PHSPHT,PHSPHT_FLAG_W,CFC-11,CFC-11_FLAG_W,CFC-12,CFC-12_FLAG_W,CFC113,CFC113_FLAG_W,CCL4,CCL4_FLAG_W,MCHFRM,MCHFRM_FLAG_W,TCARBN,TCARBN_FLAG_W,ALKALI,ALKALI_FLAG_W
,,,,,,,,,,,METERS,DBAR,ITS-90,PSS-78,,PSS-78,,UMOL/KG,,UMOL/KG,,UMOL/KG,,UMOL/KG,,UMOL/KG,,PMOL/KG,,PMOL/KG,,PMOL/KG,,PMOL/KG,,PMOL/KG,,UMOL/KG,,UMOL/KG,
  18HU20070510, AR07W,     3,  1, 309415,      1,2,20070510,1519, 47.5333, -52.5833,  176,    170.2,  -0.9075,  33.1450,2,-999.0000,9,    291.5,2,    311.3,2,    10.34,6,     9.49,6,     1.05,6, -999.000,9, -999.000,9, -999.000,9, -999.000,9, -999.000,9,   -999.0,9,   -999.0,9
  18HU20070510, AR07W,     3,  1, 309416,      2,2,20070510,1519, 47.5333, -52.5833,  176,    152.8,  -1.1385,  33.0534,2,-999.0000,9,    302.0,2,    321.4,2,     8.13,6,     8.92,6,     0.98,6, -999.000,9, -999.000,9, -999.000,9, -999.000,9, -999.000,9,   2137.6,3,   -999.0,9
  18HU20070510, AR07W,     3,  1, 309417,      3,2,20070510,1519, 47.5333, -52.5833,  176,    152.1,  -1.1356,  33.0534,2,-999.0000,9,    303.1,2,   -999.0,9,  -999.00,9,  -999.00,9,  -999.00,9,    7.457,6,    4.155,6,    0.712,4,   10.266,4,    6.905,6,   -999.0,9,   -999.0,9
  18HU20070510, AR07W,     3,  1, 309418,      4,2,20070510,1519, 47.5333, -52.5833,  176,    101.0,  -1.2640,  32.8004,2,-999.0000,9,    330.5,2,    351.2,2,     4.00,6,     5.12,6,     0.71,6, -999.000,9, -999.000,9, -999.000,9, -999.000,9, -999.000,9,   -999.0,9,   -999.0,9
  18HU20070510, AR07W,     3,  1, 309419,      5,2,20070510,1519, 47.5333, -52.5833,  176,     75.1,  -1.0667,  32.5895,2,-999.0000,9,    348.0,2,    374.4,2,     0.00,6,     1.63,6,     0.50,6, -999.000,9, -999.000,9, -999.000,9, -999.000,9, -999.000,9,   2076.5,3,   -999.0,9
  18HU20070510, AR07W,     3,  1, 309420,      6,2,20070510,1519, 47.5333, -52.5833,  176,     40.8,  -0.4785,  32.3748,2,-999.0000,9,    372.6,2,    400.1,2,     0.00,6,     0.12,6,     0.30,6, -999.000,9, -999.000,9, -999.000,9, -999.000,9, -999.000,9,   -999.0,9,   -999.0,9
  18HU20070510, AR07W,     3,  1, 309421,      7,2,20070510,1519, 47.5333, -52.5833,  176,     40.2,  -0.4842,  32.3781,2,-999.0000,9,    372.0,2,    404.5,2,     0.00,6,     0.10,6,     0.29,6, -999.000,9, -999.000,9, -999.000,9, -999.000,9, -999.000,9,   2029.3,3,   2187.1,2
  18HU20070510, AR07W,     3,  1, 309422,      8,2,20070510,1519, 47.5333, -52.5833,  176,     30.8,   0.0389,  32.2649,2,-999.0000,9,    366.5,2,    393.9,2,     0.00,6,     0.12,6,     0.30,6, -999.000,9, -999.000,9, -999.000,9, -999.000,9, -999.000,9,   -999.0,9,   -999.0,9
  18HU20070510, AR07W,     3,  1, 309423,      9,2,20070510,1519, 47.5333, -52.5833,  176,     20.8,   0.8921,  32.0859,2,-999.0000,9,    361.0,2,    384.5,2,     0.00,6,     0.00,6,     0.27,6, -999.000,9, -999.000,9, -999.000,9, -999.000,9, -999.000,9,   2005.2,3,   2176.7,2
  18HU20070510, AR07W,     3,  1, 309424,     10,2,20070510,1519, 47.5333, -52.5833,  176,     10.1,   1.1557,  31.9913,2,-999.0000,9,    354.5,2,    377.1,2,     0.00,6,     0.00,6,     0.28,6, -999.000,9, -999.000,9, -999.000,9, -999.000,9, -999.000,9,   -999.0,9,   -999.0,9
  18HU20070510, AR07W,     3,  1, 309425,     11,2,20070510,1519, 47.5333, -52.5833,  176,      5.0,   1.2986,  31.9365,2,-999.0000,9,    349.6,2,    371.7,6,     0.00,6,     0.00,6,     0.28,6, -999.000,9, -999.000,9, -999.000,9, -999.000,9, -999.000,9,   2003.7,3,   2168.3,2
  18HU20070510, AR07W,     3,  1, 309426,     12,2,20070510,1519, 47.5333, -52.5833,  176,      5.0,   1.3074,  31.9351,2,-999.0000,9,    348.9,2,    371.4,2,  -999.00,9,  -999.00,9,  -999.00,9, -999.000,9, -999.000,9, -999.000,9, -999.000,9, -999.000,9,   -999.0,9,   -999.0,9
  18HU20070510, AR07W,     3,  1, 309427,     13,2,20070510,1519, 47.5333, -52.5833,  176,      4.9,   1.3048,  31.9363,2,-999.0000,9,    348.8,2,   -999.0,9,  -999.00,9,  -999.00,9,  -999.00,9, -999.000,9, -999.000,9, -999.000,9, -999.000,9, -999.000,9,   -999.0,9,   -999.0,9
  18HU20070510, AR07W,     3,  1, 309428,     14,2,20070510,1519, 47.5333, -52.5833,  176,      4.9,   1.2995,  31.9382,2,-999.0000,9,    348.7,2,   -999.0,9,  -999.00,9,  -999.00,9,  -999.00,9, -999.000,9, -999.000,9, -999.000,9, -999.000,9, -999.000,9,   -999.0,9,   -999.0,9
  18HU20070510, AR07W,     3,  1, 309429,     15,2,20070510,1519, 47.5333, -52.5833,  176,      5.0,   1.3057,  31.9357,2,-999.0000,9,    348.6,2,   -999.0,9,  -999.00,9,  -999.00,9,  -999.00,9, -999.000,9, -999.000,9, -999.000,9, -999.000,9, -999.000,9,   -999.0,9,   -999.0,9
  18HU20070510, AR07W,     3,  1, 309430,     16,2,20070510,1519, 47.5333, -52.5833,  176,      5.1,   1.2845,  31.9424,2,-999.0000,9,    349.0,2,   -999.0,9,  -999.00,9,  -999.00,9,  -999.00,9, -999.000,9, -999.000,9, -999.000,9, -999.000,9, -999.000,9,   -999.0,9,   -999.0,9
  18HU20070510, AR07W,     3,  1, 309431,     17,2,20070510,1519, 47.5333, -52.5833,  176,      4.9,   1.2570,  31.9513,2,-999.0000,9,    349.0,2,   -999.0,9,  -999.00,9,  -999.00,9,  -999.00,9, -999.000,9, -999.000,9, -999.000,9, -999.000,9, -999.000,9,   -999.0,9,   -999.0,9
  18HU20070510, AR07W,     3,  1, 309432,     18,2,20070510,1519, 47.5333, -52.5833,  176,      5.0,   1.2717,  31.9418,2,-999.0000,9,    348.8,2,   -999.0,9,  -999.00,9,  -999.00,9,  -999.00,9, -999.000,9, -999.000,9, -999.000,9, -999.000,9, -999.000,9,   -999.0,9,   -999.0,9
  18HU20070510, AR07W,     3,  1, 309433,     19,2,20070510,1519, 47.5333, -52.5833,  176,      5.0,   1.2707,  31.9423,2,-999.0000,9,    349.1,2,   -999.0,9,  -999.00,9,  -999.00,9,  -999.00,9, -999.000,9, -999.000,9, -999.000,9, -999.000,9, -999.000,9,   -999.0,9,   -999.0,9
  18HU20070510, AR07W,     3,  1, 309434,     20,2,20070510,1519, 47.5333, -52.5833,  176,      5.1,   1.2678,  31.9439,2,-999.0000,9,    349.2,2,   -999.0,9,  -999.00,9,  -999.00,9,  -999.00,9, -999.000,9, -999.000,9, -999.000,9, -999.000,9, -999.000,9,   -999.0,9,   -999.0,9
  18HU20070510, AR07W,     3,  1, 309435,     21,2,20070510,1519, 47.5333, -52.5833,  176,      5.0,   1.2646,  31.9436,2,-999.0000,9,    349.2,2,   -999.0,9,  -999.00,9,  -999.00,9,  -999.00,9, -999.000,9, -999.000,9, -999.000,9, -999.000,9, -999.000,9,   -999.0,9,   -999.0,9
  18HU20070510, AR07W,     3,  1, 309436,     22,2,20070510,1519, 47.5333, -52.5833,  176,      4.9,   1.2613,  31.9422,2,-999.0000,9,    349.2,2,   -999.0,9,  -999.00,9,  -999.00,9,  -999.00,9, -999.000,9, -999.000,9, -999.000,9, -999.000,9, -999.000,9,   -999.0,9,   -999.0,9
  18HU20070510, AR07W,     3,  1, 309437,     23,2,20070510,1519, 47.5333, -52.5833,  176,      4.9,   1.2567,  31.9443,2,-999.0000,9,    349.1,2,   -999.0,9,  -999.00,9,  -999.00,9,  -999.00,9, -999.000,9, -999.000,9, -999.000,9, -999.000,9, -999.000,9,   -999.0,9,   -999.0,9
  18HU20070510, AR07W,     3,  1, 309438,     24,2,20070510,1519, 47.5333, -52.5833,  176,      5.0,   1.2550,  31.9468,2,-999.0000,9,    349.2,2,   -999.0,9,  -999.00,9,  -999.00,9,  -999.00,9, -999.000,9, -999.000,9, -999.000,9, -999.000,9, -999.000,9,   -999.0,9,   -999.0,9
  18HU20070510, AR07W,     9,  1, 309439,      1,2,20070511,1558, 52.2795, -52.5585,  340,    200.7,   2.6623,  34.4932,2,-999.0000,9,    277.7,2,    302.1,2,     8.85,6,    13.53,6,     0.93,6, -999.000,9, -999.000,9, -999.000,9, -999.000,9, -999.000,9,   -999.0,9,   -999.0,9
  18HU20070510, AR07W,     9,  1, 309440,      2,2,20070511,1558, 52.2795, -52.5585,  340,    149.7,   1.9593,  34.3021,2,-999.0000,9,    287.9,2,    308.5,2,     8.64,6,    12.74,6,     0.90,6, -999.000,9, -999.000,9, -999.000,9, -999.000,9, -999.000,9,   -999.0,9,   -999.0,9
  18HU20070510, AR07W,     9,  1, 309441,      3,2,20070511,1558, 52.2795, -52.5585,  340,    100.0,   0.8872,  33.9777,2,-999.0000,9,    300.8,2,    322.2,2,     8.63,6,    11.28,6,     0.86,6, -999.000,9, -999.000,9, -999.000,9, -999.000,9, -999.000,9,   -999.0,9,   -999.0,9
  18HU20070510, AR07W,     9,  1, 309442,      4,2,20070511,1558, 52.2795, -52.5585,  340,     80.8,   0.4729,  33.8115,2,-999.0000,9,    305.4,2,    331.3,2,     8.38,6,    10.26,6,     0.85,6, -999.000,9, -999.000,9, -999.000,9, -999.000,9, -999.000,9,   -999.0,9,   -999.0,9
  18HU20070510, AR07W,     9,  1, 309443,      5,2,20070511,1558, 52.2795, -52.5585,  340,     60.2,   0.0895,  33.5894,2,-999.0000,9,    323.6,2,    350.3,2,     6.21,6,     6.22,6,     0.69,6, -999.000,9, -999.000,9, -999.000,9, -999.000,9, -999.000,9,   -999.0,9,   -999.0,9
  18HU20070510, AR07W,     9,  1, 309444,      6,2,20070511,1558, 52.2795, -52.5585,  340,     50.6,   0.1888,  33.5397,2,-999.0000,9,    335.5,2,    363.0,2,     2.80,6,     2.22,6,     0.48,6, -999.000,9, -999.000,9, -999.000,9, -999.000,9, -999.000,9,   -999.0,9,   -999.0,9
  18HU20070510, AR07W,     9,  1, 309445,      7,2,20070511,1558, 52.2795, -52.5585,  340,     40.6,   0.4456,  33.4400,2,-999.0000,9,    360.9,2,    389.7,2,     1.19,6,     0.22,6,     0.28,6, -999.000,9, -999.000,9, -999.000,9, -999.000,9, -999.000,9,   -999.0,9,   -999.0,9
  18HU20070510, AR07W,     9,  1, 309446,      8,2,20070511,1558, 52.2795, -52.5585,  340,     29.7,   0.5361,  33.4049,2,-999.0000,9,    370.1,2,    397.8,2,     1.16,6,     0.18,6,     0.23,6, -999.000,9, -999.000,9, -999.000,9, -999.000,9, -999.000,9,   -999.0,9,   -999.0,9
  18HU20070510, AR07W,     9,  1, 309447,      9,2,20070511,1558, 52.2795, -52.5585,  340,     31.0,   0.5242,  33.3944,2,-999.0000,9,    370.1,2,   -999.0,9,  -999.00,9,  -999.00,9,  -999.00,9, -999.000,9, -999.000,9, -999.000,9, -999.000,9, -999.000,9,   -999.0,9,   -999.0,9
  18HU20070510, AR07W,     9,  1, 309448,     10,2,20070511,1558, 52.2795, -52.5585,  340,     20.0,   0.5274,  33.3670,2,-999.0000,9,    374.9,2,    406.3,2,     0.95,6,     0.00,6,     0.20,6, -999.000,9, -999.000,9, -999.000,9, -999.000,9, -999.000,9,   -999.0,9,   -999.0,9
  18HU20070510, AR07W,     9,  1, 309449,     11,2,20070511,1558, 52.2795, -52.5585,  340,      9.5,   0.5498,  33.3648,2,-999.0000,9,    380.5,2,    415.3,2,     0.88,6,     0.00,6,     0.19,6, -999.000,9, -999.000,9, -999.000,9, -999.000,9, -999.000,9,   -999.0,9,   -999.0,9
  18HU20070510, AR07W,     9,  1, 309450,     12,2,20070511,1558, 52.2795, -52.5585,  340,      0.7,   0.7228,  33.3595,2,-999.0000,9,    384.9,2,    415.5,2,     0.78,6,     0.00,6,     0.18,6, -999.000,9, -999.000,9, -999.000,9, -999.000,9, -999.000,9,   -999.0,9,   -999.0,9
  18HU20070510, AR07W,     9,  1, 309451,     13,2,20070511,1558, 52.2795, -52.5585,  340,      1.0,   0.7056,  33.3586,2,-999.0000,9,    385.6,2,   -999.0,9,  -999.00,9,  -999.00,9,  -999.00,9, -999.000,9, -999.000,9, -999.000,9, -999.000,9, -999.000,9,   -999.0,9,   -999.0,9
  18HU20070510, AR07W,     9,  1, 309452,     14,2,20070511,1558, 52.2795, -52.5585,  340,      0.6,   0.7086,  33.3593,2,-999.0000,9,    386.9,2,   -999.0,9,  -999.00,9,  -999.00,9,  -999.00,9, -999.000,9, -999.000,9, -999.000,9, -999.000,9, -999.000,9,   -999.0,9,   -999.0,9
  18HU20070510, AR07W,     9,  1, 309453,     15,2,20070511,1558, 52.2795, -52.5585,  340,      0.5,   0.7157,  33.3607,2,-999.0000,9,    386.8,2,   -999.0,9,  -999.00,9,  -999.00,9,  -999.00,9, -999.000,9, -999.000,9, -999.000,9, -999.000,9, -999.000,9,   -999.0,9,   -999.0,9
  18HU20070510, AR07W,    13,  1, 309454,      1,2,20070512,0827, 55.1038, -54.1247, 1047,    918.6,   3.7347,  34.8566,2,  34.8625,2,    276.4,2,    297.3,2,     8.15,6,    15.23,6,     0.92,6,    0.191,4, -999.000,9,    0.000,4,    0.102,4,    0.035,4,   2155.3,2,   2308.7,6
  18HU20070510, AR07W,    13,  1, 309455,      2,2,20070512,0827, 55.1038, -54.1247, 1047,    860.1,   3.7280,  34.8579,2,  34.8609,6,    269.8,2,    294.3,2,     8.13,6,    15.18,6,     0.92,6,    3.233,4,    1.914,2,    0.221,2,    3.268,4,    1.774,2,   2154.8,6,   2301.5,2
  18HU20070510, AR07W,    13,  1, 309456,      3,2,20070512,0827, 55.1038, -54.1247, 1047,    790.5,   3.7242,  34.8562,2,  34.8617,2,    269.5,2,    200.0,4,     8.02,6,    15.19,6,     0.91,6,    4.877,2,    2.736,2,    0.298,2,    5.467,4,    3.456,2,   2153.6,2,   2308.9,2
  18HU20070510, AR07W,    13,  1, 309457,      4,2,20070512,0827, 55.1038, -54.1247, 1047,    701.2,   3.7610,  34.8548,2,-999.0000,9,    268.6,2,   -999.0,9,  -999.00,9,  -999.00,9,  -999.00,9, -999.000,9, -999.000,9, -999.000,9, -999.000,9, -999.000,9,   -999.0,9,   -999.0,9
  18HU20070510, AR07W,    13,  1, 309458,      5,2,20070512,0827, 55.1038, -54.1247, 1047,    589.4,   3.8140,  34.8516,2,-999.0000,9,    267.1,2,   -999.0,9,  -999.00,9,  -999.00,9,  -999.00,9, -999.000,9, -999.000,9, -999.000,9, -999.000,9, -999.000,9,   -999.0,9,   -999.0,9
  18HU20070510, AR07W,    13,  1, 309459,      6,2,20070512,0827, 55.1038, -54.1247, 1047,    471.6,   3.8092,  34.8380,2,  34.8416,2,    267.4,2,    294.4,6,     7.60,6,    14.87,6,     0.91,6,    4.778,2,    2.705,2,    0.308,2,    5.306,4,    2.971,2,   2153.0,2,   2308.5,2
  18HU20070510, AR07W,    13,  1, 309460,      7,2,20070512,0827, 55.1038, -54.1247, 1047,    359.2,   3.6325,  34.7869,2,  34.7901,2,    270.1,2,   -999.0,9,     7.58,6,    14.51,6,     0.90,6,    0.235,4,    0.016,4,    0.000,4,    0.142,4,    0.000,4,   2149.9,2,   2307.6,2
  18HU20070510, AR07W,    13,  1, 309461,      8,2,20070512,0827, 55.1038, -54.1247, 1047,    261.2,   2.9468,  34.5967,2,  34.5961,2,    274.3,2,    303.6,3,     8.06,2,    13.69,6,     0.90,6,    5.072,2,    2.868,2,    0.424,2,    5.709,4,    2.810,2,   2147.8,2,   2291.8,2
  18HU20070510, AR07W,    13,  1, 309462,      9,2,20070512,0827, 55.1038, -54.1247, 1047,    172.1,   1.3085,  34.1675,2,-999.0000,9,    283.1,2,    312.3,3,     7.97,6,    12.10,6,     0.86,6,    5.672,2,    3.234,2,    0.363,2,    6.473,4,    3.326,2,   2134.3,2,   2264.0,2
  18HU20070510, AR07W,    13,  1, 309463,     10,2,20070512,0827, 55.1038, -54.1247, 1047,    100.0,  -0.0306,  33.7245,2,  33.7243,2,    296.3,2,    327.6,3,     7.91,2,    10.34,6,     0.79,6,    0.226,4,    0.004,4,    0.000,4,    0.135,4,    0.015,4,   2127.3,2,   2248.8,2
  18HU20070510, AR07W,    13,  1, 309464,     11,2,20070512,0827, 55.1038, -54.1247, 1047,     82.2,  -0.7640,  33.6164,2,-999.0000,9,    290.7,2,   -999.0,9,     8.67,6,    10.35,6,     0.81,6, -999.000,9, -999.000,9, -999.000,9, -999.000,9, -999.000,9,   -999.0,9,   -999.0,9
  18HU20070510, AR07W,    13,  1, 309465,     12,2,20070512,0827, 55.1038, -54.1247, 1047,     59.3,  -1.2767,  33.4528,2,-999.0000,9,    293.9,2,   -999.0,9,     8.66,6,     9.74,6,     0.81,6, -999.000,9, -999.000,9, -999.000,9, -999.000,9, -999.000,9,   -999.0,9,   -999.0,9
  18HU20070510, AR07W,    13,  1, 309466,     13,2,20070512,0827, 55.1038, -54.1247, 1047,     49.9,  -1.3776,  33.4071,2,  33.4016,2,    294.9,2,    325.6,3,     8.47,6,     9.56,6,     0.80,6,    6.402,2,    3.487,2,    0.465,2,    7.076,4,    4.487,2,   2120.6,2,   2234.3,2
  18HU20070510, AR07W,    13,  1, 309467,     14,2,20070512,0827, 55.1038, -54.1247, 1047,     40.4,  -1.4439,  33.3677,2,-999.0000,9,    295.5,2,    325.4,3,     8.60,6,     9.39,6,     0.81,6, -999.000,9, -999.000,9, -999.000,9, -999.000,9, -999.000,9,   -999.0,9,   -999.0,9
  18HU20070510, AR07W,    13,  1, 309468,     15,2,20070512,0827, 55.1038, -54.1247, 1047,     30.6,  -1.4502,  33.2917,2,-999.0000,9,    296.8,2,    328.1,3,     8.47,6,     9.15,6,     0.81,6, -999.000,9, -999.000,9, -999.000,9, -999.000,9, -999.000,9,   -999.0,9,   -999.0,9
  18HU20070510, AR07W,    13,  1, 309469,     16,2,20070512,0827, 55.1038, -54.1247, 1047,     21.4,  -1.4078,  33.0160,2,-999.0000,9,    306.4,2,    330.9,2,     8.53,6,     8.07,6,     0.85,6, -999.000,9, -999.000,9, -999.000,9, -999.000,9, -999.000,9,   -999.0,9,   -999.0,9
  18HU20070510, AR07W,    13,  1, 309470,     17,2,20070512,0827, 55.1038, -54.1247, 1047,     10.7,  -1.3740,  32.9296,2,  32.9268,2,    314.6,2,    302.3,3,     8.47,6,     7.81,6,     0.80,6,    7.033,2,    3.913,2,    0.537,2,    8.231,4,    3.901,2,   2107.5,2,   2227.2,2
  18HU20070510, AR07W,    13,  1, 309471,     18,2,20070512,0827, 55.1038, -54.1247, 1047,      0.6,  -1.3712,  32.9273,2,-999.0000,9,    315.3,2,    347.3,2,     8.46,6,     7.89,6,     0.81,6, -999.000,9, -999.000,9, -999.000,9, -999.000,9, -999.000,9,   -999.0,9,   -999.0,9
  18HU20070510, AR07W,    13,  1, 309472,     19,2,20070512,0827, 55.1038, -54.1247, 1047,      1.0,  -1.3718,  32.9274,2,-999.0000,9,    315.5,2,   -999.0,9,  -999.00,9,  -999.00,9,  -999.00,9, -999.000,9, -999.000,9, -999.000,9, -999.000,9, -999.000,9,   -999.0,9,   -999.0,9
  18HU20070510, AR07W,    13,  1, 309473,     20,2,20070512,0827, 55.1038, -54.1247, 1047,      1.3,  -1.3747,  32.9304,2,-999.0000,9,    315.9,2,   -999.0,9,  -999.00,9,  -999.00,9,  -999.00,9, -999.000,9, -999.000,9, -999.000,9, -999.000,9, -999.000,9,   -999.0,9,   -999.0,9
  18HU20070510, AR07W,    13,  1, 309474,     21,2,20070512,0827, 55.1038, -54.1247, 1047,      2.1,  -1.3751,  32.9161,2,-999.0000,9,    315.9,2,   -999.0,9,  -999.00,9,  -999.00,9,  -999.00,9, -999.000,9, -999.000,9, -999.000,9, -999.000,9, -999.000,9,   -999.0,9,   -999.0,9
  18HU20070510, AR07W,    13,  1, 309475,     22,2,20070512,0827, 55.1038, -54.1247, 1047,      2.1,  -1.3750,  32.9278,2,-999.0000,9,    315.6,2,   -999.0,9,  -999.00,9,  -999.00,9,  -999.00,9, -999.000,9, -999.000,9, -999.000,9, -999.000,9, -999.000,9,   -999.0,9,   -999.0,9
  18HU20070510, AR07W,    13,  1, 309476,     23,2,20070512,0827, 55.1038, -54.1247, 1047,      1.2,  -1.3761,  32.9304,2,-999.0000,9,    315.3,2,   -999.0,9,  -999.00,9,  -999.00,9,  -999.00,9, -999.000,9, -999.000,9, -999.000,9, -999.000,9, -999.000,9,   -999.0,9,   -999.0,9
  18HU20070510, AR07W,    13,  1, 309477,     24,2,20070512,0827, 55.1038, -54.1247, 1047,      0.7,  -1.3762,  32.9326,2,-999.0000,9,    315.5,2,   -999.0,9,  -999.00,9,  -999.00,9,  -999.00,9, -999.000,9, -999.000,9, -999.000,9, -999.000,9, -999.000,9,   -999.0,9,   -999.0,9