BOTTLE,20130611PRINUNIVRMK
EXPOCODE,SECT_ID,STNNBR,CASTNO,SAMPNO,BTLNBR,BTLNBR_FLAG_W,DATE,TIME,LATITUDE,LONGITUDE,DEPTH,CTDPRS,CTDTMP,CTDSAL,CTDSAL_FLAG_W,SALNTY,SALNTY_FLAG_W,CTDOXY,CTDOXY_FLAG_W,OXYGEN,OXYGEN_FLAG_W,SILCAT,SILCAT_FLAG_W,NITRAT,NITRAT_FLAG_W,PHSPHT,PHSPHT_FLAG_W,CFC-11,CFC-11_FLAG_W,CFC-12,CFC-12_FLAG_W,CFC113,CFC113_FLAG_W,CCL4,CCL4_FLAG_W,MCHFRM,MCHFRM_FLAG_W,TCARBN,TCARBN_FLAG_W,ALKALI,ALKALI_FLAG_W
,,,,,,,,,,,METERS,DBAR,ITS-90,PSS-78,,PSS-78,,UMOL/KG,,UMOL/KG,,UMOL/KG,,UMOL/KG,,UMOL/KG,,PMOL/KG,,PMOL/KG,,PMOL/KG,,PMOL/KG,,PMOL/KG,,UMOL/KG,,UMOL/KG,
  18HU20070510, AR07W,   211,  1, 310160,      1,2,20070519,1614, 60.0500, -52.4667, 3298,   3388.9,   1.8268,  34.8866,2,  34.8928,2,    275.8,2,    292.6,2,    10.04,6,    13.80,6,     0.91,6,    4.135,2,    2.082,2,    0.396,2,    8.557,4,   17.311,2,   2163.2,6,   2323.0,2
  18HU20070510, AR07W,   211,  1, 310161,      2,2,20070519,1614, 60.0500, -52.4667, 3298,   3219.2,   2.1873,  34.8892,2,  34.8949,2,    269.4,2,    287.1,2,    11.30,6,    14.62,6,     0.95,6,    3.528,2,    1.694,2,    0.319,2,    7.569,4,   17.455,2,   2161.0,2,   2318.5,6
  18HU20070510, AR07W,   211,  1, 310162,      3,2,20070519,1614, 60.0500, -52.4667, 3298,   3131.7,   2.3996,  34.8968,2,  34.9030,2,    265.6,2,    284.8,2,    12.09,6,    15.03,6,     0.98,6,    3.171,6,    1.474,6,    0.281,6,    6.991,4,   16.738,6,   2159.9,2,   2318.9,2
  18HU20070510, AR07W,   211,  1, 310163,      4,2,20070519,1614, 60.0500, -52.4667, 3298,   3020.7,   2.5916,  34.9035,2,  34.9099,2,    262.6,2,    280.5,2,    12.24,6,    15.34,6,     1.01,6,    3.017,2,    1.389,2,    0.260,2,    6.567,4,   16.954,2,   2160.0,2,   2322.0,6
  18HU20070510, AR07W,   211,  1, 310164,      5,2,20070519,1614, 60.0500, -52.4667, 3298,   2898.4,   2.7665,  34.9083,2,  34.9148,2,    260.1,2,    278.0,2,    12.40,6,    15.69,6,     1.02,6,    2.871,2,    1.319,2,    0.224,2,    6.225,4,   17.466,2,   2159.2,2,   2319.0,2
  18HU20070510, AR07W,   211,  1, 310165,      6,2,20070519,1614, 60.0500, -52.4667, 3298,   2768.5,   2.8539,  34.9077,2,  34.9146,6,    259.3,2,    277.4,2,    12.24,6,    15.75,6,     1.03,6,    2.831,2,    1.240,2,    0.222,2,    6.228,4,   17.622,2,   2157.3,2,   2320.1,2
  18HU20070510, AR07W,   211,  1, 310166,      7,2,20070519,1614, 60.0500, -52.4667, 3298,   2617.4,   2.9805,  34.9035,2,  34.9099,2,    259.7,2,    279.1,2,    11.24,6,    15.66,6,     1.02,6,    3.078,6,    1.388,6,    0.243,6,    6.643,4,   18.731,6,   2169.8,4,   2315.4,2
  18HU20070510, AR07W,   211,  1, 310167,      8,2,20070519,1614, 60.0500, -52.4667, 3298,   2460.4,   3.0853,  34.9000,2,  34.9061,2,    259.2,2,    278.9,2,    11.18,6,    16.00,6,     1.03,6,    3.159,2,    1.451,2,    0.249,2,    6.714,4,   20.102,2,   2148.6,4,   2314.8,2
  18HU20070510, AR07W,   211,  1, 310168,      9,2,20070519,1614, 60.0500, -52.4667, 3298,   2259.2,   3.2186,  34.8967,2,  34.9030,2,    259.3,2,    278.7,2,    10.52,6,    15.92,6,     1.04,6,    3.448,2,    1.618,2,    0.296,2,    7.332,4,   21.512,2,   2163.6,4,   2312.6,2
  18HU20070510, AR07W,   211,  1, 310169,     10,2,20070519,1614, 60.0500, -52.4667, 3298,   2059.3,   3.3556,  34.8933,2,  34.9004,2,    257.7,2,    277.5,2,    10.48,6,    16.32,6,     1.05,6,    3.550,6,    1.629,6,    0.642,4,    7.310,4,   22.067,6,   2153.0,4,   2312.2,2
  18HU20070510, AR07W,   211,  1, 310170,     11,2,20070519,1614, 60.0500, -52.4667, 3298,   1851.2,   3.5155,  34.8948,2,  34.9014,2,    255.4,2,    275.9,2,    10.24,6,    16.41,6,     1.05,6,    3.716,2,    1.787,2,    0.319,2,    7.423,4,   21.504,2,   2161.2,2,   2312.4,2
  18HU20070510, AR07W,   211,  1, 310171,     12,2,20070519,1614, 60.0500, -52.4667, 3298,   1641.6,   3.5556,  34.8759,2,  34.8827,2,    259.3,2,    281.2,2,     9.61,6,    16.24,6,     1.06,6,    4.221,2,    2.138,2,    0.410,2,    8.591,4,   19.157,2,   2162.3,2,   2268.3,4
  18HU20070510, AR07W,   211,  1, 310172,     13,2,20070519,1614, 60.0500, -52.4667, 3298,   1428.4,   3.5693,  34.8610,2,  34.8676,2,    266.0,2,    288.9,6,     8.81,6,    15.82,6,     1.03,6,    4.728,2,    2.512,2,    0.475,2,    9.624,4,   15.278,2,   2161.3,2,   2310.5,2
  18HU20070510, AR07W,   211,  1, 310173,     14,2,20070519,1614, 60.0500, -52.4667, 3298,   1227.0,   3.5544,  34.8508,2,  34.8576,2,    270.1,2,    295.0,2,     8.27,6,    15.48,6,     1.01,6,    4.890,2,    2.681,2,    0.506,2,   10.252,4,   12.536,2,   2158.9,2,   2306.6,2
  18HU20070510, AR07W,   211,  1, 310174,     15,2,20070519,1614, 60.0500, -52.4667, 3298,   1028.1,   3.5114,  34.8404,2,  34.8465,2,    277.3,2,    301.1,3,     7.70,6,    14.96,6,     0.97,6,    5.076,2,    2.841,2,    0.591,4,   11.213,4,    9.987,2,   2155.9,2,   2303.2,2
  18HU20070510, AR07W,   211,  1, 310175,     16,2,20070519,1614, 60.0500, -52.4667, 3298,    839.9,   3.5239,  34.8382,2,  34.8448,2,    274.2,2,    297.6,2,     7.87,6,    15.09,6,     0.98,6,    5.000,2,    2.747,2,    0.551,4,   10.858,4,   10.459,2,   2157.5,2,   2303.6,2
  18HU20070510, AR07W,   211,  1, 310176,     17,2,20070519,1614, 60.0500, -52.4667, 3298,    661.1,   3.6109,  34.8431,2,  34.8493,2,    274.3,2,    298.4,2,     7.70,6,    14.85,6,     0.97,6,    4.987,2,    2.737,2,    0.544,2,   10.864,4,    9.889,2,   2156.1,2,   2305.8,2
  18HU20070510, AR07W,   211,  1, 310177,     18,2,20070519,1614, 60.0500, -52.4667, 3298,    486.0,   3.7276,  34.8479,2,  34.8538,2,    276.4,2,    300.1,2,     7.26,6,    14.41,6,     0.94,6,    5.014,2,    2.841,2,    0.561,2,   11.185,4,    9.068,2,   2153.6,2,   2305.2,2
  18HU20070510, AR07W,   211,  1, 310178,     19,2,20070519,1614, 60.0500, -52.4667, 3298,    332.6,   3.9152,  34.8606,2,  34.8674,2,    271.9,2,    296.2,2,     7.40,6,    14.54,6,     0.95,6,    4.900,2,    2.732,2,    0.538,2,   10.527,4,    9.262,2,   2154.1,2,   2308.4,2
  18HU20070510, AR07W,   211,  1, 310179,     20,2,20070519,1614, 60.0500, -52.4667, 3298,    212.4,   4.2261,  34.8841,2,-999.0000,9,    268.8,2,    291.9,2,     7.45,6,    14.59,6,     0.95,6,    4.734,2,    2.606,2,    0.508,2,   10.111,4,    9.035,2,   2156.8,2,   2309.7,2
  18HU20070510, AR07W,   211,  1, 310180,     21,2,20070519,1614, 60.0500, -52.4667, 3298,    111.4,   4.2741,  34.8497,2,-999.0000,9,    279.3,2,    304.2,2,     6.71,6,    12.03,6,     0.85,6,    5.142,2,    2.998,2,    0.674,4,   12.125,4,    7.133,2,   2142.6,2,   2305.2,2
  18HU20070510, AR07W,   211,  1, 310181,     22,2,20070519,1614, 60.0500, -52.4667, 3298,     48.6,   4.2246,  34.8014,2,-999.0000,9,    310.5,2,    337.9,2,     5.93,6,     6.72,6,     0.58,6,    5.097,2,    2.876,2,    0.613,2,   12.050,4,    7.112,2,   2106.9,2,   2310.4,2
  18HU20070510, AR07W,   211,  1, 310182,     23,2,20070519,1614, 60.0500, -52.4667, 3298,     26.8,   4.2259,  34.7994,2,-999.0000,9,    311.7,2,   -999.0,9,  -999.00,9,  -999.00,9,  -999.00,9, -999.000,9, -999.000,9, -999.000,9, -999.000,9, -999.000,9,   -999.0,9,   -999.0,9
  18HU20070510, AR07W,   211,  1, 310183,     24,2,20070519,1614, 60.0500, -52.4667, 3298,      1.8,   4.2290,  34.7992,2,-999.0000,9,    312.5,2,    339.0,2,     5.95,6,     6.58,6,     0.57,6,    5.142,2,    2.998,2,    0.674,4,   12.125,4,    7.133,2,   2105.1,2,   2309.9,2
  18HU20070510, AR07W,   214,  1, 310184,      1,2,20070520,0548, 59.3000, -53.8335, 3243,   3395.4,   1.7336,  34.8911,2,  34.8985,2,    277.5,2,    297.7,2,     9.65,6,    13.90,6,     0.94,6,    4.162,2,    2.101,2,    0.290,2,    4.802,4,    6.183,2,   2164.1,6,   2311.8,2
  18HU20070510, AR07W,   214,  1, 310185,      2,2,20070520,0548, 59.3000, -53.8335, 3243,   3301.8,   1.8683,  34.8887,2,  34.9152,2,    275.6,2,    294.2,2,     9.70,6,    14.17,6,     0.94,6,    4.054,2,    2.039,2,    0.278,2,    4.769,4,    6.282,2,   2162.7,2,   2311.2,2
  18HU20070510, AR07W,   214,  1, 310186,      3,2,20070520,0548, 59.3000, -53.8335, 3243,   3178.7,   2.1988,  34.8924,2,  34.8999,2,    270.1,2,    288.0,2,    10.99,6,    14.78,6,     0.98,6,    3.605,2,    1.772,2,    0.230,2,    4.338,4,    6.285,2,   2160.9,2,   2313.4,2
  18HU20070510, AR07W,   214,  1, 310187,      4,2,20070520,0548, 59.3000, -53.8335, 3243,   3048.6,   2.4100,  34.8979,2,  34.9050,2,    264.3,2,    282.2,2,    12.78,6,    15.45,6,     1.02,6,    3.083,2,    1.425,2,    0.216,2,    3.831,4,    6.210,2,   2163.9,2,   2312.0,2
  18HU20070510, AR07W,   214,  1, 310188,      5,2,20070520,0548, 59.3000, -53.8335, 3243,   2922.9,   2.5933,  34.9048,2,  34.9120,2,    262.2,2,    280.9,2,    12.56,6,    15.65,6,     1.02,6,    2.925,2,    1.331,2,    0.151,2,    3.594,4,    6.020,2,   2161.3,2,   2314.3,2
  18HU20070510, AR07W,   214,  1, 310189,      6,2,20070520,0548, 59.3000, -53.8335, 3243,   2768.7,   2.7585,  34.9082,2,  34.9158,6,    260.8,2,    279.5,2,    11.91,6,    15.87,6,     1.04,6,    2.955,2,    1.303,2,    0.147,2,    3.547,4,    6.101,2,   2163.0,2,   2318.4,3
  18HU20070510, AR07W,   214,  1, 310190,      7,2,20070520,0548, 59.3000, -53.8335, 3243,   2621.3,   2.9148,  34.9058,2,  34.9134,2,    260.1,2,    279.5,2,    11.41,6,    15.99,6,     1.04,6,    3.027,2,    1.345,2,    0.141,2,    3.662,4,    6.516,2,   2160.5,2,   2314.3,2
  18HU20070510, AR07W,   214,  1, 310191,      8,2,20070520,0548, 59.3000, -53.8335, 3243,   2464.5,   3.0493,  34.9099,2,  34.9166,2,    260.1,2,    280.0,2,    10.33,3,    15.76,6,     1.02,6,    3.432,2,    1.652,2,    0.221,2,    3.975,4,    6.450,2,   2161.9,2,   2308.7,2
  18HU20070510, AR07W,   214,  1, 310192,      9,2,20070520,0548, 59.3000, -53.8335, 3243,   2253.1,   3.1124,  34.8987,2,  34.9054,2,    259.1,2,    279.1,2,    11.00,6,    16.25,6,     1.06,6,    3.111,2,    1.458,2,    0.144,2,    3.748,4,    7.164,2,   2160.9,2,   2308.3,2
  18HU20070510, AR07W,   214,  1, 310193,     10,2,20070520,0548, 59.3000, -53.8335, 3243,   2057.4,   3.2735,  34.9020,2,  34.9091,6,    258.0,2,    278.4,2,    10.45,6,    16.29,6,     1.05,6,    3.400,2,    1.628,2,    0.171,2,    3.901,4,    7.279,2,   2162.0,2,   2310.4,2
  18HU20070510, AR07W,   214,  1, 310194,     11,2,20070520,0548, 59.3000, -53.8335, 3243,   1851.5,   3.4238,  34.9041,2,  34.9105,2,    256.2,2,    275.3,2,    10.29,6,    16.43,6,     1.03,6,    3.656,2,    1.745,2,    0.198,2,    4.183,4,    7.824,2,   2160.8,2,   2309.3,2
  18HU20070510, AR07W,   214,  1, 310195,     12,2,20070520,0548, 59.3000, -53.8335, 3243,   1641.6,   3.5124,  34.9001,2,  34.9069,2,    254.9,2,    275.5,2,    10.30,6,    16.69,6,     1.05,6,    3.654,2,    1.735,2,    0.208,2,    4.133,4,    7.654,2,   2162.0,2,   2310.8,2
  18HU20070510, AR07W,   214,  1, 310196,     13,2,20070520,0548, 59.3000, -53.8335, 3243,   1430.0,   3.5750,  34.8904,2,  34.8969,2,    256.2,2,    278.0,6,     9.96,6,    16.54,6,     1.06,6,    3.918,2,    1.981,2,    0.228,2,    4.226,4,    6.448,2,   2162.5,2,   2309.5,2
  18HU20070510, AR07W,   214,  1, 310197,     14,2,20070520,0548, 59.3000, -53.8335, 3243,   1230.2,   3.6060,  34.8786,2,  34.8847,2,    260.3,2,    282.1,2,     9.38,6,    16.38,6,     1.04,6,    4.369,2,    2.266,2,    0.265,2,    4.885,4,    6.216,2,   2162.1,2,   2307.6,2
  18HU20070510, AR07W,   214,  1, 310198,     15,2,20070520,0548, 59.3000, -53.8335, 3243,   1029.7,   3.5466,  34.8572,2,  34.8652,2,    268.5,2,    290.8,2,     8.58,6,    16.06,6,     1.02,6,    4.777,2,    2.658,2,    0.354,2,    5.462,4,    4.829,2,   2160.6,2,   2307.3,2
  18HU20070510, AR07W,   214,  1, 310199,     16,2,20070520,0548, 59.3000, -53.8335, 3243,    840.6,   3.5501,  34.8507,2,  34.8570,2,    270.4,2,    293.9,2,     8.29,6,    15.86,6,     1.01,6,    4.813,2,    2.658,2,    0.375,2,    5.562,4,    4.174,2,   2159.6,2,   2303.2,3
  18HU20070510, AR07W,   214,  1, 310200,     17,2,20070520,0548, 59.3000, -53.8335, 3243,    659.8,   3.6356,  34.8556,2,  34.8613,2,    269.2,2,    292.5,2,     8.31,6,    15.86,6,     1.01,6,    4.818,2,    2.604,2,    0.357,2,    5.623,4,    4.131,2,   2160.4,2,   2306.0,2
  18HU20070510, AR07W,   214,  1, 310201,     18,2,20070520,0548, 59.3000, -53.8335, 3243,    478.3,   3.8178,  34.8652,2,  34.8807,6,    268.9,2,    292.4,2,     7.97,6,    15.49,6,     0.99,6,    4.777,2,    2.664,2,    0.361,2,    5.612,4,    3.786,2,   2158.2,2,   2305.7,2
  18HU20070510, AR07W,   214,  1, 310202,     19,2,20070520,0548, 59.3000, -53.8335, 3243,    332.1,   3.9507,  34.8659,2,-999.0000,9,    269.8,2,    292.6,2,     7.59,6,    15.13,6,     0.97,6,    4.847,2,    2.718,2,    0.303,2,    5.720,4,    3.442,2,   2157.1,2,   2304.8,2
  18HU20070510, AR07W,   214,  1, 310203,     20,2,20070520,0548, 59.3000, -53.8335, 3243,    211.5,   4.0099,  34.8563,2,-999.0000,9,    272.7,2,    296.9,2,     7.24,6,    14.81,6,     0.95,6,    4.719,2,    2.652,2,    0.372,2,    5.670,4,    2.928,2,   2153.0,2,   2311.4,2
  18HU20070510, AR07W,   214,  1, 310204,     21,2,20070520,0548, 59.3000, -53.8335, 3243,    111.1,   4.0937,  34.8453,2,-999.0000,9,    273.4,2,    296.1,2,     7.00,6,    14.32,6,     0.94,6,    4.985,2,    2.815,2,    0.389,2,    6.024,4,    2.926,2,   2152.6,2,   2309.8,2
  18HU20070510, AR07W,   214,  1, 310205,     22,2,20070520,0548, 59.3000, -53.8335, 3243,     52.7,   4.0444,  34.7354,2,-999.0000,9,    308.6,2,    335.5,2,     5.52,6,     5.19,6,     0.52,6,    5.253,2,    2.966,2,    0.414,2,    6.750,4,    2.439,2,   2095.8,2,   2308.3,2
  18HU20070510, AR07W,   214,  1, 310206,     23,2,20070520,0548, 59.3000, -53.8335, 3243,     26.2,   4.0410,  34.7354,2,-999.0000,9,    308.9,2,    335.3,2,     5.51,6,     5.19,6,     0.53,6,    5.266,2,    2.979,2,    0.416,2,    6.802,4,    2.483,2,   2096.6,2,   2299.8,2
  18HU20070510, AR07W,   214,  1, 310207,     24,2,20070520,0548, 59.3000, -53.8335, 3243,      2.3,   4.0334,  34.7357,2,-999.0000,9,    310.6,2,    336.9,2,     5.47,6,     5.17,6,     0.53,6,    5.147,2,    2.975,2,    0.403,2,    6.647,4,    2.379,2,   2096.7,2,   2312.1,2
  18HU20070510, AR07W,   218,  1, 310208,      1,2,20070520,1356, 58.5833, -55.1167, -100,    202.8,   3.6950,  34.8411,2,-999.0000,9,    276.0,2,   -999.0,9,     7.77,6,    15.22,6,     0.97,6, -999.000,9, -999.000,9, -999.000,9, -999.000,9, -999.000,9,   -999.0,9,   -999.0,9
  18HU20070510, AR07W,   218,  1, 310209,      2,2,20070520,1356, 58.5833, -55.1167, -100,    149.7,   3.7107,  34.8278,2,-999.0000,9,    277.2,2,   -999.0,9,     7.66,6,    14.61,6,     0.96,6, -999.000,9, -999.000,9, -999.000,9, -999.000,9, -999.000,9,   -999.0,9,   -999.0,9
  18HU20070510, AR07W,   218,  1, 310210,      3,2,20070520,1356, 58.5833, -55.1167, -100,    100.9,   3.7591,  34.7991,2,-999.0000,9,    294.0,2,   -999.0,9,     7.31,6,    11.98,6,     0.83,6, -999.000,9, -999.000,9, -999.000,9, -999.000,9, -999.000,9,   -999.0,9,   -999.0,9
  18HU20070510, AR07W,   218,  1, 310211,      4,2,20070520,1356, 58.5833, -55.1167, -100,     79.6,   3.7586,  34.7995,2,-999.0000,9,    294.2,2,   -999.0,9,     7.29,6,    11.93,6,     0.84,6, -999.000,9, -999.000,9, -999.000,9, -999.000,9, -999.000,9,   -999.0,9,   -999.0,9
  18HU20070510, AR07W,   218,  1, 310212,      5,2,20070520,1356, 58.5833, -55.1167, -100,     59.4,   3.7591,  34.7996,2,-999.0000,9,    294.4,2,   -999.0,9,     7.22,6,    11.95,6,     0.84,6, -999.000,9, -999.000,9, -999.000,9, -999.000,9, -999.000,9,   -999.0,9,   -999.0,9
  18HU20070510, AR07W,   218,  1, 310213,      6,2,20070520,1356, 58.5833, -55.1167, -100,     49.8,   3.7552,  34.7993,2,-999.0000,9,    294.5,2,   -999.0,9,     7.21,6,    11.97,6,     0.83,6, -999.000,9, -999.000,9, -999.000,9, -999.000,9, -999.000,9,   -999.0,9,   -999.0,9
  18HU20070510, AR07W,   218,  1, 310214,      7,2,20070520,1356, 58.5833, -55.1167, -100,     40.8,   3.7532,  34.7991,2,-999.0000,9,    294.9,2,   -999.0,9,     7.20,6,    11.90,6,     0.84,6, -999.000,9, -999.000,9, -999.000,9, -999.000,9, -999.000,9,   -999.0,9,   -999.0,9
  18HU20070510, AR07W,   218,  1, 310215,      8,2,20070520,1356, 58.5833, -55.1167, -100,     30.4,   3.7511,  34.7993,2,-999.0000,9,    294.9,2,   -999.0,9,     7.13,6,    11.89,6,     0.83,6, -999.000,9, -999.000,9, -999.000,9, -999.000,9, -999.000,9,   -999.0,9,   -999.0,9
  18HU20070510, AR07W,   218,  1, 310216,      9,2,20070520,1356, 58.5833, -55.1167, -100,     30.4,   3.7515,  34.7993,2,-999.0000,9,    294.8,2,   -999.0,9,  -999.00,9,  -999.00,9,  -999.00,9, -999.000,9, -999.000,9, -999.000,9, -999.000,9, -999.000,9,   -999.0,9,   -999.0,9
  18HU20070510, AR07W,   218,  1, 310217,     10,2,20070520,1356, 58.5833, -55.1167, -100,     20.7,   3.7517,  34.7993,2,-999.0000,9,    295.1,2,   -999.0,9,     7.15,6,    11.98,6,     0.84,6, -999.000,9, -999.000,9, -999.000,9, -999.000,9, -999.000,9,   -999.0,9,   -999.0,9
  18HU20070510, AR07W,   218,  1, 310218,     11,2,20070520,1356, 58.5833, -55.1167, -100,     10.3,   3.7528,  34.7988,2,-999.0000,9,    296.2,2,   -999.0,9,     7.18,6,    12.01,6,     0.83,6, -999.000,9, -999.000,9, -999.000,9, -999.000,9, -999.000,9,   -999.0,9,   -999.0,9
  18HU20070510, AR07W,   218,  1, 310219,     12,2,20070520,1356, 58.5833, -55.1167, -100,      1.9,   3.7543,  34.7996,2,-999.0000,9,    295.7,2,   -999.0,9,     7.24,6,    11.98,6,     0.83,6, -999.000,9, -999.000,9, -999.000,9, -999.000,9, -999.000,9,   -999.0,9,   -999.0,9
  18HU20070510, AR07W,   218,  1, 310220,     13,2,20070520,1356, 58.5833, -55.1167, -100,      1.8,   3.7546,  34.7995,2,-999.0000,9,    295.0,2,   -999.0,9,  -999.00,9,  -999.00,9,  -999.00,9, -999.000,9, -999.000,9, -999.000,9, -999.000,9, -999.000,9,   -999.0,9,   -999.0,9