BOTTLE,20130611PRINUNIVRMK
EXPOCODE,SECT_ID,STNNBR,CASTNO,SAMPNO,BTLNBR,BTLNBR_FLAG_W,DATE,TIME,LATITUDE,LONGITUDE,DEPTH,CTDPRS,CTDTMP,CTDSAL,CTDSAL_FLAG_W,SALNTY,SALNTY_FLAG_W,CTDOXY,CTDOXY_FLAG_W,OXYGEN,OXYGEN_FLAG_W,SILCAT,SILCAT_FLAG_W,NITRAT,NITRAT_FLAG_W,PHSPHT,PHSPHT_FLAG_W,CFC-11,CFC-11_FLAG_W,CFC-12,CFC-12_FLAG_W,CFC113,CFC113_FLAG_W,CCL4,CCL4_FLAG_W,MCHFRM,MCHFRM_FLAG_W,TCARBN,TCARBN_FLAG_W,ALKALI,ALKALI_FLAG_W
,,,,,,,,,,,METERS,DBAR,ITS-90,PSS-78,,PSS-78,,UMOL/KG,,UMOL/KG,,UMOL/KG,,UMOL/KG,,UMOL/KG,,PMOL/KG,,PMOL/KG,,PMOL/KG,,PMOL/KG,,PMOL/KG,,UMOL/KG,,UMOL/KG,
  18HU20070510, AR07W,    27,  1, 309534,      1,2,20070513,0906, 55.2667, -53.9500, 1678,   2180.0,   2.5366,  34.9016,2,  34.9065,2,    266.2,2,    283.3,2,    11.50,6,    15.39,6,     1.03,6,    2.942,2,    1.287,2,    0.241,2,    4.045,4,    7.972,2,   2161.4,2,   2302.4,6
  18HU20070510, AR07W,    27,  1, 309535,      2,2,20070513,0906, 55.2667, -53.9500, 1678,   2079.2,   2.5736,  34.9025,2,  34.9076,6,    265.2,2,    282.1,2,    11.59,6,    15.55,6,     1.03,6,    2.866,2,    1.311,2,    0.201,2,    3.729,4,    7.148,2,   2162.6,6,   2299.2,2
  18HU20070510, AR07W,    27,  1, 309536,      3,2,20070513,0906, 55.2667, -53.9500, 1678,   1968.1,   2.6265,  34.9026,2,  34.9077,2,    264.1,2,    281.4,2,    11.39,6,    15.49,6,     1.03,6,    2.857,2,    1.324,2,    0.222,2,    3.867,4,    8.107,2,   2163.9,2,   2301.1,2
  18HU20070510, AR07W,    27,  1, 309537,      4,2,20070513,0906, 55.2667, -53.9500, 1678,   1835.8,   2.7736,  34.9027,2,  34.9083,2,    263.1,2,    280.6,2,    11.21,6,    15.71,6,     1.05,6,    2.891,2,    1.258,2,    0.197,2,    3.913,4,    8.403,2,   2162.2,2,   2302.3,2
  18HU20070510, AR07W,    27,  1, 309538,      5,2,20070513,0906, 55.2667, -53.9500, 1678,   1700.3,   3.0231,  34.9012,2,  34.9071,2,    261.3,2,    278.7,6,    10.78,6,    16.14,6,     1.06,6,    2.523,3,    1.115,2,    0.176,2,    3.256,4,    6.876,2,   2158.5,3,   2302.9,2
  18HU20070510, AR07W,    27,  1, 309539,      6,2,20070513,0906, 55.2667, -53.9500, 1678,   1548.1,   3.4218,  34.8931,2,  34.8992,6,    261.1,2,    277.9,2,     9.97,6,    16.23,6,     1.08,6,    3.380,2,    1.696,2,    0.273,2,    4.156,4,    7.879,2,   2160.1,2,   2304.3,2
  18HU20070510, AR07W,    27,  1, 309540,      7,2,20070513,0906, 55.2667, -53.9500, 1678,   1386.6,   3.5936,  34.8763,2,  34.8816,2,    265.2,2,    283.4,2,     9.25,6,    16.26,6,     1.07,6,    3.927,2,    1.963,2,    0.353,2,    4.959,4,    7.300,2,   2161.8,2,   2301.8,2
  18HU20070510, AR07W,    27,  1, 309541,      8,2,20070513,0906, 55.2667, -53.9500, 1678,   1206.0,   3.6371,  34.8648,2,  34.8696,2,    269.5,2,    288.4,2,     8.58,6,    15.94,6,     1.06,6,    4.061,2,    2.200,2,    0.356,2,    5.327,4,    6.055,2,   2160.0,2,   2303.4,2
  18HU20070510, AR07W,    27,  1, 309542,      9,2,20070513,0906, 55.2667, -53.9500, 1678,   1030.4,   3.6775,  34.8585,2,  34.8639,2,    273.1,2,    292.7,2,     8.03,6,    15.47,6,     1.03,6, -999.000,9, -999.000,9,    0.000,4,    0.000,4,    0.000,2,   2153.1,3,   2304.7,2
  18HU20070510, AR07W,    27,  1, 309543,     10,2,20070513,0906, 55.2667, -53.9500, 1678,    851.1,   3.7143,  34.8519,2,  34.8570,2,    275.5,2,    296.7,2,     7.73,6,    15.24,6,     1.02,6,    4.452,2,    2.482,2,    0.436,2,    5.877,4,    4.578,2,   2155.7,2,   2301.3,2
  18HU20070510, AR07W,    27,  1, 309544,     11,2,20070513,0906, 55.2667, -53.9500, 1678,    673.3,   3.7437,  34.8501,2,-999.0000,9,    274.6,2,    294.4,2,     7.69,6,    15.14,6,     1.01,6,    4.404,2,    2.380,2,    0.423,2,    5.824,4,    4.549,2,   2153.3,2,   2303.7,2
  18HU20070510, AR07W,    27,  1, 309545,     12,2,20070513,0906, 55.2667, -53.9500, 1678,    509.7,   3.7706,  34.8349,2,-999.0000,9,    275.0,2,    295.3,2,     7.47,6,    14.88,6,     1.00,6,    4.773,2,    2.400,2,    0.304,2,    4.434,4,    2.874,2,   2152.0,2,   2301.7,2
  18HU20070510, AR07W,    27,  1, 309546,     13,2,20070513,0906, 55.2667, -53.9500, 1678,    367.3,   3.6760,  34.7910,2,-999.0000,9,    275.8,2,   -999.0,9,  -999.00,9,  -999.00,9,  -999.00,9, -999.000,9, -999.000,9, -999.000,9, -999.000,9, -999.000,9,   -999.0,9,   -999.0,9
  18HU20070510, AR07W,    27,  1, 309547,     14,2,20070513,0906, 55.2667, -53.9500, 1678,    252.9,   3.4688,  34.7333,2,-999.0000,9,    277.4,2,    298.8,2,     7.50,6,    14.26,6,     0.97,6,    4.910,2,    2.690,2,    0.357,2,    4.555,4,    2.742,2,   2147.7,2,   2293.7,2
  18HU20070510, AR07W,    27,  1, 309548,     15,2,20070513,0906, 55.2667, -53.9500, 1678,    154.4,   2.8381,  34.5605,2,-999.0000,9,    282.1,2,    303.0,2,     7.58,6,    13.63,6,     0.94,6,    5.112,2,    2.846,2,    0.368,2,    4.774,4,    2.771,2,   2140.2,2,   2286.5,2
  18HU20070510, AR07W,    27,  1, 309549,     16,2,20070513,0906, 55.2667, -53.9500, 1678,     99.3,   1.9946,  34.3462,2,-999.0000,9,    284.8,2,    306.1,2,     7.92,6,    12.96,6,     0.93,6,    5.383,2,    2.806,2,    0.368,2,    4.885,4,    2.901,2,   2138.2,2,   2267.2,6
  18HU20070510, AR07W,    27,  1, 309550,     17,2,20070513,0906, 55.2667, -53.9500, 1678,     54.2,   0.7236,  33.9935,2,-999.0000,9,    296.1,2,    319.2,2,     7.55,6,    11.47,6,     0.88,6,    5.668,2,    2.963,2,    0.392,2,    5.414,4,    3.057,2,   2125.7,2,   2252.8,2
  18HU20070510, AR07W,    27,  1, 309551,     18,2,20070513,0906, 55.2667, -53.9500, 1678,     24.6,   0.1127,  33.7211,2,-999.0000,9,    306.4,2,   -999.0,9,  -999.00,9,  -999.00,9,  -999.00,9, -999.000,9, -999.000,9, -999.000,9, -999.000,9, -999.000,9,   -999.0,9,   -999.0,9
  18HU20070510, AR07W,    27,  1, 309552,     19,2,20070513,0906, 55.2667, -53.9500, 1678,      2.0,   0.1142,  33.7193,2,-999.0000,9,    307.4,2,    331.3,2,     8.03,6,    10.42,6,     0.87,6,    6.128,2,    3.032,2,    0.420,2,    5.882,4,    3.230,2,   2126.2,2,   2243.2,2
  18HU20070510, AR07W,    35,  1, 309553,      1,2,20070513,1907, 55.4167, -53.8167, 2680,    201.7,   3.5857,  34.7891,2,-999.0000,9,    279.7,2,   -999.0,9,     7.41,6,    14.54,6,     0.98,6, -999.000,9, -999.000,9, -999.000,9, -999.000,9, -999.000,9,   -999.0,9,   -999.0,9
  18HU20070510, AR07W,    35,  1, 309554,      2,2,20070513,1907, 55.4167, -53.8167, 2680,    148.3,   3.5143,  34.7693,2,-999.0000,9,    281.1,2,   -999.0,9,     7.33,6,    14.49,6,     0.98,6, -999.000,9, -999.000,9, -999.000,9, -999.000,9, -999.000,9,   -999.0,9,   -999.0,9
  18HU20070510, AR07W,    35,  1, 309555,      3,2,20070513,1907, 55.4167, -53.8167, 2680,     99.2,   3.3789,  34.6982,2,-999.0000,9,    284.0,2,   -999.0,9,     7.41,6,    13.91,6,     0.96,6, -999.000,9, -999.000,9, -999.000,9, -999.000,9, -999.000,9,   -999.0,9,   -999.0,9
  18HU20070510, AR07W,    35,  1, 309556,      4,2,20070513,1907, 55.4167, -53.8167, 2680,     82.1,   3.2681,  34.6438,2,-999.0000,9,    287.2,2,   -999.0,9,     7.41,6,    13.78,6,     0.95,6, -999.000,9, -999.000,9, -999.000,9, -999.000,9, -999.000,9,   -999.0,9,   -999.0,9
  18HU20070510, AR07W,    35,  1, 309557,      5,2,20070513,1907, 55.4167, -53.8167, 2680,     60.0,   2.9485,  34.5076,2,-999.0000,9,    292.0,2,   -999.0,9,     7.42,6,    13.15,6,     0.93,6, -999.000,9, -999.000,9, -999.000,9, -999.000,9, -999.000,9,   -999.0,9,   -999.0,9
  18HU20070510, AR07W,    35,  1, 309558,      6,2,20070513,1907, 55.4167, -53.8167, 2680,     49.6,   2.2684,  34.2874,2,-999.0000,9,    299.8,2,   -999.0,9,     7.49,6,    12.32,6,     0.91,6, -999.000,9, -999.000,9, -999.000,9, -999.000,9, -999.000,9,   -999.0,9,   -999.0,9
  18HU20070510, AR07W,    35,  1, 309559,      7,2,20070513,1907, 55.4167, -53.8167, 2680,     40.4,   2.0496,  34.2535,2,-999.0000,9,    300.6,2,   -999.0,9,     7.50,6,    12.29,6,     0.90,6, -999.000,9, -999.000,9, -999.000,9, -999.000,9, -999.000,9,   -999.0,9,   -999.0,9
  18HU20070510, AR07W,    35,  1, 309560,      8,2,20070513,1907, 55.4167, -53.8167, 2680,     29.5,   1.9321,  34.2370,2,-999.0000,9,    300.5,2,   -999.0,9,     7.55,6,    12.12,6,     0.90,6, -999.000,9, -999.000,9, -999.000,9, -999.000,9, -999.000,9,   -999.0,9,   -999.0,9
  18HU20070510, AR07W,    35,  1, 309561,      9,2,20070513,1907, 55.4167, -53.8167, 2680,     23.3,   1.8940,  34.2245,2,-999.0000,9,    301.0,2,   -999.0,9,  -999.00,9,  -999.00,9,  -999.00,9, -999.000,9, -999.000,9, -999.000,9, -999.000,9, -999.000,9,   -999.0,9,   -999.0,9
  18HU20070510, AR07W,    35,  1, 309562,     10,2,20070513,1907, 55.4167, -53.8167, 2680,     19.8,   1.8601,  34.2156,2,-999.0000,9,    301.2,2,   -999.0,9,     7.57,6,    12.13,6,     0.90,6, -999.000,9, -999.000,9, -999.000,9, -999.000,9, -999.000,9,   -999.0,9,   -999.0,9
  18HU20070510, AR07W,    35,  1, 309563,     11,2,20070513,1907, 55.4167, -53.8167, 2680,     10.5,   1.8518,  34.2122,2,-999.0000,9,    301.5,2,   -999.0,9,     7.51,6,    12.13,6,     0.90,6, -999.000,9, -999.000,9, -999.000,9, -999.000,9, -999.000,9,   -999.0,9,   -999.0,9
  18HU20070510, AR07W,    35,  1, 309564,     12,2,20070513,1907, 55.4167, -53.8167, 2680,      2.0,   1.8534,  34.2126,2,-999.0000,9,    301.6,2,   -999.0,9,     7.54,6,    12.14,6,     0.90,6, -999.000,9, -999.000,9, -999.000,9, -999.000,9, -999.000,9,   -999.0,9,   -999.0,9
  18HU20070510, AR07W,    35,  1, 309565,     13,2,20070513,1907, 55.4167, -53.8167, 2680,      1.8,   1.8531,  34.2127,2,-999.0000,9,    301.6,2,   -999.0,9,  -999.00,9,  -999.00,9,  -999.00,9, -999.000,9, -999.000,9, -999.000,9, -999.000,9, -999.000,9,   -999.0,9,   -999.0,9
  18HU20070510, AR07W,    36,  1, 309566,      1,2,20070513,2105, 55.4167, -53.8167, 2639,   2696.1,   2.3960,  34.8992,2,  34.9044,2,    268.8,2,    282.7,2,    11.27,6,    15.28,6,     1.03,6,    3.424,2,    1.406,3,    0.277,2,    3.855,4,    5.308,2,   2161.7,6,   2304.4,2
  18HU20070510, AR07W,    36,  1, 309567,      2,2,20070513,2105, 55.4167, -53.8167, 2639,   2590.1,   2.3926,  34.8993,2,  34.9054,2,    268.1,2,    282.9,2,    11.28,6,    15.26,6,     1.03,6,    3.327,2,    1.368,3,    0.140,2,    3.618,4,    5.150,2,   2160.2,2,   2302.3,6
  18HU20070510, AR07W,    36,  1, 309568,      3,2,20070513,2105, 55.4167, -53.8167, 2639,   2511.5,   2.4704,  34.9020,2,  34.9073,6,    266.5,2,    281.9,2,    11.46,6,    15.45,6,     1.03,6,    3.280,2,    1.194,4,    0.230,2,    3.633,4,    5.241,2,   2160.7,2,   2302.6,2
  18HU20070510, AR07W,    36,  1, 309569,      4,2,20070513,2105, 55.4167, -53.8167, 2639,   2410.2,   2.6117,  34.9061,2,  34.9120,2,    264.4,2,    280.6,2,    11.46,6,    15.64,6,     1.05,6,    3.152,2,    1.174,4,    0.227,2,    3.473,4,    5.246,2,   2160.9,2,   2295.9,2
  18HU20070510, AR07W,    36,  1, 309570,      5,2,20070513,2105, 55.4167, -53.8167, 2639,   2290.7,   2.7654,  34.9068,2,  34.9130,2,    263.4,2,    280.0,2,    11.06,6,    15.71,6,     1.05,6,    3.162,2,    1.311,3,    0.158,2,    3.441,4,    5.306,2,   2162.6,2,   2298.5,2
  18HU20070510, AR07W,    36,  1, 309571,      6,2,20070513,2105, 55.4167, -53.8167, 2639,   2148.6,   2.8778,  34.9061,2,  34.9127,6,    262.6,2,    278.4,2,    10.79,6,    15.76,6,     1.06,6,    3.275,2,    1.119,4,    0.235,2,    3.551,4,    5.618,2,   2161.7,2,   2308.4,3
  18HU20070510, AR07W,    36,  1, 309572,      7,2,20070513,2105, 55.4167, -53.8167, 2639,   1990.2,   3.0328,  34.9044,2,  34.9103,2,    261.6,2,    278.0,2,    10.38,6,    16.02,6,     1.07,6,    3.371,2,    1.351,3,    0.235,2,    3.610,4,    5.944,2,   2160.2,2,   2310.9,3
  18HU20070510, AR07W,    36,  1, 309573,      8,2,20070513,2105, 55.4167, -53.8167, 2639,   1807.7,   3.1993,  34.9023,2,  34.9087,2,    260.5,2,    277.3,6,    10.10,6,    16.26,6,     1.08,6,    3.455,2,    1.395,3,    0.123,2,    3.658,4,    6.118,2,   2161.9,2,   2300.8,2
  18HU20070510, AR07W,    36,  1, 309574,      9,2,20070513,2105, 55.4167, -53.8167, 2639,   1610.7,   3.3173,  34.9028,2,  34.9085,2,    259.1,2,    277.0,2,     9.96,6,    16.38,6,     1.08,6,    3.636,2,    1.288,4,    0.216,2,    3.794,4,    6.442,2,   2162.1,2,   2299.9,2
  18HU20070510, AR07W,    36,  1, 309575,     10,2,20070513,2105, 55.4167, -53.8167, 2639,   1410.3,   3.4693,  34.8998,2,  34.9050,2,    258.2,2,    275.5,2,     9.82,6,    16.54,6,     1.09,6,    3.826,2,    1.592,3,    0.262,2,    3.932,4,    6.189,2,   2161.0,2,   2300.8,2
  18HU20070510, AR07W,    36,  1, 309576,     11,2,20070513,2105, 55.4167, -53.8167, 2639,   1210.5,   3.5976,  34.8914,2,  34.8969,2,    259.8,2,    277.9,2,     9.30,6,    16.44,6,     1.08,6,    4.083,2,    1.768,3,    0.211,2,    4.174,4,    5.351,2,   2161.9,2,   2301.1,2
  18HU20070510, AR07W,    36,  1, 309577,     12,2,20070513,2105, 55.4167, -53.8167, 2639,   1032.5,   3.6225,  34.8845,2,  34.8882,2,    261.7,2,    279.8,2,     9.01,6,    16.37,6,     1.09,6,    4.356,2,    1.786,3,    0.318,2,    4.464,4,    5.245,2,   2161.1,2,   2297.0,2
  18HU20070510, AR07W,    36,  1, 309578,     13,2,20070513,2105, 55.4167, -53.8167, 2639,    848.1,   3.6718,  34.8762,2,  34.8808,2,    265.3,2,    283.9,2,     8.50,6,    15.95,6,     1.05,6,    4.455,2,    2.120,3,    0.266,2,    4.639,4,    4.300,2,   2160.8,2,   2296.8,2
  18HU20070510, AR07W,    36,  1, 309579,     14,2,20070513,2105, 55.4167, -53.8167, 2639,    673.4,   3.7406,  34.8735,2,  34.8782,2,    267.1,2,    286.8,2,     8.19,6,    15.93,6,     1.04,6,    4.621,2,    2.065,3,    0.310,2,    4.893,4,    3.887,2,   2159.1,2,   2296.7,2
  18HU20070510, AR07W,    36,  1, 309580,     15,2,20070513,2105, 55.4167, -53.8167, 2639,    508.9,   3.7878,  34.8675,2,  34.8727,2,    269.7,2,    289.1,2,     7.82,6,    15.57,6,     1.03,6,    4.760,2,    2.083,3,    0.361,2,    5.086,4,    3.477,2,   2157.6,2,   2305.0,3
  18HU20070510, AR07W,    36,  1, 309581,     16,2,20070513,2105, 55.4167, -53.8167, 2639,    370.4,   3.7564,  34.8478,2,  34.8511,2,    273.1,2,    292.9,2,     7.47,6,    15.18,6,     1.00,6,    4.721,2,    2.357,3,    0.257,2,    5.136,4,    2.967,2,   2155.2,2,   2298.1,2
  18HU20070510, AR07W,    36,  1, 309582,     17,2,20070513,2105, 55.4167, -53.8167, 2639,    250.6,   3.6865,  34.8202,2,-999.0000,9,    275.9,2,    296.3,2,  -999.00,9,  -999.00,9,  -999.00,9,    4.910,2,    2.368,3,    0.335,2,    5.431,4,    2.822,2,   2153.7,2,   2300.1,2
  18HU20070510, AR07W,    36,  1, 309583,     18,2,20070513,2105, 55.4167, -53.8167, 2639,    151.2,   3.5280,  34.7767,2,-999.0000,9,    279.6,2,    300.3,2,     7.25,6,    14.56,6,     0.97,6,    5.043,2,    2.291,3,    0.391,2,    5.637,4,    2.691,2,   2149.3,2,   2298.2,2
  18HU20070510, AR07W,    36,  1, 309584,     19,2,20070513,2105, 55.4167, -53.8167, 2639,     99.8,   3.3758,  34.7119,2,-999.0000,9,    281.7,2,    302.3,2,     7.37,6,    14.25,6,     0.96,6,    5.023,2,    2.597,3,    0.318,2,    5.644,4,    2.571,2,   2147.6,2,   2293.2,2
  18HU20070510, AR07W,    36,  1, 309585,     20,2,20070513,2105, 55.4167, -53.8167, 2639,     51.1,   2.1921,  34.2841,2,-999.0000,9,    299.5,2,    321.4,2,     7.48,6,    12.40,6,     0.90,6,    5.739,2,    2.910,3,    0.385,2,    6.783,4,    2.570,2,   2133.5,2,   2276.3,2
  18HU20070510, AR07W,    36,  1, 309586,     21,2,20070513,2105, 55.4167, -53.8167, 2639,     19.6,   1.9414,  34.2440,2,-999.0000,9,    299.7,2,    322.0,2,     7.51,6,    12.38,6,     0.90,6,    5.860,2,    2.833,3,    0.520,2,    6.836,4,    2.635,2,   2131.6,2,   2269.7,2
  18HU20070510, AR07W,    36,  1, 309587,     22,2,20070513,2105, 55.4167, -53.8167, 2639,      2.4,   1.9490,  34.2448,2,-999.0000,9,    301.7,2,    323.3,2,     7.55,6,    12.37,6,     0.89,6, -999.000,9, -999.000,9, -999.000,9, -999.000,9, -999.000,9,   2132.9,2,   2270.8,2