BOTTLE,20130611PRINUNIVRMK
EXPOCODE,SECT_ID,STNNBR,CASTNO,SAMPNO,BTLNBR,BTLNBR_FLAG_W,DATE,TIME,LATITUDE,LONGITUDE,DEPTH,CTDPRS,CTDTMP,CTDSAL,CTDSAL_FLAG_W,SALNTY,SALNTY_FLAG_W,CTDOXY,CTDOXY_FLAG_W,OXYGEN,OXYGEN_FLAG_W,SILCAT,SILCAT_FLAG_W,NITRAT,NITRAT_FLAG_W,PHSPHT,PHSPHT_FLAG_W,CFC-11,CFC-11_FLAG_W,CFC-12,CFC-12_FLAG_W,CFC113,CFC113_FLAG_W,CCL4,CCL4_FLAG_W,MCHFRM,MCHFRM_FLAG_W,TCARBN,TCARBN_FLAG_W,ALKALI,ALKALI_FLAG_W
,,,,,,,,,,,METERS,DBAR,ITS-90,PSS-78,,PSS-78,,UMOL/KG,,UMOL/KG,,UMOL/KG,,UMOL/KG,,UMOL/KG,,PMOL/KG,,PMOL/KG,,PMOL/KG,,PMOL/KG,,PMOL/KG,,UMOL/KG,,UMOL/KG,
  18HU20070510, AR07W,   160,  1, 309915,      1,2,20070517,0232, 59.9667, -48.8833, 2969,   3033.5,   1.8708,  34.8987,2,  34.9056,2,    277.9,2,    295.3,2,     9.11,6,    14.19,6,     0.92,6,    4.123,2,    2.204,4,    0.330,2,    6.246,4,   22.852,2,   2159.8,2,   2312.3,2
  18HU20070510, AR07W,   160,  1, 309916,      2,2,20070517,0232, 59.9667, -48.8833, 2969,   2943.0,   2.0283,  34.8982,2,  34.9046,2,    275.6,2,    291.4,2,     9.58,6,    14.46,6,     0.93,6,    3.923,2,    2.301,4,    0.323,2,    5.876,4,   22.559,2,   2160.7,2,   2315.9,6
  18HU20070510, AR07W,   160,  1, 309917,      3,2,20070517,0232, 59.9667, -48.8833, 2969,   2856.3,   2.1397,  34.8960,2,  34.9026,2,    272.6,2,    288.9,2,    10.52,6,    14.71,6,     0.97,6,    3.747,2,    2.737,4,    0.283,2,    5.625,4,   23.217,2,   2158.8,6,   2313.9,2
  18HU20070510, AR07W,   160,  1, 309918,      4,2,20070517,0232, 59.9667, -48.8833, 2969,   2758.4,   2.2585,  34.8987,2,  34.9077,2,    271.0,2,    287.7,2,    10.69,6,    14.75,6,     0.97,6,    3.658,2,    1.966,4,    0.282,2,    5.563,4,   22.599,2,   2159.5,2,   2316.9,2
  18HU20070510, AR07W,   160,  1, 309919,      5,2,20070517,0232, 59.9667, -48.8833, 2969,   2639.4,   2.4015,  34.9012,2,  34.9089,2,    267.9,2,    284.7,2,    11.32,6,    15.17,6,     1.00,6,    3.425,2,    2.098,4,    0.253,2,    5.195,4,   22.429,2,   2160.9,2,   2319.7,2
  18HU20070510, AR07W,   160,  1, 309920,      6,2,20070517,0232, 59.9667, -48.8833, 2969,   2500.7,   2.5729,  34.9090,2,  34.9165,6,    263.1,2,    280.6,2,    12.47,6,    15.58,6,     1.05,6,    2.994,2,    2.519,4,    0.200,2,    4.588,4,   22.849,2,   2160.6,2,   2326.4,2
  18HU20070510, AR07W,   160,  1, 309921,      7,2,20070517,0232, 59.9667, -48.8833, 2969,   2344.0,   2.7631,  34.9159,2,  34.9234,6,    261.4,2,    278.6,2,    12.07,6,    15.70,6,     1.06,6,    3.027,2,    1.601,4,    0.202,2,    4.653,4,   23.359,2,   2159.1,2,   2325.0,2
  18HU20070510, AR07W,   160,  1, 309922,      8,2,20070517,0232, 59.9667, -48.8833, 2969,   2161.2,   2.9441,  34.9121,2,  34.9195,2,    260.3,2,    278.2,2,    11.49,6,    15.88,6,     1.07,6,    3.037,2,    1.945,4,    0.523,4,    4.582,4,   24.785,2,   2160.0,2,   2327.5,2
  18HU20070510, AR07W,   160,  1, 309923,      9,2,20070517,0232, 59.9667, -48.8833, 2969,   1977.4,   3.0593,  34.9092,2,  34.9158,2,    260.1,2,    278.7,2,    11.06,6,    16.08,6,     1.09,6,    3.212,2,    2.880,4,    0.214,2,    4.779,4,   26.783,2,   2159.0,2,   2328.9,2
  18HU20070510, AR07W,   160,  1, 309924,     10,2,20070517,0232, 59.9667, -48.8833, 2969,   1772.8,   3.2431,  34.9081,2,  34.9130,2,    260.1,2,    278.5,2,    10.16,6,    15.86,6,     1.08,6,    3.572,2,    1.976,4,    0.264,2,    5.235,4,   26.629,2,   2159.4,2,   2328.6,2
  18HU20070510, AR07W,   160,  1, 309925,     11,2,20070517,0232, 59.9667, -48.8833, 2969,   1581.7,   3.3771,  34.9023,2,  34.9072,2,    258.1,2,    275.7,6,    10.36,6,    16.34,6,     1.10,6,    3.585,2,    2.425,4,    0.253,2,    5.161,4,   29.835,2,   2160.8,2,   2327.6,2
  18HU20070510, AR07W,   160,  1, 309926,     12,2,20070517,0232, 59.9667, -48.8833, 2969,   1380.1,   3.5799,  34.9063,2,  34.9109,2,    256.2,2,    275.0,2,     9.99,6,    16.38,6,     1.10,6,    3.810,2,    3.514,4,    0.281,2,    5.315,4,   27.429,2,   2159.8,2,   2325.0,2
  18HU20070510, AR07W,   160,  1, 309927,     13,2,20070517,0232, 59.9667, -48.8833, 2969,   1184.7,   3.6321,  34.8950,2,  34.9009,2,    258.4,2,    278.5,2,     9.54,6,    16.27,6,     1.10,6,    4.111,2,    4.015,4,    0.324,2,    5.771,4,   25.277,2,   2160.4,2,   2326.8,2
  18HU20070510, AR07W,   160,  1, 309928,     14,2,20070517,0232, 59.9667, -48.8833, 2969,    988.6,   3.5407,  34.8575,2,  34.8628,2,    270.8,2,    292.0,2,     8.52,6,    15.84,6,     1.09,6,    4.722,2,    5.375,4,    0.444,2,    6.931,4,   17.909,2,   2158.4,2,   2324.7,2
  18HU20070510, AR07W,   160,  1, 309929,     15,2,20070517,0232, 59.9667, -48.8833, 2969,    800.5,   3.8483,  34.8861,2,  34.8907,2,    263.2,2,    283.4,2,     8.65,6,    15.84,6,     1.08,6,    4.475,2,    5.579,4,    0.423,2,    6.430,4,   18.428,2,   2159.9,2,   2333.6,3
  18HU20070510, AR07W,   160,  1, 309930,     16,2,20070517,0232, 59.9667, -48.8833, 2969,    646.6,   3.9790,  34.8837,2,  34.8889,2,    268.5,2,    289.3,2,     8.01,6,    15.34,6,     1.06,6,    4.624,2,    4.616,4,    0.429,2,    6.943,4,   15.077,2,   2155.8,2,   2325.6,2
  18HU20070510, AR07W,   160,  1, 309931,     17,2,20070517,0232, 59.9667, -48.8833, 2969,    498.6,   4.2627,  34.9030,2,  34.9077,2,    272.7,2,    293.8,2,     7.59,6,    15.08,6,     1.04,6,    4.673,2,    5.581,4,    0.469,2,    7.102,4,   12.167,2,   2153.2,2,   2324.6,2
  18HU20070510, AR07W,   160,  1, 309932,     18,2,20070517,0232, 59.9667, -48.8833, 2969,    382.6,   4.5094,  34.9192,2,-999.0000,9,    268.5,2,    289.4,3,     7.76,6,    15.28,6,     1.05,6,    4.544,2,    5.678,4,    0.445,2,    6.856,4,   12.365,2,   2153.4,2,   2335.7,2
  18HU20070510, AR07W,   160,  1, 309933,     19,2,20070517,0232, 59.9667, -48.8833, 2969,    259.3,   4.8050,  34.9373,2,-999.0000,9,    270.4,2,    262.3,3,     7.39,6,    14.66,6,     1.03,6,    4.582,2,    5.187,4,    0.457,2,    7.046,4,   10.695,2,   2150.5,2,   2335.9,2
  18HU20070510, AR07W,   160,  1, 309934,     20,2,20070517,0232, 59.9667, -48.8833, 2969,    162.1,   4.8721,  34.9190,2,-999.0000,9,    272.4,2,    243.6,3,     6.90,6,    13.94,6,     0.98,6,    4.593,2,    5.629,4,    0.465,2,    6.985,4,   10.026,2,   2147.0,2,   2336.9,2
  18HU20070510, AR07W,   160,  1, 309935,     21,2,20070517,0232, 59.9667, -48.8833, 2969,    100.2,   4.1286,  34.6350,2,-999.0000,9,    296.5,2,    300.6,3,     4.88,6,     6.86,6,     0.65,6,    5.105,2,    6.001,4,    0.551,2,    8.317,4,    8.947,2,   2102.6,2,   2324.1,2
  18HU20070510, AR07W,   160,  1, 309936,     22,2,20070517,0232, 59.9667, -48.8833, 2969,     49.5,   4.0405,  34.5747,2,-999.0000,9,    304.1,2,    277.8,3,     4.62,6,     6.07,6,     0.59,6,    5.211,2,    5.658,4,    0.535,2,    8.592,4,    9.064,2,   2096.7,2,   2323.4,2
  18HU20070510, AR07W,   160,  1, 309937,     23,2,20070517,0232, 59.9667, -48.8833, 2969,     24.9,   4.0397,  34.5728,2,-999.0000,9,    304.7,2,    260.9,3,     4.63,6,     6.16,6,     0.58,6,    5.184,2,    5.916,4,    0.548,2,    8.529,4,    9.010,2,   2096.6,2,   2326.9,2
  18HU20070510, AR07W,   160,  1, 309938,     24,2,20070517,0232, 59.9667, -48.8833, 2969,      1.0,   4.0253,  34.5684,2,-999.0000,9,    305.2,2,    288.3,3,     4.53,6,     6.00,6,     0.57,6,    5.240,2,    3.039,4,    0.518,2,    8.782,4,    9.005,2,   2095.9,2,   2327.4,2
  18HU20070510, AR07W,   172,  1, 309939,      1,2,20070517,1245, 60.1668, -48.6668, 3261,   2889.8,   2.2655,  34.8973,2,  34.9027,2,    273.7,2,    289.7,2,     9.72,6,    14.37,6,     0.90,6,    3.879,2,    1.967,2,    0.189,2,    3.983,4,    4.605,2,   2159.9,6,   2337.2,3
  18HU20070510, AR07W,   172,  1, 309940,      2,2,20070517,1245, 60.1668, -48.6668, 3261,   2830.5,   2.3292,  34.8990,2,  34.9045,2,    272.1,2,    288.3,2,    10.00,6,    14.50,6,     0.90,6,    3.716,2,    1.866,2,    0.195,2,    3.814,4,    4.579,2,   2159.2,2,   2305.7,3
  18HU20070510, AR07W,   172,  1, 309941,      3,2,20070517,1245, 60.1668, -48.6668, 3261,   2758.4,   2.3763,  34.8997,2,  34.9057,2,    271.1,2,    287.5,2,    10.03,6,    14.68,6,     0.93,6,    3.706,2,    1.801,2,    0.230,2,    3.837,4,    4.691,2,   2160.1,2,   2307.8,3
  18HU20070510, AR07W,   172,  1, 309942,      4,2,20070517,1245, 60.1668, -48.6668, 3261,   2658.8,   2.5048,  34.9043,2,  34.9095,2,    267.8,2,    284.6,2,    10.81,6,    14.99,6,     0.96,6,    3.407,2,    1.763,2,    0.169,2,    3.552,4,    4.715,2,   2159.4,2,   2307.6,3
  18HU20070510, AR07W,   172,  1, 309943,      5,2,20070517,1245, 60.1668, -48.6668, 3261,   2541.0,   2.5696,  34.9068,2,  34.9109,2,    265.8,2,    282.9,2,    10.95,6,    15.10,6,     0.98,6,    3.333,2,    1.552,2,    0.162,2,    3.455,4,    4.703,2,   2159.7,2,   2307.6,3
  18HU20070510, AR07W,   172,  1, 309944,      6,2,20070517,1245, 60.1668, -48.6668, 3261,   2400.6,   2.6640,  34.9091,2,  34.9147,6,    264.3,2,    281.7,2,    11.04,6,    15.35,6,     1.01,6,    3.354,2,    1.658,2,    0.213,2,    3.512,4,    4.961,2,   2159.0,2,   2303.6,3
  18HU20070510, AR07W,   172,  1, 309945,      7,2,20070517,1245, 60.1668, -48.6668, 3261,   2240.0,   2.8661,  34.9126,2,  34.9172,2,    261.4,2,    279.5,2,    11.30,6,    15.76,6,     1.02,6,    3.075,2,    1.356,2,    0.103,2,    3.187,4,    4.993,2,   2160.9,2,   2308.4,3
  18HU20070510, AR07W,   172,  1, 309946,      8,2,20070517,1245, 60.1668, -48.6668, 3261,   2060.6,   3.0571,  34.9109,2,  34.9160,2,    260.6,2,    279.2,2,    10.74,6,    15.95,6,     1.04,6,    3.193,2,    1.478,2,    0.155,2,    3.299,4,    5.381,2,   2159.6,2,   2309.9,3
  18HU20070510, AR07W,   172,  1, 309947,      9,2,20070517,1245, 60.1668, -48.6668, 3261,   1857.4,   3.2163,  34.9062,2,  34.9115,2,    260.1,2,    278.6,2,    10.28,6,    16.09,6,     1.06,6,    3.539,2,    1.656,2,    0.223,2,    3.542,4,    5.901,2,   2160.7,2,   2307.0,3
  18HU20070510, AR07W,   172,  1, 309948,     10,2,20070517,1245, 60.1668, -48.6668, 3261,   1659.0,   3.4371,  34.9110,2,  34.9153,2,    257.8,2,    277.1,2,     9.97,6,    16.21,6,     1.05,6,    3.571,2,    1.740,2,    0.172,2,    3.539,4,    5.811,2,   2162.2,2,   2306.5,3
  18HU20070510, AR07W,   172,  1, 309949,     11,2,20070517,1245, 60.1668, -48.6668, 3261,   1454.6,   3.5859,  34.9146,2,  34.9192,2,    256.5,2,    275.9,6,     9.69,6,    16.24,6,     1.04,6,    3.722,2,    1.814,2,    0.213,2,    3.638,4,    5.438,2,   2161.5,2,   2312.0,3
  18HU20070510, AR07W,   172,  1, 309950,     12,2,20070517,1245, 60.1668, -48.6668, 3261,   1259.1,   3.7086,  34.9115,2,  34.9159,2,    256.1,2,    275.9,2,     9.40,6,    16.29,6,     1.04,6,    3.954,2,    1.988,2,    0.316,2,    3.854,4,    5.229,2,   2161.7,2,   2309.2,3
  18HU20070510, AR07W,   172,  1, 309951,     13,2,20070517,1245, 60.1668, -48.6668, 3261,   1065.2,   3.8344,  34.9095,2,  34.9136,2,    257.4,2,    275.1,2,     8.79,6,    15.86,6,     1.00,6,    4.174,2,    2.204,2,    0.324,2,    4.040,4,    4.551,2,   2161.2,2,   2307.3,3
  18HU20070510, AR07W,   172,  1, 309952,     14,2,20070517,1245, 60.1668, -48.6668, 3261,    879.5,   3.9465,  34.9111,2,  34.9155,2,    256.8,2,    277.9,3,     8.71,6,    15.98,6,     1.02,6,    4.129,2,    2.160,2,    0.294,2,    4.008,4,    4.215,2,   2160.3,2,   2312.5,3
  18HU20070510, AR07W,   172,  1, 309953,     15,2,20070517,1245, 60.1668, -48.6668, 3261,    723.2,   4.1464,  34.9195,2,  34.9244,2,    255.4,2,    274.8,2,     8.51,6,    15.92,6,     1.00,6,    4.162,2,    2.303,2,    0.275,2,    4.044,4,    3.951,2,   2160.0,2,   2310.6,3
  18HU20070510, AR07W,   172,  1, 309954,     16,2,20070517,1245, 60.1668, -48.6668, 3261,    584.6,   4.4681,  34.9314,2,  34.9351,2,    256.1,2,    275.8,2,     8.11,6,    15.79,6,     0.97,6,    4.291,2,    2.245,2,    0.324,2,    4.242,4,    3.479,2,   2160.4,2,   2315.4,3
  18HU20070510, AR07W,   172,  1, 309955,     17,2,20070517,1245, 60.1668, -48.6668, 3261,    459.6,   4.7547,  34.9433,2,  34.9467,2,    260.5,2,    280.8,2,     7.65,6,    15.47,6,     0.96,6,    4.398,2,    2.349,2,    0.316,2,    4.478,4,    2.821,2,   2157.8,2,   2311.8,3
  18HU20070510, AR07W,   172,  1, 309956,     18,2,20070517,1245, 60.1668, -48.6668, 3261,    338.4,   4.9322,  34.9553,2,-999.0000,9,    263.2,2,    283.7,2,     7.37,6,    15.35,6,     0.94,6,    4.498,2,    2.529,2,    0.313,2,    4.670,4,    2.565,2,   2156.6,2,   2313.4,3
  18HU20070510, AR07W,   172,  1, 309957,     19,2,20070517,1245, 60.1668, -48.6668, 3261,    243.2,   5.0164,  34.9500,2,-999.0000,9,    271.4,2,    292.7,2,     6.82,6,    14.07,6,     0.90,6,    4.621,2,    2.618,2,    0.398,2,    4.924,4,    2.050,2,   2150.9,2,   2314.7,3
  18HU20070510, AR07W,   172,  1, 309958,     20,2,20070517,1245, 60.1668, -48.6668, 3261,    142.3,   4.8956,  34.9051,2,-999.0000,9,    281.9,2,    304.7,2,     6.40,6,    11.89,6,     0.82,6,    4.849,2,    2.823,2,    0.394,2,    5.386,4,    1.935,2,   2140.6,2,   2312.4,3
  18HU20070510, AR07W,   172,  1, 309959,     21,2,20070517,1245, 60.1668, -48.6668, 3261,     84.6,   4.8733,  34.8891,2,-999.0000,9,    285.6,2,    309.1,2,     6.22,6,    11.34,6,     0.80,6,    4.929,2,    2.927,2,    0.409,2,    5.516,4,    1.888,2,   2135.7,2,   2313.9,3
  18HU20070510, AR07W,   172,  1, 309960,     22,2,20070517,1245, 60.1668, -48.6668, 3261,     33.9,   4.8909,  34.8860,2,-999.0000,9,    287.6,2,    309.9,2,     6.09,6,    11.04,6,     0.80,6,    4.922,2,    2.879,2,    0.421,2,    5.547,4,    1.849,2,   2134.6,2,   2313.6,3
  18HU20070510, AR07W,   172,  1, 309961,     23,2,20070517,1245, 60.1668, -48.6668, 3261,      2.3,   4.9017,  34.8855,2,-999.0000,9,    287.9,2,    311.7,2,     6.11,6,    11.03,6,     0.81,6,    4.916,2,    2.971,2,    0.426,2,    5.526,4,    1.861,2,   2134.7,2,   2316.3,3
  18HU20070510, AR07W,   172,  1, 309962,     24,2,20070517,1245, 60.1668, -48.6668, 3261,      2.5,   4.9005,  34.8856,2,-999.0000,9,    287.9,2,   -999.0,9,  -999.00,9,  -999.00,9,  -999.00,9, -999.000,9, -999.000,9, -999.000,9, -999.000,9, -999.000,9,   -999.0,9,   -999.0,9
  18HU20070510, AR07W,   175,  1, 309963,      1,2,20070517,1638, 60.4333, -48.3500,  135,    140.9,   1.7015,  34.0509,2,-999.0000,9,    303.5,2,   -999.0,9,     5.22,6,     9.75,6,     0.76,6, -999.000,9, -999.000,9, -999.000,9, -999.000,9, -999.000,9,   -999.0,9,   -999.0,9
  18HU20070510, AR07W,   175,  1, 309964,      2,2,20070517,1638, 60.4333, -48.3500,  135,    141.0,   1.7056,  34.0521,2,-999.0000,9,    303.6,2,    325.9,2,  -999.00,9,  -999.00,9,  -999.00,9, -999.000,9, -999.000,9, -999.000,9, -999.000,9, -999.000,9,   2110.0,6,   2268.2,3
  18HU20070510, AR07W,   175,  1, 309965,      3,2,20070517,1638, 60.4333, -48.3500,  135,    101.2,   1.5172,  33.9968,2,-999.0000,9,    305.0,2,   -999.0,9,     5.20,6,     9.54,6,     0.75,6, -999.000,9, -999.000,9, -999.000,9, -999.000,9, -999.000,9,   -999.0,9,   -999.0,9
  18HU20070510, AR07W,   175,  1, 309966,      4,2,20070517,1638, 60.4333, -48.3500,  135,    101.4,   1.5256,  33.9989,2,-999.0000,9,    304.9,2,    327.6,2,  -999.00,9,  -999.00,9,  -999.00,9, -999.000,9, -999.000,9, -999.000,9, -999.000,9, -999.000,9,   2108.6,2,   2265.6,3
  18HU20070510, AR07W,   175,  1, 309967,      5,2,20070517,1638, 60.4333, -48.3500,  135,     80.6,   1.1723,  33.8974,2,-999.0000,9,    307.4,2,   -999.0,9,     5.09,6,     9.14,6,     0.72,6, -999.000,9, -999.000,9, -999.000,9, -999.000,9, -999.000,9,   -999.0,9,   -999.0,9
  18HU20070510, AR07W,   175,  1, 309968,      6,2,20070517,1638, 60.4333, -48.3500,  135,     80.8,   1.1789,  33.8988,2,-999.0000,9,    307.6,2,    330.7,6,  -999.00,9,  -999.00,9,  -999.00,9, -999.000,9, -999.000,9, -999.000,9, -999.000,9, -999.000,9,   2103.8,2,   2255.4,3
  18HU20070510, AR07W,   175,  1, 309969,      7,2,20070517,1638, 60.4333, -48.3500,  135,     59.7,   0.5342,  33.7024,2,-999.0000,9,    312.9,2,   -999.0,9,     4.85,6,     8.44,6,     0.69,6, -999.000,9, -999.000,9, -999.000,9, -999.000,9, -999.000,9,   -999.0,9,   -999.0,9
  18HU20070510, AR07W,   175,  1, 309970,      8,2,20070517,1638, 60.4333, -48.3500,  135,     49.8,   0.2716,  33.6221,2,-999.0000,9,    314.9,2,   -999.0,9,     4.81,6,     8.22,6,     0.68,6, -999.000,9, -999.000,9, -999.000,9, -999.000,9, -999.000,9,   -999.0,9,   -999.0,9
  18HU20070510, AR07W,   175,  1, 309971,      9,2,20070517,1638, 60.4333, -48.3500,  135,     49.9,   0.2525,  33.6161,2,-999.0000,9,    315.1,2,    338.8,2,  -999.00,9,  -999.00,9,  -999.00,9, -999.000,9, -999.000,9, -999.000,9, -999.000,9, -999.000,9,   2091.5,2,   2245.0,3
  18HU20070510, AR07W,   175,  1, 309972,     10,2,20070517,1638, 60.4333, -48.3500,  135,     39.5,  -0.2149,  33.4735,2,-999.0000,9,    318.4,2,   -999.0,9,     4.68,6,     7.74,6,     0.66,6, -999.000,9, -999.000,9, -999.000,9, -999.000,9, -999.000,9,   -999.0,9,   -999.0,9
  18HU20070510, AR07W,   175,  1, 309973,     11,2,20070517,1638, 60.4333, -48.3500,  135,     30.8,  -0.3928,  33.4153,2,-999.0000,9,    320.6,2,   -999.0,9,  -999.00,9,  -999.00,9,  -999.00,9, -999.000,9, -999.000,9, -999.000,9, -999.000,9, -999.000,9,   -999.0,9,   -999.0,9
  18HU20070510, AR07W,   175,  1, 309974,     12,2,20070517,1638, 60.4333, -48.3500,  135,     30.8,  -0.3945,  33.4145,2,-999.0000,9,    320.7,2,   -999.0,9,     4.54,6,     7.46,6,     0.64,6, -999.000,9, -999.000,9, -999.000,9, -999.000,9, -999.000,9,   -999.0,9,   -999.0,9
  18HU20070510, AR07W,   175,  1, 309975,     13,2,20070517,1638, 60.4333, -48.3500,  135,     20.5,  -0.5698,  33.3070,2,-999.0000,9,    327.3,2,   -999.0,9,     4.41,6,     6.73,6,     0.59,6, -999.000,9, -999.000,9, -999.000,9, -999.000,9, -999.000,9,   -999.0,9,   -999.0,9
  18HU20070510, AR07W,   175,  1, 309976,     14,2,20070517,1638, 60.4333, -48.3500,  135,     10.6,  -1.1646,  32.8858,2,-999.0000,9,    341.5,2,   -999.0,9,     3.96,6,     5.29,6,     0.52,6, -999.000,9, -999.000,9, -999.000,9, -999.000,9, -999.000,9,   -999.0,9,   -999.0,9
  18HU20070510, AR07W,   175,  1, 309977,     15,2,20070517,1638, 60.4333, -48.3500,  135,     10.6,  -1.1613,  32.8828,2,-999.0000,9,    341.7,2,    366.8,2,  -999.00,9,  -999.00,9,  -999.00,9, -999.000,9, -999.000,9, -999.000,9, -999.000,9, -999.000,9,   2047.1,2,   2208.5,3
  18HU20070510, AR07W,   175,  1, 309978,     16,2,20070517,1638, 60.4333, -48.3500,  135,      2.2,  -1.1363,  32.8730,2,-999.0000,9,    342.5,2,   -999.0,9,     3.82,6,     4.37,6,     0.46,6, -999.000,9, -999.000,9, -999.000,9, -999.000,9, -999.000,9,   -999.0,9,   -999.0,9
  18HU20070510, AR07W,   175,  1, 309979,     17,2,20070517,1638, 60.4333, -48.3500,  135,      2.3,  -1.1402,  32.8730,2,-999.0000,9,    342.6,2,   -999.0,9,  -999.00,9,  -999.00,9,  -999.00,9, -999.000,9, -999.000,9, -999.000,9, -999.000,9, -999.000,9,   -999.0,9,   -999.0,9