BOTTLE,20130611PRINUNIVRMK
EXPOCODE,SECT_ID,STNNBR,CASTNO,SAMPNO,BTLNBR,BTLNBR_FLAG_W,DATE,TIME,LATITUDE,LONGITUDE,DEPTH,CTDPRS,CTDTMP,CTDSAL,CTDSAL_FLAG_W,SALNTY,SALNTY_FLAG_W,CTDOXY,CTDOXY_FLAG_W,OXYGEN,OXYGEN_FLAG_W,SILCAT,SILCAT_FLAG_W,NITRAT,NITRAT_FLAG_W,PHSPHT,PHSPHT_FLAG_W,CFC-11,CFC-11_FLAG_W,CFC-12,CFC-12_FLAG_W,CFC113,CFC113_FLAG_W,CCL4,CCL4_FLAG_W,MCHFRM,MCHFRM_FLAG_W,TCARBN,TCARBN_FLAG_W,ALKALI,ALKALI_FLAG_W
,,,,,,,,,,,METERS,DBAR,ITS-90,PSS-78,,PSS-78,,UMOL/KG,,UMOL/KG,,UMOL/KG,,UMOL/KG,,UMOL/KG,,PMOL/KG,,PMOL/KG,,PMOL/KG,,PMOL/KG,,PMOL/KG,,UMOL/KG,,UMOL/KG,
  18HU20070510, AR07W,    97,  1, 309758,      1,2,20070515,1723, 57.7833, -51.3667, 3670,   3635.0,   1.7300,  34.8966,2,  34.8955,2,    296.3,2,    293.3,2,     9.90,6,    13.97,6,     0.90,6,    4.292,2,    2.299,2,    0.314,2,    4.370,4,    4.996,2,   2162.7,6,   2317.4,2
  18HU20070510, AR07W,    97,  1, 309759,      2,2,20070515,1723, 57.7833, -51.3667, 3670,   3590.0,   1.7243,  34.8963,2,  34.8939,2,    295.8,2,    293.5,2,     9.93,6,    14.12,6,     0.90,6,    4.253,2,    2.173,2,    0.280,2,    4.348,4,    5.228,2,   2162.3,2,   2322.5,6
  18HU20070510, AR07W,    97,  1, 309760,      3,2,20070515,1723, 57.7833, -51.3667, 3670,   3489.0,   1.8755,  34.8970,2,  34.8947,2,    294.4,2,    292.3,2,     9.62,6,    14.15,6,     0.91,6,    4.150,2,    2.113,2,    0.311,2,    4.345,4,    5.095,2,   2159.1,2,   2319.6,2
  18HU20070510, AR07W,    97,  1, 309761,      4,2,20070515,1723, 57.7833, -51.3667, 3670,   3380.0,   2.1136,  34.8984,2,  34.8969,2,    290.5,2,    290.0,2,    10.55,6,    14.66,6,     0.93,6,    3.886,2,    1.991,2,    0.295,2,    4.080,4,    5.110,2,   2157.5,2,   2323.3,2
  18HU20070510, AR07W,    97,  1, 309762,      5,2,20070515,1723, 57.7833, -51.3667, 3670,   3249.0,   2.3922,  34.9041,2,  34.9018,2,    283.6,2,    282.9,2,    12.71,6,    15.47,6,     0.98,6,    3.220,2,    1.620,2,    0.190,2,    3.500,4,    5.021,2,   2160.5,2,   2323.7,2
  18HU20070510, AR07W,    97,  1, 309763,      6,2,20070515,1723, 57.7833, -51.3667, 3670,   3119.0,   2.5973,  34.9115,2,  34.9110,6,    280.2,2,    279.3,2,    12.78,6,    15.70,6,     0.99,6,    2.965,2,    1.348,2,    0.189,2,    3.206,4,    4.885,2,   2161.8,2,   2329.8,3
  18HU20070510, AR07W,    97,  1, 309764,      7,2,20070515,1723, 57.7833, -51.3667, 3670,   2936.0,   2.8118,  34.9144,2,  34.9136,2,    279.2,2,    277.9,2,    11.94,6,    15.78,6,     1.00,6,    3.133,2,    1.507,2,    0.242,2,    3.330,4,    5.255,2,   2159.8,2,   2322.7,2
  18HU20070510, AR07W,    97,  1, 309765,      8,2,20070515,1723, 57.7833, -51.3667, 3670,   2727.0,   2.9562,  34.9123,2,  34.9118,2,    278.6,2,    277.5,2,    11.56,6,    16.06,6,     1.01,6,    3.137,2,    1.495,2,    0.184,2,    3.290,4,    5.426,2,   2160.5,2,   2321.4,2
  18HU20070510, AR07W,    97,  1, 309766,      9,2,20070515,1723, 57.7833, -51.3667, 3670,   2521.0,   3.0541,  34.9073,2,  34.9065,2,    278.1,2,    277.2,2,    11.52,6,    16.24,6,     1.02,6,    3.109,2,    1.469,2,    0.217,2,    3.321,4,    5.880,2,   2160.2,2,   2319.1,2
  18HU20070510, AR07W,    97,  1, 309767,     10,2,20070515,1723, 57.7833, -51.3667, 3670,   2291.0,   3.2331,  34.9055,2,  34.9051,2,    278.3,2,    278.1,2,    10.78,6,    16.69,6,     1.02,6,    3.501,2,    1.626,2,    0.203,2,    3.633,4,    6.375,2,   2160.6,2,   2318.9,2
  18HU20070510, AR07W,    97,  1, 309768,     11,2,20070515,1723, 57.7833, -51.3667, 3670,   2046.0,   3.3629,  34.9019,2,  34.8993,6,    277.5,2,    276.2,2,    10.74,6,    16.66,6,     1.03,6,    3.619,2,    1.674,2,    0.222,2,    3.719,4,    6.838,2,   2161.4,2,   2321.3,2
  18HU20070510, AR07W,    97,  1, 309769,     12,2,20070515,1723, 57.7833, -51.3667, 3670,   1789.0,   3.5505,  34.9039,2,  34.9018,2,    275.6,2,    274.7,2,    10.42,6,    16.73,6,     1.04,6,    3.668,2,    1.764,2,    0.248,2,    3.654,4,    6.013,2,   2162.1,2,   2316.2,2
  18HU20070510, AR07W,    97,  1, 309770,     13,2,20070515,1723, 57.7833, -51.3667, 3670,   1552.0,   3.5671,  34.8829,2,  34.8805,2,    280.7,2,    279.7,6,    10.21,6,    16.48,6,     1.03,6,    4.494,2,    2.397,2,    0.295,2,    4.506,4,    5.831,2,   2162.6,2,   2314.4,2
  18HU20070510, AR07W,    97,  1, 309771,     14,2,20070515,1723, 57.7833, -51.3667, 3670,   1300.0,   3.5488,  34.8638,2,  34.8616,2,    290.0,2,    289.1,2,     8.86,6,    15.98,6,     1.01,6,    4.908,2,    2.760,2,    0.404,2,    5.033,4,    4.489,2,   2158.8,2,   2319.8,2
  18HU20070510, AR07W,    97,  1, 309772,     15,2,20070515,1723, 57.7833, -51.3667, 3670,   1076.0,   3.6251,  34.8677,2,  34.8661,2,    291.1,2,    289.9,2,     8.64,6,    16.11,6,     1.00,6,    4.896,2,    2.765,2,    0.417,2,    5.052,4,    3.935,2,   2158.8,2,   2315.9,2
  18HU20070510, AR07W,    97,  1, 309773,     16,2,20070515,1723, 57.7833, -51.3667, 3670,    869.0,   3.5829,  34.8514,2,  34.8502,2,    295.0,2,    293.5,2,     8.23,6,    15.65,6,     0.99,6,    5.097,2,    2.897,2,    0.402,2,    5.422,4,    3.428,2,   2158.2,2,   2316.3,2
  18HU20070510, AR07W,    97,  1, 309774,     17,2,20070515,1723, 57.7833, -51.3667, 3670,    679.0,   3.6168,  34.8460,2,  34.8449,2,    298.9,2,    297.4,2,     7.88,6,    15.24,6,     0.96,6,    5.039,2,    2.899,2,    0.387,2,    5.443,4,    2.781,2,   2156.8,2,   2318.1,2
  18HU20070510, AR07W,    97,  1, 309775,     18,2,20070515,1723, 57.7833, -51.3667, 3670,    509.0,   3.7695,  34.8609,2,  34.8596,2,    298.8,2,    297.7,2,     7.70,6,    15.09,6,     0.96,6,    5.112,2,    2.911,2,    0.471,2,    5.570,4,    2.742,2,   2157.2,2,   2316.6,2
  18HU20070510, AR07W,    97,  1, 309776,     19,2,20070515,1723, 57.7833, -51.3667, 3670,    362.0,   3.7938,  34.8579,2,  34.8579,2,    301.5,2,    300.5,2,     7.53,6,    14.98,6,     0.95,6,    5.188,2,    2.972,2,    0.429,2,    5.768,4,    2.524,2,   2154.3,2,   2313.1,2
  18HU20070510, AR07W,    97,  1, 309777,     20,2,20070515,1723, 57.7833, -51.3667, 3670,    242.0,   3.9200,  34.8625,2,-999.0000,9,    300.5,2,    301.6,2,     7.44,6,    14.41,6,     0.92,6,    5.209,2,    2.981,2,    0.476,2,    5.771,4,    2.561,2,   2152.6,2,   2313.9,2
  18HU20070510, AR07W,    97,  1, 309778,     21,2,20070515,1723, 57.7833, -51.3667, 3670,    142.0,   4.0697,  34.8589,2,-999.0000,9,    297.3,2,    295.8,2,     7.26,6,    14.55,6,     0.92,6,    4.986,2,    2.955,2,    0.463,2,    5.456,4,    2.476,2,   2152.3,2,   2317.8,2
  18HU20070510, AR07W,    97,  1, 309779,     22,2,20070515,1723, 57.7833, -51.3667, 3670,     71.0,   4.4105,  34.8246,2,-999.0000,9,    318.0,2,    317.1,2,     8.88,6,    15.99,6,     1.00,6,    5.154,2,    3.010,2,    0.416,2,    5.824,4,    2.114,2,   2125.7,2,   2320.9,2
  18HU20070510, AR07W,    97,  1, 309780,     23,2,20070515,1723, 57.7833, -51.3667, 3670,     36.0,   4.2904,  34.7972,2,-999.0000,9,    329.4,2,    326.8,2,     8.66,6,    15.92,6,     1.00,6,    5.248,2,    3.115,2,    0.411,2,    5.959,4,    1.987,2,   2115.8,2,   2319.3,2
  18HU20070510, AR07W,    97,  1, 309781,     24,2,20070515,1723, 57.7833, -51.3667, 3670,      3.0,   4.2681,  34.7891,2,-999.0000,9,    333.7,2,    332.0,2,     8.25,6,    15.64,6,     0.98,6,    5.308,2,    3.166,2,    0.400,2,    6.117,4,    2.018,2,   2109.4,2,   2316.6,2
  18HU20070510, AR07W,   112,  1, 309782,      1,2,20070515,2310, 58.2000, -50.8833, 3475,   3591.9,   1.7787,  34.8906,2,  34.8954,2,    279.4,2,    298.9,2,     7.89,3,    15.29,3,     0.97,3,    4.220,2,    2.092,2,    0.336,2,    6.909,4,    0.000,2,   2162.7,2,   2312.8,6
  18HU20070510, AR07W,   112,  1, 309783,      2,2,20070515,2310, 58.2000, -50.8833, 3475,   3520.1,   1.7758,  34.8905,2,  34.8958,2,    278.6,2,    293.5,2,     7.71,3,    15.09,3,     0.96,3,    4.215,2,    2.112,2,    0.388,2,    6.693,4,   16.445,2,   2159.1,6,   2318.5,2
  18HU20070510, AR07W,   112,  1, 309784,      3,2,20070515,2310, 58.2000, -50.8833, 3475,   3432.2,   1.8626,  34.8892,2,  34.8937,2,    277.3,2,    293.2,2,     7.50,3,    14.95,3,     0.95,3,    4.184,2,    2.119,2,    0.368,2,    6.688,4,   16.830,2,   2157.7,2,   2313.4,6
  18HU20070510, AR07W,   112,  1, 309785,      4,2,20070515,2310, 58.2000, -50.8833, 3475,   3337.0,   2.0464,  34.8905,2,  34.8950,2,    274.3,2,    289.6,2,     7.44,3,    14.38,3,     0.92,3,    3.892,2,    1.897,2,    0.303,2,    6.454,4,   16.740,2,   2161.5,2,   2313.9,2
  18HU20070510, AR07W,   112,  1, 309786,      5,2,20070515,2310, 58.2000, -50.8833, 3475,   3201.8,   2.4128,  34.8977,2,  34.9011,2,    266.0,2,    280.9,2,     7.29,3,    14.55,3,     0.92,3,    3.029,2,    1.389,2,    0.242,2,    5.039,4,   15.918,2,   2159.5,2,   2312.6,2
  18HU20070510, AR07W,   112,  1, 309787,      6,2,20070515,2310, 58.2000, -50.8833, 3475,   3065.8,   2.5908,  34.9059,2,  34.9119,6,    263.3,2,    277.9,2,     6.41,3,     9.92,3,     0.73,3,    2.882,2,    1.292,2,    0.222,2,    4.814,4,   16.011,2,   2158.1,2,   2317.1,2
  18HU20070510, AR07W,   112,  1, 309788,      7,2,20070515,2310, 58.2000, -50.8833, 3475,   2900.1,   2.7581,  34.9086,2,  34.9125,2,    262.8,2,    279.3,2,     6.20,3,     8.45,3,     0.66,3,    3.095,2,    1.402,2,    0.204,2,    5.128,4,   16.533,2,   2159.7,2,   2313.0,2
  18HU20070510, AR07W,   112,  1, 309789,      8,2,20070515,2310, 58.2000, -50.8833, 3475,   2709.5,   2.8957,  34.9075,2,  34.9114,2,    261.5,2,    278.0,2,     6.10,3,     7.51,3,     0.61,3,    3.048,2,    1.374,2,    0.247,2,    4.947,4,   17.029,2,   2160.3,2,   2319.9,2
  18HU20070510, AR07W,   112,  1, 309790,      9,2,20070515,2310, 58.2000, -50.8833, 3475,   2501.0,   3.0594,  34.9053,2,  34.9090,2,    261.2,2,    278.0,2,     9.75,3,    14.01,3,     0.90,3,    3.333,2,    1.541,2,    0.232,2,    5.345,4,   18.566,2,   2160.4,2,   2318.2,2
  18HU20070510, AR07W,   112,  1, 309791,     10,2,20070515,2310, 58.2000, -50.8833, 3475,   2272.0,   3.2025,  34.9033,2,  34.9062,2,    260.4,2,    278.5,2,     9.74,3,    13.93,3,     0.90,3,    3.497,2,    1.629,2,    0.245,2,    5.591,4,   19.771,2,   2159.5,2,   2319.9,2
  18HU20070510, AR07W,   112,  1, 309792,     11,2,20070515,2310, 58.2000, -50.8833, 3475,   2017.9,   3.3237,  34.8978,2,  34.9005,6,    259.4,2,    277.9,2,     9.87,3,    14.10,3,     0.91,3,    3.615,2,    1.688,2,    0.268,2,    5.673,4,   21.096,2,   2157.9,2,   2313.3,2
  18HU20070510, AR07W,   112,  1, 309793,     12,2,20070515,2310, 58.2000, -50.8833, 3475,   1771.9,   3.4856,  34.9010,2,  34.9086,2,    257.0,2,    274.8,2,    10.44,3,    14.43,3,     0.92,3,    3.751,2,    1.805,2,    0.323,2,    5.824,4,   20.986,2,   2160.1,2,   2316.3,2
  18HU20070510, AR07W,   112,  1, 309794,     13,2,20070515,2310, 58.2000, -50.8833, 3475,   1530.2,   3.5718,  34.8902,2,  34.8966,2,    258.2,2,    276.6,6,    13.24,3,    15.48,3,     0.99,3,    4.061,2,    2.003,2,    0.317,2,    6.214,4,   18.943,2,   2161.6,2,   2314.6,2
  18HU20070510, AR07W,   112,  1, 309795,     14,2,20070515,2310, 58.2000, -50.8833, 3475,   1287.3,   3.5617,  34.8681,2,  34.8744,2,    265.1,2,    284.3,2,    13.23,3,    15.73,3,     1.00,3,    4.557,2,    2.373,2,    0.438,2,    7.124,4,   16.131,2,   2157.0,2,   2311.4,2
  18HU20070510, AR07W,   112,  1, 309796,     15,2,20070515,2310, 58.2000, -50.8833, 3475,   1068.6,   3.5420,  34.8549,2,  34.8604,2,    271.5,2,    291.1,2,    12.10,3,    15.59,3,     1.07,3,    4.858,2,    2.596,2,    0.482,2,    7.767,4,   12.590,2,   2160.5,2,   2314.4,2
  18HU20070510, AR07W,   112,  1, 309797,     16,2,20070515,2310, 58.2000, -50.8833, 3475,    867.5,   3.5187,  34.8462,2,  34.8512,2,    274.1,2,    294.1,2,    11.85,3,    15.89,3,     1.01,3,    4.985,2,    2.698,2,    0.454,2,    8.213,4,   11.202,2,   2158.1,2,   2309.1,2
  18HU20070510, AR07W,   112,  1, 309798,     17,2,20070515,2310, 58.2000, -50.8833, 3475,    684.3,   3.6041,  34.8524,2,  34.8614,2,    272.0,2,    291.8,2,    11.16,3,    15.87,3,     1.01,3,    4.834,2,    2.631,2,    0.511,2,    7.888,4,   11.069,2,   2157.7,2,   2311.4,2
  18HU20070510, AR07W,   112,  1, 309799,     18,2,20070515,2310, 58.2000, -50.8833, 3475,    507.2,   3.7074,  34.8581,2,  34.8624,2,    273.3,2,    293.8,2,    10.81,3,    16.35,3,     1.02,3,    4.800,2,    2.634,2,    0.508,2,    8.037,4,    9.860,2,   2154.9,2,   2315.1,2
  18HU20070510, AR07W,   112,  1, 309800,     19,2,20070515,2310, 58.2000, -50.8833, 3475,    363.1,   3.7387,  34.8545,2,  34.8614,2,    278.4,2,    299.8,2,    10.69,3,    16.44,3,     1.04,3,    5.060,2,    2.757,2,    0.474,2,    8.672,4,    8.868,2,   2154.6,2,   2314.6,2
  18HU20070510, AR07W,   112,  1, 309801,     20,2,20070515,2310, 58.2000, -50.8833, 3475,    246.2,   3.7872,  34.8537,2,-999.0000,9,    278.3,2,   -999.0,9,    10.54,3,    16.99,3,     1.03,3,    4.984,2,    2.724,2,    0.479,2,    8.450,4,    8.232,2,   2154.7,2,   2314.1,2
  18HU20070510, AR07W,   112,  1, 309802,     21,2,20070515,2310, 58.2000, -50.8833, 3475,    138.9,   3.8555,  34.8427,2,-999.0000,9,    275.8,2,   -999.0,9,    10.14,3,    16.95,3,     1.04,3,    4.710,3,    2.661,2,    0.528,2,    8.341,4,    8.667,2,   2154.2,2,   2318.8,2
  18HU20070510, AR07W,   112,  1, 309803,     22,2,20070515,2310, 58.2000, -50.8833, 3475,     71.4,   3.9663,  34.7776,2,-999.0000,9,    301.1,2,    328.3,2,     9.41,3,    16.13,3,     1.02,3,    5.221,2,    2.883,2,    0.523,2,    9.488,4,    6.789,2,   2125.1,2,   2314.7,2
  18HU20070510, AR07W,   112,  1, 309804,     23,2,20070515,2310, 58.2000, -50.8833, 3475,     34.4,   3.9677,  34.7782,2,-999.0000,9,    300.6,2,    324.5,2,     8.72,3,    15.78,3,     1.01,3,    5.209,2,    2.870,2,    0.531,2,    9.495,4,    6.895,2,   2127.9,2,   2316.6,2
  18HU20070510, AR07W,   112,  1, 309805,     24,2,20070515,2310, 58.2000, -50.8833, 3475,      1.2,   3.9611,  34.7781,2,-999.0000,9,    302.9,2,    327.6,2,     8.36,3,    15.48,3,     0.99,3,    4.956,2,    2.893,2,    0.749,4,    9.519,4,    6.763,2,   2125.2,2,   2323.0,2