BOTTLE,20130611PRINUNIVRMK
EXPOCODE,SECT_ID,STNNBR,CASTNO,SAMPNO,BTLNBR,BTLNBR_FLAG_W,DATE,TIME,LATITUDE,LONGITUDE,DEPTH,CTDPRS,CTDTMP,CTDSAL,CTDSAL_FLAG_W,SALNTY,SALNTY_FLAG_W,CTDOXY,CTDOXY_FLAG_W,OXYGEN,OXYGEN_FLAG_W,SILCAT,SILCAT_FLAG_W,NITRAT,NITRAT_FLAG_W,PHSPHT,PHSPHT_FLAG_W,CFC-11,CFC-11_FLAG_W,CFC-12,CFC-12_FLAG_W,CFC113,CFC113_FLAG_W,CCL4,CCL4_FLAG_W,MCHFRM,MCHFRM_FLAG_W,TCARBN,TCARBN_FLAG_W,ALKALI,ALKALI_FLAG_W
,,,,,,,,,,,METERS,DBAR,ITS-90,PSS-78,,PSS-78,,UMOL/KG,,UMOL/KG,,UMOL/KG,,UMOL/KG,,UMOL/KG,,PMOL/KG,,PMOL/KG,,PMOL/KG,,PMOL/KG,,PMOL/KG,,UMOL/KG,,UMOL/KG,
  18HU20070510, AR07W,   245,  1, 310378,      1,2,20070526,0653, 42.3667, -61.3000, 3322,   3412.6,   2.2986,  34.8901,2,  34.8953,2,    258.2,2,    275.9,2,    20.60,6,    16.52,6,     1.06,6,    1.938,2,    0.705,4,    0.107,2,    2.207,4,    3.361,2,   2169.6,2,   2322.3,2
  18HU20070510, AR07W,   245,  1, 310379,      2,2,20070526,0653, 42.3667, -61.3000, 3322,   3273.9,   2.3846,  34.8944,2,  34.9002,2,    257.8,2,    275.2,2,    18.93,6,    16.31,6,     1.04,6,    2.066,2,    2.963,4,    0.027,4,    2.356,4,    3.593,2,   2164.2,2,   2328.2,3
  18HU20070510, AR07W,   245,  1, 310380,      3,2,20070526,0653, 42.3667, -61.3000, 3322,   3175.6,   2.4208,  34.8962,2,  34.9032,2,    257.5,2,    274.2,2,    18.29,6,    16.34,6,     1.04,6,    1.991,2,    0.713,4,    0.046,4,    2.276,4,    3.546,2,   2163.9,2,   2325.0,2
  18HU20070510, AR07W,   245,  1, 310381,      4,2,20070526,0653, 42.3667, -61.3000, 3322,   3044.5,   2.5296,  34.9035,2,  34.9097,2,    255.2,2,    272.4,2,    18.33,6,    16.52,6,     1.04,6,    1.663,2,    0.546,4,    0.027,4,    1.985,4,    3.017,2,   2163.0,2,   2323.7,2
  18HU20070510, AR07W,   245,  1, 310382,      5,2,20070526,0653, 42.3667, -61.3000, 3322,   2909.5,   2.6120,  34.9050,2,  34.8922,2,    255.3,2,    273.3,2,    17.01,6,    16.35,6,     1.03,6,    1.935,2,    0.514,4,    0.016,4,    2.208,4,    3.489,2,   2163.7,2,   2324.2,2
  18HU20070510, AR07W,   245,  1, 310383,      6,2,20070526,0653, 42.3667, -61.3000, 3322,   2770.7,   2.7597,  34.9111,2,  34.9176,2,    253.9,2,    271.8,2,    16.35,6,    16.55,6,     1.04,6,    1.803,2,    0.509,4,    0.017,4,    2.086,4,    3.347,2,   2162.1,2,   2327.7,2
  18HU20070510, AR07W,   245,  1, 310384,      7,2,20070526,0653, 42.3667, -61.3000, 3322,   2621.9,   2.9223,  34.9175,2,  34.9205,2,    252.1,2,    270.1,2,    16.00,6,    16.73,6,     1.05,6,    1.757,2,    0.501,4,    0.010,4,    2.033,4,    3.331,2,   2161.9,2,   2328.2,2
  18HU20070510, AR07W,   245,  1, 310385,      8,2,20070526,0653, 42.3667, -61.3000, 3322,   2459.2,   3.0772,  34.9225,2,  34.9256,2,    250.9,2,    269.0,2,    15.49,6,    16.97,6,     1.07,6,    1.701,2,    0.517,4,    0.016,4,    2.052,4,    3.428,2,   2158.1,4,   2323.2,2
  18HU20070510, AR07W,   245,  1, 310386,      9,2,20070526,0653, 42.3667, -61.3000, 3322,   2261.1,   3.1977,  34.9238,2,  34.7630,4,    250.5,2,    269.3,2,    14.68,6,    17.02,6,     1.10,6,    1.827,2,    0.481,4,    0.006,4,    2.166,4,    3.705,2,   2162.4,2,   2320.3,2
  18HU20070510, AR07W,   245,  1, 310387,     10,2,20070526,0653, 42.3667, -61.3000, 3322,   2060.3,   3.3450,  34.9229,2,  34.9288,2,    250.8,2,    269.9,2,    13.48,6,    17.04,6,     1.10,6,    2.080,2,    0.697,4,    0.047,4,    2.402,4,    4.202,2,   2164.0,2,   2323.9,3
  18HU20070510, AR07W,   245,  1, 310388,     11,4,20070526,0653, 42.3667, -61.3000, 3322,   1850.3,   3.5043,  34.9252,2,  34.7651,4,    249.7,2,    200.4,4,    12.25,4,    19.26,4,     1.27,4,    3.223,4,    1.389,4,    0.157,4,    2.577,4,    2.155,4,   2181.5,4,   2311.4,4
  18HU20070510, AR07W,   245,  1, 310389,     12,2,20070526,0653, 42.3667, -61.3000, 3322,   1639.3,   3.6415,  34.9273,2,  34.9333,2,    248.6,2,    268.6,2,    11.94,6,    17.00,6,     1.09,6,    2.661,2,    0.924,4,    0.050,4,    2.856,4,    4.804,2,   2164.3,2,   2315.6,2
  18HU20070510, AR07W,   245,  1, 310390,     13,2,20070526,0653, 42.3667, -61.3000, 3322,   1430.5,   3.7767,  34.9272,2,  34.9331,2,    247.9,2,    268.5,2,    11.35,6,    17.04,6,     1.09,6,    2.949,2,    1.255,2,    0.000,4,    2.973,4,    4.518,2,   2165.0,2,   2319.8,2
  18HU20070510, AR07W,   245,  1, 310391,     14,2,20070526,0653, 42.3667, -61.3000, 3322,   1230.7,   3.9151,  34.9283,2,  34.9345,2,    247.2,2,    267.2,2,    10.91,6,    16.91,6,     1.08,6,    3.250,2,    1.282,4,    0.112,2,    3.218,4,    4.428,2,   2165.6,2,   2318.5,2
  18HU20070510, AR07W,   245,  1, 310392,     15,2,20070526,0653, 42.3667, -61.3000, 3322,   1029.8,   3.9762,  34.9137,2,-999.0000,9,    250.2,2,    269.7,2,    10.15,6,    16.69,6,     1.06,6,    3.827,2,    1.764,2,    0.126,2,    3.701,4,    4.061,2,   2166.6,2,   2316.9,2
  18HU20070510, AR07W,   245,  1, 310393,     16,2,20070526,0653, 42.3667, -61.3000, 3322,    839.5,   4.2508,  34.9359,2,-999.0000,9,    242.8,2,    262.2,2,    10.49,6,    17.04,6,     1.09,6,    3.545,2,    1.472,2,    0.204,2,    3.445,4,    3.798,2,   2168.8,2,   2321.8,2
  18HU20070510, AR07W,   245,  1, 310394,     17,2,20070526,0653, 42.3667, -61.3000, 3322,    660.5,   4.6300,  34.9521,2,-999.0000,9,    231.3,2,    249.7,2,    10.86,6,    17.45,6,     1.14,6,    3.325,2,    1.829,2,    0.114,2,    3.033,4,    3.290,2,   2171.1,2,   2321.2,2
  18HU20070510, AR07W,   245,  1, 310395,     18,2,20070526,0653, 42.3667, -61.3000, 3322,    480.9,   4.9446,  34.9278,2,-999.0000,9,    218.3,2,    235.5,2,    11.51,6,    18.18,6,     1.18,6,    3.174,2,    1.315,2,    0.086,2,    2.799,4,    2.840,2,   2176.6,2,   2318.2,2
  18HU20070510, AR07W,   245,  1, 310396,     19,2,20070526,0653, 42.3667, -61.3000, 3322,    330.1,   5.3323,  34.8664,2,-999.0000,9,    201.3,2,    217.0,2,    12.40,6,    19.02,6,     1.24,6,    3.109,2,    1.202,4,    0.091,2,    2.619,4,    2.484,2,   2180.3,2,   2317.1,2
  18HU20070510, AR07W,   245,  1, 310397,     20,2,20070526,0653, 42.3667, -61.3000, 3322,    211.5,   5.8771,  34.7608,2,-999.0000,9,    186.1,2,    201.5,2,    12.27,6,    19.33,6,     1.27,6,    3.057,2,    1.259,2,    0.107,2,    2.456,4,    2.026,2,   2183.2,2,   2307.3,2
  18HU20070510, AR07W,   245,  1, 310398,     21,2,20070526,0653, 42.3667, -61.3000, 3322,    110.3,   7.5940,  34.5911,2,-999.0000,9,    193.5,2,    209.6,2,     8.13,6,    14.63,6,     1.02,6,    3.766,2,    1.813,2,    0.181,2,    2.700,4,    1.683,2,   2157.2,2,   2305.5,2
  18HU20070510, AR07W,   245,  1, 310399,     22,2,20070526,0653, 42.3667, -61.3000, 3322,     50.9,   4.2676,  33.2506,2,-999.0000,9,    295.5,2,    322.0,2,     1.17,6,     1.32,6,     0.48,6,    5.759,2,    3.196,2,    0.447,2,    6.067,4,    1.706,2,   2080.0,2,   2243.7,2
  18HU20070510, AR07W,   245,  1, 310400,     23,2,20070526,0653, 42.3667, -61.3000, 3322,     24.8,   5.7387,  33.1458,2,-999.0000,9,    304.4,2,    330.2,2,     0.71,6,     0.15,6,     0.29,6,    5.551,2,    3.297,2,    0.352,2,    6.034,4,    1.625,2,   2052.0,2,   2251.5,2
  18HU20070510, AR07W,   245,  1, 310401,     24,2,20070526,0653, 42.3667, -61.3000, 3322,      1.2,   8.1746,  32.8250,2,-999.0000,9,    282.4,2,    305.6,2,     0.68,6,     0.14,6,     0.29,6,    5.090,2,    2.927,2,    0.377,2,    5.849,4,    1.496,2,   2047.3,2,   2227.4,2
  18HU20070510, AR07W,   248,  1, 310402,      1,2,20070526,1202, 42.5167, -61.3833, 2749,   2837.7,   2.7461,  34.9102,2,  34.9158,2,    256.0,2,    273.2,2,    16.63,6,    16.66,6,     1.11,6,    1.890,2,    0.946,2,    0.108,2,    2.891,4,    3.684,2,   2165.0,6,   2321.1,2
  18HU20070510, AR07W,   248,  1, 310403,      2,2,20070526,1202, 42.5167, -61.3833, 2749,   2699.8,   2.8790,  34.9158,2,  34.9205,2,    254.1,2,    270.6,2,    16.14,6,    16.88,6,     1.11,6,    1.819,2,    0.763,2,    0.111,2,    1.937,4,    3.405,2,   2163.1,2,   2322.7,2
  18HU20070510, AR07W,   248,  1, 310404,      3,2,20070526,1202, 42.5167, -61.3833, 2749,   2549.7,   3.0099,  34.9207,2,  34.9248,2,    252.7,2,    269.7,2,    15.71,6,    17.04,6,     1.11,6,    1.748,2,    0.730,2,    0.107,2,    1.864,4,    3.222,2,   2165.1,2,   2321.1,2
  18HU20070510, AR07W,   248,  1, 310405,      4,2,20070526,1202, 42.5167, -61.3833, 2749,   2390.8,   3.1546,  34.9237,2,  34.9280,2,    251.5,2,    269.4,2,    14.88,6,    17.19,6,     1.12,6,    1.748,2,    0.824,2,    0.101,2,    2.705,4,    3.611,2,   2163.1,2,   2318.9,2
  18HU20070510, AR07W,   248,  1, 310406,      5,2,20070526,1202, 42.5167, -61.3833, 2749,   2199.8,   3.2634,  34.9236,2,  34.9288,2,    251.4,2,    269.6,2,    14.12,6,    17.24,6,     1.12,6,    1.946,2,    0.802,2,    0.123,2,    2.026,4,    3.666,2,   2163.1,2,   2320.0,2
  18HU20070510, AR07W,   248,  1, 310407,      6,2,20070526,1202, 42.5167, -61.3833, 2749,   1999.9,   3.4062,  34.9235,2,  34.9284,2,    251.0,2,    269.6,2,    13.09,6,    17.23,6,     1.11,6,    2.233,2,    0.988,2,    0.135,2,    2.251,4,    4.102,2,   2160.0,2,   2317.7,2
  18HU20070510, AR07W,   248,  1, 310408,      7,2,20070526,1202, 42.5167, -61.3833, 2749,   1750.2,   3.6019,  34.9270,2,  34.9317,2,    249.3,2,    268.5,2,    12.22,6,    17.44,6,     1.12,6,    2.474,2,    1.152,2,    0.168,2,    2.416,4,    4.346,2,   2164.9,2,   2318.4,2
  18HU20070510, AR07W,   248,  1, 310409,      8,2,20070526,1202, 42.5167, -61.3833, 2749,   1501.2,   3.7710,  34.9301,2,  34.9341,2,    247.8,2,    267.5,2,    11.52,6,    17.31,6,     1.11,6,    2.835,2,    1.350,2,    0.188,2,    2.635,4,    4.358,2,   2162.5,2,   2319.6,2
  18HU20070510, AR07W,   248,  1, 310410,      9,2,20070526,1202, 42.5167, -61.3833, 2749,   1249.4,   3.8381,  34.9152,2,  34.9195,2,    250.6,2,    270.6,2,    10.54,6,    16.92,6,     1.08,6,    3.514,2,    1.810,2,    0.259,2,    3.093,4,    4.267,2,   2163.4,2,   2315.8,2
  18HU20070510, AR07W,   248,  1, 310411,     10,2,20070526,1202, 42.5167, -61.3833, 2749,    998.4,   4.2863,  34.9618,2,  34.9658,2,    238.0,2,    256.7,2,    11.09,6,    17.59,6,     1.13,6,    2.921,2,    1.463,2,    0.205,2,    2.527,4,    3.741,2,   2166.9,2,   2318.8,2
  18HU20070510, AR07W,   248,  1, 310412,     11,2,20070526,1202, 42.5167, -61.3833, 2749,    753.4,   4.2721,  34.9238,2,-999.0000,9,    244.2,2,   -999.0,9,  -999.00,9,  -999.00,9,  -999.00,9, -999.000,9, -999.000,9, -999.000,9, -999.000,9, -999.000,9,   -999.0,9,   -999.0,9
  18HU20070510, AR07W,   248,  1, 310413,     12,2,20070526,1202, 42.5167, -61.3833, 2749,    501.0,   4.4521,  34.8860,2,  34.8908,2,    236.7,2,    256.8,2,    10.36,6,    17.25,6,     1.11,6,    3.816,2,    2.063,2,    0.290,2,    3.150,4,    2.888,2,   2166.6,2,   2312.1,2
  18HU20070510, AR07W,   248,  1, 310414,     13,2,20070526,1202, 42.5167, -61.3833, 2749,    251.5,   5.5557,  34.7862,2,-999.0000,9,    192.0,2,    206.8,2,    12.54,6,    19.51,6,     1.27,6,    3.108,2,    1.618,2,    0.237,2,    2.276,4,    2.170,2,   2179.4,2,   2312.7,2
  18HU20070510, AR07W,   248,  1, 310415,     14,2,20070526,1202, 42.5167, -61.3833, 2749,    199.7,   6.0953,  34.7528,2,-999.0000,9,    182.6,2,   -999.0,9,    12.17,6,    19.44,6,     1.27,6, -999.000,9, -999.000,9, -999.000,9, -999.000,9, -999.000,9,   -999.0,9,   -999.0,9
  18HU20070510, AR07W,   248,  1, 310416,     15,2,20070526,1202, 42.5167, -61.3833, 2749,    149.6,   7.0545,  34.7613,2,-999.0000,9,    175.2,2,   -999.0,9,    10.97,6,    18.96,6,     1.23,6, -999.000,9, -999.000,9, -999.000,9, -999.000,9, -999.000,9,   -999.0,9,   -999.0,9
  18HU20070510, AR07W,   248,  1, 310417,     16,2,20070526,1202, 42.5167, -61.3833, 2749,    100.3,   7.5374,  34.4553,2,-999.0000,9,    206.9,2,    224.3,2,     6.92,6,    12.93,6,     0.94,6,    4.032,2,    2.273,2,    0.318,2,    2.755,4,    1.680,2,   2144.3,2,   2299.4,2
  18HU20070510, AR07W,   248,  1, 310418,     17,2,20070526,1202, 42.5167, -61.3833, 2749,     80.3,   5.6774,  33.7655,2,-999.0000,9,    254.9,2,   -999.0,9,     4.13,6,     7.29,6,     0.73,6, -999.000,9, -999.000,9, -999.000,9, -999.000,9, -999.000,9,   -999.0,9,   -999.0,9
  18HU20070510, AR07W,   248,  1, 310419,     18,2,20070526,1202, 42.5167, -61.3833, 2749,     60.8,   4.7318,  33.4129,2,-999.0000,9,    283.4,2,   -999.0,9,     2.07,6,     2.91,6,     0.58,6, -999.000,9, -999.000,9, -999.000,9, -999.000,9, -999.000,9,   -999.0,9,   -999.0,9
  18HU20070510, AR07W,   248,  1, 310420,     19,2,20070526,1202, 42.5167, -61.3833, 2749,     50.9,   4.6171,  33.3460,2,-999.0000,9,    292.4,2,    317.1,2,     1.21,6,     1.70,6,     0.49,6,    5.492,2,    3.111,2,    0.478,2,    5.230,4,    1.688,2,   2080.7,2,   2254.7,2
  18HU20070510, AR07W,   248,  1, 310421,     20,2,20070526,1202, 42.5167, -61.3833, 2749,     40.1,   5.1287,  33.2782,2,-999.0000,9,    305.6,2,   -999.0,9,     0.73,6,     0.40,6,     0.35,6, -999.000,9, -999.000,9, -999.000,9, -999.000,9, -999.000,9,   -999.0,9,   -999.0,9
  18HU20070510, AR07W,   248,  1, 310422,     21,2,20070526,1202, 42.5167, -61.3833, 2749,     30.2,   5.7339,  33.1837,2,-999.0000,9,    306.0,2,   -999.0,9,     0.50,6,     0.15,6,     0.27,6, -999.000,9, -999.000,9, -999.000,9, -999.000,9, -999.000,9,   -999.0,9,   -999.0,9
  18HU20070510, AR07W,   248,  1, 310423,     22,2,20070526,1202, 42.5167, -61.3833, 2749,     19.8,   7.4750,  32.8297,2,-999.0000,9,    286.9,2,   -999.0,9,     0.39,6,     0.13,6,     0.27,6, -999.000,9, -999.000,9, -999.000,9, -999.000,9, -999.000,9,   -999.0,9,   -999.0,9
  18HU20070510, AR07W,   248,  1, 310424,     23,2,20070526,1202, 42.5167, -61.3833, 2749,     10.5,   7.7565,  32.7338,2,-999.0000,9,    284.9,2,    310.0,2,     0.37,6,     0.14,6,     0.28,6,    5.123,2,    2.932,2,    0.452,2,    5.373,4,    1.557,2,   2041.3,2,   2223.6,2
  18HU20070510, AR07W,   248,  1, 310425,     24,2,20070526,1202, 42.5167, -61.3833, 2749,      2.1,   8.2710,  32.7187,2,-999.0000,9,    281.5,2,   -999.0,9,     0.39,6,     0.14,6,     0.28,6, -999.000,9, -999.000,9, -999.000,9, -999.000,9, -999.000,9,   -999.0,9,   -999.0,9
  18HU20070510, AR07W,   251,  1, 310426,      1,2,20070526,1910, 42.8335, -61.7167, 1030,   1026.0,   4.1063,  34.9162,2,-999.0000,9,    247.1,2,   -999.0,9,    10.92,6,    17.12,6,     1.09,6, -999.000,9, -999.000,9, -999.000,9, -999.000,9, -999.000,9,   -999.0,9,   -999.0,9
  18HU20070510, AR07W,   251,  1, 310427,      2,2,20070526,1910, 42.8335, -61.7167, 1030,    749.7,   4.2699,  34.8918,2,-999.0000,9,    242.7,2,    260.7,2,    10.44,6,    17.23,6,     1.09,6,    4.004,2,    2.074,2,    0.304,2,    3.826,4,    3.771,2,   2170.5,6,   2302.2,2
  18HU20070510, AR07W,   251,  1, 310428,      3,2,20070526,1910, 42.8335, -61.7167, 1030,    500.2,   4.6879,  34.8546,2,-999.0000,9,    224.0,2,    240.7,2,    11.45,6,    18.12,6,     1.15,6,    3.692,2,    2.090,2,    0.271,2,    3.353,4,    3.789,2,   2174.0,2,   2297.8,6
  18HU20070510, AR07W,   251,  1, 310429,      4,2,20070526,1910, 42.8335, -61.7167, 1030,    251.8,   5.9414,  34.7908,2,-999.0000,9,    185.2,2,    199.0,2,    12.53,6,    19.97,6,     1.27,6,    3.011,2,    1.294,2,    0.226,2,    2.427,4,    2.187,2,   2184.8,2,   2291.7,2
  18HU20070510, AR07W,   251,  1, 310430,      5,2,20070526,1910, 42.8335, -61.7167, 1030,    200.3,   6.5749,  34.7728,2,-999.0000,9,    177.1,2,   -999.0,9,    12.22,6,    19.78,6,     1.27,6, -999.000,9, -999.000,9, -999.000,9, -999.000,9, -999.000,9,   -999.0,9,   -999.0,9
  18HU20070510, AR07W,   251,  1, 310431,      6,2,20070526,1910, 42.8335, -61.7167, 1030,    150.4,   7.3299,  34.7745,2,-999.0000,9,    174.7,2,    187.9,2,    11.07,6,    18.70,6,     1.22,6,    3.151,2,    1.324,2,    0.239,2,    2.264,4,    1.761,2,   2179.7,2,   2292.8,2
  18HU20070510, AR07W,   251,  1, 310432,      7,2,20070526,1910, 42.8335, -61.7167, 1030,    101.5,   8.6697,  34.7906,2,-999.0000,9,    181.8,2,   -999.0,9,     8.18,6,    15.44,6,     1.04,6, -999.000,9, -999.000,9, -999.000,9, -999.000,9, -999.000,9,   -999.0,9,   -999.0,9
  18HU20070510, AR07W,   251,  1, 310433,      8,2,20070526,1910, 42.8335, -61.7167, 1030,     81.1,   7.0685,  34.2521,2,-999.0000,9,    226.3,2,   -999.0,9,     5.88,6,    10.74,6,     0.84,6, -999.000,9, -999.000,9, -999.000,9, -999.000,9, -999.000,9,   -999.0,9,   -999.0,9
  18HU20070510, AR07W,   251,  1, 310434,      9,2,20070526,1910, 42.8335, -61.7167, 1030,     60.2,   4.7991,  33.5035,2,-999.0000,9,    274.4,2,   -999.0,9,     3.04,6,     4.56,6,     0.65,6, -999.000,9, -999.000,9, -999.000,9, -999.000,9, -999.000,9,   -999.0,9,   -999.0,9
  18HU20070510, AR07W,   251,  1, 310435,     10,2,20070526,1910, 42.8335, -61.7167, 1030,     49.5,   4.3814,  33.3023,2,-999.0000,9,    294.0,2,    318.7,2,     1.12,6,     1.56,6,     0.49,6,    5.588,2,    3.441,2,    0.450,2,    6.099,4,    1.758,2,   2082.0,2,   2235.6,2
  18HU20070510, AR07W,   251,  1, 310436,     11,2,20070526,1910, 42.8335, -61.7167, 1030,     40.4,   3.9542,  33.1634,2,-999.0000,9,    301.8,2,   -999.0,9,  -999.00,9,  -999.00,9,  -999.00,9, -999.000,9, -999.000,9, -999.000,9, -999.000,9, -999.000,9,   -999.0,9,   -999.0,9
  18HU20070510, AR07W,   251,  1, 310437,     12,2,20070526,1910, 42.8335, -61.7167, 1030,     29.8,   4.7562,  33.0162,2,-999.0000,9,    307.5,2,   -999.0,9,     0.61,6,     0.15,6,     0.33,6, -999.000,9, -999.000,9, -999.000,9, -999.000,9, -999.000,9,   -999.0,9,   -999.0,9
  18HU20070510, AR07W,   251,  1, 310438,     13,2,20070526,1910, 42.8335, -61.7167, 1030,     20.0,   5.4337,  32.3932,2,-999.0000,9,    305.4,2,   -999.0,9,     0.49,6,     0.10,6,     0.34,6, -999.000,9, -999.000,9, -999.000,9, -999.000,9, -999.000,9,   -999.0,9,   -999.0,9
  18HU20070510, AR07W,   251,  1, 310439,     14,2,20070526,1910, 42.8335, -61.7167, 1030,     10.4,   6.1979,  32.1484,2,-999.0000,9,    301.3,2,   -999.0,9,     0.45,6,     0.10,6,     0.37,6,    5.959,2,    4.735,4,    0.495,2,    7.171,4,    1.961,2,   2029.8,2,   2194.0,2
  18HU20070510, AR07W,   251,  1, 310440,     15,2,20070526,1910, 42.8335, -61.7167, 1030,      1.5,   6.4322,  32.1482,2,-999.0000,9,    300.4,2,    325.1,6,  -999.00,9,  -999.00,9,  -999.00,9, -999.000,9, -999.000,9, -999.000,9, -999.000,9, -999.000,9,   2028.1,2,   2189.9,2