BOTTLE,20130611PRINUNIVRMK
EXPOCODE,SECT_ID,STNNBR,CASTNO,SAMPNO,BTLNBR,BTLNBR_FLAG_W,DATE,TIME,LATITUDE,LONGITUDE,DEPTH,CTDPRS,CTDTMP,CTDSAL,CTDSAL_FLAG_W,SALNTY,SALNTY_FLAG_W,CTDOXY,CTDOXY_FLAG_W,OXYGEN,OXYGEN_FLAG_W,SILCAT,SILCAT_FLAG_W,NITRAT,NITRAT_FLAG_W,PHSPHT,PHSPHT_FLAG_W,CFC-11,CFC-11_FLAG_W,CFC-12,CFC-12_FLAG_W,CFC113,CFC113_FLAG_W,CCL4,CCL4_FLAG_W,MCHFRM,MCHFRM_FLAG_W,TCARBN,TCARBN_FLAG_W,ALKALI,ALKALI_FLAG_W
,,,,,,,,,,,METERS,DBAR,ITS-90,PSS-78,,PSS-78,,UMOL/KG,,UMOL/KG,,UMOL/KG,,UMOL/KG,,UMOL/KG,,PMOL/KG,,PMOL/KG,,PMOL/KG,,PMOL/KG,,PMOL/KG,,UMOL/KG,,UMOL/KG,
  18HU20070510, AR07W,   257,  1, 310441,      1,2,20070527,0423, 43.8667, -62.8833,  269,    257.9,   6.8482,  34.6562,2,-999.0000,9,    155.4,2,    165.6,6,    17.44,6,    18.56,6,     1.39,6,    3.460,2,    1.649,2,    0.284,2,    2.307,4,    2.114,2,   2201.6,2,   2307.0,2
  18HU20070510, AR07W,   257,  1, 310442,      2,2,20070527,0423, 43.8667, -62.8833,  269,    201.4,   7.3989,  34.7080,2,-999.0000,9,    147.5,2,   -999.0,9,    15.19,6,    19.16,6,     1.37,6, -999.000,9, -999.000,9, -999.000,9, -999.000,9, -999.000,9,   -999.0,9,   -999.0,9
  18HU20070510, AR07W,   257,  1, 310443,      3,2,20070527,0423, 43.8667, -62.8833,  269,    149.3,   7.6791,  34.6059,2,-999.0000,9,    155.0,2,    167.0,2,    12.78,6,    17.92,6,     1.29,6,    3.556,2,    2.090,2,    0.187,2,    2.135,4,    1.832,2,   2186.7,2,   2302.3,2
  18HU20070510, AR07W,   257,  1, 310444,      4,2,20070527,0423, 43.8667, -62.8833,  269,    125.3,   7.2869,  34.4315,2,-999.0000,9,    171.2,2,   -999.0,9,    11.38,6,    16.28,6,     1.21,6, -999.000,9, -999.000,9, -999.000,9, -999.000,9, -999.000,9,   -999.0,9,   -999.0,9
  18HU20070510, AR07W,   257,  1, 310445,      5,2,20070527,0423, 43.8667, -62.8833,  269,    100.8,   6.5217,  34.1677,2,-999.0000,9,    190.9,2,    206.7,2,     9.17,6,    14.40,6,     1.12,6,    4.446,2,    2.634,2,    0.326,2,    3.413,4,    1.996,2,   2160.2,2,   2283.4,2
  18HU20070510, AR07W,   257,  1, 310446,      6,2,20070527,0423, 43.8667, -62.8833,  269,     80.2,   5.8335,  33.8306,2,-999.0000,9,    205.8,2,   -999.0,9,     7.43,6,    11.76,6,     1.07,6, -999.000,9, -999.000,9, -999.000,9, -999.000,9, -999.000,9,   -999.0,9,   -999.0,9
  18HU20070510, AR07W,   257,  1, 310447,      7,2,20070527,0423, 43.8667, -62.8833,  269,     61.2,   4.4370,  33.2628,2,-999.0000,9,    258.4,2,   -999.0,9,     3.30,6,     5.53,6,     0.79,6, -999.000,9, -999.000,9, -999.000,9, -999.000,9, -999.000,9,   -999.0,9,   -999.0,9
  18HU20070510, AR07W,   257,  1, 310448,      8,2,20070527,0423, 43.8667, -62.8833,  269,     50.0,   3.6285,  33.0219,2,-999.0000,9,    273.5,2,    297.4,2,     2.50,6,     4.10,6,     0.72,6,    5.896,2,    3.448,2,    0.486,2,    6.124,4,    2.078,2,   2096.3,2,   2241.2,2
  18HU20070510, AR07W,   257,  1, 310449,      9,2,20070527,0423, 43.8667, -62.8833,  269,     40.5,   3.3233,  32.8169,2,-999.0000,9,    288.5,2,   -999.0,9,     1.90,6,     2.93,6,     0.63,6, -999.000,9, -999.000,9, -999.000,9, -999.000,9, -999.000,9,   -999.0,9,   -999.0,9
  18HU20070510, AR07W,   257,  1, 310450,     10,2,20070527,0423, 43.8667, -62.8833,  269,     29.8,   5.0057,  32.7474,2,-999.0000,9,    308.4,2,   -999.0,9,     0.71,6,     0.37,6,     0.40,6, -999.000,9, -999.000,9, -999.000,9, -999.000,9, -999.000,9,   -999.0,9,   -999.0,9
  18HU20070510, AR07W,   257,  1, 310451,     11,2,20070527,0423, 43.8667, -62.8833,  269,     20.4,   5.5864,  32.3944,2,-999.0000,9,    302.5,2,   -999.0,9,  -999.00,9,  -999.00,9,  -999.00,9, -999.000,9, -999.000,9, -999.000,9, -999.000,9, -999.000,9,   -999.0,9,   -999.0,9
  18HU20070510, AR07W,   257,  1, 310452,     12,2,20070527,0423, 43.8667, -62.8833,  269,      9.8,   7.0412,  32.3511,2,-999.0000,9,    290.8,2,    314.7,2,     0.17,6,     0.00,6,     0.35,6,    5.567,2,    3.427,2,    0.460,2,    6.597,4,    1.812,2,   2043.2,2,   2211.9,2
  18HU20070510, AR07W,   257,  1, 310453,     13,2,20070527,0423, 43.8667, -62.8833,  269,      0.7,   7.1131,  32.3385,2,-999.0000,9,    289.9,2,    313.2,2,     0.00,6,     0.00,6,     0.35,6, -999.000,9, -999.000,9, -999.000,9, -999.000,9, -999.000,9,   2040.6,2,   2210.3,2
  18HU20070510, AR07W,   261,  1, 310454,      1,2,20070527,0751, 44.2500, -63.3000,  154,    145.2,   6.9649,  34.1713,2,-999.0000,9,    154.4,2,    165.2,2,    15.59,6,    16.78,6,     1.33,6,    4.145,2,    1.874,2,    0.335,2,    2.599,4,    2.008,2,   2190.0,2,   2297.7,2
  18HU20070510, AR07W,   261,  1, 310455,      2,2,20070527,0751, 44.2500, -63.3000,  154,    125.1,   6.0604,  33.8434,2,-999.0000,9,    175.7,2,   -999.0,9,    12.98,6,    15.37,6,     1.27,6, -999.000,9, -999.000,9, -999.000,9, -999.000,9, -999.000,9,   -999.0,9,   -999.0,9
  18HU20070510, AR07W,   261,  1, 310456,      3,2,20070527,0751, 44.2500, -63.3000,  154,    101.4,   4.6534,  33.3872,2,-999.0000,9,    211.6,2,    226.1,2,     8.04,6,    11.56,6,     1.14,6, -999.000,9, -999.000,9, -999.000,9, -999.000,9, -999.000,9,   2149.4,2,   2251.7,2
  18HU20070510, AR07W,   261,  1, 310457,      4,2,20070527,0751, 44.2500, -63.3000,  154,     80.8,   2.7662,  32.8306,2,-999.0000,9,    275.8,2,   -999.0,9,     5.47,6,     6.27,6,     0.91,6, -999.000,9, -999.000,9, -999.000,9, -999.000,9, -999.000,9,   -999.0,9,   -999.0,9
  18HU20070510, AR07W,   261,  1, 310458,      5,2,20070527,0751, 44.2500, -63.3000,  154,     60.0,   2.4349,  32.4968,2,-999.0000,9,    303.0,2,   -999.0,9,     0.35,6,     0.81,6,     0.58,6, -999.000,9, -999.000,9, -999.000,9, -999.000,9, -999.000,9,   -999.0,9,   -999.0,9
  18HU20070510, AR07W,   261,  1, 310459,      6,2,20070527,0751, 44.2500, -63.3000,  154,     50.5,   2.8551,  32.3558,2,-999.0000,9,    303.4,2,    328.7,2,     0.00,6,     0.54,6,     0.55,6,    6.591,2,    3.380,2,    0.575,2,    7.474,4,    2.025,2,   2060.9,2,   2208.3,2
  18HU20070510, AR07W,   261,  1, 310460,      7,2,20070527,0751, 44.2500, -63.3000,  154,     40.0,   2.5825,  32.0763,2,-999.0000,9,    299.7,2,   -999.0,9,     0.49,6,     0.79,6,     0.55,6, -999.000,9, -999.000,9, -999.000,9, -999.000,9, -999.000,9,   -999.0,9,   -999.0,9
  18HU20070510, AR07W,   261,  1, 310461,      8,2,20070527,0751, 44.2500, -63.3000,  154,     29.8,   3.9990,  32.0046,2,-999.0000,9,    307.0,2,   -999.0,9,     0.00,6,     0.00,6,     0.43,6, -999.000,9, -999.000,9, -999.000,9, -999.000,9, -999.000,9,   -999.0,9,   -999.0,9
  18HU20070510, AR07W,   261,  1, 310462,      9,2,20070527,0751, 44.2500, -63.3000,  154,     20.6,   4.2438,  31.7981,2,-999.0000,9,    310.9,2,   -999.0,9,     0.00,6,     0.00,6,     0.38,6, -999.000,9, -999.000,9, -999.000,9, -999.000,9, -999.000,9,   -999.0,9,   -999.0,9
  18HU20070510, AR07W,   261,  1, 310463,     10,2,20070527,0751, 44.2500, -63.3000,  154,     10.3,   4.9421,  31.6706,2,-999.0000,9,    307.5,2,    331.6,2,     0.00,6,     0.00,6,     0.38,6,    6.107,2,    3.268,2,    0.537,2,    7.076,4,    1.885,2,   2020.3,2,   2173.3,2
  18HU20070510, AR07W,   261,  1, 310464,     11,2,20070527,0751, 44.2500, -63.3000,  154,      1.3,   5.6577,  31.4402,2,-999.0000,9,    302.7,2,    327.4,2,     0.44,6,     0.00,6,     0.39,6, -999.000,9, -999.000,9, -999.000,9, -999.000,9, -999.000,9,   2011.3,2,   2167.5,2
  18HU20070510, AR07W,   261,  1, 310465,     12,2,20070527,0751, 44.2500, -63.3000,  154,      1.4,   5.6558,  31.4414,2,-999.0000,9,    303.1,2,   -999.0,9,  -999.00,9,  -999.00,9,  -999.00,9, -999.000,9, -999.000,9, -999.000,9, -999.000,9, -999.000,9,   -999.0,9,   -999.0,9