BOTTLE,20090923WHPSIOMYS
EXPOCODE,SECT_ID,STNNBR,CASTNO,SAMPNO,BTLNBR,BTLNBR_FLAG_W,DATE,TIME,LATITUDE,LONGITUDE,DEPTH,CTDRAW,CTDPRS,CTDTMP,CTDSAL,CTDSAL_FLAG_W,SALNTY,SALNTY_FLAG_W,CTDOXY,CTDOXY_FLAG_W,THETA,OXYGEN,OXYGEN_FLAG_W,SILCAT,SILCAT_FLAG_W,NO2+NO3,NO2+NO3_FLAG_W,PHSPHT,PHSPHT_FLAG_W,REVPRS,REVTMP
,,,,,,,,,,,,,DBAR,ITS-90,PSS-78,,PSS-78,,UMOL/KG,,ITS-90,UMOL/KG,,UMOL/KG,,UMOL/KG,,UMOL/KG,,DBAR,DEG C
     33KB204_1,  PRS2,     2, 13,     24,   8024,2,20080817,2357, 22.7455,-158.0785, 4763,      7,      6.9,  26.0693,  35.0560,2,  35.0545,2,    207.9,1, 26.0678,   -999.0,9,  -999.00,9,  -999.00,9,  -999.00,9,  -999.0,-999.000
     33KB204_1,  PRS2,     2, 13,     23,   8023,2,20080817,2357, 22.7455,-158.0785, 4763,     25,     25.9,  26.0150,  35.0519,2,  35.0506,2,    208.0,1, 26.0093,   -999.0,9,  -999.00,9,  -999.00,9,  -999.00,9,  -999.0,-999.000
     33KB204_1,  PRS2,     2, 13,     22,   8022,2,20080817,2357, 22.7455,-158.0785, 4763,     46,     45.7,  25.9881,  35.0521,2,  35.0516,2,    208.0,1, 25.9779,   -999.0,9,  -999.00,9,  -999.00,9,  -999.00,9,  -999.0,-999.000
     33KB204_1,  PRS2,     2, 13,     21,   8021,2,20080817,2357, 22.7455,-158.0785, 4763,     75,     74.8,  24.4699,  35.0660,2,  35.0650,2,    223.2,1, 24.4540,   -999.0,9,  -999.00,9,  -999.00,9,  -999.00,9,  -999.0,-999.000
     33KB204_1,  PRS2,     2, 13,     20,   8020,3,20080817,2357, 22.7455,-158.0785, 4763,    101,    100.4,  23.5764,  35.0970,2,  35.0967,2,    219.8,1, 23.5556,   -999.0,9,  -999.00,9,  -999.00,9,  -999.00,9,  -999.0,-999.000
     33KB204_1,  PRS2,     2, 13,     19,   8019,2,20080817,2357, 22.7455,-158.0785, 4763,    126,    126.4,  23.0954,  35.1399,2,  35.1390,2,    215.9,1, 23.0695,   -999.0,9,  -999.00,9,  -999.00,9,  -999.00,9,  -999.0,-999.000
     33KB204_1,  PRS2,     2, 13,     18,   8018,2,20080817,2357, 22.7455,-158.0785, 4763,    151,    150.4,  22.6842,  35.1765,2,  35.1780,2,    208.0,1, 22.6537,   -999.0,9,  -999.00,9,  -999.00,9,  -999.00,9,  -999.0,-999.000
     33KB204_1,  PRS2,     2, 13,     16,   8016,2,20080817,2357, 22.7455,-158.0785, 4763,    200,    199.8,  21.3111,  35.1743,2,-999.0000,5,    197.6,1, 21.2724,   -999.0,9,  -999.00,9,  -999.00,9,  -999.00,9,  -999.0,-999.000
     33KB204_1,  PRS2,     2, 13,     17,   8017,2,20080817,2357, 22.7455,-158.0785, 4763,    200,    199.9,  21.3083,  35.1742,2,-999.0000,5,    197.7,1, 21.2696,   -999.0,9,  -999.00,9,  -999.00,9,  -999.00,9,  -999.0,-999.000
     33KB204_1,  PRS2,     2, 13,     15,   8015,2,20080817,2357, 22.7455,-158.0785, 4763,    250,    250.3,  18.8083,  34.9156,2,-999.0000,5,    193.1,1, 18.7640,   -999.0,9,  -999.00,9,  -999.00,9,  -999.00,9,  -999.0,-999.000
     33KB204_1,  PRS2,     2, 13,     13,   8025,2,20080817,2357, 22.7455,-158.0785, 4763,    301,    300.8,  14.6216,  34.4062,2,-999.0000,5,    192.3,1, 14.5769,   -999.0,9,  -999.00,9,  -999.00,9,  -999.00,9,  -999.0,-999.000
     33KB204_1,  PRS2,     2, 13,     14,   8014,2,20080817,2357, 22.7455,-158.0785, 4763,    301,    300.9,  14.6334,  34.4059,2,-999.0000,5,    192.2,1, 14.5887,   -999.0,9,  -999.00,9,  -999.00,9,  -999.00,9,  -999.0,-999.000
     33KB204_1,  PRS2,     2, 13,     12,   8012,2,20080817,2357, 22.7455,-158.0785, 4763,    351,    350.4,  12.1772,  34.2526,2,  34.2523,2,    199.5,1, 12.1311,   -999.0,9,  -999.00,9,  -999.00,9,  -999.00,9,  -999.0,-999.000
     33KB204_1,  PRS2,     2, 13,     11,   8011,2,20080817,2357, 22.7455,-158.0785, 4763,    401,    400.8,  10.6164,  34.1597,2,-999.0000,5,    192.0,1, 10.5681,   -999.0,9,  -999.00,9,  -999.00,9,  -999.00,9,  -999.0,-999.000
     33KB204_1,  PRS2,     2, 13,     10,   8010,2,20080817,2357, 22.7455,-158.0785, 4763,    500,    500.3,   7.8598,  34.1073,2,-999.0000,5,    115.4,1,  7.8093,   -999.0,9,  -999.00,9,  -999.00,9,  -999.00,9,  -999.0,-999.000
     33KB204_1,  PRS2,     2, 13,      9,   8009,2,20080817,2357, 22.7455,-158.0785, 4763,    501,    500.6,   7.8557,  34.1078,2,-999.0000,5,    114.7,1,  7.8053,   -999.0,9,  -999.00,9,  -999.00,9,  -999.00,9,  -999.0,-999.000
     33KB204_1,  PRS2,     2, 13,      8,   8008,2,20080817,2357, 22.7455,-158.0785, 4763,    519,    520.6,   7.3409,  34.0971,2,  34.0948,2,    109.2,1,  7.2904,   -999.0,9,  -999.00,9,  -999.00,9,  -999.00,9,  -999.0,-999.000
     33KB204_1,  PRS2,     2, 13,      7,   8026,2,20080817,2357, 22.7455,-158.0785, 4763,    600,    600.0,   6.2657,  34.1865,2,-999.0000,5,     58.6,1,  6.2120,   -999.0,9,  -999.00,9,  -999.00,9,  -999.00,9,  -999.0,-999.000
     33KB204_1,  PRS2,     2, 13,      6,   8006,2,20080817,2357, 22.7455,-158.0785, 4763,    702,    701.4,   5.7702,  34.3376,2,-999.0000,5,     29.0,1,  5.7094,   -999.0,9,  -999.00,9,  -999.00,9,  -999.00,9,  -999.0,-999.000
     33KB204_1,  PRS2,     2, 13,      5,   8005,2,20080817,2357, 22.7455,-158.0785, 4763,    770,    769.6,   5.0646,  34.3719,2,-999.0000,5,     34.1,1,  5.0015,   -999.0,9,  -999.00,9,  -999.00,9,  -999.00,9,  -999.0,-999.000
     33KB204_1,  PRS2,     2, 13,      4,   8004,2,20080817,2357, 22.7455,-158.0785, 4763,    799,    799.5,   4.8449,  34.3834,2,-999.0000,5,     35.1,1,  4.7806,   -999.0,9,  -999.00,9,  -999.00,9,  -999.00,9,  -999.0,-999.000
     33KB204_1,  PRS2,     2, 13,      3,   8003,2,20080817,2357, 22.7455,-158.0785, 4763,    901,    900.6,   4.6300,  34.4461,2,-999.0000,5,     37.5,1,  4.5582,   -999.0,9,  -999.00,9,  -999.00,9,  -999.00,9,  -999.0,-999.000
     33KB204_1,  PRS2,     2, 13,      2,   8002,2,20080817,2357, 22.7455,-158.0785, 4763,   1019,   1019.3,   4.2309,  34.4788,2,-999.0000,5,     44.0,1,  4.1519,   -999.0,9,  -999.00,9,  -999.00,9,  -999.00,9,  -999.0,-999.000
     33KB204_1,  PRS2,     2, 13,      1,   8001,2,20080817,2357, 22.7455,-158.0785, 4763,   1021,   1019.6,   4.2290,  34.4792,2,  34.4777,2,     44.2,1,  4.1500,   -999.0,9,  -999.00,9,  -999.00,9,  -999.00,9,  -999.0,-999.000
     33KB204_1,  PRS2,     2, 14,     23,   8023,2,20080818,0258, 22.7505,-158.0003, 4744,      8,      7.5,  26.0395,  35.0545,2,-999.0000,5,    207.8,1, 26.0379,   -999.0,9,  -999.00,9,  -999.00,9,  -999.00,9,  -999.0,-999.000
     33KB204_1,  PRS2,     2, 14,     22,   8022,2,20080818,0258, 22.7505,-158.0003, 4744,      7,      7.5,  26.0399,  35.0545,2,  35.0535,2,    207.8,1, 26.0383,   -999.0,9,  -999.00,9,  -999.00,9,  -999.00,9,  -999.0,-999.000
     33KB204_1,  PRS2,     2, 14,     21,   8021,2,20080818,0258, 22.7505,-158.0003, 4744,     18,     17.1,  26.0397,  35.0541,2,  35.0524,2,    207.7,1, 26.0359,   -999.0,9,  -999.00,9,  -999.00,9,  -999.00,9,  -999.0,-999.000
     33KB204_1,  PRS2,     2, 14,     18,   8018,2,20080818,0258, 22.7505,-158.0003, 4744,     24,     24.2,  26.0415,  35.0536,2,  35.0520,2,    207.7,1, 26.0361,   -999.0,9,  -999.00,9,  -999.00,9,  -999.00,9,  -999.0,-999.000
     33KB204_1,  PRS2,     2, 14,     20,   8020,2,20080818,0258, 22.7505,-158.0003, 4744,     25,     24.3,  26.0409,  35.0530,2,-999.0000,5,    207.7,1, 26.0355,   -999.0,9,  -999.00,9,  -999.00,9,  -999.00,9,  -999.0,-999.000
     33KB204_1,  PRS2,     2, 14,     19,   8019,2,20080818,0258, 22.7505,-158.0003, 4744,     24,     24.3,  26.0409,  35.0536,2,  35.0526,2,    207.6,1, 26.0354,   -999.0,9,  -999.00,9,  -999.00,9,  -999.00,9,  -999.0,-999.000
     33KB204_1,  PRS2,     2, 14,     17,   8017,2,20080818,0258, 22.7505,-158.0003, 4744,     35,     35.0,  26.0232,  35.0518,2,  35.0502,2,    208.4,1, 26.0154,   -999.0,9,  -999.00,9,  -999.00,9,  -999.00,9,  -999.0,-999.000
     33KB204_1,  PRS2,     2, 14,     15,   8015,2,20080818,0258, 22.7505,-158.0003, 4744,     44,     44.9,  25.9888,  35.0513,2,  35.0504,2,    208.5,1, 25.9787,   -999.0,9,  -999.00,9,  -999.00,9,  -999.00,9,  -999.0,-999.000
     33KB204_1,  PRS2,     2, 14,     16,   8016,2,20080818,0258, 22.7505,-158.0003, 4744,     46,     45.1,  25.9889,  35.0514,2,-999.0000,5,    208.5,1, 25.9789,   -999.0,9,  -999.00,9,  -999.00,9,  -999.00,9,  -999.0,-999.000
     33KB204_1,  PRS2,     2, 14,     14,   8014,2,20080818,0258, 22.7505,-158.0003, 4744,     60,     59.0,  25.9655,  35.0542,2,  35.0537,2,    208.9,1, 25.9524,   -999.0,9,  -999.00,9,  -999.00,9,  -999.00,9,  -999.0,-999.000
     33KB204_1,  PRS2,     2, 14,     12,   8012,2,20080818,0258, 22.7505,-158.0003, 4744,     75,     75.3,  24.3136,  35.0669,2,  35.0638,2,    220.6,1, 24.2976,   -999.0,9,  -999.00,9,  -999.00,9,  -999.00,9,  -999.0,-999.000
     33KB204_1,  PRS2,     2, 14,     13,   8025,2,20080818,0258, 22.7505,-158.0003, 4744,     76,     75.5,  24.3124,  35.0676,2,-999.0000,5,    220.5,1, 24.2964,   -999.0,9,  -999.00,9,  -999.00,9,  -999.00,9,  -999.0,-999.000
     33KB204_1,  PRS2,     2, 14,     11,   8011,2,20080818,0258, 22.7505,-158.0003, 4744,    100,     99.5,  23.6916,  35.1036,2,-999.0000,5,    220.0,1, 23.6709,   -999.0,9,  -999.00,9,  -999.00,9,  -999.00,9,  -999.0,-999.000
     33KB204_1,  PRS2,     2, 14,     10,   8010,2,20080818,0258, 22.7505,-158.0003, 4744,     99,     99.5,  23.6944,  35.1026,2,  35.0976,2,    219.8,1, 23.6736,   -999.0,9,  -999.00,9,  -999.00,9,  -999.00,9,  -999.0,-999.000
     33KB204_1,  PRS2,     2, 14,      8,   8008,2,20080818,0258, 22.7505,-158.0003, 4744,    124,    124.3,  23.2366,  35.1585,2,  35.1577,2,    217.6,1, 23.2111,   -999.0,9,  -999.00,9,  -999.00,9,  -999.00,9,  -999.0,-999.000
     33KB204_1,  PRS2,     2, 14,      9,   8009,2,20080818,0258, 22.7505,-158.0003, 4744,    125,    124.4,  23.2359,  35.1587,2,-999.0000,5,    217.7,1, 23.2103,   -999.0,9,  -999.00,9,  -999.00,9,  -999.00,9,  -999.0,-999.000
     33KB204_1,  PRS2,     2, 14,      7,   8026,2,20080818,0258, 22.7505,-158.0003, 4744,    150,    150.3,  22.8331,  35.1679,2,-999.0000,5,    213.1,1, 22.8026,   -999.0,9,  -999.00,9,  -999.00,9,  -999.00,9,  -999.0,-999.000
     33KB204_1,  PRS2,     2, 14,      6,   8006,2,20080818,0258, 22.7505,-158.0003, 4744,    151,    150.4,  22.8331,  35.1679,2,  35.1671,2,    213.2,1, 22.8025,   -999.0,9,  -999.00,9,  -999.00,9,  -999.00,9,  -999.0,-999.000
     33KB204_1,  PRS2,     2, 14,      4,   8004,2,20080818,0258, 22.7505,-158.0003, 4744,    174,    174.0,  22.4248,  35.1698,2,  35.1707,2,    205.5,1, 22.3899,   -999.0,9,  -999.00,9,  -999.00,9,  -999.00,9,  -999.0,-999.000
     33KB204_1,  PRS2,     2, 14,      5,   8005,2,20080818,0258, 22.7505,-158.0003, 4744,    174,    174.1,  22.4238,  35.1695,2,-999.0000,5,    205.6,1, 22.3888,   -999.0,9,  -999.00,9,  -999.00,9,  -999.00,9,  -999.0,-999.000
     33KB204_1,  PRS2,     2, 14,      3,   8003,2,20080818,0258, 22.7505,-158.0003, 4744,    300,    299.7,  15.3521,  34.4778,2,  34.4799,2,    191.3,1, 15.3060,   -999.0,9,  -999.00,9,  -999.00,9,  -999.00,9,  -999.0,-999.000
     33KB204_1,  PRS2,     2, 14,      2,   8002,2,20080818,0258, 22.7505,-158.0003, 4744,    538,    539.5,   7.0108,  34.0971,2,  34.0958,2,     98.3,1,  6.9597,   -999.0,9,  -999.00,9,  -999.00,9,  -999.00,9,  -999.0,-999.000
     33KB204_1,  PRS2,     2, 14,      1,   8001,2,20080818,0258, 22.7505,-158.0003, 4744,   1021,   1019.7,   4.3045,  34.4830,2,  34.4824,2,     41.2,1,  4.2249,   -999.0,9,  -999.00,9,  -999.00,9,  -999.00,9,  -999.0,-999.000
     33KB204_1,  PRS2,     2, 15,     21,   8021,2,20080818,0604, 22.7332,-157.9165, 4727,      7,      7.1,  26.0204,  35.0691,2,  35.0681,2,    208.2,1, 26.0188,   -999.0,9,  -999.00,9,  -999.00,9,  -999.00,9,  -999.0,-999.000
     33KB204_1,  PRS2,     2, 15,     22,   8022,2,20080818,0604, 22.7332,-157.9165, 4727,      8,      7.2,  26.0203,  35.0691,2,-999.0000,5,    208.1,1, 26.0187,   -999.0,9,  -999.00,9,  -999.00,9,  -999.00,9,  -999.0,-999.000
     33KB204_1,  PRS2,     2, 15,     20,   8020,2,20080818,0604, 22.7332,-157.9165, 4727,     24,     24.0,  26.0221,  35.0683,2,-999.0000,5,    208.3,1, 26.0168,   -999.0,9,  -999.00,9,  -999.00,9,  -999.00,9,  -999.0,-999.000
     33KB204_1,  PRS2,     2, 15,     19,   8019,2,20080818,0604, 22.7332,-157.9165, 4727,     24,     24.2,  26.0226,  35.0684,2,  35.0671,2,    208.4,1, 26.0172,   -999.0,9,  -999.00,9,  -999.00,9,  -999.00,9,  -999.0,-999.000
     33KB204_1,  PRS2,     2, 15,     17,   8017,2,20080818,0604, 22.7332,-157.9165, 4727,     45,     44.9,  26.0200,  35.0673,2,  35.0624,2,    208.5,1, 26.0099,   -999.0,9,  -999.00,9,  -999.00,9,  -999.00,9,  -999.0,-999.000
     33KB204_1,  PRS2,     2, 15,     18,   8018,2,20080818,0604, 22.7332,-157.9165, 4727,     45,     45.1,  26.0212,  35.0679,2,-999.0000,5,    208.5,1, 26.0111,   -999.0,9,  -999.00,9,  -999.00,9,  -999.00,9,  -999.0,-999.000
     33KB204_1,  PRS2,     2, 15,     16,   8016,2,20080818,0604, 22.7332,-157.9165, 4727,     60,     59.5,  24.5794,  35.0678,2,  35.0673,2,    224.3,1, 24.5666,   -999.0,9,  -999.00,9,  -999.00,9,  -999.00,9,  -999.0,-999.000
     33KB204_1,  PRS2,     2, 15,     14,   8014,2,20080818,0604, 22.7332,-157.9165, 4727,     75,     74.9,  23.7609,  35.1002,2,  35.0990,2,    220.0,1, 23.7452,   -999.0,9,  -999.00,9,  -999.00,9,  -999.00,9,  -999.0,-999.000
     33KB204_1,  PRS2,     2, 15,     15,   8015,2,20080818,0604, 22.7332,-157.9165, 4727,     75,     75.3,  23.7576,  35.1007,2,-999.0000,5,    220.0,1, 23.7419,   -999.0,9,  -999.00,9,  -999.00,9,  -999.00,9,  -999.0,-999.000
     33KB204_1,  PRS2,     2, 15,     13,   8025,2,20080818,0604, 22.7332,-157.9165, 4727,     84,     84.6,  23.6700,  35.1071,2,  35.1102,2,    219.9,1, 23.6524,   -999.0,9,  -999.00,9,  -999.00,9,  -999.00,9,  -999.0,-999.000
     33KB204_1,  PRS2,     2, 15,     12,   8012,2,20080818,0604, 22.7332,-157.9165, 4727,    100,    100.3,  23.3896,  35.1544,2,-999.0000,5,    219.0,1, 23.3689,   -999.0,9,  -999.00,9,  -999.00,9,  -999.00,9,  -999.0,-999.000
     33KB204_1,  PRS2,     2, 15,     11,   8011,2,20080818,0604, 22.7332,-157.9165, 4727,    100,    100.3,  23.3896,  35.1545,2,  35.1532,2,    218.9,1, 23.3689,   -999.0,9,  -999.00,9,  -999.00,9,  -999.00,9,  -999.0,-999.000
     33KB204_1,  PRS2,     2, 15,     10,   8010,2,20080818,0604, 22.7332,-157.9165, 4727,    115,    114.3,  23.0589,  35.1647,2,  35.1638,2,    215.6,1, 23.0355,   -999.0,9,  -999.00,9,  -999.00,9,  -999.00,9,  -999.0,-999.000
     33KB204_1,  PRS2,     2, 15,      8,   8008,2,20080818,0604, 22.7332,-157.9165, 4727,    124,    124.4,  22.9323,  35.1660,2,  35.1654,2,    214.1,1, 22.9069,   -999.0,9,  -999.00,9,  -999.00,9,  -999.00,9,  -999.0,-999.000
     33KB204_1,  PRS2,     2, 15,      9,   8009,2,20080818,0604, 22.7332,-157.9165, 4727,    125,    124.6,  22.9322,  35.1659,2,-999.0000,5,    214.1,1, 22.9068,   -999.0,9,  -999.00,9,  -999.00,9,  -999.00,9,  -999.0,-999.000
     33KB204_1,  PRS2,     2, 15,      7,   8026,2,20080818,0604, 22.7332,-157.9165, 4727,    134,    133.9,  22.8466,  35.1672,2,  35.1664,2,    212.8,1, 22.8194,   -999.0,9,  -999.00,9,  -999.00,9,  -999.00,9,  -999.0,-999.000
     33KB204_1,  PRS2,     2, 15,      6,   8006,2,20080818,0604, 22.7332,-157.9165, 4727,    150,    149.7,  22.6484,  35.1642,2,-999.0000,5,    209.8,1, 22.6181,   -999.0,9,  -999.00,9,  -999.00,9,  -999.00,9,  -999.0,-999.000
     33KB204_1,  PRS2,     2, 15,      5,   8005,2,20080818,0604, 22.7332,-157.9165, 4727,    151,    149.8,  22.6468,  35.1647,2,  35.1644,2,    209.7,1, 22.6165,   -999.0,9,  -999.00,9,  -999.00,9,  -999.00,9,  -999.0,-999.000
     33KB204_1,  PRS2,     2, 15,      4,   8004,2,20080818,0604, 22.7332,-157.9165, 4727,    174,    174.4,  22.3268,  35.1809,2,-999.0000,5,    203.0,1, 22.2919,   -999.0,9,  -999.00,9,  -999.00,9,  -999.00,9,  -999.0,-999.000
     33KB204_1,  PRS2,     2, 15,      3,   8003,2,20080818,0604, 22.7332,-157.9165, 4727,    174,    174.4,  22.3276,  35.1805,2,  35.1796,2,    202.9,1, 22.2927,   -999.0,9,  -999.00,9,  -999.00,9,  -999.00,9,  -999.0,-999.000
     33KB204_1,  PRS2,     2, 15,      2,   8002,2,20080818,0604, 22.7332,-157.9165, 4727,    425,    425.1,   9.6544,  34.1334,2,  34.1330,2,    168.6,1,  9.6061,   -999.0,9,  -999.00,9,  -999.00,9,  -999.00,9,  -999.0,-999.000
     33KB204_1,  PRS2,     2, 15,      1,   8001,2,20080818,0604, 22.7332,-157.9165, 4727,   1020,   1020.2,   4.3213,  34.4790,2,  34.4785,2,     41.4,1,  4.2415,   -999.0,9,  -999.00,9,  -999.00,9,  -999.00,9,  -999.0,-999.000
     33KB204_1,  PRS2,     2, 16,     12,   8012,2,20080818,0914, 22.7500,-158.0003, 4745,      7,      6.8,  25.9557,  35.0626,2,  35.0614,2,    208.2,2, 25.9542,    214.5,4,  -999.00,9,  -999.00,9,  -999.00,9,  -999.0,-999.000
     33KB204_1,  PRS2,     2, 16,     11,   8011,2,20080818,0914, 22.7500,-158.0003, 4745,     75,     75.5,  23.4463,  35.1506,2,  35.1494,2,    218.4,2, 23.4307,    219.4,2,  -999.00,9,  -999.00,9,  -999.00,9,  -999.0,-999.000
     33KB204_1,  PRS2,     2, 16,     10,   8010,2,20080818,0914, 22.7500,-158.0003, 4745,    526,    525.2,   7.1151,  34.0913,2,  34.0907,2,    100.9,2,  7.0650,    101.1,2,  -999.00,9,  -999.00,9,  -999.00,9,  -999.0,-999.000
     33KB204_1,  PRS2,     2, 16,      9,   8009,2,20080818,0914, 22.7500,-158.0003, 4745,    751,    750.6,   5.4911,  34.3719,2,  34.3692,2,     29.9,2,  5.4273,     28.5,2,  -999.00,9,  -999.00,9,  -999.00,9,  -999.0,-999.000
     33KB204_1,  PRS2,     2, 16,      8,   8008,2,20080818,0914, 22.7500,-158.0003, 4745,   1001,   1001.6,   4.2891,  34.4837,2,-999.0000,5,     41.8,2,  4.2111,   -999.0,5,  -999.00,9,  -999.00,9,  -999.00,9,  -999.0,-999.000
     33KB204_1,  PRS2,     2, 16,      6,   8006,2,20080818,0914, 22.7500,-158.0003, 4745,   2000,   1999.5,   2.1844,  34.6162,2,  34.6148,2,     86.4,2,  2.0453,     87.4,2,  -999.00,9,  -999.00,9,  -999.00,9,  -999.0,-999.000
     33KB204_1,  PRS2,     2, 16,      7,   8026,2,20080818,0914, 22.7500,-158.0003, 4745,   2000,   1999.6,   2.1846,  34.6161,2,-999.0000,5,     86.3,2,  2.0454,   -999.0,5,  -999.00,9,  -999.00,9,  -999.00,9,  -999.0,-999.000
     33KB204_1,  PRS2,     2, 16,      5,   8005,2,20080818,0914, 22.7500,-158.0003, 4745,   3000,   3000.5,   1.5619,  34.6697,2,-999.0000,5,    124.0,2,  1.3437,   -999.0,5,  -999.00,9,  -999.00,9,  -999.00,9,  -999.0,-999.000
     33KB204_1,  PRS2,     2, 16,      4,   8004,2,20080818,0914, 22.7500,-158.0003, 4745,   3001,   3000.5,   1.5618,  34.6697,2,  34.6681,2,    124.1,2,  1.3436,    124.1,2,  -999.00,9,  -999.00,9,  -999.00,9,  -999.0,-999.000
     33KB204_1,  PRS2,     2, 16,      3,   8003,2,20080818,0914, 22.7500,-158.0003, 4745,   4001,   4000.4,   1.4668,  34.6872,2,-999.0000,5,    147.1,2,  1.1487,   -999.0,5,  -999.00,9,  -999.00,9,  -999.00,9,  -999.0,-999.000
     33KB204_1,  PRS2,     2, 16,      2,   8002,2,20080818,0914, 22.7500,-158.0003, 4745,   4001,   4000.8,   1.4667,  34.6871,2,  34.6855,2,    147.1,2,  1.1487,    146.6,2,  -999.00,9,  -999.00,9,  -999.00,9,  -999.0,-999.000
     33KB204_1,  PRS2,     2, 16,      1,   8001,2,20080818,0914, 22.7500,-158.0003, 4745,   4805,   4804.7,   1.5057,  34.6915,2,  34.6916,2,    154.8,2,  1.0948,    154.6,2,  -999.00,9,  -999.00,9,  -999.00,9,  -999.0,-999.000