BOTTLE,20090923WHPSIOMYS
EXPOCODE,SECT_ID,STNNBR,CASTNO,SAMPNO,BTLNBR,BTLNBR_FLAG_W,DATE,TIME,LATITUDE,LONGITUDE,DEPTH,CTDRAW,CTDPRS,CTDTMP,CTDSAL,CTDSAL_FLAG_W,SALNTY,SALNTY_FLAG_W,CTDOXY,CTDOXY_FLAG_W,THETA,OXYGEN,OXYGEN_FLAG_W,SILCAT,SILCAT_FLAG_W,NO2+NO3,NO2+NO3_FLAG_W,PHSPHT,PHSPHT_FLAG_W,REVPRS,REVTMP
,,,,,,,,,,,,,DBAR,ITS-90,PSS-78,,PSS-78,,UMOL/KG,,ITS-90,UMOL/KG,,UMOL/KG,,UMOL/KG,,UMOL/KG,,DBAR,DEG C
     33KB204_1,  PRS2,     2,  6,     24,   8024,2,20080817,0256, 22.8012,-158.0718, 4744,      8,      7.8,  26.0877,  35.0540,2,  35.0535,2,    208.0,1, 26.0860,   -999.0,9,  -999.00,9,  -999.00,9,  -999.00,9,  -999.0,-999.000
     33KB204_1,  PRS2,     2,  6,     23,   8023,2,20080817,0256, 22.8012,-158.0718, 4744,     25,     24.6,  26.0740,  35.0491,2,  35.0504,2,    208.0,1, 26.0685,   -999.0,9,  -999.00,9,  -999.00,9,  -999.00,9,  -999.0,-999.000
     33KB204_1,  PRS2,     2,  6,     22,   8022,2,20080817,0256, 22.8012,-158.0718, 4744,     44,     44.8,  25.8973,  35.0692,2,-999.0000,5,    209.4,1, 25.8874,   -999.0,9,  -999.00,9,  -999.00,9,  -999.00,9,  -999.0,-999.000
     33KB204_1,  PRS2,     2,  6,     21,   8021,2,20080817,0256, 22.8012,-158.0718, 4744,     45,     45.0,  25.9006,  35.0677,2,-999.0000,5,    209.7,1, 25.8906,   -999.0,9,  -999.00,9,  -999.00,9,  -999.00,9,  -999.0,-999.000
     33KB204_1,  PRS2,     2,  6,     20,   8020,2,20080817,0256, 22.8012,-158.0718, 4744,     46,     45.0,  25.8981,  35.0690,2,  35.0632,2,    210.0,1, 25.8881,   -999.0,9,  -999.00,9,  -999.00,9,  -999.00,9,  -999.0,-999.000
     33KB204_1,  PRS2,     2,  6,     17,   8017,2,20080817,0256, 22.8012,-158.0718, 4744,     74,     75.1,  23.9732,  35.0862,2,  35.0856,2,    220.4,1, 23.9574,   -999.0,9,  -999.00,9,  -999.00,9,  -999.00,9,  -999.0,-999.000
     33KB204_1,  PRS2,     2,  6,     18,   8018,2,20080817,0256, 22.8012,-158.0718, 4744,     75,     75.3,  23.9720,  35.0862,2,-999.0000,5,    220.3,1, 23.9561,   -999.0,9,  -999.00,9,  -999.00,9,  -999.00,9,  -999.0,-999.000
     33KB204_1,  PRS2,     2,  6,     19,   8019,2,20080817,0256, 22.8012,-158.0718, 4744,     77,     75.6,  23.9719,  35.0863,2,-999.0000,5,    220.2,1, 23.9560,   -999.0,9,  -999.00,9,  -999.00,9,  -999.00,9,  -999.0,-999.000
     33KB204_1,  PRS2,     2,  6,     15,   8015,2,20080817,0256, 22.8012,-158.0718, 4744,    100,    100.6,  23.3304,  35.1278,2,-999.0000,5,    218.1,1, 23.3096,   -999.0,9,  -999.00,9,  -999.00,9,  -999.00,9,  -999.0,-999.000
     33KB204_1,  PRS2,     2,  6,     16,   8016,2,20080817,0256, 22.8012,-158.0718, 4744,    101,    100.8,  23.3256,  35.1278,2,-999.0000,5,    218.1,1, 23.3048,   -999.0,9,  -999.00,9,  -999.00,9,  -999.00,9,  -999.0,-999.000
     33KB204_1,  PRS2,     2,  6,     14,   8014,2,20080817,0256, 22.8012,-158.0718, 4744,    101,    100.8,  23.3301,  35.1276,2,  35.1289,2,    218.1,1, 23.3094,   -999.0,9,  -999.00,9,  -999.00,9,  -999.00,9,  -999.0,-999.000
     33KB204_1,  PRS2,     2,  6,     11,   8011,2,20080817,0256, 22.8012,-158.0718, 4744,    123,    123.4,  22.9035,  35.1574,2,  35.1565,2,    213.1,1, 22.8784,   -999.0,9,  -999.00,9,  -999.00,9,  -999.00,9,  -999.0,-999.000
     33KB204_1,  PRS2,     2,  6,     13,   8025,2,20080817,0256, 22.8012,-158.0718, 4744,    125,    123.6,  22.9020,  35.1576,2,-999.0000,5,    213.2,1, 22.8768,   -999.0,9,  -999.00,9,  -999.00,9,  -999.00,9,  -999.0,-999.000
     33KB204_1,  PRS2,     2,  6,     12,   8012,2,20080817,0256, 22.8012,-158.0718, 4744,    123,    123.6,  22.9022,  35.1578,2,-999.0000,5,    213.1,1, 22.8770,   -999.0,9,  -999.00,9,  -999.00,9,  -999.00,9,  -999.0,-999.000
     33KB204_1,  PRS2,     2,  6,     10,   8010,2,20080817,0256, 22.8012,-158.0718, 4744,    149,    149.1,  22.4453,  35.1931,2,-999.0000,5,    205.3,1, 22.4154,   -999.0,9,  -999.00,9,  -999.00,9,  -999.00,9,  -999.0,-999.000
     33KB204_1,  PRS2,     2,  6,      9,   8009,2,20080817,0256, 22.8012,-158.0718, 4744,    149,    149.2,  22.4453,  35.1934,2,-999.0000,5,    205.3,1, 22.4153,   -999.0,9,  -999.00,9,  -999.00,9,  -999.00,9,  -999.0,-999.000
     33KB204_1,  PRS2,     2,  6,      8,   8008,2,20080817,0256, 22.8012,-158.0718, 4744,    150,    149.2,  22.4447,  35.1932,2,  35.1924,2,    205.2,1, 22.4147,   -999.0,9,  -999.00,9,  -999.00,9,  -999.00,9,  -999.0,-999.000
     33KB204_1,  PRS2,     2,  6,      7,   8026,2,20080817,0256, 22.8012,-158.0718, 4744,    175,    174.9,  21.9393,  35.2055,2,  35.2061,2,    200.8,1, 21.9047,   -999.0,9,  -999.00,9,  -999.00,9,  -999.00,9,  -999.0,-999.000
     33KB204_1,  PRS2,     2,  6,      6,   8006,2,20080817,0256, 22.8012,-158.0718, 4744,    200,    199.7,  21.1113,  35.1582,2,  35.1614,2,    197.7,1, 21.0729,   -999.0,9,  -999.00,9,  -999.00,9,  -999.00,9,  -999.0,-999.000
     33KB204_1,  PRS2,     2,  6,      5,   8005,2,20080817,0256, 22.8012,-158.0718, 4744,    250,    249.7,  19.1102,  34.9492,2,  34.9475,2,    193.5,1, 19.0654,   -999.0,9,  -999.00,9,  -999.00,9,  -999.00,9,  -999.0,-999.000
     33KB204_1,  PRS2,     2,  6,      4,   8004,2,20080817,0256, 22.8012,-158.0718, 4744,    350,    349.8,  12.3299,  34.2579,2,  34.2613,2,    200.4,1, 12.2835,   -999.0,9,  -999.00,9,  -999.00,9,  -999.00,9,  -999.0,-999.000
     33KB204_1,  PRS2,     2,  6,      3,   8003,2,20080817,0256, 22.8012,-158.0718, 4744,    349,    349.8,  12.3207,  34.2566,2,  34.2615,2,    200.5,1, 12.2743,   -999.0,9,  -999.00,9,  -999.00,9,  -999.00,9,  -999.0,-999.000
     33KB204_1,  PRS2,     2,  6,      2,   8002,2,20080817,0256, 22.8012,-158.0718, 4744,    539,    539.8,   7.1985,  34.1014,2,  34.1015,2,    101.3,1,  7.1466,   -999.0,9,  -999.00,9,  -999.00,9,  -999.00,9,  -999.0,-999.000
     33KB204_1,  PRS2,     2,  6,      1,   8001,2,20080817,0256, 22.8012,-158.0718, 4744,   1018,   1018.9,   4.1733,  34.4840,2,  34.4838,2,     44.1,1,  4.0947,   -999.0,9,  -999.00,9,  -999.00,9,  -999.00,9,  -999.0,-999.000
     33KB204_1,  PRS2,     2,  7,     22,   8022,2,20080817,0559, 22.8185,-158.0527, 4726,      8,      7.7,  26.0359,  35.0555,2,  35.0543,2,    207.8,2, 26.0342,    206.8,2,  -999.00,9,  -999.00,9,  -999.00,9,  -999.0,-999.000
     33KB204_1,  PRS2,     2,  7,     23,   8023,2,20080817,0559, 22.8185,-158.0527, 4726,      9,      7.8,  26.0365,  35.0553,2,  35.0543,2,    207.9,2, 26.0348,   -999.0,5,  -999.00,9,  -999.00,9,  -999.00,9,  -999.0,-999.000
     33KB204_1,  PRS2,     2,  7,     21,   8021,2,20080817,0559, 22.8185,-158.0527, 4726,     18,     18.1,  26.0429,  35.0553,2,  35.0541,2,    207.7,2, 26.0389,   -999.0,5,  -999.00,9,  -999.00,9,  -999.00,9,  -999.0,-999.000
     33KB204_1,  PRS2,     2,  7,     20,   8020,2,20080817,0559, 22.8185,-158.0527, 4726,     25,     24.6,  26.0445,  35.0550,2,  35.0555,2,    207.7,2, 26.0390,   -999.0,5,  -999.00,9,  -999.00,9,  -999.00,9,  -999.0,-999.000
     33KB204_1,  PRS2,     2,  7,     19,   8019,2,20080817,0559, 22.8185,-158.0527, 4726,     25,     24.6,  26.0443,  35.0549,2,  35.0549,2,    207.7,2, 26.0388,    207.3,2,  -999.00,9,  -999.00,9,  -999.00,9,  -999.0,-999.000
     33KB204_1,  PRS2,     2,  7,     18,   8018,2,20080817,0559, 22.8185,-158.0527, 4726,     36,     35.8,  25.9969,  35.0533,2,  35.0545,2,    207.6,2, 25.9889,   -999.0,5,  -999.00,9,  -999.00,9,  -999.00,9,  -999.0,-999.000
     33KB204_1,  PRS2,     2,  7,     17,   8017,2,20080817,0559, 22.8185,-158.0527, 4726,     47,     45.9,  25.1426,  35.0609,2,  35.0618,2,    221.0,2, 25.1326,    217.5,2,  -999.00,9,  -999.00,9,  -999.00,9,  -999.0,-999.000
     33KB204_1,  PRS2,     2,  7,     16,   8016,2,20080817,0559, 22.8185,-158.0527, 4726,     60,     59.7,  24.2198,  35.0750,2,  35.0752,2,    223.7,2, 24.2072,   -999.0,5,  -999.00,9,  -999.00,9,  -999.00,9,  -999.0,-999.000
     33KB204_1,  PRS2,     2,  7,     15,   8015,2,20080817,0559, 22.8185,-158.0527, 4726,     76,     76.2,  23.6606,  35.0983,2,  35.0986,2,    219.2,2, 23.6448,    220.6,2,  -999.00,9,  -999.00,9,  -999.00,9,  -999.0,-999.000
     33KB204_1,  PRS2,     2,  7,     14,   8014,2,20080817,0559, 22.8185,-158.0527, 4726,     84,     84.5,  23.4978,  35.1071,2,  35.1083,2,    218.7,2, 23.4803,    218.5,2,  -999.00,9,  -999.00,9,  -999.00,9,  -999.0,-999.000
     33KB204_1,  PRS2,     2,  7,     13,   8025,2,20080817,0559, 22.8185,-158.0527, 4726,     91,     90.1,  23.4438,  35.1170,2,  35.1187,2,    219.5,2, 23.4251,   -999.0,5,  -999.00,9,  -999.00,9,  -999.00,9,  -999.0,-999.000
     33KB204_1,  PRS2,     2,  7,     12,   8012,2,20080817,0559, 22.8185,-158.0527, 4726,    102,    100.8,  23.0743,  35.1408,2,  35.1413,2,    215.6,2, 23.0537,    215.5,2,  -999.00,9,  -999.00,9,  -999.00,9,  -999.0,-999.000
     33KB204_1,  PRS2,     2,  7,     11,   8011,2,20080817,0559, 22.8185,-158.0527, 4726,    111,    110.3,  22.9513,  35.1577,2,  35.1585,2,    212.4,2, 22.9289,   -999.0,5,  -999.00,9,  -999.00,9,  -999.00,9,  -999.0,-999.000
     33KB204_1,  PRS2,     2,  7,     10,   8010,2,20080817,0559, 22.8185,-158.0527, 4726,    116,    115.1,  22.8645,  35.1694,2,  35.1685,2,    211.2,2, 22.8411,    211.3,2,  -999.00,9,  -999.00,9,  -999.00,9,  -999.0,-999.000
     33KB204_1,  PRS2,     2,  7,      9,   8009,2,20080817,0559, 22.8185,-158.0527, 4726,    124,    124.8,  22.5791,  35.1876,2,  35.1884,2,    206.4,2, 22.5539,    206.4,2,  -999.00,9,  -999.00,9,  -999.00,9,  -999.0,-999.000
     33KB204_1,  PRS2,     2,  7,      8,   8008,2,20080817,0559, 22.8185,-158.0527, 4726,    129,    129.2,  22.4881,  35.1944,2,  35.1941,2,    205.1,2, 22.4621,   -999.0,5,  -999.00,9,  -999.00,9,  -999.00,9,  -999.0,-999.000
     33KB204_1,  PRS2,     2,  7,      7,   8026,2,20080817,0559, 22.8185,-158.0527, 4726,    149,    149.7,  22.1426,  35.1980,2,  35.1981,2,    201.9,2, 22.1128,    201.5,2,  -999.00,9,  -999.00,9,  -999.00,9,  -999.0,-999.000
     33KB204_1,  PRS2,     2,  7,      6,   8006,2,20080817,0559, 22.8185,-158.0527, 4726,    166,    165.5,  21.8642,  35.1906,2,  35.1912,2,    200.5,2, 21.8316,    200.5,2,  -999.00,9,  -999.00,9,  -999.00,9,  -999.0,-999.000
     33KB204_1,  PRS2,     2,  7,      5,   8005,2,20080817,0559, 22.8185,-158.0527, 4726,    174,    174.1,  21.6386,  35.1828,2,  35.1815,2,    198.9,2, 21.6046,    198.8,2,  -999.00,9,  -999.00,9,  -999.00,9,  -999.0,-999.000
     33KB204_1,  PRS2,     2,  7,      4,   8004,2,20080817,0559, 22.8185,-158.0527, 4726,    200,    200.5,  20.5185,  35.1191,2,  35.1250,2,    196.0,2, 20.4807,    197.3,2,  -999.00,9,  -999.00,9,  -999.00,9,  -999.0,-999.000
     33KB204_1,  PRS2,     2,  7,      3,   8003,2,20080817,0559, 22.8185,-158.0527, 4726,    502,    501.4,   8.1249,  34.1292,2,  34.1279,2,    111.8,2,  8.0733,    112.7,2,  -999.00,9,  -999.00,9,  -999.00,9,  -999.0,-999.000
     33KB204_1,  PRS2,     2,  7,      2,   8002,2,20080817,0559, 22.8185,-158.0527, 4726,    775,    774.7,   5.2483,  34.3766,2,  34.3757,2,     31.1,2,  5.1837,     30.6,2,  -999.00,9,  -999.00,9,  -999.00,9,  -999.0,-999.000
     33KB204_1,  PRS2,     2,  7,      1,   8001,2,20080817,0559, 22.8185,-158.0527, 4726,   1019,   1019.2,   4.1333,  34.4879,2,  34.4875,2,     43.8,2,  4.0550,     43.5,2,  -999.00,9,  -999.00,9,  -999.00,9,  -999.0,-999.000
     33KB204_1,  PRS2,     2,  8,     24,   8024,2,20080817,0904, 22.7762,-158.0038, 4733,      8,      7.2,  26.0056,  35.0623,2,  35.0610,2,    208.3,1, 26.0040,   -999.0,9,  -999.00,9,  -999.00,9,  -999.00,9,  -999.0,-999.000
     33KB204_1,  PRS2,     2,  8,     23,   8023,2,20080817,0904, 22.7762,-158.0038, 4733,     25,     25.0,  26.0138,  35.0612,2,  35.0598,2,    208.3,1, 26.0082,   -999.0,9,  -999.00,9,  -999.00,9,  -999.00,9,  -999.0,-999.000
     33KB204_1,  PRS2,     2,  8,     22,   8022,2,20080817,0904, 22.7762,-158.0038, 4733,     46,     45.5,  25.8625,  35.0643,2,  35.0592,2,    208.8,1, 25.8524,   -999.0,9,  -999.00,9,  -999.00,9,  -999.00,9,  -999.0,-999.000
     33KB204_1,  PRS2,     2,  8,     21,   8021,2,20080817,0904, 22.7762,-158.0038, 4733,     76,     75.0,  23.5371,  35.1214,2,  35.1136,2,    218.9,1, 23.5216,   -999.0,9,  -999.00,9,  -999.00,9,  -999.00,9,  -999.0,-999.000
     33KB204_1,  PRS2,     2,  8,     20,   8020,2,20080817,0904, 22.7762,-158.0038, 4733,    101,    100.7,  22.9816,  35.1646,2,  35.1642,2,    215.0,1, 22.9610,   -999.0,9,  -999.00,9,  -999.00,9,  -999.00,9,  -999.0,-999.000
     33KB204_1,  PRS2,     2,  8,     19,   8019,2,20080817,0904, 22.7762,-158.0038, 4733,    126,    125.2,  22.5609,  35.1772,2,  35.1752,2,    208.1,1, 22.5357,   -999.0,9,  -999.00,9,  -999.00,9,  -999.00,9,  -999.0,-999.000
     33KB204_1,  PRS2,     2,  8,     18,   8018,2,20080817,0904, 22.7762,-158.0038, 4733,    150,    150.9,  22.0899,  35.2067,2,  35.2056,2,    201.3,1, 22.0599,   -999.0,9,  -999.00,9,  -999.00,9,  -999.00,9,  -999.0,-999.000
     33KB204_1,  PRS2,     2,  8,     17,   8017,2,20080817,0904, 22.7762,-158.0038, 4733,    176,    174.9,  21.1179,  35.1671,2,  35.1658,2,    197.1,1, 21.0843,   -999.0,9,  -999.00,9,  -999.00,9,  -999.00,9,  -999.0,-999.000
     33KB204_1,  PRS2,     2,  8,     15,   8015,2,20080817,0904, 22.7762,-158.0038, 4733,    500,    500.1,   7.4907,  34.1055,2,-999.0000,5,    105.7,1,  7.4417,   -999.0,9,  -999.00,9,  -999.00,9,  -999.00,9,  -999.0,-999.000
     33KB204_1,  PRS2,     2,  8,     16,   8016,2,20080817,0904, 22.7762,-158.0038, 4733,    501,    500.2,   7.4904,  34.1055,2,-999.0000,5,    105.9,1,  7.4414,   -999.0,9,  -999.00,9,  -999.00,9,  -999.00,9,  -999.0,-999.000
     33KB204_1,  PRS2,     2,  8,     14,   8014,2,20080817,0904, 22.7762,-158.0038, 4733,    500,    500.2,   7.4886,  34.1056,2,-999.0000,5,    105.4,1,  7.4396,   -999.0,9,  -999.00,9,  -999.00,9,  -999.00,9,  -999.0,-999.000
     33KB204_1,  PRS2,     2,  8,     13,   8025,2,20080817,0904, 22.7762,-158.0038, 4733,    501,    500.2,   7.4871,  34.1048,2,-999.0000,5,    105.2,1,  7.4381,   -999.0,9,  -999.00,9,  -999.00,9,  -999.00,9,  -999.0,-999.000
     33KB204_1,  PRS2,     2,  8,     12,   8012,2,20080817,0904, 22.7762,-158.0038, 4733,    499,    500.2,   7.4849,  34.1053,2,-999.0000,5,    105.0,1,  7.4359,   -999.0,9,  -999.00,9,  -999.00,9,  -999.00,9,  -999.0,-999.000
     33KB204_1,  PRS2,     2,  8,     11,   8011,2,20080817,0904, 22.7762,-158.0038, 4733,    526,    525.9,   6.9562,  34.0955,2,  34.0938,2,     98.9,1,  6.9067,   -999.0,9,  -999.00,9,  -999.00,9,  -999.00,9,  -999.0,-999.000
     33KB204_1,  PRS2,     2,  8,     10,   8010,2,20080817,0904, 22.7762,-158.0038, 4733,    770,    770.7,   5.2515,  34.3644,2,-999.0000,5,     32.9,1,  5.1872,   -999.0,9,  -999.00,9,  -999.00,9,  -999.00,9,  -999.0,-999.000
     33KB204_1,  PRS2,     2,  8,      9,   8009,2,20080817,0904, 22.7762,-158.0038, 4733,    771,    770.8,   5.2521,  34.3643,2,-999.0000,5,     32.9,1,  5.1879,   -999.0,9,  -999.00,9,  -999.00,9,  -999.00,9,  -999.0,-999.000
     33KB204_1,  PRS2,     2,  8,      7,   8026,2,20080817,0904, 22.7762,-158.0038, 4733,    771,    770.8,   5.2533,  34.3636,2,-999.0000,5,     32.8,1,  5.1890,   -999.0,9,  -999.00,9,  -999.00,9,  -999.00,9,  -999.0,-999.000
     33KB204_1,  PRS2,     2,  8,      8,   8008,2,20080817,0904, 22.7762,-158.0038, 4733,    771,    770.9,   5.2517,  34.3643,2,-999.0000,5,     32.9,1,  5.1874,   -999.0,9,  -999.00,9,  -999.00,9,  -999.00,9,  -999.0,-999.000
     33KB204_1,  PRS2,     2,  8,      6,   8006,2,20080817,0904, 22.7762,-158.0038, 4733,    771,    770.9,   5.2539,  34.3646,2,-999.0000,5,     32.8,1,  5.1896,   -999.0,9,  -999.00,9,  -999.00,9,  -999.00,9,  -999.0,-999.000
     33KB204_1,  PRS2,     2,  8,      1,   8001,2,20080817,0904, 22.7762,-158.0038, 4733,   1019,   1019.1,   4.1846,  34.4840,2,  34.4828,2,     44.7,1,  4.1059,   -999.0,9,  -999.00,9,  -999.00,9,  -999.00,9,  -999.0,-999.000
     33KB204_1,  PRS2,     2,  8,      2,   8002,2,20080817,0904, 22.7762,-158.0038, 4733,   1019,   1019.4,   4.1840,  34.4842,2,-999.0000,5,     44.7,1,  4.1053,   -999.0,9,  -999.00,9,  -999.00,9,  -999.00,9,  -999.0,-999.000
     33KB204_1,  PRS2,     2,  8,      5,   8005,2,20080817,0904, 22.7762,-158.0038, 4733,   1020,   1019.5,   4.1835,  34.4840,2,-999.0000,5,     44.7,1,  4.1048,   -999.0,9,  -999.00,9,  -999.00,9,  -999.00,9,  -999.0,-999.000
     33KB204_1,  PRS2,     2,  8,      3,   8003,2,20080817,0904, 22.7762,-158.0038, 4733,   1020,   1019.5,   4.1837,  34.4843,2,-999.0000,5,     44.7,1,  4.1050,   -999.0,9,  -999.00,9,  -999.00,9,  -999.00,9,  -999.0,-999.000
     33KB204_1,  PRS2,     2,  8,      4,   8004,2,20080817,0904, 22.7762,-158.0038, 4733,   1020,   1019.6,   4.1835,  34.4840,2,-999.0000,5,     44.7,1,  4.1048,   -999.0,9,  -999.00,9,  -999.00,9,  -999.00,9,  -999.0,-999.000