BOTTLE,20090923WHPSIOMYS
EXPOCODE,SECT_ID,STNNBR,CASTNO,SAMPNO,BTLNBR,BTLNBR_FLAG_W,DATE,TIME,LATITUDE,LONGITUDE,DEPTH,CTDRAW,CTDPRS,CTDTMP,CTDSAL,CTDSAL_FLAG_W,SALNTY,SALNTY_FLAG_W,CTDOXY,CTDOXY_FLAG_W,THETA,OXYGEN,OXYGEN_FLAG_W,SILCAT,SILCAT_FLAG_W,NO2+NO3,NO2+NO3_FLAG_W,PHSPHT,PHSPHT_FLAG_W,REVPRS,REVTMP
,,,,,,,,,,,,,DBAR,ITS-90,PSS-78,,PSS-78,,UMOL/KG,,ITS-90,UMOL/KG,,UMOL/KG,,UMOL/KG,,UMOL/KG,,DBAR,DEG C
     33KB204_1,  PRS2,     2,  9,     22,   8022,2,20080817,1153, 22.7758,-157.9967, 4732,      7,      6.8,  25.9920,  35.0623,2,-999.0000,9,    207.7,1, 25.9904,   -999.0,9,  -999.00,9,  -999.00,9,  -999.00,9,  -999.0,-999.000
     33KB204_1,  PRS2,     2,  9,     23,   8023,2,20080817,1153, 22.7758,-157.9967, 4732,      6,      7.1,  25.9923,  35.0623,2,-999.0000,9,    207.7,1, 25.9907,   -999.0,9,  -999.00,9,  -999.00,9,  -999.00,9,  -999.0,-999.000
     33KB204_1,  PRS2,     2,  9,     21,   8021,2,20080817,1153, 22.7758,-157.9967, 4732,      7,      7.2,  25.9922,  35.0623,2,-999.0000,9,    207.7,1, 25.9906,   -999.0,9,  -999.00,9,  -999.00,9,  -999.00,9,  -999.0,-999.000
     33KB204_1,  PRS2,     2,  9,     24,   8024,2,20080817,1153, 22.7758,-157.9967, 4732,      8,      7.4,  25.9927,  35.0622,2,-999.0000,9,    207.7,1, 25.9910,   -999.0,9,  -999.00,9,  -999.00,9,  -999.00,9,  -999.0,-999.000
     33KB204_1,  PRS2,     2,  9,     20,   8020,2,20080817,1153, 22.7758,-157.9967, 4732,     26,     25.6,  25.9963,  35.0624,2,-999.0000,9,    207.9,1, 25.9906,   -999.0,9,  -999.00,9,  -999.00,9,  -999.00,9,  -999.0,-999.000
     33KB204_1,  PRS2,     2,  9,     19,   8019,2,20080817,1153, 22.7758,-157.9967, 4732,     26,     25.6,  25.9973,  35.0621,2,-999.0000,9,    208.1,1, 25.9916,   -999.0,9,  -999.00,9,  -999.00,9,  -999.00,9,  -999.0,-999.000
     33KB204_1,  PRS2,     2,  9,     18,   8018,2,20080817,1153, 22.7758,-157.9967, 4732,     26,     25.6,  25.9978,  35.0622,2,-999.0000,9,    208.2,1, 25.9921,   -999.0,9,  -999.00,9,  -999.00,9,  -999.00,9,  -999.0,-999.000
     33KB204_1,  PRS2,     2,  9,     17,   8017,2,20080817,1153, 22.7758,-157.9967, 4732,     25,     25.6,  25.9980,  35.0622,2,-999.0000,9,    208.2,1, 25.9923,   -999.0,9,  -999.00,9,  -999.00,9,  -999.00,9,  -999.0,-999.000
     33KB204_1,  PRS2,     2,  9,     16,   8016,2,20080817,1153, 22.7758,-157.9967, 4732,     45,     44.7,  25.9947,  35.0612,2,-999.0000,9,    208.1,1, 25.9847,   -999.0,9,  -999.00,9,  -999.00,9,  -999.00,9,  -999.0,-999.000
     33KB204_1,  PRS2,     2,  9,     14,   8014,2,20080817,1153, 22.7758,-157.9967, 4732,     45,     44.7,  25.9839,  35.0611,2,-999.0000,9,    208.3,1, 25.9740,   -999.0,9,  -999.00,9,  -999.00,9,  -999.00,9,  -999.0,-999.000
     33KB204_1,  PRS2,     2,  9,     13,   8025,2,20080817,1153, 22.7758,-157.9967, 4732,     44,     44.9,  25.9815,  35.0604,2,-999.0000,9,    208.6,1, 25.9715,   -999.0,9,  -999.00,9,  -999.00,9,  -999.00,9,  -999.0,-999.000
     33KB204_1,  PRS2,     2,  9,     15,   8015,2,20080817,1153, 22.7758,-157.9967, 4732,     46,     45.0,  25.9883,  35.0605,2,-999.0000,9,    208.1,1, 25.9783,   -999.0,9,  -999.00,9,  -999.00,9,  -999.00,9,  -999.0,-999.000
     33KB204_1,  PRS2,     2,  9,     12,   8012,2,20080817,1153, 22.7758,-157.9967, 4732,     75,     74.7,  23.6731,  35.0986,2,-999.0000,9,    219.2,1, 23.6575,   -999.0,9,  -999.00,9,  -999.00,9,  -999.00,9,  -999.0,-999.000
     33KB204_1,  PRS2,     2,  9,     11,   8011,2,20080817,1153, 22.7758,-157.9967, 4732,     75,     74.7,  23.6729,  35.0988,2,-999.0000,9,    219.0,1, 23.6573,   -999.0,9,  -999.00,9,  -999.00,9,  -999.00,9,  -999.0,-999.000
     33KB204_1,  PRS2,     2,  9,     10,   8010,2,20080817,1153, 22.7758,-157.9967, 4732,     75,     74.7,  23.6729,  35.0987,2,-999.0000,9,    218.9,1, 23.6573,   -999.0,9,  -999.00,9,  -999.00,9,  -999.00,9,  -999.0,-999.000
     33KB204_1,  PRS2,     2,  9,      9,   8009,2,20080817,1153, 22.7758,-157.9967, 4732,     75,     74.8,  23.6694,  35.0989,2,-999.0000,9,    218.8,1, 23.6538,   -999.0,9,  -999.00,9,  -999.00,9,  -999.00,9,  -999.0,-999.000
     33KB204_1,  PRS2,     2,  9,      8,   8008,2,20080817,1153, 22.7758,-157.9967, 4732,    100,    101.1,  23.0330,  35.1429,2,-999.0000,9,    214.5,1, 23.0123,   -999.0,9,  -999.00,9,  -999.00,9,  -999.00,9,  -999.0,-999.000
     33KB204_1,  PRS2,     2,  9,      7,   8026,2,20080817,1153, 22.7758,-157.9967, 4732,    101,    101.4,  23.0282,  35.1433,2,-999.0000,9,    214.5,1, 23.0075,   -999.0,9,  -999.00,9,  -999.00,9,  -999.00,9,  -999.0,-999.000
     33KB204_1,  PRS2,     2,  9,      6,   8006,2,20080817,1153, 22.7758,-157.9967, 4732,    102,    101.4,  23.0235,  35.1421,2,-999.0000,9,    214.5,1, 23.0028,   -999.0,9,  -999.00,9,  -999.00,9,  -999.00,9,  -999.0,-999.000
     33KB204_1,  PRS2,     2,  9,      3,   8003,2,20080817,1153, 22.7758,-157.9967, 4732,    125,    125.0,  22.7803,  35.1666,2,-999.0000,9,    210.3,1, 22.7549,   -999.0,9,  -999.00,9,  -999.00,9,  -999.00,9,  -999.0,-999.000
     33KB204_1,  PRS2,     2,  9,      4,   8004,2,20080817,1153, 22.7758,-157.9967, 4732,    125,    125.1,  22.7791,  35.1660,2,-999.0000,9,    210.4,1, 22.7537,   -999.0,9,  -999.00,9,  -999.00,9,  -999.00,9,  -999.0,-999.000
     33KB204_1,  PRS2,     2,  9,      5,   8005,2,20080817,1153, 22.7758,-157.9967, 4732,    126,    125.2,  22.7754,  35.1668,2,-999.0000,9,    210.5,1, 22.7500,   -999.0,9,  -999.00,9,  -999.00,9,  -999.00,9,  -999.0,-999.000
     33KB204_1,  PRS2,     2,  9,      2,   8002,2,20080817,1153, 22.7758,-157.9967, 4732,    149,    149.5,  22.4861,  35.1801,2,-999.0000,9,    206.5,1, 22.4560,   -999.0,9,  -999.00,9,  -999.00,9,  -999.00,9,  -999.0,-999.000
     33KB204_1,  PRS2,     2,  9,      1,   8001,2,20080817,1153, 22.7758,-157.9967, 4732,    177,    174.9,  21.6509,  35.1844,2,-999.0000,9,    197.9,1, 21.6166,   -999.0,9,  -999.00,9,  -999.00,9,  -999.00,9,  -999.0,-999.000
     33KB204_1,  PRS2,     2, 10,     13,   8025,2,20080817,1556, 22.7527,-158.0178, 4745,      6,      5.7,  25.9662,  35.0643,2,  35.0622,2,    208.1,1, 25.9649,   -999.0,9,  -999.00,9,  -999.00,9,  -999.00,9,  -999.0,-999.000
     33KB204_1,  PRS2,     2, 10,     12,   8012,2,20080817,1556, 22.7527,-158.0178, 4745,    124,    125.2,  23.0056,  35.1646,2,-999.0000,5,    215.5,1, 22.9800,   -999.0,9,  -999.00,9,  -999.00,9,  -999.00,9,  -999.0,-999.000
     33KB204_1,  PRS2,     2, 10,      8,   8008,2,20080817,1556, 22.7527,-158.0178, 4745,    126,    125.2,  23.0060,  35.1641,2,-999.0000,5,    215.1,1, 22.9805,   -999.0,9,  -999.00,9,  -999.00,9,  -999.00,9,  -999.0,-999.000
     33KB204_1,  PRS2,     2, 10,     11,   8011,2,20080817,1556, 22.7527,-158.0178, 4745,    125,    125.3,  23.0063,  35.1641,2,-999.0000,5,    215.5,1, 22.9807,   -999.0,9,  -999.00,9,  -999.00,9,  -999.00,9,  -999.0,-999.000
     33KB204_1,  PRS2,     2, 10,     10,   8010,2,20080817,1556, 22.7527,-158.0178, 4745,    125,    125.3,  23.0066,  35.1641,2,-999.0000,5,    215.4,1, 22.9810,   -999.0,9,  -999.00,9,  -999.00,9,  -999.00,9,  -999.0,-999.000
     33KB204_1,  PRS2,     2, 10,      9,   8009,2,20080817,1556, 22.7527,-158.0178, 4745,    125,    125.3,  23.0065,  35.1641,2,-999.0000,5,    215.2,1, 22.9809,   -999.0,9,  -999.00,9,  -999.00,9,  -999.00,9,  -999.0,-999.000
     33KB204_1,  PRS2,     2, 10,      7,   8026,2,20080817,1556, 22.7527,-158.0178, 4745,    201,    200.8,  21.0220,  35.1804,2,-999.0000,5,    198.9,1, 20.9835,   -999.0,9,  -999.00,9,  -999.00,9,  -999.00,9,  -999.0,-999.000
     33KB204_1,  PRS2,     2, 10,      6,   8006,2,20080817,1556, 22.7527,-158.0178, 4745,    201,    200.9,  21.0203,  35.1805,2,-999.0000,5,    199.1,1, 20.9818,   -999.0,9,  -999.00,9,  -999.00,9,  -999.00,9,  -999.0,-999.000
     33KB204_1,  PRS2,     2, 10,      5,   8005,2,20080817,1556, 22.7527,-158.0178, 4745,    201,    200.9,  21.0200,  35.1805,2,-999.0000,5,    199.2,1, 20.9814,   -999.0,9,  -999.00,9,  -999.00,9,  -999.00,9,  -999.0,-999.000
     33KB204_1,  PRS2,     2, 10,      3,   8003,2,20080817,1556, 22.7527,-158.0178, 4745,    202,    200.9,  21.0187,  35.1803,2,-999.0000,5,    199.5,1, 20.9801,   -999.0,9,  -999.00,9,  -999.00,9,  -999.00,9,  -999.0,-999.000
     33KB204_1,  PRS2,     2, 10,      4,   8004,2,20080817,1556, 22.7527,-158.0178, 4745,    202,    201.1,  21.0198,  35.1803,2,-999.0000,5,    199.4,1, 20.9812,   -999.0,9,  -999.00,9,  -999.00,9,  -999.00,9,  -999.0,-999.000
     33KB204_1,  PRS2,     2, 10,      2,   8002,2,20080817,1556, 22.7527,-158.0178, 4745,    512,    510.9,   7.3559,  34.0923,2,  34.0915,2,    108.7,1,  7.3063,   -999.0,9,  -999.00,9,  -999.00,9,  -999.00,9,  -999.0,-999.000
     33KB204_1,  PRS2,     2, 10,      1,   8001,2,20080817,1556, 22.7527,-158.0178, 4745,   1021,   1020.4,   4.2200,  34.4838,2,  34.4842,2,     42.4,1,  4.1410,   -999.0,9,  -999.00,9,  -999.00,9,  -999.00,9,  -999.0,-999.000
     33KB204_1,  PRS2,     2, 11,     24,   8024,2,20080817,1800, 22.7530,-158.0903, 4768,      7,      6.3,  25.9605,  35.0366,2,-999.0000,5,    207.8,1, 25.9591,   -999.0,9,  -999.00,9,  -999.00,9,  -999.00,9,  -999.0,-999.000
     33KB204_1,  PRS2,     2, 11,     23,   8023,2,20080817,1800, 22.7530,-158.0903, 4768,      7,      6.4,  25.9601,  35.0364,2,-999.0000,5,    207.9,1, 25.9587,   -999.0,9,  -999.00,9,  -999.00,9,  -999.00,9,  -999.0,-999.000
     33KB204_1,  PRS2,     2, 11,     22,   8022,2,20080817,1800, 22.7530,-158.0903, 4768,      7,      6.4,  25.9598,  35.0365,2,  35.0348,2,    207.9,1, 25.9584,   -999.0,9,  -999.00,9,  -999.00,9,  -999.00,9,  -999.0,-999.000
     33KB204_1,  PRS2,     2, 11,     21,   8021,2,20080817,1800, 22.7530,-158.0903, 4768,     25,     24.9,  25.9637,  35.0358,2,-999.0000,5,    207.9,1, 25.9581,   -999.0,9,  -999.00,9,  -999.00,9,  -999.00,9,  -999.0,-999.000
     33KB204_1,  PRS2,     2, 11,     20,   8020,2,20080817,1800, 22.7530,-158.0903, 4768,     25,     24.9,  25.9636,  35.0357,2,-999.0000,5,    207.9,1, 25.9581,   -999.0,9,  -999.00,9,  -999.00,9,  -999.00,9,  -999.0,-999.000
     33KB204_1,  PRS2,     2, 11,     19,   8019,2,20080817,1800, 22.7530,-158.0903, 4768,     24,     25.1,  25.9635,  35.0358,2,  35.0350,2,    207.9,1, 25.9579,   -999.0,9,  -999.00,9,  -999.00,9,  -999.00,9,  -999.0,-999.000
     33KB204_1,  PRS2,     2, 11,     16,   8016,2,20080817,1800, 22.7530,-158.0903, 4768,     45,     44.6,  25.9672,  35.0351,2,  35.0350,2,    208.1,1, 25.9573,   -999.0,9,  -999.00,9,  -999.00,9,  -999.00,9,  -999.0,-999.000
     33KB204_1,  PRS2,     2, 11,     18,   8018,2,20080817,1800, 22.7530,-158.0903, 4768,     44,     44.8,  25.9672,  35.0350,2,-999.0000,5,    208.0,1, 25.9572,   -999.0,9,  -999.00,9,  -999.00,9,  -999.00,9,  -999.0,-999.000
     33KB204_1,  PRS2,     2, 11,     17,   8017,2,20080817,1800, 22.7530,-158.0903, 4768,     45,     44.8,  25.9675,  35.0349,2,-999.0000,5,    208.0,1, 25.9575,   -999.0,9,  -999.00,9,  -999.00,9,  -999.00,9,  -999.0,-999.000
     33KB204_1,  PRS2,     2, 11,     13,   8025,2,20080817,1800, 22.7530,-158.0903, 4768,     76,     75.3,  24.1736,  35.0800,2,  35.0789,2,    219.0,1, 24.1576,   -999.0,9,  -999.00,9,  -999.00,9,  -999.00,9,  -999.0,-999.000
     33KB204_1,  PRS2,     2, 11,     14,   8014,2,20080817,1800, 22.7530,-158.0903, 4768,     75,     75.4,  24.1730,  35.0799,2,-999.0000,5,    219.0,1, 24.1570,   -999.0,9,  -999.00,9,  -999.00,9,  -999.00,9,  -999.0,-999.000
     33KB204_1,  PRS2,     2, 11,     15,   8015,2,20080817,1800, 22.7530,-158.0903, 4768,     75,     75.5,  24.1729,  35.0798,2,-999.0000,5,    219.1,1, 24.1569,   -999.0,9,  -999.00,9,  -999.00,9,  -999.00,9,  -999.0,-999.000
     33KB204_1,  PRS2,     2, 11,     11,   8011,2,20080817,1800, 22.7530,-158.0903, 4768,     99,     99.3,  23.1778,  35.1327,2,-999.0000,5,    216.1,1, 23.1574,   -999.0,9,  -999.00,9,  -999.00,9,  -999.00,9,  -999.0,-999.000
     33KB204_1,  PRS2,     2, 11,     10,   8010,2,20080817,1800, 22.7530,-158.0903, 4768,    100,     99.5,  23.1685,  35.1336,2,  35.1297,2,    216.1,1, 23.1481,   -999.0,9,  -999.00,9,  -999.00,9,  -999.00,9,  -999.0,-999.000
     33KB204_1,  PRS2,     2, 11,     12,   8012,2,20080817,1800, 22.7530,-158.0903, 4768,    100,     99.6,  23.1711,  35.1334,2,-999.0000,5,    216.1,1, 23.1506,   -999.0,9,  -999.00,9,  -999.00,9,  -999.00,9,  -999.0,-999.000
     33KB204_1,  PRS2,     2, 11,      8,   8008,2,20080817,1800, 22.7530,-158.0903, 4768,    126,    125.8,  22.7522,  35.1740,2,-999.0000,5,    209.9,1, 22.7267,   -999.0,9,  -999.00,9,  -999.00,9,  -999.00,9,  -999.0,-999.000
     33KB204_1,  PRS2,     2, 11,      7,   8026,2,20080817,1800, 22.7530,-158.0903, 4768,    125,    125.8,  22.7550,  35.1740,2,  35.1711,2,    209.5,1, 22.7295,   -999.0,9,  -999.00,9,  -999.00,9,  -999.00,9,  -999.0,-999.000
     33KB204_1,  PRS2,     2, 11,      9,   8009,2,20080817,1800, 22.7530,-158.0903, 4768,    125,    125.9,  22.7440,  35.1741,2,-999.0000,5,    210.4,1, 22.7185,   -999.0,9,  -999.00,9,  -999.00,9,  -999.00,9,  -999.0,-999.000
     33KB204_1,  PRS2,     2, 11,      5,   8005,2,20080817,1800, 22.7530,-158.0903, 4768,    148,    149.2,  22.1447,  35.2100,2,  35.2083,2,    202.5,1, 22.1150,   -999.0,9,  -999.00,9,  -999.00,9,  -999.00,9,  -999.0,-999.000
     33KB204_1,  PRS2,     2, 11,      6,   8006,2,20080817,1800, 22.7530,-158.0903, 4768,    151,    149.4,  22.1417,  35.2098,2,-999.0000,5,    202.7,1, 22.1120,   -999.0,9,  -999.00,9,  -999.00,9,  -999.00,9,  -999.0,-999.000
     33KB204_1,  PRS2,     2, 11,      4,   8004,2,20080817,1800, 22.7530,-158.0903, 4768,    176,    175.2,  21.2094,  35.1761,2,-999.0000,5,    197.0,1, 21.1756,   -999.0,9,  -999.00,9,  -999.00,9,  -999.00,9,  -999.0,-999.000
     33KB204_1,  PRS2,     2, 11,      3,   8003,2,20080817,1800, 22.7530,-158.0903, 4768,    175,    175.2,  21.2093,  35.1759,2,  35.1768,2,    197.2,1, 21.1755,   -999.0,9,  -999.00,9,  -999.00,9,  -999.00,9,  -999.0,-999.000
     33KB204_1,  PRS2,     2, 11,      2,   8002,2,20080817,1800, 22.7530,-158.0903, 4768,    525,    524.5,   7.1094,  34.0883,2,  34.0868,2,    105.0,1,  7.0594,   -999.0,9,  -999.00,9,  -999.00,9,  -999.00,9,  -999.0,-999.000
     33KB204_1,  PRS2,     2, 11,      1,   8001,2,20080817,1800, 22.7530,-158.0903, 4768,   1019,   1019.4,   4.2854,  34.4746,2,  34.4736,2,     42.6,1,  4.2059,   -999.0,9,  -999.00,9,  -999.00,9,  -999.00,9,  -999.0,-999.000
     33KB204_1,  PRS2,     2, 12,     18,   8018,2,20080817,2056, 22.7455,-158.0785, 4765,      7,      5.9,  26.0106,  35.0500,2,  35.0484,2,    207.6,1, 26.0093,   -999.0,9,  -999.00,9,  -999.00,9,  -999.00,9,  -999.0,-999.000
     33KB204_1,  PRS2,     2, 12,     17,   8017,2,20080817,2056, 22.7455,-158.0785, 4765,      6,      6.1,  26.0110,  35.0501,2,-999.0000,5,    207.8,1, 26.0096,   -999.0,9,  -999.00,9,  -999.00,9,  -999.00,9,  -999.0,-999.000
     33KB204_1,  PRS2,     2, 12,     16,   8016,2,20080817,2056, 22.7455,-158.0785, 4765,      7,      6.1,  26.0104,  35.0500,2,-999.0000,5,    207.9,1, 26.0091,   -999.0,9,  -999.00,9,  -999.00,9,  -999.00,9,  -999.0,-999.000
     33KB204_1,  PRS2,     2, 12,     15,   8015,2,20080817,2056, 22.7455,-158.0785, 4765,     25,     25.5,  25.9781,  35.0468,2,-999.0000,5,    208.1,1, 25.9725,   -999.0,9,  -999.00,9,  -999.00,9,  -999.00,9,  -999.0,-999.000
     33KB204_1,  PRS2,     2, 12,     14,   8014,2,20080817,2056, 22.7455,-158.0785, 4765,     44,     44.6,  25.6930,  35.0751,2,-999.0000,5,    212.4,1, 25.6831,   -999.0,9,  -999.00,9,  -999.00,9,  -999.00,9,  -999.0,-999.000
     33KB204_1,  PRS2,     2, 12,     13,   8025,2,20080817,2056, 22.7455,-158.0785, 4765,     45,     44.8,  25.6870,  35.0746,2,-999.0000,5,    212.8,1, 25.6771,   -999.0,9,  -999.00,9,  -999.00,9,  -999.00,9,  -999.0,-999.000
     33KB204_1,  PRS2,     2, 12,     12,   8012,2,20080817,2056, 22.7455,-158.0785, 4765,     59,     59.1,  24.3477,  35.0707,2,-999.0000,5,    221.3,1, 24.3352,   -999.0,9,  -999.00,9,  -999.00,9,  -999.00,9,  -999.0,-999.000
     33KB204_1,  PRS2,     2, 12,     11,   8011,2,20080817,2056, 22.7455,-158.0785, 4765,     75,     75.0,  23.5864,  35.1019,2,-999.0000,5,    219.3,1, 23.5709,   -999.0,9,  -999.00,9,  -999.00,9,  -999.00,9,  -999.0,-999.000
     33KB204_1,  PRS2,     2, 12,     10,   8010,2,20080817,2056, 22.7455,-158.0785, 4765,     84,     84.3,  23.2291,  35.1270,2,-999.0000,5,    217.4,1, 23.2118,   -999.0,9,  -999.00,9,  -999.00,9,  -999.00,9,  -999.0,-999.000
     33KB204_1,  PRS2,     2, 12,      9,   8009,2,20080817,2056, 22.7455,-158.0785, 4765,    101,    100.2,  22.9279,  35.1549,2,-999.0000,5,    215.1,1, 22.9074,   -999.0,9,  -999.00,9,  -999.00,9,  -999.00,9,  -999.0,-999.000
     33KB204_1,  PRS2,     2, 12,      8,   8008,2,20080817,2056, 22.7455,-158.0785, 4765,    101,    100.5,  22.9275,  35.1546,2,-999.0000,5,    215.2,1, 22.9071,   -999.0,9,  -999.00,9,  -999.00,9,  -999.00,9,  -999.0,-999.000
     33KB204_1,  PRS2,     2, 12,      7,   8026,2,20080817,2056, 22.7455,-158.0785, 4765,    124,    124.7,  22.5836,  35.1898,2,-999.0000,5,    208.5,1, 22.5585,   -999.0,9,  -999.00,9,  -999.00,9,  -999.00,9,  -999.0,-999.000
     33KB204_1,  PRS2,     2, 12,      6,   8006,2,20080817,2056, 22.7455,-158.0785, 4765,    125,    124.7,  22.5836,  35.1897,2,-999.0000,5,    208.3,1, 22.5585,   -999.0,9,  -999.00,9,  -999.00,9,  -999.00,9,  -999.0,-999.000
     33KB204_1,  PRS2,     2, 12,      4,   8004,2,20080817,2056, 22.7455,-158.0785, 4765,    149,    149.8,  22.0068,  35.2091,2,-999.0000,5,    200.3,1, 21.9771,   -999.0,9,  -999.00,9,  -999.00,9,  -999.00,9,  -999.0,-999.000
     33KB204_1,  PRS2,     2, 12,      5,   8005,2,20080817,2056, 22.7455,-158.0785, 4765,    150,    150.0,  22.0096,  35.2093,2,-999.0000,5,    200.6,1, 21.9799,   -999.0,9,  -999.00,9,  -999.00,9,  -999.00,9,  -999.0,-999.000
     33KB204_1,  PRS2,     2, 12,      3,   8003,2,20080817,2056, 22.7455,-158.0785, 4765,    176,    175.2,  21.2682,  35.1783,2,-999.0000,5,    198.4,1, 21.2344,   -999.0,9,  -999.00,9,  -999.00,9,  -999.00,9,  -999.0,-999.000
     33KB204_1,  PRS2,     2, 12,      2,   8002,2,20080817,2056, 22.7455,-158.0785, 4765,    522,    520.5,   6.9209,  34.0983,2,  34.0948,2,     96.7,1,  6.8721,   -999.0,9,  -999.00,9,  -999.00,9,  -999.00,9,  -999.0,-999.000
     33KB204_1,  PRS2,     2, 12,      1,   8001,2,20080817,2056, 22.7455,-158.0785, 4765,   1019,   1019.5,   4.2078,  34.4783,2,  34.4781,2,     43.8,1,  4.1290,   -999.0,9,  -999.00,9,  -999.00,9,  -999.00,9,  -999.0,-999.000