BOTTLE,20090923WHPSIOMYS
EXPOCODE,SECT_ID,STNNBR,CASTNO,SAMPNO,BTLNBR,BTLNBR_FLAG_W,DATE,TIME,LATITUDE,LONGITUDE,DEPTH,CTDRAW,CTDPRS,CTDTMP,CTDSAL,CTDSAL_FLAG_W,SALNTY,SALNTY_FLAG_W,CTDOXY,CTDOXY_FLAG_W,THETA,OXYGEN,OXYGEN_FLAG_W,SILCAT,SILCAT_FLAG_W,NO2+NO3,NO2+NO3_FLAG_W,PHSPHT,PHSPHT_FLAG_W,REVPRS,REVTMP
,,,,,,,,,,,,,DBAR,ITS-90,PSS-78,,PSS-78,,UMOL/KG,,ITS-90,UMOL/KG,,UMOL/KG,,UMOL/KG,,UMOL/KG,,DBAR,DEG C
     33KB204_1,  PRS2,     6,  1,     13,   8025,2,20080819,0853, 21.8453,-158.3637, 2424,      7,      6.3,  25.8784,  35.0952,2,  35.0945,2,    207.9,1, 25.8770,   -999.0,9,  -999.00,9,  -999.00,9,  -999.00,9,  -999.0,-999.000
     33KB204_1,  PRS2,     6,  1,     12,   8012,2,20080819,0853, 21.8453,-158.3637, 2424,     25,     25.3,  25.3367,  35.0795,2,  35.0740,2,    213.4,1, 25.3312,   -999.0,9,  -999.00,9,  -999.00,9,  -999.00,9,  -999.0,-999.000
     33KB204_1,  PRS2,     6,  1,     11,   8011,2,20080819,0853, 21.8453,-158.3637, 2424,     45,     45.2,  24.0396,  35.0867,2,  35.0866,2,    220.9,1, 24.0301,   -999.0,9,  -999.00,9,  -999.00,9,  -999.00,9,  -999.0,-999.000
     33KB204_1,  PRS2,     6,  1,     10,   8010,2,20080819,0853, 21.8453,-158.3637, 2424,     74,     74.7,  23.2131,  35.1473,2,  35.1471,2,    214.2,1, 23.1978,   -999.0,9,  -999.00,9,  -999.00,9,  -999.00,9,  -999.0,-999.000
     33KB204_1,  PRS2,     6,  1,      9,   8009,2,20080819,0853, 21.8453,-158.3637, 2424,    101,    101.1,  22.4063,  35.1657,2,  35.1662,2,    203.9,1, 22.3860,   -999.0,9,  -999.00,9,  -999.00,9,  -999.00,9,  -999.0,-999.000
     33KB204_1,  PRS2,     6,  1,      8,   8008,2,20080819,0853, 21.8453,-158.3637, 2424,    126,    125.6,  22.0143,  35.1504,2,  35.1551,2,    200.8,1, 21.9895,   -999.0,9,  -999.00,9,  -999.00,9,  -999.00,9,  -999.0,-999.000
     33KB204_1,  PRS2,     6,  1,      7,   8026,2,20080819,0853, 21.8453,-158.3637, 2424,    150,    150.8,  21.6069,  35.1772,2,  35.1794,2,    197.5,1, 21.5775,   -999.0,9,  -999.00,9,  -999.00,9,  -999.00,9,  -999.0,-999.000
     33KB204_1,  PRS2,     6,  1,      6,   8006,2,20080819,0853, 21.8453,-158.3637, 2424,    163,    162.7,  21.1221,  35.1229,2,  35.1242,2,    197.3,1, 21.0908,   -999.0,9,  -999.00,9,  -999.00,9,  -999.00,9,  -999.0,-999.000
     33KB204_1,  PRS2,     6,  1,      5,   8005,2,20080819,0853, 21.8453,-158.3637, 2424,    500,    500.0,   7.4778,  34.1148,2,  34.1144,2,    111.2,1,  7.4288,   -999.0,9,  -999.00,9,  -999.00,9,  -999.00,9,  -999.0,-999.000
     33KB204_1,  PRS2,     6,  1,      4,   8004,2,20080819,0853, 21.8453,-158.3637, 2424,   1000,   1000.0,   4.2527,  34.4728,2,  34.4720,2,     43.6,1,  4.1751,   -999.0,9,  -999.00,9,  -999.00,9,  -999.00,9,  -999.0,-999.000
     33KB204_1,  PRS2,     6,  1,      3,   8003,2,20080819,0853, 21.8453,-158.3637, 2424,   1500,   1500.3,   2.9752,  34.5647,2,  34.5639,2,     65.4,1,  2.8676,   -999.0,9,  -999.00,9,  -999.00,9,  -999.00,9,  -999.0,-999.000
     33KB204_1,  PRS2,     6,  1,      2,   8002,2,20080819,0853, 21.8453,-158.3637, 2424,   2000,   1999.7,   2.1659,  34.6183,2,  34.6227,4,     87.8,1,  2.0270,   -999.0,9,  -999.00,9,  -999.00,9,  -999.00,9,  -999.0,-999.000
     33KB204_1,  PRS2,     6,  1,      1,   8001,2,20080819,0853, 21.8453,-158.3637, 2424,   2429,   2429.6,   1.7538,  34.6503,2,  34.6506,2,    108.7,1,  1.5844,   -999.0,9,  -999.00,9,  -999.00,9,  -999.00,9,  -999.0,-999.000
     33KB204_1,  PRS2,    50,  1,     11,   8011,2,20080818,1908, 22.7843,-157.9315, 4703,      5,      4.9,  25.9670,  35.0889,2,-999.0000,9,    206.7,1, 25.9659,   -999.0,9,  -999.00,9,  -999.00,9,  -999.00,9,  -999.0,-999.000
     33KB204_1,  PRS2,    50,  1,     10,   8010,2,20080818,1908, 22.7843,-157.9315, 4703,     15,     14.9,  25.9639,  35.0886,2,-999.0000,9,    206.7,1, 25.9606,   -999.0,9,  -999.00,9,  -999.00,9,  -999.00,9,  -999.0,-999.000
     33KB204_1,  PRS2,    50,  1,      9,   8009,2,20080818,1908, 22.7843,-157.9315, 4703,     25,     25.1,  25.9647,  35.0884,2,-999.0000,9,    206.9,1, 25.9591,   -999.0,9,  -999.00,9,  -999.00,9,  -999.00,9,  -999.0,-999.000
     33KB204_1,  PRS2,    50,  1,      8,   8008,2,20080818,1908, 22.7843,-157.9315, 4703,     39,     39.2,  25.9674,  35.0878,2,-999.0000,9,    207.0,1, 25.9586,   -999.0,9,  -999.00,9,  -999.00,9,  -999.00,9,  -999.0,-999.000
     33KB204_1,  PRS2,    50,  1,      7,   8026,2,20080818,1908, 22.7843,-157.9315, 4703,     45,     44.6,  25.9650,  35.0879,2,-999.0000,9,    207.0,1, 25.9550,   -999.0,9,  -999.00,9,  -999.00,9,  -999.00,9,  -999.0,-999.000
     33KB204_1,  PRS2,    50,  1,      6,   8006,2,20080818,1908, 22.7843,-157.9315, 4703,     70,     70.3,  24.4167,  35.0582,2,-999.0000,9,    224.5,1, 24.4017,   -999.0,9,  -999.00,9,  -999.00,9,  -999.00,9,  -999.0,-999.000
     33KB204_1,  PRS2,    50,  1,      5,   8005,2,20080818,1908, 22.7843,-157.9315, 4703,     75,     75.2,  24.1492,  35.0663,2,-999.0000,9,    219.8,1, 24.1333,   -999.0,9,  -999.00,9,  -999.00,9,  -999.00,9,  -999.0,-999.000
     33KB204_1,  PRS2,    50,  1,      4,   8004,2,20080818,1908, 22.7843,-157.9315, 4703,    101,    100.0,  23.2729,  35.1403,2,-999.0000,9,    217.5,1, 23.2523,   -999.0,9,  -999.00,9,  -999.00,9,  -999.00,9,  -999.0,-999.000
     33KB204_1,  PRS2,    50,  1,      3,   8003,2,20080818,1908, 22.7843,-157.9315, 4703,    112,    111.5,  23.0055,  35.1596,2,-999.0000,9,    213.6,1, 22.9827,   -999.0,9,  -999.00,9,  -999.00,9,  -999.00,9,  -999.0,-999.000
     33KB204_1,  PRS2,    50,  1,      2,   8002,2,20080818,1908, 22.7843,-157.9315, 4703,    125,    125.0,  22.7635,  35.1679,2,-999.0000,9,    209.6,1, 22.7382,   -999.0,9,  -999.00,9,  -999.00,9,  -999.00,9,  -999.0,-999.000
     33KB204_1,  PRS2,    50,  1,      1,   8001,2,20080818,1908, 22.7843,-157.9315, 4703,    151,    150.3,  22.3478,  35.1792,2,-999.0000,9,    203.1,1, 22.3177,   -999.0,9,  -999.00,9,  -999.00,9,  -999.00,9,  -999.0,-999.000