BOTTLE,20090923WHPSIOMYS
#code : jjward hyd_to_exchange.pl 
#original files copied from HTML directory: 20090923
#original HYD file: 33KB204_1_hy.txt   Wed Sep 23 18:02:55 2009
#original SUM file: ../33KB204_1su.txt   Wed Sep 23 18:02:54 2009
EXPOCODE,SECT_ID,STNNBR,CASTNO,SAMPNO,BTLNBR,BTLNBR_FLAG_W,DATE,TIME,LATITUDE,LONGITUDE,DEPTH,CTDRAW,CTDPRS,CTDTMP,CTDSAL,CTDSAL_FLAG_W,SALNTY,SALNTY_FLAG_W,CTDOXY,CTDOXY_FLAG_W,THETA,OXYGEN,OXYGEN_FLAG_W,SILCAT,SILCAT_FLAG_W,NO2+NO3,NO2+NO3_FLAG_W,PHSPHT,PHSPHT_FLAG_W,REVPRS,REVTMP
,,,,,,,,,,,,,DBAR,ITS-90,PSS-78,,PSS-78,,UMOL/KG,,ITS-90,UMOL/KG,,UMOL/KG,,UMOL/KG,,UMOL/KG,,DBAR,DEG C
     33KB204_1,  PRS2,     1,  1,     24,   8024,2,20080815,2325, 21.3445,-158.2725, 1557,      6,      5.2,  26.4504,  34.9664,2,  34.9667,2,    207.0,2, 26.4493,    206.9,2,  -999.00,9,  -999.00,9,  -999.00,9,  -999.0,-999.000
     33KB204_1,  PRS2,     1,  1,     23,   8023,2,20080815,2325, 21.3445,-158.2725, 1557,      4,      5.4,  26.4417,  34.9662,2,  34.9658,2,    207.0,2, 26.4405,    207.2,2,  -999.00,9,  -999.00,9,  -999.00,9,  -999.0,-999.000
     33KB204_1,  PRS2,     1,  1,     22,   8022,2,20080815,2325, 21.3445,-158.2725, 1557,     25,     25.2,  26.3428,  34.9665,2,  34.9658,2,    207.9,2, 26.3371,    207.5,2,  -999.00,9,  -999.00,9,  -999.00,9,  -999.0,-999.000
     33KB204_1,  PRS2,     1,  1,     21,   8021,2,20080815,2325, 21.3445,-158.2725, 1557,     44,     45.7,  26.1924,  34.9861,2,  34.9846,2,    207.9,2, 26.1822,    208.0,2,  -999.00,9,  -999.00,9,  -999.00,9,  -999.0,-999.000
     33KB204_1,  PRS2,     1,  1,     20,   8020,2,20080815,2325, 21.3445,-158.2725, 1557,     60,     60.4,  26.0072,  35.0064,2,  35.0077,2,    209.2,2, 25.9937,    208.8,2,  -999.00,9,  -999.00,9,  -999.00,9,  -999.0,-999.000
     33KB204_1,  PRS2,     1,  1,     19,   8019,2,20080815,2325, 21.3445,-158.2725, 1557,     76,     75.4,  25.6485,  35.0182,2,  35.0201,2,    214.8,2, 25.6318,    212.8,2,  -999.00,9,  -999.00,9,  -999.00,9,  -999.0,-999.000
     33KB204_1,  PRS2,     1,  1,     18,   8018,2,20080815,2325, 21.3445,-158.2725, 1557,    100,    100.2,  24.1498,  35.0853,2,  35.0856,2,    219.1,2, 24.1286,    217.3,2,  -999.00,9,  -999.00,9,  -999.00,9,  -999.0,-999.000
     33KB204_1,  PRS2,     1,  1,     17,   8017,2,20080815,2325, 21.3445,-158.2725, 1557,    114,    114.7,  23.4252,  35.1176,2,  35.1167,2,    216.8,2, 23.4015,    216.3,2,  -999.00,9,  -999.00,9,  -999.00,9,  -999.0,-999.000
     33KB204_1,  PRS2,     1,  1,     16,   8016,2,20080815,2325, 21.3445,-158.2725, 1557,    125,    125.1,  22.7150,  35.1573,2,  35.1538,2,    208.5,2, 22.6897,    209.1,2,  -999.00,9,  -999.00,9,  -999.00,9,  -999.0,-999.000
     33KB204_1,  PRS2,     1,  1,     15,   8015,2,20080815,2325, 21.3445,-158.2725, 1557,    149,    149.7,  22.0797,  35.1662,2,  35.1648,2,    203.1,2, 22.0500,    203.6,2,  -999.00,9,  -999.00,9,  -999.00,9,  -999.0,-999.000
     33KB204_1,  PRS2,     1,  1,     14,   8014,2,20080815,2325, 21.3445,-158.2725, 1557,    175,    174.9,  21.1229,  35.1182,2,  35.1179,2,    198.2,2, 21.0893,    198.3,2,  -999.00,9,  -999.00,9,  -999.00,9,  -999.0,-999.000
     33KB204_1,  PRS2,     1,  1,     13,   8025,2,20080815,2325, 21.3445,-158.2725, 1557,    201,    201.3,  19.9677,  35.0138,2,  35.0161,2,    194.8,2, 19.9305,    194.5,2,  -999.00,9,  -999.00,9,  -999.00,9,  -999.0,-999.000
     33KB204_1,  PRS2,     1,  1,     12,   8012,2,20080815,2325, 21.3445,-158.2725, 1557,    225,    224.6,  19.0420,  34.9202,2,  34.9160,2,    192.5,2, 19.0018,    192.4,2,  -999.00,9,  -999.00,9,  -999.00,9,  -999.0,-999.000
     33KB204_1,  PRS2,     1,  1,     11,   8011,2,20080815,2325, 21.3445,-158.2725, 1557,    251,    250.3,  16.7016,  34.6495,2,  34.6419,2,    190.1,2, 16.6609,    190.7,2,  -999.00,9,  -999.00,9,  -999.00,9,  -999.0,-999.000
     33KB204_1,  PRS2,     1,  1,     10,   8010,2,20080815,2325, 21.3445,-158.2725, 1557,    301,    299.5,  14.1895,  34.3959,2,  34.3947,2,    189.6,2, 14.1459,    189.1,2,  -999.00,9,  -999.00,9,  -999.00,9,  -999.0,-999.000
     33KB204_1,  PRS2,     1,  1,      9,   8009,2,20080815,2325, 21.3445,-158.2725, 1557,    350,    349.5,  11.0037,  34.1892,2,  34.1864,2,    176.0,2, 10.9607,    176.7,2,  -999.00,9,  -999.00,9,  -999.00,9,  -999.0,-999.000
     33KB204_1,  PRS2,     1,  1,      8,   8008,2,20080815,2325, 21.3445,-158.2725, 1557,    399,    399.5,  10.2716,  34.1602,2,  34.1605,2,    172.2,2, 10.2244,    172.0,2,  -999.00,9,  -999.00,9,  -999.00,9,  -999.0,-999.000
     33KB204_1,  PRS2,     1,  1,      7,   8026,2,20080815,2325, 21.3445,-158.2725, 1557,    500,    499.8,   7.3312,  34.1124,2,  34.1160,2,    102.9,2,  7.2828,    101.9,2,  -999.00,9,  -999.00,9,  -999.00,9,  -999.0,-999.000
     33KB204_1,  PRS2,     1,  1,      6,   8006,2,20080815,2325, 21.3445,-158.2725, 1557,    600,    599.7,   5.9255,  34.2199,2,  34.2201,2,     52.3,2,  5.8733,     49.7,2,  -999.00,9,  -999.00,9,  -999.00,9,  -999.0,-999.000
     33KB204_1,  PRS2,     1,  1,      5,   8005,2,20080815,2325, 21.3445,-158.2725, 1557,    699,    699.3,   5.3325,  34.3267,2,  34.3292,2,     35.7,2,  5.2742,     35.1,2,  -999.00,9,  -999.00,9,  -999.00,9,  -999.0,-999.000
     33KB204_1,  PRS2,     1,  1,      4,   8004,2,20080815,2325, 21.3445,-158.2725, 1557,    749,    749.3,   5.0577,  34.3787,2,  34.3782,2,     34.5,2,  4.9965,     35.0,2,  -999.00,9,  -999.00,9,  -999.00,9,  -999.0,-999.000
     33KB204_1,  PRS2,     1,  1,      3,   8003,2,20080815,2325, 21.3445,-158.2725, 1557,    801,    799.7,   4.8658,  34.4127,2,  34.4127,2,     35.4,2,  4.8013,     35.7,2,  -999.00,9,  -999.00,9,  -999.00,9,  -999.0,-999.000
     33KB204_1,  PRS2,     1,  1,      2,   8002,2,20080815,2325, 21.3445,-158.2725, 1557,    901,    900.5,   4.3680,  34.4776,2,  34.4767,2,     41.7,2,  4.2981,     42.1,2,  -999.00,9,  -999.00,9,  -999.00,9,  -999.0,-999.000
     33KB204_1,  PRS2,     1,  1,      1,   8001,2,20080815,2325, 21.3445,-158.2725, 1557,   1021,   1020.5,   4.1426,  34.4996,2,  34.5001,2,     44.9,2,  4.0642,     44.8,2,  -999.00,9,  -999.00,9,  -999.00,9,  -999.0,-999.000
     33KB204_1,  PRS2,     2,  1,     22,   8022,2,20080816,0955, 22.7500,-158.0003, 4747,      8,      7.0,  25.9889,  34.9935,2,-999.0000,9,    208.2,1, 25.9873,   -999.0,9,  -999.00,9,  -999.00,9,  -999.00,9,  -999.0,-999.000
     33KB204_1,  PRS2,     2,  1,     20,   8020,2,20080816,0955, 22.7500,-158.0003, 4747,     25,     24.2,  25.9592,  34.9936,2,-999.0000,9,    209.0,1, 25.9538,   -999.0,9,  -999.00,9,  -999.00,9,  -999.00,9,  -999.0,-999.000
     33KB204_1,  PRS2,     2,  1,     21,   8021,2,20080816,0955, 22.7500,-158.0003, 4747,     26,     24.4,  25.9635,  34.9935,2,-999.0000,9,    209.0,1, 25.9581,   -999.0,9,  -999.00,9,  -999.00,9,  -999.00,9,  -999.0,-999.000
     33KB204_1,  PRS2,     2,  1,     19,   8019,2,20080816,0955, 22.7500,-158.0003, 4747,     23,     24.4,  25.9572,  34.9929,2,-999.0000,9,    209.2,1, 25.9518,   -999.0,9,  -999.00,9,  -999.00,9,  -999.00,9,  -999.0,-999.000
     33KB204_1,  PRS2,     2,  1,     16,   8016,2,20080816,0955, 22.7500,-158.0003, 4747,     24,     24.4,  25.9532,  34.9933,2,-999.0000,9,    209.7,1, 25.9478,   -999.0,9,  -999.00,9,  -999.00,9,  -999.00,9,  -999.0,-999.000
     33KB204_1,  PRS2,     2,  1,     18,   8018,2,20080816,0955, 22.7500,-158.0003, 4747,     26,     24.5,  25.9578,  34.9932,2,-999.0000,9,    209.4,1, 25.9524,   -999.0,9,  -999.00,9,  -999.00,9,  -999.00,9,  -999.0,-999.000
     33KB204_1,  PRS2,     2,  1,     17,   8017,2,20080816,0955, 22.7500,-158.0003, 4747,     25,     24.5,  25.9552,  34.9936,2,-999.0000,9,    209.6,1, 25.9497,   -999.0,9,  -999.00,9,  -999.00,9,  -999.00,9,  -999.0,-999.000
     33KB204_1,  PRS2,     2,  1,     15,   8015,2,20080816,0955, 22.7500,-158.0003, 4747,     45,     45.9,  24.4814,  35.0726,2,-999.0000,9,    223.9,1, 24.4716,   -999.0,9,  -999.00,9,  -999.00,9,  -999.00,9,  -999.0,-999.000
     33KB204_1,  PRS2,     2,  1,     14,   8014,2,20080816,0955, 22.7500,-158.0003, 4747,     47,     45.9,  24.4863,  35.0707,2,-999.0000,9,    224.3,1, 24.4765,   -999.0,9,  -999.00,9,  -999.00,9,  -999.00,9,  -999.0,-999.000
     33KB204_1,  PRS2,     2,  1,     13,   8025,2,20080816,0955, 22.7500,-158.0003, 4747,     46,     45.9,  24.5097,  35.0692,2,-999.0000,9,    224.7,1, 24.4999,   -999.0,9,  -999.00,9,  -999.00,9,  -999.00,9,  -999.0,-999.000
     33KB204_1,  PRS2,     2,  1,     11,   8011,2,20080816,0955, 22.7500,-158.0003, 4747,     47,     45.9,  24.5118,  35.0697,2,-999.0000,9,    225.3,1, 24.5020,   -999.0,9,  -999.00,9,  -999.00,9,  -999.00,9,  -999.0,-999.000
     33KB204_1,  PRS2,     2,  1,     10,   8010,2,20080816,0955, 22.7500,-158.0003, 4747,     46,     45.9,  24.4940,  35.0707,2,-999.0000,9,    225.2,1, 24.4842,   -999.0,9,  -999.00,9,  -999.00,9,  -999.00,9,  -999.0,-999.000
     33KB204_1,  PRS2,     2,  1,     12,   8012,2,20080816,0955, 22.7500,-158.0003, 4747,     45,     46.1,  24.4840,  35.0686,2,-999.0000,9,    225.1,1, 24.4742,   -999.0,9,  -999.00,9,  -999.00,9,  -999.00,9,  -999.0,-999.000
     33KB204_1,  PRS2,     2,  1,      6,   8006,2,20080816,0955, 22.7500,-158.0003, 4747,     75,     75.3,  23.4675,  35.1134,2,-999.0000,9,    219.8,1, 23.4519,   -999.0,9,  -999.00,9,  -999.00,9,  -999.00,9,  -999.0,-999.000
     33KB204_1,  PRS2,     2,  1,      4,   8004,2,20080816,0955, 22.7500,-158.0003, 4747,     75,     75.3,  23.4775,  35.1116,2,-999.0000,9,    219.5,1, 23.4619,   -999.0,9,  -999.00,9,  -999.00,9,  -999.00,9,  -999.0,-999.000
     33KB204_1,  PRS2,     2,  1,      7,   8026,2,20080816,0955, 22.7500,-158.0003, 4747,     75,     75.5,  23.4611,  35.1132,2,-999.0000,9,    220.1,1, 23.4455,   -999.0,9,  -999.00,9,  -999.00,9,  -999.00,9,  -999.0,-999.000
     33KB204_1,  PRS2,     2,  1,      5,   8005,2,20080816,0955, 22.7500,-158.0003, 4747,     76,     75.5,  23.4611,  35.1137,2,-999.0000,9,    219.7,1, 23.4455,   -999.0,9,  -999.00,9,  -999.00,9,  -999.00,9,  -999.0,-999.000
     33KB204_1,  PRS2,     2,  1,      8,   8008,2,20080816,0955, 22.7500,-158.0003, 4747,     77,     75.6,  23.4488,  35.1142,2,-999.0000,9,    220.3,1, 23.4332,   -999.0,9,  -999.00,9,  -999.00,9,  -999.00,9,  -999.0,-999.000
     33KB204_1,  PRS2,     2,  1,      9,   8009,2,20080816,0955, 22.7500,-158.0003, 4747,     75,     75.7,  23.4490,  35.1139,2,-999.0000,9,    220.4,1, 23.4333,   -999.0,9,  -999.00,9,  -999.00,9,  -999.00,9,  -999.0,-999.000
     33KB204_1,  PRS2,     2,  1,      3,   8003,2,20080816,0955, 22.7500,-158.0003, 4747,    101,    101.0,  23.0227,  35.1421,2,-999.0000,9,    214.1,1, 23.0020,   -999.0,9,  -999.00,9,  -999.00,9,  -999.00,9,  -999.0,-999.000
     33KB204_1,  PRS2,     2,  1,      2,   8002,2,20080816,0955, 22.7500,-158.0003, 4747,    126,    125.1,  22.6491,  35.1833,2,-999.0000,9,    207.8,1, 22.6238,   -999.0,9,  -999.00,9,  -999.00,9,  -999.00,9,  -999.0,-999.000
     33KB204_1,  PRS2,     2,  1,      1,   8001,2,20080816,0955, 22.7500,-158.0003, 4747,    151,    150.1,  22.2302,  35.1991,2,-999.0000,9,    203.0,1, 22.2003,   -999.0,9,  -999.00,9,  -999.00,9,  -999.00,9,  -999.0,-999.000
     33KB204_1,  PRS2,     2,  2,     24,   8024,2,20080816,1122, 22.7500,-158.0000, 4745,      6,      6.1,  25.9949,  35.0151,2,  35.0144,2,    208.6,1, 25.9935,   -999.0,9,  -999.00,9,  -999.00,9,  -999.00,9,  -999.0,-999.000
     33KB204_1,  PRS2,     2,  2,     22,   8022,2,20080816,1122, 22.7500,-158.0000, 4745,      7,      6.2,  25.9942,  35.0149,2,  35.0146,2,    208.7,1, 25.9928,   -999.0,9,  -999.00,9,  -999.00,9,  -999.00,9,  -999.0,-999.000
     33KB204_1,  PRS2,     2,  2,     23,   8023,2,20080816,1122, 22.7500,-158.0000, 4745,      7,      6.3,  25.9935,  35.0152,2,  35.0152,2,    208.6,1, 25.9921,   -999.0,9,  -999.00,9,  -999.00,9,  -999.00,9,  -999.0,-999.000
     33KB204_1,  PRS2,     2,  2,     20,   8020,2,20080816,1122, 22.7500,-158.0000, 4745,     25,     24.8,  25.9891,  35.0150,2,  35.0154,2,    208.7,1, 25.9836,   -999.0,9,  -999.00,9,  -999.00,9,  -999.00,9,  -999.0,-999.000
     33KB204_1,  PRS2,     2,  2,     19,   8019,2,20080816,1122, 22.7500,-158.0000, 4745,     25,     24.8,  25.9888,  35.0152,2,  35.0154,2,    208.8,1, 25.9832,   -999.0,9,  -999.00,9,  -999.00,9,  -999.00,9,  -999.0,-999.000
     33KB204_1,  PRS2,     2,  2,     21,   8021,2,20080816,1122, 22.7500,-158.0000, 4745,     25,     24.9,  25.9985,  35.0138,2,  35.0146,2,    208.7,1, 25.9929,   -999.0,9,  -999.00,9,  -999.00,9,  -999.00,9,  -999.0,-999.000
     33KB204_1,  PRS2,     2,  2,     18,   8018,2,20080816,1122, 22.7500,-158.0000, 4745,     26,     24.9,  25.9908,  35.0149,2,  35.0155,2,    208.9,1, 25.9852,   -999.0,9,  -999.00,9,  -999.00,9,  -999.00,9,  -999.0,-999.000
     33KB204_1,  PRS2,     2,  2,     17,   8017,2,20080816,1122, 22.7500,-158.0000, 4745,     42,     43.5,  24.7590,  35.0627,2,  35.0606,2,    223.0,1, 24.7497,   -999.0,9,  -999.00,9,  -999.00,9,  -999.00,9,  -999.0,-999.000
     33KB204_1,  PRS2,     2,  2,     16,   8016,2,20080816,1122, 22.7500,-158.0000, 4745,     44,     43.5,  24.7589,  35.0626,2,  35.0624,2,    223.1,1, 24.7496,   -999.0,9,  -999.00,9,  -999.00,9,  -999.00,9,  -999.0,-999.000
     33KB204_1,  PRS2,     2,  2,     15,   8015,2,20080816,1122, 22.7500,-158.0000, 4745,     43,     43.7,  24.7483,  35.0638,2,  35.0628,2,    223.2,1, 24.7389,   -999.0,9,  -999.00,9,  -999.00,9,  -999.00,9,  -999.0,-999.000
     33KB204_1,  PRS2,     2,  2,     14,   8014,2,20080816,1122, 22.7500,-158.0000, 4745,     74,     74.3,  23.3832,  35.1211,2,  35.1156,2,    218.7,1, 23.3678,   -999.0,9,  -999.00,9,  -999.00,9,  -999.00,9,  -999.0,-999.000
     33KB204_1,  PRS2,     2,  2,     13,   8025,2,20080816,1122, 22.7500,-158.0000, 4745,     75,     74.3,  23.3878,  35.1175,2,  35.1156,2,    218.7,1, 23.3724,   -999.0,9,  -999.00,9,  -999.00,9,  -999.00,9,  -999.0,-999.000
     33KB204_1,  PRS2,     2,  2,     12,   8012,2,20080816,1122, 22.7500,-158.0000, 4745,     75,     74.3,  23.3879,  35.1217,2,  35.1158,2,    218.6,1, 23.3726,   -999.0,9,  -999.00,9,  -999.00,9,  -999.00,9,  -999.0,-999.000
     33KB204_1,  PRS2,     2,  2,      9,   8009,2,20080816,1122, 22.7500,-158.0000, 4745,    101,    100.1,  22.9935,  35.1634,2,  35.1628,2,    214.2,1, 22.9731,   -999.0,9,  -999.00,9,  -999.00,9,  -999.00,9,  -999.0,-999.000
     33KB204_1,  PRS2,     2,  2,     10,   8010,2,20080816,1122, 22.7500,-158.0000, 4745,    100,    100.2,  22.9934,  35.1633,2,  35.1628,2,    214.3,1, 22.9729,   -999.0,9,  -999.00,9,  -999.00,9,  -999.00,9,  -999.0,-999.000
     33KB204_1,  PRS2,     2,  2,     11,   8011,2,20080816,1122, 22.7500,-158.0000, 4745,    101,    100.3,  22.9928,  35.1634,2,  35.1630,2,    214.3,1, 22.9723,   -999.0,9,  -999.00,9,  -999.00,9,  -999.00,9,  -999.0,-999.000
     33KB204_1,  PRS2,     2,  2,      8,   8008,2,20080816,1122, 22.7500,-158.0000, 4745,    124,    125.1,  22.6512,  35.1766,2,  35.1742,2,    209.6,1, 22.6259,   -999.0,9,  -999.00,9,  -999.00,9,  -999.00,9,  -999.0,-999.000
     33KB204_1,  PRS2,     2,  2,      7,   8026,2,20080816,1122, 22.7500,-158.0000, 4745,    125,    125.4,  22.6437,  35.1756,2,  35.1746,2,    209.6,1, 22.6183,   -999.0,9,  -999.00,9,  -999.00,9,  -999.00,9,  -999.0,-999.000
     33KB204_1,  PRS2,     2,  2,      6,   8006,2,20080816,1122, 22.7500,-158.0000, 4745,    125,    125.5,  22.6420,  35.1768,2,  35.1752,2,    209.5,1, 22.6167,   -999.0,9,  -999.00,9,  -999.00,9,  -999.00,9,  -999.0,-999.000
     33KB204_1,  PRS2,     2,  2,      5,   8005,2,20080816,1122, 22.7500,-158.0000, 4745,    125,    125.6,  22.6452,  35.1760,2,  35.1740,2,    209.4,1, 22.6198,   -999.0,9,  -999.00,9,  -999.00,9,  -999.00,9,  -999.0,-999.000
     33KB204_1,  PRS2,     2,  2,      4,   8004,2,20080816,1122, 22.7500,-158.0000, 4745,    150,    150.2,  22.1457,  35.1960,2,  35.1963,2,    200.4,1, 22.1158,   -999.0,9,  -999.00,9,  -999.00,9,  -999.00,9,  -999.0,-999.000
     33KB204_1,  PRS2,     2,  2,      3,   8003,2,20080816,1122, 22.7500,-158.0000, 4745,    174,    174.3,  21.4508,  35.1796,2,  35.1801,2,    197.6,1, 21.4169,   -999.0,9,  -999.00,9,  -999.00,9,  -999.00,9,  -999.0,-999.000
     33KB204_1,  PRS2,     2,  2,      2,   8002,2,20080816,1122, 22.7500,-158.0000, 4745,    476,    475.1,   8.3391,  34.1292,2,  34.1297,2,    113.7,1,  8.2896,   -999.0,9,  -999.00,9,  -999.00,9,  -999.00,9,  -999.0,-999.000
     33KB204_1,  PRS2,     2,  2,      1,   8001,2,20080816,1122, 22.7500,-158.0000, 4745,   1022,   1020.1,   4.2084,  34.4797,2,  34.4803,2,     44.1,1,  4.1295,   -999.0,9,  -999.00,9,  -999.00,9,  -999.00,9,  -999.0,-999.000