BOTTLE,20090923WHPSIOMYS
EXPOCODE,SECT_ID,STNNBR,CASTNO,SAMPNO,BTLNBR,BTLNBR_FLAG_W,DATE,TIME,LATITUDE,LONGITUDE,DEPTH,CTDRAW,CTDPRS,CTDTMP,CTDSAL,CTDSAL_FLAG_W,SALNTY,SALNTY_FLAG_W,CTDOXY,CTDOXY_FLAG_W,THETA,OXYGEN,OXYGEN_FLAG_W,SILCAT,SILCAT_FLAG_W,NO2+NO3,NO2+NO3_FLAG_W,PHSPHT,PHSPHT_FLAG_W,REVPRS,REVTMP
,,,,,,,,,,,,,DBAR,ITS-90,PSS-78,,PSS-78,,UMOL/KG,,ITS-90,UMOL/KG,,UMOL/KG,,UMOL/KG,,UMOL/KG,,DBAR,DEG C
     33KB204_1,  PRS2,     2,  3,     24,   8024,2,20080816,1452, 22.7497,-158.0008, 4744,      7,      7.0,  25.9770,  35.0523,2,  35.0520,2,    207.5,2, 25.9755,    207.0,2,     0.94,2,     0.02,2,     0.04,2,  -999.0,-999.000
     33KB204_1,  PRS2,     2,  3,     23,   8023,2,20080816,1452, 22.7497,-158.0008, 4744,    500,    500.7,   7.8344,  34.1238,2,-999.0000,5,    105.1,2,  7.7840,    106.5,2,    41.59,2,    28.86,2,     2.10,2,  -999.0,-999.000
     33KB204_1,  PRS2,     2,  3,     22,   8022,2,20080816,1452, 22.7497,-158.0008, 4744,    751,    750.6,   5.2472,  34.3443,2,  34.3419,2,     34.8,2,  5.1848,     32.3,3,    84.80,2,    40.56,2,     2.95,2,  -999.0,-999.000
     33KB204_1,  PRS2,     2,  3,     21,   8021,2,20080816,1452, 22.7497,-158.0008, 4744,   1000,    999.5,   4.3583,  34.4674,2,  34.4656,2,     42.8,2,  4.2800,     42.2,2,   107.44,2,    41.42,2,     2.99,2,  -999.0,-999.000
     33KB204_1,  PRS2,     2,  3,     20,   8020,2,20080816,1452, 22.7497,-158.0008, 4744,   1200,   1199.9,   3.7577,  34.5223,2,  34.5209,2,     51.6,2,  3.6673,     52.2,2,   114.09,2,    41.51,2,     2.97,2,  -999.0,-999.000
     33KB204_1,  PRS2,     2,  3,     19,   8019,2,20080816,1452, 22.7497,-158.0008, 4744,   1402,   1401.4,   3.2192,  34.5526,2,  34.5510,2,     59.9,2,  3.1172,     61.0,2,   125.85,2,    41.45,2,     2.95,2,  -999.0,-999.000
     33KB204_1,  PRS2,     2,  3,     18,   8018,2,20080816,1452, 22.7497,-158.0008, 4744,   1602,   1600.8,   2.7529,  34.5776,2,  34.5757,2,     70.2,2,  2.6396,     71.3,2,   136.32,2,    40.97,2,     2.89,2,  -999.0,-999.000
     33KB204_1,  PRS2,     2,  3,     17,   8017,2,20080816,1452, 22.7497,-158.0008, 4744,   1800,   1800.3,   2.4386,  34.5972,2,  34.5957,2,     79.0,2,  2.3126,     79.8,2,   143.51,2,    40.38,2,     2.85,2,  -999.0,-999.000
     33KB204_1,  PRS2,     2,  3,     16,   8016,2,20080816,1452, 22.7497,-158.0008, 4744,   2000,   2000.4,   2.2116,  34.6135,2,  34.6123,2,     86.2,2,  2.0720,     86.9,2,   148.40,2,    40.02,2,     2.86,2,  -999.0,-999.000
     33KB204_1,  PRS2,     2,  3,     15,   8015,2,20080816,1452, 22.7497,-158.0008, 4744,   2200,   2200.2,   1.9864,  34.6307,2,  34.6293,2,     95.0,2,  1.8331,     95.5,2,   153.28,2,    39.58,2,     2.77,2,  -999.0,-999.000
     33KB204_1,  PRS2,     2,  3,     14,   8014,2,20080816,1452, 22.7497,-158.0008, 4744,   2401,   2399.8,   1.8516,  34.6420,2,  34.6415,2,    101.8,2,  1.6831,    102.8,2,   156.08,2,    39.16,2,     2.74,2,  -999.0,-999.000
     33KB204_1,  PRS2,     2,  3,     13,   8025,2,20080816,1452, 22.7497,-158.0008, 4744,   2599,   2599.2,   1.7306,  34.6525,2,  34.6513,2,    108.6,2,  1.5464,    108.6,2,   158.11,2,    38.71,2,     2.70,2,  -999.0,-999.000
     33KB204_1,  PRS2,     2,  3,     12,   8012,2,20080816,1452, 22.7497,-158.0008, 4744,   2800,   2800.3,   1.6346,  34.6614,2,  34.6604,2,    116.2,2,  1.4338,    116.8,2,   158.91,2,    38.25,2,     2.67,2,  -999.0,-999.000
     33KB204_1,  PRS2,     2,  3,     11,   8011,2,20080816,1452, 22.7497,-158.0008, 4744,   3000,   2999.4,   1.5781,  34.6675,2,  34.6661,2,    122.8,2,  1.3597,    123.3,2,   158.68,2,    37.78,2,     2.63,2,  -999.0,-999.000
     33KB204_1,  PRS2,     2,  3,     10,   8010,2,20080816,1452, 22.7497,-158.0008, 4744,   3199,   3199.6,   1.5377,  34.6729,2,  34.6716,2,    128.5,2,  1.3008,    128.6,2,   158.50,2,    37.63,2,     2.59,2,  -999.0,-999.000
     33KB204_1,  PRS2,     2,  3,      9,   8009,2,20080816,1452, 22.7497,-158.0008, 4744,   3400,   3399.2,   1.4970,  34.6785,2,  34.6775,2,    134.8,2,  1.2412,    134.8,2,   156.88,2,    36.97,2,     2.57,2,  -999.0,-999.000
     33KB204_1,  PRS2,     2,  3,      8,   8008,2,20080816,1452, 22.7497,-158.0008, 4744,   3600,   3600.9,   1.4799,  34.6815,2,  34.6804,2,    139.8,2,  1.2039,    139.3,2,   155.05,2,    36.90,2,     2.52,2,  -999.0,-999.000
     33KB204_1,  PRS2,     2,  3,      7,   8026,2,20080816,1452, 22.7497,-158.0008, 4744,   3801,   3800.9,   1.4725,  34.6840,2,  34.6830,2,    143.5,2,  1.1758,    143.2,2,   154.31,2,    36.59,2,     2.52,2,  -999.0,-999.000
     33KB204_1,  PRS2,     2,  3,      6,   8006,2,20080816,1452, 22.7497,-158.0008, 4744,   4001,   3999.8,   1.4652,  34.6866,2,  34.6853,2,    147.6,2,  1.1473,    147.2,2,   152.45,2,    36.21,2,     2.50,2,  -999.0,-999.000
     33KB204_1,  PRS2,     2,  3,      5,   8005,2,20080816,1452, 22.7497,-158.0008, 4744,   4202,   4200.7,   1.4694,  34.6881,2,  34.6863,2,    150.7,2,  1.1293,    149.7,2,   150.49,2,    36.04,2,     2.49,2,  -999.0,-999.000
     33KB204_1,  PRS2,     2,  3,      4,   8004,2,20080816,1452, 22.7497,-158.0008, 4744,   4401,   4399.7,   1.4821,  34.6889,2,  34.6883,2,    151.9,2,  1.1192,    151.3,2,   149.84,2,    35.97,2,     2.48,2,  -999.0,-999.000
     33KB204_1,  PRS2,     2,  3,      3,   8003,2,20080816,1452, 22.7497,-158.0008, 4744,   4502,   4500.4,   1.4891,  34.6892,2,  34.6891,2,    152.4,2,  1.1144,    151.9,2,   149.38,2,    36.13,2,     2.49,2,  -999.0,-999.000
     33KB204_1,  PRS2,     2,  3,      2,   8002,2,20080816,1452, 22.7497,-158.0008, 4744,   4601,   4601.0,   1.4952,  34.6896,2,  34.6893,2,    153.1,2,  1.1087,    153.7,2,   150.06,2,    36.11,2,     2.47,2,  -999.0,-999.000
     33KB204_1,  PRS2,     2,  3,      1,   8001,2,20080816,1452, 22.7497,-158.0008, 4744,   4807,   4806.2,   1.5080,  34.6906,2,  34.6912,2,    154.3,2,  1.0968,    155.4,2,   147.59,2,    35.79,2,     2.46,2,  -999.0,-999.000
     33KB204_1,  PRS2,     2,  4,     24,   8024,2,20080816,2103, 22.7503,-158.0013, 4746,      6,      6.2,  26.0838,  35.0580,2,  35.0575,2,    207.5,2, 26.0824,    206.9,2,     0.94,2,     0.04,2,     0.05,2,  -999.0,-999.000
     33KB204_1,  PRS2,     2,  4,     23,   8023,2,20080816,2103, 22.7503,-158.0013, 4746,     51,     50.9,  25.0697,  35.0437,2,  35.0512,2,    216.0,2, 25.0587,    216.2,2,     1.01,2,     0.08,2,     0.04,2,  -999.0,-999.000
     33KB204_1,  PRS2,     2,  4,     22,   8022,2,20080816,2103, 22.7503,-158.0013, 4746,     78,     75.9,  23.5367,  35.1203,2,  35.1197,2,    216.5,2, 23.5209,    218.8,2,     1.16,2,     0.08,2,     0.06,2,  -999.0,-999.000
     33KB204_1,  PRS2,     2,  4,     21,   8021,2,20080816,2103, 22.7503,-158.0013, 4746,    112,    111.4,  22.8187,  35.1678,2,  35.1671,2,    212.5,2, 22.7960,    212.6,2,     0.98,2,     0.06,2,     0.09,2,  -999.0,-999.000
     33KB204_1,  PRS2,     2,  4,     20,   8020,2,20080816,2103, 22.7503,-158.0013, 4746,    149,    149.1,  22.1909,  35.2012,2,  35.1989,2,    201.5,2, 22.1612,    202.0,2,     1.66,2,     0.58,2,     0.11,2,  -999.0,-999.000
     33KB204_1,  PRS2,     2,  4,     19,   8019,2,20080816,2103, 22.7503,-158.0013, 4746,    208,    207.4,  19.7577,  35.0248,2,  35.0043,3,    192.2,3, 19.7197,    193.1,2,     4.38,4,     2.04,2,     0.22,2,  -999.0,-999.000
     33KB204_1,  PRS2,     2,  4,     18,   8018,2,20080816,2103, 22.7503,-158.0013, 4746,    258,    258.0,  16.7212,  34.6479,2,  34.6185,3,    192.8,3, 16.6791,    192.2,2,     4.48,2,     4.95,2,     0.42,2,  -999.0,-999.000
     33KB204_1,  PRS2,     2,  4,     17,   8017,2,20080816,2103, 22.7503,-158.0013, 4746,    302,    302.0,  14.0878,  34.3601,2,  34.3582,2,    194.6,2, 14.0440,    193.4,2,     7.41,2,     8.12,2,     0.65,2,  -999.0,-999.000
     33KB204_1,  PRS2,     2,  4,     16,   8016,2,20080816,2103, 22.7503,-158.0013, 4746,    346,    344.8,  12.1791,  34.2532,2,  34.2426,2,    200.0,2, 12.1337,    199.6,2,    12.06,2,    11.61,2,     0.86,2,  -999.0,-999.000
     33KB204_1,  PRS2,     2,  4,     15,   8015,2,20080816,2103, 22.7503,-158.0013, 4746,    380,    380.7,  10.5422,  34.1569,2,  34.1546,2,    189.8,2, 10.4966,    189.4,2,    17.72,2,    15.52,2,     1.15,2,  -999.0,-999.000
     33KB204_1,  PRS2,     2,  4,     14,   8014,2,20080816,2103, 22.7503,-158.0013, 4746,    438,    437.4,   9.0564,  34.1250,2,  34.1246,2,    151.1,2,  9.0086,    149.3,2,    29.30,2,    22.14,2,     1.64,2,  -999.0,-999.000
     33KB204_1,  PRS2,     2,  4,     13,   8025,2,20080816,2103, 22.7503,-158.0013, 4746,    505,    504.5,   7.6712,  34.1169,2,  34.1138,2,    104.5,2,  7.6211,    104.3,2,    44.53,2,    28.99,2,     2.15,2,  -999.0,-999.000
     33KB204_1,  PRS2,     2,  4,     12,   8012,2,20080816,2103, 22.7503,-158.0013, 4746,    536,    535.5,   6.8855,  34.1017,2,  34.1042,2,     94.2,2,  6.8353,     92.4,2,    53.21,2,    32.00,2,     2.32,2,  -999.0,-999.000
     33KB204_1,  PRS2,     2,  4,     11,   8011,2,20080816,2103, 22.7503,-158.0013, 4746,    593,    593.2,   6.1491,  34.1498,2,  34.1503,2,     64.8,2,  6.0965,     68.6,2,    65.98,2,    35.40,2,     2.58,2,  -999.0,-999.000
     33KB204_1,  PRS2,     2,  4,     10,   8010,2,20080816,2103, 22.7503,-158.0013, 4746,    627,    627.4,   5.9520,  34.2482,2,  34.2452,2,     49.8,2,  5.8971,     42.4,2,    71.87,2,    38.07,2,     2.80,2,  -999.0,-999.000
     33KB204_1,  PRS2,     2,  4,      9,   8009,2,20080816,2103, 22.7503,-158.0013, 4746,    681,    680.5,   5.5637,  34.3225,2,  34.3221,2,     32.9,2,  5.5058,     31.3,2,    79.76,2,    39.73,2,     2.93,2,  -999.0,-999.000
     33KB204_1,  PRS2,     2,  4,      8,   8008,2,20080816,2103, 22.7503,-158.0013, 4746,    719,    718.0,   5.3901,  34.3536,2,  34.3521,2,     33.0,2,  5.3298,     31.6,2,    82.67,2,    40.20,2,     2.96,2,  -999.0,-999.000
     33KB204_1,  PRS2,     2,  4,      7,   8026,2,20080816,2103, 22.7503,-158.0013, 4746,    754,    754.3,   5.1261,  34.3641,2,  34.3653,2,     32.5,2,  5.0641,     32.2,2,    87.25,2,    40.99,2,     3.04,2,  -999.0,-999.000
     33KB204_1,  PRS2,     2,  4,      6,   8006,2,20080816,2103, 22.7503,-158.0013, 4746,    808,    806.6,   4.8767,  34.3945,2,  34.3927,2,     35.6,2,  4.8116,     35.3,2,    92.14,2,    40.59,2,     2.97,2,  -999.0,-999.000
     33KB204_1,  PRS2,     2,  4,      5,   8005,2,20080816,2103, 22.7503,-158.0013, 4746,    861,    859.8,   4.6977,  34.4258,2,  34.4255,2,     37.4,2,  4.6290,     36.7,2,    95.55,2,    41.45,2,     3.00,2,  -999.0,-999.000
     33KB204_1,  PRS2,     2,  4,      4,   8004,2,20080816,2103, 22.7503,-158.0013, 4746,    900,    899.6,   4.5356,  34.4436,2,  34.4416,2,     39.3,2,  4.4646,     39.4,2,    98.91,2,    41.24,2,     2.99,2,  -999.0,-999.000
     33KB204_1,  PRS2,     2,  4,      3,   8003,2,20080816,2103, 22.7503,-158.0013, 4746,    940,    939.6,   4.3820,  34.4632,2,  34.4628,2,     42.2,2,  4.3086,     42.8,2,   101.44,2,    41.52,2,     2.99,2,  -999.0,-999.000
     33KB204_1,  PRS2,     2,  4,      2,   8002,2,20080816,2103, 22.7503,-158.0013, 4746,    982,    981.0,   4.2904,  34.4753,2,  34.4748,2,     43.9,2,  4.2141,     44.8,2,   103.27,2,    41.47,2,     2.99,2,  -999.0,-999.000
     33KB204_1,  PRS2,     2,  4,      1,   8001,2,20080816,2103, 22.7503,-158.0013, 4746,   1021,   1020.7,   4.2086,  34.4833,2,  34.4838,2,     44.9,2,  4.1296,     45.4,2,   104.67,2,    41.53,2,     2.98,2,  -999.0,-999.000
     33KB204_1,  PRS2,     2,  5,     22,   8022,2,20080816,2355, 22.7492,-157.9962, 4745,      7,      6.9,  26.1304,  35.0645,2,-999.0000,5,    207.2,1, 26.1288,   -999.0,9,  -999.00,9,  -999.00,9,  -999.00,9,  -999.0,-999.000
     33KB204_1,  PRS2,     2,  5,     21,   8021,2,20080816,2355, 22.7492,-157.9962, 4745,      8,      7.1,  26.1305,  35.0646,2,  35.0640,2,    207.2,1, 26.1290,   -999.0,9,  -999.00,9,  -999.00,9,  -999.00,9,  -999.0,-999.000
     33KB204_1,  PRS2,     2,  5,     20,   8020,2,20080816,2355, 22.7492,-157.9962, 4745,     25,     24.8,  26.0385,  35.0604,2,-999.0000,5,    207.7,1, 26.0330,   -999.0,9,  -999.00,9,  -999.00,9,  -999.00,9,  -999.0,-999.000
     33KB204_1,  PRS2,     2,  5,     19,   8019,2,20080816,2355, 22.7492,-157.9962, 4745,     25,     24.8,  26.0385,  35.0604,2,  35.0600,2,    207.6,1, 26.0330,   -999.0,9,  -999.00,9,  -999.00,9,  -999.00,9,  -999.0,-999.000
     33KB204_1,  PRS2,     2,  5,     18,   8018,2,20080816,2355, 22.7492,-157.9962, 4745,     46,     45.4,  25.9594,  35.0581,2,-999.0000,5,    208.7,1, 25.9493,   -999.0,9,  -999.00,9,  -999.00,9,  -999.00,9,  -999.0,-999.000
     33KB204_1,  PRS2,     2,  5,     17,   8017,2,20080816,2355, 22.7492,-157.9962, 4745,     46,     45.4,  25.9594,  35.0581,2,  35.0563,2,    208.9,1, 25.9493,   -999.0,9,  -999.00,9,  -999.00,9,  -999.00,9,  -999.0,-999.000
     33KB204_1,  PRS2,     2,  5,     15,   8015,2,20080816,2355, 22.7492,-157.9962, 4745,     75,     75.2,  23.9067,  35.0999,2,  35.1033,2,    221.1,1, 23.8910,   -999.0,9,  -999.00,9,  -999.00,9,  -999.00,9,  -999.0,-999.000
     33KB204_1,  PRS2,     2,  5,     16,   8016,2,20080816,2355, 22.7492,-157.9962, 4745,     75,     75.3,  23.9074,  35.0995,2,-999.0000,5,    221.3,1, 23.8916,   -999.0,9,  -999.00,9,  -999.00,9,  -999.00,9,  -999.0,-999.000
     33KB204_1,  PRS2,     2,  5,     13,   8025,2,20080816,2355, 22.7492,-157.9962, 4745,    100,    100.6,  23.2972,  35.1573,2,  35.1563,2,    218.5,1, 23.2765,   -999.0,9,  -999.00,9,  -999.00,9,  -999.00,9,  -999.0,-999.000
     33KB204_1,  PRS2,     2,  5,     14,   8014,2,20080816,2355, 22.7492,-157.9962, 4745,    101,    100.7,  23.2970,  35.1570,2,-999.0000,5,    218.6,1, 23.2762,   -999.0,9,  -999.00,9,  -999.00,9,  -999.00,9,  -999.0,-999.000
     33KB204_1,  PRS2,     2,  5,     11,   8011,2,20080816,2355, 22.7492,-157.9962, 4745,    125,    125.0,  22.8749,  35.1678,2,  35.1673,2,    212.8,1, 22.8495,   -999.0,9,  -999.00,9,  -999.00,9,  -999.00,9,  -999.0,-999.000
     33KB204_1,  PRS2,     2,  5,     12,   8012,2,20080816,2355, 22.7492,-157.9962, 4745,    125,    125.1,  22.8751,  35.1679,2,-999.0000,5,    212.8,1, 22.8496,   -999.0,9,  -999.00,9,  -999.00,9,  -999.00,9,  -999.0,-999.000
     33KB204_1,  PRS2,     2,  5,      9,   8009,2,20080816,2355, 22.7492,-157.9962, 4745,    152,    151.0,  22.4876,  35.1815,2,  35.1800,2,    206.3,1, 22.4572,   -999.0,9,  -999.00,9,  -999.00,9,  -999.00,9,  -999.0,-999.000
     33KB204_1,  PRS2,     2,  5,     10,   8010,2,20080816,2355, 22.7492,-157.9962, 4745,    152,    151.1,  22.4920,  35.1797,2,-999.0000,5,    206.5,1, 22.4616,   -999.0,9,  -999.00,9,  -999.00,9,  -999.00,9,  -999.0,-999.000
     33KB204_1,  PRS2,     2,  5,      8,   8008,2,20080816,2355, 22.7492,-157.9962, 4745,    176,    174.7,  22.0979,  35.2079,2,-999.0000,5,    201.1,1, 22.0632,   -999.0,9,  -999.00,9,  -999.00,9,  -999.00,9,  -999.0,-999.000
     33KB204_1,  PRS2,     2,  5,      7,   8026,2,20080816,2355, 22.7492,-157.9962, 4745,    176,    174.7,  22.0982,  35.2082,2,  35.2056,2,    201.0,1, 22.0635,   -999.0,9,  -999.00,9,  -999.00,9,  -999.00,9,  -999.0,-999.000
     33KB204_1,  PRS2,     2,  5,      6,   8006,2,20080816,2355, 22.7492,-157.9962, 4745,    200,    199.6,  21.4382,  35.1776,2,  35.1764,2,    197.7,1, 21.3993,   -999.0,9,  -999.00,9,  -999.00,9,  -999.00,9,  -999.0,-999.000
     33KB204_1,  PRS2,     2,  5,      5,   8005,2,20080816,2355, 22.7492,-157.9962, 4745,    250,    250.1,  18.8981,  34.9258,2,  34.9178,2,    193.1,1, 18.8536,   -999.0,9,  -999.00,9,  -999.00,9,  -999.00,9,  -999.0,-999.000
     33KB204_1,  PRS2,     2,  5,      4,   8004,2,20080816,2355, 22.7492,-157.9962, 4745,    351,    351.2,  12.4459,  34.2686,2,  34.2740,2,    202.1,1, 12.3991,   -999.0,9,  -999.00,9,  -999.00,9,  -999.00,9,  -999.0,-999.000
     33KB204_1,  PRS2,     2,  5,      3,   8003,2,20080816,2355, 22.7492,-157.9962, 4745,    351,    351.2,  12.4254,  34.2681,2,  34.2728,2,    202.0,1, 12.3785,   -999.0,9,  -999.00,9,  -999.00,9,  -999.00,9,  -999.0,-999.000
     33KB204_1,  PRS2,     2,  5,      2,   8002,2,20080816,2355, 22.7492,-157.9962, 4745,    531,    530.7,   7.1464,  34.0944,2,  34.0954,2,    100.6,1,  7.0957,   -999.0,9,  -999.00,9,  -999.00,9,  -999.00,9,  -999.0,-999.000
     33KB204_1,  PRS2,     2,  5,      1,   8001,2,20080816,2355, 22.7492,-157.9962, 4745,   1020,   1020.3,   4.2271,  34.4819,2,  34.4809,2,     44.7,1,  4.1480,   -999.0,9,  -999.00,9,  -999.00,9,  -999.00,9,  -999.0,-999.000