BOTTLE,20090923WHPSIOMYS
EXPOCODE,SECT_ID,STNNBR,CASTNO,SAMPNO,BTLNBR,BTLNBR_FLAG_W,DATE,TIME,LATITUDE,LONGITUDE,DEPTH,CTDRAW,CTDPRS,CTDTMP,CTDSAL,CTDSAL_FLAG_W,SALNTY,SALNTY_FLAG_W,CTDOXY,CTDOXY_FLAG_W,THETA,OXYGEN,OXYGEN_FLAG_W,SILCAT,SILCAT_FLAG_W,NO2+NO3,NO2+NO3_FLAG_W,PHSPHT,PHSPHT_FLAG_W,REVPRS,REVTMP
,,,,,,,,,,,,,DBAR,ITS-90,PSS-78,,PSS-78,,UMOL/KG,,ITS-90,UMOL/KG,,UMOL/KG,,UMOL/KG,,UMOL/KG,,DBAR,DEG C
     318M171_1,  PRS2,     2,  8,     22,     22,3,20050717,0558, 22.7438,-158.0698, 4750,      5,      5.0,  25.9885,  34.9435,2,  34.9557,3,    206.1,1, 25.9874,   -999.0,9,  -999.00,9,  -999.00,9,  -999.00,9,  -999.0,-999.000
     318M171_1,  PRS2,     2,  8,     21,     21,2,20050717,0558, 22.7438,-158.0698, 4750,      5,      5.0,  25.9899,  34.9433,2,  34.9427,2,    206.1,1, 25.9888,   -999.0,9,  -999.00,9,  -999.00,9,  -999.00,9,  -999.0,-999.000
     318M171_1,  PRS2,     2,  8,     20,     41,2,20050717,0558, 22.7438,-158.0698, 4750,     26,     25.3,  25.9783,  34.9432,2,  34.9439,2,    206.1,1, 25.9727,   -999.0,9,  -999.00,9,  -999.00,9,  -999.00,9,  -999.0,-999.000
     318M171_1,  PRS2,     2,  8,     19,     19,2,20050717,0558, 22.7438,-158.0698, 4750,     26,     25.3,  25.9775,  34.9432,2,  34.9502,2,    206.2,1, 25.9719,   -999.0,9,  -999.00,9,  -999.00,9,  -999.00,9,  -999.0,-999.000
     318M171_1,  PRS2,     2,  8,     18,     18,4,20050717,0558, 22.7438,-158.0698, 4750,     45,     44.8,  25.3768,  35.0717,2,-999.0000,5,    212.0,1, 25.3669,   -999.0,9,  -999.00,9,  -999.00,9,  -999.00,9,  -999.0,-999.000
     318M171_1,  PRS2,     2,  8,     17,     17,2,20050717,0558, 22.7438,-158.0698, 4750,     45,     44.8,  25.3627,  35.0736,2,  35.0797,2,    212.0,1, 25.3529,   -999.0,9,  -999.00,9,  -999.00,9,  -999.00,9,  -999.0,-999.000
     318M171_1,  PRS2,     2,  8,     16,     34,2,20050717,0558, 22.7438,-158.0698, 4750,     60,     59.6,  24.3549,  35.1279,2,  35.1321,2,    222.0,1, 24.3422,   -999.0,9,  -999.00,9,  -999.00,9,  -999.00,9,  -999.0,-999.000
     318M171_1,  PRS2,     2,  8,     15,    102,2,20050717,0558, 22.7438,-158.0698, 4750,     75,     75.1,  23.6803,  35.1753,2,  35.1750,2,    217.6,1, 23.6647,   -999.0,9,  -999.00,9,  -999.00,9,  -999.00,9,  -999.0,-999.000
     318M171_1,  PRS2,     2,  8,     14,    101,2,20050717,0558, 22.7438,-158.0698, 4750,     75,     75.1,  23.6781,  35.1751,2,  35.1801,2,    217.4,1, 23.6625,   -999.0,9,  -999.00,9,  -999.00,9,  -999.00,9,  -999.0,-999.000
     318M171_1,  PRS2,     2,  8,     13,     42,2,20050717,0558, 22.7438,-158.0698, 4750,     86,     85.4,  23.3354,  35.1949,2,  35.1926,2,    217.3,1, 23.3177,   -999.0,9,  -999.00,9,  -999.00,9,  -999.00,9,  -999.0,-999.000
     318M171_1,  PRS2,     2,  8,     12,     12,2,20050717,0558, 22.7438,-158.0698, 4750,    100,     99.6,  22.9466,  35.2120,2,  35.2097,2,    213.8,1, 22.9263,   -999.0,9,  -999.00,9,  -999.00,9,  -999.00,9,  -999.0,-999.000
     318M171_1,  PRS2,     2,  8,     11,     39,2,20050717,0558, 22.7438,-158.0698, 4750,    100,     99.6,  22.9242,  35.2122,2,  35.2107,2,    215.0,1, 22.9039,   -999.0,9,  -999.00,9,  -999.00,9,  -999.00,9,  -999.0,-999.000
     318M171_1,  PRS2,     2,  8,     10,     33,2,20050717,0558, 22.7438,-158.0698, 4750,    115,    115.2,  22.6739,  35.2244,2,  35.2253,2,    214.6,1, 22.6506,   -999.0,9,  -999.00,9,  -999.00,9,  -999.00,9,  -999.0,-999.000
     318M171_1,  PRS2,     2,  8,      8,     29,2,20050717,0558, 22.7438,-158.0698, 4750,    125,    124.8,  22.3316,  35.2258,2,  35.2260,2,    210.0,1, 22.3067,   -999.0,9,  -999.00,9,  -999.00,9,  -999.00,9,  -999.0,-999.000
     318M171_1,  PRS2,     2,  8,      9,      3,2,20050717,0558, 22.7438,-158.0698, 4750,    125,    124.9,  22.3336,  35.2256,2,  35.2217,2,    210.3,1, 22.3086,   -999.0,9,  -999.00,9,  -999.00,9,  -999.00,9,  -999.0,-999.000
     318M171_1,  PRS2,     2,  8,      7,     28,3,20050717,0558, 22.7438,-158.0698, 4750,    134,    134.4,  21.9709,  35.2167,2,  35.2134,2,    204.8,1, 21.9443,   -999.0,9,  -999.00,9,  -999.00,9,  -999.00,9,  -999.0,-999.000
     318M171_1,  PRS2,     2,  8,      6,     13,2,20050717,0558, 22.7438,-158.0698, 4750,    150,    150.1,  21.4477,  35.1921,2,  35.1882,2,    202.4,1, 21.4185,   -999.0,9,  -999.00,9,  -999.00,9,  -999.00,9,  -999.0,-999.000
     318M171_1,  PRS2,     2,  8,      5,     38,2,20050717,0558, 22.7438,-158.0698, 4750,    150,    150.1,  21.4423,  35.1919,2,  35.1916,2,    201.9,1, 21.4132,   -999.0,9,  -999.00,9,  -999.00,9,  -999.00,9,  -999.0,-999.000
     318M171_1,  PRS2,     2,  8,      4,     36,2,20050717,0558, 22.7438,-158.0698, 4750,    175,    175.1,  19.7682,  35.0428,2,  35.0376,2,    190.9,1, 19.7361,   -999.0,9,  -999.00,9,  -999.00,9,  -999.00,9,  -999.0,-999.000
     318M171_1,  PRS2,     2,  8,      3,     35,2,20050717,0558, 22.7438,-158.0698, 4750,    175,    175.1,  19.7638,  35.0417,2,  35.0372,2,    191.3,1, 19.7317,   -999.0,9,  -999.00,9,  -999.00,9,  -999.00,9,  -999.0,-999.000
     318M171_1,  PRS2,     2,  8,      2,      7,2,20050717,0558, 22.7438,-158.0698, 4750,    500,    500.1,   7.2245,  34.0705,2,  34.0735,2,    102.0,1,  7.1765,   -999.0,9,  -999.00,9,  -999.00,9,  -999.00,9,  -999.0,-999.000
     318M171_1,  PRS2,     2,  8,      1,     11,2,20050717,0558, 22.7438,-158.0698, 4750,   1111,   1111.0,   3.6808,  34.5114,2,  34.5152,3,     49.3,1,  3.5985,   -999.0,9,  -999.00,9,  -999.00,9,  -999.00,9,  -999.0,-999.000
     318M171_1,  PRS2,     2,  9,     21,     21,2,20050717,0929, 22.7530,-158.0458, 4738,      5,      5.1,  25.9314,  34.9771,2,  34.9766,2,    206.3,2, 25.9302,    206.1,2,  -999.00,9,  -999.00,9,  -999.00,9,  -999.0,-999.000
     318M171_1,  PRS2,     2,  9,     22,     22,3,20050717,0929, 22.7530,-158.0458, 4738,      6,      5.2,  25.9311,  34.9771,2,  34.9782,2,    206.4,2, 25.9300,   -999.0,5,  -999.00,9,  -999.00,9,  -999.00,9,  -999.0,-999.000
     318M171_1,  PRS2,     2,  9,     20,     41,3,20050717,0929, 22.7530,-158.0458, 4738,     15,     14.8,  25.9358,  34.9770,2,  34.9872,2,    206.3,2, 25.9325,   -999.0,5,  -999.00,9,  -999.00,9,  -999.00,9,  -999.0,-999.000
     318M171_1,  PRS2,     2,  9,     19,     19,2,20050717,0929, 22.7530,-158.0458, 4738,     25,     24.6,  25.9352,  34.9775,2,  34.9784,2,    206.3,2, 25.9297,   -999.0,5,  -999.00,9,  -999.00,9,  -999.00,9,  -999.0,-999.000
     318M171_1,  PRS2,     2,  9,     18,     18,2,20050717,0929, 22.7530,-158.0458, 4738,     25,     24.7,  25.9341,  34.9773,2,  34.9756,2,    206.4,2, 25.9286,    206.5,2,  -999.00,9,  -999.00,9,  -999.00,9,  -999.0,-999.000
     318M171_1,  PRS2,     2,  9,     17,     17,2,20050717,0929, 22.7530,-158.0458, 4738,     35,     34.4,  25.9211,  34.9790,2,  34.9784,2,    206.4,2, 25.9134,   -999.0,5,  -999.00,9,  -999.00,9,  -999.00,9,  -999.0,-999.000
     318M171_1,  PRS2,     2,  9,     15,    102,2,20050717,0929, 22.7530,-158.0458, 4738,     45,     44.8,  25.5987,  35.0659,2,  35.0642,2,    210.7,2, 25.5888,    209.8,2,  -999.00,9,  -999.00,9,  -999.00,9,  -999.0,-999.000
     318M171_1,  PRS2,     2,  9,     16,     34,2,20050717,0929, 22.7530,-158.0458, 4738,     45,     44.9,  25.6165,  35.0614,2,  35.0644,2,    210.5,2, 25.6066,   -999.0,5,  -999.00,9,  -999.00,9,  -999.00,9,  -999.0,-999.000
     318M171_1,  PRS2,     2,  9,     14,    101,2,20050717,0929, 22.7530,-158.0458, 4738,     59,     59.4,  24.6703,  35.1333,2,  35.1376,2,    218.9,2, 24.6575,   -999.0,5,  -999.00,9,  -999.00,9,  -999.00,9,  -999.0,-999.000
     318M171_1,  PRS2,     2,  9,     13,     42,2,20050717,0929, 22.7530,-158.0458, 4738,     75,     75.0,  23.9775,  35.1741,2,  35.1760,2,    221.4,2, 23.9617,    220.9,2,  -999.00,9,  -999.00,9,  -999.00,9,  -999.0,-999.000
     318M171_1,  PRS2,     2,  9,     12,     12,2,20050717,0929, 22.7530,-158.0458, 4738,     85,     84.8,  23.6584,  35.1976,2,  35.2034,2,    220.9,2, 23.6407,    211.3,4,  -999.00,9,  -999.00,9,  -999.00,9,  -999.0,-999.000
     318M171_1,  PRS2,     2,  9,     11,     39,2,20050717,0929, 22.7530,-158.0458, 4738,    100,     99.6,  23.1268,  35.2123,2,  35.2101,2,    216.7,2, 23.1064,    217.9,2,  -999.00,9,  -999.00,9,  -999.00,9,  -999.0,-999.000
     318M171_1,  PRS2,     2,  9,     10,     33,2,20050717,0929, 22.7530,-158.0458, 4738,    115,    115.2,  22.7294,  35.2245,2,  35.2217,2,    213.0,2, 22.7061,    214.6,2,  -999.00,9,  -999.00,9,  -999.00,9,  -999.0,-999.000
     318M171_1,  PRS2,     2,  9,      9,      3,2,20050717,0929, 22.7530,-158.0458, 4738,    125,    124.7,  22.3102,  35.2269,2,  35.2325,2,    210.2,2, 22.2852,    212.3,2,  -999.00,9,  -999.00,9,  -999.00,9,  -999.0,-999.000
     318M171_1,  PRS2,     2,  9,      8,     29,2,20050717,0929, 22.7530,-158.0458, 4738,    150,    150.1,  21.5164,  35.1987,2,  35.1961,2,    204.2,2, 21.4872,    202.9,2,  -999.00,9,  -999.00,9,  -999.00,9,  -999.0,-999.000
     318M171_1,  PRS2,     2,  9,      7,     28,2,20050717,0929, 22.7530,-158.0458, 4738,    165,    164.9,  20.6235,  35.1317,2,  35.1236,2,    196.7,2, 20.5923,    182.4,4,  -999.00,9,  -999.00,9,  -999.00,9,  -999.0,-999.000
     318M171_1,  PRS2,     2,  9,      5,     38,2,20050717,0929, 22.7530,-158.0458, 4738,    175,    174.6,  20.2912,  35.0996,2,  35.1010,2,    198.2,2, 20.2586,    197.1,2,  -999.00,9,  -999.00,9,  -999.00,9,  -999.0,-999.000
     318M171_1,  PRS2,     2,  9,      6,     13,2,20050717,0929, 22.7530,-158.0458, 4738,    175,    174.7,  20.2923,  35.0999,2,  35.0986,2,    198.0,2, 20.2596,   -999.0,5,  -999.00,9,  -999.00,9,  -999.00,9,  -999.0,-999.000
     318M171_1,  PRS2,     2,  9,      4,     36,2,20050717,0929, 22.7530,-158.0458, 4738,    200,    200.2,  18.8161,  34.9194,2,  34.9026,2,    195.5,2, 18.7807,    196.0,2,  -999.00,9,  -999.00,9,  -999.00,9,  -999.0,-999.000
     318M171_1,  PRS2,     2,  9,      3,     35,2,20050717,0929, 22.7530,-158.0458, 4738,    499,    499.7,   7.4431,  34.0769,2,  34.0762,2,    106.8,2,  7.3943,    107.8,2,  -999.00,9,  -999.00,9,  -999.00,9,  -999.0,-999.000
     318M171_1,  PRS2,     2,  9,      2,      7,2,20050717,0929, 22.7530,-158.0458, 4738,    750,    750.0,   4.6699,  34.2507,2,  34.2526,2,     24.2,2,  4.6110,     25.4,2,  -999.00,9,  -999.00,9,  -999.00,9,  -999.0,-999.000
     318M171_1,  PRS2,     2,  9,      1,     11,2,20050717,0929, 22.7530,-158.0458, 4738,   1021,   1020.8,   3.9105,  34.4843,2,  34.4868,2,     44.2,2,  3.8339,     45.5,2,  -999.00,9,  -999.00,9,  -999.00,9,  -999.0,-999.000
     318M171_1,  PRS2,     2, 10,     22,     22,3,20050717,1223, 22.7540,-158.0310, 4745,      5,      4.9,  25.9107,  35.0097,2,  35.0122,2,    206.9,1, 25.9096,   -999.0,9,  -999.00,9,  -999.00,9,  -999.00,9,  -999.0,-999.000
     318M171_1,  PRS2,     2, 10,     21,     21,2,20050717,1223, 22.7540,-158.0310, 4745,      5,      4.9,  25.9112,  35.0096,2,  35.0083,2,    206.8,1, 25.9101,   -999.0,9,  -999.00,9,  -999.00,9,  -999.00,9,  -999.0,-999.000
     318M171_1,  PRS2,     2, 10,     20,     41,3,20050717,1223, 22.7540,-158.0310, 4745,      5,      4.9,  25.9122,  35.0093,2,  35.0132,2,    206.8,1, 25.9111,   -999.0,9,  -999.00,9,  -999.00,9,  -999.00,9,  -999.0,-999.000
     318M171_1,  PRS2,     2, 10,     17,     17,3,20050717,1223, 22.7540,-158.0310, 4745,     25,     25.4,  25.9123,  35.0052,2,  35.0096,2,    206.7,1, 25.9067,   -999.0,9,  -999.00,9,  -999.00,9,  -999.00,9,  -999.0,-999.000
     318M171_1,  PRS2,     2, 10,     19,     19,3,20050717,1223, 22.7540,-158.0310, 4745,     26,     25.5,  25.9134,  35.0055,2,  35.0047,2,    206.7,1, 25.9077,   -999.0,9,  -999.00,9,  -999.00,9,  -999.00,9,  -999.0,-999.000
     318M171_1,  PRS2,     2, 10,     18,     18,2,20050717,1223, 22.7540,-158.0310, 4745,     25,     25.5,  25.9125,  35.0057,2,  35.0092,2,    206.7,1, 25.9068,   -999.0,9,  -999.00,9,  -999.00,9,  -999.00,9,  -999.0,-999.000
     318M171_1,  PRS2,     2, 10,     15,    102,2,20050717,1223, 22.7540,-158.0310, 4745,     46,     45.3,  25.9029,  35.0094,2,  35.0100,2,    206.5,1, 25.8929,   -999.0,9,  -999.00,9,  -999.00,9,  -999.00,9,  -999.0,-999.000
     318M171_1,  PRS2,     2, 10,     14,    101,2,20050717,1223, 22.7540,-158.0310, 4745,     46,     45.3,  25.9093,  35.0089,2,  35.0150,2,    206.5,1, 25.8993,   -999.0,9,  -999.00,9,  -999.00,9,  -999.00,9,  -999.0,-999.000
     318M171_1,  PRS2,     2, 10,     16,     34,2,20050717,1223, 22.7540,-158.0310, 4745,     45,     45.6,  25.8985,  35.0106,2,  35.0073,2,    206.6,1, 25.8883,   -999.0,9,  -999.00,9,  -999.00,9,  -999.00,9,  -999.0,-999.000
     318M171_1,  PRS2,     2, 10,     11,     39,3,20050717,1223, 22.7540,-158.0310, 4745,     75,     75.0,  23.9263,  35.1793,2,  35.1756,2,    220.4,1, 23.9106,   -999.0,9,  -999.00,9,  -999.00,9,  -999.00,9,  -999.0,-999.000
     318M171_1,  PRS2,     2, 10,     12,     12,2,20050717,1223, 22.7540,-158.0310, 4745,     76,     75.1,  23.9215,  35.1792,2,  35.1762,2,    220.5,1, 23.9058,   -999.0,9,  -999.00,9,  -999.00,9,  -999.00,9,  -999.0,-999.000
     318M171_1,  PRS2,     2, 10,     13,     42,2,20050717,1223, 22.7540,-158.0310, 4745,     76,     75.4,  23.9132,  35.1778,2,  35.1772,2,    220.6,1, 23.8974,   -999.0,9,  -999.00,9,  -999.00,9,  -999.00,9,  -999.0,-999.000
     318M171_1,  PRS2,     2, 10,     10,     33,2,20050717,1223, 22.7540,-158.0310, 4745,    101,    100.6,  23.0277,  35.2143,2,  35.2136,2,    216.9,1, 23.0072,   -999.0,9,  -999.00,9,  -999.00,9,  -999.00,9,  -999.0,-999.000
     318M171_1,  PRS2,     2, 10,      9,      3,2,20050717,1223, 22.7540,-158.0310, 4745,    101,    100.6,  23.0304,  35.2147,2,  35.2132,2,    216.7,1, 23.0098,   -999.0,9,  -999.00,9,  -999.00,9,  -999.00,9,  -999.0,-999.000
     318M171_1,  PRS2,     2, 10,      8,     29,3,20050717,1223, 22.7540,-158.0310, 4745,    101,    100.6,  23.0315,  35.2149,2,  35.2152,2,    216.4,1, 23.0109,   -999.0,9,  -999.00,9,  -999.00,9,  -999.00,9,  -999.0,-999.000
     318M171_1,  PRS2,     2, 10,      7,     28,3,20050717,1223, 22.7540,-158.0310, 4745,    125,    125.0,  22.0333,  35.2137,2,  35.2233,2,    205.1,1, 22.0085,   -999.0,9,  -999.00,9,  -999.00,9,  -999.00,9,  -999.0,-999.000
     318M171_1,  PRS2,     2, 10,      6,     13,2,20050717,1223, 22.7540,-158.0310, 4745,    125,    125.0,  22.0348,  35.2138,2,  35.2266,2,    205.0,1, 22.0101,   -999.0,9,  -999.00,9,  -999.00,9,  -999.00,9,  -999.0,-999.000
     318M171_1,  PRS2,     2, 10,      5,     38,3,20050717,1223, 22.7540,-158.0310, 4745,    125,    125.0,  22.0338,  35.2140,2,  35.2119,2,    205.0,1, 22.0090,   -999.0,9,  -999.00,9,  -999.00,9,  -999.00,9,  -999.0,-999.000
     318M171_1,  PRS2,     2, 10,      4,     36,3,20050717,1223, 22.7540,-158.0310, 4745,    150,    150.1,  21.1974,  35.1765,2,  35.1766,2,    197.9,1, 21.1684,   -999.0,9,  -999.00,9,  -999.00,9,  -999.00,9,  -999.0,-999.000
     318M171_1,  PRS2,     2, 10,      3,     35,2,20050717,1223, 22.7540,-158.0310, 4745,    175,    174.8,  19.7714,  35.0493,2,  35.0518,2,    198.0,1, 19.7393,   -999.0,9,  -999.00,9,  -999.00,9,  -999.00,9,  -999.0,-999.000
     318M171_1,  PRS2,     2, 10,      2,      7,2,20050717,1223, 22.7540,-158.0310, 4745,    499,    499.4,   7.3218,  34.0755,2,  34.0927,3,    101.6,1,  7.2735,   -999.0,9,  -999.00,9,  -999.00,9,  -999.00,9,  -999.0,-999.000
     318M171_1,  PRS2,     2, 10,      1,     11,2,20050717,1223, 22.7540,-158.0310, 4745,   1020,   1020.2,   3.9388,  34.4817,2,  34.5056,4,     43.7,1,  3.8620,   -999.0,9,  -999.00,9,  -999.00,9,  -999.00,9,  -999.0,-999.000
     318M171_1,  PRS2,     2, 11,     15,    102,2,20050717,1434, 22.7635,-158.0217, 4725,     24,     24.5,  25.8722,  35.0133,2,-999.0000,5,    206.9,1, 25.8668,   -999.0,9,  -999.00,9,  -999.00,9,  -999.00,9,  -999.0,-999.000
     318M171_1,  PRS2,     2, 11,     14,    101,2,20050717,1434, 22.7635,-158.0217, 4725,     25,     24.5,  25.8721,  35.0138,2,-999.0000,5,    206.9,1, 25.8666,   -999.0,9,  -999.00,9,  -999.00,9,  -999.00,9,  -999.0,-999.000
     318M171_1,  PRS2,     2, 11,     13,     42,2,20050717,1434, 22.7635,-158.0217, 4725,     24,     24.5,  25.8717,  35.0139,2,-999.0000,5,    206.9,1, 25.8662,   -999.0,9,  -999.00,9,  -999.00,9,  -999.00,9,  -999.0,-999.000
     318M171_1,  PRS2,     2, 11,     12,     12,2,20050717,1434, 22.7635,-158.0217, 4725,     25,     24.5,  25.8712,  35.0131,2,-999.0000,5,    207.0,1, 25.8657,   -999.0,9,  -999.00,9,  -999.00,9,  -999.00,9,  -999.0,-999.000
     318M171_1,  PRS2,     2, 11,     11,     39,2,20050717,1434, 22.7635,-158.0217, 4725,     25,     24.5,  25.8721,  35.0134,2,-999.0000,5,    207.0,1, 25.8667,   -999.0,9,  -999.00,9,  -999.00,9,  -999.00,9,  -999.0,-999.000
     318M171_1,  PRS2,     2, 11,      7,     28,2,20050717,1434, 22.7635,-158.0217, 4725,     24,     24.5,  25.8806,  35.0162,2,-999.0000,5,    207.2,1, 25.8752,   -999.0,9,  -999.00,9,  -999.00,9,  -999.00,9,  -999.0,-999.000
     318M171_1,  PRS2,     2, 11,      6,     13,2,20050717,1434, 22.7635,-158.0217, 4725,     25,     24.5,  25.8767,  35.0161,2,-999.0000,5,    207.3,1, 25.8712,   -999.0,9,  -999.00,9,  -999.00,9,  -999.00,9,  -999.0,-999.000
     318M171_1,  PRS2,     2, 11,      5,     38,2,20050717,1434, 22.7635,-158.0217, 4725,     24,     24.5,  25.8761,  35.0161,2,-999.0000,5,    207.3,1, 25.8707,   -999.0,9,  -999.00,9,  -999.00,9,  -999.00,9,  -999.0,-999.000
     318M171_1,  PRS2,     2, 11,      4,     36,2,20050717,1434, 22.7635,-158.0217, 4725,     25,     24.5,  25.8801,  35.0160,2,  35.0295,3,    207.4,1, 25.8746,   -999.0,9,  -999.00,9,  -999.00,9,  -999.00,9,  -999.0,-999.000
     318M171_1,  PRS2,     2, 11,     10,     33,2,20050717,1434, 22.7635,-158.0217, 4725,     25,     24.6,  25.8738,  35.0125,2,-999.0000,5,    207.1,1, 25.8683,   -999.0,9,  -999.00,9,  -999.00,9,  -999.00,9,  -999.0,-999.000
     318M171_1,  PRS2,     2, 11,      9,      3,2,20050717,1434, 22.7635,-158.0217, 4725,     25,     24.6,  25.8771,  35.0157,2,-999.0000,5,    207.1,1, 25.8717,   -999.0,9,  -999.00,9,  -999.00,9,  -999.00,9,  -999.0,-999.000
     318M171_1,  PRS2,     2, 11,      8,     29,2,20050717,1434, 22.7635,-158.0217, 4725,     25,     24.6,  25.8789,  35.0163,2,-999.0000,5,    207.2,1, 25.8734,   -999.0,9,  -999.00,9,  -999.00,9,  -999.00,9,  -999.0,-999.000
     318M171_1,  PRS2,     2, 11,      3,     35,2,20050717,1434, 22.7635,-158.0217, 4725,    550,    550.0,   6.1191,  34.0599,2,  34.0607,2,     77.3,1,  6.0707,   -999.0,9,  -999.00,9,  -999.00,9,  -999.00,9,  -999.0,-999.000
     318M171_1,  PRS2,     2, 11,      2,      7,2,20050717,1434, 22.7635,-158.0217, 4725,    700,    700.1,   4.8900,  34.2203,2,  34.2211,2,     30.0,1,  4.8341,   -999.0,9,  -999.00,9,  -999.00,9,  -999.00,9,  -999.0,-999.000
     318M171_1,  PRS2,     2, 11,      1,     11,2,20050717,1434, 22.7635,-158.0217, 4725,   1020,   1019.7,   3.8857,  34.4829,2,  34.4826,2,     43.8,1,  3.8093,   -999.0,9,  -999.00,9,  -999.00,9,  -999.00,9,  -999.0,-999.000