BOTTLE,20090923WHPSIOMYS
EXPOCODE,SECT_ID,STNNBR,CASTNO,SAMPNO,BTLNBR,BTLNBR_FLAG_W,DATE,TIME,LATITUDE,LONGITUDE,DEPTH,CTDRAW,CTDPRS,CTDTMP,CTDSAL,CTDSAL_FLAG_W,SALNTY,SALNTY_FLAG_W,CTDOXY,CTDOXY_FLAG_W,THETA,OXYGEN,OXYGEN_FLAG_W,SILCAT,SILCAT_FLAG_W,NO2+NO3,NO2+NO3_FLAG_W,PHSPHT,PHSPHT_FLAG_W,REVPRS,REVTMP
,,,,,,,,,,,,,DBAR,ITS-90,PSS-78,,PSS-78,,UMOL/KG,,ITS-90,UMOL/KG,,UMOL/KG,,UMOL/KG,,UMOL/KG,,DBAR,DEG C
     318M171_1,  PRS2,     2,  4,     19,     19,2,20050716,1806, 22.7502,-157.9517, 4711,      5,      5.1,  25.7905,  35.0486,2,  35.0514,2,    207.4,1, 25.7894,   -999.0,9,  -999.00,9,  -999.00,9,  -999.00,9,  -999.0,-999.000
     318M171_1,  PRS2,     2,  4,     18,     18,2,20050716,1806, 22.7502,-157.9517, 4711,      5,      5.1,  25.7901,  35.0486,2,  35.0468,2,    207.5,1, 25.7889,   -999.0,9,  -999.00,9,  -999.00,9,  -999.00,9,  -999.0,-999.000
     318M171_1,  PRS2,     2,  4,     17,     17,2,20050716,1806, 22.7502,-157.9517, 4711,     25,     24.7,  25.7863,  35.0489,2,  35.0498,2,    207.6,1, 25.7808,   -999.0,9,  -999.00,9,  -999.00,9,  -999.00,9,  -999.0,-999.000
     318M171_1,  PRS2,     2,  4,     15,    102,2,20050716,1806, 22.7502,-157.9517, 4711,     30,     29.9,  25.7867,  35.0487,2,  35.0484,2,    207.7,1, 25.7800,   -999.0,9,  -999.00,9,  -999.00,9,  -999.00,9,  -999.0,-999.000
     318M171_1,  PRS2,     2,  4,     14,    101,2,20050716,1806, 22.7502,-157.9517, 4711,     30,     29.9,  25.7874,  35.0487,2,  35.0494,2,    207.7,1, 25.7808,   -999.0,9,  -999.00,9,  -999.00,9,  -999.00,9,  -999.0,-999.000
     318M171_1,  PRS2,     2,  4,     16,     34,2,20050716,1806, 22.7502,-157.9517, 4711,     30,     30.0,  25.7858,  35.0489,2,-999.0000,5,    207.7,1, 25.7792,   -999.0,9,  -999.00,9,  -999.00,9,  -999.00,9,  -999.0,-999.000
     318M171_1,  PRS2,     2,  4,     13,     42,2,20050716,1806, 22.7502,-157.9517, 4711,     30,     30.0,  25.7878,  35.0486,2,  35.0494,2,    207.9,1, 25.7812,   -999.0,9,  -999.00,9,  -999.00,9,  -999.00,9,  -999.0,-999.000
     318M171_1,  PRS2,     2,  4,     12,     12,2,20050716,1806, 22.7502,-157.9517, 4711,     45,     45.1,  25.6287,  35.0603,2,  35.0585,2,    209.9,1, 25.6188,   -999.0,9,  -999.00,9,  -999.00,9,  -999.00,9,  -999.0,-999.000
     318M171_1,  PRS2,     2,  4,     11,     39,2,20050716,1806, 22.7502,-157.9517, 4711,     75,     75.2,  23.5893,  35.1794,2,  35.1788,2,    218.5,1, 23.5737,   -999.0,9,  -999.00,9,  -999.00,9,  -999.00,9,  -999.0,-999.000
     318M171_1,  PRS2,     2,  4,     10,     33,2,20050716,1806, 22.7502,-157.9517, 4711,     75,     75.2,  23.5891,  35.1793,2,  35.1774,2,    218.5,1, 23.5734,   -999.0,9,  -999.00,9,  -999.00,9,  -999.00,9,  -999.0,-999.000
     318M171_1,  PRS2,     2,  4,      9,      3,2,20050716,1806, 22.7502,-157.9517, 4711,    100,    100.2,  22.6013,  35.2037,2,  35.2034,2,    209.2,1, 22.5810,   -999.0,9,  -999.00,9,  -999.00,9,  -999.00,9,  -999.0,-999.000
     318M171_1,  PRS2,     2,  4,      8,     29,2,20050716,1806, 22.7502,-157.9517, 4711,    125,    125.2,  21.9430,  35.2090,2,  35.2065,2,    203.5,1, 21.9183,   -999.0,9,  -999.00,9,  -999.00,9,  -999.00,9,  -999.0,-999.000
     318M171_1,  PRS2,     2,  4,      7,     28,2,20050716,1806, 22.7502,-157.9517, 4711,    150,    150.2,  21.2352,  35.1828,2,  35.1868,2,    199.1,1, 21.2062,   -999.0,9,  -999.00,9,  -999.00,9,  -999.00,9,  -999.0,-999.000
     318M171_1,  PRS2,     2,  4,      6,     13,2,20050716,1806, 22.7502,-157.9517, 4711,    172,    172.2,  19.4759,  34.9991,2,  35.0010,2,    193.1,1, 19.4447,   -999.0,9,  -999.00,9,  -999.00,9,  -999.00,9,  -999.0,-999.000
     318M171_1,  PRS2,     2,  4,      5,     38,2,20050716,1806, 22.7502,-157.9517, 4711,    250,    249.8,  14.8151,  34.3983,2,  34.3949,2,    204.7,1, 14.7777,   -999.0,9,  -999.00,9,  -999.00,9,  -999.00,9,  -999.0,-999.000
     318M171_1,  PRS2,     2,  4,      4,     36,2,20050716,1806, 22.7502,-157.9517, 4711,    500,    499.9,   6.8407,  34.0732,2,  34.0711,2,     89.6,1,  6.7941,   -999.0,9,  -999.00,9,  -999.00,9,  -999.00,9,  -999.0,-999.000
     318M171_1,  PRS2,     2,  4,      3,     35,2,20050716,1806, 22.7502,-157.9517, 4711,    525,    524.7,   6.2779,  34.0491,2,  34.0497,2,     89.5,1,  6.2313,   -999.0,9,  -999.00,9,  -999.00,9,  -999.00,9,  -999.0,-999.000
     318M171_1,  PRS2,     2,  4,      2,      7,2,20050716,1806, 22.7502,-157.9517, 4711,    750,    750.0,   4.6109,  34.2629,2,  34.2640,2,     23.8,1,  4.5524,   -999.0,9,  -999.00,9,  -999.00,9,  -999.00,9,  -999.0,-999.000
     318M171_1,  PRS2,     2,  4,      1,     11,2,20050716,1806, 22.7502,-157.9517, 4711,   1019,   1019.5,   3.8948,  34.4817,2,  34.4836,2,     43.5,1,  3.8184,   -999.0,9,  -999.00,9,  -999.00,9,  -999.00,9,  -999.0,-999.000
     318M171_1,  PRS2,     2,  5,     18,     18,2,20050716,2057, 22.7627,-157.9600, 4710,      5,      4.9,  25.8345,  35.0561,2,-999.0000,5,    190.4,1, 25.8335,   -999.0,9,  -999.00,9,  -999.00,9,  -999.00,9,  -999.0,-999.000
     318M171_1,  PRS2,     2,  5,     17,     17,2,20050716,2057, 22.7627,-157.9600, 4710,      5,      4.9,  25.8318,  35.0555,2,  35.0545,2,    191.1,1, 25.8307,   -999.0,9,  -999.00,9,  -999.00,9,  -999.00,9,  -999.0,-999.000
     318M171_1,  PRS2,     2,  5,     16,     34,2,20050716,2057, 22.7627,-157.9600, 4710,     25,     25.4,  25.7871,  35.0527,2,  35.0504,2,    183.5,1, 25.7815,   -999.0,9,  -999.00,9,  -999.00,9,  -999.00,9,  -999.0,-999.000
     318M171_1,  PRS2,     2,  5,     15,    102,2,20050716,2057, 22.7627,-157.9600, 4710,     45,     45.2,  25.7623,  35.0608,2,-999.0000,5,    191.7,1, 25.7523,   -999.0,9,  -999.00,9,  -999.00,9,  -999.00,9,  -999.0,-999.000
     318M171_1,  PRS2,     2,  5,     14,    101,2,20050716,2057, 22.7627,-157.9600, 4710,     45,     45.2,  25.7623,  35.0608,2,  35.0638,2,    193.1,1, 25.7523,   -999.0,9,  -999.00,9,  -999.00,9,  -999.00,9,  -999.0,-999.000
     318M171_1,  PRS2,     2,  5,     13,     42,2,20050716,2057, 22.7627,-157.9600, 4710,     60,     59.9,  25.5764,  35.0608,2,  35.0661,2,    210.2,1, 25.5632,   -999.0,9,  -999.00,9,  -999.00,9,  -999.00,9,  -999.0,-999.000
     318M171_1,  PRS2,     2,  5,     12,     12,2,20050716,2057, 22.7627,-157.9600, 4710,     75,     75.1,  24.5121,  35.1482,2,-999.0000,5,    221.0,1, 24.4961,   -999.0,9,  -999.00,9,  -999.00,9,  -999.00,9,  -999.0,-999.000
     318M171_1,  PRS2,     2,  5,     11,     39,2,20050716,2057, 22.7627,-157.9600, 4710,     75,     75.1,  24.4616,  35.1478,2,  35.1465,2,    221.7,1, 24.4455,   -999.0,9,  -999.00,9,  -999.00,9,  -999.00,9,  -999.0,-999.000
     318M171_1,  PRS2,     2,  5,     10,     33,2,20050716,2057, 22.7627,-157.9600, 4710,     85,     84.6,  23.7126,  35.1729,2,  35.1794,2,    218.4,1, 23.6950,   -999.0,9,  -999.00,9,  -999.00,9,  -999.00,9,  -999.0,-999.000
     318M171_1,  PRS2,     2,  5,      9,      3,2,20050716,2057, 22.7627,-157.9600, 4710,    100,    100.1,  23.1174,  35.2139,2,  35.2154,2,    217.6,1, 23.0969,   -999.0,9,  -999.00,9,  -999.00,9,  -999.00,9,  -999.0,-999.000
     318M171_1,  PRS2,     2,  5,      8,     29,2,20050716,2057, 22.7627,-157.9600, 4710,    116,    115.3,  22.4318,  35.1975,2,  35.2036,2,    206.2,1, 22.4087,   -999.0,9,  -999.00,9,  -999.00,9,  -999.00,9,  -999.0,-999.000
     318M171_1,  PRS2,     2,  5,      7,     28,2,20050716,2057, 22.7627,-157.9600, 4710,    125,    125.0,  22.2227,  35.2038,2,  35.2014,2,    203.7,1, 22.1978,   -999.0,9,  -999.00,9,  -999.00,9,  -999.00,9,  -999.0,-999.000
     318M171_1,  PRS2,     2,  5,      6,     13,2,20050716,2057, 22.7627,-157.9600, 4710,    130,    130.3,  22.0502,  35.2103,2,-999.0000,5,    205.9,1, 22.0244,   -999.0,9,  -999.00,9,  -999.00,9,  -999.00,9,  -999.0,-999.000
     318M171_1,  PRS2,     2,  5,      5,     38,2,20050716,2057, 22.7627,-157.9600, 4710,    151,    151.0,  21.4650,  35.1923,2,  35.1886,2,    202.6,1, 21.4357,   -999.0,9,  -999.00,9,  -999.00,9,  -999.00,9,  -999.0,-999.000
     318M171_1,  PRS2,     2,  5,      4,     36,2,20050716,2057, 22.7627,-157.9600, 4710,    175,    175.2,  20.4816,  35.1181,2,  35.1163,2,    195.9,1, 20.4486,   -999.0,9,  -999.00,9,  -999.00,9,  -999.00,9,  -999.0,-999.000
     318M171_1,  PRS2,     2,  5,      3,     35,2,20050716,2057, 22.7627,-157.9600, 4710,    200,    200.4,  19.0527,  34.9501,2,  34.9490,2,    192.6,1, 19.0169,   -999.0,9,  -999.00,9,  -999.00,9,  -999.00,9,  -999.0,-999.000
     318M171_1,  PRS2,     2,  5,      2,      7,2,20050716,2057, 22.7627,-157.9600, 4710,    540,    540.2,   6.1697,  34.0527,2,  34.0525,2,     88.5,1,  6.1221,   -999.0,9,  -999.00,9,  -999.00,9,  -999.00,9,  -999.0,-999.000
     318M171_1,  PRS2,     2,  5,      1,     11,2,20050716,2057, 22.7627,-157.9600, 4710,   1020,   1019.8,   3.9521,  34.4769,2,  34.4793,2,     43.0,1,  3.8752,   -999.0,9,  -999.00,9,  -999.00,9,  -999.00,9,  -999.0,-999.000
     318M171_1,  PRS2,     2,  6,     16,     34,2,20050717,0006, 22.7777,-157.9658, 4700,      5,      4.7,  25.9122,  35.0793,2,  35.0795,2,    207.6,1, 25.9112,   -999.0,9,  -999.00,9,  -999.00,9,  -999.00,9,  -999.0,-999.000
     318M171_1,  PRS2,     2,  6,     15,    102,2,20050717,0006, 22.7777,-157.9658, 4700,     26,     25.2,  25.8195,  35.0785,2,  35.0766,2,    207.8,1, 25.8139,   -999.0,9,  -999.00,9,  -999.00,9,  -999.00,9,  -999.0,-999.000
     318M171_1,  PRS2,     2,  6,     14,    101,2,20050717,0006, 22.7777,-157.9658, 4700,     45,     45.4,  25.7767,  35.0772,2,  35.0750,2,    208.3,1, 25.7667,   -999.0,9,  -999.00,9,  -999.00,9,  -999.00,9,  -999.0,-999.000
     318M171_1,  PRS2,     2,  6,     13,     42,2,20050717,0006, 22.7777,-157.9658, 4700,     75,     75.3,  23.9240,  35.1771,2,  35.1758,2,    221.9,1, 23.9082,   -999.0,9,  -999.00,9,  -999.00,9,  -999.00,9,  -999.0,-999.000
     318M171_1,  PRS2,     2,  6,     12,     12,2,20050717,0006, 22.7777,-157.9658, 4700,    100,    100.2,  22.8868,  35.2153,2,  35.2142,2,    214.1,1, 22.8664,   -999.0,9,  -999.00,9,  -999.00,9,  -999.00,9,  -999.0,-999.000
     318M171_1,  PRS2,     2,  6,     11,     39,2,20050717,0006, 22.7777,-157.9658, 4700,    125,    125.0,  22.2124,  35.2013,2,  35.2032,2,    204.2,1, 22.1875,   -999.0,9,  -999.00,9,  -999.00,9,  -999.00,9,  -999.0,-999.000
     318M171_1,  PRS2,     2,  6,     10,     33,2,20050717,0006, 22.7777,-157.9658, 4700,    150,    149.8,  21.4459,  35.1845,2,  35.1801,2,    201.8,1, 21.4168,   -999.0,9,  -999.00,9,  -999.00,9,  -999.00,9,  -999.0,-999.000
     318M171_1,  PRS2,     2,  6,      9,      3,2,20050717,0006, 22.7777,-157.9658, 4700,    251,    250.6,  15.1275,  34.4286,2,  34.4281,2,    197.1,1, 15.0895,   -999.0,9,  -999.00,9,  -999.00,9,  -999.00,9,  -999.0,-999.000
     318M171_1,  PRS2,     2,  6,      8,     29,2,20050717,0006, 22.7777,-157.9658, 4700,    350,    350.0,  11.0823,  34.1138,2,  34.1260,2,    194.0,1, 11.0391,   -999.0,9,  -999.00,9,  -999.00,9,  -999.00,9,  -999.0,-999.000
     318M171_1,  PRS2,     2,  6,      7,     28,2,20050717,0006, 22.7777,-157.9658, 4700,    550,    550.0,   6.5465,  34.0681,2,  34.0580,3,     90.2,1,  6.4964,   -999.0,9,  -999.00,9,  -999.00,9,  -999.00,9,  -999.0,-999.000
     318M171_1,  PRS2,     2,  6,      2,      7,2,20050717,0006, 22.7777,-157.9658, 4700,    751,    750.8,   4.6501,  34.2572,2,  34.2583,2,     24.8,1,  4.5913,   -999.0,9,  -999.00,9,  -999.00,9,  -999.00,9,  -999.0,-999.000
     318M171_1,  PRS2,     2,  6,      3,     35,2,20050717,0006, 22.7777,-157.9658, 4700,    751,    750.9,   4.6501,  34.2572,2,  34.2593,2,     24.8,1,  4.5912,   -999.0,9,  -999.00,9,  -999.00,9,  -999.00,9,  -999.0,-999.000
     318M171_1,  PRS2,     2,  6,      4,     36,2,20050717,0006, 22.7777,-157.9658, 4700,    751,    751.0,   4.6494,  34.2574,2,  34.2574,2,     24.9,1,  4.5905,   -999.0,9,  -999.00,9,  -999.00,9,  -999.00,9,  -999.0,-999.000
     318M171_1,  PRS2,     2,  6,      5,     38,2,20050717,0006, 22.7777,-157.9658, 4700,    752,    751.3,   4.6481,  34.2578,2,  34.2556,2,     24.9,1,  4.5892,   -999.0,9,  -999.00,9,  -999.00,9,  -999.00,9,  -999.0,-999.000
     318M171_1,  PRS2,     2,  6,      6,     13,2,20050717,0006, 22.7777,-157.9658, 4700,    751,    751.4,   4.6479,  34.2577,2,-999.0000,5,     25.0,1,  4.5890,   -999.0,9,  -999.00,9,  -999.00,9,  -999.00,9,  -999.0,-999.000
     318M171_1,  PRS2,     2,  6,      1,     11,2,20050717,0006, 22.7777,-157.9658, 4700,   1020,   1019.8,   3.9280,  34.4818,2,  34.4750,3,     43.8,1,  3.8513,   -999.0,9,  -999.00,9,  -999.00,9,  -999.00,9,  -999.0,-999.000
     318M171_1,  PRS2,     2,  7,     19,     19,2,20050717,0256, 22.7777,-157.9658, 4704,      5,      4.8,  25.8854,  35.0589,2,  35.0618,2,    207.2,1, 25.8843,   -999.0,9,  -999.00,9,  -999.00,9,  -999.00,9,  -999.0,-999.000
     318M171_1,  PRS2,     2,  7,     18,     18,2,20050717,0256, 22.7777,-157.9658, 4704,      5,      4.8,  25.8861,  35.0591,2,  35.0634,2,    207.2,1, 25.8850,   -999.0,9,  -999.00,9,  -999.00,9,  -999.00,9,  -999.0,-999.000
     318M171_1,  PRS2,     2,  7,     17,     17,2,20050717,0256, 22.7777,-157.9658, 4704,     15,     14.9,  25.8588,  35.0582,2,  35.0555,2,    207.8,1, 25.8555,   -999.0,9,  -999.00,9,  -999.00,9,  -999.00,9,  -999.0,-999.000
     318M171_1,  PRS2,     2,  7,     16,     34,2,20050717,0256, 22.7777,-157.9658, 4704,     24,     24.5,  25.8033,  35.0702,2,  35.0760,2,    208.2,1, 25.7979,   -999.0,9,  -999.00,9,  -999.00,9,  -999.00,9,  -999.0,-999.000
     318M171_1,  PRS2,     2,  7,     15,    102,2,20050717,0256, 22.7777,-157.9658, 4704,     35,     34.6,  25.7770,  35.0772,2,  35.0785,2,    208.4,1, 25.7694,   -999.0,9,  -999.00,9,  -999.00,9,  -999.00,9,  -999.0,-999.000
     318M171_1,  PRS2,     2,  7,     14,    101,2,20050717,0256, 22.7777,-157.9658, 4704,     35,     34.7,  25.7776,  35.0771,2,  35.0854,2,    208.4,1, 25.7699,   -999.0,9,  -999.00,9,  -999.00,9,  -999.00,9,  -999.0,-999.000
     318M171_1,  PRS2,     2,  7,     13,     42,3,20050717,0256, 22.7777,-157.9658, 4704,     46,     45.4,  25.7400,  35.0768,2,  35.0781,2,    208.5,1, 25.7299,   -999.0,9,  -999.00,9,  -999.00,9,  -999.00,9,  -999.0,-999.000
     318M171_1,  PRS2,     2,  7,     12,     12,2,20050717,0256, 22.7777,-157.9658, 4704,     60,     60.2,  24.3123,  35.1596,2,  35.1553,2,    223.4,1, 24.2995,   -999.0,9,  -999.00,9,  -999.00,9,  -999.00,9,  -999.0,-999.000
     318M171_1,  PRS2,     2,  7,     11,     39,2,20050717,0256, 22.7777,-157.9658, 4704,     75,     75.0,  23.7250,  35.1764,2,  35.1788,2,    220.6,1, 23.7093,   -999.0,9,  -999.00,9,  -999.00,9,  -999.00,9,  -999.0,-999.000
     318M171_1,  PRS2,     2,  7,     10,     33,3,20050717,0256, 22.7777,-157.9658, 4704,     75,     75.0,  23.7219,  35.1764,2,  35.1868,2,    220.3,1, 23.7063,   -999.0,9,  -999.00,9,  -999.00,9,  -999.00,9,  -999.0,-999.000
     318M171_1,  PRS2,     2,  7,      9,      3,2,20050717,0256, 22.7777,-157.9658, 4704,    100,    100.3,  22.7547,  35.2004,2,  35.2036,2,    211.2,1, 22.7344,   -999.0,9,  -999.00,9,  -999.00,9,  -999.00,9,  -999.0,-999.000
     318M171_1,  PRS2,     2,  7,      8,     29,2,20050717,0256, 22.7777,-157.9658, 4704,    125,    124.8,  21.8490,  35.1999,2,  35.1991,2,    204.0,1, 21.8244,   -999.0,9,  -999.00,9,  -999.00,9,  -999.00,9,  -999.0,-999.000
     318M171_1,  PRS2,     2,  7,      7,     28,2,20050717,0256, 22.7777,-157.9658, 4704,    125,    124.9,  21.8311,  35.1984,2,  35.2048,2,    204.0,1, 21.8065,   -999.0,9,  -999.00,9,  -999.00,9,  -999.00,9,  -999.0,-999.000
     318M171_1,  PRS2,     2,  7,      6,     13,2,20050717,0256, 22.7777,-157.9658, 4704,    150,    150.3,  20.4796,  35.1176,2,  35.1116,2,    198.4,1, 20.4513,   -999.0,9,  -999.00,9,  -999.00,9,  -999.00,9,  -999.0,-999.000
     318M171_1,  PRS2,     2,  7,      5,     38,2,20050717,0256, 22.7777,-157.9658, 4704,    175,    174.6,  19.8713,  35.0647,2,  35.0683,2,    202.1,1, 19.8391,   -999.0,9,  -999.00,9,  -999.00,9,  -999.00,9,  -999.0,-999.000
     318M171_1,  PRS2,     2,  7,      4,     36,2,20050717,0256, 22.7777,-157.9658, 4704,    250,    250.1,  15.0614,  34.4230,2,  34.4196,2,    200.2,1, 15.0236,   -999.0,9,  -999.00,9,  -999.00,9,  -999.00,9,  -999.0,-999.000
     318M171_1,  PRS2,     2,  7,      3,     35,2,20050717,0256, 22.7777,-157.9658, 4704,    500,    500.2,   7.2075,  34.0782,2,  34.0786,2,     95.9,1,  7.1596,   -999.0,9,  -999.00,9,  -999.00,9,  -999.00,9,  -999.0,-999.000
     318M171_1,  PRS2,     2,  7,      2,      7,2,20050717,0256, 22.7777,-157.9658, 4704,    751,    750.1,   4.5878,  34.2694,2,  34.2699,2,     24.1,1,  4.5293,   -999.0,9,  -999.00,9,  -999.00,9,  -999.00,9,  -999.0,-999.000
     318M171_1,  PRS2,     2,  7,      1,     11,2,20050717,0256, 22.7777,-157.9658, 4704,   1019,   1019.7,   3.9921,  34.4723,2,  34.4705,2,     41.9,1,  3.9150,   -999.0,9,  -999.00,9,  -999.00,9,  -999.00,9,  -999.0,-999.000