BOTTLE,20090923WHPSIOMYS
EXPOCODE,SECT_ID,STNNBR,CASTNO,SAMPNO,BTLNBR,BTLNBR_FLAG_W,DATE,TIME,LATITUDE,LONGITUDE,DEPTH,CTDRAW,CTDPRS,CTDTMP,CTDSAL,CTDSAL_FLAG_W,SALNTY,SALNTY_FLAG_W,CTDOXY,CTDOXY_FLAG_W,THETA,OXYGEN,OXYGEN_FLAG_W,SILCAT,SILCAT_FLAG_W,NO2+NO3,NO2+NO3_FLAG_W,PHSPHT,PHSPHT_FLAG_W,REVPRS,REVTMP
,,,,,,,,,,,,,DBAR,ITS-90,PSS-78,,PSS-78,,UMOL/KG,,ITS-90,UMOL/KG,,UMOL/KG,,UMOL/KG,,UMOL/KG,,DBAR,DEG C
     318M171_1,  PRS2,     2, 15,     21,     21,2,20050718,0255, 22.7952,-158.0578, 4728,      6,      5.2,  25.9759,  34.9953,2,  34.9941,2,    206.9,2, 25.9748,    206.2,2,     0.98,2,     0.13,3,     0.02,2,  -999.0,-999.000
     318M171_1,  PRS2,     2, 15,     20,     41,3,20050718,0255, 22.7952,-158.0578, 4728,     55,     54.9,  24.9646,  35.0956,2,  35.0947,2,    216.3,2, 24.9527,    215.7,2,     0.96,2,     0.14,3,     0.00,2,  -999.0,-999.000
     318M171_1,  PRS2,     2, 15,     19,     19,2,20050718,0255, 22.7952,-158.0578, 4728,     76,     76.1,  23.6817,  35.1893,2,  35.1870,2,    220.4,2, 23.6659,    220.4,2,     0.98,2,     0.09,2,     0.00,2,  -999.0,-999.000
     318M171_1,  PRS2,     2, 15,     18,     18,2,20050718,0255, 22.7952,-158.0578, 4728,    132,    132.6,  21.7313,  35.1960,2,  35.1949,2,    202.8,2, 21.7053,    203.8,2,     1.30,2,     0.38,2,     0.06,2,  -999.0,-999.000
     318M171_1,  PRS2,     2, 15,     17,     17,2,20050718,0255, 22.7952,-158.0578, 4728,    183,    182.5,  19.0852,  34.9534,2,  34.9551,2,    191.5,2, 19.0526,    193.8,2,     2.40,2,     2.56,2,     0.14,2,  -999.0,-999.000
     318M171_1,  PRS2,     2, 15,     16,     34,2,20050718,0255, 22.7952,-158.0578, 4728,    242,    242.0,  14.7189,  34.3802,2,  34.3915,2,    203.8,2, 14.6828,    202.1,2,     5.40,2,     6.03,2,     0.45,3,  -999.0,-999.000
     318M171_1,  PRS2,     2, 15,     15,    102,2,20050718,0255, 22.7952,-158.0578, 4728,    289,    289.4,  12.8867,  34.2474,2,  34.2448,2,    211.1,2, 12.8472,    209.7,2,     8.48,2,     9.07,2,     0.57,3,  -999.0,-999.000
     318M171_1,  PRS2,     2, 15,     14,    101,2,20050718,0255, 22.7952,-158.0578, 4728,    336,    335.9,  11.0852,  34.1033,2,  34.1048,2,    193.1,2, 11.0437,    189.6,2,    13.66,2,    13.70,2,     0.99,2,  -999.0,-999.000
     318M171_1,  PRS2,     2, 15,     13,     42,2,20050718,0255, 22.7952,-158.0578, 4728,    370,    370.1,  10.0499,  34.0910,2,  34.0909,2,    180.0,2, 10.0070,    180.7,2,    19.29,2,    17.37,2,     1.18,2,  -999.0,-999.000
     318M171_1,  PRS2,     2, 15,     12,     12,2,20050718,0255, 22.7952,-158.0578, 4728,    426,    426.1,   8.8202,  34.0898,2,  34.0887,2,    148.9,2,  8.7744,    148.2,2,    29.47,2,    23.06,2,     1.66,2,  -999.0,-999.000
     318M171_1,  PRS2,     2, 15,     11,     39,2,20050718,0255, 22.7952,-158.0578, 4728,    460,    460.4,   8.1696,  34.0742,2,  34.0742,2,    132.2,2,  8.1223,    133.5,2,    35.52,2,    25.75,2,     1.87,2,  -999.0,-999.000
     318M171_1,  PRS2,     2, 15,     10,     33,2,20050718,0255, 22.7952,-158.0578, 4728,    495,    494.4,   7.4434,  34.0798,2,  34.0829,2,    107.0,2,  7.3952,    105.9,2,    44.29,2,    29.27,2,     2.15,2,  -999.0,-999.000
     318M171_1,  PRS2,     2, 15,      9,      3,2,20050718,0255, 22.7952,-158.0578, 4728,    534,    534.4,   6.5108,  34.0516,2,  34.0505,2,     97.3,2,  6.4623,     94.5,2,    54.84,2,    32.27,2,     2.35,2,  -999.0,-999.000
     318M171_1,  PRS2,     2, 15,      8,     29,2,20050718,0255, 22.7952,-158.0578, 4728,    592,    592.4,   5.8168,  34.0700,2,  34.0721,2,     69.9,2,  5.7659,     68.5,2,    66.05,2,    35.73,2,     2.59,2,  -999.0,-999.000
     318M171_1,  PRS2,     2, 15,      7,     28,2,20050718,0255, 22.7952,-158.0578, 4728,    635,    634.1,   5.3817,  34.1281,2,  34.1279,2,     46.7,2,  5.3291,     45.8,2,    75.78,2,    38.52,2,     2.80,2,  -999.0,-999.000
     318M171_1,  PRS2,     2, 15,      6,     13,2,20050718,0255, 22.7952,-158.0578, 4728,    697,    697.2,   4.9468,  34.2061,2,  34.2058,2,     31.9,2,  4.8908,     30.5,2,    85.00,2,    40.31,2,     2.95,2,  -999.0,-999.000
     318M171_1,  PRS2,     2, 15,      5,     38,2,20050718,0255, 22.7952,-158.0578, 4728,    740,    739.2,   4.6778,  34.2482,2,  34.2475,2,     24.4,2,  4.6198,     25.3,2,    91.99,2,    41.47,2,     2.93,2,  -999.0,-999.000
     318M171_1,  PRS2,     2, 15,      4,     36,2,20050718,0255, 22.7952,-158.0578, 4728,    780,    779.9,   4.5215,  34.2940,2,  34.2942,2,     21.8,2,  4.4609,     21.3,2,    98.41,2,    42.02,2,     3.07,2,  -999.0,-999.000
     318M171_1,  PRS2,     2, 15,      3,     35,2,20050718,0255, 22.7952,-158.0578, 4728,    918,    918.0,   4.2208,  34.4278,2,  34.4349,3,     35.6,3,  4.1505,     36.2,2,   103.98,2,    41.62,2,     3.04,2,  -999.0,-999.000
     318M171_1,  PRS2,     2, 15,      2,      7,2,20050718,0255, 22.7952,-158.0578, 4728,    985,    984.9,   4.0261,  34.4680,2,  34.4701,2,     41.3,2,  3.9515,     41.3,2,   107.80,2,    41.50,2,     3.03,2,  -999.0,-999.000
     318M171_1,  PRS2,     2, 15,      1,     11,2,20050718,0255, 22.7952,-158.0578, 4728,   1019,   1019.8,   3.9001,  34.4803,2,  34.4852,2,     43.5,2,  3.8236,     43.9,2,   109.02,2,    41.59,2,     3.03,2,  -999.0,-999.000
     318M171_1,  PRS2,     2, 16,     24,     23,2,20050718,0739, 22.7525,-158.0007, 4733,      5,      5.0,  25.7968,  35.0749,2,  35.0738,2,    208.2,2, 25.7957,    207.4,2,     0.97,2,     0.05,2,     0.03,2,  -999.0,-999.000
     318M171_1,  PRS2,     2, 16,     23,     30,2,20050718,0739, 22.7525,-158.0007, 4733,    500,    500.3,   7.3430,  34.0833,2,  34.0866,2,    103.1,2,  7.2945,    101.1,2,    46.39,2,    30.07,2,     2.17,2,  -999.0,-999.000
     318M171_1,  PRS2,     2, 16,     22,     22,2,20050718,0739, 22.7525,-158.0007, 4733,    750,    750.2,   4.5799,  34.2671,2,  34.2674,2,     23.6,2,  4.5215,     21.9,2,    94.84,2,    41.82,2,     3.03,2,  -999.0,-999.000
     318M171_1,  PRS2,     2, 16,     21,     21,2,20050718,0739, 22.7525,-158.0007, 4733,   1000,   1000.4,   3.9929,  34.4829,2,  34.4850,2,     42.4,2,  3.9173,     41.7,2,   105.98,2,    41.63,2,     2.99,2,  -999.0,-999.000
     318M171_1,  PRS2,     2, 16,     20,     41,2,20050718,0739, 22.7525,-158.0007, 4733,   1200,   1200.0,   3.5514,  34.5312,2,  34.5327,2,     51.0,2,  3.4629,     50.2,2,   118.51,2,    41.51,2,     2.98,2,  -999.0,-999.000
     318M171_1,  PRS2,     2, 16,     19,     19,2,20050718,0739, 22.7525,-158.0007, 4733,   1401,   1400.3,   3.1175,  34.5613,2,  34.5612,2,     58.4,2,  3.0167,     58.8,2,   128.25,2,    41.27,2,     2.95,2,  -999.0,-999.000
     318M171_1,  PRS2,     2, 16,     18,     18,2,20050718,0739, 22.7525,-158.0007, 4733,   1601,   1600.5,   2.7435,  34.5831,2,  34.5842,2,     68.4,2,  2.6303,     69.2,2,   136.79,2,    40.77,2,     2.89,2,  -999.0,-999.000
     318M171_1,  PRS2,     2, 16,     17,     17,2,20050718,0739, 22.7525,-158.0007, 4733,   1801,   1800.9,   2.4574,  34.5987,2,  34.5987,2,     78.7,2,  2.3311,     79.1,2,   143.42,2,    40.17,2,     2.84,2,  -999.0,-999.000
     318M171_1,  PRS2,     2, 16,     16,     34,2,20050718,0739, 22.7525,-158.0007, 4733,   2001,   2000.4,   2.1733,  34.6169,2,  34.6179,2,     87.9,2,  2.0342,     87.9,2,   148.96,2,    39.64,2,     2.79,2,  -999.0,-999.000
     318M171_1,  PRS2,     2, 16,     15,    102,2,20050718,0739, 22.7525,-158.0007, 4733,   2199,   2199.7,   2.0007,  34.6313,2,  34.6331,2,     97.6,2,  1.8472,     98.1,2,   151.73,2,    39.08,2,     2.75,2,  -999.0,-999.000
     318M171_1,  PRS2,     2, 16,     14,    101,2,20050718,0739, 22.7525,-158.0007, 4733,   2400,   2400.1,   1.8452,  34.6430,2,  34.6433,2,    104.4,2,  1.6768,    106.0,2,   153.93,3,    38.47,2,     2.70,2,  -999.0,-999.000
     318M171_1,  PRS2,     2, 16,     13,     42,2,20050718,0739, 22.7525,-158.0007, 4733,   2599,   2600.0,   1.7190,  34.6530,2,  34.6565,2,    112.5,2,  1.5350,    113.6,2,   155.19,3,    38.24,2,     2.68,2,  -999.0,-999.000
     318M171_1,  PRS2,     2, 16,     12,     12,2,20050718,0739, 22.7525,-158.0007, 4733,   2801,   2801.0,   1.6345,  34.6590,2,  34.6612,2,    115.9,2,  1.4337,   -999.0,5,   157.73,2,    38.14,2,     2.69,2,  -999.0,-999.000
     318M171_1,  PRS2,     2, 16,     11,     39,2,20050718,0739, 22.7525,-158.0007, 4733,   2999,   3000.1,   1.5704,  34.6663,2,  34.6655,2,    122.1,2,  1.3521,    122.2,2,   159.35,2,    37.38,2,     2.63,2,  -999.0,-999.000
     318M171_1,  PRS2,     2, 16,     10,     33,2,20050718,0739, 22.7525,-158.0007, 4733,   3200,   3199.9,   1.5277,  34.6719,2,  34.6730,2,    129.7,2,  1.2910,    130.0,2,   156.09,2,    36.72,2,     2.59,2,  -999.0,-999.000
     318M171_1,  PRS2,     2, 16,      9,      3,2,20050718,0739, 22.7525,-158.0007, 4733,   3399,   3399.5,   1.4976,  34.6763,2,  34.6820,4,    134.5,3,  1.2418,    134.9,2,   155.70,2,    36.58,2,     2.54,3,  -999.0,-999.000
     318M171_1,  PRS2,     2, 16,      8,     29,2,20050718,0739, 22.7525,-158.0007, 4733,   3600,   3600.1,   1.4700,  34.6807,2,  34.6812,2,    140.7,2,  1.1944,    140.4,2,   153.90,2,    36.24,2,     2.55,2,  -999.0,-999.000
     318M171_1,  PRS2,     2, 16,      7,     28,2,20050718,0739, 22.7525,-158.0007, 4733,   3800,   3800.5,   1.4574,  34.6834,2,  34.6838,2,    144.8,2,  1.1611,    144.4,2,   152.03,2,    36.01,2,     2.53,2,  -999.0,-999.000
     318M171_1,  PRS2,     2, 16,      6,     13,2,20050718,0739, 22.7525,-158.0007, 4733,   4000,   4000.3,   1.4599,  34.6851,2,  34.6887,3,    147.7,3,  1.1421,    148.0,2,   149.97,2,    35.73,2,     2.51,2,  -999.0,-999.000
     318M171_1,  PRS2,     2, 16,      5,     38,2,20050718,0739, 22.7525,-158.0007, 4733,   4202,   4201.8,   1.4656,  34.6867,2,  34.6873,2,    150.3,2,  1.1255,    150.0,2,   149.17,2,    35.66,2,     2.49,2,  -999.0,-999.000
     318M171_1,  PRS2,     2, 16,      4,     36,2,20050718,0739, 22.7525,-158.0007, 4733,   4400,   4400.4,   1.4782,  34.6876,2,  34.6887,2,    151.9,2,  1.1153,    151.7,2,   148.19,2,    35.49,2,     2.49,2,  -999.0,-999.000
     318M171_1,  PRS2,     2, 16,      3,     35,2,20050718,0739, 22.7525,-158.0007, 4733,   4500,   4501.0,   1.4862,  34.6879,2,  34.6897,2,    152.6,2,  1.1116,    151.8,2,   147.80,2,    35.51,2,     2.49,2,  -999.0,-999.000
     318M171_1,  PRS2,     2, 16,      2,      7,2,20050718,0739, 22.7525,-158.0007, 4733,   4600,   4600.4,   1.4962,  34.6879,2,  34.6883,2,    152.7,2,  1.1097,    154.2,2,   147.41,2,    35.50,2,     2.50,2,  -999.0,-999.000
     318M171_1,  PRS2,     2, 16,      1,     11,2,20050718,0739, 22.7525,-158.0007, 4733,   4799,   4800.0,   1.5169,  34.6883,2,  34.6891,2,    153.4,2,  1.1062,    153.1,2,   147.21,2,    35.43,2,     2.47,2,  -999.0,-999.000
     318M171_1,  PRS2,     6,  1,     19,     19,2,20050719,0758, 21.8468,-158.3633, 2450,      5,      5.6,  26.2131,  34.8704,2,  34.8678,2,    205.4,1, 26.2119,   -999.0,9,  -999.00,9,  -999.00,9,  -999.00,9,  -999.0,-999.000
     318M171_1,  PRS2,     6,  1,     18,     18,2,20050719,0758, 21.8468,-158.3633, 2450,      6,      5.6,  26.2120,  34.8704,2,  34.8678,2,    205.4,1, 26.2108,   -999.0,9,  -999.00,9,  -999.00,9,  -999.00,9,  -999.0,-999.000
     318M171_1,  PRS2,     6,  1,     17,     17,2,20050719,0758, 21.8468,-158.3633, 2450,     25,     25.3,  26.2045,  34.8731,2,  34.8696,2,    205.6,1, 26.1988,   -999.0,9,  -999.00,9,  -999.00,9,  -999.00,9,  -999.0,-999.000
     318M171_1,  PRS2,     6,  1,     16,     34,2,20050719,0758, 21.8468,-158.3633, 2450,     45,     45.0,  25.7828,  34.9431,2,  34.9435,2,    208.9,1, 25.7728,   -999.0,9,  -999.00,9,  -999.00,9,  -999.00,9,  -999.0,-999.000
     318M171_1,  PRS2,     6,  1,     15,    102,2,20050719,0758, 21.8468,-158.3633, 2450,     75,     74.9,  24.1045,  35.0758,2,  35.0728,2,    216.9,1, 24.0887,   -999.0,9,  -999.00,9,  -999.00,9,  -999.00,9,  -999.0,-999.000
     318M171_1,  PRS2,     6,  1,     14,    101,2,20050719,0758, 21.8468,-158.3633, 2450,    100,    100.5,  23.3397,  35.1747,2,  35.1717,2,    216.4,1, 23.3190,   -999.0,9,  -999.00,9,  -999.00,9,  -999.00,9,  -999.0,-999.000
     318M171_1,  PRS2,     6,  1,     12,     12,2,20050719,0758, 21.8468,-158.3633, 2450,    126,    125.6,  22.6983,  35.2102,2,  35.2065,2,    210.0,1, 22.6729,   -999.0,9,  -999.00,9,  -999.00,9,  -999.00,9,  -999.0,-999.000
     318M171_1,  PRS2,     6,  1,     13,     42,2,20050719,0758, 21.8468,-158.3633, 2450,    125,    125.8,  22.6942,  35.2103,2,  35.2065,2,    209.9,1, 22.6687,   -999.0,9,  -999.00,9,  -999.00,9,  -999.00,9,  -999.0,-999.000
     318M171_1,  PRS2,     6,  1,     11,     39,3,20050719,0758, 21.8468,-158.3633, 2450,    150,    150.0,  21.6356,  35.1816,2,  35.1835,2,    202.2,1, 21.6063,   -999.0,9,  -999.00,9,  -999.00,9,  -999.00,9,  -999.0,-999.000
     318M171_1,  PRS2,     6,  1,     10,     33,2,20050719,0758, 21.8468,-158.3633, 2450,    175,    175.0,  20.2397,  35.0541,2,  35.0620,2,    191.5,1, 20.2070,   -999.0,9,  -999.00,9,  -999.00,9,  -999.00,9,  -999.0,-999.000
     318M171_1,  PRS2,     6,  1,      9,      3,2,20050719,0758, 21.8468,-158.3633, 2450,    251,    250.8,  13.1957,  34.2601,2,  34.2589,2,    194.4,1, 13.1610,   -999.0,9,  -999.00,9,  -999.00,9,  -999.00,9,  -999.0,-999.000
     318M171_1,  PRS2,     6,  1,      8,     29,2,20050719,0758, 21.8468,-158.3633, 2450,    501,    500.3,   6.4018,  34.1340,2,  34.1338,2,     73.8,1,  6.3568,   -999.0,9,  -999.00,9,  -999.00,9,  -999.00,9,  -999.0,-999.000
     318M171_1,  PRS2,     6,  1,      7,     28,2,20050719,0758, 21.8468,-158.3633, 2450,    501,    500.4,   6.4018,  34.1338,2,  34.1330,2,     73.8,1,  6.3569,   -999.0,9,  -999.00,9,  -999.00,9,  -999.00,9,  -999.0,-999.000
     318M171_1,  PRS2,     6,  1,      6,     13,2,20050719,0758, 21.8468,-158.3633, 2450,   1001,   1000.7,   4.1148,  34.4931,2,  34.4938,2,     45.7,1,  4.0382,   -999.0,9,  -999.00,9,  -999.00,9,  -999.00,9,  -999.0,-999.000
     318M171_1,  PRS2,     6,  1,      5,     38,2,20050719,0758, 21.8468,-158.3633, 2450,   1001,   1000.7,   4.1113,  34.4936,2,  34.4928,2,     45.4,1,  4.0347,   -999.0,9,  -999.00,9,  -999.00,9,  -999.00,9,  -999.0,-999.000
     318M171_1,  PRS2,     6,  1,      4,     36,2,20050719,0758, 21.8468,-158.3633, 2450,   1501,   1500.4,   2.9197,  34.5746,2,  34.5743,2,     63.8,1,  2.8128,   -999.0,9,  -999.00,9,  -999.00,9,  -999.00,9,  -999.0,-999.000
     318M171_1,  PRS2,     6,  1,      3,     35,2,20050719,0758, 21.8468,-158.3633, 2450,   2000,   2000.1,   2.1175,  34.6213,2,  34.6221,2,     90.0,1,  1.9793,   -999.0,9,  -999.00,9,  -999.00,9,  -999.00,9,  -999.0,-999.000
     318M171_1,  PRS2,     6,  1,      2,      7,2,20050719,0758, 21.8468,-158.3633, 2450,   2451,   2450.4,   1.7548,  34.6500,2,  34.6498,2,    109.3,1,  1.5836,   -999.0,9,  -999.00,9,  -999.00,9,  -999.00,9,  -999.0,-999.000
     318M171_1,  PRS2,     6,  1,      1,     11,2,20050719,0758, 21.8468,-158.3633, 2450,   2451,   2450.4,   1.7545,  34.6502,2,  34.6537,2,    109.4,1,  1.5832,   -999.0,9,  -999.00,9,  -999.00,9,  -999.00,9,  -999.0,-999.000