BOTTLE,20090923WHPSIOMYS
EXPOCODE,SECT_ID,STNNBR,CASTNO,SAMPNO,BTLNBR,BTLNBR_FLAG_W,DATE,TIME,LATITUDE,LONGITUDE,DEPTH,CTDRAW,CTDPRS,CTDTMP,CTDSAL,CTDSAL_FLAG_W,SALNTY,SALNTY_FLAG_W,CTDOXY,CTDOXY_FLAG_W,THETA,OXYGEN,OXYGEN_FLAG_W,SILCAT,SILCAT_FLAG_W,NO2+NO3,NO2+NO3_FLAG_W,PHSPHT,PHSPHT_FLAG_W,REVPRS,REVTMP
,,,,,,,,,,,,,DBAR,ITS-90,PSS-78,,PSS-78,,UMOL/KG,,ITS-90,UMOL/KG,,UMOL/KG,,UMOL/KG,,UMOL/KG,,DBAR,DEG C
     318M171_1,  PRS2,     2, 12,     19,     19,2,20050717,1825, 22.7712,-158.0187, 4711,      5,      5.3,  25.8471,  35.0318,2,  35.0329,2,    206.5,1, 25.8459,   -999.0,9,  -999.00,9,  -999.00,9,  -999.00,9,  -999.0,-999.000
     318M171_1,  PRS2,     2, 12,     18,     18,2,20050717,1825, 22.7712,-158.0187, 4711,     25,     24.9,  25.8510,  35.0331,2,-999.0000,5,    206.5,1, 25.8454,   -999.0,9,  -999.00,9,  -999.00,9,  -999.00,9,  -999.0,-999.000
     318M171_1,  PRS2,     2, 12,     16,     34,2,20050717,1825, 22.7712,-158.0187, 4711,     25,     24.9,  25.8520,  35.0329,2,  35.0431,2,    206.7,1, 25.8464,   -999.0,9,  -999.00,9,  -999.00,9,  -999.00,9,  -999.0,-999.000
     318M171_1,  PRS2,     2, 12,     17,     17,2,20050717,1825, 22.7712,-158.0187, 4711,     25,     25.0,  25.8515,  35.0330,2,-999.0000,5,    206.6,1, 25.8460,   -999.0,9,  -999.00,9,  -999.00,9,  -999.00,9,  -999.0,-999.000
     318M171_1,  PRS2,     2, 12,     15,    102,2,20050717,1825, 22.7712,-158.0187, 4711,     45,     44.9,  25.6971,  35.0711,2,  35.0687,2,    210.2,1, 25.6872,   -999.0,9,  -999.00,9,  -999.00,9,  -999.00,9,  -999.0,-999.000
     318M171_1,  PRS2,     2, 12,     14,    101,2,20050717,1825, 22.7712,-158.0187, 4711,     75,     75.0,  23.2846,  35.1968,2,  35.1941,2,    216.2,1, 23.2691,   -999.0,9,  -999.00,9,  -999.00,9,  -999.00,9,  -999.0,-999.000
     318M171_1,  PRS2,     2, 12,     13,     42,2,20050717,1825, 22.7712,-158.0187, 4711,    100,    100.3,  22.3288,  35.2084,2,  35.2126,2,    209.2,1, 22.3088,   -999.0,9,  -999.00,9,  -999.00,9,  -999.00,9,  -999.0,-999.000
     318M171_1,  PRS2,     2, 12,     12,     12,2,20050717,1825, 22.7712,-158.0187, 4711,    125,    124.8,  21.8305,  35.2130,2,  35.2099,2,    205.5,1, 21.8059,   -999.0,9,  -999.00,9,  -999.00,9,  -999.00,9,  -999.0,-999.000
     318M171_1,  PRS2,     2, 12,     11,     39,2,20050717,1825, 22.7712,-158.0187, 4711,    150,    149.8,  20.7832,  35.1466,2,  35.1425,2,    195.9,1, 20.7547,   -999.0,9,  -999.00,9,  -999.00,9,  -999.00,9,  -999.0,-999.000
     318M171_1,  PRS2,     2, 12,     10,     33,2,20050717,1825, 22.7712,-158.0187, 4711,    175,    174.9,  19.6890,  35.0296,2,  35.0191,2,    193.5,1, 19.6570,   -999.0,9,  -999.00,9,  -999.00,9,  -999.00,9,  -999.0,-999.000
     318M171_1,  PRS2,     2, 12,      9,      3,2,20050717,1825, 22.7712,-158.0187, 4711,    331,    330.5,  10.8683,  34.1019,2,  34.1009,2,    194.4,1, 10.8280,   -999.0,9,  -999.00,9,  -999.00,9,  -999.00,9,  -999.0,-999.000
     318M171_1,  PRS2,     2, 12,      8,     29,2,20050717,1825, 22.7712,-158.0187, 4711,    531,    530.2,   6.2932,  34.0628,2,  34.0648,2,     81.8,1,  6.2460,   -999.0,9,  -999.00,9,  -999.00,9,  -999.00,9,  -999.0,-999.000
     318M171_1,  PRS2,     2, 12,      7,     28,2,20050717,1825, 22.7712,-158.0187, 4711,    700,    699.9,   4.8625,  34.2235,2,-999.0000,5,     29.5,1,  4.8067,   -999.0,9,  -999.00,9,  -999.00,9,  -999.00,9,  -999.0,-999.000
     318M171_1,  PRS2,     2, 12,      3,     35,2,20050717,1825, 22.7712,-158.0187, 4711,   1020,   1019.9,   3.9069,  34.4898,2,  34.4885,2,     44.4,1,  3.8303,   -999.0,9,  -999.00,9,  -999.00,9,  -999.00,9,  -999.0,-999.000
     318M171_1,  PRS2,     2, 12,      2,      7,2,20050717,1825, 22.7712,-158.0187, 4711,   1020,   1019.9,   3.9064,  34.4898,2,  34.4887,2,     44.4,1,  3.8298,   -999.0,9,  -999.00,9,  -999.00,9,  -999.00,9,  -999.0,-999.000
     318M171_1,  PRS2,     2, 12,      6,     13,2,20050717,1825, 22.7712,-158.0187, 4711,   1020,   1020.0,   3.9081,  34.4901,2,  34.4919,2,     44.3,1,  3.8315,   -999.0,9,  -999.00,9,  -999.00,9,  -999.00,9,  -999.0,-999.000
     318M171_1,  PRS2,     2, 12,      5,     38,2,20050717,1825, 22.7712,-158.0187, 4711,   1020,   1020.0,   3.9077,  34.4902,2,  34.4905,2,     44.5,1,  3.8311,   -999.0,9,  -999.00,9,  -999.00,9,  -999.00,9,  -999.0,-999.000
     318M171_1,  PRS2,     2, 12,      4,     36,2,20050717,1825, 22.7712,-158.0187, 4711,   1020,   1020.0,   3.9074,  34.4902,2,  34.4919,2,     44.4,1,  3.8309,   -999.0,9,  -999.00,9,  -999.00,9,  -999.00,9,  -999.0,-999.000
     318M171_1,  PRS2,     2, 12,      1,     11,2,20050717,1825, 22.7712,-158.0187, 4711,   1020,   1020.0,   3.9075,  34.4901,2,  34.4903,2,     44.4,1,  3.8309,   -999.0,9,  -999.00,9,  -999.00,9,  -999.00,9,  -999.0,-999.000
     318M171_1,  PRS2,     2, 13,     22,     22,2,20050717,2100, 22.7842,-158.0333, 4732,      7,      6.4,  25.9219,  35.0288,2,  35.0283,2,    207.4,1, 25.9205,   -999.0,9,  -999.00,9,  -999.00,9,  -999.00,9,  -999.0,-999.000
     318M171_1,  PRS2,     2, 13,     21,     21,2,20050717,2100, 22.7842,-158.0333, 4732,     11,     10.3,  25.9142,  35.0284,2,  35.0266,2,    207.4,1, 25.9119,   -999.0,9,  -999.00,9,  -999.00,9,  -999.00,9,  -999.0,-999.000
     318M171_1,  PRS2,     2, 13,     20,     41,2,20050717,2100, 22.7842,-158.0333, 4732,     25,     24.8,  25.8697,  35.0297,2,-999.0000,5,    207.2,1, 25.8642,   -999.0,9,  -999.00,9,  -999.00,9,  -999.00,9,  -999.0,-999.000
     318M171_1,  PRS2,     2, 13,     19,     19,2,20050717,2100, 22.7842,-158.0333, 4732,     45,     45.0,  25.6756,  35.0617,2,  35.0624,2,    209.9,1, 25.6657,   -999.0,9,  -999.00,9,  -999.00,9,  -999.00,9,  -999.0,-999.000
     318M171_1,  PRS2,     2, 13,     18,     18,2,20050717,2100, 22.7842,-158.0333, 4732,     75,     74.7,  23.9185,  35.1874,2,  35.1861,2,    222.3,1, 23.9029,   -999.0,9,  -999.00,9,  -999.00,9,  -999.00,9,  -999.0,-999.000
     318M171_1,  PRS2,     2, 13,     17,     17,2,20050717,2100, 22.7842,-158.0333, 4732,     75,     74.7,  23.9405,  35.1871,2,  35.1868,2,    222.2,1, 23.9249,   -999.0,9,  -999.00,9,  -999.00,9,  -999.00,9,  -999.0,-999.000
     318M171_1,  PRS2,     2, 13,     16,     34,2,20050717,2100, 22.7842,-158.0333, 4732,    100,    100.1,  22.8591,  35.2115,2,  35.2121,2,    213.4,1, 22.8388,   -999.0,9,  -999.00,9,  -999.00,9,  -999.00,9,  -999.0,-999.000
     318M171_1,  PRS2,     2, 13,     15,    102,2,20050717,2100, 22.7842,-158.0333, 4732,    100,    100.1,  22.8446,  35.2127,2,  35.2126,2,    213.1,1, 22.8243,   -999.0,9,  -999.00,9,  -999.00,9,  -999.00,9,  -999.0,-999.000
     318M171_1,  PRS2,     2, 13,     14,    101,2,20050717,2100, 22.7842,-158.0333, 4732,    126,    125.6,  22.0705,  35.2247,2,  35.2229,2,    208.0,1, 22.0456,   -999.0,9,  -999.00,9,  -999.00,9,  -999.00,9,  -999.0,-999.000
     318M171_1,  PRS2,     2, 13,     13,     42,2,20050717,2100, 22.7842,-158.0333, 4732,    126,    125.6,  22.0619,  35.2251,2,  35.2144,2,    208.1,1, 22.0370,   -999.0,9,  -999.00,9,  -999.00,9,  -999.00,9,  -999.0,-999.000
     318M171_1,  PRS2,     2, 13,     12,     12,2,20050717,2100, 22.7842,-158.0333, 4732,    126,    125.6,  22.0360,  35.2225,2,  35.2201,2,    208.0,1, 22.0111,   -999.0,9,  -999.00,9,  -999.00,9,  -999.00,9,  -999.0,-999.000
     318M171_1,  PRS2,     2, 13,     10,     33,2,20050717,2100, 22.7842,-158.0333, 4732,    150,    149.7,  21.1195,  35.1671,2,  35.1579,2,    199.4,1, 21.0907,   -999.0,9,  -999.00,9,  -999.00,9,  -999.00,9,  -999.0,-999.000
     318M171_1,  PRS2,     2, 13,     11,     39,2,20050717,2100, 22.7842,-158.0333, 4732,    150,    149.8,  21.1821,  35.1719,2,-999.0000,5,    200.1,1, 21.1532,   -999.0,9,  -999.00,9,  -999.00,9,  -999.00,9,  -999.0,-999.000
     318M171_1,  PRS2,     2, 13,      9,      3,2,20050717,2100, 22.7842,-158.0333, 4732,    173,    173.1,  20.2379,  35.0943,2,  35.0935,2,    197.0,1, 20.2056,   -999.0,9,  -999.00,9,  -999.00,9,  -999.00,9,  -999.0,-999.000
     318M171_1,  PRS2,     2, 13,      8,     29,2,20050717,2100, 22.7842,-158.0333, 4732,    173,    173.1,  20.2211,  35.0932,2,-999.0000,5,    196.9,1, 20.1889,   -999.0,9,  -999.00,9,  -999.00,9,  -999.00,9,  -999.0,-999.000
     318M171_1,  PRS2,     2, 13,      7,     28,2,20050717,2100, 22.7842,-158.0333, 4732,    201,    200.4,  18.9839,  34.9392,2,-999.0000,5,    194.6,1, 18.9482,   -999.0,9,  -999.00,9,  -999.00,9,  -999.00,9,  -999.0,-999.000
     318M171_1,  PRS2,     2, 13,      6,     13,2,20050717,2100, 22.7842,-158.0333, 4732,    250,    250.3,  15.8562,  34.5202,2,  34.5025,2,    199.8,1, 15.8169,   -999.0,9,  -999.00,9,  -999.00,9,  -999.00,9,  -999.0,-999.000
     318M171_1,  PRS2,     2, 13,      5,     38,2,20050717,2100, 22.7842,-158.0333, 4732,    251,    250.3,  15.8867,  34.5242,2,-999.0000,5,    199.8,1, 15.8473,   -999.0,9,  -999.00,9,  -999.00,9,  -999.00,9,  -999.0,-999.000
     318M171_1,  PRS2,     2, 13,      4,     36,2,20050717,2100, 22.7842,-158.0333, 4732,    350,    349.9,  10.8105,  34.0986,2,-999.0000,5,    193.6,1, 10.7680,   -999.0,9,  -999.00,9,  -999.00,9,  -999.00,9,  -999.0,-999.000
     318M171_1,  PRS2,     2, 13,      3,     35,2,20050717,2100, 22.7842,-158.0333, 4732,    350,    349.9,  10.8087,  34.0997,2,  34.1013,2,    193.6,1, 10.7661,   -999.0,9,  -999.00,9,  -999.00,9,  -999.00,9,  -999.0,-999.000
     318M171_1,  PRS2,     2, 13,      2,      7,2,20050717,2100, 22.7842,-158.0333, 4732,    500,    500.0,   7.2389,  34.0810,2,  34.0862,2,     98.1,1,  7.1909,   -999.0,9,  -999.00,9,  -999.00,9,  -999.00,9,  -999.0,-999.000
     318M171_1,  PRS2,     2, 13,      1,     11,2,20050717,2100, 22.7842,-158.0333, 4732,   1020,   1019.4,   3.9424,  34.4802,2,  34.4834,2,     43.4,1,  3.8656,   -999.0,9,  -999.00,9,  -999.00,9,  -999.00,9,  -999.0,-999.000
     318M171_1,  PRS2,     2, 14,     24,     23,2,20050718,0024, 22.7915,-158.0492, 4735,      5,      4.9,  26.0230,  35.0223,2,  35.0203,2,    207.0,1, 26.0220,   -999.0,9,  -999.00,9,  -999.00,9,  -999.00,9,  -999.0,-999.000
     318M171_1,  PRS2,     2, 14,     23,     30,2,20050718,0024, 22.7915,-158.0492, 4735,      4,      4.9,  26.0232,  35.0224,2,  35.0207,2,    207.0,1, 26.0221,   -999.0,9,  -999.00,9,  -999.00,9,  -999.00,9,  -999.0,-999.000
     318M171_1,  PRS2,     2, 14,     22,     22,3,20050718,0024, 22.7915,-158.0492, 4735,     26,     25.3,  25.9085,  35.0112,2,  35.0089,2,    206.8,1, 25.9029,   -999.0,9,  -999.00,9,  -999.00,9,  -999.00,9,  -999.0,-999.000
     318M171_1,  PRS2,     2, 14,     21,     21,2,20050718,0024, 22.7915,-158.0492, 4735,     26,     25.3,  25.9078,  35.0112,2,  35.0142,2,    206.8,1, 25.9022,   -999.0,9,  -999.00,9,  -999.00,9,  -999.00,9,  -999.0,-999.000
     318M171_1,  PRS2,     2, 14,     20,     41,3,20050718,0024, 22.7915,-158.0492, 4735,     30,     30.2,  25.9018,  35.0128,2,  35.0167,2,    206.7,1, 25.8951,   -999.0,9,  -999.00,9,  -999.00,9,  -999.00,9,  -999.0,-999.000
     318M171_1,  PRS2,     2, 14,     19,     19,2,20050718,0024, 22.7915,-158.0492, 4735,     30,     30.2,  25.9015,  35.0128,2,-999.0000,5,    206.7,1, 25.8948,   -999.0,9,  -999.00,9,  -999.00,9,  -999.00,9,  -999.0,-999.000
     318M171_1,  PRS2,     2, 14,     16,     34,2,20050718,0024, 22.7915,-158.0492, 4735,     30,     30.2,  25.9008,  35.0128,2,  35.0126,2,    206.8,1, 25.8941,   -999.0,9,  -999.00,9,  -999.00,9,  -999.00,9,  -999.0,-999.000
     318M171_1,  PRS2,     2, 14,     18,     18,2,20050718,0024, 22.7915,-158.0492, 4735,     30,     30.3,  25.9009,  35.0128,2,-999.0000,5,    206.8,1, 25.8942,   -999.0,9,  -999.00,9,  -999.00,9,  -999.00,9,  -999.0,-999.000
     318M171_1,  PRS2,     2, 14,     17,     17,2,20050718,0024, 22.7915,-158.0492, 4735,     30,     30.3,  25.9006,  35.0128,2,-999.0000,5,    206.8,1, 25.8939,   -999.0,9,  -999.00,9,  -999.00,9,  -999.00,9,  -999.0,-999.000
     318M171_1,  PRS2,     2, 14,     15,    102,2,20050718,0024, 22.7915,-158.0492, 4735,     45,     45.5,  25.7419,  35.0421,2,  35.0439,2,    209.0,1, 25.7318,   -999.0,9,  -999.00,9,  -999.00,9,  -999.00,9,  -999.0,-999.000
     318M171_1,  PRS2,     2, 14,     14,    101,2,20050718,0024, 22.7915,-158.0492, 4735,     46,     45.5,  25.7344,  35.0436,2,  35.0398,2,    209.2,1, 25.7243,   -999.0,9,  -999.00,9,  -999.00,9,  -999.00,9,  -999.0,-999.000
     318M171_1,  PRS2,     2, 14,     13,     42,2,20050718,0024, 22.7915,-158.0492, 4735,     75,     74.5,  23.7732,  35.1811,2,  35.1857,2,    222.3,1, 23.7577,   -999.0,9,  -999.00,9,  -999.00,9,  -999.00,9,  -999.0,-999.000
     318M171_1,  PRS2,     2, 14,     12,     12,2,20050718,0024, 22.7915,-158.0492, 4735,     75,     74.5,  23.7704,  35.1804,2,  35.1821,2,    222.0,1, 23.7548,   -999.0,9,  -999.00,9,  -999.00,9,  -999.00,9,  -999.0,-999.000
     318M171_1,  PRS2,     2, 14,     11,     39,2,20050718,0024, 22.7915,-158.0492, 4735,    100,    100.3,  22.9332,  35.2138,2,  35.2552,4,    215.3,1, 22.9127,   -999.0,9,  -999.00,9,  -999.00,9,  -999.00,9,  -999.0,-999.000
     318M171_1,  PRS2,     2, 14,     10,     33,2,20050718,0024, 22.7915,-158.0492, 4735,    125,    125.0,  22.4051,  35.2313,2,  35.2292,2,    211.1,1, 22.3801,   -999.0,9,  -999.00,9,  -999.00,9,  -999.00,9,  -999.0,-999.000
     318M171_1,  PRS2,     2, 14,      9,      3,2,20050718,0024, 22.7915,-158.0492, 4735,    151,    150.3,  21.7471,  35.1991,2,  35.1918,2,    204.0,1, 21.7176,   -999.0,9,  -999.00,9,  -999.00,9,  -999.00,9,  -999.0,-999.000
     318M171_1,  PRS2,     2, 14,      8,     29,2,20050718,0024, 22.7915,-158.0492, 4735,    175,    174.7,  20.1315,  35.0846,2,  35.1118,3,    194.7,1, 20.0990,   -999.0,9,  -999.00,9,  -999.00,9,  -999.00,9,  -999.0,-999.000
     318M171_1,  PRS2,     2, 14,      7,     28,2,20050718,0024, 22.7915,-158.0492, 4735,    201,    200.5,  19.0078,  34.9380,2,  34.9530,2,    191.7,1, 18.9720,   -999.0,9,  -999.00,9,  -999.00,9,  -999.00,9,  -999.0,-999.000
     318M171_1,  PRS2,     2, 14,      6,     13,3,20050718,0024, 22.7915,-158.0492, 4735,    250,    250.3,  15.3593,  34.4553,2,  34.4551,2,    199.2,1, 15.3209,   -999.0,9,  -999.00,9,  -999.00,9,  -999.00,9,  -999.0,-999.000
     318M171_1,  PRS2,     2, 14,      5,     38,2,20050718,0024, 22.7915,-158.0492, 4735,    350,    350.0,  11.5326,  34.1215,2,  34.1234,2,    196.7,1, 11.4882,   -999.0,9,  -999.00,9,  -999.00,9,  -999.00,9,  -999.0,-999.000
     318M171_1,  PRS2,     2, 14,      4,     36,2,20050718,0024, 22.7915,-158.0492, 4735,    350,    350.0,  11.5281,  34.1220,2,  34.1207,2,    196.5,1, 11.4838,   -999.0,9,  -999.00,9,  -999.00,9,  -999.00,9,  -999.0,-999.000
     318M171_1,  PRS2,     2, 14,      3,     35,2,20050718,0024, 22.7915,-158.0492, 4735,    550,    550.1,   6.4620,  34.0461,2,  34.0456,2,     98.6,1,  6.4122,   -999.0,9,  -999.00,9,  -999.00,9,  -999.00,9,  -999.0,-999.000
     318M171_1,  PRS2,     2, 14,      2,      7,2,20050718,0024, 22.7915,-158.0492, 4735,    750,    750.5,   4.7499,  34.2372,2,-999.0000,5,     26.3,1,  4.6905,   -999.0,9,  -999.00,9,  -999.00,9,  -999.00,9,  -999.0,-999.000
     318M171_1,  PRS2,     2, 14,      1,     11,2,20050718,0024, 22.7915,-158.0492, 4735,   1019,   1019.3,   3.9126,  34.4795,2,  34.4860,3,     43.5,1,  3.8361,   -999.0,9,  -999.00,9,  -999.00,9,  -999.00,9,  -999.0,-999.000