BOTTLE,20090923WHPSIOMYS
#code : jjward hyd_to_exchange.pl 
#original files copied from HTML directory: 20090923
#original HYD file: 318M171_1_hy.txt   Wed Sep 23 17:57:51 2009
#original SUM file: ../318M171_1su.txt   Wed Sep 23 17:57:50 2009
EXPOCODE,SECT_ID,STNNBR,CASTNO,SAMPNO,BTLNBR,BTLNBR_FLAG_W,DATE,TIME,LATITUDE,LONGITUDE,DEPTH,CTDRAW,CTDPRS,CTDTMP,CTDSAL,CTDSAL_FLAG_W,SALNTY,SALNTY_FLAG_W,CTDOXY,CTDOXY_FLAG_W,THETA,OXYGEN,OXYGEN_FLAG_W,SILCAT,SILCAT_FLAG_W,NO2+NO3,NO2+NO3_FLAG_W,PHSPHT,PHSPHT_FLAG_W,REVPRS,REVTMP
,,,,,,,,,,,,,DBAR,ITS-90,PSS-78,,PSS-78,,UMOL/KG,,ITS-90,UMOL/KG,,UMOL/KG,,UMOL/KG,,UMOL/KG,,DBAR,DEG C
     318M171_1,  PRS2,     1,  1,     24,     23,2,20050715,2329, 21.3432,-158.2733, 1561,      5,      5.2,  26.5826,  34.7851,2,  34.7870,2,    205.1,2, 26.5815,    205.3,2,  -999.00,9,  -999.00,9,  -999.00,9,  -999.0,-999.000
     318M171_1,  PRS2,     1,  1,     23,     30,2,20050715,2329, 21.3432,-158.2733, 1561,      5,      5.3,  26.5902,  34.7856,2,  34.7852,2,    205.1,2, 26.5891,    205.0,2,  -999.00,9,  -999.00,9,  -999.00,9,  -999.0,-999.000
     318M171_1,  PRS2,     1,  1,     22,     22,2,20050715,2329, 21.3432,-158.2733, 1561,     25,     25.0,  26.4445,  34.7792,2,  34.7791,2,    205.8,2, 26.4388,    205.7,2,  -999.00,9,  -999.00,9,  -999.00,9,  -999.0,-999.000
     318M171_1,  PRS2,     1,  1,     21,     21,2,20050715,2329, 21.3432,-158.2733, 1561,     45,     45.6,  26.3596,  34.7747,2,  34.7740,2,    205.9,2, 26.3494,    206.0,2,  -999.00,9,  -999.00,9,  -999.00,9,  -999.0,-999.000
     318M171_1,  PRS2,     1,  1,     20,     41,2,20050715,2329, 21.3432,-158.2733, 1561,     60,     60.6,  25.9263,  34.8615,2,  34.8576,2,    210.4,2, 25.9128,    210.4,2,  -999.00,9,  -999.00,9,  -999.00,9,  -999.0,-999.000
     318M171_1,  PRS2,     1,  1,     19,     19,2,20050715,2329, 21.3432,-158.2733, 1561,     76,     75.4,  25.0557,  34.9650,2,  34.9644,2,    215.7,2, 25.0393,    214.3,2,  -999.00,9,  -999.00,9,  -999.00,9,  -999.0,-999.000
     318M171_1,  PRS2,     1,  1,     18,     18,2,20050715,2329, 21.3432,-158.2733, 1561,    100,    100.1,  23.4026,  35.0949,2,  35.1104,3,    211.7,3, 23.3819,    212.6,2,  -999.00,9,  -999.00,9,  -999.00,9,  -999.0,-999.000
     318M171_1,  PRS2,     1,  1,     17,     17,2,20050715,2329, 21.3432,-158.2733, 1561,    115,    115.4,  22.8682,  35.1443,2,  35.1477,2,    208.9,2, 22.8447,    210.2,2,  -999.00,9,  -999.00,9,  -999.00,9,  -999.0,-999.000
     318M171_1,  PRS2,     1,  1,     16,     34,2,20050715,2329, 21.3432,-158.2733, 1561,    126,    125.2,  22.4262,  35.1616,2,  35.1591,2,    206.5,2, 22.4011,    206.5,2,  -999.00,9,  -999.00,9,  -999.00,9,  -999.0,-999.000
     318M171_1,  PRS2,     1,  1,     15,    102,2,20050715,2329, 21.3432,-158.2733, 1561,    150,    150.4,  20.7962,  35.0687,2,  35.0720,2,    192.2,2, 20.7676,    190.6,2,  -999.00,9,  -999.00,9,  -999.00,9,  -999.0,-999.000
     318M171_1,  PRS2,     1,  1,     14,    101,2,20050715,2329, 21.3432,-158.2733, 1561,    175,    175.3,  18.9858,  34.9183,2,  34.9158,2,    191.6,2, 18.9546,    194.3,2,  -999.00,9,  -999.00,9,  -999.00,9,  -999.0,-999.000
     318M171_1,  PRS2,     1,  1,     13,     42,2,20050715,2329, 21.3432,-158.2733, 1561,    201,    200.6,  16.8272,  34.6536,2,  34.6451,2,    191.4,2, 16.7944,    192.7,2,  -999.00,9,  -999.00,9,  -999.00,9,  -999.0,-999.000
     318M171_1,  PRS2,     1,  1,     12,     12,2,20050715,2329, 21.3432,-158.2733, 1561,    225,    225.2,  15.4432,  34.4960,2,  34.5034,2,    189.0,2, 15.4085,    189.5,2,  -999.00,9,  -999.00,9,  -999.00,9,  -999.0,-999.000
     318M171_1,  PRS2,     1,  1,     11,     39,2,20050715,2329, 21.3432,-158.2733, 1561,    250,    250.0,  13.4711,  34.2790,2,  34.2995,3,    195.3,3, 13.4360,    195.7,2,  -999.00,9,  -999.00,9,  -999.00,9,  -999.0,-999.000
     318M171_1,  PRS2,     1,  1,     10,     33,2,20050715,2329, 21.3432,-158.2733, 1561,    300,    299.5,  11.2618,  34.1554,2,  34.1552,2,    192.9,2, 11.2245,    191.3,2,  -999.00,9,  -999.00,9,  -999.00,9,  -999.0,-999.000
     318M171_1,  PRS2,     1,  1,      9,      3,2,20050715,2329, 21.3432,-158.2733, 1561,    349,    349.1,   9.8863,  34.1374,2,  34.1350,2,    166.7,2,  9.8462,    166.3,2,  -999.00,9,  -999.00,9,  -999.00,9,  -999.0,-999.000
     318M171_1,  PRS2,     1,  1,      8,     29,2,20050715,2329, 21.3432,-158.2733, 1561,    399,    399.1,   8.5471,  34.1066,2,  34.1179,2,    139.5,2,  8.5051,    141.0,2,  -999.00,9,  -999.00,9,  -999.00,9,  -999.0,-999.000
     318M171_1,  PRS2,     1,  1,      7,     28,2,20050715,2329, 21.3432,-158.2733, 1561,    500,    500.0,   7.1380,  34.1183,2,  34.1179,2,     96.0,2,  7.0903,     94.7,2,  -999.00,9,  -999.00,9,  -999.00,9,  -999.0,-999.000
     318M171_1,  PRS2,     1,  1,      6,     13,2,20050715,2329, 21.3432,-158.2733, 1561,    600,    600.1,   5.7253,  34.2202,2,  34.2193,2,     46.8,2,  5.6740,     46.9,2,  -999.00,9,  -999.00,9,  -999.00,9,  -999.0,-999.000
     318M171_1,  PRS2,     1,  1,      5,     38,2,20050715,2329, 21.3432,-158.2733, 1561,    700,    700.3,   5.2168,  34.3393,2,  34.3448,2,     35.8,2,  5.1589,     35.3,2,  -999.00,9,  -999.00,9,  -999.00,9,  -999.0,-999.000
     318M171_1,  PRS2,     1,  1,      4,     36,2,20050715,2329, 21.3432,-158.2733, 1561,    750,    749.6,   4.9842,  34.3605,2,  34.3711,4,     35.6,3,  4.9234,     35.7,2,  -999.00,9,  -999.00,9,  -999.00,9,  -999.0,-999.000
     318M171_1,  PRS2,     1,  1,      3,     35,2,20050715,2329, 21.3432,-158.2733, 1561,    799,    799.6,   4.8277,  34.3795,2,  34.4208,4,     35.4,3,  4.7635,     38.9,2,  -999.00,9,  -999.00,9,  -999.00,9,  -999.0,-999.000
     318M171_1,  PRS2,     1,  1,      2,      7,2,20050715,2329, 21.3432,-158.2733, 1561,    899,    899.5,   4.4864,  34.4730,2,  34.4716,2,     44.9,2,  4.4157,     45.2,2,  -999.00,9,  -999.00,9,  -999.00,9,  -999.0,-999.000
     318M171_1,  PRS2,     1,  1,      1,     11,2,20050715,2329, 21.3432,-158.2733, 1561,   1037,   1036.5,   4.0051,  34.5031,2,  34.5032,2,     48.5,2,  3.9263,     48.8,2,  -999.00,9,  -999.00,9,  -999.00,9,  -999.0,-999.000
     318M171_1,  PRS2,     2,  1,     23,     30,2,20050716,1018, 22.7502,-157.9952, 4727,      5,      5.3,  25.9073,  34.9913,2,  34.9900,2,    205.9,1, 25.9061,   -999.0,9,  -999.00,9,  -999.00,9,  -999.00,9,  -999.0,-999.000
     318M171_1,  PRS2,     2,  1,     21,     21,2,20050716,1018, 22.7502,-157.9952, 4727,      5,      5.3,  25.9081,  34.9911,2,-999.0000,5,    205.9,1, 25.9069,   -999.0,9,  -999.00,9,  -999.00,9,  -999.00,9,  -999.0,-999.000
     318M171_1,  PRS2,     2,  1,     20,     41,3,20050716,1018, 22.7502,-157.9952, 4727,      5,      5.3,  25.9083,  34.9910,2,-999.0000,5,    205.9,1, 25.9071,   -999.0,9,  -999.00,9,  -999.00,9,  -999.00,9,  -999.0,-999.000
     318M171_1,  PRS2,     2,  1,     19,     19,2,20050716,1018, 22.7502,-157.9952, 4727,      5,      5.3,  25.9084,  34.9910,2,-999.0000,5,    205.9,1, 25.9072,   -999.0,9,  -999.00,9,  -999.00,9,  -999.00,9,  -999.0,-999.000
     318M171_1,  PRS2,     2,  1,     17,     17,3,20050716,1018, 22.7502,-157.9952, 4727,      5,      5.3,  25.9077,  34.9911,2,-999.0000,5,    205.9,1, 25.9066,   -999.0,9,  -999.00,9,  -999.00,9,  -999.00,9,  -999.0,-999.000
     318M171_1,  PRS2,     2,  1,     22,     22,2,20050716,1018, 22.7502,-157.9952, 4727,      6,      5.4,  25.9080,  34.9911,2,-999.0000,5,    205.9,1, 25.9068,   -999.0,9,  -999.00,9,  -999.00,9,  -999.00,9,  -999.0,-999.000
     318M171_1,  PRS2,     2,  1,     18,     18,3,20050716,1018, 22.7502,-157.9952, 4727,      5,      5.4,  25.9083,  34.9909,2,-999.0000,5,    205.9,1, 25.9071,   -999.0,9,  -999.00,9,  -999.00,9,  -999.00,9,  -999.0,-999.000
     318M171_1,  PRS2,     2,  1,     11,     39,2,20050716,1018, 22.7502,-157.9952, 4727,     25,     25.0,  25.9084,  34.9918,2,-999.0000,5,    206.3,1, 25.9028,   -999.0,9,  -999.00,9,  -999.00,9,  -999.00,9,  -999.0,-999.000
     318M171_1,  PRS2,     2,  1,     10,     33,2,20050716,1018, 22.7502,-157.9952, 4727,     25,     25.0,  25.9085,  34.9918,2,-999.0000,5,    206.4,1, 25.9029,   -999.0,9,  -999.00,9,  -999.00,9,  -999.00,9,  -999.0,-999.000
     318M171_1,  PRS2,     2,  1,     14,    101,2,20050716,1018, 22.7502,-157.9952, 4727,     25,     25.1,  25.9056,  34.9927,2,-999.0000,5,    206.1,1, 25.9000,   -999.0,9,  -999.00,9,  -999.00,9,  -999.00,9,  -999.0,-999.000
     318M171_1,  PRS2,     2,  1,     13,     42,2,20050716,1018, 22.7502,-157.9952, 4727,     26,     25.1,  25.9066,  34.9923,2,-999.0000,5,    206.1,1, 25.9011,   -999.0,9,  -999.00,9,  -999.00,9,  -999.00,9,  -999.0,-999.000
     318M171_1,  PRS2,     2,  1,     12,     12,2,20050716,1018, 22.7502,-157.9952, 4727,     25,     25.1,  25.9079,  34.9920,2,-999.0000,5,    206.2,1, 25.9023,   -999.0,9,  -999.00,9,  -999.00,9,  -999.00,9,  -999.0,-999.000
     318M171_1,  PRS2,     2,  1,     16,     34,2,20050716,1018, 22.7502,-157.9952, 4727,     25,     25.2,  25.9053,  34.9926,2,-999.0000,5,    206.0,1, 25.8997,   -999.0,9,  -999.00,9,  -999.00,9,  -999.00,9,  -999.0,-999.000
     318M171_1,  PRS2,     2,  1,     15,    102,2,20050716,1018, 22.7502,-157.9952, 4727,     25,     25.2,  25.9052,  34.9926,2,-999.0000,5,    206.1,1, 25.8996,   -999.0,9,  -999.00,9,  -999.00,9,  -999.00,9,  -999.0,-999.000
     318M171_1,  PRS2,     2,  1,      7,     28,2,20050716,1018, 22.7502,-157.9952, 4727,     45,     45.3,  25.5083,  35.0708,2,-999.0000,5,    210.4,1, 25.4983,   -999.0,9,  -999.00,9,  -999.00,9,  -999.00,9,  -999.0,-999.000
     318M171_1,  PRS2,     2,  1,      6,     13,2,20050716,1018, 22.7502,-157.9952, 4727,     45,     45.3,  25.5081,  35.0709,2,-999.0000,5,    210.4,1, 25.4982,   -999.0,9,  -999.00,9,  -999.00,9,  -999.00,9,  -999.0,-999.000
     318M171_1,  PRS2,     2,  1,      8,     29,2,20050716,1018, 22.7502,-157.9952, 4727,     45,     45.4,  25.5089,  35.0705,2,-999.0000,5,    210.4,1, 25.4989,   -999.0,9,  -999.00,9,  -999.00,9,  -999.00,9,  -999.0,-999.000
     318M171_1,  PRS2,     2,  1,      5,     38,2,20050716,1018, 22.7502,-157.9952, 4727,     46,     45.4,  25.5079,  35.0708,2,-999.0000,5,    210.3,1, 25.4980,   -999.0,9,  -999.00,9,  -999.00,9,  -999.00,9,  -999.0,-999.000
     318M171_1,  PRS2,     2,  1,      3,     35,3,20050716,1018, 22.7502,-157.9952, 4727,     46,     45.4,  25.5064,  35.0710,2,-999.0000,5,    210.4,1, 25.4965,   -999.0,9,  -999.00,9,  -999.00,9,  -999.00,9,  -999.0,-999.000
     318M171_1,  PRS2,     2,  1,      9,      3,2,20050716,1018, 22.7502,-157.9952, 4727,     45,     45.5,  25.5122,  35.0695,2,-999.0000,5,    210.5,1, 25.5022,   -999.0,9,  -999.00,9,  -999.00,9,  -999.00,9,  -999.0,-999.000
     318M171_1,  PRS2,     2,  1,      4,     36,2,20050716,1018, 22.7502,-157.9952, 4727,     46,     45.5,  25.5075,  35.0709,2,-999.0000,5,    210.4,1, 25.4974,   -999.0,9,  -999.00,9,  -999.00,9,  -999.00,9,  -999.0,-999.000
     318M171_1,  PRS2,     2,  1,      2,      7,2,20050716,1018, 22.7502,-157.9952, 4727,     50,     50.0,  25.4787,  35.0750,2,  35.0913,4,    210.9,1, 25.4677,   -999.0,9,  -999.00,9,  -999.00,9,  -999.00,9,  -999.0,-999.000
     318M171_1,  PRS2,     2,  1,      1,     11,2,20050716,1018, 22.7502,-157.9952, 4727,     99,     99.7,  23.2320,  35.2137,2,  35.2219,2,    218.2,1, 23.2114,   -999.0,9,  -999.00,9,  -999.00,9,  -999.00,9,  -999.0,-999.000
     318M171_1,  PRS2,     2,  2,     23,     30,2,20050716,1212, 22.7613,-157.9928, 4717,     75,     75.0,  23.3335,  35.2147,2,  35.2123,2,    217.8,1, 23.3180,   -999.0,9,  -999.00,9,  -999.00,9,  -999.00,9,  -999.0,-999.000
     318M171_1,  PRS2,     2,  2,     22,     22,2,20050716,1212, 22.7613,-157.9928, 4717,     75,     75.0,  23.3335,  35.2146,2,-999.0000,5,    217.8,1, 23.3180,   -999.0,9,  -999.00,9,  -999.00,9,  -999.00,9,  -999.0,-999.000
     318M171_1,  PRS2,     2,  2,     21,     21,2,20050716,1212, 22.7613,-157.9928, 4717,     76,     75.0,  23.3332,  35.2146,2,-999.0000,5,    217.8,1, 23.3177,   -999.0,9,  -999.00,9,  -999.00,9,  -999.00,9,  -999.0,-999.000
     318M171_1,  PRS2,     2,  2,     19,     19,2,20050716,1212, 22.7613,-157.9928, 4717,     75,     75.0,  23.3311,  35.2146,2,-999.0000,5,    217.9,1, 23.3156,   -999.0,9,  -999.00,9,  -999.00,9,  -999.00,9,  -999.0,-999.000
     318M171_1,  PRS2,     2,  2,     18,     18,2,20050716,1212, 22.7613,-157.9928, 4717,     75,     75.0,  23.3242,  35.2149,2,-999.0000,5,    217.8,1, 23.3087,   -999.0,9,  -999.00,9,  -999.00,9,  -999.00,9,  -999.0,-999.000
     318M171_1,  PRS2,     2,  2,     17,     17,2,20050716,1212, 22.7613,-157.9928, 4717,     75,     75.0,  23.3206,  35.2145,2,-999.0000,5,    217.8,1, 23.3051,   -999.0,9,  -999.00,9,  -999.00,9,  -999.00,9,  -999.0,-999.000
     318M171_1,  PRS2,     2,  2,     20,     41,2,20050716,1212, 22.7613,-157.9928, 4717,     75,     75.1,  23.3326,  35.2147,2,-999.0000,5,    217.8,1, 23.3171,   -999.0,9,  -999.00,9,  -999.00,9,  -999.00,9,  -999.0,-999.000
     318M171_1,  PRS2,     2,  2,     14,    101,2,20050716,1212, 22.7613,-157.9928, 4717,    100,    100.3,  22.5886,  35.2343,2,-999.0000,5,    211.3,1, 22.5684,   -999.0,9,  -999.00,9,  -999.00,9,  -999.00,9,  -999.0,-999.000
     318M171_1,  PRS2,     2,  2,     13,     42,2,20050716,1212, 22.7613,-157.9928, 4717,    100,    100.3,  22.5897,  35.2353,2,-999.0000,5,    211.4,1, 22.5694,   -999.0,9,  -999.00,9,  -999.00,9,  -999.00,9,  -999.0,-999.000
     318M171_1,  PRS2,     2,  2,     16,     34,2,20050716,1212, 22.7613,-157.9928, 4717,    100,    100.4,  22.5865,  35.2349,2,  35.2325,2,    211.3,1, 22.5663,   -999.0,9,  -999.00,9,  -999.00,9,  -999.00,9,  -999.0,-999.000
     318M171_1,  PRS2,     2,  2,     15,    102,2,20050716,1212, 22.7613,-157.9928, 4717,    100,    100.4,  22.5870,  35.2347,2,-999.0000,5,    211.3,1, 22.5668,   -999.0,9,  -999.00,9,  -999.00,9,  -999.00,9,  -999.0,-999.000
     318M171_1,  PRS2,     2,  2,     12,     12,2,20050716,1212, 22.7613,-157.9928, 4717,    101,    100.4,  22.5924,  35.2345,2,-999.0000,5,    211.5,1, 22.5722,   -999.0,9,  -999.00,9,  -999.00,9,  -999.00,9,  -999.0,-999.000
     318M171_1,  PRS2,     2,  2,     11,     39,2,20050716,1212, 22.7613,-157.9928, 4717,    101,    100.4,  22.5962,  35.2341,2,-999.0000,5,    211.5,1, 22.5759,   -999.0,9,  -999.00,9,  -999.00,9,  -999.00,9,  -999.0,-999.000
     318M171_1,  PRS2,     2,  2,     10,     33,2,20050716,1212, 22.7613,-157.9928, 4717,    101,    100.4,  22.5911,  35.2360,2,-999.0000,5,    211.4,1, 22.5709,   -999.0,9,  -999.00,9,  -999.00,9,  -999.00,9,  -999.0,-999.000
     318M171_1,  PRS2,     2,  2,      6,     13,2,20050716,1212, 22.7613,-157.9928, 4717,    125,    124.6,  21.8782,  35.2131,2,-999.0000,5,    204.7,1, 21.8537,   -999.0,9,  -999.00,9,  -999.00,9,  -999.00,9,  -999.0,-999.000
     318M171_1,  PRS2,     2,  2,      7,     28,2,20050716,1212, 22.7613,-157.9928, 4717,    125,    124.7,  21.8936,  35.2163,2,-999.0000,5,    204.7,1, 21.8690,   -999.0,9,  -999.00,9,  -999.00,9,  -999.00,9,  -999.0,-999.000
     318M171_1,  PRS2,     2,  2,      3,     35,2,20050716,1212, 22.7613,-157.9928, 4717,    125,    124.7,  21.7660,  35.2042,2,-999.0000,5,    202.9,1, 21.7415,   -999.0,9,  -999.00,9,  -999.00,9,  -999.00,9,  -999.0,-999.000
     318M171_1,  PRS2,     2,  2,      9,      3,2,20050716,1212, 22.7613,-157.9928, 4717,    124,    124.8,  21.8900,  35.2152,2,-999.0000,5,    204.5,1, 21.8654,   -999.0,9,  -999.00,9,  -999.00,9,  -999.00,9,  -999.0,-999.000
     318M171_1,  PRS2,     2,  2,      8,     29,2,20050716,1212, 22.7613,-157.9928, 4717,    125,    124.8,  21.8981,  35.2163,2,-999.0000,5,    204.6,1, 21.8734,   -999.0,9,  -999.00,9,  -999.00,9,  -999.00,9,  -999.0,-999.000
     318M171_1,  PRS2,     2,  2,      5,     38,2,20050716,1212, 22.7613,-157.9928, 4717,    125,    124.8,  21.8782,  35.2153,2,-999.0000,5,    204.7,1, 21.8536,   -999.0,9,  -999.00,9,  -999.00,9,  -999.00,9,  -999.0,-999.000
     318M171_1,  PRS2,     2,  2,      4,     36,2,20050716,1212, 22.7613,-157.9928, 4717,    125,    124.8,  21.8568,  35.2100,2,-999.0000,5,    204.4,1, 21.8322,   -999.0,9,  -999.00,9,  -999.00,9,  -999.00,9,  -999.0,-999.000
     318M171_1,  PRS2,     2,  2,      2,      7,2,20050716,1212, 22.7613,-157.9928, 4717,    150,    149.3,  20.8272,  35.1454,2,  35.1390,2,    197.6,1, 20.7987,   -999.0,9,  -999.00,9,  -999.00,9,  -999.00,9,  -999.0,-999.000
     318M171_1,  PRS2,     2,  2,      1,     11,2,20050716,1212, 22.7613,-157.9928, 4717,    200,    200.1,  18.4354,  34.8593,2,  34.8381,3,    193.2,1, 18.4005,   -999.0,9,  -999.00,9,  -999.00,9,  -999.00,9,  -999.0,-999.000
     318M171_1,  PRS2,     2,  3,      2,      7,2,20050716,1335, 22.7498,-158.0000, 4724,   1241,   1240.8,   3.4090,  34.5343,2,-999.0000,9,     54.0,1,  3.3184,   -999.0,9,  -999.00,9,  -999.00,9,  -999.00,9,  -999.0,-999.000
     318M171_1,  PRS2,     2,  3,      1,     11,2,20050716,1335, 22.7498,-158.0000, 4724,   1241,   1240.9,   3.4133,  34.5339,2,-999.0000,9,     54.0,1,  3.3227,   -999.0,9,  -999.00,9,  -999.00,9,  -999.00,9,  -999.0,-999.000