BOTTLE,20141029CCHSIOCBG
EXPOCODE,SECT_ID,STNNBR,CASTNO,SAMPNO,BTLNBR,BTLNBR_FLAG_W,DATE,TIME,LATITUDE,LONGITUDE,DEPTH,CTDPRS,CTDTMP,CTDSAL,CTDSAL_FLAG_W,SALNTY,SALNTY_FLAG_W,CTDOXY,CTDOXY_FLAG_W,OXYGEN,OXYGEN_FLAG_W,SILCAT,SILCAT_FLAG_W,PHSPHT,PHSPHT_FLAG_W,CFC-11,CFC-11_FLAG_W,CFC-12,CFC-12_FLAG_W,CFC113,CFC113_FLAG_W,TCARBN,TCARBN_FLAG_W,ALKALI,ALKALI_FLAG_W,FLUOR,FLUOR_FLAG_W,DOC,DOC_FLAG_W,TDN,TDN_FLAG_W,NO2+NO3,NO2+NO3_FLAG_W,PAR,PAR_FLAG_W
,,,,,,,,,,,METERS,DBAR,ITS-90,PSS-78,,PSS-78,,UMOL/KG,,UMOL/KG,,UMOL/KG,,UMOL/KG,,PMOL/KG,,PMOL/KG,,PMOL/KG,,UMOL/KG,,UMOL/KG,,MG/M^3,,UMOL/KG,,UMOL/KG,,UMOL/KG,,VOLTS,
09AR20080322,       SR03,      69,          1,         24,         24,2,20080414,       1835,   -44.7202,   146.0512,       3160,    10.6,  13.5423,  35.1049,2,  35.1207,2,   253.53,2,  251.15,2,     1.1,2,    0.40,2,   2.8475,2,   1.6912,2,   0.2660,2,  2076.3,6,  2316.3,2,   1.230,2,    59.5,2,    7.25,2,    3.36,2,      1.050,2
09AR20080322,       SR03,      69,          1,         23,         23,2,20080414,       1835,   -44.7202,   146.0512,       3160,    29.9,  13.6570,  35.1588,2,-999.0000,9,   252.63,2, -999.00,9,  -999.0,9, -999.00,9,-999.0000,9,-999.0000,9,-999.0000,9,  -999.0,9,  -999.0,9,   1.083,2,  -999.0,9, -999.00,9, -999.00,9,      0.363,2
09AR20080322,       SR03,      69,          1,         22,         22,2,20080414,       1835,   -44.7202,   146.0512,       3160,    29.9,  13.6585,  35.1596,2,-999.0000,9,   252.63,2, -999.00,9,  -999.0,9, -999.00,9,-999.0000,9,-999.0000,9,-999.0000,9,  -999.0,9,  -999.0,9,   1.123,2,  -999.0,9, -999.00,9, -999.00,9,      0.350,2
09AR20080322,       SR03,      69,          1,         21,         21,2,20080414,       1835,   -44.7202,   146.0512,       3160,    29.9,  13.6483,  35.1547,2,  35.1549,2,   252.63,2,  251.58,2,     1.3,2,    0.38,2,   2.7740,2,   1.6782,2,   0.2280,2,  2076.6,2,  2318.8,6,   1.093,2,    59.3,2,    7.94,2,    3.32,2,      0.294,2
09AR20080322,       SR03,      69,          1,         20,         20,2,20080414,       1835,   -44.7202,   146.0512,       3160,    59.0,  13.7790,  35.2069,2,  35.2054,2,   249.05,2,  249.58,2,     1.3,2,    0.38,2,   2.7871,2,   1.6720,2,   0.2507,2,  2079.7,2,  2320.3,2,   0.810,2,    58.4,2,    7.77,2,    3.26,2,      0.001,2
09AR20080322,       SR03,      69,          1,         19,         19,2,20080414,       1835,   -44.7202,   146.0512,       3160,    78.7,  13.8985,  35.2600,2,  35.2591,2,   248.89,2,  245.88,2,     1.4,2,    0.38,2,   2.7746,2,   1.6617,2,   0.2510,2,  2082.8,2,  2321.5,2,   0.442,2,    55.8,2,    6.93,2,    3.42,2,      0.001,2
09AR20080322,       SR03,      69,          1,         18,         18,2,20080414,       1835,   -44.7202,   146.0512,       3160,    86.8,  13.8853,  35.2893,2,-999.0000,9,   248.79,2, -999.00,9,  -999.0,9, -999.00,9,-999.0000,9,-999.0000,9,-999.0000,9,  -999.0,9,  -999.0,9,   0.205,2,  -999.0,9, -999.00,9, -999.00,9,      0.001,2
09AR20080322,       SR03,      69,          1,         17,         17,2,20080414,       1835,   -44.7202,   146.0512,       3160,   119.7,  13.3805,  35.2444,2,  35.2450,2,   224.21,2,  229.28,2,     2.4,2,    0.58,2,-999.0000,9,-999.0000,9,-999.0000,9,  2102.3,2,  2317.5,2,   0.084,2,    52.6,2,   10.01,2,    7.28,2,      0.001,2
09AR20080322,       SR03,      69,          1,         16,         16,2,20080414,       1835,   -44.7202,   146.0512,       3160,   199.9,  11.6223,  35.0637,2,  35.0626,2,   238.57,2,  236.67,2,     3.4,2,    0.80,2,   3.0551,2,   1.7563,2,   0.2319,2,  2116.5,2,  2308.4,6,  -0.035,2,    48.2,2,   13.23,2,   10.87,2,      0.001,2
09AR20080322,       SR03,      69,          1,         15,         15,2,20080414,       1835,   -44.7202,   146.0512,       3160,   299.2,  10.4466,  34.8497,2,  34.8501,2,   247.34,2,  245.19,2,     3.7,2,    0.92,2,   3.0891,2,   1.8409,2,   0.2134,2,  2119.3,2,  2298.4,2,  -0.042,2,    47.9,2,   14.99,2,   12.81,2,      0.001,2
09AR20080322,       SR03,      69,          1,         14,         14,2,20080414,       1835,   -44.7202,   146.0512,       3160,   399.3,   9.4148,  34.6695,2,  34.6722,2,   247.05,2,  251.35,2,     4.4,2,    1.04,2,-999.0000,9,-999.0000,9,-999.0000,9,  2122.1,2,  2290.7,2,  -0.045,2,    45.6,2,   16.74,2,   14.62,2,      0.001,2
09AR20080322,       SR03,      69,          1,         13,         13,2,20080414,       1835,   -44.7202,   146.0512,       3160,   499.1,   9.0702,  34.6501,2,  34.6511,2,   241.83,2,  240.43,2,     5.7,2,    1.16,2,   3.2857,6,   1.8683,6,   0.2041,6,  2133.0,2,  2290.3,2,  -0.042,2,    44.7,2,   18.54,2,   16.65,2,      0.001,2
09AR20080322,       SR03,      69,          1,         12,         12,2,20080414,       1835,   -44.7202,   146.0512,       3160,   697.9,   8.1241,  34.5479,2,  34.5486,2,   216.74,2,  216.92,2,    10.3,2,    1.43,2,-999.0000,9,-999.0000,9,-999.0000,9,  2150.3,6,  2289.7,2,  -0.041,2,    40.9,2,   24.19,2,   21.80,2,      0.001,2
09AR20080322,       SR03,      69,          1,         11,         11,2,20080414,       1835,   -44.7202,   146.0512,       3160,   899.3,   6.3723,  34.4240,2,  34.4249,2,   203.13,2,  201.67,2,    20.4,2,    1.80,2,   1.9404,2,   1.0067,2,   0.1047,2,  2203.5,3,  2290.7,6,  -0.041,2,    40.2,2,   29.39,2,   27.29,2,      0.001,2
09AR20080322,       SR03,      69,          1,         10,         10,2,20080414,       1835,   -44.7202,   146.0512,       3160,  1199.5,   4.1085,  34.4033,2,  34.4035,2,   190.01,2,  186.80,2,    46.6,2,    2.17,2,   1.0589,2,   0.5264,2,   0.0560,2,  2218.9,2,  2311.0,2,  -0.037,2,    39.2,2,   32.88,2,   31.87,2,      0.001,2
09AR20080322,       SR03,      69,          1,          9,          9,2,20080414,       1835,   -44.7202,   146.0512,       3160,  1499.8,   3.0741,  34.5281,2,  34.5282,2,   168.16,2,  167.07,2,    74.4,2,    2.37,2,   0.3617,2,   0.1790,2,   0.0174,2,  2255.7,2,  2339.3,2,  -0.031,2,    39.0,2,   35.90,2,   34.40,2,      0.001,2
09AR20080322,       SR03,      69,          1,          8,          8,2,20080414,       1835,   -44.7202,   146.0512,       3160,  1697.6,   2.6601,  34.6028,2,  34.6028,2,   167.54,2,  170.14,2,    80.8,2,    2.35,2,-999.0000,9,-999.0000,9,-999.0000,9,  2262.6,2,  2346.2,2,  -0.029,2,    38.9,2,   34.72,2,   33.59,2,      0.001,2
09AR20080322,       SR03,      69,          1,          7,          7,2,20080414,       1835,   -44.7202,   146.0512,       3160,  1896.6,   2.4216,  34.6589,2,  34.6598,2,   171.33,2,  170.39,2,    85.3,2,    2.28,2,   0.1131,2,   0.0548,2,   0.0078,2,  2261.5,2,  2349.0,2,  -0.027,2,    39.1,2,   33.82,2,   32.74,2,      0.001,2
09AR20080322,       SR03,      69,          1,          6,          6,2,20080414,       1835,   -44.7202,   146.0512,       3160,  2101.2,   2.2783,  34.6996,2,  34.6993,2,   174.03,2,  174.21,2,    88.7,2,    2.25,2,   0.0623,2,   0.0287,2,   0.0002,2,  2262.6,2,  2353.8,6,  -0.026,2,    39.3,2,   33.18,2,   31.89,2,      0.001,2
09AR20080322,       SR03,      69,          1,          5,          5,2,20080414,       1835,   -44.7202,   146.0512,       3160,  2299.9,   2.1352,  34.7185,2,  34.7180,2,   175.81,2,  175.68,2,    95.5,2,    2.27,2,   0.0404,2,   0.0166,2,   0.0071,2,  2268.2,2,  2358.9,2,  -0.026,2,    39.3,2,   32.83,2,   31.58,2,      0.001,2
09AR20080322,       SR03,      69,          1,          4,          4,2,20080414,       1835,   -44.7202,   146.0512,       3160,  2600.3,   1.9842,  34.7302,2,  34.7304,2,   179.43,2,  178.85,2,   100.5,2,    2.25,2,   0.0108,2,   0.0024,2,   0.0070,2,  2270.6,2,  2366.1,2,  -0.026,2,    39.3,2,   33.06,2,   31.28,2,      0.001,2
09AR20080322,       SR03,      69,          1,          3,          3,2,20080414,       1835,   -44.7202,   146.0512,       3160,  2900.0,   1.7905,  34.7345,2,  34.7339,2,   183.90,2,  182.59,2,   106.9,2,    2.27,2,   0.0051,2,   0.0007,2,   0.0113,2,  2272.8,2,  2371.0,2,  -0.029,2,    39.5,2,   32.30,2,   31.19,2,      0.001,2
09AR20080322,       SR03,      69,          1,          2,          2,2,20080414,       1835,   -44.7202,   146.0512,       3160,  3216.8,   1.5250,  34.7318,2,  34.7313,2,   189.12,2,  189.62,2,   113.8,2,    2.26,2,  -0.0044,3,  -0.0045,3,  -0.0011,3,  2275.2,6,  2375.6,2,  -0.028,2,    39.0,2,   33.47,2,   31.72,2,      0.001,2
09AR20080322,       SR03,      69,          1,          1,          1,2,20080414,       1835,   -44.7202,   146.0512,       3160,  3265.0,   1.4648,  34.7306,2,  34.7313,2,   190.01,2,  190.44,2,   115.5,2,    2.25,2,  -0.0045,3,  -0.0042,3,   0.0047,3,  2276.8,2,  2375.8,6,  -0.030,2,    39.3,2,   33.25,2,   32.24,2,      0.001,2
09AR20080322,       SR03,      70,          1,         24,         24,2,20080415,       0033,   -44.3792,   146.1922,       2299,     6.0,  13.5700,  34.9642,2,  34.9644,2,   254.16,2,  255.06,2,     1.2,2,    0.42,2,   2.8377,2,   1.7063,2,   0.2291,2,  2073.6,2,  2310.0,2,   1.104,2,    56.8,2,    8.19,2,    4.01,2,      3.263,2
09AR20080322,       SR03,      70,          1,         23,         23,2,20080415,       0033,   -44.3792,   146.1922,       2299,    49.7,  13.3315,  34.9410,2,-999.0000,9,   255.79,2, -999.00,9,  -999.0,9, -999.00,9,-999.0000,9,-999.0000,9,-999.0000,9,  -999.0,9,  -999.0,9,   1.372,2,  -999.0,9, -999.00,9, -999.00,9,      1.582,2
09AR20080322,       SR03,      70,          1,         22,         22,2,20080415,       0033,   -44.3792,   146.1922,       2299,    49.6,  13.3295,  34.9410,2,-999.0000,9,   255.79,2, -999.00,9,  -999.0,9, -999.00,9,-999.0000,9,-999.0000,9,-999.0000,9,  -999.0,9,  -999.0,9,   1.305,2,  -999.0,9, -999.00,9, -999.00,9,      1.570,2
09AR20080322,       SR03,      70,          1,         21,         21,2,20080415,       0033,   -44.3792,   146.1922,       2299,    49.4,  13.2910,  34.9371,2,  34.9366,2,   255.79,2,  256.35,2,     1.2,2,    0.44,2,   2.8156,2,   1.7164,2,   0.2231,2,  2077.8,2,  2308.3,6,   1.518,2,    54.8,2,    8.30,2,    4.27,2,      1.580,2
09AR20080322,       SR03,      70,          1,         20,         20,2,20080415,       0033,   -44.3792,   146.1922,       2299,    80.5,  13.1961,  34.9534,2,  34.9538,2,   250.58,2,  252.04,2,     1.3,2,    0.48,2,   2.8823,2,   1.7215,2,   0.2419,2,  2077.9,6,  2307.5,2,   0.502,2,    51.0,2,    8.02,2,    4.87,2,      0.638,2
09AR20080322,       SR03,      70,          1,         19,         19,2,20080415,       0033,   -44.3792,   146.1922,       2299,   118.4,  12.3973,  34.9997,2,  35.0004,2,   237.90,2,  237.72,2,     2.1,2,    0.67,2,   2.9522,2,   1.7667,2,   0.2089,2,  2106.6,2,  2306.3,2,   0.056,2,    49.9,2,   11.65,2,    8.66,2,      0.001,2
09AR20080322,       SR03,      70,          1,         18,         18,2,20080415,       0033,   -44.3792,   146.1922,       2299,   149.7,  11.7188,  34.9945,2,  34.9945,2,   236.70,2,  237.42,2,     2.7,2,    0.78,2,   3.0952,2,   1.7985,2,   0.2369,2,  2113.8,2,  2303.2,2,   0.001,2,    49.0,2,   12.94,2,   10.72,2,      0.001,2
09AR20080322,       SR03,      70,          1,         17,         17,2,20080415,       0033,   -44.3792,   146.1922,       2299,   200.2,  10.8643,  34.9082,2,  34.9081,2,   243.27,2,  245.54,2,     3.2,2,    0.86,2,   3.1688,6,   1.8557,6,   0.2329,6,  2112.5,2,  2298.9,2,  -0.033,2,    48.0,2,   14.54,2,   12.28,2,      0.001,2
09AR20080322,       SR03,      70,          1,         16,         16,2,20080415,       0033,   -44.3792,   146.1922,       2299,   300.9,   9.5381,  34.6906,2,  34.6922,2,   250.38,2,  250.83,2,     4.1,2,    1.04,2,   3.3528,2,   1.9425,2,   0.2200,2,  2123.2,2,  2293.5,6,  -0.041,2,    46.0,2,   16.50,2,   15.16,2,      0.001,2
09AR20080322,       SR03,      70,          1,         15,         15,2,20080415,       0033,   -44.3792,   146.1922,       2299,   399.3,   9.3113,  34.6591,2,  34.6592,2,   249.04,2,  249.35,2,     4.6,2,    1.08,2,   3.3909,2,   1.9422,2,   0.2378,2,  2125.0,2,  2289.7,2,  -0.038,2,    44.8,2,   17.39,2,   15.89,2,      0.001,2
09AR20080322,       SR03,      70,          1,         14,         14,2,20080415,       0033,   -44.3792,   146.1922,       2299,   500.6,   8.9799,  34.6253,2,  34.6252,2,   242.06,2,  244.43,2,     5.5,2,    1.18,2,   3.3109,2,   1.9030,2,   0.1902,2,  2129.2,2,  2288.4,2,  -0.047,2,    44.3,2,   19.04,2,   17.28,2,      0.001,2
09AR20080322,       SR03,      70,          1,         13,         13,2,20080415,       0033,   -44.3792,   146.1922,       2299,   600.6,   8.7297,  34.6015,2,  34.6020,2,   238.54,2,  239.24,2,     6.4,2,    1.25,2,   3.2792,2,   1.8284,2,   0.1954,2,  2134.8,2,  2288.1,6,  -0.039,2,    44.1,2,   19.54,2,   18.30,2,      0.001,2
09AR20080322,       SR03,      70,          1,         12,         12,2,20080415,       0033,   -44.3792,   146.1922,       2299,   700.4,   8.3539,  34.5596,2,  34.5598,2,   231.24,2,  229.54,2,     8.4,2,    1.36,2,   2.9857,2,   1.6611,2,   0.1642,2,  2141.4,6,  2286.7,2,  -0.043,2,    42.8,2,   21.77,2,   20.05,2,      0.001,2
09AR20080322,       SR03,      70,          1,         11,         11,2,20080415,       0033,   -44.3792,   146.1922,       2299,   797.9,   7.9533,  34.5258,2,  34.5264,2,   218.22,2,  217.87,2,    10.7,2,    1.49,2,   2.6611,2,   1.4388,2,   0.1518,2,  2149.5,2,  2286.2,2,  -0.043,2,    42.8,2,   23.75,2,   22.17,2,      0.001,2
09AR20080322,       SR03,      70,          1,         10,         10,2,20080415,       0033,   -44.3792,   146.1922,       2299,   899.9,   6.8817,  34.4794,2,  34.4799,2,   202.63,2,  202.03,2,    19.5,2,    1.72,2,   1.7965,2,   0.9667,2,   0.0733,2,  2173.2,2,  2289.9,2,  -0.037,2,    41.2,2,   26.87,2,   25.79,2,      0.001,2
09AR20080322,       SR03,      70,          1,          9,          9,2,20080415,       0033,   -44.3792,   146.1922,       2299,  1000.6,   4.7489,  34.4238,2,  34.4493,4,   186.33,2, -999.00,9,    31.3,2,    1.93,2,   1.3999,2,   0.7257,2,   0.0747,2,  2192.8,2,  2300.0,2,  -0.037,2,    40.8,2,   29.92,2,   29.07,2,      0.001,2
09AR20080322,       SR03,      70,          1,          8,          8,2,20080415,       0033,   -44.3792,   146.1922,       2299,  1099.0,   4.2271,  34.4344,2,  34.4341,2,   182.27,2,  182.54,2,    50.4,2,    2.20,2,   0.8856,2,   0.4428,2,   0.0419,2,  2223.5,2,  2314.0,2,  -0.032,2,    39.7,2,   33.93,2,   32.11,2,      0.001,2
09AR20080322,       SR03,      70,          1,          7,          7,2,20080415,       0033,   -44.3792,   146.1922,       2299,  1299.8,   3.4008,  34.4831,2,  34.4834,2,   171.48,2,  171.65,2,    64.5,2,    2.35,2,   0.5349,2,   0.2656,2,   0.0211,2,  2242.5,2,  2327.2,2,  -0.031,2,    39.7,2,   35.19,2,   33.48,2,      0.001,2
09AR20080322,       SR03,      70,          1,          6,          6,2,20080415,       0033,   -44.3792,   146.1922,       2299,  1498.4,   2.9727,  34.5449,2,  34.5451,2,   165.01,2,  165.25,2,    75.0,2,    2.41,2,   0.2967,2,   0.1514,2,   0.0097,2,  2258.9,2,  2337.4,6,  -0.027,2,    39.0,2,   34.94,2,   33.88,2,      0.001,2
09AR20080322,       SR03,      70,          1,          5,          5,2,20080415,       0033,   -44.3792,   146.1922,       2299,  1695.7,   2.6209,  34.6060,2,  34.6060,2,   167.29,2,  168.15,2,    78.8,2,    2.36,2,   0.2153,2,   0.1066,2,   0.0044,2,  2259.4,2,  2341.3,2,  -0.027,2,    38.5,2,   35.05,2,   33.47,2,      0.001,2
09AR20080322,       SR03,      70,          1,          4,          4,2,20080415,       0033,   -44.3792,   146.1922,       2299,  1900.0,   2.3967,  34.6712,2,  34.6712,2,   170.13,2,  170.00,2,    86.2,2,    2.34,2,   0.0703,2,   0.0343,2,   0.0000,2,  2264.0,2,  2349.7,2,  -0.027,2,    38.5,2,   34.30,2,   32.78,2,      0.001,2
09AR20080322,       SR03,      70,          1,          3,          3,2,20080415,       0033,   -44.3792,   146.1922,       2299,  2097.1,   2.2564,  34.7022,2,  34.7011,2,   175.96,2,  175.30,2,    90.3,2,    2.30,2,   0.0418,2,   0.0168,2,  -0.0037,3,  2266.1,2,  2355.3,2,  -0.027,2,    39.5,2,   33.21,2,   32.09,2,      0.001,2
09AR20080322,       SR03,      70,          1,          2,          2,2,20080415,       0033,   -44.3792,   146.1922,       2299,  2306.5,   2.0822,  34.7241,2,  34.7247,2,   181.45,2,  181.64,2,    96.9,2,    2.29,2,   0.0286,2,   0.0126,2,   0.0046,2,  2262.6,2,  2362.2,6,  -0.025,2,    39.2,2,   33.21,2,   31.61,2,      0.001,2
09AR20080322,       SR03,      70,          1,          1,          1,2,20080415,       0033,   -44.3792,   146.1922,       2299,  2344.3,   2.0343,  34.7268,2,  34.7262,2,   182.42,2, -999.00,9,    98.6,2,    2.30,2,   0.0115,2,   0.0034,2,   0.0029,2,  2268.9,6,  2361.6,2,  -0.028,2,    39.6,2,   32.74,2,   31.75,2,      0.001,2