BOTTLE,20141029CCHSIOCBG
EXPOCODE,SECT_ID,STNNBR,CASTNO,SAMPNO,BTLNBR,BTLNBR_FLAG_W,DATE,TIME,LATITUDE,LONGITUDE,DEPTH,CTDPRS,CTDTMP,CTDSAL,CTDSAL_FLAG_W,SALNTY,SALNTY_FLAG_W,CTDOXY,CTDOXY_FLAG_W,OXYGEN,OXYGEN_FLAG_W,SILCAT,SILCAT_FLAG_W,PHSPHT,PHSPHT_FLAG_W,CFC-11,CFC-11_FLAG_W,CFC-12,CFC-12_FLAG_W,CFC113,CFC113_FLAG_W,TCARBN,TCARBN_FLAG_W,ALKALI,ALKALI_FLAG_W,FLUOR,FLUOR_FLAG_W,DOC,DOC_FLAG_W,TDN,TDN_FLAG_W,NO2+NO3,NO2+NO3_FLAG_W,PAR,PAR_FLAG_W
,,,,,,,,,,,METERS,DBAR,ITS-90,PSS-78,,PSS-78,,UMOL/KG,,UMOL/KG,,UMOL/KG,,UMOL/KG,,PMOL/KG,,PMOL/KG,,PMOL/KG,,UMOL/KG,,UMOL/KG,,MG/M^3,,UMOL/KG,,UMOL/KG,,UMOL/KG,,VOLTS,
09AR20080322,       SR03,      51,          1,         24,         24,2,20080410,       1600,   -50.6798,   143.4198,       3516,     9.0,   9.2477,  34.4057,2,  34.4045,2,   281.51,2,  278.02,2,     2.2,2,    1.02,2,   3.5886,2,   2.0755,3,   0.3050,4,  2103.1,6,  2285.8,2,   0.838,2,  -999.0,9, -999.00,9,   13.74,2,      0.001,2
09AR20080322,       SR03,      51,          1,         23,         23,2,20080410,       1600,   -50.6798,   143.4198,       3516,    28.4,   9.2315,  34.4016,2,-999.0000,9,   281.32,2, -999.00,9,  -999.0,9, -999.00,9,-999.0000,9,-999.0000,9,-999.0000,9,  -999.0,9,  -999.0,9,   0.823,2,  -999.0,9, -999.00,9, -999.00,9,      0.001,2
09AR20080322,       SR03,      51,          1,         22,         22,2,20080410,       1600,   -50.6798,   143.4198,       3516,    28.6,   9.2347,  34.4019,2,-999.0000,9,   281.32,2, -999.00,9,  -999.0,9, -999.00,9,-999.0000,9,-999.0000,9,-999.0000,9,  -999.0,9,  -999.0,9,   0.825,2,  -999.0,9, -999.00,9, -999.00,9,      0.001,2
09AR20080322,       SR03,      51,          1,         21,         21,2,20080410,       1600,   -50.6798,   143.4198,       3516,    28.9,   9.2004,  34.3948,2,  34.3955,2,   281.32,2,  278.59,2,     2.2,2,    1.03,2,   3.6234,2,   2.0767,3,   0.2984,4,  2103.7,2,  2284.2,6,   0.836,2,  -999.0,9, -999.00,9,   14.33,2,      0.001,2
09AR20080322,       SR03,      51,          1,         20,         20,2,20080410,       1600,   -50.6798,   143.4198,       3516,    59.6,   9.2196,  34.3984,2,  34.4025,2,   281.25,2,  278.20,2,     2.1,2,    1.03,2,   3.6207,2,   2.0768,3,   0.2876,4,  2103.5,2,  2284.8,2,   0.804,2,  -999.0,9, -999.00,9,   14.05,2,      0.001,2
09AR20080322,       SR03,      51,          1,         19,         19,2,20080410,       1600,   -50.6798,   143.4198,       3516,    91.3,   9.1515,  34.3867,2,  34.3833,2,   280.38,2,  278.06,2,     2.2,2,    1.04,2,-999.0000,9,-999.0000,9,-999.0000,9,  2104.4,2,  2283.6,2,   0.757,2,  -999.0,9, -999.00,9,   14.32,2,      0.001,2
09AR20080322,       SR03,      51,          1,         18,         18,2,20080410,       1600,   -50.6798,   143.4198,       3516,   117.9,   9.3822,  34.5461,2,  34.5315,2,   263.71,2,  268.47,2,     3.1,2,    1.02,2,-999.0000,9,-999.0000,9,-999.0000,9,  2112.1,2,  2287.4,2,   0.183,2,  -999.0,9, -999.00,9,   13.99,2,      0.001,2
09AR20080322,       SR03,      51,          1,         17,         17,2,20080410,       1600,   -50.6798,   143.4198,       3516,   200.7,   9.3538,  34.6432,2,  34.6390,2,   262.56,2,  263.88,2,     4.2,2,    1.03,2,-999.0000,9,-999.0000,9,-999.0000,9,  2115.1,2,  2289.9,2,  -0.039,2,  -999.0,9, -999.00,9,   14.00,2,      0.001,2
09AR20080322,       SR03,      51,          1,         16,         16,2,20080410,       1600,   -50.6798,   143.4198,       3516,   299.3,   9.2598,  34.6401,2,  34.6399,2,   260.24,2,  262.45,2,     4.4,2,    1.04,2,   3.5375,6,   2.0031,6,   0.2372,4,  2118.6,2,  2290.5,6,  -0.049,2,  -999.0,9, -999.00,9,   14.37,2,      0.001,2
09AR20080322,       SR03,      51,          1,         15,         15,2,20080410,       1600,   -50.6798,   143.4198,       3516,   399.3,   8.9444,  34.6033,2,  34.6030,2,   254.78,2,  254.91,2,     5.1,2,    1.13,2,-999.0000,9,-999.0000,9,-999.0000,9,  2124.2,2,  2288.4,2,  -0.046,2,  -999.0,9, -999.00,9,   15.69,2,      0.001,2
09AR20080322,       SR03,      51,          1,         14,         14,2,20080410,       1600,   -50.6798,   143.4198,       3516,   501.3,   8.7151,  34.5862,2,  34.5867,2,   251.83,2,  251.91,2,     5.5,2,    1.21,2,   3.5341,2,   1.9807,3,   0.1855,4,  2128.8,2,  2290.1,2,  -0.044,2,  -999.0,9, -999.00,9,   16.52,2,      0.001,2
09AR20080322,       SR03,      51,          1,         13,         13,2,20080410,       1600,   -50.6798,   143.4198,       3516,   700.1,   7.4397,  34.4678,2,  34.4691,2,   218.91,2,  216.53,2,    12.2,2,    1.58,2,-999.0000,9,-999.0000,9,-999.0000,9,  2157.0,2,  2285.1,2,  -0.042,2,  -999.0,9, -999.00,9,   22.39,2,      0.001,2
09AR20080322,       SR03,      51,          1,         12,         12,2,20080410,       1600,   -50.6798,   143.4198,       3516,   899.5,   5.5290,  34.3800,2,  34.3802,2,   203.09,2,  203.23,2,    24.9,2,    1.95,2,-999.0000,9,-999.0000,9,-999.0000,9,  2184.1,6,  2291.8,2,  -0.037,2,  -999.0,9, -999.00,9,   27.39,2,      0.001,2
09AR20080322,       SR03,      51,          1,         11,         11,2,20080410,       1600,   -50.6798,   143.4198,       3516,  1100.8,   3.8744,  34.3331,2,  34.3335,2,   204.09,2,  205.63,2,    37.5,2,    2.18,2,   1.9305,2,   0.9706,3,   0.1102,4,  2207.0,2,  2299.4,6,  -0.037,2,  -999.0,9, -999.00,9,   30.83,2,      0.001,2
09AR20080322,       SR03,      51,          1,         10,         10,2,20080410,       1600,   -50.6798,   143.4198,       3516,  1299.7,   3.3083,  34.4000,2,  34.3996,2,   188.23,2,  189.92,2,    51.3,2,    2.31,2,-999.0000,9,-999.0000,9,-999.0000,9,  2227.9,2,  2312.3,2,  -0.033,2,  -999.0,9, -999.00,9,   33.39,2,      0.001,2
09AR20080322,       SR03,      51,          1,          9,          9,2,20080410,       1600,   -50.6798,   143.4198,       3516,  1500.4,   2.8939,  34.5109,2,  34.5099,2,   173.30,2,  173.12,2,    67.2,2,    2.39,2,   0.5512,2,   0.2669,3,   0.0000,4,  2249.6,2,  2329.9,2,  -0.027,2,  -999.0,9, -999.00,9,   34.10,2,      0.001,2
09AR20080322,       SR03,      51,          1,          8,          8,2,20080410,       1600,   -50.6798,   143.4198,       3516,  1699.7,   2.6324,  34.5871,2,  34.5865,2,   173.38,2,  173.67,2,    71.3,2,    2.34,2,-999.0000,9,-999.0000,9,-999.0000,9,  2250.7,2,  2333.2,2,  -0.026,2,  -999.0,9, -999.00,9,   33.53,2,      0.001,2
09AR20080322,       SR03,      51,          1,          7,          7,2,20080410,       1600,   -50.6798,   143.4198,       3516,  1999.3,   2.4298,  34.6821,2,  34.6822,2,   178.96,2,  179.22,2,    76.9,2,    2.26,2,-999.0000,9,-999.0000,9,-999.0000,9,  2254.3,2,  2339.6,2,  -0.028,2,  -999.0,9, -999.00,9,   31.92,2,      0.001,2
09AR20080322,       SR03,      51,          1,          6,          6,2,20080410,       1600,   -50.6798,   143.4198,       3516,  2301.7,   2.2219,  34.7333,2,  34.7333,2,   188.26,2,  188.32,2,    81.6,2,    2.17,2,   0.1125,2,   0.0502,3,   0.0000,4,  2249.5,2,  2345.1,6,  -0.028,2,  -999.0,9, -999.00,9,   30.57,2,      0.001,2
09AR20080322,       SR03,      51,          1,          5,          5,2,20080410,       1600,   -50.6798,   143.4198,       3516,  2600.8,   2.0194,  34.7475,2,  34.7473,2,   194.55,2,  194.45,2,    86.5,2,    2.15,2,   0.0983,2,   0.0428,3,   0.0000,4,  2248.0,2,  2346.7,2,  -0.029,2,  -999.0,9, -999.00,9,   30.03,2,      0.001,2
09AR20080322,       SR03,      51,          1,          4,          4,2,20080410,       1600,   -50.6798,   143.4198,       3516,  2901.9,   1.7182,  34.7460,2,  34.7465,2,   198.48,2,  198.32,2,    95.5,2,    2.18,2,   0.0831,2,   0.0320,3,   0.0000,4,  2252.3,2,  2354.5,2,  -0.030,2,  -999.0,9, -999.00,9,   30.17,2,      0.001,2
09AR20080322,       SR03,      51,          1,          3,          3,2,20080410,       1600,   -50.6798,   143.4198,       3516,  3201.9,   1.4206,  34.7351,2,  34.7345,2,   201.89,2,  201.09,2,   105.3,2,    2.20,2,   0.0651,2,   0.0314,3,   0.0000,4,  2259.5,2,  2358.0,2,  -0.033,2,  -999.0,9, -999.00,9,   30.31,2,      0.001,2
09AR20080322,       SR03,      51,          1,          2,          2,2,20080410,       1600,   -50.6798,   143.4198,       3516,  3504.6,   1.0832,  34.7196,2,  34.7193,2,   203.92,2,  204.34,2,   117.3,2,    2.26,2,   0.0830,2,   0.0353,3,   0.0000,4,  2264.9,6,  2365.6,2,  -0.029,2,  -999.0,9, -999.00,9,   30.85,2,      0.001,2
09AR20080322,       SR03,      51,          1,          1,          1,2,20080410,       1600,   -50.6798,   143.4198,       3516,  3563.4,   1.0810,  34.7193,2,  34.7203,2,   204.39,2,  204.17,2,   116.9,2,    2.26,2,   0.0875,2,   0.0381,3,   0.0000,4,  2267.3,2,  2365.1,6,  -0.032,2,  -999.0,9, -999.00,9,   30.68,2,      0.001,2
09AR20080322,       SR03,      52,          1,         24,         24,2,20080410,       2135,   -50.3988,   143.5303,       3493,    20.1,   9.7923,  34.5059,2,  34.5062,2,  -999.00,5,  274.98,2,     1.9,2,    0.93,2,   3.4923,2,   2.0560,2,   0.2961,4,  2098.7,6,  2289.4,2,   0.711,2,    49.3,2,   16.88,2,   12.54,2,      2.787,2
09AR20080322,       SR03,      52,          1,         23,         23,2,20080410,       2135,   -50.3988,   143.5303,       3493,    48.3,   9.7919,  34.5049,2,-999.0000,9,   275.56,2, -999.00,9,  -999.0,9, -999.00,9,-999.0000,9,-999.0000,9,-999.0000,9,  -999.0,9,  -999.0,9,   0.711,2,  -999.0,9, -999.00,9, -999.00,9,      2.185,2
09AR20080322,       SR03,      52,          1,         22,         22,2,20080410,       2135,   -50.3988,   143.5303,       3493,    48.1,   9.7843,  34.5037,2,-999.0000,9,   275.56,2, -999.00,9,  -999.0,9, -999.00,9,-999.0000,9,-999.0000,9,-999.0000,9,  -999.0,9,  -999.0,9,   0.724,2,  -999.0,9, -999.00,9, -999.00,9,      2.183,2
09AR20080322,       SR03,      52,          1,         21,         21,2,20080410,       2135,   -50.3988,   143.5303,       3493,    48.4,   9.7850,  34.5039,2,  34.5040,2,   275.56,2,  274.71,2,     1.9,2,    0.93,2,   3.5259,2,   2.0340,2,   0.3081,4,  2099.4,2,  2288.6,6,   0.725,2,    49.9,2,   15.93,2,   12.50,2,      2.167,2
09AR20080322,       SR03,      52,          1,         20,         20,2,20080410,       2135,   -50.3988,   143.5303,       3493,    99.8,   9.7827,  34.5029,2,  34.5023,2,   276.08,2,  274.71,2,     1.9,2,    0.93,2,   3.4500,2,   2.0088,2,   0.2987,4,  2101.0,2,  2288.7,2,   0.693,2,    49.4,2,   14.94,2,   12.52,2,      1.229,2
09AR20080322,       SR03,      52,          1,         19,         19,2,20080410,       2135,   -50.3988,   143.5303,       3493,   129.4,   9.7716,  34.5011,2,  34.5007,2,   279.77,2,  274.94,2,     1.9,2,    0.94,2,   3.4986,2,   2.0576,2,   0.2917,4,  2100.0,2,  2289.3,2,   0.671,2,    49.2,2,   14.84,2,   12.38,2,      0.521,2
09AR20080322,       SR03,      52,          1,         18,         18,2,20080410,       2135,   -50.3988,   143.5303,       3493,   168.1,   9.4174,  34.6364,2,  34.6309,2,   262.19,2,  262.97,2,     3.5,2,    1.01,2,   3.4305,2,   1.9644,2,   0.2764,4,  2116.3,2,  2288.9,2,  -0.017,2,    46.7,2,   15.26,2,   13.77,2,      0.002,2
09AR20080322,       SR03,      52,          1,         17,         17,2,20080410,       2135,   -50.3988,   143.5303,       3493,   199.7,   9.0999,  34.5834,2,  34.5842,2,   266.05,2,  266.41,2,     3.6,2,    1.02,2,   3.6730,2,   2.0589,2,   0.3322,4,  2114.8,2,  2289.1,2,  -0.034,2,    46.6,2,   15.60,2,   14.01,2,      0.001,2
09AR20080322,       SR03,      52,          1,         16,         16,2,20080410,       2135,   -50.3988,   143.5303,       3493,   300.0,   9.0105,  34.5793,2,  34.5783,2,   267.90,2,  267.23,2,     3.8,2,    1.03,2,   3.6517,2,   2.0753,2,   0.2870,4,  2114.6,2,  2288.2,6,  -0.042,2,    46.2,2,   15.90,2,   14.10,2,      0.001,2
09AR20080322,       SR03,      52,          1,         15,         15,2,20080410,       2135,   -50.3988,   143.5303,       3493,   398.9,   8.9932,  34.6083,2,  34.6079,2,   259.18,2,  258.00,2,     4.5,2,    1.09,2,   3.6726,2,   2.0353,2,   0.3045,4,  2121.8,2,  2288.3,2,  -0.043,2,    44.6,2,   17.30,2,   15.11,2,      0.001,2
09AR20080322,       SR03,      52,          1,         14,         14,2,20080410,       2135,   -50.3988,   143.5303,       3493,   499.3,   8.8231,  34.5991,2,  34.5991,2,   257.80,2,  255.69,2,     4.9,2,    1.14,2,   3.5695,2,   2.0449,2,   0.2283,4,  2126.9,2,  2289.2,2,  -0.041,2,    43.9,2,   18.28,2,   16.09,2,      0.001,2
09AR20080322,       SR03,      52,          1,         13,         13,2,20080410,       2135,   -50.3988,   143.5303,       3493,   699.5,   7.8648,  34.4981,2,  34.4976,2,   221.64,2,  225.53,2,     9.8,2,    1.46,2,   3.1604,2,   1.6516,2,   0.1395,4,  2148.0,6,  2285.5,2,  -0.043,2,    42.5,2,   24.39,2, -999.00,9,      0.001,2
09AR20080322,       SR03,      52,          1,         12,         12,2,20080410,       2135,   -50.3988,   143.5303,       3493,   899.0,   6.1554,  34.4006,2,  34.4010,2,   203.54,2,  205.20,2,    20.1,2,    1.82,2,   2.2947,2,   1.1658,2,   0.0998,4,  2174.7,2,  2289.2,6,  -0.041,2,    41.3,2,   29.72,2,   27.04,2,      0.001,2
09AR20080322,       SR03,      52,          1,         11,         11,2,20080410,       2135,   -50.3988,   143.5303,       3493,  1099.6,   4.3499,  34.3281,2,  34.3284,2,   209.23,2,  208.99,2,    32.0,2,    2.09,2,   2.1198,2,   1.0789,2,   0.1231,4,  2197.2,2,  2296.1,2,  -0.040,2,    39.2,2,   31.61,2,   30.65,2,      0.001,2
09AR20080322,       SR03,      52,          1,         10,         10,2,20080410,       2135,   -50.3988,   143.5303,       3493,  1299.0,   3.5359,  34.4154,2,  34.4165,2,   186.21,2,  184.65,2,    52.6,2,    2.29,2,   1.0429,2,   0.5022,2,   0.0599,4,  2227.2,2,  2317.0,2,  -0.032,2,    39.5,2,   33.97,2,   33.07,2,      0.001,2
09AR20080322,       SR03,      52,          1,          9,          9,2,20080410,       2135,   -50.3988,   143.5303,       3493,  1499.8,   2.9905,  34.4929,2,  34.4925,2,   172.26,2,  173.16,2,    65.4,2,    2.37,2,   0.6279,2,   0.3978,2,   0.0392,4,  2247.7,2,  2328.1,2,  -0.031,2,    39.4,2,   35.31,2,   34.02,2,      0.001,2
09AR20080322,       SR03,      52,          1,          8,          8,2,20080410,       2135,   -50.3988,   143.5303,       3493,  1798.5,   2.6022,  34.6043,2,  34.6044,2,   171.58,2,  170.97,2,    72.4,2,    2.31,2,   0.3655,2,   0.1808,2,   0.0473,4,  2252.5,3,  -999.0,9,  -0.029,2,    39.9,2,   34.45,2,   33.04,2,      0.001,2
09AR20080322,       SR03,      52,          1,          7,          7,2,20080410,       2135,   -50.3988,   143.5303,       3493,  2101.4,   2.4218,  34.6894,2,  34.6897,2,   178.77,2,  179.91,2,    77.2,2,    2.21,2,   0.2093,2,   0.0930,4,   0.1868,4,  2250.5,2,  2342.1,2,  -0.026,2,    39.7,2,   32.92,2,   31.58,2,      0.001,2
09AR20080322,       SR03,      52,          1,          6,          6,2,20080410,       2135,   -50.3988,   143.5303,       3493,  2398.4,   2.2159,  34.7328,2,  34.7321,2,   186.94,2,  186.50,2,    83.6,2,    2.16,2,   0.1066,2,   0.0544,2,   0.0000,4,  2251.4,2,  2348.1,6,  -0.030,2,    39.1,2,   32.18,2,   30.54,2,      0.001,2
09AR20080322,       SR03,      52,          1,          5,          5,2,20080410,       2135,   -50.3988,   143.5303,       3493,  2697.4,   1.9191,  34.7481,2,  34.7477,2,   194.13,2,  195.01,2,    90.6,2,    2.13,2,   0.0835,2,   0.0415,2,   0.0000,4,  2253.0,2,  2352.2,2,  -0.033,2,    39.2,2,   31.65,2,   29.91,2,      0.001,2
09AR20080322,       SR03,      52,          1,          4,          4,2,20080410,       2135,   -50.3988,   143.5303,       3493,  2999.7,   1.6361,  34.7440,2,  34.7439,2,   200.23,2,  199.31,2,    97.9,2,    2.15,2,   0.1062,6,   0.0522,6,   0.0094,4,  2253.5,2,  2354.0,2,  -0.032,2,    39.7,2,   31.30,2,   29.82,2,      0.001,2
09AR20080322,       SR03,      52,          1,          3,          3,2,20080410,       2135,   -50.3988,   143.5303,       3493,  3299.2,   1.3268,  34.7305,2,  34.7300,2,   201.66,2,  201.17,2,   109.9,2,    2.19,2,   0.0748,2,   0.0397,2,   0.0000,4,  2261.0,2,  2359.2,2,  -0.034,2,    39.8,2,   31.99,2,   30.27,2,      0.001,2
09AR20080322,       SR03,      52,          1,          2,          2,2,20080410,       2135,   -50.3988,   143.5303,       3493,  3489.1,   1.1954,  34.7243,2,  34.7239,2,   202.51,2,  202.48,2,   114.0,2,    2.22,2,   0.0749,2,   0.0392,2,   0.0000,4,  2266.2,2,  2364.9,6,  -0.033,2,    39.0,2,   32.27,2,   30.57,2,      0.001,2
09AR20080322,       SR03,      52,          1,          1,          1,2,20080410,       2135,   -50.3988,   143.5303,       3493,  3539.6,   1.1931,  34.7240,2,  34.7235,2,   202.27,2,  202.79,2,   114.4,2,    2.23,2,   0.0744,2,   0.0350,2,   0.0159,4,  2264.7,6,  2364.3,2,  -0.030,2,    39.8,2,   32.07,2,   30.40,2,      0.001,2