BOTTLE,20141029CCHSIOCBG
EXPOCODE,SECT_ID,STNNBR,CASTNO,SAMPNO,BTLNBR,BTLNBR_FLAG_W,DATE,TIME,LATITUDE,LONGITUDE,DEPTH,CTDPRS,CTDTMP,CTDSAL,CTDSAL_FLAG_W,SALNTY,SALNTY_FLAG_W,CTDOXY,CTDOXY_FLAG_W,OXYGEN,OXYGEN_FLAG_W,SILCAT,SILCAT_FLAG_W,PHSPHT,PHSPHT_FLAG_W,CFC-11,CFC-11_FLAG_W,CFC-12,CFC-12_FLAG_W,CFC113,CFC113_FLAG_W,TCARBN,TCARBN_FLAG_W,ALKALI,ALKALI_FLAG_W,FLUOR,FLUOR_FLAG_W,DOC,DOC_FLAG_W,TDN,TDN_FLAG_W,NO2+NO3,NO2+NO3_FLAG_W,PAR,PAR_FLAG_W
,,,,,,,,,,,METERS,DBAR,ITS-90,PSS-78,,PSS-78,,UMOL/KG,,UMOL/KG,,UMOL/KG,,UMOL/KG,,PMOL/KG,,PMOL/KG,,PMOL/KG,,UMOL/KG,,UMOL/KG,,MG/M^3,,UMOL/KG,,UMOL/KG,,UMOL/KG,,VOLTS,
09AR20080322,       SR03,      57,          1,         24,         24,2,20080412,       0008,   -49.2697,   144.0993,       4216,    10.7,   9.6073,  34.4703,2,  34.4697,2,   275.56,2,  275.98,2,     2.2,2,    0.98,2,   3.5381,2,   2.0444,2,   0.3218,3,  2103.6,6,  2286.2,2,   0.483,2,  -999.0,9, -999.00,9,   12.73,2,      3.130,2
09AR20080322,       SR03,      57,          1,         23,         23,2,20080412,       0008,   -49.2697,   144.0993,       4216,    24.4,   9.6048,  34.4701,2,-999.0000,9,   275.37,2, -999.00,9,  -999.0,9, -999.00,9,-999.0000,9,-999.0000,9,-999.0000,9,  -999.0,9,  -999.0,9,   0.609,2,  -999.0,9, -999.00,9, -999.00,9,      2.817,2
09AR20080322,       SR03,      57,          1,         22,         22,2,20080412,       0008,   -49.2697,   144.0993,       4216,    24.3,   9.6053,  34.4701,2,-999.0000,9,   275.37,2, -999.00,9,  -999.0,9, -999.00,9,-999.0000,9,-999.0000,9,-999.0000,9,  -999.0,9,  -999.0,9,   0.596,2,  -999.0,9, -999.00,9, -999.00,9,      2.804,2
09AR20080322,       SR03,      57,          1,         21,         21,2,20080412,       0008,   -49.2697,   144.0993,       4216,    24.1,   9.6046,  34.4701,2,  34.4697,2,   275.37,2,  275.80,2,     2.2,2,    0.96,2,-999.0000,9,-999.0000,9,-999.0000,9,  -999.0,9,  -999.0,9,   0.578,2,  -999.0,9, -999.00,9,   12.49,2,      2.826,2
09AR20080322,       SR03,      57,          1,         20,         20,2,20080412,       0008,   -49.2697,   144.0993,       4216,    48.9,   9.5880,  34.4696,2,  34.4693,2,   275.46,2,  275.24,2,     2.2,2,    0.99,2,   3.5310,2,   2.0467,2,   0.2708,3,  2104.0,2,  2285.9,6,   0.646,2,  -999.0,9, -999.00,9,   12.46,2,      2.372,2
09AR20080322,       SR03,      57,          1,         19,         19,2,20080412,       0008,   -49.2697,   144.0993,       4216,    75.5,   9.5995,  34.4724,2,  34.4718,2,   275.47,2,  275.94,2,     2.2,2,    0.98,2,-999.0000,9,-999.0000,9,-999.0000,9,  -999.0,9,  -999.0,9,   0.637,2,  -999.0,9, -999.00,9,   12.49,2,      1.905,2
09AR20080322,       SR03,      57,          1,         18,         18,2,20080412,       0008,   -49.2697,   144.0993,       4216,   100.6,   9.6096,  34.4739,2,  34.4746,2,   275.34,2,  275.32,2,     2.2,2,    0.97,2,   3.5372,2,   2.0365,2,   0.2813,3,  2105.3,2,  2287.2,2,   0.589,2,  -999.0,9, -999.00,9,   12.25,2,      1.485,2
09AR20080322,       SR03,      57,          1,         17,         17,2,20080412,       0008,   -49.2697,   144.0993,       4216,   149.0,   9.5863,  34.4838,2,  34.4822,2,   273.51,2,  272.45,2,     2.3,2,    0.98,2,-999.0000,9,-999.0000,9,-999.0000,9,  -999.0,9,  -999.0,9,   0.254,2,  -999.0,9, -999.00,9,   12.34,2,      0.622,2
09AR20080322,       SR03,      57,          1,         16,         16,2,20080412,       0008,   -49.2697,   144.0993,       4216,   200.0,   9.2626,  34.5951,2,  34.5956,2,   264.40,2,  265.37,2,     3.5,2,    1.01,2,   3.5607,2,   2.0266,2,   0.3090,3,  2116.4,2,  2289.5,2,  -0.014,2,  -999.0,9, -999.00,9,   13.29,2,      0.001,2
09AR20080322,       SR03,      57,          1,         15,         15,2,20080412,       0008,   -49.2697,   144.0993,       4216,   249.4,   9.0603,  34.5811,2,  34.5812,2,   265.67,2,  267.27,2,     3.9,2,    1.02,2,-999.0000,9,-999.0000,9,-999.0000,9,  -999.0,9,  -999.0,9,  -0.040,2,  -999.0,9, -999.00,9,   13.82,2,      0.001,2
09AR20080322,       SR03,      57,          1,         14,         14,2,20080412,       0008,   -49.2697,   144.0993,       4216,   301.3,   9.1285,  34.6051,2,  34.6044,2,   264.46,2,  264.57,2,     4.2,2,    1.03,2,   3.5541,2,   2.0225,2,   0.2807,3,  2118.8,2,  2289.9,2,  -0.043,2,  -999.0,9, -999.00,9,   14.09,2,      0.001,2
09AR20080322,       SR03,      57,          1,         13,         13,2,20080412,       0008,   -49.2697,   144.0993,       4216,   451.9,   8.9192,  34.6001,2,-999.0000,9,   255.64,2, -999.00,9,  -999.0,9, -999.00,9,-999.0000,9,-999.0000,9,-999.0000,9,  -999.0,9,  -999.0,9,  -0.044,2,  -999.0,9, -999.00,9, -999.00,9,      0.001,2
09AR20080322,       SR03,      57,          1,         12,         12,2,20080412,       0008,   -49.2697,   144.0993,       4216,   451.5,   8.9188,  34.6001,2,  34.6003,2,   255.64,2,  256.39,2,     5.1,2,    1.12,2,   3.6244,2,   2.0256,2,   0.0000,3,  2125.9,2,  2289.0,2,  -0.045,2,  -999.0,9, -999.00,9,   15.84,2,      0.001,2
09AR20080322,       SR03,      57,          1,         11,         11,2,20080412,       0008,   -49.2697,   144.0993,       4216,   525.6,   8.8126,  34.5939,2,  34.5946,2,   251.20,2,  251.73,2,     5.5,2,    1.15,2,-999.0000,9,-999.0000,9,-999.0000,9,  -999.0,9,  -999.0,9,  -0.046,2,  -999.0,9, -999.00,9,   16.51,2,      0.001,2
09AR20080322,       SR03,      57,          1,         10,         10,2,20080412,       0008,   -49.2697,   144.0993,       4216,   598.6,   8.5377,  34.5614,2,  34.5622,2,   246.33,2,  246.16,2,     6.3,2,    1.23,2,-999.0000,9,-999.0000,9,-999.0000,9,  -999.0,9,  -999.0,9,  -0.045,2,  -999.0,9, -999.00,9,   17.74,2,      0.001,2
09AR20080322,       SR03,      57,          1,          9,          9,2,20080412,       0008,   -49.2697,   144.0993,       4216,   699.2,   7.8584,  34.4953,2,  34.4964,2,   225.80,2,  225.97,2,     9.9,2,    1.44,2,   3.1016,2,   1.6607,2,   0.1588,3,  2149.9,2,  2285.8,2,  -0.042,2,  -999.0,9, -999.00,9,   21.08,2,      0.001,2
09AR20080322,       SR03,      57,          1,          8,          8,2,20080412,       0008,   -49.2697,   144.0993,       4216,   799.3,   6.9555,  34.4343,2,  34.4355,2,   213.06,2,  212.60,2,    14.8,2,    1.66,2,-999.0000,9,-999.0000,9,-999.0000,9,  -999.0,9,  -999.0,9,  -0.041,2,  -999.0,9, -999.00,9,   24.38,2,      0.001,2
09AR20080322,       SR03,      57,          1,          7,          7,2,20080412,       0008,   -49.2697,   144.0993,       4216,   900.5,   6.1300,  34.3921,2,  34.3923,2,   207.51,2,  207.19,2,    19.7,2,    1.81,2,-999.0000,9,-999.0000,9,-999.0000,9,  -999.0,9,  -999.0,9,  -0.041,2,  -999.0,9, -999.00,9,   26.67,2,      0.001,2
09AR20080322,       SR03,      57,          1,          6,          6,2,20080412,       0008,   -49.2697,   144.0993,       4216,   998.7,   5.3742,  34.3678,2,  34.3684,2,   204.46,2,  204.96,2,    26.0,2,    1.93,2,-999.0000,9,-999.0000,9,-999.0000,9,  -999.0,9,  -999.0,9,  -0.036,2,  -999.0,9, -999.00,9,   28.40,2,      0.001,2
09AR20080322,       SR03,      57,          1,          5,          5,2,20080412,       0008,   -49.2697,   144.0993,       4216,  1098.5,   4.5882,  34.3414,2,  34.3421,2,   205.96,2,  205.91,2,    31.8,2,    2.05,2,-999.0000,9,-999.0000,9,-999.0000,9,  -999.0,9,  -999.0,9,  -0.037,2,  -999.0,9, -999.00,9,   29.88,2,      0.001,2
09AR20080322,       SR03,      57,          1,          4,          4,2,20080412,       0008,   -49.2697,   144.0993,       4216,  1299.5,   3.5182,  34.3693,2,  34.3708,2,   195.03,2,  195.27,2,    46.8,2,    2.24,2,   1.4956,2,   0.7390,2,   0.0878,3,  2221.2,3,  2308.4,6,  -0.034,2,  -999.0,9, -999.00,9,   32.47,2,      0.001,2
09AR20080322,       SR03,      57,          1,          3,          3,2,20080412,       0008,   -49.2697,   144.0993,       4216,  1497.8,   3.0442,  34.4579,2,  34.4565,2,   179.76,2,  179.42,2,    60.8,2,    2.32,2,-999.0000,9,-999.0000,9,-999.0000,9,  -999.0,9,  -999.0,9,  -0.029,2,  -999.0,9, -999.00,9,   33.60,2,      0.001,2
09AR20080322,       SR03,      57,          1,          2,          2,2,20080412,       0008,   -49.2697,   144.0993,       4216,  1697.3,   2.7112,  34.5366,2,  34.5366,2,   174.69,2,  174.72,2,    69.1,2,    2.31,2,   0.5938,2,   0.2925,2,   0.0425,3,  2251.1,6,  2328.6,6,  -0.029,2,  -999.0,9, -999.00,9,   33.54,2,      0.001,2
09AR20080322,       SR03,      57,          1,          1,          1,2,20080412,       0008,   -49.2697,   144.0993,       4216,  1897.8,   2.5667,  34.6235,2,  34.6238,2,   175.17,2,  175.27,2,    74.5,2,    2.26,2,-999.0000,9,-999.0000,9,-999.0000,9,  -999.0,9,  -999.0,9,  -0.028,2,  -999.0,9, -999.00,9,   32.43,2,      0.001,2
09AR20080322,       SR03,      58,          1,         24,         24,2,20080412,       0531,   -48.7783,   144.3177,       4078,     9.3,   9.5655,  34.4329,2,  34.4322,2,   279.23,2,  278.98,2,     2.1,2,    0.99,2,   3.5396,2,   2.0657,2,   0.3017,3,  2099.3,6,  2285.6,2,   0.975,2,    50.6,2,   17.75,2,   12.75,2,      0.001,2
09AR20080322,       SR03,      58,          1,         23,         23,2,20080412,       0531,   -48.7783,   144.3177,       4078,    49.8,   9.3925,  34.4268,2,-999.0000,9,   278.29,2, -999.00,9,  -999.0,9, -999.00,9,-999.0000,9,-999.0000,9,-999.0000,9,  -999.0,9,  -999.0,9,   1.214,2,  -999.0,9, -999.00,9, -999.00,9,      0.001,2
09AR20080322,       SR03,      58,          1,         22,         22,2,20080412,       0531,   -48.7783,   144.3177,       4078,    50.0,   9.3922,  34.4266,2,-999.0000,9,   278.29,2, -999.00,9,  -999.0,9, -999.00,9,-999.0000,9,-999.0000,9,-999.0000,9,  -999.0,9,  -999.0,9,   1.140,2,  -999.0,9, -999.00,9, -999.00,9,      0.001,2
09AR20080322,       SR03,      58,          1,         21,         21,2,20080412,       0531,   -48.7783,   144.3177,       4078,    49.8,   9.3976,  34.4274,2,  34.4271,2,   278.29,2,  279.59,2,     2.1,2,    1.00,2,   3.5826,2,   2.0736,2,   0.3207,3,  2101.3,2,  2286.6,6,   1.151,2,    49.8,2,   16.86,2,   12.89,2,      0.001,2
09AR20080322,       SR03,      58,          1,         20,         20,2,20080412,       0531,   -48.7783,   144.3177,       4078,   101.1,   9.4103,  34.4385,2,  34.4392,2,   277.14,2,  276.54,2,     2.2,2,    1.01,2,   3.5876,2,   2.0465,2,   0.3470,3,  2105.8,2,  2285.7,2,   0.680,2,    49.3,2,   16.87,2,   13.25,2,      0.001,2
09AR20080322,       SR03,      58,          1,         19,         19,2,20080412,       0531,   -48.7783,   144.3177,       4078,   150.3,   9.3803,  34.4722,2,  34.4711,2,   263.26,2,  272.18,2,     2.7,2,    1.03,2,   3.5567,2,   2.0607,2,   0.2980,3,  2105.0,2,  2285.6,2,   0.289,2,    48.7,2,   15.97,2,   13.86,2,      0.001,2
09AR20080322,       SR03,      58,          1,         18,         18,2,20080412,       0531,   -48.7783,   144.3177,       4078,   199.2,   9.4652,  34.6521,2,  34.6525,2,   264.19,2,  261.63,2,     3.6,2,    1.01,2,   3.5104,6,   2.0113,6,   0.2929,3,  2115.7,2,  2291.6,2,  -0.034,2,    47.2,2,   15.55,2,   13.84,2,      0.001,2
09AR20080322,       SR03,      58,          1,         17,         17,2,20080412,       0531,   -48.7783,   144.3177,       4078,   299.6,   9.0741,  34.5970,2,  34.5975,2,   264.33,2,  264.62,2,     4.1,2,    1.04,2,   3.5876,2,   2.0337,2,   0.2847,3,  2116.1,2,  2288.6,2,  -0.044,2,    45.6,2,   16.20,2,   14.51,2,      0.001,2
09AR20080322,       SR03,      58,          1,         16,         16,2,20080412,       0531,   -48.7783,   144.3177,       4078,   401.3,   9.0684,  34.6248,2,  34.6229,2,   253.20,2,  254.00,2,     4.8,2,    1.12,2,   3.5148,2,   2.0027,2,   0.2315,3,  2125.2,2,  2289.2,2,  -0.045,2,    44.0,2,   17.96,2,   15.72,2,      0.001,2
09AR20080322,       SR03,      58,          1,         15,         15,2,20080412,       0531,   -48.7783,   144.3177,       4078,   600.8,   8.4709,  34.5619,2,  34.5633,2,   239.98,2,  241.25,2,     6.8,2,    1.30,2,   3.3718,2,   1.8595,2,   0.2276,3,  2133.3,2,  2287.8,2,  -0.048,2,    42.7,2,   20.71,2,   18.61,2,      0.001,2
09AR20080322,       SR03,      58,          1,         14,         14,2,20080412,       0531,   -48.7783,   144.3177,       4078,   802.4,   6.3815,  34.4041,2,  34.4047,2,   209.84,2,  208.07,2,    18.3,2,    1.79,2,   2.5192,2,   1.3089,2,   0.1346,3,  2170.0,2,  2289.3,2,  -0.040,2,    40.8,2,   28.62,2,   26.38,2,      0.001,2
09AR20080322,       SR03,      58,          1,         13,         13,2,20080412,       0531,   -48.7783,   144.3177,       4078,   999.4,   4.7032,  34.3340,2,  34.3352,2,   209.67,2,  209.21,2,    29.5,2,    2.04,2,   2.2118,2,   1.1143,2,   0.1381,3,  2189.3,2,  2294.1,6,  -0.039,2,    40.6,2,   31.14,2,   29.88,2,      0.001,2
09AR20080322,       SR03,      58,          1,         12,         12,2,20080412,       0531,   -48.7783,   144.3177,       4078,  1250.0,   3.7005,  34.3985,2,  34.3974,2,   186.04,2,  188.66,2,    49.9,2,    2.26,2,   1.1954,2,   0.5943,2,   0.0723,3,  2225.0,2,  2310.8,2,  -0.037,2,    40.2,2,   33.88,2,   32.84,2,      0.001,2
09AR20080322,       SR03,      58,          1,         11,         11,2,20080412,       0531,   -48.7783,   144.3177,       4078,  1500.7,   2.9951,  34.4921,2,  34.4921,2,   174.19,2,  174.78,2,    66.9,2,    2.36,2,   0.6043,2,   0.2974,2,   0.0000,3,  2242.8,2,  2327.8,2,  -0.027,2,    40.1,2,   34.94,2,   34.04,2,      0.001,2
09AR20080322,       SR03,      58,          1,         10,         10,2,20080412,       0531,   -48.7783,   144.3177,       4078,  1697.4,   2.6688,  34.5565,2,  34.5570,2,   174.36,2,  174.02,2,    71.3,2,    2.34,2,   0.5133,2,   0.2583,2,   0.0382,3,  2247.9,2,  2330.2,2,  -0.026,2,    39.8,2,   34.34,2,   33.68,2,      0.001,2
09AR20080322,       SR03,      58,          1,          9,          9,2,20080412,       0531,   -48.7783,   144.3177,       4078,  1900.3,   2.5121,  34.6318,2,  34.6321,2,   175.63,2,  175.70,2,    75.9,2,    2.28,2,   0.3321,2,   0.1654,2,   0.0000,3,  2250.4,2,  2336.8,2,  -0.027,2,    39.6,2,   34.06,2,   32.69,2,      0.001,2
09AR20080322,       SR03,      58,          1,          8,          8,2,20080412,       0531,   -48.7783,   144.3177,       4078,  2200.1,   2.3523,  34.7102,2,  34.7111,2,   181.12,2,  182.21,2,    80.9,2,    2.19,2,   0.1456,2,   0.0735,2,   0.0127,3,  2248.5,2,  2344.5,2,  -0.029,2,    39.5,2,   32.86,2,   31.08,2,      0.001,2
09AR20080322,       SR03,      58,          1,          7,          7,2,20080412,       0531,   -48.7783,   144.3177,       4078,  2501.3,   2.1197,  34.7380,2,  34.7382,2,   183.90,2,  184.93,2,    91.8,2,    2.19,2,   0.0601,2,   0.0305,2,   0.0000,3,  2257.0,2,  2355.5,2,  -0.022,2,    39.0,2,   31.82,2,   30.75,2,      0.001,2
09AR20080322,       SR03,      58,          1,          6,          6,2,20080412,       0531,   -48.7783,   144.3177,       4078,  2801.9,   1.9112,  34.7474,2,  34.7482,2,   191.86,2,  193.44,2,    92.9,2,    2.13,2,   0.0762,2,   0.0362,2,   0.0000,3,  2253.4,2,  2353.7,6,  -0.029,2,    38.8,2,   31.85,2,   30.18,2,      0.001,2
09AR20080322,       SR03,      58,          1,          5,          5,2,20080412,       0531,   -48.7783,   144.3177,       4078,  3002.7,   1.7164,  34.7437,2,  34.7435,2,   194.03,2,  194.92,2,    99.4,2,    2.17,2,   0.0572,2,   0.0277,2,   0.0000,3,  2255.6,2,  2358.4,2,  -0.031,2,    38.8,2,   31.84,2,   30.31,2,      0.001,2
09AR20080322,       SR03,      58,          1,          4,          4,2,20080412,       0531,   -48.7783,   144.3177,       4078,  3400.2,   1.3793,  34.7307,2,  34.7301,2,   196.99,2,  196.44,2,   111.7,2,    2.23,2,   0.0094,2,   0.0052,2,   0.0000,3,  2267.1,2,  2369.6,2,  -0.035,2,    39.1,2,   32.59,2,   30.76,2,      0.001,2
09AR20080322,       SR03,      58,          1,          3,          3,2,20080412,       0531,   -48.7783,   144.3177,       4078,  3750.7,   1.1859,  34.7230,2,  34.7225,2,   203.28,2,  203.35,2,   114.0,2,    2.21,2,   0.1065,2,   0.0534,2,   0.0000,3,  2260.4,2,  2362.2,2,  -0.038,2,    39.3,2,   31.55,2,   30.43,2,      0.001,2
09AR20080322,       SR03,      58,          1,          2,          2,2,20080412,       0531,   -48.7783,   144.3177,       4078,  3999.8,   1.1632,  34.7208,2,  34.7205,2,   203.57,2,  203.39,2,   116.8,2,    2.23,2,   0.0962,2,   0.0488,2,   0.0000,3,  2263.6,2,  2365.4,6,  -0.036,2,    39.0,2,   32.64,2,   31.11,2,      0.001,2
09AR20080322,       SR03,      58,          1,          1,          1,2,20080412,       0531,   -48.7783,   144.3177,       4078,  4231.6,   1.1553,  34.7192,2,  34.7192,2,   202.64,2,  202.30,2,   121.4,2,    2.25,2,   0.0682,2,   0.0317,2,   0.0000,3,  2266.0,6,  2369.0,2,  -0.033,2,    39.2,2,   33.07,2, -999.00,9,      0.001,2