BOTTLE,20141029CCHSIOCBG
EXPOCODE,SECT_ID,STNNBR,CASTNO,SAMPNO,BTLNBR,BTLNBR_FLAG_W,DATE,TIME,LATITUDE,LONGITUDE,DEPTH,CTDPRS,CTDTMP,CTDSAL,CTDSAL_FLAG_W,SALNTY,SALNTY_FLAG_W,CTDOXY,CTDOXY_FLAG_W,OXYGEN,OXYGEN_FLAG_W,SILCAT,SILCAT_FLAG_W,PHSPHT,PHSPHT_FLAG_W,CFC-11,CFC-11_FLAG_W,CFC-12,CFC-12_FLAG_W,CFC113,CFC113_FLAG_W,TCARBN,TCARBN_FLAG_W,ALKALI,ALKALI_FLAG_W,FLUOR,FLUOR_FLAG_W,DOC,DOC_FLAG_W,TDN,TDN_FLAG_W,NO2+NO3,NO2+NO3_FLAG_W,PAR,PAR_FLAG_W
,,,,,,,,,,,METERS,DBAR,ITS-90,PSS-78,,PSS-78,,UMOL/KG,,UMOL/KG,,UMOL/KG,,UMOL/KG,,PMOL/KG,,PMOL/KG,,PMOL/KG,,UMOL/KG,,UMOL/KG,,MG/M^3,,UMOL/KG,,UMOL/KG,,UMOL/KG,,VOLTS,
09AR20080322,       SR03,      73,          1,         24,         24,2,20080415,       0931,   -43.9987,   146.3218,        220,     6.5,  13.8608,  34.9939,2,  34.9931,2,   252.55,2,  252.63,2,     1.0,2,    0.41,2,   2.7980,2,   1.6815,2,   0.2430,2,  2077.5,6,  2312.1,2,   1.255,2,  -999.0,9, -999.00,9,    3.57,2,      0.001,2
09AR20080322,       SR03,      73,          1,         23,         23,2,20080415,       0931,   -43.9987,   146.3218,        220,     6.4,  13.8612,  34.9939,2,-999.0000,9,   252.55,2, -999.00,9,  -999.0,9, -999.00,9,-999.0000,9,-999.0000,9,-999.0000,9,  -999.0,9,  -999.0,9,   1.058,2,  -999.0,9, -999.00,9, -999.00,9,      0.002,2
09AR20080322,       SR03,      73,          1,         22,         22,2,20080415,       0931,   -43.9987,   146.3218,        220,     6.5,  13.8593,  34.9936,2,-999.0000,9,   252.55,2, -999.00,9,  -999.0,9, -999.00,9,-999.0000,9,-999.0000,9,-999.0000,9,  -999.0,9,  -999.0,9,   1.127,2,  -999.0,9, -999.00,9, -999.00,9,      0.002,2
09AR20080322,       SR03,      73,          1,         21,         21,2,20080415,       0931,   -43.9987,   146.3218,        220,     6.4,  13.8627,  34.9942,2,-999.0000,9,   252.55,2, -999.00,9,  -999.0,9, -999.00,9,-999.0000,9,-999.0000,9,-999.0000,9,  -999.0,9,  -999.0,9,   1.205,2,  -999.0,9, -999.00,9, -999.00,9,      0.001,2
09AR20080322,       SR03,      73,          1,         20,         20,2,20080415,       0931,   -43.9987,   146.3218,        220,    14.4,  13.8668,  34.9947,2,-999.0000,9,   252.66,2, -999.00,9,  -999.0,9, -999.00,9,-999.0000,9,-999.0000,9,-999.0000,9,  -999.0,9,  -999.0,9,   1.230,2,  -999.0,9, -999.00,9, -999.00,9,      0.001,2
09AR20080322,       SR03,      73,          1,         19,         19,2,20080415,       0931,   -43.9987,   146.3218,        220,    14.4,  13.8615,  34.9936,2,-999.0000,9,   252.66,2, -999.00,9,  -999.0,9, -999.00,9,-999.0000,9,-999.0000,9,-999.0000,9,  -999.0,9,  -999.0,9,   1.153,2,  -999.0,9, -999.00,9, -999.00,9,      0.001,2
09AR20080322,       SR03,      73,          1,         18,         18,2,20080415,       0931,   -43.9987,   146.3218,        220,    29.6,  13.8615,  34.9931,2,  34.9933,2,   252.78,2,  252.15,2,     1.0,2,    0.42,2,   2.8084,2,   1.6802,2,   0.2509,2,  2078.5,2,  2313.6,6,   1.249,2,  -999.0,9, -999.00,9,    3.60,2,      0.001,2
09AR20080322,       SR03,      73,          1,         17,         17,2,20080415,       0931,   -43.9987,   146.3218,        220,    29.5,  13.8660,  34.9940,2,-999.0000,9,   252.78,2, -999.00,9,  -999.0,9, -999.00,9,-999.0000,9,-999.0000,9,-999.0000,9,  -999.0,9,  -999.0,9,   1.222,2,  -999.0,9, -999.00,9, -999.00,9,      0.001,2
09AR20080322,       SR03,      73,          1,         16,         16,2,20080415,       0931,   -43.9987,   146.3218,        220,    49.8,  13.6267,  34.9485,2,  34.9469,2,   246.24,2,  252.54,2,     1.0,2,    0.44,2,   2.8050,2,   1.7010,2,   0.2241,2,  2077.8,2,  2311.5,6,   1.003,2,  -999.0,9, -999.00,9,    3.90,2,      0.001,2
09AR20080322,       SR03,      73,          1,         15,         15,2,20080415,       0931,   -43.9987,   146.3218,        220,    49.7,  13.5676,  34.9372,2,-999.0000,9,   246.24,2, -999.00,9,  -999.0,9, -999.00,9,-999.0000,9,-999.0000,9,-999.0000,9,  -999.0,9,  -999.0,9,   1.048,2,  -999.0,9, -999.00,9, -999.00,9,      0.001,2
09AR20080322,       SR03,      73,          1,         14,         14,2,20080415,       0931,   -43.9987,   146.3218,        220,    74.8,  13.1965,  35.0650,2,-999.0000,9,   235.77,2, -999.00,9,  -999.0,9, -999.00,9,-999.0000,9,-999.0000,9,-999.0000,9,  -999.0,9,  -999.0,9,   0.063,2,  -999.0,9, -999.00,9, -999.00,9,      0.001,2
09AR20080322,       SR03,      73,          1,         13,         13,2,20080415,       0931,   -43.9987,   146.3218,        220,    75.2,  13.2051,  35.0642,2,-999.0000,9,   235.29,2, -999.00,9,  -999.0,9, -999.00,9,-999.0000,9,-999.0000,9,-999.0000,9,  -999.0,9,  -999.0,9,   0.062,2,  -999.0,9, -999.00,9, -999.00,9,      0.001,2
09AR20080322,       SR03,      73,          1,         12,         12,2,20080415,       0931,   -43.9987,   146.3218,        220,   100.8,  12.6495,  35.0604,2,  35.0583,2,   232.19,2,  232.80,2,     2.0,2,    0.69,2,   2.8941,2,   1.7514,2,   0.2023,2,  2112.3,2,  2310.5,2,   0.023,2,  -999.0,9, -999.00,9,    8.39,2,      0.001,2
09AR20080322,       SR03,      73,          1,         11,         11,2,20080415,       0931,   -43.9987,   146.3218,        220,   100.8,  12.6056,  35.0612,2,-999.0000,9,   232.19,2, -999.00,9,  -999.0,9, -999.00,9,-999.0000,9,-999.0000,9,-999.0000,9,  -999.0,9,  -999.0,9,   0.031,2,  -999.0,9, -999.00,9, -999.00,9,      0.001,2
09AR20080322,       SR03,      73,          1,         10,         10,2,20080415,       0931,   -43.9987,   146.3218,        220,   119.8,  12.2191,  35.0588,2,-999.0000,9,   234.62,2,  234.52,2,     2.2,2,    0.77,2,-999.0000,9,-999.0000,9,-999.0000,9,  -999.0,9,  -999.0,9,   0.004,2,  -999.0,9, -999.00,9,   10.13,2,      0.001,2
09AR20080322,       SR03,      73,          1,          9,          9,2,20080415,       0931,   -43.9987,   146.3218,        220,   120.0,  12.2176,  35.0587,2,-999.0000,9,   234.62,2, -999.00,9,  -999.0,9, -999.00,9,-999.0000,9,-999.0000,9,-999.0000,9,  -999.0,9,  -999.0,9,   0.008,2,  -999.0,9, -999.00,9, -999.00,9,      0.001,2
09AR20080322,       SR03,      73,          1,          8,          8,2,20080415,       0931,   -43.9987,   146.3218,        220,   160.2,  11.9471,  35.0474,2,  35.0453,2,   236.28,2,  236.38,2,     2.3,2,    0.75,2,   3.0249,2,   1.8004,2,   0.2060,2,  2116.4,2,  2307.6,2,  -0.004,2,  -999.0,9, -999.00,9,    9.46,2,      0.001,2
09AR20080322,       SR03,      73,          1,          7,          7,2,20080415,       0931,   -43.9987,   146.3218,        220,   160.2,  11.9483,  35.0476,2,-999.0000,9,   236.28,2, -999.00,9,  -999.0,9, -999.00,9,-999.0000,9,-999.0000,9,-999.0000,9,  -999.0,9,  -999.0,9,  -0.004,2,  -999.0,9, -999.00,9, -999.00,9,      0.001,2
09AR20080322,       SR03,      73,          1,          6,          6,2,20080415,       0931,   -43.9987,   146.3218,        220,   179.8,  11.8552,  35.0566,2,-999.0000,9,   238.97,2, -999.00,9,  -999.0,9, -999.00,9,-999.0000,9,-999.0000,9,-999.0000,9,  -999.0,9,  -999.0,9,  -0.012,2,  -999.0,9, -999.00,9, -999.00,9,      0.001,2
09AR20080322,       SR03,      73,          1,          5,          5,2,20080415,       0931,   -43.9987,   146.3218,        220,   179.7,  11.8564,  35.0569,2,-999.0000,9,   238.97,2, -999.00,9,  -999.0,9, -999.00,9,-999.0000,9,-999.0000,9,-999.0000,9,  -999.0,9,  -999.0,9,  -0.009,2,  -999.0,9, -999.00,9, -999.00,9,      0.001,2
09AR20080322,       SR03,      73,          1,          4,          4,2,20080415,       0931,   -43.9987,   146.3218,        220,   179.9,  11.8560,  35.0570,2,-999.0000,9,   238.97,2, -999.00,9,  -999.0,9, -999.00,9,-999.0000,9,-999.0000,9,-999.0000,9,  -999.0,9,  -999.0,9,  -0.009,2,  -999.0,9, -999.00,9, -999.00,9,      0.001,2
09AR20080322,       SR03,      73,          1,          3,          3,2,20080415,       0931,   -43.9987,   146.3218,        220,   179.9,  11.8546,  35.0569,2,-999.0000,9,   238.97,2, -999.00,9,  -999.0,9, -999.00,9,-999.0000,9,-999.0000,9,-999.0000,9,  -999.0,9,  -999.0,9,  -0.009,2,  -999.0,9, -999.00,9, -999.00,9,      0.001,2
09AR20080322,       SR03,      73,          1,          2,          2,2,20080415,       0931,   -43.9987,   146.3218,        220,   179.8,  11.8538,  35.0567,2,  35.0545,2,   238.97,2,  238.69,2,     2.3,2,    0.72,2,-999.0000,9,-999.0000,9,-999.0000,9,  2115.8,2,  2310.9,6,  -0.007,2,  -999.0,9, -999.00,9,    9.35,2,      0.001,2
09AR20080322,       SR03,      73,          1,          1,          1,2,20080415,       0931,   -43.9987,   146.3218,        220,   213.8,  11.7841,  35.0496,2,  35.0581,2,   239.55,2,  239.42,2,     2.3,2,    0.74,2,   3.0314,2,   1.8051,2,   0.2071,2,  2116.6,6,  2310.1,2,  -0.008,2,  -999.0,9, -999.00,9,    9.37,2,      0.001,2