BOTTLE,20141029CCHSIOCBG
EXPOCODE,SECT_ID,STNNBR,CASTNO,SAMPNO,BTLNBR,BTLNBR_FLAG_W,DATE,TIME,LATITUDE,LONGITUDE,DEPTH,CTDPRS,CTDTMP,CTDSAL,CTDSAL_FLAG_W,SALNTY,SALNTY_FLAG_W,CTDOXY,CTDOXY_FLAG_W,OXYGEN,OXYGEN_FLAG_W,SILCAT,SILCAT_FLAG_W,PHSPHT,PHSPHT_FLAG_W,CFC-11,CFC-11_FLAG_W,CFC-12,CFC-12_FLAG_W,CFC113,CFC113_FLAG_W,TCARBN,TCARBN_FLAG_W,ALKALI,ALKALI_FLAG_W,FLUOR,FLUOR_FLAG_W,DOC,DOC_FLAG_W,TDN,TDN_FLAG_W,NO2+NO3,NO2+NO3_FLAG_W,PAR,PAR_FLAG_W
,,,,,,,,,,,METERS,DBAR,ITS-90,PSS-78,,PSS-78,,UMOL/KG,,UMOL/KG,,UMOL/KG,,UMOL/KG,,PMOL/KG,,PMOL/KG,,PMOL/KG,,UMOL/KG,,UMOL/KG,,MG/M^3,,UMOL/KG,,UMOL/KG,,UMOL/KG,,VOLTS,
09AR20080322,       SR03,       7,          1,         24,         24,2,20080329,       0945,   -65.4260,   139.8408,       1940,     3.2,  -1.8422,  33.9825,2,  33.9819,2,   333.46,2,  334.85,2,    47.8,2,    1.97,2,   6.0181,2,   3.1208,2,   0.5818,2,  2179.2,6,  2290.8,2,   0.888,2,  -999.0,9, -999.00,9,   27.87,2,      0.190,2
09AR20080322,       SR03,       7,          1,         23,         23,2,20080329,       0945,   -65.4260,   139.8408,       1940,     3.2,  -1.8408,  33.9827,2,-999.0000,9,   333.46,2, -999.00,9,  -999.0,9, -999.00,9,-999.0000,9,-999.0000,9,-999.0000,9,  -999.0,9,  -999.0,9,   0.835,2,  -999.0,9, -999.00,9, -999.00,9,      0.190,2
09AR20080322,       SR03,       7,          1,         22,         22,2,20080329,       0945,   -65.4260,   139.8408,       1940,     3.2,  -1.8448,  33.9823,2,-999.0000,9,   333.46,2, -999.00,9,  -999.0,9, -999.00,9,-999.0000,9,-999.0000,9,-999.0000,9,  -999.0,9,  -999.0,9,   0.827,2,  -999.0,9, -999.00,9, -999.00,9,      0.218,2
09AR20080322,       SR03,       7,          1,         21,         21,2,20080329,       0945,   -65.4260,   139.8408,       1940,     3.2,  -1.8428,  33.9823,2,-999.0000,9,   333.46,2, -999.00,9,  -999.0,9, -999.00,9,-999.0000,9,-999.0000,9,-999.0000,9,  -999.0,9,  -999.0,9,   0.866,2,  -999.0,9, -999.00,9, -999.00,9,      0.218,2
09AR20080322,       SR03,       7,          1,         20,         20,2,20080329,       0945,   -65.4260,   139.8408,       1940,    40.4,  -1.8386,  34.0043,2,  34.0068,2,   333.80,2,  334.49,2,    49.9,2,    1.98,2,   6.0713,2,   3.1351,2,   0.6088,2,  2183.4,2,  2293.8,2,   0.769,2,  -999.0,9, -999.00,9,   27.87,2,      0.001,2
09AR20080322,       SR03,       7,          1,         19,         19,2,20080329,       0945,   -65.4260,   139.8408,       1940,    40.4,  -1.8390,  34.0044,2,-999.0000,9,   333.80,2, -999.00,9,  -999.0,9, -999.00,9,-999.0000,9,-999.0000,9,-999.0000,9,  -999.0,9,  -999.0,9,   0.712,2,  -999.0,9, -999.00,9, -999.00,9,      0.001,2
09AR20080322,       SR03,       7,          1,         18,         18,2,20080329,       0945,   -65.4260,   139.8408,       1940,    98.1,  -1.7452,  34.0995,2,  34.1097,2,   326.77,2,  324.05,2,    58.3,2,    2.03,2,-999.0000,9,-999.0000,9,-999.0000,9,  2194.2,2,  2304.2,2,   0.427,2,  -999.0,9, -999.00,9,   28.29,2,      0.001,2
09AR20080322,       SR03,       7,          1,         17,         17,2,20080329,       0945,   -65.4260,   139.8408,       1940,   200.5,  -1.3905,  34.4270,2,  34.4266,2,   281.53,2,  282.03,2,    77.1,2,    2.16,2,   4.2497,2,   2.1942,2,   0.4100,2,  2229.2,2,  2323.4,2,   0.020,2,  -999.0,9, -999.00,9,   30.48,2,      0.001,2
09AR20080322,       SR03,       7,          1,         16,         16,2,20080329,       0945,   -65.4260,   139.8408,       1940,   300.3,  -0.5791,  34.5226,2,  34.5264,2,   249.74,2,  250.12,2,    84.6,2,    2.20,2,   2.9599,2,   1.5470,2,   0.2624,2,  2239.6,2,  2334.6,2,  -0.027,2,  -999.0,9, -999.00,9,   31.28,2,      0.001,2
09AR20080322,       SR03,       7,          1,         15,         15,2,20080329,       0945,   -65.4260,   139.8408,       1940,   400.7,  -0.0600,  34.5923,2,  34.5974,2,   233.55,2,  231.21,2,    92.3,2,    2.22,2,   2.1124,2,   1.0994,2,   0.1825,2,  2246.5,2,  2337.1,2,  -0.031,2,  -999.0,9, -999.00,9,   31.47,2,      0.001,2
09AR20080322,       SR03,       7,          1,         14,         14,2,20080329,       0945,   -65.4260,   139.8408,       1940,   501.5,   0.3514,  34.6440,2,  34.6432,2,   217.25,2,  219.69,2,    97.0,2,    2.25,3,   1.5128,2,   0.7798,2,   0.1408,2,  2250.1,2,  2345.8,6,  -0.031,2,  -999.0,9, -999.00,9,   31.56,3,      0.001,2
09AR20080322,       SR03,       7,          1,         13,         13,2,20080329,       0945,   -65.4260,   139.8408,       1940,   599.5,   0.5247,  34.6670,2,  34.6668,2,   213.04,2,  214.13,2,   101.6,2,    2.24,2,   1.1247,2,   0.5886,2,   0.0925,2,  2251.7,2,  2349.9,2,  -0.030,2,  -999.0,9, -999.00,9,   31.65,2,      0.001,2
09AR20080322,       SR03,       7,          1,         12,         12,2,20080329,       0945,   -65.4260,   139.8408,       1940,   800.7,   0.4232,  34.6772,2,  34.6772,2,   212.95,2,  212.64,2,   111.4,2,    2.27,2,   0.8946,2,   0.4609,2,   0.0775,2,  2257.5,2,  2351.9,2,  -0.033,2,  -999.0,9, -999.00,9,   32.21,2,      0.001,2
09AR20080322,       SR03,       7,          1,         11,         11,2,20080329,       0945,   -65.4260,   139.8408,       1940,  1001.4,   0.3220,  34.6762,2,  34.6764,2,   215.42,2,  215.00,2,   113.5,2,    2.28,2,-999.0000,9,-999.0000,9,-999.0000,9,  2259.0,2,  2353.4,2,  -0.034,2,  -999.0,9, -999.00,9,   32.04,2,      0.001,2
09AR20080322,       SR03,       7,          1,         10,          4,2,20080329,       0945,   -65.4260,   139.8408,       1940,  1001.1,   0.3207,  34.6762,2,-999.0000,9,   215.42,2, -999.00,9,  -999.0,9, -999.00,9,-999.0000,9,-999.0000,9,-999.0000,9,  2256.3,2,  2350.6,2,  -0.037,2,  -999.0,9, -999.00,9, -999.00,9,      0.001,2
09AR20080322,       SR03,       7,          1,          9,         10,2,20080329,       0945,   -65.4260,   139.8408,       1940,  1200.5,   0.0943,  34.6651,2,  34.6646,2,   224.51,2,  223.60,2,   111.9,2,    2.27,2,   1.3255,2,   0.6786,2,   0.1149,2,  2254.2,2,  2350.3,2,  -0.037,2,  -999.0,9, -999.00,9,   31.95,2,      0.001,2
09AR20080322,       SR03,       7,          1,          8,          9,2,20080329,       0945,   -65.4260,   139.8408,       1940,  1401.1,  -0.1145,  34.6545,2,  34.6548,2,   230.85,2,  230.37,2,   108.4,2,    2.26,2,   1.6857,2,   0.8742,2,   0.1359,2,  2253.4,2,  2360.2,3,  -0.037,2,  -999.0,9, -999.00,9,   31.87,2,      0.001,2
09AR20080322,       SR03,       7,          1,          7,          8,2,20080329,       0945,   -65.4260,   139.8408,       1940,  1600.6,  -0.1561,  34.6522,2,  34.6517,2,   232.92,2,  233.41,2,   106.7,2,    2.26,2,   1.8390,2,   0.9457,2,   0.1557,2,  2253.9,2,  2351.4,2,  -0.038,2,  -999.0,9, -999.00,9,   31.70,2,      0.001,2
09AR20080322,       SR03,       7,          1,          6,          3,2,20080329,       0945,   -65.4260,   139.8408,       1940,  1599.2,  -0.1653,  34.6520,2,-999.0000,9,   232.92,2, -999.00,9,  -999.0,9, -999.00,9,-999.0000,9,-999.0000,9,-999.0000,9,  2251.6,2,  2340.9,4,  -0.034,2,  -999.0,9, -999.00,9, -999.00,9,      0.001,2
09AR20080322,       SR03,       7,          1,          5,          7,2,20080329,       0945,   -65.4260,   139.8408,       1940,  1799.3,  -0.1963,  34.6507,2,  34.6507,2,   234.52,2,  234.54,2,   105.6,2,    2.26,2,   1.8941,2,   0.9711,2,   0.1639,2,  2252.3,6,  2339.6,2,  -0.037,2,  -999.0,9, -999.00,9,   31.78,2,      0.001,2
09AR20080322,       SR03,       7,          1,          4,          6,2,20080329,       0945,   -65.4260,   139.8408,       1940,  2070.2,  -0.2332,  34.6463,2,  34.6454,2,   237.04,2,  237.11,2,   104.9,2,    2.25,2,   2.0336,2,   1.0509,2,   0.1754,2,  -999.0,9,  -999.0,9,  -0.035,2,  -999.0,9, -999.00,9,   31.54,2,      0.001,2
09AR20080322,       SR03,       7,          1,          3,          2,2,20080329,       0945,   -65.4260,   139.8408,       1940,  2070.0,  -0.2470,  34.6446,2,-999.0000,9,   237.04,2, -999.00,9,  -999.0,9, -999.00,9,-999.0000,9,-999.0000,9,-999.0000,9,  -999.0,9,  -999.0,9,  -0.040,2,  -999.0,9, -999.00,9, -999.00,9,      0.001,2
09AR20080322,       SR03,       7,          1,          2,          5,2,20080329,       0945,   -65.4260,   139.8408,       1940,  2121.9,  -0.2506,  34.6448,2,  34.6440,2,   237.44,2,  237.54,2,   104.1,2,    2.24,2,   2.0392,2,   1.0695,2,   0.1644,2,  -999.0,9,  -999.0,9,  -0.038,2,  -999.0,9, -999.00,9,   31.46,2,      0.001,2
09AR20080322,       SR03,       7,          1,          1,          1,2,20080329,       0945,   -65.4260,   139.8408,       1940,  2121.6,  -0.2596,  34.6438,2,-999.0000,9,   237.44,2, -999.00,9,  -999.0,9, -999.00,9,-999.0000,9,-999.0000,9,-999.0000,9,  -999.0,9,  -999.0,9,  -0.037,2,  -999.0,9, -999.00,9, -999.00,9,      0.001,2
09AR20080322,       SR03,       8,          1,         24,         24,2,20080329,       1549,   -65.3965,   139.9185,       2427,    10.0,  -1.8421,  33.9750,2,  33.9749,2,   333.50,2,  335.38,2,    47.1,2,    1.99,2,   5.9698,2,   3.1311,2,   0.5221,2,  2180.3,2,  2296.2,2,   0.836,2,    45.7,2,   31.68,2,   28.04,2,      0.001,2
09AR20080322,       SR03,       8,          1,         23,         23,2,20080329,       1549,   -65.3965,   139.9185,       2427,    50.3,  -1.8402,  33.9823,2,-999.0000,9,   331.84,2, -999.00,9,  -999.0,9, -999.00,9,-999.0000,9,-999.0000,9,-999.0000,9,  -999.0,9,  -999.0,9,   0.774,2,  -999.0,9, -999.00,9, -999.00,9,      0.001,2
09AR20080322,       SR03,       8,          1,         22,         22,2,20080329,       1549,   -65.3965,   139.9185,       2427,    50.3,  -1.8391,  33.9867,2,-999.0000,9,   331.84,2, -999.00,9,  -999.0,9, -999.00,9,-999.0000,9,-999.0000,9,-999.0000,9,  -999.0,9,  -999.0,9,   0.790,2,  -999.0,9, -999.00,9, -999.00,9,      0.001,2
09AR20080322,       SR03,       8,          1,         21,         21,2,20080329,       1549,   -65.3965,   139.9185,       2427,    50.3,  -1.8399,  33.9851,2,  34.0062,2,   331.84,2,  333.72,2,    48.9,2,    1.99,2,   6.0114,2,   3.1155,2,   0.5886,2,  2184.1,2,  2297.1,2,   0.806,2,    44.1,2,   30.98,2,   27.94,2,      0.001,2
09AR20080322,       SR03,       8,          1,         20,         20,2,20080329,       1549,   -65.3965,   139.9185,       2427,    89.8,  -1.8300,  34.1003,2,  34.1342,2,   327.59,2,  325.23,2,    57.7,2,    2.03,2,   5.5738,2,   2.9297,2,   0.4745,2,  2200.9,2,  2307.7,2,   0.540,2,    43.7,2,   31.01,2,   28.70,2,      0.001,2
09AR20080322,       SR03,       8,          1,         19,         19,2,20080329,       1549,   -65.3965,   139.9185,       2427,   130.1,  -1.6515,  34.3694,2,  34.3705,2,   295.74,2,  293.10,2,    75.1,2,    2.15,2,-999.0000,9,-999.0000,9,-999.0000,9,  2225.1,2,  2323.3,6,   0.203,2,    42.2,2,   32.68,2,   30.54,2,      0.001,2
09AR20080322,       SR03,       8,          1,         18,         18,2,20080329,       1549,   -65.3965,   139.9185,       2427,   170.4,  -1.6126,  34.3963,2,  34.3976,2,   286.17,2,  288.51,2,    77.0,2,    2.16,2,   4.4900,2,   2.3288,2,   0.4052,2,  2229.4,2,  2326.8,2,   0.067,2,    42.2,2,   33.07,2,   30.52,2,      0.001,2
09AR20080322,       SR03,       8,          1,         17,         17,2,20080329,       1549,   -65.3965,   139.9185,       2427,   199.9,  -1.4585,  34.4193,2,  34.4225,2,   280.22,2,  281.80,2,    78.4,2,    2.18,2,-999.0000,9,-999.0000,9,-999.0000,9,  2230.3,6,  2327.8,2,   0.020,2,    42.1,2,   32.72,2,   30.86,2,      0.001,2
09AR20080322,       SR03,       8,          1,         16,         16,2,20080329,       1549,   -65.3965,   139.9185,       2427,   300.3,  -0.7993,  34.4940,2,  34.5007,2,   259.98,2,  258.33,2,    83.2,2,    2.21,2,   3.2638,2,   1.7093,2,   0.2892,2,  2239.9,2,  2333.3,6,  -0.019,2,    41.4,2,   32.47,2,   31.30,2,      0.001,2
09AR20080322,       SR03,       8,          1,         15,         15,2,20080329,       1549,   -65.3965,   139.9185,       2427,   400.7,  -0.1986,  34.5710,2,  34.5715,2,   237.34,2,  237.79,2,    89.5,2,    2.23,2,   2.4558,2,   1.2744,2,   0.2062,2,  2246.9,2,  2335.4,2,  -0.034,2,    41.2,2,   32.51,2,   31.46,2,      0.001,2
09AR20080322,       SR03,       8,          1,         14,         14,2,20080329,       1549,   -65.3965,   139.9185,       2427,   500.2,  -0.0218,  34.6081,2,  34.6085,2,   230.16,2,  230.20,2,    95.1,2,    2.26,2,   2.0307,2,   1.0603,2,   0.1619,2,  2251.1,2,  2343.0,2,  -0.030,2,    41.0,2,   32.48,2,   31.50,2,      0.001,2
09AR20080322,       SR03,       8,          1,         13,         13,2,20080329,       1549,   -65.3965,   139.9185,       2427,   600.1,   0.0403,  34.6254,2,  34.6256,2,   226.41,2,  227.31,2,    98.9,2,    2.26,2,-999.0000,9,-999.0000,9,-999.0000,9,  2250.2,2,  2342.2,2,  -0.031,2,    40.8,2,   33.16,2,   31.67,2,      0.001,2
09AR20080322,       SR03,       8,          1,         12,         12,2,20080329,       1549,   -65.3965,   139.9185,       2427,   699.9,   0.1819,  34.6483,2,  34.6509,2,   223.19,2,  221.42,2,   104.5,2,    2.26,2,   1.4401,2,   0.7497,2,   0.1153,2,  2258.9,2,  2349.5,2,  -0.035,2,    40.8,2,   32.58,2,   31.66,2,      0.001,2
09AR20080322,       SR03,       8,          1,         11,         11,2,20080329,       1549,   -65.3965,   139.9185,       2427,   800.1,   0.1806,  34.6518,2,  34.6517,2,   221.20,2,  221.86,2,   105.7,2,    2.26,2,   1.3843,2,   0.7217,2,   0.1066,2,  2257.6,2,  2348.0,6,  -0.033,2,    40.0,2,   32.64,2,   31.65,2,      0.001,2
09AR20080322,       SR03,       8,          1,         10,         10,2,20080329,       1549,   -65.3965,   139.9185,       2427,   900.4,   0.1198,  34.6518,2,  34.6527,2,   222.50,2,  223.94,2,   107.5,2,    2.26,2,-999.0000,9,-999.0000,9,-999.0000,9,  2255.8,2,  2348.9,2,  -0.035,2,    39.9,2,   33.15,2,   31.63,2,      0.001,2
09AR20080322,       SR03,       8,          1,          9,          9,2,20080329,       1549,   -65.3965,   139.9185,       2427,   999.1,   0.1291,  34.6599,2,  34.6609,2,   221.01,2,  221.22,2,   109.6,2,    2.28,2,   1.2987,2,   0.6748,2,   0.0974,2,  2259.5,2,  2351.8,2,  -0.035,2,    39.7,2,   32.56,2,   31.62,2,      0.001,2
09AR20080322,       SR03,       8,          1,          8,          8,2,20080329,       1549,   -65.3965,   139.9185,       2427,  1200.0,   0.1306,  34.6681,2,  34.6689,2,   220.46,2,  220.63,2,   112.7,2,    2.27,2,   1.1998,2,   0.6206,2,   0.1023,2,  2260.1,2,  2351.6,2,  -0.036,2,    39.4,2,   33.71,2,   32.16,2,      0.001,2
09AR20080322,       SR03,       8,          1,          7,          7,2,20080329,       1549,   -65.3965,   139.9185,       2427,  1401.1,   0.0282,  34.6632,2,  34.6652,2,   224.06,2,  224.90,2,   110.9,2,    2.28,2,   1.3902,2,   0.7185,2,   0.1021,2,  2259.9,5,  2350.9,2,  -0.038,2,    40.1,2,   33.07,2,   32.05,2,      0.001,2
09AR20080322,       SR03,       8,          1,          6,          6,2,20080329,       1549,   -65.3965,   139.9185,       2427,  1601.4,  -0.0621,  34.6610,2,  34.6609,2,   227.90,2,  227.86,2,   109.2,2,    2.27,2,-999.0000,9,-999.0000,9,-999.0000,9,  2256.4,2,  2349.2,2,  -0.038,2,    40.2,2,   32.87,2,   31.78,2,      0.001,2
09AR20080322,       SR03,       8,          1,          5,          5,2,20080329,       1549,   -65.3965,   139.9185,       2427,  1799.8,  -0.1556,  34.6546,2,  34.6531,2,   233.14,2,  232.70,2,   106.7,2,    2.26,2,   1.8325,2,   0.9521,2,   0.1443,2,  2255.3,2,  2349.3,2,  -0.036,2,    40.8,2,   33.57,2,   31.85,2,      0.001,2
09AR20080322,       SR03,       8,          1,          4,          4,2,20080329,       1549,   -65.3965,   139.9185,       2427,  2000.6,  -0.2400,  34.6472,2,  34.6476,2,   236.25,2,  236.50,2,   104.1,2,    2.25,2,   2.0731,2,   1.0568,2,   0.1810,2,  2252.2,2,  2349.0,2,  -0.034,2,    41.0,2,   32.68,2,   31.58,2,      0.001,2
09AR20080322,       SR03,       8,          1,          3,          3,2,20080329,       1549,   -65.3965,   139.9185,       2427,  2200.8,  -0.3373,  34.6407,2,  34.6411,2,   240.01,2,  240.91,2,   101.6,2,    2.25,2,   2.2795,2,   1.1764,2,   0.1954,2,  2252.9,2,  2348.4,2,  -0.040,2,    41.2,2,   32.43,2,   31.38,2,      0.001,2
09AR20080322,       SR03,       8,          1,          2,          2,2,20080329,       1549,   -65.3965,   139.9185,       2427,  2353.1,  -0.3462,  34.6396,2,  34.6407,2,   241.52,2,  241.16,2,   101.6,2,    2.25,2,   2.3247,2,   1.2084,2,   0.1814,2,  2254.8,2,  2346.6,6,  -0.035,2,    40.4,2,   32.74,2,   31.46,2,      0.001,2
09AR20080322,       SR03,       8,          1,          1,          1,2,20080329,       1549,   -65.3965,   139.9185,       2427,  2375.1,  -0.3455,  34.6394,2,  34.6387,2,   241.41,2,  242.14,2,   101.6,2,    2.25,2,   2.3339,2,   1.2007,2,   0.1913,2,  2254.2,6,  2346.0,6,  -0.040,2,    41.8,2,   32.89,2,   31.46,2,      0.001,2