BOTTLE,20141029CCHSIOCBG
EXPOCODE,SECT_ID,STNNBR,CASTNO,SAMPNO,BTLNBR,BTLNBR_FLAG_W,DATE,TIME,LATITUDE,LONGITUDE,DEPTH,CTDPRS,CTDTMP,CTDSAL,CTDSAL_FLAG_W,SALNTY,SALNTY_FLAG_W,CTDOXY,CTDOXY_FLAG_W,OXYGEN,OXYGEN_FLAG_W,SILCAT,SILCAT_FLAG_W,PHSPHT,PHSPHT_FLAG_W,CFC-11,CFC-11_FLAG_W,CFC-12,CFC-12_FLAG_W,CFC113,CFC113_FLAG_W,TCARBN,TCARBN_FLAG_W,ALKALI,ALKALI_FLAG_W,FLUOR,FLUOR_FLAG_W,DOC,DOC_FLAG_W,TDN,TDN_FLAG_W,NO2+NO3,NO2+NO3_FLAG_W,PAR,PAR_FLAG_W
,,,,,,,,,,,METERS,DBAR,ITS-90,PSS-78,,PSS-78,,UMOL/KG,,UMOL/KG,,UMOL/KG,,UMOL/KG,,PMOL/KG,,PMOL/KG,,PMOL/KG,,UMOL/KG,,UMOL/KG,,MG/M^3,,UMOL/KG,,UMOL/KG,,UMOL/KG,,VOLTS,
09AR20080322,       SR03,      23,          1,         24,         24,2,20080402,       1145,   -60.3495,   139.8520,       4362,     4.3,   2.7537,  33.7667,2,  33.7676,2,   319.56,2,  320.34,2,    12.3,2,    1.76,2,   5.3122,2,   2.8610,2,   0.4590,2,  2143.2,6,  2278.6,2,   0.928,2,    45.0,2,   31.21,2,   26.11,2,      0.009,2
09AR20080322,       SR03,      23,          1,         23,         23,2,20080402,       1145,   -60.3495,   139.8520,       4362,    50.0,   2.6909,  33.7731,2,-999.0000,9,   320.63,2, -999.00,9,  -999.0,9, -999.00,9,-999.0000,9,-999.0000,9,-999.0000,9,  -999.0,9,  -999.0,9,   1.154,2,  -999.0,9, -999.00,9, -999.00,9,      0.001,2
09AR20080322,       SR03,      23,          1,         22,         22,2,20080402,       1145,   -60.3495,   139.8520,       4362,    50.0,   2.6942,  33.7726,2,-999.0000,9,   320.63,2, -999.00,9,  -999.0,9, -999.00,9,-999.0000,9,-999.0000,9,-999.0000,9,  -999.0,9,  -999.0,9,   1.168,2,  -999.0,9, -999.00,9, -999.00,9,      0.001,2
09AR20080322,       SR03,      23,          1,         21,         21,2,20080402,       1145,   -60.3495,   139.8520,       4362,    50.1,   2.6957,  33.7723,2,  33.7930,4,   320.63,2,  320.51,2,    12.3,2,    1.77,2,   5.3299,2,   2.8538,2,   0.4929,2,  2141.7,2,  2278.9,6,   1.119,2,    44.7,2,   29.64,2,   26.03,2,      0.001,2
09AR20080322,       SR03,      23,          1,         20,         20,2,20080402,       1145,   -60.3495,   139.8520,       4362,    70.5,   2.6877,  33.7723,2,  33.7744,2,   321.03,2,  320.68,2,    12.4,2,    1.76,2,   5.3872,2,   2.8417,2,   0.4793,2,  2142.3,2,  2279.4,2,   1.303,2,    44.3,2,   29.35,2,   26.02,2,      0.001,2
09AR20080322,       SR03,      23,          1,         19,         19,2,20080402,       1145,   -60.3495,   139.8520,       4362,    89.8,   0.1979,  33.8945,2,  33.8872,2,   338.08,2,  334.03,2,    22.9,2,    2.00,2,   6.0464,2,   3.1407,2,   0.5405,2,  2167.7,2,  2284.0,2,   1.617,2,    42.9,2,   30.69,2,   28.22,2,      0.001,2
09AR20080322,       SR03,      23,          1,         18,         18,2,20080402,       1145,   -60.3495,   139.8520,       4362,   120.5,   0.6895,  34.0907,2,  34.0893,2,   273.34,2,  277.56,2,    40.7,2,    2.22,2,   4.5815,2,   2.3953,2,   0.3940,2,  2198.6,2,  2293.6,2,   0.257,2,    42.6,2,   33.74,2,   32.24,2,      0.001,2
09AR20080322,       SR03,      23,          1,         17,         17,2,20080402,       1145,   -60.3495,   139.8520,       4362,   200.2,   1.8661,  34.3837,2,  34.3841,2,   198.39,2,  196.85,2,    65.0,2,    2.45,2,   1.9872,2,   0.9935,2,   0.1470,2,  2242.4,2,  2314.7,2,  -0.031,2,    41.2,2,   36.18,2,   35.25,2,      0.001,2
09AR20080322,       SR03,      23,          1,         16,         16,2,20080402,       1145,   -60.3495,   139.8520,       4362,   300.6,   2.1513,  34.5019,2,  34.5021,2,   176.76,2,  176.80,2,    73.0,2,    2.46,2,   1.1571,6,   0.5628,6,   0.0840,6,  2255.7,2,  2326.4,6,  -0.027,2,    40.4,2,   36.21,2,   35.25,2,      0.001,2
09AR20080322,       SR03,      23,          1,         15,         15,2,20080402,       1145,   -60.3495,   139.8520,       4362,   400.3,   2.1908,  34.5717,2,  34.5716,2,   171.30,2,  171.97,2,    76.8,2,    2.41,2,   0.7863,2,   0.3828,2,   0.0526,2,  2253.6,2,  2332.4,2,  -0.027,2,    39.7,2,   35.53,2,   34.59,2,      0.001,2
09AR20080322,       SR03,      23,          1,         14,         14,2,20080402,       1145,   -60.3495,   139.8520,       4362,   500.2,   2.1820,  34.6222,2,  34.6229,2,   171.75,2,  172.27,2,    79.1,2,    2.35,2,   0.5163,2,   0.2287,2,   0.0335,2,  2253.4,2,  2335.5,2,  -0.029,2,    39.3,2,   34.64,2,   33.87,2,      0.001,2
09AR20080322,       SR03,      23,          1,         13,         13,2,20080402,       1145,   -60.3495,   139.8520,       4362,   700.1,   2.1373,  34.6930,2,  34.6934,2,   177.00,2,  178.42,2,    82.1,2,    2.26,2,   0.2907,2,   0.1186,2,   0.0164,2,  2250.4,2,  2339.9,6,  -0.029,2,    39.7,2,   33.41,2,   32.24,2,      0.001,2
09AR20080322,       SR03,      23,          1,         12,         12,2,20080402,       1145,   -60.3495,   139.8520,       4362,   900.2,   2.0390,  34.7240,2,  34.7247,2,   184.13,2,  184.81,2,    83.9,2,    2.21,2,   0.2122,2,   0.0889,2,   0.0152,2,  2249.8,6,  2342.9,2,  -0.028,2,    39.5,2,   32.75,2,   31.38,2,      0.001,2
09AR20080322,       SR03,      23,          1,         11,         11,2,20080402,       1145,   -60.3495,   139.8520,       4362,  1199.8,   1.8280,  34.7455,2,  34.7461,2,   192.93,2,  193.49,2,    89.3,2,    2.16,2,   0.1540,2,   0.0594,2,   0.0133,2,  2252.6,2,  2347.0,2,  -0.034,2,    39.2,2,   31.54,2,   30.51,2,      0.001,2
09AR20080322,       SR03,      23,          1,         10,         10,2,20080402,       1145,   -60.3495,   139.8520,       4362,  1499.7,   1.6049,  34.7458,2,  34.7461,2,   197.41,2,  197.97,2,    95.6,2,    2.14,2,   0.1342,2,   0.0434,2,   0.0070,2,  2247.3,2,  2349.6,2,  -0.032,2,    39.3,2,   31.79,2,   30.82,2,      0.001,2
09AR20080322,       SR03,      23,          1,          9,          9,2,20080402,       1145,   -60.3495,   139.8520,       4362,  1800.7,   1.3521,  34.7373,2,  34.7380,2,   201.15,2,  201.05,2,   103.0,2,    2.16,2,   0.1254,2,   0.0704,2,   0.0047,2,  2252.8,2,  2355.5,2,  -0.033,2,    39.5,2,   32.45,2,   31.21,2,      0.001,2
09AR20080322,       SR03,      23,          1,          8,          8,2,20080402,       1145,   -60.3495,   139.8520,       4362,  2199.4,   1.0119,  34.7209,2,  34.7217,2,   205.02,2,  204.78,2,   113.7,2,    2.22,2,   0.1596,2,   0.0513,2,   0.0070,2,  2263.2,2,  2357.4,2,  -0.035,2,    39.4,2,   32.50,2,   31.82,2,      0.001,2
09AR20080322,       SR03,      23,          1,          7,          7,2,20080402,       1145,   -60.3495,   139.8520,       4362,  2600.0,   0.7194,  34.7055,2,  34.7052,2,   209.62,2,  209.22,2,   121.6,2,    2.26,2,   0.2104,2,   0.0883,2,   0.0128,2,  2267.2,2,  2354.5,6,  -0.035,2,    39.5,2,   33.05,2,   32.29,2,      0.001,2
09AR20080322,       SR03,      23,          1,          6,          6,2,20080402,       1145,   -60.3495,   139.8520,       4362,  3000.5,   0.4592,  34.6925,2,  34.6926,2,   214.96,2,  214.86,2,   127.5,2,    2.28,2,   0.3380,2,   0.1510,2,   0.0196,2,  2261.2,2,  2355.7,6,  -0.038,2,    39.4,2,   33.58,2,   32.61,2,      0.001,2
09AR20080322,       SR03,      23,          1,          5,          5,2,20080402,       1145,   -60.3495,   139.8520,       4362,  3402.1,   0.2814,  34.6852,2,  34.6850,2,   220.31,2,  220.07,2,   130.0,2,    2.29,2,   0.5308,2,   0.2389,2,   0.0262,2,  2269.1,2,  2358.7,2,  -0.037,2,    39.2,2,   33.24,2,   32.45,2,      0.001,2
09AR20080322,       SR03,      23,          1,          4,          4,2,20080402,       1145,   -60.3495,   139.8520,       4362,  3801.4,   0.1495,  34.6796,2,  34.6781,2,   225.58,2,  224.98,2,   132.1,2,    2.34,3,   0.7348,2,   0.3382,2,   0.0369,2,  2257.7,2,  2355.1,2,  -0.043,2,    39.6,2,   33.67,2,   32.45,2,      0.001,2
09AR20080322,       SR03,      23,          1,          3,          3,2,20080402,       1145,   -60.3495,   139.8520,       4362,  4199.7,   0.0041,  34.6707,2,  34.6700,2,   232.36,2,  231.45,2,   128.8,2,    2.26,2,   1.2758,2,   0.5992,2,   0.0769,2,  2257.3,2,  2354.0,2,  -0.040,2,    39.8,2,   32.84,2,   32.06,2,      0.001,2
09AR20080322,       SR03,      23,          1,          2,          2,2,20080402,       1145,   -60.3495,   139.8520,       4362,  4439.9,  -0.0893,  34.6619,2,  34.6620,2,   236.59,2,  235.84,2,   127.5,2,    2.26,2,   1.7883,2,   0.8617,2,   0.1543,2,  2255.5,2,  2352.7,6,  -0.045,2,    39.9,2,   33.11,2,   31.99,2,      0.001,2
09AR20080322,       SR03,      23,          1,          1,          1,2,20080402,       1145,   -60.3495,   139.8520,       4362,  4490.2,  -0.1034,  34.6604,2,  34.6608,2,   237.31,2,  236.88,2,   127.5,2,    2.25,2,   1.8844,2,   0.9197,2,   0.1358,2,  2257.5,6,  2352.8,2,  -0.041,2,    40.4,2,   32.85,2,   31.84,2,      0.001,2
09AR20080322,       SR03,      24,          1,         24,         24,2,20080402,       1841,   -59.8488,   139.8590,       4453,     4.3,   3.4184,  33.7642,2,  33.7656,2,   313.59,2,  314.66,2,     6.3,2,    1.70,2,   5.1262,2,   2.7477,2,   0.4479,2,  2139.3,6,  2279.9,2,   0.860,2,  -999.0,9, -999.00,9,   25.43,2,      2.017,2
09AR20080322,       SR03,      24,          1,         23,         23,2,20080402,       1841,   -59.8488,   139.8590,       4453,    29.5,   3.4162,  33.7641,2,-999.0000,9,   314.16,2, -999.00,9,  -999.0,9, -999.00,9,-999.0000,9,-999.0000,9,-999.0000,9,  -999.0,9,  -999.0,9,   0.848,2,  -999.0,9, -999.00,9, -999.00,9,      1.444,2
09AR20080322,       SR03,      24,          1,         22,         22,2,20080402,       1841,   -59.8488,   139.8590,       4453,    29.7,   3.4177,  33.7642,2,-999.0000,9,   314.16,2, -999.00,9,  -999.0,9, -999.00,9,-999.0000,9,-999.0000,9,-999.0000,9,  -999.0,9,  -999.0,9,   0.849,2,  -999.0,9, -999.00,9, -999.00,9,      1.435,2
09AR20080322,       SR03,      24,          1,         21,         21,2,20080402,       1841,   -59.8488,   139.8590,       4453,    29.5,   3.4194,  33.7643,2,  33.7662,2,   314.16,2,  314.31,2,     6.3,2,    1.71,2,   5.1499,2,   2.7630,2,   0.4562,2,  2139.2,2,  2281.8,6,   0.845,2,  -999.0,9, -999.00,9,   25.72,2,      1.422,2
09AR20080322,       SR03,      24,          1,         20,         20,2,20080402,       1841,   -59.8488,   139.8590,       4453,    50.3,   3.4206,  33.7643,2,  33.7650,2,   314.41,2,  314.53,2,     6.3,2,    1.72,2,   5.1117,2,   2.7868,2,   0.4428,2,  2138.0,2,  2281.2,2,   0.858,2,  -999.0,9, -999.00,9,   25.71,2,      1.108,2
09AR20080322,       SR03,      24,          1,         19,         19,2,20080402,       1841,   -59.8488,   139.8590,       4453,    69.7,   3.4118,  33.7646,2,  33.7662,2,   314.40,2,  314.53,2,     6.4,2,    1.73,2,   5.1528,2,   2.7557,2,   0.4725,2,  -999.0,9,  -999.0,9,   0.927,2,  -999.0,9, -999.00,9,   25.78,2,      0.805,2
09AR20080322,       SR03,      24,          1,         18,         18,2,20080402,       1841,   -59.8488,   139.8590,       4453,   100.8,   0.8312,  33.8846,2,  33.8844,2,   323.52,2,  324.22,2,    20.6,2,    2.01,2,   5.8607,2,   3.0418,2,   0.5152,2,  2166.9,2,  2287.9,2,   1.265,2,  -999.0,9, -999.00,9,   28.43,2,      0.167,2
09AR20080322,       SR03,      24,          1,         17,         17,2,20080402,       1841,   -59.8488,   139.8590,       4453,   197.8,   1.9060,  34.2727,2,  34.2734,2,   222.18,2,  219.48,2,    53.6,2,    2.41,2,   2.8466,2,   1.4694,2,   0.2130,2,  -999.0,9,  -999.0,9,  -0.030,2,  -999.0,9, -999.00,9,   34.31,2,      0.001,2
09AR20080322,       SR03,      24,          1,         16,         16,2,20080402,       1841,   -59.8488,   139.8590,       4453,   300.6,   2.2550,  34.4286,2,  34.4292,2,   183.30,2,  184.07,2,    66.5,2,    2.49,2,   1.5632,2,   0.7641,2,   0.1134,2,  2249.1,2,  2324.6,2,  -0.027,2,  -999.0,9, -999.00,9,   35.36,2,      0.001,2
09AR20080322,       SR03,      24,          1,         15,         15,2,20080402,       1841,   -59.8488,   139.8590,       4453,   401.3,   2.2812,  34.5041,2,  34.5038,2,   174.71,2,  176.07,2,    71.2,2,    2.43,2,   1.0902,2,   0.5279,2,   0.0757,2,  2255.5,2,  2329.5,2,  -0.026,2,  -999.0,9, -999.00,9,   34.93,2,      0.001,2
09AR20080322,       SR03,      24,          1,         14,         14,2,20080402,       1841,   -59.8488,   139.8590,       4453,   500.1,   2.3052,  34.5724,2,  34.5730,2,   172.52,2,  172.71,2,    75.0,2,    2.39,2,   0.7468,2,   0.5312,2,   0.0726,2,  -999.0,9,  -999.0,9,  -0.025,2,  -999.0,9, -999.00,9,   34.36,2,      0.001,2
09AR20080322,       SR03,      24,          1,         13,         13,2,20080402,       1841,   -59.8488,   139.8590,       4453,   699.9,   2.2708,  34.6592,2,  34.6612,2,   175.75,2,  175.78,2,    78.6,2,    2.30,2,   0.3596,2,   0.1662,2,   0.0194,2,  2256.1,6,  2342.1,2,  -0.029,2,  -999.0,9, -999.00,9,   32.90,2,      0.001,2
09AR20080322,       SR03,      24,          1,         12,         12,2,20080402,       1841,   -59.8488,   139.8590,       4453,   898.8,   2.1571,  34.7098,2,  34.7107,2,   181.89,2,  182.64,2,    81.1,2,    2.22,2,   0.2215,2,   0.0932,2,   0.0128,2,  -999.0,9,  -999.0,9,  -0.028,2,  -999.0,9, -999.00,9,   31.54,2,      0.001,2
09AR20080322,       SR03,      24,          1,         11,         11,2,20080402,       1841,   -59.8488,   139.8590,       4453,  1200.4,   1.9643,  34.7425,2,  34.7435,2,   191.14,2,  191.58,2,    85.6,2,    2.15,2,   0.1463,2,   0.0581,2,   0.0085,2,  -999.0,9,  -999.0,9,  -0.029,2,  -999.0,9, -999.00,9,   30.59,2,      0.001,2
09AR20080322,       SR03,      24,          1,         10,         10,2,20080402,       1841,   -59.8488,   139.8590,       4453,  1500.6,   1.7278,  34.7479,2,  34.7482,2,   196.09,2,  196.49,2,    92.4,2,    2.16,2,   0.1563,2,   0.0613,2,   0.0121,2,  2252.6,2,  2356.3,6,  -0.030,2,  -999.0,9, -999.00,9,   30.41,2,      0.001,2
09AR20080322,       SR03,      24,          1,          9,          9,2,20080402,       1841,   -59.8488,   139.8590,       4453,  1799.8,   1.4570,  34.7413,2,  34.7427,2,   200.01,2,  200.92,2,   100.5,2,    2.19,2,   0.1264,2,   0.0457,2,   0.0020,2,  -999.0,9,  -999.0,9,  -0.031,2,  -999.0,9, -999.00,9,   31.02,2,      0.001,2
09AR20080322,       SR03,      24,          1,          8,          8,2,20080402,       1841,   -59.8488,   139.8590,       4453,  2198.9,   1.1186,  34.7261,2,  34.7266,2,   204.32,2,  204.57,2,   111.3,2,    2.25,2,   0.1294,2,   0.0674,2,   0.0057,2,  2260.4,2,  2362.6,2,  -0.032,2,  -999.0,9, -999.00,9,   31.72,2,      0.001,2
09AR20080322,       SR03,      24,          1,          7,          7,2,20080402,       1841,   -59.8488,   139.8590,       4453,  2600.3,   0.8272,  34.7109,2,  34.7109,2,   208.50,2,  208.04,2,   119.9,2,    2.28,2,   0.1966,2,   0.0763,2,   0.0112,2,  -999.0,9,  -999.0,9,  -0.035,2,  -999.0,9, -999.00,9,   32.02,2,      0.001,2
09AR20080322,       SR03,      24,          1,          6,          6,2,20080402,       1841,   -59.8488,   139.8590,       4453,  2999.1,   0.5460,  34.6970,2,  34.6962,2,   213.67,2,  213.60,2,   127.3,2,    2.32,2,   0.2837,2,   0.1237,2,   0.0107,2,  -999.0,9,  2361.5,6,  -0.035,2,  -999.0,9, -999.00,9,   32.41,2,      0.001,2
09AR20080322,       SR03,      24,          1,          5,          5,2,20080402,       1841,   -59.8488,   139.8590,       4453,  3398.7,   0.3486,  34.6882,2,  34.6875,2,   218.88,2,  218.29,2,   131.2,2,    2.33,2,   0.4088,2,   0.1825,2,   0.0156,2,  -999.0,9,  -999.0,9,  -0.039,2,  -999.0,9, -999.00,9,   32.63,2,      0.001,2
09AR20080322,       SR03,      24,          1,          4,          4,2,20080402,       1841,   -59.8488,   139.8590,       4453,  3798.4,   0.2119,  34.6824,2,  34.6824,2,   223.93,2,  223.12,2,   135.1,2,    2.33,2,   0.5962,2,   0.2666,2,   0.0255,2,  2263.5,2,  2360.2,2,  -0.040,2,  -999.0,9, -999.00,9,   32.63,2,      0.001,2
09AR20080322,       SR03,      24,          1,          3,          3,2,20080402,       1841,   -59.8488,   139.8590,       4453,  4198.0,   0.0886,  34.6756,2,  34.6753,2,   229.37,2,  228.58,2,   134.2,2,    2.33,2,   0.9515,6,   0.4487,6,   0.0521,6,  -999.0,9,  -999.0,9,  -0.042,2,  -999.0,9, -999.00,9,   32.46,2,      0.001,2
09AR20080322,       SR03,      24,          1,          2,          2,2,20080402,       1841,   -59.8488,   139.8590,       4453,  4481.5,  -0.0159,  34.6672,2,  34.6669,2,   234.17,2,  233.80,2,   130.3,2,    2.31,2,   1.4791,2,   0.7173,2,   0.0938,2,  2261.8,6,  2358.0,2,  -0.038,2,  -999.0,9, -999.00,9,   32.22,2,      0.001,2
09AR20080322,       SR03,      24,          1,          1,          1,2,20080402,       1841,   -59.8488,   139.8590,       4453,  4528.5,  -0.0675,  34.6630,2,  34.6631,2,   235.36,2,  234.84,2,   136.4,2,    2.33,2,   1.6789,2,   0.8213,2,   0.1085,2,  2262.1,2,  2357.4,2,  -0.041,2,  -999.0,9, -999.00,9,   32.26,2,      0.001,2