BOTTLE,20141029CCHSIOCBG
EXPOCODE,SECT_ID,STNNBR,CASTNO,SAMPNO,BTLNBR,BTLNBR_FLAG_W,DATE,TIME,LATITUDE,LONGITUDE,DEPTH,CTDPRS,CTDTMP,CTDSAL,CTDSAL_FLAG_W,SALNTY,SALNTY_FLAG_W,CTDOXY,CTDOXY_FLAG_W,OXYGEN,OXYGEN_FLAG_W,SILCAT,SILCAT_FLAG_W,PHSPHT,PHSPHT_FLAG_W,CFC-11,CFC-11_FLAG_W,CFC-12,CFC-12_FLAG_W,CFC113,CFC113_FLAG_W,TCARBN,TCARBN_FLAG_W,ALKALI,ALKALI_FLAG_W,FLUOR,FLUOR_FLAG_W,DOC,DOC_FLAG_W,TDN,TDN_FLAG_W,NO2+NO3,NO2+NO3_FLAG_W,PAR,PAR_FLAG_W
,,,,,,,,,,,METERS,DBAR,ITS-90,PSS-78,,PSS-78,,UMOL/KG,,UMOL/KG,,UMOL/KG,,UMOL/KG,,PMOL/KG,,PMOL/KG,,PMOL/KG,,UMOL/KG,,UMOL/KG,,MG/M^3,,UMOL/KG,,UMOL/KG,,UMOL/KG,,VOLTS,
09AR20080322,       SR03,      59,          1,         24,         24,2,20080412,       1126,   -48.3203,   144.5303,       3970,     9.1,  10.5019,  34.4581,2,  34.4610,2,   274.25,2,  273.85,2,     1.1,2,    0.87,2,   3.3493,2,   1.9569,2,   0.3099,3,  2090.6,6,  2288.7,2,   0.590,2,  -999.0,9, -999.00,9,   10.93,2,      0.001,2
09AR20080322,       SR03,      59,          1,         23,         23,2,20080412,       1126,   -48.3203,   144.5303,       3970,    29.4,  10.4906,  34.4705,2,-999.0000,9,   273.09,2, -999.00,9,  -999.0,9, -999.00,9,-999.0000,9,-999.0000,9,-999.0000,9,  -999.0,9,  -999.0,9,   0.851,2,  -999.0,9, -999.00,9, -999.00,9,      0.001,2
09AR20080322,       SR03,      59,          1,         22,         22,2,20080412,       1126,   -48.3203,   144.5303,       3970,    29.1,  10.4889,  34.4702,2,-999.0000,9,   273.09,2, -999.00,9,  -999.0,9, -999.00,9,-999.0000,9,-999.0000,9,-999.0000,9,  -999.0,9,  -999.0,9,   0.655,2,  -999.0,9, -999.00,9, -999.00,9,      0.001,2
09AR20080322,       SR03,      59,          1,         21,         21,2,20080412,       1126,   -48.3203,   144.5303,       3970,    29.2,  10.4924,  34.4714,2,  34.4744,2,   273.09,2,  272.75,2,     1.2,2,    0.85,2,   3.3956,2,   1.9721,2,   0.3079,3,  2089.2,2,  2288.8,6,   0.756,2,  -999.0,9, -999.00,9,   10.61,2,      0.001,2
09AR20080322,       SR03,      59,          1,         20,         20,2,20080412,       1126,   -48.3203,   144.5303,       3970,    79.3,  10.3934,  34.4733,2,  34.4726,2,   273.48,2,  273.05,2,     1.2,2,    0.87,2,   3.3538,2,   1.9853,2,   0.2680,3,  2093.1,2,  2288.1,2,   0.468,2,  -999.0,9, -999.00,9,   10.81,2,      0.001,2
09AR20080322,       SR03,      59,          1,         19,         19,2,20080412,       1126,   -48.3203,   144.5303,       3970,   109.1,  10.0763,  34.4670,2,  34.4665,2,   274.98,2,  272.30,2,     1.5,2,    0.93,2,   3.4777,2,   2.0166,2,   0.2907,3,  2098.1,2,  2286.8,2,   0.404,2,  -999.0,9, -999.00,9,   11.65,2,      0.001,2
09AR20080322,       SR03,      59,          1,         18,         18,2,20080412,       1126,   -48.3203,   144.5303,       3970,   202.3,   8.9561,  34.5567,2,  34.5578,2,   267.71,2,  267.23,2,     3.7,2,    1.04,2,-999.0000,9,-999.0000,9,-999.0000,9,  2115.6,2,  2287.0,2,  -0.031,2,  -999.0,9, -999.00,9,   14.45,2,      0.001,2
09AR20080322,       SR03,      59,          1,         17,         17,2,20080412,       1126,   -48.3203,   144.5303,       3970,   297.2,   9.0038,  34.5829,2,  34.5842,2,   265.97,2,  265.49,2,     4.0,2,    1.05,2,   3.5643,2,   2.0445,2,   0.2690,3,  2117.2,2,  2287.1,2,  -0.040,2,  -999.0,9, -999.00,9,   14.89,2,      0.001,2
09AR20080322,       SR03,      59,          1,         16,         16,2,20080412,       1126,   -48.3203,   144.5303,       3970,   399.3,   8.9682,  34.6037,2,  34.6050,2,   258.10,2,  257.35,2,     5.0,2,    1.12,2,   3.5441,2,   2.0083,2,   0.2272,3,  2123.2,2,  2289.8,2,  -0.044,2,  -999.0,9, -999.00,9,   16.11,2,      0.001,2
09AR20080322,       SR03,      59,          1,         15,         15,2,20080412,       1126,   -48.3203,   144.5303,       3970,   601.8,   8.1161,  34.5161,2,  34.5162,2,   234.21,2,  236.33,2,     8.1,2,    1.39,2,   3.2553,2,   1.7839,2,   0.1860,3,  2141.6,2,  2287.0,2,  -0.042,2,  -999.0,9, -999.00,9,   20.50,2,      0.001,2
09AR20080322,       SR03,      59,          1,         14,         14,2,20080412,       1126,   -48.3203,   144.5303,       3970,   800.8,   6.4034,  34.4066,2,  34.4063,2,   209.21,2,  208.29,2,    18.2,2,    1.80,2,   2.4565,2,   1.2821,2,   0.1187,3,  2170.2,2,  2289.4,6,  -0.036,2,  -999.0,9, -999.00,9,   27.12,2,      0.001,2
09AR20080322,       SR03,      59,          1,         13,         13,2,20080412,       1126,   -48.3203,   144.5303,       3970,  1001.6,   4.6347,  34.3349,2,  34.3970,4,   210.86,2, -999.00,9,    30.0,2,    2.06,2,-999.0000,9,-999.0000,9,-999.0000,9,  -999.0,9,  -999.0,9,  -0.037,2,  -999.0,9, -999.00,9,   30.52,2,      0.001,2
09AR20080322,       SR03,      59,          1,         12,         12,2,20080412,       1126,   -48.3203,   144.5303,       3970,  1199.6,   3.9013,  34.3969,2,  34.3980,2,   190.04,2,  188.66,2,    47.4,2,    2.26,2,   1.1572,2,   0.5726,2,   0.0473,3,  2217.3,6,  2310.7,2,  -0.035,2,  -999.0,9, -999.00,9,   33.27,2,      0.001,2
09AR20080322,       SR03,      59,          1,         11,         11,2,20080412,       1126,   -48.3203,   144.5303,       3970,  1400.7,   3.1628,  34.4535,2,  34.4546,2,   177.98,2,  178.08,2,    60.1,2,    2.36,2,   0.7779,2,   0.3892,2,   0.0359,3,  2235.8,2,  2321.7,2,  -0.032,2,  -999.0,9, -999.00,9,   34.78,2,      0.001,2
09AR20080322,       SR03,      59,          1,         10,         10,2,20080412,       1126,   -48.3203,   144.5303,       3970,  1600.3,   2.7881,  34.5313,2,  34.5317,2,   173.12,2,  172.55,2,    68.9,2,    2.39,2,-999.0000,9,-999.0000,9,-999.0000,9,  2248.7,2,  2330.2,2,  -0.027,2,  -999.0,9, -999.00,9,   34.63,2,      0.001,2
09AR20080322,       SR03,      59,          1,          9,          9,2,20080412,       1126,   -48.3203,   144.5303,       3970,  1800.4,   2.5700,  34.6182,2,  34.6187,2,   171.32,2,  171.74,2,    76.1,2,    2.36,2,   0.2430,2,   0.1194,2,   0.0192,3,  2254.8,2,  2338.9,2,  -0.027,2,  -999.0,9, -999.00,9,   33.53,3,      0.001,2
09AR20080322,       SR03,      59,          1,          8,          8,2,20080412,       1126,   -48.3203,   144.5303,       3970,  1999.4,   2.4444,  34.6726,2,  34.6730,2,   173.37,2,  173.35,2,    81.2,2,    2.31,2,-999.0000,9,-999.0000,9,-999.0000,9,  2257.3,2,  2346.5,2,  -0.025,2,  -999.0,9, -999.00,9,   34.00,2,      0.001,2
09AR20080322,       SR03,      59,          1,          7,          7,2,20080412,       1126,   -48.3203,   144.5303,       3970,  2300.2,   2.2693,  34.7190,2,  34.7186,2,   176.40,2,  176.08,2,    90.1,2,    2.28,2,   0.0421,2,   0.0187,2,   0.0134,3,  2261.8,2,  2355.9,2,  -0.024,2,  -999.0,9, -999.00,9,   33.29,2,      0.001,2
09AR20080322,       SR03,      59,          1,          6,          6,2,20080412,       1126,   -48.3203,   144.5303,       3970,  2600.5,   2.0659,  34.7347,2,  34.7357,2,   179.34,2,  178.89,2,    99.1,2,    2.29,2,-999.0000,9,-999.0000,9,-999.0000,9,  2267.6,2,  2364.6,6,  -0.024,2,  -999.0,9, -999.00,9,   33.21,2,      0.001,2
09AR20080322,       SR03,      59,          1,          5,          5,2,20080412,       1126,   -48.3203,   144.5303,       3970,  2899.4,   1.8620,  34.7395,2,  34.7398,2,   184.66,2,  184.89,2,   103.6,2,    2.26,2,   0.0028,2,   0.0000,2,   0.0155,3,  2267.5,2,  2367.6,2,  -0.032,2,  -999.0,9, -999.00,9,   32.90,2,      0.001,2
09AR20080322,       SR03,      59,          1,          4,          4,2,20080412,       1126,   -48.3203,   144.5303,       3970,  3200.7,   1.6454,  34.7369,2,  34.7372,2,   190.36,2,  189.84,2,   108.9,2,    2.27,2,   0.0041,2,   0.0023,2,   0.0099,3,  2270.2,2,  2369.9,2,  -0.032,2,  -999.0,9, -999.00,9,   32.58,2,      0.001,2
09AR20080322,       SR03,      59,          1,          3,          3,2,20080412,       1126,   -48.3203,   144.5303,       3970,  3500.7,   1.4588,  34.7328,2,  34.7327,2,   194.86,2,  195.14,2,   112.2,2,    2.27,2,   0.0081,2,   0.0030,2,   0.0000,3,  2265.6,2,  2369.2,2,  -0.033,2,  -999.0,9, -999.00,9,   32.35,2,      0.001,2
09AR20080322,       SR03,      59,          1,          2,          2,2,20080412,       1126,   -48.3203,   144.5303,       3970,  3803.2,   1.2603,  34.7252,2,  34.7252,2,   200.27,2,  200.31,2,   116.3,2,    2.27,2,-999.0000,9,-999.0000,9,-999.0000,9,  2268.8,2,  2368.6,6,  -0.035,2,  -999.0,9, -999.00,9,   32.27,2,      0.001,2
09AR20080322,       SR03,      59,          1,          1,          1,2,20080412,       1126,   -48.3203,   144.5303,       3970,  4058.2,   1.1164,  34.7184,2,  34.7189,2,   201.52,2,  201.43,2,   120.5,2,    2.28,2,   0.0296,2,   0.0160,2,   0.0114,3,  2272.7,2,  2373.0,2,  -0.035,2,  -999.0,9, -999.00,9,   32.43,2,      0.001,2
09AR20080322,       SR03,      60,          1,         24,         24,2,20080412,       1828,   -47.9998,   144.6738,       4036,     6.5,  10.3997,  34.4725,2,  34.4718,2,  -999.00,5,  273.36,2,     1.2,2,    0.88,2,   3.3834,2,   1.9810,2,   0.2903,3,  -999.0,9,  -999.0,9,   0.528,2,  -999.0,9, -999.00,9,   10.75,2,      1.859,2
09AR20080322,       SR03,      60,          1,         23,         23,2,20080412,       1828,   -47.9998,   144.6738,       4036,     6.2,  10.4020,  34.4723,2,-999.0000,9,  -999.00,5, -999.00,9,  -999.0,9, -999.00,9,-999.0000,9,-999.0000,9,-999.0000,9,  -999.0,9,  -999.0,9,   0.496,2,  -999.0,9, -999.00,9, -999.00,9,      1.862,2
09AR20080322,       SR03,      60,          1,         22,         22,2,20080412,       1828,   -47.9998,   144.6738,       4036,     6.4,  10.4020,  34.4719,2,-999.0000,9,  -999.00,5, -999.00,9,  -999.0,9, -999.00,9,-999.0000,9,-999.0000,9,-999.0000,9,  -999.0,9,  -999.0,9,   0.527,2,  -999.0,9, -999.00,9, -999.00,9,      1.866,2
09AR20080322,       SR03,      60,          1,         21,         21,2,20080412,       1828,   -47.9998,   144.6738,       4036,    16.9,  10.4061,  34.4724,2,-999.0000,9,   272.24,2, -999.00,9,  -999.0,9, -999.00,9,-999.0000,9,-999.0000,9,-999.0000,9,  -999.0,9,  -999.0,9,   0.559,2,  -999.0,9, -999.00,9, -999.00,9,      1.544,2
09AR20080322,       SR03,      60,          1,         20,         20,2,20080412,       1828,   -47.9998,   144.6738,       4036,    86.9,  10.3851,  34.4874,2,-999.0000,9,   271.65,2, -999.00,9,  -999.0,9, -999.00,9,-999.0000,9,-999.0000,9,-999.0000,9,  -999.0,9,  -999.0,9,   0.391,2,  -999.0,9, -999.00,9, -999.00,9,      0.271,2
09AR20080322,       SR03,      60,          1,         19,         19,2,20080412,       1828,   -47.9998,   144.6738,       4036,   499.7,   8.7781,  34.5929,2,  34.5924,2,   253.09,2,  253.73,2,     5.2,2,    1.18,2,   3.5422,2,   2.0037,2,   0.2173,3,  -999.0,9,  -999.0,9,  -0.044,2,  -999.0,9, -999.00,9,   17.01,2,      0.001,2
09AR20080322,       SR03,      60,          1,         18,         18,2,20080412,       1828,   -47.9998,   144.6738,       4036,   997.4,   5.5345,  34.3687,2,  34.3688,2,   207.00,2,  206.10,2,    24.0,2,    1.93,2,   2.0967,2,   1.1077,2,   0.1082,3,  -999.0,9,  -999.0,9,  -0.040,2,  -999.0,9, -999.00,9,   28.92,2,      0.001,2
09AR20080322,       SR03,      60,          1,         17,         17,2,20080412,       1828,   -47.9998,   144.6738,       4036,  1007.4,   5.4218,  34.3645,2,-999.0000,9,   208.46,2, -999.00,9,  -999.0,9, -999.00,9,-999.0000,9,-999.0000,9,-999.0000,9,  -999.0,9,  -999.0,9,  -0.039,2,  -999.0,9, -999.00,9, -999.00,9,      0.001,2
09AR20080322,       SR03,      60,          1,         16,         16,2,20080412,       1828,   -47.9998,   144.6738,       4036,  1199.8,   4.0854,  34.3537,2,  34.3547,2,   198.76,2,  200.76,2,    38.9,2,    2.19,2,   1.7065,2,   0.8585,2,   0.1050,3,  2206.8,6,  2302.2,2,  -0.034,2,  -999.0,9, -999.00,9,   32.34,2,      0.001,2
09AR20080322,       SR03,      60,          1,         15,         15,2,20080412,       1828,   -47.9998,   144.6738,       4036,  1299.9,   3.5637,  34.3931,2,  34.3929,2,   189.80,2,  189.61,2,    49.4,2,    2.30,2,   1.2380,2,   0.6098,2,   0.0721,3,  -999.0,9,  -999.0,9,  -0.034,2,  -999.0,9, -999.00,9,   33.68,2,      0.001,2
09AR20080322,       SR03,      60,          1,         14,         14,2,20080412,       1828,   -47.9998,   144.6738,       4036,  1397.9,   3.2669,  34.4349,2,  34.4345,2,   183.69,2,  181.74,2,    57.2,2,    2.36,2,   0.9392,2,   0.4630,2,   0.0564,3,  2236.9,3,  2316.9,2,  -0.030,2,  -999.0,9, -999.00,9,   34.24,2,      0.001,2
09AR20080322,       SR03,      60,          1,         13,         13,2,20080412,       1828,   -47.9998,   144.6738,       4036,  1597.9,   2.9024,  34.5038,2,-999.0000,9,   173.76,2, -999.00,9,    66.4,2,    2.39,2,-999.0000,9,-999.0000,9,-999.0000,9,  -999.0,9,  -999.0,9,  -0.031,2,  -999.0,9, -999.00,9,   34.64,2,      0.001,2
09AR20080322,       SR03,      60,          1,         12,         12,2,20080412,       1828,   -47.9998,   144.6738,       4036,  1797.8,   2.6253,  34.5956,2,  34.5960,2,   171.04,2,  171.53,2,    74.0,2,    2.35,2,   0.3165,2,   0.1566,2,   0.0194,3,  2252.2,3,  2337.0,2,  -0.029,2,  -999.0,9, -999.00,9,   34.02,2,      0.001,2
09AR20080322,       SR03,      60,          1,         11,         11,2,20080412,       1828,   -47.9998,   144.6738,       4036,  1997.1,   2.4778,  34.6592,2,  34.6590,2,   172.00,2,  172.39,2,    79.6,2,    2.32,2,   0.1388,2,   0.0701,2,   0.0226,3,  2259.6,3,  2344.8,2,  -0.028,2,  -999.0,9, -999.00,9,   32.79,2,      0.001,2
09AR20080322,       SR03,      60,          1,         10,         10,2,20080412,       1828,   -47.9998,   144.6738,       4036,  2200.4,   2.3437,  34.7022,2,  34.7019,2,   172.80,2,  174.47,2,    86.3,2,    2.29,2,   0.0738,2,   0.0365,2,   0.0119,3,  2263.2,3,  2353.3,2,  -0.026,2,  -999.0,9, -999.00,9,   32.10,2,      0.001,2
09AR20080322,       SR03,      60,          1,          9,          9,2,20080412,       1828,   -47.9998,   144.6738,       4036,  2498.4,   2.1580,  34.7283,2,  34.7272,2,   175.50,2,  174.98,2,    96.9,2,    2.31,2,   0.0184,2,   0.0094,2,   0.0159,3,  2270.3,3,  2364.4,2,  -0.024,2,  -999.0,9, -999.00,9,   32.11,2,      0.001,2
09AR20080322,       SR03,      60,          1,          8,          8,2,20080412,       1828,   -47.9998,   144.6738,       4036,  2800.6,   1.9556,  34.7381,2,  34.7376,2,   182.66,2,  182.32,2,   101.5,2,    2.29,2,   0.0115,6,   0.0044,6,   0.0127,3,  2268.7,3,  2365.3,2,  -0.027,2,  -999.0,9, -999.00,9,   31.91,2,      0.001,2
09AR20080322,       SR03,      60,          1,          7,          7,2,20080412,       1828,   -47.9998,   144.6738,       4036,  2811.3,   1.9465,  34.7387,2,-999.0000,9,   182.88,2, -999.00,9,  -999.0,9, -999.00,9,-999.0000,9,-999.0000,9,-999.0000,9,  -999.0,9,  -999.0,9,  -0.030,2,  -999.0,9, -999.00,9, -999.00,9,      0.001,2
09AR20080322,       SR03,      60,          1,          6,          6,2,20080412,       1828,   -47.9998,   144.6738,       4036,  3200.2,   1.7129,  34.7389,2,  34.7382,2,   189.73,2,  189.62,2,   107.7,2,    2.28,2,   0.0081,2,   0.0036,2,   0.0000,3,  2266.0,3,  2368.2,6,  -0.028,2,  -999.0,9, -999.00,9,   32.59,2,      0.001,2
09AR20080322,       SR03,      60,          1,          5,          5,2,20080412,       1828,   -47.9998,   144.6738,       4036,  3498.8,   1.5342,  34.7351,2,  34.7341,2,   194.54,2,  194.44,2,   111.0,2,    2.28,2,   0.0163,2,   0.0070,2,   0.0000,3,  2265.7,3,  2368.4,2,  -0.032,2,  -999.0,9, -999.00,9,   32.59,2,      0.001,2
09AR20080322,       SR03,      60,          1,          4,          4,2,20080412,       1828,   -47.9998,   144.6738,       4036,  3800.7,   1.1544,  34.7211,2,  34.7201,2,   200.68,2,  201.22,2,   120.7,2,    2.31,2,   0.0253,2,   0.0123,2,   0.0109,3,  2272.4,3,  2373.6,2,  -0.033,2,  -999.0,9, -999.00,9,   32.92,2,      0.001,2
09AR20080322,       SR03,      60,          1,          3,          3,2,20080412,       1828,   -47.9998,   144.6738,       4036,  4102.4,   1.0296,  34.7149,2,  34.7138,2,   202.79,2,  201.48,2,   124.5,2,    2.34,2,   0.0172,2,   0.0092,2,   0.0104,3,  2273.0,6,  2377.3,2,  -0.032,2,  -999.0,9, -999.00,9,   33.40,2,      0.001,2
09AR20080322,       SR03,      60,          1,          2,          2,2,20080412,       1828,   -47.9998,   144.6738,       4036,  4377.3,   1.0449,  34.7142,2,  34.7123,2,   203.58,2,  203.26,2,   125.2,2,    2.32,2,   0.0128,2,   0.0067,2,   0.0000,3,  2271.5,3,  2378.3,6,  -0.034,2,  -999.0,9, -999.00,9,   33.33,2,      0.001,2
09AR20080322,       SR03,      60,          1,          1,          1,2,20080412,       1828,   -47.9998,   144.6738,       4036,  4375.7,   1.0449,  34.7141,2,-999.0000,9,   203.57,2, -999.00,9,  -999.0,9, -999.00,9,-999.0000,9,-999.0000,9,-999.0000,9,  -999.0,9,  -999.0,9,  -0.034,2,  -999.0,9, -999.00,9, -999.00,9,      0.001,2