BOTTLE,20141029CCHSIOCBG
# Merged parameters: TCARBN, TCARBN_FLAG_W, ALKALI, ALKALI_FLAG_W, DOC, DOC_FLAG_W, TDN, TDN_FLAG_W
# BOTTLE,20130402PRINUNIVRMK
# 8/17/2011 Initialized README file
# Data source: CCHDO; B.Tilbrook 3/25/13
# SHIP: Aurora Australis
# Cruise: SR03; AU0806
# Region: Southern Ocean south of Tasmania
# EXPOCODE: 09AR20080322
# DATES: 3/22 - 4/17/2008
# Chief Scientist: M. Rosenberg & S. Rintoul
# 73 stations with 24 place Rosette
# Hydro: Who - M.Rosenberg; Status - final
#       Notes: See cruise report for details
# Nuts/O2: Who - ; Status - final
#       Notes: nitrate is really NO3+NO2
#       Phosphate offset of ~0.13 (high) noted by PIs
#       Conversion to umol using temperature of 20.5C by PIs
# TCO2: Who - B.Tilbrook; Status - final
#       Notes: Data from Tilbrook 3/25/13
# TA: Who - B.Tilbrook; Status - final
#       Notes: Data from Tilbrook 3/25/13
# CFC: Who - M.Warner; Status -  final
#       Notes: includes CFC113
# Other: GEOTRACES trace metal work- no data in file
#       DOC/TDN - D. Hansell; Data from Tilbrook 3/25/13
#       O-18- no data in file
# References:
# 20120202SIOCCHDOCBG
# CTD data and bottle data other than CFC's: ACE CRC, Australia
# CFC: Mark Warner, University of Washington
# Citation: Rosenberg, M. and Rintoul, S. (unpublished) Aurora Australis Marine Science Cruises AU0803
#            and AU0806 - oceanographic field measurements and analysis. ACECRC, Hobart, unpublished report.
EXPOCODE,SECT_ID,STNNBR,CASTNO,SAMPNO,BTLNBR,BTLNBR_FLAG_W,DATE,TIME,LATITUDE,LONGITUDE,DEPTH,CTDPRS,CTDTMP,CTDSAL,CTDSAL_FLAG_W,SALNTY,SALNTY_FLAG_W,CTDOXY,CTDOXY_FLAG_W,OXYGEN,OXYGEN_FLAG_W,SILCAT,SILCAT_FLAG_W,PHSPHT,PHSPHT_FLAG_W,CFC-11,CFC-11_FLAG_W,CFC-12,CFC-12_FLAG_W,CFC113,CFC113_FLAG_W,TCARBN,TCARBN_FLAG_W,ALKALI,ALKALI_FLAG_W,FLUOR,FLUOR_FLAG_W,DOC,DOC_FLAG_W,TDN,TDN_FLAG_W,NO2+NO3,NO2+NO3_FLAG_W,PAR,PAR_FLAG_W
,,,,,,,,,,,METERS,DBAR,ITS-90,PSS-78,,PSS-78,,UMOL/KG,,UMOL/KG,,UMOL/KG,,UMOL/KG,,PMOL/KG,,PMOL/KG,,PMOL/KG,,UMOL/KG,,UMOL/KG,,MG/M^3,,UMOL/KG,,UMOL/KG,,UMOL/KG,,VOLTS,
09AR20080322,       TEST,       1,          1,         24,         24,2,20080323,       2248,   -50.2012,   145.3860,       4167,  2206.0,   2.0863,  34.7414,2,  34.6743,4,  -999.00,5,  178.55,2,  -999.0,9, -999.00,9,-999.0000,9,-999.0000,9,-999.0000,9,  -999.0,9,  -999.0,9,  -0.025,2,  -999.0,9, -999.00,9, -999.00,9,      0.001,2
09AR20080322,       TEST,       1,          1,         23,         23,2,20080323,       2248,   -50.2012,   145.3860,       4167,  2206.1,   2.0870,  34.7415,2,-999.0000,9,  -999.00,5, -999.00,9,  -999.0,9, -999.00,9,-999.0000,9,-999.0000,9,-999.0000,9,  -999.0,9,  -999.0,9,  -0.028,2,  -999.0,9, -999.00,9, -999.00,9,      0.001,2
09AR20080322,       TEST,       1,          1,         22,         22,2,20080323,       2248,   -50.2012,   145.3860,       4167,  2204.2,   2.0883,  34.7413,2,-999.0000,9,  -999.00,5, -999.00,9,  -999.0,9, -999.00,9,-999.0000,9,-999.0000,9,-999.0000,9,  -999.0,9,  -999.0,9,  -0.029,2,  -999.0,9, -999.00,9, -999.00,9,      0.001,2
09AR20080322,       TEST,       1,          1,         21,         21,2,20080323,       2248,   -50.2012,   145.3860,       4167,  2205.6,   2.0892,  34.7412,2,  34.7429,2,  -999.00,5,  188.93,2,  -999.0,9, -999.00,9,-999.0000,9,-999.0000,9,-999.0000,9,  -999.0,9,  -999.0,9,  -0.028,2,  -999.0,9, -999.00,9, -999.00,9,      0.001,2
09AR20080322,       TEST,       1,          1,         20,         20,2,20080323,       2248,   -50.2012,   145.3860,       4167,  2204.4,   2.0904,  34.7413,2,  34.7425,2,  -999.00,5,  188.85,2,  -999.0,9, -999.00,9,-999.0000,9,-999.0000,9,-999.0000,9,  -999.0,9,  -999.0,9,  -0.026,2,  -999.0,9, -999.00,9, -999.00,9,      0.001,2
09AR20080322,       TEST,       1,          1,         19,         19,2,20080323,       2248,   -50.2012,   145.3860,       4167,  2205.0,   2.0912,  34.7412,2,  34.7425,2,  -999.00,5,  189.54,2,  -999.0,9, -999.00,9,-999.0000,9,-999.0000,9,-999.0000,9,  -999.0,9,  -999.0,9,  -0.025,2,  -999.0,9, -999.00,9, -999.00,9,      0.001,2
09AR20080322,       TEST,       1,          1,         18,         18,2,20080323,       2248,   -50.2012,   145.3860,       4167,  2204.6,   2.0931,  34.7410,2,  34.7429,2,  -999.00,5,  188.72,2,  -999.0,9, -999.00,9,-999.0000,9,-999.0000,9,-999.0000,9,  -999.0,9,  -999.0,9,  -0.029,2,  -999.0,9, -999.00,9, -999.00,9,      0.001,2
09AR20080322,       TEST,       1,          1,         17,         17,2,20080323,       2248,   -50.2012,   145.3860,       4167,  2205.1,   2.0922,  34.7413,2,  34.7424,2,  -999.00,5,  188.72,2,  -999.0,9, -999.00,9,-999.0000,9,-999.0000,9,-999.0000,9,  -999.0,9,  -999.0,9,  -0.026,2,  -999.0,9, -999.00,9, -999.00,9,      0.001,2
09AR20080322,       TEST,       1,          1,         16,         16,2,20080323,       2248,   -50.2012,   145.3860,       4167,  2204.4,   2.0932,  34.7410,2,  34.7425,2,  -999.00,5,  188.72,2,  -999.0,9, -999.00,9,-999.0000,9,-999.0000,9,-999.0000,9,  -999.0,9,  -999.0,9,  -0.027,2,  -999.0,9, -999.00,9, -999.00,9,      0.001,2
09AR20080322,       TEST,       1,          1,         15,         15,2,20080323,       2248,   -50.2012,   145.3860,       4167,  2205.6,   2.0928,  34.7411,2,  34.7420,2,  -999.00,5,  188.76,2,  -999.0,9, -999.00,9,-999.0000,9,-999.0000,9,-999.0000,9,  -999.0,9,  -999.0,9,  -0.027,2,  -999.0,9, -999.00,9, -999.00,9,      0.001,2
09AR20080322,       TEST,       1,          1,         14,         14,2,20080323,       2248,   -50.2012,   145.3860,       4167,  2205.1,   2.0932,  34.7413,2,  34.7427,2,  -999.00,5,  188.88,2,  -999.0,9, -999.00,9,-999.0000,9,-999.0000,9,-999.0000,9,  -999.0,9,  -999.0,9,  -0.028,2,  -999.0,9, -999.00,9, -999.00,9,      0.001,2
09AR20080322,       TEST,       1,          1,         13,         13,2,20080323,       2248,   -50.2012,   145.3860,       4167,  2205.6,   2.0921,  34.7415,2,  34.7429,2,  -999.00,5,  189.41,2,  -999.0,9, -999.00,9,-999.0000,9,-999.0000,9,-999.0000,9,  -999.0,9,  -999.0,9,  -0.027,2,  -999.0,9, -999.00,9, -999.00,9,      0.001,2
09AR20080322,       TEST,       1,          1,         12,         12,2,20080323,       2248,   -50.2012,   145.3860,       4167,  2205.2,   2.0915,  34.7415,2,  34.7429,2,  -999.00,5,  188.72,2,  -999.0,9, -999.00,9,-999.0000,9,-999.0000,9,-999.0000,9,  -999.0,9,  -999.0,9,  -0.028,2,  -999.0,9, -999.00,9, -999.00,9,      0.001,2
09AR20080322,       TEST,       1,          1,         11,         11,2,20080323,       2248,   -50.2012,   145.3860,       4167,  2205.5,   2.0925,  34.7414,2,  34.7425,2,  -999.00,5,  189.37,2,  -999.0,9, -999.00,9,-999.0000,9,-999.0000,9,-999.0000,9,  -999.0,9,  -999.0,9,  -0.027,2,  -999.0,9, -999.00,9, -999.00,9,      0.001,2
09AR20080322,       TEST,       1,          1,         10,         10,2,20080323,       2248,   -50.2012,   145.3860,       4167,  2205.9,   2.0919,  34.7413,2,  34.7425,2,  -999.00,5,  189.59,2,  -999.0,9, -999.00,9,-999.0000,9,-999.0000,9,-999.0000,9,  -999.0,9,  -999.0,9,  -0.026,2,  -999.0,9, -999.00,9, -999.00,9,      0.001,2
09AR20080322,       TEST,       1,          1,          9,          9,2,20080323,       2248,   -50.2012,   145.3860,       4167,  2206.6,   2.0903,  34.7415,2,  34.7425,2,  -999.00,5,  192.37,2,  -999.0,9, -999.00,9,-999.0000,9,-999.0000,9,-999.0000,9,  -999.0,9,  -999.0,9,  -0.029,2,  -999.0,9, -999.00,9, -999.00,9,      0.001,2
09AR20080322,       TEST,       1,          1,          8,          8,2,20080323,       2248,   -50.2012,   145.3860,       4167,  2206.3,   2.0911,  34.7416,2,  34.7421,2,  -999.00,5,  189.50,2,  -999.0,9, -999.00,9,-999.0000,9,-999.0000,9,-999.0000,9,  -999.0,9,  -999.0,9,  -0.028,2,  -999.0,9, -999.00,9, -999.00,9,      0.001,2
09AR20080322,       TEST,       1,          1,          7,          7,2,20080323,       2248,   -50.2012,   145.3860,       4167,  2206.6,   2.0904,  34.7415,2,-999.0000,9,  -999.00,5, -999.00,9,  -999.0,9, -999.00,9,-999.0000,9,-999.0000,9,-999.0000,9,  -999.0,9,  -999.0,9,  -0.029,2,  -999.0,9, -999.00,9, -999.00,9,      0.001,2
09AR20080322,       TEST,       1,          1,          6,          6,2,20080323,       2248,   -50.2012,   145.3860,       4167,  2206.2,   2.0901,  34.7414,2,  34.7418,2,  -999.00,5, -999.00,9,  -999.0,9, -999.00,9,-999.0000,9,-999.0000,9,-999.0000,9,  -999.0,9,  -999.0,9,  -0.029,2,  -999.0,9, -999.00,9, -999.00,9,      0.001,2
09AR20080322,       TEST,       1,          1,          5,          5,2,20080323,       2248,   -50.2012,   145.3860,       4167,  2206.3,   2.0883,  34.7413,2,  34.7420,2,  -999.00,5, -999.00,9,  -999.0,9, -999.00,9,-999.0000,9,-999.0000,9,-999.0000,9,  -999.0,9,  -999.0,9,  -0.030,2,  -999.0,9, -999.00,9, -999.00,9,      0.001,2
09AR20080322,       TEST,       1,          1,          4,          4,2,20080323,       2248,   -50.2012,   145.3860,       4167,  2205.2,   2.0882,  34.7412,2,-999.0000,9,  -999.00,5, -999.00,9,  -999.0,9, -999.00,9,-999.0000,9,-999.0000,9,-999.0000,9,  -999.0,9,  -999.0,9,  -0.027,2,  -999.0,9, -999.00,9, -999.00,9,      0.001,2
09AR20080322,       TEST,       1,          1,          3,          3,2,20080323,       2248,   -50.2012,   145.3860,       4167,  2206.0,   2.0867,  34.7412,2,-999.0000,9,  -999.00,5, -999.00,9,  -999.0,9, -999.00,9,-999.0000,9,-999.0000,9,-999.0000,9,  -999.0,9,  -999.0,9,  -0.026,2,  -999.0,9, -999.00,9, -999.00,9,      0.001,2
09AR20080322,       TEST,       1,          1,          2,          2,2,20080323,       2248,   -50.2012,   145.3860,       4167,  2205.0,   2.0862,  34.7412,2,  34.7402,2,  -999.00,5,  190.28,2,  -999.0,9, -999.00,9,-999.0000,9,-999.0000,9,-999.0000,9,  -999.0,9,  -999.0,9,  -0.024,2,  -999.0,9, -999.00,9, -999.00,9,      0.001,2
09AR20080322,       TEST,       1,          1,          1,          1,2,20080323,       2248,   -50.2012,   145.3860,       4167,  2204.4,   2.0858,  34.7413,2,  34.7412,2,  -999.00,5,  201.84,2,  -999.0,9, -999.00,9,-999.0000,9,-999.0000,9,-999.0000,9,  -999.0,9,  -999.0,9,  -0.030,2,  -999.0,9, -999.00,9, -999.00,9,      0.001,2
09AR20080322,       TEST,       2,          1,         24,         24,2,20080325,       0000,   -54.4012,   143.8132,       2772,     8.0,   4.5249,  33.7062,2,-999.0000,9,   316.67,2, -999.00,9,  -999.0,9, -999.00,9,-999.0000,9,-999.0000,9,-999.0000,9,  -999.0,9,  -999.0,9,   1.647,2,  -999.0,9, -999.00,9, -999.00,9,      2.957,2
09AR20080322,       TEST,       2,          1,         23,         23,2,20080325,       0000,   -54.4012,   143.8132,       2772,    28.6,   4.4840,  33.7137,2,-999.0000,9,   316.47,2, -999.00,9,  -999.0,9, -999.00,9,-999.0000,9,-999.0000,9,-999.0000,9,  -999.0,9,  -999.0,9,   2.257,2,  -999.0,9, -999.00,9, -999.00,9,      2.370,2
09AR20080322,       TEST,       2,          1,         22,         22,2,20080325,       0000,   -54.4012,   143.8132,       2772,    28.5,   4.4833,  33.7138,2,-999.0000,9,   316.47,2, -999.00,9,  -999.0,9, -999.00,9,-999.0000,9,-999.0000,9,-999.0000,9,  -999.0,9,  -999.0,9,   2.384,2,  -999.0,9, -999.00,9, -999.00,9,      2.425,2
09AR20080322,       TEST,       2,          1,         21,         21,2,20080325,       0000,   -54.4012,   143.8132,       2772,    28.7,   4.4831,  33.7137,2,  33.7136,2,   316.47,2,  316.62,2,     1.8,2,    1.62,2,-999.0000,9,-999.0000,9,-999.0000,9,  2120.5,2,  2271.4,6,   2.660,2,  -999.0,9, -999.00,9,   24.74,2,      2.425,2
09AR20080322,       TEST,       2,          1,         20,         20,2,20080325,       0000,   -54.4012,   143.8132,       2772,    69.0,   4.4568,  33.7153,2,  33.7147,2,   315.76,2,  316.09,2,     2.0,2,    1.63,2,-999.0000,9,-999.0000,9,-999.0000,9,  2122.6,2,  2273.0,2,   2.564,2,  -999.0,9, -999.00,9,   24.84,2,      1.464,2
09AR20080322,       TEST,       2,          1,         19,         19,2,20080325,       0000,   -54.4012,   143.8132,       2772,    89.3,   4.4294,  33.7157,2,  33.7167,2,   336.63,2,  315.88,2,     2.2,2,    1.65,2,-999.0000,9,-999.0000,9,-999.0000,9,  2122.9,2,  2273.0,6,   2.530,2,  -999.0,9, -999.00,9,   24.68,2,      1.028,2
09AR20080322,       TEST,       2,          1,         18,         18,2,20080325,       0000,   -54.4012,   143.8132,       2772,   110.5,   1.1480,  33.8515,2,  33.8503,2,   333.37,2,  328.72,2,    16.0,2,    2.00,2,-999.0000,9,-999.0000,9,-999.0000,9,  2153.7,2,  2278.0,2,   2.167,2,  -999.0,9, -999.00,9,   27.61,2,      0.428,2
09AR20080322,       TEST,       2,          1,         17,         17,2,20080325,       0000,   -54.4012,   143.8132,       2772,   129.6,   1.0330,  33.9197,2,  33.9139,2,   312.14,2,  314.17,2,    22.4,2,    2.07,2,-999.0000,9,-999.0000,9,-999.0000,9,  2166.2,2,  2282.5,2,   0.662,2,  -999.0,9, -999.00,9,   29.33,2,      0.059,2
09AR20080322,       TEST,       2,          1,         16,         16,2,20080325,       0000,   -54.4012,   143.8132,       2772,   150.3,   1.1504,  33.9874,2,  33.9825,2,   292.40,2,  297.81,2,    28.2,2,    2.13,2,-999.0000,9,-999.0000,9,-999.0000,9,  2178.1,2,  2283.7,2,   0.221,2,  -999.0,9, -999.00,9,   30.32,2,      0.001,2
09AR20080322,       TEST,       2,          1,         15,         15,2,20080325,       0000,   -54.4012,   143.8132,       2772,   200.6,   1.6550,  34.1806,2,  34.1745,2,   244.94,2,  247.74,2,    44.8,2,    2.31,2,-999.0000,9,-999.0000,9,-999.0000,9,  2209.2,2,  2295.5,2,  -0.021,2,  -999.0,9, -999.00,9,   32.57,2,      0.001,2
09AR20080322,       TEST,       2,          1,         14,         14,2,20080325,       0000,   -54.4012,   143.8132,       2772,   298.2,   2.2292,  34.3776,2,  34.3754,2,   197.22,2,  194.38,2,    61.5,2,    2.45,2,-999.0000,9,-999.0000,9,-999.0000,9,  2236.9,2,  2309.7,2,  -0.029,2,  -999.0,9, -999.00,9,   34.48,2,      0.001,2
09AR20080322,       TEST,       2,          1,         13,         13,2,20080325,       0000,   -54.4012,   143.8132,       2772,   401.6,   2.3297,  34.4814,2,  34.4799,2,   179.97,2,  179.81,2,    69.1,2,    2.46,2,-999.0000,9,-999.0000,9,-999.0000,9,  2249.1,2,  2321.1,6,  -0.026,2,  -999.0,9, -999.00,9,   34.48,2,      0.001,2
09AR20080322,       TEST,       2,          1,         12,         12,2,20080325,       0000,   -54.4012,   143.8132,       2772,   550.2,   2.3362,  34.5809,2,  34.5799,2,   172.79,2,  172.96,2,    75.0,2,    2.41,2,-999.0000,9,-999.0000,9,-999.0000,9,  2253.2,6,  2328.1,6,  -0.030,2,  -999.0,9, -999.00,9,   34.15,2,      0.001,2
09AR20080322,       TEST,       2,          1,         11,         11,2,20080325,       0000,   -54.4012,   143.8132,       2772,   701.8,   2.2785,  34.6421,2,  34.6403,2,   173.72,2,  174.26,2,    78.2,2,    2.38,2,-999.0000,9,-999.0000,9,-999.0000,9,  2252.6,2,  2333.9,2,  -0.027,2,  -999.0,9, -999.00,9,   33.32,2,      0.001,2
09AR20080322,       TEST,       2,          1,         10,         10,2,20080325,       0000,   -54.4012,   143.8132,       2772,   854.1,   2.2466,  34.6912,2,  34.6901,2,   179.44,2,  181.08,2,    79.1,2,    2.29,2,-999.0000,9,-999.0000,9,-999.0000,9,  2250.3,2,  2339.3,2,  -0.025,2,  -999.0,9, -999.00,9,   32.07,2,      0.001,2
09AR20080322,       TEST,       2,          1,          9,          9,2,20080325,       0000,   -54.4012,   143.8132,       2772,  1001.1,   2.1575,  34.7184,2,  34.7164,2,   185.19,2,  186.42,2,    81.0,2,    2.25,2,-999.0000,9,-999.0000,9,-999.0000,9,  2249.1,2,  2340.9,2,  -0.029,2,  -999.0,9, -999.00,9,   31.23,2,      0.001,2
09AR20080322,       TEST,       2,          1,          8,          8,2,20080325,       0000,   -54.4012,   143.8132,       2772,  1250.5,   1.9657,  34.7416,2,  34.7404,2,   191.48,2,  192.23,2,    86.1,2,    2.21,2,-999.0000,9,-999.0000,9,-999.0000,9,  2248.4,2,  2345.4,2,  -0.027,2,  -999.0,9, -999.00,9,   30.51,2,      0.001,2
09AR20080322,       TEST,       2,          1,          7,          7,2,20080325,       0000,   -54.4012,   143.8132,       2772,  1500.0,   1.7545,  34.7480,2,  34.7467,2,   196.69,2,  196.14,2,    92.0,2,    2.20,2,-999.0000,9,-999.0000,9,-999.0000,9,  2247.8,2,  2347.2,2,  -0.028,2,  -999.0,9, -999.00,9,   30.47,2,      0.001,2
09AR20080322,       TEST,       2,          1,          6,          6,2,20080325,       0000,   -54.4012,   143.8132,       2772,  1750.6,   1.5015,  34.7438,2,  34.7429,2,   200.79,2,  200.22,2,    99.2,2,    2.23,2,-999.0000,9,-999.0000,9,-999.0000,9,  2251.5,2,  2351.7,2,  -0.034,2,  -999.0,9, -999.00,9,   30.39,3,      0.001,2
09AR20080322,       TEST,       2,          1,          5,          5,2,20080325,       0000,   -54.4012,   143.8132,       2772,  2002.1,   1.2640,  34.7344,2,  34.7331,2,   203.81,2,  206.05,2,   106.7,2,    2.26,2,-999.0000,9,-999.0000,9,-999.0000,9,  2251.9,2,  2356.5,2,  -0.035,2,  -999.0,9, -999.00,9,   31.12,2,      0.001,2
09AR20080322,       TEST,       2,          1,          4,          4,2,20080325,       0000,   -54.4012,   143.8132,       2772,  2251.2,   1.0650,  34.7246,2,  34.7227,2,   205.91,2,  205.13,2,   112.6,2,    2.29,2,-999.0000,9,-999.0000,9,-999.0000,9,  2258.7,2,  2357.9,6,  -0.034,2,  -999.0,9, -999.00,9,   31.53,2,      0.001,2
09AR20080322,       TEST,       2,          1,          3,          3,2,20080325,       0000,   -54.4012,   143.8132,       2772,  2499.8,   0.8403,  34.7133,2,  34.7119,2,   208.75,2,  208.30,2,   119.3,2,    2.33,2,-999.0000,9,-999.0000,9,-999.0000,9,  2259.7,2,  2357.2,2,  -0.034,2,  -999.0,9, -999.00,9,   31.60,2,      0.001,2
09AR20080322,       TEST,       2,          1,          2,          2,2,20080325,       0000,   -54.4012,   143.8132,       2772,  2752.0,   0.6815,  34.7055,2,  34.7037,2,   210.68,2,  210.56,2,   126.3,2,    2.36,2,-999.0000,9,-999.0000,9,-999.0000,9,  2261.7,2,  2358.0,6,  -0.035,2,  -999.0,9, -999.00,9,   31.85,2,      0.001,2
09AR20080322,       TEST,       2,          1,          1,          1,2,20080325,       0000,   -54.4012,   143.8132,       2772,  2807.9,   0.6669,  34.7046,2,  34.7033,2,   210.61,2,  211.25,2,   126.6,2,    2.35,2,-999.0000,9,-999.0000,9,-999.0000,9,  2263.0,2,  2357.0,2,  -0.036,2,  -999.0,9, -999.00,9,   31.79,2,      0.001,2