BOTTLE,20141029CCHSIOCBG
EXPOCODE,SECT_ID,STNNBR,CASTNO,SAMPNO,BTLNBR,BTLNBR_FLAG_W,DATE,TIME,LATITUDE,LONGITUDE,DEPTH,CTDPRS,CTDTMP,CTDSAL,CTDSAL_FLAG_W,SALNTY,SALNTY_FLAG_W,CTDOXY,CTDOXY_FLAG_W,OXYGEN,OXYGEN_FLAG_W,SILCAT,SILCAT_FLAG_W,PHSPHT,PHSPHT_FLAG_W,CFC-11,CFC-11_FLAG_W,CFC-12,CFC-12_FLAG_W,CFC113,CFC113_FLAG_W,TCARBN,TCARBN_FLAG_W,ALKALI,ALKALI_FLAG_W,FLUOR,FLUOR_FLAG_W,DOC,DOC_FLAG_W,TDN,TDN_FLAG_W,NO2+NO3,NO2+NO3_FLAG_W,PAR,PAR_FLAG_W
,,,,,,,,,,,METERS,DBAR,ITS-90,PSS-78,,PSS-78,,UMOL/KG,,UMOL/KG,,UMOL/KG,,UMOL/KG,,PMOL/KG,,PMOL/KG,,PMOL/KG,,UMOL/KG,,UMOL/KG,,MG/M^3,,UMOL/KG,,UMOL/KG,,UMOL/KG,,VOLTS,
09AR20080322,       SR03,      29,          1,         24,         24,2,20080404,       0015,   -57.8497,   139.8505,       3964,     4.5,   4.1060,  33.7488,2,  33.7488,2,   309.12,2,  308.77,2,     2.7,2,    1.70,2,   5.0107,2,   2.6253,2,   0.4937,2,  2128.8,6,  2272.3,2,   0.061,2,    44.9,2,   30.19,2,   25.54,2,      3.247,2
09AR20080322,       SR03,      29,          1,         23,         23,2,20080404,       0015,   -57.8497,   139.8505,       3964,    31.7,   4.0839,  33.7484,2,-999.0000,9,   308.76,2, -999.00,9,  -999.0,9, -999.00,9,-999.0000,9,-999.0000,9,-999.0000,9,  -999.0,9,  -999.0,9,   0.449,2,  -999.0,9, -999.00,9, -999.00,9,      2.670,2
09AR20080322,       SR03,      29,          1,         22,         22,2,20080404,       0015,   -57.8497,   139.8505,       3964,    31.8,   4.0858,  33.7484,2,-999.0000,9,   308.76,2, -999.00,9,  -999.0,9, -999.00,9,-999.0000,9,-999.0000,9,-999.0000,9,  -999.0,9,  -999.0,9,   0.445,2,  -999.0,9, -999.00,9, -999.00,9,      2.667,2
09AR20080322,       SR03,      29,          1,         21,         21,2,20080404,       0015,   -57.8497,   139.8505,       3964,    31.8,   4.0724,  33.7484,2,  33.7482,2,   308.76,2,  309.12,2,     2.7,2,    1.68,2,   4.9329,2,   2.6270,2,   0.4428,2,  2127.2,2,  2272.0,6,   0.466,2,    44.8,2,   29.15,2,   25.52,2,      2.663,2
09AR20080322,       SR03,      29,          1,         20,         20,2,20080404,       0015,   -57.8497,   139.8505,       3964,    80.1,   3.9270,  33.7512,2,  33.7505,2,   309.42,2,  310.67,2,     3.7,2,    1.70,2,   5.1010,2,   2.6604,2,   0.5174,2,  2129.9,2,  2272.7,2,   0.806,2,    44.0,2,   29.44,2,   25.73,2,      2.053,2
09AR20080322,       SR03,      29,          1,         19,         19,2,20080404,       0015,   -57.8497,   139.8505,       3964,   129.8,   2.0657,  33.8449,2,  33.8478,2,   311.48,2,  313.17,2,    14.6,2,    1.93,2,   5.4678,2,   2.8376,2,   0.5143,2,  2152.2,2,  2276.2,2,   0.907,2,    42.0,2,   30.63,2,   28.12,2,      1.187,2
09AR20080322,       SR03,      29,          1,         18,         18,2,20080404,       0015,   -57.8497,   139.8505,       3964,   200.5,   2.1797,  34.0668,2,  34.0678,2,   272.39,2,  272.64,2,    30.7,2,    2.11,2,   4.6744,2,   2.3715,2,   0.3952,2,  2183.5,2,  2285.8,2,  -0.023,2,    41.2,2,   32.65,2,   31.06,2,      0.178,2
09AR20080322,       SR03,      29,          1,         17,         17,2,20080404,       0015,   -57.8497,   139.8505,       3964,   300.8,   2.3499,  34.2194,2,  34.2197,2,   234.96,2,  231.14,2,    43.7,2,    2.26,2,   3.2844,2,   1.6191,2,   0.2879,2,  2207.5,2,  2298.8,2,  -0.040,2,    40.9,2,   33.85,2,   32.99,2,      0.001,2
09AR20080322,       SR03,      29,          1,         16,         16,2,20080404,       0015,   -57.8497,   139.8505,       3964,   401.7,   2.3708,  34.3251,2,  34.3264,2,   204.97,2,  203.65,2,    55.2,2,    2.37,2,   2.2919,2,   1.1326,2,   0.1865,2,  2227.4,2,  2308.6,6,  -0.032,2,    40.7,2,   35.37,2,   34.08,2,      0.001,2
09AR20080322,       SR03,      29,          1,         15,         15,2,20080404,       0015,   -57.8497,   139.8505,       3964,   501.4,   2.4263,  34.4079,2,  34.4080,2,   186.06,2,  187.72,2,    62.1,2,    2.40,2,   1.5707,2,   0.7877,2,   0.1095,2,  2239.6,2,  2316.4,2,  -0.030,2,    40.4,2,   35.71,2,   34.21,3,      0.001,2
09AR20080322,       SR03,      29,          1,         14,         14,2,20080404,       0015,   -57.8497,   139.8505,       3964,   700.5,   2.4005,  34.5456,2,  34.5459,2,   173.10,2,  173.67,2,    72.9,2,    2.39,2,   0.7612,2,   0.3740,2,   0.0474,2,  2250.7,2,  2327.4,2,  -0.029,2,    39.9,2,   35.06,2,   34.18,3,      0.001,2
09AR20080322,       SR03,      29,          1,         13,         13,2,20080404,       0015,   -57.8497,   139.8505,       3964,   901.0,   2.3256,  34.6395,2,  34.6401,2,   173.99,2,  174.22,2,    77.8,2,    2.31,2,   0.4021,2,   0.2035,2,   0.0249,2,  2252.4,2,  2335.1,6,  -0.028,2,    39.3,2,   33.68,2,   32.83,3,      0.001,2
09AR20080322,       SR03,      29,          1,         12,         12,2,20080404,       0015,   -57.8497,   139.8505,       3964,  1101.3,   2.2604,  34.6965,2,  34.6967,2,   179.96,2,  180.64,2,    79.3,2,    2.22,2,   0.2395,2,   0.1109,2,   0.0158,2,  2249.2,6,  2340.2,2,  -0.031,2,    39.7,2,   32.73,2,   31.18,3,      0.001,2
09AR20080322,       SR03,      29,          1,         11,         11,2,20080404,       0015,   -57.8497,   139.8505,       3964,  1301.0,   2.1457,  34.7259,2,  34.7260,2,   185.31,2,  185.89,2,    81.5,2,    2.16,2,   0.1760,2,   0.0882,2,   0.0125,2,  2248.5,2,  2342.5,2,  -0.028,2,    39.0,2,   31.77,2,   30.08,3,      0.001,2
09AR20080322,       SR03,      29,          1,         10,         10,2,20080404,       0015,   -57.8497,   139.8505,       3964,  1600.1,   1.9247,  34.7475,2,  34.7480,2,   192.53,2,  192.93,2,    87.3,2,    2.14,2,   0.1362,2,   0.0583,2,   0.0106,2,  2247.9,2,  2348.4,2,  -0.030,2,    39.0,2,   31.01,2,   29.28,3,      0.001,2
09AR20080322,       SR03,      29,          1,          9,          9,2,20080404,       0015,   -57.8497,   139.8505,       3964,  1900.5,   1.6630,  34.7481,2,  34.7482,2,   197.51,2,  197.70,2,    94.9,2,    2.15,2,   0.1216,2,   0.0537,2,   0.0074,2,  2250.9,2,  2351.0,2,  -0.031,2,    39.9,2,   30.90,2,   29.72,3,      0.001,2
09AR20080322,       SR03,      29,          1,          8,          8,2,20080404,       0015,   -57.8497,   139.8505,       3964,  2199.1,   1.4061,  34.7395,2,  34.7396,2,   200.68,2,  200.61,2,   104.1,2, -999.00,9,   0.1216,2,   0.0518,2,   0.0074,2,  2253.3,2,  2355.4,2,  -0.030,2,    40.0,2,   32.59,2, -999.00,9,      0.001,2
09AR20080322,       SR03,      29,          1,          7,          7,2,20080404,       0015,   -57.8497,   139.8505,       3964,  2499.7,   1.1618,  34.7279,2,  34.7272,2,   203.55,2,  203.35,2,   111.7,2,    2.25,2,   0.1321,2,   0.0721,2,   0.0087,2,  2255.8,2,  2359.0,2,  -0.034,2,    39.9,2,   32.94,2,   31.71,2,      0.001,2
09AR20080322,       SR03,      29,          1,          6,          6,2,20080404,       0015,   -57.8497,   139.8505,       3964,  2798.8,   0.9309,  34.7162,2,  34.7158,2,   206.78,2,  206.35,2,   119.7,2,    2.27,2,   0.1782,2,   0.0697,2,   0.0115,2,  2258.5,2,  2357.4,6,  -0.036,2,    39.6,2,   33.15,2,   31.81,2,      0.001,2
09AR20080322,       SR03,      29,          1,          5,          5,2,20080404,       0015,   -57.8497,   139.8505,       3964,  3099.7,   0.7061,  34.7049,2,  34.7044,2,   210.81,2,  210.26,2,   125.2,2,    2.30,2,   0.2347,2,   0.1204,2,   0.0111,2,  2259.0,2,  2357.2,2,  -0.036,2,    39.4,2,   33.64,2,   31.95,2,      0.001,2
09AR20080322,       SR03,      29,          1,          4,          4,2,20080404,       0015,   -57.8497,   139.8505,       3964,  3399.6,   0.4748,  34.6943,2,  34.6936,2,   215.44,2,  215.03,2,   132.0,2,    2.32,2,   0.3432,2,   0.1649,2,   0.0145,2,  2260.1,2,  2357.6,2,  -0.040,2,    39.6,2,   33.72,2,   32.24,2,      0.001,2
09AR20080322,       SR03,      29,          1,          3,          3,2,20080404,       0015,   -57.8497,   139.8505,       3964,  3699.3,   0.3648,  34.6894,2,  34.6885,2,   218.78,2,  218.12,2,   136.3,2,    2.33,2,   0.4415,2,   0.2094,2,   0.0192,2,  2260.7,2,  2358.7,2,  -0.041,2,    39.7,2,   33.55,2,   32.23,2,      0.001,2
09AR20080322,       SR03,      29,          1,          2,          2,2,20080404,       0015,   -57.8497,   139.8505,       3964,  4002.0,   0.2584,  34.6842,2,  34.6842,2,   222.35,2,  221.64,2,   142.2,2, -999.00,9,   0.5876,2,   0.2800,2,   0.0289,2,  2262.4,2,  2359.3,6,  -0.039,2,    39.6,2,   34.25,2,   32.53,2,      0.001,2
09AR20080322,       SR03,      29,          1,          1,          1,2,20080404,       0015,   -57.8497,   139.8505,       3964,  4048.4,   0.2417,  34.6833,2,  34.6826,2,   222.90,2,  222.77,2,   142.1,2,    2.33,2,   0.6102,2,   0.2930,2,   0.0299,2,  2261.2,6,  2357.6,2,  -0.042,2,    40.0,2,   33.78,2,   32.36,2,      0.001,2
09AR20080322,       SR03,      30,          1,         24,         24,2,20080404,       0711,   -57.3483,   139.8753,       3955,     5.4,   4.6884,  33.7333,2,  33.7333,2,  -999.00,5,  305.66,2,     1.8,2,    1.64,2,   4.7640,2,   2.5915,2,   0.4534,2,  2123.9,6,  2270.2,2,   0.816,2,  -999.0,9, -999.00,9,   24.52,2,      0.002,2
09AR20080322,       SR03,      30,          1,         23,         23,2,20080404,       0711,   -57.3483,   139.8753,       3955,    49.7,   4.6870,  33.7351,2,-999.0000,9,   306.45,2, -999.00,9,  -999.0,9, -999.00,9,-999.0000,9,-999.0000,9,-999.0000,9,  -999.0,9,  -999.0,9,   0.825,2,  -999.0,9, -999.00,9, -999.00,9,      0.001,2
09AR20080322,       SR03,      30,          1,         22,         22,2,20080404,       0711,   -57.3483,   139.8753,       3955,    49.9,   4.6867,  33.7350,2,-999.0000,9,   306.45,2, -999.00,9,  -999.0,9, -999.00,9,-999.0000,9,-999.0000,9,-999.0000,9,  -999.0,9,  -999.0,9,   0.859,2,  -999.0,9, -999.00,9, -999.00,9,      0.001,2
09AR20080322,       SR03,      30,          1,         21,         21,2,20080404,       0711,   -57.3483,   139.8753,       3955,    49.8,   4.6871,  33.7351,2,  33.7349,2,   306.45,2,  305.88,2,     1.9,2,    1.64,2,   4.6918,2,   2.5878,2,   0.4003,2,  2124.6,2,  2271.9,6,   0.892,2,  -999.0,9, -999.00,9,   24.43,2,      0.001,2
09AR20080322,       SR03,      30,          1,         20,         20,2,20080404,       0711,   -57.3483,   139.8753,       3955,    90.0,   4.5214,  33.7462,2,  33.7558,2,   305.45,2,  307.26,2,     3.6,2,    1.70,2,   4.8900,2,   2.6357,2,   0.4702,2,  2130.3,2,  2269.4,2,   0.710,2,  -999.0,9, -999.00,9,   24.81,2,      0.001,2
09AR20080322,       SR03,      30,          1,         19,         19,2,20080404,       0711,   -57.3483,   139.8753,       3955,   125.5,   2.2209,  33.8495,2,  33.8498,2,   310.95,2,  310.91,2,    14.4,2,    1.90,2,   5.3631,2,   2.8697,2,   0.5154,2,  2152.9,2,  2278.2,2,   0.352,2,  -999.0,9, -999.00,9,   27.68,2,      0.001,2
09AR20080322,       SR03,      30,          1,         18,         18,2,20080404,       0711,   -57.3483,   139.8753,       3955,   200.4,   2.4054,  34.0644,2,  34.0658,2,   270.07,2,  272.47,2,    28.2,2,    2.06,2,   4.5200,2,   2.3759,2,   0.3682,2,  2183.5,2,  2284.7,2,  -0.029,2,  -999.0,9, -999.00,9,   29.36,2,      0.001,2
09AR20080322,       SR03,      30,          1,         17,         17,2,20080404,       0711,   -57.3483,   139.8753,       3955,   299.0,   2.4584,  34.1926,2,-999.0000,9,   238.57,2,  236.41,2,    39.6,2,    2.20,2,   3.4614,2,   1.7599,2,   0.2878,2,  2206.4,2,  2297.1,2,  -0.034,2,  -999.0,9, -999.00,9,   30.89,2,      0.001,2
09AR20080322,       SR03,      30,          1,         16,         16,2,20080404,       0711,   -57.3483,   139.8753,       3955,   400.8,   2.5587,  34.3109,2,  34.3107,2,   208.06,2,  205.91,2,    50.6,2,    2.29,2,   2.3089,2,   1.1622,2,   0.1650,2,  2225.8,2,  2306.6,6,  -0.032,2,  -999.0,9, -999.00,9,   34.30,2,      0.001,2
09AR20080322,       SR03,      30,          1,         15,         15,2,20080404,       0711,   -57.3483,   139.8753,       3955,   600.7,   2.5249,  34.4602,2,  34.4599,2,   179.56,2,  180.33,2,    65.4,2,    2.40,2,   1.1817,2,   0.5842,2,   0.0843,2,  2246.5,2,  2321.3,2,  -0.028,2,  -999.0,9, -999.00,9,   35.30,2,      0.001,2
09AR20080322,       SR03,      30,          1,         14,         14,2,20080404,       0711,   -57.3483,   139.8753,       3955,   800.7,   2.3883,  34.5565,2,  34.5569,2,   172.66,2,  173.49,2,    74.0,2,    2.41,2,   0.7120,2,   0.3582,2,   0.0478,2,  2255.0,2,  2328.5,2,  -0.026,2,  -999.0,9, -999.00,9,   35.24,2,      0.001,2
09AR20080322,       SR03,      30,          1,         13,         13,2,20080404,       0711,   -57.3483,   139.8753,       3955,   999.3,   2.3341,  34.6504,2,  34.6515,2,   174.51,2,  175.44,2,    78.3,2,    2.31,2,   0.3509,2,   0.1740,2,   0.0235,2,  2254.2,2,  2337.6,6,  -0.030,2,  -999.0,9, -999.00,9,   33.83,2,      0.001,2
09AR20080322,       SR03,      30,          1,         12,         12,2,20080404,       0711,   -57.3483,   139.8753,       3955,  1202.0,   2.2397,  34.6999,2,  34.6999,2,   180.76,2,  181.08,2,    80.2,2,    2.23,2,   0.2279,2,   0.1161,2,   0.0146,2,  2252.2,6,  2340.6,2,  -0.030,2,  -999.0,9, -999.00,9,   32.33,2,      0.001,2
09AR20080322,       SR03,      30,          1,         11,         11,2,20080404,       0711,   -57.3483,   139.8753,       3955,  1400.9,   2.1224,  34.7304,2,  34.7296,2,   186.89,2,  187.55,2,    83.0,2,    2.17,2,   0.1673,2,   0.0807,2,   0.0000,2,  2251.0,2,  2345.6,2,  -0.028,2,  -999.0,9, -999.00,9,   31.40,2,      0.001,2
09AR20080322,       SR03,      30,          1,         10,         10,2,20080404,       0711,   -57.3483,   139.8753,       3955,  1701.7,   1.9060,  34.7487,2,  34.7486,2,   193.81,2,  193.88,2,    88.7,2,    2.14,2,   0.1273,6,   0.0625,6,   0.0098,6,  2251.4,2,  2347.8,2,  -0.030,2,  -999.0,9, -999.00,9,   30.86,2,      0.001,2
09AR20080322,       SR03,      30,          1,          9,          9,2,20080404,       0711,   -57.3483,   139.8753,       3955,  2001.6,   1.6504,  34.7478,2,  34.7477,2,   197.91,2,  198.14,2,    96.2,2,    2.15,2,   0.1113,2,   0.0557,2,   0.0085,2,  2253.1,2,  2351.1,2,  -0.030,2,  -999.0,9, -999.00,9,   31.00,2,      0.001,2
09AR20080322,       SR03,      30,          1,          8,          8,2,20080404,       0711,   -57.3483,   139.8753,       3955,  2399.3,   1.2912,  34.7340,2,  34.7341,2,   202.48,2,  203.26,2,   107.3,2,    2.20,2,   0.1228,2,   0.0623,2,   0.0132,2,  2258.5,2,  2356.2,2,  -0.034,2,  -999.0,9, -999.00,9,   31.38,2,      0.001,2
09AR20080322,       SR03,      30,          1,          7,          7,2,20080404,       0711,   -57.3483,   139.8753,       3955,  2701.8,   1.0425,  34.7217,2,  34.7211,2,   205.81,2,  205.26,2,   115.1,2,    2.25,2,   0.1379,2,   0.0680,2,   0.0057,2,  2260.9,2,  2358.7,2,  -0.035,2,  -999.0,9, -999.00,9,   31.70,2,      0.001,2
09AR20080322,       SR03,      30,          1,          6,          6,2,20080404,       0711,   -57.3483,   139.8753,       3955,  3000.9,   0.8062,  34.7096,2,  34.7095,2,   209.54,2,  208.95,2,   121.0,2,    2.26,2,   0.2028,2,   0.0962,2,   0.0125,2,  2262.7,2,  2359.2,6,  -0.037,2,  -999.0,9, -999.00,9,   31.69,2,      0.001,2
09AR20080322,       SR03,      30,          1,          5,          5,2,20080404,       0711,   -57.3483,   139.8753,       3955,  3299.8,   0.5834,  34.6988,2,  34.6983,2,   213.91,2,  213.20,2,   126.8,2,    2.27,2,   0.2803,2,   0.1387,2,   0.0122,2,  2263.3,2,  2358.5,2,  -0.041,2,  -999.0,9, -999.00,9,   31.92,2,      0.001,2
09AR20080322,       SR03,      30,          1,          4,          4,2,20080404,       0711,   -57.3483,   139.8753,       3955,  3600.4,   0.4181,  34.6916,2,  34.6916,2,   217.65,2,  217.29,2,   131.9,2,    2.28,2,   0.3935,2,   0.1940,2,   0.0208,2,  2262.2,2,  2357.5,2,  -0.040,2,  -999.0,9, -999.00,9,   32.16,2,      0.001,2
09AR20080322,       SR03,      30,          1,          3,          3,2,20080404,       0711,   -57.3483,   139.8753,       3955,  3900.8,   0.3131,  34.6867,2,  34.6861,2,   220.60,2,  220.11,2,   138.6,2,    2.31,2,   0.5083,2,   0.2498,2,   0.0000,2,  2264.9,2,  2358.0,2,  -0.042,2,  -999.0,9, -999.00,9,   32.46,2,      0.001,2
09AR20080322,       SR03,      30,          1,          2,          2,2,20080404,       0711,   -57.3483,   139.8753,       3955,  4121.6,   0.2895,  34.6847,2,  34.6844,2,   221.56,2,  220.72,2,   140.7,2,    2.31,2,   0.5627,2,   0.2746,2,   0.0300,2,  2264.5,2,  2359.5,6,  -0.039,2,  -999.0,9, -999.00,9,   32.23,2,      0.001,2
09AR20080322,       SR03,      30,          1,          1,          1,2,20080404,       0711,   -57.3483,   139.8753,       3955,  4163.7,   0.2900,  34.6846,2,  34.6847,2,   221.63,2, -999.00,9,   141.1,2,    2.30,2,   0.5702,2,   0.2799,2,   0.0263,2,  2263.6,6,  2359.9,2,  -0.043,2,  -999.0,9, -999.00,9,   32.23,2,      0.001,2