BOTTLE,20141029CCHSIOCBG
EXPOCODE,SECT_ID,STNNBR,CASTNO,SAMPNO,BTLNBR,BTLNBR_FLAG_W,DATE,TIME,LATITUDE,LONGITUDE,DEPTH,CTDPRS,CTDTMP,CTDSAL,CTDSAL_FLAG_W,SALNTY,SALNTY_FLAG_W,CTDOXY,CTDOXY_FLAG_W,OXYGEN,OXYGEN_FLAG_W,SILCAT,SILCAT_FLAG_W,PHSPHT,PHSPHT_FLAG_W,CFC-11,CFC-11_FLAG_W,CFC-12,CFC-12_FLAG_W,CFC113,CFC113_FLAG_W,TCARBN,TCARBN_FLAG_W,ALKALI,ALKALI_FLAG_W,FLUOR,FLUOR_FLAG_W,DOC,DOC_FLAG_W,TDN,TDN_FLAG_W,NO2+NO3,NO2+NO3_FLAG_W,PAR,PAR_FLAG_W
,,,,,,,,,,,METERS,DBAR,ITS-90,PSS-78,,PSS-78,,UMOL/KG,,UMOL/KG,,UMOL/KG,,UMOL/KG,,PMOL/KG,,PMOL/KG,,PMOL/KG,,UMOL/KG,,UMOL/KG,,MG/M^3,,UMOL/KG,,UMOL/KG,,UMOL/KG,,VOLTS,
09AR20080322,       SR03,      53,          1,         24,         24,2,20080411,       0301,   -50.1595,   143.6617,       3582,     8.5,  10.1642,  34.5850,2,  34.5848,2,  -999.00,5,  271.59,2,     1.9,2,    0.90,2,   3.4174,2,   1.9891,2,   0.3201,4,  2096.6,6,  2292.7,2,   0.526,2,  -999.0,9, -999.00,9,   11.56,2,      2.906,2
09AR20080322,       SR03,      53,          1,         23,         23,2,20080411,       0301,   -50.1595,   143.6617,       3582,    50.3,  10.1710,  34.5872,2,-999.0000,9,   270.48,2, -999.00,9,  -999.0,9, -999.00,9,-999.0000,9,-999.0000,9,-999.0000,9,  -999.0,9,  -999.0,9,   0.596,2,  -999.0,9, -999.00,9, -999.00,9,      1.874,2
09AR20080322,       SR03,      53,          1,         22,         22,2,20080411,       0301,   -50.1595,   143.6617,       3582,    51.1,  10.1712,  34.5868,2,-999.0000,9,   270.27,2, -999.00,9,  -999.0,9, -999.00,9,-999.0000,9,-999.0000,9,-999.0000,9,  -999.0,9,  -999.0,9,   0.585,2,  -999.0,9, -999.00,9, -999.00,9,      1.863,2
09AR20080322,       SR03,      53,          1,         21,         21,2,20080411,       0301,   -50.1595,   143.6617,       3582,    51.0,  10.1707,  34.5874,2,  34.5867,2,   270.48,2,  271.62,2,     1.8,2,    0.88,2,   3.3688,2,   2.1983,3,   0.3001,4,  2095.2,2,  2294.1,2,   0.597,2,  -999.0,9, -999.00,9,   11.46,2,      1.922,2
09AR20080322,       SR03,      53,          1,         20,         20,2,20080411,       0301,   -50.1595,   143.6617,       3582,   120.7,  10.1711,  34.5916,2,  34.5908,2,   270.26,2,  270.84,2,     1.9,2,    0.89,2,   3.4193,2,   1.9751,2,   0.2707,4,  2097.6,2,  2294.6,2,   0.498,2,  -999.0,9, -999.00,9,   11.52,2,      0.646,2
09AR20080322,       SR03,      53,          1,         19,         19,2,20080411,       0301,   -50.1595,   143.6617,       3582,   249.7,   9.1077,  34.5960,2,  34.5965,2,   266.81,2,  264.62,2,     3.8,2,    1.04,2,   3.5980,2,   2.0509,2,   0.2694,4,  2112.4,2,  2288.9,2,  -0.040,2,  -999.0,9, -999.00,9,   14.60,2,      0.001,2
09AR20080322,       SR03,      53,          1,         18,         18,2,20080411,       0301,   -50.1595,   143.6617,       3582,   401.2,   8.9674,  34.6069,2,  34.6069,2,   256.87,2,  256.69,2,     4.6,2,    1.12,2,   3.6054,2,   2.0341,2,   0.2190,4,  2119.7,2,  2290.3,2,  -0.040,2,  -999.0,9, -999.00,9,   15.91,2,      0.001,2
09AR20080322,       SR03,      53,          1,         17,         17,2,20080411,       0301,   -50.1595,   143.6617,       3582,   550.0,   8.6810,  34.5830,2,  34.5832,2,   251.23,2,  251.20,2,     5.5,2,    1.21,2,   3.5821,2,   1.9898,2,   0.2319,4,  2132.4,2,  2292.7,2,  -0.043,2,  -999.0,9, -999.00,9,   17.15,2,      0.001,2
09AR20080322,       SR03,      53,          1,         16,         16,2,20080411,       0301,   -50.1595,   143.6617,       3582,   698.6,   7.9465,  34.5031,2,  34.5036,2,   228.60,2,  229.58,2,     9.3,2,    1.44,2,-999.0000,9,-999.0000,9,-999.0000,9,  -999.0,9,  -999.0,9,  -0.040,2,  -999.0,9, -999.00,9,   20.67,2,      0.001,2
09AR20080322,       SR03,      53,          1,         15,         15,2,20080411,       0301,   -50.1595,   143.6617,       3582,   849.3,   6.4790,  34.4165,2,  34.4173,2,   207.10,2,  206.07,2,    18.1,2,    1.79,2,   2.3029,2,   1.2057,2,   0.1177,4,  2167.8,2,  2289.0,2,  -0.038,2,  -999.0,9, -999.00,9,   25.49,2,      0.001,2
09AR20080322,       SR03,      53,          1,         14,         14,2,20080411,       0301,   -50.1595,   143.6617,       3582,  1049.9,   4.7324,  34.3200,2,  34.3201,2,   216.48,2,  213.34,2,    27.0,2,    2.03,2,-999.0000,9,-999.0000,9,-999.0000,9,  -999.0,9,  -999.0,9,  -0.039,2,  -999.0,9, -999.00,9,   29.78,2,      0.001,2
09AR20080322,       SR03,      53,          1,         13,         13,2,20080411,       0301,   -50.1595,   143.6617,       3582,  1200.1,   3.8888,  34.3509,2,  34.3496,2,   198.09,2,  200.24,2,    40.4,2,    2.21,2,   1.6962,2,   0.8522,2,   0.0820,4,  2207.3,2,  2304.1,2,  -0.036,2,  -999.0,9, -999.00,9,   31.82,2,      0.001,2
09AR20080322,       SR03,      53,          1,         12,         12,2,20080411,       0301,   -50.1595,   143.6617,       3582,  1399.8,   3.3162,  34.4381,2,  34.4387,2,   180.49,2,  179.92,2,    57.8,2,    2.36,2,-999.0000,9,-999.0000,9,-999.0000,9,  -999.0,9,  -999.0,9,  -0.034,2,  -999.0,9, -999.00,9,   33.47,2,      0.001,2
09AR20080322,       SR03,      53,          1,         11,         11,2,20080411,       0301,   -50.1595,   143.6617,       3582,  1600.8,   2.8158,  34.5116,2,  34.5125,2,   174.92,2,  175.07,2,    65.9,2,    2.40,2,   0.6434,2,   0.3135,2,   0.0000,4,  2243.8,2,  2327.3,2,  -0.027,2,  -999.0,9, -999.00,9,   33.86,2,      0.001,2
09AR20080322,       SR03,      53,          1,         10,         10,2,20080411,       0301,   -50.1595,   143.6617,       3582,  1801.3,   2.6084,  34.5994,2,  34.5993,2,   172.94,2,  173.62,2,    72.4,2,    2.35,2,-999.0000,9,-999.0000,9,-999.0000,9,  -999.0,9,  -999.0,9,  -0.028,2,  -999.0,9, -999.00,9,   33.20,2,      0.001,2
09AR20080322,       SR03,      53,          1,          9,          9,2,20080411,       0301,   -50.1595,   143.6617,       3582,  2000.5,   2.4796,  34.6658,2,  34.6661,2,   176.51,2,  176.86,2,    80.7,3,    2.15,3,   0.2095,2,   0.1016,2,   0.0000,4,  2249.2,2,  2340.2,6,  -0.027,2,  -999.0,9, -999.00,9,   30.83,3,      0.001,2
09AR20080322,       SR03,      53,          1,          8,          8,2,20080411,       0301,   -50.1595,   143.6617,       3582,  2299.7,   2.2701,  34.7238,2,-999.0000,9,   185.78,2,  185.64,2,    80.5,2,    2.20,2,-999.0000,9,-999.0000,9,-999.0000,9,  -999.0,9,  -999.0,9,  -0.033,2,  -999.0,9, -999.00,9,   30.58,2,      0.001,2
09AR20080322,       SR03,      53,          1,          7,          7,2,20080411,       0301,   -50.1595,   143.6617,       3582,  2598.5,   2.0374,  34.7465,2,  34.7465,2,   193.71,2,  193.23,2,    86.4,2,    2.16,2,   0.1122,2,   0.0507,2,   0.0000,4,  2246.1,2,  2348.8,2,  -0.031,2,  -999.0,9, -999.00,9,   29.88,2,      0.001,2
09AR20080322,       SR03,      53,          1,          6,          6,2,20080411,       0301,   -50.1595,   143.6617,       3582,  2801.3,   1.8955,  34.7491,2,  34.7492,2,   196.84,2,  196.62,2,    89.8,2,    2.16,2,-999.0000,9,-999.0000,9,-999.0000,9,  -999.0,9,  -999.0,9,  -0.032,2,  -999.0,9, -999.00,9,   29.64,2,      0.001,2
09AR20080322,       SR03,      53,          1,          5,          5,2,20080411,       0301,   -50.1595,   143.6617,       3582,  3047.9,   1.6180,  34.7426,2,  34.7421,2,   199.72,2,  198.70,2,   101.0,2,    2.20,2,   0.0827,2,   0.0402,2,   0.0000,4,  2253.3,2,  2356.7,2,  -0.032,2,  -999.0,9, -999.00,9,   30.90,2,      0.001,2
09AR20080322,       SR03,      53,          1,          4,          4,2,20080411,       0301,   -50.1595,   143.6617,       3582,  3296.4,   1.3149,  34.7294,2,  34.7296,2,   201.16,2,  200.66,2,   112.4,2,    2.26,2,-999.0000,9,-999.0000,9,-999.0000,9,  -999.0,9,  -999.0,9,  -0.035,2,  -999.0,9, -999.00,9,   31.28,2,      0.001,2
09AR20080322,       SR03,      53,          1,          3,          3,2,20080411,       0301,   -50.1595,   143.6617,       3582,  3598.3,   1.1473,  34.7216,2,  34.7219,2,   204.32,2,  203.09,2,   117.6,2,    2.27,2,   0.0962,2,   0.0433,2,   0.0000,4,  2261.5,2,  2363.9,6,  -0.038,2,  -999.0,9, -999.00,9,   31.35,2,      0.001,2
09AR20080322,       SR03,      53,          1,          2,          2,2,20080411,       0301,   -50.1595,   143.6617,       3582,  3820.6,   1.1532,  34.7207,2,  34.7197,2,   204.94,2,  203.26,2,   117.6,2,    2.26,2,-999.0000,9,-999.0000,9,-999.0000,9,  -999.0,9,  -999.0,9,  -0.032,2,  -999.0,9, -999.00,9,   31.11,2,      0.001,2
09AR20080322,       SR03,      53,          1,          1,          1,2,20080411,       0301,   -50.1595,   143.6617,       3582,  3868.0,   1.1587,  34.7207,2,  34.7203,2,   205.09,2,  203.74,2,   116.8,2,    2.26,2,   0.0996,2,   0.0476,2,   0.0000,4,  2261.6,6,  2364.4,2,  -0.035,2,  -999.0,9, -999.00,9,   30.95,2,      0.001,2
09AR20080322,       SR03,      54,          1,         24,         24,2,20080411,       0830,   -49.8932,   143.8008,       3615,     7.7,   9.7808,  34.5059,2,  34.5060,2,  -999.00,5,  274.28,2,     2.1,2,    0.96,2,   3.4747,2,   2.0337,2,   0.2680,3,  2099.5,6,  2289.2,2,   0.633,2,  -999.0,9, -999.00,9,   12.69,2,      0.001,2
09AR20080322,       SR03,      54,          1,         23,         23,2,20080411,       0830,   -49.8932,   143.8008,       3615,    39.0,   9.7872,  34.5068,2,-999.0000,9,   273.80,2, -999.00,9,  -999.0,9, -999.00,9,-999.0000,9,-999.0000,9,-999.0000,9,  -999.0,9,  -999.0,9,   0.601,2,  -999.0,9, -999.00,9, -999.00,9,      0.001,2
09AR20080322,       SR03,      54,          1,         22,         22,2,20080411,       0830,   -49.8932,   143.8008,       3615,    39.1,   9.7860,  34.5064,2,-999.0000,9,   273.80,2, -999.00,9,  -999.0,9, -999.00,9,-999.0000,9,-999.0000,9,-999.0000,9,  -999.0,9,  -999.0,9,   0.608,2,  -999.0,9, -999.00,9, -999.00,9,      0.001,2
09AR20080322,       SR03,      54,          1,         21,         21,2,20080411,       0830,   -49.8932,   143.8008,       3615,    38.9,   9.7880,  34.5068,2,  34.5070,2,   273.87,2,  274.20,2,     2.1,2,    0.96,2,   3.5156,2,   2.0291,2,   0.2699,3,  2096.6,2,  2290.3,6,   0.571,2,  -999.0,9, -999.00,9,   12.56,2,      0.001,2
09AR20080322,       SR03,      54,          1,         20,         20,2,20080411,       0830,   -49.8932,   143.8008,       3615,    79.9,   9.7923,  34.5069,2,  34.5048,2,   273.68,2,  274.23,2,     2.3,2,    0.93,2,   3.4693,2,   2.0168,2,   0.2930,3,  2098.0,2,  2288.2,2,   0.591,2,  -999.0,9, -999.00,9,   12.62,2,      0.001,2
09AR20080322,       SR03,      54,          1,         19,         19,2,20080411,       0830,   -49.8932,   143.8008,       3615,   148.7,   9.6901,  34.6227,2,  34.6221,2,   271.28,2,  263.25,2,     3.3,2,    0.98,2,   3.4777,2,   2.0014,2,   0.2680,3,  2107.2,2,  2290.8,2,   0.068,2,  -999.0,9, -999.00,9,   13.55,2,      0.001,2
09AR20080322,       SR03,      54,          1,         18,         18,2,20080411,       0830,   -49.8932,   143.8008,       3615,   199.7,   9.2676,  34.6145,2,  34.6174,2,   261.42,2,  263.36,2,     3.5,2,    1.01,2,   3.5240,2,   2.0315,2,   0.2694,3,  2108.8,2,  2289.9,2,  -0.034,2,  -999.0,9, -999.00,9,   14.05,2,      0.001,2
09AR20080322,       SR03,      54,          1,         17,         17,2,20080411,       0830,   -49.8932,   143.8008,       3615,   351.1,   9.0993,  34.6186,2,  34.6180,2,   259.03,2,  257.00,2,     4.1,2,    1.08,2,   3.5651,2,   2.0109,2,   0.2351,3,  2118.0,2,  2289.4,6,  -0.042,2,  -999.0,9, -999.00,9,   15.03,2,      0.001,2
09AR20080322,       SR03,      54,          1,         16,         16,2,20080411,       0830,   -49.8932,   143.8008,       3615,   500.0,   8.8779,  34.6065,2,  34.6060,2,   253.09,2,  252.78,2,     5.0,2,    1.15,2,-999.0000,9,-999.0000,9,-999.0000,9,  -999.0,9,  -999.0,9,  -0.043,2,  -999.0,9, -999.00,9,   16.14,2,      0.001,2
09AR20080322,       SR03,      54,          1,         15,         15,2,20080411,       0830,   -49.8932,   143.8008,       3615,   649.8,   8.3222,  34.5387,2,  34.5390,2,   235.96,2,  243.24,2,     6.8,2,    1.30,2,   3.3990,2,   1.8828,2,   0.1943,3,  2132.1,2,  2287.2,2,  -0.045,2,  -999.0,9, -999.00,9,   18.38,2,      0.001,2
09AR20080322,       SR03,      54,          1,         14,         14,2,20080411,       0830,   -49.8932,   143.8008,       3615,   800.4,   7.1692,  34.4515,2,  34.4522,2,   211.71,2,  212.00,2,    13.7,2,    1.66,2,   2.5782,2,   1.4038,2,   0.1230,3,  2156.1,2,  2285.7,2,  -0.037,2,  -999.0,9, -999.00,9,   24.13,2,      0.001,2
09AR20080322,       SR03,      54,          1,         13,         13,2,20080411,       0830,   -49.8932,   143.8008,       3615,  1000.1,   4.9647,  34.3238,2,  34.3241,2,   214.48,2,  214.70,2,    25.0,2,    2.07,2,   2.5361,2,   1.3197,2,   0.1301,3,  2178.3,2,  2290.6,6,  -0.041,2,  -999.0,9, -999.00,9,   29.63,2,      0.001,2
09AR20080322,       SR03,      54,          1,         12,         12,2,20080411,       0830,   -49.8932,   143.8008,       3615,  1198.9,   3.9904,  34.3653,2,  34.3655,2,   197.03,2,  196.55,2,    42.4,2,    2.22,2,-999.0000,9,-999.0000,9,-999.0000,9,  -999.0,9,  -999.0,9,  -0.033,2,  -999.0,9, -999.00,9,   32.84,3,      0.001,2
09AR20080322,       SR03,      54,          1,         11,         11,2,20080411,       0830,   -49.8932,   143.8008,       3615,  1400.4,   3.2953,  34.4426,2,  34.4424,2,   179.34,2,  178.44,2,    60.2,2,    2.37,2,   0.7961,2,   0.3988,2,   0.0367,3,  2232.1,6,  2321.1,2,  -0.030,2,  -999.0,9, -999.00,9,   34.52,3,      0.001,2
09AR20080322,       SR03,      54,          1,         10,         10,2,20080411,       0830,   -49.8932,   143.8008,       3615,  1600.8,   2.7817,  34.5090,2,  34.5085,2,   175.73,2,  175.72,2,    68.1,2,    2.43,2,-999.0000,9,-999.0000,9,-999.0000,9,  2242.5,2,  2326.1,2,  -0.025,2,  -999.0,9, -999.00,9,   34.88,3,      0.001,2
09AR20080322,       SR03,      54,          1,          9,          9,2,20080411,       0830,   -49.8932,   143.8008,       3615,  1800.2,   2.6088,  34.6033,2,  34.6032,2,   173.95,2,  173.79,2,    75.2,2,    2.35,2,   0.3484,2,   0.1765,2,   0.0000,3,  2248.1,2,  2334.6,2,  -0.026,2,  -999.0,9, -999.00,9,   34.16,3,      0.001,2
09AR20080322,       SR03,      54,          1,          8,          8,2,20080411,       0830,   -49.8932,   143.8008,       3615,  1999.0,   2.4843,  34.6660,2,  34.6656,2,   176.15,2,  176.39,2,    78.9,2,    2.26,2,-999.0000,9,-999.0000,9,-999.0000,9,  -999.0,9,  -999.0,9,  -0.031,2,  -999.0,9, -999.00,9,   32.96,2,      0.001,2
09AR20080322,       SR03,      54,          1,          7,          7,2,20080411,       0830,   -49.8932,   143.8008,       3615,  2199.6,   2.3502,  34.7071,2,  34.7069,2,   182.76,2,  182.64,2,    81.6,2,    2.21,2,   0.1659,2,   0.0873,2,   0.0000,3,  2249.2,2,  2341.1,2,  -0.030,2,  -999.0,9, -999.00,9,   32.03,2,      0.001,2
09AR20080322,       SR03,      54,          1,          6,          6,2,20080411,       0830,   -49.8932,   143.8008,       3615,  2396.5,   2.2129,  34.7329,2,  34.7334,2,   187.00,2,  187.46,2,    84.9,2,    2.18,2,   0.1190,6,   0.0593,6,   0.0000,3,  2246.4,2,  2345.7,6,  -0.031,2,  -999.0,9, -999.00,9,   31.28,2,      0.001,2
09AR20080322,       SR03,      54,          1,          5,          5,2,20080411,       0830,   -49.8932,   143.8008,       3615,  2749.0,   1.8987,  34.7461,2,  34.7458,2,   191.92,2,  191.71,2,    96.7,2,    2.21,2,-999.0000,9,-999.0000,9,-999.0000,9,  -999.0,9,  -999.0,9,  -0.031,2,  -999.0,9, -999.00,9,   31.27,2,      0.001,2
09AR20080322,       SR03,      54,          1,          4,          4,2,20080411,       0830,   -49.8932,   143.8008,       3615,  3100.7,   1.5322,  34.7392,2,  34.7387,2,   199.24,2,  199.53,2,   104.1,2,    2.17,2,   0.0847,2,   0.0422,2,   0.0000,3,  2250.9,2,  2357.5,2,  -0.034,2,  -999.0,9, -999.00,9,   31.09,2,      0.001,2
09AR20080322,       SR03,      54,          1,          3,          3,2,20080411,       0830,   -49.8932,   143.8008,       3615,  3401.2,   1.2303,  34.7261,2,  34.7259,2,   202.21,2,  202.39,2,   112.1,2,    2.25,2,   0.0990,2,   0.0485,2,   0.0000,3,  2254.8,2,  2362.4,2,  -0.037,2,  -999.0,9, -999.00,9,   31.42,2,      0.001,2
09AR20080322,       SR03,      54,          1,          2,          2,2,20080411,       0830,   -49.8932,   143.8008,       3615,  3700.2,   1.1472,  34.7212,2,  34.7206,2,   203.01,2,  203.44,2,   115.7,2,    2.26,2,   0.0896,2,   0.0451,2,   0.0000,3,  2259.7,2,  2365.6,6,  -0.033,2,  -999.0,9, -999.00,9,   31.58,2,      0.001,2
09AR20080322,       SR03,      54,          1,          1,          1,2,20080411,       0830,   -49.8932,   143.8008,       3615,  3805.5,   1.1493,  34.7207,2,  34.7201,2,   203.09,2,  204.00,2,   115.7,2,    2.25,2,   0.0969,2,   0.0485,2,   0.0000,3,  2259.4,6,  2363.7,2,  -0.033,2,  -999.0,9, -999.00,9,   31.40,2,      0.001,2