BOTTLE,20141029CCHSIOCBG
EXPOCODE,SECT_ID,STNNBR,CASTNO,SAMPNO,BTLNBR,BTLNBR_FLAG_W,DATE,TIME,LATITUDE,LONGITUDE,DEPTH,CTDPRS,CTDTMP,CTDSAL,CTDSAL_FLAG_W,SALNTY,SALNTY_FLAG_W,CTDOXY,CTDOXY_FLAG_W,OXYGEN,OXYGEN_FLAG_W,SILCAT,SILCAT_FLAG_W,PHSPHT,PHSPHT_FLAG_W,CFC-11,CFC-11_FLAG_W,CFC-12,CFC-12_FLAG_W,CFC113,CFC113_FLAG_W,TCARBN,TCARBN_FLAG_W,ALKALI,ALKALI_FLAG_W,FLUOR,FLUOR_FLAG_W,DOC,DOC_FLAG_W,TDN,TDN_FLAG_W,NO2+NO3,NO2+NO3_FLAG_W,PAR,PAR_FLAG_W
,,,,,,,,,,,METERS,DBAR,ITS-90,PSS-78,,PSS-78,,UMOL/KG,,UMOL/KG,,UMOL/KG,,UMOL/KG,,PMOL/KG,,PMOL/KG,,PMOL/KG,,UMOL/KG,,UMOL/KG,,MG/M^3,,UMOL/KG,,UMOL/KG,,UMOL/KG,,VOLTS,
09AR20080322,       SR03,      15,          1,         24,         24,2,20080331,       0529,   -63.8650,   139.8468,       3705,     3.6,-999.0000,-999.0000,5,  33.9620,2,   323.95,2, -999.00,9,  -999.0,9, -999.00,9,   5.6140,2,   2.9871,2,   0.4942,2,  2166.1,6,  2290.9,2,   1.532,2,    46.0,2,   31.60,2, -999.00,9,      1.847,2
09AR20080322,       SR03,      15,          1,         23,         23,2,20080331,       0529,   -63.8650,   139.8468,       3705,    19.2,-999.0000,-999.0000,5,-999.0000,9,   324.53,2, -999.00,9,  -999.0,9, -999.00,9,-999.0000,9,-999.0000,9,-999.0000,9,  -999.0,9,  -999.0,9,   1.598,2,  -999.0,9, -999.00,9, -999.00,9,      1.346,2
09AR20080322,       SR03,      15,          1,         22,         22,2,20080331,       0529,   -63.8650,   139.8468,       3705,    19.1,-999.0000,-999.0000,5,-999.0000,9,   324.53,2, -999.00,9,  -999.0,9, -999.00,9,-999.0000,9,-999.0000,9,-999.0000,9,  -999.0,9,  -999.0,9,   1.675,2,  -999.0,9, -999.00,9, -999.00,9,      1.347,2
09AR20080322,       SR03,      15,          1,         21,         21,2,20080331,       0529,   -63.8650,   139.8468,       3705,    19.1,-999.0000,-999.0000,5,  33.9628,2,   324.53,2, -999.00,9,  -999.0,9, -999.00,9,   5.6502,2,   2.9897,2,   0.5202,2,  2166.5,2,  2292.2,6,   1.591,2,    45.6,2,   29.76,2, -999.00,9,      1.363,2
09AR20080322,       SR03,      15,          1,         20,         20,2,20080331,       0529,   -63.8650,   139.8468,       3705,    50.2,-999.0000,-999.0000,5,  33.9876,2,   327.88,2, -999.00,9,  -999.0,9, -999.00,9,   5.7018,2,   3.0342,2,   0.5178,2,  2170.5,2,  2295.3,2,   1.897,2,    44.5,2,   30.86,2, -999.00,9,      0.759,2
09AR20080322,       SR03,      15,          1,         19,         19,2,20080331,       0529,   -63.8650,   139.8468,       3705,    81.3,-999.0000,-999.0000,5,  34.0361,2,   325.89,2, -999.00,9,  -999.0,9, -999.00,9,   5.4950,6,   2.9018,6,   0.5006,6,  2179.2,2,  2296.9,6,   1.410,2,    44.0,2,   31.42,2, -999.00,9,      0.093,2
09AR20080322,       SR03,      15,          1,         18,         18,2,20080331,       0529,   -63.8650,   139.8468,       3705,   110.8,-999.0000,-999.0000,5,  34.4483,2,   266.83,2, -999.00,9,  -999.0,9, -999.00,9,   3.1329,2,   1.6426,2,   0.2722,2,  2234.8,2,  2326.9,2,   0.313,2,    43.3,2,   34.61,2, -999.00,9,      0.001,2
09AR20080322,       SR03,      15,          1,         17,         17,2,20080331,       0529,   -63.8650,   139.8468,       3705,   200.1,-999.0000,-999.0000,5,  34.5599,2,   221.88,2, -999.00,9,  -999.0,9, -999.00,9,   2.2022,2,   1.1440,2,   0.1871,2,  2243.4,2,  2332.7,2,   0.014,2,    40.1,2,   34.16,2, -999.00,9,      0.001,2
09AR20080322,       SR03,      15,          1,         16,         16,2,20080331,       0529,   -63.8650,   139.8468,       3705,   302.2,-999.0000,-999.0000,5,  34.6485,2,   200.36,2, -999.00,9,  -999.0,9, -999.00,9,   1.2009,2,   0.6226,2,   0.0977,2,  2245.7,2,  2339.0,2,  -0.019,2,    39.2,2,   33.97,2, -999.00,9,      0.001,2
09AR20080322,       SR03,      15,          1,         15,         15,2,20080331,       0529,   -63.8650,   139.8468,       3705,   402.5,-999.0000,-999.0000,5,  34.6907,2,   198.50,2, -999.00,9,  -999.0,9, -999.00,9,   0.7819,2,   0.4090,2,   0.0558,2,  2250.1,2,  2343.9,2,  -0.030,2,    39.0,2,   33.68,2, -999.00,9,      0.001,2
09AR20080322,       SR03,      15,          1,         14,         14,2,20080331,       0529,   -63.8650,   139.8468,       3705,   601.6,-999.0000,-999.0000,5,  34.7184,2,   197.76,2, -999.00,9,  -999.0,9, -999.00,9,-999.0000,9,-999.0000,9,-999.0000,9,  2250.0,2,  2347.0,2,  -0.027,2,    39.2,2,   32.98,2, -999.00,9,      0.001,2
09AR20080322,       SR03,      15,          1,         13,         13,2,20080331,       0529,   -63.8650,   139.8468,       3705,   801.3,-999.0000,-999.0000,5,  34.7253,2,   200.34,2, -999.00,9,  -999.0,9, -999.00,9,   0.3864,2,   0.1987,2,   0.0275,2,  2250.7,2,  2350.4,6,  -0.030,2,    39.7,2,   32.38,2, -999.00,9,      0.001,2
09AR20080322,       SR03,      15,          1,         12,         12,2,20080331,       0529,   -63.8650,   139.8468,       3705,  1001.0,-999.0000,-999.0000,5,  34.7172,2,   203.40,2, -999.00,9,  -999.0,9, -999.00,9,   0.4173,2,   0.2181,2,   0.0248,2,  2251.2,6,  2353.1,2,  -0.032,2,    39.3,2,   32.44,2, -999.00,9,      0.001,2
09AR20080322,       SR03,      15,          1,         11,         11,2,20080331,       0529,   -63.8650,   139.8468,       3705,  1301.5,-999.0000,-999.0000,5,  34.7155,2,   205.41,2, -999.00,9,  -999.0,9, -999.00,9,   0.3022,2,   0.1532,2,   0.0205,2,  2256.2,2,  2358.1,2,  -0.032,2,    39.2,2,   32.73,2, -999.00,9,      0.001,2
09AR20080322,       SR03,      15,          1,         10,         10,2,20080331,       0529,   -63.8650,   139.8468,       3705,  1599.9,-999.0000,-999.0000,5,  34.7004,2,   208.66,2, -999.00,9,  -999.0,9, -999.00,9,   0.4094,2,   0.2120,2,   0.0240,2,  2257.1,2,  2356.3,2,  -0.036,2,    39.5,2,   32.97,2, -999.00,9,      0.001,2
09AR20080322,       SR03,      15,          1,          9,          9,2,20080331,       0529,   -63.8650,   139.8468,       3705,  1902.3,-999.0000,-999.0000,5,  34.6907,2,   212.79,2, -999.00,9,  -999.0,9, -999.00,9,-999.0000,9,-999.0000,9,-999.0000,9,  2259.3,2,  2355.6,6,  -0.035,2,    39.1,2,   33.40,2, -999.00,9,      0.001,2
09AR20080322,       SR03,      15,          1,          8,          8,2,20080331,       0529,   -63.8650,   139.8468,       3705,  2203.5,-999.0000,-999.0000,5,  34.6847,2,   216.80,2, -999.00,9,  -999.0,9, -999.00,9,   0.6239,2,   0.3168,2,   0.0441,2,  2257.7,2,  2355.0,2,  -0.038,2,    39.2,2,   32.47,2, -999.00,9,      0.001,2
09AR20080322,       SR03,      15,          1,          7,          7,2,20080331,       0529,   -63.8650,   139.8468,       3705,  2500.9,-999.0000,-999.0000,5,  34.6788,2,   221.16,2, -999.00,9,  -999.0,9, -999.00,9,   0.8393,2,   0.4288,2,   0.0485,2,  2257.4,2,  2355.6,2,  -0.036,2,    39.1,2,   33.19,2, -999.00,9,      0.001,2
09AR20080322,       SR03,      15,          1,          6,          6,2,20080331,       0529,   -63.8650,   139.8468,       3705,  2802.1,-999.0000,-999.0000,5,  34.6744,2,   225.95,2, -999.00,9,  -999.0,9, -999.00,9,   1.0324,2,   0.5169,2,   0.0678,2,  2257.0,2,  2353.1,2,  -0.038,2,    39.6,2,   33.50,2, -999.00,9,      0.001,2
09AR20080322,       SR03,      15,          1,          5,          5,2,20080331,       0529,   -63.8650,   139.8468,       3705,  3100.7,-999.0000,-999.0000,5,  34.6715,2,   229.83,2, -999.00,9,  -999.0,9, -999.00,9,-999.0000,9,-999.0000,9,-999.0000,9,  2255.0,2,  2352.6,2,  -0.041,2,    39.6,2,   33.24,2, -999.00,9,      0.001,2
09AR20080322,       SR03,      15,          1,          4,          4,2,20080331,       0529,   -63.8650,   139.8468,       3705,  3404.2,-999.0000,-999.0000,5,  34.6648,2,   235.76,2, -999.00,9,  -999.0,9, -999.00,9,   1.8687,2,   0.9350,2,   0.1554,2,  2253.6,2,  2352.2,2,  -0.040,2,    39.3,2,   33.13,2, -999.00,9,      0.001,2
09AR20080322,       SR03,      15,          1,          3,          3,2,20080331,       0529,   -63.8650,   139.8468,       3705,  3600.1,-999.0000,-999.0000,5,  34.6523,2,   242.03,2, -999.00,9,  -999.0,9, -999.00,9,   2.2813,2,   1.1808,2,   0.1810,2,  2252.3,2,  2348.2,2,  -0.043,2,    39.6,2,   33.02,2, -999.00,9,      0.001,2
09AR20080322,       SR03,      15,          1,          2,          2,2,20080331,       0529,   -63.8650,   139.8468,       3705,  3708.1,-999.0000,-999.0000,5,  34.6444,2,   247.37,2, -999.00,9,  -999.0,9, -999.00,9,   2.6019,2,   1.3318,2,   0.2110,2,  2250.3,2,  2348.3,6,  -0.045,2,    39.2,2,   33.08,2, -999.00,9,      0.001,2
09AR20080322,       SR03,      15,          1,          1,          1,2,20080331,       0529,   -63.8650,   139.8468,       3705,  3751.0,-999.0000,-999.0000,5,  34.6427,2,   248.25,2, -999.00,9,  -999.0,9, -999.00,9,   2.6103,2,   1.3568,2,   0.2167,2,  2249.8,6,  2347.5,2,  -0.042,2,    39.7,2,   32.86,2, -999.00,9,      0.001,2
09AR20080322,       SR03,      16,          1,         24,         24,2,20080331,       1150,   -63.3505,   139.8323,       3776,     4.6,   0.7190,  33.8908,2,  33.8926,2,   328.03,2,  327.78,2,    23.5,2,    1.78,2,   5.6454,2,   3.0019,2,   0.4831,2,  2159.5,2,  2288.1,2,   1.569,2,  -999.0,9, -999.00,9,   26.97,2,      0.101,2
09AR20080322,       SR03,      16,          1,         23,         23,2,20080331,       1150,   -63.3505,   139.8323,       3776,    20.9,   0.7300,  33.8950,2,-999.0000,9,   327.90,2, -999.00,9,  -999.0,9, -999.00,9,-999.0000,9,-999.0000,9,-999.0000,9,  -999.0,9,  -999.0,9,   1.639,2,  -999.0,9, -999.00,9, -999.00,9,      0.001,2
09AR20080322,       SR03,      16,          1,         22,         22,2,20080331,       1150,   -63.3505,   139.8323,       3776,    20.9,   0.7310,  33.8941,2,-999.0000,9,   327.90,2, -999.00,9,  -999.0,9, -999.00,9,-999.0000,9,-999.0000,9,-999.0000,9,  -999.0,9,  -999.0,9,   1.534,2,  -999.0,9, -999.00,9, -999.00,9,      0.001,2
09AR20080322,       SR03,      16,          1,         21,         21,2,20080331,       1150,   -63.3505,   139.8323,       3776,    20.7,   0.7308,  33.8943,2,  33.8961,2,   327.90,2,  328.17,2,    23.7,2,    1.78,2,   5.6808,2,   3.0136,2,   0.5087,2,  2161.3,2,  2288.8,2,   1.586,2,  -999.0,9, -999.00,9,   26.81,2,      0.001,2
09AR20080322,       SR03,      16,          1,         20,         20,2,20080331,       1150,   -63.3505,   139.8323,       3776,    49.6,   0.5407,  33.9625,2,  33.9630,2,   306.03,2,  320.59,2,    30.3,2,    1.90,2,   5.4948,2,   2.8807,2,   0.5157,2,  2171.0,2,  2292.7,2,   2.191,2,  -999.0,9, -999.00,9,   27.61,2,      0.001,2
09AR20080322,       SR03,      16,          1,         19,         19,2,20080331,       1150,   -63.3505,   139.8323,       3776,    69.2,   1.3967,  34.3694,2,  34.3566,2,   209.66,2,  210.89,2,    63.8,2,    2.44,2,   2.5734,2,   1.3243,2,   0.2018,2,  2240.1,2,  2313.9,2,   0.297,2,  -999.0,9, -999.00,9,   34.53,2,      0.001,2
09AR20080322,       SR03,      16,          1,         18,         18,2,20080331,       1150,   -63.3505,   139.8323,       3776,   100.0,   1.8982,  34.4984,2,  34.4960,2,   187.40,2,  181.14,2,    73.5,2,    2.48,2,   1.3745,2,   0.7026,2,   0.1078,2,  2255.2,2,  2321.9,2,   0.094,2,  -999.0,9, -999.00,9, -999.00,9,      0.001,2
09AR20080322,       SR03,      16,          1,         17,         17,2,20080331,       1150,   -63.3505,   139.8323,       3776,   200.1,   1.9448,  34.6093,2,  34.6091,2,   173.77,2,  173.87,2,    81.1,2,    2.42,2,   0.7932,2,   0.4011,2,   0.0601,2,  2259.6,2,  2331.7,2,   0.017,2,  -999.0,9, -999.00,9,   34.24,2,      0.001,2
09AR20080322,       SR03,      16,          1,         16,         16,2,20080331,       1150,   -63.3505,   139.8323,       3776,   299.6,   2.0325,  34.6685,2,  34.6689,2,   175.84,2,  180.73,3,    82.6,2,    2.34,2,   0.4537,2,   0.2291,2,   0.0000,2,  2257.9,2,  2337.2,6,   0.017,2,  -999.0,9, -999.00,9,   32.96,2,      0.001,2
09AR20080322,       SR03,      16,          1,         15,         15,2,20080331,       1150,   -63.3505,   139.8323,       3776,   400.5,   2.0180,  34.7006,2,  34.7005,2,   179.79,2,  181.17,2,    83.4,2,    2.28,2,   0.3396,2,   0.1719,2,   0.0213,2,  2255.8,2,  2337.8,2,  -0.008,2,  -999.0,9, -999.00,9,   32.17,2,      0.001,2
09AR20080322,       SR03,      16,          1,         14,         14,2,20080331,       1150,   -63.3505,   139.8323,       3776,   597.9,   1.8469,  34.7313,2,  34.7318,2,   187.82,2,  189.37,2,    87.6,2,    2.24,2,   0.2435,2,   0.1239,2,   0.0139,2,  2252.0,2,  2342.7,2,  -0.021,2,  -999.0,9, -999.00,9,   31.37,2,      0.001,2
09AR20080322,       SR03,      16,          1,         13,         13,2,20080331,       1150,   -63.3505,   139.8323,       3776,   800.1,   1.7154,  34.7430,2,  34.7429,2,   194.02,2,  194.41,2,    91.3,2,    2.21,2,   0.2133,2,   0.1059,2,   0.0159,2,  2251.0,2,  2347.0,2,  -0.024,2,  -999.0,9, -999.00,9,   30.98,2,      0.001,2
09AR20080322,       SR03,      16,          1,         12,         12,2,20080331,       1150,   -63.3505,   139.8323,       3776,   999.4,   1.5234,  34.7430,2,  34.7431,2,   197.88,2,  198.44,2,    96.6,2,    2.21,2,   0.1748,2,   0.0909,2,   0.0138,2,  2251.6,2,  2347.6,2,  -0.024,2,  -999.0,9, -999.00,9,   30.83,2,      0.001,2
09AR20080322,       SR03,      16,          1,         11,         11,2,20080331,       1150,   -63.3505,   139.8323,       3776,  1300.2,   1.2538,  34.7337,2,  34.7339,2,   202.19,2,  201.65,2,   104.2,2,    2.26,2,   0.1729,2,   0.0869,2,   0.0149,2,  2256.0,2,  2354.5,2,  -0.028,2,  -999.0,9, -999.00,9,   31.78,3,      0.001,2
09AR20080322,       SR03,      16,          1,         10,         10,2,20080331,       1150,   -63.3505,   139.8323,       3776,  1602.5,   1.0182,  34.7224,2,  34.7221,2,   204.69,2,  204.13,2,   111.2,2,    2.28,2,   0.1803,2,   0.0892,2,   0.0069,2,  2258.7,2,  2353.4,2,  -0.030,2,  -999.0,9, -999.00,9,   31.63,2,      0.001,2
09AR20080322,       SR03,      16,          1,          9,          9,2,20080331,       1150,   -63.3505,   139.8323,       3776,  1900.6,   0.7822,  34.7106,2,  34.7105,2,   208.23,2,  207.78,2,   118.3,2,    2.31,2,   0.1999,2,   0.1017,2,   0.0168,2,  2261.4,2,  2357.1,2,  -0.028,2,  -999.0,9, -999.00,9,   31.87,2,      0.001,2
09AR20080322,       SR03,      16,          1,          8,          8,2,20080331,       1150,   -63.3505,   139.8323,       3776,  2200.6,   0.5493,  34.6987,2,  34.6994,2,   212.08,2,  212.08,2,   125.0,2,    2.36,2,   0.2743,2,   0.1351,2,   0.0066,2,  2260.6,2,  2355.1,2,  -0.035,2,  -999.0,9, -999.00,9,   32.43,2,      0.001,2
09AR20080322,       SR03,      16,          1,          7,          7,2,20080331,       1150,   -63.3505,   139.8323,       3776,  2500.4,   0.3012,  34.6843,2,  34.6835,2,   217.94,2,  217.59,2,   122.4,2,    2.35,2,   0.6596,2,   0.3380,2,   0.0335,2,  2262.1,2,  2352.3,2,  -0.034,2,  -999.0,9, -999.00,9,   32.43,2,      0.001,2
09AR20080322,       SR03,      16,          1,          6,          6,2,20080331,       1150,   -63.3505,   139.8323,       3776,  2800.7,   0.1635,  34.6817,2,  34.6811,2,   221.77,2,  221.59,2,   120.9,2,    2.35,2,   0.9811,2,   0.4929,2,   0.0645,2,  2260.7,2,  2353.9,6,  -0.038,2,  -999.0,9, -999.00,9,   32.21,2,      0.001,2
09AR20080322,       SR03,      16,          1,          5,          5,2,20080331,       1150,   -63.3505,   139.8323,       3776,  3101.2,   0.0382,  34.6761,2,  34.7143,4,   227.29,2,  227.19,2,   120.9,2,    2.35,2,   1.2189,2,   0.6170,2,   0.0755,2,  2260.9,2,  2352.7,2,  -0.040,2,  -999.0,9, -999.00,9,   32.04,2,      0.001,2
09AR20080322,       SR03,      16,          1,          4,          4,2,20080331,       1150,   -63.3505,   139.8323,       3776,  3400.5,  -0.1224,  34.6660,2,  34.6644,2,   234.60,2,  234.67,2,   119.2,2,    2.33,2,   1.6670,2,   0.8374,2,   0.1258,2,  2258.3,2,  2353.5,2,  -0.041,2,  -999.0,9, -999.00,9,   31.97,2,      0.001,2
09AR20080322,       SR03,      16,          1,          3,          3,2,20080331,       1150,   -63.3505,   139.8323,       3776,  3701.1,  -0.3513,  34.6484,2,  34.6470,2,   247.61,2,  246.96,2,   104.2,2,    2.28,2,   2.4550,2,   1.2715,2,   0.1904,2,  2253.7,2,  2347.5,2,  -0.044,2,  -999.0,9, -999.00,9,   31.34,2,      0.001,2
09AR20080322,       SR03,      16,          1,          2,          2,2,20080331,       1150,   -63.3505,   139.8323,       3776,  3782.5,  -0.3876,  34.6452,2,  34.6436,2,   249.39,2, -999.00,9,   103.4,2,    2.27,2,   2.5551,2,   1.3276,2,   0.1961,2,  2253.2,2,  2348.3,2,  -0.043,2,  -999.0,9, -999.00,9,   31.73,2,      0.001,2
09AR20080322,       SR03,      16,          1,          1,          1,2,20080331,       1150,   -63.3505,   139.8323,       3776,  3829.5,  -0.4157,  34.6433,2,  34.6415,2,   251.46,2,  250.45,2,   102.5,2,    2.28,2,   2.6550,6,   1.3705,6,   0.2204,6,  2250.9,2,  2347.4,2,  -0.044,2,  -999.0,9, -999.00,9,   31.65,2,      0.001,2