BOTTLE,20141029CCHSIOCBG
EXPOCODE,SECT_ID,STNNBR,CASTNO,SAMPNO,BTLNBR,BTLNBR_FLAG_W,DATE,TIME,LATITUDE,LONGITUDE,DEPTH,CTDPRS,CTDTMP,CTDSAL,CTDSAL_FLAG_W,SALNTY,SALNTY_FLAG_W,CTDOXY,CTDOXY_FLAG_W,OXYGEN,OXYGEN_FLAG_W,SILCAT,SILCAT_FLAG_W,PHSPHT,PHSPHT_FLAG_W,CFC-11,CFC-11_FLAG_W,CFC-12,CFC-12_FLAG_W,CFC113,CFC113_FLAG_W,TCARBN,TCARBN_FLAG_W,ALKALI,ALKALI_FLAG_W,FLUOR,FLUOR_FLAG_W,DOC,DOC_FLAG_W,TDN,TDN_FLAG_W,NO2+NO3,NO2+NO3_FLAG_W,PAR,PAR_FLAG_W
,,,,,,,,,,,METERS,DBAR,ITS-90,PSS-78,,PSS-78,,UMOL/KG,,UMOL/KG,,UMOL/KG,,UMOL/KG,,PMOL/KG,,PMOL/KG,,PMOL/KG,,UMOL/KG,,UMOL/KG,,MG/M^3,,UMOL/KG,,UMOL/KG,,UMOL/KG,,VOLTS,
09AR20080322,       SR03,      11,          1,         24,         24,2,20080330,       0841,   -64.8773,   140.2068,       3055,     4.1,  -1.4252,  33.9607,2,  33.9618,2,   339.32,2,  340.43,2,    41.8,2,    1.98,2,-999.0000,9,-999.0000,9,-999.0000,9,  -999.0,9,  -999.0,9,   0.679,2,  -999.0,9, -999.00,9,   28.14,2,      0.053,2
09AR20080322,       SR03,      11,          1,         23,         23,2,20080330,       0841,   -64.8773,   140.2068,       3055,     4.1,  -1.4281,  33.9604,2,-999.0000,9,   339.32,2, -999.00,9,  -999.0,9, -999.00,9,-999.0000,9,-999.0000,9,-999.0000,9,  -999.0,9,  -999.0,9,   0.682,2,  -999.0,9, -999.00,9, -999.00,9,      0.069,2
09AR20080322,       SR03,      11,          1,         22,         22,2,20080330,       0841,   -64.8773,   140.2068,       3055,     4.1,  -1.4282,  33.9604,2,-999.0000,9,   339.32,2, -999.00,9,  -999.0,9, -999.00,9,-999.0000,9,-999.0000,9,-999.0000,9,  -999.0,9,  -999.0,9,   0.651,2,  -999.0,9, -999.00,9, -999.00,9,      0.094,2
09AR20080322,       SR03,      11,          1,         21,         21,2,20080330,       0841,   -64.8773,   140.2068,       3055,     3.9,  -1.4276,  33.9605,2,-999.0000,9,   339.32,2, -999.00,9,  -999.0,9, -999.00,9,-999.0000,9,-999.0000,9,-999.0000,9,  -999.0,9,  -999.0,9,   0.715,2,  -999.0,9, -999.00,9, -999.00,9,      0.141,2
09AR20080322,       SR03,      11,          1,         20,         20,2,20080330,       0841,   -64.8773,   140.2068,       3055,    29.8,  -1.4250,  33.9608,2,  33.9614,2,   339.93,2, -999.00,9,    42.0,2,    1.97,2,-999.0000,9,-999.0000,9,-999.0000,9,  -999.0,9,  -999.0,9,   0.744,2,  -999.0,9, -999.00,9,   28.15,2,      0.001,2
09AR20080322,       SR03,      11,          1,         19,         19,2,20080330,       0841,   -64.8773,   140.2068,       3055,    29.7,  -1.4257,  33.9605,2,-999.0000,9,   339.93,2, -999.00,9,  -999.0,9, -999.00,9,-999.0000,9,-999.0000,9,-999.0000,9,  -999.0,9,  -999.0,9,   0.755,2,  -999.0,9, -999.00,9, -999.00,9,      0.001,2
09AR20080322,       SR03,      11,          1,         18,         18,2,20080330,       0841,   -64.8773,   140.2068,       3055,    50.3,  -1.4001,  33.9636,2,  33.9645,2,   339.33,2,  339.16,2,    41.5,2,    1.98,2,-999.0000,9,-999.0000,9,-999.0000,9,  -999.0,9,  -999.0,9,   0.685,2,  -999.0,9, -999.00,9,   27.85,2,      0.001,2
09AR20080322,       SR03,      11,          1,         17,         17,2,20080330,       0841,   -64.8773,   140.2068,       3055,    50.2,  -1.3982,  33.9639,2,-999.0000,9,   339.33,2, -999.00,9,  -999.0,9, -999.00,9,-999.0000,9,-999.0000,9,-999.0000,9,  -999.0,9,  -999.0,9,   0.693,2,  -999.0,9, -999.00,9, -999.00,9,      0.001,2
09AR20080322,       SR03,      11,          1,         16,         16,2,20080330,       0841,   -64.8773,   140.2068,       3055,    69.7,  -1.1910,  34.0134,2,  34.0130,2,   338.97,2,  337.42,2,    42.2,2,    1.97,2,-999.0000,9,-999.0000,9,-999.0000,9,  -999.0,9,  -999.0,9,   0.773,2,  -999.0,9, -999.00,9,   27.93,2,      0.001,2
09AR20080322,       SR03,      11,          1,         15,         15,2,20080330,       0841,   -64.8773,   140.2068,       3055,    69.6,  -1.1899,  34.0133,2,-999.0000,9,   338.97,2,  337.54,2,  -999.0,9, -999.00,9,-999.0000,9,-999.0000,9,-999.0000,9,  -999.0,9,  -999.0,9,   0.723,2,  -999.0,9, -999.00,9, -999.00,9,      0.001,2
09AR20080322,       SR03,      11,          1,         14,         14,2,20080330,       0841,   -64.8773,   140.2068,       3055,    89.4,  -1.0701,  34.2837,2,  34.2832,2,   302.91,2,  298.40,2,    60.0,2,    2.13,2,-999.0000,9,-999.0000,9,-999.0000,9,  -999.0,9,  -999.0,9,   0.534,2,  -999.0,9, -999.00,9,   30.02,2,      0.001,2
09AR20080322,       SR03,      11,          1,         13,         13,2,20080330,       0841,   -64.8773,   140.2068,       3055,    89.5,  -1.0664,  34.2854,2,  34.2845,2,   302.91,2,  298.45,2,  -999.0,9, -999.00,9,-999.0000,9,-999.0000,9,-999.0000,9,  -999.0,9,  -999.0,9,   0.550,2,  -999.0,9, -999.00,9, -999.00,9,      0.001,2
09AR20080322,       SR03,      11,          1,         12,         12,2,20080330,       0841,   -64.8773,   140.2068,       3055,   114.5,  -1.2621,  34.3809,2,  34.3801,2,   287.48,2,  290.55,2,    67.2,2,    2.17,2,-999.0000,9,-999.0000,9,-999.0000,9,  -999.0,9,  -999.0,9,   0.299,2,  -999.0,9, -999.00,9,   30.90,2,      0.001,2
09AR20080322,       SR03,      11,          1,         11,         11,2,20080330,       0841,   -64.8773,   140.2068,       3055,   130.6,  -1.1619,  34.4150,2,  34.4138,2,   285.85,2,  284.16,2,    70.2,2,    2.20,2,-999.0000,9,-999.0000,9,-999.0000,9,  -999.0,9,  -999.0,9,   0.135,2,  -999.0,9, -999.00,9,   31.17,2,      0.001,2
09AR20080322,       SR03,      11,          1,         10,         10,2,20080330,       0841,   -64.8773,   140.2068,       3055,   150.6,  -0.9097,  34.4488,2,  34.4489,2,   275.11,2,  272.64,2,  -999.0,9, -999.00,9,-999.0000,9,-999.0000,9,-999.0000,9,  -999.0,9,  -999.0,9,   0.042,2,  -999.0,9, -999.00,9, -999.00,9,      0.001,2
09AR20080322,       SR03,      11,          1,          9,          9,2,20080330,       0841,   -64.8773,   140.2068,       3055,   201.9,  -0.2942,  34.5185,2,  34.5183,2,   248.06,2,  249.21,2,    78.9,2,    2.24,2,-999.0000,9,-999.0000,9,-999.0000,9,  -999.0,9,  -999.0,9,  -0.012,2,  -999.0,9, -999.00,9,   31.90,2,      0.001,2
09AR20080322,       SR03,      11,          1,          8,          8,2,20080330,       0841,   -64.8773,   140.2068,       3055,   249.0,   0.1468,  34.5733,2,  34.5732,2,   232.64,2,  233.65,2,    83.3,2,    2.24,2,-999.0000,9,-999.0000,9,-999.0000,9,  -999.0,9,  -999.0,9,  -0.025,2,  -999.0,9, -999.00,9,   31.92,2,      0.001,2
09AR20080322,       SR03,      11,          1,          7,          7,2,20080330,       0841,   -64.8773,   140.2068,       3055,   300.9,   0.4298,  34.6131,2,  34.6127,2,   223.66,2,  223.96,2,    87.8,2,    2.26,2,-999.0000,9,-999.0000,9,-999.0000,9,  -999.0,9,  -999.0,9,  -0.032,2,  -999.0,9, -999.00,9,   32.21,2,      0.001,2
09AR20080322,       SR03,      11,          1,          6,          6,2,20080330,       0841,   -64.8773,   140.2068,       3055,   348.1,   0.7228,  34.6502,2,  34.6499,2,   215.29,2,  215.13,2,    91.7,2,    2.26,2,-999.0000,9,-999.0000,9,-999.0000,9,  -999.0,9,  -999.0,9,  -0.033,2,  -999.0,9, -999.00,9,   32.30,2,      0.001,2
09AR20080322,       SR03,      11,          1,          5,          5,2,20080330,       0841,   -64.8773,   140.2068,       3055,   400.0,   0.8145,  34.6653,2,  34.6654,2,   212.78,2,  212.09,2,    92.5,2,    2.24,2,-999.0000,9,-999.0000,9,-999.0000,9,  -999.0,9,  -999.0,9,  -0.032,2,  -999.0,9, -999.00,9,   31.67,2,      0.001,2
09AR20080322,       SR03,      11,          1,          4,          4,2,20080330,       0841,   -64.8773,   140.2068,       3055,   550.3,   0.9766,  34.6985,2,  34.7001,2,   206.14,2, -999.00,9,    98.2,2,    2.23,2,-999.0000,9,-999.0000,9,-999.0000,9,  -999.0,9,  -999.0,9,  -0.034,2,  -999.0,9, -999.00,9,   31.50,2,      0.001,2
09AR20080322,       SR03,      11,          1,          3,          3,2,20080330,       0841,   -64.8773,   140.2068,       3055,   649.4,   0.9445,  34.7033,2,  34.7041,2,   205.83,2,  205.74,2,   101.7,2,    2.23,2,-999.0000,9,-999.0000,9,-999.0000,9,  -999.0,9,  -999.0,9,  -0.029,2,  -999.0,9, -999.00,9,   31.49,2,      0.001,2
09AR20080322,       SR03,      11,          1,          2,          2,2,20080330,       0841,   -64.8773,   140.2068,       3055,   752.7,   0.9063,  34.7056,2,-999.0000,9,   205.28,2, -999.00,9,  -999.0,9, -999.00,9,-999.0000,9,-999.0000,9,-999.0000,9,  -999.0,9,  -999.0,9,  -0.032,2,  -999.0,9, -999.00,9, -999.00,9,      0.001,2
09AR20080322,       SR03,      11,          1,          1,          1,2,20080330,       0841,   -64.8773,   140.2068,       3055,   752.5,   0.9093,  34.7061,2,  34.7066,2,   205.28,2,  205.56,2,   105.1,2,    2.24,2,-999.0000,9,-999.0000,9,-999.0000,9,  -999.0,9,  -999.0,9,  -0.033,2,  -999.0,9, -999.00,9,   31.65,2,      0.001,2
09AR20080322,       SR03,      12,          1,         24,         24,2,20080330,       1407,   -64.5480,   139.8508,       3051,     9.8,  -0.3789,  34.0007,2,  33.9819,4,   332.56,2,  333.52,2,    38.0,2,    1.92,2,   5.7565,2,   3.0577,2,   0.5405,2,  2175.0,2,  2297.6,2,   1.223,2,    49.5,2,   31.29,2,   27.76,2,      0.001,2
09AR20080322,       SR03,      12,          1,         23,         23,2,20080330,       1407,   -64.5480,   139.8508,       3051,    29.8,  -0.3826,  33.9998,2,-999.0000,9,   332.71,2, -999.00,9,  -999.0,9, -999.00,9,-999.0000,9,-999.0000,9,-999.0000,9,  -999.0,9,  -999.0,9,   1.264,2,  -999.0,9, -999.00,9, -999.00,9,      0.001,2
09AR20080322,       SR03,      12,          1,         22,         22,2,20080330,       1407,   -64.5480,   139.8508,       3051,    29.7,  -0.3808,  33.9996,2,-999.0000,9,   332.71,2, -999.00,9,  -999.0,9, -999.00,9,-999.0000,9,-999.0000,9,-999.0000,9,  -999.0,9,  -999.0,9,   1.265,2,  -999.0,9, -999.00,9, -999.00,9,      0.001,2
09AR20080322,       SR03,      12,          1,         21,         21,2,20080330,       1407,   -64.5480,   139.8508,       3051,    29.4,  -0.3811,  33.9996,2,  34.0175,4,   332.71,2,  333.52,2,    37.8,2,    1.90,2,   5.7395,2,   3.0550,2,   0.5354,2,  2174.8,2,  2297.0,2,   1.281,2,    45.8,2,   30.70,2,   27.75,2,      0.001,2
09AR20080322,       SR03,      12,          1,         20,         20,2,20080330,       1407,   -64.5480,   139.8508,       3051,    50.5,  -0.3757,  34.0002,2,  34.0048,2,   332.59,2,  331.95,2,    38.3,2,    1.91,2,-999.0000,9,-999.0000,9,-999.0000,9,  2175.4,6,  2297.3,2,   1.292,2,    44.3,2,   30.27,2,   27.65,2,      0.001,2
09AR20080322,       SR03,      12,          1,         19,         19,2,20080330,       1407,   -64.5480,   139.8508,       3051,    69.0,  -0.0322,  34.4339,2,  34.4295,2,   274.56,2,  250.80,2,    69.0,2,    2.25,2,   3.2315,2,   1.7087,2,   0.2953,2,  2233.4,2,  2324.0,6,   0.592,2,    43.2,2,   34.50,2,   32.44,2,      0.001,2
09AR20080322,       SR03,      12,          1,         18,         18,2,20080330,       1407,   -64.5480,   139.8508,       3051,    89.4,   0.3706,  34.5064,2,  34.5058,2,   247.11,2,  228.67,2,    75.4,2, -999.00,9,-999.0000,9,-999.0000,9,-999.0000,9,  2242.6,2,  2327.5,2,   0.173,2,    42.4,2,   34.87,2,   32.62,2,      0.001,2
09AR20080322,       SR03,      12,          1,         17,         17,2,20080330,       1407,   -64.5480,   139.8508,       3051,   129.6,   1.2432,  34.6152,2,  34.6152,2,   205.62,2,  196.42,2,    82.4,2,    2.31,2,   1.2890,2,   0.6600,2,   0.1039,2,  2253.2,2,  2333.5,2,   0.000,2,    41.8,2,   35.01,2,   33.31,2,      0.001,2
09AR20080322,       SR03,      12,          1,         16,         16,2,20080330,       1407,   -64.5480,   139.8508,       3051,   149.1,   1.2491,  34.6257,2,  34.6262,2,   196.41,2,  197.19,2,    83.6,2,    2.34,2,-999.0000,9,-999.0000,9,-999.0000,9,  2252.2,2,  2335.6,2,  -0.016,2,    41.7,2,   35.38,2,   33.31,2,      0.001,2
09AR20080322,       SR03,      12,          1,         15,         15,2,20080330,       1407,   -64.5480,   139.8508,       3051,   199.6,   1.4639,  34.6685,2,  34.6678,2,   189.86,2,  192.41,2,    85.8,2,    2.27,2,   0.8656,2,   0.4495,2,   0.0644,2,  2253.5,2,  2339.5,2,  -0.023,2,    41.6,2,   34.50,2,   32.90,2,      0.001,2
09AR20080322,       SR03,      12,          1,         14,         14,2,20080330,       1407,   -64.5480,   139.8508,       3051,   249.4,   1.5975,  34.6952,2,  34.6950,2,   190.78,2,  190.19,2,    87.1,2,    2.27,2,-999.0000,9,-999.0000,9,-999.0000,9,  2253.1,2,  2341.5,2,  -0.022,2,    41.2,2,   33.58,2,   32.33,2,      0.001,2
09AR20080322,       SR03,      12,          1,         13,         13,2,20080330,       1407,   -64.5480,   139.8508,       3051,   298.4,   1.5033,  34.6982,2,  34.6978,2,   199.93,2,  193.50,2,    88.4,2,    2.24,2,   0.6486,2,   0.3413,2,   0.0540,2,  2251.5,2,  2342.9,2,  -0.018,2,    41.0,2,   33.62,2,   32.24,2,      0.001,2
09AR20080322,       SR03,      12,          1,         12,         12,2,20080330,       1407,   -64.5480,   139.8508,       3051,   400.9,   1.3543,  34.7023,2,  34.7019,2,   196.03,2,  198.27,2,    90.6,2,    2.21,2,-999.0000,9,-999.0000,9,-999.0000,9,  2250.8,6,  2344.8,2,  -0.026,2,    40.9,2,   32.95,2,   31.68,2,      0.001,2
09AR20080322,       SR03,      12,          1,         11,         11,2,20080330,       1407,   -64.5480,   139.8508,       3051,   497.0,   1.2915,  34.7091,2,  34.7098,2,   199.34,2,  201.00,2,    93.6,2,    2.21,2,   0.6500,2,   0.3361,2,   0.0465,2,  2250.6,2,  2345.3,6,  -0.023,2,    40.4,2,   33.19,2,   31.59,2,      0.001,2
09AR20080322,       SR03,      12,          1,         10,         10,2,20080330,       1407,   -64.5480,   139.8508,       3051,   696.9,   1.2855,  34.7300,2,  34.7302,2,   197.87,2,  200.22,2,    99.7,2,    2.20,2,-999.0000,9,-999.0000,9,-999.0000,9,  2252.4,2,  2350.8,2,  -0.034,2,    40.2,2,   33.00,2,   31.27,2,      0.001,2
09AR20080322,       SR03,      12,          1,          9,          9,2,20080330,       1407,   -64.5480,   139.8508,       3051,   899.7,   1.1402,  34.7295,2,  34.7286,2,   201.02,2,  202.30,2,   106.4,2,    2.21,2,   0.1871,2,   0.1003,2,   0.0167,2,  2254.7,2,  2353.9,6,  -0.034,2,    39.7,2,   32.79,2,   31.21,2,      0.001,2
09AR20080322,       SR03,      12,          1,          8,          8,2,20080330,       1407,   -64.5480,   139.8508,       3051,  1197.9,   0.8618,  34.7144,2,  34.7143,2,   205.53,2,  206.00,2,   113.9,2,    2.26,2,   0.2465,2,   0.1336,2,   0.0181,2,  2256.9,2,  2356.2,2,  -0.034,2,    39.2,2,   32.97,2,   31.83,2,      0.001,2
09AR20080322,       SR03,      12,          1,          7,          7,2,20080330,       1407,   -64.5480,   139.8508,       3051,  1498.2,   0.5600,  34.6969,2,  34.6964,2,   210.86,2,  210.52,2,   118.7,2,    2.29,2,   0.3997,2,   0.2031,2,   0.0275,2,  2260.4,2,  2355.6,2,  -0.038,2,    39.4,2,   33.85,2,   32.48,2,      0.001,2
09AR20080322,       SR03,      12,          1,          6,          6,2,20080330,       1407,   -64.5480,   139.8508,       3051,  1798.6,   0.3644,  34.6914,2,  34.6915,2,   214.54,2,  214.86,2,   126.1,2,    2.31,2,-999.0000,9,-999.0000,9,-999.0000,9,  2259.4,2,  2357.8,2,  -0.034,2,    39.1,2,   34.14,2,   32.72,2,      0.001,2
09AR20080322,       SR03,      12,          1,          5,          5,2,20080330,       1407,   -64.5480,   139.8508,       3051,  2098.7,   0.1960,  34.6851,2,  34.6848,2,   219.59,2,  219.72,2,   128.8,2,    2.32,2,   0.5377,2,   0.2657,2,   0.0379,2,  2259.7,2,  2356.7,2,  -0.038,2,    39.1,2,   33.95,2,   32.80,2,      0.001,2
09AR20080322,       SR03,      12,          1,          4,          4,2,20080330,       1407,   -64.5480,   139.8508,       3051,  2400.2,   0.0655,  34.6803,2,  34.6799,2,   223.54,2,  223.68,2,   131.4,2,    2.33,2,-999.0000,9,-999.0000,9,-999.0000,9,  2260.0,2,  2355.8,2,  -0.042,2,    39.4,2,   34.50,2,   32.89,2,      0.001,2
09AR20080322,       SR03,      12,          1,          3,          3,2,20080330,       1407,   -64.5480,   139.8508,       3051,  2699.4,  -0.0937,  34.6720,2,  34.6703,2,   229.72,2,  231.02,2,   125.3,2,    2.32,2,   1.2968,2,   0.6499,2,   0.0847,2,  2257.7,2,  2352.8,2,  -0.038,2,    39.4,2,   34.19,2,   32.65,2,      0.001,2
09AR20080322,       SR03,      12,          1,          2,          2,2,20080330,       1407,   -64.5480,   139.8508,       3051,  3048.7,  -0.4010,  34.6514,2,  34.6499,2,   246.02,2,  246.14,2,   105.3,2,    2.26,2,   2.4552,2,   1.2873,2,   0.2100,2,  2253.3,6,  2349.0,2,  -0.045,2,    39.3,2,   33.97,2,   32.25,2,      0.001,2
09AR20080322,       SR03,      12,          1,          1,          1,2,20080330,       1407,   -64.5480,   139.8508,       3051,  3094.0,  -0.4314,  34.6479,2,  34.6485,2,   248.14,2,  247.61,2,   105.3,2,    2.26,2,   2.5616,2,   1.3237,2,   0.2113,2,  2252.4,2,  2347.5,6,  -0.041,2,    39.3,2,   34.13,2,   32.41,2,      0.001,2