BOTTLE,20141029CCHSIOCBG
EXPOCODE,SECT_ID,STNNBR,CASTNO,SAMPNO,BTLNBR,BTLNBR_FLAG_W,DATE,TIME,LATITUDE,LONGITUDE,DEPTH,CTDPRS,CTDTMP,CTDSAL,CTDSAL_FLAG_W,SALNTY,SALNTY_FLAG_W,CTDOXY,CTDOXY_FLAG_W,OXYGEN,OXYGEN_FLAG_W,SILCAT,SILCAT_FLAG_W,PHSPHT,PHSPHT_FLAG_W,CFC-11,CFC-11_FLAG_W,CFC-12,CFC-12_FLAG_W,CFC113,CFC113_FLAG_W,TCARBN,TCARBN_FLAG_W,ALKALI,ALKALI_FLAG_W,FLUOR,FLUOR_FLAG_W,DOC,DOC_FLAG_W,TDN,TDN_FLAG_W,NO2+NO3,NO2+NO3_FLAG_W,PAR,PAR_FLAG_W
,,,,,,,,,,,METERS,DBAR,ITS-90,PSS-78,,PSS-78,,UMOL/KG,,UMOL/KG,,UMOL/KG,,UMOL/KG,,PMOL/KG,,PMOL/KG,,PMOL/KG,,UMOL/KG,,UMOL/KG,,MG/M^3,,UMOL/KG,,UMOL/KG,,UMOL/KG,,VOLTS,
09AR20080322,       SR03,      41,          1,         24,         24,2,20080407,       0548,   -53.1328,   142.1383,       3181,     7.6,   5.8461,  33.7487,2,  33.7488,2,   302.10,2,  302.17,2,     2.1,2,    1.58,2,   4.5378,2,   2.5113,2,   0.4628,2,  2119.0,6,  2269.4,2,   1.177,2,  -999.0,9, -999.00,9,   23.43,2,      0.001,2
09AR20080322,       SR03,      41,          1,         23,         23,2,20080407,       0548,   -53.1328,   142.1383,       3181,    39.8,   5.8444,  33.7490,2,-999.0000,9,   302.15,2, -999.00,9,  -999.0,9, -999.00,9,-999.0000,9,-999.0000,9,-999.0000,9,  -999.0,9,  -999.0,9,   1.213,2,  -999.0,9, -999.00,9, -999.00,9,      0.001,2
09AR20080322,       SR03,      41,          1,         22,         22,2,20080407,       0548,   -53.1328,   142.1383,       3181,    39.9,   5.8443,  33.7488,2,-999.0000,9,   302.15,2, -999.00,9,  -999.0,9, -999.00,9,-999.0000,9,-999.0000,9,-999.0000,9,  -999.0,9,  -999.0,9,   1.121,2,  -999.0,9, -999.00,9, -999.00,9,      0.001,2
09AR20080322,       SR03,      41,          1,         21,         21,2,20080407,       0548,   -53.1328,   142.1383,       3181,    39.7,   5.8428,  33.7489,2,  33.7484,2,   302.15,2,  302.04,2,     2.1,2,    1.59,2,   4.4582,2,   2.5090,2,   0.3660,2,  2117.5,2,  2268.4,6,   1.202,2,  -999.0,9, -999.00,9,   23.43,2,      0.001,2
09AR20080322,       SR03,      41,          1,         20,         20,2,20080407,       0548,   -53.1328,   142.1383,       3181,    79.7,   5.8305,  33.7483,2,  33.7478,2,   301.43,2,  301.65,2,     2.1,2,    1.58,2,   4.5667,2,   2.5054,2,   0.5004,2,  2119.1,2,  2267.9,2,   1.038,2,  -999.0,9, -999.00,9,   23.42,2,      0.001,2
09AR20080322,       SR03,      41,          1,         19,         19,2,20080407,       0548,   -53.1328,   142.1383,       3181,   130.0,   3.4222,  33.8681,2,  33.8682,2,   303.66,2,  302.85,2,    11.5,2,    1.78,2,   4.9563,2,   2.7871,2,   0.4023,2,  2146.6,2,  2272.6,2,   0.325,2,  -999.0,9, -999.00,9,   26.25,2,      0.001,2
09AR20080322,       SR03,      41,          1,         18,         18,2,20080407,       0548,   -53.1328,   142.1383,       3181,   171.1,   3.0874,  33.9081,2,  33.9072,2,   297.07,2,  297.26,2,    14.8,2,    1.83,2,   5.0406,2,   2.7318,2,   0.4295,2,  2155.8,2,  2274.5,2,  -0.007,2,  -999.0,9, -999.00,9,   27.15,2,      0.001,2
09AR20080322,       SR03,      41,          1,         17,         17,2,20080407,       0548,   -53.1328,   142.1383,       3181,   300.4,   3.1739,  34.1353,2,  34.1354,2,   250.68,2,  252.65,2,    27.5,2,    2.06,2,   4.0372,2,   2.0984,2,   0.3716,2,  2186.5,2,  2286.2,2,  -0.038,2,  -999.0,9, -999.00,9,   30.29,2,      0.001,2
09AR20080322,       SR03,      41,          1,         16,         16,2,20080407,       0548,   -53.1328,   142.1383,       3181,   446.8,   2.8436,  34.2574,2,-999.0000,9,   222.14,2,  220.36,2,    41.6,2,    2.23,2,   2.7826,2,   1.4238,2,   0.2048,2,  2212.2,2,  2298.4,6,  -0.036,2,  -999.0,9, -999.00,9,   32.27,2,      0.001,2
09AR20080322,       SR03,      41,          1,         15,         15,2,20080407,       0548,   -53.1328,   142.1383,       3181,   602.5,   2.7871,  34.3731,2,  34.3723,2,   194.08,2,  194.17,2,    54.0,2,    2.31,2,   1.7089,6,   0.8606,6,   0.1172,6,  2230.2,2,  2310.4,2,  -0.031,2,  -999.0,9, -999.00,9,   33.34,2,      0.001,2
09AR20080322,       SR03,      41,          1,         14,         14,2,20080407,       0548,   -53.1328,   142.1383,       3181,   752.4,   2.7128,  34.4819,2,  34.4822,2,   178.43,2,  178.11,2,    64.0,2,    2.35,2,-999.0000,9,-999.0000,9,-999.0000,9,  -999.0,9,  -999.0,9,  -0.033,2,  -999.0,9, -999.00,9,   33.79,2,      0.001,2
09AR20080322,       SR03,      41,          1,         13,         13,2,20080407,       0548,   -53.1328,   142.1383,       3181,   901.8,   2.5916,  34.5693,2,  34.5696,2,   172.68,2,  173.23,2,    70.4,2,    2.32,2,   0.4751,2,   0.2355,2,   0.0276,2,  2250.1,2,  2330.4,6,  -0.030,2,  -999.0,9, -999.00,9,   33.03,2,      0.001,2
09AR20080322,       SR03,      41,          1,         12,         12,2,20080407,       0548,   -53.1328,   142.1383,       3181,  1100.1,   2.4208,  34.6280,2,  34.6282,2,   174.59,2,  175.00,2,    74.4,2,    2.27,2,   0.3925,2,   0.1931,2,   0.0261,2,  2253.4,6,  2335.7,2,  -0.030,2,  -999.0,9, -999.00,9,   32.26,2,      0.001,2
09AR20080322,       SR03,      41,          1,         11,         11,2,20080407,       0548,   -53.1328,   142.1383,       3181,  1299.9,   2.3137,  34.6866,2,  34.6861,2,   179.81,2,  179.60,2,    77.3,2,    2.21,2,-999.0000,9,-999.0000,9,-999.0000,9,  -999.0,9,  -999.0,9,  -0.029,2,  -999.0,9, -999.00,9,   31.10,2,      0.001,2
09AR20080322,       SR03,      41,          1,         10,         10,2,20080407,       0548,   -53.1328,   142.1383,       3181,  1498.0,   2.2096,  34.7207,2,  34.7203,2,   185.72,2,  185.20,2,    79.8,2,    2.15,2,   0.1688,2,   0.1103,2,   0.0073,2,  2250.1,2,  2342.6,2,  -0.028,2,  -999.0,9, -999.00,9,   30.34,2,      0.001,2
09AR20080322,       SR03,      41,          1,          9,          9,2,20080407,       0548,   -53.1328,   142.1383,       3181,  1701.8,   2.0663,  34.7417,2,  34.7412,2,   189.81,2,  190.63,2,    83.7,2,    2.13,2,   0.1359,2,   0.0666,2,   0.0113,2,  2249.1,2,  2345.5,2,  -0.031,2,  -999.0,9, -999.00,9,   30.26,2,      0.001,2
09AR20080322,       SR03,      41,          1,          8,          8,2,20080407,       0548,   -53.1328,   142.1383,       3181,  1898.9,   1.8950,  34.7471,2,  34.7480,2,   192.55,2,  192.75,2,    91.2,2,    2.14,2,   0.0862,2,   0.0403,2,   0.0019,2,  2254.9,2,  2350.8,2,  -0.030,2,  -999.0,9, -999.00,9,   31.02,2,      0.001,2
09AR20080322,       SR03,      41,          1,          7,          7,2,20080407,       0548,   -53.1328,   142.1383,       3181,  2100.0,   1.7161,  34.7455,2,  34.7451,2,   194.06,2,  194.36,2,    97.8,2,    2.18,2,   0.0712,2,   0.0390,2,   0.0034,2,  2259.2,2,  2357.3,2,  -0.030,2,  -999.0,9, -999.00,9,   31.34,2,      0.001,2
09AR20080322,       SR03,      41,          1,          6,          6,2,20080407,       0548,   -53.1328,   142.1383,       3181,  2301.6,   1.4869,  34.7394,2,  34.7396,2,   197.68,2,  197.61,2,   103.8,2,    2.19,2,   0.0732,3,   0.0542,3,   0.0066,3,  2257.0,2,  2358.9,2,  -0.031,2,  -999.0,9, -999.00,9,   31.19,2,      0.001,2
09AR20080322,       SR03,      41,          1,          5,          5,2,20080407,       0548,   -53.1328,   142.1383,       3181,  2499.8,   1.3175,  34.7333,2,  34.7325,2,   201.03,2,  201.26,2,   108.0,2,    2.18,2,   0.1160,2,   0.0607,2,   0.0111,2,  2258.5,2,  2357.6,2,  -0.036,2,  -999.0,9, -999.00,9,   31.27,2,      0.001,2
09AR20080322,       SR03,      41,          1,          4,          4,2,20080407,       0548,   -53.1328,   142.1383,       3181,  2700.2,   1.1573,  34.7258,2,  34.7256,2,   202.51,2,  202.61,2,   113.8,2,    2.22,2,-999.0000,9,-999.0000,9,-999.0000,9,  -999.0,9,  -999.0,9,  -0.033,2,  -999.0,9, -999.00,9,   31.58,2,      0.001,2
09AR20080322,       SR03,      41,          1,          3,          3,2,20080407,       0548,   -53.1328,   142.1383,       3181,  2900.6,   1.0512,  34.7204,2,  34.7197,2,   204.22,2,  204.09,2,   117.2,2,    2.25,2,   0.1247,2,   0.0599,2,  -0.0008,3,  2262.9,2,  2361.4,2,  -0.038,2,  -999.0,9, -999.00,9,   31.81,2,      0.001,2
09AR20080322,       SR03,      41,          1,          2,          2,2,20080407,       0548,   -53.1328,   142.1383,       3181,  3164.7,   0.9437,  34.7147,2,  34.7144,2,   206.86,2,  206.47,2,   121.0,2,    2.24,2,   0.1766,2,   0.0862,2,   0.0079,2,  2264.1,2,  2360.3,6,  -0.035,2,  -999.0,9, -999.00,9,   31.59,2,      0.001,2
09AR20080322,       SR03,      41,          1,          1,          1,2,20080407,       0548,   -53.1328,   142.1383,       3181,  3214.9,   0.9444,  34.7145,2,  34.7144,2,   207.23,2,  206.56,2,   120.7,2,    2.24,2,   0.1761,2,   0.0891,2,   0.0072,2,  2263.0,6,  2360.2,2,  -0.034,2,  -999.0,9, -999.00,9,   31.44,2,      0.001,2
09AR20080322,       SR03,      42,          1,         24,         24,2,20080407,       1331,   -52.6708,   142.3920,       3321,     7.4,   5.7422,  33.7476,2,  33.7484,2,   303.56,2,  303.39,2,     1.9,2,    1.58,2,-999.0000,9,-999.0000,9,-999.0000,9,  2116.9,6,  2268.0,2,   1.068,2,  -999.0,9, -999.00,9,   23.60,2,      0.001,2
09AR20080322,       SR03,      42,          1,         23,         23,2,20080407,       1331,   -52.6708,   142.3920,       3321,     7.2,   5.7418,  33.7476,2,-999.0000,9,   303.56,2, -999.00,9,  -999.0,9, -999.00,9,-999.0000,9,-999.0000,9,-999.0000,9,  -999.0,9,  -999.0,9,   0.996,2,  -999.0,9, -999.00,9, -999.00,9,      0.001,2
09AR20080322,       SR03,      42,          1,         22,         22,2,20080407,       1331,   -52.6708,   142.3920,       3321,     7.4,   5.7420,  33.7475,2,-999.0000,9,   303.56,2, -999.00,9,  -999.0,9, -999.00,9,-999.0000,9,-999.0000,9,-999.0000,9,  -999.0,9,  -999.0,9,   1.097,2,  -999.0,9, -999.00,9, -999.00,9,      0.001,2
09AR20080322,       SR03,      42,          1,         21,         21,2,20080407,       1331,   -52.6708,   142.3920,       3321,    14.3,   5.7408,  33.7475,2,-999.0000,9,   303.55,2, -999.00,9,  -999.0,9, -999.00,9,-999.0000,9,-999.0000,9,-999.0000,9,  -999.0,9,  -999.0,9,   1.020,2,  -999.0,9, -999.00,9, -999.00,9,      0.001,2
09AR20080322,       SR03,      42,          1,         20,         20,2,20080407,       1331,   -52.6708,   142.3920,       3321,    88.1,   5.7284,  33.7464,2,-999.0000,9,   302.34,2, -999.00,9,  -999.0,9, -999.00,9,-999.0000,9,-999.0000,9,-999.0000,9,  -999.0,9,  -999.0,9,   0.948,2,  -999.0,9, -999.00,9, -999.00,9,      0.001,2
09AR20080322,       SR03,      42,          1,         19,         19,2,20080407,       1331,   -52.6708,   142.3920,       3321,   499.2,   2.8448,  34.2972,2,  34.2968,2,   210.94,2,  210.84,2,    45.0,2,    2.25,2,-999.0000,9,-999.0000,9,-999.0000,9,  2215.9,2,  2303.5,6,  -0.033,2,  -999.0,9, -999.00,9,   33.22,2,      0.001,2
09AR20080322,       SR03,      42,          1,         18,         18,2,20080407,       1331,   -52.6708,   142.3920,       3321,   898.4,   2.5334,  34.5348,2,  34.5347,2,   175.04,2,  175.02,2,    69.2,2,    2.35,2,-999.0000,9,-999.0000,9,-999.0000,9,  2249.5,2,  2328.1,2,  -0.026,2,  -999.0,9, -999.00,9,   34.47,2,      0.001,2
09AR20080322,       SR03,      42,          1,         17,         17,2,20080407,       1331,   -52.6708,   142.3920,       3321,   999.6,   2.4646,  34.5844,2,  34.5844,2,   173.81,2,  173.88,2,    72.2,2,    2.31,2,   0.5322,2,   0.2680,2,   0.0363,2,  2251.5,2,  2332.2,2,  -0.026,2,  -999.0,9, -999.00,9,   33.83,2,      0.001,2
09AR20080322,       SR03,      42,          1,         16,         16,2,20080407,       1331,   -52.6708,   142.3920,       3321,  1015.9,   2.4648,  34.5892,2,-999.0000,9,   173.88,2, -999.00,9,  -999.0,9, -999.00,9,-999.0000,9,-999.0000,9,-999.0000,9,  -999.0,9,  -999.0,9,  -0.025,2,  -999.0,9, -999.00,9, -999.00,9,      0.001,2
09AR20080322,       SR03,      42,          1,         15,         15,2,20080407,       1331,   -52.6708,   142.3920,       3321,  1098.1,   2.4449,  34.6179,2,  34.6170,2,   174.86,2,  174.66,2,    73.7,2,    2.29,2,   0.4064,2,   0.2043,2,   0.0256,2,  2252.0,2,  2334.6,6,  -0.025,2,  -999.0,9, -999.00,9,   33.35,2,      0.001,2
09AR20080322,       SR03,      42,          1,         14,         14,2,20080407,       1331,   -52.6708,   142.3920,       3321,  1198.9,   2.3933,  34.6478,2,  34.6480,2,   176.28,2,  176.00,2,    75.2,2,    2.24,2,-999.0000,9,-999.0000,9,-999.0000,9,  2252.5,2,  2336.7,2,  -0.025,2,  -999.0,9, -999.00,9, -999.00,9,      0.001,2
09AR20080322,       SR03,      42,          1,         13,         13,2,20080407,       1331,   -52.6708,   142.3920,       3321,  1396.2,   2.2878,  34.6971,2,  34.6969,2,   181.94,2,  181.21,2,    78.2,2, -999.00,9,   0.2235,2,   0.1124,2,   0.0438,2,  2250.1,6,  2339.5,2,  -0.027,2,  -999.0,9, -999.00,9,   32.09,2,      0.001,2
09AR20080322,       SR03,      42,          1,         12,         12,2,20080407,       1331,   -52.6708,   142.3920,       3321,  1598.5,   2.1700,  34.7293,2,  34.7292,2,   187.88,2,  187.59,2,    80.8,2,    2.13,2,   0.1540,2,   0.0762,2,   0.0148,2,  2248.6,2,  2344.7,6,  -0.030,2,  -999.0,9, -999.00,9, -999.00,9,      0.001,2
09AR20080322,       SR03,      42,          1,         11,         11,2,20080407,       1331,   -52.6708,   142.3920,       3321,  1799.4,   2.0336,  34.7447,2,  34.7445,2,   192.44,2,  191.93,2,    84.2,2,    2.10,2,   0.1204,2,   0.0617,2,   0.0107,2,  2248.3,2,  2347.6,2,  -0.028,2,  -999.0,9, -999.00,9,   30.92,2,      0.001,2
09AR20080322,       SR03,      42,          1,         10,         10,2,20080407,       1331,   -52.6708,   142.3920,       3321,  1999.6,   1.8474,  34.7496,2,  34.7496,2,   196.12,2,  195.96,2,    89.2,2,    2.10,2,   0.1107,2,   0.0585,2,   0.0138,2,  2249.7,2,  2351.0,2,  -0.030,2,  -999.0,9, -999.00,9,   30.66,2,      0.001,2
09AR20080322,       SR03,      42,          1,          9,          9,2,20080407,       1331,   -52.6708,   142.3920,       3321,  2198.1,   1.6554,  34.7456,2,  34.7447,2,   197.16,2,  197.53,2,    96.0,2,    2.12,2,   0.0991,6,   0.0472,6,   0.0119,6,  2252.7,2,  2354.6,2,  -0.032,2,  -999.0,9, -999.00,9,   30.89,2,      0.001,2
09AR20080322,       SR03,      42,          1,          8,          8,2,20080407,       1331,   -52.6708,   142.3920,       3321,  2398.9,   1.4353,  34.7386,2,  34.7378,2,   200.97,2,  200.09,2,   103.1,2,    2.16,2,   0.0969,2,   0.0447,2,   0.0601,2,  2256.6,2,  2356.9,2,  -0.034,2,  -999.0,9, -999.00,9,   31.11,2,      0.001,2
09AR20080322,       SR03,      42,          1,          7,          7,2,20080407,       1331,   -52.6708,   142.3920,       3321,  2598.2,   1.2646,  34.7306,2,  34.7300,2,   202.34,2,  201.74,2,   109.8,2,    2.19,2,   0.0963,2,   0.0523,2,   0.0111,2,  2260.9,2,  2360.4,2,  -0.032,2,  -999.0,9, -999.00,9,   31.49,2,      0.001,2
09AR20080322,       SR03,      42,          1,          6,          6,2,20080407,       1331,   -52.6708,   142.3920,       3321,  2597.8,   1.2638,  34.7306,2,-999.0000,9,   202.34,2, -999.00,9,  -999.0,9, -999.00,9,-999.0000,9,-999.0000,9,-999.0000,9,  -999.0,9,  -999.0,9,  -0.035,2,  -999.0,9, -999.00,9, -999.00,9,      0.001,2
09AR20080322,       SR03,      42,          1,          5,          5,2,20080407,       1331,   -52.6708,   142.3920,       3321,  2798.9,   1.0981,  34.7229,2,  34.7221,2,   203.85,2,  202.30,2,   116.2,2,    2.22,2,   0.0846,2,   0.0477,2,   0.0092,2,  2264.5,2,  2366.1,6,  -0.036,2,  -999.0,9, -999.00,9,   31.87,2,      0.001,2
09AR20080322,       SR03,      42,          1,          4,          4,2,20080407,       1331,   -52.6708,   142.3920,       3321,  3100.8,   1.0432,  34.7195,2,  34.7184,2,   204.64,2,  203.56,2,   118.8,2,    2.24,2,   0.0959,2,   0.0491,2,   0.0207,2,  2264.7,2,  2367.1,2,  -0.035,2,  -999.0,9, -999.00,9,   31.87,2,      0.001,2
09AR20080322,       SR03,      42,          1,          3,          3,2,20080407,       1331,   -52.6708,   142.3920,       3321,  3494.5,   0.8974,  34.7116,2,  34.7109,2,   207.84,2,  207.69,2,   122.6,2,    2.23,2,   0.1900,2,   0.0967,2,   0.0115,2,  2262.4,2,  2362.4,6,  -0.037,2,  -999.0,9, -999.00,9,   32.03,2,      0.001,2
09AR20080322,       SR03,      42,          1,          2,          2,2,20080407,       1331,   -52.6708,   142.3920,       3321,  3413.4,   0.9173,  34.7127,2,  34.7125,2,   208.08,2,  207.35,2,   122.2,2,    2.23,2,   0.1760,2,   0.0909,2,   0.0143,2,  2263.2,6,  2362.6,2,  -0.035,2,  -999.0,9, -999.00,9,   32.02,2,      0.001,2
09AR20080322,       SR03,      42,          1,          1,          1,2,20080407,       1331,   -52.6708,   142.3920,       3321,  3474.9,   0.8961,  34.7115,2,-999.0000,9,   208.60,2, -999.00,9,  -999.0,9, -999.00,9,-999.0000,9,-999.0000,9,-999.0000,9,  -999.0,9,  -999.0,9,  -0.035,2,  -999.0,9, -999.00,9, -999.00,9,      0.001,2