BOTTLE,20141029CCHSIOCBG
EXPOCODE,SECT_ID,STNNBR,CASTNO,SAMPNO,BTLNBR,BTLNBR_FLAG_W,DATE,TIME,LATITUDE,LONGITUDE,DEPTH,CTDPRS,CTDTMP,CTDSAL,CTDSAL_FLAG_W,SALNTY,SALNTY_FLAG_W,CTDOXY,CTDOXY_FLAG_W,OXYGEN,OXYGEN_FLAG_W,SILCAT,SILCAT_FLAG_W,PHSPHT,PHSPHT_FLAG_W,CFC-11,CFC-11_FLAG_W,CFC-12,CFC-12_FLAG_W,CFC113,CFC113_FLAG_W,TCARBN,TCARBN_FLAG_W,ALKALI,ALKALI_FLAG_W,FLUOR,FLUOR_FLAG_W,DOC,DOC_FLAG_W,TDN,TDN_FLAG_W,NO2+NO3,NO2+NO3_FLAG_W,PAR,PAR_FLAG_W
,,,,,,,,,,,METERS,DBAR,ITS-90,PSS-78,,PSS-78,,UMOL/KG,,UMOL/KG,,UMOL/KG,,UMOL/KG,,PMOL/KG,,PMOL/KG,,PMOL/KG,,UMOL/KG,,UMOL/KG,,MG/M^3,,UMOL/KG,,UMOL/KG,,UMOL/KG,,VOLTS,
09AR20080322,       SR03,      31,          1,         24,         24,2,20080404,       1409,   -56.9292,   139.8492,       3976,    79.9,   4.7155,  33.7266,2,-999.0000,9,  -999.00,5, -999.00,9,  -999.0,9, -999.00,9,-999.0000,9,-999.0000,9,-999.0000,9,  -999.0,9,  -999.0,9,   1.115,2,  -999.0,9, -999.00,9, -999.00,9,      0.001,2
09AR20080322,       SR03,      31,          1,         23,         23,2,20080404,       1409,   -56.9292,   139.8492,       3976,    79.9,   4.7153,  33.7266,2,-999.0000,9,  -999.00,5, -999.00,9,  -999.0,9, -999.00,9,-999.0000,9,-999.0000,9,-999.0000,9,  -999.0,9,  -999.0,9,   1.151,2,  -999.0,9, -999.00,9, -999.00,9,      0.001,2
09AR20080322,       SR03,      31,          1,         22,         22,2,20080404,       1409,   -56.9292,   139.8492,       3976,    79.9,   4.7152,  33.7267,2,-999.0000,9,  -999.00,5, -999.00,9,  -999.0,9, -999.00,9,-999.0000,9,-999.0000,9,-999.0000,9,  -999.0,9,  -999.0,9,   1.161,2,  -999.0,9, -999.00,9, -999.00,9,      0.001,2
09AR20080322,       SR03,      31,          1,         21,         21,2,20080404,       1409,   -56.9292,   139.8492,       3976,    80.0,   4.7161,  33.7267,2,-999.0000,9,  -999.00,5, -999.00,9,  -999.0,9, -999.00,9,-999.0000,9,-999.0000,9,-999.0000,9,  -999.0,9,  -999.0,9,   1.128,2,  -999.0,9, -999.00,9, -999.00,9,      0.001,2
09AR20080322,       SR03,      31,          1,         20,         20,2,20080404,       1409,   -56.9292,   139.8492,       3976,    79.9,   4.7173,  33.7265,2,-999.0000,9,  -999.00,5, -999.00,9,  -999.0,9, -999.00,9,-999.0000,9,-999.0000,9,-999.0000,9,  -999.0,9,  -999.0,9,   1.156,2,  -999.0,9, -999.00,9, -999.00,9,      0.001,2
09AR20080322,       SR03,      31,          1,         19,         19,2,20080404,       1409,   -56.9292,   139.8492,       3976,    79.9,   4.7173,  33.7265,2,-999.0000,9,  -999.00,5, -999.00,9,  -999.0,9, -999.00,9,-999.0000,9,-999.0000,9,-999.0000,9,  -999.0,9,  -999.0,9,   1.159,2,  -999.0,9, -999.00,9, -999.00,9,      0.001,2
09AR20080322,       SR03,      31,          1,         18,         18,2,20080404,       1409,   -56.9292,   139.8492,       3976,    79.8,   4.7171,  33.7266,2,-999.0000,9,  -999.00,5, -999.00,9,  -999.0,9, -999.00,9,-999.0000,9,-999.0000,9,-999.0000,9,  -999.0,9,  -999.0,9,   1.166,2,  -999.0,9, -999.00,9, -999.00,9,      0.001,2
09AR20080322,       SR03,      31,          1,         17,         17,2,20080404,       1409,   -56.9292,   139.8492,       3976,    79.9,   4.7164,  33.7266,2,-999.0000,9,  -999.00,5, -999.00,9,  -999.0,9, -999.00,9,-999.0000,9,-999.0000,9,-999.0000,9,  -999.0,9,  -999.0,9,   1.092,2,  -999.0,9, -999.00,9, -999.00,9,      0.001,2
09AR20080322,       SR03,      31,          1,         16,         16,2,20080404,       1409,   -56.9292,   139.8492,       3976,    79.7,   4.7165,  33.7266,2,-999.0000,9,  -999.00,5, -999.00,9,  -999.0,9, -999.00,9,-999.0000,9,-999.0000,9,-999.0000,9,  -999.0,9,  -999.0,9,   1.150,2,  -999.0,9, -999.00,9, -999.00,9,      0.001,2
09AR20080322,       SR03,      31,          1,         15,         15,2,20080404,       1409,   -56.9292,   139.8492,       3976,    79.7,   4.7164,  33.7266,2,-999.0000,9,  -999.00,5, -999.00,9,  -999.0,9, -999.00,9,-999.0000,9,-999.0000,9,-999.0000,9,  -999.0,9,  -999.0,9,   1.148,2,  -999.0,9, -999.00,9, -999.00,9,      0.001,2
09AR20080322,       SR03,      31,          1,         14,         14,2,20080404,       1409,   -56.9292,   139.8492,       3976,    79.9,   4.7163,  33.7266,2,-999.0000,9,  -999.00,5, -999.00,9,  -999.0,9, -999.00,9,-999.0000,9,-999.0000,9,-999.0000,9,  -999.0,9,  -999.0,9,   1.112,2,  -999.0,9, -999.00,9, -999.00,9,      0.001,2
09AR20080322,       SR03,      31,          1,         13,         13,2,20080404,       1409,   -56.9292,   139.8492,       3976,    79.9,   4.7160,  33.7265,2,-999.0000,9,  -999.00,5, -999.00,9,  -999.0,9, -999.00,9,-999.0000,9,-999.0000,9,-999.0000,9,  -999.0,9,  -999.0,9,   1.147,2,  -999.0,9, -999.00,9, -999.00,9,      0.001,2
09AR20080322,       SR03,      31,          1,         12,         12,2,20080404,       1409,   -56.9292,   139.8492,       3976,    79.9,   4.7162,  33.7266,2,-999.0000,9,  -999.00,5, -999.00,9,  -999.0,9, -999.00,9,-999.0000,9,-999.0000,9,-999.0000,9,  -999.0,9,  -999.0,9,   1.140,2,  -999.0,9, -999.00,9, -999.00,9,      0.001,2
09AR20080322,       SR03,      31,          1,         11,         11,2,20080404,       1409,   -56.9292,   139.8492,       3976,    80.0,   4.7160,  33.7265,2,-999.0000,9,  -999.00,5, -999.00,9,  -999.0,9, -999.00,9,-999.0000,9,-999.0000,9,-999.0000,9,  -999.0,9,  -999.0,9,   1.116,2,  -999.0,9, -999.00,9, -999.00,9,      0.001,2
09AR20080322,       SR03,      31,          1,         10,         10,2,20080404,       1409,   -56.9292,   139.8492,       3976,    79.7,   4.7152,  33.7265,2,-999.0000,9,  -999.00,5, -999.00,9,  -999.0,9, -999.00,9,-999.0000,9,-999.0000,9,-999.0000,9,  -999.0,9,  -999.0,9,   1.122,2,  -999.0,9, -999.00,9, -999.00,9,      0.001,2
09AR20080322,       SR03,      31,          1,          9,          9,2,20080404,       1409,   -56.9292,   139.8492,       3976,    79.8,   4.7152,  33.7265,2,-999.0000,9,  -999.00,5, -999.00,9,  -999.0,9, -999.00,9,-999.0000,9,-999.0000,9,-999.0000,9,  -999.0,9,  -999.0,9,   1.131,2,  -999.0,9, -999.00,9, -999.00,9,      0.001,2
09AR20080322,       SR03,      31,          1,          8,          8,2,20080404,       1409,   -56.9292,   139.8492,       3976,    79.9,   4.7159,  33.7264,2,-999.0000,9,  -999.00,5, -999.00,9,  -999.0,9, -999.00,9,-999.0000,9,-999.0000,9,-999.0000,9,  -999.0,9,  -999.0,9,   1.115,2,  -999.0,9, -999.00,9, -999.00,9,      0.001,2
09AR20080322,       SR03,      31,          1,          7,          7,2,20080404,       1409,   -56.9292,   139.8492,       3976,    79.8,   4.7161,  33.7265,2,-999.0000,9,  -999.00,5, -999.00,9,  -999.0,9, -999.00,9,-999.0000,9,-999.0000,9,-999.0000,9,  -999.0,9,  -999.0,9,   1.105,2,  -999.0,9, -999.00,9, -999.00,9,      0.001,2
09AR20080322,       SR03,      31,          1,          6,          6,2,20080404,       1409,   -56.9292,   139.8492,       3976,    79.7,   4.7163,  33.7265,2,-999.0000,9,  -999.00,5, -999.00,9,  -999.0,9, -999.00,9,-999.0000,9,-999.0000,9,-999.0000,9,  -999.0,9,  -999.0,9,   1.141,2,  -999.0,9, -999.00,9, -999.00,9,      0.001,2
09AR20080322,       SR03,      31,          1,          5,          5,2,20080404,       1409,   -56.9292,   139.8492,       3976,    79.7,   4.7169,  33.7266,2,-999.0000,9,  -999.00,5, -999.00,9,  -999.0,9, -999.00,9,-999.0000,9,-999.0000,9,-999.0000,9,  -999.0,9,  -999.0,9,   1.144,2,  -999.0,9, -999.00,9, -999.00,9,      0.001,2
09AR20080322,       SR03,      31,          1,          4,          4,2,20080404,       1409,   -56.9292,   139.8492,       3976,    79.8,   4.7170,  33.7265,2,-999.0000,9,  -999.00,5, -999.00,9,  -999.0,9, -999.00,9,-999.0000,9,-999.0000,9,-999.0000,9,  -999.0,9,  -999.0,9,   1.118,2,  -999.0,9, -999.00,9, -999.00,9,      0.001,2
09AR20080322,       SR03,      31,          1,          3,          3,2,20080404,       1409,   -56.9292,   139.8492,       3976,    79.6,   4.7167,  33.7262,2,-999.0000,9,  -999.00,5, -999.00,9,  -999.0,9, -999.00,9,-999.0000,9,-999.0000,9,-999.0000,9,  -999.0,9,  -999.0,9,   1.129,2,  -999.0,9, -999.00,9, -999.00,9,      0.001,2
09AR20080322,       SR03,      31,          1,          2,          2,2,20080404,       1409,   -56.9292,   139.8492,       3976,    79.3,   4.7135,  33.7253,2,-999.0000,9,  -999.00,5, -999.00,9,  -999.0,9, -999.00,9,-999.0000,9,-999.0000,9,-999.0000,9,  -999.0,9,  -999.0,9,   1.097,2,  -999.0,9, -999.00,9, -999.00,9,      0.001,2
09AR20080322,       SR03,      31,          1,          1,          1,2,20080404,       1409,   -56.9292,   139.8492,       3976,    79.2,   4.7086,  33.7248,2,-999.0000,9,  -999.00,5, -999.00,9,  -999.0,9, -999.00,9,-999.0000,9,-999.0000,9,-999.0000,9,  -999.0,9,  -999.0,9,   1.166,2,  -999.0,9, -999.00,9, -999.00,9,      0.001,2
09AR20080322,       SR03,      32,          1,         24,         24,2,20080404,       1629,   -56.9293,   139.8507,       4214,     8.3,   4.7026,  33.7203,2,  33.7200,2,  -999.00,5,  305.18,2,     1.4,2,    1.59,2,   4.6857,2,   2.5823,2,   0.4069,2,  2118.1,6,  2266.9,2,   1.064,2,    46.3,2,   28.24,2,   23.93,2,      0.001,2
09AR20080322,       SR03,      32,          1,         23,         23,2,20080404,       1629,   -56.9293,   139.8507,       4214,    24.4,   4.7058,  33.7212,2,-999.0000,9,   305.23,2, -999.00,9,  -999.0,9, -999.00,9,-999.0000,9,-999.0000,9,-999.0000,9,  -999.0,9,  -999.0,9,   1.070,2,  -999.0,9, -999.00,9, -999.00,9,      0.001,2
09AR20080322,       SR03,      32,          1,         22,         22,2,20080404,       1629,   -56.9293,   139.8507,       4214,    24.3,   4.7033,  33.7203,2,-999.0000,9,   305.23,2, -999.00,9,  -999.0,9, -999.00,9,-999.0000,9,-999.0000,9,-999.0000,9,  -999.0,9,  -999.0,9,   1.116,2,  -999.0,9, -999.00,9, -999.00,9,      0.001,2
09AR20080322,       SR03,      32,          1,         21,         21,2,20080404,       1629,   -56.9293,   139.8507,       4214,    24.3,   4.7031,  33.7203,2,  33.7198,2,   305.23,2,  305.45,2,     1.3,2,    1.59,2,   4.6584,2,   2.5536,2,   0.4242,2,  2119.7,2,  2267.5,6,   1.053,2,    45.6,2,   27.31,2,   23.93,2,      0.001,2
09AR20080322,       SR03,      32,          1,         20,         20,2,20080404,       1629,   -56.9293,   139.8507,       4214,    58.5,   4.7191,  33.7259,2,  33.7255,2,   305.29,2,  305.23,2,     1.3,2,    1.61,2,   4.6631,2,   2.5947,2,   0.3921,2,  2118.9,2,  2268.2,2,   1.125,2,    45.4,2,   28.00,2,   24.15,2,      0.001,2
09AR20080322,       SR03,      32,          1,         19,         19,2,20080404,       1629,   -56.9293,   139.8507,       4214,    89.7,   4.7163,  33.7258,2,  33.7279,2,   305.25,2,  305.23,2,     1.4,2,    1.60,2,   4.6810,6,   2.5719,6,   0.4141,6,  2119.1,2,  2268.1,2,   1.116,2,    45.2,2,   27.55,2,   24.08,2,      0.001,2
09AR20080322,       SR03,      32,          1,         18,         18,2,20080404,       1629,   -56.9293,   139.8507,       4214,   120.1,   2.5347,  33.8189,2,  33.8192,2,   314.11,2,  314.02,2,    11.3,2,    1.87,2,   5.2757,2,   2.8364,2,   0.4610,2,  2144.0,2,  2274.5,2,   0.279,2,    42.8,2,   29.85,2,   27.54,2,      0.001,2
09AR20080322,       SR03,      32,          1,         17,         17,2,20080404,       1629,   -56.9293,   139.8507,       4214,   200.4,   2.5280,  34.0118,2,  34.0119,2,   285.95,2,  284.92,2,    22.2,2,    2.00,2,-999.0000,9,-999.0000,9,-999.0000,9,  2169.0,2,  2280.3,2,  -0.038,2,    42.2,2,   30.80,2,   29.44,2,      0.001,2
09AR20080322,       SR03,      32,          1,         16,         16,2,20080404,       1629,   -56.9293,   139.8507,       4214,   299.5,   2.7292,  34.1528,2,  34.1534,2,   245.59,2,  247.68,2,    33.2,2,    2.15,2,   3.7804,2,   1.9639,2,   0.2814,2,  2191.7,2,  2289.7,2,  -0.036,2,    40.5,2,   33.03,2,   31.51,2,      0.001,2
09AR20080322,       SR03,      32,          1,         15,         15,2,20080404,       1629,   -56.9293,   139.8507,       4214,   500.6,   2.6386,  34.3332,2,  34.3329,2,   201.02,2,  201.57,2,    51.9,2,    2.34,2,   2.0679,2,   1.0371,2,   0.1524,2,  2225.4,2,  2308.9,2,  -0.030,2,    41.0,2,   35.04,2,   33.99,2,      0.001,2
09AR20080322,       SR03,      32,          1,         14,         14,2,20080404,       1629,   -56.9293,   139.8507,       4214,   700.6,   2.5355,  34.4835,2,  34.4836,2,   179.16,2,  178.37,2,    65.9,2,    2.38,2,   1.0533,2,   0.5218,2,   0.0707,2,  2244.6,2,  2321.1,2,  -0.025,2,    40.0,2,   36.04,2,   34.61,2,      0.001,2
09AR20080322,       SR03,      32,          1,         13,         13,2,20080404,       1629,   -56.9293,   139.8507,       4214,   899.7,   2.4588,  34.5747,2,  34.5740,2,   173.73,2,  173.54,2,    71.9,2,    2.35,2,-999.0000,9,-999.0000,9,-999.0000,9,  2251.4,6,  2330.1,2,  -0.030,2,    40.4,2,   35.26,2,   33.75,2,      0.001,2
09AR20080322,       SR03,      32,          1,         12,         12,2,20080404,       1629,   -56.9293,   139.8507,       4214,   999.2,   2.3992,  34.6264,2,  34.6272,2,   174.41,2,  174.53,2,    74.7,2,    2.30,2,   0.3757,2,   0.1911,2,   0.0338,2,  2251.8,2,  2333.8,6,  -0.027,2,    40.4,2,   34.97,2,   33.35,2,      0.001,2
09AR20080322,       SR03,      32,          1,         11,         11,2,20080404,       1629,   -56.9293,   139.8507,       4214,  1200.8,   2.3034,  34.6837,2,  34.6838,2,   179.31,2,  179.56,2,    77.4,2,    2.24,2,   0.2517,2,   0.1281,2,   0.0192,2,  2250.4,2,  2337.5,2,  -0.025,2,    39.2,2,   33.72,2,   32.26,2,      0.001,2
09AR20080322,       SR03,      32,          1,         10,         10,2,20080404,       1629,   -56.9293,   139.8507,       4214,  1399.4,   2.1738,  34.7217,2,  34.7227,2,   185.04,2,  185.68,2,    80.1,2,    2.18,2,   0.1773,2,   0.0859,2,   0.0143,2,  2249.3,2,  2342.9,2,  -0.023,2,    39.5,2,   32.64,2,   31.34,2,      0.001,2
09AR20080322,       SR03,      32,          1,          9,          9,2,20080404,       1629,   -56.9293,   139.8507,       4214,  1599.3,   2.0504,  34.7407,2,  34.7410,2,   189.99,2,  190.45,2,    83.4,2,    2.14,2,-999.0000,9,-999.0000,9,-999.0000,9,  2248.2,2,  2345.8,2,  -0.028,2,    39.0,2,   32.35,2,   30.79,2,      0.001,2
09AR20080322,       SR03,      32,          1,          8,          8,2,20080404,       1629,   -56.9293,   139.8507,       4214,  1799.7,   1.9022,  34.7486,2,  34.7494,2,   193.96,2,  194.32,2,    87.6,2,    2.14,2,   0.1060,2,   0.0533,2,   0.0136,2,  2248.1,2,  2349.5,2,  -0.030,2,    38.5,2,   31.97,2,   30.63,2,      0.001,2
09AR20080322,       SR03,      32,          1,          7,          7,2,20080404,       1629,   -56.9293,   139.8507,       4214,  1999.7,   1.7146,  34.7486,2,  34.7518,2,   197.24,2,  197.27,2,    92.5,2,    2.14,2,   0.1041,2,   0.0471,2,   0.0133,2,  2248.9,2,  2351.4,2,  -0.030,2,    38.7,2,   31.86,2,   30.63,2,      0.001,2
09AR20080322,       SR03,      32,          1,          6,          6,2,20080404,       1629,   -56.9293,   139.8507,       4214,  2499.9,   1.2894,  34.7332,2,  34.7351,2,   202.66,2,  202.26,2,   106.6,2,    2.19,2,   0.1195,2,   0.0567,2,   0.0061,2,  2255.3,2,  2354.1,6,  -0.032,2,    38.5,2,   33.01,2,   31.17,2,      0.001,2
09AR20080322,       SR03,      32,          1,          5,          5,2,20080404,       1629,   -56.9293,   139.8507,       4214,  2998.6,   0.8664,  34.7121,2,  34.7127,2,   208.36,2,  207.91,2,   119.3,2,    2.25,2,   0.1642,2,   0.0802,2,   0.0118,2,  2259.4,2,  2358.3,2,  -0.038,2,    39.6,2,   33.21,2,   31.94,2,      0.001,2
09AR20080322,       SR03,      32,          1,          4,          4,2,20080404,       1629,   -56.9293,   139.8507,       4214,  3400.7,   0.5384,  34.6965,2,  34.6960,2,   214.35,2,  214.91,2,   128.8,2,    2.29,2,   0.2977,2,   0.1435,2,   0.0132,2,  2260.6,2,  2357.4,2,  -0.038,2,    39.4,2,   33.91,2,   32.24,2,      0.001,2
09AR20080322,       SR03,      32,          1,          3,          3,2,20080404,       1629,   -56.9293,   139.8507,       4214,  3801.1,   0.3923,  34.6899,2,  34.6897,2,   218.74,2,  218.20,2,   135.7,2,    2.30,2,   0.4218,2,   0.2030,2,   0.0220,2,  2262.4,2,  2359.1,2,  -0.036,2,    39.8,2,   33.63,2,   32.40,2,      0.001,2
09AR20080322,       SR03,      32,          1,          2,          2,2,20080404,       1629,   -56.9293,   139.8507,       4214,  4133.4,   0.3151,  34.6855,2,  34.6873,2,   221.77,2,  220.72,2,   141.1,2,    2.31,2,   0.5355,2,   0.2583,2,   0.0267,2,  2261.9,6,  2358.9,2,  -0.041,2,    40.3,2,   33.71,2,   32.32,2,      0.001,2
09AR20080322,       SR03,      32,          1,          1,          1,2,20080404,       1629,   -56.9293,   139.8507,       4214,  4178.6,   0.2835,  34.6839,2,  34.6846,2,   222.66,2,  222.29,2,   141.1,2,    2.30,2,   0.5560,2,   0.2652,2,   0.0291,2,  2261.5,2,  2358.5,6,  -0.040,2,    39.7,2,   33.59,2,   32.24,2,      0.001,2