BOTTLE,20141029CCHSIOCBG
EXPOCODE,SECT_ID,STNNBR,CASTNO,SAMPNO,BTLNBR,BTLNBR_FLAG_W,DATE,TIME,LATITUDE,LONGITUDE,DEPTH,CTDPRS,CTDTMP,CTDSAL,CTDSAL_FLAG_W,SALNTY,SALNTY_FLAG_W,CTDOXY,CTDOXY_FLAG_W,OXYGEN,OXYGEN_FLAG_W,SILCAT,SILCAT_FLAG_W,PHSPHT,PHSPHT_FLAG_W,CFC-11,CFC-11_FLAG_W,CFC-12,CFC-12_FLAG_W,CFC113,CFC113_FLAG_W,TCARBN,TCARBN_FLAG_W,ALKALI,ALKALI_FLAG_W,FLUOR,FLUOR_FLAG_W,DOC,DOC_FLAG_W,TDN,TDN_FLAG_W,NO2+NO3,NO2+NO3_FLAG_W,PAR,PAR_FLAG_W
,,,,,,,,,,,METERS,DBAR,ITS-90,PSS-78,,PSS-78,,UMOL/KG,,UMOL/KG,,UMOL/KG,,UMOL/KG,,PMOL/KG,,PMOL/KG,,PMOL/KG,,UMOL/KG,,UMOL/KG,,MG/M^3,,UMOL/KG,,UMOL/KG,,UMOL/KG,,VOLTS,
09AR20080322,       SR03,      33,          1,         24,         24,2,20080405,       0108,   -56.4293,   140.1010,       3820,    10.7,   4.6617,  33.7304,2,  33.7298,2,   306.28,2,  306.18,2,     1.7,2,    1.60,2,   4.7225,2,   2.6103,2,   0.4103,2,  2125.1,6,  2269.3,2,   0.269,2,    44.8,2,   29.00,2,   24.64,2,      2.771,2
09AR20080322,       SR03,      33,          1,         23,         23,2,20080405,       0108,   -56.4293,   140.1010,       3820,    39.9,   4.6664,  33.7303,2,-999.0000,9,   306.01,2, -999.00,9,  -999.0,9, -999.00,9,-999.0000,9,-999.0000,9,-999.0000,9,  -999.0,9,  -999.0,9,   0.735,2,  -999.0,9, -999.00,9, -999.00,9,      2.679,2
09AR20080322,       SR03,      33,          1,         22,         22,2,20080405,       0108,   -56.4293,   140.1010,       3820,    39.9,   4.6649,  33.7303,2,-999.0000,9,   306.01,2, -999.00,9,  -999.0,9, -999.00,9,-999.0000,9,-999.0000,9,-999.0000,9,  -999.0,9,  -999.0,9,   0.740,2,  -999.0,9, -999.00,9, -999.00,9,      2.508,2
09AR20080322,       SR03,      33,          1,         21,         21,2,20080405,       0108,   -56.4293,   140.1010,       3820,    39.8,   4.6618,  33.7302,2,  33.7298,2,   306.01,2,  306.13,2,     1.7,2,    1.61,2,   4.6785,2,   2.5890,2,   0.4132,2,  2122.6,2,  2269.7,6,   0.751,2,    44.4,2,   27.97,2,   24.77,2,      2.587,2
09AR20080322,       SR03,      33,          1,         20,         20,2,20080405,       0108,   -56.4293,   140.1010,       3820,    79.8,   4.6534,  33.7302,2,  33.7308,2,   306.04,2,  306.05,2,     1.7,2,    1.62,2,   4.7230,2,   2.6203,2,   0.4105,2,  2123.9,2,  2269.1,2,   0.841,2,    43.7,2,   27.90,2,   24.76,2,      2.062,2
09AR20080322,       SR03,      33,          1,         19,         19,2,20080405,       0108,   -56.4293,   140.1010,       3820,   130.5,   2.3451,  33.8281,2,  33.8280,2,   314.41,2,  313.09,2,    12.5,2,    1.86,2,   5.3821,2,   2.8835,2,   0.4743,2,  2151.4,2,  2272.3,2,   0.395,2,    42.9,2,   30.49,2,   28.22,2,      1.225,2
09AR20080322,       SR03,      33,          1,         18,         18,2,20080405,       0108,   -56.4293,   140.1010,       3820,   199.6,   2.5149,  34.0233,2,  34.0227,2,   282.67,2,  282.66,2,    23.7,2,    1.99,2,   4.8174,2,   2.5403,2,   0.3953,2,  2173.4,3,  2281.1,2,  -0.024,2,    41.2,2,   31.81,2,   29.87,2,      0.248,2
09AR20080322,       SR03,      33,          1,         17,         17,2,20080405,       0108,   -56.4293,   140.1010,       3820,   350.4,   2.6067,  34.2189,2,  34.2189,2,   227.57,2,  229.53,2,    41.5,2,    2.21,2,   3.1102,2,   1.6105,2,   0.2483,2,  2209.4,2,  2297.6,2,  -0.032,2,    41.0,2,   34.10,2,   33.09,2,      0.001,2
09AR20080322,       SR03,      33,          1,         16,         16,2,20080405,       0108,   -56.4293,   140.1010,       3820,   496.5,   2.5980,  34.3780,2,  34.3780,2,   194.97,2,  192.04,2,    57.6,2,    2.36,2,   1.7114,2,   0.8691,2,   0.1118,2,  2236.4,2,  2313.4,6,  -0.029,2,    40.8,2,   35.93,2,   34.81,2,      0.001,2
09AR20080322,       SR03,      33,          1,         15,         15,2,20080405,       0108,   -56.4293,   140.1010,       3820,   704.6,   2.4886,  34.5169,2,  34.5150,2,   175.00,2,  175.54,2,    69.8,2,    2.35,2,   0.8660,2,   0.4360,2,   0.0537,2,  2251.3,2,  2324.5,2,  -0.027,2,    40.7,2,   35.90,2,   34.80,2,      0.001,2
09AR20080322,       SR03,      33,          1,         14,         14,2,20080405,       0108,   -56.4293,   140.1010,       3820,   898.9,   2.4163,  34.6062,2,  34.6056,2,   172.81,2,  173.61,2,    75.0,2,    2.29,2,   0.4640,6,   0.2320,6,   0.0327,6,  2254.1,2,  2334.5,2,  -0.024,2,    40.5,2,   35.05,2,   33.78,2,      0.001,2
09AR20080322,       SR03,      33,          1,         13,         13,2,20080405,       0108,   -56.4293,   140.1010,       3820,  1102.8,   2.3204,  34.6737,2,  34.6735,2,   177.62,2,  178.08,2,    78.2,2,    2.24,2,   0.2699,2,   0.1331,2,   0.0180,2,  2253.6,6,  2337.8,2,  -0.028,2,    40.2,2,   34.38,2,   32.87,2,      0.001,2
09AR20080322,       SR03,      33,          1,         12,         12,2,20080405,       0108,   -56.4293,   140.1010,       3820,  1300.7,   2.2063,  34.7141,2,  34.7132,2,   183.84,2,  183.94,2,    80.4,2,    2.16,2,   0.2080,2,   0.1038,2,   0.0175,2,  2250.9,2,  2342.1,2,  -0.024,2,    39.3,2,   33.13,2,   31.71,2,      0.001,2
09AR20080322,       SR03,      33,          1,         11,         11,2,20080405,       0108,   -56.4293,   140.1010,       3820,  1498.6,   2.0865,  34.7373,2,  34.7368,2,   189.18,2,  189.98,2,    83.5,2,    2.11,2,   0.1524,2,   0.0728,2,   0.0000,2,  2248.2,2,  2344.4,2,  -0.029,2,    39.1,2,   32.90,2,   31.04,2,      0.001,2
09AR20080322,       SR03,      33,          1,         10,         10,2,20080405,       0108,   -56.4293,   140.1010,       3820,  1801.1,   1.8503,  34.7494,2,  34.7494,2,   195.26,2,  195.36,2,    90.1,2,    2.10,2,   0.1187,2,   0.0575,2,   0.0108,2,  2253.0,2,  2350.3,2,  -0.030,2,    39.4,2,   32.06,2,   30.71,2,      0.001,2
09AR20080322,       SR03,      33,          1,          9,          9,2,20080405,       0108,   -56.4293,   140.1010,       3820,  2102.1,   1.6008,  34.7458,2,  34.7457,2,   198.37,2,  199.01,2,    97.5,2,    2.12,2,   0.1198,2,   0.0582,2,   0.0126,2,  2255.6,2,  2352.2,2,  -0.031,2,    39.2,2,   32.74,2,   31.02,2,      0.001,2
09AR20080322,       SR03,      33,          1,          8,          8,2,20080405,       0108,   -56.4293,   140.1010,       3820,  2402.2,   1.3255,  34.7350,2,  34.7355,2,   201.64,2,  202.14,2,   106.7,2,    2.19,2,   0.1168,2,   0.0560,2,   0.0107,2,  2257.7,2,  2357.2,2,  -0.034,2,    39.1,2,   33.19,2,   31.64,2,      0.001,2
09AR20080322,       SR03,      33,          1,          7,          7,2,20080405,       0108,   -56.4293,   140.1010,       3820,  2703.6,   1.1009,  34.7240,2,  34.7231,2,   205.08,2, -999.00,9,   114.2,2,    2.21,2,   0.1383,2,   0.0646,2,   0.0085,2,  2260.1,2,  2360.1,2,  -0.034,2,    39.3,2,   33.87,2,   32.12,2,      0.001,2
09AR20080322,       SR03,      33,          1,          6,          6,2,20080405,       0108,   -56.4293,   140.1010,       3820,  3001.1,   0.8535,  34.7115,2,  34.7109,2,   208.93,2,  208.69,2,   121.8,2,    2.24,2,   0.1889,2,   0.0902,2,   0.0088,2,  2263.1,2,  2358.1,6,  -0.037,2,    39.9,2,   33.72,2,   32.43,2,      0.001,2
09AR20080322,       SR03,      33,          1,          5,          5,2,20080405,       0108,   -56.4293,   140.1010,       3820,  3301.2,   0.6143,  34.7001,2,  34.7011,2,   213.33,2,  213.90,2,   128.6,2,    2.27,2,   0.2801,2,   0.1352,2,   0.0133,2,  2261.6,2,  2358.6,2,  -0.038,2,    39.8,2,   34.46,2,   32.59,2,      0.001,2
09AR20080322,       SR03,      33,          1,          4,          4,2,20080405,       0108,   -56.4293,   140.1010,       3820,  3601.6,   0.4785,  34.6938,2,  34.6932,2,   215.88,2,  216.03,2,   135.3,2,    2.30,2,   0.3702,2,   0.1780,2,   0.0151,2,  2264.7,2,  2360.7,2,  -0.040,2,    39.4,2,   33.95,2,   32.91,2,      0.001,2
09AR20080322,       SR03,      33,          1,          3,          3,2,20080405,       0108,   -56.4293,   140.1010,       3820,  3900.0,   0.3851,  34.6889,2,  34.6903,2,   218.62,2,  218.64,2,   138.7,2,    2.28,2,   0.4649,2,   0.2214,2,   0.0277,2,  2266.8,2,  2358.8,2,  -0.041,2,    40.0,2,   33.66,2,   32.74,2,      0.001,2
09AR20080322,       SR03,      33,          1,          2,          2,2,20080405,       0108,   -56.4293,   140.1010,       3820,  4127.4,   0.3711,  34.6875,2,  34.6869,2,   219.10,2,  219.33,2,   140.0,2,    2.30,2,   0.4774,2,   0.2309,2,   0.0193,2,  2263.3,6,  2359.3,2,  -0.039,2,    39.5,2,   33.88,2,   32.90,2,      0.001,2
09AR20080322,       SR03,      33,          1,          1,          1,2,20080405,       0108,   -56.4293,   140.1010,       3820,  4178.3,   0.3626,  34.6870,2,  34.6861,2,   219.55,2,  219.86,2,   139.6,2,    2.27,2,   0.5034,2,   0.2458,2,   0.0226,2,  2265.5,2,  2360.1,6,  -0.042,2,    39.1,2,   33.86,2,   32.65,2,      0.001,2
09AR20080322,       SR03,      34,          1,         24,         24,2,20080405,       0733,   -55.9287,   140.4102,       3418,     9.3,   3.9726,  33.7392,2,  33.7394,2,   310.94,2,  311.59,2,     4.8,2,    1.69,2,   4.9692,2,   2.7127,2,   0.4242,2,  2130.6,6,  2271.5,2,   0.763,2,  -999.0,9, -999.00,9,   25.91,2,      0.001,2
09AR20080322,       SR03,      34,          1,         23,         23,2,20080405,       0733,   -55.9287,   140.4102,       3418,    40.5,   3.9743,  33.7393,2,-999.0000,9,   311.61,2, -999.00,9,  -999.0,9, -999.00,9,-999.0000,9,-999.0000,9,-999.0000,9,  -999.0,9,  -999.0,9,   0.759,2,  -999.0,9, -999.00,9, -999.00,9,      0.001,2
09AR20080322,       SR03,      34,          1,         22,         22,2,20080405,       0733,   -55.9287,   140.4102,       3418,    40.8,   3.9735,  33.7393,2,-999.0000,9,   311.61,2, -999.00,9,  -999.0,9, -999.00,9,-999.0000,9,-999.0000,9,-999.0000,9,  -999.0,9,  -999.0,9,   0.761,2,  -999.0,9, -999.00,9, -999.00,9,      0.001,2
09AR20080322,       SR03,      34,          1,         21,         21,2,20080405,       0733,   -55.9287,   140.4102,       3418,    40.5,   3.9723,  33.7395,2,  33.7396,2,   311.61,2,  311.59,2,     3.7,2,    1.71,2,   5.0158,2,   2.7141,2,   0.4661,2,  2130.0,2,  2271.7,6,   0.777,2,  -999.0,9, -999.00,9,   25.68,2,      0.001,2
09AR20080322,       SR03,      34,          1,         20,         20,2,20080405,       0733,   -55.9287,   140.4102,       3418,    79.2,   3.9646,  33.7391,2,  33.7396,2,   311.37,2,  311.59,2,     3.7,2,    1.72,2,   5.0125,2,   2.7110,2,   0.4858,2,  2129.8,2,  2273.2,2,   0.758,2,  -999.0,9, -999.00,9,   25.69,2,      0.001,2
09AR20080322,       SR03,      34,          1,         19,         19,2,20080405,       0733,   -55.9287,   140.4102,       3418,   112.0,   1.3644,  33.8813,2,  33.8850,2,   313.60,2,  315.53,2,    18.8,2,    2.00,2,   5.5723,2,   2.9531,2,   0.4939,2,  2161.2,2,  2280.2,2,   2.053,2,  -999.0,9, -999.00,9,   29.05,2,      0.001,2
09AR20080322,       SR03,      34,          1,         18,         18,2,20080405,       0733,   -55.9287,   140.4102,       3418,   182.2,   1.7263,  34.1156,2,  34.1152,2,   268.57,2,  264.80,2,    38.6,2,    2.19,2,   4.3331,2,   2.2434,2,   0.3496,2,  2196.9,2,  2293.3,2,  -0.019,2,  -999.0,9, -999.00,9,   31.96,2,      0.001,2
09AR20080322,       SR03,      34,          1,         17,         17,2,20080405,       0733,   -55.9287,   140.4102,       3418,   300.4,   2.0759,  34.2898,2,  34.2897,2,   211.36,2,  214.12,2,    54.2,2,    2.36,2,   2.6609,2,   1.3601,2,   0.1975,2,  2227.6,2,  2310.7,2,  -0.031,2,  -999.0,9, -999.00,9,   33.95,2,      0.001,2
09AR20080322,       SR03,      34,          1,         16,         16,2,20080405,       0733,   -55.9287,   140.4102,       3418,   404.0,   2.3286,  34.4085,2,  34.4078,2,   187.47,2,  187.33,2,    62.9,2,    2.39,2,-999.0000,9,-999.0000,9,-999.0000,9,  2241.2,2,  2316.4,6,  -0.028,2,  -999.0,9, -999.00,9,   34.21,2,      0.001,2
09AR20080322,       SR03,      34,          1,         15,         15,2,20080405,       0733,   -55.9287,   140.4102,       3418,   499.8,   2.3815,  34.4829,2,  34.4828,2,   177.42,2,  177.72,2,    68.8,2,    2.41,2,   1.1134,2,   0.5574,2,   0.0685,2,  2248.8,2,  2325.9,2,  -0.028,2,  -999.0,9, -999.00,9,   34.47,2,      0.001,2
09AR20080322,       SR03,      34,          1,         14,         14,2,20080405,       0733,   -55.9287,   140.4102,       3418,   601.8,   2.3651,  34.5419,2,  34.5425,2,   173.13,2,  173.28,2,    72.8,2,    2.39,2,-999.0000,9,-999.0000,9,-999.0000,9,  2252.6,2,  2329.0,2,  -0.031,2,  -999.0,9, -999.00,9,   34.20,2,      0.001,2
09AR20080322,       SR03,      34,          1,         13,         13,2,20080405,       0733,   -55.9287,   140.4102,       3418,   700.6,   2.3316,  34.5971,2,  34.5969,2,   171.79,2,  172.01,2,    76.1,2,    2.35,2,   0.5537,2,   0.2790,2,   0.0380,2,  2253.0,2,  2333.5,6,  -0.025,2,  -999.0,9, -999.00,9,   33.62,2,      0.001,2
09AR20080322,       SR03,      34,          1,         12,         12,2,20080405,       0733,   -55.9287,   140.4102,       3418,   897.8,   2.2729,  34.6710,2,  34.6708,2,   176.33,2,  176.82,2,    78.0,2,    2.25,2,   0.3024,2,   0.1518,2,   0.0211,2,  2251.9,6,  2339.8,2,  -0.027,2,  -999.0,9, -999.00,9,   32.46,2,      0.001,2
09AR20080322,       SR03,      34,          1,         11,         11,2,20080405,       0733,   -55.9287,   140.4102,       3418,  1099.8,   2.1653,  34.7122,2,  34.7121,2,   182.64,2,  182.77,2,    80.3,2,    2.17,2,   0.2174,2,   0.1071,2,   0.0101,2,  2250.3,2,  2342.4,2,  -0.024,2,  -999.0,9, -999.00,9,   31.44,2,      0.001,2
09AR20080322,       SR03,      34,          1,         10,         10,2,20080405,       0733,   -55.9287,   140.4102,       3418,  1299.4,   2.0408,  34.7368,2,  34.7376,2,   189.06,2,  189.37,2,    84.4,2,    2.15,2,-999.0000,9,-999.0000,9,-999.0000,9,  2248.4,2,  2344.6,2,  -0.026,2,  -999.0,9, -999.00,9,   30.64,2,      0.001,2
09AR20080322,       SR03,      34,          1,          9,          9,2,20080405,       0733,   -55.9287,   140.4102,       3418,  1497.3,   1.9105,  34.7474,2,  34.7477,2,   193.40,2,  193.62,2,    87.3,2,    2.14,2,   0.1322,2,   0.0645,2,   0.0001,2,  2248.2,2,  2348.4,2,  -0.029,2,  -999.0,9, -999.00,9,   30.36,2,      0.001,2
09AR20080322,       SR03,      34,          1,          8,          8,2,20080405,       0733,   -55.9287,   140.4102,       3418,  1801.5,   1.6194,  34.7466,2,-999.0000,9,   198.12,2,  198.66,2,    95.5,2,    2.15,2,   0.1221,2,   0.0597,2,   0.0078,2,  2251.3,2,  2353.6,2,  -0.029,2,  -999.0,9, -999.00,9,   30.17,2,      0.001,2
09AR20080322,       SR03,      34,          1,          7,          7,2,20080405,       0733,   -55.9287,   140.4102,       3418,  2098.9,   1.3694,  34.7377,2,  34.7421,2,   201.25,2,  201.35,2,   103.3,2,    2.17,2,   0.1178,2,   0.0572,2,   0.0034,2,  2254.4,2,  2356.4,2,  -0.037,2,  -999.0,9, -999.00,9,   30.49,2,      0.001,2
09AR20080322,       SR03,      34,          1,          6,          6,2,20080405,       0733,   -55.9287,   140.4102,       3418,  2400.3,   1.1209,  34.7259,2,  34.7258,2,   204.54,2,  204.43,2,   110.2,2,    2.21,2,   0.1320,2,   0.0654,2,   0.0078,2,  2256.7,2,  2359.9,2,  -0.032,2,  -999.0,9, -999.00,9,   30.58,2,      0.001,2
09AR20080322,       SR03,      34,          1,          5,          5,2,20080405,       0733,   -55.9287,   140.4102,       3418,  2700.0,   0.8968,  34.7142,2,  34.7146,2,   207.40,2,  207.43,2,   116.8,2,    2.27,2,   0.1652,2,   0.0813,2,   0.0064,2,  2258.8,2,  2358.6,2,  -0.036,2,  -999.0,9, -999.00,9,   31.41,2,      0.001,2
09AR20080322,       SR03,      34,          1,          4,          4,2,20080405,       0733,   -55.9287,   140.4102,       3418,  3002.2,   0.6365,  34.7017,2,  34.7019,2,   212.26,2,  211.90,2,   124.2,2,    2.26,2,   0.2535,6,   0.1248,6,   0.0123,6,  2260.5,2,  2359.5,2,  -0.037,2,  -999.0,9, -999.00,9,   31.29,2,      0.001,2
09AR20080322,       SR03,      34,          1,          3,          3,2,20080405,       0733,   -55.9287,   140.4102,       3418,  3249.3,   0.5235,  34.6966,2,  34.6967,2,   214.49,2,  214.59,2,   129.5,2,    2.27,2,   0.3316,2,   0.1636,2,   0.0083,2,  2261.7,2,  2361.3,2,  -0.040,2,  -999.0,9, -999.00,9,   31.24,2,      0.001,2
09AR20080322,       SR03,      34,          1,          2,          2,2,20080405,       0733,   -55.9287,   140.4102,       3418,  3551.3,   0.4538,  34.6929,2,  34.6930,2,   215.80,2,  216.21,2,   134.7,2,    2.27,2,   0.3899,2,   0.1915,2,   0.0171,2,  2262.4,2,  2360.0,6,  -0.039,2,  -999.0,9, -999.00,9,   33.03,2,      0.001,2
09AR20080322,       SR03,      34,          1,          1,          1,2,20080405,       0733,   -55.9287,   140.4102,       3418,  3652.1,   0.4512,  34.6923,2,  34.6920,2,   215.95,2,  216.60,2,   136.6,2,    2.29,2,   0.3914,2,   0.1906,2,   0.0171,2,  2262.5,6,  2359.8,2,  -0.038,2,  -999.0,9, -999.00,9,   32.83,2,      0.001,2