BOTTLE,20141029CCHSIOCBG
EXPOCODE,SECT_ID,STNNBR,CASTNO,SAMPNO,BTLNBR,BTLNBR_FLAG_W,DATE,TIME,LATITUDE,LONGITUDE,DEPTH,CTDPRS,CTDTMP,CTDSAL,CTDSAL_FLAG_W,SALNTY,SALNTY_FLAG_W,CTDOXY,CTDOXY_FLAG_W,OXYGEN,OXYGEN_FLAG_W,SILCAT,SILCAT_FLAG_W,PHSPHT,PHSPHT_FLAG_W,CFC-11,CFC-11_FLAG_W,CFC-12,CFC-12_FLAG_W,CFC113,CFC113_FLAG_W,TCARBN,TCARBN_FLAG_W,ALKALI,ALKALI_FLAG_W,FLUOR,FLUOR_FLAG_W,DOC,DOC_FLAG_W,TDN,TDN_FLAG_W,NO2+NO3,NO2+NO3_FLAG_W,PAR,PAR_FLAG_W
,,,,,,,,,,,METERS,DBAR,ITS-90,PSS-78,,PSS-78,,UMOL/KG,,UMOL/KG,,UMOL/KG,,UMOL/KG,,PMOL/KG,,PMOL/KG,,PMOL/KG,,UMOL/KG,,UMOL/KG,,MG/M^3,,UMOL/KG,,UMOL/KG,,UMOL/KG,,VOLTS,
09AR20080322,       SR03,      49,          1,         24,         24,2,20080410,       0531,   -51.2593,   143.1318,       3706,     8.2,   8.2504,  34.1440,2,  34.1428,2,   288.30,2,  287.86,2,     1.2,2,    1.15,2,-999.0000,9,-999.0000,9,-999.0000,9,  2102.3,6,  2279.7,2,   1.219,2,    50.4,2,   21.70,2,   16.18,2,      0.001,2
09AR20080322,       SR03,      49,          1,         23,         23,2,20080410,       0531,   -51.2593,   143.1318,       3706,    39.0,   8.1344,  34.1229,2,-999.0000,9,   287.92,2, -999.00,9,  -999.0,9, -999.00,9,-999.0000,9,-999.0000,9,-999.0000,9,  -999.0,9,  -999.0,9,   1.016,2,  -999.0,9, -999.00,9, -999.00,9,      0.001,2
09AR20080322,       SR03,      49,          1,         22,         22,2,20080410,       0531,   -51.2593,   143.1318,       3706,    38.7,   8.1350,  34.1230,2,-999.0000,9,   287.92,2, -999.00,9,  -999.0,9, -999.00,9,-999.0000,9,-999.0000,9,-999.0000,9,  -999.0,9,  -999.0,9,   1.029,2,  -999.0,9, -999.00,9, -999.00,9,      0.001,2
09AR20080322,       SR03,      49,          1,         21,         21,2,20080410,       0531,   -51.2593,   143.1318,       3706,    39.0,   8.1349,  34.1230,2,  34.1223,2,   287.92,2,  287.17,2,     1.4,2,    1.18,2,-999.0000,9,-999.0000,9,-999.0000,9,  2102.6,2,  2276.6,6,   1.147,2,    48.5,2,   20.40,2,   16.61,2,      0.001,2
09AR20080322,       SR03,      49,          1,         20,         20,2,20080410,       0531,   -51.2593,   143.1318,       3706,    80.0,   8.0857,  34.1136,2,  34.1125,2,   287.69,2,  287.56,2,     1.4,2,    1.20,2,-999.0000,9,-999.0000,9,-999.0000,9,  2102.6,2,  2274.0,2,   1.142,2,    48.3,2,   20.48,2,   17.04,2,      0.001,2
09AR20080322,       SR03,      49,          1,         19,         19,2,20080410,       0531,   -51.2593,   143.1318,       3706,   108.2,   8.0908,  34.1144,2,  34.1138,2,   287.29,2,  287.30,2,     1.4,2,    1.20,2,-999.0000,9,-999.0000,9,-999.0000,9,  2107.2,2,  2275.9,2,   1.330,2,    46.9,2,   19.98,2,   17.04,2,      0.001,2
09AR20080322,       SR03,      49,          1,         18,         18,2,20080410,       0531,   -51.2593,   143.1318,       3706,   159.1,   9.0992,  34.5852,2,  34.5828,2,   265.02,2,  262.93,2,     4.3,2,    1.10,2,-999.0000,9,-999.0000,9,-999.0000,9,  2124.9,2,  2287.6,2,  -0.008,2,    46.3,2,   18.62,2,   15.60,2,      0.001,2
09AR20080322,       SR03,      49,          1,         17,         17,2,20080410,       0531,   -51.2593,   143.1318,       3706,   239.1,   8.0785,  34.4477,2,  34.4477,2,   266.70,2,  264.26,2,     5.9,2,    1.25,2,-999.0000,9,-999.0000,9,-999.0000,9,  2126.9,2,  2282.3,2,  -0.025,2,    45.4,2,   20.26,2,   17.91,2,      0.001,2
09AR20080322,       SR03,      49,          1,         16,         16,2,20080410,       0531,   -51.2593,   143.1318,       3706,   349.1,   7.2602,  34.3506,2,  34.3509,2,   262.13,2,  262.38,2,     7.6,2,    1.38,2,-999.0000,9,-999.0000,9,-999.0000,9,  2130.7,2,  2281.1,6,  -0.041,2,    43.7,2,   22.26,2,   19.95,2,      0.001,2
09AR20080322,       SR03,      49,          1,         15,         15,2,20080410,       0531,   -51.2593,   143.1318,       3706,   450.7,   6.5278,  34.3211,2,  34.3213,2,   239.70,2,  238.44,2,    12.0,2,    1.62,2,-999.0000,9,-999.0000,9,-999.0000,9,  2154.2,2,  2283.4,2,  -0.039,2,    42.8,2,   26.11,2,   23.67,2,      0.001,2
09AR20080322,       SR03,      49,          1,         14,         14,2,20080410,       0531,   -51.2593,   143.1318,       3706,   599.5,   5.5707,  34.3244,2,  34.3250,2,   220.89,2,  220.41,2,    19.2,2,    1.87,2,-999.0000,9,-999.0000,9,-999.0000,9,  2175.8,2,  2284.6,2,  -0.039,2,    40.8,2,   29.50,2,   27.35,2,      0.001,2
09AR20080322,       SR03,      49,          1,         13,         13,2,20080410,       0531,   -51.2593,   143.1318,       3706,   799.2,   4.2081,  34.3015,2,  34.3017,2,   215.57,2,  215.86,2,    30.2,2,    2.09,2,-999.0000,9,-999.0000,9,-999.0000,9,  2189.7,2,  2293.5,6,  -0.040,2,    39.8,2,   31.98,2,   30.36,2,      0.001,2
09AR20080322,       SR03,      49,          1,         12,         12,2,20080410,       0531,   -51.2593,   143.1318,       3706,   997.3,   3.3647,  34.3405,2,  34.3405,2,   201.54,2,  202.18,2,    43.5,2,    2.28,2,-999.0000,9,-999.0000,9,-999.0000,9,  2213.9,6,  2301.8,2,  -0.034,2,    39.6,2,   34.53,2,   32.55,2,      0.001,2
09AR20080322,       SR03,      49,          1,         11,         11,2,20080410,       0531,   -51.2593,   143.1318,       3706,  1202.1,   2.9478,  34.4384,2,  34.4369,2,   183.73,2,  183.47,2,    57.5,2,    2.36,2,-999.0000,9,-999.0000,9,-999.0000,9,  2235.5,2,  2316.9,2,  -0.026,2,    39.2,2,   35.72,2,   33.86,2,      0.001,2
09AR20080322,       SR03,      49,          1,         10,         10,2,20080410,       0531,   -51.2593,   143.1318,       3706,  1401.0,   2.7351,  34.5241,2,  34.5239,2,   175.54,2,  174.85,2,    66.3,2,    2.36,2,-999.0000,9,-999.0000,9,-999.0000,9,  2242.8,2,  2327.8,2,  -0.030,2,    39.4,2,   34.94,2,   33.78,2,      0.001,2
09AR20080322,       SR03,      49,          1,          9,          9,2,20080410,       0531,   -51.2593,   143.1318,       3706,  1700.2,   2.5001,  34.6469,2,  34.6470,2,   176.29,2,  174.83,2,    74.6,2,    2.28,2,-999.0000,9,-999.0000,9,-999.0000,9,  2249.8,2,  2338.1,2,  -0.030,2,    38.9,2,   33.96,2,   32.61,2,      0.001,2
09AR20080322,       SR03,      49,          1,          8,          8,2,20080410,       0531,   -51.2593,   143.1318,       3706,  2099.1,   2.2584,  34.7258,2,  34.7262,2,   187.31,2,  185.81,2,    79.9,2,    2.17,2,-999.0000,9,-999.0000,9,-999.0000,9,  2247.3,2,  2347.5,2,  -0.029,2,    38.9,2,   32.35,2,   30.81,2,      0.001,2
09AR20080322,       SR03,      49,          1,          7,          7,2,20080410,       0531,   -51.2593,   143.1318,       3706,  2398.3,   2.0185,  34.7472,2,  34.7473,2,   192.29,2,  191.80,2,    87.3,2,    2.15,2,-999.0000,9,-999.0000,9,-999.0000,9,  2248.6,2,  2352.6,2,  -0.031,2,    39.0,2,   32.16,2,   30.32,2,      0.001,2
09AR20080322,       SR03,      49,          1,          6,          6,2,20080410,       0531,   -51.2593,   143.1318,       3706,  2551.9,   1.8811,  34.7483,2,  34.7482,2,   194.21,2,  194.10,2,    91.4,2,    2.15,2,-999.0000,9,-999.0000,9,-999.0000,9,  2251.6,2,  2353.0,2,  -0.029,2,    39.6,2,   32.33,2,   30.24,2,      0.001,2
09AR20080322,       SR03,      49,          1,          5,          5,2,20080410,       0531,   -51.2593,   143.1318,       3706,  2798.5,   1.6122,  34.7416,2,  34.7416,2,   197.68,2,  197.10,2,   100.4,2,    2.19,2,-999.0000,9,-999.0000,9,-999.0000,9,  2253.9,2,  2356.2,2,  -0.031,2,    39.6,2,   32.46,2,   30.48,2,      0.001,2
09AR20080322,       SR03,      49,          1,          4,          4,2,20080410,       0531,   -51.2593,   143.1318,       3706,  3097.6,   1.3156,  34.7312,2,  34.7313,2,   201.70,2,  202.00,2,   107.9,2,    2.21,2,-999.0000,9,-999.0000,9,-999.0000,9,  2255.6,2,  2358.3,2,  -0.035,2,    39.5,2,   31.86,2,   30.23,2,      0.001,2
09AR20080322,       SR03,      49,          1,          3,          3,2,20080410,       0531,   -51.2593,   143.1318,       3706,  3399.3,   1.1309,  34.7222,2,  34.7213,2,   204.24,2,  204.52,2,   114.5,2,    2.23,2,-999.0000,9,-999.0000,9,-999.0000,9,  2260.3,2,  2361.8,6,  -0.038,2,    40.2,2,   31.61,2,   30.31,2,      0.001,2
09AR20080322,       SR03,      49,          1,          2,          2,2,20080410,       0531,   -51.2593,   143.1318,       3706,  3650.5,   1.0799,  34.7189,2,  34.7184,2,   204.77,2,  204.34,2,   117.0,2,    2.24,2,-999.0000,9,-999.0000,9,-999.0000,9,  2258.9,2,  2363.1,6,  -0.037,2,    40.1,2,   32.40,2,   30.48,2,      0.001,2
09AR20080322,       SR03,      49,          1,          1,          1,2,20080410,       0531,   -51.2593,   143.1318,       3706,  3757.5,   1.0491,  34.7170,2,  34.7164,2,   204.71,2,  204.91,2,   118.8,2,    2.26,2,-999.0000,9,-999.0000,9,-999.0000,9,  2260.9,6,  2361.3,2,  -0.035,2,    40.4,2,   33.57,2,   32.09,2,      0.001,2
09AR20080322,       SR03,      50,          1,         24,         24,2,20080410,       1028,   -51.0110,   143.2740,       3797,     4.8,   8.3464,  34.1786,2,  34.1783,2,   286.94,2,  286.34,2,     1.4,2,    1.14,2,   3.8034,2,   2.1735,3,   0.3156,4,  2105.3,6,  2277.9,2,   1.410,2,    50.1,2,   20.73,2,   15.07,2,      0.016,2
09AR20080322,       SR03,      50,          1,         23,         23,2,20080410,       1028,   -51.0110,   143.2740,       3797,    29.6,   8.3537,  34.1788,2,-999.0000,9,   287.05,2, -999.00,9,  -999.0,9, -999.00,9,-999.0000,9,-999.0000,9,-999.0000,9,  -999.0,9,  -999.0,9,   1.507,2,  -999.0,9, -999.00,9, -999.00,9,      0.001,2
09AR20080322,       SR03,      50,          1,         22,         22,2,20080410,       1028,   -51.0110,   143.2740,       3797,    29.6,   8.3558,  34.1791,2,-999.0000,9,   287.05,2, -999.00,9,  -999.0,9, -999.00,9,-999.0000,9,-999.0000,9,-999.0000,9,  -999.0,9,  -999.0,9,   1.526,2,  -999.0,9, -999.00,9, -999.00,9,      0.001,2
09AR20080322,       SR03,      50,          1,         21,         21,2,20080410,       1028,   -51.0110,   143.2740,       3797,    29.5,   8.3529,  34.1786,2,  34.1787,2,   287.05,2,  286.34,2,     1.4,2,    1.15,2,   3.7686,2,   2.1590,3,   0.2939,4,  2101.9,2,  2279.2,6,   1.403,2,    49.7,2,   20.47,2,   15.07,2,      0.001,2
09AR20080322,       SR03,      50,          1,         20,         20,2,20080410,       1028,   -51.0110,   143.2740,       3797,    59.9,   8.3627,  34.1802,2,  34.1787,2,   285.56,2,  285.99,2,     1.5,2,    1.15,2,   3.7979,2,   2.1623,3,   0.3502,4,  2103.1,2,  2279.8,2,   1.449,2,    49.0,2,   19.57,2,   15.43,2,      0.001,2
09AR20080322,       SR03,      50,          1,         19,         19,2,20080410,       1028,   -51.0110,   143.2740,       3797,    59.9,   8.3607,  34.1797,2,-999.0000,9,   285.56,2, -999.00,9,  -999.0,9, -999.00,9,-999.0000,9,-999.0000,9,-999.0000,9,  -999.0,9,  -999.0,9,   1.403,2,  -999.0,9, -999.00,9, -999.00,9,      0.001,2
09AR20080322,       SR03,      50,          1,         18,         18,2,20080410,       1028,   -51.0110,   143.2740,       3797,    94.5,   9.4130,  34.5682,2,  34.5635,2,   259.69,2,  266.86,2,     3.3,2,    1.03,2,   3.5188,6,   2.0247,6,   0.2740,4,  2113.0,2,  2290.1,2,   0.232,2,    48.3,2,   16.76,2,   13.80,2,      0.001,2
09AR20080322,       SR03,      50,          1,         17,         17,2,20080410,       1028,   -51.0110,   143.2740,       3797,   150.6,   9.6846,  34.7024,2,  34.7022,2,   260.45,2,  260.97,2,     4.2,2,    1.00,2,   3.4542,2,   1.9678,3,   0.2427,4,  2119.0,2,  2293.5,2,  -0.036,2,    47.1,2,   15.77,2,   13.26,2,      0.001,2
09AR20080322,       SR03,      50,          1,         16,         16,2,20080410,       1028,   -51.0110,   143.2740,       3797,   302.0,   9.0816,  34.6221,2,  34.6236,2,   254.60,2,  254.79,2,     5.2,2,    1.13,2,   3.4613,2,   1.9599,3,   0.2105,4,  2125.7,2,  2291.0,6,  -0.046,2,    45.5,2,   17.34,2,   15.45,2,      0.001,2
09AR20080322,       SR03,      50,          1,         15,         15,2,20080410,       1028,   -51.0110,   143.2740,       3797,   551.3,   7.5048,  34.4539,2,  34.4549,2,   227.87,2,  227.45,2,    10.6,2,    1.51,2,   3.1216,2,   1.6581,3,   0.1801,4,  2152.3,2,  2286.7,2,  -0.042,2,    44.3,2,   23.65,2,   21.56,2,      0.001,2
09AR20080322,       SR03,      50,          1,         14,         14,2,20080410,       1028,   -51.0110,   143.2740,       3797,   800.8,   4.9096,  34.2985,2,  34.2985,2,   221.36,2,  223.10,2,    22.9,2,    1.96,2,   2.9155,2,   1.5025,3,   0.1804,4,  2181.6,2,  2287.1,2,  -0.039,2,    42.7,2,   30.50,2,   28.16,2,      0.001,2
09AR20080322,       SR03,      50,          1,         13,         13,2,20080410,       1028,   -51.0110,   143.2740,       3797,  1049.1,   3.6667,  34.3224,2,  34.3225,2,   206.32,2,  207.85,2,    38.5,2,    2.20,2,   2.0381,2,   1.0304,3,   0.1083,4,  2205.5,2,  2302.6,6,  -0.036,2,    41.9,2,   32.80,2,   31.33,2,      0.001,2
09AR20080322,       SR03,      50,          1,         12,         12,2,20080410,       1028,   -51.0110,   143.2740,       3797,  1307.3,   2.9465,  34.4468,2,  34.4465,2,   184.47,2,  182.52,2,    58.7,2,    2.37,2,   0.9787,2,   0.4845,3,   0.0470,4,  2237.9,6,  2320.8,2,  -0.030,2,    40.0,2,   34.80,2,   33.74,2,      0.001,2
09AR20080322,       SR03,      50,          1,         11,         11,2,20080410,       1028,   -51.0110,   143.2740,       3797,  1598.2,   2.6741,  34.5720,2,  34.5732,2,   173.96,2,  173.49,2,    70.2,2,    2.37,2,   0.4065,2,   0.1925,3,   0.0000,4,  2252.1,2,  2330.2,2,  -0.028,2,    40.0,2,   35.15,2,   33.57,2,      0.001,2
09AR20080322,       SR03,      50,          1,         10,         10,2,20080410,       1028,   -51.0110,   143.2740,       3797,  1801.8,   2.5080,  34.6465,2,  34.6472,2,   177.12,2,  176.65,2,    74.3,2,    2.28,2,   0.2409,2,   0.1183,3,   0.0000,4,  2253.7,2,  2337.2,2,  -0.025,2,    39.9,2,   33.91,2,   32.25,2,      0.001,2
09AR20080322,       SR03,      50,          1,          9,          9,2,20080410,       1028,   -51.0110,   143.2740,       3797,  2052.4,   2.3382,  34.7090,2,  34.7087,2,   183.57,2,  183.04,2,    78.4,2,    2.20,2,   0.1484,2,   0.0658,3,   0.0000,4,  2250.7,2,  2343.4,2,  -0.030,2,    39.5,2,   32.72,2,   30.87,2,      0.001,2
09AR20080322,       SR03,      50,          1,          8,          8,2,20080410,       1028,   -51.0110,   143.2740,       3797,  2300.2,   2.1276,  34.7417,2,  34.7412,2,   190.29,2,  190.19,2,    83.4,2,    2.16,2,   0.0991,2,   0.0380,3,   0.0000,4,  2251.6,2,  2348.1,2,  -0.026,2,    39.3,2,   30.92,2,   29.21,3,      0.001,2
09AR20080322,       SR03,      50,          1,          7,          7,2,20080410,       1028,   -51.0110,   143.2740,       3797,  2551.3,   2.0064,  34.7476,2,  34.7478,2,   193.20,2,  192.14,2,    88.2,2,    2.16,2,   0.0712,2,   0.0242,3,   0.0000,4,  2252.5,2,  2353.1,2,  -0.029,2,    39.5,2,   30.80,2,   29.15,3,      0.001,2
09AR20080322,       SR03,      50,          1,          6,          6,2,20080410,       1028,   -51.0110,   143.2740,       3797,  2803.0,   1.7667,  34.7462,2,  34.7471,2,   197.70,2,  196.79,2,    94.8,2,    2.18,2,   0.0690,2,   0.0249,3,   0.0000,4,  2253.4,2,  2351.7,6,  -0.030,2,    39.7,2,   31.02,2, -999.00,9,      0.001,2
09AR20080322,       SR03,      50,          1,          5,          5,2,20080410,       1028,   -51.0110,   143.2740,       3797,  3048.5,   1.4831,  34.7377,2,  34.7378,2,   201.11,2,  200.52,2,   104.5,2,    2.22,2,   0.0747,2,   0.0346,3,   0.0000,4,  2258.1,2,  2358.8,2,  -0.035,2,    39.9,2,   32.74,2, -999.00,9,      0.001,2
09AR20080322,       SR03,      50,          1,          4,          4,2,20080410,       1028,   -51.0110,   143.2740,       3797,  3300.3,   1.2308,  34.7268,2,  34.7266,2,   203.86,2,  203.18,2,   112.7,2,    2.25,2,   0.0865,2,   0.0366,3,   0.0000,4,  2263.3,2,  2362.1,2,  -0.035,2,    39.6,2,   33.04,2,   32.00,3,      0.001,2
09AR20080322,       SR03,      50,          1,          3,          3,2,20080410,       1028,   -51.0110,   143.2740,       3797,  3548.6,   1.1051,  34.7205,2,  34.7213,2,   205.47,2,  204.09,2,   117.1,2, -999.00,9,   0.0769,2,   0.0342,3,   0.0000,4,  2266.5,2,  2365.1,2,  -0.038,2,    39.5,2,   33.77,2,   32.29,3,      0.001,2
09AR20080322,       SR03,      50,          1,          2,          2,2,20080410,       1028,   -51.0110,   143.2740,       3797,  3802.5,   1.0754,  34.7181,2,  34.7174,2,   205.14,2,  204.48,2,   119.2,2,    2.28,2,   0.0936,2,   0.0381,3,   0.0000,4,  2267.9,2,  2369.8,6,  -0.037,2,    39.1,2,   33.33,2,   32.23,3,      0.001,2
09AR20080322,       SR03,      50,          1,          1,          1,2,20080410,       1028,   -51.0110,   143.2740,       3797,  3848.5,   1.0786,  34.7180,2,  34.7178,2,   204.93,2,  203.95,2,   119.2,2,    2.28,2,   0.0769,2,   0.0283,3,   0.0000,4,  2266.8,6,  2368.1,2,  -0.036,2,    39.4,2,   33.73,2,   32.44,3,      0.001,2