BOTTLE,20141029CCHSIOCBG
EXPOCODE,SECT_ID,STNNBR,CASTNO,SAMPNO,BTLNBR,BTLNBR_FLAG_W,DATE,TIME,LATITUDE,LONGITUDE,DEPTH,CTDPRS,CTDTMP,CTDSAL,CTDSAL_FLAG_W,SALNTY,SALNTY_FLAG_W,CTDOXY,CTDOXY_FLAG_W,OXYGEN,OXYGEN_FLAG_W,SILCAT,SILCAT_FLAG_W,PHSPHT,PHSPHT_FLAG_W,CFC-11,CFC-11_FLAG_W,CFC-12,CFC-12_FLAG_W,CFC113,CFC113_FLAG_W,TCARBN,TCARBN_FLAG_W,ALKALI,ALKALI_FLAG_W,FLUOR,FLUOR_FLAG_W,DOC,DOC_FLAG_W,TDN,TDN_FLAG_W,NO2+NO3,NO2+NO3_FLAG_W,PAR,PAR_FLAG_W
,,,,,,,,,,,METERS,DBAR,ITS-90,PSS-78,,PSS-78,,UMOL/KG,,UMOL/KG,,UMOL/KG,,UMOL/KG,,PMOL/KG,,PMOL/KG,,PMOL/KG,,UMOL/KG,,UMOL/KG,,MG/M^3,,UMOL/KG,,UMOL/KG,,UMOL/KG,,VOLTS,
09AR20080322,       SR03,       5,          1,         24,         24,2,20080329,       0246,   -65.5742,   139.6582,        392,     1.2,  -1.8690,  34.0252,2,-999.0000,9,  -999.00,5, -999.00,9,  -999.0,9, -999.00,9,-999.0000,9,-999.0000,9,-999.0000,9,  -999.0,9,  -999.0,9,  -0.098,2,  -999.0,9, -999.00,9, -999.00,9,      3.642,2
09AR20080322,       SR03,       5,          1,         23,         23,2,20080329,       0246,   -65.5742,   139.6582,        392,     1.6,  -1.8654,  34.0251,2,-999.0000,9,  -999.00,5, -999.00,9,  -999.0,9, -999.00,9,-999.0000,9,-999.0000,9,-999.0000,9,  -999.0,9,  -999.0,9,  -0.102,2,  -999.0,9, -999.00,9, -999.00,9,      3.639,2
09AR20080322,       SR03,       5,          1,         22,         22,2,20080329,       0246,   -65.5742,   139.6582,        392,     1.9,  -1.8670,  34.0251,2,-999.0000,9,  -999.00,5, -999.00,9,  -999.0,9, -999.00,9,-999.0000,9,-999.0000,9,-999.0000,9,  -999.0,9,  -999.0,9,  -0.101,2,  -999.0,9, -999.00,9, -999.00,9,      3.620,2
09AR20080322,       SR03,       5,          1,         21,         21,2,20080329,       0246,   -65.5742,   139.6582,        392,     1.9,  -1.8631,  34.0253,2,  34.0234,2,  -999.00,5,  338.19,2,    53.1,2,    2.01,2,   6.1249,2,   3.1754,2,   0.5458,2,  2184.6,6,  2306.6,2,  -0.093,2,    49.4,2,   31.05,2,   28.01,2,      3.625,2
09AR20080322,       SR03,       5,          1,         20,         20,2,20080329,       0246,   -65.5742,   139.6582,        392,    40.6,  -1.8611,  34.0278,2,-999.0000,9,   336.81,3, -999.00,9,  -999.0,9, -999.00,9,-999.0000,9,-999.0000,9,-999.0000,9,  -999.0,9,  -999.0,9,   0.455,2,  -999.0,9, -999.00,9, -999.00,9,      2.565,2
09AR20080322,       SR03,       5,          1,         19,         19,2,20080329,       0246,   -65.5742,   139.6582,        392,    40.6,  -1.8610,  34.0275,2,  34.0281,2,   336.81,3,  336.84,2,    53.4,2,    2.00,2,   6.1004,2,   3.1615,2,   0.5664,2,  2184.6,2,  2300.9,6,   0.451,2,    44.8,2,   31.67,2,   28.43,3,      2.562,2
09AR20080322,       SR03,       5,          1,         18,         18,2,20080329,       0246,   -65.5742,   139.6582,        392,    85.1,  -1.8285,  34.0916,2,  34.0680,2,   344.30,3,  334.87,2,  -999.0,9, -999.00,9,-999.0000,9,-999.0000,9,-999.0000,9,  2189.1,2,  2306.7,2,   0.370,2,    43.4,2,   30.81,2, -999.00,9,      1.846,2
09AR20080322,       SR03,       5,          1,         17,         17,2,20080329,       0246,   -65.5742,   139.6582,        392,    85.0,  -1.8404,  34.0712,2,-999.0000,9,   344.30,3, -999.00,9,    55.2,2,    1.99,2,   5.9157,2,   3.1037,2,   0.4989,2,  -999.0,9,  -999.0,9,   0.394,2,  -999.0,9, -999.00,9,   27.81,3,      1.844,2
09AR20080322,       SR03,       5,          1,         16,         16,2,20080329,       0246,   -65.5742,   139.6582,        392,   110.2,  -1.7488,  34.2172,2,-999.0000,9,   324.49,2, -999.00,9,  -999.0,9, -999.00,9,-999.0000,9,-999.0000,9,-999.0000,9,  -999.0,9,  -999.0,9,   0.223,2,  -999.0,9, -999.00,9, -999.00,9,      1.422,2
09AR20080322,       SR03,       5,          1,         15,         15,2,20080329,       0246,   -65.5742,   139.6582,        392,   110.1,  -1.7283,  34.2477,2,  34.2477,2,   324.49,2,  324.31,2,    67.2,2,    2.00,2,-999.0000,9,-999.0000,9,-999.0000,9,  -999.0,9,  -999.0,9,   0.156,2,  -999.0,9, -999.00,9,   27.31,2,      1.422,2
09AR20080322,       SR03,       5,          1,         14,         14,2,20080329,       0246,   -65.5742,   139.6582,        392,   141.6,  -1.7000,  34.2868,2,-999.0000,9,   318.44,2, -999.00,9,  -999.0,9, -999.00,9,-999.0000,9,-999.0000,9,-999.0000,9,  -999.0,9,  -999.0,9,   0.144,2,  -999.0,9, -999.00,9, -999.00,9,      0.916,2
09AR20080322,       SR03,       5,          1,         13,         13,2,20080329,       0246,   -65.5742,   139.6582,        392,   140.8,  -1.6963,  34.2890,2,  34.2867,2,   318.76,2,  317.82,2,    69.7,2,    2.04,2,   5.3207,2,   2.7835,2,   0.4693,2,  2208.9,2,  2321.3,2,   0.128,2,    41.8,2,   30.81,2,   27.99,2,      0.930,2
09AR20080322,       SR03,       5,          1,         12,         12,2,20080329,       0246,   -65.5742,   139.6582,        392,   179.1,  -1.6874,  34.3495,2,-999.0000,9,   310.39,2, -999.00,9,  -999.0,9, -999.00,9,-999.0000,9,-999.0000,9,-999.0000,9,  -999.0,9,  -999.0,9,   0.098,2,  -999.0,9, -999.00,9, -999.00,9,      0.328,2
09AR20080322,       SR03,       5,          1,         11,         11,2,20080329,       0246,   -65.5742,   139.6582,        392,   179.1,  -1.6873,  34.3505,2,  34.3466,2,   310.39,2,  308.55,2,    73.3,2,    2.09,2,-999.0000,9,-999.0000,9,-999.0000,9,  -999.0,9,  -999.0,9,   0.104,2,  -999.0,9, -999.00,9,   29.01,2,      0.325,2
09AR20080322,       SR03,       5,          1,         10,         10,2,20080329,       0246,   -65.5742,   139.6582,        392,   220.2,  -1.6810,  34.3943,2,-999.0000,9,   307.33,2, -999.00,9,  -999.0,9, -999.00,9,-999.0000,9,-999.0000,9,-999.0000,9,  -999.0,9,  -999.0,9,   0.076,2,  -999.0,9, -999.00,9, -999.00,9,      0.001,2
09AR20080322,       SR03,       5,          1,          9,          9,2,20080329,       0246,   -65.5742,   139.6582,        392,   220.2,  -1.6812,  34.3938,2,  34.3948,2,   307.33,2,  300.98,2,    76.6,2,    2.12,2,   4.8579,2,   2.5126,2,   0.4301,2,  2222.9,2,  2327.2,2,   0.102,2,    41.2,2,   31.48,2,   29.86,2,      0.001,2
09AR20080322,       SR03,       5,          1,          8,          8,2,20080329,       0246,   -65.5742,   139.6582,        392,   260.7,  -1.6607,  34.4249,2,-999.0000,9,   288.07,2, -999.00,9,  -999.0,9, -999.00,9,-999.0000,9,-999.0000,9,-999.0000,9,  -999.0,9,  -999.0,9,   0.050,2,  -999.0,9, -999.00,9, -999.00,9,      0.001,2
09AR20080322,       SR03,       5,          1,          7,          7,2,20080329,       0246,   -65.5742,   139.6582,        392,   260.7,  -1.6567,  34.4258,2,  34.4274,2,   288.07,2,  297.67,2,    78.1,2,    2.15,2,   4.6677,2,   2.4236,2,   0.4162,2,  2226.4,2,  2320.3,2,   0.042,2,    41.6,2,   31.96,2,   30.28,2,      0.001,2
09AR20080322,       SR03,       5,          1,          6,          6,2,20080329,       0246,   -65.5742,   139.6582,        392,   301.4,  -1.5910,  34.4533,2,-999.0000,9,   291.38,2, -999.00,9,  -999.0,9, -999.00,9,-999.0000,9,-999.0000,9,-999.0000,9,  -999.0,9,  -999.0,9,   0.011,2,  -999.0,9, -999.00,9, -999.00,9,      0.001,2
09AR20080322,       SR03,       5,          1,          5,          5,2,20080329,       0246,   -65.5742,   139.6582,        392,   301.4,  -1.5816,  34.4539,2,  34.4534,2,   291.38,2,  295.06,2,    79.8,2,    2.17,2,-999.0000,9,-999.0000,9,-999.0000,9,  -999.0,9,  -999.0,9,   0.018,2,  -999.0,9, -999.00,9,   30.97,2,      0.001,2
09AR20080322,       SR03,       5,          1,          4,          4,2,20080329,       0246,   -65.5742,   139.6582,        392,   328.9,  -1.5744,  34.4609,2,-999.0000,9,   297.81,2, -999.00,9,  -999.0,9, -999.00,9,-999.0000,9,-999.0000,9,-999.0000,9,  -999.0,9,  -999.0,9,   0.007,2,  -999.0,9, -999.00,9, -999.00,9,      0.001,2
09AR20080322,       SR03,       5,          1,          3,          3,2,20080329,       0246,   -65.5742,   139.6582,        392,   329.1,  -1.5720,  34.4609,2,  34.4593,2,   297.99,2,  297.01,2,    80.4,2,    2.18,2,   4.2226,2,   2.2386,2,   0.3651,2,  2228.6,2,  2328.4,2,   0.003,2,    41.0,2,   32.69,2,   31.48,2,      0.001,2
09AR20080322,       SR03,       5,          1,          2,          2,2,20080329,       0246,   -65.5742,   139.6582,        392,   379.4,  -1.5896,  34.4700,2,-999.0000,9,   312.66,2, -999.00,9,  -999.0,9, -999.00,9,-999.0000,9,-999.0000,9,-999.0000,9,  -999.0,9,  -999.0,9,   0.000,2,  -999.0,9, -999.00,9, -999.00,9,      0.001,2
09AR20080322,       SR03,       5,          1,          1,          1,2,20080329,       0246,   -65.5742,   139.6582,        392,   379.2,  -1.5897,  34.4701,2,  34.4701,2,   312.66,2,  312.48,2,    80.0,2,    2.17,2,   4.5423,2,   2.3722,2,   0.3976,2,  2230.6,6,  2326.6,2,   0.000,2,    41.1,2,   32.32,2,   30.69,2,      0.001,2
09AR20080322,       SR03,       6,          1,         24,         24,2,20080329,       0551,   -65.5212,   139.8657,       1333,     5.8,  -1.8541,  33.9893,2,-999.0000,9,   336.71,2,  337.98,2,    50.3,2,    1.98,2,   6.1420,6,   3.1763,6,   0.5476,6,  2182.3,6,  2296.7,2,   0.610,2,  -999.0,9, -999.00,9,   27.87,2,      2.616,2
09AR20080322,       SR03,       6,          1,         23,         23,2,20080329,       0551,   -65.5212,   139.8657,       1333,     5.8,  -1.8520,  33.9891,2,-999.0000,9,   336.71,2, -999.00,9,  -999.0,9, -999.00,9,-999.0000,9,-999.0000,9,-999.0000,9,  -999.0,9,  -999.0,9,   0.631,2,  -999.0,9, -999.00,9, -999.00,9,      2.623,2
09AR20080322,       SR03,       6,          1,         22,         22,2,20080329,       0551,   -65.5212,   139.8657,       1333,     5.8,  -1.8495,  33.9886,2,-999.0000,9,   336.71,2, -999.00,9,  -999.0,9, -999.00,9,-999.0000,9,-999.0000,9,-999.0000,9,  -999.0,9,  -999.0,9,   0.603,2,  -999.0,9, -999.00,9, -999.00,9,      2.628,2
09AR20080322,       SR03,       6,          1,         21,         21,2,20080329,       0551,   -65.5212,   139.8657,       1333,     5.8,  -1.8471,  33.9879,2,-999.0000,9,   336.71,2, -999.00,9,  -999.0,9, -999.00,9,-999.0000,9,-999.0000,9,-999.0000,9,  -999.0,9,  -999.0,9,   0.597,2,  -999.0,9, -999.00,9, -999.00,9,      2.645,2
09AR20080322,       SR03,       6,          1,         20,         20,2,20080329,       0551,   -65.5212,   139.8657,       1333,    24.0,  -1.8533,  33.9892,2,-999.0000,9,   336.80,2,  338.32,2,    50.3,2,    1.97,2,-999.0000,9,-999.0000,9,-999.0000,9,  2182.6,2,  2297.3,2,   0.669,2,  -999.0,9, -999.00,9,   27.79,2,      2.176,2
09AR20080322,       SR03,       6,          1,         19,         19,2,20080329,       0551,   -65.5212,   139.8657,       1333,    54.3,  -1.8507,  33.9891,2,  33.9888,2,   336.66,2,  338.46,2,    50.5,2,    1.98,2,   6.0330,2,   3.1650,2,   0.5308,2,  2181.0,2,  2298.1,6,   0.684,2,  -999.0,9, -999.00,9,   27.87,2,      1.649,2
09AR20080322,       SR03,       6,          1,         18,         18,2,20080329,       0551,   -65.5212,   139.8657,       1333,    75.4,  -1.8448,  34.0335,2,  34.0449,2,   331.95,2,  332.58,2,    52.8,2,    2.01,2,-999.0000,9,-999.0000,9,-999.0000,9,  2186.5,2,  2301.4,2,   0.721,2,  -999.0,9, -999.00,9,   28.21,2,      1.282,2
09AR20080322,       SR03,       6,          1,         17,         17,2,20080329,       0551,   -65.5212,   139.8657,       1333,    75.4,  -1.8435,  34.0359,2,-999.0000,9,   331.95,2, -999.00,9,  -999.0,9, -999.00,9,-999.0000,9,-999.0000,9,-999.0000,9,  -999.0,9,  -999.0,9,   0.690,2,  -999.0,9, -999.00,9, -999.00,9,      1.288,2
09AR20080322,       SR03,       6,          1,         16,         16,2,20080329,       0551,   -65.5212,   139.8657,       1333,   109.8,  -1.6191,  34.2394,2,  34.2424,2,   329.40,2,  310.10,2,  -999.0,9, -999.00,9,   5.1141,2,   2.6698,2,   0.4565,2,  2211.2,2,  2313.8,6,   0.327,2,  -999.0,9, -999.00,9, -999.00,9,      0.658,2
09AR20080322,       SR03,       6,          1,         15,         15,2,20080329,       0551,   -65.5212,   139.8657,       1333,   140.2,  -1.6367,  34.3152,2,  34.3153,2,   309.35,2,  306.34,2,    71.3,2,    2.09,2,-999.0000,9,-999.0000,9,-999.0000,9,  -999.0,9,  -999.0,9,   0.255,2,  -999.0,9, -999.00,9,   29.19,2,      0.065,2
09AR20080322,       SR03,       6,          1,         14,         14,2,20080329,       0551,   -65.5212,   139.8657,       1333,   140.2,  -1.6372,  34.3148,2,-999.0000,9,   309.35,2, -999.00,9,  -999.0,9, -999.00,9,-999.0000,9,-999.0000,9,-999.0000,9,  -999.0,9,  -999.0,9,   0.228,2,  -999.0,9, -999.00,9, -999.00,9,      0.074,2
09AR20080322,       SR03,       6,          1,         13,         13,2,20080329,       0551,   -65.5212,   139.8657,       1333,   200.7,  -1.6957,  34.3845,2,  34.3864,2,   292.19,2,  292.47,2,    76.3,2,    2.15,2,   4.5870,2,   2.3828,2,   0.3899,2,  2226.1,2,  2322.9,2,   0.103,2,  -999.0,9, -999.00,9,   30.35,2,      0.001,2
09AR20080322,       SR03,       6,          1,         12,         12,2,20080329,       0551,   -65.5212,   139.8657,       1333,   300.9,  -1.1624,  34.4539,2,  34.4530,2,   275.57,2,  271.50,2,    79.7,2,    2.18,2,-999.0000,9,-999.0000,9,-999.0000,9,  -999.0,9,  -999.0,9,  -0.008,2,  -999.0,9, -999.00,9,   30.94,2,      0.001,2
09AR20080322,       SR03,       6,          1,         11,         11,2,20080329,       0551,   -65.5212,   139.8657,       1333,   399.8,  -0.3969,  34.5463,2,  34.5477,2,   244.45,2,  244.55,2,    86.7,2,    2.23,2,   2.7482,2,   1.4207,2,   0.2378,2,  2243.0,2,  2333.7,2,  -0.031,2,  -999.0,9, -999.00,9,   31.50,2,      0.001,2
09AR20080322,       SR03,       6,          1,         10,         10,2,20080329,       0551,   -65.5212,   139.8657,       1333,   500.2,  -0.0150,  34.5984,2,  34.5991,2,   232.59,2,  230.95,2,    92.6,2,    2.25,2,-999.0000,9,-999.0000,9,-999.0000,9,  -999.0,9,  -999.0,9,  -0.033,2,  -999.0,9, -999.00,9,   31.40,2,      0.001,2
09AR20080322,       SR03,       6,          1,          9,          9,2,20080329,       0551,   -65.5212,   139.8657,       1333,   661.2,   0.0103,  34.6273,2,-999.0000,9,   224.31,2, -999.00,9,  -999.0,9, -999.00,9,-999.0000,9,-999.0000,9,-999.0000,9,  -999.0,9,  -999.0,9,  -0.031,2,  -999.0,9, -999.00,9, -999.00,9,      0.001,2
09AR20080322,       SR03,       6,          1,          8,          8,2,20080329,       0551,   -65.5212,   139.8657,       1333,   661.2,  -0.0001,  34.6264,2,  34.6262,2,   224.31,2,  230.99,2,    98.1,2,    2.24,2,   1.8767,2,   0.9753,2,   0.1625,2,  2247.9,2,  2345.0,2,  -0.031,2,  -999.0,9, -999.00,9,   31.31,2,      0.001,2
09AR20080322,       SR03,       6,          1,          7,          7,2,20080329,       0551,   -65.5212,   139.8657,       1333,   801.7,  -0.3496,  34.6052,2,  34.6052,2,   242.47,2,  244.20,2,    96.4,2,    2.22,2,   2.3909,2,   1.2482,2,   0.1830,2,  2248.7,2,  2342.4,2,  -0.026,2,  -999.0,9, -999.00,9,   31.78,2,      0.001,2
09AR20080322,       SR03,       6,          1,          6,          6,2,20080329,       0551,   -65.5212,   139.8657,       1333,  1000.6,  -0.8059,  34.5708,2,  34.5701,2,   260.64,2,  263.50,2,    90.8,2,    2.22,2,   3.2179,2,   1.6719,2,   0.2659,2,  2244.3,2,  2336.7,2,  -0.027,2,  -999.0,9, -999.00,9,   31.81,2,      0.001,2
09AR20080322,       SR03,       6,          1,          5,          5,2,20080329,       0551,   -65.5212,   139.8657,       1333,  1200.4,  -0.9430,  34.5739,2,-999.0000,9,   266.66,2, -999.00,9,  -999.0,9, -999.00,9,-999.0000,9,-999.0000,9,-999.0000,9,  -999.0,9,  -999.0,9,  -0.029,2,  -999.0,9, -999.00,9, -999.00,9,      0.001,2
09AR20080322,       SR03,       6,          1,          4,          4,2,20080329,       0551,   -65.5212,   139.8657,       1333,  1200.3,  -0.9381,  34.5738,2,  34.5724,2,   266.66,2,  266.23,2,    91.2,2,    2.24,2,   3.3764,2,   1.7632,2,   0.2725,2,  2241.6,2,  2340.3,2,  -0.028,2,  -999.0,9, -999.00,9,   32.06,2,      0.001,2
09AR20080322,       SR03,       6,          1,          3,          3,2,20080329,       0551,   -65.5212,   139.8657,       1333,  1291.4,  -0.9540,  34.5752,2,  34.5738,2,   267.09,2,  267.53,2,    90.9,2,    2.25,2,   3.3964,2,   1.7754,2,   0.2931,2,  2244.2,2,  2338.5,6,  -0.030,2,  -999.0,9, -999.00,9,   32.32,2,      0.001,2
09AR20080322,       SR03,       6,          1,          2,          2,2,20080329,       0551,   -65.5212,   139.8657,       1333,  1342.3,  -0.9535,  34.5752,2,-999.0000,9,   267.08,2, -999.00,9,  -999.0,9, -999.00,9,-999.0000,9,-999.0000,9,-999.0000,9,  -999.0,9,  -999.0,9,  -0.031,2,  -999.0,9, -999.00,9, -999.00,9,      0.001,2
09AR20080322,       SR03,       6,          1,          1,          1,2,20080329,       0551,   -65.5212,   139.8657,       1333,  1342.1,  -0.9538,  34.5752,2,  34.5742,2,   267.08,2,  266.79,2,    90.0,2,    2.22,2,   3.4090,2,   1.7720,2,   0.3003,2,  2243.1,6,  2339.3,2,  -0.027,2,  -999.0,9, -999.00,9,   31.44,2,      0.001,2