BOTTLE,20141029CCHSIOCBG
EXPOCODE,SECT_ID,STNNBR,CASTNO,SAMPNO,BTLNBR,BTLNBR_FLAG_W,DATE,TIME,LATITUDE,LONGITUDE,DEPTH,CTDPRS,CTDTMP,CTDSAL,CTDSAL_FLAG_W,SALNTY,SALNTY_FLAG_W,CTDOXY,CTDOXY_FLAG_W,OXYGEN,OXYGEN_FLAG_W,SILCAT,SILCAT_FLAG_W,PHSPHT,PHSPHT_FLAG_W,CFC-11,CFC-11_FLAG_W,CFC-12,CFC-12_FLAG_W,CFC113,CFC113_FLAG_W,TCARBN,TCARBN_FLAG_W,ALKALI,ALKALI_FLAG_W,FLUOR,FLUOR_FLAG_W,DOC,DOC_FLAG_W,TDN,TDN_FLAG_W,NO2+NO3,NO2+NO3_FLAG_W,PAR,PAR_FLAG_W
,,,,,,,,,,,METERS,DBAR,ITS-90,PSS-78,,PSS-78,,UMOL/KG,,UMOL/KG,,UMOL/KG,,UMOL/KG,,PMOL/KG,,PMOL/KG,,PMOL/KG,,UMOL/KG,,UMOL/KG,,MG/M^3,,UMOL/KG,,UMOL/KG,,UMOL/KG,,VOLTS,
09AR20080322,       SR03,      21,          1,         24,         24,2,20080401,       2317,   -60.8503,   139.8522,       4325,     4.3,   2.4740,  33.7826,2,-999.0000,9,  -999.00,5, -999.00,9,  -999.0,9, -999.00,9,-999.0000,9,-999.0000,9,-999.0000,9,  -999.0,9,  -999.0,9,   0.101,2,  -999.0,9, -999.00,9, -999.00,9,      3.363,2
09AR20080322,       SR03,      21,          1,         23,         23,2,20080401,       2317,   -60.8503,   139.8522,       4325,    24.7,   2.3842,  33.7871,2,-999.0000,9,   322.10,2, -999.00,9,  -999.0,9, -999.00,9,-999.0000,9,-999.0000,9,-999.0000,9,  -999.0,9,  -999.0,9,   0.499,2,  -999.0,9, -999.00,9, -999.00,9,      2.797,2
09AR20080322,       SR03,      21,          1,         22,         22,2,20080401,       2317,   -60.8503,   139.8522,       4325,    24.9,   2.3842,  33.7872,2,-999.0000,9,   322.10,2, -999.00,9,  -999.0,9, -999.00,9,-999.0000,9,-999.0000,9,-999.0000,9,  -999.0,9,  -999.0,9,   0.509,2,  -999.0,9, -999.00,9, -999.00,9,      2.780,2
09AR20080322,       SR03,      21,          1,         21,         21,2,20080401,       2317,   -60.8503,   139.8522,       4325,    24.6,   2.3821,  33.7872,2,  33.7875,2,   322.10,2,  322.10,2,    11.9,2,    1.68,2,-999.0000,9,-999.0000,9,-999.0000,9,  -999.0,9,  -999.0,9,   0.507,2,  -999.0,9, -999.00,9,   26.14,2,      2.778,2
09AR20080322,       SR03,      21,          1,         20,         20,2,20080401,       2317,   -60.8503,   139.8522,       4325,    49.8,   2.3018,  33.7919,2,-999.0000,9,   322.10,2,  322.49,2,    11.8,2,    1.67,2,-999.0000,9,-999.0000,9,-999.0000,9,  -999.0,9,  -999.0,9,   1.201,2,  -999.0,9, -999.00,9,   26.13,2,      2.401,2
09AR20080322,       SR03,      21,          1,         19,         19,2,20080401,       2317,   -60.8503,   139.8522,       4325,    80.6,   1.1266,  33.8533,2,-999.0000,9,   322.60,2,  330.24,2,    18.7,2,    1.86,2,-999.0000,9,-999.0000,9,-999.0000,9,  -999.0,9,  -999.0,9,   2.313,2,  -999.0,9, -999.00,9,   27.10,2,      1.898,2
09AR20080322,       SR03,      21,          1,         18,         18,2,20080401,       2317,   -60.8503,   139.8522,       4325,   151.7,   1.4227,  34.2495,2,  34.2407,2,   235.63,2,  234.46,2,    53.5,2,    2.30,2,-999.0000,9,-999.0000,9,-999.0000,9,  -999.0,9,  -999.0,9,   0.023,2,  -999.0,9, -999.00,9,   33.98,2,      0.526,2
09AR20080322,       SR03,      21,          1,         17,         17,2,20080401,       2317,   -60.8503,   139.8522,       4325,   500.2,   2.2016,  34.6208,2,  34.6203,2,   173.23,2,  172.96,2,    78.7,2,    2.32,2,-999.0000,9,-999.0000,9,-999.0000,9,  -999.0,9,  -999.0,9,  -0.027,2,  -999.0,9, -999.00,9,   33.96,2,      0.001,2
09AR20080322,       SR03,      21,          1,         16,         16,2,20080401,       2317,   -60.8503,   139.8522,       4325,  1008.0,   1.9865,  34.7354,2,-999.0000,9,   187.92,2, -999.00,9,  -999.0,9, -999.00,9,-999.0000,9,-999.0000,9,-999.0000,9,  -999.0,9,  -999.0,9,  -0.027,2,  -999.0,9, -999.00,9, -999.00,9,      0.001,2
09AR20080322,       SR03,      21,          1,         15,         15,2,20080401,       2317,   -60.8503,   139.8522,       4325,  1000.2,   1.9911,  34.7348,2,  34.7347,2,   187.75,2,  188.81,2,    85.7,2,    2.13,2,   0.1837,2,   0.0936,2,   0.0135,2,  2251.3,6,  2344.9,2,  -0.026,2,  -999.0,9, -999.00,9,   31.25,2,      0.001,2
09AR20080322,       SR03,      21,          1,         14,         14,2,20080401,       2317,   -60.8503,   139.8522,       4325,  2006.9,   1.1697,  34.7292,2,-999.0000,9,   202.82,2, -999.00,9,  -999.0,9, -999.00,9,-999.0000,9,-999.0000,9,-999.0000,9,  -999.0,9,  -999.0,9,  -0.033,2,  -999.0,9, -999.00,9, -999.00,9,      0.001,2
09AR20080322,       SR03,      21,          1,         13,         13,2,20080401,       2317,   -60.8503,   139.8522,       4325,  1999.0,   1.1751,  34.7293,2,  34.7290,2,   202.82,2,  203.30,2,   109.2,2,    2.19,2,   0.1353,2,   0.0658,2,   0.0033,2,  2258.6,2,  2357.0,6,  -0.034,2,  -999.0,9, -999.00,9,   31.47,2,      0.001,2
09AR20080322,       SR03,      21,          1,         12,         12,2,20080401,       2317,   -60.8503,   139.8522,       4325,  2201.3,   1.0234,  34.7212,2,  34.7217,2,   204.66,2,  204.52,2,   113.5,2,    2.21,2,   0.1552,2,   0.0764,2,   0.0100,2,  2261.6,2,  2356.3,6,  -0.032,2,  -999.0,9, -999.00,9,   31.69,2,      0.001,2
09AR20080322,       SR03,      21,          1,         11,         11,2,20080401,       2317,   -60.8503,   139.8522,       4325,  2505.8,   0.7899,  34.7091,2,-999.0000,9,   208.19,2, -999.00,9,  -999.0,9, -999.00,9,-999.0000,9,-999.0000,9,-999.0000,9,  -999.0,9,  -999.0,9,  -0.037,2,  -999.0,9, -999.00,9, -999.00,9,      0.001,2
09AR20080322,       SR03,      21,          1,         10,         10,2,20080401,       2317,   -60.8503,   139.8522,       4325,  2498.5,   0.7939,  34.7092,2,  34.7085,2,   208.04,2,  207.78,2,   120.7,2,    2.25,2,   0.2024,6,   0.0989,6,   0.0082,6,  2262.7,2,  2362.1,2,  -0.033,2,  -999.0,9, -999.00,9,   32.14,2,      0.001,2
09AR20080322,       SR03,      21,          1,          9,          9,2,20080401,       2317,   -60.8503,   139.8522,       4325,  2802.0,   0.5939,  34.6987,2,-999.0000,9,   211.89,2,  211.95,2,   124.6,2,    2.26,2,   0.2692,2,   0.1330,2,   0.0065,2,  2263.1,2,  2356.5,2,  -0.034,2,  -999.0,9, -999.00,9,   32.14,2,      0.001,2
09AR20080322,       SR03,      21,          1,          8,          8,2,20080401,       2317,   -60.8503,   139.8522,       4325,  3099.9,   0.4138,  34.6902,2,  34.6977,4,   216.14,2,  216.51,2,   128.0,2,    2.27,2,   0.4009,2,   0.1952,2,   0.0217,2,  2262.0,2,  2356.8,2,  -0.039,2,  -999.0,9, -999.00,9,   32.36,2,      0.001,2
09AR20080322,       SR03,      21,          1,          7,          7,2,20080401,       2317,   -60.8503,   139.8522,       4325,  3411.2,   0.2900,  34.6857,2,-999.0000,9,   220.02,2, -999.00,9,  -999.0,9, -999.00,9,-999.0000,9,-999.0000,9,-999.0000,9,  -999.0,9,  -999.0,9,  -0.036,2,  -999.0,9, -999.00,9, -999.00,9,      0.001,2
09AR20080322,       SR03,      21,          1,          6,          6,2,20080401,       2317,   -60.8503,   139.8522,       4325,  3399.4,   0.2940,  34.6859,2,  34.6891,2,   219.88,2,  219.90,2,   131.4,2,    2.30,2,   0.4883,2,   0.2386,2,   0.0251,2,  2263.4,2,  2356.4,2,  -0.040,2,  -999.0,9, -999.00,9,   32.51,2,      0.001,2
09AR20080322,       SR03,      21,          1,          5,          5,2,20080401,       2317,   -60.8503,   139.8522,       4325,  3699.1,   0.1892,  34.6815,2,  34.6802,2,   223.68,2,  223.63,2,   133.5,2,    2.28,2,   0.6563,2,   0.3225,2,   0.0326,2,  2262.4,2,  2356.0,2,  -0.041,2,  -999.0,9, -999.00,9,   32.51,2,      0.001,2
09AR20080322,       SR03,      21,          1,          4,          4,2,20080401,       2317,   -60.8503,   139.8522,       4325,  4014.2,   0.0836,  34.6758,2,-999.0000,9,   228.15,2, -999.00,9,  -999.0,9, -999.00,9,-999.0000,9,-999.0000,9,-999.0000,9,  -999.0,9,  -999.0,9,  -0.041,2,  -999.0,9, -999.00,9, -999.00,9,      0.001,2
09AR20080322,       SR03,      21,          1,          3,          3,2,20080401,       2317,   -60.8503,   139.8522,       4325,  4000.3,   0.0892,  34.6761,2,  34.6751,2,   227.92,2,  227.45,2,   133.1,2,    2.28,2,   0.9675,2,   0.4738,2,   0.0610,2,  2261.9,6,  2355.9,2,  -0.045,2,  -999.0,9, -999.00,9,   32.35,2,      0.001,2
09AR20080322,       SR03,      21,          1,          2,          2,2,20080401,       2317,   -60.8503,   139.8522,       4325,  4400.2,  -0.0830,  34.6630,2,  34.6626,2,   235.27,2,  235.45,2,   127.5,2,    2.26,2,   1.7599,2,   0.8821,2,   0.1198,2,  2260.6,2,  2351.7,6,  -0.044,2,  -999.0,9, -999.00,9,   32.04,2,      0.001,2
09AR20080322,       SR03,      21,          1,          1,          1,2,20080401,       2317,   -60.8503,   139.8522,       4325,  4443.7,  -0.1251,  34.6591,2,-999.0000,9,   236.55,2, -999.00,9,  -999.0,9, -999.00,9,-999.0000,9,-999.0000,9,-999.0000,9,  -999.0,9,  -999.0,9,  -0.043,2,  -999.0,9, -999.00,9, -999.00,9,      0.001,2
09AR20080322,       SR03,      22,          1,         24,         24,2,20080402,       0358,   -60.8497,   139.8493,       4295,     5.8,   2.6562,  33.7734,2,  33.7754,2,   320.14,2,  320.16,2,    12.0,2,    1.73,2,   5.4137,2,   2.8983,2,   0.4794,2,  2141.5,6,  2280.0,2,   0.790,2,  -999.0,9, -999.00,9,   26.45,2,      2.738,2
09AR20080322,       SR03,      22,          1,         23,         23,2,20080402,       0358,   -60.8497,   139.8493,       4295,    24.8,   2.6278,  33.7750,2,-999.0000,9,   320.09,2, -999.00,9,  -999.0,9, -999.00,9,-999.0000,9,-999.0000,9,-999.0000,9,  -999.0,9,  -999.0,9,   0.935,2,  -999.0,9, -999.00,9, -999.00,9,      2.276,2
09AR20080322,       SR03,      22,          1,         22,         22,2,20080402,       0358,   -60.8497,   139.8493,       4295,    24.9,   2.6300,  33.7749,2,-999.0000,9,   320.09,2, -999.00,9,  -999.0,9, -999.00,9,-999.0000,9,-999.0000,9,-999.0000,9,  -999.0,9,  -999.0,9,   0.939,2,  -999.0,9, -999.00,9, -999.00,9,      2.278,2
09AR20080322,       SR03,      22,          1,         21,         21,2,20080402,       0358,   -60.8497,   139.8493,       4295,    24.9,   2.6264,  33.7751,2,  33.7760,2,   320.09,2,  320.51,2,    12.0,2,    1.74,2,   5.4042,2,   2.8921,2,   0.4680,2,  2141.8,2,  2278.6,6,   0.942,2,  -999.0,9, -999.00,9,   26.44,2,      2.250,2
09AR20080322,       SR03,      22,          1,         20,         20,2,20080402,       0358,   -60.8497,   139.8493,       4295,    50.1,   2.4568,  33.7845,2,  33.7866,2,   321.17,2, -999.00,9,    11.9,2,    1.73,2,   5.4526,2,   2.9253,2,   0.4717,2,  2143.2,2,  2278.7,2,   1.288,2,  -999.0,9, -999.00,9,   26.58,2,      1.912,2
09AR20080322,       SR03,      22,          1,         19,         19,2,20080402,       0358,   -60.8497,   139.8493,       4295,    74.5,   1.9568,  33.8092,2,  33.8208,2,   321.47,2,  325.87,2,    15.4,2,    1.82,2,   5.6668,2,   3.0283,2,   0.5048,2,  2150.3,2,  2278.5,2,   1.883,2,  -999.0,9, -999.00,9,   27.11,2,      1.480,2
09AR20080322,       SR03,      22,          1,         18,         18,2,20080402,       0358,   -60.8497,   139.8493,       4295,    99.4,   0.2554,  33.9583,2,  33.9586,2,   318.24,2,  316.76,2,    29.5,2,    2.05,2,   5.7386,2,   2.9838,2,   0.4960,2,  2176.7,2,  2288.6,2,   0.801,2,  -999.0,9, -999.00,9,   30.00,2,      0.959,2
09AR20080322,       SR03,      22,          1,         17,         17,2,20080402,       0358,   -60.8497,   139.8493,       4295,   150.9,   1.3753,  34.2475,2,  34.2446,2,   230.37,2,  233.33,2,    53.8,2,    2.33,2,   3.3016,2,   1.7308,2,   0.2542,2,  2221.1,2,  2305.0,2,   0.035,2,  -999.0,9, -999.00,9,   34.19,2,      0.097,2
09AR20080322,       SR03,      22,          1,         16,         16,2,20080402,       0358,   -60.8497,   139.8493,       4295,   199.8,   1.9691,  34.3893,2,  34.3892,2,   198.00,2,  195.03,2,    64.8,2,    2.42,2,   1.9772,2,   1.0107,2,   0.1468,2,  2240.5,2,  2313.2,2,  -0.030,2,  -999.0,9, -999.00,9,   35.28,2,      0.001,2
09AR20080322,       SR03,      22,          1,         15,         15,2,20080402,       0358,   -60.8497,   139.8493,       4295,   300.9,   2.2064,  34.4989,2,  34.4989,2,   176.53,2,  177.02,2,    72.2,2,    2.43,2,   1.1463,2,   0.5737,2,   0.0759,2,  2251.1,2,  2322.2,2,  -0.026,2,  -999.0,9, -999.00,9,   35.42,2,      0.001,2
09AR20080322,       SR03,      22,          1,         14,         14,2,20080402,       0358,   -60.8497,   139.8493,       4295,   400.1,   2.2609,  34.5730,2,  34.5740,2,   171.64,2,  171.80,2,    75.9,2,    2.37,2,   0.7057,2,   0.3604,2,   0.0486,2,  2255.0,2,  2329.2,2,  -0.027,2,  -999.0,9, -999.00,9,   34.46,2,      0.001,2
09AR20080322,       SR03,      22,          1,         13,         13,2,20080402,       0358,   -60.8497,   139.8493,       4295,   499.2,   2.2183,  34.6203,2,  34.6209,2,   172.30,2,  172.83,2,    78.4,2,    2.34,2,   0.5351,2,   0.2721,2,   0.0367,2,  2254.2,2,  2334.5,6,  -0.032,2,  -999.0,9, -999.00,9,   33.82,2,      0.001,2
09AR20080322,       SR03,      22,          1,         12,         12,2,20080402,       0358,   -60.8497,   139.8493,       4295,   600.7,   2.1704,  34.6525,2,  34.6529,2,   174.28,2,  174.34,2,    80.3,2,    2.28,2,   0.4372,2,   0.2172,2,   0.0286,2,  2254.1,6,  2337.8,2,  -0.027,2,  -999.0,9, -999.00,9,   33.15,2,      0.001,2
09AR20080322,       SR03,      22,          1,         11,         11,2,20080402,       0358,   -60.8497,   139.8493,       4295,   700.9,   2.1358,  34.6844,2,  34.6850,2,   177.61,2,  177.65,2,    81.9,2,    2.25,2,   0.3380,2,   0.1729,2,   0.0228,2,  2252.6,2,  2338.9,2,  -0.031,2,  -999.0,9, -999.00,9,   32.75,2,      0.001,2
09AR20080322,       SR03,      22,          1,         10,         10,2,20080402,       0358,   -60.8497,   139.8493,       4295,   800.8,   2.0754,  34.7040,2,  34.7040,2,   181.55,2,  180.90,2,    83.3,2,    2.22,2,   0.2918,2,   0.1448,2,   0.0178,2,  2251.5,2,  2340.3,2,  -0.026,2,  -999.0,9, -999.00,9,   32.35,2,      0.001,2
09AR20080322,       SR03,      22,          1,          9,          9,2,20080402,       0358,   -60.8497,   139.8493,       4295,   899.1,   2.0347,  34.7217,2,  34.7223,2,   185.03,2,  184.72,2,    84.9,2,    2.21,2,   0.2307,2,   0.1112,2,   0.0135,2,  2250.7,2,  2342.7,2,  -0.029,2,  -999.0,9, -999.00,9,   31.95,2,      0.001,2
09AR20080322,       SR03,      22,          1,          8,          8,2,20080402,       0358,   -60.8497,   139.8493,       4295,  1000.0,   1.9946,  34.7343,2,  34.7355,2,   188.76,2,  189.11,2,    85.7,2,    2.15,2,-999.0000,9,-999.0000,9,-999.0000,9,  2248.9,2,  2344.8,2,  -0.030,2,  -999.0,9, -999.00,9,   31.25,2,      0.001,2
09AR20080322,       SR03,      22,          1,          7,          7,2,20080402,       0358,   -60.8497,   139.8493,       4295,  1199.9,   1.8638,  34.7451,2,  34.7461,2,   193.63,2,  192.88,2,    89.1,2,    2.13,2,   0.1516,2,   0.0763,2,   0.0090,2,  2249.2,2,  2348.4,2,  -0.032,2,  -999.0,9, -999.00,9,   30.93,2,      0.001,2
09AR20080322,       SR03,      22,          1,          6,          6,2,20080402,       0358,   -60.8497,   139.8493,       4295,  1398.5,   1.6918,  34.7464,2,  34.7471,2,   196.63,2,  196.14,2,    94.1,2,    2.13,2,   0.1468,2,   0.0713,2,   0.0100,2,  2249.0,2,  2353.7,2,  -0.030,2,  -999.0,9, -999.00,9,   30.84,2,      0.001,2
09AR20080322,       SR03,      22,          1,          5,          5,2,20080402,       0358,   -60.8497,   139.8493,       4295,  1599.3,   1.5187,  34.7438,2,  34.7449,2,   199.48,2,  199.53,2,    99.2,2,    2.15,2,   0.1237,2,   0.0570,2,   0.0095,2,  2251.3,2,  2357.5,2,  -0.033,2,  -999.0,9, -999.00,9,   31.06,2,      0.001,2
09AR20080322,       SR03,      22,          1,          4,          4,2,20080402,       0358,   -60.8497,   139.8493,       4295,  1801.0,   1.3456,  34.7371,2,  34.7380,2,   201.49,2, -999.00,9,   104.6,2,    2.18,2,   0.1273,6,   0.0606,6,   0.0094,6,  2252.9,2,  2356.6,2,  -0.032,2,  -999.0,9, -999.00,9,   31.36,2,      0.001,2
09AR20080322,       SR03,      22,          1,          3,          3,2,20080402,       0358,   -60.8497,   139.8493,       4295,  2001.0,   1.1981,  34.7302,2,  34.7311,2,   203.24,2,  203.44,2,   109.3,2,    2.20,2,   0.1477,2,   0.0709,2,   0.0096,2,  2255.3,2,  2359.5,2,  -0.032,2,  -999.0,9, -999.00,9,   31.41,2,      0.001,2
09AR20080322,       SR03,      22,          1,          2,          2,2,20080402,       0358,   -60.8497,   139.8493,       4295,  4401.4,  -0.0795,  34.6633,2,  34.6633,2,   236.69,2,  236.23,2,   128.1,2,    2.27,2,   1.7546,2,   0.8815,2,   0.1232,2,  2257.9,2,  2356.9,2,  -0.044,2,  -999.0,9, -999.00,9,   32.33,2,      0.001,2
09AR20080322,       SR03,      22,          1,          1,          1,2,20080402,       0358,   -60.8497,   139.8493,       4295,  4450.9,  -0.1229,  34.6591,2,  34.6588,2,   238.32,2,  238.23,2,   128.9,2,    2.26,2,   1.9761,2,   0.9835,2,   0.1465,2,  2257.3,6,  2357.7,2,  -0.041,2,  -999.0,9, -999.00,9,   32.25,2,      0.001,2