BOTTLE,20141029CCHSIOCBG
EXPOCODE,SECT_ID,STNNBR,CASTNO,SAMPNO,BTLNBR,BTLNBR_FLAG_W,DATE,TIME,LATITUDE,LONGITUDE,DEPTH,CTDPRS,CTDTMP,CTDSAL,CTDSAL_FLAG_W,SALNTY,SALNTY_FLAG_W,CTDOXY,CTDOXY_FLAG_W,OXYGEN,OXYGEN_FLAG_W,SILCAT,SILCAT_FLAG_W,PHSPHT,PHSPHT_FLAG_W,CFC-11,CFC-11_FLAG_W,CFC-12,CFC-12_FLAG_W,CFC113,CFC113_FLAG_W,TCARBN,TCARBN_FLAG_W,ALKALI,ALKALI_FLAG_W,FLUOR,FLUOR_FLAG_W,DOC,DOC_FLAG_W,TDN,TDN_FLAG_W,NO2+NO3,NO2+NO3_FLAG_W,PAR,PAR_FLAG_W
,,,,,,,,,,,METERS,DBAR,ITS-90,PSS-78,,PSS-78,,UMOL/KG,,UMOL/KG,,UMOL/KG,,UMOL/KG,,PMOL/KG,,PMOL/KG,,PMOL/KG,,UMOL/KG,,UMOL/KG,,MG/M^3,,UMOL/KG,,UMOL/KG,,UMOL/KG,,VOLTS,
09AR20080322,       SR03,      27,          1,         24,         24,2,20080403,       1151,   -58.8505,   139.8397,       3863,     6.1,   3.8002,  33.7466,2,  33.7466,2,   311.74,2,  311.98,2,     3.7,2,    1.70,2,   5.0409,2,   2.6877,2,   0.4565,2,  2130.5,6,  2276.4,2,   0.817,2,  -999.0,9, -999.00,9,   24.56,2,      0.001,2
09AR20080322,       SR03,      27,          1,         23,         23,2,20080403,       1151,   -58.8505,   139.8397,       3863,    26.4,   3.7812,  33.7465,2,-999.0000,9,   311.61,2, -999.00,9,  -999.0,9, -999.00,9,-999.0000,9,-999.0000,9,-999.0000,9,  -999.0,9,  -999.0,9,   0.847,2,  -999.0,9, -999.00,9, -999.00,9,      0.001,2
09AR20080322,       SR03,      27,          1,         22,         22,2,20080403,       1151,   -58.8505,   139.8397,       3863,    26.4,   3.7802,  33.7465,2,-999.0000,9,   311.61,2, -999.00,9,  -999.0,9, -999.00,9,-999.0000,9,-999.0000,9,-999.0000,9,  -999.0,9,  -999.0,9,   0.841,2,  -999.0,9, -999.00,9, -999.00,9,      0.001,2
09AR20080322,       SR03,      27,          1,         21,         21,2,20080403,       1151,   -58.8505,   139.8397,       3863,    26.3,   3.7831,  33.7465,2,  33.7461,2,   311.61,2,  312.11,2,     3.8,2,    1.68,2,   5.0055,2,   2.6822,2,   0.4342,2,  2130.5,2,  2273.4,6,   0.820,2,  -999.0,9, -999.00,9,   24.53,2,      0.001,2
09AR20080322,       SR03,      27,          1,         20,         20,2,20080403,       1151,   -58.8505,   139.8397,       3863,    50.1,   3.7626,  33.7467,2,  33.7468,2,   312.41,2,  312.59,2,     4.1,2,    1.68,2,   5.0908,2,   2.7045,2,   0.4508,2,  2131.8,2,  2272.7,2,   0.845,2,  -999.0,9, -999.00,9,   24.66,2,      0.001,2
09AR20080322,       SR03,      27,          1,         19,         19,2,20080403,       1151,   -58.8505,   139.8397,       3863,    75.5,   3.7055,  33.7512,2,  33.7527,2,   312.59,2,  313.33,2,     5.0,2,    1.72,2,-999.0000,9,-999.0000,9,-999.0000,9,  -999.0,9,  -999.0,9,   1.058,2,  -999.0,9, -999.00,9, -999.00,9,      0.001,2
09AR20080322,       SR03,      27,          1,         18,         18,2,20080403,       1151,   -58.8505,   139.8397,       3863,   101.7,   1.7908,  33.8269,2,  33.8259,2,   327.32,2,  322.78,2,    13.2,2,    1.97,2,   5.6311,2,   2.9610,2,   0.4824,2,  2150.1,2,  2278.3,2,   1.255,2,  -999.0,9, -999.00,9,   27.34,2,      0.001,2
09AR20080322,       SR03,      27,          1,         17,         17,2,20080403,       1151,   -58.8505,   139.8397,       3863,   150.7,   1.7092,  33.9964,2,  33.9951,2,   293.21,2,  289.56,2,    27.3,2,    2.11,2,   5.0314,2,   2.6410,2,   0.4285,2,  2178.2,2,  2283.6,2,   0.078,2,  -999.0,9, -999.00,9,   30.81,2,      0.001,2
09AR20080322,       SR03,      27,          1,         16,         16,2,20080403,       1151,   -58.8505,   139.8397,       3863,   201.2,   1.7233,  34.1262,2,  34.1268,2,   260.35,2,  260.14,2,    39.8,2,    2.26,2,   4.1356,6,   2.1238,6,   0.3288,6,  2200.6,2,  2293.2,2,  -0.029,2,  -999.0,9, -999.00,9,   32.68,2,      0.001,2
09AR20080322,       SR03,      27,          1,         15,         15,2,20080403,       1151,   -58.8505,   139.8397,       3863,   251.6,   1.8934,  34.2204,2,  34.2197,2,   225.16,2,  234.65,2,    47.9,2,    2.34,2,   3.1997,2,   1.6291,2,   0.2829,2,  2215.4,2,  2299.4,2,  -0.035,2,  -999.0,9, -999.00,9,   33.76,2,      0.001,2
09AR20080322,       SR03,      27,          1,         14,         14,2,20080403,       1151,   -58.8505,   139.8397,       3863,   300.4,   2.1042,  34.3037,2,  34.3032,2,   211.12,2,  212.43,2,    55.2,2,    2.41,2,   2.5147,2,   1.2605,2,   0.1767,2,  2228.1,2,  2307.7,6,  -0.032,2,  -999.0,9, -999.00,9,   34.69,2,      0.001,2
09AR20080322,       SR03,      27,          1,         13,         13,2,20080403,       1151,   -58.8505,   139.8397,       3863,   351.8,   2.3150,  34.3817,2,  34.3825,2,   194.36,2,  192.90,2,    60.7,2,    2.45,2,-999.0000,9,-999.0000,9,-999.0000,9,  -999.0,9,  -999.0,9,  -0.030,2,  -999.0,9, -999.00,9,   35.14,2,      0.001,2
09AR20080322,       SR03,      27,          1,         12,         12,2,20080403,       1151,   -58.8505,   139.8397,       3863,   401.1,   2.3439,  34.4203,2,  34.4200,2,   187.29,2,  186.20,2,    64.2,2,    2.46,2,   1.5678,2,   0.7631,2,   0.1215,2,  2242.9,6,  2317.6,2,  -0.029,2,  -999.0,9, -999.00,9,   35.12,2,      0.001,2
09AR20080322,       SR03,      27,          1,         11,         11,2,20080403,       1151,   -58.8505,   139.8397,       3863,   503.4,   2.3465,  34.4950,2,  34.4930,2,   177.35,2,  177.02,2,    69.9,2,    2.47,2,   1.0574,2,   0.5148,2,   0.0720,2,  2249.4,2,  2322.4,2,  -0.030,2,  -999.0,9, -999.00,9,   35.01,2,      0.001,2
09AR20080322,       SR03,      27,          1,         10,         10,2,20080403,       1151,   -58.8505,   139.8397,       3863,   600.4,   2.3378,  34.5615,2,  34.5608,2,   174.05,2,  172.84,2,    73.7,2,    2.36,2,   0.6982,2,   0.3647,2,   0.0486,2,  2253.6,2,  2331.4,2,  -0.028,2,  -999.0,9, -999.00,9,   33.86,2,      0.001,2
09AR20080322,       SR03,      27,          1,          9,          9,2,20080403,       1151,   -58.8505,   139.8397,       3863,   701.9,   2.3363,  34.6119,2,  34.6480,4,   174.35,2,  173.57,2,    76.0,3,    2.31,3,-999.0000,9,-999.0000,9,-999.0000,9,  -999.0,9,  -999.0,9,  -0.028,2,  -999.0,9, -999.00,9,   33.08,3,      0.001,2
09AR20080322,       SR03,      27,          1,          8,          8,2,20080403,       1151,   -58.8505,   139.8397,       3863,   799.8,   2.2965,  34.6532,2,  34.6529,2,   176.65,2,  176.26,2,    78.5,2,    2.29,2,   0.3584,2,   0.1616,2,   0.0230,2,  2254.3,2,  2340.9,2,  -0.027,2,  -999.0,9, -999.00,9,   33.53,2,      0.001,2
09AR20080322,       SR03,      27,          1,          7,          7,2,20080403,       1151,   -58.8505,   139.8397,       3863,   899.7,   2.2520,  34.6826,2,  34.6838,2,   179.68,2,  179.04,2,    79.9,2,    2.25,2,-999.0000,9,-999.0000,9,-999.0000,9,  -999.0,9,  -999.0,9,  -0.028,2,  -999.0,9, -999.00,9,   32.84,2,      0.001,2
09AR20080322,       SR03,      27,          1,          6,          6,2,20080403,       1151,   -58.8505,   139.8397,       3863,  1001.5,   2.2127,  34.7053,2,  34.7070,2,   183.02,2,  182.60,2,    80.6,2,    2.22,2,   0.2088,2,   0.0870,2,   0.0158,2,  2248.6,2,  2342.7,6,  -0.028,2,  -999.0,9, -999.00,9,   32.29,2,      0.001,2
09AR20080322,       SR03,      27,          1,          5,          5,2,20080403,       1151,   -58.8505,   139.8397,       3863,  1199.8,   2.0638,  34.7298,2,  34.7301,2,   187.49,2,  187.24,2,    84.4,2,    2.17,2,   0.1837,2,   0.0709,2,   0.0148,2,  2250.2,2,  2343.4,2,  -0.028,2,  -999.0,9, -999.00,9,   31.59,2,      0.001,2
09AR20080322,       SR03,      27,          1,          4,          4,2,20080403,       1151,   -58.8505,   139.8397,       3863,  1299.9,   2.0149,  34.7394,2,  34.7398,2,   190.48,2,  190.59,2,    85.3,2,    2.14,2,   0.1567,2,   0.0662,2,   0.0107,2,  2248.9,2,  2344.7,2,  -0.031,2,  -999.0,9, -999.00,9,   31.13,2,      0.001,2
09AR20080322,       SR03,      27,          1,          3,          3,2,20080403,       1151,   -58.8505,   139.8397,       3863,  1500.2,   1.8589,  34.7473,2,  34.7492,2,   194.35,2,  194.32,2,    88.5,2,    2.12,2,   0.1423,2,   0.0486,2,   0.0128,2,  2249.4,6,  2349.3,2,  -0.029,2,  -999.0,9, -999.00,9,   30.51,2,      0.001,2
09AR20080322,       SR03,      27,          1,          2,          2,2,20080403,       1151,   -58.8505,   139.8397,       3863,  1699.6,   1.6850,  34.7472,2,  34.7469,2,   197.37,2,  197.44,2,    93.5,2,    2.12,2,   0.1227,2,   0.0384,2,   0.0116,2,  2249.4,2,  2350.6,2,  -0.030,2,  -999.0,9, -999.00,9,   30.43,2,      0.001,2
09AR20080322,       SR03,      27,          1,          1,          1,2,20080403,       1151,   -58.8505,   139.8397,       3863,  2000.4,   1.4363,  34.7402,2,  34.7398,2,   200.86,2,  200.61,2,   100.9,2,    2.13,2,-999.0000,9,-999.0000,9,-999.0000,9,  -999.0,9,  -999.0,9,  -0.031,2,  -999.0,9, -999.00,9,   30.50,2,      0.001,2
09AR20080322,       SR03,      28,          1,         24,         24,2,20080403,       1837,   -58.3493,   139.8538,       3898,     3.4,   4.2449,  33.7436,2,  33.7433,2,  -999.00,5,  308.64,2,     2.2,2,    1.64,2,   4.8240,2,   2.6186,2,   0.4164,2,  2128.6,6,  2272.3,2,   0.650,2,    45.9,2,   29.66,2,   24.52,2,      1.295,2
09AR20080322,       SR03,      28,          1,         23,         23,2,20080403,       1837,   -58.3493,   139.8538,       3898,    29.9,   4.2585,  33.7437,2,-999.0000,9,   308.18,2, -999.00,9,  -999.0,9, -999.00,9,-999.0000,9,-999.0000,9,-999.0000,9,  -999.0,9,  -999.0,9,   0.661,2,  -999.0,9, -999.00,9, -999.00,9,      0.554,2
09AR20080322,       SR03,      28,          1,         22,         22,2,20080403,       1837,   -58.3493,   139.8538,       3898,    30.0,   4.2569,  33.7437,2,-999.0000,9,   308.18,2, -999.00,9,  -999.0,9, -999.00,9,-999.0000,9,-999.0000,9,-999.0000,9,  -999.0,9,  -999.0,9,   0.659,2,  -999.0,9, -999.00,9, -999.00,9,      0.558,2
09AR20080322,       SR03,      28,          1,         21,         21,2,20080403,       1837,   -58.3493,   139.8538,       3898,    29.9,   4.2568,  33.7436,2,  33.7435,2,   308.18,2,  308.48,2,     2.2,2,    1.64,2,   4.8723,2,   2.6170,2,   0.4562,2,  2129.3,2,  2271.7,2,   0.698,2,    45.1,2,   28.61,2,   24.51,2,      0.574,2
09AR20080322,       SR03,      28,          1,         20,         20,2,20080403,       1837,   -58.3493,   139.8538,       3898,    68.8,   4.1906,  33.7438,2,  33.7464,2,   308.06,2,  309.20,2,     2.6,2,    1.65,2,   4.9023,2,   2.6329,2,   0.4606,2,  2130.5,2,  2272.0,2,   0.709,2,    44.0,2,   28.51,2,   24.34,2,      0.025,2
09AR20080322,       SR03,      28,          1,         19,         19,2,20080403,       1837,   -58.3493,   139.8538,       3898,   112.1,   2.2006,  33.8264,2,  33.8261,2,   312.94,2,  316.39,2,    12.7,2,    1.88,2,   5.4366,2,   2.8626,2,   0.4755,2,  2150.1,2,  2273.7,2,   0.832,2,    42.1,2,   29.82,2,   26.26,2,      0.001,2
09AR20080322,       SR03,      28,          1,         18,         18,2,20080403,       1837,   -58.3493,   139.8538,       3898,   149.2,   2.1627,  33.9908,2,  33.9892,2,   290.73,2,  288.35,2,    24.2,2,    2.03,2,   5.0377,2,   2.6184,2,   0.4381,2,  2174.7,2,  2281.1,2,   0.035,2,    41.6,2,   32.62,2,   30.20,2,      0.001,2
09AR20080322,       SR03,      28,          1,         17,         17,2,20080403,       1837,   -58.3493,   139.8538,       3898,   198.9,   2.1601,  34.0939,2,  34.0933,2,   268.50,2,  266.68,2,    33.1,2,    2.12,2,   4.3473,2,   2.2646,2,   0.3465,2,  2190.3,2,  2288.4,2,  -0.030,2,    40.3,2,   32.86,2,   31.51,2,      0.001,2
09AR20080322,       SR03,      28,          1,         16,         16,2,20080403,       1837,   -58.3493,   139.8538,       3898,   301.5,   2.2919,  34.2280,2,  34.2262,2,   226.39,2,  228.61,2,    45.4,2, -999.00,9,   3.1257,2,   1.5719,2,   0.2418,2,  2213.2,2,  2298.9,6,  -0.036,2,    40.1,2,   34.27,2,   33.34,2,      0.001,2
09AR20080322,       SR03,      28,          1,         15,         15,2,20080403,       1837,   -58.3493,   139.8538,       3898,   401.9,   2.3829,  34.3336,2,  34.3331,2,   201.62,2,  202.17,2,    55.3,2,    2.35,2,   2.1651,2,   1.0750,2,   0.1611,2,  2231.4,2,  2308.8,2,  -0.033,2,    39.6,2,   35.58,2,   34.67,2,      0.001,2
09AR20080322,       SR03,      28,          1,         14,         14,2,20080403,       1837,   -58.3493,   139.8538,       3898,   498.7,   2.4401,  34.4266,2,  34.4265,2,   185.09,2,  185.20,2,    63.6,2,    2.39,2,   1.4444,2,   0.7058,2,   0.0980,2,  2243.4,2,  2319.9,2,  -0.032,2,    39.2,2,   36.13,2,   34.87,2,      0.001,2
09AR20080322,       SR03,      28,          1,         13,         13,2,20080403,       1837,   -58.3493,   139.8538,       3898,   698.8,   2.4241,  34.5526,2,  34.5519,2,   173.83,2,  174.11,2,    72.5,2,    2.36,2,   0.7290,2,   0.3489,2,   0.0512,2,  2254.6,6,  2330.6,2,  -0.027,2,    39.5,2,   36.02,2,   34.25,2,      0.001,2
09AR20080322,       SR03,      28,          1,         12,         12,2,20080403,       1837,   -58.3493,   139.8538,       3898,   898.8,   2.3437,  34.6378,2,  34.6370,2,   174.90,2,  174.87,2,    76.9,2,    2.29,2,   0.3899,2,   0.1825,2,   0.0302,2,  2254.0,2,  2336.5,6,  -0.029,2,    39.6,2,   34.40,2,   33.46,2,      0.001,2
09AR20080322,       SR03,      28,          1,         11,         11,2,20080403,       1837,   -58.3493,   139.8538,       3898,  1098.0,   2.2433,  34.6930,2,  34.6924,2,   179.91,2,  180.68,2,    79.8,2,    2.23,2,   0.2560,2,   0.0985,2,   0.0170,2,  2252.7,2,  2340.3,2,  -0.029,2,    39.8,2,   33.49,2,   32.23,2,      0.001,2
09AR20080322,       SR03,      28,          1,         10,         10,2,20080403,       1837,   -58.3493,   139.8538,       3898,  1400.3,   2.0442,  34.7372,2,  34.7372,2,   188.87,2,  189.54,2,    84.4,2,    2.15,2,   0.1664,2,   0.0684,2,   0.0111,2,  2249.0,2,  2345.0,2,  -0.029,2,    39.4,2,   32.23,2,   31.16,2,      0.001,2
09AR20080322,       SR03,      28,          1,          9,          9,2,20080403,       1837,   -58.3493,   139.8538,       3898,  1700.1,   1.8183,  34.7483,2,  34.7477,2,   195.09,2,  195.62,2,    90.3,2,    2.14,2,   0.1295,2,   0.0308,2,   0.0104,2,  2251.2,2,  2349.1,2,  -0.030,2,    39.4,2,   32.27,2,   30.69,2,      0.001,2
09AR20080322,       SR03,      28,          1,          8,          8,2,20080403,       1837,   -58.3493,   139.8538,       3898,  1999.6,   1.5644,  34.7445,2,  34.7441,2,   199.17,2,  199.36,2,    98.2,2,    2.16,2,   0.1083,2,   0.0484,2,   0.0048,2,  2253.2,2,  2353.9,2,  -0.032,2,    39.5,2,   32.65,2,   30.77,2,      0.001,2
09AR20080322,       SR03,      28,          1,          7,          7,2,20080403,       1837,   -58.3493,   139.8538,       3898,  2299.7,   1.2908,  34.7332,2,  34.7325,2,   202.40,2,  202.18,2,   106.2,2,    2.21,2,   0.1335,2,   0.0466,2,   0.0093,2,  2259.3,2,  2357.4,2,  -0.031,2,    39.0,2,   32.32,2,   31.31,2,      0.001,2
09AR20080322,       SR03,      28,          1,          6,          6,2,20080403,       1837,   -58.3493,   139.8538,       3898,  2600.3,   1.0476,  34.7211,2,  34.7188,2,   205.41,2,  205.43,2,   114.6,2,    2.25,2,   0.1544,2,   0.0638,2,   0.0106,2,  2258.1,2,  2357.0,6,  -0.034,2,    39.5,2,   32.89,2,   31.62,2,      0.001,2
09AR20080322,       SR03,      28,          1,          5,          5,2,20080403,       1837,   -58.3493,   139.8538,       3898,  2899.2,   0.8006,  34.7084,2,  34.7074,2,   208.88,2,  208.99,2,   121.8,2,    2.30,2,   0.2005,2,   0.0685,2,   0.0105,2,  2261.8,2,  2359.0,2,  -0.033,2,    40.0,2,   33.03,2,   32.09,2,      0.001,2
09AR20080322,       SR03,      28,          1,          4,          4,2,20080403,       1837,   -58.3493,   139.8538,       3898,  3199.3,   0.5956,  34.6982,2,  34.6989,2,   213.00,2,  212.64,2,   126.4,2,    2.29,2,   0.2786,2,   0.1245,2,   0.0139,2,  2261.3,2,  2357.0,2,  -0.036,2,    39.6,2,   33.58,2,   32.32,2,      0.001,2
09AR20080322,       SR03,      28,          1,          3,          3,2,20080403,       1837,   -58.3493,   139.8538,       3898,  3600.3,   0.3830,  34.6894,2,  34.6885,2,   218.62,2,  218.20,2,   134.1,2,    2.32,2,   0.4213,6,   0.1787,6,   0.0200,6,  2262.3,2,  2358.5,2,  -0.039,2,    39.2,2,   33.78,2,   32.40,2,      0.001,2
09AR20080322,       SR03,      28,          1,          2,          2,2,20080403,       1837,   -58.3493,   139.8538,       3898,  3978.6,   0.2293,  34.6822,2,  34.6808,2,   223.35,2,  222.89,2,   139.6,2,    2.32,2,   0.6214,2,   0.3079,2,   0.0285,2,  2262.5,6,  2360.0,2,  -0.041,2,    40.2,2,   34.18,2,   32.48,2,      0.001,2
09AR20080322,       SR03,      28,          1,          1,          1,2,20080403,       1837,   -58.3493,   139.8538,       3898,  4032.0,   0.2118,  34.6812,2,  34.6816,2,   224.09,2,  223.89,2,   140.1,2,    2.33,2,   0.6514,2,   0.2831,2,   0.0300,2,  2263.0,2,  2358.8,6,  -0.038,2,    40.8,2,   33.42,2,   32.41,2,      0.001,2