BOTTLE,20141029CCHSIOCBG
EXPOCODE,SECT_ID,STNNBR,CASTNO,SAMPNO,BTLNBR,BTLNBR_FLAG_W,DATE,TIME,LATITUDE,LONGITUDE,DEPTH,CTDPRS,CTDTMP,CTDSAL,CTDSAL_FLAG_W,SALNTY,SALNTY_FLAG_W,CTDOXY,CTDOXY_FLAG_W,OXYGEN,OXYGEN_FLAG_W,SILCAT,SILCAT_FLAG_W,PHSPHT,PHSPHT_FLAG_W,CFC-11,CFC-11_FLAG_W,CFC-12,CFC-12_FLAG_W,CFC113,CFC113_FLAG_W,TCARBN,TCARBN_FLAG_W,ALKALI,ALKALI_FLAG_W,FLUOR,FLUOR_FLAG_W,DOC,DOC_FLAG_W,TDN,TDN_FLAG_W,NO2+NO3,NO2+NO3_FLAG_W,PAR,PAR_FLAG_W
,,,,,,,,,,,METERS,DBAR,ITS-90,PSS-78,,PSS-78,,UMOL/KG,,UMOL/KG,,UMOL/KG,,UMOL/KG,,PMOL/KG,,PMOL/KG,,PMOL/KG,,UMOL/KG,,UMOL/KG,,MG/M^3,,UMOL/KG,,UMOL/KG,,UMOL/KG,,VOLTS,
09AR20080322,       SR03,      63,          1,         24,         24,2,20080413,       0940,   -47.1478,   144.9058,       4740,     8.2,  10.4088,  34.4705,2,  34.4699,2,   274.00,2,  272.71,2,     1.3,2,    0.85,2,   3.3686,2,   1.9989,2,   0.2784,3,  2088.6,6,  2286.8,2,   0.749,2,  -999.0,9, -999.00,9,   10.77,2,      0.001,2
09AR20080322,       SR03,      63,          1,         23,         23,2,20080413,       0940,   -47.1478,   144.9058,       4740,    39.4,  10.4163,  34.4710,2,-999.0000,9,   273.40,2, -999.00,9,  -999.0,9, -999.00,9,-999.0000,9,-999.0000,9,-999.0000,9,  -999.0,9,  -999.0,9,   0.723,2,  -999.0,9, -999.00,9, -999.00,9,      0.001,2
09AR20080322,       SR03,      63,          1,         22,         22,2,20080413,       0940,   -47.1478,   144.9058,       4740,    39.3,  10.4157,  34.4710,2,-999.0000,9,   273.40,2, -999.00,9,  -999.0,9, -999.00,9,-999.0000,9,-999.0000,9,-999.0000,9,  -999.0,9,  -999.0,9,   0.705,2,  -999.0,9, -999.00,9, -999.00,9,      0.001,2
09AR20080322,       SR03,      63,          1,         21,         21,2,20080413,       0940,   -47.1478,   144.9058,       4740,    39.4,  10.4159,  34.4708,2,  34.4703,2,   273.40,2,  272.75,2,     1.3,2,    0.84,2,-999.0000,9,-999.0000,9,-999.0000,9,  -999.0,9,  -999.0,9,   0.716,2,  -999.0,9, -999.00,9,   10.42,2,      0.001,2
09AR20080322,       SR03,      63,          1,         20,         20,2,20080413,       0940,   -47.1478,   144.9058,       4740,    79.9,  10.2615,  34.4547,2,  34.4548,2,   271.20,2,  271.66,2,     1.3,2,    0.87,2,   3.3653,2,   1.9870,2,   0.2960,3,  2094.3,2,  2287.4,6,   0.403,2,  -999.0,9, -999.00,9,   10.81,2,      0.001,2
09AR20080322,       SR03,      63,          1,         19,         19,2,20080413,       0940,   -47.1478,   144.9058,       4740,   150.2,   9.3971,  34.6170,2,  34.6180,2,   263.71,2,  261.49,2,     3.5,2,    1.00,2,   3.5332,2,   2.0357,2,   0.2870,3,  2110.5,2,  2289.7,2,   0.009,2,  -999.0,9, -999.00,9,   13.72,2,      0.001,2
09AR20080322,       SR03,      63,          1,         18,         18,2,20080413,       0940,   -47.1478,   144.9058,       4740,   301.9,   9.0350,  34.5867,2,  34.5875,2,   263.81,2,  264.66,2,     4.2,2,    1.03,2,   3.5915,2,   2.0610,2,   0.2837,3,  2113.4,2,  2287.7,2,  -0.041,2,  -999.0,9, -999.00,9,   14.65,2,      0.001,2
09AR20080322,       SR03,      63,          1,         17,         17,2,20080413,       0940,   -47.1478,   144.9058,       4740,   500.6,   8.7963,  34.5936,2,  34.5940,2,   254.00,2,  254.38,2,     5.1,2,    1.14,2,   3.6181,2,   2.0332,2,   0.2406,3,  2123.4,2,  2288.1,2,  -0.047,2,  -999.0,9, -999.00,9,   16.86,2,      0.001,2
09AR20080322,       SR03,      63,          1,         16,         16,2,20080413,       0940,   -47.1478,   144.9058,       4740,   702.1,   7.8583,  34.4938,2,  34.4942,2,   226.02,2,  225.97,2,    10.0,2,    1.44,2,   3.1121,2,   1.6754,2,   0.1703,3,  2145.4,2,  2285.3,2,  -0.044,2,  -999.0,9, -999.00,9,   21.76,2,      0.001,2
09AR20080322,       SR03,      63,          1,         15,         15,2,20080413,       0940,   -47.1478,   144.9058,       4740,   898.6,   6.0140,  34.3833,2,  34.3837,2,   206.71,2,  207.15,2,    20.5,2,    1.84,2,   2.3989,2,   1.2370,2,   0.1413,3,  2173.1,2,  2286.9,2,  -0.039,2,  -999.0,9, -999.00,9,   27.78,2,      0.001,2
09AR20080322,       SR03,      63,          1,         14,         14,2,20080413,       0940,   -47.1478,   144.9058,       4740,  1099.7,   4.3769,  34.3338,2,  34.3341,2,   206.50,2,  205.73,2,    33.1,2,    2.08,2,   2.0207,2,   1.0230,2,   0.1196,3,  2195.0,2,  2295.1,2,  -0.039,2,  -999.0,9, -999.00,9,   30.80,2,      0.001,2
09AR20080322,       SR03,      63,          1,         13,         13,2,20080413,       0940,   -47.1478,   144.9058,       4740,  1299.4,   3.6694,  34.4092,2,  34.4100,2,   183.72,2,  184.53,2,    51.3,2,    2.26,2,-999.0000,9,-999.0000,9,-999.0000,9,  -999.0,9,  -999.0,9,  -0.032,2,  -999.0,9, -999.00,9,   32.90,2,      0.001,2
09AR20080322,       SR03,      63,          1,         12,         12,2,20080413,       0940,   -47.1478,   144.9058,       4740,  1500.6,   2.9406,  34.4677,2,  34.4681,2,   176.81,2,  177.95,2,    61.4,2,    2.35,2,   0.8380,2,   0.4079,2,   0.0619,3,  2238.9,6,  2321.3,2,  -0.029,2,  -999.0,9, -999.00,9,   34.56,2,      0.001,2
09AR20080322,       SR03,      63,          1,         11,         11,2,20080413,       0940,   -47.1478,   144.9058,       4740,  1700.1,   2.6796,  34.5734,2,  34.5734,2,   170.30,2,  170.28,2,    72.5,2,    2.33,2,   0.3687,2,   0.1841,2,   0.0282,3,  2250.8,2,  2334.1,6,  -0.027,2,  -999.0,9, -999.00,9,   33.36,3,      0.001,2
09AR20080322,       SR03,      63,          1,         10,         10,2,20080413,       0940,   -47.1478,   144.9058,       4740,  1899.0,   2.5325,  34.6341,2,  34.6331,2,   170.14,2,  170.27,2,    79.3,2,    2.31,2,   0.1960,2,   0.1005,2,   0.0165,3,  2253.3,2,  2340.2,2,  -0.028,2,  -999.0,9, -999.00,9,   33.77,2,      0.001,2
09AR20080322,       SR03,      63,          1,          9,          9,2,20080413,       0940,   -47.1478,   144.9058,       4740,  2200.5,   2.3395,  34.7041,2,  34.7028,2,   175.49,2,  174.74,2,    85.8,2,    2.25,2,   0.0717,2,   0.0362,2,   0.0121,3,  2315.1,3,  2349.7,2,  -0.027,2,  -999.0,9, -999.00,9,   32.51,2,      0.001,2
09AR20080322,       SR03,      63,          1,          8,          8,2,20080413,       0940,   -47.1478,   144.9058,       4740,  2500.7,   2.1494,  34.7328,2,  34.7321,2,   179.59,2,  179.63,2,    92.9,2,    2.22,2,-999.0000,9,-999.0000,9,-999.0000,9,  -999.0,9,  -999.0,9,  -0.028,2,  -999.0,9, -999.00,9,   31.76,2,      0.001,2
09AR20080322,       SR03,      63,          1,          7,          7,2,20080413,       0940,   -47.1478,   144.9058,       4740,  2800.3,   1.9289,  34.7415,2,  34.7400,2,   185.47,2,  185.85,2,    97.9,2,    2.21,2,   0.0246,2,   0.0112,2,   0.0090,3,  2260.3,2,  2361.8,2,  -0.028,2,  -999.0,9, -999.00,9,   31.32,2,      0.001,2
09AR20080322,       SR03,      63,          1,          6,          6,2,20080413,       0940,   -47.1478,   144.9058,       4740,  3102.9,   1.6940,  34.7399,2,  34.7392,2,   189.77,2,  190.88,2,   103.8,2,    2.21,2,   0.0281,2,   0.0143,2,   0.0000,3,  2264.0,2,  2364.1,2,  -0.032,2,  -999.0,9, -999.00,9,   31.17,2,      0.001,2
09AR20080322,       SR03,      63,          1,          5,          5,2,20080413,       0940,   -47.1478,   144.9058,       4740,  3403.9,   1.4671,  34.7335,2,  34.7329,2,   195.53,2,  194.97,2,   109.6,2,    2.23,2,   0.0194,2,   0.0087,2,   0.0079,3,  2261.0,2,  2367.4,6,  -0.032,2,  -999.0,9, -999.00,9,   31.11,2,      0.001,2
09AR20080322,       SR03,      63,          1,          4,          4,2,20080413,       0940,   -47.1478,   144.9058,       4740,  3697.7,   1.2684,  34.7255,2,  34.7231,2,   197.41,2,  197.79,2,   116.4,2,    2.25,2,   0.0166,2,   0.0090,2,   0.0000,3,  2270.9,2,  2371.4,2,  -0.034,2,  -999.0,9, -999.00,9,   31.64,2,      0.001,2
09AR20080322,       SR03,      63,          1,          3,          3,2,20080413,       0940,   -47.1478,   144.9058,       4740,  4100.7,   1.0645,  34.7158,2,  34.7146,2,   200.15,2,  200.52,2,   123.6,2,    2.29,2,   0.0100,2,   0.0053,2,   0.0093,3,  2271.1,2,  2373.9,2,  -0.034,2,  -999.0,9, -999.00,9,   33.25,2,      0.001,2
09AR20080322,       SR03,      63,          1,          2,          2,2,20080413,       0940,   -47.1478,   144.9058,       4740,  4497.7,   1.0392,  34.7130,2,  34.7121,2,   200.72,2,  201.22,2,   125.6,2,    2.31,2,   0.0105,2,   0.0156,2,   0.0000,3,  2270.5,2,  2376.2,6,  -0.032,2,  -999.0,9, -999.00,9,   33.16,2,      0.001,2
09AR20080322,       SR03,      63,          1,          1,          1,2,20080413,       0940,   -47.1478,   144.9058,       4740,  4890.8,   1.0669,  34.7119,2,  34.7109,2,   200.77,2,  201.35,2,   125.6,2,    2.31,2,   0.0123,2,   0.0069,2,   0.0093,3,  2270.6,6,  2377.4,2,  -0.033,2,  -999.0,9, -999.00,9,   33.25,2,      0.001,2
09AR20080322,       SR03,      64,          1,         24,         24,2,20080413,       1613,   -46.6487,   145.2517,       3287,     9.7,  11.3351,  34.6042,2,  34.6034,2,   263.93,2,  265.55,2,     1.4,2,    0.73,2,-999.0000,9,-999.0000,9,-999.0000,9,  -999.0,9,  -999.0,9,   0.581,2,  -999.0,9, -999.00,9,    8.53,2,      0.001,2
09AR20080322,       SR03,      64,          1,         23,         23,2,20080413,       1613,   -46.6487,   145.2517,       3287,    24.3,  11.3347,  34.6041,2,-999.0000,9,   263.61,2, -999.00,9,  -999.0,9, -999.00,9,-999.0000,9,-999.0000,9,-999.0000,9,  -999.0,9,  -999.0,9,   0.589,2,  -999.0,9, -999.00,9, -999.00,9,      0.001,2
09AR20080322,       SR03,      64,          1,         22,         22,2,20080413,       1613,   -46.6487,   145.2517,       3287,    24.3,  11.3357,  34.6043,2,-999.0000,9,   263.61,2, -999.00,9,  -999.0,9, -999.00,9,-999.0000,9,-999.0000,9,-999.0000,9,  -999.0,9,  -999.0,9,   0.599,2,  -999.0,9, -999.00,9, -999.00,9,      0.001,2
09AR20080322,       SR03,      64,          1,         21,         21,2,20080413,       1613,   -46.6487,   145.2517,       3287,    24.2,  11.3375,  34.6046,2,  34.6030,2,   263.61,2,  268.90,2,     1.4,2,    0.73,2,-999.0000,9,-999.0000,9,-999.0000,9,  -999.0,9,  -999.0,9,   0.571,2,  -999.0,9, -999.00,9,    8.45,2,      0.001,2
09AR20080322,       SR03,      64,          1,         20,         20,2,20080413,       1613,   -46.6487,   145.2517,       3287,    49.2,  11.2831,  34.5936,2,  34.5979,2,   263.63,2,  265.50,2,     1.4,2,    0.73,2,-999.0000,9,-999.0000,9,-999.0000,9,  -999.0,9,  -999.0,9,   0.560,2,  -999.0,9, -999.00,9,    8.55,2,      0.001,2
09AR20080322,       SR03,      64,          1,         19,         19,2,20080413,       1613,   -46.6487,   145.2517,       3287,    73.8,  10.8436,  34.5140,2,  34.5168,2,   264.71,2,  268.10,2,     1.4,2,    0.82,2,-999.0000,9,-999.0000,9,-999.0000,9,  -999.0,9,  -999.0,9,   0.398,2,  -999.0,9, -999.00,9,    9.69,2,      0.001,2
09AR20080322,       SR03,      64,          1,         18,         18,2,20080413,       1613,   -46.6487,   145.2517,       3287,   150.1,  11.0684,  34.8485,2,  34.4455,4,   251.06,2,  241.12,2,     3.3,2,    0.91,2,-999.0000,9,-999.0000,9,-999.0000,9,  -999.0,9,  -999.0,9,   0.005,2,  -999.0,9, -999.00,9,   12.35,2,      0.001,2
09AR20080322,       SR03,      64,          1,         17,         17,2,20080413,       1613,   -46.6487,   145.2517,       3287,   500.2,   8.6377,  34.5718,2,  34.5730,2,   258.58,3,  246.51,2,     6.0,2,    1.21,2,-999.0000,9,-999.0000,9,-999.0000,9,  -999.0,9,  -999.0,9,  -0.044,2,  -999.0,9, -999.00,9,   17.71,2,      0.001,2
09AR20080322,       SR03,      64,          1,         16,         16,2,20080413,       1613,   -46.6487,   145.2517,       3287,  1000.5,   4.4547,  34.3203,2,-999.0000,9,   232.99,3,  234.17,2,    31.2,2,    2.06,2,-999.0000,9,-999.0000,9,-999.0000,9,  2193.3,6,  2295.2,2,  -0.036,2,  -999.0,9, -999.00,9,   30.72,2,      0.001,2
09AR20080322,       SR03,      64,          1,         15,         15,2,20080413,       1613,   -46.6487,   145.2517,       3287,  1008.0,   4.3886,  34.3224,2,-999.0000,9,   232.80,3, -999.00,9,  -999.0,9, -999.00,9,-999.0000,9,-999.0000,9,-999.0000,9,  -999.0,9,  -999.0,9,  -0.041,2,  -999.0,9, -999.00,9, -999.00,9,      0.001,2
09AR20080322,       SR03,      64,          1,         14,         14,2,20080413,       1613,   -46.6487,   145.2517,       3287,  1507.1,   2.7841,  34.5018,2,-999.0000,9,   185.29,3, -999.00,9,  -999.0,9, -999.00,9,-999.0000,9,-999.0000,9,-999.0000,9,  -999.0,9,  -999.0,9,  -0.029,2,  -999.0,9, -999.00,9, -999.00,9,      0.001,2
09AR20080322,       SR03,      64,          1,         13,         13,2,20080413,       1613,   -46.6487,   145.2517,       3287,  1800.2,   2.5382,  34.6285,2,  34.6282,2,   172.65,2,  171.83,2,    78.7,2,    2.32,2,   0.2361,2,   0.1179,2,   0.0197,2,  2253.8,2,  2337.9,6,  -0.026,2,  -999.0,9, -999.00,9,   33.70,2,      0.001,2
09AR20080322,       SR03,      64,          1,         12,         12,2,20080413,       1613,   -46.6487,   145.2517,       3287,  1999.3,   2.4057,  34.6744,2,  34.6745,2,   174.78,2,  174.48,2,    82.3,2,    2.28,2,   0.1316,6,   0.0657,6,   0.0111,2,  2257.1,2,  2349.1,2,  -0.026,2,  -999.0,9, -999.00,9,   32.36,2,      0.001,2
09AR20080322,       SR03,      64,          1,         11,         11,2,20080413,       1613,   -46.6487,   145.2517,       3287,  2008.1,   2.3974,  34.6772,2,-999.0000,9,   175.12,2, -999.00,9,  -999.0,9, -999.00,9,-999.0000,9,-999.0000,9,-999.0000,9,  -999.0,9,  -999.0,9,  -0.025,2,  -999.0,9, -999.00,9, -999.00,9,      0.001,2
09AR20080322,       SR03,      64,          1,         10,         10,2,20080413,       1613,   -46.6487,   145.2517,       3287,  2199.2,   2.2777,  34.7098,2,  34.7093,2,   178.65,2,  178.25,2,    86.0,2,    2.23,2,   0.0872,2,   0.0438,2,   0.0069,2,  2256.2,2,  2350.7,2,  -0.029,2,  -999.0,9, -999.00,9,   31.54,2,      0.001,2
09AR20080322,       SR03,      64,          1,          9,          9,2,20080413,       1613,   -46.6487,   145.2517,       3287,  2400.7,   2.1099,  34.7315,2,  34.7311,2,   181.32,2,  181.81,2,    92.3,2,    2.23,2,   0.0432,2,   0.0208,2,   0.0138,2,  2261.5,2,  2359.2,2,  -0.029,2,  -999.0,9, -999.00,9,   31.09,2,      0.001,2
09AR20080322,       SR03,      64,          1,          8,          8,2,20080413,       1613,   -46.6487,   145.2517,       3287,  2400.3,   2.1103,  34.7314,2,-999.0000,9,   181.32,2, -999.00,9,  -999.0,9, -999.00,9,-999.0000,9,-999.0000,9,-999.0000,9,  -999.0,9,  -999.0,9,  -0.027,2,  -999.0,9, -999.00,9, -999.00,9,      0.001,2
09AR20080322,       SR03,      64,          1,          7,          7,2,20080413,       1613,   -46.6487,   145.2517,       3287,  2598.9,   1.9499,  34.7380,2,-999.0000,9,   183.82,2,  183.63,2,    97.3,2,    2.21,2,   0.0279,2,   0.0136,2,   0.0099,2,  2263.3,2,  2363.0,2,  -0.030,2,  -999.0,9, -999.00,9,   30.80,2,      0.001,2
09AR20080322,       SR03,      64,          1,          6,          6,2,20080413,       1613,   -46.6487,   145.2517,       3287,  2799.0,   1.8078,  34.7380,2,  34.7380,2,   186.08,2,  185.37,2,   102.8,2,    2.24,2,   0.0150,2,   0.0061,2,   0.0000,2,  2268.1,2,  -999.0,9,  -0.033,2,  -999.0,9, -999.00,9,   30.87,2,      0.001,2
09AR20080322,       SR03,      64,          1,          5,          5,2,20080413,       1613,   -46.6487,   145.2517,       3287,  2999.6,   1.6395,  34.7360,2,  34.7351,2,   188.94,2,  189.14,2,   108.7,2,    2.25,2,   0.0000,2,   0.0000,2,   0.0107,2,  2267.1,2,  2368.7,2,  -0.032,2,  -999.0,9, -999.00,9, -999.00,9,      0.001,2
09AR20080322,       SR03,      64,          1,          4,          4,2,20080413,       1613,   -46.6487,   145.2517,       3287,  2999.4,   1.6398,  34.7360,2,-999.0000,9,   188.94,2, -999.00,9,  -999.0,9, -999.00,9,-999.0000,9,-999.0000,9,-999.0000,9,  -999.0,9,  -999.0,9,  -0.029,2,  -999.0,9, -999.00,9, -999.00,9,      0.001,2
09AR20080322,       SR03,      64,          1,          3,          3,2,20080413,       1613,   -46.6487,   145.2517,       3287,  3200.4,   1.4853,  34.7324,2,  34.7317,2,   191.80,2,  191.57,2,   113.8,2,    2.32,2,   0.0047,2,   0.0006,2,   0.0109,2,  2268.4,6,  2370.1,2,  -0.032,2,  -999.0,9, -999.00,9,   33.02,2,      0.001,2
09AR20080322,       SR03,      64,          1,          2,          2,2,20080413,       1613,   -46.6487,   145.2517,       3287,  3381.9,   1.4193,  34.7302,2,  34.7296,2,   193.21,2,  193.10,2,   116.0,2,    2.27,2,   0.0024,2,   0.0015,2,   0.0096,2,  2269.5,2,  2373.1,6,  -0.031,2,  -999.0,9, -999.00,9,   32.82,2,      0.001,2
09AR20080322,       SR03,      64,          1,          1,          1,2,20080413,       1613,   -46.6487,   145.2517,       3287,  3382.0,   1.4188,  34.7302,2,-999.0000,9,   193.21,2, -999.00,9,  -999.0,9, -999.00,9,-999.0000,9,-999.0000,9,-999.0000,9,  -999.0,9,  -999.0,9,  -0.028,2,  -999.0,9, -999.00,9, -999.00,9,      0.001,2