BOTTLE,20141029CCHSIOCBG
EXPOCODE,SECT_ID,STNNBR,CASTNO,SAMPNO,BTLNBR,BTLNBR_FLAG_W,DATE,TIME,LATITUDE,LONGITUDE,DEPTH,CTDPRS,CTDTMP,CTDSAL,CTDSAL_FLAG_W,SALNTY,SALNTY_FLAG_W,CTDOXY,CTDOXY_FLAG_W,OXYGEN,OXYGEN_FLAG_W,SILCAT,SILCAT_FLAG_W,PHSPHT,PHSPHT_FLAG_W,CFC-11,CFC-11_FLAG_W,CFC-12,CFC-12_FLAG_W,CFC113,CFC113_FLAG_W,TCARBN,TCARBN_FLAG_W,ALKALI,ALKALI_FLAG_W,FLUOR,FLUOR_FLAG_W,DOC,DOC_FLAG_W,TDN,TDN_FLAG_W,NO2+NO3,NO2+NO3_FLAG_W,PAR,PAR_FLAG_W
,,,,,,,,,,,METERS,DBAR,ITS-90,PSS-78,,PSS-78,,UMOL/KG,,UMOL/KG,,UMOL/KG,,UMOL/KG,,PMOL/KG,,PMOL/KG,,PMOL/KG,,UMOL/KG,,UMOL/KG,,MG/M^3,,UMOL/KG,,UMOL/KG,,UMOL/KG,,VOLTS,
09AR20080322,       SR03,      71,          1,         24,         24,2,20080415,       0429,   -44.1182,   146.2228,        997,     9.0,  13.5698,  34.9645,2,-999.0000,9,   257.65,2, -999.00,9,  -999.0,9, -999.00,9,-999.0000,9,-999.0000,9,-999.0000,9,  -999.0,9,  2312.2,6,   1.214,2,  -999.0,9, -999.00,9, -999.00,9,      2.633,2
09AR20080322,       SR03,      71,          1,         23,         23,2,20080415,       0429,   -44.1182,   146.2228,        997,     8.9,  13.5713,  34.9643,2,-999.0000,9,  -999.00,5, -999.00,9,  -999.0,9, -999.00,9,-999.0000,9,-999.0000,9,-999.0000,9,  -999.0,9,  -999.0,9,   1.206,2,  -999.0,9, -999.00,9, -999.00,9,      2.649,2
09AR20080322,       SR03,      71,          1,         22,         22,2,20080415,       0429,   -44.1182,   146.2228,        997,     8.8,  13.5696,  34.9643,2,-999.0000,9,  -999.00,5, -999.00,9,  -999.0,9, -999.00,9,-999.0000,9,-999.0000,9,-999.0000,9,  -999.0,9,  -999.0,9,   1.172,2,  -999.0,9, -999.00,9, -999.00,9,      2.660,2
09AR20080322,       SR03,      71,          1,         21,         21,2,20080415,       0429,   -44.1182,   146.2228,        997,     8.9,  13.5608,  34.9644,2,  34.9650,2,  -999.00,5,  254.79,2,     1.1,2,    0.43,2,   2.8320,2,   1.7059,2,   0.2331,2,  2073.3,3,  -999.0,9,   1.155,2,  -999.0,9, -999.00,9,    3.84,2,      2.652,2
09AR20080322,       SR03,      71,          1,         20,         20,2,20080415,       0429,   -44.1182,   146.2228,        997,    30.1,  13.5474,  34.9660,2,-999.0000,9,   255.60,2, -999.00,9,  -999.0,9, -999.00,9,-999.0000,9,-999.0000,9,-999.0000,9,  -999.0,9,  -999.0,9,   1.118,2,  -999.0,9, -999.00,9, -999.00,9,      1.818,2
09AR20080322,       SR03,      71,          1,         19,         19,2,20080415,       0429,   -44.1182,   146.2228,        997,    30.2,  13.5505,  34.9658,2,  34.9673,2,   255.60,2,  254.97,2,     1.1,2,    0.43,2,-999.0000,9,-999.0000,9,-999.0000,9,  -999.0,9,  -999.0,9,   1.245,2,  -999.0,9, -999.00,9,    3.89,2,      1.820,2
09AR20080322,       SR03,      71,          1,         18,         18,2,20080415,       0429,   -44.1182,   146.2228,        997,    49.6,  13.4226,  34.9897,2,-999.0000,9,   252.04,2, -999.00,9,  -999.0,9, -999.00,9,-999.0000,9,-999.0000,9,-999.0000,9,  -999.0,9,  -999.0,9,   0.865,2,  -999.0,9, -999.00,9, -999.00,9,      1.175,2
09AR20080322,       SR03,      71,          1,         17,         17,2,20080415,       0429,   -44.1182,   146.2228,        997,    49.5,  13.4224,  34.9895,2,  34.9882,2,   252.04,2,  251.87,2,     1.1,2,    0.45,2,   2.8555,2,   1.7057,2,   0.2523,2,  2080.0,6,  2313.0,2,   0.912,2,  -999.0,9, -999.00,9,    4.20,2,      1.174,2
09AR20080322,       SR03,      71,          1,         16,         16,2,20080415,       0429,   -44.1182,   146.2228,        997,    80.5,  12.8486,  34.9280,2,-999.0000,9,   248.18,2, -999.00,9,  -999.0,9, -999.00,9,-999.0000,9,-999.0000,9,-999.0000,9,  -999.0,9,  -999.0,9,   0.174,2,  -999.0,9, -999.00,9, -999.00,9,      0.388,2
09AR20080322,       SR03,      71,          1,         15,         15,2,20080415,       0429,   -44.1182,   146.2228,        997,    80.5,  12.8461,  34.9236,2,  34.9140,2,   248.18,2,  245.41,2,     1.5,2,    0.61,2,-999.0000,9,-999.0000,9,-999.0000,9,  2089.3,2,  2307.1,6,   0.179,2,  -999.0,9, -999.00,9,    6.91,2,      0.373,2
09AR20080322,       SR03,      71,          1,         14,         14,2,20080415,       0429,   -44.1182,   146.2228,        997,    99.7,  12.5426,  34.9927,2,-999.0000,9,   238.95,2,  239.47,2,  -999.0,9, -999.00,9,-999.0000,9,-999.0000,9,-999.0000,9,  -999.0,9,  -999.0,9,   0.063,2,  -999.0,9, -999.00,9, -999.00,9,      0.035,2
09AR20080322,       SR03,      71,          1,         13,         13,2,20080415,       0429,   -44.1182,   146.2228,        997,    99.8,  12.5356,  34.9978,2,  34.9986,2,   238.95,2,  239.24,2,     1.9,2,    0.66,2,   2.9589,2,   1.7619,2,   0.2262,2,  2102.2,2,  2309.5,2,   0.083,2,  -999.0,9, -999.00,9,    8.40,2,      0.018,2
09AR20080322,       SR03,      71,          1,         12,         12,2,20080415,       0429,   -44.1182,   146.2228,        997,   150.1,  11.6672,  35.0551,2,  35.0545,2,   242.87,2,  241.45,2,     2.5,2,    0.73,2,   3.0698,2,   1.7983,2,   0.2367,2,  2113.8,2,  2310.7,2,  -0.035,2,  -999.0,9, -999.00,9,    9.75,2,      0.001,2
09AR20080322,       SR03,      71,          1,         11,         11,2,20080415,       0429,   -44.1182,   146.2228,        997,   200.0,  11.3798,  35.0135,2,  35.0138,2,   247.35,2,  246.02,2,     2.7,2,    0.76,2,   3.0895,2,   1.8170,2,   0.2401,2,  2116.5,2,  2309.1,2,  -0.034,2,  -999.0,9, -999.00,9,   10.12,2,      0.001,2
09AR20080322,       SR03,      71,          1,         10,         10,2,20080415,       0429,   -44.1182,   146.2228,        997,   250.9,  10.9692,  34.9380,2,  34.9402,2,   248.04,2,  247.32,2,     3.0,2,    0.82,2,-999.0000,9,-999.0000,9,-999.0000,9,  -999.0,9,  -999.0,9,  -0.039,2,  -999.0,9, -999.00,9,   11.23,2,      0.001,2
09AR20080322,       SR03,      71,          1,          9,          9,2,20080415,       0429,   -44.1182,   146.2228,        997,   300.6,  10.3584,  34.8270,2,  34.9524,4,   249.72,2,  251.93,2,  -999.0,9, -999.00,9,   2.9401,3,   1.7427,3,   0.2457,3,  2091.9,3,  2310.1,2,  -0.038,2,  -999.0,9, -999.00,9, -999.00,9,      0.001,2
09AR20080322,       SR03,      71,          1,          8,          8,2,20080415,       0429,   -44.1182,   146.2228,        997,   375.3,   9.4432,  34.6694,2,  34.6698,2,   254.60,2,  253.40,2,     4.1,2,    1.04,2,-999.0000,9,-999.0000,9,-999.0000,9,  -999.0,9,  -999.0,9,  -0.039,2,  -999.0,9, -999.00,9,   14.86,2,      0.001,2
09AR20080322,       SR03,      71,          1,          7,          7,2,20080415,       0429,   -44.1182,   146.2228,        997,   500.2,   9.2206,  34.6541,2,  34.6539,2,   246.16,2,  246.39,2,     4.9,2,    1.13,2,   3.3387,2,   1.9116,2,   0.2128,2,  2125.4,2,  2292.2,2,  -0.043,2,  -999.0,9, -999.00,9,   16.18,2,      0.001,2
09AR20080322,       SR03,      71,          1,          6,          6,2,20080415,       0429,   -44.1182,   146.2228,        997,   600.2,   8.9508,  34.6239,2,  34.6240,2,   243.72,2,  243.30,2,     5.8,2,    1.19,2,-999.0000,9,-999.0000,9,-999.0000,9,  -999.0,9,  -999.0,9,  -0.045,2,  -999.0,9, -999.00,9,   17.20,2,      0.001,2
09AR20080322,       SR03,      71,          1,          5,          5,2,20080415,       0429,   -44.1182,   146.2228,        997,   699.6,   8.4252,  34.5621,2,  34.5625,2,   234.79,2,  234.67,2,     7.6,2,    1.34,2,   3.1513,2,   1.7521,2,   0.1898,2,  2140.4,2,  2290.8,2,  -0.042,2,  -999.0,9, -999.00,9,   19.98,2,      0.001,2
09AR20080322,       SR03,      71,          1,          4,          4,2,20080415,       0429,   -44.1182,   146.2228,        997,   799.9,   7.5293,  34.4898,2,  34.4907,2,   215.66,2,  212.96,2,    13.0,2,    1.58,2,-999.0000,9,-999.0000,9,-999.0000,9,  -999.0,9,  -999.0,9,  -0.041,2,  -999.0,9, -999.00,9,   23.94,2,      0.001,2
09AR20080322,       SR03,      71,          1,          3,          3,2,20080415,       0429,   -44.1182,   146.2228,        997,   902.0,   6.4172,  34.4495,2,  34.4506,2,   199.03,2,  197.58,2,    22.5,2,    1.83,2,   1.6076,2,   0.8478,2,   0.0774,2,  2188.0,2,  2294.1,6,  -0.036,2,  -999.0,9, -999.00,9,   27.34,2,      0.001,2
09AR20080322,       SR03,      71,          1,          2,          2,2,20080415,       0429,   -44.1182,   146.2228,        997,   984.0,   5.6306,  34.4272,2,  34.4259,2,   194.28,2,  193.40,2,    29.9,2,    1.95,2,-999.0000,9,-999.0000,9,-999.0000,9,  -999.0,9,  -999.0,9,  -0.033,2,  -999.0,9, -999.00,9,   29.11,2,      0.001,2
09AR20080322,       SR03,      71,          1,          1,          1,2,20080415,       0429,   -44.1182,   146.2228,        997,  1037.0,   5.4149,  34.4281,2,  34.4279,2,   192.52,2,  192.74,2,    31.7,2,    1.97,2,   1.3108,2,   0.6712,2,   0.0707,2,  2192.3,6,  2302.9,2,  -0.031,2,  -999.0,9, -999.00,9,   29.80,2,      0.001,2
09AR20080322,       SR03,      72,          1,         24,         24,2,20080415,       0743,   -44.0483,   146.2923,        544,     3.6,  13.9517,  35.0046,2,  35.0022,2,   249.88,2,  252.54,2,     1.0,2,    0.39,2,   2.7788,2,   1.6839,2,   0.2478,2,  2075.7,6,  2311.4,2,   1.117,2,  -999.0,9, -999.00,9,    3.32,2,      0.445,2
09AR20080322,       SR03,      72,          1,         23,         23,2,20080415,       0743,   -44.0483,   146.2923,        544,     3.5,  13.9499,  35.0043,2,-999.0000,9,   249.88,2, -999.00,9,  -999.0,9, -999.00,9,-999.0000,9,-999.0000,9,-999.0000,9,  -999.0,9,  -999.0,9,   1.210,2,  -999.0,9, -999.00,9, -999.00,9,      0.434,2
09AR20080322,       SR03,      72,          1,         22,         22,2,20080415,       0743,   -44.0483,   146.2923,        544,     3.6,  13.9454,  35.0035,2,-999.0000,9,   249.88,2, -999.00,9,  -999.0,9, -999.00,9,-999.0000,9,-999.0000,9,-999.0000,9,  -999.0,9,  -999.0,9,   1.228,2,  -999.0,9, -999.00,9, -999.00,9,      0.441,2
09AR20080322,       SR03,      72,          1,         21,         21,2,20080415,       0743,   -44.0483,   146.2923,        544,     3.4,  13.9415,  35.0028,2,-999.0000,9,   249.88,2, -999.00,9,  -999.0,9, -999.00,9,-999.0000,9,-999.0000,9,-999.0000,9,  -999.0,9,  -999.0,9,   1.246,2,  -999.0,9, -999.00,9, -999.00,9,      0.356,2
09AR20080322,       SR03,      72,          1,         20,         20,2,20080415,       0743,   -44.0483,   146.2923,        544,    29.3,  13.6464,  34.9539,2,  34.9467,2,   249.67,2,  250.67,2,     1.1,2,    0.46,2,-999.0000,9,-999.0000,9,-999.0000,9,  2078.6,2,  2308.1,6,   0.634,2,  -999.0,9, -999.00,9,    4.31,2,      0.001,2
09AR20080322,       SR03,      72,          1,         19,         19,2,20080415,       0743,   -44.0483,   146.2923,        544,    33.1,  13.4557,  34.9282,2,-999.0000,9,   248.46,2, -999.00,9,  -999.0,9, -999.00,9,-999.0000,9,-999.0000,9,-999.0000,9,  -999.0,9,  -999.0,9,   0.445,2,  -999.0,9, -999.00,9, -999.00,9,      0.001,2
09AR20080322,       SR03,      72,          1,         18,         18,2,20080415,       0743,   -44.0483,   146.2923,        544,    39.0,  13.4157,  34.9199,2,  34.9239,2,   248.03,2, -999.00,9,     1.1,2,    0.50,2,-999.0000,9,-999.0000,9,-999.0000,9,  2080.9,2,  2308.3,2,   0.503,2,  -999.0,9, -999.00,9,    4.75,2,      0.001,2
09AR20080322,       SR03,      72,          1,         17,         17,2,20080415,       0743,   -44.0483,   146.2923,        544,    59.3,  12.9431,  34.9144,2,-999.0000,9,   246.74,2, -999.00,9,  -999.0,9, -999.00,9,-999.0000,9,-999.0000,9,-999.0000,9,  -999.0,9,  -999.0,9,   0.243,2,  -999.0,9, -999.00,9, -999.00,9,      0.001,2
09AR20080322,       SR03,      72,          1,         16,         16,2,20080415,       0743,   -44.0483,   146.2923,        544,    59.2,  12.9502,  34.9134,2,  34.9138,2,   246.74,2,  245.77,2,     1.4,2,    0.61,2,   2.9247,2,   1.7461,2,   0.2410,2,  2090.6,2,  2305.2,6,   0.220,2,  -999.0,9, -999.00,9,    6.58,2,      0.001,2
09AR20080322,       SR03,      72,          1,         15,         15,2,20080415,       0743,   -44.0483,   146.2923,        544,    90.2,  12.6326,  34.9928,2,-999.0000,9,   239.82,2, -999.00,9,  -999.0,9, -999.00,9,-999.0000,9,-999.0000,9,-999.0000,9,  -999.0,9,  -999.0,9,   0.088,2,  -999.0,9, -999.00,9, -999.00,9,      0.001,2
09AR20080322,       SR03,      72,          1,         14,         14,2,20080415,       0743,   -44.0483,   146.2923,        544,    90.2,  12.6616,  34.9794,2,  34.9734,2,   239.82,2,  240.04,2,     1.7,2,    0.66,2,-999.0000,9,-999.0000,9,-999.0000,9,  2095.8,2,  2307.4,2,   0.085,2,  -999.0,9, -999.00,9,    7.84,2,      0.001,2
09AR20080322,       SR03,      72,          1,         13,         13,2,20080415,       0743,   -44.0483,   146.2923,        544,   119.5,  12.0591,  35.0852,2,-999.0000,9,   235.91,2, -999.00,9,  -999.0,9, -999.00,9,-999.0000,9,-999.0000,9,-999.0000,9,  -999.0,9,  -999.0,9,   0.001,2,  -999.0,9, -999.00,9, -999.00,9,      0.001,2
09AR20080322,       SR03,      72,          1,         12,         12,2,20080415,       0743,   -44.0483,   146.2923,        544,   119.4,  12.0718,  35.0861,2,  35.0866,2,   235.91,2,  237.21,2,     2.2,2,    0.72,2,   3.0295,2,   1.7834,2,   0.2388,2,  2115.9,2,  2312.6,2,  -0.003,2,  -999.0,9, -999.00,9,    8.88,2,      0.001,2
09AR20080322,       SR03,      72,          1,         11,         11,2,20080415,       0743,   -44.0483,   146.2923,        544,   150.5,  11.7759,  35.0443,2,-999.0000,9,   237.22,2, -999.00,9,  -999.0,9, -999.00,9,-999.0000,9,-999.0000,9,-999.0000,9,  -999.0,9,  -999.0,9,  -0.013,2,  -999.0,9, -999.00,9, -999.00,9,      0.001,2
09AR20080322,       SR03,      72,          1,         10,         10,2,20080415,       0743,   -44.0483,   146.2923,        544,   150.6,  11.7672,  35.0431,2,  35.0415,2,   237.22,2,  238.46,2,     2.4,2,    0.79,2,-999.0000,9,-999.0000,9,-999.0000,9,  2116.4,2,  2307.5,2,  -0.016,2,  -999.0,9, -999.00,9,    9.74,2,      0.001,2
09AR20080322,       SR03,      72,          1,          9,          9,2,20080415,       0743,   -44.0483,   146.2923,        544,   199.3,  11.3946,  34.9983,2,-999.0000,9,   243.24,2, -999.00,9,  -999.0,9, -999.00,9,-999.0000,9,-999.0000,9,-999.0000,9,  -999.0,9,  -999.0,9,  -0.030,2,  -999.0,9, -999.00,9, -999.00,9,      0.001,2
09AR20080322,       SR03,      72,          1,          8,          8,2,20080415,       0743,   -44.0483,   146.2923,        544,   199.4,  11.4001,  34.9996,2,  34.9990,2,   243.24,2,  241.37,2,     2.6,2,    0.79,2,   3.1182,2,   1.8224,2,   0.2535,2,  2118.3,2,  2304.7,2,  -0.027,2,  -999.0,9, -999.00,9, -999.00,9,      0.001,2
09AR20080322,       SR03,      72,          1,          7,          7,2,20080415,       0743,   -44.0483,   146.2923,        544,   299.7,  10.3531,  34.8195,2,-999.0000,9,   247.26,2, -999.00,9,  -999.0,9, -999.00,9,-999.0000,9,-999.0000,9,-999.0000,9,  -999.0,9,  -999.0,9,  -0.035,2,  -999.0,9, -999.00,9, -999.00,9,      0.001,2
09AR20080322,       SR03,      72,          1,          6,          6,2,20080415,       0743,   -44.0483,   146.2923,        544,   299.6,  10.3511,  34.8191,2,  34.8165,2,   247.26,2,  248.05,2,     3.3,2,    0.94,2,   3.2202,2,   1.8989,2,   0.2367,2,  2120.1,2,  2295.8,6,  -0.036,2,  -999.0,9, -999.00,9,   12.42,2,      0.001,2
09AR20080322,       SR03,      72,          1,          5,          5,2,20080415,       0743,   -44.0483,   146.2923,        544,   400.8,   9.6470,  34.7053,2,-999.0000,9,   249.92,2, -999.00,9,  -999.0,9, -999.00,9,-999.0000,9,-999.0000,9,-999.0000,9,  -999.0,9,  -999.0,9,  -0.037,2,  -999.0,9, -999.00,9, -999.00,9,      0.001,2
09AR20080322,       SR03,      72,          1,          4,          4,2,20080415,       0743,   -44.0483,   146.2923,        544,   400.9,   9.6550,  34.7066,2,  34.7058,2,   249.92,2,  250.53,2,     3.9,2,    1.04,2,   3.3427,2,   1.9373,2,   0.2334,2,  2121.8,6,  2291.0,2,  -0.035,2,  -999.0,9, -999.00,9,   14.15,2,      0.001,2
09AR20080322,       SR03,      72,          1,          3,          3,2,20080415,       0743,   -44.0483,   146.2923,        544,   499.8,   9.4256,  34.6746,2,-999.0000,9,   249.16,2, -999.00,9,  -999.0,9, -999.00,9,-999.0000,9,-999.0000,9,-999.0000,9,  -999.0,9,  -999.0,9,  -0.037,2,  -999.0,9, -999.00,9, -999.00,9,      0.001,2
09AR20080322,       SR03,      72,          1,          2,          2,2,20080415,       0743,   -44.0483,   146.2923,        544,   499.9,   9.4230,  34.6744,2,  34.6740,2,   249.16,2,  249.40,2,     4.3,2,    1.07,2,-999.0000,9,-999.0000,9,-999.0000,9,  2124.4,2,  2290.2,6,  -0.036,2,  -999.0,9, -999.00,9,   15.09,2,      0.001,2
09AR20080322,       SR03,      72,          1,          1,          1,2,20080415,       0743,   -44.0483,   146.2923,        544,   550.9,   9.1575,  34.6488,2,  34.6488,2,   244.44,2,  244.52,2,     5.2,2,    1.14,2,   3.3412,2,   1.8825,2,   0.2315,2,  -999.0,9,  -999.0,9,  -0.038,2,  -999.0,9, -999.00,9,   16.40,2,      0.001,2