BOTTLE,20141029CCHSIOCBG
EXPOCODE,SECT_ID,STNNBR,CASTNO,SAMPNO,BTLNBR,BTLNBR_FLAG_W,DATE,TIME,LATITUDE,LONGITUDE,DEPTH,CTDPRS,CTDTMP,CTDSAL,CTDSAL_FLAG_W,SALNTY,SALNTY_FLAG_W,CTDOXY,CTDOXY_FLAG_W,OXYGEN,OXYGEN_FLAG_W,SILCAT,SILCAT_FLAG_W,PHSPHT,PHSPHT_FLAG_W,CFC-11,CFC-11_FLAG_W,CFC-12,CFC-12_FLAG_W,CFC113,CFC113_FLAG_W,TCARBN,TCARBN_FLAG_W,ALKALI,ALKALI_FLAG_W,FLUOR,FLUOR_FLAG_W,DOC,DOC_FLAG_W,TDN,TDN_FLAG_W,NO2+NO3,NO2+NO3_FLAG_W,PAR,PAR_FLAG_W
,,,,,,,,,,,METERS,DBAR,ITS-90,PSS-78,,PSS-78,,UMOL/KG,,UMOL/KG,,UMOL/KG,,UMOL/KG,,PMOL/KG,,PMOL/KG,,PMOL/KG,,UMOL/KG,,UMOL/KG,,MG/M^3,,UMOL/KG,,UMOL/KG,,UMOL/KG,,VOLTS,
09AR20080322,       SR03,      67,          1,         24,         24,2,20080414,       0655,   -45.6998,   145.6578,       1990,    13.4,  13.1981,  34.9570,2,  34.9567,2,   254.81,2,  254.30,2,     1.1,2,    0.46,2,   2.8750,2,   1.7430,2,   0.2356,2,  2075.0,6,  2309.7,2,   1.145,2,  -999.0,9, -999.00,9,    4.33,2,      0.001,2
09AR20080322,       SR03,      67,          1,         23,         23,2,20080414,       0655,   -45.6998,   145.6578,       1990,    13.4,  13.1983,  34.9570,2,-999.0000,9,   254.81,2, -999.00,9,  -999.0,9, -999.00,9,-999.0000,9,-999.0000,9,-999.0000,9,  -999.0,9,  -999.0,9,   1.215,2,  -999.0,9, -999.00,9, -999.00,9,      0.001,2
09AR20080322,       SR03,      67,          1,         22,         22,2,20080414,       0655,   -45.6998,   145.6578,       1990,    13.3,  13.1994,  34.9569,2,-999.0000,9,   254.81,2, -999.00,9,  -999.0,9, -999.00,9,-999.0000,9,-999.0000,9,-999.0000,9,  -999.0,9,  -999.0,9,   1.286,2,  -999.0,9, -999.00,9, -999.00,9,      0.001,2
09AR20080322,       SR03,      67,          1,         21,         21,2,20080414,       0655,   -45.6998,   145.6578,       1990,    16.0,  13.2037,  34.9567,2,-999.0000,9,   254.78,2, -999.00,9,  -999.0,9, -999.00,9,-999.0000,9,-999.0000,9,-999.0000,9,  -999.0,9,  -999.0,9,   1.055,2,  -999.0,9, -999.00,9, -999.00,9,      0.001,2
09AR20080322,       SR03,      67,          1,         20,         20,2,20080414,       0655,   -45.6998,   145.6578,       1990,    50.0,  13.2128,  34.9579,2,  34.9575,2,   255.03,2,  254.17,2,     1.1,2,    0.47,2,   2.8636,2,   1.7358,2,   0.2247,2,  2074.9,2,  2310.0,6,   1.131,2,  -999.0,9, -999.00,9,    4.42,2,      0.001,2
09AR20080322,       SR03,      67,          1,         19,         19,2,20080414,       0655,   -45.6998,   145.6578,       1990,    54.7,  13.2113,  34.9569,2,-999.0000,9,   254.16,2, -999.00,9,  -999.0,9, -999.00,9,-999.0000,9,-999.0000,9,-999.0000,9,  -999.0,9,  -999.0,9,   1.166,2,  -999.0,9, -999.00,9, -999.00,9,      0.001,2
09AR20080322,       SR03,      67,          1,         18,         18,2,20080414,       0655,   -45.6998,   145.6578,       1990,   100.3,  13.0715,  34.9828,2,  34.9850,2,   244.15,2,  244.84,2,     1.5,2,    0.57,2,-999.0000,9,-999.0000,9,-999.0000,9,  2083.0,2,  2310.6,2,   0.200,2,  -999.0,9, -999.00,9,    5.98,2,      0.001,2
09AR20080322,       SR03,      67,          1,         17,         17,2,20080414,       0655,   -45.6998,   145.6578,       1990,   151.4,  11.4864,  34.9641,2,  34.9624,2,   241.16,2,  238.29,2,     2.9,2,    0.83,2,   3.1350,2,   1.8279,2,   0.2307,2,  2112.8,2,  2303.6,2,  -0.013,2,  -999.0,9, -999.00,9,   11.00,2,      0.001,2
09AR20080322,       SR03,      67,          1,         16,         16,2,20080414,       0655,   -45.6998,   145.6578,       1990,   155.8,  11.2420,  34.9552,2,-999.0000,9,   240.96,2, -999.00,9,  -999.0,9, -999.00,9,-999.0000,9,-999.0000,9,-999.0000,9,  -999.0,9,  -999.0,9,  -0.027,2,  -999.0,9, -999.00,9, -999.00,9,      0.001,2
09AR20080322,       SR03,      67,          1,         15,         15,2,20080414,       0655,   -45.6998,   145.6578,       1990,   252.2,   9.9408,  34.7413,2,  34.7406,2,   252.44,2,  251.27,2,     3.7,2,    0.99,2,   3.3455,2,   1.9525,2,   0.2522,2,  2116.9,2,  2294.6,6,  -0.036,2,  -999.0,9, -999.00,9,   13.81,2,      0.001,2
09AR20080322,       SR03,      67,          1,         14,         14,2,20080414,       0655,   -45.6998,   145.6578,       1990,   351.9,   9.2670,  34.6353,2,  34.6348,2,   256.50,2,  255.75,2,     4.2,2,    1.05,2,-999.0000,9,-999.0000,9,-999.0000,9,  2118.5,2,  2289.3,2,  -0.040,2,  -999.0,9, -999.00,9,   15.14,2,      0.001,2
09AR20080322,       SR03,      67,          1,         13,         13,2,20080414,       0655,   -45.6998,   145.6578,       1990,   500.4,   8.9607,  34.6322,2,  34.6317,2,   242.32,2,  239.60,2,     5.9,2,    1.21,2,   3.3373,2,   1.8892,2,   0.2086,2,  2131.7,2,  2289.0,6,  -0.038,2,  -999.0,9, -999.00,9,   17.55,2,      0.001,2
09AR20080322,       SR03,      67,          1,         12,         12,2,20080414,       0655,   -45.6998,   145.6578,       1990,   503.0,   8.9320,  34.6291,2,-999.0000,9,   241.76,2, -999.00,9,  -999.0,9, -999.00,9,-999.0000,9,-999.0000,9,-999.0000,9,  -999.0,9,  -999.0,9,  -0.041,2,  -999.0,9, -999.00,9, -999.00,9,      0.001,2
09AR20080322,       SR03,      67,          1,         11,         11,2,20080414,       0655,   -45.6998,   145.6578,       1990,   748.4,   7.4350,  34.4931,2,  34.4936,2,   204.01,2,  205.22,2,    14.3,2,    1.62,2,   2.1905,2,   1.1770,2,   0.0975,2,  2159.5,6,  2286.6,2,  -0.039,2,  -999.0,9, -999.00,9,   23.83,2,      0.001,2
09AR20080322,       SR03,      67,          1,         10,         10,2,20080414,       0655,   -45.6998,   145.6578,       1990,   755.2,   7.3298,  34.4852,2,-999.0000,9,   202.85,2, -999.00,9,  -999.0,9, -999.00,9,-999.0000,9,-999.0000,9,-999.0000,9,  -999.0,9,  -999.0,9,  -0.036,2,  -999.0,9, -999.00,9, -999.00,9,      0.001,2
09AR20080322,       SR03,      67,          1,          9,          9,2,20080414,       0655,   -45.6998,   145.6578,       1990,   899.3,   5.8274,  34.4090,2,  34.4075,2,   195.90,2,  197.40,2,    25.3,2,    1.91,2,   1.6441,2,   0.8488,2,   0.0908,2,  2183.4,2,  2293.1,2,  -0.039,2,  -999.0,9, -999.00,9,   27.73,2,      0.001,2
09AR20080322,       SR03,      67,          1,          8,          8,2,20080414,       0655,   -45.6998,   145.6578,       1990,   999.1,   5.1570,  34.4069,2,  34.4059,2,   191.46,2,  191.21,2,    34.1,2,    2.06,2,   1.2087,2,   0.6197,2,   0.0721,2,  2195.1,2,  2300.6,2,  -0.033,2,  -999.0,9, -999.00,9,   29.23,2,      0.001,2
09AR20080322,       SR03,      67,          1,          7,          7,2,20080414,       0655,   -45.6998,   145.6578,       1990,  1009.5,   5.0128,  34.4058,2,-999.0000,9,   191.28,2, -999.00,9,  -999.0,9, -999.00,9,-999.0000,9,-999.0000,9,-999.0000,9,  -999.0,9,  -999.0,9,  -0.037,2,  -999.0,9, -999.00,9, -999.00,9,      0.001,2
09AR20080322,       SR03,      67,          1,          6,          6,2,20080414,       0655,   -45.6998,   145.6578,       1990,  1100.3,   4.5909,  34.4212,2,  34.4212,2,   184.77,2,  184.02,2,    43.1,2,    2.15,2,   0.8810,2,   0.4535,2,   0.0414,2,  2209.6,2,  2310.2,6,  -0.036,2,  -999.0,9, -999.00,9,   30.31,2,      0.001,2
09AR20080322,       SR03,      67,          1,          5,          5,2,20080414,       0655,   -45.6998,   145.6578,       1990,  1351.0,   3.3712,  34.4869,2,  34.4873,2,   171.35,2,  169.95,2,    64.9,2,    2.35,2,   0.5231,2,   0.2585,2,   0.0296,2,  2243.3,2,  2329.7,2,  -0.029,2,  -999.0,9, -999.00,9,   32.48,2,      0.001,2
09AR20080322,       SR03,      67,          1,          4,          4,2,20080414,       0655,   -45.6998,   145.6578,       1990,  1501.3,   3.0743,  34.5536,2,  34.5539,2,   161.37,2,  160.60,2,    77.7,2,    2.40,2,   0.2001,2,   0.0998,2,   0.0110,2,  2258.5,2,  2346.8,2,  -0.027,2,  -999.0,9, -999.00,9,   32.88,2,      0.001,2
09AR20080322,       SR03,      67,          1,          3,          3,2,20080414,       0655,   -45.6998,   145.6578,       1990,  1650.7,   2.6778,  34.6008,2,  34.6011,2,   164.75,2,  165.49,2,    79.7,2,    2.40,2,   0.1995,2,   0.0997,2,   0.0046,2,  2260.5,2,  2345.4,2,  -0.025,2,  -999.0,9, -999.00,9,   32.48,3,      0.001,2
09AR20080322,       SR03,      67,          1,          2,          2,2,20080414,       0655,   -45.6998,   145.6578,       1990,  1799.0,   2.5646,  34.6262,2,  34.6266,2,   167.84,2,  167.97,2,    81.3,2,    2.34,2,   0.1729,2,   0.0851,2,   0.0065,2,  2259.8,2,  2346.6,6,  -0.024,2,  -999.0,9, -999.00,9, -999.00,9,      0.001,2
09AR20080322,       SR03,      67,          1,          1,          1,2,20080414,       0655,   -45.6998,   145.6578,       1990,  2052.1,   2.3699,  34.6774,2,  34.6779,2,   172.54,2,  172.35,2,    86.0,2,    2.26,2,   0.0964,2,   0.0475,2,   0.0000,2,  2259.6,6,  2350.4,2,  -0.024,2,  -999.0,9, -999.00,9,   32.18,2,      0.001,2
09AR20080322,       SR03,      68,          1,         24,         24,2,20080414,       1311,   -45.2228,   145.8512,       2823,     9.2,  13.0984,  34.8971,2,  34.8981,2,   254.90,2,  257.22,2,     1.3,2,    0.46,2,   2.9335,2,   1.7341,2,   0.2613,2,  2071.8,6,  2308.9,2,   1.538,2,    57.7,2,    8.90,2,    4.60,2,      0.001,2
09AR20080322,       SR03,      68,          1,         23,         23,2,20080414,       1311,   -45.2228,   145.8512,       2823,    39.4,  13.1055,  34.8979,2,-999.0000,9,   254.42,2, -999.00,9,  -999.0,9, -999.00,9,-999.0000,9,-999.0000,9,-999.0000,9,  -999.0,9,  -999.0,9,   1.616,2,  -999.0,9, -999.00,9, -999.00,9,      0.001,2
09AR20080322,       SR03,      68,          1,         22,         22,2,20080414,       1311,   -45.2228,   145.8512,       2823,    39.4,  13.1045,  34.8976,2,-999.0000,9,   254.42,2, -999.00,9,  -999.0,9, -999.00,9,-999.0000,9,-999.0000,9,-999.0000,9,  -999.0,9,  -999.0,9,   1.443,2,  -999.0,9, -999.00,9, -999.00,9,      0.001,2
09AR20080322,       SR03,      68,          1,         21,         21,2,20080414,       1311,   -45.2228,   145.8512,       2823,    39.3,  13.1030,  34.8971,2,  34.8981,2,   254.42,2,  257.39,2,     1.3,2,    0.45,2,   2.8784,2,   1.7342,2,   0.2341,2,  2069.8,2,  2308.6,6,   1.617,2,    58.1,2,    8.60,2,    4.47,2,      0.001,2
09AR20080322,       SR03,      68,          1,         20,         20,2,20080414,       1311,   -45.2228,   145.8512,       2823,    78.5,  12.8535,  34.8552,2,  34.8554,2,   251.60,2,  253.86,2,     1.3,2,    0.53,2,   2.8777,2,   1.7405,2,   0.2282,2,  2076.2,2,  2307.4,2,   0.538,2,    58.1,2,    9.01,2,    5.46,2,      0.001,2
09AR20080322,       SR03,      68,          1,         19,         19,2,20080414,       1311,   -45.2228,   145.8512,       2823,    99.5,  12.8781,  34.9961,2,  34.9967,2,   245.04,2,  241.70,2,     1.8,2,    0.60,2,   2.8605,2,   1.7074,2,   0.2189,2,  2087.9,2,  2309.4,2,   0.131,2,    55.1,2,   10.12,2,    6.83,2,      0.001,2
09AR20080322,       SR03,      68,          1,         18,         18,2,20080414,       1311,   -45.2228,   145.8512,       2823,   148.2,  12.1519,  35.1018,2,  35.0919,2,   231.60,2,  229.94,2,     3.2,2,    0.78,2,   2.9541,2,   1.7282,2,   0.2064,2,  2112.5,2,  2308.2,2,  -0.015,2,    49.0,2,   12.08,2,   10.69,2,      0.001,2
09AR20080322,       SR03,      68,          1,         17,         17,2,20080414,       1311,   -45.2228,   145.8512,       2823,   198.9,  11.0551,  34.9507,2,  34.9492,2,   242.16,2,  240.01,2,     3.6,2,    0.86,2,-999.0000,9,-999.0000,9,-999.0000,9,  2115.3,2,  2304.1,2,  -0.035,2,    47.5,2,   14.48,2,   12.15,2,      0.001,2
09AR20080322,       SR03,      68,          1,         16,         16,2,20080414,       1311,   -45.2228,   145.8512,       2823,   300.1,   9.7756,  34.7259,2,  34.7260,2,   247.58,2,  248.40,2,     4.1,2,    1.01,2,   3.2846,2,   1.9061,2,   0.2111,2,  2119.3,2,  2293.5,6,  -0.039,2,    46.7,2,   16.61,2,   14.55,2,      0.001,2
09AR20080322,       SR03,      68,          1,         15,         15,2,20080414,       1311,   -45.2228,   145.8512,       2823,   398.8,   9.5216,  34.7118,2,  34.7121,2,   238.72,2,  238.48,2,     5.2,2,    1.10,2,   3.1811,2,   1.8534,2,   0.1761,2,  2126.7,2,  2291.8,2,  -0.041,2,    45.7,2,   17.90,2,   16.09,2,      0.001,2
09AR20080322,       SR03,      68,          1,         14,         14,2,20080414,       1311,   -45.2228,   145.8512,       2823,   499.6,   8.8683,  34.6116,2,  34.6105,2,   236.71,2,  244.34,2,     5.8,2,    1.19,2,   3.0547,2,   1.8104,2,   0.1958,2,  2128.7,2,  2288.8,2,  -0.041,2,    45.2,2,   19.05,2,   17.20,2,      0.001,2
09AR20080322,       SR03,      68,          1,         13,         13,2,20080414,       1311,   -45.2228,   145.8512,       2823,   601.0,   8.5659,  34.5836,2,  34.5859,2,   234.47,2,  235.55,2,     7.1,2,    1.29,2,   3.1526,2,   1.7700,2,   0.1804,2,  2135.5,2,  2289.2,2,  -0.041,2,    44.9,2,   20.90,2,   18.69,2,      0.001,2
09AR20080322,       SR03,      68,          1,         12,         12,2,20080414,       1311,   -45.2228,   145.8512,       2823,   698.7,   8.0791,  34.5390,2,  34.5392,2,   220.64,2,  219.36,2,    10.2,2,    1.44,2,   2.6699,2,   1.4941,2,   0.1359,2,  2149.4,6,  2287.1,2,  -0.040,2,    44.4,2,   23.02,2,   21.17,2,      0.001,2
09AR20080322,       SR03,      68,          1,         11,         11,2,20080414,       1311,   -45.2228,   145.8512,       2823,   798.3,   7.2917,  34.4850,2,  34.4858,2,   203.33,2,  203.38,2,    15.2,2,    1.63,2,   2.0636,2,   1.0915,2,   0.0882,2,  2158.6,2,  2288.7,6,  -0.041,2,    43.8,2,   26.11,2,   24.05,2,      0.001,2
09AR20080322,       SR03,      68,          1,         10,         10,2,20080414,       1311,   -45.2228,   145.8512,       2823,   998.0,   5.6149,  34.4091,2,  34.4106,2,   196.57,2,  195.61,2,    28.2,2,    1.94,2,   1.4917,6,   0.7685,6,   0.0733,6,  2186.5,2,  2295.5,2,  -0.038,2,    40.8,2,   30.22,2,   28.44,2,      0.001,2
09AR20080322,       SR03,      68,          1,          9,          9,2,20080414,       1311,   -45.2228,   145.8512,       2823,  1199.3,   4.1682,  34.4219,2,  34.4226,2,   184.97,2,  184.19,2,    48.7,2,    2.21,2,   0.9638,2,   0.4836,2,   0.0576,2,  2222.8,2,  2314.0,2,  -0.035,2,    39.8,2,   33.66,2,   32.06,2,      0.001,2
09AR20080322,       SR03,      68,          1,          8,          8,2,20080414,       1311,   -45.2228,   145.8512,       2823,  1400.1,   3.3585,  34.5009,2,  34.5007,2,   169.69,2,  168.77,2,    68.3,2,    2.36,2,   0.4401,2,   0.2241,2,   0.0209,2,  2246.1,2,  2333.3,2,  -0.030,2,    39.5,2,   35.36,2,   33.88,2,      0.001,2
09AR20080322,       SR03,      68,          1,          7,          7,2,20080414,       1311,   -45.2228,   145.8512,       2823,  1598.3,   2.7214,  34.5959,2,-999.0000,9,   163.53,2,  163.71,2,    82.8,2,    2.40,2,   0.1683,2,   0.0791,2,   0.0068,2,  2261.5,2,  2347.2,2,  -0.023,2,    38.8,2,   35.81,2,   34.03,2,      0.001,2
09AR20080322,       SR03,      68,          1,          6,          6,2,20080414,       1311,   -45.2228,   145.8512,       2823,  1801.1,   2.4974,  34.6412,2,  34.6421,2,   168.53,2,  168.27,2,    84.4,2,    2.35,2,   0.1290,2,   0.0626,2,   0.0056,2,  2261.3,2,  2348.4,6,  -0.027,2,    38.5,2,   34.88,2,   33.27,2,      0.001,2
09AR20080322,       SR03,      68,          1,          5,          5,2,20080414,       1311,   -45.2228,   145.8512,       2823,  2000.8,   2.3559,  34.6852,2,  34.6850,2,   171.07,2,  171.26,2,    87.5,2,    2.32,2,   0.0623,2,   0.0289,2,   0.0059,2,  2263.3,2,  2352.5,2,  -0.028,2,    38.8,2,   34.12,2,   32.51,2,      0.001,2
09AR20080322,       SR03,      68,          1,          4,          4,2,20080414,       1311,   -45.2228,   145.8512,       2823,  2199.5,   2.2288,  34.7096,2,  34.7099,2,   174.41,2,  173.95,2,    92.1,2,    2.29,2,   0.0476,2,   0.0224,2,   0.0000,2,  2262.3,2,  2357.2,2,  -0.025,2,    39.5,2,   33.18,2,   32.06,2,      0.001,2
09AR20080322,       SR03,      68,          1,          3,          3,2,20080414,       1311,   -45.2228,   145.8512,       2823,  2499.9,   2.0732,  34.7293,2,  34.7296,2,   176.03,2,  176.07,2,    98.8,2,    2.30,2,   0.0167,2,   0.0008,2,   0.0031,2,  2267.6,2,  2365.0,2,  -0.027,2,    39.6,2,   32.91,2,   31.68,2,      0.001,2
09AR20080322,       SR03,      68,          1,          2,          2,2,20080414,       1311,   -45.2228,   145.8512,       2823,  2831.3,   1.7756,  34.7353,2,  34.7363,2,   183.12,2,  183.76,2,   106.5,2,    2.28,2,   0.0062,2,  -0.0008,3,   0.0103,2,  2270.8,6,  2371.1,2,  -0.032,2,    39.2,2,   33.14,2,   31.23,2,      0.001,2
09AR20080322,       SR03,      68,          1,          1,          1,2,20080414,       1311,   -45.2228,   145.8512,       2823,  2873.3,   1.7041,  34.7348,2,  34.7360,2,   184.50,2,  185.06,2,   108.2,2,    2.25,2,  -0.0080,3,  -0.0082,3,   0.0055,3,  2276.4,2,  2371.4,6,  -0.028,2,    39.3,2,   33.02,2,   31.16,2,      0.001,2