BOTTLE,20141029CCHSIOCBG
EXPOCODE,SECT_ID,STNNBR,CASTNO,SAMPNO,BTLNBR,BTLNBR_FLAG_W,DATE,TIME,LATITUDE,LONGITUDE,DEPTH,CTDPRS,CTDTMP,CTDSAL,CTDSAL_FLAG_W,SALNTY,SALNTY_FLAG_W,CTDOXY,CTDOXY_FLAG_W,OXYGEN,OXYGEN_FLAG_W,SILCAT,SILCAT_FLAG_W,PHSPHT,PHSPHT_FLAG_W,CFC-11,CFC-11_FLAG_W,CFC-12,CFC-12_FLAG_W,CFC113,CFC113_FLAG_W,TCARBN,TCARBN_FLAG_W,ALKALI,ALKALI_FLAG_W,FLUOR,FLUOR_FLAG_W,DOC,DOC_FLAG_W,TDN,TDN_FLAG_W,NO2+NO3,NO2+NO3_FLAG_W,PAR,PAR_FLAG_W
,,,,,,,,,,,METERS,DBAR,ITS-90,PSS-78,,PSS-78,,UMOL/KG,,UMOL/KG,,UMOL/KG,,UMOL/KG,,PMOL/KG,,PMOL/KG,,PMOL/KG,,UMOL/KG,,UMOL/KG,,MG/M^3,,UMOL/KG,,UMOL/KG,,UMOL/KG,,VOLTS,
09AR20080322,       SR03,      61,          1,         24,         24,2,20080412,       2241,   -47.9993,   144.6707,       4218,    10.5,  10.4060,  34.4694,2,  34.4689,2,   274.42,2,  273.71,2,     1.2,2,    0.85,2,-999.0000,9,-999.0000,9,-999.0000,9,  2088.7,2,  2286.9,6,   0.538,2,  -999.0,9, -999.00,9,   10.71,2,      2.821,2
09AR20080322,       SR03,      61,          1,         23,         23,2,20080412,       2241,   -47.9993,   144.6707,       4218,    10.5,  10.4046,  34.4692,2,-999.0000,9,   274.42,2, -999.00,9,  -999.0,9, -999.00,9,-999.0000,9,-999.0000,9,-999.0000,9,  -999.0,9,  -999.0,9,   0.556,2,  -999.0,9, -999.00,9, -999.00,9,      2.816,2
09AR20080322,       SR03,      61,          1,         22,         22,2,20080412,       2241,   -47.9993,   144.6707,       4218,    10.6,  10.4055,  34.4693,2,-999.0000,9,   274.42,2, -999.00,9,  -999.0,9, -999.00,9,-999.0000,9,-999.0000,9,-999.0000,9,  -999.0,9,  -999.0,9,   0.556,2,  -999.0,9, -999.00,9, -999.00,9,      2.822,2
09AR20080322,       SR03,      61,          1,         21,         21,2,20080412,       2241,   -47.9993,   144.6707,       4218,    10.5,  10.4037,  34.4699,2,-999.0000,9,   274.42,2, -999.00,9,  -999.0,9, -999.00,9,-999.0000,9,-999.0000,9,-999.0000,9,  -999.0,9,  -999.0,9,   0.493,2,  -999.0,9, -999.00,9, -999.00,9,      2.847,2
09AR20080322,       SR03,      61,          1,         20,         20,2,20080412,       2241,   -47.9993,   144.6707,       4218,    25.4,  10.4053,  34.4703,2,  34.4697,2,   273.97,2,  273.23,2,     1.2,2,    0.86,2,   3.5494,2,   2.2847,2,   0.3280,3,  2090.4,2,  2288.0,2,   0.631,2,  -999.0,9, -999.00,9,   10.93,2,      2.641,2
09AR20080322,       SR03,      61,          1,         19,         19,2,20080412,       2241,   -47.9993,   144.6707,       4218,    49.8,  10.4112,  34.4730,2,  34.4712,2,   273.81,2,  273.32,2,     1.2,2,    0.85,2,   3.4011,2,   1.9871,2,   0.2892,3,  2090.3,2,  2286.5,2,   0.609,2,  -999.0,9, -999.00,9,   10.95,2,      2.235,2
09AR20080322,       SR03,      61,          1,         18,         18,2,20080412,       2241,   -47.9993,   144.6707,       4218,    73.5,  10.4036,  34.4873,2,  34.4850,2,   272.89,2,  273.14,2,     1.2,2,    0.84,2,-999.0000,9,-999.0000,9,-999.0000,9,  -999.0,9,  -999.0,9,   0.455,2,  -999.0,9, -999.00,9,   10.74,2,      1.875,2
09AR20080322,       SR03,      61,          1,         17,         17,2,20080412,       2241,   -47.9993,   144.6707,       4218,   100.0,  10.3558,  34.4896,2,  34.4891,2,   269.91,2,  271.05,2,     1.3,2,    0.85,2,   3.3621,2,   1.9805,2,   0.2722,3,  2092.7,2,  2287.0,2,   0.385,2,  -999.0,9, -999.00,9,   10.82,2,      1.457,2
09AR20080322,       SR03,      61,          1,         16,         16,2,20080412,       2241,   -47.9993,   144.6707,       4218,   150.1,   9.5018,  34.6446,2,  34.6443,2,   262.29,2,  261.67,2,     3.5,2,    0.99,2,-999.0000,9,-999.0000,9,-999.0000,9,  2114.1,3,  2290.7,2,  -0.016,2,  -999.0,9, -999.00,9,   13.91,2,      0.586,2
09AR20080322,       SR03,      61,          1,         15,         15,2,20080412,       2241,   -47.9993,   144.6707,       4218,   199.2,   9.1591,  34.5923,2,  34.5922,2,   267.22,2,  265.84,2,     3.6,2,    1.02,2,   3.5817,2,   2.0669,2,   0.2905,3,  2113.6,2,  2351.4,3,  -0.028,2,  -999.0,9, -999.00,9,   14.31,2,      0.002,2
09AR20080322,       SR03,      61,          1,         14,         14,2,20080412,       2241,   -47.9993,   144.6707,       4218,   250.9,   9.0742,  34.5828,2,  34.5840,2,   267.91,2,  267.18,2,     3.7,2,    1.02,2,-999.0000,9,-999.0000,9,-999.0000,9,  -999.0,9,  -999.0,9,  -0.037,2,  -999.0,9, -999.00,9,   14.33,2,      0.001,2
09AR20080322,       SR03,      61,          1,         13,         13,2,20080412,       2241,   -47.9993,   144.6707,       4218,   298.8,   9.0869,  34.5962,2,  34.5960,2,   265.34,2,  264.88,2,     3.8,2,    1.02,2,   3.5742,2,   2.0279,2,   0.2956,3,  2116.5,2,  2293.6,2,  -0.040,2,  -999.0,9, -999.00,9,   14.06,2,      0.001,2
09AR20080322,       SR03,      61,          1,         12,         12,2,20080412,       2241,   -47.9993,   144.6707,       4218,   351.0,   9.0967,  34.6095,2,  34.6107,2,   262.78,2,  262.66,2,     3.9,2,    1.04,2,-999.0000,9,-999.0000,9,-999.0000,9,  -999.0,9,  -999.0,9,  -0.040,2,  -999.0,9, -999.00,9,   14.23,2,      0.001,2
09AR20080322,       SR03,      61,          1,         11,         11,2,20080412,       2241,   -47.9993,   144.6707,       4218,   401.6,   9.0610,  34.6190,2,  34.6195,2,   256.93,2, -999.00,9,     4.4,2,    1.08,2,   3.5596,2,   2.0241,2,   0.2679,3,  2120.6,2,  2291.5,2,  -0.043,2,  -999.0,9, -999.00,9,   15.19,2,      0.001,2
09AR20080322,       SR03,      61,          1,         10,         10,2,20080412,       2241,   -47.9993,   144.6707,       4218,   501.3,   8.8478,  34.6019,2,  34.6020,2,   254.62,2,  254.86,2,     5.0,2,    1.15,2,-999.0000,9,-999.0000,9,-999.0000,9,  2125.8,2,  2288.8,2,  -0.042,2,  -999.0,9, -999.00,9,   16.69,2,      0.001,2
09AR20080322,       SR03,      61,          1,          9,          9,2,20080412,       2241,   -47.9993,   144.6707,       4218,   599.6,   8.5574,  34.5658,2,  34.5645,2,   250.47,2,  249.81,2,     5.9,2,    1.24,2,-999.0000,9,-999.0000,9,-999.0000,9,  -999.0,9,  -999.0,9,  -0.043,2,  -999.0,9, -999.00,9,   18.21,2,      0.001,2
09AR20080322,       SR03,      61,          1,          8,          8,2,20080412,       2241,   -47.9993,   144.6707,       4218,   700.1,   8.0340,  34.5103,2,  34.5103,2,   231.91,2,  231.32,2,     8.8,2,    1.43,2,   3.1669,2,   1.7366,2,   0.1810,3,  2142.0,2,  2287.6,2,  -0.040,2,  -999.0,9, -999.00,9,   21.12,2,      0.001,2
09AR20080322,       SR03,      61,          1,          7,          7,2,20080412,       2241,   -47.9993,   144.6707,       4218,   700.8,   8.0323,  34.5099,2,-999.0000,9,   231.91,2, -999.00,9,  -999.0,9, -999.00,9,-999.0000,9,-999.0000,9,-999.0000,9,  -999.0,9,  -999.0,9,  -0.041,2,  -999.0,9, -999.00,9, -999.00,9,      0.001,2
09AR20080322,       SR03,      61,          1,          6,          6,2,20080412,       2241,   -47.9993,   144.6707,       4218,   799.8,   7.2580,  34.4572,2,  34.4573,2,   213.29,2,  213.26,2,    13.6,2,    1.64,2,   2.6577,2,   1.4141,2,   0.1314,3,  2158.8,2,  2286.3,6,  -0.037,2,  -999.0,9, -999.00,9,   24.55,2,      0.001,2
09AR20080322,       SR03,      61,          1,          5,          5,2,20080412,       2241,   -47.9993,   144.6707,       4218,   798.8,   7.2489,  34.4567,2,-999.0000,9,   213.79,2, -999.00,9,  -999.0,9, -999.00,9,-999.0000,9,-999.0000,9,-999.0000,9,  -999.0,9,  -999.0,9,  -0.037,2,  -999.0,9, -999.00,9, -999.00,9,      0.001,2
09AR20080322,       SR03,      61,          1,          4,          4,2,20080412,       2241,   -47.9993,   144.6707,       4218,   900.1,   6.3485,  34.4082,2,  34.4092,2,   206.11,2,  206.24,2,    19.1,2,    1.83,2,   2.2555,2,   1.1861,2,   0.1104,3,  2172.6,2,  2290.1,6,  -0.038,2,  -999.0,9, -999.00,9,   27.15,2,      0.001,2
09AR20080322,       SR03,      61,          1,          3,          3,2,20080412,       2241,   -47.9993,   144.6707,       4218,   900.8,   6.3507,  34.4083,2,-999.0000,9,   206.11,2, -999.00,9,  -999.0,9, -999.00,9,-999.0000,9,-999.0000,9,-999.0000,9,  -999.0,9,  -999.0,9,  -0.034,2,  -999.0,9, -999.00,9, -999.00,9,      0.001,2
09AR20080322,       SR03,      61,          1,          2,          2,2,20080412,       2241,   -47.9993,   144.6707,       4218,   999.5,   5.3657,  34.3613,2,  34.3615,2,   207.28,2,  206.84,2,    25.2,2,    1.98,2,-999.0000,9,-999.0000,9,-999.0000,9,  -999.0,9,  -999.0,9,  -0.034,2,  -999.0,9, -999.00,9,   29.30,2,      0.001,2
09AR20080322,       SR03,      61,          1,          1,          1,2,20080412,       2241,   -47.9993,   144.6707,       4218,  1100.4,   4.6319,  34.3435,2,  34.3431,2,   206.35,2,  205.77,2,    31.4,2,    2.08,2,-999.0000,9,-999.0000,9,-999.0000,9,  2193.1,6,  2296.0,2,  -0.032,2,  -999.0,9, -999.00,9,   30.75,2,      0.001,2
09AR20080322,       SR03,      62,          1,         24,         24,2,20080413,       0316,   -47.4683,   144.9022,       4343,     8.3,  10.3555,  34.4670,2,  34.4669,2,  -999.00,5,  273.36,2,     1.2,2,    0.85,2,   3.1562,2,   1.8560,2,   0.2872,3,  2091.2,6,  2286.9,2,   0.747,2,    54.1,2,   15.52,2,   10.84,2,      2.556,2
09AR20080322,       SR03,      62,          1,         23,         23,2,20080413,       0316,   -47.4683,   144.9022,       4343,    38.5,  10.3482,  34.4661,2,-999.0000,9,   272.69,2, -999.00,9,  -999.0,9, -999.00,9,-999.0000,9,-999.0000,9,-999.0000,9,  -999.0,9,  -999.0,9,   0.690,2,  -999.0,9, -999.00,9, -999.00,9,      1.921,2
09AR20080322,       SR03,      62,          1,         22,         22,2,20080413,       0316,   -47.4683,   144.9022,       4343,    38.5,  10.3485,  34.4658,2,-999.0000,9,   272.69,2, -999.00,9,  -999.0,9, -999.00,9,-999.0000,9,-999.0000,9,-999.0000,9,  -999.0,9,  -999.0,9,   0.770,2,  -999.0,9, -999.00,9, -999.00,9,      1.943,2
09AR20080322,       SR03,      62,          1,         21,         21,2,20080413,       0316,   -47.4683,   144.9022,       4343,    38.6,  10.3750,  34.4692,2,  34.4689,2,   272.69,2,  273.58,2,     1.2,2,    0.86,2,   3.3920,2,   1.9923,2,   0.2967,3,  2087.8,2,  2289.2,6,   0.728,2,    53.4,2,   14.73,2,   10.75,2,      1.998,2
09AR20080322,       SR03,      62,          1,         20,         20,2,20080413,       0316,   -47.4683,   144.9022,       4343,    79.4,   9.9741,  34.4224,2,  34.4310,2,   272.74,2,  273.22,2,     1.2,2,    0.91,2,   3.4401,2,   2.0186,2,   0.2879,3,  2096.9,2,  2286.5,2,   0.384,2,    51.6,2,   14.79,2,   11.59,2,      1.265,2
09AR20080322,       SR03,      62,          1,         19,         19,2,20080413,       0316,   -47.4683,   144.9022,       4343,   118.9,   9.6411,  34.5767,2,  34.5787,2,   261.34,2,  261.08,2,     3.0,2,    1.02,2,   3.5771,2,   2.0437,2,   0.3163,3,  2112.8,2,  2288.7,2,   0.052,2,    49.4,2,   16.40,2,   13.88,2,      0.606,2
09AR20080322,       SR03,      62,          1,         18,         18,2,20080413,       0316,   -47.4683,   144.9022,       4343,   199.7,   9.2507,  34.6085,2,  34.6089,2,   264.30,2,  265.05,2,     3.4,2,    1.00,2,   3.5757,2,   2.0540,2,   0.2998,3,  2110.7,2,  2289.3,2,  -0.028,2,    47.4,2,   15.87,2,   13.86,2,      0.001,2
09AR20080322,       SR03,      62,          1,         17,         17,2,20080413,       0316,   -47.4683,   144.9022,       4343,   299.8,   9.0303,  34.5877,2,  34.5873,2,   263.57,2,  264.57,2,     4.0,2,    1.04,2,   3.5815,2,   2.0603,2,   0.2652,3,  2116.0,2,  2289.1,2,  -0.041,2,    47.4,2,   16.09,2,   14.62,2,      0.001,2
09AR20080322,       SR03,      62,          1,         16,         16,2,20080413,       0316,   -47.4683,   144.9022,       4343,   501.4,   8.8266,  34.5966,2,  34.5971,2,   256.62,2,  256.21,2,     4.8,2,    1.14,2,   3.6061,2,   2.0540,2,   0.2398,3,  2124.0,2,  2288.0,2,  -0.045,2,    45.2,2,   17.69,2,   16.35,2,      0.001,2
09AR20080322,       SR03,      62,          1,         15,         15,2,20080413,       0316,   -47.4683,   144.9022,       4343,   701.8,   8.1965,  34.5239,2,  34.5237,2,   240.17,2,  238.55,2,     7.5,2,    1.36,2,   3.3568,2,   1.8389,2,   0.1989,3,  2137.4,2,  2284.5,2,  -0.045,2,    44.2,2,   20.79,2,   19.64,2,      0.001,2
09AR20080322,       SR03,      62,          1,         14,         14,2,20080413,       0316,   -47.4683,   144.9022,       4343,   901.4,   6.5091,  34.4148,2,  34.4153,2,   208.14,2,  205.81,2,    18.1,2,    1.79,2,   2.3726,6,   1.2381,6,   0.1253,3,  2170.1,2,  2287.5,2,  -0.038,2,    42.2,2,   27.60,2,   26.24,2,      0.001,2
09AR20080322,       SR03,      62,          1,         13,         13,2,20080413,       0316,   -47.4683,   144.9022,       4343,  1100.8,   4.7292,  34.3413,2,-999.0000,9,   204.07,2, -999.00,9,  -999.0,9, -999.00,9,-999.0000,9,-999.0000,9,-999.0000,9,  -999.0,9,  -999.0,9,  -0.038,2,  -999.0,9, -999.00,9, -999.00,9,      0.001,2
09AR20080322,       SR03,      62,          1,         12,         12,2,20080413,       0316,   -47.4683,   144.9022,       4343,  1300.7,   3.7318,  34.3738,2,  34.3741,2,   192.13,2,  192.88,2,    45.3,2,    2.28,2,   1.4141,6,   0.7058,6,   0.0848,3,  2214.2,6,  2308.9,2,  -0.034,2,    39.6,2,   32.92,2,   31.92,2,      0.001,2
09AR20080322,       SR03,      62,          1,         11,         11,2,20080413,       0316,   -47.4683,   144.9022,       4343,  1500.9,   3.1512,  34.4560,2,  34.4540,2,   177.02,2,  177.43,2,    60.7,2,    2.38,2,   0.8157,2,   0.4029,2,   0.0442,3,  2242.8,2,  2322.0,6,  -0.030,2,    39.6,2,   33.68,2,   33.57,2,      0.001,2
09AR20080322,       SR03,      62,          1,         10,         10,2,20080413,       0316,   -47.4683,   144.9022,       4343,  1700.1,   2.7603,  34.5507,2,  34.5502,2,   171.45,2,  169.80,2,    72.9,2,    2.40,2,   0.4078,2,   0.2031,2,   0.0254,3,  2253.4,2,  2334.2,2,  -0.029,2,    39.2,2,   35.04,2,   34.27,2,      0.001,2
09AR20080322,       SR03,      62,          1,          9,          9,2,20080413,       0316,   -47.4683,   144.9022,       4343,  2002.0,   2.4933,  34.6521,2,  34.6515,2,   173.14,2,  172.57,2,    80.9,2,    2.35,2,   0.1839,2,   0.0941,2,   0.0000,3,  2257.7,2,  2342.6,2,  -0.030,2,    39.7,2,   33.80,2,   33.99,2,      0.001,2
09AR20080322,       SR03,      62,          1,          8,          8,2,20080413,       0316,   -47.4683,   144.9022,       4343,  2298.9,   2.2700,  34.7156,2,  34.7154,2,   177.08,2,  178.65,2,    88.4,2,    2.28,2,   0.0841,2,   0.0431,2,   0.0000,3,  2256.9,2,  2351.4,2,  -0.030,2,    38.9,2,   33.48,2,   32.75,2,      0.001,2
09AR20080322,       SR03,      62,          1,          7,          7,2,20080413,       0316,   -47.4683,   144.9022,       4343,  2600.9,   2.0656,  34.7344,2,  34.7349,2,   182.00,2,  181.81,2,    96.9,2,    2.27,2,   0.0439,2,   0.0207,2,   0.0000,3,  2265.6,2,  2360.0,2,  -0.028,2,    39.4,2,   32.90,2,   32.43,2,      0.001,2
09AR20080322,       SR03,      62,          1,          6,          6,2,20080413,       0316,   -47.4683,   144.9022,       4343,  2899.0,   1.8514,  34.7414,2,  34.7414,2,   186.69,2,  187.01,2,   102.8,2,    2.25,2,   0.0212,2,   0.0114,2,   0.0000,3,  2264.4,2,  2363.2,6,  -0.028,2,    39.2,2,   32.66,2,   32.67,2,      0.001,2
09AR20080322,       SR03,      62,          1,          5,          5,2,20080413,       0316,   -47.4683,   144.9022,       4343,  3199.2,   1.6016,  34.7370,2,  34.7368,2,   191.20,2,  191.41,2,   110.4,2,    2.28,2,-999.0000,5,-999.0000,5,-999.0000,5,  2269.2,2,  2368.8,2,  -0.027,2,    38.8,2,   33.11,2,   33.00,2,      0.001,2
09AR20080322,       SR03,      62,          1,          4,          4,2,20080413,       0316,   -47.4683,   144.9022,       4343,  3500.4,   1.3718,  34.7299,2,  34.7292,2,   196.04,2,  196.61,2,   115.5,2,    2.28,2,   0.0233,2,   0.0123,2,   0.0000,3,  2268.8,2,  2368.4,2,  -0.033,2,    39.4,2,   33.04,2,   32.21,2,      0.001,2
09AR20080322,       SR03,      62,          1,          3,          3,2,20080413,       0316,   -47.4683,   144.9022,       4343,  3800.0,   1.1877,  34.7218,2,  34.7215,2,   199.57,2,  199.48,2,   119.8,2,    2.31,2,   0.0271,2,   0.0154,2,   0.0000,3,  2270.3,2,  2372.3,2,  -0.036,2,    39.6,2,   32.47,2,   32.19,2,      0.001,2
09AR20080322,       SR03,      62,          1,          2,          2,2,20080413,       0316,   -47.4683,   144.9022,       4343,  4198.8,   1.0409,  34.7143,2,  34.7136,2,   203.70,2,  203.83,2,   123.5,2,    2.32,2,   0.0115,2,   0.0086,2,   0.0000,3,  2277.1,2,  2376.9,6,  -0.035,2,    39.3,2,   32.63,2,   32.19,2,      0.001,2
09AR20080322,       SR03,      62,          1,          1,          1,2,20080413,       0316,   -47.4683,   144.9022,       4343,  4451.0,   1.0278,  34.7126,2,  34.7121,2,   205.93,2, -999.00,9,   124.8,2,    2.33,2,   0.0128,2,   0.0073,2,   0.0000,3,  2274.2,6,  2378.7,2,  -0.030,2,    39.7,2,   32.70,2,   32.26,2,      0.001,2