BOTTLE,20141029CCHSIOCBG
EXPOCODE,SECT_ID,STNNBR,CASTNO,SAMPNO,BTLNBR,BTLNBR_FLAG_W,DATE,TIME,LATITUDE,LONGITUDE,DEPTH,CTDPRS,CTDTMP,CTDSAL,CTDSAL_FLAG_W,SALNTY,SALNTY_FLAG_W,CTDOXY,CTDOXY_FLAG_W,OXYGEN,OXYGEN_FLAG_W,SILCAT,SILCAT_FLAG_W,PHSPHT,PHSPHT_FLAG_W,CFC-11,CFC-11_FLAG_W,CFC-12,CFC-12_FLAG_W,CFC113,CFC113_FLAG_W,TCARBN,TCARBN_FLAG_W,ALKALI,ALKALI_FLAG_W,FLUOR,FLUOR_FLAG_W,DOC,DOC_FLAG_W,TDN,TDN_FLAG_W,NO2+NO3,NO2+NO3_FLAG_W,PAR,PAR_FLAG_W
,,,,,,,,,,,METERS,DBAR,ITS-90,PSS-78,,PSS-78,,UMOL/KG,,UMOL/KG,,UMOL/KG,,UMOL/KG,,PMOL/KG,,PMOL/KG,,PMOL/KG,,UMOL/KG,,UMOL/KG,,MG/M^3,,UMOL/KG,,UMOL/KG,,UMOL/KG,,VOLTS,
09AR20080322,       SR03,      17,          1,         24,         24,2,20080331,       1816,   -62.8502,   139.8517,       3179,     4.4,   0.9732,  33.8486,2,  33.8492,2,   328.43,2,  328.54,2,    24.8,2,    1.78,2,   5.7127,2,   3.0234,2,   0.5104,2,  2159.7,2,  2285.8,2,   1.995,2,    45.4,2,   28.93,2,   26.46,2,      0.107,2
09AR20080322,       SR03,      17,          1,         23,         23,2,20080331,       1816,   -62.8502,   139.8517,       3179,    20.0,   0.9776,  33.8496,2,-999.0000,9,   328.74,2, -999.00,9,  -999.0,9, -999.00,9,-999.0000,9,-999.0000,9,-999.0000,9,  -999.0,9,  -999.0,9,   1.995,2,  -999.0,9, -999.00,9, -999.00,9,      0.001,2
09AR20080322,       SR03,      17,          1,         22,         22,2,20080331,       1816,   -62.8502,   139.8517,       3179,    20.1,   0.9795,  33.8498,2,-999.0000,9,   328.74,2, -999.00,9,  -999.0,9, -999.00,9,-999.0000,9,-999.0000,9,-999.0000,9,  -999.0,9,  -999.0,9,   1.975,2,  -999.0,9, -999.00,9, -999.00,9,      0.001,2
09AR20080322,       SR03,      17,          1,         21,         21,2,20080331,       1816,   -62.8502,   139.8517,       3179,    19.9,   0.9773,  33.8509,2,  33.8517,2,   328.74,2,  328.75,2,    25.0,2,    1.78,2,   5.5455,2,   3.0097,2,   0.4896,2,  2160.9,2,  2285.5,6,   1.963,2,    44.6,2,   28.48,2,   26.69,2,      0.001,2
09AR20080322,       SR03,      17,          1,         20,         20,2,20080331,       1816,   -62.8502,   139.8517,       3179,    50.0,   0.8256,  34.2649,2,  34.2789,2,   232.24,2,  233.02,2,    58.7,2,    2.42,2,   3.2906,2,   1.6928,2,   0.2885,2,  2233.2,6,  2308.8,2,   0.793,2,    42.5,2,   35.12,2,   34.19,2,      0.001,2
09AR20080322,       SR03,      17,          1,         19,         19,2,20080331,       1816,   -62.8502,   139.8517,       3179,    74.9,   1.6271,  34.4171,2,  34.4121,2,   198.00,2,  197.06,2,    68.3,2,    2.49,2,   2.0485,2,   1.0543,2,   0.1518,2,  2262.0,2,  2316.3,2,   0.108,2,    41.8,2,   36.51,2,   35.21,2,      0.001,2
09AR20080322,       SR03,      17,          1,         18,         18,2,20080331,       1816,   -62.8502,   139.8517,       3179,    98.6,   1.8801,  34.4843,2,  34.4819,2,   185.01,2,  183.67,2,    72.7,2,    2.48,2,   1.4494,2,   0.7372,2,   0.1107,2,  2253.7,2,  2321.6,2,   0.045,2,    41.1,2,   38.63,2,   35.21,2,      0.001,2
09AR20080322,       SR03,      17,          1,         17,         17,2,20080331,       1816,   -62.8502,   139.8517,       3179,   150.2,   1.9303,  34.5556,2,  34.5552,2,   175.71,2,  175.79,2,    77.8,2,    2.46,2,   1.0441,2,   0.5417,2,   0.0696,2,  2258.5,2,  2329.0,2,   0.064,2,    40.6,2,   37.87,2,   34.80,2,      0.001,2
09AR20080322,       SR03,      17,          1,         16,         16,2,20080331,       1816,   -62.8502,   139.8517,       3179,   200.4,   1.9946,  34.5964,2,  34.5966,2,   172.25,2,  173.87,2,    79.9,2,    2.42,2,   0.7717,2,   0.4017,2,   0.0549,2,  2262.3,2,  2329.8,6,   0.007,2,    39.7,2,   37.50,2,   34.32,2,      0.001,2
09AR20080322,       SR03,      17,          1,         15,         15,2,20080331,       1816,   -62.8502,   139.8517,       3179,   301.2,   1.9810,  34.6563,2,  34.6560,2,   173.60,2,  175.08,2,    82.8,2,    2.37,2,   0.5253,2,   0.2653,2,   0.0377,2,  2256.2,2,  2336.1,2,   0.018,2,    39.8,2,   35.24,2,   32.44,2,      0.001,2
09AR20080322,       SR03,      17,          1,         14,         14,2,20080331,       1816,   -62.8502,   139.8517,       3179,   399.1,   1.9643,  34.6949,2,  34.6968,2,   178.23,2, -999.00,9,    84.1,2,    2.32,2,   0.3813,2,   0.1957,2,   0.0312,2,  2258.0,6,  2343.9,2,  -0.010,2,    39.8,2,   34.88,2,   32.17,2,      0.001,2
09AR20080322,       SR03,      17,          1,         13,         13,2,20080331,       1816,   -62.8502,   139.8517,       3179,   500.6,   1.9498,  34.7193,2,  34.7198,2,   183.76,2,  184.37,2,    85.7,2,    2.25,2,   0.2698,2,   0.1362,2,   0.0195,2,  2257.5,2,  2343.1,6,  -0.007,2,    40.0,2,   32.71,2,   31.37,2,      0.001,2
09AR20080322,       SR03,      17,          1,         12,         12,2,20080331,       1816,   -62.8502,   139.8517,       3179,   700.6,   1.7815,  34.7338,2,  34.7339,2,   190.12,2,  189.41,2,    89.8,2,    2.24,2,   0.2569,2,   0.1317,2,   0.0201,2,  2255.3,2,  2345.4,2,  -0.017,2,    39.5,2,   32.35,2,   30.90,2,      0.001,2
09AR20080322,       SR03,      17,          1,         11,         11,2,20080331,       1816,   -62.8502,   139.8517,       3179,   899.6,   1.5903,  34.7390,2,  34.7388,2,   195.84,2,  196.05,2,    94.4,2,    2.22,2,   0.2357,2,   0.1199,2,   0.0163,2,  2254.5,2,  2348.7,2,  -0.025,2,    40.0,2,   33.00,2,   30.58,2,      0.001,2
09AR20080322,       SR03,      17,          1,         10,         10,2,20080331,       1816,   -62.8502,   139.8517,       3179,  1100.4,   1.4526,  34.7417,2,  34.7418,2,   199.41,2, -999.00,9,    99.0,2,    2.21,2,   0.1615,2,   0.0842,2,   0.0141,2,  2256.0,2,  2354.2,2,  -0.022,2,    40.0,2,   32.41,2,   30.42,2,      0.001,2
09AR20080322,       SR03,      17,          1,          9,          9,2,20080331,       1816,   -62.8502,   139.8517,       3179,  1200.0,   1.3665,  34.7383,2,  34.7388,2,   200.67,2,  199.87,2,   101.9,2,    2.24,2,   0.2063,2,   0.1089,2,   0.0112,2,  2256.5,2,  2350.3,2,  -0.021,2,    39.4,2,   32.17,2,   30.72,2,      0.001,2
09AR20080322,       SR03,      17,          1,          8,          8,2,20080331,       1816,   -62.8502,   139.8517,       3179,  1500.0,   1.1084,  34.7273,2,  34.7276,2,   203.36,2,  203.44,2,   109.9,2,    2.27,2,   0.1518,2,   0.0799,2,   0.0143,2,  2261.0,2,  2354.6,2,  -0.026,2,    39.9,2,   32.40,2,   31.19,2,      0.001,2
09AR20080322,       SR03,      17,          1,          7,          7,2,20080331,       1816,   -62.8502,   139.8517,       3179,  1801.4,   0.8364,  34.7127,2,  34.7125,2,   206.89,2,  207.09,2,   116.9,2,    2.31,2,   0.2027,2,   0.1038,2,   0.0132,2,  2261.0,2,  2356.8,2,  -0.031,2,    39.9,2,   33.92,2,   31.49,2,      0.001,2
09AR20080322,       SR03,      17,          1,          6,          6,2,20080331,       1816,   -62.8502,   139.8517,       3179,  2099.8,   0.6205,  34.7019,2,-999.0000,9,   210.47,2,  210.03,2,   122.8,2,    2.35,2,   0.2368,2,   0.1155,2,   0.0117,2,  2262.3,2,  2357.1,6,  -0.028,2,    39.7,2,   33.76,2,   31.80,2,      0.001,2
09AR20080322,       SR03,      17,          1,          5,          5,2,20080331,       1816,   -62.8502,   139.8517,       3179,  2399.8,   0.3913,  34.6903,2,  34.6905,2,   215.55,2,  215.30,2,   126.1,2,    2.36,2,   0.4135,2,   0.2081,2,   0.0233,2,  2262.6,2,  2355.0,2,  -0.034,2,    39.3,2,   33.49,2,   31.80,2,      0.001,2
09AR20080322,       SR03,      17,          1,          4,          4,2,20080331,       1816,   -62.8502,   139.8517,       3179,  2699.1,   0.2285,  34.6837,2,  34.6839,2,   220.40,2,  220.33,2,   127.0,2,    2.34,2,   0.6154,2,   0.3153,2,   0.0405,2,  2265.7,2,  2355.2,2,  -0.038,2,    39.2,2,   34.64,2,   30.99,3,      0.001,2
09AR20080322,       SR03,      17,          1,          3,          3,2,20080331,       1816,   -62.8502,   139.8517,       3179,  2999.5,   0.0850,  34.6781,2,  34.6770,2,   225.54,2,  225.02,2,   127.8,2,    2.34,2,   0.8689,2,   0.4315,2,   0.0501,2,  2262.1,2,  2355.4,2,  -0.037,2,    39.6,2,   34.33,2,   30.83,3,      0.001,2
09AR20080322,       SR03,      17,          1,          2,          2,2,20080331,       1816,   -62.8502,   139.8517,       3179,  3172.7,  -0.0152,  34.6732,2,  34.6721,2,   229.01,2,  229.15,2,   126.1,2,    2.33,2,   1.1455,2,   0.5817,2,   0.0701,2,  2261.4,6,  2354.1,2,  -0.039,2,    39.9,2,   34.72,2,   30.83,3,      0.001,2
09AR20080322,       SR03,      17,          1,          1,          1,2,20080331,       1816,   -62.8502,   139.8517,       3179,  3218.4,  -0.0567,  34.6707,2,  34.6699,2,   230.67,2,  230.41,2,   125.3,2,    2.34,2,   1.2992,2,   0.6490,2,   0.0833,2,  2261.5,2,  2353.5,6,  -0.017,2,    39.2,2,   34.28,2,   30.98,3,      0.001,2
09AR20080322,       SR03,      18,          1,         24,         24,2,20080401,       0047,   -62.3607,   139.8407,       3866,     5.2,   1.8974,  33.7869,2,  33.7883,2,   325.89,2,  324.66,2,    12.6,2,    1.68,2,   5.6120,2,   2.9907,2,   0.4935,2,  2142.0,6,  2279.6,2,   0.154,2,  -999.0,9, -999.00,9,   25.63,2,      3.372,2
09AR20080322,       SR03,      18,          1,         23,         23,2,20080401,       0047,   -62.3607,   139.8407,       3866,     5.1,   1.8961,  33.7868,2,-999.0000,9,   325.89,2, -999.00,9,  -999.0,9, -999.00,9,-999.0000,9,-999.0000,9,-999.0000,9,  -999.0,9,  -999.0,9,   0.207,2,  -999.0,9, -999.00,9, -999.00,9,      3.377,2
09AR20080322,       SR03,      18,          1,         22,         22,2,20080401,       0047,   -62.3607,   139.8407,       3866,     5.2,   1.8969,  33.7868,2,-999.0000,9,   325.89,2, -999.00,9,  -999.0,9, -999.00,9,-999.0000,9,-999.0000,9,-999.0000,9,  -999.0,9,  -999.0,9,   0.200,2,  -999.0,9, -999.00,9, -999.00,9,      3.373,2
09AR20080322,       SR03,      18,          1,         21,         21,2,20080401,       0047,   -62.3607,   139.8407,       3866,    30.4,   1.5577,  33.8045,2,  33.8014,2,   326.17,2,  325.73,2,    13.7,2,    1.71,2,   5.6175,6,   2.9893,6,   0.5148,6,  2145.6,2,  2281.6,2,   0.909,2,  -999.0,9, -999.00,9,   25.78,2,      2.657,2
09AR20080322,       SR03,      18,          1,         20,         20,2,20080401,       0047,   -62.3607,   139.8407,       3866,    49.9,   1.3733,  33.8175,2,  33.8194,2,   324.36,2,  327.20,2,    15.4,2,    1.75,2,   5.7859,2,   3.0404,2,   0.5198,2,  2150.0,2,  2281.6,2,   1.534,2,  -999.0,9, -999.00,9,   25.86,2,      2.215,2
09AR20080322,       SR03,      18,          1,         19,         19,2,20080401,       0047,   -62.3607,   139.8407,       3866,    74.6,  -0.0077,  34.0294,2,  34.0484,2,   300.32,2,  299.52,2,    39.0,2,    2.18,2,   5.3015,2,   2.7463,2,   0.4863,2,  2192.1,2,  2293.1,2,   0.749,2,  -999.0,9, -999.00,9,   30.17,2,      1.715,2
09AR20080322,       SR03,      18,          1,         18,         18,2,20080401,       0047,   -62.3607,   139.8407,       3866,   100.7,   1.2974,  34.2925,2,  34.2934,2,   245.76,2,  223.15,2,    58.4,2,    2.38,2,   2.9749,2,   1.5451,2,   0.2440,2,  2230.2,2,  2308.6,2,   0.100,2,  -999.0,9, -999.00,9,   33.27,2,      1.276,2
09AR20080322,       SR03,      18,          1,         17,         17,2,20080401,       0047,   -62.3607,   139.8407,       3866,   150.7,   1.9416,  34.4549,2,  34.4546,2,   185.73,2,  185.45,2,    70.4,2,    2.46,2,   1.5637,2,   0.8072,2,   0.1232,2,  2248.4,2,  2321.4,2,  -0.005,2,  -999.0,9, -999.00,9,   35.24,2,      0.533,2
09AR20080322,       SR03,      18,          1,         16,         16,2,20080401,       0047,   -62.3607,   139.8407,       3866,   201.6,   1.9921,  34.5181,2,  34.5154,2,   176.39,2,  178.50,2,    74.9,2,    2.45,2,   1.2044,2,   0.6101,2,   0.0953,2,  2252.2,2,  2324.7,6,  -0.009,2,  -999.0,9, -999.00,9,   35.24,2,      0.001,2
09AR20080322,       SR03,      18,          1,         15,         15,2,20080401,       0047,   -62.3607,   139.8407,       3866,   300.1,   2.1133,  34.6183,2,  34.6189,2,   172.86,2,  172.79,2,    79.6,2,    2.36,2,   0.5975,2,   0.3176,2,   0.0388,2,  2254.9,2,  2334.0,2,  -0.007,2,  -999.0,9, -999.00,9,   34.20,2,      0.001,2
09AR20080322,       SR03,      18,          1,         14,         14,2,20080401,       0047,   -62.3607,   139.8407,       3866,   500.7,   2.0393,  34.6947,2,  34.6948,2,   179.77,2,  178.72,2,    83.5,2,    2.26,2,   0.3425,2,   0.1736,2,   0.0243,2,  2253.9,2,  2338.9,2,  -0.024,2,  -999.0,9, -999.00,9,   32.48,2,      0.001,2
09AR20080322,       SR03,      18,          1,         13,         13,2,20080401,       0047,   -62.3607,   139.8407,       3866,   702.3,   1.9500,  34.7279,2,  34.7276,2,   187.33,2,  186.15,2,    85.6,2,    2.20,2,   0.2311,2,   0.1229,2,   0.0188,2,  2249.6,2,  2341.5,6,  -0.026,2,  -999.0,9, -999.00,9,   31.38,2,      0.001,2
09AR20080322,       SR03,      18,          1,         12,         12,2,20080401,       0047,   -62.3607,   139.8407,       3866,  1000.0,   1.6744,  34.7459,2,  34.7461,2,   195.65,2,  195.23,2,    92.6,2,    2.16,2,   0.1587,2,   0.0807,2,   0.0124,2,  2248.1,6,  2348.8,2,  -0.028,2,  -999.0,9, -999.00,9,   30.61,2,      0.001,2
09AR20080322,       SR03,      18,          1,         11,         11,2,20080401,       0047,   -62.3607,   139.8407,       3866,  1301.3,   1.3923,  34.7393,2,  34.7416,2,   199.91,2,  200.09,2,   101.0,2,    2.19,2,   0.1562,2,   0.0813,2,   0.0106,2,  2252.4,2,  2351.1,2,  -0.033,2,  -999.0,9, -999.00,9,   31.08,2,      0.001,2
09AR20080322,       SR03,      18,          1,         10,         10,2,20080401,       0047,   -62.3607,   139.8407,       3866,  1602.2,   1.1439,  34.7286,2,  34.7294,2,   202.44,2,  202.26,2,   108.6,2,    2.22,2,   0.1523,2,   0.0776,2,   0.0105,2,  2254.9,2,  2356.6,2,  -0.031,2,  -999.0,9, -999.00,9,   31.54,2,      0.001,2
09AR20080322,       SR03,      18,          1,          9,          9,2,20080401,       0047,   -62.3607,   139.8407,       3866,  1999.4,   0.8259,  34.7109,2,  34.7101,2,   206.03,2,  206.35,2,   116.9,2,    2.26,2,   0.2234,2,   0.1191,2,   0.0123,2,  2259.6,2,  2354.5,2,  -0.031,2,  -999.0,9, -999.00,9,   32.01,2,      0.001,2
09AR20080322,       SR03,      18,          1,          8,          8,2,20080401,       0047,   -62.3607,   139.8407,       3866,  2301.2,   0.5977,  34.6990,2,  34.6989,2,   209.44,2,  210.65,2,   122.8,2,    2.29,2,   0.3009,2,   0.1535,2,   0.0204,2,  2259.7,2,  2357.1,2,  -0.031,2,  -999.0,9, -999.00,9,   32.31,2,      0.001,2
09AR20080322,       SR03,      18,          1,          7,          7,2,20080401,       0047,   -62.3607,   139.8407,       3866,  2601.0,   0.4125,  34.6917,2,  34.6910,2,   214.20,2,  215.42,2,   127.4,2,    2.31,2,   0.3388,2,   0.1812,2,   0.0193,2,  2261.1,2,  2355.3,2,  -0.034,2,  -999.0,9, -999.00,9,   32.47,2,      0.001,2
09AR20080322,       SR03,      18,          1,          6,          6,2,20080401,       0047,   -62.3607,   139.8407,       3866,  2901.2,   0.2576,  34.6853,2,  34.6846,2,   219.23,2,  219.03,2,   131.2,2,    2.32,2,   0.5216,2,   0.2602,2,   0.0263,2,  2258.8,2,  2355.3,6,  -0.032,2,  -999.0,9, -999.00,9,   32.47,2,      0.001,2
09AR20080322,       SR03,      18,          1,          5,          5,2,20080401,       0047,   -62.3607,   139.8407,       3866,  3201.4,   0.1456,  34.6808,2,  34.6800,2,   223.35,2,  222.64,2,   131.6,2,    2.32,2,   0.6918,2,   0.3366,2,   0.0415,2,  2258.4,2,  2356.3,2,  -0.038,2,  -999.0,9, -999.00,9,   32.63,2,      0.001,2
09AR20080322,       SR03,      18,          1,          4,          4,2,20080401,       0047,   -62.3607,   139.8407,       3866,  3501.2,   0.0446,  34.6762,2,  34.6759,2,   228.17,2,  226.85,2,   130.4,2,    2.31,2,   0.9352,2,   0.4628,2,   0.0544,2,  2257.4,2,  2355.7,2,  -0.043,2,  -999.0,9, -999.00,9,   32.94,2,      0.001,2
09AR20080322,       SR03,      18,          1,          3,          3,2,20080401,       0047,   -62.3607,   139.8407,       3866,  3801.2,  -0.0483,  34.6700,2,  34.6694,2,   232.39,2,  231.50,2,   128.8,2,    2.32,2,   1.3614,2,   0.6727,2,   0.0936,2,  2256.0,2,  2355.3,2,  -0.041,2,  -999.0,9, -999.00,9,   32.31,2,      0.001,2
09AR20080322,       SR03,      18,          1,          2,          2,2,20080401,       0047,   -62.3607,   139.8407,       3866,  3952.4,  -0.1477,  34.6618,2,-999.0000,9,   235.68,2,  236.84,2,   126.6,2,    2.31,2,   1.8243,2,   0.9127,2,   0.1327,2,  2255.5,2,  2352.4,6,  -0.042,2,  -999.0,9, -999.00,9,   32.31,2,      0.001,2
09AR20080322,       SR03,      18,          1,          1,          1,2,20080401,       0047,   -62.3607,   139.8407,       3866,  3995.5,  -0.1978,  34.6576,2,  34.6590,2,   240.48,2,  241.02,2,   120.4,2,    2.28,2,   2.0339,2,   1.0459,2,   0.1488,2,  2254.9,6,  2350.8,2,  -0.038,2,  -999.0,9, -999.00,9,   31.92,2,      0.001,2