BOTTLE,20141029CCHSIOCBG
EXPOCODE,SECT_ID,STNNBR,CASTNO,SAMPNO,BTLNBR,BTLNBR_FLAG_W,DATE,TIME,LATITUDE,LONGITUDE,DEPTH,CTDPRS,CTDTMP,CTDSAL,CTDSAL_FLAG_W,SALNTY,SALNTY_FLAG_W,CTDOXY,CTDOXY_FLAG_W,OXYGEN,OXYGEN_FLAG_W,SILCAT,SILCAT_FLAG_W,PHSPHT,PHSPHT_FLAG_W,CFC-11,CFC-11_FLAG_W,CFC-12,CFC-12_FLAG_W,CFC113,CFC113_FLAG_W,TCARBN,TCARBN_FLAG_W,ALKALI,ALKALI_FLAG_W,FLUOR,FLUOR_FLAG_W,DOC,DOC_FLAG_W,TDN,TDN_FLAG_W,NO2+NO3,NO2+NO3_FLAG_W,PAR,PAR_FLAG_W
,,,,,,,,,,,METERS,DBAR,ITS-90,PSS-78,,PSS-78,,UMOL/KG,,UMOL/KG,,UMOL/KG,,UMOL/KG,,PMOL/KG,,PMOL/KG,,PMOL/KG,,UMOL/KG,,UMOL/KG,,MG/M^3,,UMOL/KG,,UMOL/KG,,UMOL/KG,,VOLTS,
09AR20080322,       SR03,      65,          1,         24,         24,2,20080413,       1959,   -46.6502,   145.2488,       3306,     7.8,  11.2428,  34.5886,2,  34.5900,2,  -999.00,5,  265.72,2,     1.4,2,    0.75,2,   3.2419,2,   1.9013,2,   0.2849,2,  2083.6,6,  2292.8,2,   0.530,2,  -999.0,9, -999.00,9,    9.46,2,      1.933,2
09AR20080322,       SR03,      65,          1,         23,         23,2,20080413,       1959,   -46.6502,   145.2488,       3306,    24.9,  11.2194,  34.5836,2,-999.0000,9,   266.44,2, -999.00,9,  -999.0,9, -999.00,9,-999.0000,9,-999.0000,9,-999.0000,9,  -999.0,9,  -999.0,9,   0.497,2,  -999.0,9, -999.00,9, -999.00,9,      1.455,2
09AR20080322,       SR03,      65,          1,         22,         22,2,20080413,       1959,   -46.6502,   145.2488,       3306,    25.1,  11.2200,  34.5835,2,-999.0000,9,   266.23,2, -999.00,9,  -999.0,9, -999.00,9,-999.0000,9,-999.0000,9,-999.0000,9,  -999.0,9,  -999.0,9,   0.503,2,  -999.0,9, -999.00,9, -999.00,9,      1.457,2
09AR20080322,       SR03,      65,          1,         21,         21,2,20080413,       1959,   -46.6502,   145.2488,       3306,    24.7,  11.2360,  34.5868,2,  34.5861,2,   266.44,2,  265.98,2,     1.4,2,    0.75,2,   3.2074,2,   1.8919,2,   0.2663,2,  2083.0,2,  2293.0,2,   0.498,2,  -999.0,9, -999.00,9,    9.44,2,      1.473,2
09AR20080322,       SR03,      65,          1,         20,         20,2,20080413,       1959,   -46.6502,   145.2488,       3306,    49.4,  11.0644,  34.5562,2,  34.5425,2,   265.71,2,  266.59,2,     1.4,2,    0.79,2,   3.2750,2,   1.9226,2,   0.2966,2,  2083.1,2,  2290.9,2,   0.447,2,  -999.0,9, -999.00,9,   10.07,2,      1.141,2
09AR20080322,       SR03,      65,          1,         19,         19,2,20080413,       1959,   -46.6502,   145.2488,       3306,    75.5,  10.5311,  34.4616,2,  34.4616,2,   268.35,2,  269.49,2,     1.3,2,    0.88,2,   3.3999,2,   1.9674,2,   0.3153,2,  2084.9,2,  2286.4,2,   0.329,2,  -999.0,9, -999.00,9,   11.15,2,      0.778,2
09AR20080322,       SR03,      65,          1,         18,         18,2,20080413,       1959,   -46.6502,   145.2488,       3306,    97.2,  10.4445,  34.4495,2,  34.4485,2,   270.06,2,  271.19,2,     1.3,2,    0.89,2,   3.3884,2,   1.9756,2,   0.3028,2,  2092.5,2,  2287.1,2,   0.313,2,  -999.0,9, -999.00,9,   11.30,2,      0.384,2
09AR20080322,       SR03,      65,          1,         17,         17,2,20080413,       1959,   -46.6502,   145.2488,       3306,   148.9,  10.7474,  34.6062,2,  34.6016,2,   244.95,2,  257.51,2,     1.9,2,    0.90,2,-999.0000,9,-999.0000,9,-999.0000,9,  -999.0,9,  -999.0,9,   0.114,2,  -999.0,9, -999.00,9,   11.72,2,      0.001,2
09AR20080322,       SR03,      65,          1,         16,         16,2,20080413,       1959,   -46.6502,   145.2488,       3306,   197.2,  10.4249,  34.8193,2,  34.8202,2,   245.16,2,  245.67,2,     3.6,2,    0.95,2,   3.2333,2,   1.8897,2,   0.2411,2,  2114.9,3,  2299.1,6,  -0.032,2,  -999.0,9, -999.00,9,   13.22,2,      0.001,2
09AR20080322,       SR03,      65,          1,         15,         15,2,20080413,       1959,   -46.6502,   145.2488,       3306,   249.5,   9.4758,  34.6611,2,-999.0000,9,   253.10,2,  256.35,2,     3.8,2,    1.03,2,-999.0000,9,-999.0000,9,-999.0000,9,  -999.0,9,  -999.0,9,  -0.038,2,  -999.0,9, -999.00,9,   14.53,2,      0.001,2
09AR20080322,       SR03,      65,          1,         14,         14,2,20080413,       1959,   -46.6502,   145.2488,       3306,   299.0,   9.1676,  34.6181,2,  34.6180,2,   255.44,2,  254.79,2,     4.4,2,    1.10,2,   3.4907,2,   1.9990,2,   0.2551,2,  2117.4,2,  2288.3,2,  -0.038,2,  -999.0,9, -999.00,9,   15.86,2,      0.001,2
09AR20080322,       SR03,      65,          1,         13,         13,2,20080413,       1959,   -46.6502,   145.2488,       3306,   399.6,   8.7088,  34.5610,2,  34.5608,2,   253.59,2,  253.91,2,     5.3,2,    1.18,2,   3.5751,2,   2.0061,2,   0.2496,2,  2121.1,2,  2291.3,2,  -0.041,2,  -999.0,9, -999.00,9,   17.43,2,      0.001,2
09AR20080322,       SR03,      65,          1,         12,         12,2,20080413,       1959,   -46.6502,   145.2488,       3306,   499.0,   8.4732,  34.5524,2,  34.5521,2,   243.69,2,  244.34,2,     6.4,2,    1.29,2,   3.3737,2,   1.8940,2,   0.2308,2,  2128.6,2,  2285.3,2,  -0.042,2,  -999.0,9, -999.00,9,   19.06,2,      0.001,2
09AR20080322,       SR03,      65,          1,         11,         11,2,20080413,       1959,   -46.6502,   145.2488,       3306,   602.4,   7.8618,  34.4928,2,  34.4909,2,   225.36,2,  226.50,2,     9.8,2,    1.47,2,   3.1034,2,   1.6699,2,   0.1807,2,  2144.9,2,  2287.0,2,  -0.040,2,  -999.0,9, -999.00,9,   22.19,2,      0.001,2
09AR20080322,       SR03,      65,          1,         10,         10,2,20080413,       1959,   -46.6502,   145.2488,       3306,   702.2,   7.0616,  34.4470,2,  34.4481,2,   209.31,2,  209.52,2,    14.7,2,    1.69,2,   2.5056,2,   1.3337,2,   0.1253,2,  2163.4,2,  2285.9,2,  -0.038,2,  -999.0,9, -999.00,9,   25.24,2,      0.001,2
09AR20080322,       SR03,      65,          1,          9,          9,2,20080413,       1959,   -46.6502,   145.2488,       3306,   799.3,   6.2227,  34.4008,2,  34.4006,2,   206.29,2,  205.32,2,    19.6,2,    1.85,2,   2.3128,2,   1.1914,2,   0.1184,2,  2172.1,2,  2287.2,2,  -0.041,2,  -999.0,9, -999.00,9,   27.30,2,      0.001,2
09AR20080322,       SR03,      65,          1,          8,          8,2,20080413,       1959,   -46.6502,   145.2488,       3306,   900.6,   5.3153,  34.3528,2,  34.3515,2,   210.49,2,  208.22,2,    24.8,2,    1.97,2,-999.0000,9,-999.0000,9,-999.0000,9,  -999.0,9,  -999.0,9,  -0.038,2,  -999.0,9, -999.00,9,   28.94,2,      0.001,2
09AR20080322,       SR03,      65,          1,          7,          7,2,20080413,       1959,   -46.6502,   145.2488,       3306,   998.6,   4.4751,  34.3252,2,  34.3845,4,   210.27,2,  209.38,2,    31.1,2,    2.11,2,   2.1838,2,   1.1189,2,   0.1389,2,  -999.0,9,  -999.0,9,  -0.039,2,  -999.0,9, -999.00,9,   30.22,2,      0.001,2
09AR20080322,       SR03,      65,          1,          6,          6,2,20080413,       1959,   -46.6502,   145.2488,       3306,  1099.8,   4.1019,  34.3773,2,  34.3772,2,   192.95,2,  194.15,2,    41.9,2,    2.21,2,   1.3862,2,   0.6991,2,   0.0854,2,  2205.9,2,  2305.1,2,  -0.034,2,  -999.0,9, -999.00,9,   31.42,2,      0.001,2
09AR20080322,       SR03,      65,          1,          5,          5,2,20080413,       1959,   -46.6502,   145.2488,       3306,  1199.5,   3.6420,  34.3870,2,  34.3859,2,   189.73,2,  190.62,2,    47.4,2,    2.28,2,-999.0000,9,-999.0000,9,-999.0000,9,  -999.0,9,  -999.0,9,  -0.032,2,  -999.0,9, -999.00,9,   31.98,2,      0.001,2
09AR20080322,       SR03,      65,          1,          4,          4,2,20080413,       1959,   -46.6502,   145.2488,       3306,  1349.8,   3.2085,  34.4433,2,  34.4424,2,   181.20,2,  179.69,2,    57.7,2,    2.36,2,   0.8612,2,   0.4265,2,   0.0533,2,  2233.1,6,  2318.7,2,  -0.029,2,  -999.0,9, -999.00,9,   32.74,2,      0.001,2
09AR20080322,       SR03,      65,          1,          3,          3,2,20080413,       1959,   -46.6502,   145.2488,       3306,  1501.5,   2.7964,  34.4951,2,  34.4946,2,   176.53,2,  176.77,2,    64.0,2,    2.39,2,   0.7582,2,   0.3779,2,   0.0446,2,  2244.5,2,  2323.4,6,  -0.027,2,  -999.0,9, -999.00,9,   33.15,2,      0.001,2
09AR20080322,       SR03,      65,          1,          2,          2,2,20080413,       1959,   -46.6502,   145.2488,       3306,  1648.7,   2.6967,  34.5594,2,  34.5610,2,   171.54,2,  172.07,2,    71.3,2,    2.39,2,-999.0000,9,-999.0000,9,-999.0000,9,  -999.0,9,  -999.0,9,  -0.031,2,  -999.0,9, -999.00,9,   33.78,2,      0.001,2
09AR20080322,       SR03,      65,          1,          1,          1,2,20080413,       1959,   -46.6502,   145.2488,       3306,  1800.8,   2.5413,  34.6276,2,  34.6270,2,   170.15,2,  171.01,2,    78.8,2,    2.36,2,-999.0000,9,-999.0000,9,-999.0000,9,  -999.0,9,  -999.0,9,  -0.019,2,  -999.0,9, -999.00,9,   33.52,2,      0.001,2
09AR20080322,       SR03,      66,          1,         24,         24,2,20080414,       0122,   -46.1702,   145.4718,       2690,     9.1,  13.5036,  35.0916,2,  35.0904,2,   251.89,2,  252.85,2,  -999.0,9, -999.00,9,   2.8560,2,   1.7066,2,   0.2518,2,  2072.3,6,  2316.0,2,   1.281,2,    55.8,2,    7.39,2, -999.00,9,      2.708,2
09AR20080322,       SR03,      66,          1,         23,         23,2,20080414,       0122,   -46.1702,   145.4718,       2690,    49.6,  13.5315,  35.1031,2,-999.0000,9,   250.56,2, -999.00,9,  -999.0,9, -999.00,9,-999.0000,9,-999.0000,9,-999.0000,9,  -999.0,9,  -999.0,9,   0.982,2,  -999.0,9, -999.00,9, -999.00,9,      1.921,2
09AR20080322,       SR03,      66,          1,         22,         22,2,20080414,       0122,   -46.1702,   145.4718,       2690,    49.5,  13.5311,  35.1027,2,-999.0000,9,   250.56,2, -999.00,9,  -999.0,9, -999.00,9,-999.0000,9,-999.0000,9,-999.0000,9,  -999.0,9,  -999.0,9,   1.130,2,  -999.0,9, -999.00,9, -999.00,9,      1.904,2
09AR20080322,       SR03,      66,          1,         21,         21,2,20080414,       0122,   -46.1702,   145.4718,       2690,    49.4,  13.5322,  35.1029,2,  35.1034,2,   250.56,2,  251.46,2,     1.1,2,    0.41,2,   2.8394,2,   1.7237,2,   0.2347,2,  2073.6,2,  2315.5,6,   1.122,2,    55.2,2,    7.29,2,    3.83,2,      1.934,2
09AR20080322,       SR03,      66,          1,         20,         20,2,20080414,       0122,   -46.1702,   145.4718,       2690,    90.7,  13.5256,  35.1026,2,  35.1035,2,   250.58,2,  250.49,2,     1.2,2,    0.42,2,   2.8607,2,   1.7001,2,   0.2496,2,  2073.3,2,  2315.0,2,   0.892,2,    54.9,2,    7.20,2,    3.94,2,      0.692,2
09AR20080322,       SR03,      66,          1,         19,         19,2,20080414,       0122,   -46.1702,   145.4718,       2690,   129.6,  12.0028,  35.0462,2,  35.0331,2,   232.32,2,  230.51,2,     3.2,2,    0.83,2,   2.9979,2,   1.7572,2,   0.2149,2,  2112.2,2,  2306.6,2,  -0.014,2,    50.2,2,   14.78,2,   11.96,2,      0.002,2
09AR20080322,       SR03,      66,          1,         18,         18,2,20080414,       0122,   -46.1702,   145.4718,       2690,   200.3,  10.9648,  34.9295,2,  34.9907,4,   242.41,2,  240.19,2,     3.5,2,    0.90,2,   3.1025,2,   1.8224,2,   0.2012,2,  2111.3,2,  2301.5,2,  -0.033,2,    48.5,2,   15.11,2,   12.85,2,      0.001,2
09AR20080322,       SR03,      66,          1,         17,         17,2,20080414,       0122,   -46.1702,   145.4718,       2690,   300.8,   9.7099,  34.7093,2,  34.7087,2,   253.97,2,  251.66,2,     3.9,2,    1.02,2,   3.3384,2,   1.9387,2,   0.2493,2,  2117.9,2,  2295.3,2,  -0.040,2,    46.3,2,   16.26,2,   14.79,2,      0.001,2
09AR20080322,       SR03,      66,          1,         16,         16,2,20080414,       0122,   -46.1702,   145.4718,       2690,   400.2,   9.3895,  34.6794,2,  34.6804,2,   239.74,2,  245.65,2,     4.8,2,    1.11,2,   3.3631,2,   1.9127,2,   0.2084,2,  2128.5,2,  2291.2,6,  -0.040,2,    45.3,2,   17.57,2,   16.22,2,      0.001,2
09AR20080322,       SR03,      66,          1,         15,         15,2,20080414,       0122,   -46.1702,   145.4718,       2690,   501.2,   8.8688,  34.6148,2,  34.6156,2,   243.26,2,  242.25,2,     5.8,2,    1.22,2,   3.3517,2,   1.8942,2,   0.2044,2,  2132.1,2,  2289.4,2,  -0.043,2,    44.0,2,   19.23,2,   17.95,2,      0.001,2
09AR20080322,       SR03,      66,          1,         14,         14,2,20080414,       0122,   -46.1702,   145.4718,       2690,   598.7,   8.4634,  34.5694,2,  34.5708,2,   234.34,2,  233.93,2,     7.3,2,    1.34,2,   3.0503,2,   1.7617,2,   0.1619,2,  2143.8,2,  2288.3,2,  -0.043,2,    43.7,2,   20.70,2,   19.62,2,      0.001,2
09AR20080322,       SR03,      66,          1,         13,         13,2,20080414,       0122,   -46.1702,   145.4718,       2690,   701.7,   7.6931,  34.5071,2,  34.5121,2,   212.40,2,  210.96,2,    12.1,2,    1.56,2,   2.4418,2,   1.3190,2,   0.1167,2,  2153.8,2,  2288.3,6,  -0.036,2,    42.2,2,   24.96,2,   23.18,2,      0.001,2
09AR20080322,       SR03,      66,          1,         12,         12,2,20080414,       0122,   -46.1702,   145.4718,       2690,   800.2,   6.6346,  34.4543,2,  34.4548,2,   197.03,2,  196.33,2,    19.8,2,    1.82,2,   1.6528,2,   0.8532,2,   0.0781,2,  2171.1,6,  2292.0,2,  -0.035,2,    41.7,2,   28.12,2,   26.53,2,      0.001,2
09AR20080322,       SR03,      66,          1,         11,         11,2,20080414,       0122,   -46.1702,   145.4718,       2690,   899.7,   5.7312,  34.4098,2,  34.4112,2,   195.57,2,  195.53,2,    26.5,2,    1.96,2,   1.4943,2,   0.7821,2,   0.0764,2,  2191.1,2,  2295.0,2,  -0.038,2,    40.6,2,   30.00,2,   28.85,2,      0.001,2
09AR20080322,       SR03,      66,          1,         10,         10,2,20080414,       0122,   -46.1702,   145.4718,       2690,   999.0,   5.1853,  34.3945,2,  34.3955,2,   194.00,2,  194.56,2,    31.7,2,    2.06,2,   1.3966,2,   0.7212,2,   0.0752,2,  2198.5,2,  2298.6,2,  -0.036,2,    39.7,2,   32.12,2,   30.76,2,      0.001,2
09AR20080322,       SR03,      66,          1,          9,          9,2,20080414,       0122,   -46.1702,   145.4718,       2690,  1200.2,   3.9705,  34.4185,2,  34.4182,2,   184.03,2,  182.79,2,    50.0,2,    2.28,2,   0.9346,2,   0.4693,2,   0.0586,2,  2218.3,2,  2314.9,2,  -0.034,2,    39.5,2,   34.82,2,   33.54,2,      0.001,2
09AR20080322,       SR03,      66,          1,          8,          8,2,20080414,       0122,   -46.1702,   145.4718,       2690,  1401.9,   3.2919,  34.4861,2,  34.4866,2,   169.38,2,  170.39,2,    65.7,2,    2.40,2,   0.5392,2,   0.2696,2,   0.0282,2,  2243.0,2,  2330.2,2,  -0.029,2,    39.0,2,   35.81,2,   34.68,2,      0.001,2
09AR20080322,       SR03,      66,          1,          7,          7,2,20080414,       0122,   -46.1702,   145.4718,       2690,  1600.1,   2.8598,  34.5661,2,  34.5659,2,   163.15,2,  163.15,2,    78.3,2,    2.43,2,   0.2554,2,   0.1232,2,   0.0146,2,  2267.9,2,  2344.7,2,  -0.029,2,    39.4,2,   35.64,2,   34.88,2,      0.001,2
09AR20080322,       SR03,      66,          1,          6,          6,2,20080414,       0122,   -46.1702,   145.4718,       2690,  1800.7,   2.5595,  34.6277,2,  34.6287,2,   166.37,2,  167.10,2,    82.6,2,    2.39,2,   0.1550,2,   0.0757,2,   0.0050,2,  2261.0,2,  2347.7,6,  -0.028,2,    39.4,2,   35.03,2,   34.06,2,      0.001,2
09AR20080322,       SR03,      66,          1,          5,          5,2,20080414,       0122,   -46.1702,   145.4718,       2690,  2000.7,   2.3993,  34.6684,2,  34.6694,2,   171.31,2,  171.78,2,    84.2,2,    2.33,2,   0.1142,2,   0.0589,2,   0.0085,2,  2257.7,2,  2349.9,2,  -0.028,2,    39.5,2,   34.64,2,   33.17,2,      0.001,2
09AR20080322,       SR03,      66,          1,          4,          4,2,20080414,       0122,   -46.1702,   145.4718,       2690,  2249.9,   2.2103,  34.7093,2,  34.7105,2,   176.95,2,  176.85,2,    89.1,2,    2.28,2,   0.0703,6,   0.0354,6,   0.0032,6,  2258.1,2,  2354.9,2,  -0.025,2,    39.1,2,   33.56,2,   32.20,2,      0.001,2
09AR20080322,       SR03,      66,          1,          3,          3,2,20080414,       0122,   -46.1702,   145.4718,       2690,  2502.5,   1.9957,  34.7298,2,  34.7307,2,   181.92,2,  181.20,2,    95.8,2,    2.27,2,   0.0357,2,   0.0153,2,   0.0127,2,  2264.4,2,  2361.3,2,  -0.025,2,    39.1,2,   33.10,2,   31.68,2,      0.001,2
09AR20080322,       SR03,      66,          1,          2,          2,2,20080414,       0122,   -46.1702,   145.4718,       2690,  2704.1,   1.8200,  34.7345,2,-999.0000,9,   185.53,2,  184.33,2,   100.7,2,    2.27,2,   0.0172,2,   0.0073,2,   0.0080,2,  2274.8,2,  2368.0,2,  -0.029,2,    39.2,2,   32.68,2,   31.74,2,      0.001,2
09AR20080322,       SR03,      66,          1,          1,          1,2,20080414,       0122,   -46.1702,   145.4718,       2690,  2748.9,   1.7629,  34.7345,2,  34.7355,2,   186.18,2,  187.84,3,   102.8,2,    2.27,2,   0.0173,2,   0.0042,2,   0.0034,2,  2273.9,6,  2367.7,2,  -0.024,2,    39.6,2,   33.17,2,   31.86,2,      0.001,2