BOTTLE,20141029CCHSIOCBG
EXPOCODE,SECT_ID,STNNBR,CASTNO,SAMPNO,BTLNBR,BTLNBR_FLAG_W,DATE,TIME,LATITUDE,LONGITUDE,DEPTH,CTDPRS,CTDTMP,CTDSAL,CTDSAL_FLAG_W,SALNTY,SALNTY_FLAG_W,CTDOXY,CTDOXY_FLAG_W,OXYGEN,OXYGEN_FLAG_W,SILCAT,SILCAT_FLAG_W,PHSPHT,PHSPHT_FLAG_W,CFC-11,CFC-11_FLAG_W,CFC-12,CFC-12_FLAG_W,CFC113,CFC113_FLAG_W,TCARBN,TCARBN_FLAG_W,ALKALI,ALKALI_FLAG_W,FLUOR,FLUOR_FLAG_W,DOC,DOC_FLAG_W,TDN,TDN_FLAG_W,NO2+NO3,NO2+NO3_FLAG_W,PAR,PAR_FLAG_W
,,,,,,,,,,,METERS,DBAR,ITS-90,PSS-78,,PSS-78,,UMOL/KG,,UMOL/KG,,UMOL/KG,,UMOL/KG,,PMOL/KG,,PMOL/KG,,PMOL/KG,,UMOL/KG,,UMOL/KG,,MG/M^3,,UMOL/KG,,UMOL/KG,,UMOL/KG,,VOLTS,
09AR20080322,       SR03,      39,          1,         24,         24,2,20080406,       1856,   -54.0687,   141.6067,       2520,     4.1,   4.3546,  33.7358,2,  33.7357,2,   311.03,2,  310.26,2,     2.8,2,    1.67,2,   4.8904,2,   2.6762,2,   0.4413,2,  2129.2,6,  2271.3,2,   0.629,2,  -999.0,9, -999.00,9,   25.87,2,      0.137,2
09AR20080322,       SR03,      39,          1,         23,         23,2,20080406,       1856,   -54.0687,   141.6067,       2520,    22.5,   4.3542,  33.7359,2,-999.0000,9,   310.94,2, -999.00,9,  -999.0,9, -999.00,9,-999.0000,9,-999.0000,9,-999.0000,9,  -999.0,9,  -999.0,9,   0.636,2,  -999.0,9, -999.00,9, -999.00,9,      0.001,2
09AR20080322,       SR03,      39,          1,         22,         22,2,20080406,       1856,   -54.0687,   141.6067,       2520,    22.7,   4.3542,  33.7357,2,-999.0000,9,   310.94,2, -999.00,9,  -999.0,9, -999.00,9,-999.0000,9,-999.0000,9,-999.0000,9,  -999.0,9,  -999.0,9,   0.685,2,  -999.0,9, -999.00,9, -999.00,9,      0.001,2
09AR20080322,       SR03,      39,          1,         21,         21,2,20080406,       1856,   -54.0687,   141.6067,       2520,    22.2,   4.3546,  33.7357,2,  33.7363,2,   310.94,2,  310.30,2,     2.8,2, -999.00,9,   4.8380,2,   2.6831,2,   0.4086,2,  2128.7,2,  2273.0,6,   0.622,2,  -999.0,9, -999.00,9,   25.87,2,      0.001,2
09AR20080322,       SR03,      39,          1,         20,         20,2,20080406,       1856,   -54.0687,   141.6067,       2520,    48.4,   4.3555,  33.7356,2,  33.7351,2,   310.82,2,  310.09,2,     2.8,2,    1.67,2,   4.8115,2,   2.6622,2,   0.4143,2,  2129.0,2,  2277.1,2,   0.667,2,  -999.0,9, -999.00,9,   26.01,2,      0.001,2
09AR20080322,       SR03,      39,          1,         19,         19,2,20080406,       1856,   -54.0687,   141.6067,       2520,    74.3,   4.3544,  33.7356,2,  33.7359,2,   310.99,2,  311.26,2,     2.8,2,    1.67,2,   4.8498,2,   2.6722,2,   0.4292,2,  2128.2,3,  -999.0,9,   0.656,2,  -999.0,9, -999.00,9,   25.94,2,      0.001,2
09AR20080322,       SR03,      39,          1,         18,         18,2,20080406,       1856,   -54.0687,   141.6067,       2520,    97.5,   4.2574,  33.7363,2,  33.7392,2,   309.49,2,  311.56,2,     3.2,2,    1.68,2,   4.8530,2,   2.6859,2,   0.4211,2,  2130.2,2,  2277.4,2,   0.681,2,  -999.0,9, -999.00,9,   26.00,2,      0.001,2
09AR20080322,       SR03,      39,          1,         17,         17,2,20080406,       1856,   -54.0687,   141.6067,       2520,   147.4,   1.4501,  33.9314,2,  33.9275,2,   305.54,2,  306.09,2,    22.4,2,    2.01,2,   5.2695,2,   2.8385,2,   0.4391,2,  2170.0,2,  2283.1,2,   0.238,2,  -999.0,9, -999.00,9,   30.27,2,      0.001,2
09AR20080322,       SR03,      39,          1,         16,         16,2,20080406,       1856,   -54.0687,   141.6067,       2520,   200.4,   1.8607,  34.0885,2,  34.0880,2,   270.38,2,  270.94,2,    34.9,2,    2.13,2,   4.4713,2,   2.3392,2,   0.3535,2,  2191.5,2,  2292.8,6,  -0.018,2,  -999.0,9, -999.00,9,   32.00,2,      0.001,2
09AR20080322,       SR03,      39,          1,         15,         15,2,20080406,       1856,   -54.0687,   141.6067,       2520,   248.1,   2.0108,  34.1841,2,  34.1832,2,   241.59,2,  242.84,2,    43.3,2,    2.23,2,   3.5720,2,   1.8686,2,   0.2739,2,  2207.9,2,  2298.6,2,  -0.033,2,  -999.0,9, -999.00,9, -999.00,9,      0.001,2
09AR20080322,       SR03,      39,          1,         14,         14,2,20080406,       1856,   -54.0687,   141.6067,       2520,   300.2,   2.2200,  34.2743,2,  34.2746,2,   216.96,2,  216.22,2,    51.0,2,    2.31,2,   2.7095,2,   1.3918,2,   0.2057,2,  2223.2,6,  2305.2,2,  -0.029,2,  -999.0,9, -999.00,9,   34.14,2,      0.001,2
09AR20080322,       SR03,      39,          1,         13,         13,2,20080406,       1856,   -54.0687,   141.6067,       2520,   349.3,   2.2736,  34.3387,2,  34.3376,2,   201.46,2,  201.25,2,    57.2,2,    2.36,2,-999.0000,9,-999.0000,9,-999.0000,9,  -999.0,9,  -999.0,9,  -0.030,2,  -999.0,9, -999.00,9,   34.69,2,      0.001,2
09AR20080322,       SR03,      39,          1,         12,         12,2,20080406,       1856,   -54.0687,   141.6067,       2520,   396.8,   2.3633,  34.3866,2,  34.3865,2,   192.77,2,  191.95,2,    60.7,2,    2.36,2,   1.7956,2,   0.8977,2,   0.1310,2,  2239.6,2,  2315.0,2,  -0.027,2,  -999.0,9, -999.00,9,   34.53,2,      0.001,2
09AR20080322,       SR03,      39,          1,         11,         11,2,20080406,       1856,   -54.0687,   141.6067,       2520,   498.7,   2.3657,  34.4688,2,  34.4683,2,   178.61,2,  179.94,2,    67.5,2,    2.38,2,-999.0000,9,-999.0000,9,-999.0000,9,  -999.0,9,  -999.0,9,  -0.028,2,  -999.0,9, -999.00,9,   34.37,2,      0.001,2
09AR20080322,       SR03,      39,          1,         10,         10,2,20080406,       1856,   -54.0687,   141.6067,       2520,   597.9,   2.3697,  34.5402,2,  34.5396,2,   173.65,2,  174.67,2,    72.0,2,    2.35,2,   0.8089,2,   0.3986,2,   0.0510,2,  2253.1,2,  2328.9,2,  -0.026,2,  -999.0,9, -999.00,9,   33.93,2,      0.001,2
09AR20080322,       SR03,      39,          1,          9,          9,2,20080406,       1856,   -54.0687,   141.6067,       2520,   701.4,   2.3408,  34.5927,2,  34.5924,2,   172.83,2,  173.19,2,    74.9,2,    2.31,2,   0.5662,2,   0.2874,2,   0.0326,2,  2254.5,2,  2334.9,2,  -0.027,2,  -999.0,9, -999.00,9,   33.20,2,      0.001,2
09AR20080322,       SR03,      39,          1,          8,          8,2,20080406,       1856,   -54.0687,   141.6067,       2520,   800.9,   2.3144,  34.6371,2,  34.6392,2,   174.94,2,  175.09,2,    76.6,2,    2.27,2,   0.4269,2,   0.2150,2,   0.0286,2,  2254.1,2,  2336.3,2,  -0.026,2,  -999.0,9, -999.00,9,   32.62,2,      0.001,2
09AR20080322,       SR03,      39,          1,          7,          7,2,20080406,       1856,   -54.0687,   141.6067,       2520,   900.7,   2.2905,  34.6667,2,  34.6669,2,   177.17,2,  176.56,2,    78.3,2,    2.24,2,   0.3263,2,   0.1599,2,   0.0232,2,  2254.1,2,  2341.6,6,  -0.027,2,  -999.0,9, -999.00,9, -999.00,9,      0.001,2
09AR20080322,       SR03,      39,          1,          6,          6,2,20080406,       1856,   -54.0687,   141.6067,       2520,   997.7,   2.2453,  34.6919,2,  34.6918,2,   180.47,2,  180.12,2,    79.9,2,    2.22,2,-999.0000,9,-999.0000,9,-999.0000,9,  -999.0,9,  -999.0,9,  -0.026,2,  -999.0,9, -999.00,9, -999.00,9,      0.001,2
09AR20080322,       SR03,      39,          1,          5,          5,2,20080406,       1856,   -54.0687,   141.6067,       2520,  1096.8,   2.1831,  34.7124,2,  34.7132,2,   183.76,2,  183.81,2,    81.1,2,    2.17,2,   0.2366,2,   0.1157,2,   0.0178,2,  2250.9,2,  2347.2,2,  -0.029,2,  -999.0,9, -999.00,9,   32.21,3,      0.001,2
09AR20080322,       SR03,      39,          1,          4,          4,2,20080406,       1856,   -54.0687,   141.6067,       2520,  1201.9,   2.1298,  34.7241,2,  34.7254,2,   186.49,2,  186.63,2,    82.2,2,    2.15,2,-999.0000,9,-999.0000,9,-999.0000,9,  -999.0,9,  -999.0,9,  -0.029,2,  -999.0,9, -999.00,9,   31.84,3,      0.001,2
09AR20080322,       SR03,      39,          1,          3,          3,2,20080406,       1856,   -54.0687,   141.6067,       2520,  1300.8,   2.0713,  34.7353,2,  34.7355,2,   189.32,2,  189.54,2,    83.9,2,    2.12,2,   0.1641,2,   0.0805,2,   0.0154,2,  2249.7,6,  2343.9,2,  -0.026,2,  -999.0,9, -999.00,9,   31.47,3,      0.001,2
09AR20080322,       SR03,      39,          1,          2,          2,2,20080406,       1856,   -54.0687,   141.6067,       2520,  1395.9,   1.9908,  34.7427,2,  34.7433,2,   191.97,2,  191.84,2,    85.5,2,    2.12,2,-999.0000,9,-999.0000,9,-999.0000,9,  -999.0,9,  -999.0,9,  -0.030,2,  -999.0,9, -999.00,9,   31.01,3,      0.001,2
09AR20080322,       SR03,      39,          1,          1,          1,2,20080406,       1856,   -54.0687,   141.6067,       2520,  1502.9,   1.8993,  34.7472,2,  34.7477,2,   194.13,2,  194.32,2,    88.0,2,    2.10,2,   0.1335,2,   0.0647,2,   0.0139,2,  2250.0,2,  2347.4,6,  -0.028,2,  -999.0,9, -999.00,9,   30.70,2,      0.001,2
09AR20080322,       SR03,      40,          1,         24,         24,2,20080407,       0029,   -53.5823,   141.8612,       2631,     6.7,   5.8377,  33.7492,2,  33.7492,2,  -999.00,5,  302.13,2,     2.1,2,    1.56,2,   4.5231,2,   2.5427,2,   0.3897,2,  2115.2,6,  2268.5,2,   0.760,2,    45.8,2,   27.44,2,   22.73,2,      3.184,2
09AR20080322,       SR03,      40,          1,         23,         23,2,20080407,       0029,   -53.5823,   141.8612,       2631,    30.3,   5.8321,  33.7495,2,-999.0000,9,   302.30,2, -999.00,9,  -999.0,9, -999.00,9,-999.0000,9,-999.0000,9,-999.0000,9,  -999.0,9,  -999.0,9,   1.224,2,  -999.0,9, -999.00,9, -999.00,9,      2.539,2
09AR20080322,       SR03,      40,          1,         22,         22,2,20080407,       0029,   -53.5823,   141.8612,       2631,    30.2,   5.8323,  33.7495,2,-999.0000,9,   302.30,2, -999.00,9,  -999.0,9, -999.00,9,-999.0000,9,-999.0000,9,-999.0000,9,  -999.0,9,  -999.0,9,   1.200,2,  -999.0,9, -999.00,9, -999.00,9,      2.551,2
09AR20080322,       SR03,      40,          1,         21,         21,2,20080407,       0029,   -53.5823,   141.8612,       2631,    30.1,   5.8314,  33.7496,2,  33.7494,2,   302.30,2,  301.95,2,     2.1,2,    1.57,2,   4.4862,2,   2.5156,2,   0.4000,2,  2115.8,2,  2270.4,6,   1.269,2,    45.7,2,   26.98,2,   22.66,2,      2.538,2
09AR20080322,       SR03,      40,          1,         20,         20,2,20080407,       0029,   -53.5823,   141.8612,       2631,    71.6,   5.8324,  33.7488,2,  33.7496,2,   302.11,2,  301.83,2,     2.1,2,    1.56,2,   4.5105,2,   2.5462,2,   0.3921,2,  2116.6,2,  2270.6,2,   1.127,2,    44.8,2,   26.40,2,   22.67,2,      1.693,2
09AR20080322,       SR03,      40,          1,         19,         19,2,20080407,       0029,   -53.5823,   141.8612,       2631,   110.7,   3.1617,  33.8812,2,  33.8799,2,   302.16,2,  302.01,2,    13.2,2,    1.79,2,   5.1552,2,   2.8313,2,   0.4373,2,  2146.2,2,  2275.8,2,   0.112,2,    44.4,2,   28.80,2,   26.34,2,      0.986,2
09AR20080322,       SR03,      40,          1,         18,         18,2,20080407,       0029,   -53.5823,   141.8612,       2631,   148.6,   3.2067,  33.9459,2,  33.9453,2,   292.85,2,  291.61,2,    15.6,2,    1.84,2,   4.9758,2,   2.6963,2,   0.4186,2,  2155.1,2,  2276.2,2,  -0.016,2,    43.6,2,   29.14,2,   27.01,2,      0.482,2
09AR20080322,       SR03,      40,          1,         17,         17,2,20080407,       0029,   -53.5823,   141.8612,       2631,   199.0,   3.5562,  34.0806,2,  34.0785,2,   261.22,2,  263.02,2,    20.8,2,    1.97,2,   4.3907,2,   2.3406,2,   0.3590,2,  2172.0,2,  2279.6,2,  -0.030,2,    41.7,2,   29.96,2,   28.71,2,      0.001,2
09AR20080322,       SR03,      40,          1,         16,         16,2,20080407,       0029,   -53.5823,   141.8612,       2631,   299.2,   2.8505,  34.1491,2,  34.1493,2,   247.40,2,  250.03,2,    31.1,2,    2.09,2,   3.8188,2,   1.9951,2,   0.3069,2,  2188.1,2,  2290.3,6,  -0.038,2,    41.4,2,   31.65,2,   30.26,2,      0.001,2
09AR20080322,       SR03,      40,          1,         15,         15,2,20080407,       0029,   -53.5823,   141.8612,       2631,   399.4,   2.8105,  34.2609,2,  34.2607,2,   216.84,2,  218.14,2,    42.4,2,    2.24,2,   2.7739,2,   1.4209,2,   0.1978,2,  2211.4,2,  2298.9,2,  -0.033,2,    40.9,2,   33.15,2,   31.89,2,      0.001,2
09AR20080322,       SR03,      40,          1,         14,         14,2,20080407,       0029,   -53.5823,   141.8612,       2631,   497.2,   2.8095,  34.3579,2,  34.3574,2,   198.61,2,  197.13,2,    52.1,2,    2.37,3,   1.8575,2,   0.9426,2,   0.1261,2,  2225.4,2,  2310.4,2,  -0.032,2,    40.4,2,   34.35,2,   34.15,3,      0.001,2
09AR20080322,       SR03,      40,          1,         13,         13,2,20080407,       0029,   -53.5823,   141.8612,       2631,   600.3,   2.7167,  34.4265,2,  34.4263,2,   184.60,2,  184.43,2,    59.8,2,    2.40,3,   1.3226,2,   0.6632,2,   0.0859,2,  2237.6,2,  2317.9,6,  -0.031,2,    40.0,2,   35.08,2,   34.46,3,      0.001,2
09AR20080322,       SR03,      40,          1,         12,         12,2,20080407,       0029,   -53.5823,   141.8612,       2631,   700.8,   2.5840,  34.4904,2,  34.4903,2,   178.14,2,  177.42,2,    66.7,2,    2.38,2,   0.9381,2,   0.4676,2,   0.0638,2,  2245.6,6,  2323.7,2,  -0.027,2,    39.9,2,   36.45,2,   34.94,2,      0.001,2
09AR20080322,       SR03,      40,          1,         11,         11,2,20080407,       0029,   -53.5823,   141.8612,       2631,   802.7,   2.5161,  34.5426,2,  34.5431,2,   174.48,2,  174.11,2,    70.6,2,    2.36,2,   0.6819,2,   0.3467,2,   0.0458,2,  2249.3,2,  2328.3,2,  -0.027,2,    39.8,2,   35.82,2,   34.81,2,      0.001,2
09AR20080322,       SR03,      40,          1,         10,         10,2,20080407,       0029,   -53.5823,   141.8612,       2631,   902.2,   2.4699,  34.5889,2,  34.5887,2,   174.18,2,  174.02,2,    73.3,2,    2.32,2,   0.5031,2,   0.2521,2,   0.0326,2,  2249.5,2,  2331.2,2,  -0.027,2,    39.6,2,   35.59,2,   34.28,2,      0.001,2
09AR20080322,       SR03,      40,          1,          9,          9,2,20080407,       0029,   -53.5823,   141.8612,       2631,   998.4,   2.4205,  34.6308,2,  34.6313,2,   175.56,2,  174.79,2,    75.3,2,    2.28,2,   0.3760,2,   0.1880,2,   0.0272,2,  2251.0,2,  2336.4,2,  -0.026,2,    39.6,2,   34.81,2,   33.60,2,      0.001,2
09AR20080322,       SR03,      40,          1,          8,          8,2,20080407,       0029,   -53.5823,   141.8612,       2631,  1197.2,   2.3242,  34.6941,2,  34.6940,2,   180.46,2,  180.47,2,    78.2,2,    2.21,2,   0.1829,2,   0.0938,2,   0.0071,2,  2250.1,2,  2342.7,2,  -0.030,2,    39.6,2,   33.66,2,   32.11,2,      0.001,2
09AR20080322,       SR03,      40,          1,          7,          7,2,20080407,       0029,   -53.5823,   141.8612,       2631,  1398.1,   2.2164,  34.7227,2,  34.7227,2,   184.78,2,  184.20,2,    81.9,2,    2.17,2,   0.1262,2,   0.0621,2,   0.0105,2,  2250.8,2,  2348.0,2,  -0.031,2,    39.6,2,   32.90,2,   31.43,2,      0.001,2
09AR20080322,       SR03,      40,          1,          6,          6,2,20080407,       0029,   -53.5823,   141.8612,       2631,  1699.6,   1.9866,  34.7443,2,  34.7445,2,   190.15,2,  190.50,2,    87.8,2,    2.15,2,   0.1004,2,   0.0490,2,   0.0111,2,  2250.9,2,  2352.2,6,  -0.028,2,    39.5,2,   31.77,2,   30.83,2,      0.001,2
09AR20080322,       SR03,      40,          1,          5,          5,2,20080407,       0029,   -53.5823,   141.8612,       2631,  2001.2,   1.7205,  34.7467,2,  34.7473,2,   195.33,2,  196.01,2,    94.4,2,    2.14,2,   0.0932,2,   0.0461,2,   0.0000,2,  2251.5,2,  2354.6,2,  -0.033,2,    39.4,2,   32.21,2,   30.69,2,      0.001,2
09AR20080322,       SR03,      40,          1,          4,          4,2,20080407,       0029,   -53.5823,   141.8612,       2631,  2197.5,   1.5382,  34.7421,2,  34.7420,2,   199.01,2,  199.39,2,    99.4,2,    2.16,2,   0.0942,2,   0.0474,2,   0.0051,2,  2254.1,2,  2356.6,2,  -0.032,2,    39.2,2,   31.77,2,   30.63,2,      0.001,2
09AR20080322,       SR03,      40,          1,          3,          3,2,20080407,       0029,   -53.5823,   141.8612,       2631,  2398.6,   1.3973,  34.7365,2,  34.7366,2,   203.54,2,  204.13,2,   103.6,2,    2.18,2,   0.0950,2,   0.0454,2,   0.0038,2,  2255.0,2,  2357.7,2,  -0.031,2,    39.0,2,   31.97,2,   30.81,2,      0.001,2
09AR20080322,       SR03,      40,          1,          2,          2,2,20080407,       0029,   -53.5823,   141.8612,       2631,  2604.7,   1.1854,  34.7272,2,  34.7272,2,   207.64,2, -999.00,9,   110.7,2,    2.20,2,   0.1069,6,   0.0550,6,   0.0047,6,  2260.4,2,  2360.7,6,  -0.029,2,    39.4,2,   32.00,2,   30.84,2,      0.001,2
09AR20080322,       SR03,      40,          1,          1,          1,2,20080407,       0029,   -53.5823,   141.8612,       2631,  2657.2,   1.1624,  34.7260,2,  34.7264,2,   208.97,2, -999.00,9,   111.6,2,    2.19,2,   0.1100,2,   0.0573,2,   0.0043,2,  2259.1,6,  2361.9,2,  -0.031,2,    39.0,2,   32.19,2,   30.86,2,      0.001,2