BOTTLE,20141029CCHSIOCBG
EXPOCODE,SECT_ID,STNNBR,CASTNO,SAMPNO,BTLNBR,BTLNBR_FLAG_W,DATE,TIME,LATITUDE,LONGITUDE,DEPTH,CTDPRS,CTDTMP,CTDSAL,CTDSAL_FLAG_W,SALNTY,SALNTY_FLAG_W,CTDOXY,CTDOXY_FLAG_W,OXYGEN,OXYGEN_FLAG_W,SILCAT,SILCAT_FLAG_W,PHSPHT,PHSPHT_FLAG_W,CFC-11,CFC-11_FLAG_W,CFC-12,CFC-12_FLAG_W,CFC113,CFC113_FLAG_W,TCARBN,TCARBN_FLAG_W,ALKALI,ALKALI_FLAG_W,FLUOR,FLUOR_FLAG_W,DOC,DOC_FLAG_W,TDN,TDN_FLAG_W,NO2+NO3,NO2+NO3_FLAG_W,PAR,PAR_FLAG_W
,,,,,,,,,,,METERS,DBAR,ITS-90,PSS-78,,PSS-78,,UMOL/KG,,UMOL/KG,,UMOL/KG,,UMOL/KG,,PMOL/KG,,PMOL/KG,,PMOL/KG,,UMOL/KG,,UMOL/KG,,MG/M^3,,UMOL/KG,,UMOL/KG,,UMOL/KG,,VOLTS,
09AR20080322,       SR03,       9,          1,         24,         24,2,20080329,       2148,   -65.0708,   139.7505,       2190,     9.0,  -1.5118,  33.8858,2,  33.8877,2,   340.22,2,  340.06,2,    41.1,2,    1.92,2,   6.0817,2,   3.2189,2,   0.5411,2,  2167.9,2,  2290.2,2,   0.443,2,  -999.0,9, -999.00,9,   27.97,2,      2.953,2
09AR20080322,       SR03,       9,          1,         23,         23,2,20080329,       2148,   -65.0708,   139.7505,       2190,    30.0,  -1.4119,  33.9316,2,-999.0000,9,   338.42,2, -999.00,9,  -999.0,9, -999.00,9,-999.0000,9,-999.0000,9,-999.0000,9,  -999.0,9,  -999.0,9,   0.806,2,  -999.0,9, -999.00,9, -999.00,9,      2.445,2
09AR20080322,       SR03,       9,          1,         22,         22,2,20080329,       2148,   -65.0708,   139.7505,       2190,    30.1,  -1.4121,  33.9315,2,-999.0000,9,   338.42,2, -999.00,9,  -999.0,9, -999.00,9,-999.0000,9,-999.0000,9,-999.0000,9,  -999.0,9,  -999.0,9,   0.794,2,  -999.0,9, -999.00,9, -999.00,9,      2.445,2
09AR20080322,       SR03,       9,          1,         21,         21,2,20080329,       2148,   -65.0708,   139.7505,       2190,    30.1,  -1.4122,  33.9311,2,  33.9315,2,   338.42,2,  339.78,2,    41.7,2,    1.93,2,   6.0698,2,   3.1807,2,   0.5621,2,  2173.9,2,  2293.4,6,   0.783,2,  -999.0,9, -999.00,9,   28.21,2,      2.442,2
09AR20080322,       SR03,       9,          1,         20,         20,2,20080329,       2148,   -65.0708,   139.7505,       2190,    69.0,  -1.3523,  34.0204,2,  34.0248,2,   338.81,2,  337.24,2,    44.9,2,    1.96,2,   6.0192,2,   3.1569,2,   0.5537,2,  2182.3,2,  2298.5,2,   0.719,2,  -999.0,9, -999.00,9,   28.51,2,      1.784,2
09AR20080322,       SR03,       9,          1,         19,         19,2,20080329,       2148,   -65.0708,   139.7505,       2190,    89.1,  -1.4130,  34.3629,2,  34.3609,2,   300.20,2,  291.21,2,    70.8,2,    2.13,2,-999.0000,9,-999.0000,9,-999.0000,9,  -999.0,9,  -999.0,9,   0.446,2,  -999.0,9, -999.00,9,   30.56,2,      1.419,2
09AR20080322,       SR03,       9,          1,         18,         18,2,20080329,       2148,   -65.0708,   139.7505,       2190,   111.4,  -1.2348,  34.4026,2,  34.4023,2,   283.74,2,  280.69,2,    72.0,2,    2.17,2,-999.0000,9,-999.0000,9,-999.0000,9,  -999.0,9,  -999.0,9,   0.328,2,  -999.0,9, -999.00,9,   31.14,2,      1.007,2
09AR20080322,       SR03,       9,          1,         17,         17,2,20080329,       2148,   -65.0708,   139.7505,       2190,   150.1,  -1.3411,  34.4229,2,  34.4223,2,   279.61,2,  279.60,2,    76.6,2,    2.15,2,-999.0000,9,-999.0000,9,-999.0000,9,  2230.3,2,  2326.7,2,   0.073,2,  -999.0,9, -999.00,9,   30.81,2,      0.344,2
09AR20080322,       SR03,       9,          1,         16,         16,2,20080329,       2148,   -65.0708,   139.7505,       2190,   201.2,  -0.9181,  34.4754,2,  34.4734,2,   265.68,2,  265.16,2,    80.2,2,    2.18,2,   3.5596,2,   1.8580,2,   0.3173,2,  -999.0,9,  -999.0,9,  -0.004,2,  -999.0,9, -999.00,9,   31.29,2,      0.001,2
09AR20080322,       SR03,       9,          1,         15,         15,2,20080329,       2148,   -65.0708,   139.7505,       2190,   299.9,  -0.3203,  34.5449,2,  34.5438,2,   239.92,2,  242.77,2,    85.2,2,    2.19,2,-999.0000,9,-999.0000,9,-999.0000,9,  -999.0,9,  -999.0,9,  -0.032,2,  -999.0,9, -999.00,9,   31.28,2,      0.001,2
09AR20080322,       SR03,       9,          1,         14,         14,2,20080329,       2148,   -65.0708,   139.7505,       2190,   400.6,   0.2328,  34.6123,2,  34.6117,2,   225.41,2,  224.91,2,    90.7,2,    2.18,2,   1.8822,2,   0.9728,2,   0.1641,2,  2250.0,2,  2339.4,6,  -0.031,2,  -999.0,9, -999.00,9,   31.19,2,      0.001,2
09AR20080322,       SR03,       9,          1,         13,         13,2,20080329,       2148,   -65.0708,   139.7505,       2190,   500.9,   0.2888,  34.6297,2,  34.6291,2,   217.90,2,  220.61,2,    94.9,2,    2.20,2,-999.0000,9,-999.0000,9,-999.0000,9,  -999.0,9,  -999.0,9,  -0.027,2,  -999.0,9, -999.00,9,   31.78,2,      0.001,2
09AR20080322,       SR03,       9,          1,         12,         12,2,20080329,       2148,   -65.0708,   139.7505,       2190,   600.4,   0.5233,  34.6660,2,  34.6662,2,   213.32,2,  212.52,2,   101.7,2,    2.22,2,   1.1111,2,   0.5801,2,   0.0884,2,  -999.0,9,  -999.0,9,  -0.029,2,  -999.0,9, -999.00,9,   31.77,2,      0.001,2
09AR20080322,       SR03,       9,          1,         11,         11,2,20080329,       2148,   -65.0708,   139.7505,       2190,   701.1,   0.6145,  34.6801,2,-999.0000,9,   210.23,2, -999.00,9,  -999.0,9, -999.00,9,-999.0000,9,-999.0000,9,-999.0000,9,  -999.0,9,  -999.0,9,  -0.034,2,  -999.0,9, -999.00,9, -999.00,9,      0.001,2
09AR20080322,       SR03,       9,          1,         10,         10,2,20080329,       2148,   -65.0708,   139.7505,       2190,   800.9,   0.3190,  34.6566,2,  34.6570,2,   218.39,2,  219.13,2,   103.9,2,    2.23,2,-999.0000,9,-999.0000,9,-999.0000,9,  -999.0,9,  -999.0,9,  -0.031,2,  -999.0,9, -999.00,9,   31.84,2,      0.001,2
09AR20080322,       SR03,       9,          1,          9,          9,2,20080329,       2148,   -65.0708,   139.7505,       2190,   899.9,   0.5209,  34.6833,2,  34.6831,2,   211.81,2,  211.04,2,   110.2,2,    2.25,2,-999.0000,9,-999.0000,9,-999.0000,9,  -999.0,9,  -999.0,9,  -0.033,2,  -999.0,9, -999.00,9,   32.00,2,      0.001,2
09AR20080322,       SR03,       9,          1,          8,          8,2,20080329,       2148,   -65.0708,   139.7505,       2190,   999.8,   0.4205,  34.6798,2,  34.6803,2,   213.62,2,  212.34,2,   112.8,2,    2.26,2,   0.8156,2,   0.4268,2,   0.0633,2,  2259.2,2,  2352.5,2,  -0.034,2,  -999.0,9, -999.00,9,   32.22,2,      0.001,2
09AR20080322,       SR03,       9,          1,          7,          7,2,20080329,       2148,   -65.0708,   139.7505,       2190,  1201.0,   0.2836,  34.6755,2,  34.6754,2,   216.31,2,  215.99,2,   112.3,2,    2.26,2,-999.0000,9,-999.0000,9,-999.0000,9,  -999.0,9,  -999.0,9,  -0.036,2,  -999.0,9, -999.00,9,   32.30,2,      0.001,2
09AR20080322,       SR03,       9,          1,          6,          6,2,20080329,       2148,   -65.0708,   139.7505,       2190,  1400.0,   0.2379,  34.6803,2,  34.6809,2,   216.94,2,  216.69,2,   118.2,3,    2.28,3,   0.8546,2,   0.4402,2,   0.0642,2,  2261.4,2,  2354.3,2,  -0.034,2,  -999.0,9, -999.00,9,   32.37,3,      0.001,2
09AR20080322,       SR03,       9,          1,          5,          5,2,20080329,       2148,   -65.0708,   139.7505,       2190,  1600.5,   0.1068,  34.6762,2,  34.6752,2,   220.85,2,  221.50,2,   114.3,2,    2.24,2,   1.0545,2,   0.5384,2,   0.0796,2,  2262.0,2,  2352.8,2,  -0.037,2,  -999.0,9, -999.00,9,   31.36,2,      0.001,2
09AR20080322,       SR03,       9,          1,          4,          4,2,20080329,       2148,   -65.0708,   139.7505,       2190,  1799.6,   0.0867,  34.6786,2,  34.6790,2,   221.91,2,  222.46,2,   113.9,2,    2.23,2,   1.1199,2,   0.5752,2,   0.0763,2,  2260.7,2,  2353.0,2,  -0.039,2,  -999.0,9, -999.00,9,   31.43,2,      0.001,2
09AR20080322,       SR03,       9,          1,          3,          3,2,20080329,       2148,   -65.0708,   139.7505,       2190,  2000.7,  -0.0869,  34.6712,2,  34.6703,2,   229.67,2,  228.93,2,   108.4,2,    2.22,2,   1.6301,2,   0.8318,2,   0.1264,2,  2256.6,2,  2350.7,2,  -0.037,2,  -999.0,9, -999.00,9,   31.17,2,      0.001,2
09AR20080322,       SR03,       9,          1,          2,          2,2,20080329,       2148,   -65.0708,   139.7505,       2190,  2101.8,  -0.1707,  34.6647,2,  34.6641,2,   232.54,2,  232.28,2,   106.6,2,    2.21,2,   1.8305,2,   0.9310,2,   0.1542,2,  2256.7,2,  2350.7,6,  -0.037,2,  -999.0,9, -999.00,9,   31.16,2,      0.001,2
09AR20080322,       SR03,       9,          1,          1,          1,2,20080329,       2148,   -65.0708,   139.7505,       2190,  2135.7,  -0.1794,  34.6637,2,  34.6633,2,   232.91,2,  232.63,2,   107.0,2,    2.21,2,   1.8267,2,   0.9351,2,   0.1436,2,  2256.8,6,  2350.9,2,  -0.039,2,  -999.0,9, -999.00,9,   31.32,2,      0.001,2
09AR20080322,       SR03,      10,          1,         24,         24,2,20080330,       0220,   -64.8125,   139.8610,       2562,     5.7,  -1.1114,  34.0191,2,  34.0211,2,   337.52,2,  338.19,2,    41.2,2,    1.93,2,   6.0171,2,   3.1629,2,   0.5305,2,  2178.2,6,  2298.1,2,   0.426,2,  -999.0,9, -999.00,9,   27.95,2,      3.136,2
09AR20080322,       SR03,      10,          1,         23,         23,2,20080330,       0220,   -64.8125,   139.8610,       2562,    40.9,  -1.1350,  34.0264,2,-999.0000,9,   338.17,2, -999.00,9,  -999.0,9, -999.00,9,-999.0000,9,-999.0000,9,-999.0000,9,  -999.0,9,  -999.0,9,   1.038,2,  -999.0,9, -999.00,9, -999.00,9,      2.245,2
09AR20080322,       SR03,      10,          1,         22,         22,2,20080330,       0220,   -64.8125,   139.8610,       2562,    40.9,  -1.1352,  34.0262,2,-999.0000,9,   338.17,2, -999.00,9,  -999.0,9, -999.00,9,-999.0000,9,-999.0000,9,-999.0000,9,  -999.0,9,  -999.0,9,   1.025,2,  -999.0,9, -999.00,9, -999.00,9,      2.240,2
09AR20080322,       SR03,      10,          1,         21,         21,2,20080330,       0220,   -64.8125,   139.8610,       2562,    40.9,  -1.1361,  34.0263,2,  34.0252,2,   338.17,2,  338.10,2,    41.6,2,    1.93,2,   5.9508,2,   3.1633,2,   0.5216,2,  2179.6,2,  2299.0,6,   1.055,2,  -999.0,9, -999.00,9,   27.95,2,      2.232,2
09AR20080322,       SR03,      10,          1,         20,         20,2,20080330,       0220,   -64.8125,   139.8610,       2562,    71.4,  -0.6152,  34.1969,2,  34.1958,2,   338.64,2,  299.88,2,    53.4,2,    2.05,2,   4.7906,2,   2.5327,2,   0.4243,2,  2199.7,2,  2308.2,2,   0.844,2,  -999.0,9, -999.00,9,   29.77,2,      1.643,2
09AR20080322,       SR03,      10,          1,         19,         19,2,20080330,       0220,   -64.8125,   139.8610,       2562,   100.4,   0.2639,  34.5049,2,  34.5038,2,   246.48,2,  232.05,2,    75.1,2,    2.26,2,-999.0000,9,-999.0000,9,-999.0000,9,  2238.7,2,  2330.3,2,   0.201,2,  -999.0,9, -999.00,9,   32.45,2,      1.118,2
09AR20080322,       SR03,      10,          1,         18,         18,2,20080330,       0220,   -64.8125,   139.8610,       2562,   151.7,   0.7467,  34.5938,2,  34.5924,2,   220.16,2,  214.46,2,    81.5,2,    2.25,2,   1.8045,2,   0.9403,2,   0.1556,2,  2245.3,2,  2335.6,6,  -0.014,2,  -999.0,9, -999.00,9,   32.28,2,      0.398,2
09AR20080322,       SR03,      10,          1,         17,         17,2,20080330,       0220,   -64.8125,   139.8610,       2562,   250.4,   1.2472,  34.6772,2,  34.6772,2,   200.53,2,  200.21,2,    87.3,2,    2.21,2,-999.0000,9,-999.0000,9,-999.0000,9,  2249.9,2,  2341.0,2,  -0.026,2,  -999.0,9, -999.00,9,   31.60,2,      0.001,2
09AR20080322,       SR03,      10,          1,         16,         16,2,20080330,       0220,   -64.8125,   139.8610,       2562,   351.1,   1.3351,  34.7062,2,  34.7064,2,   198.09,2,  199.28,2,    90.7,2,    2.19,2,   0.6391,2,   0.3352,2,   0.0440,2,  2250.4,2,  2349.0,2,  -0.030,2,  -999.0,9, -999.00,9,   31.17,2,      0.001,2
09AR20080322,       SR03,      10,          1,         15,         15,2,20080330,       0220,   -64.8125,   139.8610,       2562,   452.0,   1.3076,  34.7157,2,  34.7162,2,   198.70,2,  199.81,2,    94.1,2,    2.19,2,-999.0000,9,-999.0000,9,-999.0000,9,  2250.8,2,  2350.7,2,  -0.032,2,  -999.0,9, -999.00,9,   31.34,2,      0.001,2
09AR20080322,       SR03,      10,          1,         14,         14,2,20080330,       0220,   -64.8125,   139.8610,       2562,   550.8,   1.2346,  34.7174,2,  34.7182,2,   201.22,2,  201.36,2,    96.6,2,    2.20,2,   0.4882,2,   0.2550,2,   0.0390,2,  2250.4,2,  2349.9,2,  -0.032,2,  -999.0,9, -999.00,9,   31.42,2,      0.001,2
09AR20080322,       SR03,      10,          1,         13,         13,2,20080330,       0220,   -64.8125,   139.8610,       2562,   650.2,   1.1679,  34.7200,2,  34.7200,2,   202.14,2,  202.05,2,   100.1,2,    2.20,2,-999.0000,9,-999.0000,9,-999.0000,9,  2251.4,2,  2350.2,6,  -0.031,2,  -999.0,9, -999.00,9,   31.34,2,      0.001,2
09AR20080322,       SR03,      10,          1,         12,         12,2,20080330,       0220,   -64.8125,   139.8610,       2562,   751.5,   1.0554,  34.7154,2,  34.7159,2,   203.48,2,  203.85,2,   103.5,2,    2.22,2,   0.4128,2,   0.2197,2,   0.0331,2,  2252.6,6,  2351.6,2,  -0.032,2,  -999.0,9, -999.00,9,   31.58,2,      0.001,2
09AR20080322,       SR03,      10,          1,         11,         11,2,20080330,       0220,   -64.8125,   139.8610,       2562,   900.8,   0.8343,  34.7038,2,  34.7045,2,   206.66,2,  206.75,2,   108.2,2,    2.24,2,   0.4741,2,   0.2514,2,   0.0268,2,  2255.6,2,  2355.1,2,  -0.031,2,  -999.0,9, -999.00,9,   31.83,2,      0.001,2
09AR20080322,       SR03,      10,          1,         10,         10,2,20080330,       0220,   -64.8125,   139.8610,       2562,  1100.1,   0.6488,  34.6965,2,  34.6968,2,   207.61,2,  208.18,2,   113.7,2,    2.26,2,   0.4794,2,   0.2472,2,   0.0356,2,  2254.9,2,  2356.0,2,  -0.032,2,  -999.0,9, -999.00,9,   32.25,2,      0.001,2
09AR20080322,       SR03,      10,          1,          9,          9,2,20080330,       0220,   -64.8125,   139.8610,       2562,  1300.4,   0.4330,  34.6851,2,  34.6850,2,   212.53,2,  212.49,2,   116.3,2,    2.27,2,   0.6575,2,   0.3411,2,   0.0437,2,  2258.5,2,  2354.8,6,  -0.036,2,  -999.0,9, -999.00,9,   32.24,2,      0.001,2
09AR20080322,       SR03,      10,          1,          8,          8,2,20080330,       0220,   -64.8125,   139.8610,       2562,  1501.1,   0.3043,  34.6831,2,  34.6831,2,   215.35,2,  215.01,2,   119.1,2,    2.29,2,   0.7216,2,   0.3745,2,   0.0516,2,  2258.1,2,  2356.9,2,  -0.038,2,  -999.0,9, -999.00,9,   32.29,2,      0.001,2
09AR20080322,       SR03,      10,          1,          7,          7,2,20080330,       0220,   -64.8125,   139.8610,       2562,  1701.7,   0.2103,  34.6819,2,  34.6815,2,   217.95,2,  217.90,2,   120.2,2,    2.29,2,   0.8098,2,   0.4175,2,   0.0518,2,  2258.8,2,  2353.8,2,  -0.038,2,  -999.0,9, -999.00,9,   32.32,2,      0.001,2
09AR20080322,       SR03,      10,          1,          6,          6,2,20080330,       0220,   -64.8125,   139.8610,       2562,  1901.1,   0.1115,  34.6782,2,  34.6782,2,   221.59,2,  221.75,2,   117.1,2,    2.27,2,   1.0694,2,   0.5526,2,   0.0788,2,  2256.6,2,  2353.3,6,  -0.040,2,  -999.0,9, -999.00,9,   32.23,2,      0.001,2
09AR20080322,       SR03,      10,          1,          5,          5,2,20080330,       0220,   -64.8125,   139.8610,       2562,  2100.7,  -0.0182,  34.6732,2,  34.6729,2,   226.43,2,  226.47,2,   113.7,2,    2.26,2,   1.4396,2,   0.7217,2,   0.1173,2,  2255.5,2,  2351.8,2,  -0.041,2,  -999.0,9, -999.00,9,   32.06,2,      0.001,2
09AR20080322,       SR03,      10,          1,          4,          4,2,20080330,       0220,   -64.8125,   139.8610,       2562,  2301.1,  -0.1192,  34.6721,2,  34.6715,2,   229.92,2,  230.28,2,   111.2,2,    2.26,2,   1.7278,2,   0.8761,2,   0.1340,2,  -999.0,9,  2349.9,2,  -0.041,2,  -999.0,9, -999.00,9,   31.88,2,      0.001,2
09AR20080322,       SR03,      10,          1,          3,          3,2,20080330,       0220,   -64.8125,   139.8610,       2562,  2450.4,  -0.2349,  34.6646,2,  34.6642,2,   234.79,2,  235.33,2,   107.8,2,    2.25,2,   2.0808,2,   1.0526,2,   0.1580,2,  2254.2,2,  2350.6,2,  -0.040,2,  -999.0,9, -999.00,9,   32.14,2,      0.001,2
09AR20080322,       SR03,      10,          1,          2,          2,2,20080330,       0220,   -64.8125,   139.8610,       2562,  2543.8,  -0.2642,  34.6613,2,  34.6611,2,   236.55,2,  236.77,2,   106.1,2,    2.25,2,   2.1626,2,   1.1130,2,   0.1671,2,  2253.2,2,  2349.9,6,  -0.038,2,  -999.0,9, -999.00,9,   32.05,2,      0.001,2
09AR20080322,       SR03,      10,          1,          1,          1,2,20080330,       0220,   -64.8125,   139.8610,       2562,  2590.0,  -0.2652,  34.6606,2,  34.6605,2,   236.76,2,  236.97,2,   105.6,2,    2.26,2,   2.1589,2,   1.1132,2,   0.1680,2,  2255.3,6,  2350.0,2,  -0.042,2,  -999.0,9, -999.00,9,   32.04,2,      0.001,2