BOTTLE,20141029CCHSIOCBG
EXPOCODE,SECT_ID,STNNBR,CASTNO,SAMPNO,BTLNBR,BTLNBR_FLAG_W,DATE,TIME,LATITUDE,LONGITUDE,DEPTH,CTDPRS,CTDTMP,CTDSAL,CTDSAL_FLAG_W,SALNTY,SALNTY_FLAG_W,CTDOXY,CTDOXY_FLAG_W,OXYGEN,OXYGEN_FLAG_W,SILCAT,SILCAT_FLAG_W,PHSPHT,PHSPHT_FLAG_W,CFC-11,CFC-11_FLAG_W,CFC-12,CFC-12_FLAG_W,CFC113,CFC113_FLAG_W,TCARBN,TCARBN_FLAG_W,ALKALI,ALKALI_FLAG_W,FLUOR,FLUOR_FLAG_W,DOC,DOC_FLAG_W,TDN,TDN_FLAG_W,NO2+NO3,NO2+NO3_FLAG_W,PAR,PAR_FLAG_W
,,,,,,,,,,,METERS,DBAR,ITS-90,PSS-78,,PSS-78,,UMOL/KG,,UMOL/KG,,UMOL/KG,,UMOL/KG,,PMOL/KG,,PMOL/KG,,PMOL/KG,,UMOL/KG,,UMOL/KG,,MG/M^3,,UMOL/KG,,UMOL/KG,,UMOL/KG,,VOLTS,
09AR20080322,       SR03,      13,          1,         24,         24,2,20080330,       1945,   -64.2092,   139.8410,       3501,     4.3,   0.2266,  33.9563,2,  33.9579,2,  -999.00,5,  330.63,2,    29.8,2,    1.82,2,-999.0000,9,-999.0000,9,-999.0000,9,  -999.0,9,  -999.0,9,   1.859,2,  -999.0,9, -999.00,9,   27.41,2,      2.555,2
09AR20080322,       SR03,      13,          1,         23,         23,2,20080330,       1945,   -64.2092,   139.8410,       3501,     4.3,   0.2258,  33.9565,2,-999.0000,9,  -999.00,5, -999.00,9,  -999.0,9, -999.00,9,-999.0000,9,-999.0000,9,-999.0000,9,  -999.0,9,  -999.0,9,   1.871,2,  -999.0,9, -999.00,9, -999.00,9,      2.554,2
09AR20080322,       SR03,      13,          1,         22,         22,2,20080330,       1945,   -64.2092,   139.8410,       3501,     4.3,   0.2264,  33.9566,2,-999.0000,9,  -999.00,5, -999.00,9,  -999.0,9, -999.00,9,-999.0000,9,-999.0000,9,-999.0000,9,  -999.0,9,  -999.0,9,   1.786,2,  -999.0,9, -999.00,9, -999.00,9,      2.561,2
09AR20080322,       SR03,      13,          1,         21,         21,2,20080330,       1945,   -64.2092,   139.8410,       3501,    24.6,   0.2250,  33.9564,2,  33.9565,2,   328.50,2,  329.71,2,    29.2,2,    1.82,2,-999.0000,9,-999.0000,9,-999.0000,9,  -999.0,9,  -999.0,9,   1.860,2,  -999.0,9, -999.00,9,   27.41,2,      1.869,2
09AR20080322,       SR03,      13,          1,         20,         20,2,20080330,       1945,   -64.2092,   139.8410,       3501,    50.2,   0.2280,  33.9567,2,  33.9569,2,   328.79,2,  330.06,2,    29.3,2,    1.83,2,-999.0000,9,-999.0000,9,-999.0000,9,  -999.0,9,  -999.0,9,   1.914,2,  -999.0,9, -999.00,9,   27.48,2,      1.301,2
09AR20080322,       SR03,      13,          1,         19,         19,2,20080330,       1945,   -64.2092,   139.8410,       3501,    74.9,   0.1546,  33.9822,2,  33.9825,2,   328.21,2,  327.01,2,    32.6,2,    1.87,2,-999.0000,9,-999.0000,9,-999.0000,9,  -999.0,9,  -999.0,9,   2.082,2,  -999.0,9, -999.00,9,   27.72,2,      0.723,2
09AR20080322,       SR03,      13,          1,         18,         18,2,20080330,       1945,   -64.2092,   139.8410,       3501,   150.5,   0.8788,  34.5389,2,  34.5399,2,   204.97,2,  210.55,2,    76.9,2,    2.30,2,-999.0000,9,-999.0000,9,-999.0000,9,  -999.0,9,  -999.0,9,   0.224,2,  -999.0,9, -999.00,9,   33.11,2,      0.001,2
09AR20080322,       SR03,      13,          1,         17,         17,2,20080330,       1945,   -64.2092,   139.8410,       3501,   501.4,   1.4625,  34.7078,2,  34.7074,2,   196.99,2,  196.01,2,    89.8,2,    2.20,2,-999.0000,9,-999.0000,9,-999.0000,9,  -999.0,9,  -999.0,9,   0.000,2,  -999.0,9, -999.00,9,   31.69,2,      0.001,2
09AR20080322,       SR03,      13,          1,         16,         16,2,20080330,       1945,   -64.2092,   139.8410,       3501,   998.8,   1.2129,  34.7289,2,-999.0000,9,   200.87,2,  201.74,2,   103.4,2,    2.20,2,   0.2590,2,   0.1338,2,   0.0132,2,  2255.2,6,  2352.9,2,  -0.032,2,  -999.0,9, -999.00,9,   31.41,2,      0.001,2
09AR20080322,       SR03,      13,          1,         15,         15,2,20080330,       1945,   -64.2092,   139.8410,       3501,   998.9,   1.2088,  34.7284,2,-999.0000,9,   200.87,2, -999.00,9,  -999.0,9, -999.00,9,-999.0000,9,-999.0000,9,-999.0000,9,  -999.0,9,  -999.0,9,  -0.029,2,  -999.0,9, -999.00,9, -999.00,9,      0.001,2
09AR20080322,       SR03,      13,          1,         14,         14,2,20080330,       1945,   -64.2092,   139.8410,       3501,  1801.0,   0.5586,  34.6982,2,  34.6996,2,   211.18,2,  210.91,2,   121.6,2,    2.28,2,   0.3167,6,   0.1607,6,   0.0150,6,  2260.5,2,  2357.2,6,  -0.035,2,  -999.0,9, -999.00,9,   32.18,2,      0.001,2
09AR20080322,       SR03,      13,          1,         13,         13,2,20080330,       1945,   -64.2092,   139.8410,       3501,  1800.9,   0.5603,  34.6986,2,-999.0000,9,   211.05,2, -999.00,9,  -999.0,9, -999.00,9,-999.0000,9,-999.0000,9,-999.0000,9,  -999.0,9,  -999.0,9,  -0.036,2,  -999.0,9, -999.00,9, -999.00,9,      0.001,2
09AR20080322,       SR03,      13,          1,         12,         12,2,20080330,       1945,   -64.2092,   139.8410,       3501,  2201.3,   0.3060,  34.6879,2,  34.6870,2,   217.29,2,  216.94,2,   127.3,2,    2.30,2,   0.4574,2,   0.2324,2,   0.0189,2,  2260.4,2,  2355.4,2,  -0.038,2,  -999.0,9, -999.00,9,   32.57,2,      0.001,2
09AR20080322,       SR03,      13,          1,         11,         11,2,20080330,       1945,   -64.2092,   139.8410,       3501,  2399.9,   0.2017,  34.6826,2,  34.6819,2,   220.58,2,  220.25,2,   124.7,2,    2.30,2,   0.7261,2,   0.3694,2,   0.0410,2,  2261.4,2,  2354.2,2,  -0.037,2,  -999.0,9, -999.00,9,   32.40,2,      0.001,2
09AR20080322,       SR03,      13,          1,         10,         10,2,20080330,       1945,   -64.2092,   139.8410,       3501,  2399.9,   0.2019,  34.6825,2,-999.0000,9,   220.58,2, -999.00,9,  -999.0,9, -999.00,9,-999.0000,9,-999.0000,9,-999.0000,9,  -999.0,9,  -999.0,9,  -0.042,2,  -999.0,9, -999.00,9, -999.00,9,      0.001,2
09AR20080322,       SR03,      13,          1,          9,          9,2,20080330,       1945,   -64.2092,   139.8410,       3501,  2699.4,   0.0800,  34.6784,2,  34.6778,2,   224.29,2,  224.46,2,   121.6,2,    2.29,2,   1.0356,2,   0.5182,2,   0.0638,2,  2260.4,2,  2353.5,6,  -0.040,2,  -999.0,9, -999.00,9,   32.22,2,      0.001,2
09AR20080322,       SR03,      13,          1,          8,          8,2,20080330,       1945,   -64.2092,   139.8410,       3501,  3001.1,  -0.0675,  34.6717,2,  34.6707,2,   229.45,2,  230.45,2,   122.3,2,    2.28,2,   1.3707,2,   0.6876,2,   0.1034,2,  2258.8,2,  2352.5,2,  -0.040,2,  -999.0,9, -999.00,9,   32.21,2,      0.001,2
09AR20080322,       SR03,      13,          1,          7,          7,2,20080330,       1945,   -64.2092,   139.8410,       3501,  3000.5,  -0.0681,  34.6717,2,-999.0000,9,   229.37,2, -999.00,9,  -999.0,9, -999.00,9,-999.0000,9,-999.0000,9,-999.0000,9,  -999.0,9,  -999.0,9,  -0.042,2,  -999.0,9, -999.00,9, -999.00,9,      0.001,2
09AR20080322,       SR03,      13,          1,          6,          6,2,20080330,       1945,   -64.2092,   139.8410,       3501,  3198.9,  -0.1487,  34.6664,2,  34.6650,2,   234.39,2,  234.62,2,   116.5,2,    2.26,2,   1.7524,2,   0.8886,2,   0.1205,2,  2258.5,2,  2347.1,2,  -0.038,2,  -999.0,9, -999.00,9,   31.80,2,      0.001,2
09AR20080322,       SR03,      13,          1,          5,          5,2,20080330,       1945,   -64.2092,   139.8410,       3501,  3401.4,  -0.2955,  34.6546,2,  34.6544,2,   243.07,2,  242.89,2,   107.1,2,    2.23,2,   2.5282,2,   1.3040,2,   0.1991,2,  2255.1,2,  2350.5,2,  -0.041,2,  -999.0,9, -999.00,9,   31.71,2,      0.001,2
09AR20080322,       SR03,      13,          1,          4,          4,2,20080330,       1945,   -64.2092,   139.8410,       3501,  3501.4,  -0.4159,  34.6449,2,  34.6436,2,   250.12,2,  253.23,2,   103.3,2,    2.24,2,   2.5749,2,   1.3371,2,   0.2051,2,  2252.7,6,  2348.4,2,  -0.043,2,  -999.0,9, -999.00,9,   31.54,2,      0.001,2
09AR20080322,       SR03,      13,          1,          3,          3,2,20080330,       1945,   -64.2092,   139.8410,       3501,  3500.9,  -0.4157,  34.6448,2,-999.0000,9,   250.01,2, -999.00,9,  -999.0,9, -999.00,9,-999.0000,9,-999.0000,9,-999.0000,9,  -999.0,9,  -999.0,9,  -0.042,2,  -999.0,9, -999.00,9, -999.00,9,      0.001,2
09AR20080322,       SR03,      13,          1,          2,          2,2,20080330,       1945,   -64.2092,   139.8410,       3501,  3549.8,  -0.4132,  34.6446,2,  34.6442,2,   249.79,2,  248.97,2,   102.8,2,    2.22,2,   2.5775,2,   1.3393,2,   0.2089,2,  2252.3,2,  2346.3,6,  -0.043,2,  -999.0,9, -999.00,9,   31.37,2,      0.001,2
09AR20080322,       SR03,      13,          1,          1,          1,2,20080330,       1945,   -64.2092,   139.8410,       3501,  3547.6,  -0.4135,  34.6446,2,-999.0000,9,   250.01,2, -999.00,9,  -999.0,9, -999.00,9,-999.0000,9,-999.0000,9,-999.0000,9,  -999.0,9,  -999.0,9,  -0.039,2,  -999.0,9, -999.00,9, -999.00,9,      0.001,2
09AR20080322,       SR03,      14,          1,         24,         24,2,20080331,       0002,   -64.2097,   139.8422,       3500,     6.5,   0.2143,  33.9598,2,  33.9608,2,   327.82,2,  328.89,2,    30.0,2,    1.87,2,   5.6479,2,   3.0334,2,   0.5293,2,  2168.1,6,  2293.3,2,   0.541,2,  -999.0,9, -999.00,9,   27.75,2,      3.247,2
09AR20080322,       SR03,      14,          1,         23,         23,2,20080331,       0002,   -64.2097,   139.8422,       3500,    11.2,   0.2131,  33.9597,2,-999.0000,9,   327.63,2, -999.00,9,  -999.0,9, -999.00,9,-999.0000,9,-999.0000,9,-999.0000,9,  -999.0,9,  -999.0,9,   1.083,2,  -999.0,9, -999.00,9, -999.00,9,      3.073,2
09AR20080322,       SR03,      14,          1,         22,         22,2,20080331,       0002,   -64.2097,   139.8422,       3500,    25.9,   0.2131,  33.9598,2,-999.0000,9,   327.62,2, -999.00,9,  -999.0,9, -999.00,9,-999.0000,9,-999.0000,9,-999.0000,9,  -999.0,9,  -999.0,9,   1.634,2,  -999.0,9, -999.00,9, -999.00,9,      2.665,2
09AR20080322,       SR03,      14,          1,         21,         21,2,20080331,       0002,   -64.2097,   139.8422,       3500,    26.1,   0.2124,  33.9598,2,  33.9602,2,   327.62,2,  328.41,2,    29.9,2,    1.87,2,-999.0000,9,-999.0000,9,-999.0000,9,  -999.0,9,  -999.0,9,   1.643,2,  -999.0,9, -999.00,9,   27.66,2,      2.703,2
09AR20080322,       SR03,      14,          1,         20,         20,2,20080331,       0002,   -64.2097,   139.8422,       3500,    48.4,   0.2112,  33.9608,2,  33.9618,2,   327.14,2,  328.23,2,    30.1,2,    1.87,2,   5.6074,2,   2.9928,2,   0.4960,2,  2167.7,2,  2294.5,6,   1.929,2,  -999.0,9, -999.00,9,   27.66,2,      2.143,2
09AR20080322,       SR03,      14,          1,         19,         19,2,20080331,       0002,   -64.2097,   139.8422,       3500,    75.0,   0.1449,  34.0041,2,  34.0238,2,   320.14,2,  317.35,2,    36.4,2,    1.92,2,-999.0000,9,-999.0000,9,-999.0000,9,  -999.0,9,  -999.0,9,   2.117,2,  -999.0,9, -999.00,9,   28.43,2,      1.485,2
09AR20080322,       SR03,      14,          1,         18,         18,2,20080331,       0002,   -64.2097,   139.8422,       3500,    98.4,   0.7731,  34.4512,2,  34.4503,2,   205.87,2,  218.08,2,    71.7,2,    2.36,2,   2.4493,2,   1.2728,2,   0.2162,2,  4383.7,4,  2323.6,2,   0.381,2,  -999.0,9, -999.00,9,   33.91,2,      0.965,2
09AR20080322,       SR03,      14,          1,         17,         17,2,20080331,       0002,   -64.2097,   139.8422,       3500,   150.8,   1.3131,  34.5810,2,  34.5856,2,   220.43,2,  191.51,2,    80.3,2,    2.35,2,   1.3390,2,   0.6994,2,   0.1062,2,  2253.5,2,  2334.5,2,   0.412,2,  -999.0,9, -999.00,9,   33.58,2,      0.016,2
09AR20080322,       SR03,      14,          1,         16,         16,2,20080331,       0002,   -64.2097,   139.8422,       3500,   199.6,   1.4996,  34.6331,2,  34.6309,2,   188.02,2,  189.55,2,    82.4,2,    2.30,2,   1.0390,2,   0.5397,2,   0.0909,2,  2256.6,2,  2336.6,6,   1.413,2,  -999.0,9, -999.00,9,   32.90,2,      0.001,2
09AR20080322,       SR03,      14,          1,         15,         15,2,20080331,       0002,   -64.2097,   139.8422,       3500,   250.1,   1.6907,  34.6728,2,  34.6727,2,   183.96,2,  184.07,2,    85.3,2,    2.30,2,-999.0000,9,-999.0000,9,-999.0000,9,  -999.0,9,  -999.0,9,   0.053,2,  -999.0,9, -999.00,9,   32.90,2,      0.001,2
09AR20080322,       SR03,      14,          1,         14,         14,2,20080331,       0002,   -64.2097,   139.8422,       3500,   300.8,   1.7019,  34.6928,2,  34.6917,2,   185.50,2,  184.85,2,    87.0,2, -999.00,9,   0.5822,2,   0.3011,2,   0.0493,2,  2257.2,2,  2340.9,2,   0.037,2,  -999.0,9, -999.00,9,   32.72,2,      0.001,2
09AR20080322,       SR03,      14,          1,         13,         13,2,20080331,       0002,   -64.2097,   139.8422,       3500,   349.8,   1.5554,  34.6894,2,  34.6913,2,   194.83,2,  189.54,2,    87.8,2,    2.29,2,-999.0000,9,-999.0000,9,-999.0000,9,  -999.0,9,  -999.0,9,   0.007,2,  -999.0,9, -999.00,9,   32.71,2,      0.001,2
09AR20080322,       SR03,      14,          1,         12,         12,2,20080331,       0002,   -64.2097,   139.8422,       3500,   400.3,   1.4495,  34.6905,2,  34.6603,4,   192.60,2,  193.94,2,    88.6,2,    2.30,2,   0.7270,2,   0.3812,2,   0.0612,2,  2251.5,2,  2342.8,2,   0.007,2,  -999.0,9, -999.00,9,   32.62,2,      0.001,2
09AR20080322,       SR03,      14,          1,         11,         11,2,20080331,       0002,   -64.2097,   139.8422,       3500,   501.3,   1.4492,  34.7073,2,  34.7068,2,   195.32,2,  195.58,2,    90.7,2,    2.29,3,-999.0000,9,-999.0000,9,-999.0000,9,  -999.0,9,  -999.0,9,   0.009,2,  -999.0,9, -999.00,9,   32.03,2,      0.001,2
09AR20080322,       SR03,      14,          1,         10,         10,2,20080331,       0002,   -64.2097,   139.8422,       3500,   599.7,   1.3904,  34.7149,2,  34.7153,2,   195.66,2,  198.09,2,    92.8,2,    2.23,2,   0.5496,2,   0.2837,2,   0.0453,2,  2251.1,2,  2346.6,2,   0.014,2,  -999.0,9, -999.00,9,   31.61,2,      0.001,2
09AR20080322,       SR03,      14,          1,          9,          9,2,20080331,       0002,   -64.2097,   139.8422,       3500,   698.1,   1.3357,  34.7216,2,  34.7227,2,   197.35,2,  200.53,2,    95.4,2,    2.21,2,-999.0000,9,-999.0000,9,-999.0000,9,  -999.0,9,  -999.0,9,  -0.023,2,  -999.0,9, -999.00,9,   31.42,2,      0.001,2
09AR20080322,       SR03,      14,          1,          8,          8,2,20080331,       0002,   -64.2097,   139.8422,       3500,   799.7,   1.2771,  34.7236,2,  34.7243,2,   200.11,2,  200.66,2,    98.3,2,    2.21,2,   0.4015,2,   0.2093,2,   0.0337,2,  2254.8,2,  2353.3,2,  -0.027,2,  -999.0,9, -999.00,9,   31.34,2,      0.001,2
09AR20080322,       SR03,      14,          1,          7,          7,2,20080331,       0002,   -64.2097,   139.8422,       3500,   900.0,   1.2531,  34.7286,2,  34.7290,2,   198.90,2,  201.70,2,   101.2,2,    2.22,2,-999.0000,9,-999.0000,9,-999.0000,9,  -999.0,9,  -999.0,9,  -0.034,2,  -999.0,9, -999.00,9,   31.33,2,      0.001,2
09AR20080322,       SR03,      14,          1,          6,          6,2,20080331,       0002,   -64.2097,   139.8422,       3500,   999.2,   1.1283,  34.7210,2,  34.7214,2,   202.30,2,  202.74,2,   102.9,2,    2.22,2,-999.0000,9,-999.0000,9,-999.0000,9,  -999.0,9,  -999.0,9,  -0.033,2,  -999.0,9, -999.00,9,   31.49,2,      0.001,2
09AR20080322,       SR03,      14,          1,          5,          5,2,20080331,       0002,   -64.2097,   139.8422,       3500,  1199.8,   0.9257,  34.7105,2,  34.7111,2,   206.56,2,  205.96,2,   108.5,2,    2.21,2,   0.4089,2,   0.2126,2,   0.0331,2,  2258.8,2,  2355.2,2,  -0.034,2,  -999.0,9, -999.00,9,   31.69,2,      0.001,2
09AR20080322,       SR03,      14,          1,          4,          4,2,20080331,       0002,   -64.2097,   139.8422,       3500,  1401.4,   0.8407,  34.7131,2,  34.7133,2,   206.64,2,  206.26,2,   114.9,2,    2.26,2,   0.2191,2,   0.1095,2,   0.0180,2,  2259.1,6,  2355.4,2,  -0.038,2,  -999.0,9, -999.00,9,   31.73,2,      0.001,2
09AR20080322,       SR03,      14,          1,          3,          3,2,20080331,       0002,   -64.2097,   139.8422,       3500,  1604.5,   0.6827,  34.7050,2,  34.7052,2,   208.76,2,  208.30,2,   119.1,2,    2.27,2,   0.2598,2,   0.1342,2,   0.0209,2,  2260.2,2,  2356.9,6,  -0.033,2,  -999.0,9, -999.00,9,   32.21,2,      0.001,2
09AR20080322,       SR03,      14,          1,          2,          2,2,20080331,       0002,   -64.2097,   139.8422,       3500,  1799.0,   0.5458,  34.6968,2,  34.6972,2,   211.30,2,  211.47,2,   122.1,2,    2.30,2,-999.0000,9,-999.0000,9,-999.0000,9,  -999.0,9,  -999.0,9,  -0.036,2,  -999.0,9, -999.00,9,   32.46,2,      0.001,2
09AR20080322,       SR03,      14,          1,          1,          1,2,20080331,       0002,   -64.2097,   139.8422,       3500,  2003.0,   0.4200,  34.6915,2,  34.6915,2,   214.47,2,  214.60,2,   124.7,2,    2.31,2,-999.0000,9,-999.0000,9,-999.0000,9,  -999.0,9,  -999.0,9,  -0.035,2,  -999.0,9, -999.00,9,   32.79,2,      0.001,2