BOTTLE,20141029CCHSIOCBG
EXPOCODE,SECT_ID,STNNBR,CASTNO,SAMPNO,BTLNBR,BTLNBR_FLAG_W,DATE,TIME,LATITUDE,LONGITUDE,DEPTH,CTDPRS,CTDTMP,CTDSAL,CTDSAL_FLAG_W,SALNTY,SALNTY_FLAG_W,CTDOXY,CTDOXY_FLAG_W,OXYGEN,OXYGEN_FLAG_W,SILCAT,SILCAT_FLAG_W,PHSPHT,PHSPHT_FLAG_W,CFC-11,CFC-11_FLAG_W,CFC-12,CFC-12_FLAG_W,CFC113,CFC113_FLAG_W,TCARBN,TCARBN_FLAG_W,ALKALI,ALKALI_FLAG_W,FLUOR,FLUOR_FLAG_W,DOC,DOC_FLAG_W,TDN,TDN_FLAG_W,NO2+NO3,NO2+NO3_FLAG_W,PAR,PAR_FLAG_W
,,,,,,,,,,,METERS,DBAR,ITS-90,PSS-78,,PSS-78,,UMOL/KG,,UMOL/KG,,UMOL/KG,,UMOL/KG,,PMOL/KG,,PMOL/KG,,PMOL/KG,,UMOL/KG,,UMOL/KG,,MG/M^3,,UMOL/KG,,UMOL/KG,,UMOL/KG,,VOLTS,
09AR20080322,       SR03,      45,          1,         24,         24,2,20080408,       0230,   -52.0802,   142.7123,       3452,     6.9,   6.2470,  33.8185,2,  33.8192,2,  -999.00,5,  299.30,2,     2.3,2,    1.50,2,   4.3917,2,   2.4548,2,   0.4127,2,  2112.7,6,  2269.4,2,   0.890,2,  -999.0,9, -999.00,9,   22.02,2,      2.890,2
09AR20080322,       SR03,      45,          1,         23,         23,2,20080408,       0230,   -52.0802,   142.7123,       3452,    60.1,   6.0626,  33.8052,2,-999.0000,9,   299.37,2, -999.00,9,  -999.0,9, -999.00,9,-999.0000,9,-999.0000,9,-999.0000,9,  -999.0,9,  -999.0,9,   1.125,2,  -999.0,9, -999.00,9, -999.00,9,      1.747,2
09AR20080322,       SR03,      45,          1,         22,         22,2,20080408,       0230,   -52.0802,   142.7123,       3452,    60.1,   6.0666,  33.8054,2,-999.0000,9,   299.37,2, -999.00,9,  -999.0,9, -999.00,9,-999.0000,9,-999.0000,9,-999.0000,9,  -999.0,9,  -999.0,9,   1.343,2,  -999.0,9, -999.00,9, -999.00,9,      1.748,2
09AR20080322,       SR03,      45,          1,         21,         21,2,20080408,       0230,   -52.0802,   142.7123,       3452,    59.2,   6.0636,  33.8056,2,  33.8057,2,   299.37,2,  300.73,2,     2.2,2,    1.52,2,   4.3902,2,   2.4722,2,   0.3822,2,  2116.2,2,  2268.8,6,   1.120,2,  -999.0,9, -999.00,9,   22.16,2,      1.784,2
09AR20080322,       SR03,      45,          1,         20,         20,2,20080408,       0230,   -52.0802,   142.7123,       3452,    99.2,   5.9500,  33.8059,2,  33.8071,2,   298.21,2,  299.42,2,     2.4,2,    1.53,2,   4.4661,2,   2.4894,2,   0.4241,2,  2119.0,2,  2268.4,2,   1.044,2,  -999.0,9, -999.00,9,   22.31,2,      1.088,2
09AR20080322,       SR03,      45,          1,         19,         19,2,20080408,       0230,   -52.0802,   142.7123,       3452,   145.2,   5.5994,  34.1231,2,  34.1215,2,   283.10,2,  274.33,2,     9.2,2,    1.57,2,   4.2657,2,   2.3366,2,   0.3430,2,  2140.6,2,  2277.6,2,  -0.017,2,  -999.0,9, -999.00,9,   22.97,2,      0.418,2
09AR20080322,       SR03,      45,          1,         18,         18,2,20080408,       0230,   -52.0802,   142.7123,       3452,   169.8,   5.4015,  34.1284,2,  34.1295,2,   272.54,2,  268.58,2,    10.6,2,    1.63,2,   4.2330,2,   2.2935,2,   0.3730,2,  2146.7,2,  2275.2,2,  -0.035,2,  -999.0,9, -999.00,9,   23.79,2,      0.147,2
09AR20080322,       SR03,      45,          1,         17,         17,2,20080408,       0230,   -52.0802,   142.7123,       3452,   300.2,   5.2660,  34.2530,2,  34.2509,2,   236.38,2,  235.11,2,    17.2,2,    1.83,2,   3.5799,2,   1.8730,2,   0.2678,2,  2169.5,2,  2283.5,2,  -0.043,2,  -999.0,9, -999.00,9,   26.86,2,      0.001,2
09AR20080322,       SR03,      45,          1,         16,         16,2,20080408,       0230,   -52.0802,   142.7123,       3452,   449.4,   3.9261,  34.2163,2,  34.2168,2,   233.11,2,  235.73,2,    25.5,2,    2.02,2,   3.5035,2,   1.7956,2,   0.2974,2,  2186.0,2,  2287.0,6,  -0.039,2,  -999.0,9, -999.00,9,   29.69,2,      0.001,2
09AR20080322,       SR03,      45,          1,         15,         15,2,20080408,       0230,   -52.0802,   142.7123,       3452,   599.1,   3.5418,  34.3009,2,  34.3005,2,   214.12,2,  212.67,2,    37.0,2,    2.17,2,-999.0000,9,-999.0000,9,-999.0000,9,  -999.0,9,  -999.0,9,  -0.037,2,  -999.0,9, -999.00,9,   31.62,2,      0.001,2
09AR20080322,       SR03,      45,          1,         14,         14,2,20080408,       0230,   -52.0802,   142.7123,       3452,   749.9,   3.2062,  34.3685,2,  34.3686,2,   193.37,2,  195.44,2,    47.8,2,    2.28,2,   1.6355,2,   0.8144,2,   0.1058,2,  2222.6,2,  2309.1,6,  -0.030,2,  -999.0,9, -999.00,9,   33.19,2,      0.001,2
09AR20080322,       SR03,      45,          1,         13,         13,2,20080408,       0230,   -52.0802,   142.7123,       3452,   899.3,   2.9179,  34.4503,2,  34.4504,2,   180.88,2,  180.99,2,    59.1,2,    2.35,2,-999.0000,9,-999.0000,9,-999.0000,9,  -999.0,9,  -999.0,9,  -0.026,2,  -999.0,9, -999.00,9,   34.06,2,      0.001,2
09AR20080322,       SR03,      45,          1,         12,         12,2,20080408,       0230,   -52.0802,   142.7123,       3452,  1101.8,   2.6360,  34.5449,2,  34.5455,2,   174.75,2,  174.28,2,    68.3,2,    2.35,2,   0.6093,2,   0.2978,2,   0.0409,2,  2249.2,6,  2326.5,2,  -0.030,2,  -999.0,9, -999.00,9,   34.05,2,      0.001,2
09AR20080322,       SR03,      45,          1,         11,         11,2,20080408,       0230,   -52.0802,   142.7123,       3452,  1350.0,   2.4813,  34.6186,2,  34.6209,2,   174.87,2,  174.35,2,    73.5,2,    2.28,2,   0.3926,2,   0.1948,2,   0.0235,2,  2252.1,2,  2335.0,2,  -0.031,2,  -999.0,9, -999.00,9,   33.50,2,      0.001,2
09AR20080322,       SR03,      45,          1,         10,         10,2,20080408,       0230,   -52.0802,   142.7123,       3452,  1599.3,   2.3224,  34.6989,2,  34.6995,2,   181.25,2,  181.30,2,    77.7,2,    2.20,2,   0.2046,2,   0.0950,2,   0.0223,2,  2249.9,2,  2342.1,2,  -0.023,2,  -999.0,9, -999.00,9,   32.00,2,      0.001,2
09AR20080322,       SR03,      45,          1,          9,          9,2,20080408,       0230,   -52.0802,   142.7123,       3452,  1850.4,   2.1356,  34.7367,2,  34.7368,2,   187.92,2,  188.63,2,    82.6,2,    2.13,2,-999.0000,9,-999.0000,9,-999.0000,9,  -999.0,9,  -999.0,9,  -0.029,2,  -999.0,9, -999.00,9,   31.15,2,      0.001,2
09AR20080322,       SR03,      45,          1,          8,          8,2,20080408,       0230,   -52.0802,   142.7123,       3452,  2150.8,   1.8686,  34.7479,2,  34.7484,2,   193.99,2,  194.01,2,    90.4,2,    2.13,2,   0.0866,2,   0.0412,2,   0.0113,2,  2253.0,2,  2353.4,2,  -0.031,2,  -999.0,9, -999.00,9,   30.84,2,      0.001,2
09AR20080322,       SR03,      45,          1,          7,          7,2,20080408,       0230,   -52.0802,   142.7123,       3452,  2299.5,   1.6561,  34.7444,2,  34.7455,2,   196.27,2,  197.01,2,    97.0,2,    2.15,2,   0.0868,6,   0.0408,6,   0.0115,6,  2256.3,2,  2355.3,2,  -0.031,2,  -999.0,9, -999.00,9,   30.76,2,      0.001,2
09AR20080322,       SR03,      45,          1,          6,          6,2,20080408,       0230,   -52.0802,   142.7123,       3452,  2499.7,   1.4674,  34.7396,2,  34.7404,2,   199.68,2,  200.31,2,   102.0,2,    2.15,2,-999.0000,9,-999.0000,9,-999.0000,9,  -999.0,9,  -999.0,9,  -0.032,2,  -999.0,9, -999.00,9,   31.07,2,      0.001,2
09AR20080322,       SR03,      45,          1,          5,          5,2,20080408,       0230,   -52.0802,   142.7123,       3452,  2749.4,   1.3197,  34.7324,2,  34.7337,2,   201.98,2,  201.48,2,   107.9,2,    2.19,2,   0.1136,2,   0.0539,2,   0.0162,2,  2258.0,2,  2358.9,6,  -0.034,2,  -999.0,9, -999.00,9,   31.45,2,      0.001,2
09AR20080322,       SR03,      45,          1,          4,          4,2,20080408,       0230,   -52.0802,   142.7123,       3452,  2998.7,   1.1213,  34.7235,2,  34.7266,2,   204.18,2,  203.83,2,   114.5,2,    2.22,2,-999.0000,9,-999.0000,9,-999.0000,9,  -999.0,9,  -999.0,9,  -0.036,2,  -999.0,9, -999.00,9,   31.69,2,      0.001,2
09AR20080322,       SR03,      45,          1,          3,          3,2,20080408,       0230,   -52.0802,   142.7123,       3452,  3199.6,   1.0472,  34.7194,2,  34.7225,2,   205.26,2,  204.13,2,   117.9,2,    2.23,2,   0.1137,2,   0.0552,2,   0.0148,2,  2265.6,2,  2365.1,2,  -0.033,2,  -999.0,9, -999.00,9,   31.84,2,      0.001,2
09AR20080322,       SR03,      45,          1,          2,          2,2,20080408,       0230,   -52.0802,   142.7123,       3452,  3449.8,   0.9966,  34.7162,2,  34.7164,2,   206.59,2,  205.96,2,   119.6,2,    2.24,2,   0.1285,2,   0.0635,2,   0.0118,2,  2267.0,2,  2365.7,6,  -0.036,2,  -999.0,9, -999.00,9,   32.17,2,      0.001,2
09AR20080322,       SR03,      45,          1,          1,          1,2,20080408,       0230,   -52.0802,   142.7123,       3452,  3504.1,   0.9835,  34.7154,2,  34.7166,2,   207.73,2, -999.00,9,   120.4,2,    2.25,2,   0.1490,2,   0.0743,2,   0.0120,2,  2265.6,6,  2364.3,2,  -0.038,2,  -999.0,9, -999.00,9,   32.24,2,      0.001,2
09AR20080322,       SR03,      46,          1,         24,         24,2,20080409,       1607,   -51.8107,   142.8408,       3659,     8.3,   6.5846,  33.8595,2,  33.8588,2,  -999.00,5,  297.12,2,     2.3,2,    1.48,2,-999.0000,5,-999.0000,5,-999.0000,5,  2110.4,6,  2270.7,2,   1.147,2,  -999.0,9, -999.00,9,   20.44,3,      0.001,2
09AR20080322,       SR03,      46,          1,         23,         23,2,20080409,       1607,   -51.8107,   142.8408,       3659,    30.2,   6.5881,  33.8597,2,-999.0000,9,   296.70,2, -999.00,9,  -999.0,9, -999.00,9,-999.0000,9,-999.0000,9,-999.0000,9,  -999.0,9,  -999.0,9,   1.041,2,  -999.0,9, -999.00,9, -999.00,9,      0.001,2
09AR20080322,       SR03,      46,          1,         22,         22,2,20080409,       1607,   -51.8107,   142.8408,       3659,    30.4,   6.5877,  33.8595,2,-999.0000,9,   296.70,2, -999.00,9,  -999.0,9, -999.00,9,-999.0000,9,-999.0000,9,-999.0000,9,  -999.0,9,  -999.0,9,   1.213,2,  -999.0,9, -999.00,9, -999.00,9,      0.001,2
09AR20080322,       SR03,      46,          1,         21,         21,2,20080409,       1607,   -51.8107,   142.8408,       3659,    30.2,   6.5855,  33.8595,2,  33.8419,4,   296.70,2,  298.00,2,     2.3,2,    1.48,2,   4.1879,2,   2.3551,2,   0.3857,2,  2112.0,2,  2269.5,6,   1.158,2,  -999.0,9, -999.00,9,   20.27,3,      0.001,2
09AR20080322,       SR03,      46,          1,         20,         20,2,20080409,       1607,   -51.8107,   142.8408,       3659,    70.9,   6.5926,  33.8609,2,  33.8615,2,   296.40,2,  296.61,2,     2.3,2,    1.48,2,-999.0000,5,-999.0000,5,-999.0000,5,  2110.2,2,  2269.0,2,   1.226,2,  -999.0,9, -999.00,9,   20.10,3,      0.001,2
09AR20080322,       SR03,      46,          1,         19,         19,2,20080409,       1607,   -51.8107,   142.8408,       3659,   106.9,   6.6107,  34.0526,2,  34.0454,2,   295.53,2,  285.65,2,     4.7,2,    1.46,2,   4.1899,2,   2.3351,2,   0.3467,2,  2118.3,2,  2273.8,2,   0.370,2,  -999.0,9, -999.00,9,   20.25,3,      0.001,2
09AR20080322,       SR03,      46,          1,         18,         18,2,20080409,       1607,   -51.8107,   142.8408,       3659,   129.1,   6.6124,  34.2061,2,  34.2128,2,   279.08,2,  277.22,2,     6.6,2,    1.40,2,-999.0000,5,-999.0000,5,-999.0000,5,  2127.2,2,  2277.9,2,   0.009,2,  -999.0,9, -999.00,9,   19.59,3,      0.001,2
09AR20080322,       SR03,      46,          1,         17,         17,2,20080409,       1607,   -51.8107,   142.8408,       3659,   198.6,   5.7780,  34.1434,2,  34.1430,2,   274.61,2,  273.68,2,     8.9,2,    1.59,2,   4.1389,2,   2.2831,2,   0.3271,2,  2137.9,2,  2276.2,2,  -0.023,2,  -999.0,9, -999.00,9,   21.88,3,      0.001,2
09AR20080322,       SR03,      46,          1,         16,         16,2,20080409,       1607,   -51.8107,   142.8408,       3659,   297.9,   5.8083,  34.2663,2,  34.2589,2,   242.61,2,  241.08,2,    14.0,2,    1.75,2,   3.5825,2,   1.9690,2,   0.2372,2,  2156.1,2,  2281.3,6,  -0.038,2,  -999.0,9, -999.00,9,   24.29,3,      0.001,2
09AR20080322,       SR03,      46,          1,         15,         15,2,20080409,       1607,   -51.8107,   142.8408,       3659,   399.2,   5.4164,  34.3154,2,  34.3162,2,   219.61,2,  220.67,2,    19.5,2,    1.91,2,-999.0000,5,-999.0000,5,-999.0000,5,  2173.9,2,  2286.7,2,  -0.040,2,  -999.0,9, -999.00,9,   26.60,3,      0.001,2
09AR20080322,       SR03,      46,          1,         14,         14,2,20080409,       1607,   -51.8107,   142.8408,       3659,   500.1,   4.4887,  34.2669,2,  34.2677,2,   225.61,2,  226.44,2,    23.9,2,    2.03,2,   3.1049,2,   1.6161,2,   0.1955,2,  2180.6,2,  2285.1,2,  -0.040,2,  -999.0,9, -999.00,9,   27.94,3,      0.001,2
09AR20080322,       SR03,      46,          1,         13,         13,2,20080409,       1607,   -51.8107,   142.8408,       3659,   600.4,   3.9561,  34.2877,2,  34.2878,2,   218.22,2,  218.51,2,    30.9,2,    2.14,2,   2.5763,2,   1.3111,2,   0.1293,2,  2198.6,2,  2293.4,6,  -0.038,2,  -999.0,9, -999.00,9,   29.29,3,      0.001,2
09AR20080322,       SR03,      46,          1,         12,         12,2,20080409,       1607,   -51.8107,   142.8408,       3659,   699.7,   3.4371,  34.2990,2,  34.2987,2,   213.54,2,  213.45,2,    37.7,2,    2.23,2,-999.0000,5,-999.0000,5,-999.0000,5,  2207.6,6,  2299.9,2,  -0.035,2,  -999.0,9, -999.00,9,   30.43,3,      0.001,2
09AR20080322,       SR03,      46,          1,         11,         11,2,20080409,       1607,   -51.8107,   142.8408,       3659,   800.9,   3.2242,  34.3550,2,  34.3562,2,   200.16,2,  198.97,2,    45.9,2,    2.30,2,   1.7352,2,   0.8545,2,   0.0793,2,  2218.5,2,  2307.5,2,  -0.031,2,  -999.0,9, -999.00,9,   31.55,3,      0.001,2
09AR20080322,       SR03,      46,          1,         10,         10,2,20080409,       1607,   -51.8107,   142.8408,       3659,   999.2,   2.8819,  34.4573,2,  34.4581,2,   181.65,2,  180.95,2,    59.5,2,    2.41,2,   0.9340,2,   0.4586,2,   0.0422,2,  2239.4,2,  2320.2,2,  -0.028,2,  -999.0,9, -999.00,9,   34.41,2,      0.001,2
09AR20080322,       SR03,      46,          1,          9,          9,2,20080409,       1607,   -51.8107,   142.8408,       3659,  1299.8,   2.6072,  34.5833,2,  34.5828,2,   171.79,2,  172.63,2,    70.7,2,    2.37,2,-999.0000,5,-999.0000,5,-999.0000,5,  2249.4,2,  2334.0,2,  -0.030,2,  -999.0,9, -999.00,9,   33.63,2,      0.001,2
09AR20080322,       SR03,      46,          1,          8,          8,2,20080409,       1607,   -51.8107,   142.8408,       3659,  1599.5,   2.4300,  34.6716,2,  34.6716,2,   177.00,2,  177.00,2,    76.0,2,    2.29,2,   0.1863,2,   0.0778,3,   0.0000,2,  2250.5,2,  2339.8,2,  -0.024,2,  -999.0,9, -999.00,9,   32.32,2,      0.001,2
09AR20080322,       SR03,      46,          1,          7,          7,2,20080409,       1607,   -51.8107,   142.8408,       3659,  1900.2,   2.2285,  34.7290,2,-999.0000,9,   186.53,2, -999.00,9,  -999.0,9, -999.00,9,-999.0000,9,-999.0000,9,-999.0000,9,  -999.0,9,  -999.0,9,  -0.026,2,  -999.0,9, -999.00,9, -999.00,9,      0.001,2
09AR20080322,       SR03,      46,          1,          6,          6,2,20080409,       1607,   -51.8107,   142.8408,       3659,  2197.1,   1.9832,  34.7473,2,  34.7471,2,   193.29,2,  193.53,2,    85.8,2,    2.17,2,   0.0917,2,   0.0382,3,   0.0000,2,  2249.2,2,  2350.5,6,  -0.033,2,  -999.0,9, -999.00,9,   30.21,2,      0.001,2
09AR20080322,       SR03,      46,          1,          5,          5,2,20080409,       1607,   -51.8107,   142.8408,       3659,  2499.1,   1.6596,  34.7438,2,  34.7435,2,   197.58,2,  197.40,2,    96.3,2,    2.21,2,   0.0801,2,   0.0441,2,   0.0000,2,  2251.6,2,  2356.7,2,  -0.031,2,  -999.0,9, -999.00,9,   30.41,2,      0.001,2
09AR20080322,       SR03,      46,          1,          4,          4,2,20080409,       1607,   -51.8107,   142.8408,       3659,  2796.4,   1.4067,  34.7349,2,  34.7345,2,   200.20,2,  200.31,2,   105.3,2,    2.24,2,   0.0751,2,   0.0246,3,   0.0000,4,  2259.0,2,  2359.8,2,  -0.032,2,  -999.0,9, -999.00,9,   30.77,2,      0.001,2
09AR20080322,       SR03,      46,          1,          3,          3,2,20080409,       1607,   -51.8107,   142.8408,       3659,  3197.0,   1.1327,  34.7231,2,  34.7221,2,   204.71,2,  204.22,2,   112.7,2,    2.26,2,   0.1072,6,   0.0600,6,   0.0000,4,  2260.6,2,  2361.1,2,  -0.034,2,  -999.0,9, -999.00,9,   30.72,2,      0.001,2
09AR20080322,       SR03,      46,          1,          2,          2,2,20080409,       1607,   -51.8107,   142.8408,       3659,  3683.5,   1.0162,  34.7159,2,  34.7156,2,   207.42,2,  205.87,2,   117.6,2,    2.28,2,   0.1192,2,   0.0587,3,   0.0000,4,  2264.9,2,  2365.4,6,  -0.034,2,  -999.0,9, -999.00,9,   30.67,2,      0.001,2
09AR20080322,       SR03,      46,          1,          1,          1,2,20080409,       1607,   -51.8107,   142.8408,       3659,  3773.6,   1.0249,  34.7160,2,  34.7156,2,   207.64,2,  205.78,2,   117.6,2,    2.26,2,   0.1201,2,   0.0532,3,   0.0000,4,  2263.1,6,  2363.0,2,  -0.034,2,  -999.0,9, -999.00,9,   30.56,2,      0.001,2