BOTTLE,20141029CCHSIOCBG
EXPOCODE,SECT_ID,STNNBR,CASTNO,SAMPNO,BTLNBR,BTLNBR_FLAG_W,DATE,TIME,LATITUDE,LONGITUDE,DEPTH,CTDPRS,CTDTMP,CTDSAL,CTDSAL_FLAG_W,SALNTY,SALNTY_FLAG_W,CTDOXY,CTDOXY_FLAG_W,OXYGEN,OXYGEN_FLAG_W,SILCAT,SILCAT_FLAG_W,PHSPHT,PHSPHT_FLAG_W,CFC-11,CFC-11_FLAG_W,CFC-12,CFC-12_FLAG_W,CFC113,CFC113_FLAG_W,TCARBN,TCARBN_FLAG_W,ALKALI,ALKALI_FLAG_W,FLUOR,FLUOR_FLAG_W,DOC,DOC_FLAG_W,TDN,TDN_FLAG_W,NO2+NO3,NO2+NO3_FLAG_W,PAR,PAR_FLAG_W
,,,,,,,,,,,METERS,DBAR,ITS-90,PSS-78,,PSS-78,,UMOL/KG,,UMOL/KG,,UMOL/KG,,UMOL/KG,,PMOL/KG,,PMOL/KG,,PMOL/KG,,UMOL/KG,,UMOL/KG,,MG/M^3,,UMOL/KG,,UMOL/KG,,UMOL/KG,,VOLTS,
09AR20080322,       SR03,      47,          1,         24,         24,2,20080409,       2033,   -51.5392,   142.9938,       3708,     8.8,   7.0084,  33.9695,2,  33.9692,2,  -999.00,5,  293.69,2,     2.5,2,    1.42,2,-999.0000,9,-999.0000,9,-999.0000,9,  -999.0,9,  -999.0,9,   1.240,2,  -999.0,9, -999.00,9,   20.16,2,      2.763,2
09AR20080322,       SR03,      47,          1,         23,         23,2,20080409,       2033,   -51.5392,   142.9938,       3708,    24.9,   7.0133,  33.9701,2,-999.0000,9,   292.92,2, -999.00,9,  -999.0,9, -999.00,9,-999.0000,9,-999.0000,9,-999.0000,9,  -999.0,9,  -999.0,9,   1.272,2,  -999.0,9, -999.00,9, -999.00,9,      2.314,2
09AR20080322,       SR03,      47,          1,         22,         22,2,20080409,       2033,   -51.5392,   142.9938,       3708,    24.8,   7.0131,  33.9703,2,-999.0000,9,   292.92,2, -999.00,9,  -999.0,9, -999.00,9,-999.0000,9,-999.0000,9,-999.0000,9,  -999.0,9,  -999.0,9,   1.247,2,  -999.0,9, -999.00,9, -999.00,9,      2.312,2
09AR20080322,       SR03,      47,          1,         21,         21,2,20080409,       2033,   -51.5392,   142.9938,       3708,    24.9,   7.0139,  33.9703,2,  33.9706,2,   292.92,2,  293.21,2,     2.5,2,    1.42,2,-999.0000,9,-999.0000,9,-999.0000,9,  -999.0,9,  -999.0,9,   1.276,2,  -999.0,9, -999.00,9,   20.34,2,      2.314,2
09AR20080322,       SR03,      47,          1,         20,         20,2,20080409,       2033,   -51.5392,   142.9938,       3708,    50.4,   7.0248,  33.9726,2,  33.9726,2,   292.95,2,  292.90,2,     2.5,2,    1.42,2,-999.0000,9,-999.0000,9,-999.0000,9,  -999.0,9,  -999.0,9,   1.173,2,  -999.0,9, -999.00,9,   20.13,2,      1.805,2
09AR20080322,       SR03,      47,          1,         19,         19,2,20080409,       2033,   -51.5392,   142.9938,       3708,    75.0,   7.0561,  33.9795,2,  33.9792,2,   292.42,2,  292.42,2,     2.5,2,    1.42,2,-999.0000,9,-999.0000,9,-999.0000,9,  -999.0,9,  -999.0,9,   1.287,2,  -999.0,9, -999.00,9,   19.83,2,      1.333,2
09AR20080322,       SR03,      47,          1,         18,         18,2,20080409,       2033,   -51.5392,   142.9938,       3708,   149.2,   7.6949,  34.3372,2,  34.3344,2,   269.65,2,  271.36,2,     5.3,2,    1.31,2,-999.0000,9,-999.0000,9,-999.0000,9,  -999.0,9,  -999.0,9,   0.133,2,  -999.0,9, -999.00,9,   17.99,2,      0.004,2
09AR20080322,       SR03,      47,          1,         17,         17,2,20080409,       2033,   -51.5392,   142.9938,       3708,   498.6,   5.5665,  34.3396,2,  34.3401,2,   222.53,2,  217.71,2,    20.0,2,    1.91,2,-999.0000,9,-999.0000,9,-999.0000,9,  2179.5,2,  2286.8,2,  -0.039,2,  -999.0,9, -999.00,9,   27.16,2,      0.001,2
09AR20080322,       SR03,      47,          1,         16,         16,2,20080409,       2033,   -51.5392,   142.9938,       3708,  1001.7,   3.0847,  34.3780,2,  34.3780,2,   191.68,2,  193.96,2,    50.1,2,    2.34,2,-999.0000,9,-999.0000,9,-999.0000,9,  2229.9,2,  2310.3,2,  -0.032,2,  -999.0,9, -999.00,9, -999.00,9,      0.001,2
09AR20080322,       SR03,      47,          1,         15,         15,2,20080409,       2033,   -51.5392,   142.9938,       3708,  1008.7,   3.0267,  34.3791,2,-999.0000,9,   190.99,2, -999.00,9,  -999.0,9, -999.00,9,-999.0000,9,-999.0000,9,-999.0000,9,  -999.0,9,  -999.0,9,  -0.032,2,  -999.0,9, -999.00,9, -999.00,9,      0.001,2
09AR20080322,       SR03,      47,          1,         14,         14,2,20080409,       2033,   -51.5392,   142.9938,       3708,  1506.9,   2.5314,  34.6217,2,-999.0000,9,   173.88,2, -999.00,9,  -999.0,9, -999.00,9,-999.0000,9,-999.0000,9,-999.0000,9,  -999.0,9,  -999.0,9,  -0.027,2,  -999.0,9, -999.00,9, -999.00,9,      0.001,2
09AR20080322,       SR03,      47,          1,         13,         13,2,20080409,       2033,   -51.5392,   142.9938,       3708,  2100.2,   2.1680,  34.7374,2,  34.7370,2,   189.70,2,  189.11,2,    80.8,2,    2.18,2,   0.1104,6,   0.0413,6,   0.0000,4,  2253.3,6,  2346.0,6,  -0.026,2,  -999.0,9, -999.00,9,   29.79,2,      0.001,2
09AR20080322,       SR03,      47,          1,         12,         12,2,20080409,       2033,   -51.5392,   142.9938,       3708,  2197.5,   2.0816,  34.7438,2,  34.7439,2,   191.93,2,  191.41,2,    82.8,2,    2.16,2,   0.1038,3,   0.0303,4,   0.0000,4,  2252.4,2,  2347.3,6,  -0.029,2,  -999.0,9, -999.00,9,   29.32,2,      0.001,2
09AR20080322,       SR03,      47,          1,         11,         11,2,20080409,       2033,   -51.5392,   142.9938,       3708,  2207.8,   2.0716,  34.7443,2,-999.0000,9,   192.19,2, -999.00,9,  -999.0,9, -999.00,9,-999.0000,9,-999.0000,9,-999.0000,9,  -999.0,9,  -999.0,9,  -0.030,2,  -999.0,9, -999.00,9, -999.00,9,      0.001,2
09AR20080322,       SR03,      47,          1,         10,         10,2,20080409,       2033,   -51.5392,   142.9938,       3708,  2399.8,   1.9032,  34.7482,2,  34.7484,2,   195.03,2,  194.01,2,    89.6,2,    2.18,2,   0.0696,3,   0.0189,4,   0.0000,4,  2255.5,2,  2352.6,2,  -0.028,2,  -999.0,9, -999.00,9,   30.64,2,      0.001,2
09AR20080322,       SR03,      47,          1,          9,          9,2,20080409,       2033,   -51.5392,   142.9938,       3708,  2700.2,   1.5857,  34.7419,2,  34.7421,2,   199.65,2,  198.48,2,    99.4,2,    2.21,2,   0.0792,3,   0.0210,4,   0.0000,4,  2260.4,2,  2355.8,2,  -0.031,2,  -999.0,9, -999.00,9,   31.08,2,      0.001,2
09AR20080322,       SR03,      47,          1,          8,          8,2,20080409,       2033,   -51.5392,   142.9938,       3708,  2998.8,   1.3013,  34.7306,2,  34.7300,2,   202.24,2,  201.74,2,   108.6,2,    2.25,2,   0.0896,3,   0.0499,3,   0.0000,4,  2264.0,2,  2361.7,2,  -0.032,2,  -999.0,9, -999.00,9,   31.20,2,      0.001,2
09AR20080322,       SR03,      47,          1,          7,          7,2,20080409,       2033,   -51.5392,   142.9938,       3708,  2998.8,   1.3028,  34.7307,2,-999.0000,9,   202.24,2, -999.00,9,  -999.0,9, -999.00,9,-999.0000,9,-999.0000,9,-999.0000,9,  -999.0,9,  -999.0,9,  -0.040,2,  -999.0,9, -999.00,9, -999.00,9,      0.001,2
09AR20080322,       SR03,      47,          1,          6,          6,2,20080409,       2033,   -51.5392,   142.9938,       3708,  3300.5,   1.0965,  34.7212,2,  34.7207,2,   204.29,2,  203.91,2,   115.6,2,    2.28,2,   0.1052,3,   0.0278,4,   0.0000,4,  2267.1,2,  2363.3,6,  -0.035,2,  -999.0,9, -999.00,9,   31.57,2,      0.001,2
09AR20080322,       SR03,      47,          1,          5,          5,2,20080409,       2033,   -51.5392,   142.9938,       3708,  3733.8,   1.0270,  34.7163,2,  34.7158,2,   204.81,2,  205.31,2,   119.3,2,    2.30,2,   0.1250,3,   0.0411,4,   0.0000,4,  2270.3,2,  2365.0,2,  -0.037,2,  -999.0,9, -999.00,9,   31.85,2,      0.001,2
09AR20080322,       SR03,      47,          1,          4,          4,2,20080409,       2033,   -51.5392,   142.9938,       3708,  3596.9,   1.0379,  34.7174,2,  34.7166,2,   205.02,2,  205.39,2,   118.4,2,    2.29,2,   0.1152,3,   0.0594,3,   0.0000,4,  2269.8,6,  2363.4,2,  -0.030,2,  -999.0,9, -999.00,9,   31.65,2,      0.001,2
09AR20080322,       SR03,      47,          1,          3,          3,2,20080409,       2033,   -51.5392,   142.9938,       3708,  3598.6,   1.0346,  34.7172,2,-999.0000,9,   204.96,2, -999.00,9,  -999.0,9, -999.00,9,-999.0000,9,-999.0000,9,-999.0000,9,  -999.0,9,  -999.0,9,  -0.035,2,  -999.0,9, -999.00,9, -999.00,9,      0.001,2
09AR20080322,       SR03,      47,          1,          2,          2,2,20080409,       2033,   -51.5392,   142.9938,       3708,  3689.0,   1.0317,  34.7167,2,  34.7166,2,   205.07,2,  205.34,2,   118.4,2,    2.29,2,   0.1283,3,   0.0459,4,   0.0000,4,  2268.5,2,  2365.6,6,  -0.034,2,  -999.0,9, -999.00,9,   31.53,2,      0.001,2
09AR20080322,       SR03,      47,          1,          1,          1,2,20080409,       2033,   -51.5392,   142.9938,       3708,  3761.2,   1.0326,  34.7164,2,-999.0000,9,   204.97,2, -999.00,9,  -999.0,9, -999.00,9,-999.0000,9,-999.0000,9,-999.0000,9,  -999.0,9,  -999.0,9,  -0.034,2,  -999.0,9, -999.00,9, -999.00,9,      0.001,2
09AR20080322,       SR03,      48,          1,         24,         24,2,20080410,       0036,   -51.5398,   142.9987,       3633,     3.9,   7.0357,  33.9771,2,  33.9771,2,   292.79,2,  292.95,2,     2.5,2,    1.38,2,-999.0000,9,-999.0000,9,-999.0000,9,  2110.3,6,  2270.5,2,   0.545,2,  -999.0,9, -999.00,9,   19.92,2,      3.398,2
09AR20080322,       SR03,      48,          1,         23,         23,2,20080410,       0036,   -51.5398,   142.9987,       3633,    24.6,   7.0234,  33.9773,2,-999.0000,9,   292.29,2, -999.00,9,  -999.0,9, -999.00,9,-999.0000,9,-999.0000,9,-999.0000,9,  -999.0,9,  -999.0,9,   1.206,2,  -999.0,9, -999.00,9, -999.00,9,      2.716,2
09AR20080322,       SR03,      48,          1,         22,         22,2,20080410,       0036,   -51.5398,   142.9987,       3633,    24.6,   7.0235,  33.9772,2,-999.0000,9,   292.29,2, -999.00,9,  -999.0,9, -999.00,9,-999.0000,9,-999.0000,9,-999.0000,9,  -999.0,9,  -999.0,9,   1.280,2,  -999.0,9, -999.00,9, -999.00,9,      2.717,2
09AR20080322,       SR03,      48,          1,         21,         21,2,20080410,       0036,   -51.5398,   142.9987,       3633,    24.5,   7.0240,  33.9772,2,  33.9773,2,   292.29,2,  292.68,2,     2.5,2,    1.38,2,-999.0000,9,-999.0000,9,-999.0000,9,  2110.2,2,  2272.3,6,   1.146,2,  -999.0,9, -999.00,9,   19.77,2,      2.739,2
09AR20080322,       SR03,      48,          1,         20,         20,2,20080410,       0036,   -51.5398,   142.9987,       3633,    50.1,   7.0232,  33.9771,2,  33.9769,2,   292.53,2, -999.00,9,     2.5,2,    1.39,2,-999.0000,9,-999.0000,9,-999.0000,9,  2109.9,2,  2274.8,2,   1.515,2,  -999.0,9, -999.00,9,   19.92,2,      2.245,2
09AR20080322,       SR03,      48,          1,         19,         19,2,20080410,       0036,   -51.5398,   142.9987,       3633,    75.0,   7.0290,  33.9786,2,  33.9781,2,   292.60,2,  292.59,2,     2.5,2,    1.37,2,-999.0000,9,-999.0000,9,-999.0000,9,  2111.1,2,  2273.1,2,   1.338,2,  -999.0,9, -999.00,9,   19.10,2,      1.789,2
09AR20080322,       SR03,      48,          1,         18,         18,2,20080410,       0036,   -51.5398,   142.9987,       3633,    99.4,   7.2232,  34.0733,2,  34.0584,2,   290.69,2,  286.44,2,     3.1,2,    1.35,2,-999.0000,9,-999.0000,9,-999.0000,9,  2113.0,2,  2274.5,2,   0.744,2,  -999.0,9, -999.00,9,   18.59,2,      1.330,2
09AR20080322,       SR03,      48,          1,         17,         17,2,20080410,       0036,   -51.5398,   142.9987,       3633,   151.6,   7.8805,  34.4101,2,  34.4102,2,   268.76,2,  267.40,2,     5.8,2,    1.25,2,-999.0000,9,-999.0000,9,-999.0000,9,  2124.3,2,  2283.4,2,  -0.031,2,  -999.0,9, -999.00,9,   17.43,2,      0.551,2
09AR20080322,       SR03,      48,          1,         16,         16,2,20080410,       0036,   -51.5398,   142.9987,       3633,   199.9,   7.6186,  34.3833,2,  34.3827,2,   269.07,2,  267.34,2,     6.3,2,    1.30,2,-999.0000,9,-999.0000,9,-999.0000,9,  2126.2,2,  2282.6,6,  -0.043,2,  -999.0,9, -999.00,9,   18.58,2,      0.003,2
09AR20080322,       SR03,      48,          1,         15,         15,2,20080410,       0036,   -51.5398,   142.9987,       3633,   250.4,   6.9831,  34.2902,2,  34.2909,2,   264.41,2,  269.65,2,     7.0,2,    1.39,2,-999.0000,9,-999.0000,9,-999.0000,9,  -999.0,9,  2280.3,2,  -0.041,2,  -999.0,9, -999.00,9,   19.97,2,      0.001,2
09AR20080322,       SR03,      48,          1,         14,         14,2,20080410,       0036,   -51.5398,   142.9987,       3633,   300.9,   6.5440,  34.2549,2,  34.2597,2,   252.40,2,  260.59,2,     8.8,2,    1.49,2,-999.0000,9,-999.0000,9,-999.0000,9,  2137.4,2,  2278.6,2,  -0.038,2,  -999.0,9, -999.00,9,   21.67,2,      0.001,2
09AR20080322,       SR03,      48,          1,         13,         13,2,20080410,       0036,   -51.5398,   142.9987,       3633,   400.9,   6.4155,  34.3710,2,  34.3711,2,   220.70,2,  222.08,2,    15.2,2,    1.70,2,-999.0000,9,-999.0000,9,-999.0000,9,  2161.8,2,  2283.6,2,  -0.039,2,  -999.0,9, -999.00,9,   25.20,2,      0.001,2
09AR20080322,       SR03,      48,          1,         12,         12,2,20080410,       0036,   -51.5398,   142.9987,       3633,   499.8,   5.6766,  34.3447,2,  34.3462,2,   216.84,2,  217.02,2,    19.5,2,    1.86,2,-999.0000,9,-999.0000,9,-999.0000,9,  2171.6,2,  2284.9,2,  -0.038,2,  -999.0,9, -999.00,9,   27.36,2,      0.001,2
09AR20080322,       SR03,      48,          1,         11,         11,2,20080410,       0036,   -51.5398,   142.9987,       3633,   601.2,   4.5678,  34.2784,2,-999.0000,9,   223.99,2, -999.00,9,  -999.0,9, -999.00,9,-999.0000,9,-999.0000,9,-999.0000,9,  -999.0,9,  -999.0,9,  -0.037,2,  -999.0,9, -999.00,9, -999.00,9,      0.001,2
09AR20080322,       SR03,      48,          1,         10,         10,2,20080410,       0036,   -51.5398,   142.9987,       3633,   701.1,   4.0238,  34.2888,2,  34.2927,2,   217.10,2,  217.77,2,    30.8,2,    2.10,2,-999.0000,9,-999.0000,9,-999.0000,9,  2192.5,2,  2293.9,2,  -0.037,2,  -999.0,9, -999.00,9,   30.77,2,      0.001,2
09AR20080322,       SR03,      48,          1,          9,          9,2,20080410,       0036,   -51.5398,   142.9987,       3633,   801.0,   3.5522,  34.3165,2,  34.3168,2,   209.01,2,  208.71,2,    38.7,2,    2.21,2,-999.0000,9,-999.0000,9,-999.0000,9,  2206.4,6,  2300.8,2,  -0.041,2,  -999.0,9, -999.00,9,   32.23,2,      0.001,2
09AR20080322,       SR03,      48,          1,          8,          8,2,20080410,       0036,   -51.5398,   142.9987,       3633,   900.1,   3.3070,  34.3427,2,  34.3437,2,   201.08,2,  201.49,2,    44.2,2,    2.28,2,-999.0000,9,-999.0000,9,-999.0000,9,  2214.7,2,  2305.8,6,  -0.030,2,  -999.0,9, -999.00,9,   32.80,2,      0.001,2
09AR20080322,       SR03,      48,          1,          7,          7,2,20080410,       0036,   -51.5398,   142.9987,       3633,   999.8,   3.0973,  34.3844,2,  34.3839,2,   193.09,2,  192.61,2,    50.8,2,    2.32,2,-999.0000,9,-999.0000,9,-999.0000,9,  2225.5,2,  2315.1,2,  -0.035,2,  -999.0,9, -999.00,9,   33.38,2,      0.001,2
09AR20080322,       SR03,      48,          1,          6,          6,2,20080410,       0036,   -51.5398,   142.9987,       3633,  1099.6,   2.9873,  34.4477,2,  34.4475,2,   184.56,2,  181.17,2,    58.2,2,    2.36,2,-999.0000,9,-999.0000,9,-999.0000,9,  -999.0,9,  -999.0,9,  -0.030,2,  -999.0,9, -999.00,9,   33.71,2,      0.001,2
09AR20080322,       SR03,      48,          1,          5,          5,2,20080410,       0036,   -51.5398,   142.9987,       3633,  1200.0,   2.8659,  34.4976,2,  34.4970,2,   175.05,2,  175.25,2,    63.6,2,    2.37,2,-999.0000,9,-999.0000,9,-999.0000,9,  -999.0,9,  -999.0,9,  -0.028,2,  -999.0,9, -999.00,9,   33.88,2,      0.001,2
09AR20080322,       SR03,      48,          1,          4,          4,2,20080410,       0036,   -51.5398,   142.9987,       3633,  1400.8,   2.6039,  34.5849,2,  34.5848,2,   173.02,2,  172.93,2,    71.0,2,    2.34,2,-999.0000,9,-999.0000,9,-999.0000,9,  -999.0,9,  -999.0,9,  -0.026,2,  -999.0,9, -999.00,9,   33.21,2,      0.001,2
09AR20080322,       SR03,      48,          1,          3,          3,2,20080410,       0036,   -51.5398,   142.9987,       3633,  1600.3,   2.4878,  34.6454,2,  34.6459,2,   176.34,2,  176.05,2,    74.2,2,    2.28,2,-999.0000,9,-999.0000,9,-999.0000,9,  -999.0,9,  -999.0,9,  -0.026,2,  -999.0,9, -999.00,9,   32.22,2,      0.001,2
09AR20080322,       SR03,      48,          1,          2,          2,2,20080410,       0036,   -51.5398,   142.9987,       3633,  1801.1,   2.3649,  34.6966,2,  34.6969,2,   180.98,2,  180.95,2,    77.3,2,    2.22,2,-999.0000,9,-999.0000,9,-999.0000,9,  -999.0,9,  -999.0,9,  -0.024,2,  -999.0,9, -999.00,9,   31.16,2,      0.001,2
09AR20080322,       SR03,      48,          1,          1,          1,2,20080410,       0036,   -51.5398,   142.9987,       3633,  2002.9,   2.2615,  34.7247,2,  34.7252,2,   185.62,2,  185.85,2,    80.4,2,    2.17,2,-999.0000,9,-999.0000,9,-999.0000,9,  -999.0,9,  -999.0,9,  -0.025,2,  -999.0,9, -999.00,9,   30.27,2,      0.001,2