BOTTLE,20141029CCHSIOCBG
EXPOCODE,SECT_ID,STNNBR,CASTNO,SAMPNO,BTLNBR,BTLNBR_FLAG_W,DATE,TIME,LATITUDE,LONGITUDE,DEPTH,CTDPRS,CTDTMP,CTDSAL,CTDSAL_FLAG_W,SALNTY,SALNTY_FLAG_W,CTDOXY,CTDOXY_FLAG_W,OXYGEN,OXYGEN_FLAG_W,SILCAT,SILCAT_FLAG_W,PHSPHT,PHSPHT_FLAG_W,CFC-11,CFC-11_FLAG_W,CFC-12,CFC-12_FLAG_W,CFC113,CFC113_FLAG_W,TCARBN,TCARBN_FLAG_W,ALKALI,ALKALI_FLAG_W,FLUOR,FLUOR_FLAG_W,DOC,DOC_FLAG_W,TDN,TDN_FLAG_W,NO2+NO3,NO2+NO3_FLAG_W,PAR,PAR_FLAG_W
,,,,,,,,,,,METERS,DBAR,ITS-90,PSS-78,,PSS-78,,UMOL/KG,,UMOL/KG,,UMOL/KG,,UMOL/KG,,PMOL/KG,,PMOL/KG,,PMOL/KG,,UMOL/KG,,UMOL/KG,,MG/M^3,,UMOL/KG,,UMOL/KG,,UMOL/KG,,VOLTS,
09AR20080322,       SR03,      25,          1,         24,         24,2,20080403,       0147,   -59.3495,   139.8515,       4057,     3.5,   3.3163,  33.7535,2,  33.7562,2,   315.00,2,  315.18,2,     7.0,2,    1.70,2,   5.1319,2,   2.8021,2,   0.4570,2,  2134.4,6,  2282.5,2,   0.282,2,    45.0,2,   30.04,2,   25.89,2,      3.094,2
09AR20080322,       SR03,      25,          1,         23,         23,2,20080403,       0147,   -59.3495,   139.8515,       4057,    40.4,   3.3057,  33.7554,2,-999.0000,9,   315.19,2, -999.00,9,  -999.0,9, -999.00,9,-999.0000,9,-999.0000,9,-999.0000,9,  -999.0,9,  -999.0,9,   0.765,2,  -999.0,9, -999.00,9, -999.00,9,      2.419,2
09AR20080322,       SR03,      25,          1,         22,         22,2,20080403,       0147,   -59.3495,   139.8515,       4057,    40.4,   3.3045,  33.7555,2,-999.0000,9,   315.19,2, -999.00,9,  -999.0,9, -999.00,9,-999.0000,9,-999.0000,9,-999.0000,9,  -999.0,9,  -999.0,9,   0.744,2,  -999.0,9, -999.00,9, -999.00,9,      2.411,2
09AR20080322,       SR03,      25,          1,         21,         21,2,20080403,       0147,   -59.3495,   139.8515,       4057,    40.2,   3.2938,  33.7563,2,  33.7590,2,   315.19,2,  316.53,2,     7.2,2,    1.69,2,   5.2033,2,   2.7909,2,   0.4583,2,  2134.2,2,  2280.6,6,   0.794,2,    43.9,2,   29.32,2,   25.92,2,      2.356,2
09AR20080322,       SR03,      25,          1,         20,         20,2,20080403,       0147,   -59.3495,   139.8515,       4057,    80.1,   2.5797,  33.8002,2,  33.7958,2,   315.81,2,  320.06,2,    10.2,2,    1.83,2,   5.3204,2,   2.8706,2,   0.4590,2,  2143.8,2,  2281.4,2,   1.762,2,    43.0,2,   29.71,2,   26.50,2,      1.756,2
09AR20080322,       SR03,      25,          1,         19,         19,2,20080403,       0147,   -59.3495,   139.8515,       4057,   105.4,   0.7432,  33.9209,2,  33.9195,2,   315.64,2,  316.60,2,    23.9,2,    2.02,2,   5.6893,6,   2.9611,6,   0.4909,6,  2166.5,2,  2289.4,2,   1.447,2,    41.8,2,   32.01,2,   29.38,2,      1.207,2
09AR20080322,       SR03,      25,          1,         18,         18,2,20080403,       0147,   -59.3495,   139.8515,       4057,   150.8,   1.3485,  34.1303,2,  34.1305,2,   264.00,2,  262.88,2,    42.2,2,    2.24,2,   4.2180,2,   2.1955,2,   0.3295,2,  2201.0,2,  2301.8,2,   0.048,2,    41.6,2,   34.21,2,   32.53,2,      0.302,2
09AR20080322,       SR03,      25,          1,         17,         17,2,20080403,       0147,   -59.3495,   139.8515,       4057,   250.9,   2.1891,  34.3701,2,-999.0000,9,   197.24,2,  195.07,2,    60.9,2,    2.41,2,   1.9941,2,   0.9887,2,   0.1471,2,  2235.6,2,  2320.2,2,  -0.027,2,    41.1,2,   36.40,2,   35.00,2,      0.001,2
09AR20080322,       SR03,      25,          1,         16,         16,2,20080403,       0147,   -59.3495,   139.8515,       4057,   349.1,   2.2762,  34.4625,2,  34.4622,2,   179.70,2,  179.72,2,    68.1,2,    2.43,2,   1.3090,2,   0.6454,2,   0.0916,2,  2250.4,2,  2326.1,6,  -0.025,2,    40.8,2,   35.55,2,   34.99,2,      0.001,2
09AR20080322,       SR03,      25,          1,         15,         15,2,20080403,       0147,   -59.3495,   139.8515,       4057,   452.2,   2.2715,  34.5331,2,  34.5341,2,   172.75,2,  173.58,2,    72.8,2,    2.41,2,   0.8955,2,   0.4366,2,   0.0536,2,  2247.7,2,  2335.5,2,  -0.027,2,    39.9,2,   35.88,2,   34.74,2,      0.001,2
09AR20080322,       SR03,      25,          1,         14,         14,2,20080403,       0147,   -59.3495,   139.8515,       4057,   551.2,   2.2722,  34.5911,2,  34.5912,2,   170.52,2,  171.79,2,    75.9,2,    2.38,2,   0.6197,2,   0.3029,2,   0.0371,2,  2254.6,2,  2338.0,2,  -0.024,2,    39.4,2,   34.98,2,   34.25,2,      0.001,2
09AR20080322,       SR03,      25,          1,         13,         13,2,20080403,       0147,   -59.3495,   139.8515,       4057,   800.8,   2.1985,  34.6807,2,  34.6822,2,   176.44,2,  177.21,2,    80.3,2,    2.26,2,   0.3078,2,   0.1350,2,   0.0203,2,  2253.7,2,  2344.3,6,  -0.026,2,    39.4,2,   33.72,2,   32.52,2,      0.001,2
09AR20080322,       SR03,      25,          1,         12,         12,2,20080403,       0147,   -59.3495,   139.8515,       4057,  1000.0,   2.0957,  34.7187,2,  34.7203,2,   182.80,2,  183.99,2,    82.1,2,    2.19,2,   0.2110,2,   0.1122,2,   0.0098,2,  2249.2,6,  2350.0,2,  -0.027,2,    39.4,2,   32.90,2,   31.62,2,      0.001,2
09AR20080322,       SR03,      25,          1,         11,         11,2,20080403,       0147,   -59.3495,   139.8515,       4057,  1250.2,   1.9536,  34.7422,2,  34.7431,2,   191.10,2,  191.45,2,    85.8,2,    2.15,2,   0.1510,2,   0.0629,2,   0.0099,2,  2248.4,2,  2354.0,2,  -0.026,2,    39.2,2,   32.26,2,   30.90,2,      0.001,2
09AR20080322,       SR03,      25,          1,         10,         10,2,20080403,       0147,   -59.3495,   139.8515,       4057,  1499.5,   1.7650,  34.7481,2,  34.7492,2,   195.61,2,  195.71,2,    90.7,2,    2.14,2,   0.1276,2,   0.0503,2,   0.0072,2,  2246.7,2,  2356.8,2,  -0.028,2,    39.2,2,   32.67,2,   30.74,2,      0.001,2
09AR20080322,       SR03,      25,          1,          9,          9,2,20080403,       0147,   -59.3495,   139.8515,       4057,  1749.2,   1.5390,  34.7439,2,  34.7449,2,   198.75,2,  199.36,2,    97.5,2,    2.17,2,   0.1269,2,   0.0419,2,   0.0107,2,  2251.5,2,  2355.8,2,  -0.029,2,    39.2,2,   32.25,2,   30.82,2,      0.001,2
09AR20080322,       SR03,      25,          1,          8,          8,2,20080403,       0147,   -59.3495,   139.8515,       4057,  1999.0,   1.3188,  34.7354,2,  34.7368,2,   201.50,2,  201.48,2,   104.7,2,    2.19,2,   0.1261,2,   0.0380,2,   0.0069,2,  2252.5,2,  2360.0,2,  -0.030,2,    39.2,2,   33.18,2,   31.36,2,      0.001,2
09AR20080322,       SR03,      25,          1,          7,          7,2,20080403,       0147,   -59.3495,   139.8515,       4057,  2400.3,   1.0126,  34.7202,2,  34.7207,2,   205.45,2,  204.96,2,   114.0,2,    2.25,2,   0.1594,2,   0.0544,2,   0.0119,2,  2259.0,2,  2361.4,2,  -0.035,2,    39.2,2,   33.23,2,   31.83,2,      0.001,2
09AR20080322,       SR03,      25,          1,          6,          6,2,20080403,       0147,   -59.3495,   139.8515,       4057,  2799.5,   0.6833,  34.7033,2,  34.7040,2,   210.37,2,  210.38,2,   122.9,2,    2.29,2,   0.2243,2,   0.0898,2,   0.0094,2,  2264.7,2,  2360.5,2,  -0.038,2,    39.1,2,   33.97,2,   32.30,2,      0.001,2
09AR20080322,       SR03,      25,          1,          5,          5,2,20080403,       0147,   -59.3495,   139.8515,       4057,  3200.7,   0.4481,  34.6928,2,  34.7030,4,   215.77,2,  215.56,2,   129.3,2,    2.30,2,   0.3458,2,   0.1524,2,   0.0201,2,  2261.0,2,  2361.7,2,  -0.039,2,    38.8,2,   34.02,2,   32.46,2,      0.001,2
09AR20080322,       SR03,      25,          1,          4,          4,2,20080403,       0147,   -59.3495,   139.8515,       4057,  3599.7,   0.2812,  34.6853,2,  34.6852,2,   221.13,2,  220.42,2,   132.8,2,    2.31,2,   0.4749,2,   0.2107,2,   0.0183,2,  2261.8,2,  2360.8,2,  -0.042,2,    39.1,2,   33.50,2,   32.46,2,      0.001,2
09AR20080322,       SR03,      25,          1,          3,          3,2,20080403,       0147,   -59.3495,   139.8515,       4057,  3999.0,   0.1494,  34.6792,2,  34.6787,2,   226.47,2,  225.76,2,   136.2,2,    2.31,2,   0.7391,2,   0.3358,2,   0.0343,2,  2256.1,2,  2362.9,2,  -0.042,2,    38.8,2,   33.86,2,   32.69,2,      0.001,2
09AR20080322,       SR03,      25,          1,          2,          2,2,20080403,       0147,   -59.3495,   139.8515,       4057,  4201.9,   0.0953,  34.6755,2,  34.6757,2,   228.93,2,  227.72,2,   139.2,2,    2.30,2,   0.9310,2,   0.4279,2,   0.0473,2,  2257.0,2,  2361.0,6,  -0.041,2,    39.0,2,   34.15,2,   32.82,2,      0.001,2
09AR20080322,       SR03,      25,          1,          1,          1,2,20080403,       0147,   -59.3495,   139.8515,       4057,  4260.9,   0.0924,  34.6750,2,  34.6749,2,   229.31,2,  230.20,2,   138.8,2,    2.31,2,   0.9612,2,   0.4473,2,   0.0571,2,  2260.4,6,  2364.4,2,  -0.044,2,    38.8,2,   33.81,2,   32.44,2,      0.001,2
09AR20080322,       SR03,      26,          1,         24,         24,2,20080403,       0743,   -58.8488,   139.8422,       3862,     4.0,   3.7774,  33.7463,2,  33.7459,2,   312.05,2,  311.80,2,     4.0,2,    1.66,2,-999.0000,9,-999.0000,9,-999.0000,9,  2131.5,2,  2278.2,2,   0.760,2,  -999.0,9, -999.00,9,   24.95,2,      0.001,2
09AR20080322,       SR03,      26,          1,         23,         23,2,20080403,       0743,   -58.8488,   139.8422,       3862,    25.5,   3.7833,  33.7463,2,-999.0000,9,   311.94,2, -999.00,9,  -999.0,9, -999.00,9,-999.0000,9,-999.0000,9,-999.0000,9,  -999.0,9,  -999.0,9,   0.801,2,  -999.0,9, -999.00,9, -999.00,9,      0.001,2
09AR20080322,       SR03,      26,          1,         22,         22,2,20080403,       0743,   -58.8488,   139.8422,       3862,    25.4,   3.7822,  33.7462,2,-999.0000,9,   311.94,2, -999.00,9,  -999.0,9, -999.00,9,-999.0000,9,-999.0000,9,-999.0000,9,  -999.0,9,  -999.0,9,   0.782,2,  -999.0,9, -999.00,9, -999.00,9,      0.001,2
09AR20080322,       SR03,      26,          1,         21,         21,2,20080403,       0743,   -58.8488,   139.8422,       3862,    25.4,   3.7848,  33.7462,2,  33.7459,2,   311.94,2,  312.41,2,     3.9,2,    1.65,2,-999.0000,9,-999.0000,9,-999.0000,9,  -999.0,9,  -999.0,9,   0.785,2,  -999.0,9, -999.00,9, -999.00,9,      0.001,2
09AR20080322,       SR03,      26,          1,         20,         20,2,20080403,       0743,   -58.8488,   139.8422,       3862,    49.9,   3.7616,  33.7463,2,  33.7463,2,   312.72,2,  312.20,2,     4.2,2,    1.66,2,-999.0000,9,-999.0000,9,-999.0000,9,  -999.0,9,  -999.0,9,   0.859,2,  -999.0,9, -999.00,9,   25.64,2,      0.001,2
09AR20080322,       SR03,      26,          1,         19,         19,2,20080403,       0743,   -58.8488,   139.8422,       3862,    74.6,   3.6857,  33.7523,2,  33.7527,2,   314.49,2,  313.24,2,     5.2,2,    1.68,2,-999.0000,9,-999.0000,9,-999.0000,9,  -999.0,9,  -999.0,9,   1.003,2,  -999.0,9, -999.00,9,   26.10,2,      0.001,2
09AR20080322,       SR03,      26,          1,         18,         18,2,20080403,       0743,   -58.8488,   139.8422,       3862,   150.4,   1.3192,  33.9478,2,  33.9438,2,   301.91,2,  303.73,2,    24.6,2,    2.01,2,-999.0000,9,-999.0000,9,-999.0000,9,  -999.0,9,  -999.0,9,   0.242,2,  -999.0,9, -999.00,9,   30.68,2,      0.001,2
09AR20080322,       SR03,      26,          1,         17,         17,2,20080403,       0743,   -58.8488,   139.8422,       3862,   500.6,   2.3799,  34.5102,2,  34.5099,2,   175.61,2,  175.63,2,    70.4,2,    2.39,2,   0.9524,2,   0.4602,2,   0.0617,2,  2251.5,6,  2331.1,2,  -0.025,2,  -999.0,9, -999.00,9,   35.22,2,      0.001,2
09AR20080322,       SR03,      26,          1,         16,         16,2,20080403,       0743,   -58.8488,   139.8422,       3862,  1000.3,   2.2186,  34.7028,2,  34.7026,2,   181.46,2,  182.16,2,    80.2,2,    2.19,2,   0.2230,2,   0.1025,2,   0.0134,2,  2251.9,2,  2345.6,2,  -0.029,2,  -999.0,9, -999.00,9,   32.66,2,      0.001,2
09AR20080322,       SR03,      26,          1,         15,         15,2,20080403,       0743,   -58.8488,   139.8422,       3862,  1009.0,   2.2129,  34.7057,2,-999.0000,9,   181.68,2, -999.00,9,  -999.0,9, -999.00,9,-999.0000,9,-999.0000,9,-999.0000,9,  -999.0,9,  -999.0,9,  -0.026,2,  -999.0,9, -999.00,9, -999.00,9,      0.001,2
09AR20080322,       SR03,      26,          1,         14,         14,2,20080403,       0743,   -58.8488,   139.8422,       3862,  1499.0,   1.8679,  34.7472,2,-999.0000,9,   194.17,2, -999.00,9,  -999.0,9, -999.00,9,-999.0000,9,-999.0000,9,-999.0000,9,  -999.0,9,  -999.0,9,  -0.028,2,  -999.0,9, -999.00,9, -999.00,9,      0.001,2
09AR20080322,       SR03,      26,          1,         13,         13,2,20080403,       0743,   -58.8488,   139.8422,       3862,  2001.9,   1.4230,  34.7398,2,  34.7390,2,   200.61,2,  200.66,2,   103.0,2,    2.16,2,   0.1252,2,   0.0579,2,   0.0088,2,  2254.8,2,  2358.1,2,  -0.032,2,  -999.0,9, -999.00,9,   31.96,2,      0.001,2
09AR20080322,       SR03,      26,          1,         12,         12,2,20080403,       0743,   -58.8488,   139.8422,       3862,  2200.7,   1.2672,  34.7330,2,  34.7323,2,   202.27,2,  202.44,2,   107.6,2,    2.18,2,   0.1245,2,   0.0405,2,   0.0083,2,  2256.9,2,  2360.6,2,  -0.032,2,  -999.0,9, -999.00,9,   32.10,2,      0.001,2
09AR20080322,       SR03,      26,          1,         11,         11,2,20080403,       0743,   -58.8488,   139.8422,       3862,  2208.3,   1.2567,  34.7324,2,-999.0000,9,   202.36,2, -999.00,9,  -999.0,9, -999.00,9,-999.0000,9,-999.0000,9,-999.0000,9,  -999.0,9,  -999.0,9,  -0.033,2,  -999.0,9, -999.00,9, -999.00,9,      0.001,2
09AR20080322,       SR03,      26,          1,         10,         10,2,20080403,       0743,   -58.8488,   139.8422,       3862,  2401.7,   1.0841,  34.7238,2,  34.7231,2,   204.39,2,  204.34,2,   113.4,2,    2.22,2,   0.1358,2,   0.0485,2,   0.0063,2,  2259.9,2,  2362.4,2,  -0.032,2,  -999.0,9, -999.00,9,   32.57,2,      0.001,2
09AR20080322,       SR03,      26,          1,          9,          9,2,20080403,       0743,   -58.8488,   139.8422,       3862,  2600.7,   0.9492,  34.7168,2,  34.7158,2,   206.51,2,  206.26,2,   117.7,2,    2.24,2,   0.1627,2,   0.0735,2,   0.0109,2,  2260.6,2,  2362.8,2,  -0.035,2,  -999.0,9, -999.00,9,   32.47,2,      0.001,2
09AR20080322,       SR03,      26,          1,          8,          8,2,20080403,       0743,   -58.8488,   139.8422,       3862,  3001.2,   0.6388,  34.7008,2,  34.6997,2,   211.83,2,  211.47,2,   125.2,2,    2.26,2,   0.2533,2,   0.1133,2,   0.0083,2,  2261.9,2,  2363.3,2,  -0.041,2,  -999.0,9, -999.00,9,   32.77,2,      0.001,2
09AR20080322,       SR03,      26,          1,          7,          7,2,20080403,       0743,   -58.8488,   139.8422,       3862,  3009.4,   0.6300,  34.7003,2,-999.0000,9,   211.85,2, -999.00,9,  -999.0,9, -999.00,9,-999.0000,9,-999.0000,9,-999.0000,9,  -999.0,9,  -999.0,9,  -0.034,2,  -999.0,9, -999.00,9, -999.00,9,      0.001,2
09AR20080322,       SR03,      26,          1,          6,          6,2,20080403,       0743,   -58.8488,   139.8422,       3862,  3300.6,   0.4839,  34.6937,2,  34.6928,2,   215.62,2,  214.99,2,   129.1,2,    2.27,2,   0.3294,2,   0.1517,2,   0.0101,2,  2261.1,2,  2362.8,6,  -0.039,2,  -999.0,9, -999.00,9,   32.83,2,      0.001,2
09AR20080322,       SR03,      26,          1,          5,          5,2,20080403,       0743,   -58.8488,   139.8422,       3862,  3600.8,   0.3462,  34.6880,2,  34.6861,2,   219.62,2,  218.82,2,   133.7,2,    2.29,2,   0.4328,2,   0.1969,2,   0.0210,2,  2262.4,2,  2357.6,2,  -0.041,2,  -999.0,9, -999.00,9,   32.89,2,      0.001,2
09AR20080322,       SR03,      26,          1,          4,          4,2,20080403,       0743,   -58.8488,   139.8422,       3862,  3851.6,   0.2639,  34.6840,2,  34.6824,2,   222.54,2,  221.68,2,   136.8,2,    2.28,2,   0.5507,2,   0.2490,2,   0.0270,2,  2261.6,2,  2361.2,6,  -0.039,2,  -999.0,9, -999.00,9,   33.03,2,      0.001,2
09AR20080322,       SR03,      26,          1,          3,          3,2,20080403,       0743,   -58.8488,   139.8422,       3862,  3858.3,   0.2622,  34.6837,2,-999.0000,9,   222.60,2, -999.00,9,  -999.0,9, -999.00,9,-999.0000,9,-999.0000,9,-999.0000,9,  -999.0,9,  -999.0,9,  -0.038,2,  -999.0,9, -999.00,9, -999.00,9,      0.001,2
09AR20080322,       SR03,      26,          1,          2,          2,2,20080403,       0743,   -58.8488,   139.8422,       3862,  3962.5,   0.2160,  34.6817,2,  34.6800,2,   224.03,2,  222.80,2,   138.4,2,    2.28,2,   0.6344,2,   0.3190,2,   0.0239,2,  2262.4,6,  2356.8,2,  -0.040,2,  -999.0,9, -999.00,9,   33.16,2,      0.001,2
09AR20080322,       SR03,      26,          1,          1,          1,2,20080403,       0743,   -58.8488,   139.8422,       3862,  3962.1,   0.2164,  34.6818,2,-999.0000,9,   224.03,2, -999.00,9,  -999.0,9, -999.00,9,-999.0000,9,-999.0000,9,-999.0000,9,  -999.0,9,  -999.0,9,  -0.038,2,  -999.0,9, -999.00,9, -999.00,9,      0.001,2