BOTTLE,20141029CCHSIOCBG
EXPOCODE,SECT_ID,STNNBR,CASTNO,SAMPNO,BTLNBR,BTLNBR_FLAG_W,DATE,TIME,LATITUDE,LONGITUDE,DEPTH,CTDPRS,CTDTMP,CTDSAL,CTDSAL_FLAG_W,SALNTY,SALNTY_FLAG_W,CTDOXY,CTDOXY_FLAG_W,OXYGEN,OXYGEN_FLAG_W,SILCAT,SILCAT_FLAG_W,PHSPHT,PHSPHT_FLAG_W,CFC-11,CFC-11_FLAG_W,CFC-12,CFC-12_FLAG_W,CFC113,CFC113_FLAG_W,TCARBN,TCARBN_FLAG_W,ALKALI,ALKALI_FLAG_W,FLUOR,FLUOR_FLAG_W,DOC,DOC_FLAG_W,TDN,TDN_FLAG_W,NO2+NO3,NO2+NO3_FLAG_W,PAR,PAR_FLAG_W
,,,,,,,,,,,METERS,DBAR,ITS-90,PSS-78,,PSS-78,,UMOL/KG,,UMOL/KG,,UMOL/KG,,UMOL/KG,,PMOL/KG,,PMOL/KG,,PMOL/KG,,UMOL/KG,,UMOL/KG,,MG/M^3,,UMOL/KG,,UMOL/KG,,UMOL/KG,,VOLTS,
09AR20080322,       TEST,       3,          1,         24,         24,2,20080325,       2226,   -57.5072,   142.8413,       2898,   298.4,   2.0849,  34.3003,2,-999.0000,9,  -999.00,5, -999.00,9,  -999.0,9, -999.00,9,-999.0000,9,-999.0000,9,-999.0000,9,  -999.0,9,  -999.0,9,  -0.033,2,  -999.0,9, -999.00,9, -999.00,9,      0.001,2
09AR20080322,       TEST,       3,          1,         23,         23,2,20080325,       2226,   -57.5072,   142.8413,       2898,   298.7,   2.0821,  34.2991,2,-999.0000,9,  -999.00,5, -999.00,9,  -999.0,9, -999.00,9,-999.0000,9,-999.0000,9,-999.0000,9,  -999.0,9,  -999.0,9,  -0.030,2,  -999.0,9, -999.00,9, -999.00,9,      0.001,2
09AR20080322,       TEST,       3,          1,         22,         22,2,20080325,       2226,   -57.5072,   142.8413,       2898,   298.8,   2.0816,  34.2987,2,-999.0000,9,  -999.00,5, -999.00,9,  -999.0,9, -999.00,9,-999.0000,9,-999.0000,9,-999.0000,9,  -999.0,9,  -999.0,9,  -0.031,2,  -999.0,9, -999.00,9, -999.00,9,      0.001,2
09AR20080322,       TEST,       3,          1,         21,         21,2,20080325,       2226,   -57.5072,   142.8413,       2898,   299.6,   2.0873,  34.3016,2,-999.0000,9,  -999.00,5, -999.00,9,  -999.0,9, -999.00,9,-999.0000,9,-999.0000,9,-999.0000,9,  -999.0,9,  -999.0,9,  -0.027,2,  -999.0,9, -999.00,9, -999.00,9,      0.001,2
09AR20080322,       TEST,       3,          1,         20,         20,2,20080325,       2226,   -57.5072,   142.8413,       2898,   300.0,   2.0886,  34.3023,2,-999.0000,9,  -999.00,5, -999.00,9,  -999.0,9, -999.00,9,-999.0000,9,-999.0000,9,-999.0000,9,  -999.0,9,  -999.0,9,  -0.029,2,  -999.0,9, -999.00,9, -999.00,9,      0.001,2
09AR20080322,       TEST,       3,          1,         19,         19,2,20080325,       2226,   -57.5072,   142.8413,       2898,   300.3,   2.0895,  34.3025,2,-999.0000,9,  -999.00,5, -999.00,9,  -999.0,9, -999.00,9,-999.0000,9,-999.0000,9,-999.0000,9,  -999.0,9,  -999.0,9,  -0.029,2,  -999.0,9, -999.00,9, -999.00,9,      0.001,2
09AR20080322,       TEST,       3,          1,         18,         18,2,20080325,       2226,   -57.5072,   142.8413,       2898,   300.3,   2.0882,  34.3018,2,-999.0000,9,  -999.00,5, -999.00,9,  -999.0,9, -999.00,9,-999.0000,9,-999.0000,9,-999.0000,9,  -999.0,9,  -999.0,9,  -0.027,2,  -999.0,9, -999.00,9, -999.00,9,      0.001,2
09AR20080322,       TEST,       3,          1,         17,         17,2,20080325,       2226,   -57.5072,   142.8413,       2898,   299.8,   2.0874,  34.3018,2,-999.0000,9,  -999.00,5, -999.00,9,  -999.0,9, -999.00,9,-999.0000,9,-999.0000,9,-999.0000,9,  -999.0,9,  -999.0,9,  -0.030,2,  -999.0,9, -999.00,9, -999.00,9,      0.001,2
09AR20080322,       TEST,       3,          1,         16,         16,2,20080325,       2226,   -57.5072,   142.8413,       2898,   300.5,   2.0884,  34.3021,2,-999.0000,9,  -999.00,5, -999.00,9,  -999.0,9, -999.00,9,-999.0000,9,-999.0000,9,-999.0000,9,  -999.0,9,  -999.0,9,  -0.027,2,  -999.0,9, -999.00,9, -999.00,9,      0.001,2
09AR20080322,       TEST,       3,          1,         15,         15,2,20080325,       2226,   -57.5072,   142.8413,       2898,   299.9,   2.0868,  34.3013,2,-999.0000,9,  -999.00,5, -999.00,9,  -999.0,9, -999.00,9,-999.0000,9,-999.0000,9,-999.0000,9,  -999.0,9,  -999.0,9,  -0.026,2,  -999.0,9, -999.00,9, -999.00,9,      0.001,2
09AR20080322,       TEST,       3,          1,         14,         14,2,20080325,       2226,   -57.5072,   142.8413,       2898,   300.4,   2.0884,  34.3022,2,-999.0000,9,  -999.00,5, -999.00,9,  -999.0,9, -999.00,9,-999.0000,9,-999.0000,9,-999.0000,9,  -999.0,9,  -999.0,9,  -0.028,2,  -999.0,9, -999.00,9, -999.00,9,      0.001,2
09AR20080322,       TEST,       3,          1,         13,         13,2,20080325,       2226,   -57.5072,   142.8413,       2898,   300.2,   2.0878,  34.3018,2,-999.0000,9,  -999.00,5, -999.00,9,  -999.0,9, -999.00,9,-999.0000,9,-999.0000,9,-999.0000,9,  -999.0,9,  -999.0,9,  -0.029,2,  -999.0,9, -999.00,9, -999.00,9,      0.001,2
09AR20080322,       TEST,       3,          1,         12,         12,2,20080325,       2226,   -57.5072,   142.8413,       2898,   300.2,   2.0881,  34.3020,2,-999.0000,9,  -999.00,5, -999.00,9,  -999.0,9, -999.00,9,-999.0000,9,-999.0000,9,-999.0000,9,  -999.0,9,  -999.0,9,  -0.029,2,  -999.0,9, -999.00,9, -999.00,9,      0.001,2
09AR20080322,       TEST,       3,          1,         11,         11,2,20080325,       2226,   -57.5072,   142.8413,       2898,   300.2,   2.0883,  34.3020,2,-999.0000,9,  -999.00,5, -999.00,9,  -999.0,9, -999.00,9,-999.0000,9,-999.0000,9,-999.0000,9,  -999.0,9,  -999.0,9,  -0.030,2,  -999.0,9, -999.00,9, -999.00,9,      0.001,2
09AR20080322,       TEST,       3,          1,         10,         10,2,20080325,       2226,   -57.5072,   142.8413,       2898,   299.9,   2.0854,  34.3010,2,-999.0000,9,  -999.00,5, -999.00,9,  -999.0,9, -999.00,9,-999.0000,9,-999.0000,9,-999.0000,9,  -999.0,9,  -999.0,9,  -0.027,2,  -999.0,9, -999.00,9, -999.00,9,      0.001,2
09AR20080322,       TEST,       3,          1,          9,          9,2,20080325,       2226,   -57.5072,   142.8413,       2898,   299.9,   2.0850,  34.3007,2,-999.0000,9,  -999.00,5, -999.00,9,  -999.0,9, -999.00,9,-999.0000,9,-999.0000,9,-999.0000,9,  -999.0,9,  -999.0,9,  -0.030,2,  -999.0,9, -999.00,9, -999.00,9,      0.001,2
09AR20080322,       TEST,       3,          1,          8,          8,2,20080325,       2226,   -57.5072,   142.8413,       2898,   299.8,   2.0846,  34.3007,2,-999.0000,9,  -999.00,5, -999.00,9,  -999.0,9, -999.00,9,-999.0000,9,-999.0000,9,-999.0000,9,  -999.0,9,  -999.0,9,  -0.033,2,  -999.0,9, -999.00,9, -999.00,9,      0.001,2
09AR20080322,       TEST,       3,          1,          7,          7,2,20080325,       2226,   -57.5072,   142.8413,       2898,   299.6,   2.0842,  34.3006,2,-999.0000,9,  -999.00,5, -999.00,9,  -999.0,9, -999.00,9,-999.0000,9,-999.0000,9,-999.0000,9,  -999.0,9,  -999.0,9,  -0.027,2,  -999.0,9, -999.00,9, -999.00,9,      0.001,2
09AR20080322,       TEST,       3,          1,          6,          6,2,20080325,       2226,   -57.5072,   142.8413,       2898,   299.6,   2.0858,  34.3008,2,-999.0000,9,  -999.00,5, -999.00,9,  -999.0,9, -999.00,9,-999.0000,9,-999.0000,9,-999.0000,9,  -999.0,9,  -999.0,9,  -0.028,2,  -999.0,9, -999.00,9, -999.00,9,      0.001,2
09AR20080322,       TEST,       3,          1,          5,          5,2,20080325,       2226,   -57.5072,   142.8413,       2898,   299.7,   2.0874,  34.3017,2,-999.0000,9,  -999.00,5, -999.00,9,  -999.0,9, -999.00,9,-999.0000,9,-999.0000,9,-999.0000,9,  -999.0,9,  -999.0,9,  -0.028,2,  -999.0,9, -999.00,9, -999.00,9,      0.001,2
09AR20080322,       TEST,       3,          1,          4,          4,2,20080325,       2226,   -57.5072,   142.8413,       2898,   299.8,   2.0895,  34.3025,2,-999.0000,9,  -999.00,5, -999.00,9,  -999.0,9, -999.00,9,-999.0000,9,-999.0000,9,-999.0000,9,  -999.0,9,  -999.0,9,  -0.024,2,  -999.0,9, -999.00,9, -999.00,9,      0.001,2
09AR20080322,       TEST,       3,          1,          3,          3,2,20080325,       2226,   -57.5072,   142.8413,       2898,   299.6,   2.0902,  34.3028,2,-999.0000,9,  -999.00,5, -999.00,9,  -999.0,9, -999.00,9,-999.0000,9,-999.0000,9,-999.0000,9,  -999.0,9,  -999.0,9,  -0.030,2,  -999.0,9, -999.00,9, -999.00,9,      0.001,2
09AR20080322,       TEST,       3,          1,          2,          2,2,20080325,       2226,   -57.5072,   142.8413,       2898,   299.6,   2.0904,  34.3029,2,-999.0000,9,  -999.00,5, -999.00,9,  -999.0,9, -999.00,9,-999.0000,9,-999.0000,9,-999.0000,9,  -999.0,9,  -999.0,9,  -0.029,2,  -999.0,9, -999.00,9, -999.00,9,      0.001,2
09AR20080322,       TEST,       3,          1,          1,          1,2,20080325,       2226,   -57.5072,   142.8413,       2898,   299.8,   2.0894,  34.3024,2,-999.0000,9,  -999.00,5, -999.00,9,  -999.0,9, -999.00,9,-999.0000,9,-999.0000,9,-999.0000,9,  -999.0,9,  -999.0,9,  -0.028,2,  -999.0,9, -999.00,9, -999.00,9,      0.001,2
09AR20080322,       SR03,       4,          1,         24,         24,2,20080328,       2128,   -65.8013,   139.6822,        334,     5.7,  -1.8720,  34.0855,2,-999.0000,9,   335.24,3, -999.00,9,  -999.0,9, -999.00,9,   6.1370,2,   3.1977,2,   0.6020,2,  -999.0,9,  -999.0,9,   0.543,2,  -999.0,9, -999.00,9, -999.00,9,      1.963,2
09AR20080322,       SR03,       4,          1,         23,         23,2,20080328,       2128,   -65.8013,   139.6822,        334,     5.7,  -1.8712,  34.0845,2,-999.0000,9,   335.24,3, -999.00,9,  -999.0,9, -999.00,9,-999.0000,9,-999.0000,9,-999.0000,9,  -999.0,9,  -999.0,9,   0.550,2,  -999.0,9, -999.00,9, -999.00,9,      1.957,2
09AR20080322,       SR03,       4,          1,         22,         22,2,20080328,       2128,   -65.8013,   139.6822,        334,     5.7,  -1.8723,  34.0869,2,-999.0000,9,   335.24,3, -999.00,9,  -999.0,9, -999.00,9,-999.0000,9,-999.0000,9,-999.0000,9,  -999.0,9,  -999.0,9,   0.516,2,  -999.0,9, -999.00,9, -999.00,9,      1.956,2
09AR20080322,       SR03,       4,          1,         21,         21,2,20080328,       2128,   -65.8013,   139.6822,        334,     5.6,  -1.8718,  34.0875,2,  34.0958,2,   335.24,3,  341.26,2,  -999.0,9,    1.97,2,-999.0000,9,-999.0000,9,-999.0000,9,  2185.3,6,  2304.7,2,   0.564,2,    51.0,2,   32.47,2,   27.64,2,      1.952,2
09AR20080322,       SR03,       4,          1,         20,          7,2,20080328,       2128,   -65.8013,   139.6822,        334,     5.6,  -1.8712,  34.0869,2,-999.0000,9,   335.24,3, -999.00,9,  -999.0,9, -999.00,9,-999.0000,9,-999.0000,9,-999.0000,9,  2186.7,2,  2306.4,6,   0.607,2,  -999.0,9, -999.00,9, -999.00,9,      1.923,2
09AR20080322,       SR03,       4,          1,         19,          6,2,20080328,       2128,   -65.8013,   139.6822,        334,     5.6,  -1.8741,  34.0863,2,-999.0000,9,   335.24,3, -999.00,9,  -999.0,9, -999.00,9,-999.0000,9,-999.0000,9,-999.0000,9,  -999.0,9,  -999.0,9,   0.621,2,  -999.0,9, -999.00,9, -999.00,9,      1.925,2
09AR20080322,       SR03,       4,          1,         18,          5,2,20080328,       2128,   -65.8013,   139.6822,        334,     5.6,  -1.8750,  34.0899,2,-999.0000,9,   335.24,3, -999.00,9,  -999.0,9, -999.00,9,-999.0000,9,-999.0000,9,-999.0000,9,  2189.4,2,  2307.1,2,   0.531,2,  -999.0,9, -999.00,9, -999.00,9,      1.924,2
09AR20080322,       SR03,       4,          1,         17,         20,2,20080328,       2128,   -65.8013,   139.6822,        334,    38.5,  -1.8696,  34.0869,2,  34.0942,2,   339.09,2,  340.13,2,    54.7,2,    1.97,2,   6.2762,2,   3.2160,2,   0.6793,2,  -999.0,9,  -999.0,9,   0.556,2,    44.6,2,   31.19,2,   27.51,2,      1.160,2
09AR20080322,       SR03,       4,          1,         16,         19,2,20080328,       2128,   -65.8013,   139.6822,        334,    79.2,  -1.8617,  34.1158,2,-999.0000,9,   339.34,2, -999.00,9,  -999.0,9, -999.00,9,-999.0000,9,-999.0000,9,-999.0000,9,  2207.2,2,  2315.8,6,   0.532,2,  -999.0,9, -999.00,9, -999.00,9,      0.385,2
09AR20080322,       SR03,       4,          1,         15,         18,2,20080328,       2128,   -65.8013,   139.6822,        334,    79.0,  -1.8632,  34.1150,2,  34.1203,2,   339.34,2,  338.21,2,    55.8,2,    1.98,2,   6.0391,6,   3.1641,6,   0.6528,6,  -999.0,9,  -999.0,9,   0.549,2,    44.7,2,   31.66,2,   27.58,2,      0.378,2
09AR20080322,       SR03,       4,          1,         14,         17,2,20080328,       2128,   -65.8013,   139.6822,        334,   119.0,  -1.6896,  34.2238,2,-999.0000,9,   329.00,2, -999.00,9,  -999.0,9, -999.00,9,-999.0000,9,-999.0000,9,-999.0000,9,  2223.9,2,  2324.4,2,   0.337,2,  -999.0,9, -999.00,9, -999.00,9,      0.001,2
09AR20080322,       SR03,       4,          1,         13,         16,2,20080328,       2128,   -65.8013,   139.6822,        334,   118.5,  -1.6962,  34.2222,2,  34.2467,2,   329.00,2,  316.58,2,    67.8,2,    2.06,2,   5.4822,2,   2.7924,2,   0.5560,2,  -999.0,9,  -999.0,9,   0.359,2,    43.8,2,   33.30,2,   28.68,2,      0.001,2
09AR20080322,       SR03,       4,          1,         12,         15,2,20080328,       2128,   -65.8013,   139.6822,        334,   182.0,  -1.6173,  34.3858,2,-999.0000,9,   297.76,2, -999.00,9,  -999.0,9, -999.00,9,-999.0000,9,-999.0000,9,-999.0000,9,  2227.4,2,  2325.3,2,   0.078,2,  -999.0,9, -999.00,9, -999.00,9,      0.001,2
09AR20080322,       SR03,       4,          1,         11,         14,2,20080328,       2128,   -65.8013,   139.6822,        334,   181.6,  -1.6205,  34.3844,2,  34.3839,2,   297.76,2,  298.11,2,  -999.0,9,    2.13,2,   4.8223,2,   2.4819,2,   0.4924,2,  -999.0,9,  -999.0,9,   0.072,2,    42.9,2,   33.85,2,   30.03,2,      0.001,2
09AR20080322,       SR03,       4,          1,         10,          4,2,20080328,       2128,   -65.8013,   139.6822,        334,   181.1,  -1.6146,  34.3869,2,-999.0000,9,   297.76,2, -999.00,9,  -999.0,9, -999.00,9,-999.0000,9,-999.0000,9,-999.0000,9,  2234.3,2,  2331.5,2,   0.071,2,  -999.0,9, -999.00,9, -999.00,9,      0.001,2
09AR20080322,       SR03,       4,          1,          9,          3,2,20080328,       2128,   -65.8013,   139.6822,        334,   180.6,  -1.6148,  34.3870,2,-999.0000,9,   298.11,2, -999.00,9,  -999.0,9, -999.00,9,-999.0000,9,-999.0000,9,-999.0000,9,  -999.0,9,  -999.0,9,   0.077,2,  -999.0,9, -999.00,9, -999.00,9,      0.001,2
09AR20080322,       SR03,       4,          1,          8,         13,2,20080328,       2128,   -65.8013,   139.6822,        334,   229.6,  -1.5728,  34.4145,2,-999.0000,9,   292.91,2, -999.00,9,  -999.0,9, -999.00,9,-999.0000,9,-999.0000,9,-999.0000,9,  2233.0,2,  2328.1,2,   0.022,2,  -999.0,9, -999.00,9, -999.00,9,      0.001,2
09AR20080322,       SR03,       4,          1,          7,         12,2,20080328,       2128,   -65.8013,   139.6822,        334,   229.5,  -1.5746,  34.4140,2,  34.4152,2,   292.91,2,  292.81,2,    77.6,2,    2.15,2,   4.5354,2,   2.3478,2,   0.4566,2,  -999.0,9,  -999.0,9,   0.029,2,    42.1,2,   33.27,2,   30.28,2,      0.001,2
09AR20080322,       SR03,       4,          1,          6,         11,2,20080328,       2128,   -65.8013,   139.6822,        334,   281.4,  -1.4127,  34.4668,2,-999.0000,9,   284.41,2, -999.00,9,  -999.0,9, -999.00,9,-999.0000,9,-999.0000,9,-999.0000,9,  -999.0,9,  -999.0,9,  -0.004,2,  -999.0,9, -999.00,9, -999.00,9,      0.001,2
09AR20080322,       SR03,       4,          1,          5,         10,2,20080328,       2128,   -65.8013,   139.6822,        334,   280.7,  -1.3903,  34.4688,2,  34.4675,2,   284.65,2,  284.63,2,    81.1,2,    2.17,2,   4.3211,2,   2.2261,2,   0.4498,2,  -999.0,9,  -999.0,9,  -0.004,2,    43.4,2,   33.20,2,   30.61,2,      0.001,2
09AR20080322,       SR03,       4,          1,          4,          9,2,20080328,       2128,   -65.8013,   139.6822,        334,   324.7,  -1.3755,  34.4702,2,-999.0000,9,   283.53,2, -999.00,9,  -999.0,9, -999.00,9,-999.0000,9,-999.0000,9,-999.0000,9,  -999.0,9,  -999.0,9,  -0.003,2,  -999.0,9, -999.00,9, -999.00,9,      0.001,2
09AR20080322,       SR03,       4,          1,          3,          8,2,20080328,       2128,   -65.8013,   139.6822,        334,   324.2,  -1.3754,  34.4703,2,  34.5877,4,   283.53,2,  283.89,2,    81.1,2,    2.17,2,   4.3306,2,   2.2138,2,   0.4327,2,  -999.0,9,  -999.0,9,  -0.004,2,    43.7,2,   32.43,2,   30.59,2,      0.001,2
09AR20080322,       SR03,       4,          1,          2,          2,2,20080328,       2128,   -65.8013,   139.6822,        334,   325.2,  -1.3753,  34.4702,2,-999.0000,9,   283.49,2, -999.00,9,  -999.0,9, -999.00,9,-999.0000,9,-999.0000,9,-999.0000,9,  -999.0,9,  -999.0,9,  -0.006,2,  -999.0,9, -999.00,9, -999.00,9,      0.001,2
09AR20080322,       SR03,       4,          1,          1,          1,2,20080328,       2128,   -65.8013,   139.6822,        334,   324.4,  -1.3756,  34.4701,2,-999.0000,9,   283.53,2, -999.00,9,  -999.0,9, -999.00,9,-999.0000,9,-999.0000,9,-999.0000,9,  -999.0,9,  -999.0,9,  -0.006,2,  -999.0,9, -999.00,9, -999.00,9,      0.001,2