BOTTLE,20141029CCHSIOCBG
EXPOCODE,SECT_ID,STNNBR,CASTNO,SAMPNO,BTLNBR,BTLNBR_FLAG_W,DATE,TIME,LATITUDE,LONGITUDE,DEPTH,CTDPRS,CTDTMP,CTDSAL,CTDSAL_FLAG_W,SALNTY,SALNTY_FLAG_W,CTDOXY,CTDOXY_FLAG_W,OXYGEN,OXYGEN_FLAG_W,SILCAT,SILCAT_FLAG_W,PHSPHT,PHSPHT_FLAG_W,CFC-11,CFC-11_FLAG_W,CFC-12,CFC-12_FLAG_W,CFC113,CFC113_FLAG_W,TCARBN,TCARBN_FLAG_W,ALKALI,ALKALI_FLAG_W,FLUOR,FLUOR_FLAG_W,DOC,DOC_FLAG_W,TDN,TDN_FLAG_W,NO2+NO3,NO2+NO3_FLAG_W,PAR,PAR_FLAG_W
,,,,,,,,,,,METERS,DBAR,ITS-90,PSS-78,,PSS-78,,UMOL/KG,,UMOL/KG,,UMOL/KG,,UMOL/KG,,PMOL/KG,,PMOL/KG,,PMOL/KG,,UMOL/KG,,UMOL/KG,,MG/M^3,,UMOL/KG,,UMOL/KG,,UMOL/KG,,VOLTS,
09AR20080322,       SR03,      43,          1,         24,         24,2,20080407,       1724,   -52.6713,   142.3883,       3329,     8.7,   5.7525,  33.7471,2,  33.7474,2,   302.07,2,  303.13,2,     1.8,2,    1.58,2,   4.4839,2,   2.5161,2,   0.4070,2,  2116.9,6,  2269.0,2,   0.981,2,  -999.0,9, -999.00,9, -999.00,9,      0.001,2
09AR20080322,       SR03,      43,          1,         23,         23,2,20080407,       1724,   -52.6713,   142.3883,       3329,     8.6,   5.7523,  33.7471,2,-999.0000,9,   302.07,2, -999.00,9,  -999.0,9, -999.00,9,-999.0000,9,-999.0000,9,-999.0000,9,  -999.0,9,  -999.0,9,   1.010,2,  -999.0,9, -999.00,9, -999.00,9,      0.001,2
09AR20080322,       SR03,      43,          1,         22,         22,2,20080407,       1724,   -52.6713,   142.3883,       3329,     8.6,   5.7527,  33.7471,2,-999.0000,9,   302.07,2, -999.00,9,  -999.0,9, -999.00,9,-999.0000,9,-999.0000,9,-999.0000,9,  -999.0,9,  -999.0,9,   1.093,2,  -999.0,9, -999.00,9, -999.00,9,      0.001,2
09AR20080322,       SR03,      43,          1,         21,         21,2,20080407,       1724,   -52.6713,   142.3883,       3329,     8.4,   5.7530,  33.7471,2,-999.0000,9,   302.07,2, -999.00,9,  -999.0,9, -999.00,9,-999.0000,9,-999.0000,9,-999.0000,9,  -999.0,9,  -999.0,9,   0.964,2,  -999.0,9, -999.00,9, -999.00,9,      0.001,2
09AR20080322,       SR03,      43,          1,         20,         20,2,20080407,       1724,   -52.6713,   142.3883,       3329,    23.3,   5.7538,  33.7470,2,  33.7466,2,   302.49,2,  303.08,2,     1.8,2,    1.60,2,   4.5137,2,   2.5210,2,   0.4265,2,  2118.3,2,  2268.2,6,   0.946,2,  -999.0,9, -999.00,9,   23.52,2,      0.001,2
09AR20080322,       SR03,      43,          1,         19,         19,2,20080407,       1724,   -52.6713,   142.3883,       3329,    49.0,   5.7521,  33.7471,2,  33.7474,2,   303.04,2,  303.26,2,     1.8,2,    1.58,2,   4.5487,2,   2.5242,2,   0.4011,2,  2116.5,2,  2267.8,2,   1.019,2,  -999.0,9, -999.00,9,   23.52,2,      0.001,2
09AR20080322,       SR03,      43,          1,         18,         18,2,20080407,       1724,   -52.6713,   142.3883,       3329,    74.4,   5.7488,  33.7473,2,  33.7472,2,   303.45,2,  302.99,2,     1.8,2,    1.58,2,-999.0000,9,-999.0000,9,-999.0000,9,  -999.0,9,  -999.0,9,   0.885,2,  -999.0,9, -999.00,9,   23.37,2,      0.001,2
09AR20080322,       SR03,      43,          1,         17,         17,2,20080407,       1724,   -52.6713,   142.3883,       3329,    97.8,   5.7377,  33.7474,2,  33.7482,2,   303.73,2,  302.74,2,     1.8,2,    1.58,2,   4.5103,2,   2.5250,2,   0.3931,2,  2117.0,2,  2268.5,2,   0.778,2,  -999.0,9, -999.00,9, -999.00,9,      0.001,2
09AR20080322,       SR03,      43,          1,         16,         16,2,20080407,       1724,   -52.6713,   142.3883,       3329,   149.2,   3.1683,  33.8530,2,  33.8531,2,   306.43,2,  306.54,2,    11.6,2,    1.80,2,   5.1326,2,   2.8003,2,   0.4505,2,  2144.4,2,  2271.5,6,   0.106,2,  -999.0,9, -999.00,9, -999.00,9,      0.001,2
09AR20080322,       SR03,      43,          1,         15,         15,2,20080407,       1724,   -52.6713,   142.3883,       3329,   198.6,   3.1272,  33.9503,2,  33.9496,2,   287.20,2,  289.39,2,    16.3,2, -999.00,9,   4.8484,2,   2.6379,2,   0.4139,2,  2157.8,2,  2276.5,2,  -0.010,2,  -999.0,9, -999.00,9, -999.00,9,      0.001,2
09AR20080322,       SR03,      43,          1,         14,         14,2,20080407,       1724,   -52.6713,   142.3883,       3329,   248.6,   3.3275,  34.0945,2,  34.0946,2,   260.08,2,  260.88,2,    23.0,2,    2.02,2,-999.0000,9,-999.0000,9,-999.0000,9,  -999.0,9,  -999.0,9,  -0.028,2,  -999.0,9, -999.00,9,   29.60,2,      0.001,2
09AR20080322,       SR03,      43,          1,         13,         13,2,20080407,       1724,   -52.6713,   142.3883,       3329,   298.3,   3.0298,  34.1312,2,  34.1319,2,   254.36,2,  254.12,2,    27.9,2,    2.09,2,   4.0298,2,   2.1190,2,   0.3100,2,  2184.4,2,  2284.2,2,  -0.033,2,  -999.0,9, -999.00,9,   30.42,2,      0.001,2
09AR20080322,       SR03,      43,          1,         12,         12,2,20080407,       1724,   -52.6713,   142.3883,       3329,   348.5,   2.8840,  34.1685,2,  34.1668,2,   246.49,2,  245.03,2,    32.0,2,    2.10,2,-999.0000,9,-999.0000,9,-999.0000,9,  -999.0,9,  -999.0,9,  -0.033,2,  -999.0,9, -999.00,9,   31.23,2,      0.001,2
09AR20080322,       SR03,      43,          1,         11,         11,2,20080407,       1724,   -52.6713,   142.3883,       3329,   400.7,   2.7022,  34.2037,2,  34.2046,2,   235.84,2,  235.41,2,    37.4,2,    2.15,2,   3.2714,2,   1.7104,2,   0.2543,2,  2201.2,2,  2297.7,2,  -0.035,2,  -999.0,9, -999.00,9,   32.47,2,      0.001,2
09AR20080322,       SR03,      43,          1,         10,         10,2,20080407,       1724,   -52.6713,   142.3883,       3329,   499.9,   2.6897,  34.2816,2,  34.2858,2,   215.11,2,  214.05,2,    45.9,2,    2.29,2,   2.5176,2,   1.2865,2,   0.1859,2,  2217.8,2,  2301.8,2,  -0.032,2,  -999.0,9, -999.00,9,   33.06,2,      0.001,2
09AR20080322,       SR03,      43,          1,          9,          9,2,20080407,       1724,   -52.6713,   142.3883,       3329,   600.6,   2.7923,  34.3710,2,  34.3878,4,   196.62,2,  194.52,2,    53.1,2,    2.32,2,   1.7502,2,   0.8779,2,   0.1338,2,  2230.1,2,  2311.9,2,  -0.029,2,  -999.0,9, -999.00,9,   34.18,2,      0.001,2
09AR20080322,       SR03,      43,          1,          8,          8,2,20080407,       1724,   -52.6713,   142.3883,       3329,   699.6,   2.7231,  34.4370,2,  34.4361,2,   183.20,2,  184.30,2,    60.0,2, -999.00,9,   1.2223,2,   0.6141,2,   0.0873,2,  2237.8,2,  2317.1,2,  -0.028,2,  -999.0,9, -999.00,9,   34.72,2,      0.001,2
09AR20080322,       SR03,      43,          1,          7,          7,2,20080407,       1724,   -52.6713,   142.3883,       3329,   699.3,   2.7234,  34.4385,2,-999.0000,9,   183.20,2, -999.00,9,  -999.0,9, -999.00,9,-999.0000,9,-999.0000,9,-999.0000,9,  -999.0,9,  -999.0,9,  -0.026,2,  -999.0,9, -999.00,9, -999.00,9,      0.001,2
09AR20080322,       SR03,      43,          1,          6,          6,2,20080407,       1724,   -52.6713,   142.3883,       3329,   800.7,   2.5981,  34.4859,2,  34.4858,2,   176.95,2,  178.11,2,    65.2,2,    2.36,2,   0.9742,2,   0.4923,2,   0.0690,2,  2245.3,2,  2323.0,6,  -0.030,2,  -999.0,9, -999.00,9,   34.71,2,      0.001,2
09AR20080322,       SR03,      43,          1,          5,          5,2,20080407,       1724,   -52.6713,   142.3883,       3329,   800.6,   2.5980,  34.4859,2,-999.0000,9,   176.95,2, -999.00,9,  -999.0,9, -999.00,9,-999.0000,9,-999.0000,9,-999.0000,9,  -999.0,9,  -999.0,9,  -0.027,2,  -999.0,9, -999.00,9, -999.00,9,      0.001,2
09AR20080322,       SR03,      43,          1,          4,          4,2,20080407,       1724,   -52.6713,   142.3883,       3329,   899.2,   2.5422,  34.5240,2,  34.5233,2,   174.64,2,  175.33,2,    68.1,2,    2.35,2,   0.7744,2,   0.3885,2,   0.0595,2,  2249.1,6,  2327.3,2,  -0.027,2,  -999.0,9, -999.00,9,   34.39,2,      0.001,2
09AR20080322,       SR03,      43,          1,          3,          3,2,20080407,       1724,   -52.6713,   142.3883,       3329,   898.8,   2.5420,  34.5241,2,-999.0000,9,   174.70,2, -999.00,9,  -999.0,9, -999.00,9,-999.0000,9,-999.0000,9,-999.0000,9,  -999.0,9,  -999.0,9,  -0.030,2,  -999.0,9, -999.00,9, -999.00,9,      0.001,2
09AR20080322,       SR03,      43,          1,          2,          2,2,20080407,       1724,   -52.6713,   142.3883,       3329,   998.9,   2.5115,  34.5787,2,-999.0000,9,   173.77,2, -999.00,9,    71.0,2,    2.31,2,-999.0000,9,-999.0000,9,-999.0000,9,  -999.0,9,  -999.0,9,  -0.024,2,  -999.0,9, -999.00,9,   33.94,2,      0.001,2
09AR20080322,       SR03,      43,          1,          1,          1,2,20080407,       1724,   -52.6713,   142.3883,       3329,   998.9,   2.5152,  34.5783,2,  34.5773,2,   173.77,2,  174.19,2,  -999.0,9, -999.00,9,-999.0000,9,-999.0000,9,-999.0000,9,  2250.4,2,  2330.1,6,  -0.027,2,  -999.0,9, -999.00,9, -999.00,9,      0.001,2
09AR20080322,       SR03,      44,          1,         24,         24,2,20080407,       2041,   -52.3695,   142.5348,       3500,     9.0,   5.8117,  33.7842,2,  33.7848,2,   300.75,2,  301.59,2,     2.1,2,    1.53,2,   4.5580,2,   2.5135,2,   0.4482,2,  2115.4,6,  2268.8,2,   1.287,2,    45.4,2,   27.54,2,   22.76,2,      2.541,2
09AR20080322,       SR03,      44,          1,         23,         23,2,20080407,       2041,   -52.3695,   142.5348,       3500,    31.1,   5.7742,  33.7829,2,-999.0000,9,   300.86,2, -999.00,9,  -999.0,9, -999.00,9,-999.0000,9,-999.0000,9,-999.0000,9,  -999.0,9,  -999.0,9,   1.156,2,  -999.0,9, -999.00,9, -999.00,9,      2.017,2
09AR20080322,       SR03,      44,          1,         22,         22,2,20080407,       2041,   -52.3695,   142.5348,       3500,    31.0,   5.7662,  33.7826,2,-999.0000,9,   300.86,2, -999.00,9,  -999.0,9, -999.00,9,-999.0000,9,-999.0000,9,-999.0000,9,  -999.0,9,  -999.0,9,   1.072,2,  -999.0,9, -999.00,9, -999.00,9,      2.019,2
09AR20080322,       SR03,      44,          1,         21,         21,2,20080407,       2041,   -52.3695,   142.5348,       3500,    31.2,   5.7528,  33.7820,2,  33.7811,2,   300.86,2,  302.03,2,     2.1,2,    1.55,2,   4.4995,6,   2.5174,6,   0.3926,6,  2116.9,2,  2269.3,6,   1.009,2,    44.9,2,   26.99,2,   22.76,2,      2.010,2
09AR20080322,       SR03,      44,          1,         20,         20,2,20080407,       2041,   -52.3695,   142.5348,       3500,    48.9,   5.6781,  33.7782,2,  33.7789,2,   300.69,2,  301.94,2,     2.1,2,    1.55,2,   4.5220,2,   2.5218,2,   0.4263,2,  2118.0,2,  2268.6,2,   0.892,2,    43.7,2,   25.80,2,   22.91,2,      1.729,2
09AR20080322,       SR03,      44,          1,         19,         19,2,20080407,       2041,   -52.3695,   142.5348,       3500,    97.9,   5.6637,  33.7885,2,  33.7907,2,   301.46,2,  300.63,2,     2.5,2,    1.56,2,   4.5678,2,   2.5169,2,   0.4518,2,  2116.7,2,  2269.1,2,   1.105,2,    43.1,2,   25.56,2,   22.83,2,      0.929,2
09AR20080322,       SR03,      44,          1,         18,         18,2,20080407,       2041,   -52.3695,   142.5348,       3500,   130.0,   4.3808,  33.9715,2,  33.9722,2,   293.03,2,  290.51,2,    10.2,2,    1.68,2,   4.6862,2,   2.5751,2,   0.3785,2,  2141.0,2,  2273.9,2,   0.080,2,    43.0,2,   27.26,2,   24.77,2,      0.342,2
09AR20080322,       SR03,      44,          1,         17,         17,2,20080407,       2041,   -52.3695,   142.5348,       3500,   199.5,   4.4665,  34.0697,2,  34.0693,2,   268.74,2,  271.09,2,    13.4,2,    1.73,2,   4.3823,2,   2.3627,2,   0.3592,2,  2151.4,2,  2276.3,2,  -0.015,2,    41.8,2,   27.46,2,   25.74,2,      0.001,2
09AR20080322,       SR03,      44,          1,         16,         16,2,20080407,       2041,   -52.3695,   142.5348,       3500,   299.5,   4.3739,  34.2001,2,  34.2003,2,   242.17,2,  240.66,2,    20.8,2,    1.91,2,   3.7173,2,   1.9432,2,   0.3055,2,  2171.8,2,  2282.0,2,  -0.037,2,    40.3,2,   30.22,2,   28.55,2,      0.001,2
09AR20080322,       SR03,      44,          1,         15,         15,2,20080407,       2041,   -52.3695,   142.5348,       3500,   399.3,   3.8052,  34.2177,2,  34.2175,2,   235.94,2,  235.08,2,    26.8,2,    2.04,2,   3.4330,2,   1.7636,2,   0.2851,2,  2183.0,2,  2287.2,2,  -0.036,2,    39.4,2,   32.07,2,   30.09,2,      0.001,2
09AR20080322,       SR03,      44,          1,         14,         14,2,20080407,       2041,   -52.3695,   142.5348,       3500,   500.0,   3.4830,  34.2653,2,  34.2658,2,   221.46,2,  221.24,2,    34.4,2,    2.13,2,   2.8027,2,   1.4220,2,   0.2151,2,  2199.8,2,  2294.5,2,  -0.036,2,    39.4,2,   32.60,2,   31.40,2,      0.001,2
09AR20080322,       SR03,      44,          1,         13,         13,2,20080407,       2041,   -52.3695,   142.5348,       3500,   702.4,   2.8459,  34.3627,2,  34.3631,2,   196.07,2,  196.35,2,    51.7,2,    2.30,2,   1.7976,2,   0.9112,2,   0.1298,2,  2226.4,6,  2310.3,6,  -0.034,2,    39.2,2,   34.46,2,   33.60,2,      0.001,2
09AR20080322,       SR03,      44,          1,         12,         12,2,20080407,       2041,   -52.3695,   142.5348,       3500,   901.0,   2.6748,  34.4836,2,  34.4842,2,   178.94,2,  178.29,2,    64.0,2,    2.33,2,   0.9478,2,   0.4667,2,   0.0611,2,  2244.8,2,  2322.6,6,  -0.030,2,    39.4,2,   35.60,2,   34.39,2,      0.001,2
09AR20080322,       SR03,      44,          1,         11,         11,2,20080407,       2041,   -52.3695,   142.5348,       3500,  1101.4,   2.5301,  34.5823,2,  34.5828,2,   175.19,2,  174.06,2,    71.2,2,    2.30,2,   0.5124,2,   0.2502,2,   0.0348,2,  2250.4,2,  2332.9,2,  -0.027,2,    39.3,2,   34.84,2,   33.67,2,      0.001,2
09AR20080322,       SR03,      44,          1,         10,         10,2,20080407,       2041,   -52.3695,   142.5348,       3500,  1299.8,   2.4016,  34.6565,2,  34.6572,2,   177.83,2,  177.30,2,    75.4,2,    2.24,2,   0.3080,2,   0.1557,2,   0.0226,2,  2250.2,2,  2339.0,2,  -0.027,2,    39.2,2,   33.71,2,   32.65,2,      0.001,2
09AR20080322,       SR03,      44,          1,          9,          9,2,20080407,       2041,   -52.3695,   142.5348,       3500,  1500.5,   2.2969,  34.7013,2,  34.7017,2,   182.46,2,  182.42,2,    77.8,2,    2.17,2,   0.2079,2,   0.1063,2,   0.0177,2,  2247.3,2,  2340.7,2,  -0.027,2,    39.8,2,   32.93,2,   31.64,2,      0.001,2
09AR20080322,       SR03,      44,          1,          8,          8,2,20080407,       2041,   -52.3695,   142.5348,       3500,  1700.0,   2.1574,  34.7326,2,  34.7329,2,   188.01,2,  188.28,2,    80.7,2,    2.13,2,   0.1692,2,   0.0831,2,   0.0153,2,  2247.2,2,  2343.7,2,  -0.027,2,    39.1,2,   32.54,2,   30.79,2,      0.001,2
09AR20080322,       SR03,      44,          1,          7,          7,2,20080407,       2041,   -52.3695,   142.5348,       3500,  1898.7,   1.9976,  34.7464,2,  34.7463,2,   192.17,2,  192.93,2,    84.8,2,    2.11,2,   0.1257,2,   0.0588,2,   0.0135,2,  2248.3,2,  2349.8,2,  -0.029,2,    39.3,2,   32.05,2,   30.40,2,      0.001,2
09AR20080322,       SR03,      44,          1,          6,          6,2,20080407,       2041,   -52.3695,   142.5348,       3500,  2201.3,   1.7315,  34.7457,2,  34.7461,2,   195.20,2,  195.10,2,    95.7,2,    2.13,2,   0.0742,2,   0.0372,2,   0.0093,2,  2254.8,2,  2355.4,2,  -0.032,2,    39.4,2,   32.09,2,   30.71,2,      0.001,2
09AR20080322,       SR03,      44,          1,          5,          5,2,20080407,       2041,   -52.3695,   142.5348,       3500,  2500.0,   1.4077,  34.7356,2,  34.7360,2,   198.90,2,  198.74,2,   106.5,2,    2.18,2,   0.0707,2,   0.0393,2,   0.0112,2,  2257.8,2,  2362.2,2,  -0.031,2,    39.6,2,   32.55,2,   31.18,2,      0.001,2
09AR20080322,       SR03,      44,          1,          4,          4,2,20080407,       2041,   -52.3695,   142.5348,       3500,  2800.3,   1.1647,  34.7256,2,  34.7258,2,   201.98,2,  202.26,2,   114.0,2,    2.21,2,   0.0793,2,   0.0428,2,   0.0123,2,  2263.1,2,  2363.2,6,  -0.034,2,    39.2,2,   32.66,2,   31.57,2,      0.001,2
09AR20080322,       SR03,      44,          1,          3,          3,2,20080407,       2041,   -52.3695,   142.5348,       3500,  3099.3,   1.0374,  34.7193,2,  34.7201,2,   204.22,2,  203.39,2,   118.2,2,    2.25,2,   0.0846,2,   0.0440,2,   0.0126,2,  2264.8,2,  2365.3,2,  -0.035,2,    39.4,2,   32.83,2,   31.80,2,      0.001,2
09AR20080322,       SR03,      44,          1,          2,          2,2,20080407,       2041,   -52.3695,   142.5348,       3500,  3501.7,   0.9522,  34.7139,2,  34.7140,2,   207.36,2,  206.26,2,   121.1,2,    2.23,2,   0.1507,2,   0.0768,2,   0.0117,2,  2262.2,2,  2361.2,2,  -0.035,2,    39.3,2,   33.07,2,   31.96,2,      0.001,2
09AR20080322,       SR03,      44,          1,          1,          1,2,20080407,       2041,   -52.3695,   142.5348,       3500,  3546.2,   0.9530,  34.7137,2,  34.7140,2,   207.48,2,  206.52,2,   121.6,2,    2.22,2,   0.1783,2,   0.0930,2,   0.0160,2,  2260.8,2,  2363.8,6,  -0.035,2,    39.4,2,   33.17,2,   31.89,2,      0.001,2