BOTTLE,20200625PRINUNIVRMK
EXPOCODE,SECT_ID,STNNBR,CASTNO,SAMPNO,BTLNBR,BTLNBR_FLAG_W,DATE,TIME,LATITUDE,LONGITUDE,DEPTH,CTDPRS,CTDTMP,SBE35,SBE35_FLAG_W,CTDSAL,CTDSAL_FLAG_W,SALNTY,SALNTY_FLAG_W,OXYGEN,OXYGEN_FLAG_W,SILCAT,SILCAT_FLAG_W,NITRAT,NITRAT_FLAG_W,NITRIT,NITRIT_FLAG_W,PHSPHT,PHSPHT_FLAG_W,CFC-11,CFC-11_FLAG_W,CFC-12,CFC-12_FLAG_W,TCARBN,TCARBN_FLAG_W,ALKALI,ALKALI_FLAG_W,PH_TOT,PH_TOT_FLAG_W,PH_TMP,CHLORA,CHLORA_FLAG_W,PPHYTN,PPHYTN_FLAG_W,SBE35,SBE35_FLAG_W,BTL_TIME
,,,,,,,,,,,METERS,DBAR,ITS-90,,,PSS-78,,PSS-78,,UMOL/KG,,UMOL/KG,,UMOL/KG,,UMOL/KG,,UMOL/KG,,PMOL/KG,,PMOL/KG,,UMOL/KG,,UMOL/KG,,,,DEG C,UG/KG,,UG/KG,,,,
  49UP20100706,   P09,    24,  1,      0,     -9,0,20100712,0311, 27.0087, 136.9977, 4748,      0.0,  29.1015,-999.0000,9,  34.7988,2,-999.0000,9,    196.9,2,     1.17,2,     0.03,2,     0.00,2,     0.01,2, -999.000,9, -999.000,9,   -999.0,9,   -999.0,9,-999.0000,9,  -999.00,     0.04,2,     0.00,2,-999.0000,9,      459
  49UP20100706,   P09,    24,  1,     36,    109,2,20100712,0311, 27.0087, 136.9977, 4748,     10.5,  28.1645,  28.1483,2,  34.7635,2,  34.7624,2,    202.2,2,     1.17,2,     0.01,2,     0.00,2,     0.00,2, -999.000,9, -999.000,9,   1958.3,2,   2277.3,2,   8.1026,2,    25.00,     0.04,2,     0.00,2,  28.1483,2,      511
  49UP20100706,   P09,    24,  1,     35,    108,2,20100712,0311, 27.0087, 136.9977, 4748,     26.1,  25.2113,  25.1866,2,  34.7137,2,  34.7205,4,    227.9,4,     1.46,2,     0.00,2,     0.00,2,     0.00,2, -999.000,9, -999.000,9,   1966.9,2,   2278.1,2,   8.0789,2,    25.00,     0.06,2,     0.01,2,  25.1866,2,      510
  49UP20100706,   P09,    24,  1,     34,    107,2,20100712,0311, 27.0087, 136.9977, 4748,     50.8,  22.5107,  22.5157,2,  34.7475,2,  34.7490,2,    225.4,2,     1.49,2,     0.01,2,     0.00,2,     0.00,2, -999.000,9, -999.000,9,   1971.5,2,   2276.6,2,   8.0737,2,    25.00,     0.07,2,     0.01,2,  22.5157,2,      507
  49UP20100706,   P09,    24,  1,     33,    106,2,20100712,0311, 27.0087, 136.9977, 4748,     75.6,  21.3170,  21.3185,2,  34.7375,2,  34.7362,2,    225.8,2,     1.61,2,     0.02,2,     0.00,2,     0.00,2, -999.000,9, -999.000,9,   1979.2,2,   2278.7,2,   8.0643,2,    25.00,     0.16,2,     0.04,2,  21.3185,2,      506
  49UP20100706,   P09,    24,  1,     32,    105,2,20100712,0311, 27.0087, 136.9977, 4748,     98.7,  20.4359,  20.4254,2,  34.7284,2,  34.7285,2,    224.0,2,     1.72,2,     0.05,2,     0.01,2,     0.01,2, -999.000,9, -999.000,9,   1987.0,2,   2279.0,2,   8.0497,2,    25.00,     0.31,2,     0.25,2,  20.4254,2,      505
  49UP20100706,   P09,    24,  1,     31,    104,2,20100712,0311, 27.0087, 136.9977, 4748,    124.7,  19.8563,  19.8564,2,  34.7258,2,  34.7260,2,    219.1,2,     1.90,2,     0.62,2,     0.07,2,     0.05,2, -999.000,9, -999.000,9,   1992.1,2,   2277.5,2,   8.0366,2,    25.00,     0.33,2,     0.36,2,  19.8564,2,      503
  49UP20100706,   P09,    24,  1,     30,    103,2,20100712,0311, 27.0087, 136.9977, 4748,    150.0,  19.3694,  19.3676,2,  34.7287,2,  34.7291,2,    214.2,2,     2.07,2,     1.43,2,     0.02,2,     0.10,2, -999.000,9, -999.000,9,   1999.5,2,   2274.4,2,   8.0256,2,    25.00,     0.06,2,     0.08,2,  19.3676,2,      501
  49UP20100706,   P09,    24,  1,     29,    102,2,20100712,0311, 27.0087, 136.9977, 4748,    201.2,  19.0153,  19.0151,2,  34.7249,2,  34.7247,2,    210.0,2,     2.55,2,     2.20,2,     0.01,2,     0.15,2, -999.000,9, -999.000,9,   2003.0,2,   2276.6,2,   8.0119,2,    25.00,     0.01,2,     0.03,2,  19.0151,2,      459
  49UP20100706,   P09,    24,  1,     28,    101,2,20100712,0311, 27.0087, 136.9977, 4748,    252.5,  18.4473,  18.4433,2,  34.7118,2,  34.7120,2,    209.5,2,     2.99,2,     2.99,2,     0.01,2,     0.20,2, -999.000,9, -999.000,9,   2013.1,2,   2276.7,2,   7.9946,2,    25.00,  -999.00,9,  -999.00,9,  18.4433,2,      457
  49UP20100706,   P09,    24,  1,     27,    100,2,20100712,0311, 27.0087, 136.9977, 4748,    301.5,  17.8459,  17.8382,2,  34.7213,2,  34.7247,2,    211.5,4,     4.32,2,     5.02,2,     0.01,2,     0.33,2, -999.000,9, -999.000,9,   2030.9,2,   2278.2,2,   7.9629,2,    25.00,  -999.00,9,  -999.00,9,  17.8382,2,      456
  49UP20100706,   P09,    24,  1,     26,     99,2,20100712,0311, 27.0087, 136.9977, 4748,    401.5,  15.9640,  15.9650,2,  34.6478,2,  34.6493,2,    184.1,4,     8.86,2,     8.77,2,     0.00,2,     0.59,2, -999.000,9, -999.000,9,   2062.3,2,   2274.0,2,   7.9046,2,    25.00,  -999.00,9,  -999.00,9,  15.9650,2,      453
  49UP20100706,   P09,    24,  1,     25,     98,2,20100712,0311, 27.0087, 136.9977, 4748,    503.7,  13.0152,  13.0134,2,  34.4433,2,  34.4449,2,    182.5,2,    17.33,2,    13.77,2,     0.00,2,     0.96,2, -999.000,9, -999.000,9,   2098.3,6,   2275.2,6,   7.8136,6,    25.00,  -999.00,9,  -999.00,9,  13.0134,2,      449
  49UP20100706,   P09,    24,  1,     24,     97,2,20100712,0311, 27.0087, 136.9977, 4748,    503.7,  13.0152,  13.0134,2,  34.4433,2,  34.4445,2,    181.7,2,    17.22,2,    13.75,2,     0.00,2,     0.95,2, -999.000,9, -999.000,9,   2096.6,2,   2275.7,2,   7.8113,2,    25.00,  -999.00,9,  -999.00,9,  13.0134,2,      449
  49UP20100706,   P09,    24,  1,     23,     96,2,20100712,0311, 27.0087, 136.9977, 4748,    605.5,  10.1460,  10.1448,2,  34.2678,2,  34.2672,2,    163.9,2,    32.84,2,    20.39,2,     0.00,2,     1.45,2, -999.000,9, -999.000,9,   2146.3,2,   2277.8,2,   7.7097,2,    25.00,  -999.00,9,  -999.00,9,  10.1448,2,      447
  49UP20100706,   P09,    24,  1,     22,     95,2,20100712,0311, 27.0087, 136.9977, 4748,    706.9,   7.7043,   7.7046,2,  34.1635,2,  34.1643,2,    136.0,2,    53.38,2,    27.20,2,     0.00,2,     1.96,2, -999.000,9, -999.000,9,   2200.0,2,   2288.1,2,   7.5905,2,    25.00,  -999.00,9,  -999.00,9,   7.7046,2,      444
  49UP20100706,   P09,    24,  1,     21,     94,2,20100712,0311, 27.0087, 136.9977, 4748,    805.8,   6.0658,   6.0662,2,  34.1616,2,  34.1615,2,    105.3,2,    73.65,2,    32.62,2,     0.00,2,     2.36,2, -999.000,9, -999.000,9,   2249.7,2,   2307.4,2,   7.5071,2,    25.00,  -999.00,9,  -999.00,9,   6.0662,2,      442
  49UP20100706,   P09,    24,  1,     20,     93,2,20100712,0311, 27.0087, 136.9977, 4748,    906.9,   4.9531,   4.9517,2,  34.2164,2,  34.2174,2,     77.7,2,    93.16,2,    36.81,2,     0.00,2,     2.66,2, -999.000,9, -999.000,9,   2291.6,2,   2328.0,2,   7.4361,2,    25.00,  -999.00,9,  -999.00,9,   4.9517,2,      439
  49UP20100706,   P09,    24,  1,     19,     92,2,20100712,0311, 27.0087, 136.9977, 4748,   1009.4,   4.3370,   4.3361,2,  34.2752,2,  34.2748,2,     63.7,2,   105.80,2,    38.91,2,     0.00,2,     2.80,2, -999.000,9, -999.000,9,   2313.5,6,   2342.3,6,   7.4113,6,    25.00,  -999.00,9,  -999.00,9,   4.3361,2,      436
  49UP20100706,   P09,    24,  1,     18,     91,2,20100712,0311, 27.0087, 136.9977, 4748,   1009.4,   4.3370,   4.3361,2,  34.2752,2,  34.2749,2,     63.4,2,   105.88,2,    38.92,2,     0.00,2,     2.80,2, -999.000,9, -999.000,9,   2313.3,2,   2343.8,2,   7.4069,2,    25.00,  -999.00,9,  -999.00,9,   4.3361,2,      436
  49UP20100706,   P09,    24,  1,     17,     90,2,20100712,0311, 27.0087, 136.9977, 4748,   1212.0,   3.2039,   3.2047,2,  34.4197,2,  34.4191,2,     54.6,2,   131.86,2,    41.08,2,     0.00,2,     2.94,2, -999.000,9, -999.000,9,   2350.5,2,   2375.6,2,   7.3993,2,    25.00,  -999.00,9,  -999.00,9,   3.2047,2,      431
  49UP20100706,   P09,    24,  1,     16,     89,2,20100712,0311, 27.0087, 136.9977, 4748,   1414.5,   2.7596,   2.7596,2,  34.4848,2,  34.4841,2,     62.2,2,   140.99,2,    41.10,2,     0.00,2,     2.93,2, -999.000,9, -999.000,9,   2361.0,2,   2387.6,2,   7.4116,2,    25.00,  -999.00,9,  -999.00,9,   2.7596,2,      426
  49UP20100706,   P09,    24,  1,     15,     88,2,20100712,0311, 27.0087, 136.9977, 4748,   1615.4,   2.4028,   2.4024,2,  34.5394,2,  34.5391,2,     77.5,2,   145.59,2,    40.35,2,     0.00,2,     2.87,2, -999.000,9, -999.000,9,   2356.1,2,   2398.1,2,   7.4433,2,    25.00,  -999.00,9,  -999.00,9,   2.4024,2,      422
  49UP20100706,   P09,    24,  1,     14,     87,2,20100712,0311, 27.0087, 136.9977, 4748,   1820.6,   2.1351,   2.1348,2,  34.5831,2,  34.5839,2,     97.2,2,   145.52,2,    39.24,2,     0.00,2,     2.77,2, -999.000,9, -999.000,9,   2349.6,2,   2401.7,2,   7.4844,2,    25.00,  -999.00,9,  -999.00,9,   2.1348,2,      417
  49UP20100706,   P09,    24,  1,     13,     86,2,20100712,0311, 27.0087, 136.9977, 4748,   2022.4,   1.9861,   1.9858,2,  34.6070,2,  34.6078,2,    109.2,2,   144.87,2,    38.44,2,     0.00,2,     2.71,2, -999.000,9, -999.000,9,   2344.0,2,   2405.6,2,   7.5042,2,    25.00,  -999.00,9,  -999.00,9,   1.9858,2,      413
  49UP20100706,   P09,    24,  1,     12,     85,2,20100712,0311, 27.0087, 136.9977, 4748,   2277.8,   1.8275,   1.8272,2,  34.6318,2,  34.6319,2,    121.4,2,   144.24,2,    37.77,2,     0.00,2,     2.66,2, -999.000,9, -999.000,9,   2338.5,2,   2408.2,2,   7.5278,2,    25.00,  -999.00,9,  -999.00,9,   1.8272,2,      407
  49UP20100706,   P09,    24,  1,     11,    110,2,20100712,0311, 27.0087, 136.9977, 4748,   2531.3,   1.7404,   1.7403,2,  34.6453,2,  34.6451,6,    128.9,6,   144.01,6,    37.36,6,     0.00,6,     2.62,6, -999.000,9, -999.000,9,   2333.8,2,   2410.0,2,   7.5415,2,    25.00,  -999.00,9,  -999.00,9,   1.7403,2,      401
  49UP20100706,   P09,    24,  1,     10,     83,2,20100712,0311, 27.0087, 136.9977, 4748,   2787.8,   1.6714,   1.6712,2,  34.6552,2,  34.6553,6,    134.7,6,   144.02,6,    37.02,6,     0.00,6,     2.59,6, -999.000,9, -999.000,9,   2336.0,2,   2412.2,2,   7.5505,2,    25.00,  -999.00,9,  -999.00,9,   1.6712,2,      356
  49UP20100706,   P09,    24,  1,      9,     82,2,20100712,0311, 27.0087, 136.9977, 4748,   3041.7,   1.6361,   1.6360,2,  34.6614,2,  34.6616,2,    138.8,6,   143.84,6,    36.77,6,     0.00,6,     2.58,6, -999.000,9, -999.000,9,   2329.9,2,   2413.1,2,   7.5560,2,    25.00,  -999.00,9,  -999.00,9,   1.6360,2,      350
  49UP20100706,   P09,    24,  1,      8,     81,2,20100712,0311, 27.0087, 136.9977, 4748,   3298.7,   1.5815,   1.5814,2,  34.6698,2,  34.6694,6,    144.7,6,   142.88,6,    36.39,6,     0.00,6,     2.54,6, -999.000,9, -999.000,9,   2327.4,2,   2412.9,2,   7.5651,2,    25.00,  -999.00,9,  -999.00,9,   1.5814,2,      345
  49UP20100706,   P09,    24,  1,      7,     80,2,20100712,0311, 27.0087, 136.9977, 4748,   3553.6,   1.5426,   1.5425,2,  34.6763,2,  34.6765,2,    150.0,2,   141.81,2,    36.10,2,     0.00,2,     2.51,2, -999.000,9, -999.000,9,   2325.4,2,   2357.6,4,   7.5739,2,    25.00,  -999.00,9,  -999.00,9,   1.5425,2,      339
  49UP20100706,   P09,    24,  1,      6,     79,2,20100712,0311, 27.0087, 136.9977, 4748,   3808.6,   1.5293,   1.5292,2,  34.6802,2,  34.6803,2,    153.3,2,   141.27,2,    35.88,2,     0.00,2,     2.50,2, -999.000,9, -999.000,9,   2320.8,2,   2410.7,2,   7.5768,2,    25.00,  -999.00,9,  -999.00,9,   1.5292,2,      334
  49UP20100706,   P09,    24,  1,      5,     78,2,20100712,0311, 27.0087, 136.9977, 4748,   4064.0,   1.5349,   1.5348,2,  34.6822,2,  34.6827,2,    155.7,2,   140.95,2,    35.75,2,     0.00,2,     2.49,2, -999.000,9, -999.000,9,   2320.6,2,   2411.1,2,   7.5856,2,    25.00,  -999.00,9,  -999.00,9,   1.5348,2,      328
  49UP20100706,   P09,    24,  1,      4,     77,2,20100712,0311, 27.0087, 136.9977, 4748,   4322.7,   1.5497,   1.5497,2,  34.6837,2,  34.6837,2,    156.9,2,   140.57,2,    35.64,2,     0.00,2,     2.48,2, -999.000,9, -999.000,9,   2324.3,2,   2412.5,2,   7.5834,2,    25.00,  -999.00,9,  -999.00,9,   1.5497,2,      322
  49UP20100706,   P09,    24,  1,      3,     76,2,20100712,0311, 27.0087, 136.9977, 4748,   4579.1,   1.5765,   1.5764,2,  34.6839,2,  34.6840,2,    159.2,3,   140.60,2,    35.63,2,     0.00,2,     2.48,2, -999.000,9, -999.000,9,   2322.0,2,   2413.1,2,   7.5834,2,    25.00,  -999.00,9,  -999.00,9,   1.5764,2,      317
  49UP20100706,   P09,    24,  1,      2,     75,2,20100712,0311, 27.0087, 136.9977, 4748,   4827.1,   1.6068,   1.6066,2,  34.6837,2,  34.6837,2,    157.1,2,   140.50,2,    35.64,2,     0.00,2,     2.48,2, -999.000,9, -999.000,9,   2322.6,6,   2411.5,6,   7.5821,6,    25.00,  -999.00,9,  -999.00,9,   1.6066,2,      311
  49UP20100706,   P09,    24,  1,      1,     74,2,20100712,0311, 27.0087, 136.9977, 4748,   4827.1,   1.6068,   1.6066,2,  34.6837,2,  34.6841,2,    157.1,2,   140.59,2,    35.67,2,     0.00,2,     2.48,2, -999.000,9, -999.000,9,   2324.9,2,   2410.6,2,   7.5816,2,    25.00,  -999.00,9,  -999.00,9,   1.6066,2,      311