BOTTLE,20200625PRINUNIVRMK
EXPOCODE,SECT_ID,STNNBR,CASTNO,SAMPNO,BTLNBR,BTLNBR_FLAG_W,DATE,TIME,LATITUDE,LONGITUDE,DEPTH,CTDPRS,CTDTMP,SBE35,SBE35_FLAG_W,CTDSAL,CTDSAL_FLAG_W,SALNTY,SALNTY_FLAG_W,OXYGEN,OXYGEN_FLAG_W,SILCAT,SILCAT_FLAG_W,NITRAT,NITRAT_FLAG_W,NITRIT,NITRIT_FLAG_W,PHSPHT,PHSPHT_FLAG_W,CFC-11,CFC-11_FLAG_W,CFC-12,CFC-12_FLAG_W,TCARBN,TCARBN_FLAG_W,ALKALI,ALKALI_FLAG_W,PH_TOT,PH_TOT_FLAG_W,PH_TMP,CHLORA,CHLORA_FLAG_W,PPHYTN,PPHYTN_FLAG_W,SBE35,SBE35_FLAG_W,BTL_TIME
,,,,,,,,,,,METERS,DBAR,ITS-90,,,PSS-78,,PSS-78,,UMOL/KG,,UMOL/KG,,UMOL/KG,,UMOL/KG,,UMOL/KG,,PMOL/KG,,PMOL/KG,,UMOL/KG,,UMOL/KG,,,,DEG C,UG/KG,,UG/KG,,,,
  49UP20100706,   P09,   112,  1,      0,     -9,0,20100812,0945,  2.5958, 138.9920, 4326,      0.0,  30.0761,-999.0000,9,  34.0923,2,-999.0000,9,    193.5,2,     1.20,2,     0.00,2,     0.00,2,     0.05,2, -999.000,9, -999.000,9,   -999.0,9,   -999.0,9,-999.0000,9,  -999.00,     0.06,2,     0.02,2,-999.0000,9,     1113
  49UP20100706,   P09,   112,  1,     36,    109,2,20100812,0945,  2.5958, 138.9920, 4326,     11.5,  30.0068,  30.0178,2,  34.0819,2,  34.0793,2,    194.0,2,     1.15,2,     0.00,2,     0.00,2,     0.04,2, -999.000,9, -999.000,9,   1900.3,2,   2241.1,2,   8.1469,2,    25.00,     0.06,2,     0.02,2,  30.0178,2,     1145
  49UP20100706,   P09,   112,  1,     35,    108,2,20100812,0945,  2.5958, 138.9920, 4326,     26.2,  29.8996,  29.8983,2,  34.2779,2,  34.3339,4,    193.7,2,     1.09,2,     0.00,2,     0.00,2,     0.08,2, -999.000,9, -999.000,9,   1916.6,2,   2256.9,2,   8.1383,2,    25.00,     0.06,2,     0.03,2,  29.8983,2,     1144
  49UP20100706,   P09,   112,  1,     34,    107,2,20100812,0945,  2.5958, 138.9920, 4326,     50.7,  29.8258,  29.8261,2,  34.6172,2,  34.6156,2,    193.2,2,     1.02,2,     0.00,2,     0.00,2,     0.11,2, -999.000,9, -999.000,9,   1930.4,2,   2272.8,2,   8.1324,2,    25.00,     0.11,2,     0.06,2,  29.8261,2,     1141
  49UP20100706,   P09,   112,  1,     33,    106,2,20100812,0945,  2.5958, 138.9920, 4326,     77.7,  29.7341,  29.7337,2,  34.7472,2,  34.7470,2,    192.2,2,     0.99,2,     0.00,2,     0.00,2,     0.13,2, -999.000,9, -999.000,9,   1941.7,2,   2280.5,2,   8.1320,2,    25.00,     0.19,2,     0.11,2,  29.7337,2,     1139
  49UP20100706,   P09,   112,  1,     32,    105,2,20100812,0945,  2.5958, 138.9920, 4326,    103.0,  29.6024,  29.6014,2,  35.0080,2,  35.0058,2,    191.0,2,     0.91,2,    -0.01,2,     0.01,2,     0.16,2, -999.000,9, -999.000,9,   1961.2,2,   2300.0,2,   8.1174,2,    25.00,     0.25,2,     0.16,2,  29.6014,2,     1138
  49UP20100706,   P09,   112,  1,     31,    104,2,20100812,0945,  2.5958, 138.9920, 4326,    125.6,  29.1558,  29.1532,2,  35.0176,2,  35.0193,2,    184.2,2,     1.20,2,     0.47,2,     0.18,2,     0.21,2, -999.000,9, -999.000,9,   1969.7,2,   2299.9,2,   8.1021,2,    25.00,     0.23,2,     0.15,2,  29.1532,2,     1136
  49UP20100706,   P09,   112,  1,     30,    103,2,20100812,0945,  2.5958, 138.9920, 4326,    151.2,  25.7671,  25.7478,2,  34.7695,2,  34.7858,4,    163.0,2,     3.32,2,     3.57,2,     0.09,2,     0.36,2, -999.000,9, -999.000,9,   2011.3,2,   2273.8,3,   8.0157,2,    25.00,     0.08,2,     0.14,2,  25.7478,2,     1134
  49UP20100706,   P09,   112,  1,     29,    102,2,20100812,0945,  2.5958, 138.9920, 4326,    201.5,  16.1406,  16.1402,2,  34.6762,2,  34.6776,2,    136.6,2,    12.74,2,    13.89,2,     0.01,2,     1.04,2, -999.000,9, -999.000,9,   2112.4,2,   2281.7,2,   7.7978,2,    25.00,     0.00,2,     0.04,2,  16.1402,2,     1133
  49UP20100706,   P09,   112,  1,     28,    101,2,20100812,0945,  2.5958, 138.9920, 4326,    252.0,  11.6993,  11.7064,2,  34.5281,2,  34.5301,2,    127.4,2,    25.51,2,    21.39,2,     0.01,2,     1.54,2, -999.000,9, -999.000,9,   2161.5,2,   2283.2,2,   7.6953,2,    25.00,  -999.00,9,  -999.00,9,  11.7064,2,     1131
  49UP20100706,   P09,   112,  1,     27,    100,2,20100812,0945,  2.5958, 138.9920, 4326,    303.0,   9.7350,   9.7336,2,  34.5949,2,  34.5925,2,     99.6,2,    32.36,2,    28.12,2,     0.00,2,     2.00,2, -999.000,9, -999.000,9,   2213.6,2,   2299.5,2,   7.5948,2,    25.00,  -999.00,9,  -999.00,9,   9.7336,2,     1128
  49UP20100706,   P09,   112,  1,     26,     99,2,20100812,0945,  2.5958, 138.9920, 4326,    352.1,   8.3910,   8.3909,2,  34.5138,2,  34.5147,2,    100.0,2,    40.63,2,    30.51,2,     0.00,2,     2.16,2, -999.000,9, -999.000,9,   2232.8,2,   2302.1,2,   7.5657,2,    25.00,  -999.00,9,  -999.00,9,   8.3909,2,     1126
  49UP20100706,   P09,   112,  1,     25,     98,2,20100812,0945,  2.5958, 138.9920, 4326,    403.0,   8.4507,   8.4500,2,  34.6105,2,  34.6107,2,    120.6,2,    31.50,2,    29.10,2,     0.00,2,     2.03,2, -999.000,9, -999.000,9,   2208.9,2,   2302.5,2,   7.6043,2,    25.00,  -999.00,9,  -999.00,9,   8.4500,2,     1124
  49UP20100706,   P09,   112,  1,     24,     97,2,20100812,0945,  2.5958, 138.9920, 4326,    453.7,   8.0386,   8.0383,2,  34.5853,2,  34.5843,2,    118.8,2,    35.05,2,    29.98,2,     0.00,2,     2.10,2, -999.000,9, -999.000,9,   2213.0,2,   2304.3,2,   7.5992,2,    25.00,  -999.00,9,  -999.00,9,   8.0383,2,     1117
  49UP20100706,   P09,   112,  1,     23,     96,2,20100812,0945,  2.5958, 138.9920, 4326,    504.3,   7.5597,   7.5595,2,  34.5643,2,  34.5637,2,    114.4,2,    38.36,2,    31.33,2,     0.00,2,     2.20,2, -999.000,9, -999.000,9,   2223.7,2,   2300.4,2,   7.5764,2,    25.00,  -999.00,9,  -999.00,9,   7.5595,2,     1115
  49UP20100706,   P09,   112,  1,     22,     95,2,20100812,0945,  2.5958, 138.9920, 4326,    604.0,   6.8064,   6.8062,2,  34.5437,2,  34.5438,2,    107.3,2,    45.90,2,    33.57,2,     0.00,2,     2.36,2, -999.000,9, -999.000,9,   2238.9,2,   2313.4,2,   7.5501,2,    25.00,  -999.00,9,  -999.00,9,   6.8062,2,     1112
  49UP20100706,   P09,   112,  1,     21,     94,2,20100812,0945,  2.5958, 138.9920, 4326,    705.8,   6.0001,   5.9999,2,  34.5386,2,  34.5379,2,     86.2,2,    60.66,2,    36.97,2,     0.00,2,     2.62,2, -999.000,9, -999.000,9,   2266.2,2,   2326.8,2,   7.5017,2,    25.00,  -999.00,9,  -999.00,9,   5.9999,2,     1109
  49UP20100706,   P09,   112,  1,     20,     93,2,20100812,0945,  2.5958, 138.9920, 4326,    807.5,   5.3930,   5.3926,2,  34.5397,2,  34.5397,2,     91.3,2,    70.09,2,    37.30,2,     0.00,2,     2.64,2, -999.000,9, -999.000,9,   2279.9,2,   2338.2,2,   7.5042,2,    25.00,  -999.00,9,  -999.00,9,   5.3926,2,     1106
  49UP20100706,   P09,   112,  1,     19,     92,2,20100812,0945,  2.5958, 138.9920, 4326,    907.7,   5.0178,   5.0177,2,  34.5449,2,  34.5447,2,     90.0,2,    77.13,2,    37.85,2,     0.00,2,     2.68,2, -999.000,9, -999.000,9,   2288.8,2,   2339.5,2,   7.5044,2,    25.00,  -999.00,9,  -999.00,9,   5.0177,2,     1103
  49UP20100706,   P09,   112,  1,     18,     91,2,20100812,0945,  2.5958, 138.9920, 4326,   1011.1,   4.5584,   4.5592,2,  34.5554,2,  34.5551,2,     93.5,2,    87.11,2,    37.81,2,     0.00,2,     2.69,2, -999.000,9, -999.000,9,   2295.4,6,   2357.2,6,   7.5009,6,    25.00,  -999.00,9,  -999.00,9,   4.5592,2,     1101
  49UP20100706,   P09,   112,  1,     17,     90,2,20100812,0945,  2.5958, 138.9920, 4326,   1011.1,   4.5584,   4.5592,2,  34.5554,2,  34.5551,2,     93.9,2,    87.39,2,    37.86,2,     0.00,2,     2.68,2, -999.000,9, -999.000,9,   2294.3,2,   2349.4,3,   7.5021,2,    25.00,  -999.00,9,  -999.00,9,   4.5592,2,     1101
  49UP20100706,   P09,   112,  1,     16,     89,2,20100812,0945,  2.5958, 138.9920, 4326,   1262.2,   3.6229,   3.6231,2,  34.5808,2,  34.5807,2,     99.7,2,   105.54,2,    38.36,2,     0.00,2,     2.72,2, -999.000,9, -999.000,9,   2311.3,2,   2378.2,2,   7.5080,2,    25.00,  -999.00,9,  -999.00,9,   3.6231,2,     1055
  49UP20100706,   P09,   112,  1,     15,     88,2,20100812,0945,  2.5958, 138.9920, 4326,   1514.2,   3.1719,   3.1719,2,  34.5949,2,  34.5954,2,    105.3,2,   113.56,2,    38.43,2,     0.00,2,     2.72,2, -999.000,9, -999.000,9,   2325.6,2,   2386.2,2,   7.5122,2,    25.00,  -999.00,9,  -999.00,9,   3.1719,2,     1050
  49UP20100706,   P09,   112,  1,     14,     87,2,20100812,0945,  2.5958, 138.9920, 4326,   1767.5,   2.5547,   2.5546,2,  34.6203,2,  34.6204,2,    106.9,2,   129.92,2,    38.67,2,     0.00,2,     2.72,2, -999.000,9, -999.000,9,   2335.6,2,   2394.8,2,   7.5137,2,    25.00,  -999.00,9,  -999.00,9,   2.5546,2,     1044
  49UP20100706,   P09,   112,  1,     13,     86,2,20100812,0945,  2.5958, 138.9920, 4326,   2021.2,   2.1657,   2.1656,2,  34.6388,2,  34.6391,2,    119.2,2,   135.67,2,    37.99,2,     0.00,2,     2.66,2, -999.000,9, -999.000,9,   2336.0,2,   2408.3,2,   7.5340,2,    25.00,  -999.00,9,  -999.00,9,   2.1656,2,     1039
  49UP20100706,   P09,   112,  1,     12,     85,2,20100812,0945,  2.5958, 138.9920, 4326,   2274.8,   1.8935,   1.8934,2,  34.6540,2,  34.6545,2,    124.9,2,   141.42,2,    37.71,2,     0.00,2,     2.63,2, -999.000,9, -999.000,9,   2343.3,2,   2409.7,2,   7.5397,2,    25.00,  -999.00,9,  -999.00,9,   1.8934,2,     1033
  49UP20100706,   P09,   112,  1,     11,    110,2,20100812,0945,  2.5958, 138.9920, 4326,   2529.1,   1.7655,   1.7655,2,  34.6615,2,  34.6620,2,    131.6,2,   141.96,2,    37.26,2,     0.00,2,     2.60,2, -999.000,9, -999.000,9,   2335.4,2,   2415.2,2,   7.5489,2,    25.00,  -999.00,9,  -999.00,9,   1.7655,2,     1028
  49UP20100706,   P09,   112,  1,     10,     83,2,20100812,0945,  2.5958, 138.9920, 4326,   2783.7,   1.6820,   1.6821,2,  34.6666,2,  34.6667,2,    137.5,2,   142.67,2,    36.89,2,     0.00,2,     2.57,2, -999.000,9, -999.000,9,   2335.6,2,   2414.9,2,   7.5595,2,    25.00,  -999.00,9,  -999.00,9,   1.6821,2,     1022
  49UP20100706,   P09,   112,  1,      9,     82,2,20100812,0945,  2.5958, 138.9920, 4326,   3038.9,   1.5916,   1.5918,2,  34.6731,2,  34.6733,2,    143.3,2,   143.10,2,    36.52,2,     0.00,2,     2.53,2, -999.000,9, -999.000,9,   2331.6,6,   2420.9,6,   7.5671,6,    25.00,  -999.00,9,  -999.00,9,   1.5918,2,     1016
  49UP20100706,   P09,   112,  1,      8,     81,2,20100812,0945,  2.5958, 138.9920, 4326,   3038.9,   1.5916,   1.5918,2,  34.6731,2,  34.6732,2,    142.8,2,   142.78,2,    36.54,2,     0.00,2,     2.54,2, -999.000,9, -999.000,9,   2334.6,2,   2416.5,2,   7.5668,2,    25.00,  -999.00,9,  -999.00,9,   1.5918,2,     1016
  49UP20100706,   P09,   112,  1,      7,     80,2,20100812,0945,  2.5958, 138.9920, 4326,   3293.9,   1.5654,   1.5655,2,  34.6763,2,  34.6761,2,    145.7,2,   142.86,2,    36.37,2,     0.00,2,     2.52,2, -999.000,9, -999.000,9,   2332.0,2,   2417.4,2,   7.5690,2,    25.00,  -999.00,9,  -999.00,9,   1.5655,2,     1011
  49UP20100706,   P09,   112,  1,      6,     79,2,20100812,0945,  2.5958, 138.9920, 4326,   3549.1,   1.5580,   1.5582,2,  34.6788,2,  34.6793,6,    147.3,6,   142.93,6,    36.27,6,     0.00,6,     2.51,6, -999.000,9, -999.000,9,   2331.4,2,   2422.0,2,   7.5753,2,    25.00,  -999.00,9,  -999.00,9,   1.5582,2,     1005
  49UP20100706,   P09,   112,  1,      5,     78,2,20100812,0945,  2.5958, 138.9920, 4326,   3804.4,   1.5395,   1.5395,2,  34.6825,2,  34.6826,6,    149.8,6,   143.05,6,    36.10,6,     0.00,6,     2.50,6, -999.000,9, -999.000,9,   2328.4,2,   2422.6,2,   7.5801,2,    25.00,  -999.00,9,  -999.00,9,   1.5395,2,      959
  49UP20100706,   P09,   112,  1,      4,     77,2,20100812,0945,  2.5958, 138.9920, 4326,   4061.0,   1.5159,   1.5160,2,  34.6866,2,  34.6869,6,    153.4,6,   142.24,6,    35.87,6,     0.00,6,     2.48,6, -999.000,9, -999.000,9,   2331.6,2,   2418.2,2,   7.5866,2,    25.00,  -999.00,9,  -999.00,9,   1.5160,2,      953
  49UP20100706,   P09,   112,  1,      2,     75,2,20100812,0945,  2.5958, 138.9920, 4326,   4383.3,   1.5298,   1.5298,2,  34.6878,2,  34.6881,2,    156.1,2,   141.76,2,    35.69,2,     0.00,2,     2.47,2, -999.000,9, -999.000,9,   2327.8,6,   2420.9,6,   7.5890,6,    25.00,  -999.00,9,  -999.00,9,   1.5298,2,      945
  49UP20100706,   P09,   112,  1,      1,     74,2,20100812,0945,  2.5958, 138.9920, 4326,   4383.3,   1.5298,   1.5298,2,  34.6878,2,  34.6877,6,    156.2,6,   141.55,6,    35.68,6,     0.00,6,     2.46,6, -999.000,9, -999.000,9,   2327.9,2,   2420.6,2,   7.5865,2,    25.00,  -999.00,9,  -999.00,9,   1.5298,2,      945