BOTTLE,20200625PRINUNIVRMK
EXPOCODE,SECT_ID,STNNBR,CASTNO,SAMPNO,BTLNBR,BTLNBR_FLAG_W,DATE,TIME,LATITUDE,LONGITUDE,DEPTH,CTDPRS,CTDTMP,SBE35,SBE35_FLAG_W,CTDSAL,CTDSAL_FLAG_W,SALNTY,SALNTY_FLAG_W,OXYGEN,OXYGEN_FLAG_W,SILCAT,SILCAT_FLAG_W,NITRAT,NITRAT_FLAG_W,NITRIT,NITRIT_FLAG_W,PHSPHT,PHSPHT_FLAG_W,CFC-11,CFC-11_FLAG_W,CFC-12,CFC-12_FLAG_W,TCARBN,TCARBN_FLAG_W,ALKALI,ALKALI_FLAG_W,PH_TOT,PH_TOT_FLAG_W,PH_TMP,CHLORA,CHLORA_FLAG_W,PPHYTN,PPHYTN_FLAG_W,SBE35,SBE35_FLAG_W,BTL_TIME
,,,,,,,,,,,METERS,DBAR,ITS-90,,,PSS-78,,PSS-78,,UMOL/KG,,UMOL/KG,,UMOL/KG,,UMOL/KG,,UMOL/KG,,PMOL/KG,,PMOL/KG,,UMOL/KG,,UMOL/KG,,,,DEG C,UG/KG,,UG/KG,,,,
  49UP20100706,   P09,     6,  1,      0,     -9,0,20100707,1452, 33.5052, 137.0258, 2038,      0.0,  25.1416,-999.0000,9,  33.2387,2,-999.0000,9,    211.5,2,     2.61,2,     0.03,2,     0.00,2,     0.01,2, -999.000,9, -999.000,9,   -999.0,9,   -999.0,9,-999.0000,9,  -999.00,  -999.00,9,  -999.00,9,-999.0000,9,     1543
  49UP20100706,   P09,     6,  1,     36,    109,2,20100707,1452, 33.5052, 137.0258, 2038,     11.0,  24.2487,  24.2503,2,  33.8092,2,  33.8321,4,    221.8,2,     1.76,2,     0.03,2,     0.00,2,     0.01,2, -999.000,9, -999.000,9,   1917.0,2,   2229.6,2,   8.0885,3,    25.00,  -999.00,9,  -999.00,9,  24.2503,2,     1557
  49UP20100706,   P09,     6,  1,     35,    108,2,20100707,1452, 33.5052, 137.0258, 2038,     25.7,  23.4128,  23.4238,2,  34.0359,2,  34.0671,4,    222.8,2,     2.51,2,     0.06,2,     0.00,2,     0.02,2, -999.000,9, -999.000,9,   1929.8,2,   2244.1,2,   8.0748,3,    25.00,  -999.00,9,  -999.00,9,  23.4238,2,     1556
  49UP20100706,   P09,     6,  1,     34,    107,2,20100707,1452, 33.5052, 137.0258, 2038,     50.9,  22.0678,  22.1359,2,  34.4961,2,  34.5024,6,    215.3,6,     2.87,6,     0.20,6,     0.13,6,     0.06,6, -999.000,9, -999.000,9,   1964.8,2,   2265.1,2,   8.0507,3,    25.00,  -999.00,9,  -999.00,9,  22.1359,2,     1553
  49UP20100706,   P09,     6,  1,     33,    106,2,20100707,1452, 33.5052, 137.0258, 2038,     75.9,  20.1495,  20.1454,2,  34.5606,2,  34.5654,6,    197.7,3,     5.32,6,     3.42,6,     0.37,6,     0.27,6, -999.000,9, -999.000,9,   2002.0,2,   2274.5,2,   7.9972,3,    25.00,  -999.00,9,  -999.00,9,  20.1454,2,     1552
  49UP20100706,   P09,     6,  1,     32,    105,2,20100707,1452, 33.5052, 137.0258, 2038,    100.9,  18.9447,  18.9412,2,  34.6183,2,  34.6078,4,    186.2,2,     7.84,2,     6.13,2,     0.04,2,     0.43,2, -999.000,9, -999.000,9,   2023.2,2,   2274.8,6,   7.9546,3,    25.00,  -999.00,9,  -999.00,9,  18.9412,2,     1551
  49UP20100706,   P09,     6,  1,     31,    104,2,20100707,1452, 33.5052, 137.0258, 2038,    100.9,  18.9447,  18.9412,2,  34.6183,2,  34.6091,4,    186.6,6,     7.83,6,     6.13,6,     0.04,6,     0.44,6, -999.000,9, -999.000,9,   2025.4,2,   2274.7,2,   7.9562,3,    25.00,  -999.00,9,  -999.00,9,  18.9412,2,     1551
  49UP20100706,   P09,     6,  1,     30,    103,2,20100707,1452, 33.5052, 137.0258, 2038,    125.0,  17.8227,  17.8354,2,  34.5953,2,  34.5910,6,    185.0,6,     8.97,6,     7.22,6,     0.03,6,     0.50,6, -999.000,9, -999.000,9,   2032.9,2,   2273.7,2,   7.9347,3,    25.00,  -999.00,9,  -999.00,9,  17.8354,2,     1549
  49UP20100706,   P09,     6,  1,     29,    102,2,20100707,1452, 33.5052, 137.0258, 2038,    151.9,  16.2971,  16.3073,2,  34.5752,2,  34.5746,2,    178.6,2,    13.28,2,     9.90,2,     0.01,2,     0.69,2, -999.000,9, -999.000,9,   2065.4,2,   2277.4,2,   7.8889,3,    25.00,  -999.00,9,  -999.00,9,  16.3073,2,     1547
  49UP20100706,   P09,     6,  1,     28,    101,2,20100707,1452, 33.5052, 137.0258, 2038,    203.3,  13.4995,  13.5188,2,  34.4918,2,  34.4928,2,    162.9,2,    22.29,2,    14.88,2,     0.01,2,     1.05,2, -999.000,9, -999.000,9,   2101.9,2,   2237.1,4,   7.8087,3,    25.00,  -999.00,9,  -999.00,9,  13.5188,2,     1545
  49UP20100706,   P09,     6,  1,     27,    100,2,20100707,1452, 33.5052, 137.0258, 2038,    252.0,  11.0601,  11.0449,2,  34.3889,2,  34.3901,2,    145.4,2,    35.67,2,    20.37,2,     0.01,2,     1.45,2, -999.000,9, -999.000,9,   2150.0,2,   2284.7,2,   7.7140,3,    25.00,  -999.00,9,  -999.00,9,  11.0449,2,     1543
  49UP20100706,   P09,     6,  1,     26,     99,2,20100707,1452, 33.5052, 137.0258, 2038,    280.9,   9.9588,   9.9609,2,  34.3522,2,  34.3532,2,    134.5,2,    44.44,2,    23.25,2,     0.01,2,     1.66,2, -999.000,9, -999.000,9,   2171.6,2,   2291.7,2,   7.6688,3,    25.00,  -999.00,9,  -999.00,9,   9.9609,2,     1542
  49UP20100706,   P09,     6,  1,     25,     98,2,20100707,1452, 33.5052, 137.0258, 2038,    372.6,   8.1480,   8.1636,2,  34.2950,2,  34.2977,2,    116.9,2,    59.02,2,    27.81,2,     0.01,2,     2.01,2, -999.000,9, -999.000,9,   2197.2,2,   2307.9,6,   7.5917,3,    25.00,  -999.00,9,  -999.00,9,   8.1636,2,     1539
  49UP20100706,   P09,     6,  1,     24,     97,2,20100707,1452, 33.5052, 137.0258, 2038,    372.6,   8.1480,   8.1636,2,  34.2950,2,  34.2976,2,    117.0,2,    59.10,2,    27.78,2,     0.01,2,     2.00,2, -999.000,9, -999.000,9,   2200.3,2,   2311.8,2,   7.5902,3,    25.00,  -999.00,9,  -999.00,9,   8.1636,2,     1539
  49UP20100706,   P09,     6,  1,     23,     96,2,20100707,1452, 33.5052, 137.0258, 2038,    474.3,   6.4909,   6.4966,2,  34.2860,2,  34.2877,2,     97.8,2,    75.69,2,    32.25,2,     0.00,2,     2.32,2, -999.000,9, -999.000,9,   2236.4,2,   2320.5,2,   7.5215,3,    25.00,  -999.00,9,  -999.00,9,   6.4966,2,     1536
  49UP20100706,   P09,     6,  1,     22,     95,2,20100707,1452, 33.5052, 137.0258, 2038,    576.2,   5.1579,   5.1610,2,  34.2949,2,  34.2933,2,     77.9,2,    93.15,2,    36.20,2,     0.00,2,     2.61,2, -999.000,9, -999.000,9,   2284.6,2,   2333.7,2,   7.4654,3,    25.00,  -999.00,9,  -999.00,9,   5.1610,2,     1533
  49UP20100706,   P09,     6,  1,     21,     94,2,20100707,1452, 33.5052, 137.0258, 2038,    674.3,   4.3222,   4.3197,2,  34.3058,2,  34.3063,2,     65.1,2,   107.08,2,    38.60,2,     0.00,2,     2.78,2, -999.000,9, -999.000,9,   2312.1,2,   2346.2,2,   7.4209,3,    25.00,  -999.00,9,  -999.00,9,   4.3197,2,     1531
  49UP20100706,   P09,     6,  1,     20,     93,2,20100707,1452, 33.5052, 137.0258, 2038,    777.3,   3.8120,   3.8115,2,  34.3661,2,  34.3675,2,     60.0,2,   117.93,2,    39.76,2,     0.00,2,     2.86,2, -999.000,9, -999.000,9,   2334.7,2,   2357.5,2,   7.4147,3,    25.00,  -999.00,9,  -999.00,9,   3.8115,2,     1528
  49UP20100706,   P09,     6,  1,     19,     92,2,20100707,1452, 33.5052, 137.0258, 2038,    877.2,   3.4313,   3.4309,2,  34.4014,2,  34.4027,2,     58.4,2,   126.04,2,    40.43,2,     0.00,2,     2.90,2, -999.000,9, -999.000,9,   2354.9,3,   2369.6,2,   7.4056,3,    25.00,  -999.00,9,  -999.00,9,   3.4309,2,     1525
  49UP20100706,   P09,     6,  1,     18,     91,2,20100707,1452, 33.5052, 137.0258, 2038,    979.6,   3.1908,   3.1904,2,  34.4373,2,  34.4377,2,     62.0,2,   130.66,2,    40.53,2,     0.00,2,     2.89,2, -999.000,9, -999.000,9,   2354.3,2,   2378.9,2,   7.4171,3,    25.00,  -999.00,9,  -999.00,9,   3.1904,2,     1521
  49UP20100706,   P09,     6,  1,     17,     90,2,20100707,1452, 33.5052, 137.0258, 2038,   1142.5,   2.9117,   2.9116,2,  34.4733,2,  34.4736,4,     67.9,2,   135.68,2,    40.42,2,     0.00,2,     2.89,2, -999.000,9, -999.000,9,   2357.3,2,   2383.9,6,   7.4240,3,    25.00,  -999.00,9,  -999.00,9,   2.9116,2,     1517
  49UP20100706,   P09,     6,  1,     16,     89,2,20100707,1452, 33.5052, 137.0258, 2038,   1142.5,   2.9117,   2.9116,2,  34.4733,2,  34.4746,2,     67.5,2,   135.66,2,    40.39,2,     0.00,2,     2.88,2, -999.000,9, -999.000,9,   2366.1,3,   2382.8,2,   7.4264,3,    25.00,  -999.00,9,  -999.00,9,   2.9116,2,     1517
  49UP20100706,   P09,     6,  1,     15,     88,2,20100707,1452, 33.5052, 137.0258, 2038,   1344.9,   2.5896,   2.5900,2,  34.5179,2,  34.5207,4,     78.0,2,   140.16,2,    39.93,2,     0.00,2,     2.85,2, -999.000,9, -999.000,9,   2355.3,2,   2387.9,2,   7.4460,3,    25.00,  -999.00,9,  -999.00,9,   2.5900,2,     1511
  49UP20100706,   P09,     6,  1,     14,     87,2,20100707,1452, 33.5052, 137.0258, 2038,   1547.4,   2.3671,   2.3669,2,  34.5493,2,  34.5518,4,     87.4,2,   142.62,2,    39.52,2,     0.00,2,     2.81,2, -999.000,9, -999.000,9,   2354.2,2,   2394.1,2,   7.4631,3,    25.00,  -999.00,9,  -999.00,9,   2.3669,2,     1506
  49UP20100706,   P09,     6,  1,     13,     86,2,20100707,1452, 33.5052, 137.0258, 2038,   1747.6,   2.2316,   2.2309,2,  34.5687,2,  34.5574,4,     89.5,3,   142.82,2,    39.40,2,     0.00,2,     2.80,2, -999.000,9, -999.000,9,   2352.0,2,   2398.3,2,   7.4718,3,    25.00,  -999.00,9,  -999.00,9,   2.2309,2,     1502
  49UP20100706,   P09,     6,  1,     12,     85,2,20100707,1452, 33.5052, 137.0258, 2038,   1952.4,   2.0747,   2.0743,2,  34.5918,2,  34.5944,4,    103.0,2,   145.02,2,    38.73,2,     0.00,2,     2.74,2, -999.000,9, -999.000,9,   2348.7,2,   2405.5,2,   7.4935,3,    25.00,  -999.00,9,  -999.00,9,   2.0743,2,     1457
  49UP20100706,   P09,     6,  1,      2,     75,2,20100707,1452, 33.5052, 137.0258, 2038,   2042.6,   2.0157,   2.0159,2,  34.6002,2,  34.6017,2,    109.0,2,   145.33,2,    38.47,2,     0.01,2,     2.73,2, -999.000,9, -999.000,9,   2359.3,3,   2407.1,6,   7.5010,3,    25.00,  -999.00,9,  -999.00,9,   2.0159,2,     1453
  49UP20100706,   P09,     6,  1,      1,     74,2,20100707,1452, 33.5052, 137.0258, 2038,   2042.6,   2.0157,   2.0159,2,  34.6002,2,  34.6017,2,    108.5,2,   145.28,2,    38.50,2,     0.01,2,     2.73,2, -999.000,9, -999.000,9,   2350.0,2,   2410.7,2,   7.4999,3,    25.00,  -999.00,9,  -999.00,9,   2.0159,2,     1453