BOTTLE,20200625PRINUNIVRMK
EXPOCODE,SECT_ID,STNNBR,CASTNO,SAMPNO,BTLNBR,BTLNBR_FLAG_W,DATE,TIME,LATITUDE,LONGITUDE,DEPTH,CTDPRS,CTDTMP,SBE35,SBE35_FLAG_W,CTDSAL,CTDSAL_FLAG_W,SALNTY,SALNTY_FLAG_W,OXYGEN,OXYGEN_FLAG_W,SILCAT,SILCAT_FLAG_W,NITRAT,NITRAT_FLAG_W,NITRIT,NITRIT_FLAG_W,PHSPHT,PHSPHT_FLAG_W,CFC-11,CFC-11_FLAG_W,CFC-12,CFC-12_FLAG_W,TCARBN,TCARBN_FLAG_W,ALKALI,ALKALI_FLAG_W,PH_TOT,PH_TOT_FLAG_W,PH_TMP,CHLORA,CHLORA_FLAG_W,PPHYTN,PPHYTN_FLAG_W,SBE35,SBE35_FLAG_W,BTL_TIME
,,,,,,,,,,,METERS,DBAR,ITS-90,,,PSS-78,,PSS-78,,UMOL/KG,,UMOL/KG,,UMOL/KG,,UMOL/KG,,UMOL/KG,,PMOL/KG,,PMOL/KG,,UMOL/KG,,UMOL/KG,,,,DEG C,UG/KG,,UG/KG,,,,
  49UP20100706,   P09,   104,  1,      0,     -9,0,20100810,2147,  1.9905, 142.0020, 2551,      0.0,  29.9086,-999.0000,9,  34.2970,2,-999.0000,9,    193.6,2,     0.98,2,     0.00,2,     0.00,2,     0.08,2, -999.000,9, -999.000,9,   -999.0,9,   -999.0,9,-999.0000,9,  -999.00,     0.07,2,     0.02,2,-999.0000,9,     2245
  49UP20100706,   P09,   104,  1,     36,    109,2,20100810,2147,  1.9905, 142.0020, 2551,     10.1,  29.9125,  29.9105,2,  34.2921,2,  34.2911,2,    193.5,2,     0.85,2,     0.00,2,     0.00,2,     0.08,2,    1.498,2,    0.865,2,   1906.5,2,   2253.0,2,   8.1439,2,    25.00,     0.06,2,     0.02,2,  29.9105,2,     2257
  49UP20100706,   P09,   104,  1,     35,    108,2,20100810,2147,  1.9905, 142.0020, 2551,     25.3,  29.9334,  29.9349,2,  34.3041,2,  34.3058,2,    193.2,2,     0.94,2,     0.00,2,     0.00,2,     0.08,2,    1.527,2,    0.896,2,   1905.3,2,   2254.6,2,   8.1441,2,    25.00,     0.06,2,     0.02,2,  29.9349,2,     2256
  49UP20100706,   P09,   104,  1,     34,    107,2,20100810,2147,  1.9905, 142.0020, 2551,     50.6,  29.9634,  29.9629,2,  34.4251,2,  34.4231,2,    193.3,2,     1.12,2,     0.01,2,     0.00,2,     0.09,2,    1.539,2,    0.906,2,   1915.6,6,   2262.9,6,   8.1404,6,    25.00,  -999.00,9,  -999.00,9,  29.9629,2,     2253
  49UP20100706,   P09,   104,  1,     33,    106,2,20100810,2147,  1.9905, 142.0020, 2551,     50.6,  29.9634,  29.9629,2,  34.4251,2,  34.4247,2,    193.4,2,     0.89,2,     0.00,2,     0.00,2,     0.09,2,    1.512,3,    0.853,3,   1912.4,2,   2262.8,2,   8.1370,2,    25.00,     0.07,2,     0.03,2,  29.9629,2,     2253
  49UP20100706,   P09,   104,  1,     32,    105,2,20100810,2147,  1.9905, 142.0020, 2551,     77.2,  29.4086,  29.4048,2,  34.5433,2,  34.5275,4,    191.9,2,     1.07,2,     0.02,2,     0.02,2,     0.09,2,    1.582,2,    0.947,2,   1942.5,2,   2263.3,2,   8.1170,2,    25.00,     0.22,2,     0.12,2,  29.4048,2,     2252
  49UP20100706,   P09,   104,  1,     31,    104,2,20100810,2147,  1.9905, 142.0020, 2551,    101.6,  29.4821,  29.4850,2,  35.1727,2,  35.1287,4,    191.9,2,     0.98,2,     0.09,2,     0.04,2,     0.18,2,    1.531,2,    0.886,2,   1965.5,2,   2310.7,3,   8.1185,2,    25.00,     0.29,2,     0.15,2,  29.4850,2,     2250
  49UP20100706,   P09,   104,  1,     30,    103,2,20100810,2147,  1.9905, 142.0020, 2551,    128.4,  27.2715,  27.2663,2,  34.7340,2,  34.7310,2,    175.0,2,     2.07,2,     1.72,2,     0.18,2,     0.23,2,    1.674,2,    0.983,2,   1979.8,2,   2281.8,2,   8.0566,2,    25.00,     0.10,2,     0.15,2,  27.2663,2,     2249
  49UP20100706,   P09,   104,  1,     29,    102,2,20100810,2147,  1.9905, 142.0020, 2551,    153.2,  23.6984,  23.7115,2,  35.0118,2,  34.9805,4,    141.4,2,     4.74,2,     7.35,2,     0.04,2,     0.58,2,    1.811,2,    1.060,2,   2043.9,2,   2291.6,2,   7.9556,2,    25.00,     0.08,2,     0.12,2,  23.7115,2,     2247
  49UP20100706,   P09,   104,  1,     28,    101,2,20100810,2147,  1.9905, 142.0020, 2551,    202.4,  17.1934,  17.1723,2,  34.7266,2,  34.7896,4,    140.8,2,     9.54,2,    11.54,2,     0.01,2,     0.87,2,    2.153,2,    1.245,2,   2094.6,2,   2289.0,2,   7.8452,2,    25.00,     0.02,2,     0.04,2,  17.1723,2,     2245
  49UP20100706,   P09,   104,  1,     27,    100,2,20100810,2147,  1.9905, 142.0020, 2551,    252.3,   9.5500,   9.5491,2,  34.6202,2,  34.6181,2,    118.5,2,    31.32,2,    26.84,2,     0.00,2,     1.89,2,    1.114,2,    0.572,2,   2197.4,2,   2304.9,2,   7.6310,2,    25.00,  -999.00,9,  -999.00,9,   9.5491,2,     2243
  49UP20100706,   P09,   104,  1,     26,     99,3,20100810,2147,  1.9905, 142.0020, 2551,    301.6,   9.2476,   9.2469,2,  34.6385,2,  34.6378,3,    120.8,2,    29.83,2,    27.42,2,     0.00,2,     1.92,2,    1.025,6,    0.548,6,   2197.9,2,   2302.4,2,   7.6286,2,    25.00,  -999.00,9,  -999.00,9,   9.2469,2,     2242
  49UP20100706,   P09,   104,  1,     25,     98,2,20100810,2147,  1.9905, 142.0020, 2551,    351.6,   9.2637,   9.2640,2,  34.6793,2,  34.6786,2,    119.3,2,    24.89,2,    27.81,2,     0.00,2,     1.93,2,    0.953,2,    0.509,2,   2198.2,2,   2304.2,2,   7.6315,2,    25.00,  -999.00,9,  -999.00,9,   9.2640,2,     2240
  49UP20100706,   P09,   104,  1,     24,     97,2,20100810,2147,  1.9905, 142.0020, 2551,    403.5,   9.1216,   9.1215,2,  34.6687,2,  34.6678,2,    123.3,2,    25.14,2,    27.70,2,     0.01,2,     1.92,2,    0.988,2,    0.554,2,   2198.8,6,   2300.2,6,   7.6263,6,    25.00,  -999.00,9,  -999.00,9,   9.1215,2,     2238
  49UP20100706,   P09,   104,  1,     23,     96,2,20100810,2147,  1.9905, 142.0020, 2551,    403.5,   9.1216,   9.1215,2,  34.6687,2,  34.6694,2,    123.5,2,    24.85,2,    27.67,2,     0.00,2,     1.92,2,    0.959,2,    0.496,2,   2196.9,2,   2303.3,2,   7.6261,2,    25.00,  -999.00,9,  -999.00,9,   9.1215,2,     2238
  49UP20100706,   P09,   104,  1,     22,     95,2,20100810,2147,  1.9905, 142.0020, 2551,    453.9,   8.6736,   8.6736,2,  34.6396,2,  34.6385,2,    109.9,2,    28.98,2,    29.95,2,     0.00,2,     2.08,2,    0.728,2,    0.370,2,   2214.7,2,   2305.1,2,   7.5932,2,    25.00,  -999.00,9,  -999.00,9,   8.6736,2,     2236
  49UP20100706,   P09,   104,  1,     21,     94,2,20100810,2147,  1.9905, 142.0020, 2551,    504.6,   8.2651,   8.2656,2,  34.6067,2,  34.6058,2,    121.2,2,    31.04,2,    29.56,2,     0.00,2,     2.06,2,    0.717,2,    0.366,2,   2211.5,2,   2303.7,2,   7.6054,2,    25.00,  -999.00,9,  -999.00,9,   8.2656,2,     2235
  49UP20100706,   P09,   104,  1,     20,     93,2,20100810,2147,  1.9905, 142.0020, 2551,    605.9,   7.6095,   7.6153,2,  34.5746,2,  34.5756,2,    122.8,2,    34.89,2,    30.69,2,     0.00,2,     2.14,2,    0.609,6,    0.317,6,   2214.8,2,   2307.5,2,   7.5858,2,    25.00,  -999.00,9,  -999.00,9,   7.6153,2,     2232
  49UP20100706,   P09,   104,  1,     19,     92,2,20100810,2147,  1.9905, 142.0020, 2551,    706.9,   6.6138,   6.6134,2,  34.5436,2,  34.5432,2,     89.7,2,    51.56,2,    35.50,2,     0.00,2,     2.51,2,    0.169,2,    0.105,2,   2254.4,2,   2320.3,2,   7.5169,2,    25.00,  -999.00,9,  -999.00,9,   6.6134,2,     2229
  49UP20100706,   P09,   104,  1,     18,     91,2,20100810,2147,  1.9905, 142.0020, 2551,    807.7,   5.4846,   5.4848,2,  34.5386,2,  34.5372,2,     92.8,2,    67.77,2,    37.05,2,     0.00,2,     2.63,2,    0.068,2,    0.056,2,   2272.3,6,   2334.9,6,   7.5079,6,    25.00,  -999.00,9,  -999.00,9,   5.4848,2,     2226
  49UP20100706,   P09,   104,  1,     17,     90,2,20100810,2147,  1.9905, 142.0020, 2551,    807.7,   5.4846,   5.4848,2,  34.5386,2,  34.5377,2,     93.6,2,    67.49,2,    37.12,2,     0.00,2,     2.62,2,    0.051,2,    0.074,2,   2276.6,2,   2336.7,2,   7.5062,2,    25.00,  -999.00,9,  -999.00,9,   5.4848,2,     2226
  49UP20100706,   P09,   104,  1,     16,     89,2,20100810,2147,  1.9905, 142.0020, 2551,    907.5,   4.9234,   4.9232,2,  34.5474,2,  34.5468,2,     95.4,2,    79.40,2,    37.53,2,     0.00,2,     2.66,2,    0.036,2,    0.010,2,   2284.0,2,   2349.9,2,   7.5064,2,    25.00,  -999.00,9,  -999.00,9,   4.9232,2,     2223
  49UP20100706,   P09,   104,  1,     15,     88,2,20100810,2147,  1.9905, 142.0020, 2551,   1008.4,   4.2927,   4.2927,2,  34.5607,2,  34.5602,2,     93.7,2,    93.06,2,    38.33,2,     0.00,2,     2.72,2,    0.009,2,    0.036,2,   2301.4,2,   2363.8,2,   7.5052,2,    25.00,  -999.00,9,  -999.00,9,   4.2927,2,     2220
  49UP20100706,   P09,   104,  1,     14,     87,2,20100810,2147,  1.9905, 142.0020, 2551,   1259.0,   3.4259,   3.4255,2,  34.5852,2,  34.5848,2,     97.2,2,   111.11,2,    38.78,2,     0.00,2,     2.75,2, -999.000,5, -999.000,5,   2319.1,6,   2379.4,6,   7.5014,6,    25.00,  -999.00,9,  -999.00,9,   3.4255,2,     2215
  49UP20100706,   P09,   104,  1,     13,     86,2,20100810,2147,  1.9905, 142.0020, 2551,   1259.0,   3.4259,   3.4255,2,  34.5852,2,  34.5854,2,     97.3,2,   111.10,2,    38.78,2,     0.00,2,     2.75,2,    0.000,2,    0.000,2,   2321.1,2,   2383.0,2,   7.5021,2,    25.00,  -999.00,9,  -999.00,9,   3.4255,2,     2215
  49UP20100706,   P09,   104,  1,     12,     85,2,20100810,2147,  1.9905, 142.0020, 2551,   1514.0,   2.8835,   2.8833,2,  34.6052,2,  34.6049,2,    104.5,2,   122.42,2,    38.66,2,     0.00,2,     2.73,2,    0.000,2,    0.016,2,   2325.6,2,   2387.5,2,   7.5132,2,    25.00,  -999.00,9,  -999.00,9,   2.8833,2,     2209
  49UP20100706,   P09,   104,  1,     11,    110,2,20100810,2147,  1.9905, 142.0020, 2551,   1765.1,   2.4554,   2.4504,2,  34.6238,2,  34.6242,6,    110.0,6,   132.13,6,    38.60,6,     0.00,6,     2.72,6,    0.000,2,    0.000,2,   2336.8,2,   2397.6,2,   7.5194,2,    25.00,  -999.00,9,  -999.00,9,   2.4504,2,     2205
  49UP20100706,   P09,   104,  1,     10,     83,2,20100810,2147,  1.9905, 142.0020, 2551,   2019.3,   2.1531,   2.1528,2,  34.6395,2,  34.6400,6,    119.7,6,   136.11,6,    38.02,6,     0.00,6,     2.67,6,    0.000,2,    0.000,2,   2338.9,2,   2409.0,2,   7.5350,2,    25.00,  -999.00,9,  -999.00,9,   2.1528,2,     2200
  49UP20100706,   P09,   104,  1,      9,     82,2,20100810,2147,  1.9905, 142.0020, 2551,   2274.2,   1.9321,   1.9318,2,  34.6514,2,  34.6520,6,    124.4,6,   141.40,6,    37.83,6,     0.00,6,     2.65,6,    0.000,2,    0.000,2,   2336.1,2,   2415.4,2,   7.5395,2,    25.00,  -999.00,9,  -999.00,9,   1.9318,2,     2154
  49UP20100706,   P09,   104,  1,      1,     74,2,20100810,2147,  1.9905, 142.0020, 2551,   2558.9,   1.7293,   1.7292,2,  34.6623,2,  34.6628,6,    134.6,6,   142.88,6,    37.19,6,     0.00,6,     2.59,6,    0.000,2,    0.000,2,   2333.4,2,   2416.1,2,   7.5529,2,    25.00,  -999.00,9,  -999.00,9,   1.7292,2,     2147