BOTTLE,20200625PRINUNIVRMK
EXPOCODE,SECT_ID,STNNBR,CASTNO,SAMPNO,BTLNBR,BTLNBR_FLAG_W,DATE,TIME,LATITUDE,LONGITUDE,DEPTH,CTDPRS,CTDTMP,SBE35,SBE35_FLAG_W,CTDSAL,CTDSAL_FLAG_W,SALNTY,SALNTY_FLAG_W,OXYGEN,OXYGEN_FLAG_W,SILCAT,SILCAT_FLAG_W,NITRAT,NITRAT_FLAG_W,NITRIT,NITRIT_FLAG_W,PHSPHT,PHSPHT_FLAG_W,CFC-11,CFC-11_FLAG_W,CFC-12,CFC-12_FLAG_W,TCARBN,TCARBN_FLAG_W,ALKALI,ALKALI_FLAG_W,PH_TOT,PH_TOT_FLAG_W,PH_TMP,CHLORA,CHLORA_FLAG_W,PPHYTN,PPHYTN_FLAG_W,SBE35,SBE35_FLAG_W,BTL_TIME
,,,,,,,,,,,METERS,DBAR,ITS-90,,,PSS-78,,PSS-78,,UMOL/KG,,UMOL/KG,,UMOL/KG,,UMOL/KG,,UMOL/KG,,PMOL/KG,,PMOL/KG,,UMOL/KG,,UMOL/KG,,,,DEG C,UG/KG,,UG/KG,,,,
  49UP20100706,   P09,    44,  1,      0,     -9,0,20100717,1521, 17.0045, 136.9595, 4787,      0.0,  29.8109,-999.0000,9,  34.8648,2,-999.0000,9,    193.8,2,     0.71,2,     0.00,2,     0.00,2,     0.01,2, -999.000,9, -999.000,9,   -999.0,9,   -999.0,9,-999.0000,9,  -999.00,     0.07,2,     0.02,2,-999.0000,9,     1706
  49UP20100706,   P09,    44,  1,     36,    109,2,20100717,1521, 17.0045, 136.9595, 4787,     11.2,  29.8343,  29.8406,2,  34.8825,2,  34.8834,2,    195.2,2,     0.72,2,     0.00,2,     0.00,2,     0.01,2, -999.000,9, -999.000,9,   1940.9,2,   2283.7,3,   8.1325,2,    25.00,     0.07,2,     0.02,2,  29.8406,2,     1728
  49UP20100706,   P09,    44,  1,     35,    108,2,20100717,1521, 17.0045, 136.9595, 4787,     26.0,  29.9297,  29.9288,2,  34.9847,2,  34.9852,2,    195.3,2,     0.70,2,     0.00,2,     0.00,2,     0.01,2, -999.000,9, -999.000,9,   1942.5,2,   2293.7,2,   8.1346,2,    25.00,     0.07,2,     0.02,2,  29.9288,2,     1727
  49UP20100706,   P09,    44,  1,     34,    107,2,20100717,1521, 17.0045, 136.9595, 4787,     51.8,  28.1928,  28.1914,2,  34.9962,2,  34.9981,2,    213.2,2,     0.69,2,     0.00,2,     0.00,2,     0.00,2, -999.000,9, -999.000,9,   1949.7,2,   2294.8,2,   8.1348,2,    25.00,     0.12,2,     0.04,2,  28.1914,2,     1723
  49UP20100706,   P09,    44,  1,     33,    106,2,20100717,1521, 17.0045, 136.9595, 4787,     75.3,  27.5737,  27.5723,2,  35.0614,2,  35.0610,2,    210.8,2,     0.70,2,     0.00,2,     0.00,2,     0.00,2, -999.000,9, -999.000,9,   1957.6,6,   2300.6,6,   8.1278,6,    25.00,     0.15,2,     0.07,2,  27.5723,2,     1722
  49UP20100706,   P09,    44,  1,     32,    105,2,20100717,1521, 17.0045, 136.9595, 4787,    101.6,  27.0819,  27.0805,2,  35.0675,2,  35.0674,2,    206.4,2,     0.68,2,     0.00,2,     0.00,2,     0.01,2, -999.000,9, -999.000,9,   1959.0,2,   2299.5,2,   8.1174,2,    25.00,     0.22,2,     0.10,2,  27.0805,2,     1721
  49UP20100706,   P09,    44,  1,     31,    104,2,20100717,1521, 17.0045, 136.9595, 4787,    126.4,  26.4332,  26.4299,2,  35.0635,2,  35.0564,4,    197.4,2,     0.70,2,    -0.02,2,     0.02,2,     0.02,2, -999.000,9, -999.000,9,   1969.6,2,   2296.4,2,   8.1050,2,    25.00,     0.17,2,     0.31,2,  26.4299,2,     1719
  49UP20100706,   P09,    44,  1,     30,    103,2,20100717,1521, 17.0045, 136.9595, 4787,    151.4,  25.3659,  25.3622,2,  35.0154,2,  35.0179,2,    192.0,2,     0.84,2,     0.19,2,     0.12,2,     0.03,2, -999.000,9, -999.000,9,   1979.2,2,   2294.3,2,   8.0799,2,    25.00,     0.10,2,     0.21,2,  25.3622,2,     1718
  49UP20100706,   P09,    44,  1,     29,    102,2,20100717,1521, 17.0045, 136.9595, 4787,    202.5,  22.8368,  22.8352,2,  35.0469,2,  35.0451,2,    179.4,2,     1.44,2,     1.36,2,     0.01,2,     0.12,2, -999.000,9, -999.000,9,   2017.7,2,   2299.6,2,   8.0171,2,    25.00,     0.01,2,     0.03,2,  22.8352,2,     1716
  49UP20100706,   P09,    44,  1,     28,    101,2,20100717,1521, 17.0045, 136.9595, 4787,    252.7,  19.0925,  19.0928,2,  34.8275,2,  34.8263,2,    185.0,2,     2.89,2,     3.67,2,     0.00,2,     0.25,2, -999.000,9, -999.000,9,   2038.3,2,   2282.2,2,   7.9554,2,    25.00,  -999.00,9,  -999.00,9,  19.0928,2,     1714
  49UP20100706,   P09,    44,  1,     27,    100,2,20100717,1521, 17.0045, 136.9595, 4787,    282.0,  17.1543,  17.1612,2,  34.7145,2,  34.7190,2,    185.8,2,     4.79,2,     6.21,2,     0.00,2,     0.42,2, -999.000,9, -999.000,9,   2052.4,2,   2277.4,2,   7.9205,2,    25.00,  -999.00,9,  -999.00,9,  17.1612,2,     1712
  49UP20100706,   P09,    44,  1,     26,     99,2,20100717,1521, 17.0045, 136.9595, 4787,    332.7,  14.9407,  14.9361,2,  34.5385,2,  34.5393,2,    183.3,2,     8.62,2,     9.70,2,     0.00,2,     0.68,2, -999.000,9, -999.000,9,   2077.5,2,   2276.1,2,   7.8553,2,    25.00,  -999.00,9,  -999.00,9,  14.9361,2,     1711
  49UP20100706,   P09,    44,  1,     25,     98,2,20100717,1521, 17.0045, 136.9595, 4787,    383.4,  11.5101,  11.5096,2,  34.2966,2,  34.2980,2,    158.9,2,    19.35,2,    17.43,2,     0.00,2,     1.26,2, -999.000,9, -999.000,9,   2131.1,2,   2267.6,2,   7.7282,2,    25.00,  -999.00,9,  -999.00,9,  11.5096,2,     1709
  49UP20100706,   P09,    44,  1,     24,     97,2,20100717,1521, 17.0045, 136.9595, 4787,    433.3,  10.2579,  10.2499,2,  34.2534,2,  34.2543,2,    135.3,2,    27.04,2,    22.01,2,     0.00,2,     1.60,2, -999.000,9, -999.000,9,   2162.0,2,   2276.3,4,   7.6492,2,    25.00,  -999.00,9,  -999.00,9,  10.2499,2,     1707
  49UP20100706,   P09,    44,  1,     23,     96,2,20100717,1521, 17.0045, 136.9595, 4787,    483.9,   8.9389,   8.9381,2,  34.2422,2,  34.2431,2,    108.4,2,    37.27,2,    27.11,2,     0.00,2,     1.97,2, -999.000,9, -999.000,9,   2199.6,6,   2277.5,3,   7.5656,6,    25.00,  -999.00,9,  -999.00,9,   8.9381,2,     1705
  49UP20100706,   P09,    44,  1,     22,     95,2,20100717,1521, 17.0045, 136.9595, 4787,    577.9,   6.9664,   6.9671,2,  34.2876,2,  34.2857,2,     71.7,2,    58.87,2,    34.29,2,     0.00,2,     2.48,2, -999.000,9, -999.000,9,   2263.5,2,   2305.0,3,   7.4749,2,    25.00,  -999.00,9,  -999.00,9,   6.9671,2,     1702
  49UP20100706,   P09,    44,  1,     21,     94,2,20100717,1521, 17.0045, 136.9595, 4787,    676.0,   6.1892,   6.1884,2,  34.3720,2,  34.3718,2,     64.2,2,    70.55,2,    36.65,2,     0.00,2,     2.64,2, -999.000,9, -999.000,9,   2283.7,2,   2334.8,2,   7.4507,2,    25.00,  -999.00,9,  -999.00,9,   6.1884,2,     1659
  49UP20100706,   P09,    44,  1,     20,     93,2,20100717,1521, 17.0045, 136.9595, 4787,    777.4,   5.4320,   5.4326,2,  34.4406,2,  34.4393,6,     60.5,6,    81.67,6,    38.51,6,     0.00,6,     2.78,6, -999.000,9, -999.000,9,   2300.1,2,   2337.7,2,   7.4483,2,    25.00,  -999.00,9,  -999.00,9,   5.4326,2,     1656
  49UP20100706,   P09,    44,  1,     19,     92,2,20100717,1521, 17.0045, 136.9595, 4787,    878.5,   4.8655,   4.8660,2,  34.4867,2,  34.4871,6,     73.4,6,    90.54,6,    38.45,6,     0.00,6,     2.75,6, -999.000,9, -999.000,9,   2305.6,2,   2349.2,2,   7.4663,2,    25.00,  -999.00,9,  -999.00,9,   4.8660,2,     1653
  49UP20100706,   P09,    44,  1,     18,     91,2,20100717,1521, 17.0045, 136.9595, 4787,    979.3,   4.3400,   4.3408,2,  34.5148,2,  34.5139,6,     80.2,6,    99.97,6,    38.46,6,     0.00,6,     2.75,6, -999.000,9, -999.000,9,   2314.5,2,   2364.8,2,   7.4745,2,    25.00,  -999.00,9,  -999.00,9,   4.3408,2,     1650
  49UP20100706,   P09,    44,  1,     17,     90,2,20100717,1521, 17.0045, 136.9595, 4787,   1181.6,   3.5956,   3.5982,2,  34.5517,2,  34.5515,6,     87.0,6,   114.25,6,    38.86,6,     0.00,6,     2.76,6, -999.000,9, -999.000,9,   2324.9,2,   2381.3,2,   7.4868,2,    25.00,  -999.00,9,  -999.00,9,   3.5982,2,     1645
  49UP20100706,   P09,    44,  1,     16,     89,2,20100717,1521, 17.0045, 136.9595, 4787,   1437.0,   2.9397,   2.9398,2,  34.5743,2,  34.5742,2,     95.9,2,   128.06,2,    38.64,2,     0.00,2,     2.73,2, -999.000,9, -999.000,9,   2335.5,2,   2393.9,2,   7.4959,2,    25.00,  -999.00,9,  -999.00,9,   2.9398,2,     1638
  49UP20100706,   P09,    44,  1,     15,     88,2,20100717,1521, 17.0045, 136.9595, 4787,   1700.7,   2.5422,   2.5421,2,  34.5960,2,  34.5963,2,    102.7,2,   134.85,2,    38.55,2,     0.00,2,     2.72,2, -999.000,9, -999.000,9,   2340.0,6,   2404.7,6,   7.5028,6,    25.00,  -999.00,9,  -999.00,9,   2.5421,2,     1631
  49UP20100706,   P09,    44,  1,     14,     87,2,20100717,1521, 17.0045, 136.9595, 4787,   1700.7,   2.5422,   2.5421,2,  34.5960,2,  34.5959,2,    102.9,2,   134.69,2,    38.63,2,     0.00,2,     2.72,2, -999.000,9, -999.000,9,   2342.2,2,   2399.7,2,   7.5016,2,    25.00,  -999.00,9,  -999.00,9,   2.5421,2,     1631
  49UP20100706,   P09,    44,  1,     13,     86,2,20100717,1521, 17.0045, 136.9595, 4787,   1943.3,   2.2173,   2.2174,2,  34.6162,2,  34.6166,2,    109.7,2,   139.69,2,    38.37,2,     0.00,2,     2.69,2, -999.000,9, -999.000,9,   2344.1,2,   2404.0,2,   7.5089,2,    25.00,  -999.00,9,  -999.00,9,   2.2174,2,     1625
  49UP20100706,   P09,    44,  1,     12,     85,2,20100717,1521, 17.0045, 136.9595, 4787,   2194.4,   1.9703,   1.9706,2,  34.6332,2,  34.6333,2,    117.6,2,   143.37,2,    37.99,2,     0.00,2,     2.66,2, -999.000,9, -999.000,9,   2340.5,2,   2409.3,2,   7.5225,2,    25.00,  -999.00,9,  -999.00,9,   1.9706,2,     1619
  49UP20100706,   P09,    44,  1,     11,    110,2,20100717,1521, 17.0045, 136.9595, 4787,   2447.1,   1.7995,   1.7997,2,  34.6491,2,  34.6492,2,    126.6,2,   144.96,2,    37.52,2,     0.00,2,     2.62,2, -999.000,9, -999.000,9,   2340.4,2,   2413.1,2,   7.5341,2,    25.00,  -999.00,9,  -999.00,9,   1.7997,2,     1614
  49UP20100706,   P09,    44,  1,     10,     83,2,20100717,1521, 17.0045, 136.9595, 4787,   2712.1,   1.7280,   1.7283,2,  34.6579,2,  34.6577,2,    130.5,2,   145.32,2,    37.30,2,     0.00,2,     2.60,2, -999.000,9, -999.000,9,   2340.7,2,   2418.6,2,   7.5454,2,    25.00,  -999.00,9,  -999.00,9,   1.7283,2,     1609
  49UP20100706,   P09,    44,  1,      9,     82,2,20100717,1521, 17.0045, 136.9595, 4787,   2958.0,   1.6686,   1.6688,2,  34.6642,2,  34.6642,2,    135.5,2,   145.26,2,    37.01,2,     0.00,2,     2.57,2, -999.000,9, -999.000,9,   2335.7,2,   2418.5,2,   7.5509,2,    25.00,  -999.00,9,  -999.00,9,   1.6688,2,     1604
  49UP20100706,   P09,    44,  1,      8,     81,2,20100717,1521, 17.0045, 136.9595, 4787,   3222.1,   1.6173,   1.6172,2,  34.6699,2,  34.6702,2,    140.9,2,   144.42,2,    36.64,2,     0.00,2,     2.54,2, -999.000,9, -999.000,9,   2331.4,2,   2417.1,2,   7.5583,2,    25.00,  -999.00,9,  -999.00,9,   1.6172,2,     1558
  49UP20100706,   P09,    44,  1,      7,     80,2,20100717,1521, 17.0045, 136.9595, 4787,   3469.7,   1.5741,   1.5741,2,  34.6748,2,  34.6750,2,    146.2,2,   143.15,2,    36.26,2,     0.00,2,     2.51,2, -999.000,9, -999.000,9,   2330.4,2,   2412.4,2,   7.5656,2,    25.00,  -999.00,9,  -999.00,9,   1.5741,2,     1552
  49UP20100706,   P09,    44,  1,      6,     79,2,20100717,1521, 17.0045, 136.9595, 4787,   3735.8,   1.5448,   1.5448,2,  34.6791,2,  34.6792,2,    150.6,2,   142.51,2,    36.05,2,     0.00,2,     2.49,2, -999.000,9, -999.000,9,   2328.0,2,   2414.3,2,   7.5745,2,    25.00,  -999.00,9,  -999.00,9,   1.5448,2,     1546
  49UP20100706,   P09,    44,  1,      5,     78,2,20100717,1521, 17.0045, 136.9595, 4787,   3982.6,   1.5279,   1.5279,2,  34.6822,2,  34.6825,2,    154.4,2,   141.31,2,    35.73,2,     0.00,2,     2.48,2, -999.000,9, -999.000,9,   2325.7,2,   2411.6,2,   7.5741,2,    25.00,  -999.00,9,  -999.00,9,   1.5279,2,     1540
  49UP20100706,   P09,    44,  1,      4,     77,2,20100717,1521, 17.0045, 136.9595, 4787,   4247.7,   1.5190,   1.5190,2,  34.6850,2,  34.6854,2,    157.7,2,   140.22,2,    35.55,2,     0.00,2,     2.46,2, -999.000,9, -999.000,9,   2321.8,2,   2411.3,2,   7.5799,2,    25.00,  -999.00,9,  -999.00,9,   1.5190,2,     1534
  49UP20100706,   P09,    44,  1,      3,     76,2,20100717,1521, 17.0045, 136.9595, 4787,   4493.7,   1.5241,   1.5240,2,  34.6866,2,  34.6869,2,    160.1,2,   139.53,2,    35.39,2,     0.00,2,     2.45,2, -999.000,9, -999.000,9,   2319.7,2,   2413.8,2,   7.5830,2,    25.00,  -999.00,9,  -999.00,9,   1.5240,2,     1529
  49UP20100706,   P09,    44,  1,      2,     75,2,20100717,1521, 17.0045, 136.9595, 4787,   4760.7,   1.5505,   1.5501,2,  34.6870,2,  34.6875,2,    160.5,2,   139.30,2,    35.31,2,     0.00,2,     2.44,2, -999.000,9, -999.000,9,   2318.6,2,   2414.4,2,   7.5826,2,    25.00,  -999.00,9,  -999.00,9,   1.5501,2,     1523
  49UP20100706,   P09,    44,  1,      1,     74,2,20100717,1521, 17.0045, 136.9595, 4787,   4793.5,   1.5554,   1.5552,2,  34.6869,2,  34.6871,2,    160.5,2,   139.35,2,    35.35,2,     0.00,2,     2.45,2, -999.000,9, -999.000,9,   2320.3,2,   2414.4,2,   7.5847,2,    25.00,  -999.00,9,  -999.00,9,   1.5552,2,     1521