BOTTLE,20200625PRINUNIVRMK
EXPOCODE,SECT_ID,STNNBR,CASTNO,SAMPNO,BTLNBR,BTLNBR_FLAG_W,DATE,TIME,LATITUDE,LONGITUDE,DEPTH,CTDPRS,CTDTMP,SBE35,SBE35_FLAG_W,CTDSAL,CTDSAL_FLAG_W,SALNTY,SALNTY_FLAG_W,OXYGEN,OXYGEN_FLAG_W,SILCAT,SILCAT_FLAG_W,NITRAT,NITRAT_FLAG_W,NITRIT,NITRIT_FLAG_W,PHSPHT,PHSPHT_FLAG_W,CFC-11,CFC-11_FLAG_W,CFC-12,CFC-12_FLAG_W,TCARBN,TCARBN_FLAG_W,ALKALI,ALKALI_FLAG_W,PH_TOT,PH_TOT_FLAG_W,PH_TMP,CHLORA,CHLORA_FLAG_W,PPHYTN,PPHYTN_FLAG_W,SBE35,SBE35_FLAG_W,BTL_TIME
,,,,,,,,,,,METERS,DBAR,ITS-90,,,PSS-78,,PSS-78,,UMOL/KG,,UMOL/KG,,UMOL/KG,,UMOL/KG,,UMOL/KG,,PMOL/KG,,PMOL/KG,,UMOL/KG,,UMOL/KG,,,,DEG C,UG/KG,,UG/KG,,,,
  49UP20100706,   P09,    39,  1,      0,     -9,0,20100716,0550, 19.4898, 136.9880, 3956,      0.0,  29.8414,-999.0000,9,  34.8819,2,-999.0000,9,    194.0,2,     1.00,2,     0.00,2,     0.00,2,     0.01,2, -999.000,9, -999.000,9,   -999.0,9,   -999.0,9,-999.0000,9,  -999.00,  -999.00,9,  -999.00,9,-999.0000,9,      713
  49UP20100706,   P09,    39,  1,     36,    109,2,20100716,0550, 19.4898, 136.9880, 3956,     10.1,  29.8388,  29.8398,2,  34.8820,2,  34.8808,2,    196.0,2,     0.97,2,     0.01,2,     0.00,2,     0.00,2, -999.000,9, -999.000,9,   -999.0,9,   -999.0,9,-999.0000,9,  -999.00,  -999.00,9,  -999.00,9,  29.8398,2,      736
  49UP20100706,   P09,    39,  1,     35,    108,2,20100716,0550, 19.4898, 136.9880, 3956,     26.6,  29.8297,  29.8283,2,  34.8798,2,  34.8801,2,    198.4,2,     0.97,2,     0.00,2,     0.00,2,     0.00,2, -999.000,9, -999.000,9,   -999.0,9,   -999.0,9,-999.0000,9,  -999.00,  -999.00,9,  -999.00,9,  29.8283,2,      735
  49UP20100706,   P09,    39,  1,     34,    107,2,20100716,0550, 19.4898, 136.9880, 3956,     51.6,  26.6308,  26.6558,2,  34.8720,2,  34.8769,2,    212.9,2,     1.05,2,     0.00,2,     0.00,2,     0.01,2, -999.000,9, -999.000,9,   -999.0,9,   -999.0,9,-999.0000,9,  -999.00,  -999.00,9,  -999.00,9,  26.6558,2,      731
  49UP20100706,   P09,    39,  1,     33,    106,2,20100716,0550, 19.4898, 136.9880, 3956,     77.1,  24.7450,  24.8134,2,  34.9526,2,  34.9779,4,    208.2,2,     1.16,2,     0.01,2,     0.00,2,     0.01,2, -999.000,9, -999.000,9,   -999.0,9,   -999.0,9,-999.0000,9,  -999.00,  -999.00,9,  -999.00,9,  24.8134,2,      730
  49UP20100706,   P09,    39,  1,     32,    105,2,20100716,0550, 19.4898, 136.9880, 3956,    101.7,  23.1902,  23.1889,2,  34.9033,2,  34.9034,6,    200.4,6,     1.46,6,     0.10,6,     0.03,6,     0.02,6, -999.000,9, -999.000,9,   -999.0,9,   -999.0,9,-999.0000,9,  -999.00,  -999.00,9,  -999.00,9,  23.1889,2,      728
  49UP20100706,   P09,    39,  1,     31,    104,2,20100716,0550, 19.4898, 136.9880, 3956,    126.2,  22.1224,  22.0975,2,  34.8582,2,  34.8602,6,    200.2,6,     1.75,6,     0.49,6,     0.07,6,     0.05,6, -999.000,9, -999.000,9,   -999.0,9,   -999.0,9,-999.0000,9,  -999.00,  -999.00,9,  -999.00,9,  22.0975,2,      727
  49UP20100706,   P09,    39,  1,     30,    103,2,20100716,0550, 19.4898, 136.9880, 3956,    151.3,  20.8969,  20.8970,2,  34.8434,2,  34.8437,6,    193.2,6,     2.20,6,     1.47,6,     0.02,6,     0.11,6, -999.000,9, -999.000,9,   -999.0,9,   -999.0,9,-999.0000,9,  -999.00,  -999.00,9,  -999.00,9,  20.8970,2,      726
  49UP20100706,   P09,    39,  1,     29,    102,2,20100716,0550, 19.4898, 136.9880, 3956,    201.3,  18.9642,  18.9623,2,  34.7409,2,  34.7409,6,    203.0,6,     2.63,6,     2.38,6,     0.01,6,     0.16,6, -999.000,9, -999.000,9,   -999.0,9,   -999.0,9,-999.0000,9,  -999.00,  -999.00,9,  -999.00,9,  18.9623,2,      724
  49UP20100706,   P09,    39,  1,     28,    101,2,20100716,0550, 19.4898, 136.9880, 3956,    255.3,  17.4507,  17.4468,2,  34.7408,2,  34.7420,2,    193.4,2,     4.46,2,     5.39,2,     0.01,2,     0.36,2, -999.000,9, -999.000,9,   -999.0,9,   -999.0,9,-999.0000,9,  -999.00,  -999.00,9,  -999.00,9,  17.4468,2,      722
  49UP20100706,   P09,    39,  1,     27,    100,2,20100716,0550, 19.4898, 136.9880, 3956,    303.7,  16.0937,  16.0887,2,  34.6467,2,  34.6471,2,    189.7,2,     6.58,2,     7.64,2,     0.01,2,     0.53,2, -999.000,9, -999.000,9,   -999.0,9,   -999.0,9,-999.0000,9,  -999.00,  -999.00,9,  -999.00,9,  16.0887,2,      720
  49UP20100706,   P09,    39,  1,     26,     99,2,20100716,0550, 19.4898, 136.9880, 3956,    353.1,  14.6310,  14.6216,2,  34.5503,2,  34.5505,2,    188.4,2,    10.37,2,    10.20,2,     0.00,2,     0.70,2, -999.000,9, -999.000,9,   -999.0,9,   -999.0,9,-999.0000,9,  -999.00,  -999.00,9,  -999.00,9,  14.6216,2,      719
  49UP20100706,   P09,    39,  1,     25,     98,3,20100716,0550, 19.4898, 136.9880, 3956,    404.1,  12.9312,  12.9302,2,  34.4297,2,  34.5078,4,    185.7,2,    13.37,2,    11.37,2,     0.01,2,     0.79,2, -999.000,9, -999.000,9,   -999.0,9,   -999.0,9,-999.0000,9,  -999.00,  -999.00,9,  -999.00,9,  12.9302,2,      717
  49UP20100706,   P09,    39,  1,     24,     97,2,20100716,0550, 19.4898, 136.9880, 3956,    454.6,  11.3480,  11.3474,2,  34.3174,2,  34.3180,2,    174.1,2,    22.19,2,    16.91,2,     0.00,2,     1.19,2, -999.000,9, -999.000,9,   -999.0,9,   -999.0,9,-999.0000,9,  -999.00,  -999.00,9,  -999.00,9,  11.3474,2,      715
  49UP20100706,   P09,    39,  1,     23,     96,2,20100716,0550, 19.4898, 136.9880, 3956,    506.3,   9.1150,   9.1253,2,  34.1827,2,  34.1843,2,    151.6,2,    33.97,2,    22.75,2,     0.00,2,     1.63,2, -999.000,9, -999.000,9,   -999.0,9,   -999.0,9,-999.0000,9,  -999.00,  -999.00,9,  -999.00,9,   9.1253,2,      713
  49UP20100706,   P09,    39,  1,     22,     95,2,20100716,0550, 19.4898, 136.9880, 3956,    607.1,   6.7244,   6.7253,2,  34.1411,2,  34.1366,2,    112.1,2,    59.03,2,    30.59,2,     0.00,2,     2.21,2, -999.000,9, -999.000,9,   -999.0,9,   -999.0,9,-999.0000,9,  -999.00,  -999.00,9,  -999.00,9,   6.7253,2,      710
  49UP20100706,   P09,    39,  1,     21,     94,2,20100716,0550, 19.4898, 136.9880, 3956,    708.1,   5.3971,   5.3939,2,  34.2348,2,  34.2336,2,     64.3,2,    81.78,2,    37.50,2,     0.00,2,     2.72,2, -999.000,9, -999.000,9,   -999.0,9,   -999.0,9,-999.0000,9,  -999.00,  -999.00,9,  -999.00,9,   5.3939,2,      707
  49UP20100706,   P09,    39,  1,     20,     93,2,20100716,0550, 19.4898, 136.9880, 3956,    806.9,   4.5226,   4.5220,2,  34.3316,2,  34.3309,2,     57.6,2,    99.92,2,    39.45,2,     0.00,2,     2.84,2, -999.000,9, -999.000,9,   -999.0,9,   -999.0,9,-999.0000,9,  -999.00,  -999.00,9,  -999.00,9,   4.5220,2,      704
  49UP20100706,   P09,    39,  1,     19,     92,2,20100716,0550, 19.4898, 136.9880, 3956,    909.5,   3.9992,   3.9995,2,  34.3976,2,  34.3969,2,     58.8,2,   111.11,2,    40.09,2,     0.00,2,     2.88,2, -999.000,9, -999.000,9,   -999.0,9,   -999.0,9,-999.0000,9,  -999.00,  -999.00,9,  -999.00,9,   3.9995,2,      701
  49UP20100706,   P09,    39,  1,     18,     91,2,20100716,0550, 19.4898, 136.9880, 3956,   1009.9,   3.5879,   3.5879,2,  34.4495,2,  34.4489,2,     63.0,2,   119.97,2,    40.24,2,     0.00,2,     2.88,2, -999.000,9, -999.000,9,   -999.0,9,   -999.0,9,-999.0000,9,  -999.00,  -999.00,9,  -999.00,9,   3.5879,2,      658
  49UP20100706,   P09,    39,  1,     17,     90,2,20100716,0550, 19.4898, 136.9880, 3956,   1263.3,   2.9083,   2.9084,2,  34.5348,2,  34.5342,2,     82.2,2,   131.83,2,    39.43,2,     0.00,2,     2.81,2, -999.000,9, -999.000,9,   -999.0,9,   -999.0,9,-999.0000,9,  -999.00,  -999.00,9,  -999.00,9,   2.9084,2,      652
  49UP20100706,   P09,    39,  1,     16,     89,2,20100716,0550, 19.4898, 136.9880, 3956,   1516.4,   2.5351,   2.5346,2,  34.5831,2,  34.5823,2,     98.0,2,   136.15,2,    38.78,2,     0.00,2,     2.75,2, -999.000,9, -999.000,9,   -999.0,9,   -999.0,9,-999.0000,9,  -999.00,  -999.00,9,  -999.00,9,   2.5346,2,      646
  49UP20100706,   P09,    39,  1,     15,     88,2,20100716,0550, 19.4898, 136.9880, 3956,   1770.8,   2.2658,   2.2659,2,  34.6071,2,  34.6069,2,    106.0,2,   139.50,2,    38.51,2,     0.00,2,     2.72,2, -999.000,9, -999.000,9,   -999.0,9,   -999.0,9,-999.0000,9,  -999.00,  -999.00,9,  -999.00,9,   2.2659,2,      640
  49UP20100706,   P09,    39,  1,     14,     87,2,20100716,0550, 19.4898, 136.9880, 3956,   2023.1,   1.9882,   1.9883,2,  34.6293,2,  34.6293,2,    115.8,2,   143.12,2,    38.10,2,     0.00,2,     2.68,2, -999.000,9, -999.000,9,   -999.0,9,   -999.0,9,-999.0000,9,  -999.00,  -999.00,9,  -999.00,9,   1.9883,2,      634
  49UP20100706,   P09,    39,  1,     13,     86,2,20100716,0550, 19.4898, 136.9880, 3956,   2277.4,   1.8502,   1.8504,2,  34.6419,2,  34.6416,2,    122.5,2,   144.46,2,    37.67,2,     0.00,2,     2.65,2, -999.000,9, -999.000,9,   -999.0,9,   -999.0,9,-999.0000,9,  -999.00,  -999.00,9,  -999.00,9,   1.8504,2,      628
  49UP20100706,   P09,    39,  1,     12,     85,2,20100716,0550, 19.4898, 136.9880, 3956,   2531.7,   1.7600,   1.7604,2,  34.6515,2,  34.6511,2,    128.5,2,   144.80,2,    37.39,2,     0.00,2,     2.62,2, -999.000,9, -999.000,9,   -999.0,9,   -999.0,9,-999.0000,9,  -999.00,  -999.00,9,  -999.00,9,   1.7604,2,      622
  49UP20100706,   P09,    39,  1,     11,    110,2,20100716,0550, 19.4898, 136.9880, 3956,   2785.4,   1.6796,   1.6794,2,  34.6600,2,  34.6599,2,    134.8,2,   144.52,2,    37.04,2,     0.00,2,     2.58,2, -999.000,9, -999.000,9,   -999.0,9,   -999.0,9,-999.0000,9,  -999.00,  -999.00,9,  -999.00,9,   1.6794,2,      617
  49UP20100706,   P09,    39,  1,     10,     83,2,20100716,0550, 19.4898, 136.9880, 3956,   2785.4,   1.6796,   1.6794,2,  34.6600,2,  34.6600,2,    135.2,2,   144.51,2,    37.02,2,     0.00,2,     2.59,2, -999.000,9, -999.000,9,   -999.0,9,   -999.0,9,-999.0000,9,  -999.00,  -999.00,9,  -999.00,9,   1.6794,2,      617
  49UP20100706,   P09,    39,  1,      9,     82,2,20100716,0550, 19.4898, 136.9880, 3956,   3042.2,   1.6287,   1.6286,2,  34.6661,2,  34.6662,2,    140.0,2,   144.03,2,    36.66,2,     0.00,2,     2.56,2, -999.000,9, -999.000,9,   -999.0,9,   -999.0,9,-999.0000,9,  -999.00,  -999.00,9,  -999.00,9,   1.6286,2,      611
  49UP20100706,   P09,    39,  1,      8,     81,2,20100716,0550, 19.4898, 136.9880, 3956,   3296.9,   1.5816,   1.5812,2,  34.6721,2,  34.6718,2,    145.0,2,   143.26,2,    36.36,2,     0.00,2,     2.54,2, -999.000,9, -999.000,9,   -999.0,9,   -999.0,9,-999.0000,9,  -999.00,  -999.00,9,  -999.00,9,   1.5812,2,      606
  49UP20100706,   P09,    39,  1,      7,     80,2,20100716,0550, 19.4898, 136.9880, 3956,   3551.3,   1.5297,   1.5300,2,  34.6783,2,  34.6783,2,    150.8,2,   142.43,2,    36.04,2,     0.00,2,     2.50,2, -999.000,9, -999.000,9,   -999.0,9,   -999.0,9,-999.0000,9,  -999.00,  -999.00,9,  -999.00,9,   1.5300,2,      600
  49UP20100706,   P09,    39,  1,      6,     79,2,20100716,0550, 19.4898, 136.9880, 3956,   3803.7,   1.5105,   1.5101,2,  34.6816,2,  34.6820,2,    154.8,2,   141.47,2,    35.76,2,     0.00,2,     2.48,2, -999.000,9, -999.000,9,   -999.0,9,   -999.0,9,-999.0000,9,  -999.00,  -999.00,9,  -999.00,9,   1.5101,2,      555
  49UP20100706,   P09,    39,  1,      5,     78,2,20100716,0550, 19.4898, 136.9880, 3956,   3803.7,   1.5105,   1.5101,2,  34.6816,2,  34.6818,2,    154.5,2,   141.39,2,    35.78,2,     0.00,2,     2.49,2, -999.000,9, -999.000,9,   -999.0,9,   -999.0,9,-999.0000,9,  -999.00,  -999.00,9,  -999.00,9,   1.5101,2,      555
  49UP20100706,   P09,    39,  1,      1,     74,2,20100716,0550, 19.4898, 136.9880, 3956,   3949.9,   1.4857,   1.4852,2,  34.6846,2,  34.6848,2,    158.5,2,   140.32,2,    35.52,2,     0.00,2,     2.47,2, -999.000,9, -999.000,9,   -999.0,9,   -999.0,9,-999.0000,9,  -999.00,  -999.00,9,  -999.00,9,   1.4852,2,      550