BOTTLE,20200625PRINUNIVRMK
EXPOCODE,SECT_ID,STNNBR,CASTNO,SAMPNO,BTLNBR,BTLNBR_FLAG_W,DATE,TIME,LATITUDE,LONGITUDE,DEPTH,CTDPRS,CTDTMP,SBE35,SBE35_FLAG_W,CTDSAL,CTDSAL_FLAG_W,SALNTY,SALNTY_FLAG_W,OXYGEN,OXYGEN_FLAG_W,SILCAT,SILCAT_FLAG_W,NITRAT,NITRAT_FLAG_W,NITRIT,NITRIT_FLAG_W,PHSPHT,PHSPHT_FLAG_W,CFC-11,CFC-11_FLAG_W,CFC-12,CFC-12_FLAG_W,TCARBN,TCARBN_FLAG_W,ALKALI,ALKALI_FLAG_W,PH_TOT,PH_TOT_FLAG_W,PH_TMP,CHLORA,CHLORA_FLAG_W,PPHYTN,PPHYTN_FLAG_W,SBE35,SBE35_FLAG_W,BTL_TIME
,,,,,,,,,,,METERS,DBAR,ITS-90,,,PSS-78,,PSS-78,,UMOL/KG,,UMOL/KG,,UMOL/KG,,UMOL/KG,,UMOL/KG,,PMOL/KG,,PMOL/KG,,UMOL/KG,,UMOL/KG,,,,DEG C,UG/KG,,UG/KG,,,,
  49UP20100706,   P09,    57,  1,      0,     -9,0,20100721,0616, 10.4975, 136.9768, 5072,      0.0,  29.9320,-999.0000,9,  34.0635,2,-999.0000,9,    192.7,2,     0.77,2,     0.00,2,     0.00,2,     0.04,2, -999.000,9, -999.000,9,   -999.0,9,   -999.0,9,-999.0000,9,  -999.00,  -999.00,9,  -999.00,9,-999.0000,9,      810
  49UP20100706,   P09,    57,  1,     36,    109,2,20100721,0616, 10.4975, 136.9768, 5072,     11.1,  29.8987,  29.8980,2,  34.1090,2,  34.1071,2,    193.8,2,     0.70,2,     0.00,2,     0.00,2,     0.04,2, -999.000,9, -999.000,9,   -999.0,9,   -999.0,9,-999.0000,9,  -999.00,  -999.00,9,  -999.00,9,  29.8980,2,      837
  49UP20100706,   P09,    57,  1,     35,    108,2,20100721,0616, 10.4975, 136.9768, 5072,     25.7,  29.8550,  29.8575,2,  34.2971,2,  34.2930,2,    194.3,2,     0.69,2,     0.00,2,     0.00,2,     0.04,2, -999.000,9, -999.000,9,   -999.0,9,   -999.0,9,-999.0000,9,  -999.00,  -999.00,9,  -999.00,9,  29.8575,2,      826
  49UP20100706,   P09,    57,  1,     34,    107,2,20100721,0616, 10.4975, 136.9768, 5072,     50.6,  29.0291,  29.0178,2,  34.6331,2,  34.6311,2,    201.8,2,     0.73,2,     0.00,2,     0.00,2,     0.05,2, -999.000,9, -999.000,9,   -999.0,9,   -999.0,9,-999.0000,9,  -999.00,  -999.00,9,  -999.00,9,  29.0178,2,      824
  49UP20100706,   P09,    57,  1,     33,    106,2,20100721,0616, 10.4975, 136.9768, 5072,     74.7,  28.2093,  28.2017,2,  34.7258,2,  34.7259,2,    202.1,2,     0.75,2,     0.00,2,     0.00,2,     0.06,2, -999.000,9, -999.000,9,   -999.0,9,   -999.0,9,-999.0000,9,  -999.00,  -999.00,9,  -999.00,9,  28.2017,2,      822
  49UP20100706,   P09,    57,  1,     32,    105,2,20100721,0616, 10.4975, 136.9768, 5072,    100.4,  26.8334,  26.8418,2,  34.9653,2,  34.9481,4,    197.7,2,     0.86,2,     0.00,2,     0.00,2,     0.09,2, -999.000,9, -999.000,9,   -999.0,9,   -999.0,9,-999.0000,9,  -999.00,  -999.00,9,  -999.00,9,  26.8418,2,      821
  49UP20100706,   P09,    57,  1,     31,    104,2,20100721,0616, 10.4975, 136.9768, 5072,    126.1,  24.2121,  24.2515,2,  35.0585,2,  35.0555,2,    184.3,2,     1.31,2,     0.57,2,     0.11,2,     0.17,2, -999.000,9, -999.000,9,   -999.0,9,   -999.0,9,-999.0000,9,  -999.00,  -999.00,9,  -999.00,9,  24.2515,2,      819
  49UP20100706,   P09,    57,  1,     30,    103,2,20100721,0616, 10.4975, 136.9768, 5072,    151.0,  22.4329,  22.4323,2,  35.0448,2,  35.0363,4,    173.5,2,     1.85,2,     2.03,2,     0.02,2,     0.27,2, -999.000,9, -999.000,9,   -999.0,9,   -999.0,9,-999.0000,9,  -999.00,  -999.00,9,  -999.00,9,  22.4323,2,      818
  49UP20100706,   P09,    57,  1,     29,    102,2,20100721,0616, 10.4975, 136.9768, 5072,    201.4,  16.0134,  16.0279,2,  34.6017,2,  34.6125,4,    147.7,2,    10.31,2,    11.86,2,     0.01,2,     0.92,2, -999.000,9, -999.000,9,   -999.0,9,   -999.0,9,-999.0000,9,  -999.00,  -999.00,9,  -999.00,9,  16.0279,2,      816
  49UP20100706,   P09,    57,  1,     28,    101,2,20100721,0616, 10.4975, 136.9768, 5072,    251.5,  12.2418,  12.2093,2,  34.5010,2,  34.5038,2,    104.1,2,    23.64,2,    22.59,2,     0.00,2,     1.65,2, -999.000,9, -999.000,9,   -999.0,9,   -999.0,9,-999.0000,9,  -999.00,  -999.00,9,  -999.00,9,  12.2093,2,      815
  49UP20100706,   P09,    57,  1,     27,    100,2,20100721,0616, 10.4975, 136.9768, 5072,    303.1,  10.3138,  10.3133,2,  34.4796,2,  34.4794,2,     91.7,2,    32.09,2,    27.22,2,     0.00,2,     1.96,2, -999.000,9, -999.000,9,   -999.0,9,   -999.0,9,-999.0000,9,  -999.00,  -999.00,9,  -999.00,9,  10.3133,2,      813
  49UP20100706,   P09,    57,  1,     26,     99,2,20100721,0616, 10.4975, 136.9768, 5072,    354.0,   9.5011,   9.5032,2,  34.5111,2,  34.5102,2,     77.4,2,    36.40,2,    30.21,2,     0.00,2,     2.17,2, -999.000,9, -999.000,9,   -999.0,9,   -999.0,9,-999.0000,9,  -999.00,  -999.00,9,  -999.00,9,   9.5032,2,      811
  49UP20100706,   P09,    57,  1,     25,     98,2,20100721,0616, 10.4975, 136.9768, 5072,    404.4,   8.6929,   8.6926,2,  34.5343,2,  34.5296,6,     81.7,6,    40.10,6,    31.57,6,     0.00,6,     2.25,6, -999.000,9, -999.000,9,   -999.0,9,   -999.0,9,-999.0000,9,  -999.00,  -999.00,9,  -999.00,9,   8.6926,2,      809
  49UP20100706,   P09,    57,  1,     24,     97,2,20100721,0616, 10.4975, 136.9768, 5072,    454.6,   8.1583,   8.1600,2,  34.5318,2,  34.5305,6,     81.8,6,    43.09,6,    32.63,6,     0.00,6,     2.32,6, -999.000,9, -999.000,9,   -999.0,9,   -999.0,9,-999.0000,9,  -999.00,  -999.00,9,  -999.00,9,   8.1600,2,      807
  49UP20100706,   P09,    57,  1,     23,     96,2,20100721,0616, 10.4975, 136.9768, 5072,    505.7,   7.5547,   7.5857,2,  34.5172,2,  34.5195,6,     89.7,6,    46.26,6,    32.91,6,     0.00,6,     2.34,6, -999.000,9, -999.000,9,   -999.0,9,   -999.0,9,-999.0000,9,  -999.00,  -999.00,9,  -999.00,9,   7.5857,2,      805
  49UP20100706,   P09,    57,  1,     22,     95,2,20100721,0616, 10.4975, 136.9768, 5072,    604.8,   6.7340,   6.7340,2,  34.4797,2,  34.4775,6,     81.5,6,    57.82,6,    34.96,6,     0.00,6,     2.51,6, -999.000,9, -999.000,9,   -999.0,9,   -999.0,9,-999.0000,9,  -999.00,  -999.00,9,  -999.00,9,   6.7340,2,      802
  49UP20100706,   P09,    57,  1,     21,     94,2,20100721,0616, 10.4975, 136.9768, 5072,    705.5,   6.0858,   6.0856,2,  34.5085,2,  34.5078,2,     77.1,2,    65.69,2,    36.74,2,     0.00,2,     2.63,2, -999.000,9, -999.000,9,   -999.0,9,   -999.0,9,-999.0000,9,  -999.00,  -999.00,9,  -999.00,9,   6.0856,2,      800
  49UP20100706,   P09,    57,  1,     20,     93,2,20100721,0616, 10.4975, 136.9768, 5072,    807.3,   5.5228,   5.5229,2,  34.5183,2,  34.5180,2,     74.3,2,    74.86,2,    37.90,2,     0.00,2,     2.72,2, -999.000,9, -999.000,9,   -999.0,9,   -999.0,9,-999.0000,9,  -999.00,  -999.00,9,  -999.00,9,   5.5229,2,      757
  49UP20100706,   P09,    57,  1,     19,     92,2,20100721,0616, 10.4975, 136.9768, 5072,    907.1,   4.8926,   4.8920,2,  34.5335,2,  34.5336,2,     75.7,2,    86.11,2,    38.70,2,     0.00,2,     2.78,2, -999.000,9, -999.000,9,   -999.0,9,   -999.0,9,-999.0000,9,  -999.00,  -999.00,9,  -999.00,9,   4.8920,2,      754
  49UP20100706,   P09,    57,  1,     18,     91,2,20100721,0616, 10.4975, 136.9768, 5072,   1008.1,   4.5443,   4.5441,2,  34.5479,2,  34.5478,2,     86.6,2,    91.53,3,    38.14,3,     0.00,3,     2.73,3, -999.000,9, -999.000,9,   -999.0,9,   -999.0,9,-999.0000,9,  -999.00,  -999.00,9,  -999.00,9,   4.5441,2,      751
  49UP20100706,   P09,    57,  1,     17,     90,2,20100721,0616, 10.4975, 136.9768, 5072,   1261.8,   3.6400,   3.6400,2,  34.5734,2,  34.5731,2,     92.0,2,   109.18,2,    38.69,2,     0.00,2,     2.76,2, -999.000,9, -999.000,9,   -999.0,9,   -999.0,9,-999.0000,9,  -999.00,  -999.00,9,  -999.00,9,   3.6400,2,      746
  49UP20100706,   P09,    57,  1,     16,     89,2,20100721,0616, 10.4975, 136.9768, 5072,   1515.1,   3.0050,   3.0049,2,  34.5956,2,  34.5956,2,     99.2,2,   121.72,2,    38.69,2,     0.00,2,     2.75,2, -999.000,9, -999.000,9,   -999.0,9,   -999.0,9,-999.0000,9,  -999.00,  -999.00,9,  -999.00,9,   3.0049,2,      740
  49UP20100706,   P09,    57,  1,     15,     88,2,20100721,0616, 10.4975, 136.9768, 5072,   1768.1,   2.5824,   2.5830,2,  34.6143,2,  34.6146,2,    106.0,2,   130.06,2,    38.50,2,     0.00,2,     2.72,2, -999.000,9, -999.000,9,   -999.0,9,   -999.0,9,-999.0000,9,  -999.00,  -999.00,9,  -999.00,9,   2.5830,2,      734
  49UP20100706,   P09,    57,  1,     14,     87,2,20100721,0616, 10.4975, 136.9768, 5072,   2022.5,   2.2404,   2.2401,2,  34.6308,2,  34.6303,2,    113.5,2,   136.66,2,    38.17,2,     0.00,2,     2.69,2, -999.000,9, -999.000,9,   -999.0,9,   -999.0,9,-999.0000,9,  -999.00,  -999.00,9,  -999.00,9,   2.2401,2,      728
  49UP20100706,   P09,    57,  1,     13,     86,2,20100721,0616, 10.4975, 136.9768, 5072,   2275.9,   1.9967,   1.9966,2,  34.6444,2,  34.6448,2,    121.5,2,   140.25,2,    37.69,2,     0.00,2,     2.65,2, -999.000,9, -999.000,9,   -999.0,9,   -999.0,9,-999.0000,9,  -999.00,  -999.00,9,  -999.00,9,   1.9966,2,      722
  49UP20100706,   P09,    57,  1,     12,     85,4,20100721,0616, 10.4975, 136.9768, 5072,   2530.7,   1.8495,   1.8496,2,  34.6538,2,-999.0000,9,   -999.0,9,  -999.00,9,     0.00,9,  -999.00,9,  -999.00,9, -999.000,9, -999.000,9,   -999.0,9,   -999.0,9,-999.0000,9,  -999.00,  -999.00,9,  -999.00,9,   1.8496,2,      717
  49UP20100706,   P09,    57,  1,     11,    110,2,20100721,0616, 10.4975, 136.9768, 5072,   2784.5,   1.6887,   1.6889,2,  34.6639,2,  34.6636,2,    136.3,2,   143.20,2,    36.91,2,     0.00,2,     2.58,2, -999.000,9, -999.000,9,   -999.0,9,   -999.0,9,-999.0000,9,  -999.00,  -999.00,9,  -999.00,9,   1.6889,2,      711
  49UP20100706,   P09,    57,  1,     10,     83,2,20100721,0616, 10.4975, 136.9768, 5072,   3040.1,   1.6311,   1.6311,2,  34.6688,2,  34.6687,2,    140.9,2,   143.19,2,    36.64,2,     0.00,2,     2.56,2, -999.000,9, -999.000,9,   -999.0,9,   -999.0,9,-999.0000,9,  -999.00,  -999.00,9,  -999.00,9,   1.6311,2,      705
  49UP20100706,   P09,    57,  1,      9,     82,2,20100721,0616, 10.4975, 136.9768, 5072,   3295.4,   1.5837,   1.5840,2,  34.6736,2,  34.6736,2,    145.6,2,   142.26,2,    36.32,2,     0.00,2,     2.53,2, -999.000,9, -999.000,9,   -999.0,9,   -999.0,9,-999.0000,9,  -999.00,  -999.00,9,  -999.00,9,   1.5840,2,      659
  49UP20100706,   P09,    57,  1,      8,     81,3,20100721,0616, 10.4975, 136.9768, 5072,   3551.7,   1.5545,   1.5546,2,  34.6773,2,  34.6772,3,    149.7,2,   141.58,2,    36.04,2,     0.00,2,     2.51,2, -999.000,9, -999.000,9,   -999.0,9,   -999.0,9,-999.0000,9,  -999.00,  -999.00,9,  -999.00,9,   1.5546,2,      653
  49UP20100706,   P09,    57,  1,      7,     80,2,20100721,0616, 10.4975, 136.9768, 5072,   3806.9,   1.5368,   1.5367,2,  34.6806,2,  34.6808,2,    153.2,2,   140.85,2,    35.83,2,     0.00,2,     2.49,2, -999.000,9, -999.000,9,   -999.0,9,   -999.0,9,-999.0000,9,  -999.00,  -999.00,9,  -999.00,9,   1.5367,2,      648
  49UP20100706,   P09,    57,  1,      6,     79,2,20100721,0616, 10.4975, 136.9768, 5072,   4062.7,   1.5376,   1.5379,2,  34.6828,2,  34.6825,2,    155.5,2,   139.99,2,    35.67,2,     0.00,2,     2.48,2, -999.000,9, -999.000,9,   -999.0,9,   -999.0,9,-999.0000,9,  -999.00,  -999.00,9,  -999.00,9,   1.5379,2,      642
  49UP20100706,   P09,    57,  1,      5,     78,2,20100721,0616, 10.4975, 136.9768, 5072,   4319.5,   1.5389,   1.5387,2,  34.6845,2,  34.6846,2,    158.4,2,   139.45,2,    35.53,2,     0.00,2,     2.47,2, -999.000,9, -999.000,9,   -999.0,9,   -999.0,9,-999.0000,9,  -999.00,  -999.00,9,  -999.00,9,   1.5387,2,      636
  49UP20100706,   P09,    57,  1,      4,     77,2,20100721,0616, 10.4975, 136.9768, 5072,   4319.5,   1.5389,   1.5387,2,  34.6845,2,  34.6847,2,    158.3,2,   139.32,2,    35.50,2,     0.00,2,     2.47,2, -999.000,9, -999.000,9,   -999.0,9,   -999.0,9,-999.0000,9,  -999.00,  -999.00,9,  -999.00,9,   1.5387,2,      636
  49UP20100706,   P09,    57,  1,      3,     76,2,20100721,0616, 10.4975, 136.9768, 5072,   4575.3,   1.5522,   1.5522,2,  34.6858,2,  34.6857,2,    159.7,2,   138.86,2,    35.37,2,     0.00,2,     2.46,2, -999.000,9, -999.000,9,   -999.0,9,   -999.0,9,-999.0000,9,  -999.00,  -999.00,9,  -999.00,9,   1.5522,2,      630
  49UP20100706,   P09,    57,  1,      2,     75,2,20100721,0616, 10.4975, 136.9768, 5072,   4832.7,   1.5701,   1.5701,2,  34.6868,2,  34.6867,2,    161.0,2,   138.46,2,    35.34,2,     0.00,2,     2.45,2, -999.000,9, -999.000,9,   -999.0,9,   -999.0,9,-999.0000,9,  -999.00,  -999.00,9,  -999.00,9,   1.5701,2,      624
  49UP20100706,   P09,    57,  1,      1,     74,2,20100721,0616, 10.4975, 136.9768, 5072,   5178.9,   1.5984,   1.5982,2,  34.6876,2,  34.6876,2,    162.2,2,   137.91,2,    35.23,2,     0.00,2,     2.44,2, -999.000,9, -999.000,9,   -999.0,9,   -999.0,9,-999.0000,9,  -999.00,  -999.00,9,  -999.00,9,   1.5982,2,      616