BOTTLE,20200625PRINUNIVRMK
EXPOCODE,SECT_ID,STNNBR,CASTNO,SAMPNO,BTLNBR,BTLNBR_FLAG_W,DATE,TIME,LATITUDE,LONGITUDE,DEPTH,CTDPRS,CTDTMP,SBE35,SBE35_FLAG_W,CTDSAL,CTDSAL_FLAG_W,SALNTY,SALNTY_FLAG_W,OXYGEN,OXYGEN_FLAG_W,SILCAT,SILCAT_FLAG_W,NITRAT,NITRAT_FLAG_W,NITRIT,NITRIT_FLAG_W,PHSPHT,PHSPHT_FLAG_W,CFC-11,CFC-11_FLAG_W,CFC-12,CFC-12_FLAG_W,TCARBN,TCARBN_FLAG_W,ALKALI,ALKALI_FLAG_W,PH_TOT,PH_TOT_FLAG_W,PH_TMP,CHLORA,CHLORA_FLAG_W,PPHYTN,PPHYTN_FLAG_W,SBE35,SBE35_FLAG_W,BTL_TIME
,,,,,,,,,,,METERS,DBAR,ITS-90,,,PSS-78,,PSS-78,,UMOL/KG,,UMOL/KG,,UMOL/KG,,UMOL/KG,,UMOL/KG,,PMOL/KG,,PMOL/KG,,UMOL/KG,,UMOL/KG,,,,DEG C,UG/KG,,UG/KG,,,,
  49UP20100706,   P09,    64,  1,      0,     -9,0,20100722,2114,  7.6675, 136.8273, 3074,      0.0,  30.0624,-999.0000,9,  33.9345,2,-999.0000,9,    194.4,3,     1.21,2,     0.00,2,     0.00,2,     0.02,2, -999.000,9, -999.000,9,   -999.0,9,   -999.0,9,-999.0000,9,  -999.00,  -999.00,9,  -999.00,9,-999.0000,9,     2215
  49UP20100706,   P09,    64,  1,     36,    109,2,20100722,2114,  7.6675, 136.8273, 3074,     11.1,  30.0995,  30.1026,2,  33.9359,2,  33.9354,2,    196.5,3,     1.25,2,     0.00,2,     0.00,2,     0.01,2, -999.000,9, -999.000,9,   -999.0,9,   -999.0,9,-999.0000,9,  -999.00,  -999.00,9,  -999.00,9,  30.1026,2,     2239
  49UP20100706,   P09,    64,  1,     35,    108,2,20100722,2114,  7.6675, 136.8273, 3074,     26.3,  30.0832,  30.0831,2,  33.9581,2,  33.9600,2,    196.2,3,     1.16,2,     0.00,2,     0.00,2,     0.01,2, -999.000,9, -999.000,9,   -999.0,9,   -999.0,9,-999.0000,9,  -999.00,  -999.00,9,  -999.00,9,  30.0831,2,     2238
  49UP20100706,   P09,    64,  1,     34,    107,2,20100722,2114,  7.6675, 136.8273, 3074,     49.7,  29.7968,  29.7785,2,  34.4269,2,  34.4330,2,    201.9,3,     1.03,2,     0.00,2,     0.00,2,     0.04,2, -999.000,9, -999.000,9,   -999.0,9,   -999.0,9,-999.0000,9,  -999.00,  -999.00,9,  -999.00,9,  29.7785,2,     2235
  49UP20100706,   P09,    64,  1,     33,    106,2,20100722,2114,  7.6675, 136.8273, 3074,     74.3,  28.9174,  28.9125,2,  34.5571,2,  34.5602,2,    202.7,3,     1.01,2,     0.00,2,     0.00,2,     0.05,2, -999.000,9, -999.000,9,   -999.0,9,   -999.0,9,-999.0000,9,  -999.00,  -999.00,9,  -999.00,9,  28.9125,2,     2234
  49UP20100706,   P09,    64,  1,     32,    105,2,20100722,2114,  7.6675, 136.8273, 3074,    100.0,  27.3527,  27.3841,2,  34.6762,2,  34.6776,2,    197.9,3,     1.20,2,    -0.01,2,     0.01,2,     0.09,2, -999.000,9, -999.000,9,   -999.0,9,   -999.0,9,-999.0000,9,  -999.00,  -999.00,9,  -999.00,9,  27.3841,2,     2233
  49UP20100706,   P09,    64,  1,     31,    104,2,20100722,2114,  7.6675, 136.8273, 3074,    125.0,  23.7871,  23.5226,2,  34.8650,2,  34.8653,2,    172.5,3,     3.35,2,     2.84,2,     0.20,2,     0.36,2, -999.000,9, -999.000,9,   -999.0,9,   -999.0,9,-999.0000,9,  -999.00,  -999.00,9,  -999.00,9,  23.5226,2,     2231
  49UP20100706,   P09,    64,  1,     30,    103,2,20100722,2114,  7.6675, 136.8273, 3074,    125.0,  23.7871,  23.5226,2,  34.8650,2,  34.8652,2,    172.4,3,     3.13,2,     2.83,2,     0.20,2,     0.35,2, -999.000,9, -999.000,9,   -999.0,9,   -999.0,9,-999.0000,9,  -999.00,  -999.00,9,  -999.00,9,  23.5226,2,     2231
  49UP20100706,   P09,    64,  1,     29,    102,2,20100722,2114,  7.6675, 136.8273, 3074,    150.4,  18.3377,  18.4360,2,  34.7180,2,  34.7294,4,    144.9,3,     8.29,2,     9.86,2,     0.02,2,     0.79,2, -999.000,9, -999.000,9,   -999.0,9,   -999.0,9,-999.0000,9,  -999.00,  -999.00,9,  -999.00,9,  18.4360,2,     2230
  49UP20100706,   P09,    64,  1,     28,    101,2,20100722,2114,  7.6675, 136.8273, 3074,    201.0,  12.4324,  12.4379,2,  34.4357,2,  34.4370,2,    130.1,3,    20.24,2,    19.31,2,     0.00,2,     1.43,2, -999.000,9, -999.000,9,   -999.0,9,   -999.0,9,-999.0000,9,  -999.00,  -999.00,9,  -999.00,9,  12.4379,2,     2228
  49UP20100706,   P09,    64,  1,     27,    100,2,20100722,2114,  7.6675, 136.8273, 3074,    250.7,  10.2884,  10.2892,2,  34.4535,2,  34.4543,2,     90.0,3,    31.32,2,    27.26,2,     0.00,2,     1.99,2, -999.000,9, -999.000,9,   -999.0,9,   -999.0,9,-999.0000,9,  -999.00,  -999.00,9,  -999.00,9,  10.2892,2,     2225
  49UP20100706,   P09,    64,  1,     26,     99,2,20100722,2114,  7.6675, 136.8273, 3074,    250.7,  10.2884,  10.2892,2,  34.4535,2,  34.4564,2,     90.7,3,    31.26,2,    27.24,2,     0.00,2,     1.99,2, -999.000,9, -999.000,9,   -999.0,9,   -999.0,9,-999.0000,9,  -999.00,  -999.00,9,  -999.00,9,  10.2892,2,     2225
  49UP20100706,   P09,    64,  1,     25,     98,2,20100722,2114,  7.6675, 136.8273, 3074,    321.9,   9.1195,   9.1099,2,  34.5539,2,  34.5535,2,     64.0,3,    38.05,2,    32.41,2,     0.00,2,     2.32,2, -999.000,9, -999.000,9,   -999.0,9,   -999.0,9,-999.0000,9,  -999.00,  -999.00,9,  -999.00,9,   9.1099,2,     2223
  49UP20100706,   P09,    64,  1,     24,     97,2,20100722,2114,  7.6675, 136.8273, 3074,    371.3,   8.4810,   8.4802,2,  34.5489,2,  34.5480,2,     68.8,3,    41.46,2,    33.26,2,     0.00,2,     2.37,2, -999.000,9, -999.000,9,   -999.0,9,   -999.0,9,-999.0000,9,  -999.00,  -999.00,9,  -999.00,9,   8.4802,2,     2222
  49UP20100706,   P09,    64,  1,     23,     96,2,20100722,2114,  7.6675, 136.8273, 3074,    422.3,   7.9992,   7.9981,2,  34.5401,2,  34.5393,2,     74.9,3,    44.51,2,    33.70,2,     0.00,2,     2.40,2, -999.000,9, -999.000,9,   -999.0,9,   -999.0,9,-999.0000,9,  -999.00,  -999.00,9,  -999.00,9,   7.9981,2,     2220
  49UP20100706,   P09,    64,  1,     22,     95,2,20100722,2114,  7.6675, 136.8273, 3074,    472.8,   7.6699,   7.6711,2,  34.5362,2,  34.5359,6,     76.2,3,    46.90,6,    34.19,6,     0.00,6,     2.44,6, -999.000,9, -999.000,9,   -999.0,9,   -999.0,9,-999.0000,9,  -999.00,  -999.00,9,  -999.00,9,   7.6711,2,     2218
  49UP20100706,   P09,    64,  1,     21,     94,2,20100722,2114,  7.6675, 136.8273, 3074,    533.3,   7.2929,   7.2930,2,  34.5301,2,  34.5298,6,     79.3,3,    49.86,6,    34.54,6,     0.00,6,     2.47,6, -999.000,9, -999.000,9,   -999.0,9,   -999.0,9,-999.0000,9,  -999.00,  -999.00,9,  -999.00,9,   7.2930,2,     2216
  49UP20100706,   P09,    64,  1,     20,     93,2,20100722,2114,  7.6675, 136.8273, 3074,    633.6,   6.5800,   6.5797,2,  34.5210,2,  34.5206,6,     82.8,3,    57.36,6,    35.56,6,     0.00,2,     2.55,6, -999.000,9, -999.000,9,   -999.0,9,   -999.0,9,-999.0000,9,  -999.00,  -999.00,9,  -999.00,9,   6.5797,2,     2213
  49UP20100706,   P09,    64,  1,     19,     92,2,20100722,2114,  7.6675, 136.8273, 3074,    734.7,   5.9492,   5.9489,2,  34.5263,2,  34.5275,6,     84.3,3,    65.64,6,    36.53,6,     0.00,6,     2.62,6, -999.000,9, -999.000,9,   -999.0,9,   -999.0,9,-999.0000,9,  -999.00,  -999.00,9,  -999.00,9,   5.9489,2,     2211
  49UP20100706,   P09,    64,  1,     18,     91,2,20100722,2114,  7.6675, 136.8273, 3074,    837.5,   5.4151,   5.4161,2,  34.5309,2,  34.5317,2,     83.1,3,    75.03,2,    37.47,2,     0.00,2,     2.69,2, -999.000,9, -999.000,9,   -999.0,9,   -999.0,9,-999.0000,9,  -999.00,  -999.00,9,  -999.00,9,   5.4161,2,     2208
  49UP20100706,   P09,    64,  1,     17,     90,2,20100722,2114,  7.6675, 136.8273, 3074,    937.1,   4.8029,   4.8029,2,  34.5432,2,  34.5438,2,     83.9,3,    86.11,2,    38.19,2,     0.00,2,     2.74,2, -999.000,9, -999.000,9,   -999.0,9,   -999.0,9,-999.0000,9,  -999.00,  -999.00,9,  -999.00,9,   4.8029,2,     2205
  49UP20100706,   P09,    64,  1,     16,     89,2,20100722,2114,  7.6675, 136.8273, 3074,   1088.5,   4.2072,   4.2067,2,  34.5591,2,  34.5595,2,     88.0,3,    97.33,2,    38.50,2,     0.00,2,     2.75,2, -999.000,9, -999.000,9,   -999.0,9,   -999.0,9,-999.0000,9,  -999.00,  -999.00,9,  -999.00,9,   4.2067,2,     2201
  49UP20100706,   P09,    64,  1,     15,     88,2,20100722,2114,  7.6675, 136.8273, 3074,   1342.6,   3.4592,   3.4587,2,  34.5810,2,  34.5813,2,     93.8,3,   112.69,2,    38.80,2,     0.00,2,     2.77,2, -999.000,9, -999.000,9,   -999.0,9,   -999.0,9,-999.0000,9,  -999.00,  -999.00,9,  -999.00,9,   3.4587,2,     2155
  49UP20100706,   P09,    64,  1,     14,     87,2,20100722,2114,  7.6675, 136.8273, 3074,   1342.6,   3.4592,   3.4587,2,  34.5810,2,  34.5811,2,     94.2,3,   112.60,2,    38.80,2,     0.00,2,     2.77,2, -999.000,9, -999.000,9,   -999.0,9,   -999.0,9,-999.0000,9,  -999.00,  -999.00,9,  -999.00,9,   3.4587,2,     2155
  49UP20100706,   P09,    64,  1,     13,     86,2,20100722,2114,  7.6675, 136.8273, 3074,   1595.8,   2.8153,   2.8140,2,  34.6036,2,  34.6042,2,    102.9,3,   125.40,2,    38.64,2,     0.00,2,     2.74,2, -999.000,9, -999.000,9,   -999.0,9,   -999.0,9,-999.0000,9,  -999.00,  -999.00,9,  -999.00,9,   2.8140,2,     2150
  49UP20100706,   P09,    64,  1,     12,     85,2,20100722,2114,  7.6675, 136.8273, 3074,   1848.2,   2.4589,   2.4587,2,  34.6217,2,  34.6221,2,    109.8,3,   132.41,2,    38.44,2,     0.00,2,     2.72,2, -999.000,9, -999.000,9,   -999.0,9,   -999.0,9,-999.0000,9,  -999.00,  -999.00,9,  -999.00,9,   2.4587,2,     2144
  49UP20100706,   P09,    64,  1,     11,    110,2,20100722,2114,  7.6675, 136.8273, 3074,   2104.0,   2.0631,   2.0629,2,  34.6417,2,  34.6426,2,    121.3,3,   138.50,2,    37.87,2,     0.00,2,     2.67,2, -999.000,9, -999.000,9,   -999.0,9,   -999.0,9,-999.0000,9,  -999.00,  -999.00,9,  -999.00,9,   2.0629,2,     2138
  49UP20100706,   P09,    64,  1,     10,     83,2,20100722,2114,  7.6675, 136.8273, 3074,   2356.3,   1.9345,   1.9344,2,  34.6491,2,  34.6498,2,    126.0,3,   140.84,2,    37.61,2,     0.00,2,     2.65,2, -999.000,9, -999.000,9,   -999.0,9,   -999.0,9,-999.0000,9,  -999.00,  -999.00,9,  -999.00,9,   1.9344,2,     2133
  49UP20100706,   P09,    64,  1,      9,     82,2,20100722,2114,  7.6675, 136.8273, 3074,   2612.9,   1.7417,   1.7418,2,  34.6601,2,  34.6607,2,    134.0,3,   143.15,2,    37.17,2,     0.00,2,     2.61,2, -999.000,9, -999.000,9,   -999.0,9,   -999.0,9,-999.0000,9,  -999.00,  -999.00,9,  -999.00,9,   1.7418,2,     2127
  49UP20100706,   P09,    64,  1,      8,     81,2,20100722,2114,  7.6675, 136.8273, 3074,   2612.9,   1.7417,   1.7418,2,  34.6601,2,  34.6607,2,    133.8,3,   143.17,2,    37.17,2,     0.00,2,     2.61,2, -999.000,9, -999.000,9,   -999.0,9,   -999.0,9,-999.0000,9,  -999.00,  -999.00,9,  -999.00,9,   1.7418,2,     2127
  49UP20100706,   P09,    64,  1,      7,     80,2,20100722,2114,  7.6675, 136.8273, 3074,   2865.7,   1.6719,   1.6722,2,  34.6653,2,  34.6660,2,    138.3,3,   143.76,2,    36.94,2,     0.00,2,     2.59,2, -999.000,9, -999.000,9,   -999.0,9,   -999.0,9,-999.0000,9,  -999.00,  -999.00,9,  -999.00,9,   1.6722,2,     2121
  49UP20100706,   P09,    64,  1,      1,     74,2,20100722,2114,  7.6675, 136.8273, 3074,   3111.5,   1.6416,   1.6415,2,  34.6684,2,  34.6689,2,    140.5,3,   143.90,2,    36.81,2,     0.00,2,     2.57,2, -999.000,9, -999.000,9,   -999.0,9,   -999.0,9,-999.0000,9,  -999.00,  -999.00,9,  -999.00,9,   1.6415,2,     2114