BOTTLE,20200625PRINUNIVRMK
EXPOCODE,SECT_ID,STNNBR,CASTNO,SAMPNO,BTLNBR,BTLNBR_FLAG_W,DATE,TIME,LATITUDE,LONGITUDE,DEPTH,CTDPRS,CTDTMP,SBE35,SBE35_FLAG_W,CTDSAL,CTDSAL_FLAG_W,SALNTY,SALNTY_FLAG_W,OXYGEN,OXYGEN_FLAG_W,SILCAT,SILCAT_FLAG_W,NITRAT,NITRAT_FLAG_W,NITRIT,NITRIT_FLAG_W,PHSPHT,PHSPHT_FLAG_W,CFC-11,CFC-11_FLAG_W,CFC-12,CFC-12_FLAG_W,TCARBN,TCARBN_FLAG_W,ALKALI,ALKALI_FLAG_W,PH_TOT,PH_TOT_FLAG_W,PH_TMP,CHLORA,CHLORA_FLAG_W,PPHYTN,PPHYTN_FLAG_W,SBE35,SBE35_FLAG_W,BTL_TIME
,,,,,,,,,,,METERS,DBAR,ITS-90,,,PSS-78,,PSS-78,,UMOL/KG,,UMOL/KG,,UMOL/KG,,UMOL/KG,,UMOL/KG,,PMOL/KG,,PMOL/KG,,UMOL/KG,,UMOL/KG,,,,DEG C,UG/KG,,UG/KG,,,,
  49UP20100706,   P09,    93,  1,      0,     -9,0,20100808,0514, -0.4992, 141.9923, 3277,      0.0,  29.9772,-999.0000,9,  35.0813,2,-999.0000,9,    193.4,2,     0.98,2,     0.00,2,     0.01,2,     0.21,2, -999.000,9, -999.000,9,   -999.0,9,   -999.0,9,-999.0000,9,  -999.00,  -999.00,9,  -999.00,9,-999.0000,9,      640
  49UP20100706,   P09,    93,  1,     36,    109,2,20100808,0514, -0.4992, 141.9923, 3277,     11.1,  29.5912,  29.5903,2,  35.0791,2,  35.0780,2,    194.7,2,     0.99,2,     0.00,2,     0.00,2,     0.17,2, -999.000,9, -999.000,9,   1968.2,2,   2308.5,2,   8.1228,2,    25.00,  -999.00,9,  -999.00,9,  29.5903,2,      701
  49UP20100706,   P09,    93,  1,     35,    108,2,20100808,0514, -0.4992, 141.9923, 3277,     25.8,  29.5551,  29.5586,2,  35.0938,2,  35.0943,2,    194.9,2,     0.87,2,     0.00,2,     0.00,2,     0.18,2, -999.000,9, -999.000,9,   1967.2,2,   2310.5,2,   8.1232,2,    25.00,  -999.00,9,  -999.00,9,  29.5586,2,      700
  49UP20100706,   P09,    93,  1,     34,    107,2,20100808,0514, -0.4992, 141.9923, 3277,     51.3,  29.5022,  29.5009,2,  35.1376,2,  35.1352,2,    194.3,2,     0.67,2,     0.00,2,     0.00,2,     0.17,2, -999.000,9, -999.000,9,   1968.3,2,   2312.0,2,   8.1177,2,    25.00,  -999.00,9,  -999.00,9,  29.5009,2,      657
  49UP20100706,   P09,    93,  1,     33,    106,2,20100808,0514, -0.4992, 141.9923, 3277,     75.3,  29.4529,  29.4517,2,  35.1481,2,  35.1467,2,    192.7,2,     0.67,2,     0.00,2,     0.01,2,     0.19,2, -999.000,9, -999.000,9,   1972.7,2,   2312.8,2,   8.1197,2,    25.00,  -999.00,9,  -999.00,9,  29.4517,2,      656
  49UP20100706,   P09,    93,  1,     32,    105,2,20100808,0514, -0.4992, 141.9923, 3277,     99.0,  29.3680,  29.3672,2,  35.1564,2,  35.1553,2,    188.5,2,     0.94,2,     0.26,2,     0.11,2,     0.21,2, -999.000,9, -999.000,9,   1972.4,2,   2312.0,2,   8.1116,2,    25.00,  -999.00,9,  -999.00,9,  29.3672,2,      655
  49UP20100706,   P09,    93,  1,     31,    104,2,20100808,0514, -0.4992, 141.9923, 3277,    124.9,  27.7975,  27.7955,2,  35.1419,2,  35.1405,2,    160.5,2,     1.48,2,     3.39,2,     0.09,2,     0.36,2, -999.000,9, -999.000,9,   2006.7,2,   2308.4,2,   8.0529,2,    25.00,  -999.00,9,  -999.00,9,  27.7955,2,      653
  49UP20100706,   P09,    93,  1,     30,    103,2,20100808,0514, -0.4992, 141.9923, 3277,    158.0,  21.7586,  21.7903,2,  35.6416,2,  35.6391,2,    137.8,2,     2.56,2,     7.97,2,     0.01,2,     0.69,2, -999.000,9, -999.000,9,   2092.9,2,   2336.5,2,   7.9383,2,    25.00,  -999.00,9,  -999.00,9,  21.7903,2,      651
  49UP20100706,   P09,    93,  1,     29,    102,2,20100808,0514, -0.4992, 141.9923, 3277,    204.9,  17.9317,  17.9335,2,  35.3947,2,  35.4072,4,    143.4,2,     5.00,2,    11.39,2,     0.01,2,     0.90,2, -999.000,9, -999.000,9,   2117.6,2,   2329.3,2,   7.8704,2,    25.00,  -999.00,9,  -999.00,9,  17.9335,2,      648
  49UP20100706,   P09,    93,  1,     28,    101,2,20100808,0514, -0.4992, 141.9923, 3277,    252.1,  16.2169,  16.2163,2,  35.2702,2,  35.2709,6,    144.4,6,     6.82,6,    13.60,6,     0.00,6,     1.03,6, -999.000,9, -999.000,9,   2131.1,2,   2324.5,2,   7.8309,2,    25.00,  -999.00,9,  -999.00,9,  16.2163,2,      646
  49UP20100706,   P09,    93,  1,     27,    100,2,20100808,0514, -0.4992, 141.9923, 3277,    301.7,  12.3484,  12.3509,2,  34.9501,2,  34.9530,6,    151.8,6,    11.53,6,    18.70,6,     0.00,6,     1.35,6, -999.000,9, -999.000,9,   2147.3,2,   2301.5,2,   7.7571,2,    25.00,  -999.00,9,  -999.00,9,  12.3509,2,      644
  49UP20100706,   P09,    93,  1,     26,     99,2,20100808,0514, -0.4992, 141.9923, 3277,    355.0,  10.3489,  10.3499,2,  34.7565,2,  34.7584,6,    118.2,2,    22.05,6,    25.66,6,     0.00,6,     1.80,6, -999.000,9, -999.000,9,   2188.5,2,   2305.8,2,   7.6503,2,    25.00,  -999.00,9,  -999.00,9,  10.3499,2,      642
  49UP20100706,   P09,    93,  1,     25,     98,2,20100808,0514, -0.4992, 141.9923, 3277,    405.9,   9.8903,   9.8906,2,  34.7207,2,  34.7197,6,    105.7,6,    24.89,6,    27.86,6,     0.00,6,     1.94,6, -999.000,9, -999.000,9,   2204.9,2,   2299.6,2,   7.6173,2,    25.00,  -999.00,9,  -999.00,9,   9.8906,2,      636
  49UP20100706,   P09,    93,  1,     24,     97,2,20100808,0514, -0.4992, 141.9923, 3277,    456.1,   9.0012,   9.0074,2,  34.6634,2,  34.6665,2,    136.6,2,    22.47,2,    26.54,2,     0.00,2,     1.85,2, -999.000,9, -999.000,9,   2194.8,2,   2302.2,2,   7.6464,2,    25.00,  -999.00,9,  -999.00,9,   9.0074,2,      634
  49UP20100706,   P09,    93,  1,     23,     96,3,20100808,0514, -0.4992, 141.9923, 3277,    507.0,   8.5550,   8.5583,2,  34.6308,2,  34.6363,3,    133.5,2,    25.12,2,    27.74,2,     0.00,2,     1.92,2, -999.000,9, -999.000,9,   2197.2,6,   2303.6,6,   7.6310,6,    25.00,  -999.00,9,  -999.00,9,   8.5583,2,      631
  49UP20100706,   P09,    93,  1,     22,     95,2,20100808,0514, -0.4992, 141.9923, 3277,    507.0,   8.5550,   8.5583,2,  34.6308,2,  34.6344,2,    133.2,2,    25.17,2,    27.80,2,     0.00,2,     1.93,2, -999.000,9, -999.000,9,   2197.8,2,   2302.6,2,   7.6287,2,    25.00,  -999.00,9,  -999.00,9,   8.5583,2,      631
  49UP20100706,   P09,    93,  1,     21,     94,2,20100808,0514, -0.4992, 141.9923, 3277,    607.4,   6.9601,   6.9602,2,  34.5489,2,  34.5487,2,    127.1,2,    38.22,2,    31.62,2,     0.00,2,     2.21,2, -999.000,9, -999.000,9,   2225.4,2,   2312.5,2,   7.5833,2,    25.00,  -999.00,9,  -999.00,9,   6.9602,2,      628
  49UP20100706,   P09,    93,  1,     20,     93,2,20100808,0514, -0.4992, 141.9923, 3277,    706.0,   6.2542,   6.2547,2,  34.5248,2,  34.5246,2,    132.9,2,    43.64,2,    32.38,2,     0.00,2,     2.26,2, -999.000,9, -999.000,9,   2233.1,2,   2315.7,2,   7.5794,2,    25.00,  -999.00,9,  -999.00,9,   6.2547,2,      625
  49UP20100706,   P09,    93,  1,     19,     92,2,20100808,0514, -0.4992, 141.9923, 3277,    806.6,   5.4722,   5.4716,2,  34.5284,2,  34.5286,2,    114.3,2,    58.90,2,    35.29,2,     0.00,2,     2.49,2, -999.000,9, -999.000,9,   2259.9,2,   2331.0,2,   7.5436,2,    25.00,  -999.00,9,  -999.00,9,   5.4716,2,      622
  49UP20100706,   P09,    93,  1,     18,     91,2,20100808,0514, -0.4992, 141.9923, 3277,    907.4,   4.8435,   4.8434,2,  34.5437,2,  34.5433,2,     99.5,2,    75.24,2,    37.43,2,     0.00,2,     2.65,2, -999.000,9, -999.000,9,   2286.3,2,   2346.3,2,   7.5114,2,    25.00,  -999.00,9,  -999.00,9,   4.8434,2,      615
  49UP20100706,   P09,    93,  1,     17,     90,2,20100808,0514, -0.4992, 141.9923, 3277,   1008.6,   4.3792,   4.3798,2,  34.5501,2,  34.5501,2,    106.8,2,    82.52,2,    37.30,2,     0.00,2,     2.63,2, -999.000,9, -999.000,9,   2291.3,6,   2356.3,6,   7.5194,6,    25.00,  -999.00,9,  -999.00,9,   4.3798,2,      612
  49UP20100706,   P09,    93,  1,     16,     89,2,20100808,0514, -0.4992, 141.9923, 3277,   1008.6,   4.3792,   4.3798,2,  34.5501,2,  34.5492,2,    106.9,2,    82.45,2,    37.26,2,     0.00,2,     2.63,2, -999.000,9, -999.000,9,   2290.1,2,   2354.8,2,   7.5200,2,    25.00,  -999.00,9,  -999.00,9,   4.3798,2,      612
  49UP20100706,   P09,    93,  1,     15,     88,2,20100808,0514, -0.4992, 141.9923, 3277,   1258.1,   3.7113,   3.7109,2,  34.5736,2,  34.5737,2,    101.0,2,    99.82,2,    38.41,2,     0.00,2,     2.73,2, -999.000,9, -999.000,9,   2314.9,2,   2373.0,2,   7.5053,2,    25.00,  -999.00,9,  -999.00,9,   3.7109,2,      606
  49UP20100706,   P09,    93,  1,     14,     87,2,20100808,0514, -0.4992, 141.9923, 3277,   1512.5,   3.0424,   3.0422,2,  34.5990,2,  34.5990,2,    106.5,2,   115.42,2,    38.45,2,     0.00,2,     2.71,2, -999.000,9, -999.000,9,   2327.5,6,   2390.3,6,   7.5113,6,    25.00,  -999.00,9,  -999.00,9,   3.0422,2,      556
  49UP20100706,   P09,    93,  1,     13,     86,2,20100808,0514, -0.4992, 141.9923, 3277,   1512.5,   3.0424,   3.0422,2,  34.5990,2,  34.6000,2,    106.4,2,   114.93,2,    38.39,2,     0.00,2,     2.71,2, -999.000,9, -999.000,9,   2328.3,2,   2390.1,2,   7.5104,2,    25.00,  -999.00,9,  -999.00,9,   3.0422,2,      556
  49UP20100706,   P09,    93,  1,     12,     85,2,20100808,0514, -0.4992, 141.9923, 3277,   1765.3,   2.6058,   2.6051,2,  34.6184,2,  34.6196,2,    113.5,2,   124.42,2,    38.07,2,     0.00,2,     2.68,2, -999.000,9, -999.000,9,   2334.9,2,   2399.1,2,   7.5248,2,    25.00,  -999.00,9,  -999.00,9,   2.6051,2,      551
  49UP20100706,   P09,    93,  1,     11,    110,2,20100808,0514, -0.4992, 141.9923, 3277,   2019.7,   2.2059,   2.2059,2,  34.6383,2,  34.6384,2,    118.6,2,   133.78,2,    37.95,2,     0.00,2,     2.66,2, -999.000,9, -999.000,9,   2338.8,2,   2411.4,2,   7.5288,2,    25.00,  -999.00,9,  -999.00,9,   2.2059,2,      546
  49UP20100706,   P09,    93,  1,     10,     83,2,20100808,0514, -0.4992, 141.9923, 3277,   2272.8,   2.0025,   2.0021,2,  34.6473,2,  34.6480,2,    124.8,2,   138.58,2,    37.64,2,     0.00,2,     2.62,2, -999.000,9, -999.000,9,   2341.3,2,   2414.3,6,   7.5389,6,    25.00,  -999.00,9,  -999.00,9,   2.0021,2,      541
  49UP20100706,   P09,    93,  1,      9,     82,2,20100808,0514, -0.4992, 141.9923, 3277,   2272.8,   2.0025,   2.0021,2,  34.6473,2,  34.6480,2,    124.7,2,   138.62,2,    37.62,2,     0.00,2,     2.63,2, -999.000,9, -999.000,9,   2336.9,2,   2414.4,2,   7.5382,2,    25.00,  -999.00,9,  -999.00,9,   2.0021,2,      541
  49UP20100706,   P09,    93,  1,      8,     81,2,20100808,0514, -0.4992, 141.9923, 3277,   2528.7,   1.7723,   1.7722,2,  34.6601,2,  34.6604,2,    133.3,2,   141.55,2,    37.13,2,     0.00,2,     2.59,2, -999.000,9, -999.000,9,   2341.5,2,   2416.9,2,   7.5541,2,    25.00,  -999.00,9,  -999.00,9,   1.7722,2,      535
  49UP20100706,   P09,    93,  1,      7,     80,2,20100808,0514, -0.4992, 141.9923, 3277,   2783.3,   1.6349,   1.6347,2,  34.6684,2,  34.6687,2,    140.4,2,   142.58,2,    36.66,2,     0.00,2,     2.54,2, -999.000,9, -999.000,9,   2336.9,2,   2418.2,2,   7.5645,2,    25.00,  -999.00,9,  -999.00,9,   1.6347,2,      529
  49UP20100706,   P09,    93,  1,      6,     79,2,20100808,0514, -0.4992, 141.9923, 3277,   3037.7,   1.5894,   1.5891,2,  34.6727,2,  34.6728,2,    144.0,2,   142.88,2,    36.48,2,     0.00,2,     2.53,2, -999.000,9, -999.000,9,   2329.9,2,   2420.2,2,   7.5660,2,    25.00,  -999.00,9,  -999.00,9,   1.5891,2,      523
  49UP20100706,   P09,    93,  1,      5,     78,2,20100808,0514, -0.4992, 141.9923, 3277,   3293.9,   1.5866,   1.5865,2,  34.6746,2,  34.6748,2,    144.8,2,   143.00,2,    36.39,2,     0.00,2,     2.51,2, -999.000,9, -999.000,9,   2332.2,2,   2413.5,2,   7.5707,2,    25.00,  -999.00,9,  -999.00,9,   1.5865,2,      518
  49UP20100706,   P09,    93,  1,      1,     74,2,20100808,0514, -0.4992, 141.9923, 3277,   3329.3,   1.5898,   1.5896,2,  34.6747,2,  34.6745,2,    144.6,2,   142.93,2,    36.41,2,     0.00,2,     2.52,2, -999.000,9, -999.000,9,   2332.2,2,   2421.5,2,   7.5717,2,    25.00,  -999.00,9,  -999.00,9,   1.5896,2,      515