BOTTLE,20200625PRINUNIVRMK
EXPOCODE,SECT_ID,STNNBR,CASTNO,SAMPNO,BTLNBR,BTLNBR_FLAG_W,DATE,TIME,LATITUDE,LONGITUDE,DEPTH,CTDPRS,CTDTMP,SBE35,SBE35_FLAG_W,CTDSAL,CTDSAL_FLAG_W,SALNTY,SALNTY_FLAG_W,OXYGEN,OXYGEN_FLAG_W,SILCAT,SILCAT_FLAG_W,NITRAT,NITRAT_FLAG_W,NITRIT,NITRIT_FLAG_W,PHSPHT,PHSPHT_FLAG_W,CFC-11,CFC-11_FLAG_W,CFC-12,CFC-12_FLAG_W,TCARBN,TCARBN_FLAG_W,ALKALI,ALKALI_FLAG_W,PH_TOT,PH_TOT_FLAG_W,PH_TMP,CHLORA,CHLORA_FLAG_W,PPHYTN,PPHYTN_FLAG_W,SBE35,SBE35_FLAG_W,BTL_TIME
,,,,,,,,,,,METERS,DBAR,ITS-90,,,PSS-78,,PSS-78,,UMOL/KG,,UMOL/KG,,UMOL/KG,,UMOL/KG,,UMOL/KG,,PMOL/KG,,PMOL/KG,,UMOL/KG,,UMOL/KG,,,,DEG C,UG/KG,,UG/KG,,,,
  49UP20100706,   P09,    42,  1,      0,     -9,0,20100717,0210, 18.0097, 137.0302, 4970,      0.0,  30.1023,-999.0000,9,  34.8291,2,-999.0000,9,    193.6,2,     0.86,2,     0.00,2,     0.00,2,     0.02,2, -999.000,9, -999.000,9,   -999.0,9,   -999.0,9,-999.0000,9,  -999.00,     0.10,2,     0.02,2,-999.0000,9,      355
  49UP20100706,   P09,    42,  1,     36,    109,2,20100717,0210, 18.0097, 137.0302, 4970,     10.8,  30.1050,-999.0000,5,  34.8285,2,  34.8290,2,    194.6,2,     0.83,2,     0.00,2,     0.00,2,     0.02,2,    1.521,2,    0.894,2,   1941.4,2,   2284.1,2,   8.1343,2,    25.00,     0.10,2,     0.02,2,-999.0000,5,      413
  49UP20100706,   P09,    42,  1,     35,    108,2,20100717,0210, 18.0097, 137.0302, 4970,     25.7,  30.0926,-999.0000,5,  34.8333,2,  34.8337,2,    194.7,2,     0.83,2,     0.00,2,     0.00,2,     0.02,2,    1.566,2,    0.890,2,   1941.9,2,   2284.8,2,   8.1368,2,    25.00,     0.10,2,     0.03,2,-999.0000,5,      412
  49UP20100706,   P09,    42,  1,     34,    107,2,20100717,0210, 18.0097, 137.0302, 4970,     50.5,  29.2250,-999.0000,5,  34.8561,2,  34.8505,2,    208.8,2,     0.89,2,     0.00,2,     0.00,2,     0.00,2,    1.740,2,    0.990,2,   1941.0,2,   2262.4,4,   8.1345,2,    25.00,     0.13,2,     0.04,2,-999.0000,5,      409
  49UP20100706,   P09,    42,  1,     33,    106,2,20100717,0210, 18.0097, 137.0302, 4970,     74.1,  27.9160,-999.0000,5,  34.8564,2,  34.8563,2,    211.8,2,     0.81,2,     0.00,2,     0.00,2,     0.00,2,    1.768,2,    1.002,2,   1945.7,2,   2287.5,2,   8.1321,2,    25.00,     0.15,2,     0.05,2,-999.0000,5,      407
  49UP20100706,   P09,    42,  1,     32,    105,2,20100717,0210, 18.0097, 137.0302, 4970,    100.8,  26.8488,-999.0000,5,  34.9161,2,  34.9347,4,    202.6,2,     0.82,2,     0.00,2,     0.00,2,     0.02,2,    1.638,2,    0.956,2,   1960.5,2,   2294.4,2,   8.1158,2,    25.00,     0.21,2,     0.10,2,-999.0000,5,      406
  49UP20100706,   P09,    42,  1,     31,    104,2,20100717,0210, 18.0097, 137.0302, 4970,    127.9,  25.4141,-999.0000,5,  34.9027,2,  34.8885,4,    201.2,2,     1.06,2,    -0.02,2,     0.06,2,     0.01,2,    1.737,2,    1.064,2,   1968.3,2,   2288.5,2,   8.0893,2,    25.00,     0.20,2,     0.28,2,-999.0000,5,      404
  49UP20100706,   P09,    42,  1,     30,    103,2,20100717,0210, 18.0097, 137.0302, 4970,    151.0,  24.0599,-999.0000,5,  34.9150,2,  34.9157,2,    189.9,2,     1.20,2,     0.53,2,     0.04,2,     0.06,2,    1.720,2,    1.108,2,   1989.1,2,   2288.6,2,   8.0548,2,    25.00,     0.05,2,     0.16,2,-999.0000,5,      403
  49UP20100706,   P09,    42,  1,     29,    102,2,20100717,0210, 18.0097, 137.0302, 4970,    205.6,  21.2216,-999.0000,5,  34.7801,2,  34.7851,2,    204.8,2,     1.58,2,     0.66,2,     0.02,2,     0.05,2,    2.066,2,    1.253,2,   1993.7,2,   2279.4,2,   8.0363,2,    25.00,     0.03,2,     0.06,2,-999.0000,5,      401
  49UP20100706,   P09,    42,  1,     28,    101,2,20100717,0210, 18.0097, 137.0302, 4970,    252.3,  18.6377,-999.0000,5,  34.7895,2,  34.7933,2,    187.4,2,     3.43,2,     4.26,2,     0.01,2,     0.29,2,    2.273,2,    1.401,2,   2041.4,2,   2281.3,2,   7.9527,2,    25.00,  -999.00,9,  -999.00,9,-999.0000,5,      359
  49UP20100706,   P09,    42,  1,     27,    100,4,20100717,0210, 18.0097, 137.0302, 4970,    302.9,  15.9743,-999.0000,5,  34.6158,2,  34.6030,4,    105.0,4,   136.30,4,    38.40,4,     0.00,4,     2.70,4,    0.033,4,    0.000,4,   2341.3,4,   2371.7,4,   7.5109,4,    25.00,  -999.00,9,  -999.00,9,-999.0000,5,      358
  49UP20100706,   P09,    42,  1,     26,     99,2,20100717,0210, 18.0097, 137.0302, 4970,    353.0,  14.0794,-999.0000,5,  34.4685,2,  34.4639,2,    181.2,2,    10.88,2,    11.44,2,     0.00,2,     0.82,2,    2.544,2,    1.420,2,   2092.2,2,   2266.3,2,   7.8229,2,    25.00,  -999.00,9,  -999.00,9,-999.0000,5,      356
  49UP20100706,   P09,    42,  1,     25,     98,2,20100717,0210, 18.0097, 137.0302, 4970,    403.3,  12.0951,-999.0000,5,  34.3335,2,  34.3381,2,    165.7,2,    17.13,2,    15.79,2,     0.00,2,     1.15,2,    2.620,2,    1.476,2,   2121.0,6,   2266.4,6,   7.7497,6,    25.00,  -999.00,9,  -999.00,9,-999.0000,5,      354
  49UP20100706,   P09,    42,  1,     24,     97,2,20100717,0210, 18.0097, 137.0302, 4970,    454.0,  10.3378,-999.0000,5,  34.2782,2,  34.2794,6,    132.1,6,    27.94,6,    22.45,6,     0.00,6,     1.64,6,    2.211,2,    1.196,2,   2168.7,2,   2270.7,2,   7.6545,2,    25.00,  -999.00,9,  -999.00,9,-999.0000,5,      353
  49UP20100706,   P09,    42,  1,     23,     96,2,20100717,0210, 18.0097, 137.0302, 4970,    504.7,   8.9196,-999.0000,5,  34.2674,2,  34.2716,6,    106.4,6,    38.80,6,    27.44,6,     0.00,6,     2.00,6,    1.655,2,    0.883,2,   2207.3,2,   2281.9,2,   7.5665,2,    25.00,  -999.00,9,  -999.00,9,-999.0000,5,      351
  49UP20100706,   P09,    42,  1,     22,     95,2,20100717,0210, 18.0097, 137.0302, 4970,    605.5,   6.7692,-999.0000,5,  34.2735,2,  34.2746,6,     77.4,6,    62.22,6,    34.07,6,     0.00,6,     2.47,6,    0.844,6,    0.410,6,   2256.1,2,   2303.5,2,   7.4811,2,    25.00,  -999.00,9,  -999.00,9,-999.0000,5,      348
  49UP20100706,   P09,    42,  1,     21,     94,2,20100717,0210, 18.0097, 137.0302, 4970,    706.0,   5.9734,-999.0000,5,  34.3920,2,  34.3919,6,     69.3,6,    74.27,6,    36.62,6,     0.00,6,     2.65,6,    0.379,2,    0.158,2,   2283.7,2,   2319.3,2,   7.4642,2,    25.00,  -999.00,9,  -999.00,9,-999.0000,5,      346
  49UP20100706,   P09,    42,  1,     20,     93,2,20100717,0210, 18.0097, 137.0302, 4970,    807.1,   5.3848,-999.0000,5,  34.4335,2,  34.4335,2,     73.1,2,    83.38,2,    37.34,2,     0.00,2,     2.68,2,    0.253,2,    0.074,2,   2293.6,2,   2299.4,4,   7.4709,2,    25.00,  -999.00,9,  -999.00,9,-999.0000,5,      343
  49UP20100706,   P09,    42,  1,     19,     92,2,20100717,0210, 18.0097, 137.0302, 4970,    908.1,   4.8232,-999.0000,5,  34.4884,2,  34.4889,2,     78.7,2,    91.35,2,    37.95,2,     0.00,2,     2.72,2,    0.114,2,    0.043,2,   2302.3,2,   2325.6,3,   7.4765,2,    25.00,  -999.00,9,  -999.00,9,-999.0000,5,      340
  49UP20100706,   P09,    42,  1,     18,     91,2,20100717,0210, 18.0097, 137.0302, 4970,   1009.5,   4.3176,-999.0000,5,  34.5038,2,  34.5042,2,     81.8,2,   102.56,2,    38.17,2,     0.00,2,     2.72,2,    0.169,3,    0.080,3,   2302.0,3,   2327.2,3,   7.4779,2,    25.00,  -999.00,9,  -999.00,9,-999.0000,5,      338
  49UP20100706,   P09,    42,  1,     17,     90,2,20100717,0210, 18.0097, 137.0302, 4970,   1261.7,   3.4594,-999.0000,5,  34.5513,2,  34.5518,2,     90.5,2,   118.37,2,    38.50,2,     0.00,2,     2.73,2,    0.051,3,    0.013,3,   2328.0,2,   2381.2,2,   7.4890,2,    25.00,  -999.00,9,  -999.00,9,-999.0000,5,      332
  49UP20100706,   P09,    42,  1,     16,     89,2,20100717,0210, 18.0097, 137.0302, 4970,   1516.1,   2.8553,-999.0000,5,  34.5792,2,  34.5792,2,     99.5,2,   129.76,2,    38.35,2,     0.00,2,     2.72,2,    0.003,2,    0.056,4,   2336.3,2,   2369.7,3,   7.5009,2,    25.00,  -999.00,9,  -999.00,9,-999.0000,5,      327
  49UP20100706,   P09,    42,  1,     15,     88,2,20100717,0210, 18.0097, 137.0302, 4970,   1767.8,   2.4593,-999.0000,5,  34.6012,2,  34.6016,2,    104.5,2,   136.20,2,    38.40,2,     0.00,2,     2.71,2,    0.025,4,    0.003,4,   2339.7,2,   2397.2,2,   7.5047,2,    25.00,  -999.00,9,  -999.00,9,-999.0000,5,      321
  49UP20100706,   P09,    42,  1,     14,     87,2,20100717,0210, 18.0097, 137.0302, 4970,   2022.1,   2.1566,-999.0000,5,  34.6219,2,  34.6220,2,    111.8,2,   140.54,2,    38.26,2,     0.00,2,     2.69,2,    0.044,4,    0.039,4,   2342.0,6,   2405.4,6,   7.5145,6,    25.00,  -999.00,9,  -999.00,9,-999.0000,5,      316
  49UP20100706,   P09,    42,  1,     13,     86,2,20100717,0210, 18.0097, 137.0302, 4970,   2276.0,   1.9513,-999.0000,5,  34.6362,2,  34.6227,4,    112.0,3,   140.50,3,    38.23,3,     0.00,3,     2.69,3,    0.007,2,    0.022,4,   2341.7,2,   2405.1,2,   7.5155,3,    25.00,  -999.00,9,  -999.00,9,-999.0000,5,      310
  49UP20100706,   P09,    42,  1,     12,     85,2,20100717,0210, 18.0097, 137.0302, 4970,   2530.3,   1.8135,-999.0000,5,  34.6480,2,  34.6479,2,    125.5,2,   144.88,2,    37.52,2,     0.00,2,     2.62,2,    0.044,4,    0.000,2,   2332.7,3,   2413.1,2,   7.5365,2,    25.00,  -999.00,9,  -999.00,9,-999.0000,5,      304
  49UP20100706,   P09,    42,  1,     11,    110,2,20100717,0210, 18.0097, 137.0302, 4970,   2785.5,   1.7417,-999.0000,5,  34.6559,2,  34.6565,2,    130.7,2,   144.86,2,    37.20,2,     0.00,2,     2.60,2,    0.020,2,    0.000,2,   2336.1,2,   2410.1,2,   7.5430,2,    25.00,  -999.00,9,  -999.00,9,-999.0000,5,      259
  49UP20100706,   P09,    42,  1,     10,     83,2,20100717,0210, 18.0097, 137.0302, 4970,   3041.0,   1.6561,-999.0000,5,  34.6648,2,  34.6649,2,    137.9,2,   144.43,2,    36.82,2,     0.00,2,     2.57,2,    0.039,4,    0.204,4,   2337.4,2,   2409.5,2,   7.5553,2,    25.00,  -999.00,9,  -999.00,9,-999.0000,5,      253
  49UP20100706,   P09,    42,  1,      9,     82,2,20100717,0210, 18.0097, 137.0302, 4970,   3294.7,   1.6186,-999.0000,5,  34.6697,2,  34.6698,2,    142.8,2,   144.02,2,    36.61,2,     0.00,2,     2.55,2, -999.000,9, -999.000,9,   2330.9,2,   2413.8,2,   7.5622,2,    25.00,  -999.00,9,  -999.00,9,-999.0000,5,      248
  49UP20100706,   P09,    42,  1,      8,     81,2,20100717,0210, 18.0097, 137.0302, 4970,   3551.8,   1.5871,-999.0000,5,  34.6745,2,  34.6747,2,    146.6,2,   143.21,2,    36.33,2,     0.00,2,     2.52,2, -999.000,9, -999.000,9,   2328.5,2,   2414.2,2,   7.5688,2,    25.00,  -999.00,9,  -999.00,9,-999.0000,5,      242
  49UP20100706,   P09,    42,  1,      7,     80,2,20100717,0210, 18.0097, 137.0302, 4970,   3807.2,   1.5578,-999.0000,5,  34.6786,2,  34.6786,2,    150.8,2,   142.50,2,    36.03,2,     0.00,2,     2.50,2, -999.000,9, -999.000,9,   2326.5,2,   2411.9,2,   7.5723,2,    25.00,  -999.00,9,  -999.00,9,-999.0000,5,      236
  49UP20100706,   P09,    42,  1,      6,     79,2,20100717,0210, 18.0097, 137.0302, 4970,   4063.7,   1.5282,-999.0000,5,  34.6827,2,  34.6830,2,    156.0,2,   141.17,2,    35.71,2,     0.00,2,     2.48,2,    0.013,2,    0.110,4,   2324.3,2,   2406.3,2,   7.5807,2,    25.00,  -999.00,9,  -999.00,9,-999.0000,5,      230
  49UP20100706,   P09,    42,  1,      5,     78,2,20100717,0210, 18.0097, 137.0302, 4970,   4319.4,   1.5284,-999.0000,5,  34.6849,2,  34.6851,2,    157.5,2,   140.43,2,    35.58,2,     0.00,2,     2.46,2, -999.000,9, -999.000,9,   2320.4,2,   2408.9,2,   7.5826,2,    25.00,  -999.00,9,  -999.00,9,-999.0000,5,      224
  49UP20100706,   P09,    42,  1,      4,     77,3,20100717,0210, 18.0097, 137.0302, 4970,   4576.0,   1.5394,-999.0000,5,  34.6862,2,  34.6862,3,    159.5,2,   139.58,2,    35.37,2,     0.00,2,     2.45,2, -999.000,9, -999.000,9,   2320.1,2,   2408.9,2,   7.5838,2,    25.00,  -999.00,9,  -999.00,9,-999.0000,5,      218
  49UP20100706,   P09,    42,  1,      3,     76,2,20100717,0210, 18.0097, 137.0302, 4970,   4831.6,   1.5638,-999.0000,5,  34.6866,2,  34.6873,2,   -999.0,5,   139.67,2,    35.44,2,     0.00,2,     2.45,2, -999.000,9, -999.000,9,   2318.6,2,   2408.4,2,   7.5831,2,    25.00,  -999.00,9,  -999.00,9,-999.0000,5,      213
  49UP20100706,   P09,    42,  1,      2,     75,2,20100717,0210, 18.0097, 137.0302, 4970,   4880.9,   1.5689,-999.0000,5,  34.6865,2,  34.6871,2,    160.3,2,   139.37,2,    35.31,2,     0.00,2,     2.45,2,    0.019,2,    0.062,4,   2319.0,6,   2410.8,6,   7.5876,6,    25.00,  -999.00,9,  -999.00,9,-999.0000,5,      210
  49UP20100706,   P09,    42,  1,      1,     74,2,20100717,0210, 18.0097, 137.0302, 4970,   4880.9,   1.5689,-999.0000,5,  34.6865,2,  34.6871,2,    160.1,2,   139.43,2,    35.39,2,     0.00,2,     2.45,2,    0.022,2,    0.031,4,   2319.9,2,   2410.9,2,   7.5853,2,    25.00,  -999.00,9,  -999.00,9,-999.0000,5,      210