BOTTLE,20200625PRINUNIVRMK
EXPOCODE,SECT_ID,STNNBR,CASTNO,SAMPNO,BTLNBR,BTLNBR_FLAG_W,DATE,TIME,LATITUDE,LONGITUDE,DEPTH,CTDPRS,CTDTMP,SBE35,SBE35_FLAG_W,CTDSAL,CTDSAL_FLAG_W,SALNTY,SALNTY_FLAG_W,OXYGEN,OXYGEN_FLAG_W,SILCAT,SILCAT_FLAG_W,NITRAT,NITRAT_FLAG_W,NITRIT,NITRIT_FLAG_W,PHSPHT,PHSPHT_FLAG_W,CFC-11,CFC-11_FLAG_W,CFC-12,CFC-12_FLAG_W,TCARBN,TCARBN_FLAG_W,ALKALI,ALKALI_FLAG_W,PH_TOT,PH_TOT_FLAG_W,PH_TMP,CHLORA,CHLORA_FLAG_W,PPHYTN,PPHYTN_FLAG_W,SBE35,SBE35_FLAG_W,BTL_TIME
,,,,,,,,,,,METERS,DBAR,ITS-90,,,PSS-78,,PSS-78,,UMOL/KG,,UMOL/KG,,UMOL/KG,,UMOL/KG,,UMOL/KG,,PMOL/KG,,PMOL/KG,,UMOL/KG,,UMOL/KG,,,,DEG C,UG/KG,,UG/KG,,,,
  49UP20100706,   P09,    63,  1,      0,     -9,0,20100722,1617,  7.9962, 136.9867, 2961,      0.0,  30.1087,-999.0000,9,  33.8952,2,-999.0000,9,    194.8,3,     1.17,2,     0.00,2,     0.00,2,     0.01,2, -999.000,9, -999.000,9,   -999.0,9,   -999.0,9,-999.0000,9,  -999.00,     0.09,2,     0.04,2,-999.0000,9,     1719
  49UP20100706,   P09,    63,  1,     36,    109,2,20100722,1617,  7.9962, 136.9867, 2961,     10.6,  30.1249,  30.1239,2,  33.8946,2,  33.8978,2,    195.6,3,     1.15,2,     0.00,2,     0.00,2,     0.01,2,    1.458,2,    0.919,2,   1894.4,2,   2228.5,2,   8.1383,2,    25.00,     0.07,2,     0.02,2,  30.1239,2,     1740
  49UP20100706,   P09,    63,  1,     35,    108,2,20100722,1617,  7.9962, 136.9867, 2961,     25.6,  30.1567,  30.1569,2,  33.9167,2,  33.9308,4,    196.4,3,     1.12,2,     0.00,2,     0.00,2,     0.01,2,    1.550,2,    0.936,2,   1895.4,2,   2234.0,2,   8.1385,2,    25.00,     0.08,2,     0.02,2,  30.1569,2,     1738
  49UP20100706,   P09,    63,  1,     34,    107,2,20100722,1617,  7.9962, 136.9867, 2961,     51.5,  29.6584,  29.6554,2,  34.4274,2,  34.4307,2,    201.1,3,     1.06,2,     0.00,2,     0.00,2,     0.04,2,    1.585,2,    0.940,2,   1925.0,2,   2260.9,2,   8.1189,2,    25.00,     0.11,2,     0.05,2,  29.6554,2,     1735
  49UP20100706,   P09,    63,  1,     33,    106,2,20100722,1617,  7.9962, 136.9867, 2961,     76.2,  28.5387,  28.5340,2,  34.5207,2,  34.5251,2,    195.7,3,     1.22,2,     0.00,2,     0.00,2,     0.06,2,    1.661,2,    0.980,2,   1944.7,2,   2265.8,2,   8.0956,2,    25.00,     0.18,2,     0.12,2,  28.5340,2,     1734
  49UP20100706,   P09,    63,  1,     32,    105,2,20100722,1617,  7.9962, 136.9867, 2961,    101.7,  25.9792,  25.9841,2,  34.8342,2,  34.8321,2,    190.3,3,     1.41,2,     0.24,2,     0.19,2,     0.15,2,    1.727,2,    1.076,2,   1987.1,2,   2288.8,2,   8.0610,2,    25.00,     0.17,2,     0.29,2,  25.9841,2,     1733
  49UP20100706,   P09,    63,  1,     31,    104,2,20100722,1617,  7.9962, 136.9867, 2961,    126.3,  23.4744,  23.4695,2,  34.9676,2,  34.9612,4,    178.7,3,     2.39,2,     1.70,2,     0.22,2,     0.27,2,    1.942,2,    1.148,2,   2027.9,2,   2299.8,2,   8.0015,2,    25.00,     0.11,2,     0.24,2,  23.4695,2,     1731
  49UP20100706,   P09,    63,  1,     30,    103,2,20100722,1617,  7.9962, 136.9867, 2961,    152.3,  19.2115,  19.2501,2,  34.7593,2,  34.7599,2,    149.0,3,     7.23,2,     8.60,2,     0.02,2,     0.71,2,    1.969,2,    1.123,2,   2071.5,2,   2288.5,2,   7.8732,2,    25.00,     0.05,2,     0.18,2,  19.2501,2,     1730
  49UP20100706,   P09,    63,  1,     29,    102,2,20100722,1617,  7.9962, 136.9867, 2961,    201.9,  14.5979,  14.5956,2,  34.5273,2,  34.5280,2,    141.9,3,    14.16,2,    14.94,2,     0.00,2,     1.12,2,    2.104,2,    1.202,2,   2119.6,2,   2276.9,2,   7.7727,2,    25.00,     0.01,2,     0.04,2,  14.5956,2,     1728
  49UP20100706,   P09,    63,  1,     28,    101,2,20100722,1617,  7.9962, 136.9867, 2961,    252.1,  11.2446,  11.2410,2,  34.5016,2,  34.5018,6,     96.1,3,    27.98,6,    25.16,6,     0.00,6,     1.83,6,    1.472,2,    0.766,2,   2186.0,2,   2213.8,4,   7.6145,2,    25.00,  -999.00,9,  -999.00,9,  11.2410,2,     1727
  49UP20100706,   P09,    63,  1,     27,    100,2,20100722,1617,  7.9962, 136.9867, 2961,    302.8,  10.2369,  10.2347,2,  34.5328,2,  34.5318,6,     74.7,3,    32.66,6,    29.15,6,     0.00,6,     2.10,6,    1.040,6,    0.560,6,   2214.3,2,   2293.5,2,   7.5640,2,    25.00,  -999.00,9,  -999.00,9,  10.2347,2,     1725
  49UP20100706,   P09,    63,  1,     26,     99,2,20100722,1617,  7.9962, 136.9867, 2961,    352.4,   9.1961,   9.2016,2,  34.5665,2,  34.5662,6,     64.0,3,    37.44,6,    32.33,6,     0.00,6,     2.31,6,    0.557,2,    0.295,2,   2235.0,2,   2300.2,2,   7.5144,2,    25.00,  -999.00,9,  -999.00,9,   9.2016,2,     1723
  49UP20100706,   P09,    63,  1,     25,     98,2,20100722,1617,  7.9962, 136.9867, 2961,    403.2,   8.6587,   8.6465,2,  34.5460,2,  34.5457,6,     81.9,3,    40.01,2,    31.74,2,     0.00,2,     2.26,2,    0.633,2,    0.315,2,   2230.6,2,   2305.0,3,   7.5428,3,    25.00,  -999.00,9,  -999.00,9,   8.6465,2,     1721
  49UP20100706,   P09,    63,  1,     24,     97,2,20100722,1617,  7.9962, 136.9867, 2961,    454.0,   8.2436,   8.2434,2,  34.5503,2,  34.5502,2,     71.3,3,    42.83,2,    33.59,2,     0.00,2,     2.39,2,    0.442,2,    0.240,2,   2242.9,6,   2307.9,6,   7.5108,6,    25.00,  -999.00,9,  -999.00,9,   8.2434,2,     1719
  49UP20100706,   P09,    63,  1,     23,     96,2,20100722,1617,  7.9962, 136.9867, 2961,    454.0,   8.2436,   8.2434,2,  34.5503,2,  34.5497,2,     71.6,3,    42.69,2,    33.52,2,     0.00,2,     2.38,2,    0.422,2,    0.209,2,   2239.9,3,   2307.2,2,   7.5120,2,    25.00,  -999.00,9,  -999.00,9,   8.2434,2,     1719
  49UP20100706,   P09,    63,  1,     22,     95,2,20100722,1617,  7.9962, 136.9867, 2961,    504.3,   7.7549,   7.7541,2,  34.5359,2,  34.5354,2,     77.8,3,    46.19,2,    33.94,2,     0.00,2,     2.41,2,    0.372,6,    0.177,6,   2240.5,2,   2312.5,2,   7.5170,2,    25.00,  -999.00,9,  -999.00,9,   7.7541,2,     1717
  49UP20100706,   P09,    63,  1,     21,     94,2,20100722,1617,  7.9962, 136.9867, 2961,    605.6,   6.8762,   6.8767,2,  34.5240,2,  34.5241,2,     91.2,3,    52.49,2,    34.37,2,     0.00,2,     2.45,2,    0.326,3,    0.180,3,   2246.7,2,   2317.1,2,   7.5222,2,    25.00,  -999.00,9,  -999.00,9,   6.8767,2,     1715
  49UP20100706,   P09,    63,  1,     20,     93,2,20100722,1617,  7.9962, 136.9867, 2961,    706.4,   6.2594,   6.2593,2,  34.5258,2,  34.5256,2,     88.7,3,    60.98,2,    35.70,2,     0.00,2,     2.55,2,    0.180,2,    0.045,2,   2255.2,2,   2324.8,2,   7.5095,2,    25.00,  -999.00,9,  -999.00,9,   6.2593,2,     1712
  49UP20100706,   P09,    63,  1,     19,     92,2,20100722,1617,  7.9962, 136.9867, 2961,    807.4,   5.7169,   5.7175,2,  34.5290,2,  34.5295,2,     89.5,3,    68.82,2,    36.43,2,     0.00,2,     2.60,2,    0.104,2,    0.063,2,   2270.9,2,   2333.5,2,   7.5048,2,    25.00,  -999.00,9,  -999.00,9,   5.7175,2,     1709
  49UP20100706,   P09,    63,  1,     18,     91,2,20100722,1617,  7.9962, 136.9867, 2961,    907.5,   5.0325,   5.0311,2,  34.5388,2,  34.5395,2,     85.9,3,    82.08,2,    37.84,2,     0.00,2,     2.70,2,    0.023,2,    0.021,2,   2285.8,2,   2347.8,2,   7.4909,2,    25.00,  -999.00,9,  -999.00,9,   5.0311,2,     1706
  49UP20100706,   P09,    63,  1,     17,     90,2,20100722,1617,  7.9962, 136.9867, 2961,   1008.5,   4.6326,   4.6319,2,  34.5470,2,  34.5474,2,     87.5,3,    89.49,2,    38.17,2,     0.00,2,     2.72,2,    0.009,2,    0.011,2,   2299.6,6,   2356.4,6,   7.4903,6,    25.00,  -999.00,9,  -999.00,9,   4.6319,2,     1704
  49UP20100706,   P09,    63,  1,     16,     89,2,20100722,1617,  7.9962, 136.9867, 2961,   1008.5,   4.6326,   4.6319,2,  34.5470,2,  34.5478,2,     88.0,3,    89.69,2,    38.14,2,     0.00,2,     2.72,2,    0.031,4,    0.015,4,   2302.3,2,   2356.5,2,   7.4894,2,    25.00,  -999.00,9,  -999.00,9,   4.6319,2,     1704
  49UP20100706,   P09,    63,  1,     15,     88,2,20100722,1617,  7.9962, 136.9867, 2961,   1260.8,   3.6454,   3.6463,2,  34.5741,2,  34.5745,2,     93.1,3,   109.40,2,    38.82,2,     0.00,2,     2.76,2,    0.000,2,    0.000,2,   2320.9,2,   2377.3,2,   7.4982,2,    25.00,  -999.00,9,  -999.00,9,   3.6463,2,     1658
  49UP20100706,   P09,    63,  1,     14,     87,2,20100722,1617,  7.9962, 136.9867, 2961,   1515.7,   3.0821,   3.0820,2,  34.5931,2,  34.5933,2,     99.8,3,   120.91,2,    38.75,2,     0.00,2,     2.75,2,    1.402,4,    2.370,4,   2328.6,2,   2389.7,2,   7.4976,2,    25.00,  -999.00,9,  -999.00,9,   3.0820,2,     1652
  49UP20100706,   P09,    63,  1,     13,     86,2,20100722,1617,  7.9962, 136.9867, 2961,   1769.0,   2.5736,   2.5735,2,  34.6157,2,  34.6161,2,    107.6,3,   130.61,2,    38.49,2,     0.00,2,     2.73,2, -999.000,9, -999.000,9,   2333.5,6,   2399.7,6,   7.5092,6,    25.00,  -999.00,9,  -999.00,9,   2.5735,2,     1647
  49UP20100706,   P09,    63,  1,     12,     85,2,20100722,1617,  7.9962, 136.9867, 2961,   1769.0,   2.5736,   2.5735,2,  34.6157,2,  34.6162,2,    107.4,3,   130.69,2,    38.53,2,     0.00,2,     2.72,2, -999.000,9, -999.000,9,   2334.6,2,   2398.0,2,   7.5097,2,    25.00,  -999.00,9,  -999.00,9,   2.5735,2,     1647
  49UP20100706,   P09,    63,  1,     11,    110,2,20100722,1617,  7.9962, 136.9867, 2961,   2020.4,   2.2530,   2.2526,2,  34.6316,2,  34.6322,2,    115.4,3,   136.34,2,    38.22,2,     0.00,2,     2.69,2, -999.000,5, -999.000,5,   2331.8,2,   2405.4,2,   7.5200,2,    25.00,  -999.00,9,  -999.00,9,   2.2526,2,     1641
  49UP20100706,   P09,    63,  1,     10,     83,2,20100722,1617,  7.9962, 136.9867, 2961,   2274.6,   2.0319,   2.0317,2,  34.6442,2,  34.6447,2,    122.8,3,   139.28,2,    37.85,2,     0.00,2,     2.65,2, -999.000,9, -999.000,9,   2335.7,2,   2408.3,2,   7.5334,2,    25.00,  -999.00,9,  -999.00,9,   2.0317,2,     1635
  49UP20100706,   P09,    63,  1,      9,     82,2,20100722,1617,  7.9962, 136.9867, 2961,   2529.4,   1.8434,   1.8431,2,  34.6553,2,  34.6559,2,    131.0,3,   141.54,2,    37.36,2,     0.00,2,     2.61,2, -999.000,9, -999.000,9,   2336.4,2,   2413.6,2,   7.5447,2,    25.00,  -999.00,9,  -999.00,9,   1.8431,2,     1630
  49UP20100706,   P09,    63,  1,      8,     81,2,20100722,1617,  7.9962, 136.9867, 2961,   2784.0,   1.7138,   1.7136,2,  34.6636,2,  34.6641,2,    137.6,3,   142.74,2,    36.93,2,     0.00,2,     2.58,2, -999.000,9, -999.000,9,   2333.8,2,   2413.1,2,   7.5562,2,    25.00,  -999.00,9,  -999.00,9,   1.7136,2,     1624
  49UP20100706,   P09,    63,  1,      2,     75,2,20100722,1617,  7.9962, 136.9867, 2961,   3025.7,   1.6982,   1.6981,2,  34.6658,2,  34.6661,2,    138.9,3,   143.06,2,    36.90,2,     0.00,2,     2.57,2,    0.000,2,    0.000,2,   2335.1,2,   2415.3,6,   7.5554,6,    25.00,  -999.00,9,  -999.00,9,   1.6981,2,     1617
  49UP20100706,   P09,    63,  1,      1,     74,2,20100722,1617,  7.9962, 136.9867, 2961,   3025.7,   1.6982,   1.6981,2,  34.6658,2,  34.6664,2,    138.8,3,   143.08,2,    36.86,2,     0.00,2,     2.58,2,    0.000,2,    0.000,2,   2338.3,2,   2415.2,2,   7.5565,2,    25.00,  -999.00,9,  -999.00,9,   1.6981,2,     1617