BOTTLE,20200625PRINUNIVRMK
EXPOCODE,SECT_ID,STNNBR,CASTNO,SAMPNO,BTLNBR,BTLNBR_FLAG_W,DATE,TIME,LATITUDE,LONGITUDE,DEPTH,CTDPRS,CTDTMP,SBE35,SBE35_FLAG_W,CTDSAL,CTDSAL_FLAG_W,SALNTY,SALNTY_FLAG_W,OXYGEN,OXYGEN_FLAG_W,SILCAT,SILCAT_FLAG_W,NITRAT,NITRAT_FLAG_W,NITRIT,NITRIT_FLAG_W,PHSPHT,PHSPHT_FLAG_W,CFC-11,CFC-11_FLAG_W,CFC-12,CFC-12_FLAG_W,TCARBN,TCARBN_FLAG_W,ALKALI,ALKALI_FLAG_W,PH_TOT,PH_TOT_FLAG_W,PH_TMP,CHLORA,CHLORA_FLAG_W,PPHYTN,PPHYTN_FLAG_W,SBE35,SBE35_FLAG_W,BTL_TIME
,,,,,,,,,,,METERS,DBAR,ITS-90,,,PSS-78,,PSS-78,,UMOL/KG,,UMOL/KG,,UMOL/KG,,UMOL/KG,,UMOL/KG,,PMOL/KG,,PMOL/KG,,UMOL/KG,,UMOL/KG,,,,DEG C,UG/KG,,UG/KG,,,,
  49UP20100706,   P09,    56,  1,      0,     -9,0,20100720,2318, 11.0043, 136.9768, 5101,      0.0,  29.9152,-999.0000,9,  34.2982,2,-999.0000,9,    193.5,2,     0.84,2,     0.00,2,     0.00,2,     0.04,2, -999.000,9, -999.000,9,   -999.0,9,   -999.0,9,-999.0000,9,  -999.00,     0.06,2,     0.01,2,-999.0000,9,      135
  49UP20100706,   P09,    56,  1,     36,    109,2,20100720,2318, 11.0043, 136.9768, 5101,      9.5,  29.9264,  29.9272,2,  34.2981,2,  34.2961,2,    193.7,2,     0.80,2,     0.00,2,     0.00,2,     0.04,2, -999.000,9, -999.000,9,   1920.3,2,   2256.9,2,   8.1294,2,    25.00,     0.05,2,     0.01,2,  29.9272,2,      151
  49UP20100706,   P09,    56,  1,     35,    108,2,20100720,2318, 11.0043, 136.9768, 5101,     25.5,  29.8817,  29.8844,2,  34.3071,2,  34.2983,4,    194.1,2,     0.81,2,     0.00,2,     0.00,2,     0.03,2, -999.000,9, -999.000,9,   1918.5,2,   2257.6,2,   8.1296,2,    25.00,     0.06,2,     0.01,2,  29.8844,2,      150
  49UP20100706,   P09,    56,  1,     34,    107,2,20100720,2318, 11.0043, 136.9768, 5101,     51.4,  29.7760,  29.7774,2,  34.6439,2,  34.6470,2,    198.6,2,     0.73,2,     0.00,2,     0.00,2,     0.03,2, -999.000,9, -999.000,9,   1935.9,2,   2278.1,2,   8.1257,2,    25.00,     0.09,2,     0.02,2,  29.7774,2,      146
  49UP20100706,   P09,    56,  1,     33,    106,2,20100720,2318, 11.0043, 136.9768, 5101,     75.7,  28.2687,  28.2684,2,  34.7892,2,  34.7914,2,    206.6,2,     0.74,2,     0.00,2,     0.00,2,     0.05,2, -999.000,9, -999.000,9,   1945.8,2,   2288.0,2,   8.1200,2,    25.00,     0.12,2,     0.03,2,  28.2684,2,      145
  49UP20100706,   P09,    56,  1,     32,    105,2,20100720,2318, 11.0043, 136.9768, 5101,    100.7,  27.5994,  27.5987,2,  34.8575,2,  34.8629,2,    204.7,2,     0.76,2,     0.00,2,     0.00,2,     0.07,2, -999.000,9, -999.000,9,   1953.7,2,   2293.1,2,   8.1168,2,    25.00,     0.14,2,     0.06,2,  27.5987,2,      143
  49UP20100706,   P09,    56,  1,     31,    104,2,20100720,2318, 11.0043, 136.9768, 5101,    126.3,  26.8471,  26.8441,2,  35.1203,2,  35.1210,2,    199.4,2,     0.79,2,     0.00,2,     0.00,2,     0.07,2, -999.000,9, -999.000,9,   1978.5,2,   2308.8,2,   8.1010,2,    25.00,     0.18,2,     0.23,2,  26.8441,2,      142
  49UP20100706,   P09,    56,  1,     30,    103,2,20100720,2318, 11.0043, 136.9768, 5101,    152.0,  24.9285,  24.9225,2,  35.1326,2,  35.1334,2,    187.1,2,     0.97,2,     0.16,2,     0.15,2,     0.12,2, -999.000,9, -999.000,9,   2008.8,2,   2310.5,2,   8.0517,2,    25.00,     0.14,2,     0.25,2,  24.9225,2,      140
  49UP20100706,   P09,    56,  1,     29,    102,2,20100720,2318, 11.0043, 136.9768, 5101,    201.8,  17.3814,  17.3786,2,  34.6761,2,  34.6899,4,    147.9,2,     8.16,2,     9.88,2,     0.01,2,     0.79,2, -999.000,9, -999.000,9,   2094.4,2,   2288.4,2,   7.8379,2,    25.00,     0.02,2,     0.06,2,  17.3786,2,      138
  49UP20100706,   P09,    56,  1,     28,    101,2,20100720,2318, 11.0043, 136.9768, 5101,    251.7,  13.2097,  13.2106,2,  34.4802,2,  34.4812,2,    133.3,2,    17.78,2,    17.63,2,     0.00,2,     1.29,2, -999.000,9, -999.000,9,   2141.9,2,   2275.2,2,   7.7200,2,    25.00,  -999.00,9,  -999.00,9,  13.2106,2,      135
  49UP20100706,   P09,    56,  1,     27,    100,2,20100720,2318, 11.0043, 136.9768, 5101,    284.9,  11.5658,  11.5653,2,  34.4857,2,  34.4838,2,    100.8,2,    25.68,2,    23.77,2,     0.00,2,     1.73,2, -999.000,9, -999.000,9,   2180.6,6,   2286.8,6,   7.6290,6,    25.00,  -999.00,9,  -999.00,9,  11.5653,2,      133
  49UP20100706,   P09,    56,  1,     26,     99,2,20100720,2318, 11.0043, 136.9768, 5101,    334.2,  10.2139,  10.2184,2,  34.4786,2,  34.4799,2,     85.3,2,    32.65,2,    27.81,2,     0.00,2,     2.00,2, -999.000,9, -999.000,9,   2210.1,2,   2291.4,2,   7.5810,2,    25.00,  -999.00,9,  -999.00,9,  10.2184,2,      131
  49UP20100706,   P09,    56,  1,     25,     98,2,20100720,2318, 11.0043, 136.9768, 5101,    385.2,   9.2532,   9.2674,2,  34.4312,2,  34.4322,2,     82.5,2,    37.58,2,    29.47,2,     0.00,2,     2.13,2, -999.000,9, -999.000,9,   2222.9,2,   2296.9,2,   7.5472,2,    25.00,  -999.00,9,  -999.00,9,   9.2674,2,      127
  49UP20100706,   P09,    56,  1,     24,     97,2,20100720,2318, 11.0043, 136.9768, 5101,    434.1,   8.1169,   8.1169,2,  34.4638,2,  34.4630,2,     70.4,2,    46.44,2,    32.98,2,     0.00,2,     2.38,2, -999.000,9, -999.000,9,   2246.9,2,   2305.0,2,   7.5024,2,    25.00,  -999.00,9,  -999.00,9,   8.1169,2,      124
  49UP20100706,   P09,    56,  1,     23,     96,2,20100720,2318, 11.0043, 136.9768, 5101,    485.2,   7.4872,   7.4870,2,  34.4731,2,  34.4711,2,     68.7,2,    51.81,2,    34.48,2,     0.00,2,     2.48,2, -999.000,9, -999.000,9,   2258.2,2,   2306.0,2,   7.4895,2,    25.00,  -999.00,9,  -999.00,9,   7.4870,2,      121
  49UP20100706,   P09,    56,  1,     22,     95,2,20100720,2318, 11.0043, 136.9768, 5101,    575.1,   6.8228,   6.8239,2,  34.4910,2,  34.4899,2,     70.4,2,    57.60,2,    35.67,2,     0.00,2,     2.56,2, -999.000,9, -999.000,9,   2268.4,2,   2319.2,2,   7.4786,2,    25.00,  -999.00,9,  -999.00,9,   6.8239,2,      117
  49UP20100706,   P09,    56,  1,     21,     94,2,20100720,2318, 11.0043, 136.9768, 5101,    677.0,   6.1361,   6.1362,2,  34.5082,2,  34.5076,6,     75.7,6,    65.06,6,    36.64,6,     0.00,6,     2.63,6, -999.000,9, -999.000,9,   2277.3,2,   2331.6,2,   7.4851,2,    25.00,  -999.00,9,  -999.00,9,   6.1362,2,      113
  49UP20100706,   P09,    56,  1,     20,     93,2,20100720,2318, 11.0043, 136.9768, 5101,    778.6,   5.6490,   5.6477,2,  34.5194,2,  34.5193,6,     84.0,6,    70.80,6,    36.84,6,     0.00,6,     2.64,6, -999.000,9, -999.000,9,   2278.3,2,   2332.8,2,   7.4943,2,    25.00,  -999.00,9,  -999.00,9,   5.6477,2,      108
  49UP20100706,   P09,    56,  1,     19,     92,2,20100720,2318, 11.0043, 136.9768, 5101,    778.6,   5.6490,   5.6477,2,  34.5194,2,  34.5192,2,     84.9,4,    70.70,2,    36.65,2,     0.00,2,     2.63,2, -999.000,9, -999.000,9,   2277.5,6,   2336.7,6,   7.4931,6,    25.00,  -999.00,9,  -999.00,9,   5.6477,2,      108
  49UP20100706,   P09,    56,  1,     18,     91,2,20100720,2318, 11.0043, 136.9768, 5101,    878.9,   5.1327,   5.1327,2,  34.5356,2,  34.5349,6,     87.5,6,    79.53,6,    37.11,6,     0.00,6,     2.66,6, -999.000,9, -999.000,9,   2285.2,2,   2344.7,2,   7.4996,2,    25.00,  -999.00,9,  -999.00,9,   5.1327,2,      105
  49UP20100706,   P09,    56,  1,     17,     90,2,20100720,2318, 11.0043, 136.9768, 5101,    980.4,   4.7108,   4.7115,2,  34.5431,2,  34.5427,6,     86.8,6,    88.13,6,    37.78,6,     0.00,6,     2.71,6, -999.000,9, -999.000,9,   2296.3,2,   2358.3,2,   7.4900,2,    25.00,  -999.00,9,  -999.00,9,   4.7115,2,      101
  49UP20100706,   P09,    56,  1,     16,     89,2,20100720,2318, 11.0043, 136.9768, 5101,   1182.7,   3.9000,   3.9000,2,  34.5593,2,  34.5586,2,     83.7,2,   105.77,2,    38.99,2,     0.00,2,     2.78,2, -999.000,9, -999.000,9,   2318.3,2,   2373.5,2,   7.4788,2,    25.00,  -999.00,9,  -999.00,9,   3.9000,2,       56
  49UP20100706,   P09,    56,  1,     15,     88,2,20100720,2318, 11.0043, 136.9768, 5101,   1435.3,   3.2423,   3.2424,2,  34.5841,2,  34.5838,2,     94.9,2,   118.04,2,    38.67,2,     0.00,2,     2.75,2, -999.000,9, -999.000,9,   2327.8,2,   2385.9,2,   7.4921,2,    25.00,  -999.00,9,  -999.00,9,   3.2424,2,       49
  49UP20100706,   P09,    56,  1,     14,     87,2,20100720,2318, 11.0043, 136.9768, 5101,   1696.3,   2.6210,   2.6210,2,  34.6108,2,  34.6107,2,    104.7,2,   130.03,2,    38.47,2,     0.00,2,     2.72,2, -999.000,9, -999.000,9,   2339.1,2,   2399.8,2,   7.5054,2,    25.00,  -999.00,9,  -999.00,9,   2.6210,2,       43
  49UP20100706,   P09,    56,  1,     13,     86,2,20100720,2318, 11.0043, 136.9768, 5101,   1940.1,   2.2941,   2.2943,2,  34.6261,2,  34.6268,2,    111.6,2,   136.07,2,    38.15,2,     0.00,2,     2.69,2, -999.000,9, -999.000,9,   2339.5,2,   2403.3,2,   7.5143,2,    25.00,  -999.00,9,  -999.00,9,   2.2943,2,       38
  49UP20100706,   P09,    56,  1,     12,     85,2,20100720,2318, 11.0043, 136.9768, 5101,   2192.2,   2.0591,   2.0590,2,  34.6408,2,  34.6413,2,    119.5,2,   139.59,2,    37.81,2,     0.00,2,     2.66,2, -999.000,9, -999.000,9,   2341.2,2,   2405.2,2,   7.5269,2,    25.00,  -999.00,9,  -999.00,9,   2.0590,2,       32
  49UP20100706,   P09,    56,  1,     11,    110,2,20100720,2318, 11.0043, 136.9768, 5101,   2447.6,   1.9204,   1.9204,2,  34.6480,2,  34.6483,2,    124.0,2,   142.22,2,    37.56,2,     0.00,2,     2.63,2, -999.000,9, -999.000,9,   2337.3,3,   2410.8,2,   7.5351,2,    25.00,  -999.00,9,  -999.00,9,   1.9204,2,       26
  49UP20100706,   P09,    56,  1,     10,     83,2,20100720,2318, 11.0043, 136.9768, 5101,   2712.1,   1.7575,   1.7575,2,  34.6585,2,  34.6585,2,    131.0,2,   143.88,2,    37.13,2,     0.00,2,     2.60,2, -999.000,9, -999.000,9,   2340.5,6,   2417.4,6,   7.5429,6,    25.00,  -999.00,9,  -999.00,9,   1.7575,2,       19
  49UP20100706,   P09,    56,  1,      9,     82,2,20100720,2318, 11.0043, 136.9768, 5101,   2957.0,   1.6661,   1.6662,2,  34.6652,2,  34.6662,2,    137.2,2,   144.07,2,    36.73,2,     0.00,2,     2.57,2, -999.000,9, -999.000,9,   2330.2,2,   2414.9,2,   7.5533,2,    25.00,  -999.00,9,  -999.00,9,   1.6662,2,       13
  49UP20100706,   P09,    56,  1,      8,     81,2,20100720,2318, 11.0043, 136.9768, 5101,   3223.3,   1.5932,   1.5933,2,  34.6719,2,  34.6729,2,    143.5,2,   143.11,2,    36.33,2,     0.00,2,     2.53,2, -999.000,9, -999.000,9,   2331.2,2,   2416.6,2,   7.5607,2,    25.00,  -999.00,9,  -999.00,9,   1.5933,2,        5
  49UP20100706,   P09,    56,  1,      7,     80,2,20100720,2318, 11.0043, 136.9768, 5101,   3468.9,   1.5633,   1.5633,2,  34.6758,2,  34.6777,4,    147.7,2,   142.21,2,    36.03,2,     0.00,2,     2.51,2, -999.000,9, -999.000,9,   2324.5,2,   2409.6,2,   7.5684,2,    25.00,  -999.00,9,  -999.00,9,   1.5633,2,     2358
  49UP20100706,   P09,    56,  1,      6,     79,2,20100720,2318, 11.0043, 136.9768, 5101,   3735.1,   1.5371,   1.5369,2,  34.6797,2,  34.6799,2,    152.6,2,   141.09,2,    35.78,2,     0.00,2,     2.49,2, -999.000,9, -999.000,9,   2322.3,2,   2412.4,2,   7.5754,2,    25.00,  -999.00,9,  -999.00,9,   1.5369,2,     2351
  49UP20100706,   P09,    56,  1,      5,     78,2,20100720,2318, 11.0043, 136.9768, 5101,   3981.2,   1.5334,   1.5334,2,  34.6821,2,  34.6822,2,    155.0,2,   140.31,2,    35.58,2,     0.00,2,     2.47,2, -999.000,9, -999.000,9,   2321.3,2,   2407.1,2,   7.5759,2,    25.00,  -999.00,9,  -999.00,9,   1.5334,2,     2344
  49UP20100706,   P09,    56,  1,      4,     77,2,20100720,2318, 11.0043, 136.9768, 5101,   4246.1,   1.5233,   1.5235,2,  34.6852,2,  34.6855,2,    158.4,2,   139.30,2,    35.34,2,     0.00,2,     2.46,2, -999.000,9, -999.000,9,   2320.0,2,   2407.7,2,   7.5825,2,    25.00,  -999.00,9,  -999.00,9,   1.5235,2,     2337
  49UP20100706,   P09,    56,  1,      3,     76,2,20100720,2318, 11.0043, 136.9768, 5101,   4492.3,   1.5321,   1.5319,2,  34.6864,2,  34.6868,2,    160.4,2,   138.61,2,    35.24,2,     0.00,2,     2.45,2, -999.000,9, -999.000,9,   2319.4,2,   2393.5,3,   7.5812,2,    25.00,  -999.00,9,  -999.00,9,   1.5319,2,     2331
  49UP20100706,   P09,    56,  1,      2,     75,2,20100720,2318, 11.0043, 136.9768, 5101,   4759.6,   1.5471,   1.5471,2,  34.6876,2,  34.6878,2,    161.8,2,   138.14,2,    35.09,2,     0.00,2,     2.44,2, -999.000,9, -999.000,9,   2316.6,2,   2444.5,3,   7.5845,2,    25.00,  -999.00,9,  -999.00,9,   1.5471,2,     2325
  49UP20100706,   P09,    56,  1,      1,     74,2,20100720,2318, 11.0043, 136.9768, 5101,   5029.3,   1.5770,   1.5769,2,  34.6876,2,  34.6897,4,    162.3,2,   138.31,2,    35.10,2,     0.00,2,     2.45,2, -999.000,9, -999.000,9,   2316.1,2,   2411.0,2,   7.5811,2,    25.00,  -999.00,9,  -999.00,9,   1.5769,2,     2318