BOTTLE,20200625PRINUNIVRMK
EXPOCODE,SECT_ID,STNNBR,CASTNO,SAMPNO,BTLNBR,BTLNBR_FLAG_W,DATE,TIME,LATITUDE,LONGITUDE,DEPTH,CTDPRS,CTDTMP,SBE35,SBE35_FLAG_W,CTDSAL,CTDSAL_FLAG_W,SALNTY,SALNTY_FLAG_W,OXYGEN,OXYGEN_FLAG_W,SILCAT,SILCAT_FLAG_W,NITRAT,NITRAT_FLAG_W,NITRIT,NITRIT_FLAG_W,PHSPHT,PHSPHT_FLAG_W,CFC-11,CFC-11_FLAG_W,CFC-12,CFC-12_FLAG_W,TCARBN,TCARBN_FLAG_W,ALKALI,ALKALI_FLAG_W,PH_TOT,PH_TOT_FLAG_W,PH_TMP,CHLORA,CHLORA_FLAG_W,PPHYTN,PPHYTN_FLAG_W,SBE35,SBE35_FLAG_W,BTL_TIME
,,,,,,,,,,,METERS,DBAR,ITS-90,,,PSS-78,,PSS-78,,UMOL/KG,,UMOL/KG,,UMOL/KG,,UMOL/KG,,UMOL/KG,,PMOL/KG,,PMOL/KG,,UMOL/KG,,UMOL/KG,,,,DEG C,UG/KG,,UG/KG,,,,
  49UP20100706,   P09,    26,  1,      0,     -9,0,20100712,1717, 25.9972, 136.9865, 5578,      0.0,  29.2340,-999.0000,9,  34.7640,2,-999.0000,9,    198.2,2,     1.45,2,     0.05,2,     0.00,2,     0.04,2, -999.000,9, -999.000,9,   -999.0,9,   -999.0,9,-999.0000,9,  -999.00,  -999.00,5,  -999.00,5,-999.0000,9,     1940
  49UP20100706,   P09,    26,  1,     36,    109,2,20100712,1717, 25.9972, 136.9865, 5578,     10.8,  29.2699,  29.2716,2,  34.7573,2,  34.7581,2,    197.5,2,     1.39,2,     0.01,2,     0.00,2,     0.00,2,    1.515,2,    0.927,2,   1962.2,2,   2281.0,2,   8.0946,2,    25.00,  -999.00,5,  -999.00,5,  29.2716,2,     1940
  49UP20100706,   P09,    26,  1,     35,    108,2,20100712,1717, 25.9972, 136.9865, 5578,     26.3,  27.4473,  27.4577,2,  34.7504,2,  34.7491,2,    205.7,2,     1.35,2,     0.02,2,     0.00,2,     0.00,2,    1.730,2,    1.036,2,   1962.6,2,   2278.7,2,   8.0926,2,    25.00,     0.05,2,     0.01,2,  27.4577,2,     1938
  49UP20100706,   P09,    26,  1,     34,    107,2,20100712,1717, 25.9972, 136.9865, 5578,     50.3,  23.9506,  23.9459,2,  34.7410,2,  34.7418,2,    220.9,2,     1.50,2,     0.02,2,     0.00,2,     0.00,2,    1.970,2,    1.171,2,   1970.4,2,   2279.6,2,   8.0818,2,    25.00,     0.06,2,     0.01,2,  23.9459,2,     1935
  49UP20100706,   P09,    26,  1,     33,    106,2,20100712,1717, 25.9972, 136.9865, 5578,     75.1,  21.7944,  21.7905,2,  34.7481,2,  34.7471,2,    228.2,2,     1.70,2,     0.01,2,     0.00,2,     0.00,2,    2.094,2,    1.268,2,   1974.9,2,   2282.4,2,   8.0604,2,    25.00,     0.09,2,     0.01,2,  21.7905,2,     1934
  49UP20100706,   P09,    26,  1,     32,    105,2,20100712,1717, 25.9972, 136.9865, 5578,    100.3,  20.3797,  20.3812,2,  34.7511,2,  34.7524,2,    219.1,2,     1.87,2,     0.05,2,     0.00,2,     0.01,2,    2.129,2,    1.312,2,   1993.3,2,   2283.5,2,   8.0388,2,    25.00,     0.16,2,     0.08,2,  20.3812,2,     1932
  49UP20100706,   P09,    26,  1,     31,    104,2,20100712,1717, 25.9972, 136.9865, 5578,    130.2,  19.5451,  19.5421,2,  34.7377,2,  34.7370,2,    211.9,2,     2.18,2,     0.79,2,     0.06,2,     0.06,2,    2.152,2,    1.322,2,   2002.5,2,   2280.6,2,   8.0217,2,    25.00,     0.30,2,     0.30,2,  19.5421,2,     1931
  49UP20100706,   P09,    26,  1,     30,    103,2,20100712,1717, 25.9972, 136.9865, 5578,    151.2,  19.2431,  19.2429,2,  34.7353,2,  34.7351,2,    206.1,2,     2.50,2,     2.08,2,     0.04,2,     0.13,2,    2.168,2,    1.313,2,   2007.1,2,   2282.7,2,   8.0086,2,    25.00,     0.17,2,     0.23,2,  19.2429,2,     1929
  49UP20100706,   P09,    26,  1,     29,    102,2,20100712,1717, 25.9972, 136.9865, 5578,    201.6,  18.3990,  18.3969,2,  34.7410,2,  34.7422,2,    196.8,2,     3.51,2,     4.03,2,     0.01,2,     0.26,2,    2.267,2,    1.387,2,   2026.2,2,   2283.3,2,   7.9781,2,    25.00,     0.01,2,     0.02,2,  18.3969,2,     1928
  49UP20100706,   P09,    26,  1,     28,    101,2,20100712,1717, 25.9972, 136.9865, 5578,    252.3,  17.5278,  17.5256,2,  34.7320,2,  34.7326,2,    193.3,2,     4.84,2,     5.65,2,     0.01,2,     0.36,2,    2.297,2,    1.384,2,   2039.6,2,   2282.6,2,   7.9506,2,    25.00,  -999.00,9,  -999.00,9,  17.5256,2,     1926
  49UP20100706,   P09,    26,  1,     27,    100,2,20100712,1717, 25.9972, 136.9865, 5578,    282.2,  16.9658,  16.9620,2,  34.7116,2,  34.7117,2,    190.8,2,     6.13,2,     6.79,2,     0.01,2,     0.44,2,    2.341,6,    1.398,6,   2048.1,2,   2281.7,2,   7.9277,2,    25.00,  -999.00,9,  -999.00,9,  16.9620,2,     1924
  49UP20100706,   P09,    26,  1,     26,     99,2,20100712,1717, 25.9972, 136.9865, 5578,    373.5,  14.8130,  14.8119,2,  34.5711,2,  34.5718,2,    186.5,2,    10.86,2,    10.32,2,     0.01,2,     0.70,2,    2.525,2,    1.471,2,   2074.8,2,   2276.3,2,   7.8770,2,    25.00,  -999.00,9,  -999.00,9,  14.8119,2,     1921
  49UP20100706,   P09,    26,  1,     25,     98,2,20100712,1717, 25.9972, 136.9865, 5578,    475.0,  12.5591,  12.5541,2,  34.4099,2,  34.4126,2,    181.0,2,    18.46,2,    14.50,2,     0.01,2,     1.00,2,    2.568,2,    1.452,2,   2107.7,2,   2276.4,2,   7.7963,2,    25.00,  -999.00,9,  -999.00,9,  12.5541,2,     1918
  49UP20100706,   P09,    26,  1,     24,     97,4,20100712,1717, 25.9972, 136.9865, 5578,    574.7,   9.5862,   9.5853,2,  34.2252,2,  34.6924,4,    203.4,4,     5.62,4,     4.06,4,     0.02,4,     0.29,4,    2.202,4,    1.309,4,   2028.4,4,   2098.6,4,   7.9823,4,    25.00,  -999.00,9,  -999.00,9,   9.5853,2,     1916
  49UP20100706,   P09,    26,  1,     23,     96,2,20100712,1717, 25.9972, 136.9865, 5578,    676.3,   7.7929,   7.7930,2,  34.1456,2,  34.1465,2,    141.1,2,    49.16,2,    26.50,2,     0.00,2,     1.89,2,    2.128,2,    1.125,2,   2196.4,2,   2288.8,2,   7.6000,2,    25.00,  -999.00,9,  -999.00,9,   7.7930,2,     1913
  49UP20100706,   P09,    26,  1,     22,     95,2,20100712,1717, 25.9972, 136.9865, 5578,    777.6,   6.1498,   6.1488,2,  34.1484,2,  34.1494,2,    106.1,2,    70.78,2,    32.46,2,     0.00,2,     2.32,2,    1.518,2,    0.786,2,   2248.5,2,   2304.9,2,   7.5147,2,    25.00,  -999.00,9,  -999.00,9,   6.1488,2,     1910
  49UP20100706,   P09,    26,  1,     21,     94,2,20100712,1717, 25.9972, 136.9865, 5578,    877.7,   4.9109,   4.9108,2,  34.2208,2,  34.2209,2,     76.0,2,    93.33,2,    37.16,2,     0.00,2,     2.65,2,    0.911,2,    0.432,2,   2293.6,2,   2329.0,2,   7.4324,2,    25.00,  -999.00,9,  -999.00,9,   4.9108,2,     1907
  49UP20100706,   P09,    26,  1,     20,     93,2,20100712,1717, 25.9972, 136.9865, 5578,    979.6,   4.2415,   4.2472,2,  34.2886,2,  34.2879,2,     62.8,2,   107.69,2,    39.23,2,     0.00,2,     2.79,2,    0.565,2,    0.271,2,   2321.9,6,   2346.6,6,   7.4103,6,    25.00,  -999.00,9,  -999.00,9,   4.2472,2,     1904
  49UP20100706,   P09,    26,  1,     19,     92,2,20100712,1717, 25.9972, 136.9865, 5578,   1142.7,   3.3627,   3.3623,2,  34.3974,2,  34.3980,2,     54.6,2,   127.62,2,    41.15,2,     0.00,2,     2.92,2,    0.182,2,    0.060,2,   2350.2,2,   2368.4,2,   7.3949,2,    25.00,  -999.00,9,  -999.00,9,   3.3623,2,     1900
  49UP20100706,   P09,    26,  1,     18,     91,2,20100712,1717, 25.9972, 136.9865, 5578,   1344.0,   2.7905,   2.7918,2,  34.4771,2,  34.4761,2,     60.3,2,   139.69,2,    41.33,2,     0.00,2,     2.92,2,    0.045,2,    0.010,2,   2356.6,2,   2376.6,3,   7.4081,2,    25.00,  -999.00,9,  -999.00,9,   2.7918,2,     1855
  49UP20100706,   P09,    26,  1,     17,     90,2,20100712,1717, 25.9972, 136.9865, 5578,   1547.0,   2.4491,   2.4488,2,  34.5312,2,  34.5315,2,     74.6,2,   144.36,2,    40.64,2,     0.00,2,     2.86,2,    0.000,2,    0.000,2,   2363.5,3,   2389.3,3,   7.4385,2,    25.00,  -999.00,9,  -999.00,9,   2.4488,2,     1850
  49UP20100706,   P09,    26,  1,     16,     89,2,20100712,1717, 25.9972, 136.9865, 5578,   1749.2,   2.1991,   2.1990,2,  34.5715,2,  34.5715,2,     89.8,2,   145.90,2,    39.82,2,     0.00,2,     2.79,2,    0.000,2,    0.000,2,   2356.8,3,   2394.2,3,   7.4680,2,    25.00,  -999.00,9,  -999.00,9,   2.1990,2,     1845
  49UP20100706,   P09,    26,  1,     15,     88,2,20100712,1717, 25.9972, 136.9865, 5578,   1952.4,   2.0180,   2.0181,2,  34.5999,2,  34.6000,6,    103.1,6,   145.92,6,    39.00,6,     0.00,6,     2.73,6,    0.000,2,    0.000,2,   2349.5,3,   2400.2,3,   7.4944,2,    25.00,  -999.00,9,  -999.00,9,   2.0181,2,     1841
  49UP20100706,   P09,    26,  1,     14,     87,2,20100712,1717, 25.9972, 136.9865, 5578,   2196.4,   1.8410,   1.8409,2,  34.6281,2,  34.6285,6,    118.6,6,   144.79,6,    38.11,6,     0.00,6,     2.66,6,    0.000,2,    0.000,2,   2345.4,3,   2400.8,3,   7.5252,2,    25.00,  -999.00,9,  -999.00,9,   1.8409,2,     1835
  49UP20100706,   P09,    26,  1,     13,     86,2,20100712,1717, 25.9972, 136.9865, 5578,   2451.0,   1.7550,   1.7548,2,  34.6423,2,  34.6426,2,    126.3,2,   144.33,2,    37.66,2,     0.00,2,     2.62,2,    0.000,2,    0.000,2,   2339.8,3,   2404.2,3,   7.5365,6,    25.00,  -999.00,9,  -999.00,9,   1.7548,2,     1830
  49UP20100706,   P09,    26,  1,     12,     85,2,20100712,1717, 25.9972, 136.9865, 5578,   2715.2,   1.6810,   1.6811,2,  34.6534,2,  34.6533,2,    133.1,2,   144.03,2,    37.31,2,     0.00,2,     2.59,2,    0.000,2,    0.000,2,   2336.0,3,   2404.3,3,   7.5442,2,    25.00,  -999.00,9,  -999.00,9,   1.6811,2,     1824
  49UP20100706,   P09,    26,  1,     11,    110,2,20100712,1717, 25.9972, 136.9865, 5578,   2960.5,   1.6314,   1.6315,2,  34.6615,2,  34.6616,2,    138.7,2,   143.22,2,    36.91,2,     0.00,2,     2.56,2,    0.000,2,    0.000,2,   2334.2,3,   2406.1,3,   7.5578,2,    25.00,  -999.00,9,  -999.00,9,   1.6315,2,     1819
  49UP20100706,   P09,    26,  1,     10,     83,2,20100712,1717, 25.9972, 136.9865, 5578,   3224.6,   1.5768,   1.5770,2,  34.6696,2,  34.6692,2,    145.0,2,   142.46,2,    36.61,2,     0.00,2,     2.53,2, -999.000,9, -999.000,9,   2333.8,3,   2407.5,3,   7.5681,2,    25.00,  -999.00,9,  -999.00,9,   1.5770,2,     1813
  49UP20100706,   P09,    26,  1,      9,     82,2,20100712,1717, 25.9972, 136.9865, 5578,   3469.6,   1.5456,   1.5460,2,  34.6753,2,  34.6745,2,    149.3,2,   141.90,2,    36.32,2,     0.00,2,     2.51,2, -999.000,9, -999.000,9,   2330.4,3,   2405.3,3,   7.5710,2,    25.00,  -999.00,9,  -999.00,9,   1.5460,2,     1807
  49UP20100706,   P09,    26,  1,      8,     81,3,20100712,1717, 25.9972, 136.9865, 5578,   3736.7,   1.5315,   1.5317,2,  34.6796,2,  34.6788,3,    152.0,2,   141.22,2,    35.96,2,     0.00,2,     2.49,2, -999.000,9, -999.000,9,   2327.3,3,   2404.6,4,   7.5753,2,    25.00,  -999.00,9,  -999.00,9,   1.5317,2,     1801
  49UP20100706,   P09,    26,  1,      7,     80,2,20100712,1717, 25.9972, 136.9865, 5578,   3984.8,   1.5378,   1.5379,2,  34.6816,2,  34.6812,2,    154.0,2,   140.82,2,    35.92,2,     0.00,2,     2.48,2,    0.000,2,    0.000,2,   2327.5,3,   2402.0,3,   7.5776,2,    25.00,  -999.00,9,  -999.00,9,   1.5379,2,     1756
  49UP20100706,   P09,    26,  1,      6,     79,2,20100712,1717, 25.9972, 136.9865, 5578,   4250.6,   1.5499,   1.5502,2,  34.6833,2,  34.6830,2,    155.6,2,   140.51,2,    35.83,2,     0.00,2,     2.47,2, -999.000,9, -999.000,9,   2330.8,3,   2402.6,3,   7.5816,6,    25.00,  -999.00,9,  -999.00,9,   1.5502,2,     1750
  49UP20100706,   P09,    26,  1,      5,     78,2,20100712,1717, 25.9972, 136.9865, 5578,   4495.4,   1.5729,   1.5732,2,  34.6838,2,  34.6835,2,    156.0,2,   140.46,2,    35.81,2,     0.00,2,     2.47,2, -999.000,9, -999.000,9,   2321.3,3,   2403.0,3,   7.5813,2,    25.00,  -999.00,9,  -999.00,9,   1.5732,2,     1744
  49UP20100706,   P09,    26,  1,      4,     77,2,20100712,1717, 25.9972, 136.9865, 5578,   4763.0,   1.6028,   1.6032,2,  34.6840,2,  34.6839,2,    157.1,2,   140.45,2,    35.84,2,     0.00,2,     2.47,2, -999.000,9, -999.000,9,   2325.6,3,   2401.4,3,   7.5828,2,    25.00,  -999.00,9,  -999.00,9,   1.6032,2,     1738
  49UP20100706,   P09,    26,  1,      3,     76,2,20100712,1717, 25.9972, 136.9865, 5578,   5010.2,   1.6330,   1.6331,2,  34.6839,2,  34.6841,6,    156.2,6,   140.41,6,    35.80,6,     0.00,6,     2.47,6, -999.000,9, -999.000,9,   2325.5,3,   2401.6,3,   7.5821,2,    25.00,  -999.00,9,  -999.00,9,   1.6331,2,     1732
  49UP20100706,   P09,    26,  1,      2,     75,2,20100712,1717, 25.9972, 136.9865, 5578,   5279.3,   1.6664,   1.6668,2,  34.6842,2,  34.6840,2,    156.2,2,   140.42,2,    35.80,2,     0.00,2,     2.47,2, -999.000,9, -999.000,9,   2329.9,3,   2401.3,3,   7.5814,2,    25.00,  -999.00,9,  -999.00,9,   1.6668,2,     1726
  49UP20100706,   P09,    26,  1,      1,     74,2,20100712,1717, 25.9972, 136.9865, 5578,   5671.6,   1.7123,   1.7123,2,  34.6844,2,  34.6847,6,    157.5,6,   140.12,6,    35.75,6,     0.00,6,     2.47,6,    0.000,2,    0.000,2,   2323.3,3,   2401.4,3,   7.5789,2,    25.00,  -999.00,9,  -999.00,9,   1.7123,2,     1717