BOTTLE,20200625PRINUNIVRMK
EXPOCODE,SECT_ID,STNNBR,CASTNO,SAMPNO,BTLNBR,BTLNBR_FLAG_W,DATE,TIME,LATITUDE,LONGITUDE,DEPTH,CTDPRS,CTDTMP,SBE35,SBE35_FLAG_W,CTDSAL,CTDSAL_FLAG_W,SALNTY,SALNTY_FLAG_W,OXYGEN,OXYGEN_FLAG_W,SILCAT,SILCAT_FLAG_W,NITRAT,NITRAT_FLAG_W,NITRIT,NITRIT_FLAG_W,PHSPHT,PHSPHT_FLAG_W,CFC-11,CFC-11_FLAG_W,CFC-12,CFC-12_FLAG_W,TCARBN,TCARBN_FLAG_W,ALKALI,ALKALI_FLAG_W,PH_TOT,PH_TOT_FLAG_W,PH_TMP,CHLORA,CHLORA_FLAG_W,PPHYTN,PPHYTN_FLAG_W,SBE35,SBE35_FLAG_W,BTL_TIME
,,,,,,,,,,,METERS,DBAR,ITS-90,,,PSS-78,,PSS-78,,UMOL/KG,,UMOL/KG,,UMOL/KG,,UMOL/KG,,UMOL/KG,,PMOL/KG,,PMOL/KG,,UMOL/KG,,UMOL/KG,,,,DEG C,UG/KG,,UG/KG,,,,
  49UP20100706,   P09,    85,  1,      0,     -9,0,20100806,1836,  1.4920, 141.9760, 2808,      0.0,  29.7589,-999.0000,9,  34.3362,2,-999.0000,9,    194.0,2,     1.03,2,     0.01,2,     0.00,2,     0.08,2, -999.000,9, -999.000,9,   -999.0,9,   -999.0,9,-999.0000,9,  -999.00,  -999.00,9,  -999.00,9,-999.0000,9,     1945
  49UP20100706,   P09,    85,  1,     36,    109,2,20100806,1836,  1.4920, 141.9760, 2808,     11.0,  29.7711,  29.7700,2,  34.3381,2,  34.3360,2,    193.6,2,     1.00,2,     0.02,2,     0.00,2,     0.08,2, -999.000,9, -999.000,9,   -999.0,9,   -999.0,9,-999.0000,9,  -999.00,  -999.00,9,  -999.00,9,  29.7700,2,     2003
  49UP20100706,   P09,    85,  1,     35,    108,2,20100806,1836,  1.4920, 141.9760, 2808,     26.3,  29.7564,  29.7580,2,  34.3880,2,  34.3918,2,    192.9,2,     1.00,2,     0.00,2,     0.00,2,     0.08,2, -999.000,9, -999.000,9,   -999.0,9,   -999.0,9,-999.0000,9,  -999.00,  -999.00,9,  -999.00,9,  29.7580,2,     2001
  49UP20100706,   P09,    85,  1,     34,    107,2,20100806,1836,  1.4920, 141.9760, 2808,     51.7,  29.4172,  29.4157,2,  34.8512,2,  34.8125,4,    190.3,2,     1.14,2,     0.00,2,     0.01,2,     0.14,2, -999.000,9, -999.000,9,   -999.0,9,   -999.0,9,-999.0000,9,  -999.00,  -999.00,9,  -999.00,9,  29.4157,2,     1957
  49UP20100706,   P09,    85,  1,     33,    106,2,20100806,1836,  1.4920, 141.9760, 2808,     76.8,  29.5346,  29.5326,2,  35.1157,2,  35.1098,2,    192.3,2,     1.10,2,     0.05,2,     0.02,2,     0.19,2, -999.000,9, -999.000,9,   -999.0,9,   -999.0,9,-999.0000,9,  -999.00,  -999.00,9,  -999.00,9,  29.5326,2,     1956
  49UP20100706,   P09,    85,  1,     32,    105,2,20100806,1836,  1.4920, 141.9760, 2808,    103.6,  28.7142,  28.7413,2,  35.0152,2,  35.0909,4,    185.0,2,     1.55,2,     0.59,2,     0.14,2,     0.23,2, -999.000,9, -999.000,9,   -999.0,9,   -999.0,9,-999.0000,9,  -999.00,  -999.00,9,  -999.00,9,  28.7413,2,     1954
  49UP20100706,   P09,    85,  1,     31,    104,2,20100806,1836,  1.4920, 141.9760, 2808,    128.8,  25.7788,  25.7795,2,  35.1069,2,  34.9993,4,    150.7,2,     3.15,2,     5.07,2,     0.05,2,     0.45,2, -999.000,9, -999.000,9,   -999.0,9,   -999.0,9,-999.0000,9,  -999.00,  -999.00,9,  -999.00,9,  25.7795,2,     1952
  49UP20100706,   P09,    85,  1,     30,    103,3,20100806,1836,  1.4920, 141.9760, 2808,    151.9,  24.4253,  24.4374,2,  35.3953,2,  35.3840,4,    144.9,2,     2.54,2,     6.12,2,     0.03,2,     0.54,2, -999.000,9, -999.000,9,   -999.0,9,   -999.0,9,-999.0000,9,  -999.00,  -999.00,9,  -999.00,9,  24.4374,2,     1951
  49UP20100706,   P09,    85,  1,     29,    102,2,20100806,1836,  1.4920, 141.9760, 2808,    202.8,  15.8550,  15.8563,2,  35.0350,2,  35.0481,4,    140.2,6,    11.36,6,    14.73,6,     0.00,6,     1.11,6, -999.000,9, -999.000,9,   -999.0,9,   -999.0,9,-999.0000,9,  -999.00,  -999.00,9,  -999.00,9,  15.8563,2,     1948
  49UP20100706,   P09,    85,  1,     28,    101,2,20100806,1836,  1.4920, 141.9760, 2808,    253.7,  10.3732,  10.3731,2,  34.4604,2,  34.4557,6,    115.6,6,    31.20,6,    24.51,6,     0.00,6,     1.77,6, -999.000,9, -999.000,9,   -999.0,9,   -999.0,9,-999.0000,9,  -999.00,  -999.00,9,  -999.00,9,  10.3731,2,     1946
  49UP20100706,   P09,    85,  1,     27,    100,2,20100806,1836,  1.4920, 141.9760, 2808,    282.2,  10.2880,  10.2877,2,  34.7388,2,  34.7367,6,    134.5,6,    22.27,6,    24.09,6,     0.00,6,     1.71,6, -999.000,9, -999.000,9,   -999.0,9,   -999.0,9,-999.0000,9,  -999.00,  -999.00,9,  -999.00,9,  10.2877,2,     1945
  49UP20100706,   P09,    85,  1,     26,     99,2,20100806,1836,  1.4920, 141.9760, 2808,    330.9,   9.7955,   9.7955,2,  34.7151,2,  34.7143,2,    130.6,2,    22.27,2,    25.62,2,     0.00,2,     1.79,2, -999.000,9, -999.000,9,   -999.0,9,   -999.0,9,-999.0000,9,  -999.00,  -999.00,9,  -999.00,9,   9.7955,2,     1943
  49UP20100706,   P09,    85,  1,     25,     98,2,20100806,1836,  1.4920, 141.9760, 2808,    330.9,   9.7955,   9.7955,2,  34.7151,2,  34.7137,6,    130.3,6,    22.59,6,    25.46,6,     0.00,6,     1.79,6, -999.000,9, -999.000,9,   -999.0,9,   -999.0,9,-999.0000,9,  -999.00,  -999.00,9,  -999.00,9,   9.7955,2,     1943
  49UP20100706,   P09,    85,  1,     24,     97,2,20100806,1836,  1.4920, 141.9760, 2808,    383.6,   9.4784,   9.4819,2,  34.6960,2,  34.6948,2,    133.3,2,    21.98,2,    25.85,2,     0.00,2,     1.81,2, -999.000,9, -999.000,9,   -999.0,9,   -999.0,9,-999.0000,9,  -999.00,  -999.00,9,  -999.00,9,   9.4819,2,     1941
  49UP20100706,   P09,    85,  1,     23,     96,2,20100806,1836,  1.4920, 141.9760, 2808,    432.8,   9.2168,   9.2167,2,  34.6758,2,  34.6761,2,    129.6,2,    23.62,2,    26.71,2,     0.00,2,     1.87,2, -999.000,9, -999.000,9,   -999.0,9,   -999.0,9,-999.0000,9,  -999.00,  -999.00,9,  -999.00,9,   9.2167,2,     1939
  49UP20100706,   P09,    85,  1,     22,     95,2,20100806,1836,  1.4920, 141.9760, 2808,    483.8,   8.4951,   8.4951,2,  34.6234,2,  34.6236,2,    112.2,2,    30.77,2,    29.83,2,     0.00,2,     2.09,2, -999.000,9, -999.000,9,   -999.0,9,   -999.0,9,-999.0000,9,  -999.00,  -999.00,9,  -999.00,9,   8.4951,2,     1937
  49UP20100706,   P09,    85,  1,     21,     94,2,20100806,1836,  1.4920, 141.9760, 2808,    574.7,   7.6092,   7.6096,2,  34.5731,2,  34.5725,2,    116.5,2,    36.57,2,    31.08,2,     0.00,2,     2.18,2, -999.000,9, -999.000,9,   -999.0,9,   -999.0,9,-999.0000,9,  -999.00,  -999.00,9,  -999.00,9,   7.6096,2,     1934
  49UP20100706,   P09,    85,  1,     20,     93,2,20100806,1836,  1.4920, 141.9760, 2808,    675.1,   6.5096,   6.5096,2,  34.5381,2,  34.5380,2,    105.1,2,    49.44,2,    34.18,2,     0.00,2,     2.41,2, -999.000,9, -999.000,9,   -999.0,9,   -999.0,9,-999.0000,9,  -999.00,  -999.00,9,  -999.00,9,   6.5096,2,     1931
  49UP20100706,   P09,    85,  1,     19,     92,2,20100806,1836,  1.4920, 141.9760, 2808,    777.5,   5.6692,   5.6716,2,  34.5378,2,  34.5378,2,     94.3,2,    64.98,2,    36.57,2,     0.00,2,     2.59,2, -999.000,9, -999.000,9,   -999.0,9,   -999.0,9,-999.0000,9,  -999.00,  -999.00,9,  -999.00,9,   5.6716,2,     1928
  49UP20100706,   P09,    85,  1,     18,     91,2,20100806,1836,  1.4920, 141.9760, 2808,    877.7,   5.0483,   5.0479,2,  34.5414,2,  34.5401,2,    105.3,2,    71.94,2,    36.40,2,     0.00,2,     2.57,2, -999.000,9, -999.000,9,   -999.0,9,   -999.0,9,-999.0000,9,  -999.00,  -999.00,9,  -999.00,9,   5.0479,2,     1925
  49UP20100706,   P09,    85,  1,     17,     90,2,20100806,1836,  1.4920, 141.9760, 2808,    979.5,   4.7048,   4.7049,2,  34.5524,2,  34.5518,2,     97.8,2,    83.88,2,    37.23,2,     0.00,2,     2.64,2, -999.000,9, -999.000,9,   -999.0,9,   -999.0,9,-999.0000,9,  -999.00,  -999.00,9,  -999.00,9,   4.7049,2,     1922
  49UP20100706,   P09,    85,  1,     16,     89,2,20100806,1836,  1.4920, 141.9760, 2808,    979.5,   4.7048,   4.7049,2,  34.5524,2,  34.5525,2,     98.0,2,    83.28,2,    37.19,2,     0.00,2,     2.64,2, -999.000,9, -999.000,9,   -999.0,9,   -999.0,9,-999.0000,9,  -999.00,  -999.00,9,  -999.00,9,   4.7049,2,     1922
  49UP20100706,   P09,    85,  1,     15,     88,2,20100806,1836,  1.4920, 141.9760, 2808,   1181.7,   3.7761,   3.7761,2,  34.5760,2,  34.5755,2,     98.4,2,   102.87,2,    38.26,2,     0.00,2,     2.71,2, -999.000,9, -999.000,9,   -999.0,9,   -999.0,9,-999.0000,9,  -999.00,  -999.00,9,  -999.00,9,   3.7761,2,     1917
  49UP20100706,   P09,    85,  1,     14,     87,2,20100806,1836,  1.4920, 141.9760, 2808,   1435.5,   3.2254,   3.2261,2,  34.5925,2,  34.5923,2,     99.8,2,   115.31,2,    38.52,2,     0.00,2,     2.73,2, -999.000,9, -999.000,9,   -999.0,9,   -999.0,9,-999.0000,9,  -999.00,  -999.00,9,  -999.00,9,   3.2261,2,     1911
  49UP20100706,   P09,    85,  1,     13,     86,2,20100806,1836,  1.4920, 141.9760, 2808,   1698.5,   2.6776,   2.6781,2,  34.6150,2,  34.6150,2,    110.0,2,   125.10,2,    38.18,2,     0.00,2,     2.69,2, -999.000,9, -999.000,9,   -999.0,9,   -999.0,9,-999.0000,9,  -999.00,  -999.00,9,  -999.00,9,   2.6781,2,     1905
  49UP20100706,   P09,    85,  1,     12,     85,2,20100806,1836,  1.4920, 141.9760, 2808,   1941.7,   2.2472,   2.2472,2,  34.6355,2,  34.6361,2,    117.4,2,   133.20,2,    37.87,2,     0.00,2,     2.66,2, -999.000,9, -999.000,9,   -999.0,9,   -999.0,9,-999.0000,9,  -999.00,  -999.00,9,  -999.00,9,   2.2472,2,     1859
  49UP20100706,   P09,    85,  1,     11,    110,2,20100806,1836,  1.4920, 141.9760, 2808,   1941.7,   2.2472,   2.2472,2,  34.6355,2,  34.6357,2,    117.7,2,   133.65,2,    37.96,2,     0.00,2,     2.66,2, -999.000,9, -999.000,9,   -999.0,9,   -999.0,9,-999.0000,9,  -999.00,  -999.00,9,  -999.00,9,   2.2472,2,     1859
  49UP20100706,   P09,    85,  1,     10,     83,2,20100806,1836,  1.4920, 141.9760, 2808,   2194.4,   2.0276,   2.0277,2,  34.6463,2,  34.6467,2,    123.0,2,   138.21,2,    37.60,2,     0.00,2,     2.64,2, -999.000,9, -999.000,9,   -999.0,9,   -999.0,9,-999.0000,9,  -999.00,  -999.00,9,  -999.00,9,   2.0277,2,     1853
  49UP20100706,   P09,    85,  1,      9,     82,2,20100806,1836,  1.4920, 141.9760, 2808,   2447.1,   1.7548,   1.7547,2,  34.6607,2,  34.6611,2,    133.3,2,   141.68,2,    36.98,2,     0.00,2,     2.58,2, -999.000,9, -999.000,9,   -999.0,9,   -999.0,9,-999.0000,9,  -999.00,  -999.00,9,  -999.00,9,   1.7547,2,     1847
  49UP20100706,   P09,    85,  1,      8,     81,3,20100806,1836,  1.4920, 141.9760, 2808,   2710.1,   1.6982,   1.6980,2,  34.6647,2,  34.6655,3,    136.7,2,   142.09,2,    36.80,2,     0.00,2,     2.56,2, -999.000,9, -999.000,9,   -999.0,9,   -999.0,9,-999.0000,9,  -999.00,  -999.00,9,  -999.00,9,   1.6980,2,     1841
  49UP20100706,   P09,    85,  1,      7,     80,2,20100806,1836,  1.4920, 141.9760, 2808,   2710.1,   1.6982,   1.6980,2,  34.6647,2,  34.6660,2,    137.0,2,   142.22,2,    36.68,2,     0.00,2,     2.56,2, -999.000,9, -999.000,9,   -999.0,9,   -999.0,9,-999.0000,9,  -999.00,  -999.00,9,  -999.00,9,   1.6980,2,     1841
  49UP20100706,   P09,    85,  1,      1,     74,2,20100806,1836,  1.4920, 141.9760, 2808,   2838.2,   1.6706,   1.6702,2,  34.6670,2,  34.6674,2,    138.1,2,   142.60,2,    36.70,2,     0.00,2,     2.56,2, -999.000,9, -999.000,9,   -999.0,9,   -999.0,9,-999.0000,9,  -999.00,  -999.00,9,  -999.00,9,   1.6702,2,     1837