BOTTLE,20200625PRINUNIVRMK
EXPOCODE,SECT_ID,STNNBR,CASTNO,SAMPNO,BTLNBR,BTLNBR_FLAG_W,DATE,TIME,LATITUDE,LONGITUDE,DEPTH,CTDPRS,CTDTMP,SBE35,SBE35_FLAG_W,CTDSAL,CTDSAL_FLAG_W,SALNTY,SALNTY_FLAG_W,OXYGEN,OXYGEN_FLAG_W,SILCAT,SILCAT_FLAG_W,NITRAT,NITRAT_FLAG_W,NITRIT,NITRIT_FLAG_W,PHSPHT,PHSPHT_FLAG_W,CFC-11,CFC-11_FLAG_W,CFC-12,CFC-12_FLAG_W,TCARBN,TCARBN_FLAG_W,ALKALI,ALKALI_FLAG_W,PH_TOT,PH_TOT_FLAG_W,PH_TMP,CHLORA,CHLORA_FLAG_W,PPHYTN,PPHYTN_FLAG_W,SBE35,SBE35_FLAG_W,BTL_TIME
,,,,,,,,,,,METERS,DBAR,ITS-90,,,PSS-78,,PSS-78,,UMOL/KG,,UMOL/KG,,UMOL/KG,,UMOL/KG,,UMOL/KG,,PMOL/KG,,PMOL/KG,,UMOL/KG,,UMOL/KG,,,,DEG C,UG/KG,,UG/KG,,,,
  49UP20100706,   P09,    58,  1,      0,     -9,0,20100721,1302, 10.0013, 136.9805, 4737,      0.0,  29.9242,-999.0000,9,  34.0366,2,-999.0000,9,    197.4,3,     1.16,2,     0.00,2,     0.00,2,     0.02,2, -999.000,9, -999.000,9,   -999.0,9,   -999.0,9,-999.0000,9,  -999.00,     0.05,2,     0.01,2,-999.0000,9,     1458
  49UP20100706,   P09,    58,  1,     36,    109,2,20100721,1302, 10.0013, 136.9805, 4737,     11.2,  29.9577,  29.9581,2,  34.0640,2,  34.0591,2,    196.2,3,     1.04,2,     0.00,2,     0.00,2,     0.02,2,    1.587,2,    0.943,2,   1903.2,2,   2236.7,2,   8.1338,2,    25.00,     0.05,2,     0.02,2,  29.9581,2,     1511
  49UP20100706,   P09,    58,  1,     35,    108,2,20100721,1302, 10.0013, 136.9805, 4737,     26.5,  29.9768,  29.9753,2,  34.1261,2,  34.1245,2,    197.2,3,     1.02,2,     0.00,2,     0.00,2,     0.03,2,    1.586,2,    0.927,2,   1906.1,2,   2240.3,2,   8.1348,2,    25.00,     0.05,2,     0.01,2,  29.9753,2,     1510
  49UP20100706,   P09,    58,  1,     34,    107,2,20100721,1302, 10.0013, 136.9805, 4737,     51.3,  29.5709,  29.5674,2,  34.4747,2,  34.4740,2,    202.8,3,     1.00,2,     0.00,2,     0.00,2,     0.04,2,    1.704,2,    0.936,2,   1927.2,2,   2262.6,2,   8.1199,2,    25.00,     0.06,2,     0.02,2,  29.5674,2,     1507
  49UP20100706,   P09,    58,  1,     33,    106,2,20100721,1302, 10.0013, 136.9805, 4737,     75.1,  28.7418,  28.7497,2,  34.5829,2,  34.5906,4,    205.7,4,     0.96,2,     0.00,2,     0.00,2,     0.05,2,    1.693,2,    0.949,2,   1940.7,2,   2271.0,2,   8.1160,2,    25.00,     0.08,2,     0.03,2,  28.7497,2,     1506
  49UP20100706,   P09,    58,  1,     32,    105,2,20100721,1302, 10.0013, 136.9805, 4737,    100.9,  27.0078,  26.8417,2,  34.8422,2,  34.8860,4,    199.1,3,     1.15,2,     0.00,2,     0.00,2,     0.09,2,    1.771,2,    1.045,2,   1973.3,2,   2291.4,2,   8.0853,2,    25.00,     0.17,2,     0.17,2,  26.8417,2,     1504
  49UP20100706,   P09,    58,  1,     31,    104,2,20100721,1302, 10.0013, 136.9805, 4737,    125.7,  23.9997,  23.9170,2,  35.1174,2,  35.1270,4,    186.7,3,     1.35,2,     0.31,2,     0.15,2,     0.14,2,    1.950,2,    1.113,2,   2018.1,2,   2310.0,2,   8.0283,2,    25.00,     0.16,2,     0.30,2,  23.9170,2,     1503
  49UP20100706,   P09,    58,  1,     30,    103,2,20100721,1302, 10.0013, 136.9805, 4737,    150.9,  20.3875,  20.4019,2,  34.9080,2,  34.9139,2,    170.3,3,     3.36,2,     3.95,2,     0.02,2,     0.39,2,    2.223,2,    1.328,2,   2055.4,6,   2298.0,6,   7.9383,6,    25.00,  -999.00,9,  -999.00,9,  20.4019,2,     1502
  49UP20100706,   P09,    58,  1,     29,    102,2,20100721,1302, 10.0013, 136.9805, 4737,    150.9,  20.3875,  20.4019,2,  34.9080,2,  34.9166,4,    171.3,3,     3.17,2,     3.85,2,     0.02,2,     0.38,2,    2.245,2,    1.263,2,   2059.1,2,   2298.5,2,   7.9377,2,    25.00,     0.06,2,     0.12,2,  20.4019,2,     1502
  49UP20100706,   P09,    58,  1,     28,    101,2,20100721,1302, 10.0013, 136.9805, 4737,    200.8,  13.2561,  13.2555,2,  34.4431,2,  34.4444,6,    152.2,3,    15.86,6,    15.59,6,     0.00,6,     1.16,6,    2.491,2,    1.355,2,   2119.4,2,   2273.5,2,   7.7638,2,    25.00,     0.00,2,     0.02,2,  13.2555,2,     1500
  49UP20100706,   P09,    58,  1,     27,    100,2,20100721,1302, 10.0013, 136.9805, 4737,    252.8,  10.8481,  10.8451,2,  34.5012,2,  34.5031,6,     87.6,3,    29.79,6,    26.64,6,     0.00,6,     1.93,6,    1.356,2,    0.668,2,   2198.8,2,   2288.9,2,   7.5879,2,    25.00,  -999.00,9,  -999.00,9,  10.8451,2,     1458
  49UP20100706,   P09,    58,  1,     26,     99,2,20100721,1302, 10.0013, 136.9805, 4737,    320.1,   9.3001,   9.2999,2,  34.5495,2,  34.5496,6,    100.5,3,    35.41,6,    28.62,6,     0.00,6,     2.05,6,    1.024,6,    0.525,6,   2208.3,2,   2299.1,3,   7.5900,3,    25.00,  -999.00,9,  -999.00,9,   9.2999,2,     1456
  49UP20100706,   P09,    58,  1,     25,     98,2,20100721,1302, 10.0013, 136.9805, 4737,    372.4,   8.5014,   8.4989,2,  34.5390,2,  34.5384,6,     77.4,3,    41.35,6,    32.27,6,     0.00,6,     2.31,6,    0.588,2,    0.285,2,   2237.1,2,   2305.7,2,   7.5259,2,    25.00,  -999.00,9,  -999.00,9,   8.4989,2,     1454
  49UP20100706,   P09,    58,  1,     24,     97,2,20100721,1302, 10.0013, 136.9805, 4737,    425.0,   8.1480,   8.1471,2,  34.5330,2,  34.5321,2,     82.2,3,    43.39,2,    32.66,2,     0.00,2,     2.32,2,    0.553,2,    0.252,2,   2240.7,2,   2357.8,4,   7.5330,2,    25.00,  -999.00,9,  -999.00,9,   8.1471,2,     1453
  49UP20100706,   P09,    58,  1,     23,     96,2,20100721,1302, 10.0013, 136.9805, 4737,    474.5,   7.7747,   7.7698,2,  34.5232,2,  34.5236,2,     87.3,3,    45.54,2,    32.75,2,     0.00,2,     2.33,2,    0.544,2,    0.269,2,   2239.0,2,   2311.0,2,   7.5307,2,    25.00,  -999.00,9,  -999.00,9,   7.7698,2,     1451
  49UP20100706,   P09,    58,  1,     22,     95,2,20100721,1302, 10.0013, 136.9805, 4737,    534.7,   7.2029,   7.2036,2,  34.5242,2,  34.5235,2,     82.9,3,    50.68,2,    34.23,2,     0.00,2,     2.45,2,    0.362,6,    0.122,6,   2253.5,2,   2316.1,2,   7.5151,2,    25.00,  -999.00,9,  -999.00,9,   7.2036,2,     1450
  49UP20100706,   P09,    58,  1,     21,     94,2,20100721,1302, 10.0013, 136.9805, 4737,    634.0,   6.4376,   6.4377,2,  34.5181,2,  34.5183,2,     94.4,3,    57.29,2,    34.68,2,     0.00,2,     2.48,2,    0.284,2,    0.094,2,   2252.6,2,   2324.4,2,   7.5225,2,    25.00,  -999.00,9,  -999.00,9,   6.4377,2,     1447
  49UP20100706,   P09,    58,  1,     20,     93,2,20100721,1302, 10.0013, 136.9805, 4737,    737.7,   5.9174,   5.9177,2,  34.5207,2,  34.5207,2,     91.3,3,    65.48,2,    35.81,2,     0.00,2,     2.56,2,    0.165,2,    0.049,2,   2263.2,2,   2315.2,3,   7.5112,2,    25.00,  -999.00,9,  -999.00,9,   5.9177,2,     1444
  49UP20100706,   P09,    58,  1,     19,     92,2,20100721,1302, 10.0013, 136.9805, 4737,    835.5,   5.5280,   5.5277,2,  34.5318,2,  34.5320,2,     91.1,3,    71.36,2,    36.57,2,     0.00,2,     2.62,2,    0.123,2,    0.035,2,   2271.1,2,   2354.1,3,   7.5052,2,    25.00,  -999.00,9,  -999.00,9,   5.5277,2,     1441
  49UP20100706,   P09,    58,  1,     18,     91,2,20100721,1302, 10.0013, 136.9805, 4737,    937.6,   5.1054,   5.1027,2,  34.5354,2,  34.5355,2,     87.6,3,    80.44,2,    37.36,2,     0.00,2,     2.67,2,    0.064,2,    0.000,2,   2284.8,2,   2349.1,2,   7.4933,2,    25.00,  -999.00,9,  -999.00,9,   5.1027,2,     1438
  49UP20100706,   P09,    58,  1,     17,     90,3,20100721,1302, 10.0013, 136.9805, 4737,   1090.7,   4.4379,   4.4374,2,  34.5522,2,  34.5520,3,     88.7,4,    93.29,2,    38.12,2,     0.00,2,     2.73,2,    0.042,2,    0.000,2,   2301.4,6,   2360.1,6,   7.4925,6,    25.00,  -999.00,9,  -999.00,9,   4.4374,2,     1434
  49UP20100706,   P09,    58,  1,     16,     89,2,20100721,1302, 10.0013, 136.9805, 4737,   1090.7,   4.4379,   4.4374,2,  34.5522,2,  34.5518,2,     88.7,3,    93.55,2,    38.18,2,     0.00,2,     2.73,2,    0.029,2,    0.000,2,   2305.2,2,   2358.0,2,   7.4906,2,    25.00,  -999.00,9,  -999.00,9,   4.4374,2,     1434
  49UP20100706,   P09,    58,  1,     15,     88,2,20100721,1302, 10.0013, 136.9805, 4737,   1342.8,   3.4126,   3.4129,2,  34.5810,2,  34.5815,2,     95.2,3,   114.23,2,    38.63,2,     0.00,2,     2.76,2,    0.000,2,    0.000,2,   2320.0,2,   2381.9,2,   7.4920,2,    25.00,  -999.00,9,  -999.00,9,   3.4129,2,     1428
  49UP20100706,   P09,    58,  1,     14,     87,2,20100721,1302, 10.0013, 136.9805, 4737,   1595.2,   2.8494,   2.8484,2,  34.6023,2,  34.6030,2,    102.4,3,   125.55,2,    38.65,2,     0.00,2,     2.74,2,    0.000,2,    0.000,2,   2324.8,2,   2394.9,2,   7.5013,2,    25.00,  -999.00,9,  -999.00,9,   2.8484,2,     1422
  49UP20100706,   P09,    58,  1,     13,     86,3,20100721,1302, 10.0013, 136.9805, 4737,   1849.2,   2.5128,   2.5122,2,  34.6173,2,  34.6170,3,    114.8,4,   131.86,2,    38.33,2,     0.00,2,     2.72,2,    0.031,4,    0.000,2,   2333.3,2,   2400.8,2,   7.5111,2,    25.00,  -999.00,9,  -999.00,9,   2.5122,2,     1416
  49UP20100706,   P09,    58,  1,     12,     85,2,20100721,1302, 10.0013, 136.9805, 4737,   2103.8,   2.1191,   2.1189,2,  34.6379,2,  34.6382,2,    118.8,3,   138.81,2,    37.94,2,     0.00,2,     2.68,2,    0.000,2,    0.000,2,   2336.3,2,   2410.2,2,   7.5218,2,    25.00,  -999.00,9,  -999.00,9,   2.1189,2,     1409
  49UP20100706,   P09,    58,  1,     11,    110,2,20100721,1302, 10.0013, 136.9805, 4737,   2356.7,   1.9501,   1.9500,2,  34.6475,2,  34.6475,2,    125.0,3,   141.42,2,    37.65,2,     0.00,2,     2.65,2,    0.000,2,    0.000,2,   2330.1,3,   2412.9,2,   7.5344,2,    25.00,  -999.00,9,  -999.00,9,   1.9500,2,     1403
  49UP20100706,   P09,    58,  1,     10,     83,2,20100721,1302, 10.0013, 136.9805, 4737,   2613.1,   1.7843,   1.7843,2,  34.6576,2,  34.6576,2,    131.8,3,   143.40,2,    37.21,2,     0.00,2,     2.61,2,    0.000,2,    0.000,2,   2334.8,2,   2414.9,2,   7.5441,2,    25.00,  -999.00,9,  -999.00,9,   1.7843,2,     1357
  49UP20100706,   P09,    58,  1,      9,     82,2,20100721,1302, 10.0013, 136.9805, 4737,   2867.0,   1.6827,   1.6831,2,  34.6650,2,  34.6650,2,    138.0,3,   143.94,2,    36.83,2,     0.00,2,     2.58,2,    0.000,2,    0.000,2,   2327.4,2,   2414.7,2,   7.5542,2,    25.00,  -999.00,9,  -999.00,9,   1.6831,2,     1351
  49UP20100706,   P09,    58,  1,      8,     81,2,20100721,1302, 10.0013, 136.9805, 4737,   3122.2,   1.6158,   1.6159,2,  34.6707,2,  34.6710,2,    143.7,3,   143.02,2,    36.40,2,     0.00,2,     2.54,2,    0.000,2,    0.000,2,   2324.9,2,   2414.5,2,   7.5593,2,    25.00,  -999.00,9,  -999.00,9,   1.6159,2,     1345
  49UP20100706,   P09,    58,  1,      7,     80,2,20100721,1302, 10.0013, 136.9805, 4737,   3377.8,   1.5899,   1.5902,2,  34.6741,2,  34.6758,4,    147.6,3,   143.03,2,    36.25,2,     0.00,2,     2.53,2,    0.000,2,    0.000,2,   2331.0,2,   2416.4,2,   7.5661,2,    25.00,  -999.00,9,  -999.00,9,   1.5902,2,     1339
  49UP20100706,   P09,    58,  1,      6,     79,2,20100721,1302, 10.0013, 136.9805, 4737,   3632.2,   1.5787,   1.5787,2,  34.6764,2,  34.6732,4,    150.5,3,   142.39,2,    36.10,2,     0.00,2,     2.52,2,    0.000,2,    0.000,2,   2325.6,2,   2415.7,2,   7.5686,2,    25.00,  -999.00,9,  -999.00,9,   1.5787,2,     1333
  49UP20100706,   P09,    58,  1,      5,     78,2,20100721,1302, 10.0013, 136.9805, 4737,   3887.2,   1.5536,   1.5538,2,  34.6801,2,  34.6803,2,    154.3,3,   141.41,2,    35.81,2,     0.00,2,     2.50,2,    0.000,2,    0.000,2,   2318.9,2,   2413.5,2,   7.5749,2,    25.00,  -999.00,9,  -999.00,9,   1.5538,2,     1327
  49UP20100706,   P09,    58,  1,      4,     77,2,20100721,1302, 10.0013, 136.9805, 4737,   4145.6,   1.5464,   1.5465,2,  34.6827,2,  34.6827,2,    157.6,3,   140.54,2,    35.62,2,     0.00,2,     2.48,2,    0.000,2,    0.000,2,   2321.3,2,   2414.1,2,   7.5805,2,    25.00,  -999.00,9,  -999.00,9,   1.5465,2,     1321
  49UP20100706,   P09,    58,  1,      3,     76,2,20100721,1302, 10.0013, 136.9805, 4737,   4400.8,   1.5485,   1.5487,2,  34.6848,2,  34.6847,2,    160.1,3,   139.70,2,    35.42,2,     0.00,2,     2.47,2,    0.000,2,    0.000,2,   2319.6,6,   2410.6,6,   7.5815,6,    25.00,  -999.00,9,  -999.00,9,   1.5487,2,     1315
  49UP20100706,   P09,    58,  1,      2,     75,2,20100721,1302, 10.0013, 136.9805, 4737,   4657.3,   1.5604,   1.5605,2,  34.6860,2,  34.6862,2,    162.1,3,   139.35,2,    35.33,2,     0.00,2,     2.46,2,    0.000,2,    0.000,2,   2320.0,2,   2409.0,2,   7.5812,2,    25.00,  -999.00,9,  -999.00,9,   1.5605,2,     1309
  49UP20100706,   P09,    58,  1,      1,     74,2,20100721,1302, 10.0013, 136.9805, 4737,   4957.4,   1.5895,   1.5893,2,  34.6862,2,  34.6871,4,    162.6,3,   138.98,2,    35.31,2,     0.00,2,     2.45,2,    0.000,2,    0.000,2,   2316.1,2,   2412.6,2,   7.5816,2,    25.00,  -999.00,9,  -999.00,9,   1.5893,2,     1302