BOTTLE,20200625PRINUNIVRMK
EXPOCODE,SECT_ID,STNNBR,CASTNO,SAMPNO,BTLNBR,BTLNBR_FLAG_W,DATE,TIME,LATITUDE,LONGITUDE,DEPTH,CTDPRS,CTDTMP,SBE35,SBE35_FLAG_W,CTDSAL,CTDSAL_FLAG_W,SALNTY,SALNTY_FLAG_W,OXYGEN,OXYGEN_FLAG_W,SILCAT,SILCAT_FLAG_W,NITRAT,NITRAT_FLAG_W,NITRIT,NITRIT_FLAG_W,PHSPHT,PHSPHT_FLAG_W,CFC-11,CFC-11_FLAG_W,CFC-12,CFC-12_FLAG_W,TCARBN,TCARBN_FLAG_W,ALKALI,ALKALI_FLAG_W,PH_TOT,PH_TOT_FLAG_W,PH_TMP,CHLORA,CHLORA_FLAG_W,PPHYTN,PPHYTN_FLAG_W,SBE35,SBE35_FLAG_W,BTL_TIME
,,,,,,,,,,,METERS,DBAR,ITS-90,,,PSS-78,,PSS-78,,UMOL/KG,,UMOL/KG,,UMOL/KG,,UMOL/KG,,UMOL/KG,,PMOL/KG,,PMOL/KG,,UMOL/KG,,UMOL/KG,,,,DEG C,UG/KG,,UG/KG,,,,
  49UP20100706,   P09,    30,  1,      0,     -9,0,20100713,2047, 24.0157, 136.9987, 3880,      0.0,  29.8410,-999.0000,9,  34.6705,2,-999.0000,9,    192.1,2,     1.06,2,     0.04,2,     0.00,2,     0.04,2, -999.000,9, -999.000,9,   -999.0,9,   -999.0,9,-999.0000,9,  -999.00,     0.08,2,     0.00,2,-999.0000,9,     2220
  49UP20100706,   P09,    30,  1,     36,    109,2,20100713,2047, 24.0157, 136.9987, 3880,     11.6,  29.8416,  29.8413,2,  34.6683,2,  34.6708,2,    194.6,2,     1.08,2,     0.00,2,     0.00,2,     0.01,2,    1.417,2,    0.823,2,   1937.2,2,   2279.9,2,   8.1266,2,    25.00,     0.06,2,     0.00,2,  29.8413,2,     2230
  49UP20100706,   P09,    30,  1,     35,    108,2,20100713,2047, 24.0157, 136.9987, 3880,     26.1,  27.9640,  27.9677,2,  34.8042,2,  34.8058,2,    209.5,2,     1.05,2,     0.01,2,     0.00,2,     0.01,2,    1.830,2,    1.045,2,   1945.6,2,   2286.5,2,   8.1185,2,    25.00,     0.07,2,     0.00,2,  27.9677,2,     2229
  49UP20100706,   P09,    30,  1,     34,    107,2,20100713,2047, 24.0157, 136.9987, 3880,     50.4,  24.7428,  24.7323,2,  34.8523,2,  34.8509,2,    213.2,2,     1.20,2,     0.00,2,     0.00,2,     0.01,2,    1.968,2,    1.115,2,   1961.4,2,   2290.6,2,   8.1013,2,    25.00,     0.12,2,     0.00,2,  24.7323,2,     2225
  49UP20100706,   P09,    30,  1,     33,    106,2,20100713,2047, 24.0157, 136.9987, 3880,     76.4,  23.3868,  23.3960,2,  34.8239,2,  34.8260,2,    216.0,2,     1.36,2,     0.00,2,     0.00,2,     0.01,2,    1.974,2,    1.171,2,   1972.5,2,   2284.1,2,   8.0787,2,    25.00,     0.18,2,     0.02,2,  23.3960,2,     2224
  49UP20100706,   P09,    30,  1,     32,    105,2,20100713,2047, 24.0157, 136.9987, 3880,    101.5,  21.8428,  21.8431,2,  34.8060,2,  34.8106,2,    209.7,2,     1.61,2,     0.00,2,     0.00,2,     0.01,2,    2.045,2,    1.209,2,   1989.2,2,   2285.3,2,   8.0538,2,    25.00,     0.21,2,     0.21,2,  21.8431,2,     2222
  49UP20100706,   P09,    30,  1,     31,    104,2,20100713,2047, 24.0157, 136.9987, 3880,    124.6,  21.0126,  21.0166,2,  34.7975,2,  34.7978,2,    204.1,2,     1.76,2,     0.28,2,     0.07,2,     0.04,2,    2.104,2,    1.259,2,   2000.6,2,   2283.1,2,   8.0294,2,    25.00,     0.26,2,     0.27,2,  21.0166,2,     2221
  49UP20100706,   P09,    30,  1,     30,    103,2,20100713,2047, 24.0157, 136.9987, 3880,    150.4,  20.0696,  20.0768,2,  34.8035,2,  34.8038,2,    193.3,2,     2.31,2,     2.01,2,     0.02,2,     0.15,2,    2.150,2,    1.270,2,   2018.8,2,   2286.4,2,   7.9963,2,    25.00,     0.11,2,     0.16,2,  20.0768,2,     2220
  49UP20100706,   P09,    30,  1,     29,    102,2,20100713,2047, 24.0157, 136.9987, 3880,    204.4,  18.8619,  18.8615,2,  34.7353,2,  34.7362,2,    203.3,2,     2.78,2,     2.61,2,     0.01,2,     0.18,2,    2.200,2,    1.326,2,   2016.0,2,   2280.9,2,   7.9910,2,    25.00,     0.03,2,     0.05,2,  18.8615,2,     2218
  49UP20100706,   P09,    30,  1,     28,    101,2,20100713,2047, 24.0157, 136.9987, 3880,    254.8,  17.6777,  17.6890,2,  34.7370,2,  34.7404,2,    196.1,2,     3.99,2,     4.80,2,     0.00,2,     0.31,2,    2.360,2,    1.400,2,   2034.6,2,   2280.7,2,   7.9580,2,    25.00,  -999.00,9,  -999.00,9,  17.6890,2,     2216
  49UP20100706,   P09,    30,  1,     27,    100,2,20100713,2047, 24.0157, 136.9987, 3880,    301.9,  16.9952,  16.9877,2,  34.7157,2,  34.7171,2,    193.9,2,     5.24,2,     6.17,2,     0.00,2,     0.40,2,    2.393,6,    1.388,6,   2043.9,2,   2277.7,2,   7.9362,2,    25.00,  -999.00,9,  -999.00,9,  16.9877,2,     2215
  49UP20100706,   P09,    30,  1,     26,     99,2,20100713,2047, 24.0157, 136.9987, 3880,    402.3,  14.4657,  14.4630,2,  34.5411,2,  34.5410,2,    188.8,2,    11.47,2,    10.61,2,     0.00,2,     0.72,2,    2.628,2,    1.486,2,   2077.6,2,   2273.8,2,   7.8682,2,    25.00,  -999.00,9,  -999.00,9,  14.4630,2,     2212
  49UP20100706,   P09,    30,  1,     25,     98,2,20100713,2047, 24.0157, 136.9987, 3880,    504.1,  11.3901,  11.3892,2,  34.3365,2,  34.3381,2,    174.3,2,    24.28,2,    17.05,2,     0.00,2,     1.19,2,    2.580,2,    1.409,2,   2123.6,2,   2276.3,2,   7.7576,2,    25.00,  -999.00,9,  -999.00,9,  11.3892,2,     2209
  49UP20100706,   P09,    30,  1,     24,     97,2,20100713,2047, 24.0157, 136.9987, 3880,    607.3,   7.8380,   7.8422,2,  34.1379,2,  34.1414,2,    143.9,2,    46.81,2,    25.86,2,     0.00,2,     1.84,2,    2.162,6,    1.095,6,   2190.5,2,   2288.9,2,   7.6164,2,    25.00,  -999.00,9,  -999.00,9,   7.8422,2,     2206
  49UP20100706,   P09,    30,  1,     23,     96,2,20100713,2047, 24.0157, 136.9987, 3880,    705.3,   5.9062,   5.9057,2,  34.1140,2,  34.1153,2,    104.8,2,    70.55,2,    32.98,2,     0.00,2,     2.36,2,    1.512,3,    0.742,3,   2249.2,6,   2305.6,6,   7.4889,6,    25.00,  -999.00,9,  -999.00,9,   5.9057,2,     2203
  49UP20100706,   P09,    30,  1,     22,     95,2,20100713,2047, 24.0157, 136.9987, 3880,    705.3,   5.9062,   5.9057,2,  34.1140,2,  34.1147,6,    104.5,6,    70.66,6,    33.02,6,     0.00,6,     2.36,6,    1.586,2,    0.791,2,   2248.4,2,   2306.9,2,   7.4865,2,    25.00,  -999.00,9,  -999.00,9,   5.9057,2,     2203
  49UP20100706,   P09,    30,  1,     21,     94,2,20100713,2047, 24.0157, 136.9987, 3880,    806.2,   4.9775,   4.9774,2,  34.1913,2,  34.1919,6,     76.0,6,    89.64,6,    37.07,6,     0.00,6,     2.65,6,    0.964,2,    0.484,2,   2289.5,2,   2320.2,2,   7.4348,2,    25.00,  -999.00,9,  -999.00,9,   4.9774,2,     2201
  49UP20100706,   P09,    30,  1,     20,     93,2,20100713,2047, 24.0157, 136.9987, 3880,    908.7,   4.2519,   4.2516,2,  34.2840,2,  34.2855,6,     59.2,6,   106.43,6,    39.57,6,     0.00,6,     2.81,6,    0.495,2,    0.231,2,   2318.6,2,   2345.1,2,   7.3972,2,    25.00,  -999.00,9,  -999.00,9,   4.2516,2,     2158
  49UP20100706,   P09,    30,  1,     19,     92,2,20100713,2047, 24.0157, 136.9987, 3880,   1009.5,   3.6872,   3.6870,2,  34.3678,2,  34.3689,6,     55.5,6,   119.22,6,    40.71,6,     0.00,6,     2.89,6,    0.237,2,    0.085,2,   2337.3,2,   2360.1,2,   7.3995,2,    25.00,  -999.00,9,  -999.00,9,   3.6870,2,     2155
  49UP20100706,   P09,    30,  1,     18,     91,2,20100713,2047, 24.0157, 136.9987, 3880,   1211.0,   3.0444,   3.0442,2,  34.4650,2,  34.4648,2,     63.8,2,   132.53,2,    40.90,2,     0.00,2,     2.89,2,    0.082,2,    0.000,2,   2349.6,6,   2382.4,6,   7.4168,6,    25.00,  -999.00,9,  -999.00,9,   3.0442,2,     2150
  49UP20100706,   P09,    30,  1,     17,     90,2,20100713,2047, 24.0157, 136.9987, 3880,   1211.0,   3.0444,   3.0442,2,  34.4650,2,  34.4647,2,     63.5,2,   132.51,2,    40.93,2,     0.00,2,     2.88,2,    0.046,2,    0.000,2,   2347.5,2,   2384.8,2,   7.4193,2,    25.00,  -999.00,9,  -999.00,9,   3.0442,2,     2150
  49UP20100706,   P09,    30,  1,     16,     89,2,20100713,2047, 24.0157, 136.9987, 3880,   1414.2,   2.7124,   2.7139,2,  34.5259,2,  34.5256,2,     78.8,2,   136.91,2,    40.04,2,     0.00,2,     2.82,2,    0.000,2,    0.000,2,   2348.9,2,   2395.0,2,   7.4530,2,    25.00,  -999.00,9,  -999.00,9,   2.7139,2,     2146
  49UP20100706,   P09,    30,  1,     15,     88,2,20100713,2047, 24.0157, 136.9987, 3880,   1616.8,   2.3877,   2.3875,2,  34.5682,2,  34.5685,2,     93.6,2,   140.23,2,    39.35,2,     0.00,2,     2.75,2,    0.000,2,    0.000,2,   2346.4,2,   2401.2,2,   7.4775,2,    25.00,  -999.00,9,  -999.00,9,   2.3875,2,     2141
  49UP20100706,   P09,    30,  1,     14,     87,2,20100713,2047, 24.0157, 136.9987, 3880,   1819.1,   2.1243,   2.1241,2,  34.6006,2,  34.6009,2,    106.8,2,   141.97,2,    38.63,2,     0.00,2,     2.70,2,    0.000,2,    0.000,2,   2344.2,2,   2406.2,2,   7.4993,2,    25.00,  -999.00,9,  -999.00,9,   2.1241,2,     2137
  49UP20100706,   P09,    30,  1,     13,     86,2,20100713,2047, 24.0157, 136.9987, 3880,   2022.8,   1.9960,   1.9956,2,  34.6173,2,  34.6179,2,    115.1,2,   142.22,2,    38.20,2,     0.00,2,     2.66,2,    0.000,2,    0.000,2,   2339.1,2,   2402.4,2,   7.5175,2,    25.00,  -999.00,9,  -999.00,9,   1.9956,2,     2132
  49UP20100706,   P09,    30,  1,     12,     85,2,20100713,2047, 24.0157, 136.9987, 3880,   2278.1,   1.8591,   1.8591,2,  34.6346,2,  34.6344,2,    123.4,2,   142.64,2,    37.76,2,     0.00,2,     2.62,2,    0.000,2,    0.000,2,   2337.0,6,   2410.5,6,   7.5306,6,    25.00,  -999.00,9,  -999.00,9,   1.8591,2,     2126
  49UP20100706,   P09,    30,  1,     11,    110,2,20100713,2047, 24.0157, 136.9987, 3880,   2278.1,   1.8591,   1.8591,2,  34.6346,2,  34.6342,2,    123.2,2,   142.85,2,    37.75,2,     0.00,2,     2.62,2,    0.000,2,    0.000,2,   2337.2,2,   2409.8,2,   7.5302,2,    25.00,  -999.00,9,  -999.00,9,   1.8591,2,     2126
  49UP20100706,   P09,    30,  1,     10,     83,2,20100713,2047, 24.0157, 136.9987, 3880,   2530.6,   1.7507,   1.7507,2,  34.6469,2,  34.6456,4,    130.2,2,   142.96,2,    37.37,2,     0.00,2,     2.59,2,    0.000,2,    0.000,2,   2334.8,2,   2414.2,2,   7.5412,2,    25.00,  -999.00,9,  -999.00,9,   1.7507,2,     2120
  49UP20100706,   P09,    30,  1,      9,     82,2,20100713,2047, 24.0157, 136.9987, 3880,   2785.9,   1.6765,   1.6766,2,  34.6554,2,  34.6551,2,    141.4,4,   142.90,2,    37.02,2,     0.00,2,     2.56,2, -999.000,9, -999.000,9,   2328.3,2,   2408.3,2,   7.5497,2,    25.00,  -999.00,9,  -999.00,9,   1.6766,2,     2115
  49UP20100706,   P09,    30,  1,      8,     81,2,20100713,2047, 24.0157, 136.9987, 3880,   3043.8,   1.6164,   1.6166,2,  34.6641,2,  34.6637,2,    141.2,2,   142.42,2,    36.74,2,     0.00,2,     2.54,2,    0.000,2,    0.000,2,   2328.4,2,   2409.9,2,   7.5606,2,    25.00,  -999.00,9,  -999.00,9,   1.6166,2,     2109
  49UP20100706,   P09,    30,  1,      7,     80,2,20100713,2047, 24.0157, 136.9987, 3880,   3296.1,   1.5820,   1.5820,2,  34.6699,2,  34.6682,4,    145.5,2,   142.08,2,    36.48,2,     0.00,2,     2.52,2,    0.000,2,    0.000,2,   2325.3,6,   2413.3,6,   7.5664,6,    25.00,  -999.00,9,  -999.00,9,   1.5820,2,     2103
  49UP20100706,   P09,    30,  1,      6,     79,2,20100713,2047, 24.0157, 136.9987, 3880,   3296.1,   1.5820,   1.5820,2,  34.6699,2,  34.6693,2,    145.6,2,   142.19,2,    36.50,2,     0.00,2,     2.52,2,    0.000,2,    0.000,2,   2327.0,2,   2410.3,2,   7.5680,2,    25.00,  -999.00,9,  -999.00,9,   1.5820,2,     2103
  49UP20100706,   P09,    30,  1,      5,     78,2,20100713,2047, 24.0157, 136.9987, 3880,   3550.8,   1.5623,   1.5624,2,  34.6745,2,  34.6741,2,    148.6,2,   141.76,2,    36.36,2,     0.00,2,     2.50,2, -999.000,9, -999.000,9,   2325.9,2,   2414.9,2,   7.5708,2,    25.00,  -999.00,9,  -999.00,9,   1.5624,2,     2057
  49UP20100706,   P09,    30,  1,      4,     77,2,20100713,2047, 24.0157, 136.9987, 3880,   3806.5,   1.5129,   1.5127,2,  34.6814,2,  34.6812,2,    154.5,2,   140.59,2,    35.92,2,     0.00,2,     2.47,2, -999.000,9, -999.000,9,   2321.1,2,   2414.2,2,   7.5777,2,    25.00,  -999.00,9,  -999.00,9,   1.5127,2,     2051
  49UP20100706,   P09,    30,  1,      1,     74,2,20100713,2047, 24.0157, 136.9987, 3880,   3923.2,   1.5161,   1.5162,2,  34.6823,2,  34.6822,2,    155.1,2,   140.58,2,    35.83,2,     0.00,2,     2.47,2,    0.000,2,    0.000,2,   2319.4,2,   2413.1,2,   7.5786,2,    25.00,  -999.00,9,  -999.00,9,   1.5162,2,     2047