BOTTLE,20200625PRINUNIVRMK
EXPOCODE,SECT_ID,STNNBR,CASTNO,SAMPNO,BTLNBR,BTLNBR_FLAG_W,DATE,TIME,LATITUDE,LONGITUDE,DEPTH,CTDPRS,CTDTMP,SBE35,SBE35_FLAG_W,CTDSAL,CTDSAL_FLAG_W,SALNTY,SALNTY_FLAG_W,OXYGEN,OXYGEN_FLAG_W,SILCAT,SILCAT_FLAG_W,NITRAT,NITRAT_FLAG_W,NITRIT,NITRIT_FLAG_W,PHSPHT,PHSPHT_FLAG_W,CFC-11,CFC-11_FLAG_W,CFC-12,CFC-12_FLAG_W,TCARBN,TCARBN_FLAG_W,ALKALI,ALKALI_FLAG_W,PH_TOT,PH_TOT_FLAG_W,PH_TMP,CHLORA,CHLORA_FLAG_W,PPHYTN,PPHYTN_FLAG_W,SBE35,SBE35_FLAG_W,BTL_TIME
,,,,,,,,,,,METERS,DBAR,ITS-90,,,PSS-78,,PSS-78,,UMOL/KG,,UMOL/KG,,UMOL/KG,,UMOL/KG,,UMOL/KG,,PMOL/KG,,PMOL/KG,,UMOL/KG,,UMOL/KG,,,,DEG C,UG/KG,,UG/KG,,,,
  49UP20100706,   P09,   103,  1,      0,     -9,0,20100808,2245, -2.3267, 141.1575, 2100,      0.0,  29.4168,-999.0000,9,  34.4306,2,-999.0000,9,    194.9,2,     1.82,2,     0.01,2,     0.00,2,     0.05,2, -999.000,9, -999.000,9,   -999.0,9,   -999.0,9,-999.0000,9,  -999.00,     0.31,2,     0.04,2,-999.0000,9,     2333
  49UP20100706,   P09,   103,  1,     36,    109,2,20100808,2245, -2.3267, 141.1575, 2100,     10.9,  29.1542,  29.1571,2,  34.4652,2,  34.4752,4,    195.6,2,     1.57,2,     0.00,2,     0.00,2,     0.06,2, -999.000,9, -999.000,9,   -999.0,9,   -999.0,9,-999.0000,9,  -999.00,  -999.00,9,  -999.00,9,  29.1571,2,     2351
  49UP20100706,   P09,   103,  1,     35,    108,2,20100808,2245, -2.3267, 141.1575, 2100,     10.9,  29.1542,  29.1571,2,  34.4652,2,  34.4710,4,    195.9,2,     1.54,2,     0.00,2,     0.00,2,     0.05,2, -999.000,9, -999.000,9,   -999.0,9,   -999.0,9,-999.0000,9,  -999.00,     0.20,2,     0.06,2,  29.1571,2,     2351
  49UP20100706,   P09,   103,  1,     34,    107,2,20100808,2245, -2.3267, 141.1575, 2100,     26.0,  29.0340,  29.0332,2,  34.5339,2,  34.5312,2,    195.3,2,     1.45,2,     0.00,2,     0.00,2,     0.07,2, -999.000,9, -999.000,9,   -999.0,9,   -999.0,9,-999.0000,9,  -999.00,     0.20,2,     0.06,2,  29.0332,2,     2349
  49UP20100706,   P09,   103,  1,     33,    106,2,20100808,2245, -2.3267, 141.1575, 2100,     51.1,  28.9043,  28.9043,2,  34.5495,2,  34.5468,2,    195.6,2,     1.31,2,     0.00,2,     0.00,2,     0.06,2, -999.000,9, -999.000,9,   -999.0,9,   -999.0,9,-999.0000,9,  -999.00,     0.23,2,     0.08,2,  28.9043,2,     2346
  49UP20100706,   P09,   103,  1,     32,    105,2,20100808,2245, -2.3267, 141.1575, 2100,     75.7,  28.5838,  28.5827,2,  34.6012,2,  34.6240,4,    187.6,2,     1.40,2,     0.26,2,     0.26,2,     0.10,2, -999.000,9, -999.000,9,   -999.0,9,   -999.0,9,-999.0000,9,  -999.00,     0.37,2,     0.18,2,  28.5827,2,     2345
  49UP20100706,   P09,   103,  1,     31,    104,2,20100808,2245, -2.3267, 141.1575, 2100,    101.3,  27.3091,  27.3048,2,  35.1241,2,  35.1136,4,    161.4,2,     1.49,2,     3.34,2,     0.09,2,     0.33,2, -999.000,9, -999.000,9,   -999.0,9,   -999.0,9,-999.0000,9,  -999.00,     0.09,2,     0.22,2,  27.3048,2,     2343
  49UP20100706,   P09,   103,  1,     30,    103,2,20100808,2245, -2.3267, 141.1575, 2100,    125.9,  25.7085,  25.7022,2,  35.2190,2,  35.2286,4,    162.6,2,     1.56,2,     3.55,2,     0.06,2,     0.34,2, -999.000,9, -999.000,9,   -999.0,9,   -999.0,9,-999.0000,9,  -999.00,     0.05,2,     0.08,2,  25.7022,2,     2342
  49UP20100706,   P09,   103,  1,     29,    102,2,20100808,2245, -2.3267, 141.1575, 2100,    151.0,  23.0010,  22.9975,2,  35.6322,2,  35.6304,2,    143.6,2,     2.16,2,     6.77,2,     0.02,2,     0.60,2, -999.000,9, -999.000,9,   -999.0,9,   -999.0,9,-999.0000,9,  -999.00,     0.01,2,     0.05,2,  22.9975,2,     2341
  49UP20100706,   P09,   103,  1,     28,    101,2,20100808,2245, -2.3267, 141.1575, 2100,    202.2,  18.7126,  18.7127,2,  35.4765,2,  35.4778,2,    146.3,2,     3.88,2,    10.03,2,     0.01,2,     0.81,2, -999.000,9, -999.000,9,   -999.0,9,   -999.0,9,-999.0000,9,  -999.00,     0.01,2,     0.03,2,  18.7127,2,     2339
  49UP20100706,   P09,   103,  1,     27,    100,2,20100808,2245, -2.3267, 141.1575, 2100,    253.3,  14.6473,  14.6516,2,  35.1592,2,  35.1601,2,    152.7,2,     7.41,2,    14.70,2,     0.01,2,     1.10,2, -999.000,9, -999.000,9,   -999.0,9,   -999.0,9,-999.0000,9,  -999.00,  -999.00,9,  -999.00,9,  14.6516,2,     2337
  49UP20100706,   P09,   103,  1,     26,     99,2,20100808,2245, -2.3267, 141.1575, 2100,    283.3,  13.4210,  13.4221,2,  35.0505,2,  35.0410,4,    154.8,2,     9.20,2,    16.68,2,     0.01,2,     1.22,2, -999.000,9, -999.000,9,   -999.0,9,   -999.0,9,-999.0000,9,  -999.00,  -999.00,9,  -999.00,9,  13.4221,2,     2335
  49UP20100706,   P09,   103,  1,     25,     98,2,20100808,2245, -2.3267, 141.1575, 2100,    334.4,  11.5830,  11.5819,2,  34.8853,2,  34.8841,2,    161.2,2,    11.76,2,    19.17,2,     0.01,2,     1.38,2, -999.000,9, -999.000,9,   -999.0,9,   -999.0,9,-999.0000,9,  -999.00,  -999.00,9,  -999.00,9,  11.5819,2,     2333
  49UP20100706,   P09,   103,  1,     24,     97,2,20100808,2245, -2.3267, 141.1575, 2100,    380.3,  10.1046,  10.1034,2,  34.7556,2,  34.7496,2,    165.5,2,    14.87,2,    21.72,2,     0.00,2,     1.53,2, -999.000,9, -999.000,9,   -999.0,9,   -999.0,9,-999.0000,9,  -999.00,  -999.00,9,  -999.00,9,  10.1034,2,     2331
  49UP20100706,   P09,   103,  1,     23,     96,2,20100808,2245, -2.3267, 141.1575, 2100,    433.3,   8.9406,   8.9402,2,  34.6588,2,  34.6568,2,    168.9,2,    17.95,2,    23.59,2,     0.00,2,     1.65,2, -999.000,9, -999.000,9,   -999.0,9,   -999.0,9,-999.0000,9,  -999.00,  -999.00,9,  -999.00,9,   8.9402,2,     2329
  49UP20100706,   P09,   103,  1,     22,     95,2,20100808,2245, -2.3267, 141.1575, 2100,    433.3,   8.9406,   8.9402,2,  34.6588,2,  34.6560,2,    169.1,2,    18.04,2,    23.73,2,     0.00,2,     1.66,2, -999.000,9, -999.000,9,   -999.0,9,   -999.0,9,-999.0000,9,  -999.00,  -999.00,9,  -999.00,9,   8.9402,2,     2329
  49UP20100706,   P09,   103,  1,     21,     94,2,20100808,2245, -2.3267, 141.1575, 2100,    483.8,   8.1630,   8.1624,2,  34.5997,2,  34.6002,2,    162.2,2,    22.19,2,    25.94,2,     0.00,2,     1.80,2, -999.000,9, -999.000,9,   -999.0,9,   -999.0,9,-999.0000,9,  -999.00,  -999.00,9,  -999.00,9,   8.1624,2,     2327
  49UP20100706,   P09,   103,  1,     20,     93,2,20100808,2245, -2.3267, 141.1575, 2100,    575.1,   7.1297,   7.1284,2,  34.5419,2,  34.5419,2,    158.6,2,    29.22,2,    28.46,2,     0.00,2,     1.98,2, -999.000,9, -999.000,9,   -999.0,9,   -999.0,9,-999.0000,9,  -999.00,  -999.00,9,  -999.00,9,   7.1284,2,     2325
  49UP20100706,   P09,   103,  1,     19,     92,2,20100808,2245, -2.3267, 141.1575, 2100,    676.5,   6.1432,   6.1438,2,  34.5064,2,  34.5068,6,    154.9,6,    39.09,6,    30.56,6,     0.00,6,     2.13,6, -999.000,9, -999.000,9,   -999.0,9,   -999.0,9,-999.0000,9,  -999.00,  -999.00,9,  -999.00,9,   6.1438,2,     2322
  49UP20100706,   P09,   103,  1,     18,     91,2,20100808,2245, -2.3267, 141.1575, 2100,    777.3,   5.5231,   5.5231,2,  34.5135,2,  34.5136,6,    136.0,2,    52.73,6,    33.49,6,     0.00,6,     2.34,6, -999.000,9, -999.000,9,   -999.0,9,   -999.0,9,-999.0000,9,  -999.00,  -999.00,9,  -999.00,9,   5.5231,2,     2319
  49UP20100706,   P09,   103,  1,     17,     90,2,20100808,2245, -2.3267, 141.1575, 2100,    877.9,   5.0075,   5.0064,2,  34.5148,2,  34.5149,6,    133.9,6,    61.25,6,    34.23,6,     0.00,6,     2.40,6, -999.000,9, -999.000,9,   -999.0,9,   -999.0,9,-999.0000,9,  -999.00,  -999.00,9,  -999.00,9,   5.0064,2,     2317
  49UP20100706,   P09,   103,  1,     16,     89,2,20100808,2245, -2.3267, 141.1575, 2100,    976.8,   4.7192,   4.7198,2,  34.5228,2,  34.5234,2,    129.6,2,    68.22,2,    34.93,2,     0.00,2,     2.46,2, -999.000,9, -999.000,9,   -999.0,9,   -999.0,9,-999.0000,9,  -999.00,  -999.00,9,  -999.00,9,   4.7198,2,     2314
  49UP20100706,   P09,   103,  1,     15,     88,2,20100808,2245, -2.3267, 141.1575, 2100,    976.8,   4.7192,   4.7198,2,  34.5228,2,  34.5238,6,    129.8,6,    68.07,6,    34.91,6,     0.00,6,     2.45,6, -999.000,9, -999.000,9,   -999.0,9,   -999.0,9,-999.0000,9,  -999.00,  -999.00,9,  -999.00,9,   4.7198,2,     2314
  49UP20100706,   P09,   103,  1,     14,     87,2,20100808,2245, -2.3267, 141.1575, 2100,   1181.0,   3.8980,   3.8975,2,  34.5677,2,  34.5680,2,    103.1,2,    96.01,2,    37.97,2,     0.00,2,     2.69,2, -999.000,9, -999.000,9,   -999.0,9,   -999.0,9,-999.0000,9,  -999.00,  -999.00,9,  -999.00,9,   3.8975,2,     2309
  49UP20100706,   P09,   103,  1,     13,     86,2,20100808,2245, -2.3267, 141.1575, 2100,   1181.0,   3.8980,   3.8975,2,  34.5677,2,  34.5687,2,    103.6,2,    96.14,2,    37.97,2,     0.00,2,     2.68,2, -999.000,9, -999.000,9,   -999.0,9,   -999.0,9,-999.0000,9,  -999.00,  -999.00,9,  -999.00,9,   3.8975,2,     2309
  49UP20100706,   P09,   103,  1,     12,     85,2,20100808,2245, -2.3267, 141.1575, 2100,   1434.4,   3.3193,   3.3242,2,  34.5885,2,  34.5894,2,    106.5,2,   108.48,2,    38.08,2,     0.00,2,     2.69,2, -999.000,9, -999.000,9,   -999.0,9,   -999.0,9,-999.0000,9,  -999.00,  -999.00,9,  -999.00,9,   3.3242,2,     2303
  49UP20100706,   P09,   103,  1,     11,    110,2,20100808,2245, -2.3267, 141.1575, 2100,   1697.1,   2.6803,   2.6800,2,  34.6151,2,  34.6164,2,    113.7,3,   122.97,2,    38.10,2,     0.00,2,     2.68,2, -999.000,9, -999.000,9,   -999.0,9,   -999.0,9,-999.0000,9,  -999.00,  -999.00,9,  -999.00,9,   2.6800,2,     2257
  49UP20100706,   P09,   103,  1,     10,     83,2,20100808,2245, -2.3267, 141.1575, 2100,   1940.6,   2.3754,   2.3752,2,  34.6299,2,-999.0000,9,    116.3,2,   130.53,2,    37.99,2,     0.00,2,     2.67,2, -999.000,9, -999.000,9,   -999.0,9,   -999.0,9,-999.0000,9,  -999.00,  -999.00,9,  -999.00,9,   2.3752,2,     2252
  49UP20100706,   P09,   103,  1,      1,     74,2,20100808,2245, -2.3267, 141.1575, 2100,   2161.9,   2.0863,   2.0860,2,  34.6439,2,  34.6311,2,    122.8,2,   136.64,2,    37.77,2,     0.00,2,     2.64,2, -999.000,9, -999.000,9,   -999.0,9,   -999.0,9,-999.0000,9,  -999.00,  -999.00,9,  -999.00,9,   2.0860,2,     2245