BOTTLE,20200625PRINUNIVRMK
EXPOCODE,SECT_ID,STNNBR,CASTNO,SAMPNO,BTLNBR,BTLNBR_FLAG_W,DATE,TIME,LATITUDE,LONGITUDE,DEPTH,CTDPRS,CTDTMP,SBE35,SBE35_FLAG_W,CTDSAL,CTDSAL_FLAG_W,SALNTY,SALNTY_FLAG_W,OXYGEN,OXYGEN_FLAG_W,SILCAT,SILCAT_FLAG_W,NITRAT,NITRAT_FLAG_W,NITRIT,NITRIT_FLAG_W,PHSPHT,PHSPHT_FLAG_W,CFC-11,CFC-11_FLAG_W,CFC-12,CFC-12_FLAG_W,TCARBN,TCARBN_FLAG_W,ALKALI,ALKALI_FLAG_W,PH_TOT,PH_TOT_FLAG_W,PH_TMP,CHLORA,CHLORA_FLAG_W,PPHYTN,PPHYTN_FLAG_W,SBE35,SBE35_FLAG_W,BTL_TIME
,,,,,,,,,,,METERS,DBAR,ITS-90,,,PSS-78,,PSS-78,,UMOL/KG,,UMOL/KG,,UMOL/KG,,UMOL/KG,,UMOL/KG,,PMOL/KG,,PMOL/KG,,UMOL/KG,,UMOL/KG,,,,DEG C,UG/KG,,UG/KG,,,,
  49UP20100706,   P09,    78,  1,      0,     -9,0,20100804,1651,  3.3657, 140.6285, 3809,      0.0,  29.8865,-999.0000,9,  34.4000,2,-999.0000,9,    193.0,2,     0.96,2,     0.02,2,     0.00,2,     0.12,2, -999.000,9, -999.000,9,   -999.0,9,   -999.0,9,-999.0000,9,  -999.00,  -999.00,9,  -999.00,9,-999.0000,9,     1830
  49UP20100706,   P09,    78,  1,     36,    109,2,20100804,1651,  3.3657, 140.6285, 3809,     11.2,  29.8937,  29.8943,2,  34.4026,2,  34.4135,4,    193.5,2,     0.98,2,     0.00,2,     0.00,2,     0.09,2, -999.000,9, -999.000,9,   -999.0,9,   -999.0,9,-999.0000,9,  -999.00,  -999.00,9,  -999.00,9,  29.8943,2,     1853
  49UP20100706,   P09,    78,  1,     35,    108,2,20100804,1651,  3.3657, 140.6285, 3809,     25.6,  29.9255,  29.9259,2,  34.4278,2,  34.4261,2,    193.5,2,     0.91,2,     0.00,2,     0.00,2,     0.09,2, -999.000,9, -999.000,9,   -999.0,9,   -999.0,9,-999.0000,9,  -999.00,  -999.00,9,  -999.00,9,  29.9259,2,     1852
  49UP20100706,   P09,    78,  1,     34,    107,2,20100804,1651,  3.3657, 140.6285, 3809,     51.8,  29.9546,  29.9538,2,  34.5287,2,  34.5186,4,    193.1,2,     0.85,2,     0.00,2,     0.00,2,     0.10,2, -999.000,9, -999.000,9,   -999.0,9,   -999.0,9,-999.0000,9,  -999.00,  -999.00,9,  -999.00,9,  29.9538,2,     1849
  49UP20100706,   P09,    78,  1,     33,    106,2,20100804,1651,  3.3657, 140.6285, 3809,     77.5,  29.9385,  29.9374,2,  34.7412,2,  34.7387,2,    192.1,2,     1.31,2,     0.02,2,     0.00,2,     0.12,2, -999.000,9, -999.000,9,   -999.0,9,   -999.0,9,-999.0000,9,  -999.00,  -999.00,9,  -999.00,9,  29.9374,2,     1847
  49UP20100706,   P09,    78,  1,     32,    105,2,20100804,1651,  3.3657, 140.6285, 3809,     77.5,  29.9385,  29.9374,2,  34.7412,2,  34.7385,2,    192.0,2,     0.87,2,     0.00,2,     0.00,2,     0.13,2, -999.000,9, -999.000,9,   -999.0,9,   -999.0,9,-999.0000,9,  -999.00,  -999.00,9,  -999.00,9,  29.9374,2,     1847
  49UP20100706,   P09,    78,  1,     31,    104,2,20100804,1651,  3.3657, 140.6285, 3809,    101.0,  29.9233,  29.9215,2,  34.7600,2,  34.7596,2,    192.3,2,     0.90,2,     0.00,2,     0.00,2,     0.13,2, -999.000,9, -999.000,9,   -999.0,9,   -999.0,9,-999.0000,9,  -999.00,  -999.00,9,  -999.00,9,  29.9215,2,     1846
  49UP20100706,   P09,    78,  1,     30,    103,2,20100804,1651,  3.3657, 140.6285, 3809,    124.0,  29.8553,  29.8494,2,  34.8541,2,  34.8592,2,    190.8,2,     0.94,2,     0.02,2,     0.01,2,     0.15,2, -999.000,9, -999.000,9,   -999.0,9,   -999.0,9,-999.0000,9,  -999.00,  -999.00,9,  -999.00,9,  29.8494,2,     1845
  49UP20100706,   P09,    78,  1,     29,    102,2,20100804,1651,  3.3657, 140.6285, 3809,    151.9,  25.5423,  25.5527,2,  34.7654,2,  34.7593,2,    153.7,2,     3.76,2,     4.97,2,     0.04,2,     0.43,2, -999.000,9, -999.000,9,   -999.0,9,   -999.0,9,-999.0000,9,  -999.00,  -999.00,9,  -999.00,9,  25.5527,2,     1843
  49UP20100706,   P09,    78,  1,     28,    101,2,20100804,1651,  3.3657, 140.6285, 3809,    202.2,  13.8695,  13.8707,2,  34.5978,2,  34.5789,4,    138.4,2,    18.17,2,    16.81,2,     0.00,2,     1.22,2, -999.000,9, -999.000,9,   -999.0,9,   -999.0,9,-999.0000,9,  -999.00,  -999.00,9,  -999.00,9,  13.8707,2,     1842
  49UP20100706,   P09,    78,  1,     27,    100,2,20100804,1651,  3.3657, 140.6285, 3809,    252.8,  10.4136,  10.4122,2,  34.5280,2,  34.5297,2,    116.6,2,    30.08,2,    24.81,2,     0.00,2,     1.77,2, -999.000,9, -999.000,9,   -999.0,9,   -999.0,9,-999.0000,9,  -999.00,  -999.00,9,  -999.00,9,  10.4122,2,     1839
  49UP20100706,   P09,    78,  1,     26,     99,2,20100804,1651,  3.3657, 140.6285, 3809,    322.4,   8.7220,   8.7266,2,  34.5686,2,  34.5664,2,     87.8,2,    37.93,2,    31.09,2,     0.00,2,     2.19,2, -999.000,9, -999.000,9,   -999.0,9,   -999.0,9,-999.0000,9,  -999.00,  -999.00,9,  -999.00,9,   8.7266,2,     1837
  49UP20100706,   P09,    78,  1,     25,     98,2,20100804,1651,  3.3657, 140.6285, 3809,    322.4,   8.7220,   8.7266,2,  34.5686,2,  34.5662,2,     87.5,2,    37.81,2,    31.04,2,     0.00,2,     2.20,2, -999.000,9, -999.000,9,   -999.0,9,   -999.0,9,-999.0000,9,  -999.00,  -999.00,9,  -999.00,9,   8.7266,2,     1837
  49UP20100706,   P09,    78,  1,     24,     97,2,20100804,1651,  3.3657, 140.6285, 3809,    372.6,   8.0824,   8.0844,2,  34.5450,2,  34.5435,2,     92.5,2,    41.47,2,    31.77,2,     0.00,2,     2.24,2, -999.000,9, -999.000,9,   -999.0,9,   -999.0,9,-999.0000,9,  -999.00,  -999.00,9,  -999.00,9,   8.0844,2,     1835
  49UP20100706,   P09,    78,  1,     23,     96,2,20100804,1651,  3.3657, 140.6285, 3809,    423.0,   7.7363,   7.7363,2,  34.5593,2,  34.5573,2,    110.6,2,    39.15,2,    30.97,2,     0.00,2,     2.18,2, -999.000,9, -999.000,9,   -999.0,9,   -999.0,9,-999.0000,9,  -999.00,  -999.00,9,  -999.00,9,   7.7363,2,     1833
  49UP20100706,   P09,    78,  1,     22,     95,2,20100804,1651,  3.3657, 140.6285, 3809,    473.4,   7.5261,   7.5258,2,  34.5590,2,  34.5580,2,    110.0,2,    39.82,2,    31.59,2,     0.00,2,     2.22,2, -999.000,9, -999.000,9,   -999.0,9,   -999.0,9,-999.0000,9,  -999.00,  -999.00,9,  -999.00,9,   7.5258,2,     1831
  49UP20100706,   P09,    78,  1,     21,     94,2,20100804,1651,  3.3657, 140.6285, 3809,    534.4,   7.2272,   7.2273,2,  34.5565,2,  34.5554,2,    121.8,2,    38.13,2,    31.28,2,     0.00,2,     2.19,2, -999.000,9, -999.000,9,   -999.0,9,   -999.0,9,-999.0000,9,  -999.00,  -999.00,9,  -999.00,9,   7.2273,2,     1814
  49UP20100706,   P09,    78,  1,     20,     93,2,20100804,1651,  3.3657, 140.6285, 3809,    635.4,   6.6312,   6.6312,2,  34.5389,2,  34.5375,2,    109.4,2,    47.54,2,    33.49,2,     0.00,2,     2.36,2, -999.000,9, -999.000,9,   -999.0,9,   -999.0,9,-999.0000,9,  -999.00,  -999.00,9,  -999.00,9,   6.6312,2,     1811
  49UP20100706,   P09,    78,  1,     19,     92,2,20100804,1651,  3.3657, 140.6285, 3809,    736.8,   6.1307,   6.1309,2,  34.5380,2,  34.5356,2,     87.4,2,    58.82,2,    36.20,2,     0.00,2,     2.57,2, -999.000,9, -999.000,9,   -999.0,9,   -999.0,9,-999.0000,9,  -999.00,  -999.00,9,  -999.00,9,   6.1309,2,     1808
  49UP20100706,   P09,    78,  1,     18,     91,2,20100804,1651,  3.3657, 140.6285, 3809,    839.0,   5.4133,   5.4116,2,  34.5399,2,  34.5392,2,     86.2,2,    69.66,2,    37.43,2,     0.00,2,     2.66,2, -999.000,9, -999.000,9,   -999.0,9,   -999.0,9,-999.0000,9,  -999.00,  -999.00,9,  -999.00,9,   5.4116,2,     1804
  49UP20100706,   P09,    78,  1,     17,     90,2,20100804,1651,  3.3657, 140.6285, 3809,    940.1,   4.9403,   4.9432,2,  34.5465,2,  34.5449,2,     90.3,2,    77.99,2,    37.64,2,     0.00,2,     2.68,2, -999.000,9, -999.000,9,   -999.0,9,   -999.0,9,-999.0000,9,  -999.00,  -999.00,9,  -999.00,9,   4.9432,2,     1800
  49UP20100706,   P09,    78,  1,     16,     89,2,20100804,1651,  3.3657, 140.6285, 3809,   1093.0,   4.3104,   4.3115,2,  34.5601,2,  34.5596,2,     91.7,2,    92.53,2,    38.14,2,     0.00,2,     2.71,2, -999.000,9, -999.000,9,   -999.0,9,   -999.0,9,-999.0000,9,  -999.00,  -999.00,9,  -999.00,9,   4.3115,2,     1754
  49UP20100706,   P09,    78,  1,     15,     88,2,20100804,1651,  3.3657, 140.6285, 3809,   1093.0,   4.3104,   4.3115,2,  34.5601,2,  34.5594,2,     91.6,2,    92.53,2,    38.20,2,     0.00,2,     2.71,2, -999.000,9, -999.000,9,   -999.0,9,   -999.0,9,-999.0000,9,  -999.00,  -999.00,9,  -999.00,9,   4.3115,2,     1754
  49UP20100706,   P09,    78,  1,     14,     87,2,20100804,1651,  3.3657, 140.6285, 3809,   1344.4,   3.4479,   3.4481,2,  34.5851,2,  34.5856,2,     93.4,2,   111.07,2,    38.99,2,     0.00,2,     2.77,2, -999.000,9, -999.000,9,   -999.0,9,   -999.0,9,-999.0000,9,  -999.00,  -999.00,9,  -999.00,9,   3.4481,2,     1747
  49UP20100706,   P09,    78,  1,     13,     86,2,20100804,1651,  3.3657, 140.6285, 3809,   1344.4,   3.4479,   3.4481,2,  34.5851,2,  34.5850,2,     93.8,2,   110.70,2,    38.96,2,     0.00,2,     2.76,2, -999.000,9, -999.000,9,   -999.0,9,   -999.0,9,-999.0000,9,  -999.00,  -999.00,9,  -999.00,9,   3.4481,2,     1747
  49UP20100706,   P09,    78,  1,     12,     85,2,20100804,1651,  3.3657, 140.6285, 3809,   1594.2,   2.7748,   2.7752,2,  34.6098,2,  34.6092,2,    102.3,2,   125.42,2,    38.77,2,     0.00,2,     2.73,2, -999.000,9, -999.000,9,   -999.0,9,   -999.0,9,-999.0000,9,  -999.00,  -999.00,9,  -999.00,9,   2.7752,2,     1741
  49UP20100706,   P09,    78,  1,     11,    110,2,20100804,1651,  3.3657, 140.6285, 3809,   1847.2,   2.3322,   2.3322,2,  34.6307,2,  34.6307,6,    109.9,6,   134.31,6,    38.43,6,     0.00,6,     2.71,6, -999.000,9, -999.000,9,   -999.0,9,   -999.0,9,-999.0000,9,  -999.00,  -999.00,9,  -999.00,9,   2.3322,2,     1736
  49UP20100706,   P09,    78,  1,     10,     83,2,20100804,1651,  3.3657, 140.6285, 3809,   2099.8,   1.9903,   1.9903,2,  34.6487,2,  34.6485,6,    120.2,6,   140.45,6,    37.96,6,     0.00,6,     2.66,6, -999.000,9, -999.000,9,   -999.0,9,   -999.0,9,-999.0000,9,  -999.00,  -999.00,9,  -999.00,9,   1.9903,2,     1731
  49UP20100706,   P09,    78,  1,      9,     82,2,20100804,1651,  3.3657, 140.6285, 3809,   2353.0,   1.8687,   1.8688,2,  34.6556,2,  34.6557,6,    126.1,6,   142.12,6,    37.63,6,     0.00,6,     2.63,6, -999.000,9, -999.000,9,   -999.0,9,   -999.0,9,-999.0000,9,  -999.00,  -999.00,9,  -999.00,9,   1.8688,2,     1725
  49UP20100706,   P09,    78,  1,      8,     81,2,20100804,1651,  3.3657, 140.6285, 3809,   2609.9,   1.7112,   1.7113,2,  34.6647,2,  34.6647,6,    135.3,6,   142.29,6,    37.00,6,     0.00,6,     2.58,6, -999.000,9, -999.000,9,   -999.0,9,   -999.0,9,-999.0000,9,  -999.00,  -999.00,9,  -999.00,9,   1.7113,2,     1720
  49UP20100706,   P09,    78,  1,      7,     80,3,20100804,1651,  3.3657, 140.6285, 3809,   2865.6,   1.6193,   1.6194,2,  34.6705,2,  34.6705,3,    141.3,2,   142.33,2,    36.54,2,     0.00,2,     2.54,2, -999.000,9, -999.000,9,   -999.0,9,   -999.0,9,-999.0000,9,  -999.00,  -999.00,9,  -999.00,9,   1.6194,2,     1715
  49UP20100706,   P09,    78,  1,      6,     79,2,20100804,1651,  3.3657, 140.6285, 3809,   3121.3,   1.5812,   1.5811,2,  34.6740,2,  34.6737,2,    144.1,2,   142.68,2,    36.37,2,     0.00,2,     2.52,2, -999.000,9, -999.000,9,   -999.0,9,   -999.0,9,-999.0000,9,  -999.00,  -999.00,9,  -999.00,9,   1.5811,2,     1709
  49UP20100706,   P09,    78,  1,      5,     78,2,20100804,1651,  3.3657, 140.6285, 3809,   3375.9,   1.5606,   1.5603,2,  34.6769,2,  34.6770,2,    146.2,2,   143.00,2,    36.22,2,     0.00,2,     2.51,2, -999.000,9, -999.000,9,   -999.0,9,   -999.0,9,-999.0000,9,  -999.00,  -999.00,9,  -999.00,9,   1.5603,2,     1703
  49UP20100706,   P09,    78,  1,      4,     77,2,20100804,1651,  3.3657, 140.6285, 3809,   3632.0,   1.5602,   1.5601,2,  34.6793,2,  34.6793,2,    147.3,2,   143.10,2,    36.18,2,     0.00,2,     2.51,2, -999.000,9, -999.000,9,   -999.0,9,   -999.0,9,-999.0000,9,  -999.00,  -999.00,9,  -999.00,9,   1.5601,2,     1657
  49UP20100706,   P09,    78,  1,      1,     74,2,20100804,1651,  3.3657, 140.6285, 3809,   3830.9,   1.5419,   1.5417,2,  34.6826,2,  34.6824,2,    149.3,2,   143.63,2,    36.12,2,     0.00,2,     2.50,2, -999.000,9, -999.000,9,   -999.0,9,   -999.0,9,-999.0000,9,  -999.00,  -999.00,9,  -999.00,9,   1.5417,2,     1651