BOTTLE,20200625PRINUNIVRMK
EXPOCODE,SECT_ID,STNNBR,CASTNO,SAMPNO,BTLNBR,BTLNBR_FLAG_W,DATE,TIME,LATITUDE,LONGITUDE,DEPTH,CTDPRS,CTDTMP,SBE35,SBE35_FLAG_W,CTDSAL,CTDSAL_FLAG_W,SALNTY,SALNTY_FLAG_W,OXYGEN,OXYGEN_FLAG_W,SILCAT,SILCAT_FLAG_W,NITRAT,NITRAT_FLAG_W,NITRIT,NITRIT_FLAG_W,PHSPHT,PHSPHT_FLAG_W,CFC-11,CFC-11_FLAG_W,CFC-12,CFC-12_FLAG_W,TCARBN,TCARBN_FLAG_W,ALKALI,ALKALI_FLAG_W,PH_TOT,PH_TOT_FLAG_W,PH_TMP,CHLORA,CHLORA_FLAG_W,PPHYTN,PPHYTN_FLAG_W,SBE35,SBE35_FLAG_W,BTL_TIME
,,,,,,,,,,,METERS,DBAR,ITS-90,,,PSS-78,,PSS-78,,UMOL/KG,,UMOL/KG,,UMOL/KG,,UMOL/KG,,UMOL/KG,,PMOL/KG,,PMOL/KG,,UMOL/KG,,UMOL/KG,,,,DEG C,UG/KG,,UG/KG,,,,
  49UP20100706,   P09,    60,  1,      0,     -9,0,20100722,0149,  9.0040, 136.9742, 3317,      0.0,  30.0037,-999.0000,9,  34.1806,2,-999.0000,9,    195.2,3,     1.03,2,     0.00,2,     0.00,2,     0.03,2, -999.000,9, -999.000,9,   -999.0,9,   -999.0,9,-999.0000,9,  -999.00,     0.07,2,     0.02,2,-999.0000,9,      309
  49UP20100706,   P09,    60,  1,     36,    109,2,20100722,0149,  9.0040, 136.9742, 3317,     11.7,  29.9951,  29.9954,2,  34.1891,2,  34.1883,2,    196.3,3,     0.97,2,     0.00,2,     0.00,2,     0.03,2, -999.000,9, -999.000,9,   1913.1,2,   2247.4,2,   8.1312,2,    25.00,     0.07,2,     0.02,2,  29.9954,2,      325
  49UP20100706,   P09,    60,  1,     35,    108,2,20100722,0149,  9.0040, 136.9742, 3317,     26.3,  29.9916,  29.9914,2,  34.2104,2,  34.2152,2,    196.3,3,     1.01,2,     0.00,2,     0.00,2,     0.02,2, -999.000,9, -999.000,9,   1915.5,2,   2246.0,2,   8.1279,2,    25.00,     0.07,2,     0.01,2,  29.9914,2,      324
  49UP20100706,   P09,    60,  1,     34,    107,2,20100722,0149,  9.0040, 136.9742, 3317,     50.7,  29.9399,  29.9376,2,  34.2889,2,  34.2921,2,    197.0,3,     0.92,2,     0.00,2,     0.00,2,     0.03,2, -999.000,9, -999.000,9,   1918.9,2,   2255.6,2,   8.1275,2,    25.00,     0.09,2,     0.03,2,  29.9376,2,      321
  49UP20100706,   P09,    60,  1,     33,    106,2,20100722,0149,  9.0040, 136.9742, 3317,     76.0,  29.5496,  29.5491,2,  34.4432,2,  34.4595,4,    202.1,3,     1.12,6,     0.00,6,     0.00,6,     0.04,6, -999.000,9, -999.000,9,   1930.1,2,   2266.6,2,   8.1163,2,    25.00,     0.12,2,     0.03,2,  29.5491,2,      320
  49UP20100706,   P09,    60,  1,     32,    105,2,20100722,0149,  9.0040, 136.9742, 3317,    102.0,  27.6153,  27.6193,2,  34.6369,2,  34.6491,4,    199.9,3,     1.22,6,     0.00,6,     0.00,6,     0.09,6, -999.000,9, -999.000,9,   1958.7,2,   2280.5,2,   8.0959,2,    25.00,     0.20,2,     0.12,2,  27.6193,2,      319
  49UP20100706,   P09,    60,  1,     31,    104,2,20100722,0149,  9.0040, 136.9742, 3317,    125.7,  21.9813,  21.9824,2,  34.9080,2,  34.9132,6,    174.0,3,     3.08,6,     2.63,6,     0.18,6,     0.35,6, -999.000,9, -999.000,9,   2048.5,2,   2298.2,2,   7.9672,2,    25.00,     0.14,2,     0.28,2,  21.9824,2,      318
  49UP20100706,   P09,    60,  1,     30,    103,2,20100722,0149,  9.0040, 136.9742, 3317,    152.1,  17.5422,  17.5378,2,  34.6924,2,  34.6953,6,    151.1,3,     8.45,6,     9.82,6,     0.01,6,     0.80,6, -999.000,9, -999.000,9,   2095.9,2,   2290.7,2,   7.8456,2,    25.00,     0.04,2,     0.13,2,  17.5378,2,      316
  49UP20100706,   P09,    60,  1,     29,    102,2,20100722,0149,  9.0040, 136.9742, 3317,    201.0,  12.1722,  12.1708,2,  34.4994,2,  34.5000,2,    107.1,3,    23.81,2,    22.36,2,     0.00,2,     1.63,2, -999.000,9, -999.000,9,   2174.2,2,   2285.7,2,   7.6624,2,    25.00,     0.00,2,     0.02,2,  12.1708,2,      315
  49UP20100706,   P09,    60,  1,     28,    101,2,20100722,0149,  9.0040, 136.9742, 3317,    252.0,  10.6374,  10.6382,2,  34.5002,2,  34.5010,2,     87.6,3,    30.69,2,    26.94,2,     0.00,2,     1.95,2, -999.000,9, -999.000,9,   2203.3,6,   2294.9,6,   7.5884,6,    25.00,  -999.00,9,  -999.00,9,  10.6382,2,      312
  49UP20100706,   P09,    60,  1,     27,    100,2,20100722,0149,  9.0040, 136.9742, 3317,    252.0,  10.6374,  10.6382,2,  34.5002,2,  34.5027,2,     87.2,3,    30.73,2,    26.99,2,     0.00,2,     1.94,2, -999.000,9, -999.000,9,   2205.0,2,   2298.3,2,   7.5865,2,    25.00,  -999.00,9,  -999.00,9,  10.6382,2,      312
  49UP20100706,   P09,    60,  1,     26,     99,2,20100722,0149,  9.0040, 136.9742, 3317,    302.7,   9.6373,   9.6378,2,  34.4990,2,  34.4990,2,     77.8,3,    36.05,2,    29.70,2,     0.00,2,     2.13,2, -999.000,9, -999.000,9,   2221.5,2,   2294.1,2,   7.5532,2,    25.00,  -999.00,9,  -999.00,9,   9.6378,2,      311
  49UP20100706,   P09,    60,  1,     25,     98,2,20100722,0149,  9.0040, 136.9742, 3317,    352.7,   8.5171,   8.5157,2,  34.4775,2,  34.4776,2,     77.9,3,    43.10,2,    31.75,2,     0.00,2,     2.28,2, -999.000,9, -999.000,9,   2233.7,2,   2300.5,2,   7.5279,2,    25.00,  -999.00,9,  -999.00,9,   8.5157,2,      309
  49UP20100706,   P09,    60,  1,     24,     97,2,20100722,0149,  9.0040, 136.9742, 3317,    404.1,   8.0738,   8.0734,2,  34.5218,2,  34.5215,2,     79.1,3,    44.43,2,    32.84,2,     0.00,2,     2.34,2, -999.000,9, -999.000,9,   2242.3,2,   2308.2,2,   7.5207,2,    25.00,  -999.00,9,  -999.00,9,   8.0734,2,      307
  49UP20100706,   P09,    60,  1,     23,     96,2,20100722,0149,  9.0040, 136.9742, 3317,    454.0,   7.9151,   7.9151,2,  34.5310,2,  34.5311,2,     79.6,3,    44.93,2,    33.20,2,     0.00,2,     2.36,2, -999.000,9, -999.000,9,   2244.2,2,   2312.8,2,   7.5201,2,    25.00,  -999.00,9,  -999.00,9,   7.9151,2,      305
  49UP20100706,   P09,    60,  1,     22,     95,2,20100722,0149,  9.0040, 136.9742, 3317,    503.8,   7.6941,   7.6932,2,  34.5117,2,  34.5131,2,     89.2,3,    46.27,2,    32.62,2,     0.00,2,     2.32,2, -999.000,9, -999.000,9,   2239.8,2,   2316.6,2,   7.5350,2,    25.00,  -999.00,9,  -999.00,9,   7.6932,2,      303
  49UP20100706,   P09,    60,  1,     21,     94,2,20100722,0149,  9.0040, 136.9742, 3317,    606.3,   6.9793,   6.9785,2,  34.5043,2,  34.5054,2,     93.7,3,    52.09,2,    33.60,2,     0.00,2,     2.39,2, -999.000,9, -999.000,9,   2247.3,6,   2316.9,6,   7.5270,6,    25.00,  -999.00,9,  -999.00,9,   6.9785,2,      301
  49UP20100706,   P09,    60,  1,     20,     93,2,20100722,0149,  9.0040, 136.9742, 3317,    606.3,   6.9793,   6.9785,2,  34.5043,2,  34.5046,2,     93.8,3,    52.04,2,    33.57,2,     0.00,2,     2.39,2, -999.000,9, -999.000,9,   2248.5,2,   2320.4,2,   7.5286,2,    25.00,  -999.00,9,  -999.00,9,   6.9785,2,      301
  49UP20100706,   P09,    60,  1,     19,     92,2,20100722,0149,  9.0040, 136.9742, 3317,    705.8,   6.3212,   6.3252,2,  34.5230,2,  34.5229,2,     86.7,3,    60.04,2,    35.55,2,     0.00,2,     2.54,2, -999.000,9, -999.000,9,   2262.2,2,   2327.6,2,   7.5071,2,    25.00,  -999.00,9,  -999.00,9,   6.3252,2,      258
  49UP20100706,   P09,    60,  1,     18,     91,2,20100722,0149,  9.0040, 136.9742, 3317,    807.1,   5.8759,   5.8759,2,  34.5248,2,  34.5243,2,     90.5,3,    65.96,2,    36.02,2,     0.00,2,     2.56,2, -999.000,9, -999.000,9,   2270.8,2,   2330.4,2,   7.5078,2,    25.00,  -999.00,9,  -999.00,9,   5.8759,2,      255
  49UP20100706,   P09,    60,  1,     17,     90,2,20100722,0149,  9.0040, 136.9742, 3317,    907.7,   5.5354,   5.5351,2,  34.5292,2,  34.5294,2,     88.0,3,    72.56,2,    36.75,2,     0.00,2,     2.62,2, -999.000,9, -999.000,9,   2279.5,6,   2341.1,6,   7.4987,6,    25.00,  -999.00,9,  -999.00,9,   5.5351,2,      251
  49UP20100706,   P09,    60,  1,     16,     89,2,20100722,0149,  9.0040, 136.9742, 3317,    907.7,   5.5354,   5.5351,2,  34.5292,2,  34.5291,2,     87.7,3,    72.54,2,    36.80,2,     0.00,2,     2.62,2, -999.000,9, -999.000,9,   2278.8,2,   2341.0,2,   7.4992,2,    25.00,  -999.00,9,  -999.00,9,   5.5351,2,      251
  49UP20100706,   P09,    60,  1,     15,     88,2,20100722,0149,  9.0040, 136.9742, 3317,   1009.9,   4.8946,   4.8934,2,  34.5414,2,  34.5402,2,     88.0,3,    84.13,2,    37.50,2,     0.00,2,     2.68,2, -999.000,9, -999.000,9,   2292.8,2,   2353.4,2,   7.4956,2,    25.00,  -999.00,9,  -999.00,9,   4.8934,2,      248
  49UP20100706,   P09,    60,  1,     14,     87,2,20100722,0149,  9.0040, 136.9742, 3317,   1263.5,   3.8345,   3.8345,2,  34.5683,2,  34.5684,2,     93.2,3,   105.62,2,    38.52,2,     0.00,2,     2.74,2, -999.000,9, -999.000,9,   2315.7,2,   2375.8,2,   7.4940,2,    25.00,  -999.00,9,  -999.00,9,   3.8345,2,      241
  49UP20100706,   P09,    60,  1,     13,     86,4,20100722,0149,  9.0040, 136.9742, 3317,   1516.7,   3.0325,   3.0329,2,  34.5947,2,  34.5682,4,     93.1,4,   105.36,4,    38.43,4,     0.00,4,     2.74,4, -999.000,9, -999.000,9,   2317.1,4,   2373.3,4,   7.4934,4,    25.00,  -999.00,9,  -999.00,9,   3.0329,2,      235
  49UP20100706,   P09,    60,  1,     12,     85,2,20100722,0149,  9.0040, 136.9742, 3317,   1768.9,   2.5903,   2.5907,2,  34.6145,2,  34.6148,2,    109.2,3,   130.11,2,    38.43,2,     0.00,2,     2.72,2, -999.000,9, -999.000,9,   2335.1,2,   2398.7,2,   7.5126,2,    25.00,  -999.00,9,  -999.00,9,   2.5907,2,      229
  49UP20100706,   P09,    60,  1,     11,    110,2,20100722,0149,  9.0040, 136.9742, 3317,   2022.4,   2.2854,   2.2856,2,  34.6291,2,  34.6297,2,    114.3,3,   135.76,2,    38.14,2,     0.00,2,     2.68,2, -999.000,9, -999.000,9,   2337.6,6,   2410.9,2,   7.5190,6,    25.00,  -999.00,9,  -999.00,9,   2.2856,2,      222
  49UP20100706,   P09,    60,  1,     10,     83,2,20100722,0149,  9.0040, 136.9742, 3317,   2022.4,   2.2854,   2.2856,2,  34.6291,2,  34.6295,2,    113.9,3,   136.08,2,    38.09,2,     0.00,2,     2.69,2, -999.000,9, -999.000,9,   2339.0,2,   2408.6,2,   7.5162,2,    25.00,  -999.00,9,  -999.00,9,   2.2856,2,      222
  49UP20100706,   P09,    60,  1,      9,     82,2,20100722,0149,  9.0040, 136.9742, 3317,   2277.0,   2.0005,   2.0011,2,  34.6445,2,  34.6451,2,    121.8,3,   140.63,2,    37.72,2,     0.00,2,     2.65,2, -999.000,9, -999.000,9,   2339.6,2,   2414.3,2,   7.5289,2,    25.00,  -999.00,9,  -999.00,9,   2.0011,2,      216
  49UP20100706,   P09,    60,  1,      8,     81,2,20100722,0149,  9.0040, 136.9742, 3317,   2530.3,   1.8121,   1.8121,2,  34.6554,2,  34.6563,2,    130.1,3,   142.84,2,    37.25,2,     0.00,2,     2.61,2, -999.000,9, -999.000,9,   2339.8,2,   2401.7,3,   7.5405,2,    25.00,  -999.00,9,  -999.00,9,   1.8121,2,      211
  49UP20100706,   P09,    60,  1,      7,     80,2,20100722,0149,  9.0040, 136.9742, 3317,   2783.5,   1.6580,   1.6580,2,  34.6662,2,  34.6677,4,    140.0,3,   142.84,2,    36.61,2,     0.00,2,     2.56,2, -999.000,9, -999.000,9,   2333.6,2,   2402.7,3,   7.5576,3,    25.00,  -999.00,9,  -999.00,9,   1.6580,2,      206
  49UP20100706,   P09,    60,  1,      6,     79,2,20100722,0149,  9.0040, 136.9742, 3317,   3037.3,   1.6422,   1.6422,2,  34.6685,2,  34.6688,2,    142.5,3,   142.84,2,    36.51,2,     0.00,2,     2.55,2, -999.000,9, -999.000,9,   2335.5,2,   2418.6,2,   7.5554,2,    25.00,  -999.00,9,  -999.00,9,   1.6422,2,      200
  49UP20100706,   P09,    60,  1,      5,     78,2,20100722,0149,  9.0040, 136.9742, 3317,   3293.5,   1.5251,   1.5251,2,  34.6773,2,  34.6791,4,    151.9,3,   141.77,2,    35.88,2,     0.00,2,     2.50,2, -999.000,9, -999.000,9,   2329.7,2,   2418.6,2,   7.5687,2,    25.00,  -999.00,9,  -999.00,9,   1.5251,2,      154
  49UP20100706,   P09,    60,  1,      2,     75,2,20100722,0149,  9.0040, 136.9742, 3317,   3507.4,   1.5251,   1.5251,2,  34.6787,2,  34.6789,2,    153.8,3,   141.34,2,    35.85,2,     0.00,2,     2.49,2, -999.000,9, -999.000,9,   2326.7,2,   2413.4,2,   7.5740,2,    25.00,  -999.00,9,  -999.00,9,   1.5251,2,      149