BOTTLE,20200625PRINUNIVRMK
EXPOCODE,SECT_ID,STNNBR,CASTNO,SAMPNO,BTLNBR,BTLNBR_FLAG_W,DATE,TIME,LATITUDE,LONGITUDE,DEPTH,CTDPRS,CTDTMP,SBE35,SBE35_FLAG_W,CTDSAL,CTDSAL_FLAG_W,SALNTY,SALNTY_FLAG_W,OXYGEN,OXYGEN_FLAG_W,SILCAT,SILCAT_FLAG_W,NITRAT,NITRAT_FLAG_W,NITRIT,NITRIT_FLAG_W,PHSPHT,PHSPHT_FLAG_W,CFC-11,CFC-11_FLAG_W,CFC-12,CFC-12_FLAG_W,TCARBN,TCARBN_FLAG_W,ALKALI,ALKALI_FLAG_W,PH_TOT,PH_TOT_FLAG_W,PH_TMP,CHLORA,CHLORA_FLAG_W,PPHYTN,PPHYTN_FLAG_W,SBE35,SBE35_FLAG_W,BTL_TIME
,,,,,,,,,,,METERS,DBAR,ITS-90,,,PSS-78,,PSS-78,,UMOL/KG,,UMOL/KG,,UMOL/KG,,UMOL/KG,,UMOL/KG,,PMOL/KG,,PMOL/KG,,UMOL/KG,,UMOL/KG,,,,DEG C,UG/KG,,UG/KG,,,,
  49UP20100706,   P09,    15,  1,      0,     -9,0,20100709,1609, 30.9910, 137.0190, 4159,      0.0,  25.7735,-999.0000,9,  34.2396,2,-999.0000,9,    204.2,2,     1.32,2,     0.03,2,     0.00,2,     0.00,2, -999.000,9, -999.000,9,   -999.0,9,   -999.0,9,-999.0000,9,  -999.00,     0.11,2,     0.03,2,-999.0000,9,     1753
  49UP20100706,   P09,    15,  1,     36,    109,3,20100709,1609, 30.9910, 137.0190, 4159,     11.6,  25.7740,  25.7725,2,  34.2388,2,  34.2381,3,    206.2,4,     1.26,4,     0.00,4,     0.00,4,     0.00,4, -999.000,9, -999.000,9,   1942.7,2,   2246.8,2,   8.0755,4,    25.00,     0.11,4,     0.02,4,  25.7725,2,     1803
  49UP20100706,   P09,    15,  1,     35,    108,4,20100709,1609, 30.9910, 137.0190, 4159,     26.6,  25.6584,  25.6584,2,  34.2867,2,  34.3492,4,     61.0,4,   116.11,4,    39.70,4,     0.00,4,     2.85,4, -999.000,9, -999.000,9,   2332.9,4,   2334.2,4,   7.4121,4,    25.00,  -999.00,9,  -999.00,9,  25.6584,2,     1801
  49UP20100706,   P09,    15,  1,     34,    107,4,20100709,1609, 30.9910, 137.0190, 4159,     26.6,  25.6584,  25.6584,2,  34.2867,2,  34.3501,4,     60.9,4,   116.49,4,    39.68,4,     0.00,4,     2.85,4, -999.000,9, -999.000,9,   2330.8,4,   2335.7,4,   7.4184,4,    25.00,     0.00,4,     0.01,4,  25.6584,2,     1801
  49UP20100706,   P09,    15,  1,     33,    106,2,20100709,1609, 30.9910, 137.0190, 4159,     50.6,  24.2152,  24.2373,2,  34.7148,2,  34.7155,2,    206.3,2,     1.54,2,     0.00,2,     0.01,2,     0.02,2, -999.000,9, -999.000,9,   1971.2,2,   2279.1,2,   8.0771,2,    25.00,     0.25,2,     0.20,2,  24.2373,2,     1758
  49UP20100706,   P09,    15,  1,     32,    105,2,20100709,1609, 30.9910, 137.0190, 4159,     75.9,  23.3449,  23.3409,2,  34.7588,2,  34.7582,2,    200.5,2,     1.67,2,     0.42,2,     0.12,2,     0.06,2, -999.000,9, -999.000,9,   1983.5,2,   2277.7,2,   8.0567,2,    25.00,     0.45,2,     0.35,2,  23.3409,2,     1757
  49UP20100706,   P09,    15,  1,     31,    104,2,20100709,1609, 30.9910, 137.0190, 4159,    101.3,  22.6618,  22.6555,2,  34.7603,2,  34.7606,2,    200.2,2,     1.88,2,     1.27,2,     0.06,2,     0.10,2, -999.000,9, -999.000,9,   1989.1,2,   2277.8,2,   8.0438,2,    25.00,     0.28,2,     0.25,2,  22.6555,2,     1756
  49UP20100706,   P09,    15,  1,     30,    103,2,20100709,1609, 30.9910, 137.0190, 4159,    126.6,  21.8356,  21.8362,2,  34.7631,2,  34.7627,2,    196.8,3,     2.27,2,     1.87,2,     0.03,2,     0.14,2, -999.000,9, -999.000,9,   2000.4,6,   2280.0,6,   8.0276,6,    25.00,  -999.00,9,  -999.00,9,  21.8362,2,     1754
  49UP20100706,   P09,    15,  1,     29,    102,2,20100709,1609, 30.9910, 137.0190, 4159,    126.6,  21.8356,  21.8362,2,  34.7631,2,  34.7631,2,    195.3,2,     2.20,2,     1.88,2,     0.03,2,     0.13,2, -999.000,9, -999.000,9,   2001.7,2,   2281.5,2,   8.0277,2,    25.00,     0.04,2,     0.05,2,  21.8362,2,     1754
  49UP20100706,   P09,    15,  1,     28,    101,2,20100709,1609, 30.9910, 137.0190, 4159,    151.1,  20.7990,  20.8179,2,  34.7341,2,  34.7317,2,    218.4,2,     1.80,2,     0.51,2,     0.11,2,     0.05,2, -999.000,9, -999.000,9,   1994.4,2,   2277.8,2,   8.0331,2,    25.00,     0.11,2,     0.10,2,  20.8179,2,     1752
  49UP20100706,   P09,    15,  1,     27,    100,2,20100709,1609, 30.9910, 137.0190, 4159,    202.3,  19.3018,  19.3034,2,  34.7626,2,  34.7620,2,    189.7,2,     3.71,2,     4.07,2,     0.01,2,     0.27,2, -999.000,9, -999.000,9,   2029.1,2,   2283.1,2,   7.9753,2,    25.00,     0.00,2,     0.02,2,  19.3034,2,     1750
  49UP20100706,   P09,    15,  1,     26,     99,2,20100709,1609, 30.9910, 137.0190, 4159,    253.4,  18.2907,  18.2902,2,  34.7504,2,  34.7504,2,    191.0,2,     4.20,2,     4.99,2,     0.01,2,     0.33,2, -999.000,9, -999.000,9,   2036.5,2,   2281.3,2,   7.9573,2,    25.00,  -999.00,9,  -999.00,9,  18.2902,2,     1748
  49UP20100706,   P09,    15,  1,     25,     98,2,20100709,1609, 30.9910, 137.0190, 4159,    302.8,  17.5769,  17.5760,2,  34.7410,2,  34.7405,2,    190.0,2,     5.12,2,     6.03,2,     0.01,2,     0.39,2, -999.000,9, -999.000,9,   2045.6,2,   2278.4,2,   7.9447,2,    25.00,  -999.00,9,  -999.00,9,  17.5760,2,     1746
  49UP20100706,   P09,    15,  1,     24,     97,2,20100709,1609, 30.9910, 137.0190, 4159,    406.3,  15.6783,  15.6717,2,  34.6324,2,  34.6315,2,    187.1,2,     9.33,2,     9.14,2,     0.01,2,     0.61,2, -999.000,9, -999.000,9,   2070.5,2,   2275.9,2,   7.8906,2,    25.00,  -999.00,9,  -999.00,9,  15.6717,2,     1743
  49UP20100706,   P09,    15,  1,     23,     96,2,20100709,1609, 30.9910, 137.0190, 4159,    505.3,  13.2899,  13.2923,2,  34.4599,2,  34.4624,2,    177.5,2,    15.99,2,    13.54,2,     0.00,2,     0.94,2, -999.000,9, -999.000,9,   2099.6,2,   2274.3,2,   7.8126,2,    25.00,  -999.00,9,  -999.00,9,  13.2923,2,     1740
  49UP20100706,   P09,    15,  1,     22,     95,2,20100709,1609, 30.9910, 137.0190, 4159,    606.7,  10.4243,  10.4228,2,  34.3116,2,  34.3147,2,    153.9,2,    32.68,2,    20.64,2,     0.00,2,     1.47,2, -999.000,9, -999.000,9,   2154.5,6,   2280.3,6,   7.7019,6,    25.00,  -999.00,9,  -999.00,9,  10.4228,2,     1737
  49UP20100706,   P09,    15,  1,     21,     94,2,20100709,1609, 30.9910, 137.0190, 4159,    606.7,  10.4243,  10.4228,2,  34.3116,2,  34.3142,2,    152.8,3,    32.70,2,    20.63,2,     0.00,2,     1.47,2, -999.000,9, -999.000,9,   2153.6,2,   2277.8,2,   7.7015,2,    25.00,  -999.00,9,  -999.00,9,  10.4228,2,     1737
  49UP20100706,   P09,    15,  1,     20,     93,2,20100709,1609, 30.9910, 137.0190, 4159,    708.2,   8.1966,   8.2039,2,  34.1732,2,  34.1870,4,    143.8,2,    46.49,2,    25.22,2,     0.00,2,     1.82,2, -999.000,9, -999.000,9,   2188.7,2,   2287.3,2,   7.6240,2,    25.00,  -999.00,9,  -999.00,9,   8.2039,2,     1735
  49UP20100706,   P09,    15,  1,     19,     92,2,20100709,1609, 30.9910, 137.0190, 4159,    809.0,   6.4131,   6.4159,2,  34.1913,2,  34.1908,2,    106.7,2,    70.69,2,    31.83,2,     0.00,2,     2.30,2, -999.000,9, -999.000,9,   2245.5,2,   2307.1,2,   7.5252,2,    25.00,  -999.00,9,  -999.00,9,   6.4159,2,     1732
  49UP20100706,   P09,    15,  1,     18,     91,4,20100709,1609, 30.9910, 137.0190, 4159,    909.3,   5.3862,   5.3862,2,  34.2305,2,-999.0000,9,   -999.0,9,  -999.00,9,     0.00,9,  -999.00,9,  -999.00,9, -999.000,9, -999.000,9,   -999.0,9,   -999.0,9,-999.0000,9,  -999.00,  -999.00,9,  -999.00,9,   5.3862,2,     1728
  49UP20100706,   P09,    15,  1,     17,     90,2,20100709,1609, 30.9910, 137.0190, 4159,   1010.8,   4.5924,   4.5899,2,  34.3108,2,  34.3096,2,     68.9,2,   103.41,2,    38.00,2,     0.00,2,     2.74,2, -999.000,9, -999.000,9,   2310.1,2,   2344.6,2,   7.4299,2,    25.00,  -999.00,9,  -999.00,9,   4.5899,2,     1725
  49UP20100706,   P09,    15,  1,     16,     89,2,20100709,1609, 30.9910, 137.0190, 4159,   1213.6,   3.5700,   3.5705,2,  34.3875,2,  34.3867,2,     58.1,2,   123.91,2,    40.38,2,     0.00,2,     2.89,2, -999.000,9, -999.000,9,   2343.8,2,   2366.1,2,   7.3996,2,    25.00,  -999.00,9,  -999.00,9,   3.5705,2,     1720
  49UP20100706,   P09,    15,  1,     15,     88,2,20100709,1609, 30.9910, 137.0190, 4159,   1416.0,   3.0259,   3.0257,2,  34.4617,2,  34.4610,2,     64.4,2,   134.82,2,    40.61,2,     0.00,2,     2.90,2, -999.000,9, -999.000,9,   2354.8,2,   2382.5,2,   7.4173,2,    25.00,  -999.00,9,  -999.00,9,   3.0257,2,     1715
  49UP20100706,   P09,    15,  1,     14,     87,2,20100709,1609, 30.9910, 137.0190, 4159,   1619.0,   2.5928,   2.5928,2,  34.5164,2,  34.5159,2,     74.7,3,   142.54,2,    40.51,2,     0.00,2,     2.88,2, -999.000,9, -999.000,9,   2357.5,2,   2393.4,2,   7.4341,2,    25.00,  -999.00,9,  -999.00,9,   2.5928,2,     1710
  49UP20100706,   P09,    15,  1,     13,     86,2,20100709,1609, 30.9910, 137.0190, 4159,   1821.8,   2.3188,   2.3188,2,  34.5564,2,  34.5566,2,     86.0,2,   145.39,2,    39.87,2,     0.00,2,     2.83,2, -999.000,9, -999.000,9,   2357.4,6,   2400.4,6,   7.4593,6,    25.00,  -999.00,9,  -999.00,9,   2.3188,2,     1705
  49UP20100706,   P09,    15,  1,     12,     85,2,20100709,1609, 30.9910, 137.0190, 4159,   1821.8,   2.3188,   2.3188,2,  34.5564,2,  34.5563,2,     85.4,2,   145.15,2,    39.91,2,     0.00,2,     2.83,2, -999.000,9, -999.000,9,   2358.2,2,   2399.2,2,   7.4605,2,    25.00,  -999.00,9,  -999.00,9,   2.3188,2,     1705
  49UP20100706,   P09,    15,  1,     11,    110,2,20100709,1609, 30.9910, 137.0190, 4159,   2024.6,   2.0791,   2.0793,2,  34.5924,2,  34.5928,2,    101.8,2,   145.59,2,    38.98,2,     0.00,2,     2.75,2, -999.000,9, -999.000,9,   2350.9,2,   2401.5,2,   7.4915,2,    25.00,  -999.00,9,  -999.00,9,   2.0793,2,     1701
  49UP20100706,   P09,    15,  1,     10,     83,2,20100709,1609, 30.9910, 137.0190, 4159,   2278.6,   1.8697,   1.8696,2,  34.6224,2,  34.6223,6,    115.7,6,   145.92,6,    38.19,6,     0.00,6,     2.69,6, -999.000,9, -999.000,9,   2345.9,2,   2410.7,2,   7.5174,2,    25.00,  -999.00,9,  -999.00,9,   1.8696,2,     1655
  49UP20100706,   P09,    15,  1,      9,     82,2,20100709,1609, 30.9910, 137.0190, 4159,   2533.7,   1.7312,   1.7310,2,  34.6430,2,  34.6436,6,    127.6,6,   145.00,6,    37.53,6,     0.00,6,     2.63,6, -999.000,9, -999.000,9,   2340.0,2,   2410.8,2,   7.5376,2,    25.00,  -999.00,9,  -999.00,9,   1.7310,2,     1649
  49UP20100706,   P09,    15,  1,      8,     81,2,20100709,1609, 30.9910, 137.0190, 4159,   2787.3,   1.6481,   1.6480,2,  34.6561,2,  34.6564,6,    136.1,6,   143.79,6,    36.95,6,     0.00,6,     2.59,6, -999.000,9, -999.000,9,   2336.5,2,   2409.0,2,   7.5539,2,    25.00,  -999.00,9,  -999.00,9,   1.6480,2,     1643
  49UP20100706,   P09,    15,  1,      7,     80,2,20100709,1609, 30.9910, 137.0190, 4159,   3042.3,   1.5704,   1.5701,2,  34.6675,2,  34.6676,6,    143.8,6,   142.94,6,    36.53,6,     0.00,6,     2.55,6, -999.000,9, -999.000,9,   2330.7,2,   2411.3,2,   7.5663,2,    25.00,  -999.00,9,  -999.00,9,   1.5701,2,     1637
  49UP20100706,   P09,    15,  1,      6,     79,2,20100709,1609, 30.9910, 137.0190, 4159,   3297.7,   1.5307,   1.5306,2,  34.6744,2,  34.6748,2,    148.6,2,   142.41,2,    36.18,2,     0.00,2,     2.53,2, -999.000,9, -999.000,9,   2328.1,2,   2412.2,2,   7.5745,2,    25.00,  -999.00,9,  -999.00,9,   1.5306,2,     1631
  49UP20100706,   P09,    15,  1,      5,     78,2,20100709,1609, 30.9910, 137.0190, 4159,   3557.1,   1.5232,   1.5229,2,  34.6780,2,  34.6781,2,    151.2,2,   142.01,2,    36.05,2,     0.00,2,     2.51,2, -999.000,9, -999.000,9,   2327.5,2,   2411.5,2,   7.5775,2,    25.00,  -999.00,9,  -999.00,9,   1.5229,2,     1625
  49UP20100706,   P09,    15,  1,      4,     77,2,20100709,1609, 30.9910, 137.0190, 4159,   3810.5,   1.5271,   1.5269,2,  34.6806,2,  34.6808,2,    153.0,2,   141.85,2,    35.94,2,     0.00,2,     2.50,2, -999.000,9, -999.000,9,   2324.4,2,   2413.9,2,   7.5817,2,    25.00,  -999.00,9,  -999.00,9,   1.5269,2,     1619
  49UP20100706,   P09,    15,  1,      3,     76,2,20100709,1609, 30.9910, 137.0190, 4159,   4064.7,   1.5412,   1.5408,2,  34.6816,2,  34.6820,2,    154.3,2,   141.56,2,    35.93,2,     0.00,2,     2.50,2, -999.000,9, -999.000,9,   2322.9,2,   2413.0,2,   7.5817,2,    25.00,  -999.00,9,  -999.00,9,   1.5408,2,     1613
  49UP20100706,   P09,    15,  1,      1,     74,2,20100709,1609, 30.9910, 137.0190, 4159,   4192.4,   1.5510,   1.5505,2,  34.6821,2,  34.6827,2,    154.6,2,   141.55,2,    36.07,2,     0.00,2,     2.49,2, -999.000,9, -999.000,9,   2323.2,2,   2411.8,2,   7.5811,2,    25.00,  -999.00,9,  -999.00,9,   1.5505,2,     1610