BOTTLE,20200625PRINUNIVRMK
EXPOCODE,SECT_ID,STNNBR,CASTNO,SAMPNO,BTLNBR,BTLNBR_FLAG_W,DATE,TIME,LATITUDE,LONGITUDE,DEPTH,CTDPRS,CTDTMP,SBE35,SBE35_FLAG_W,CTDSAL,CTDSAL_FLAG_W,SALNTY,SALNTY_FLAG_W,OXYGEN,OXYGEN_FLAG_W,SILCAT,SILCAT_FLAG_W,NITRAT,NITRAT_FLAG_W,NITRIT,NITRIT_FLAG_W,PHSPHT,PHSPHT_FLAG_W,CFC-11,CFC-11_FLAG_W,CFC-12,CFC-12_FLAG_W,TCARBN,TCARBN_FLAG_W,ALKALI,ALKALI_FLAG_W,PH_TOT,PH_TOT_FLAG_W,PH_TMP,CHLORA,CHLORA_FLAG_W,PPHYTN,PPHYTN_FLAG_W,SBE35,SBE35_FLAG_W,BTL_TIME
,,,,,,,,,,,METERS,DBAR,ITS-90,,,PSS-78,,PSS-78,,UMOL/KG,,UMOL/KG,,UMOL/KG,,UMOL/KG,,UMOL/KG,,PMOL/KG,,PMOL/KG,,UMOL/KG,,UMOL/KG,,,,DEG C,UG/KG,,UG/KG,,,,
  49UP20100706,   P09,    22,  1,      0,     -9,0,20100711,1438, 27.9983, 136.9888, 4144,      0.0,  28.0903,-999.0000,9,  34.6470,2,-999.0000,9,    200.8,2,     1.24,2,     0.03,2,     0.00,2,     0.00,2, -999.000,9, -999.000,9,   -999.0,9,   -999.0,9,-999.0000,9,  -999.00,     0.04,2,     0.01,2,-999.0000,9,     1607
  49UP20100706,   P09,    22,  1,     36,    109,2,20100711,1438, 27.9983, 136.9888, 4144,     10.5,  28.1018,  28.1017,2,  34.6430,2,  34.6421,2,    201.5,2,     1.22,2,     0.02,2,     0.00,2,     0.00,2,    1.624,2,    0.977,2,   1955.7,2,   2272.0,2,   8.0886,2,    25.00,     0.04,2,     0.00,2,  28.1017,2,     1625
  49UP20100706,   P09,    22,  1,     35,    108,2,20100711,1438, 27.9983, 136.9888, 4144,     26.9,  25.5811,  25.5871,2,  34.6477,2,  34.6626,4,    214.4,2,     1.34,2,     0.00,2,     0.00,2,     0.00,2,    1.846,2,    1.093,2,   1963.2,2,   2272.8,2,   8.0792,2,    25.00,     0.05,2,     0.00,2,  25.5871,2,     1624
  49UP20100706,   P09,    22,  1,     34,    107,2,20100711,1438, 27.9983, 136.9888, 4144,     50.9,  22.3038,  22.3133,2,  34.7422,2,  34.7420,2,    228.6,2,     1.46,2,     0.01,2,     0.00,2,     0.00,2,    2.050,2,    1.240,2,   1970.6,2,   2276.7,2,   8.0730,2,    25.00,     0.07,2,     0.01,2,  22.3133,2,     1621
  49UP20100706,   P09,    22,  1,     33,    106,2,20100711,1438, 27.9983, 136.9888, 4144,     76.0,  20.8085,  20.8164,2,  34.7252,2,  34.7271,2,    233.7,2,     2.60,2,     0.02,2,     0.00,2,     0.01,2,    2.121,3,    1.257,3,   1977.4,6,   2275.9,6,   8.0597,6,    25.00,  -999.00,9,  -999.00,9,  20.8164,2,     1620
  49UP20100706,   P09,    22,  1,     32,    105,2,20100711,1438, 27.9983, 136.9888, 4144,     76.0,  20.8085,  20.8164,2,  34.7252,2,  34.7271,2,    233.7,2,     1.52,2,     0.00,2,     0.00,2,     0.00,2,    2.041,2,    1.232,2,   1977.5,2,   2276.2,2,   8.0598,2,    25.00,     0.14,2,     0.04,2,  20.8164,2,     1620
  49UP20100706,   P09,    22,  1,     31,    104,2,20100711,1438, 27.9983, 136.9888, 4144,    101.7,  19.8542,  19.8546,2,  34.7206,2,  34.7209,2,    227.7,2,     1.60,2,     0.00,2,     0.00,2,     0.01,2,    2.071,2,    1.303,2,   1986.5,2,   2276.4,2,   8.0468,2,    25.00,     0.23,2,     0.22,2,  19.8546,2,     1619
  49UP20100706,   P09,    22,  1,     30,    103,2,20100711,1438, 27.9983, 136.9888, 4144,    125.5,  19.3806,  19.3794,2,  34.7193,2,  34.7186,2,    220.9,2,     1.79,2,     0.87,2,     0.06,2,     0.06,2,    2.052,2,    1.298,2,   1992.4,2,   2275.5,2,   8.0284,2,    25.00,     0.17,2,     0.30,2,  19.3794,2,     1617
  49UP20100706,   P09,    22,  1,     29,    102,2,20100711,1438, 27.9983, 136.9888, 4144,    152.2,  19.2066,  19.2056,2,  34.7171,2,  34.7168,2,    218.2,2,     1.93,2,     1.45,2,     0.02,2,     0.10,2,    2.109,2,    1.293,2,   1994.4,2,   2275.8,2,   8.0234,2,    25.00,     0.06,2,     0.06,2,  19.2056,2,     1616
  49UP20100706,   P09,    22,  1,     28,    101,2,20100711,1438, 27.9983, 136.9888, 4144,    201.2,  18.9948,  18.9943,2,  34.7173,2,  34.7169,2,    214.6,2,     2.22,2,     1.85,2,     0.01,2,     0.12,2,    2.162,2,    1.330,2,   2000.0,2,   2276.8,2,   8.0202,2,    25.00,     0.01,2,     0.01,2,  18.9943,2,     1614
  49UP20100706,   P09,    22,  1,     27,    100,2,20100711,1438, 27.9983, 136.9888, 4144,    251.5,  18.5848,  18.5848,2,  34.7160,2,  34.7172,2,    207.5,2,     2.86,2,     2.97,2,     0.01,2,     0.19,2,    2.222,2,    1.343,2,   2013.8,2,   2275.4,2,   7.9968,2,    25.00,  -999.00,9,  -999.00,9,  18.5848,2,     1613
  49UP20100706,   P09,    22,  1,     26,     99,2,20100711,1438, 27.9983, 136.9888, 4144,    332.5,  17.1835,  17.1120,2,  34.7141,2,  34.7134,2,    191.4,2,     5.68,2,     6.45,2,     0.00,2,     0.42,2,    2.339,6,    1.406,6,   2043.5,2,   2276.4,2,   7.9403,2,    25.00,  -999.00,9,  -999.00,9,  17.1120,2,     1610
  49UP20100706,   P09,    22,  1,     25,     98,2,20100711,1438, 27.9983, 136.9888, 4144,    433.3,  15.4773,  15.4772,2,  34.6155,2,  34.6146,2,    188.1,2,     9.44,2,     9.25,2,     0.00,2,     0.62,2,    2.474,2,    1.436,2,   2066.9,2,   2276.6,2,   7.8934,2,    25.00,  -999.00,9,  -999.00,9,  15.4772,2,     1607
  49UP20100706,   P09,    22,  1,     24,     97,2,20100711,1438, 27.9983, 136.9888, 4144,    533.7,  12.6940,  12.6884,2,  34.4230,2,  34.4196,2,    178.9,2,    19.31,2,    14.71,2,     0.00,2,     1.03,2,    2.552,2,    1.414,2,   2104.8,6,   2273.0,6,   7.8005,6,    25.00,  -999.00,9,  -999.00,9,  12.6884,2,     1604
  49UP20100706,   P09,    22,  1,     23,     96,2,20100711,1438, 27.9983, 136.9888, 4144,    533.7,  12.6940,  12.6884,2,  34.4230,2,  34.4191,2,    178.8,2,    19.04,2,    14.66,2,     0.00,2,     1.02,2,    2.551,4,    1.387,2,   2103.5,2,   2274.6,2,   7.7969,2,    25.00,  -999.00,9,  -999.00,9,  12.6884,2,     1604
  49UP20100706,   P09,    22,  1,     22,     95,2,20100711,1438, 27.9983, 136.9888, 4144,    635.3,   9.6327,   9.6355,2,  34.2313,2,  34.2304,2,    159.4,2,    34.94,2,    21.51,2,     0.00,2,     1.54,2,    2.371,2,    1.255,6,   2156.5,2,   2277.5,2,   7.6882,2,    25.00,  -999.00,9,  -999.00,9,   9.6355,2,     1601
  49UP20100706,   P09,    22,  1,     21,     94,2,20100711,1438, 27.9983, 136.9888, 4144,    736.0,   7.2649,   7.2651,2,  34.1473,2,  34.1490,2,    128.4,2,    56.47,2,    28.45,2,     0.00,2,     2.06,2,    1.888,4,    0.952,2,   2212.0,2,   2294.0,2,   7.5656,2,    25.00,  -999.00,9,  -999.00,9,   7.2651,2,     1558
  49UP20100706,   P09,    22,  1,     20,     93,2,20100711,1438, 27.9983, 136.9888, 4144,    837.2,   5.8640,   5.8635,2,  34.1675,2,  34.1673,2,     98.8,2,    77.01,2,    33.55,2,     0.00,2,     2.43,2,    0.000,4,    0.000,4,   2257.5,2,   2310.9,2,   7.4930,2,    25.00,  -999.00,9,  -999.00,9,   5.8635,2,     1556
  49UP20100706,   P09,    22,  1,     19,     92,2,20100711,1438, 27.9983, 136.9888, 4144,    937.8,   4.9345,   4.9338,2,  34.2193,2,  34.2207,2,     76.0,2,    93.65,2,    37.10,2,     0.00,2,     2.67,2,    0.768,4,    0.418,2,   2293.3,2,   2325.1,2,   7.4333,2,    25.00,  -999.00,9,  -999.00,9,   4.9338,2,     1553
  49UP20100706,   P09,    22,  1,     18,     91,2,20100711,1438, 27.9983, 136.9888, 4144,   1079.8,   4.0106,   4.0099,2,  34.3157,2,  34.3174,2,     58.4,2,   113.52,2,    39.90,2,     0.00,2,     2.87,2,    0.310,4,    0.164,2,   2326.8,2,   2349.9,2,   7.4040,2,    25.00,  -999.00,9,  -999.00,9,   4.0099,2,     1549
  49UP20100706,   P09,    22,  1,     17,     90,2,20100711,1438, 27.9983, 136.9888, 4144,   1282.0,   3.2471,   3.2466,2,  34.4191,2,  34.4193,2,     56.3,2,   130.72,2,    41.03,2,     0.00,2,     2.94,2,    0.797,4,    0.021,2,   2347.5,2,   2370.8,2,   7.3975,2,    25.00,  -999.00,9,  -999.00,9,   3.2466,2,     1545
  49UP20100706,   P09,    22,  1,     16,     89,2,20100711,1438, 27.9983, 136.9888, 4144,   1485.0,   2.7269,   2.7265,2,  34.4893,2,  34.4896,2,     62.5,2,   142.70,2,    41.17,2,     0.00,2,     2.93,2,    0.498,4,    0.013,2,   2362.1,2,   2386.9,2,   7.4124,2,    25.00,  -999.00,9,  -999.00,9,   2.7265,2,     1540
  49UP20100706,   P09,    22,  1,     15,     88,2,20100711,1438, 27.9983, 136.9888, 4144,   1688.5,   2.3819,   2.3800,2,  34.5389,2,  34.5391,2,     73.3,2,   148.36,2,    40.76,2,     0.00,2,     2.89,2,    0.004,4,    0.000,2,   2361.5,2,   2396.6,2,   7.4334,2,    25.00,  -999.00,9,  -999.00,9,   2.3800,2,     1536
  49UP20100706,   P09,    22,  1,     14,     87,2,20100711,1438, 27.9983, 136.9888, 4144,   1891.2,   2.1351,   2.1353,2,  34.5790,2,  34.5798,2,     90.8,2,   148.77,2,    39.81,2,     0.00,2,     2.81,2,    0.087,4,    0.000,2,   2354.1,2,   2403.6,2,   7.4684,2,    25.00,  -999.00,9,  -999.00,9,   2.1353,2,     1531
  49UP20100706,   P09,    22,  1,     13,     86,2,20100711,1438, 27.9983, 136.9888, 4144,   2104.4,   1.9785,   1.9780,2,  34.6088,2,  34.6093,2,    110.2,2,   145.07,2,    38.51,2,     0.00,2,     2.71,2,    0.000,4,    0.000,4,   2341.7,2,   2404.7,2,   7.5062,2,    25.00,  -999.00,9,  -999.00,9,   1.9780,2,     1526
  49UP20100706,   P09,    22,  1,     12,     85,2,20100711,1438, 27.9983, 136.9888, 4144,   2358.5,   1.8335,   1.8334,2,  34.6302,2,  34.6306,2,    121.0,2,   145.14,2,    37.96,2,     0.00,2,     2.67,2,    0.000,2,    0.000,2,   2338.1,6,   2407.8,6,   7.5231,6,    25.00,  -999.00,9,  -999.00,9,   1.8334,2,     1521
  49UP20100706,   P09,    22,  1,     11,    110,2,20100711,1438, 27.9983, 136.9888, 4144,   2358.5,   1.8335,   1.8334,2,  34.6302,2,  34.6309,2,    120.8,2,   145.25,2,    37.94,2,     0.00,2,     2.66,2,    0.000,4,    0.000,4,   2342.5,2,   2407.7,2,   7.5240,2,    25.00,  -999.00,9,  -999.00,9,   1.8334,2,     1521
  49UP20100706,   P09,    22,  1,     10,     83,2,20100711,1438, 27.9983, 136.9888, 4144,   2614.0,   1.7203,   1.7202,2,  34.6474,2,  34.6479,2,    131.4,2,   144.17,2,    37.35,2,     0.00,2,     2.61,2,    0.000,2,    0.000,2,   2335.3,2,   2410.1,2,   7.5441,2,    25.00,  -999.00,9,  -999.00,9,   1.7202,2,     1515
  49UP20100706,   P09,    22,  1,      9,     82,2,20100711,1438, 27.9983, 136.9888, 4144,   2867.9,   1.6484,   1.6482,2,  34.6581,2,  34.6584,2,    137.5,2,   143.82,2,    36.93,2,     0.00,2,     2.58,2, -999.000,9, -999.000,9,   2332.3,2,   2410.4,2,   7.5498,2,    25.00,  -999.00,9,  -999.00,9,   1.6482,2,     1509
  49UP20100706,   P09,    22,  1,      8,     81,2,20100711,1438, 27.9983, 136.9888, 4144,   3122.9,   1.6052,   1.6051,2,  34.6654,2,  34.6651,2,    142.2,2,   143.53,2,    36.71,2,     0.00,2,     2.56,2,    0.000,2,    0.000,2,   2334.2,3,   2412.4,2,   7.5557,2,    25.00,  -999.00,9,  -999.00,9,   1.6051,2,     1504
  49UP20100706,   P09,    22,  1,      7,     80,2,20100711,1438, 27.9983, 136.9888, 4144,   3378.8,   1.5612,   1.5609,2,  34.6722,2,  34.6726,2,    147.1,2,   142.88,2,    36.37,2,     0.00,2,     2.54,2, -999.000,9, -999.000,9,   2327.4,2,   2409.5,2,   7.5668,2,    25.00,  -999.00,9,  -999.00,9,   1.5609,2,     1458
  49UP20100706,   P09,    22,  1,      6,     79,2,20100711,1438, 27.9983, 136.9888, 4144,   3634.6,   1.5278,   1.5278,2,  34.6785,2,  34.6791,6,    151.6,6,   142.53,6,    36.14,6,     0.00,6,     2.51,6, -999.000,9, -999.000,9,   2324.8,2,   2410.2,2,   7.5737,2,    25.00,  -999.00,9,  -999.00,9,   1.5278,2,     1452
  49UP20100706,   P09,    22,  1,      5,     78,2,20100711,1438, 27.9983, 136.9888, 4144,   3890.3,   1.5238,   1.5237,2,  34.6816,2,  34.6822,6,    154.4,6,   141.98,6,    35.93,6,     0.00,6,     2.50,6, -999.000,9, -999.000,9,   2326.0,2,   2409.1,2,   7.5769,2,    25.00,  -999.00,9,  -999.00,9,   1.5237,2,     1446
  49UP20100706,   P09,    22,  1,      4,     77,2,20100711,1438, 27.9983, 136.9888, 4144,   4147.7,   1.5431,   1.5429,2,  34.6825,2,  34.6837,4,    155.4,2,   141.88,2,    35.97,2,     0.00,2,     2.49,2,    0.011,4,    0.000,2,   2323.9,6,   2410.0,6,   7.5789,6,    25.00,  -999.00,9,  -999.00,9,   1.5429,2,     1440
  49UP20100706,   P09,    22,  1,      3,     76,2,20100711,1438, 27.9983, 136.9888, 4144,   4148.1,   1.5434,   1.5431,2,  34.6824,2,  34.6831,6,    155.2,6,   141.73,6,    35.92,6,     0.00,6,     2.49,6, -999.000,9, -999.000,9,   2323.3,2,   2410.0,2,   7.5799,2,    25.00,  -999.00,9,  -999.00,9,   1.5431,2,     1440
  49UP20100706,   P09,    22,  1,      1,     74,2,20100711,1438, 27.9983, 136.9888, 4144,   4203.0,   1.5479,   1.5477,2,  34.6824,2,  34.6842,4,    155.4,6,   141.60,6,    35.89,6,     0.00,6,     2.51,6,    0.000,2,    0.000,2,   2323.2,2,   2408.9,2,   7.5754,2,    25.00,  -999.00,9,  -999.00,9,   1.5477,2,     1438