BOTTLE,20200625PRINUNIVRMK
EXPOCODE,SECT_ID,STNNBR,CASTNO,SAMPNO,BTLNBR,BTLNBR_FLAG_W,DATE,TIME,LATITUDE,LONGITUDE,DEPTH,CTDPRS,CTDTMP,SBE35,SBE35_FLAG_W,CTDSAL,CTDSAL_FLAG_W,SALNTY,SALNTY_FLAG_W,OXYGEN,OXYGEN_FLAG_W,SILCAT,SILCAT_FLAG_W,NITRAT,NITRAT_FLAG_W,NITRIT,NITRIT_FLAG_W,PHSPHT,PHSPHT_FLAG_W,CFC-11,CFC-11_FLAG_W,CFC-12,CFC-12_FLAG_W,TCARBN,TCARBN_FLAG_W,ALKALI,ALKALI_FLAG_W,PH_TOT,PH_TOT_FLAG_W,PH_TMP,CHLORA,CHLORA_FLAG_W,PPHYTN,PPHYTN_FLAG_W,SBE35,SBE35_FLAG_W,BTL_TIME
,,,,,,,,,,,METERS,DBAR,ITS-90,,,PSS-78,,PSS-78,,UMOL/KG,,UMOL/KG,,UMOL/KG,,UMOL/KG,,UMOL/KG,,PMOL/KG,,PMOL/KG,,UMOL/KG,,UMOL/KG,,,,DEG C,UG/KG,,UG/KG,,,,
  49UP20100706,   P09,    32,  1,      0,     -9,0,20100714,1001, 23.0153, 137.3137, 5115,      0.0,  29.9741,-999.0000,9,  34.5482,2,-999.0000,9,    194.7,2,     1.18,2,     0.02,2,     0.00,2,     0.01,2, -999.000,9, -999.000,9,   -999.0,9,   -999.0,9,-999.0000,9,  -999.00,     0.04,2,     0.00,2,-999.0000,9,     1200
  49UP20100706,   P09,    32,  1,     36,    109,2,20100714,1001, 23.0153, 137.3137, 5115,     10.9,  29.9687,  29.9653,2,  34.5463,2,  34.5470,2,    195.1,2,     1.12,2,     0.00,2,     0.00,2,     0.00,2, -999.000,9, -999.000,9,   1937.4,2,   2269.5,2,   8.1172,2,    25.00,     0.04,2,     0.00,2,  29.9653,2,     1220
  49UP20100706,   P09,    32,  1,     35,    108,2,20100714,1001, 23.0153, 137.3137, 5115,     26.1,  29.2063,  29.3085,2,  34.5383,2,  34.5469,4,    202.1,2,     1.13,2,     0.00,2,     0.00,2,     0.00,2, -999.000,9, -999.000,9,   1937.6,2,   2271.3,2,   8.1116,2,    25.00,     0.04,2,     0.00,2,  29.3085,2,     1219
  49UP20100706,   P09,    32,  1,     34,    107,2,20100714,1001, 23.0153, 137.3137, 5115,     49.9,  25.3827,  25.3894,2,  34.7881,2,  34.7888,2,    219.2,2,     1.40,2,     0.01,2,     0.00,2,     0.01,2, -999.000,9, -999.000,9,   1957.8,2,   2283.7,2,   8.1004,2,    25.00,     0.05,2,     0.01,2,  25.3894,2,     1215
  49UP20100706,   P09,    32,  1,     33,    106,2,20100714,1001, 23.0153, 137.3137, 5115,     75.7,  22.7280,  22.7246,2,  34.7920,2,  34.7907,2,    216.0,2,     1.54,2,     0.03,2,     0.00,2,     0.00,2, -999.000,9, -999.000,9,   1974.6,2,   2285.9,2,   8.0712,2,    25.00,     0.12,2,     0.03,2,  22.7246,2,     1214
  49UP20100706,   P09,    32,  1,     32,    105,2,20100714,1001, 23.0153, 137.3137, 5115,    101.0,  21.9282,  21.9223,2,  34.7734,2,  34.7702,2,    215.3,2,     1.56,2,     0.01,2,     0.00,2,     0.01,2, -999.000,9, -999.000,9,   1980.6,2,   2284.9,2,   8.0589,2,    25.00,     0.12,2,     0.07,2,  21.9223,2,     1212
  49UP20100706,   P09,    32,  1,     31,    104,2,20100714,1001, 23.0153, 137.3137, 5115,    125.5,  21.2423,  21.2220,2,  34.8227,2,  34.8217,2,    198.4,2,     1.88,2,     0.76,2,     0.06,2,     0.07,2, -999.000,9, -999.000,9,   2002.6,2,   2284.8,2,   8.0217,2,    25.00,     0.25,2,     0.42,2,  21.2220,2,     1210
  49UP20100706,   P09,    32,  1,     30,    103,2,20100714,1001, 23.0153, 137.3137, 5115,    152.8,  20.2742,  20.2717,2,  34.8272,2,  34.8275,2,    191.6,2,     2.43,2,     1.99,2,     0.03,2,     0.14,2, -999.000,9, -999.000,9,   2018.4,2,   2289.9,2,   7.9959,2,    25.00,     0.08,2,     0.07,2,  20.2717,2,     1209
  49UP20100706,   P09,    32,  1,     28,    101,2,20100714,1001, 23.0153, 137.3137, 5115,    201.7,  18.8400,  18.8393,2,  34.7493,2,  34.7490,2,    197.2,2,     3.15,2,     3.43,2,     0.01,2,     0.22,2, -999.000,9, -999.000,9,   2018.8,2,   2276.6,3,   7.9777,2,    25.00,     0.01,2,     0.02,2,  18.8393,2,     1206
  49UP20100706,   P09,    32,  1,     29,    102,2,20100714,1001, 23.0153, 137.3137, 5115,    202.2,  18.8384,  18.8389,2,  34.7495,2,  34.7495,2,    197.0,2,     3.10,2,     3.46,2,     0.01,2,     0.23,2, -999.000,9, -999.000,9,   2020.8,6,   2282.4,6,   7.9824,6,    25.00,  -999.00,9,  -999.00,9,  18.8389,2,     1206
  49UP20100706,   P09,    32,  1,     27,    100,4,20100714,1001, 23.0153, 137.3137, 5115,    252.1,  17.6340,  17.6372,2,  34.7468,2,  34.6840,4,    157.4,4,   141.40,4,    35.84,4,     0.00,4,     2.46,4, -999.000,9, -999.000,9,   2319.1,4,   2376.2,4,   7.5878,4,    25.00,  -999.00,9,  -999.00,9,  17.6372,2,     1204
  49UP20100706,   P09,    32,  1,     26,     99,2,20100714,1001, 23.0153, 137.3137, 5115,    282.6,  17.1079,  17.1102,2,  34.7262,2,  34.7267,6,    192.7,6,     5.22,6,     6.19,6,     0.00,6,     0.41,6, -999.000,9, -999.000,9,   2043.9,2,   2281.3,2,   7.9348,2,    25.00,  -999.00,9,  -999.00,9,  17.1102,2,     1202
  49UP20100706,   P09,    32,  1,     25,     98,2,20100714,1001, 23.0153, 137.3137, 5115,    370.8,  15.2667,  15.2667,2,  34.6019,2,  34.6025,6,    188.4,6,     9.35,6,     9.42,6,     0.00,6,     0.63,6, -999.000,9, -999.000,9,   2068.7,2,   2278.4,2,   7.8833,2,    25.00,  -999.00,9,  -999.00,9,  15.2667,2,     1159
  49UP20100706,   P09,    32,  1,     24,     97,2,20100714,1001, 23.0153, 137.3137, 5115,    475.6,  12.0206,  12.0230,2,  34.3615,2,  34.3756,4,    180.8,6,    18.55,6,    15.01,6,     0.00,6,     1.04,6, -999.000,9, -999.000,9,   2108.0,2,   2276.4,2,   7.7831,2,    25.00,  -999.00,9,  -999.00,9,  12.0230,2,     1156
  49UP20100706,   P09,    32,  1,     23,     96,2,20100714,1001, 23.0153, 137.3137, 5115,    576.0,   8.5579,   8.5573,2,  34.1635,2,  34.1647,6,    149.0,6,    40.35,6,    24.38,6,     0.00,6,     1.73,6, -999.000,9, -999.000,9,   2176.3,2,   2284.4,2,   7.6401,2,    25.00,  -999.00,9,  -999.00,9,   8.5573,2,     1152
  49UP20100706,   P09,    32,  1,     22,     95,2,20100714,1001, 23.0153, 137.3137, 5115,    677.5,   6.3109,   6.3109,2,  34.1196,2,  34.1193,2,    110.6,2,    65.64,2,    31.88,2,     0.00,2,     2.28,2, -999.000,9, -999.000,9,   2237.5,2,   2301.7,2,   7.5088,2,    25.00,  -999.00,9,  -999.00,9,   6.3109,2,     1149
  49UP20100706,   P09,    32,  1,     21,     94,2,20100714,1001, 23.0153, 137.3137, 5115,    777.3,   5.0838,   5.0838,2,  34.1739,2,  34.1723,2,     78.7,2,    87.08,2,    36.83,2,     0.00,2,     2.63,2, -999.000,9, -999.000,9,   2283.0,2,   2323.5,2,   7.4397,2,    25.00,  -999.00,9,  -999.00,9,   5.0838,2,     1146
  49UP20100706,   P09,    32,  1,     20,     93,2,20100714,1001, 23.0153, 137.3137, 5115,    878.6,   4.4696,   4.4694,2,  34.2726,2,  34.2720,2,     61.3,2,   101.60,2,    39.22,2,     0.00,2,     2.79,2, -999.000,9, -999.000,9,   2314.4,2,   2335.6,2,   7.4067,2,    25.00,  -999.00,9,  -999.00,9,   4.4694,2,     1143
  49UP20100706,   P09,    32,  1,     19,     92,2,20100714,1001, 23.0153, 137.3137, 5115,    981.4,   3.8592,   3.8589,2,  34.3618,2,  34.3596,4,     54.9,2,   115.73,2,    40.64,2,     0.00,2,     2.89,2, -999.000,9, -999.000,9,   2331.5,2,   2357.5,2,   7.4009,2,    25.00,  -999.00,9,  -999.00,9,   3.8589,2,     1140
  49UP20100706,   P09,    32,  1,     18,     91,2,20100714,1001, 23.0153, 137.3137, 5115,   1142.2,   3.2826,   3.2821,2,  34.4402,2,  34.4401,2,     59.3,2,   128.02,2,    41.14,2,     0.00,2,     2.90,2, -999.000,9, -999.000,9,   2343.6,2,   2374.6,2,   7.4107,2,    25.00,  -999.00,9,  -999.00,9,   3.2821,2,     1135
  49UP20100706,   P09,    32,  1,     17,     90,2,20100714,1001, 23.0153, 137.3137, 5115,   1345.0,   2.7693,   2.7692,2,  34.5079,2,  34.5070,2,     72.4,2,   137.16,2,    40.64,2,     0.00,2,     2.86,2, -999.000,9, -999.000,9,   2348.1,2,   2388.3,2,   7.4366,2,    25.00,  -999.00,9,  -999.00,9,   2.7692,2,     1130
  49UP20100706,   P09,    32,  1,     16,     89,2,20100714,1001, 23.0153, 137.3137, 5115,   1546.1,   2.4162,   2.4167,2,  34.5596,2,  34.5589,2,     89.4,2,   141.21,2,    39.83,2,     0.00,2,     2.79,2, -999.000,9, -999.000,9,   2346.0,2,   2394.9,2,   7.4705,2,    25.00,  -999.00,9,  -999.00,9,   2.4167,2,     1125
  49UP20100706,   P09,    32,  1,     15,     88,2,20100714,1001, 23.0153, 137.3137, 5115,   1748.5,   2.2500,   2.2506,2,  34.5861,2,  34.5847,2,    100.3,2,   141.56,2,    39.19,2,     0.00,2,     2.74,2, -999.000,9, -999.000,9,   2344.8,2,   2402.3,2,   7.4934,2,    25.00,  -999.00,9,  -999.00,9,   2.2506,2,     1119
  49UP20100706,   P09,    32,  1,     14,     87,2,20100714,1001, 23.0153, 137.3137, 5115,   1951.4,   2.0779,   2.0778,2,  34.6133,2,  34.6130,2,    112.0,2,   142.00,2,    38.59,2,     0.00,2,     2.69,2, -999.000,9, -999.000,9,   2339.3,2,   2406.9,2,   7.5116,2,    25.00,  -999.00,9,  -999.00,9,   2.0778,2,     1114
  49UP20100706,   P09,    32,  1,     13,     86,2,20100714,1001, 23.0153, 137.3137, 5115,   2196.6,   1.8962,   1.8961,2,  34.6320,2,  34.6320,2,    121.5,2,   143.13,2,    38.05,2,     0.00,2,     2.64,2, -999.000,9, -999.000,9,   2337.0,2,   2410.8,2,   7.5292,2,    25.00,  -999.00,9,  -999.00,9,   1.8961,2,     1108
  49UP20100706,   P09,    32,  1,     12,     85,2,20100714,1001, 23.0153, 137.3137, 5115,   2450.7,   1.7731,   1.7729,2,  34.6456,2,  34.6455,2,    128.7,2,   143.44,2,    37.61,2,     0.00,2,     2.61,2, -999.000,9, -999.000,9,   2333.6,2,   2409.2,2,   7.5416,2,    25.00,  -999.00,9,  -999.00,9,   1.7729,2,     1102
  49UP20100706,   P09,    32,  1,     11,    110,2,20100714,1001, 23.0153, 137.3137, 5115,   2715.2,   1.6889,   1.6893,2,  34.6554,2,  34.6550,2,    134.9,2,   143.41,2,    37.34,2,     0.00,2,     2.58,2, -999.000,9, -999.000,9,   2330.2,2,   2413.8,2,   7.5541,2,    25.00,  -999.00,9,  -999.00,9,   1.6893,2,     1056
  49UP20100706,   P09,    32,  1,     10,     83,2,20100714,1001, 23.0153, 137.3137, 5115,   2959.4,   1.6393,   1.6393,2,  34.6617,2,  34.6614,2,    139.3,2,   143.28,2,    37.04,2,     0.00,2,     2.56,2, -999.000,9, -999.000,9,   2329.2,2,   2414.0,2,   7.5585,2,    25.00,  -999.00,9,  -999.00,9,   1.6393,2,     1050
  49UP20100706,   P09,    32,  1,      9,     82,2,20100714,1001, 23.0153, 137.3137, 5115,   3225.6,   1.5996,   1.5997,2,  34.6680,2,  34.6678,2,    143.7,2,   143.00,2,    36.81,2,     0.00,2,     2.54,2, -999.000,9, -999.000,9,   2324.8,2,   2414.9,2,   7.5664,2,    25.00,  -999.00,9,  -999.00,9,   1.5997,2,     1044
  49UP20100706,   P09,    32,  1,      8,     81,2,20100714,1001, 23.0153, 137.3137, 5115,   3469.2,   1.5605,   1.5606,2,  34.6744,2,  34.6735,2,    148.1,2,   142.45,2,    36.49,2,     0.00,2,     2.51,2, -999.000,9, -999.000,9,   2325.7,2,   2412.2,2,   7.5728,2,    25.00,  -999.00,9,  -999.00,9,   1.5606,2,     1038
  49UP20100706,   P09,    32,  1,      7,     80,2,20100714,1001, 23.0153, 137.3137, 5115,   3735.5,   1.5328,   1.5332,2,  34.6795,2,  34.6787,2,    152.1,2,   141.65,2,    36.24,2,     0.00,2,     2.49,2, -999.000,9, -999.000,9,   2320.8,2,   2415.5,2,   7.5770,2,    25.00,  -999.00,9,  -999.00,9,   1.5332,2,     1033
  49UP20100706,   P09,    32,  1,      6,     79,2,20100714,1001, 23.0153, 137.3137, 5115,   3979.4,   1.5324,   1.5326,2,  34.6819,2,  34.6816,2,    154.3,2,   141.34,2,    36.04,2,     0.00,2,     2.47,2, -999.000,9, -999.000,9,   2319.4,6,   2414.2,2,   7.5805,6,    25.00,  -999.00,9,  -999.00,9,   1.5326,2,     1027
  49UP20100706,   P09,    32,  1,      5,     78,2,20100714,1001, 23.0153, 137.3137, 5115,   3980.3,   1.5325,   1.5326,2,  34.6817,2,  34.6815,2,    154.7,2,   141.54,2,    36.04,2,     0.00,2,     2.48,2, -999.000,9, -999.000,9,   2326.2,3,   2409.6,2,   7.5810,2,    25.00,  -999.00,9,  -999.00,9,   1.5326,2,     1027
  49UP20100706,   P09,    32,  1,      4,     77,2,20100714,1001, 23.0153, 137.3137, 5115,   4246.8,   1.5493,   1.5495,2,  34.6832,2,  34.6824,2,    156.0,2,   141.15,2,    35.99,2,     0.00,2,     2.47,2, -999.000,9, -999.000,9,   2320.8,2,   2410.2,2,   7.5815,2,    25.00,  -999.00,9,  -999.00,9,   1.5495,2,     1021
  49UP20100706,   P09,    32,  1,      3,     76,2,20100714,1001, 23.0153, 137.3137, 5115,   4495.4,   1.5708,   1.5710,2,  34.6837,2,  34.6830,2,    156.3,2,   140.91,2,    35.93,2,     0.00,2,     2.47,2, -999.000,9, -999.000,9,   2320.1,2,   2414.6,2,   7.5820,2,    25.00,  -999.00,9,  -999.00,9,   1.5710,2,     1016
  49UP20100706,   P09,    32,  1,      2,     75,2,20100714,1001, 23.0153, 137.3137, 5115,   4762.5,   1.5957,   1.5958,2,  34.6842,2,  34.6845,2,    157.0,2,   140.92,2,    35.92,2,     0.00,2,     2.47,2, -999.000,9, -999.000,9,   2315.8,2,   2412.2,2,   7.5830,2,    25.00,  -999.00,9,  -999.00,9,   1.5958,2,     1010
  49UP20100706,   P09,    32,  1,      1,     74,2,20100714,1001, 23.0153, 137.3137, 5115,   5122.0,   1.6358,   1.6360,2,  34.6846,2,  34.6859,4,    157.2,2,   140.73,2,    35.91,2,     0.00,2,     2.47,2, -999.000,9, -999.000,9,   2318.4,2,   2411.0,2,   7.5802,2,    25.00,  -999.00,9,  -999.00,9,   1.6360,2,     1001