BOTTLE,20200625PRINUNIVRMK
EXPOCODE,SECT_ID,STNNBR,CASTNO,SAMPNO,BTLNBR,BTLNBR_FLAG_W,DATE,TIME,LATITUDE,LONGITUDE,DEPTH,CTDPRS,CTDTMP,SBE35,SBE35_FLAG_W,CTDSAL,CTDSAL_FLAG_W,SALNTY,SALNTY_FLAG_W,OXYGEN,OXYGEN_FLAG_W,SILCAT,SILCAT_FLAG_W,NITRAT,NITRAT_FLAG_W,NITRIT,NITRIT_FLAG_W,PHSPHT,PHSPHT_FLAG_W,CFC-11,CFC-11_FLAG_W,CFC-12,CFC-12_FLAG_W,TCARBN,TCARBN_FLAG_W,ALKALI,ALKALI_FLAG_W,PH_TOT,PH_TOT_FLAG_W,PH_TMP,CHLORA,CHLORA_FLAG_W,PPHYTN,PPHYTN_FLAG_W,SBE35,SBE35_FLAG_W,BTL_TIME
,,,,,,,,,,,METERS,DBAR,ITS-90,,,PSS-78,,PSS-78,,UMOL/KG,,UMOL/KG,,UMOL/KG,,UMOL/KG,,UMOL/KG,,PMOL/KG,,PMOL/KG,,UMOL/KG,,UMOL/KG,,,,DEG C,UG/KG,,UG/KG,,,,
  49UP20100706,   P09,    97,  1,      0,     -9,0,20100810,0024, -1.5182, 141.9797, 3475,      0.0,  29.5172,-999.0000,9,  34.7823,2,-999.0000,9,    193.7,2,     1.04,2,     0.03,2,     0.00,2,     0.17,2, -999.000,9, -999.000,9,   -999.0,9,   -999.0,9,-999.0000,9,  -999.00,  -999.00,9,  -999.00,9,-999.0000,9,      150
  49UP20100706,   P09,    97,  1,     36,    109,2,20100810,0024, -1.5182, 141.9797, 3475,     10.6,  29.5272,  29.5257,2,  34.7838,2,  34.7853,2,    193.8,2,     1.06,2,     0.00,2,     0.00,2,     0.17,2, -999.000,9, -999.000,9,   -999.0,9,   -999.0,9,-999.0000,9,  -999.00,  -999.00,9,  -999.00,9,  29.5257,2,      210
  49UP20100706,   P09,    97,  1,     35,    108,2,20100810,0024, -1.5182, 141.9797, 3475,     26.9,  29.5998,  29.6008,2,  34.9713,2,  34.9634,4,    193.5,2,     0.97,2,     0.00,2,     0.00,2,     0.17,2, -999.000,9, -999.000,9,   -999.0,9,   -999.0,9,-999.0000,9,  -999.00,  -999.00,9,  -999.00,9,  29.6008,2,      209
  49UP20100706,   P09,    97,  1,     34,    107,2,20100810,0024, -1.5182, 141.9797, 3475,     51.2,  29.5637,  29.5628,2,  35.0594,2,  35.0575,2,    193.7,2,     0.99,2,     0.02,2,     0.00,2,     0.17,2, -999.000,9, -999.000,9,   -999.0,9,   -999.0,9,-999.0000,9,  -999.00,  -999.00,9,  -999.00,9,  29.5628,2,      206
  49UP20100706,   P09,    97,  1,     33,    106,2,20100810,0024, -1.5182, 141.9797, 3475,     76.7,  29.3625,  29.3637,2,  35.0420,2,  35.0384,2,    188.5,2,     1.13,2,     0.17,2,     0.18,2,     0.19,2, -999.000,9, -999.000,9,   -999.0,9,   -999.0,9,-999.0000,9,  -999.00,  -999.00,9,  -999.00,9,  29.3637,2,      204
  49UP20100706,   P09,    97,  1,     32,    105,2,20100810,0024, -1.5182, 141.9797, 3475,     99.9,  29.1747,  29.1734,2,  35.1427,2,  35.1433,2,    180.7,2,     1.21,2,     0.88,2,     0.42,2,     0.26,2, -999.000,9, -999.000,9,   -999.0,9,   -999.0,9,-999.0000,9,  -999.00,  -999.00,9,  -999.00,9,  29.1734,2,      203
  49UP20100706,   P09,    97,  1,     31,    104,2,20100810,0024, -1.5182, 141.9797, 3475,    126.3,  27.2001,  27.2303,2,  34.8846,2,  34.9127,4,    177.4,2,     1.28,2,     1.47,2,     0.28,2,     0.20,3, -999.000,9, -999.000,9,   -999.0,9,   -999.0,9,-999.0000,9,  -999.00,  -999.00,9,  -999.00,9,  27.2303,2,      201
  49UP20100706,   P09,    97,  1,     30,    103,2,20100810,0024, -1.5182, 141.9797, 3475,    151.3,  22.8516,  22.8496,2,  35.5921,2,  35.5867,2,    145.9,2,     2.28,2,     6.53,2,     0.02,2,     0.58,2, -999.000,9, -999.000,9,   -999.0,9,   -999.0,9,-999.0000,9,  -999.00,  -999.00,9,  -999.00,9,  22.8496,2,      200
  49UP20100706,   P09,    97,  1,     29,    102,2,20100810,0024, -1.5182, 141.9797, 3475,    202.1,  18.9553,  18.9582,2,  35.4995,2,  35.4995,2,    138.4,2,     4.56,2,    10.92,2,     0.01,2,     0.89,2, -999.000,9, -999.000,9,   -999.0,9,   -999.0,9,-999.0000,9,  -999.00,  -999.00,9,  -999.00,9,  18.9582,2,      158
  49UP20100706,   P09,    97,  1,     28,    101,2,20100810,0024, -1.5182, 141.9797, 3475,    252.2,  16.2169,  16.2161,2,  35.2885,2,  35.2867,2,    141.2,2,     7.18,2,    13.97,2,     0.01,2,     1.08,2, -999.000,9, -999.000,9,   -999.0,9,   -999.0,9,-999.0000,9,  -999.00,  -999.00,9,  -999.00,9,  16.2161,2,      156
  49UP20100706,   P09,    97,  1,     27,    100,2,20100810,0024, -1.5182, 141.9797, 3475,    283.2,  14.8658,  14.9082,2,  35.1724,2,  35.1874,4,    144.4,2,     8.36,2,    15.22,2,     0.01,2,     1.15,2, -999.000,9, -999.000,9,   -999.0,9,   -999.0,9,-999.0000,9,  -999.00,  -999.00,9,  -999.00,9,  14.9082,2,      154
  49UP20100706,   P09,    97,  1,     26,     99,2,20100810,0024, -1.5182, 141.9797, 3475,    334.0,  11.7922,  11.7927,2,  34.9025,2,  34.9022,2,    157.1,2,    12.11,2,    19.11,2,     0.01,2,     1.38,2, -999.000,9, -999.000,9,   -999.0,9,   -999.0,9,-999.0000,9,  -999.00,  -999.00,9,  -999.00,9,  11.7927,2,      152
  49UP20100706,   P09,    97,  1,     25,     98,2,20100810,0024, -1.5182, 141.9797, 3475,    383.7,  10.4731,  10.4810,2,  34.7846,2,  34.7852,2,    154.1,2,    15.94,2,    21.87,2,     0.01,2,     1.55,2, -999.000,9, -999.000,9,   -999.0,9,   -999.0,9,-999.0000,9,  -999.00,  -999.00,9,  -999.00,9,  10.4810,2,      150
  49UP20100706,   P09,    97,  1,     24,     97,2,20100810,0024, -1.5182, 141.9797, 3475,    433.4,   9.5236,   9.5237,2,  34.7058,2,  34.7045,2,    166.3,2,    16.89,2,    22.66,2,     0.00,2,     1.59,2, -999.000,9, -999.000,9,   -999.0,9,   -999.0,9,-999.0000,9,  -999.00,  -999.00,9,  -999.00,9,   9.5237,2,      148
  49UP20100706,   P09,    97,  1,     23,     96,2,20100810,0024, -1.5182, 141.9797, 3475,    483.8,   8.5853,   8.5879,2,  34.6316,2,  34.6351,2,    166.3,2,    20.20,2,    24.52,2,     0.00,2,     1.71,2, -999.000,9, -999.000,9,   -999.0,9,   -999.0,9,-999.0000,9,  -999.00,  -999.00,9,  -999.00,9,   8.5879,2,      145
  49UP20100706,   P09,    97,  1,     22,     95,2,20100810,0024, -1.5182, 141.9797, 3475,    574.9,   7.1308,   7.1307,2,  34.5479,2,  34.5480,2,    148.4,2,    32.88,2,    29.29,2,     0.00,2,     2.05,2, -999.000,9, -999.000,9,   -999.0,9,   -999.0,9,-999.0000,9,  -999.00,  -999.00,9,  -999.00,9,   7.1307,2,      142
  49UP20100706,   P09,    97,  1,     21,     94,2,20100810,0024, -1.5182, 141.9797, 3475,    574.9,   7.1308,   7.1307,2,  34.5479,2,  34.5469,2,    148.6,2,    32.82,2,    29.31,2,     0.00,2,     2.04,2, -999.000,9, -999.000,9,   -999.0,9,   -999.0,9,-999.0000,9,  -999.00,  -999.00,9,  -999.00,9,   7.1307,2,      142
  49UP20100706,   P09,    97,  1,     20,     93,2,20100810,0024, -1.5182, 141.9797, 3475,    675.4,   6.2690,   6.2707,2,  34.5293,2,  34.5273,2,    125.0,2,    46.73,2,    33.16,2,     0.00,2,     2.33,2, -999.000,9, -999.000,9,   -999.0,9,   -999.0,9,-999.0000,9,  -999.00,  -999.00,9,  -999.00,9,   6.2707,2,      139
  49UP20100706,   P09,    97,  1,     19,     92,2,20100810,0024, -1.5182, 141.9797, 3475,    776.1,   5.5248,   5.5267,2,  34.5225,2,  34.5215,2,    124.3,2,    57.44,2,    34.39,2,     0.00,2,     2.42,2, -999.000,9, -999.000,9,   -999.0,9,   -999.0,9,-999.0000,9,  -999.00,  -999.00,9,  -999.00,9,   5.5267,2,      135
  49UP20100706,   P09,    97,  1,     18,     91,2,20100810,0024, -1.5182, 141.9797, 3475,    876.8,   5.0632,   5.0630,2,  34.5354,2,  34.5352,2,    109.1,2,    69.93,2,    36.38,2,     0.00,2,     2.57,2, -999.000,9, -999.000,9,   -999.0,9,   -999.0,9,-999.0000,9,  -999.00,  -999.00,9,  -999.00,9,   5.0630,2,      132
  49UP20100706,   P09,    97,  1,     17,     90,2,20100810,0024, -1.5182, 141.9797, 3475,    978.9,   4.5766,   4.5772,2,  34.5472,2,  34.5458,2,    104.8,2,    81.72,2,    37.37,2,     0.00,2,     2.66,2, -999.000,9, -999.000,9,   -999.0,9,   -999.0,9,-999.0000,9,  -999.00,  -999.00,9,  -999.00,9,   4.5772,2,      129
  49UP20100706,   P09,    97,  1,     16,     89,2,20100810,0024, -1.5182, 141.9797, 3475,   1180.2,   3.8608,   3.8621,2,  34.5690,2,  34.5677,2,    104.2,2,    97.90,2,    37.87,2,     0.00,2,     2.69,2, -999.000,9, -999.000,9,   -999.0,9,   -999.0,9,-999.0000,9,  -999.00,  -999.00,9,  -999.00,9,   3.8621,2,      123
  49UP20100706,   P09,    97,  1,     15,     88,2,20100810,0024, -1.5182, 141.9797, 3475,   1180.2,   3.8608,   3.8621,2,  34.5690,2,  34.5686,2,    104.6,2,    98.11,2,    37.87,2,     0.00,2,     2.70,2, -999.000,9, -999.000,9,   -999.0,9,   -999.0,9,-999.0000,9,  -999.00,  -999.00,9,  -999.00,9,   3.8621,2,      123
  49UP20100706,   P09,    97,  1,     14,     87,2,20100810,0024, -1.5182, 141.9797, 3475,   1436.3,   3.2337,   3.2342,2,  34.5914,2,  34.5900,2,    106.8,2,   111.89,2,    38.22,2,     0.00,2,     2.71,2, -999.000,9, -999.000,9,   -999.0,9,   -999.0,9,-999.0000,9,  -999.00,  -999.00,9,  -999.00,9,   3.2342,2,      116
  49UP20100706,   P09,    97,  1,     13,     86,2,20100810,0024, -1.5182, 141.9797, 3475,   1699.3,   2.6908,   2.6906,2,  34.6144,2,  34.6145,2,    112.7,2,   123.63,2,    38.07,2,     0.00,2,     2.69,2, -999.000,9, -999.000,9,   -999.0,9,   -999.0,9,-999.0000,9,  -999.00,  -999.00,9,  -999.00,9,   2.6906,2,      108
  49UP20100706,   P09,    97,  1,     12,     85,2,20100810,0024, -1.5182, 141.9797, 3475,   1699.3,   2.6908,   2.6906,2,  34.6144,2,  34.6133,2,    112.7,2,   123.82,2,    38.19,2,     0.00,2,     2.70,2, -999.000,9, -999.000,9,   -999.0,9,   -999.0,9,-999.0000,9,  -999.00,  -999.00,9,  -999.00,9,   2.6906,2,      108
  49UP20100706,   P09,    97,  1,     11,    110,2,20100810,0024, -1.5182, 141.9797, 3475,   1941.8,   2.3181,   2.3188,2,  34.6333,2,  34.6324,2,    117.3,2,   133.03,2,    38.01,2,     0.00,2,     2.68,2, -999.000,9, -999.000,9,   -999.0,9,   -999.0,9,-999.0000,9,  -999.00,  -999.00,9,  -999.00,9,   2.3188,2,      102
  49UP20100706,   P09,    97,  1,     10,     83,2,20100810,0024, -1.5182, 141.9797, 3475,   2192.4,   2.0402,   2.0405,2,  34.6462,2,  34.6462,2,    123.4,2,   138.42,2,    37.67,2,     0.00,2,     2.64,2, -999.000,9, -999.000,9,   -999.0,9,   -999.0,9,-999.0000,9,  -999.00,  -999.00,9,  -999.00,9,   2.0405,2,       56
  49UP20100706,   P09,    97,  1,      9,     82,2,20100810,0024, -1.5182, 141.9797, 3475,   2448.8,   1.8096,   1.8099,2,  34.6586,2,  34.6591,2,    131.5,2,   141.49,2,    37.18,2,     0.00,2,     2.60,2, -999.000,9, -999.000,9,   -999.0,9,   -999.0,9,-999.0000,9,  -999.00,  -999.00,9,  -999.00,9,   1.8099,2,       49
  49UP20100706,   P09,    97,  1,      8,     81,2,20100810,0024, -1.5182, 141.9797, 3475,   2448.8,   1.8096,   1.8099,2,  34.6586,2,  34.6583,6,    131.5,2,   141.61,6,    37.21,6,     0.00,6,     2.60,6, -999.000,9, -999.000,9,   -999.0,9,   -999.0,9,-999.0000,9,  -999.00,  -999.00,9,  -999.00,9,   1.8099,2,       49
  49UP20100706,   P09,    97,  1,      7,     80,2,20100810,0024, -1.5182, 141.9797, 3475,   2710.5,   1.7061,   1.7060,2,  34.6649,2,  34.6656,6,    136.7,6,   142.75,6,    36.84,6,     0.00,6,     2.57,6, -999.000,9, -999.000,9,   -999.0,9,   -999.0,9,-999.0000,9,  -999.00,  -999.00,9,  -999.00,9,   1.7060,2,       42
  49UP20100706,   P09,    97,  1,      6,     79,2,20100810,0024, -1.5182, 141.9797, 3475,   2952.6,   1.6195,   1.6192,2,  34.6711,2,  34.6711,6,    141.5,6,   143.34,6,    36.56,6,     0.00,6,     2.55,6, -999.000,9, -999.000,9,   -999.0,9,   -999.0,9,-999.0000,9,  -999.00,  -999.00,9,  -999.00,9,   1.6192,2,       36
  49UP20100706,   P09,    97,  1,      5,     78,2,20100810,0024, -1.5182, 141.9797, 3475,   3220.1,   1.5837,   1.5836,2,  34.6750,2,  34.6747,6,    144.3,6,   143.61,6,    36.37,6,     0.00,6,     2.53,6, -999.000,9, -999.000,9,   -999.0,9,   -999.0,9,-999.0000,9,  -999.00,  -999.00,9,  -999.00,9,   1.5836,2,       31
  49UP20100706,   P09,    97,  1,      4,     77,2,20100810,0024, -1.5182, 141.9797, 3475,   3465.1,   1.5730,   1.5729,2,  34.6772,2,  34.6771,2,    146.0,2,   143.62,2,    36.26,2,     0.00,2,     2.52,2, -999.000,9, -999.000,9,   -999.0,9,   -999.0,9,-999.0000,9,  -999.00,  -999.00,9,  -999.00,9,   1.5729,2,       26
  49UP20100706,   P09,    97,  1,      1,     74,2,20100810,0024, -1.5182, 141.9797, 3475,   3521.3,   1.5725,   1.5722,2,  34.6777,2,  34.6772,2,    146.3,2,   143.53,2,    36.25,2,     0.00,2,     2.52,2, -999.000,9, -999.000,9,   -999.0,9,   -999.0,9,-999.0000,9,  -999.00,  -999.00,9,  -999.00,9,   1.5722,2,       24