BOTTLE,20200625PRINUNIVRMK
EXPOCODE,SECT_ID,STNNBR,CASTNO,SAMPNO,BTLNBR,BTLNBR_FLAG_W,DATE,TIME,LATITUDE,LONGITUDE,DEPTH,CTDPRS,CTDTMP,SBE35,SBE35_FLAG_W,CTDSAL,CTDSAL_FLAG_W,SALNTY,SALNTY_FLAG_W,OXYGEN,OXYGEN_FLAG_W,SILCAT,SILCAT_FLAG_W,NITRAT,NITRAT_FLAG_W,NITRIT,NITRIT_FLAG_W,PHSPHT,PHSPHT_FLAG_W,CFC-11,CFC-11_FLAG_W,CFC-12,CFC-12_FLAG_W,TCARBN,TCARBN_FLAG_W,ALKALI,ALKALI_FLAG_W,PH_TOT,PH_TOT_FLAG_W,PH_TMP,CHLORA,CHLORA_FLAG_W,PPHYTN,PPHYTN_FLAG_W,SBE35,SBE35_FLAG_W,BTL_TIME
,,,,,,,,,,,METERS,DBAR,ITS-90,,,PSS-78,,PSS-78,,UMOL/KG,,UMOL/KG,,UMOL/KG,,UMOL/KG,,UMOL/KG,,PMOL/KG,,PMOL/KG,,UMOL/KG,,UMOL/KG,,,,DEG C,UG/KG,,UG/KG,,,,
  49UP20100706,   P09,    20,  1,      0,     -9,0,20100711,0103, 29.0292, 136.9982, 4502,      0.0,  27.2545,-999.0000,9,  34.4662,2,-999.0000,9,    203.4,2,     1.33,2,     0.00,2,     0.00,2,     0.00,2, -999.000,9, -999.000,9,   -999.0,9,   -999.0,9,-999.0000,9,  -999.00,     0.08,2,     0.01,2,-999.0000,9,      255
  49UP20100706,   P09,    20,  1,     36,    109,2,20100711,0103, 29.0292, 136.9982, 4502,     10.6,  27.0771,  27.0588,2,  34.4532,2,  34.4384,4,    205.6,3,     1.38,2,     0.01,2,     0.00,2,     0.00,2, -999.000,9, -999.000,9,   1941.3,6,   2258.8,6,   8.0960,6,    25.00,  -999.00,9,  -999.00,9,  27.0588,2,      314
  49UP20100706,   P09,    20,  1,     35,    108,2,20100711,0103, 29.0292, 136.9982, 4502,     10.6,  27.0771,  27.0588,2,  34.4532,2,  34.4420,4,    207.0,3,     1.24,2,     0.00,2,     0.00,2,     0.00,2, -999.000,9, -999.000,9,   1942.5,2,   2255.9,2,   8.0942,2,    25.00,     0.08,2,     0.01,2,  27.0588,2,      314
  49UP20100706,   P09,    20,  1,     34,    107,2,20100711,0103, 29.0292, 136.9982, 4502,     26.0,  25.4652,  25.4574,2,  34.4998,2,  34.5158,4,    212.9,2,     1.29,2,     0.00,2,     0.00,2,     0.00,2, -999.000,9, -999.000,9,   1945.9,2,   2266.0,2,   8.0972,2,    25.00,     0.10,2,     0.03,2,  25.4574,2,      312
  49UP20100706,   P09,    20,  1,     33,    106,2,20100711,0103, 29.0292, 136.9982, 4502,     50.4,  23.1221,  23.1255,2,  34.7496,2,  34.7491,2,    218.4,2,     1.40,2,     0.00,2,     0.00,2,     0.00,2, -999.000,9, -999.000,9,   1968.5,2,   2278.3,2,   8.0739,2,    25.00,     0.11,2,     0.03,2,  23.1255,2,      308
  49UP20100706,   P09,    20,  1,     32,    105,2,20100711,0103, 29.0292, 136.9982, 4502,     76.2,  21.4852,  21.4945,2,  34.7473,2,  34.7476,2,    203.8,2,     2.03,2,     1.14,2,     0.05,2,     0.09,2, -999.000,9, -999.000,9,   1990.8,2,   2279.9,2,   8.0349,2,    25.00,     0.68,2,     0.40,2,  21.4945,2,      306
  49UP20100706,   P09,    20,  1,     31,    104,2,20100711,0103, 29.0292, 136.9982, 4502,    101.9,  20.7812,  20.7877,2,  34.7364,2,  34.7369,2,    207.7,2,     2.00,2,     1.21,2,     0.09,2,     0.09,2, -999.000,9, -999.000,9,   1991.9,2,   2279.5,2,   8.0262,2,    25.00,     0.23,2,     0.24,2,  20.7877,2,      304
  49UP20100706,   P09,    20,  1,     30,    103,2,20100711,0103, 29.0292, 136.9982, 4502,    127.8,  20.0255,  20.0251,2,  34.7290,2,  34.7263,2,    216.7,2,     2.00,2,     0.78,2,     0.19,2,     0.06,2, -999.000,9, -999.000,9,   1993.4,2,   2279.2,2,   8.0290,2,    25.00,     0.07,4,     0.08,4,  20.0251,2,      302
  49UP20100706,   P09,    20,  1,     29,    102,2,20100711,0103, 29.0292, 136.9982, 4502,    152.9,  19.5145,  19.5139,2,  34.7194,2,  34.7182,2,    221.6,2,     1.71,2,     0.48,2,     0.10,2,     0.04,2, -999.000,9, -999.000,9,   1990.7,2,   2277.3,2,   8.0339,2,    25.00,     0.09,2,     0.14,2,  19.5139,2,      301
  49UP20100706,   P09,    20,  1,     28,    101,2,20100711,0103, 29.0292, 136.9982, 4502,    203.2,  19.1196,  19.1192,2,  34.7202,2,  34.7200,2,    214.8,2,     2.14,2,     1.74,2,     0.01,2,     0.10,2, -999.000,9, -999.000,9,   1998.6,2,   2279.3,2,   8.0214,2,    25.00,     0.01,2,     0.01,2,  19.1192,2,      259
  49UP20100706,   P09,    20,  1,     27,    100,2,20100711,0103, 29.0292, 136.9982, 4502,    253.4,  18.6820,  18.6822,2,  34.7148,2,  34.7138,2,    211.3,2,     2.65,2,     2.49,2,     0.01,2,     0.15,2, -999.000,9, -999.000,9,   2006.8,2,   2278.3,2,   8.0029,2,    25.00,  -999.00,9,  -999.00,9,  18.6822,2,      257
  49UP20100706,   P09,    20,  1,     26,     99,2,20100711,0103, 29.0292, 136.9982, 4502,    283.4,  18.3622,  18.3621,2,  34.7127,2,  34.7134,2,    207.3,2,     3.10,2,     3.24,2,     0.01,2,     0.21,2, -999.000,9, -999.000,9,   2015.5,2,   2277.8,2,   7.9939,2,    25.00,  -999.00,9,  -999.00,9,  18.3621,2,      255
  49UP20100706,   P09,    20,  1,     25,     98,2,20100711,0103, 29.0292, 136.9982, 4502,    374.5,  17.3197,  17.3338,2,  34.7175,2,  34.7216,2,    195.3,2,     5.02,2,     5.85,2,     0.01,2,     0.37,2, -999.000,9, -999.000,9,   2033.1,2,   2280.2,2,   7.9463,2,    25.00,  -999.00,9,  -999.00,9,  17.3338,2,      251
  49UP20100706,   P09,    20,  1,     24,     97,2,20100711,0103, 29.0292, 136.9982, 4502,    477.3,  14.7696,  14.7876,2,  34.5682,2,  34.5761,4,    186.0,2,    11.20,2,    10.42,2,     0.00,2,     0.69,2, -999.000,9, -999.000,9,   2069.8,2,   2275.5,2,   7.8688,2,    25.00,  -999.00,9,  -999.00,9,  14.7876,2,      248
  49UP20100706,   P09,    20,  1,     23,     96,2,20100711,0103, 29.0292, 136.9982, 4502,    579.4,  12.0940,  12.0957,2,  34.3785,2,  34.3821,2,    183.8,2,    19.78,2,    15.12,2,     0.00,2,     1.04,2, -999.000,9, -999.000,9,   2105.5,2,   2275.5,2,   7.7952,2,    25.00,  -999.00,9,  -999.00,9,  12.0957,2,      245
  49UP20100706,   P09,    20,  1,     22,     95,2,20100711,0103, 29.0292, 136.9982, 4502,    679.3,   9.5009,   9.5081,2,  34.2458,2,  34.2511,4,    151.8,2,    38.03,2,    22.56,2,     0.00,2,     1.59,2, -999.000,9, -999.000,9,   2163.1,6,   2283.3,6,   7.6709,6,    25.00,  -999.00,9,  -999.00,9,   9.5081,2,      241
  49UP20100706,   P09,    20,  1,     21,     94,2,20100711,0103, 29.0292, 136.9982, 4502,    679.3,   9.5009,   9.5081,2,  34.2458,2,  34.2501,2,    164.8,4,    38.00,2,    22.54,2,     0.00,2,     1.59,2, -999.000,9, -999.000,9,   2162.7,2,   2283.9,2,   7.6648,2,    25.00,  -999.00,9,  -999.00,9,   9.5081,2,      241
  49UP20100706,   P09,    20,  1,     20,     93,2,20100711,0103, 29.0292, 136.9982, 4502,    779.1,   7.2483,   7.2497,2,  34.1942,2,  34.1951,2,    120.9,2,    60.14,2,    29.24,2,     0.00,2,     2.08,2, -999.000,9, -999.000,9,   2218.1,2,   2301.1,2,   7.5675,2,    25.00,  -999.00,9,  -999.00,9,   7.2497,2,      238
  49UP20100706,   P09,    20,  1,     19,     92,2,20100711,0103, 29.0292, 136.9982, 4502,    879.3,   5.7440,   5.7482,2,  34.2678,2,  34.2668,2,     87.2,2,    84.51,2,    34.75,2,     0.00,2,     2.47,2, -999.000,9, -999.000,9,   2271.4,2,   2323.3,2,   7.4809,2,    25.00,  -999.00,9,  -999.00,9,   5.7482,2,      234
  49UP20100706,   P09,    20,  1,     18,     91,2,20100711,0103, 29.0292, 136.9982, 4502,    981.2,   4.6478,   4.6495,2,  34.3155,2,  34.3137,2,     71.3,2,   102.61,2,    38.01,2,     0.00,2,     2.70,2, -999.000,9, -999.000,9,   2304.9,2,   2342.5,2,   7.4419,2,    25.00,  -999.00,9,  -999.00,9,   4.6495,2,      231
  49UP20100706,   P09,    20,  1,     17,     90,2,20100711,0103, 29.0292, 136.9982, 4502,   1142.4,   3.5911,   3.5973,2,  34.3743,2,  34.3778,4,     57.9,2,   122.99,2,    40.51,2,     0.00,2,     2.87,2, -999.000,9, -999.000,9,   2336.6,2,   2362.1,2,   7.4026,2,    25.00,  -999.00,9,  -999.00,9,   3.5973,2,      227
  49UP20100706,   P09,    20,  1,     16,     89,4,20100711,0103, 29.0292, 136.9982, 4502,   1344.3,   2.9971,   2.9971,2,  34.4500,2,-999.0000,9,   -999.0,9,  -999.00,9,     0.00,9,  -999.00,9,  -999.00,9, -999.000,9, -999.000,9,   -999.0,9,   -999.0,9,-999.0000,9,  -999.00,  -999.00,9,  -999.00,9,   2.9971,2,      221
  49UP20100706,   P09,    20,  1,     15,     88,2,20100711,0103, 29.0292, 136.9982, 4502,   1546.1,   2.5392,   2.5385,2,  34.5157,2,  34.5153,2,     66.9,2,   145.48,2,    41.09,2,     0.00,2,     2.89,2, -999.000,9, -999.000,9,   2360.3,2,   2392.8,2,   7.4207,2,    25.00,  -999.00,9,  -999.00,9,   2.5385,2,      217
  49UP20100706,   P09,    20,  1,     14,     87,2,20100711,0103, 29.0292, 136.9982, 4502,   1748.3,   2.2677,   2.2681,2,  34.5540,2,  34.5537,2,     76.0,2,   149.98,2,    40.85,2,     0.00,2,     2.85,2, -999.000,9, -999.000,9,   2358.5,2,   2400.1,2,   7.4393,2,    25.00,  -999.00,9,  -999.00,9,   2.2681,2,      212
  49UP20100706,   P09,    20,  1,     13,     86,2,20100711,0103, 29.0292, 136.9982, 4502,   1952.6,   2.0520,   2.0517,2,  34.5878,2,  34.5884,2,     90.8,2,   150.91,2,    39.94,2,     0.00,2,     2.78,2, -999.000,9, -999.000,9,   2352.9,2,   2404.1,2,   7.4692,2,    25.00,  -999.00,9,  -999.00,9,   2.0517,2,      207
  49UP20100706,   P09,    20,  1,     12,     85,2,20100711,0103, 29.0292, 136.9982, 4502,   2195.6,   1.8865,   1.8861,2,  34.6143,2,  34.6148,2,    104.8,2,   150.89,2,    39.16,2,     0.00,2,     2.73,2, -999.000,9, -999.000,9,   2348.5,6,   2408.0,6,   7.4923,6,    25.00,  -999.00,9,  -999.00,9,   1.8861,2,      201
  49UP20100706,   P09,    20,  1,     11,    110,2,20100711,0103, 29.0292, 136.9982, 4502,   2195.6,   1.8865,   1.8861,2,  34.6143,2,  34.6140,2,    104.7,2,   150.35,2,    39.13,2,     0.00,2,     2.73,2, -999.000,9, -999.000,9,   2348.6,2,   2411.0,2,   7.4963,2,    25.00,  -999.00,9,  -999.00,9,   1.8861,2,      201
  49UP20100706,   P09,    20,  1,     10,     83,2,20100711,0103, 29.0292, 136.9982, 4502,   2449.8,   1.7634,   1.7633,2,  34.6395,2,  34.6393,2,    125.2,2,   144.62,2,    37.76,2,     0.00,2,     2.61,2, -999.000,9, -999.000,9,   2338.6,2,   2408.9,2,   7.5318,2,    25.00,  -999.00,9,  -999.00,9,   1.7633,2,      155
  49UP20100706,   P09,    20,  1,      9,     82,2,20100711,0103, 29.0292, 136.9982, 4502,   2714.7,   1.6732,   1.6730,2,  34.6533,2,  34.6531,2,    133.8,2,   143.88,2,    37.32,2,     0.00,2,     2.57,2, -999.000,9, -999.000,9,   2332.4,2,   2411.2,2,   7.5488,2,    25.00,  -999.00,9,  -999.00,9,   1.6730,2,      149
  49UP20100706,   P09,    20,  1,      8,     81,2,20100711,0103, 29.0292, 136.9982, 4502,   2958.4,   1.6198,   1.6197,2,  34.6620,2,  34.6625,2,    139.7,2,   143.30,2,    36.95,2,     0.00,2,     2.55,2, -999.000,9, -999.000,9,   2331.3,2,   2409.9,2,   7.5567,2,    25.00,  -999.00,9,  -999.00,9,   1.6197,2,      142
  49UP20100706,   P09,    20,  1,      7,     80,2,20100711,0103, 29.0292, 136.9982, 4502,   3225.1,   1.5760,   1.5759,2,  34.6693,2,  34.6707,4,    144.9,2,   142.64,2,    36.54,2,     0.00,2,     2.52,2, -999.000,9, -999.000,9,   2326.4,2,   2413.7,2,   7.5632,2,    25.00,  -999.00,9,  -999.00,9,   1.5759,2,      137
  49UP20100706,   P09,    20,  1,      6,     79,2,20100711,0103, 29.0292, 136.9982, 4502,   3473.4,   1.5419,   1.5420,2,  34.6755,2,  34.6755,2,    149.7,2,   141.84,2,    36.35,2,     0.00,2,     2.49,2, -999.000,9, -999.000,9,   2322.7,2,   2410.0,2,   7.5739,2,    25.00,  -999.00,9,  -999.00,9,   1.5420,2,      131
  49UP20100706,   P09,    20,  1,      5,     78,2,20100711,0103, 29.0292, 136.9982, 4502,   3737.4,   1.5274,   1.5273,2,  34.6796,2,  34.6795,2,    152.4,2,   141.39,2,    36.06,2,     0.00,2,     2.48,2, -999.000,9, -999.000,9,   2322.4,2,   2413.3,2,   7.5771,2,    25.00,  -999.00,9,  -999.00,9,   1.5273,2,      124
  49UP20100706,   P09,    20,  1,      4,     77,2,20100711,0103, 29.0292, 136.9982, 4502,   3984.6,   1.5336,   1.5336,2,  34.6818,2,  34.6819,2,    154.4,6,   141.17,6,    35.99,6,     0.00,6,     2.47,6, -999.000,9, -999.000,9,   2322.4,2,   2411.5,2,   7.5824,2,    25.00,  -999.00,9,  -999.00,9,   1.5336,2,      119
  49UP20100706,   P09,    20,  1,      3,     76,2,20100711,0103, 29.0292, 136.9982, 4502,   4250.9,   1.5534,   1.5534,2,  34.6827,2,  34.6831,6,    155.2,6,   140.91,6,    35.93,6,     0.00,6,     2.47,6, -999.000,9, -999.000,9,   2320.1,2,   2413.0,2,   7.5797,2,    25.00,  -999.00,9,  -999.00,9,   1.5534,2,      112
  49UP20100706,   P09,    20,  1,      2,     75,2,20100711,0103, 29.0292, 136.9982, 4502,   4497.7,   1.5769,   1.5766,2,  34.6829,2,  34.6835,6,    155.8,6,   140.82,6,    35.89,6,     0.00,6,     2.46,6, -999.000,9, -999.000,9,   2318.4,2,   2411.3,2,   7.5808,2,    25.00,  -999.00,9,  -999.00,9,   1.5766,2,      106
  49UP20100706,   P09,    20,  1,      1,     74,2,20100711,0103, 29.0292, 136.9982, 4502,   4537.1,   1.5813,   1.5810,2,  34.6830,2,  34.6839,6,    155.7,6,   140.92,6,    35.93,6,     0.00,6,     2.48,6, -999.000,9, -999.000,9,   2322.1,2,   2411.9,2,   7.5825,2,    25.00,  -999.00,9,  -999.00,9,   1.5810,2,      104