BOTTLE,20200625PRINUNIVRMK
EXPOCODE,SECT_ID,STNNBR,CASTNO,SAMPNO,BTLNBR,BTLNBR_FLAG_W,DATE,TIME,LATITUDE,LONGITUDE,DEPTH,CTDPRS,CTDTMP,SBE35,SBE35_FLAG_W,CTDSAL,CTDSAL_FLAG_W,SALNTY,SALNTY_FLAG_W,OXYGEN,OXYGEN_FLAG_W,SILCAT,SILCAT_FLAG_W,NITRAT,NITRAT_FLAG_W,NITRIT,NITRIT_FLAG_W,PHSPHT,PHSPHT_FLAG_W,CFC-11,CFC-11_FLAG_W,CFC-12,CFC-12_FLAG_W,TCARBN,TCARBN_FLAG_W,ALKALI,ALKALI_FLAG_W,PH_TOT,PH_TOT_FLAG_W,PH_TMP,CHLORA,CHLORA_FLAG_W,PPHYTN,PPHYTN_FLAG_W,SBE35,SBE35_FLAG_W,BTL_TIME
,,,,,,,,,,,METERS,DBAR,ITS-90,,,PSS-78,,PSS-78,,UMOL/KG,,UMOL/KG,,UMOL/KG,,UMOL/KG,,UMOL/KG,,PMOL/KG,,PMOL/KG,,UMOL/KG,,UMOL/KG,,,,DEG C,UG/KG,,UG/KG,,,,
  49UP20100706,   P09,    50,  1,      0,     -9,0,20100719,0646, 14.0005, 136.9697, 4818,      0.0,  29.8932,-999.0000,9,  34.6807,2,-999.0000,9,    192.1,2,     0.67,2,     0.00,2,     0.00,2,     0.08,2, -999.000,9, -999.000,9,   -999.0,9,   -999.0,9,-999.0000,9,  -999.00,     0.06,2,     0.02,2,-999.0000,9,      840
  49UP20100706,   P09,    50,  1,     36,    109,2,20100719,0646, 14.0005, 136.9697, 4818,     10.4,  29.8738,  29.8738,2,  34.6789,2,  34.6779,2,    194.6,2,     0.65,2,     0.00,2,     0.00,2,     0.04,2,    1.554,2,    0.883,2,   1926.4,2,   2274.6,2,   8.1231,2,    25.00,     0.06,2,     0.01,2,  29.8738,2,      855
  49UP20100706,   P09,    50,  1,     35,    108,4,20100719,0646, 14.0005, 136.9697, 4818,     26.9,  29.8224,  29.8219,2,  34.6792,2,  34.9254,4,    195.8,4,     0.66,4,    -0.02,4,     0.02,4,     0.06,4,    1.773,4,    0.993,4,   1964.5,4,   2300.0,4,   8.1035,4,    25.00,     0.15,4,     0.12,4,  29.8219,2,      853
  49UP20100706,   P09,    50,  1,     34,    107,2,20100719,0646, 14.0005, 136.9697, 4818,     49.6,  29.4768,  29.4850,2,  34.7550,2,  34.7530,2,    201.6,2,     0.60,2,     0.00,2,     0.00,2,     0.04,2,    1.706,2,    0.933,2,   1933.9,2,   2280.4,2,   8.1230,2,    25.00,     0.09,2,     0.02,2,  29.4850,2,      850
  49UP20100706,   P09,    50,  1,     33,    106,2,20100719,0646, 14.0005, 136.9697, 4818,     78.6,  27.7089,  27.7057,2,  34.8815,2,  34.8741,4,    207.1,2,     0.58,2,     0.00,2,     0.00,2,     0.07,2,    1.760,2,    0.997,2,   1949.2,2,   2291.2,2,   8.1137,2,    25.00,     0.13,2,     0.05,2,  27.7057,2,      849
  49UP20100706,   P09,    50,  1,     32,    105,2,20100719,0646, 14.0005, 136.9697, 4818,     99.9,  27.3240,  27.3221,2,  35.0095,2,  35.0120,2,    203.2,2,     0.56,2,     0.00,2,     0.00,2,     0.05,2,    1.720,2,    1.034,2,   1956.1,2,   2296.6,2,   8.1104,2,    25.00,     0.25,2,     0.14,2,  27.3221,2,      848
  49UP20100706,   P09,    50,  1,     31,    104,2,20100719,0646, 14.0005, 136.9697, 4818,    124.7,  26.5945,  26.5861,2,  35.0851,2,  35.0882,2,    194.2,2,     0.60,2,    -0.03,2,     0.05,2,     0.07,2,    1.745,2,    1.053,2,   1974.8,2,   2304.8,2,   8.0942,2,    25.00,     0.18,2,     0.30,2,  26.5861,2,      847
  49UP20100706,   P09,    50,  1,     30,    103,2,20100719,0646, 14.0005, 136.9697, 4818,    150.6,  25.8468,  25.8542,2,  35.1186,2,  35.1199,2,    188.9,2,     0.61,2,     0.04,2,     0.18,2,     0.09,2,    1.751,2,    1.062,2,   1993.5,2,   2309.4,2,   8.0747,2,    25.00,     0.09,2,     0.17,2,  25.8542,2,      845
  49UP20100706,   P09,    50,  1,     29,    102,2,20100719,0646, 14.0005, 136.9697, 4818,    200.1,  22.1168,  22.1235,2,  35.0503,2,  35.0528,2,    173.0,2,     1.69,2,     2.19,2,     0.00,2,     0.24,2,    2.095,2,    1.267,2,   2037.4,2,   2304.4,2,   7.9839,2,    25.00,     0.01,2,     0.03,2,  22.1235,2,      844
  49UP20100706,   P09,    50,  1,     28,    101,2,20100719,0646, 14.0005, 136.9697, 4818,    251.6,  17.5245,  17.5128,2,  34.7228,2,  34.7194,2,    171.6,2,     5.28,2,     7.03,2,     0.00,2,     0.54,2,    2.461,2,    1.457,2,   2066.4,2,   2283.4,2,   7.8871,2,    25.00,  -999.00,9,  -999.00,9,  17.5128,2,      842
  49UP20100706,   P09,    50,  1,     27,    100,2,20100719,0646, 14.0005, 136.9697, 4818,    280.7,  15.4097,  15.4079,2,  34.5632,2,  34.5643,2,    175.4,2,     8.01,2,     9.54,2,     0.00,2,     0.70,2,    2.573,2,    1.461,6,   2077.2,2,   2274.0,2,   7.8568,2,    25.00,  -999.00,9,  -999.00,9,  15.4079,2,      841
  49UP20100706,   P09,    50,  1,     26,     99,2,20100719,0646, 14.0005, 136.9697, 4818,    331.6,  12.4836,  12.4841,2,  34.3606,2,  34.3614,2,    163.4,2,    15.88,2,    15.33,2,     0.00,2,     1.12,2,    2.635,2,    1.471,2,   2114.8,6,   2266.9,6,   7.7546,6,    25.00,  -999.00,9,  -999.00,9,  12.4841,2,      839
  49UP20100706,   P09,    50,  1,     25,     98,2,20100719,0646, 14.0005, 136.9697, 4818,    383.0,  11.0300,  11.0287,2,  34.3050,2,  34.3069,2,    141.7,2,    23.12,2,    20.01,2,     0.00,2,     1.47,2,    2.364,2,    1.286,2,   2148.1,2,   2271.8,2,   7.6799,2,    25.00,  -999.00,9,  -999.00,9,  11.0287,2,      837
  49UP20100706,   P09,    50,  1,     24,     97,2,20100719,0646, 14.0005, 136.9697, 4818,    433.9,   9.0710,   9.0623,2,  34.3211,2,  34.3206,2,     96.0,2,    37.62,2,    28.13,2,     0.00,2,     2.05,2,    1.463,2,    0.753,2,   2204.2,2,   2287.4,2,   7.5521,2,    25.00,  -999.00,9,  -999.00,9,   9.0623,2,      835
  49UP20100706,   P09,    50,  1,     23,     96,2,20100719,0646, 14.0005, 136.9697, 4818,    483.6,   7.5850,   7.5882,2,  34.3301,2,  34.3312,2,     77.5,2,    52.37,2,    32.74,2,     0.00,2,     2.37,2,    0.867,2,    0.434,2,   2243.6,2,   2300.4,2,   7.5010,2,    25.00,  -999.00,9,  -999.00,9,   7.5882,2,      833
  49UP20100706,   P09,    50,  1,     22,     95,2,20100719,0646, 14.0005, 136.9697, 4818,    573.6,   6.3820,   6.3815,2,  34.3885,2,  34.3877,2,     68.1,2,    66.83,2,    35.99,2,     0.00,2,     2.60,2,    0.404,6,    0.154,6,   -999.0,5,   2320.9,2,   7.4637,2,    25.00,  -999.00,9,  -999.00,9,   6.3815,2,      831
  49UP20100706,   P09,    50,  1,     21,     94,2,20100719,0646, 14.0005, 136.9697, 4818,    674.8,   5.6312,   5.6301,2,  34.4499,2,  34.4497,2,     70.4,2,    76.84,2,    37.38,2,     0.00,2,     2.69,2,    0.151,2,    0.047,2,   2281.7,2,   2336.1,2,   7.4663,2,    25.00,  -999.00,9,  -999.00,9,   5.6301,2,      828
  49UP20100706,   P09,    50,  1,     20,     93,2,20100719,0646, 14.0005, 136.9697, 4818,    776.4,   5.1029,   5.1026,2,  34.4824,2,  34.4822,2,     74.0,2,    84.81,2,    37.97,2,     0.00,2,     2.72,2,    0.096,2,    0.026,2,   2297.2,2,   2347.7,2,   7.4689,2,    25.00,  -999.00,9,  -999.00,9,   5.1026,2,      825
  49UP20100706,   P09,    50,  1,     19,     92,2,20100719,0646, 14.0005, 136.9697, 4818,    877.5,   4.7030,   4.7030,2,  34.5121,2,  34.5122,2,     79.0,2,    91.08,2,    38.16,2,     0.00,2,     2.73,2,    0.034,2,    0.014,2,   2300.0,2,   2356.3,2,   7.4759,2,    25.00,  -999.00,9,  -999.00,9,   4.7030,2,      822
  49UP20100706,   P09,    50,  1,     18,     91,2,20100719,0646, 14.0005, 136.9697, 4818,    978.2,   4.2935,   4.2935,2,  34.5303,2,  34.5303,2,     82.8,2,    99.03,2,    38.38,2,     0.00,2,     2.74,2,    0.015,2,    0.020,2,   2300.8,2,   2364.4,2,   7.4801,2,    25.00,  -999.00,9,  -999.00,9,   4.2935,2,      820
  49UP20100706,   P09,    50,  1,     17,     90,2,20100719,0646, 14.0005, 136.9697, 4818,   1182.0,   3.4552,   3.4553,2,  34.5571,2,  34.5571,2,     90.2,2,   116.34,2,    38.54,2,     0.00,2,     2.74,2,    0.013,2,    0.000,2,   2325.7,2,   2382.7,2,   7.4889,2,    25.00,  -999.00,9,  -999.00,9,   3.4553,2,      815
  49UP20100706,   P09,    50,  1,     16,     89,2,20100719,0646, 14.0005, 136.9697, 4818,   1435.2,   2.8505,   2.8507,2,  34.5852,2,  34.5848,2,     97.4,2,   127.86,2,    38.68,2,     0.00,2,     2.74,2,    0.000,2,    0.000,2,   2332.0,2,   2395.8,2,   7.4973,2,    25.00,  -999.00,9,  -999.00,9,   2.8507,2,      809
  49UP20100706,   P09,    50,  1,     15,     88,2,20100719,0646, 14.0005, 136.9697, 4818,   1698.0,   2.4106,   2.4104,2,  34.6104,2,  34.6104,2,    105.6,2,   135.21,2,    38.47,2,     0.00,2,     2.71,2,    0.000,2,    0.000,2,   2340.7,2,   2403.3,2,   7.5020,2,    25.00,  -999.00,9,  -999.00,9,   2.4104,2,      803
  49UP20100706,   P09,    50,  1,     14,     87,2,20100719,0646, 14.0005, 136.9697, 4818,   1942.1,   2.1069,   2.1069,2,  34.6310,2,  34.6309,2,    114.1,2,   140.17,2,    38.14,2,     0.00,2,     2.69,2,    0.000,2,    0.000,2,   2336.9,2,   2410.5,2,   7.5139,2,    25.00,  -999.00,9,  -999.00,9,   2.1069,2,      757
  49UP20100706,   P09,    50,  1,     13,     86,2,20100719,0646, 14.0005, 136.9697, 4818,   2195.6,   1.9074,   1.9076,2,  34.6441,2,  34.6451,2,    121.5,2,   142.81,2,    37.77,2,     0.00,2,     2.64,2,    0.000,2,    0.000,2,   2336.0,6,   2413.1,6,   7.5292,6,    25.00,  -999.00,9,  -999.00,9,   1.9076,2,      751
  49UP20100706,   P09,    50,  1,     12,     85,2,20100719,0646, 14.0005, 136.9697, 4818,   2450.2,   1.7662,   1.7664,2,  34.6547,2,  34.6549,2,    127.8,2,   144.60,2,    37.46,2,     0.00,2,     2.61,2,    0.000,2,    0.000,2,   2335.1,2,   2417.3,2,   7.5335,2,    25.00,  -999.00,9,  -999.00,9,   1.7664,2,      745
  49UP20100706,   P09,    50,  1,     11,    110,2,20100719,0646, 14.0005, 136.9697, 4818,   2715.2,   1.6835,   1.6839,2,  34.6624,2,  34.6624,2,    133.1,2,   145.04,2,    37.13,2,     0.00,2,     2.58,2,    0.000,2,    0.000,2,   2334.0,2,   2414.6,2,   7.5495,2,    25.00,  -999.00,9,  -999.00,9,   1.6839,2,      739
  49UP20100706,   P09,    50,  1,     10,     83,2,20100719,0646, 14.0005, 136.9697, 4818,   2958.4,   1.6337,   1.6337,2,  34.6676,2,  34.6672,2,    138.6,2,   144.17,2,    36.77,2,     0.00,2,     2.56,2, -999.000,9, -999.000,9,   2336.3,2,   2414.9,2,   7.5547,2,    25.00,  -999.00,9,  -999.00,9,   1.6337,2,      733
  49UP20100706,   P09,    50,  1,      9,     82,2,20100719,0646, 14.0005, 136.9697, 4818,   3225.2,   1.6044,   1.6046,2,  34.6715,2,  34.6716,2,    142.9,2,   143.31,2,    36.52,2,     0.00,2,     2.54,2,    0.000,2,    0.000,2,   2333.2,2,   2415.3,6,   7.5597,6,    25.00,  -999.00,9,  -999.00,9,   1.6046,2,      726
  49UP20100706,   P09,    50,  1,      8,     81,3,20100719,0646, 14.0005, 136.9697, 4818,   3225.2,   1.6044,   1.6046,2,  34.6715,2,  34.6713,3,    143.2,2,   143.05,2,    36.48,2,     0.00,2,     2.54,2,    0.000,2,    0.000,2,   2333.0,2,   2415.1,2,   7.5632,2,    25.00,  -999.00,9,  -999.00,9,   1.6046,2,      726
  49UP20100706,   P09,    50,  1,      7,     80,2,20100719,0646, 14.0005, 136.9697, 4818,   3470.8,   1.5708,   1.5710,2,  34.6756,2,  34.6756,2,    146.8,2,   142.54,2,    36.19,2,     0.00,2,     2.52,2, -999.000,9, -999.000,9,   2326.2,2,   2414.8,2,   7.5679,2,    25.00,  -999.00,9,  -999.00,9,   1.5710,2,      720
  49UP20100706,   P09,    50,  1,      6,     79,2,20100719,0646, 14.0005, 136.9697, 4818,   3735.0,   1.5353,   1.5353,2,  34.6799,2,  34.6797,2,    152.4,2,   141.36,2,    35.86,2,     0.00,2,     2.49,2, -999.000,9, -999.000,9,   2324.1,2,   2413.0,2,   7.5760,2,    25.00,  -999.00,9,  -999.00,9,   1.5353,2,      714
  49UP20100706,   P09,    50,  1,      5,     78,2,20100719,0646, 14.0005, 136.9697, 4818,   3979.7,   1.5187,   1.5188,2,  34.6829,2,  34.6830,2,    155.8,2,   140.54,2,    35.60,2,     0.00,2,     2.47,2,    0.000,2,    0.000,2,   2320.3,2,   2414.1,2,   7.5750,2,    25.00,  -999.00,9,  -999.00,9,   1.5188,2,      708
  49UP20100706,   P09,    50,  1,      4,     77,2,20100719,0646, 14.0005, 136.9697, 4818,   4245.2,   1.5129,   1.5131,2,  34.6857,2,  34.6855,6,    158.8,6,   139.08,6,    35.41,6,     0.00,6,     2.45,6, -999.000,9, -999.000,9,   2320.1,2,   2425.7,3,   7.5823,2,    25.00,  -999.00,9,  -999.00,9,   1.5131,2,      702
  49UP20100706,   P09,    50,  1,      3,     76,2,20100719,0646, 14.0005, 136.9697, 4818,   4492.7,   1.5127,   1.5128,2,  34.6875,2,  34.6877,6,    161.6,6,   138.44,6,    35.29,6,     0.00,6,     2.44,6, -999.000,9, -999.000,9,   2317.1,2,   2412.6,2,   7.5852,2,    25.00,  -999.00,9,  -999.00,9,   1.5128,2,      657
  49UP20100706,   P09,    50,  1,      2,     75,2,20100719,0646, 14.0005, 136.9697, 4818,   4761.4,   1.5359,   1.5359,2,  34.6881,2,  34.6884,6,    162.2,6,   138.03,6,    35.17,6,     0.00,6,     2.44,6, -999.000,9, -999.000,9,   2317.5,2,   2407.0,2,   7.5869,2,    25.00,  -999.00,9,  -999.00,9,   1.5359,2,      651
  49UP20100706,   P09,    50,  1,      1,     74,2,20100719,0646, 14.0005, 136.9697, 4818,   4920.8,   1.5554,   1.5552,2,  34.6880,2,  34.6886,2,    162.3,6,   138.12,6,    35.19,6,     0.00,6,     2.44,6,    0.000,2,    0.000,2,   2315.2,2,   2410.5,2,   7.5888,2,    25.00,  -999.00,9,  -999.00,9,   1.5552,2,      647