BOTTLE,20200625PRINUNIVRMK
EXPOCODE,SECT_ID,STNNBR,CASTNO,SAMPNO,BTLNBR,BTLNBR_FLAG_W,DATE,TIME,LATITUDE,LONGITUDE,DEPTH,CTDPRS,CTDTMP,SBE35,SBE35_FLAG_W,CTDSAL,CTDSAL_FLAG_W,SALNTY,SALNTY_FLAG_W,OXYGEN,OXYGEN_FLAG_W,SILCAT,SILCAT_FLAG_W,NITRAT,NITRAT_FLAG_W,NITRIT,NITRIT_FLAG_W,PHSPHT,PHSPHT_FLAG_W,CFC-11,CFC-11_FLAG_W,CFC-12,CFC-12_FLAG_W,TCARBN,TCARBN_FLAG_W,ALKALI,ALKALI_FLAG_W,PH_TOT,PH_TOT_FLAG_W,PH_TMP,CHLORA,CHLORA_FLAG_W,PPHYTN,PPHYTN_FLAG_W,SBE35,SBE35_FLAG_W,BTL_TIME
,,,,,,,,,,,METERS,DBAR,ITS-90,,,PSS-78,,PSS-78,,UMOL/KG,,UMOL/KG,,UMOL/KG,,UMOL/KG,,UMOL/KG,,PMOL/KG,,PMOL/KG,,UMOL/KG,,UMOL/KG,,,,DEG C,UG/KG,,UG/KG,,,,
  49UP20100706,   P09,    74,  1,      0,     -9,0,20100803,1448,  4.8337, 139.1753, 4389,      0.0,  29.9925,-999.0000,9,  33.8702,2,-999.0000,9,    192.5,2,     0.85,2,     0.01,2,     0.00,2,     0.08,2, -999.000,9, -999.000,9,   -999.0,9,   -999.0,9,-999.0000,9,  -999.00,     0.04,2,     0.01,2,-999.0000,9,     1630
  49UP20100706,   P09,    74,  1,     36,    109,2,20100803,1448,  4.8337, 139.1753, 4389,     10.9,  30.0058,  30.0052,2,  33.8692,2,  33.8671,2,    194.0,2,     0.74,2,     0.00,2,     0.00,2,     0.03,2, -999.000,9, -999.000,9,   1883.1,2,   2225.7,2,   8.1498,2,    25.00,     0.04,2,     0.01,2,  30.0052,2,     1653
  49UP20100706,   P09,    74,  1,     35,    108,2,20100803,1448,  4.8337, 139.1753, 4389,     25.9,  30.0089,  30.0081,2,  33.8685,2,  33.8671,2,    193.9,2,     0.80,2,     0.00,2,     0.00,2,     0.03,2, -999.000,9, -999.000,9,   1886.2,6,   2223.9,6,   8.1475,6,    25.00,  -999.00,9,  -999.00,9,  30.0081,2,     1651
  49UP20100706,   P09,    74,  1,     34,    107,2,20100803,1448,  4.8337, 139.1753, 4389,     25.9,  30.0089,  30.0081,2,  33.8685,2,  33.8670,2,    193.9,2,     0.77,2,     0.01,2,     0.00,2,     0.03,2, -999.000,9, -999.000,9,   1885.7,2,   2227.7,2,   8.1487,2,    25.00,     0.04,2,     0.01,2,  30.0081,2,     1651
  49UP20100706,   P09,    74,  1,     33,    106,2,20100803,1448,  4.8337, 139.1753, 4389,     50.6,  30.0083,  30.0069,2,  33.8678,2,  33.8691,2,    194.0,2,     0.76,2,     0.00,2,     0.00,2,     0.03,2, -999.000,9, -999.000,9,   1888.9,2,   2223.6,2,   8.1448,2,    25.00,     0.04,2,     0.01,2,  30.0069,2,     1647
  49UP20100706,   P09,    74,  1,     32,    105,2,20100803,1448,  4.8337, 139.1753, 4389,     75.9,  29.5285,  29.4993,2,  34.5600,2,  34.5519,4,    198.7,2,     1.04,2,     0.00,2,     0.00,2,     0.05,2, -999.000,9, -999.000,9,   1938.8,2,   2273.9,2,   8.1151,2,    25.00,     0.13,2,     0.07,2,  29.4993,2,     1646
  49UP20100706,   P09,    74,  1,     31,    104,2,20100803,1448,  4.8337, 139.1753, 4389,    100.9,  27.3386,  27.3511,2,  34.6840,2,  34.6824,2,    175.0,2,     1.57,2,     0.78,2,     0.47,2,     0.19,2, -999.000,9, -999.000,9,   1979.6,2,   2280.5,2,   8.0617,2,    25.00,     0.19,2,     0.29,2,  27.3511,2,     1645
  49UP20100706,   P09,    74,  1,     30,    103,2,20100803,1448,  4.8337, 139.1753, 4389,    128.8,  25.8114,  25.8068,2,  35.0069,2,  35.0301,4,    145.8,2,     2.94,2,     5.99,2,     0.09,2,     0.51,2, -999.000,9, -999.000,9,   2027.9,2,   2300.1,2,   7.9859,2,    25.00,     0.09,2,     0.23,2,  25.8068,2,     1643
  49UP20100706,   P09,    74,  1,     29,    102,2,20100803,1448,  4.8337, 139.1753, 4389,    150.5,  23.4982,  23.5043,2,  34.8799,2,  34.8833,2,    157.3,2,     3.79,2,     4.69,2,     0.03,2,     0.42,2, -999.000,9, -999.000,9,   2035.6,2,   2292.8,2,   7.9762,2,    25.00,     0.05,2,     0.12,2,  23.5043,2,     1642
  49UP20100706,   P09,    74,  1,     28,    101,2,20100803,1448,  4.8337, 139.1753, 4389,    200.8,  14.4822,  14.5270,2,  34.5795,2,  34.5788,2,    111.0,2,    17.81,2,    18.79,2,     0.01,2,     1.38,2, -999.000,9, -999.000,9,   2150.6,2,   2283.0,2,   7.7246,2,    25.00,     0.01,2,     0.03,2,  14.5270,2,     1640
  49UP20100706,   P09,    74,  1,     27,    100,2,20100803,1448,  4.8337, 139.1753, 4389,    251.4,  10.1162,  10.0998,2,  34.5719,2,  34.5749,2,     62.0,2,    33.25,2,    30.78,2,     0.00,2,     2.20,2, -999.000,9, -999.000,9,   2228.3,2,   2299.3,2,   7.5314,2,    25.00,  -999.00,9,  -999.00,9,  10.0998,2,     1638
  49UP20100706,   P09,    74,  1,     26,     99,2,20100803,1448,  4.8337, 139.1753, 4389,    301.8,   9.1301,   9.1315,2,  34.5944,2,  34.5934,2,     56.8,2,    37.03,2,    33.20,2,     0.00,2,     2.35,2, -999.000,9, -999.000,9,   2237.5,2,   2304.7,2,   7.5112,2,    25.00,  -999.00,9,  -999.00,9,   9.1315,2,     1637
  49UP20100706,   P09,    74,  1,     25,     98,2,20100803,1448,  4.8337, 139.1753, 4389,    353.6,   8.5520,   8.5502,2,  34.5963,2,  34.5957,2,     66.7,2,    38.58,2,    33.45,2,     0.00,2,     2.37,2, -999.000,9, -999.000,9,   2239.2,6,   2307.7,6,   7.5142,6,    25.00,  -999.00,9,  -999.00,9,   8.5502,2,     1635
  49UP20100706,   P09,    74,  1,     24,     97,2,20100803,1448,  4.8337, 139.1753, 4389,    353.6,   8.5520,   8.5502,2,  34.5963,2,  34.5959,2,     66.7,2,    38.41,2,    33.46,2,     0.00,2,     2.36,2, -999.000,9, -999.000,9,   2237.2,2,   2308.4,2,   7.5154,2,    25.00,  -999.00,9,  -999.00,9,   8.5502,2,     1635
  49UP20100706,   P09,    74,  1,     23,     96,2,20100803,1448,  4.8337, 139.1753, 4389,    403.2,   8.0678,   8.0671,2,  34.5824,2,  34.5811,2,     87.2,2,    39.08,2,    32.66,2,     0.00,2,     2.30,2, -999.000,9, -999.000,9,   2237.5,2,   2309.3,2,   7.5482,2,    25.00,  -999.00,9,  -999.00,9,   8.0671,2,     1633
  49UP20100706,   P09,    74,  1,     22,     95,2,20100803,1448,  4.8337, 139.1753, 4389,    453.3,   7.7231,   7.7172,2,  34.5713,2,  34.5710,2,     97.1,2,    39.80,2,    32.45,2,     0.00,2,     2.28,2, -999.000,9, -999.000,9,   2233.7,2,   2303.2,2,   7.5526,2,    25.00,  -999.00,9,  -999.00,9,   7.7172,2,     1631
  49UP20100706,   P09,    74,  1,     21,     94,2,20100803,1448,  4.8337, 139.1753, 4389,    502.8,   7.3925,   7.3922,2,  34.5614,2,  34.5603,2,    107.2,2,    40.48,2,    32.24,2,     0.00,2,     2.27,2, -999.000,9, -999.000,9,   2227.0,2,   2312.6,2,   7.5616,2,    25.00,  -999.00,9,  -999.00,9,   7.3922,2,     1629
  49UP20100706,   P09,    74,  1,     20,     93,2,20100803,1448,  4.8337, 139.1753, 4389,    604.5,   6.8433,   6.8428,2,  34.5473,2,  34.5466,2,    100.9,2,    45.97,2,    33.92,2,     0.00,2,     2.39,2, -999.000,9, -999.000,9,   2239.7,2,   2316.4,2,   7.5409,2,    25.00,  -999.00,9,  -999.00,9,   6.8428,2,     1626
  49UP20100706,   P09,    74,  1,     19,     92,2,20100803,1448,  4.8337, 139.1753, 4389,    705.1,   6.2439,   6.2436,2,  34.5372,2,  34.5366,2,     88.5,2,    57.16,2,    35.95,2,     0.00,2,     2.55,2, -999.000,9, -999.000,9,   2272.7,2,   2325.4,2,   7.5129,2,    25.00,  -999.00,9,  -999.00,9,   6.2436,2,     1623
  49UP20100706,   P09,    74,  1,     18,     91,2,20100803,1448,  4.8337, 139.1753, 4389,    806.9,   5.6355,   5.6361,2,  34.5364,2,  34.5360,2,     92.0,2,    66.22,2,    36.57,2,     0.00,2,     2.60,2, -999.000,9, -999.000,9,   2269.3,2,   2340.5,2,   7.5117,2,    25.00,  -999.00,9,  -999.00,9,   5.6361,2,     1621
  49UP20100706,   P09,    74,  1,     17,     90,2,20100803,1448,  4.8337, 139.1753, 4389,    907.4,   5.1589,   5.1591,2,  34.5430,2,  34.5423,2,     94.0,2,    75.82,2,    36.99,2,     0.00,2,     2.63,2, -999.000,9, -999.000,9,   2286.4,2,   2376.1,4,   7.5100,2,    25.00,  -999.00,9,  -999.00,9,   5.1591,2,     1618
  49UP20100706,   P09,    74,  1,     16,     89,2,20100803,1448,  4.8337, 139.1753, 4389,   1007.9,   4.6929,   4.6923,2,  34.5501,2,  34.5497,2,     92.2,2,    86.02,2,    37.62,2,     0.00,2,     2.68,2, -999.000,9, -999.000,9,   2299.2,2,   2356.6,2,   7.5045,2,    25.00,  -999.00,9,  -999.00,9,   4.6923,2,     1615
  49UP20100706,   P09,    74,  1,     15,     88,2,20100803,1448,  4.8337, 139.1753, 4389,   1261.6,   3.6050,   3.6048,2,  34.5792,2,  34.5788,2,     96.2,2,   107.45,2,    38.30,2,     0.00,2,     2.73,2, -999.000,9, -999.000,9,   2318.6,2,   2372.0,2,   7.5026,2,    25.00,  -999.00,9,  -999.00,9,   3.6048,2,     1610
  49UP20100706,   P09,    74,  1,     14,     87,2,20100803,1448,  4.8337, 139.1753, 4389,   1514.8,   2.8937,   2.8936,2,  34.6055,2,  34.6051,2,     99.5,2,   123.03,2,    38.82,2,     0.00,2,     2.75,2, -999.000,9, -999.000,9,   2329.1,2,   2394.4,2,   7.5026,2,    25.00,  -999.00,9,  -999.00,9,   2.8936,2,     1604
  49UP20100706,   P09,    74,  1,     13,     86,2,20100803,1448,  4.8337, 139.1753, 4389,   1768.0,   2.4912,   2.4919,2,  34.6229,2,  34.6223,2,    107.0,2,   131.80,2,    38.49,2,     0.00,2,     2.72,2, -999.000,9, -999.000,9,   2339.3,2,   2406.2,2,   7.5166,2,    25.00,  -999.00,9,  -999.00,9,   2.4919,2,     1558
  49UP20100706,   P09,    74,  1,     12,     85,2,20100803,1448,  4.8337, 139.1753, 4389,   2022.6,   2.1899,   2.1897,2,  34.6382,2,  34.6384,2,    113.1,2,   138.13,2,    38.28,2,     0.00,2,     2.69,2, -999.000,9, -999.000,9,   2341.1,6,   2410.5,6,   7.5242,6,    25.00,  -999.00,9,  -999.00,9,   2.1897,2,     1551
  49UP20100706,   P09,    74,  1,     11,    110,2,20100803,1448,  4.8337, 139.1753, 4389,   2022.6,   2.1899,   2.1897,2,  34.6382,2,  34.6380,2,    113.0,2,   138.02,2,    38.23,2,     0.00,2,     2.69,2, -999.000,9, -999.000,9,   2348.0,3,   2412.3,2,   7.5268,2,    25.00,  -999.00,9,  -999.00,9,   2.1897,2,     1551
  49UP20100706,   P09,    74,  1,     10,     83,2,20100803,1448,  4.8337, 139.1753, 4389,   2275.9,   1.9470,   1.9471,2,  34.6515,2,  34.6512,2,    123.1,2,   141.21,2,    37.70,2,     0.00,2,     2.64,2, -999.000,9, -999.000,9,   2344.0,2,   2414.5,2,   7.5360,2,    25.00,  -999.00,9,  -999.00,9,   1.9471,2,     1545
  49UP20100706,   P09,    74,  1,      9,     82,2,20100803,1448,  4.8337, 139.1753, 4389,   2531.4,   1.7838,   1.7838,2,  34.6607,2,  34.6605,2,    131.4,2,   142.46,2,    37.19,2,     0.00,2,     2.60,2, -999.000,9, -999.000,9,   2338.0,2,   2416.7,2,   7.5550,2,    25.00,  -999.00,9,  -999.00,9,   1.7838,2,     1538
  49UP20100706,   P09,    74,  1,      8,     81,2,20100803,1448,  4.8337, 139.1753, 4389,   2785.4,   1.6303,   1.6303,2,  34.6697,2,  34.6696,2,    140.2,2,   142.88,2,    36.64,2,     0.00,2,     2.55,2, -999.000,9, -999.000,9,   2335.1,2,   2412.8,2,   7.5645,2,    25.00,  -999.00,9,  -999.00,9,   1.6303,2,     1532
  49UP20100706,   P09,    74,  1,      7,     80,2,20100803,1448,  4.8337, 139.1753, 4389,   3040.1,   1.5804,   1.5806,2,  34.6740,2,  34.6736,2,    143.9,2,   142.93,2,    36.39,2,     0.00,2,     2.53,2, -999.000,9, -999.000,9,   2333.1,2,   2419.1,2,   7.5763,2,    25.00,  -999.00,9,  -999.00,9,   1.5806,2,     1525
  49UP20100706,   P09,    74,  1,      6,     79,2,20100803,1448,  4.8337, 139.1753, 4389,   3294.3,   1.5564,   1.5565,2,  34.6770,2,  34.6767,2,    146.6,2,   142.73,2,    36.19,2,     0.00,2,     2.52,2, -999.000,9, -999.000,9,   2336.0,2,   2420.7,2,   7.5729,2,    25.00,  -999.00,9,  -999.00,9,   1.5565,2,     1518
  49UP20100706,   P09,    74,  1,      5,     78,2,20100803,1448,  4.8337, 139.1753, 4389,   3550.2,   1.5407,   1.5410,2,  34.6802,2,  34.6797,2,    149.0,2,   142.58,2,    36.02,2,     0.00,2,     2.50,2, -999.000,9, -999.000,9,   2329.2,2,   2415.9,2,   7.5785,2,    25.00,  -999.00,9,  -999.00,9,   1.5410,2,     1511
  49UP20100706,   P09,    74,  1,      4,     77,2,20100803,1448,  4.8337, 139.1753, 4389,   3805.4,   1.5134,   1.5136,2,  34.6847,2,  34.6847,6,    152.0,6,   142.39,6,    35.87,6,     0.00,6,     2.48,6, -999.000,9, -999.000,9,   2329.7,2,   2421.7,2,   7.5874,2,    25.00,  -999.00,9,  -999.00,9,   1.5136,2,     1505
  49UP20100706,   P09,    74,  1,      3,     76,2,20100803,1448,  4.8337, 139.1753, 4389,   4062.1,   1.5114,   1.5116,2,  34.6867,2,  34.6862,6,    154.9,6,   141.70,6,    35.66,6,     0.00,6,     2.47,6, -999.000,9, -999.000,9,   2328.9,2,   2419.9,2,   7.5948,2,    25.00,  -999.00,9,  -999.00,9,   1.5116,2,     1459
  49UP20100706,   P09,    74,  1,      2,     75,2,20100803,1448,  4.8337, 139.1753, 4389,   4317.6,   1.5278,   1.5277,2,  34.6872,2,  34.6865,6,    156.0,6,   141.21,6,    35.55,6,     0.00,6,     2.47,6, -999.000,9, -999.000,9,   2325.2,2,   2419.6,2,   7.5879,2,    25.00,  -999.00,9,  -999.00,9,   1.5277,2,     1452
  49UP20100706,   P09,    74,  1,      1,     74,2,20100803,1448,  4.8337, 139.1753, 4389,   4449.5,   1.5392,   1.5391,2,  34.6874,2,  34.6867,6,    156.5,6,   140.98,6,    35.53,6,     0.00,6,     2.46,6, -999.000,9, -999.000,9,   2327.1,2,   2413.2,2,   7.5913,2,    25.00,  -999.00,9,  -999.00,9,   1.5391,2,     1449