BOTTLE,20200625PRINUNIVRMK
EXPOCODE,SECT_ID,STNNBR,CASTNO,SAMPNO,BTLNBR,BTLNBR_FLAG_W,DATE,TIME,LATITUDE,LONGITUDE,DEPTH,CTDPRS,CTDTMP,SBE35,SBE35_FLAG_W,CTDSAL,CTDSAL_FLAG_W,SALNTY,SALNTY_FLAG_W,OXYGEN,OXYGEN_FLAG_W,SILCAT,SILCAT_FLAG_W,NITRAT,NITRAT_FLAG_W,NITRIT,NITRIT_FLAG_W,PHSPHT,PHSPHT_FLAG_W,CFC-11,CFC-11_FLAG_W,CFC-12,CFC-12_FLAG_W,TCARBN,TCARBN_FLAG_W,ALKALI,ALKALI_FLAG_W,PH_TOT,PH_TOT_FLAG_W,PH_TMP,CHLORA,CHLORA_FLAG_W,PPHYTN,PPHYTN_FLAG_W,SBE35,SBE35_FLAG_W,BTL_TIME
,,,,,,,,,,,METERS,DBAR,ITS-90,,,PSS-78,,PSS-78,,UMOL/KG,,UMOL/KG,,UMOL/KG,,UMOL/KG,,UMOL/KG,,PMOL/KG,,PMOL/KG,,UMOL/KG,,UMOL/KG,,,,DEG C,UG/KG,,UG/KG,,,,
  49UP20100706,   P09,    29,  1,      0,     -9,0,20100713,1352, 24.5073, 136.9777, 5509,      0.0,  29.6752,-999.0000,9,  34.6168,2,-999.0000,9,    193.4,2,     1.04,2,     0.06,2,     0.00,2,     0.00,2, -999.000,9, -999.000,9,   -999.0,9,   -999.0,9,-999.0000,9,  -999.00,  -999.00,9,  -999.00,9,-999.0000,9,     1600
  49UP20100706,   P09,    29,  1,     36,    109,2,20100713,1352, 24.5073, 136.9777, 5509,     11.1,  29.6930,  29.6837,2,  34.6129,2,  34.6159,2,    196.4,2,     1.12,2,     0.02,2,     0.00,2,     0.00,2, -999.000,9, -999.000,9,   -999.0,9,   -999.0,9,-999.0000,9,  -999.00,  -999.00,9,  -999.00,9,  29.6837,2,     1614
  49UP20100706,   P09,    29,  1,     35,    108,2,20100713,1352, 24.5073, 136.9777, 5509,     26.6,  27.7469,  27.7506,2,  34.7528,2,  34.7478,2,    207.6,2,     1.03,2,     0.01,2,     0.00,2,     0.00,2, -999.000,9, -999.000,9,   -999.0,9,   -999.0,9,-999.0000,9,  -999.00,  -999.00,9,  -999.00,9,  27.7506,2,     1613
  49UP20100706,   P09,    29,  1,     34,    107,2,20100713,1352, 24.5073, 136.9777, 5509,     51.1,  24.4276,  24.4438,2,  34.8798,2,  34.8820,2,    221.4,3,     1.17,2,     0.02,2,     0.00,2,     0.00,2, -999.000,9, -999.000,9,   -999.0,9,   -999.0,9,-999.0000,9,  -999.00,  -999.00,9,  -999.00,9,  24.4438,2,     1610
  49UP20100706,   P09,    29,  1,     33,    106,2,20100713,1352, 24.5073, 136.9777, 5509,     75.9,  22.7396,  22.7368,2,  34.8260,2,  34.8014,4,    219.4,2,     1.45,2,     0.00,2,     0.00,2,     0.00,2, -999.000,9, -999.000,9,   -999.0,9,   -999.0,9,-999.0000,9,  -999.00,  -999.00,9,  -999.00,9,  22.7368,2,     1608
  49UP20100706,   P09,    29,  1,     32,    105,2,20100713,1352, 24.5073, 136.9777, 5509,    101.2,  21.2376,  21.2895,2,  34.7809,2,  34.7740,4,    215.5,2,     1.73,2,     0.03,2,     0.02,2,     0.02,2, -999.000,9, -999.000,9,   -999.0,9,   -999.0,9,-999.0000,9,  -999.00,  -999.00,9,  -999.00,9,  21.2895,2,     1607
  49UP20100706,   P09,    29,  1,     31,    104,2,20100713,1352, 24.5073, 136.9777, 5509,    125.9,  19.9943,  19.9647,2,  34.7359,2,  34.7502,4,    210.5,2,     1.96,2,     0.79,2,     0.09,2,     0.06,2, -999.000,9, -999.000,9,   -999.0,9,   -999.0,9,-999.0000,9,  -999.00,  -999.00,9,  -999.00,9,  19.9647,2,     1606
  49UP20100706,   P09,    29,  1,     30,    103,2,20100713,1352, 24.5073, 136.9777, 5509,    150.6,  19.4109,  19.4099,2,  34.7221,2,  34.7219,2,    212.8,2,     2.17,2,     1.35,2,     0.04,2,     0.10,2, -999.000,9, -999.000,9,   -999.0,9,   -999.0,9,-999.0000,9,  -999.00,  -999.00,9,  -999.00,9,  19.4099,2,     1605
  49UP20100706,   P09,    29,  1,     29,    102,2,20100713,1352, 24.5073, 136.9777, 5509,    200.0,  18.9834,  18.9824,2,  34.7747,2,  34.7766,2,    195.1,2,     2.99,2,     3.26,2,     0.01,2,     0.22,2, -999.000,9, -999.000,9,   -999.0,9,   -999.0,9,-999.0000,9,  -999.00,  -999.00,9,  -999.00,9,  18.9824,2,     1603
  49UP20100706,   P09,    29,  1,     28,    101,2,20100713,1352, 24.5073, 136.9777, 5509,    252.9,  17.7214,  17.7131,2,  34.7436,2,  34.7440,2,    194.7,2,     4.30,2,     5.30,2,     0.01,2,     0.34,2, -999.000,9, -999.000,9,   -999.0,9,   -999.0,9,-999.0000,9,  -999.00,  -999.00,9,  -999.00,9,  17.7131,2,     1601
  49UP20100706,   P09,    29,  1,     27,    100,2,20100713,1352, 24.5073, 136.9777, 5509,    281.8,  17.1855,  17.1835,2,  34.7305,2,  34.7310,2,    194.9,2,     4.79,2,     5.96,2,     0.01,2,     0.39,2, -999.000,9, -999.000,9,   -999.0,9,   -999.0,9,-999.0000,9,  -999.00,  -999.00,9,  -999.00,9,  17.1835,2,     1600
  49UP20100706,   P09,    29,  1,     26,     99,2,20100713,1352, 24.5073, 136.9777, 5509,    374.4,  15.2174,  15.2159,2,  34.5960,2,  34.5957,2,    190.2,2,     9.09,2,     9.38,2,     0.00,2,     0.63,2, -999.000,9, -999.000,9,   -999.0,9,   -999.0,9,-999.0000,9,  -999.00,  -999.00,9,  -999.00,9,  15.2159,2,     1557
  49UP20100706,   P09,    29,  1,     25,     98,2,20100713,1352, 24.5073, 136.9777, 5509,    474.3,  12.4210,  12.4229,2,  34.3967,2,  34.4028,4,    181.7,2,    18.06,2,    14.61,2,     0.00,2,     1.01,2, -999.000,9, -999.000,9,   -999.0,9,   -999.0,9,-999.0000,9,  -999.00,  -999.00,9,  -999.00,9,  12.4229,2,     1555
  49UP20100706,   P09,    29,  1,     24,     97,2,20100713,1352, 24.5073, 136.9777, 5509,    573.9,   9.5787,   9.5782,2,  34.2212,2,  34.3039,4,    171.4,3,    27.15,2,    18.40,2,     0.00,2,     1.30,2, -999.000,9, -999.000,9,   -999.0,9,   -999.0,9,-999.0000,9,  -999.00,  -999.00,9,  -999.00,9,   9.5782,2,     1552
  49UP20100706,   P09,    29,  1,     23,     96,2,20100713,1352, 24.5073, 136.9777, 5509,    677.0,   6.9913,   6.9867,2,  34.1272,2,  34.1282,2,    127.8,2,    57.96,2,    29.14,2,     0.00,2,     2.07,2, -999.000,9, -999.000,9,   -999.0,9,   -999.0,9,-999.0000,9,  -999.00,  -999.00,9,  -999.00,9,   6.9867,2,     1549
  49UP20100706,   P09,    29,  1,     22,     95,2,20100713,1352, 24.5073, 136.9777, 5509,    776.9,   5.5481,   5.5518,2,  34.1556,2,  34.1556,6,     92.5,6,    79.58,6,    34.81,6,     0.00,6,     2.49,6, -999.000,9, -999.000,9,   -999.0,9,   -999.0,9,-999.0000,9,  -999.00,  -999.00,9,  -999.00,9,   5.5518,2,     1547
  49UP20100706,   P09,    29,  1,     21,     94,2,20100713,1352, 24.5073, 136.9777, 5509,    877.4,   4.6429,   4.6412,2,  34.2364,2,  34.2375,6,     68.4,6,    98.24,6,    38.33,6,     0.00,6,     2.73,6, -999.000,9, -999.000,9,   -999.0,9,   -999.0,9,-999.0000,9,  -999.00,  -999.00,9,  -999.00,9,   4.6412,2,     1544
  49UP20100706,   P09,    29,  1,     20,     93,2,20100713,1352, 24.5073, 136.9777, 5509,    979.6,   3.9768,   3.9762,2,  34.3138,2,  34.3139,6,     56.0,6,   113.19,6,    40.38,6,     0.00,6,     2.87,6, -999.000,9, -999.000,9,   -999.0,9,   -999.0,9,-999.0000,9,  -999.00,  -999.00,9,  -999.00,9,   3.9762,2,     1541
  49UP20100706,   P09,    29,  1,     19,     92,2,20100713,1352, 24.5073, 136.9777, 5509,   1140.9,   3.3101,   3.3135,2,  34.4205,2,  34.4198,6,     57.3,6,   127.62,6,    41.22,6,     0.00,6,     2.91,6, -999.000,9, -999.000,9,   -999.0,9,   -999.0,9,-999.0000,9,  -999.00,  -999.00,9,  -999.00,9,   3.3135,2,     1538
  49UP20100706,   P09,    29,  1,     18,     91,2,20100713,1352, 24.5073, 136.9777, 5509,   1343.0,   2.8481,   2.8481,2,  34.4814,2,  34.4816,2,     65.2,2,   137.02,2,    41.15,2,     0.00,2,     2.90,2, -999.000,9, -999.000,9,   -999.0,9,   -999.0,9,-999.0000,9,  -999.00,  -999.00,9,  -999.00,9,   2.8481,2,     1533
  49UP20100706,   P09,    29,  1,     17,     90,2,20100713,1352, 24.5073, 136.9777, 5509,   1546.3,   2.3863,   2.3874,2,  34.5496,2,  34.5486,2,     84.1,2,   142.65,2,    40.13,2,     0.00,2,     2.81,2, -999.000,9, -999.000,9,   -999.0,9,   -999.0,9,-999.0000,9,  -999.00,  -999.00,9,  -999.00,9,   2.3874,2,     1529
  49UP20100706,   P09,    29,  1,     16,     89,2,20100713,1352, 24.5073, 136.9777, 5509,   1749.8,   2.1890,   2.1889,2,  34.5844,2,  34.5837,2,     99.4,2,   142.84,2,    39.30,2,     0.00,2,     2.75,2, -999.000,9, -999.000,9,   -999.0,9,   -999.0,9,-999.0000,9,  -999.00,  -999.00,9,  -999.00,9,   2.1889,2,     1524
  49UP20100706,   P09,    29,  1,     15,     88,2,20100713,1352, 24.5073, 136.9777, 5509,   1949.5,   2.0128,   2.0128,2,  34.6102,2,  34.6098,2,    111.3,2,   143.30,2,    38.60,2,     0.00,2,     2.68,2, -999.000,9, -999.000,9,   -999.0,9,   -999.0,9,-999.0000,9,  -999.00,  -999.00,9,  -999.00,9,   2.0128,2,     1519
  49UP20100706,   P09,    29,  1,     14,     87,2,20100713,1352, 24.5073, 136.9777, 5509,   2196.2,   1.8685,   1.8686,2,  34.6306,2,  34.6307,2,    120.2,4,   143.05,2,    38.08,2,     0.00,2,     2.64,2, -999.000,9, -999.000,9,   -999.0,9,   -999.0,9,-999.0000,9,  -999.00,  -999.00,9,  -999.00,9,   1.8686,2,     1513
  49UP20100706,   P09,    29,  1,     13,     86,2,20100713,1352, 24.5073, 136.9777, 5509,   2450.5,   1.7710,   1.7712,2,  34.6440,2,  34.6439,2,    128.6,3,   143.25,2,    37.66,2,     0.00,2,     2.61,2, -999.000,9, -999.000,9,   -999.0,9,   -999.0,9,-999.0000,9,  -999.00,  -999.00,9,  -999.00,9,   1.7712,2,     1508
  49UP20100706,   P09,    29,  1,     12,     85,2,20100713,1352, 24.5073, 136.9777, 5509,   2715.8,   1.7013,   1.7016,2,  34.6537,2,  34.6532,2,    133.0,2,   143.40,2,    37.39,2,     0.00,2,     2.58,2, -999.000,9, -999.000,9,   -999.0,9,   -999.0,9,-999.0000,9,  -999.00,  -999.00,9,  -999.00,9,   1.7016,2,     1502
  49UP20100706,   P09,    29,  1,     11,    110,2,20100713,1352, 24.5073, 136.9777, 5509,   2959.1,   1.6479,   1.6478,2,  34.6610,2,  34.6610,2,    138.0,2,   143.21,2,    37.07,2,     0.00,2,     2.56,2, -999.000,9, -999.000,9,   -999.0,9,   -999.0,9,-999.0000,9,  -999.00,  -999.00,9,  -999.00,9,   1.6478,2,     1457
  49UP20100706,   P09,    29,  1,     10,     83,2,20100713,1352, 24.5073, 136.9777, 5509,   3227.5,   1.6014,   1.6017,2,  34.6683,2,  34.6673,2,    143.5,2,   142.45,2,    36.73,2,     0.00,2,     2.53,2, -999.000,9, -999.000,9,   -999.0,9,   -999.0,9,-999.0000,9,  -999.00,  -999.00,9,  -999.00,9,   1.6017,2,     1451
  49UP20100706,   P09,    29,  1,      9,     82,2,20100713,1352, 24.5073, 136.9777, 5509,   3472.1,   1.5640,   1.5642,2,  34.6742,2,  34.6734,2,    148.1,2,   142.02,2,    36.38,2,     0.00,2,     2.51,2, -999.000,9, -999.000,9,   -999.0,9,   -999.0,9,-999.0000,9,  -999.00,  -999.00,9,  -999.00,9,   1.5642,2,     1445
  49UP20100706,   P09,    29,  1,      8,     81,3,20100713,1352, 24.5073, 136.9777, 5509,   3737.1,   1.5472,   1.5471,2,  34.6784,2,  34.6778,3,    151.8,2,   141.39,2,    36.19,2,     0.00,2,     2.50,2, -999.000,9, -999.000,9,   -999.0,9,   -999.0,9,-999.0000,9,  -999.00,  -999.00,9,  -999.00,9,   1.5471,2,     1438
  49UP20100706,   P09,    29,  1,      7,     80,2,20100713,1352, 24.5073, 136.9777, 5509,   3983.8,   1.5374,   1.5376,2,  34.6816,2,  34.6807,2,    153.9,2,   141.01,2,    36.08,2,     0.00,2,     2.49,2, -999.000,9, -999.000,9,   -999.0,9,   -999.0,9,-999.0000,9,  -999.00,  -999.00,9,  -999.00,9,   1.5376,2,     1432
  49UP20100706,   P09,    29,  1,      6,     79,2,20100713,1352, 24.5073, 136.9777, 5509,   4250.8,   1.5478,   1.5480,2,  34.6835,2,  34.6829,2,    155.8,2,   140.55,2,    35.96,2,     0.00,2,     2.48,2, -999.000,9, -999.000,9,   -999.0,9,   -999.0,9,-999.0000,9,  -999.00,  -999.00,9,  -999.00,9,   1.5480,2,     1426
  49UP20100706,   P09,    29,  1,      5,     78,2,20100713,1352, 24.5073, 136.9777, 5509,   4496.6,   1.5693,   1.5695,2,  34.6841,2,  34.6837,2,    156.3,2,   140.54,2,    35.92,2,     0.00,2,     2.47,2, -999.000,9, -999.000,9,   -999.0,9,   -999.0,9,-999.0000,9,  -999.00,  -999.00,9,  -999.00,9,   1.5695,2,     1420
  49UP20100706,   P09,    29,  1,      4,     77,2,20100713,1352, 24.5073, 136.9777, 5509,   4764.5,   1.5956,   1.5961,2,  34.6848,2,  34.6842,2,    156.9,2,   140.24,2,    35.90,2,     0.00,2,     2.47,2, -999.000,9, -999.000,9,   -999.0,9,   -999.0,9,-999.0000,9,  -999.00,  -999.00,9,  -999.00,9,   1.5961,2,     1413
  49UP20100706,   P09,    29,  1,      3,     76,2,20100713,1352, 24.5073, 136.9777, 5509,   5011.6,   1.6252,   1.6253,2,  34.6846,2,  34.6842,2,    157.0,2,   140.26,2,    35.89,2,     0.00,2,     2.47,2, -999.000,9, -999.000,9,   -999.0,9,   -999.0,9,-999.0000,9,  -999.00,  -999.00,9,  -999.00,9,   1.6253,2,     1407
  49UP20100706,   P09,    29,  1,      2,     75,2,20100713,1352, 24.5073, 136.9777, 5509,   5279.4,   1.6589,   1.6593,2,  34.6848,2,  34.6846,2,    157.1,2,   140.34,2,    35.82,2,     0.00,2,     2.47,2, -999.000,9, -999.000,9,   -999.0,9,   -999.0,9,-999.0000,9,  -999.00,  -999.00,9,  -999.00,9,   1.6593,2,     1400
  49UP20100706,   P09,    29,  1,      1,     74,2,20100713,1352, 24.5073, 136.9777, 5509,   5604.2,   1.7023,   1.7024,2,  34.6846,2,  34.6842,2,    157.5,2,   140.17,2,    35.85,2,     0.00,2,     2.46,2, -999.000,9, -999.000,9,   -999.0,9,   -999.0,9,-999.0000,9,  -999.00,  -999.00,9,  -999.00,9,   1.7024,2,     1353