BOTTLE,20200625PRINUNIVRMK
EXPOCODE,SECT_ID,STNNBR,CASTNO,SAMPNO,BTLNBR,BTLNBR_FLAG_W,DATE,TIME,LATITUDE,LONGITUDE,DEPTH,CTDPRS,CTDTMP,SBE35,SBE35_FLAG_W,CTDSAL,CTDSAL_FLAG_W,SALNTY,SALNTY_FLAG_W,OXYGEN,OXYGEN_FLAG_W,SILCAT,SILCAT_FLAG_W,NITRAT,NITRAT_FLAG_W,NITRIT,NITRIT_FLAG_W,PHSPHT,PHSPHT_FLAG_W,CFC-11,CFC-11_FLAG_W,CFC-12,CFC-12_FLAG_W,TCARBN,TCARBN_FLAG_W,ALKALI,ALKALI_FLAG_W,PH_TOT,PH_TOT_FLAG_W,PH_TMP,CHLORA,CHLORA_FLAG_W,PPHYTN,PPHYTN_FLAG_W,SBE35,SBE35_FLAG_W,BTL_TIME
,,,,,,,,,,,METERS,DBAR,ITS-90,,,PSS-78,,PSS-78,,UMOL/KG,,UMOL/KG,,UMOL/KG,,UMOL/KG,,UMOL/KG,,PMOL/KG,,PMOL/KG,,UMOL/KG,,UMOL/KG,,,,DEG C,UG/KG,,UG/KG,,,,
  49UP20100706,   P09,    81,  1,      0,     -9,0,20100805,0853,  2.5057, 141.4820, 2822,      0.0,  29.9375,-999.0000,9,  34.4441,2,-999.0000,9,    192.5,2,     0.98,2,     0.00,2,     0.00,2,     0.11,2, -999.000,9, -999.000,9,   -999.0,9,   -999.0,9,-999.0000,9,  -999.00,  -999.00,9,  -999.00,9,-999.0000,9,     1000
  49UP20100706,   P09,    81,  1,     36,    109,2,20100805,0853,  2.5057, 141.4820, 2822,     10.5,  29.9470,  29.9469,2,  34.4439,2,  34.4415,2,    192.8,2,     0.97,2,     0.00,2,     0.00,2,     0.10,2, -999.000,9, -999.000,9,   -999.0,9,   -999.0,9,-999.0000,9,  -999.00,  -999.00,9,  -999.00,9,  29.9469,2,     1011
  49UP20100706,   P09,    81,  1,     35,    108,2,20100805,0853,  2.5057, 141.4820, 2822,     25.8,  29.9529,  29.9515,2,  34.4462,2,  34.4468,2,    193.3,2,     0.95,2,     0.00,2,     0.00,2,     0.10,2, -999.000,9, -999.000,9,   -999.0,9,   -999.0,9,-999.0000,9,  -999.00,  -999.00,9,  -999.00,9,  29.9515,2,     1010
  49UP20100706,   P09,    81,  1,     34,    107,2,20100805,0853,  2.5057, 141.4820, 2822,     51.1,  29.8225,  29.8213,2,  34.4965,2,  34.4948,2,    193.4,2,     1.02,2,     0.00,2,     0.00,2,     0.09,2, -999.000,9, -999.000,9,   -999.0,9,   -999.0,9,-999.0000,9,  -999.00,  -999.00,9,  -999.00,9,  29.8213,2,     1007
  49UP20100706,   P09,    81,  1,     33,    106,2,20100805,0853,  2.5057, 141.4820, 2822,     77.6,  29.6800,  29.6771,2,  34.6006,2,  34.5887,4,    192.5,2,     1.11,2,    -0.01,2,     0.01,2,     0.10,2, -999.000,9, -999.000,9,   -999.0,9,   -999.0,9,-999.0000,9,  -999.00,  -999.00,9,  -999.00,9,  29.6771,2,     1006
  49UP20100706,   P09,    81,  1,     32,    105,2,20100805,0853,  2.5057, 141.4820, 2822,     98.1,  29.6809,  29.6779,2,  34.7269,2,  34.7172,4,    190.9,2,     1.03,2,     0.01,2,     0.04,2,     0.12,2, -999.000,9, -999.000,9,   -999.0,9,   -999.0,9,-999.0000,9,  -999.00,  -999.00,9,  -999.00,9,  29.6779,2,     1005
  49UP20100706,   P09,    81,  1,     31,    104,2,20100805,0853,  2.5057, 141.4820, 2822,    127.0,  27.9328,  27.9443,2,  34.6392,2,  34.6328,2,    179.5,2,     1.78,2,     0.82,2,     0.35,2,     0.19,2, -999.000,9, -999.000,9,   -999.0,9,   -999.0,9,-999.0000,9,  -999.00,  -999.00,9,  -999.00,9,  27.9443,2,     1003
  49UP20100706,   P09,    81,  1,     30,    103,2,20100805,0853,  2.5057, 141.4820, 2822,    153.3,  24.0672,  24.0840,2,  34.8255,2,  34.8261,2,    167.8,2,     2.93,2,     2.59,2,     0.03,2,     0.32,2, -999.000,9, -999.000,9,   -999.0,9,   -999.0,9,-999.0000,9,  -999.00,  -999.00,9,  -999.00,9,  24.0840,2,     1002
  49UP20100706,   P09,    81,  1,     29,    102,2,20100805,0853,  2.5057, 141.4820, 2822,    202.6,  15.3388,  15.3545,2,  34.5892,2,  34.6007,4,    144.9,2,    13.01,2,    13.39,2,     0.01,2,     0.99,2, -999.000,9, -999.000,9,   -999.0,9,   -999.0,9,-999.0000,9,  -999.00,  -999.00,9,  -999.00,9,  15.3545,2,     1000
  49UP20100706,   P09,    81,  1,     28,    101,2,20100805,0853,  2.5057, 141.4820, 2822,    253.4,   9.7755,   9.7893,2,  34.5124,2,  34.5127,2,    100.7,2,    33.83,2,    27.34,2,     0.00,2,     1.95,2, -999.000,9, -999.000,9,   -999.0,9,   -999.0,9,-999.0000,9,  -999.00,  -999.00,9,  -999.00,9,   9.7893,2,      958
  49UP20100706,   P09,    81,  1,     27,    100,2,20100805,0853,  2.5057, 141.4820, 2822,    302.8,   8.8988,   8.8984,2,  34.6392,2,  34.6379,2,    127.8,2,    27.15,2,    27.35,2,     0.00,2,     1.92,2, -999.000,9, -999.000,9,   -999.0,9,   -999.0,9,-999.0000,9,  -999.00,  -999.00,9,  -999.00,9,   8.8984,2,      956
  49UP20100706,   P09,    81,  1,     26,     99,2,20100805,0853,  2.5057, 141.4820, 2822,    302.8,   8.8988,   8.8984,2,  34.6392,2,  34.6382,2,    128.0,2,    26.95,2,    27.36,2,     0.00,2,     1.91,2, -999.000,9, -999.000,9,   -999.0,9,   -999.0,9,-999.0000,9,  -999.00,  -999.00,9,  -999.00,9,   8.8984,2,      956
  49UP20100706,   P09,    81,  1,     25,     98,2,20100805,0853,  2.5057, 141.4820, 2822,    352.5,   8.8433,   8.8461,2,  34.6493,2,  34.6493,2,    139.0,2,    23.31,2,    26.55,2,     0.00,2,     1.85,2, -999.000,9, -999.000,9,   -999.0,9,   -999.0,9,-999.0000,9,  -999.00,  -999.00,9,  -999.00,9,   8.8461,2,      955
  49UP20100706,   P09,    81,  1,     24,     97,2,20100805,0853,  2.5057, 141.4820, 2822,    403.5,   8.6228,   8.6230,2,  34.6344,2,  34.6334,2,    133.1,2,    25.48,2,    27.59,2,     0.00,2,     1.92,2, -999.000,9, -999.000,9,   -999.0,9,   -999.0,9,-999.0000,9,  -999.00,  -999.00,9,  -999.00,9,   8.6230,2,      953
  49UP20100706,   P09,    81,  1,     23,     96,2,20100805,0853,  2.5057, 141.4820, 2822,    453.9,   8.1955,   8.1957,2,  34.6073,2,  34.6066,2,    118.2,2,    30.88,2,    29.81,2,     0.00,2,     2.08,2, -999.000,9, -999.000,9,   -999.0,9,   -999.0,9,-999.0000,9,  -999.00,  -999.00,9,  -999.00,9,   8.1957,2,      951
  49UP20100706,   P09,    81,  1,     22,     95,2,20100805,0853,  2.5057, 141.4820, 2822,    503.9,   8.1315,   8.1316,2,  34.6022,2,  34.6013,2,    119.6,2,    31.38,2,    29.84,2,     0.00,2,     2.08,2, -999.000,9, -999.000,9,   -999.0,9,   -999.0,9,-999.0000,9,  -999.00,  -999.00,9,  -999.00,9,   8.1316,2,      949
  49UP20100706,   P09,    81,  1,     21,     94,2,20100805,0853,  2.5057, 141.4820, 2822,    605.5,   7.5969,   7.5970,2,  34.5753,2,  34.5745,2,    125.7,2,    34.46,2,    30.29,2,     0.00,2,     2.12,2, -999.000,9, -999.000,9,   -999.0,9,   -999.0,9,-999.0000,9,  -999.00,  -999.00,9,  -999.00,9,   7.5970,2,      946
  49UP20100706,   P09,    81,  1,     20,     93,2,20100805,0853,  2.5057, 141.4820, 2822,    605.5,   7.5969,   7.5970,2,  34.5753,2,  34.5738,2,    125.7,2,    34.31,2,    30.29,2,     0.00,2,     2.12,2, -999.000,9, -999.000,9,   -999.0,9,   -999.0,9,-999.0000,9,  -999.00,  -999.00,9,  -999.00,9,   7.5970,2,      946
  49UP20100706,   P09,    81,  1,     19,     92,2,20100805,0853,  2.5057, 141.4820, 2822,    706.5,   6.8177,   6.8198,2,  34.5426,2,  34.5419,2,    112.3,2,    44.56,2,    32.84,2,     0.00,2,     2.32,2, -999.000,9, -999.000,9,   -999.0,9,   -999.0,9,-999.0000,9,  -999.00,  -999.00,9,  -999.00,9,   6.8198,2,      944
  49UP20100706,   P09,    81,  1,     18,     91,2,20100805,0853,  2.5057, 141.4820, 2822,    706.5,   6.8177,   6.8198,2,  34.5426,2,  34.5422,2,    112.3,2,    44.38,2,    32.80,2,     0.00,2,     2.31,2, -999.000,9, -999.000,9,   -999.0,9,   -999.0,9,-999.0000,9,  -999.00,  -999.00,9,  -999.00,9,   6.8198,2,      944
  49UP20100706,   P09,    81,  1,     17,     90,2,20100805,0853,  2.5057, 141.4820, 2822,    806.9,   6.1014,   6.1016,2,  34.5356,2,  34.5345,2,     90.6,2,    58.79,2,    35.98,2,     0.00,2,     2.55,2, -999.000,9, -999.000,9,   -999.0,9,   -999.0,9,-999.0000,9,  -999.00,  -999.00,9,  -999.00,9,   6.1016,2,      941
  49UP20100706,   P09,    81,  1,     16,     89,2,20100805,0853,  2.5057, 141.4820, 2822,    907.5,   5.2767,   5.2767,2,  34.5415,2,  34.5412,2,     87.2,2,    72.25,2,    37.61,2,     0.00,2,     2.67,2, -999.000,9, -999.000,9,   -999.0,9,   -999.0,9,-999.0000,9,  -999.00,  -999.00,9,  -999.00,9,   5.2767,2,      938
  49UP20100706,   P09,    81,  1,     15,     88,2,20100805,0853,  2.5057, 141.4820, 2822,   1009.4,   4.7748,   4.7749,2,  34.5492,2,  34.5486,6,     91.9,6,    82.08,6,    37.68,6,     0.00,6,     2.68,6, -999.000,9, -999.000,9,   -999.0,9,   -999.0,9,-999.0000,9,  -999.00,  -999.00,9,  -999.00,9,   4.7749,2,      935
  49UP20100706,   P09,    81,  1,     14,     87,2,20100805,0853,  2.5057, 141.4820, 2822,   1260.9,   3.5879,   3.5873,2,  34.5803,2,  34.5808,6,     95.3,6,   107.29,6,    38.56,6,     0.00,6,     2.74,6, -999.000,9, -999.000,9,   -999.0,9,   -999.0,9,-999.0000,9,  -999.00,  -999.00,9,  -999.00,9,   3.5873,2,      930
  49UP20100706,   P09,    81,  1,     13,     86,2,20100805,0853,  2.5057, 141.4820, 2822,   1514.6,   2.9262,   2.9258,2,  34.6036,2,  34.6036,2,    102.6,2,   120.79,2,    38.53,2,     0.00,2,     2.73,2, -999.000,9, -999.000,9,   -999.0,9,   -999.0,9,-999.0000,9,  -999.00,  -999.00,9,  -999.00,9,   2.9258,2,      925
  49UP20100706,   P09,    81,  1,     12,     85,2,20100805,0853,  2.5057, 141.4820, 2822,   1514.6,   2.9262,   2.9258,2,  34.6036,2,  34.6042,6,    102.7,6,   121.08,6,    38.53,6,     0.00,6,     2.73,6, -999.000,9, -999.000,9,   -999.0,9,   -999.0,9,-999.0000,9,  -999.00,  -999.00,9,  -999.00,9,   2.9258,2,      925
  49UP20100706,   P09,    81,  1,     11,    110,2,20100805,0853,  2.5057, 141.4820, 2822,   1768.7,   2.4467,   2.4467,2,  34.6250,2,  34.6248,6,    109.9,6,   131.00,6,    38.26,6,     0.00,6,     2.70,6, -999.000,9, -999.000,9,   -999.0,9,   -999.0,9,-999.0000,9,  -999.00,  -999.00,9,  -999.00,9,   2.4467,2,      919
  49UP20100706,   P09,    81,  1,     10,     83,3,20100805,0853,  2.5057, 141.4820, 2822,   2021.6,   2.0969,   2.0968,2,  34.6420,2,  34.6413,3,    119.2,2,   137.43,2,    37.76,2,     0.00,2,     2.65,2, -999.000,9, -999.000,9,   -999.0,9,   -999.0,9,-999.0000,9,  -999.00,  -999.00,9,  -999.00,9,   2.0968,2,      913
  49UP20100706,   P09,    81,  1,      9,     82,2,20100805,0853,  2.5057, 141.4820, 2822,   2275.7,   1.8430,   1.8430,2,  34.6564,2,  34.6554,2,    126.9,2,   142.17,2,    37.42,2,     0.00,2,     2.61,2, -999.000,9, -999.000,9,   -999.0,9,   -999.0,9,-999.0000,9,  -999.00,  -999.00,9,  -999.00,9,   1.8430,2,      908
  49UP20100706,   P09,    81,  1,      8,     81,2,20100805,0853,  2.5057, 141.4820, 2822,   2530.0,   1.7583,   1.7580,2,  34.6614,2,  34.6622,2,    131.7,2,   142.79,2,    37.12,2,     0.00,2,     2.59,2, -999.000,9, -999.000,9,   -999.0,9,   -999.0,9,-999.0000,9,  -999.00,  -999.00,9,  -999.00,9,   1.7580,2,      902
  49UP20100706,   P09,    81,  1,      7,     80,2,20100805,0853,  2.5057, 141.4820, 2822,   2784.1,   1.6726,   1.6724,2,  34.6670,2,  34.6665,2,    137.3,2,   143.01,2,    36.72,2,     0.00,2,     2.56,2, -999.000,9, -999.000,9,   -999.0,9,   -999.0,9,-999.0000,9,  -999.00,  -999.00,9,  -999.00,9,   1.6724,2,      856
  49UP20100706,   P09,    81,  1,      1,     74,2,20100805,0853,  2.5057, 141.4820, 2822,   2850.7,   1.6659,   1.6656,2,  34.6676,2,  34.6677,2,    137.6,2,   143.09,2,    36.70,2,     0.00,2,     2.56,2, -999.000,9, -999.000,9,   -999.0,9,   -999.0,9,-999.0000,9,  -999.00,  -999.00,9,  -999.00,9,   1.6656,2,      853