BOTTLE,20200625PRINUNIVRMK
EXPOCODE,SECT_ID,STNNBR,CASTNO,SAMPNO,BTLNBR,BTLNBR_FLAG_W,DATE,TIME,LATITUDE,LONGITUDE,DEPTH,CTDPRS,CTDTMP,SBE35,SBE35_FLAG_W,CTDSAL,CTDSAL_FLAG_W,SALNTY,SALNTY_FLAG_W,OXYGEN,OXYGEN_FLAG_W,SILCAT,SILCAT_FLAG_W,NITRAT,NITRAT_FLAG_W,NITRIT,NITRIT_FLAG_W,PHSPHT,PHSPHT_FLAG_W,CFC-11,CFC-11_FLAG_W,CFC-12,CFC-12_FLAG_W,TCARBN,TCARBN_FLAG_W,ALKALI,ALKALI_FLAG_W,PH_TOT,PH_TOT_FLAG_W,PH_TMP,CHLORA,CHLORA_FLAG_W,PPHYTN,PPHYTN_FLAG_W,SBE35,SBE35_FLAG_W,BTL_TIME
,,,,,,,,,,,METERS,DBAR,ITS-90,,,PSS-78,,PSS-78,,UMOL/KG,,UMOL/KG,,UMOL/KG,,UMOL/KG,,UMOL/KG,,PMOL/KG,,PMOL/KG,,UMOL/KG,,UMOL/KG,,,,DEG C,UG/KG,,UG/KG,,,,
  49UP20100706,   P09,    67,  1,      0,     -9,0,20100723,1252,  7.0007, 136.9822, 4242,      0.0,  30.2716,-999.0000,9,  33.8603,2,-999.0000,9,    196.4,3,     1.22,2,     0.00,2,     0.00,2,     0.02,2, -999.000,9, -999.000,9,   -999.0,9,   -999.0,9,-999.0000,9,  -999.00,     0.06,2,     0.02,2,-999.0000,9,     1448
  49UP20100706,   P09,    67,  1,     36,    109,2,20100723,1252,  7.0007, 136.9822, 4242,     10.6,  30.3109,  30.3086,2,  33.8650,2,  33.8644,2,    197.2,3,     1.22,2,     0.00,2,     0.00,2,     0.01,2, -999.000,9, -999.000,9,   1893.0,2,   2229.1,2,   8.1399,2,    25.00,     0.07,2,     0.02,2,  30.3086,2,     1453
  49UP20100706,   P09,    67,  1,     35,    108,2,20100723,1252,  7.0007, 136.9822, 4242,     25.6,  30.2942,  30.2922,2,  33.8690,2,  33.8676,2,    197.3,3,     1.20,2,     0.00,2,     0.00,2,     0.00,2, -999.000,9, -999.000,9,   1891.1,2,   2234.4,2,   8.1391,2,    25.00,     0.06,2,     0.02,2,  30.2922,2,     1452
  49UP20100706,   P09,    67,  1,     34,    107,2,20100723,1252,  7.0007, 136.9822, 4242,     49.8,  30.2320,  30.2263,2,  33.9031,2,  33.8945,4,    197.9,3,     1.18,2,     0.00,2,     0.00,2,     0.01,2, -999.000,9, -999.000,9,   1893.6,2,   2232.2,2,   8.1436,2,    25.00,     0.08,2,     0.03,2,  30.2263,2,     1448
  49UP20100706,   P09,    67,  1,     33,    106,2,20100723,1252,  7.0007, 136.9822, 4242,     76.2,  29.9781,  29.9756,2,  34.3154,2,  34.3186,2,    201.0,3,     1.22,2,     0.00,2,     0.00,2,     0.02,2, -999.000,9, -999.000,9,   1921.3,2,   2256.0,2,   8.1220,2,    25.00,     0.11,2,     0.05,2,  29.9756,2,     1447
  49UP20100706,   P09,    67,  1,     32,    105,2,20100723,1252,  7.0007, 136.9822, 4242,    100.1,  27.9593,  27.9547,2,  34.5989,2,  34.6017,2,    186.1,3,     1.75,2,     0.24,2,     0.26,2,     0.16,2, -999.000,9, -999.000,9,   1969.4,2,   2278.6,2,   8.0668,2,    25.00,     0.28,2,     0.40,2,  27.9547,2,     1446
  49UP20100706,   P09,    67,  1,     31,    104,2,20100723,1252,  7.0007, 136.9822, 4242,    126.4,  24.7154,  24.7393,2,  34.7892,2,  34.7932,2,    175.1,3,     2.43,2,     2.07,2,     0.06,2,     0.27,2, -999.000,9, -999.000,9,   2011.9,2,   2288.1,2,   8.0094,2,    25.00,     0.15,2,     0.18,2,  24.7393,2,     1445
  49UP20100706,   P09,    67,  1,     30,    103,2,20100723,1252,  7.0007, 136.9822, 4242,    150.8,  20.3657,  20.3661,2,  34.7895,2,  34.7912,2,    152.2,3,     6.17,2,     7.22,2,     0.02,2,     0.61,2, -999.000,9, -999.000,9,   2065.3,2,   2292.8,2,   7.9070,2,    25.00,     0.03,2,     0.08,2,  20.3661,2,     1443
  49UP20100706,   P09,    67,  1,     29,    102,2,20100723,1252,  7.0007, 136.9822, 4242,    201.7,  13.9125,  13.9106,2,  34.5654,2,  34.5659,2,    110.9,3,    19.20,2,    19.54,2,     0.00,2,     1.46,2, -999.000,9, -999.000,9,   2151.0,6,   2283.7,6,   7.7009,6,    25.00,  -999.00,9,  -999.00,9,  13.9106,2,     1441
  49UP20100706,   P09,    67,  1,     28,    101,2,20100723,1252,  7.0007, 136.9822, 4242,    201.7,  13.9125,  13.9106,2,  34.5654,2,  34.5662,2,    110.5,3,    19.03,2,    19.46,2,     0.00,2,     1.43,2, -999.000,9, -999.000,9,   2149.7,2,   2282.4,2,   7.7017,2,    25.00,     0.01,2,     0.03,2,  13.9106,2,     1441
  49UP20100706,   P09,    67,  1,     27,    100,4,20100723,1252,  7.0007, 136.9822, 4242,    252.7,  10.2867,  10.2931,2,  34.5473,2,  34.6863,4,    160.1,4,   140.30,4,    35.41,4,     0.00,4,     2.46,4, -999.000,9, -999.000,9,   2315.8,4,   2367.0,4,   7.5885,4,    25.00,  -999.00,9,  -999.00,9,  10.2931,2,     1439
  49UP20100706,   P09,    67,  1,     26,     99,2,20100723,1252,  7.0007, 136.9822, 4242,    303.3,   9.2667,   9.2677,2,  34.5572,2,  34.5563,2,     64.4,3,    37.24,2,    32.03,2,     0.00,2,     2.28,2, -999.000,9, -999.000,9,   2235.1,2,   2301.2,2,   7.5246,2,    25.00,  -999.00,9,  -999.00,9,   9.2677,2,     1437
  49UP20100706,   P09,    67,  1,     25,     98,2,20100723,1252,  7.0007, 136.9822, 4242,    352.6,   8.6903,   8.6909,2,  34.5557,2,  34.5552,2,     69.8,3,    40.08,2,    32.66,2,     0.00,2,     2.32,2, -999.000,9, -999.000,9,   2237.4,2,   2302.7,2,   7.5119,2,    25.00,  -999.00,9,  -999.00,9,   8.6909,2,     1435
  49UP20100706,   P09,    67,  1,     24,     97,2,20100723,1252,  7.0007, 136.9822, 4242,    402.5,   8.2438,   8.2436,2,  34.5419,2,  34.5410,2,     78.0,3,    42.41,2,    32.78,2,     0.00,2,     2.33,2, -999.000,9, -999.000,9,   2239.5,2,   2293.4,2,   7.5257,2,    25.00,  -999.00,9,  -999.00,9,   8.2436,2,     1433
  49UP20100706,   P09,    67,  1,     23,     96,2,20100723,1252,  7.0007, 136.9822, 4242,    453.2,   7.7720,   7.7708,2,  34.5354,2,  34.5363,2,     83.2,3,    45.32,2,    33.42,2,     0.00,2,     2.37,2, -999.000,9, -999.000,9,   2232.7,2,   2312.8,3,   7.5216,2,    25.00,  -999.00,9,  -999.00,9,   7.7708,2,     1431
  49UP20100706,   P09,    67,  1,     22,     95,2,20100723,1252,  7.0007, 136.9822, 4242,    504.4,   7.4153,   7.4154,2,  34.5345,2,  34.5343,2,     82.3,3,    48.26,2,    34.01,2,     0.00,2,     2.43,2, -999.000,9, -999.000,9,   2247.6,2,   2293.8,2,   7.5148,2,    25.00,  -999.00,9,  -999.00,9,   7.4154,2,     1429
  49UP20100706,   P09,    67,  1,     21,     94,2,20100723,1252,  7.0007, 136.9822, 4242,    604.5,   6.7571,   6.7567,2,  34.5247,2,  34.5243,2,     87.0,3,    54.49,2,    34.95,2,     0.00,2,     2.49,2, -999.000,9, -999.000,9,   2257.0,2,   2319.3,2,   7.5107,2,    25.00,  -999.00,9,  -999.00,9,   6.7567,2,     1426
  49UP20100706,   P09,    67,  1,     20,     93,2,20100723,1252,  7.0007, 136.9822, 4242,    704.8,   5.9906,   5.9904,2,  34.5234,2,  34.5230,2,     93.8,3,    63.99,2,    35.67,2,     0.00,2,     2.55,2, -999.000,9, -999.000,9,   2262.6,6,   2331.2,6,   7.5129,6,    25.00,  -999.00,9,  -999.00,9,   5.9904,2,     1423
  49UP20100706,   P09,    67,  1,     19,     92,2,20100723,1252,  7.0007, 136.9822, 4242,    704.8,   5.9906,   5.9904,2,  34.5234,2,  34.5230,2,     95.0,3,    63.48,2,    35.51,2,     0.00,2,     2.54,2, -999.000,9, -999.000,9,   2265.5,2,   2315.6,4,   7.5164,2,    25.00,  -999.00,9,  -999.00,9,   5.9904,2,     1423
  49UP20100706,   P09,    67,  1,     18,     91,2,20100723,1252,  7.0007, 136.9822, 4242,    806.7,   5.4515,   5.4537,2,  34.5338,2,  34.5331,6,     85.9,3,    73.61,6,    37.23,6,     0.00,6,     2.66,6, -999.000,9, -999.000,9,   2282.6,2,   2342.1,2,   7.4947,2,    25.00,  -999.00,9,  -999.00,9,   5.4537,2,     1420
  49UP20100706,   P09,    67,  1,     17,     90,2,20100723,1252,  7.0007, 136.9822, 4242,    907.8,   4.8934,   4.8920,2,  34.5437,2,  34.5438,6,     86.0,3,    84.09,6,    37.86,6,     0.00,6,     2.71,6, -999.000,9, -999.000,9,   2294.2,2,   2350.8,2,   7.4903,2,    25.00,  -999.00,9,  -999.00,9,   4.8920,2,     1417
  49UP20100706,   P09,    67,  1,     16,     89,2,20100723,1252,  7.0007, 136.9822, 4242,   1009.4,   4.4697,   4.4695,2,  34.5522,2,  34.5516,6,     85.8,3,    92.32,6,    38.33,6,     0.00,6,     2.74,6, -999.000,9, -999.000,9,   2307.4,2,   2358.3,2,   7.4892,2,    25.00,  -999.00,9,  -999.00,9,   4.4695,2,     1414
  49UP20100706,   P09,    67,  1,     15,     88,2,20100723,1252,  7.0007, 136.9822, 4242,   1262.4,   3.5256,   3.5274,2,  34.5793,2,  34.5794,6,     92.6,3,   111.58,6,    38.79,6,     0.00,6,     2.77,6, -999.000,9, -999.000,9,   2319.1,2,   2379.4,2,   7.4939,2,    25.00,  -999.00,9,  -999.00,9,   3.5274,2,     1408
  49UP20100706,   P09,    67,  1,     14,     87,2,20100723,1252,  7.0007, 136.9822, 4242,   1515.5,   3.0171,   3.0170,2,  34.5982,2,  34.5986,2,     98.8,3,   121.68,2,    38.78,2,     0.00,2,     2.75,2, -999.000,9, -999.000,9,   2328.8,2,   2391.5,2,   7.4966,2,    25.00,  -999.00,9,  -999.00,9,   3.0170,2,     1401
  49UP20100706,   P09,    67,  1,     13,     86,2,20100723,1252,  7.0007, 136.9822, 4242,   1768.4,   2.5669,   2.5668,2,  34.6168,2,  34.6169,2,    106.3,3,   130.95,2,    38.62,2,     0.00,2,     2.73,2, -999.000,9, -999.000,9,   2335.7,2,   2400.7,2,   7.5079,2,    25.00,  -999.00,9,  -999.00,9,   2.5668,2,     1355
  49UP20100706,   P09,    67,  1,     12,     85,2,20100723,1252,  7.0007, 136.9822, 4242,   2022.5,   2.1725,   2.1733,2,  34.6355,2,  34.6362,2,    116.4,3,   137.81,2,    38.09,2,     0.00,2,     2.68,2, -999.000,9, -999.000,9,   2336.2,2,   2407.4,2,   7.5221,2,    25.00,  -999.00,9,  -999.00,9,   2.1733,2,     1349
  49UP20100706,   P09,    67,  1,     11,    110,2,20100723,1252,  7.0007, 136.9822, 4242,   2276.0,   1.9454,   1.9460,2,  34.6496,2,  34.6495,2,    124.6,3,   140.84,2,    37.70,2,     0.00,2,     2.65,2, -999.000,9, -999.000,9,   2338.0,6,   2417.3,2,   7.5333,6,    25.00,  -999.00,9,  -999.00,9,   1.9460,2,     1343
  49UP20100706,   P09,    67,  1,     10,     83,2,20100723,1252,  7.0007, 136.9822, 4242,   2276.0,   1.9454,   1.9460,2,  34.6496,2,  34.6496,2,    124.7,3,   140.84,2,    37.71,2,     0.00,2,     2.64,2, -999.000,9, -999.000,9,   2338.0,2,   2414.8,2,   7.5360,2,    25.00,  -999.00,9,  -999.00,9,   1.9460,2,     1343
  49UP20100706,   P09,    67,  1,      9,     82,2,20100723,1252,  7.0007, 136.9822, 4242,   2529.4,   1.7433,   1.7433,2,  34.6602,2,  34.6602,2,    133.8,3,   143.37,2,    37.19,2,     0.00,2,     2.60,2, -999.000,9, -999.000,9,   2335.4,2,   2399.2,3,   7.5482,2,    25.00,  -999.00,9,  -999.00,9,   1.7433,2,     1337
  49UP20100706,   P09,    67,  1,      8,     81,2,20100723,1252,  7.0007, 136.9822, 4242,   2783.8,   1.6513,   1.6512,2,  34.6671,2,  34.6674,2,    142.6,3,   143.73,2,    36.88,2,     0.00,2,     2.57,2, -999.000,9, -999.000,9,   2333.3,2,   2420.1,2,   7.5547,2,    25.00,  -999.00,9,  -999.00,9,   1.6512,2,     1330
  49UP20100706,   P09,    67,  1,      7,     80,2,20100723,1252,  7.0007, 136.9822, 4242,   3039.1,   1.5918,   1.5920,2,  34.6720,2,  34.6728,2,    144.0,3,   143.43,2,    36.49,2,     0.00,2,     2.55,2, -999.000,9, -999.000,9,   2331.2,2,   2418.8,2,   7.5636,2,    25.00,  -999.00,9,  -999.00,9,   1.5920,2,     1324
  49UP20100706,   P09,    67,  1,      6,     79,2,20100723,1252,  7.0007, 136.9822, 4242,   3293.8,   1.5557,   1.5557,2,  34.6761,2,  34.6760,2,    148.8,3,   142.88,2,    36.28,2,     0.00,2,     2.52,2, -999.000,9, -999.000,9,   2331.2,2,   2428.7,3,   7.5673,2,    25.00,  -999.00,9,  -999.00,9,   1.5557,2,     1318
  49UP20100706,   P09,    67,  1,      5,     78,2,20100723,1252,  7.0007, 136.9822, 4242,   3551.1,   1.5433,   1.5433,2,  34.6789,2,  34.6791,2,    151.2,3,   142.30,2,    35.99,2,     0.00,2,     2.51,2, -999.000,9, -999.000,9,   2329.7,6,   2413.4,6,   7.5739,6,    25.00,  -999.00,9,  -999.00,9,   1.5433,2,     1311
  49UP20100706,   P09,    67,  1,      4,     77,2,20100723,1252,  7.0007, 136.9822, 4242,   3551.1,   1.5433,   1.5433,2,  34.6789,2,  34.6792,2,    151.1,3,   142.26,2,    35.99,2,     0.00,2,     2.51,2, -999.000,9, -999.000,9,   2335.6,3,   2410.7,2,   7.5785,2,    25.00,  -999.00,9,  -999.00,9,   1.5433,2,     1311
  49UP20100706,   P09,    67,  1,      3,     76,2,20100723,1252,  7.0007, 136.9822, 4242,   3806.2,   1.5220,   1.5219,2,  34.6821,2,  34.6823,2,    159.5,3,   141.96,2,    35.89,2,     0.00,2,     2.50,2, -999.000,9, -999.000,9,   2327.8,2,   2414.8,2,   7.5777,2,    25.00,  -999.00,9,  -999.00,9,   1.5219,2,     1304
  49UP20100706,   P09,    67,  1,      2,     75,2,20100723,1252,  7.0007, 136.9822, 4242,   4062.3,   1.4941,   1.4940,2,  34.6861,2,  34.6865,2,    159.7,3,   140.43,2,    35.51,2,     0.00,2,     2.47,2, -999.000,9, -999.000,9,   2325.2,2,   2409.2,2,   7.5834,2,    25.00,  -999.00,9,  -999.00,9,   1.4940,2,     1258
  49UP20100706,   P09,    67,  1,      1,     74,2,20100723,1252,  7.0007, 136.9822, 4242,   4298.9,   1.4702,   1.4701,2,  34.6894,2,  34.6898,2,    165.2,3,   138.99,2,    35.17,2,     0.00,2,     2.45,2, -999.000,9, -999.000,9,   2319.7,2,   2407.3,2,   7.5856,2,    25.00,  -999.00,9,  -999.00,9,   1.4701,2,     1252