BOTTLE,20200625PRINUNIVRMK
EXPOCODE,SECT_ID,STNNBR,CASTNO,SAMPNO,BTLNBR,BTLNBR_FLAG_W,DATE,TIME,LATITUDE,LONGITUDE,DEPTH,CTDPRS,CTDTMP,SBE35,SBE35_FLAG_W,CTDSAL,CTDSAL_FLAG_W,SALNTY,SALNTY_FLAG_W,OXYGEN,OXYGEN_FLAG_W,SILCAT,SILCAT_FLAG_W,NITRAT,NITRAT_FLAG_W,NITRIT,NITRIT_FLAG_W,PHSPHT,PHSPHT_FLAG_W,CFC-11,CFC-11_FLAG_W,CFC-12,CFC-12_FLAG_W,TCARBN,TCARBN_FLAG_W,ALKALI,ALKALI_FLAG_W,PH_TOT,PH_TOT_FLAG_W,PH_TMP,CHLORA,CHLORA_FLAG_W,PPHYTN,PPHYTN_FLAG_W,SBE35,SBE35_FLAG_W,BTL_TIME
,,,,,,,,,,,METERS,DBAR,ITS-90,,,PSS-78,,PSS-78,,UMOL/KG,,UMOL/KG,,UMOL/KG,,UMOL/KG,,UMOL/KG,,PMOL/KG,,PMOL/KG,,UMOL/KG,,UMOL/KG,,,,DEG C,UG/KG,,UG/KG,,,,
  49UP20100706,   P09,   108,  1,      0,     -9,0,20100811,0829,  2.1950, 140.9945, 3445,      0.0,  29.8843,-999.0000,9,  34.3303,2,-999.0000,9,    194.2,2,     1.03,2,     0.00,2,     0.00,2,     0.09,2, -999.000,9, -999.000,9,   -999.0,9,   -999.0,9,-999.0000,9,  -999.00,     0.05,2,     0.02,2,-999.0000,9,     1003
  49UP20100706,   P09,   108,  1,     36,    109,2,20100811,0829,  2.1950, 140.9945, 3445,     10.4,  29.8897,  29.8885,2,  34.3306,2,  34.3300,2,    193.9,2,     1.00,2,     0.00,2,     0.00,2,     0.08,2, -999.000,9, -999.000,9,   1912.4,2,   2255.2,2,   8.1390,2,    25.00,     0.06,2,     0.02,2,  29.8885,2,     1017
  49UP20100706,   P09,   108,  1,     35,    108,2,20100811,0829,  2.1950, 140.9945, 3445,     25.6,  29.8694,  29.8688,2,  34.4787,2,  34.5070,4,    194.1,2,     1.05,2,     0.00,2,     0.00,2,     0.08,2, -999.000,9, -999.000,9,   1931.1,2,   2268.5,2,   8.1329,2,    25.00,     0.09,2,     0.04,2,  29.8688,2,     1015
  49UP20100706,   P09,   108,  1,     34,    107,2,20100811,0829,  2.1950, 140.9945, 3445,     49.0,  29.7977,  29.7936,2,  34.7503,2,  34.7485,2,    192.1,2,     1.06,2,    -0.01,2,     0.01,2,     0.12,2, -999.000,9, -999.000,9,   1937.5,2,   2284.5,2,   8.1281,2,    25.00,     0.23,2,     0.15,2,  29.7936,2,     1012
  49UP20100706,   P09,   108,  1,     33,    106,2,20100811,0829,  2.1950, 140.9945, 3445,     76.2,  29.6173,  29.6170,2,  34.8132,2,  34.8082,2,    190.4,2,     1.16,2,     0.05,2,     0.03,2,     0.14,2, -999.000,9, -999.000,9,   1951.9,2,   2289.0,2,   8.1210,2,    25.00,     0.35,2,     0.20,2,  29.6170,2,     1011
  49UP20100706,   P09,   108,  1,     32,    105,2,20100811,0829,  2.1950, 140.9945, 3445,    101.7,  29.5998,  29.6028,2,  34.9803,2,  34.9756,2,    188.6,2,     1.03,2,     0.07,2,     0.05,2,     0.17,2, -999.000,9, -999.000,9,   1959.1,2,   2298.3,2,   8.1229,2,    25.00,     0.32,2,     0.20,2,  29.6028,2,     1010
  49UP20100706,   P09,   108,  1,     31,    104,2,20100811,0829,  2.1950, 140.9945, 3445,    127.4,  29.2757,  29.2747,2,  34.9710,2,  34.9743,2,    186.4,2,     1.34,2,     0.27,2,     0.14,2,     0.19,2, -999.000,9, -999.000,9,   1966.1,6,   2298.0,6,   8.1108,6,    25.00,  -999.00,9,  -999.00,9,  29.2747,2,     1008
  49UP20100706,   P09,   108,  1,     30,    103,2,20100811,0829,  2.1950, 140.9945, 3445,    127.4,  29.2757,  29.2747,2,  34.9710,2,  34.9727,2,    185.9,2,     1.19,2,     0.24,2,     0.14,2,     0.18,2, -999.000,9, -999.000,9,   1961.9,2,   2300.0,2,   8.1116,2,    25.00,     0.24,2,     0.16,2,  29.2747,2,     1008
  49UP20100706,   P09,   108,  1,     29,    102,2,20100811,0829,  2.1950, 140.9945, 3445,    153.2,  24.4379,  24.4317,2,  34.8860,2,  34.8138,4,    156.3,2,     3.68,2,     4.51,2,     0.08,2,     0.41,2, -999.000,9, -999.000,9,   2010.9,2,   2286.6,2,   7.9999,2,    25.00,     0.08,2,     0.19,2,  24.4317,2,     1005
  49UP20100706,   P09,   108,  1,     28,    101,2,20100811,0829,  2.1950, 140.9945, 3445,    203.4,  13.3476,  13.3472,2,  34.5213,2,  34.5348,4,    126.4,2,    18.95,2,    18.15,2,     0.01,2,     1.32,2, -999.000,9, -999.000,9,   2137.2,2,   2281.8,2,   7.7334,2,    25.00,     0.00,2,     0.03,2,  13.3472,2,     1003
  49UP20100706,   P09,   108,  1,     27,    100,2,20100811,0829,  2.1950, 140.9945, 3445,    252.7,   9.3969,   9.4058,2,  34.4246,2,  34.4209,4,    103.3,2,    36.50,2,    27.35,2,     0.00,2,     1.96,2, -999.000,9, -999.000,9,   2198.4,2,   2292.5,2,   7.5924,3,    25.00,  -999.00,9,  -999.00,9,   9.4058,2,     1001
  49UP20100706,   P09,   108,  1,     26,     99,2,20100811,0829,  2.1950, 140.9945, 3445,    283.9,   8.8566,   8.8571,2,  34.5916,2,  34.5856,2,    114.9,2,    35.20,2,    28.42,2,     0.00,2,     2.01,2, -999.000,9, -999.000,9,   2202.1,2,   2301.9,2,   7.6116,2,    25.00,  -999.00,9,  -999.00,9,   8.8571,2,      945
  49UP20100706,   P09,   108,  1,     25,     98,2,20100811,0829,  2.1950, 140.9945, 3445,    332.9,   8.6581,   8.6580,2,  34.5984,2,  34.5972,2,    115.6,2,    35.42,2,    28.90,2,     0.00,2,     2.04,2, -999.000,9, -999.000,9,   2207.9,2,   2307.1,2,   7.6067,2,    25.00,  -999.00,9,  -999.00,9,   8.6580,2,      943
  49UP20100706,   P09,   108,  1,     24,     97,2,20100811,0829,  2.1950, 140.9945, 3445,    383.1,   8.5107,   8.5111,2,  34.6210,2,  34.6195,2,    122.9,2,    29.58,2,    28.83,2,     0.00,2,     2.02,2, -999.000,9, -999.000,9,   2206.6,2,   2299.0,2,   7.6126,2,    25.00,  -999.00,9,  -999.00,9,   8.5111,2,      942
  49UP20100706,   P09,   108,  1,     23,     96,2,20100811,0829,  2.1950, 140.9945, 3445,    431.2,   8.3201,   8.3199,2,  34.6156,2,  34.6145,2,    121.4,2,    29.69,2,    29.36,2,     0.00,2,     2.05,2, -999.000,9, -999.000,9,   2203.2,2,   2304.0,2,   7.6054,2,    25.00,  -999.00,9,  -999.00,9,   8.3199,2,      940
  49UP20100706,   P09,   108,  1,     22,     95,2,20100811,0829,  2.1950, 140.9945, 3445,    484.0,   8.1086,   8.1093,2,  34.6053,2,  34.6043,2,    119.9,2,    30.78,2,    29.99,2,     0.00,2,     2.09,2, -999.000,9, -999.000,9,   2212.7,2,   2299.1,6,   7.5967,6,    25.00,  -999.00,9,  -999.00,9,   8.1093,2,      937
  49UP20100706,   P09,   108,  1,     21,     94,2,20100811,0829,  2.1950, 140.9945, 3445,    484.0,   8.1086,   8.1093,2,  34.6053,2,  34.6043,2,    119.9,2,    30.74,2,    30.05,2,     0.00,2,     2.10,2, -999.000,9, -999.000,9,   2211.9,2,   2305.0,3,   7.5970,2,    25.00,  -999.00,9,  -999.00,9,   8.1093,2,      937
  49UP20100706,   P09,   108,  1,     20,     93,3,20100811,0829,  2.1950, 140.9945, 3445,    574.9,   7.3939,   7.3939,2,  34.5666,2,  34.5710,3,    131.9,2,    34.28,2,    29.77,2,     0.00,2,     2.09,2, -999.000,9, -999.000,9,   2207.6,2,   2306.3,2,   7.6120,2,    25.00,  -999.00,9,  -999.00,9,   7.3939,2,      934
  49UP20100706,   P09,   108,  1,     19,     92,2,20100811,0829,  2.1950, 140.9945, 3445,    675.5,   6.5684,   6.5683,2,  34.5374,2,  34.5368,2,    123.2,2,    42.27,2,    32.73,2,     0.00,2,     2.30,2, -999.000,9, -999.000,9,   2224.5,2,   2314.7,2,   7.5684,2,    25.00,  -999.00,9,  -999.00,9,   6.5683,2,      931
  49UP20100706,   P09,   108,  1,     18,     91,2,20100811,0829,  2.1950, 140.9945, 3445,    777.1,   5.7887,   5.7905,2,  34.5378,2,  34.5359,2,     88.5,2,    63.15,2,    36.89,2,     0.00,2,     2.62,2, -999.000,9, -999.000,9,   2268.8,2,   2328.8,2,   7.5043,2,    25.00,  -999.00,9,  -999.00,9,   5.7905,2,      928
  49UP20100706,   P09,   108,  1,     17,     90,2,20100811,0829,  2.1950, 140.9945, 3445,    879.0,   5.0912,   5.0939,2,  34.5437,2,  34.5426,2,     90.4,2,    75.97,2,    37.70,2,     0.00,2,     2.67,2, -999.000,9, -999.000,9,   2283.0,2,   2344.2,2,   7.5023,2,    25.00,  -999.00,9,  -999.00,9,   5.0939,2,      925
  49UP20100706,   P09,   108,  1,     16,     89,2,20100811,0829,  2.1950, 140.9945, 3445,    980.1,   4.6201,   4.6200,2,  34.5538,2,  34.5536,2,     94.2,2,    85.68,2,    37.81,2,     0.00,2,     2.69,2, -999.000,9, -999.000,9,   2294.1,2,   2356.6,2,   7.5096,2,    25.00,  -999.00,9,  -999.00,9,   4.6200,2,      922
  49UP20100706,   P09,   108,  1,     15,     88,2,20100811,0829,  2.1950, 140.9945, 3445,   1180.0,   3.8747,   3.8745,2,  34.5723,2,  34.5715,2,     94.9,2,   101.50,2,    38.52,2,     0.00,2,     2.74,2, -999.000,9, -999.000,9,   2309.9,2,   2368.1,2,   7.4990,2,    25.00,  -999.00,9,  -999.00,9,   3.8745,2,      917
  49UP20100706,   P09,   108,  1,     14,     87,2,20100811,0829,  2.1950, 140.9945, 3445,   1432.0,   3.1909,   3.1905,2,  34.5938,2,  34.5942,2,    100.6,2,   116.06,2,    38.61,2,     0.00,2,     2.74,2, -999.000,9, -999.000,9,   2322.9,6,   2383.2,6,   7.5051,6,    25.00,  -999.00,9,  -999.00,9,   3.1905,2,      912
  49UP20100706,   P09,   108,  1,     13,     86,2,20100811,0829,  2.1950, 140.9945, 3445,   1432.0,   3.1909,   3.1905,2,  34.5938,2,  34.5936,2,    100.5,2,   115.89,2,    38.68,2,     0.00,2,     2.75,2, -999.000,9, -999.000,9,   2319.8,2,   2386.0,2,   7.5064,2,    25.00,  -999.00,9,  -999.00,9,   3.1905,2,      912
  49UP20100706,   P09,   108,  1,     12,     85,2,20100811,0829,  2.1950, 140.9945, 3445,   1696.9,   2.5680,   2.5681,2,  34.6195,2,  34.6195,2,    107.1,2,   129.52,2,    38.68,2,     0.00,2,     2.73,2, -999.000,9, -999.000,9,   2333.6,2,   2400.0,2,   7.5142,2,    25.00,  -999.00,9,  -999.00,9,   2.5681,2,      907
  49UP20100706,   P09,   108,  1,     11,    110,2,20100811,0829,  2.1950, 140.9945, 3445,   1939.2,   2.2213,   2.2211,2,  34.6361,2,  34.6356,2,    115.4,2,   136.09,2,    38.22,2,     0.00,2,     2.69,2, -999.000,9, -999.000,9,   2337.2,2,   2402.7,2,   7.5278,2,    25.00,  -999.00,9,  -999.00,9,   2.2211,2,      902
  49UP20100706,   P09,   108,  1,     10,     83,2,20100811,0829,  2.1950, 140.9945, 3445,   2193.0,   2.0060,   2.0061,2,  34.6475,2,  34.6469,2,    123.0,2,   139.02,2,    37.76,2,     0.00,2,     2.65,2, -999.000,9, -999.000,9,   2326.4,3,   2406.1,2,   7.5389,2,    25.00,  -999.00,9,  -999.00,9,   2.0061,2,      857
  49UP20100706,   P09,   108,  1,      9,     82,2,20100811,0829,  2.1950, 140.9945, 3445,   2444.7,   1.7912,   1.7909,2,  34.6598,2,  34.6595,2,    130.0,2,   142.85,2,    37.44,2,     0.00,2,     2.61,2, -999.000,9, -999.000,9,   2343.0,2,   2416.2,2,   7.5472,2,    25.00,  -999.00,9,  -999.00,9,   1.7909,2,      852
  49UP20100706,   P09,   108,  1,      8,     81,2,20100811,0829,  2.1950, 140.9945, 3445,   2713.3,   1.7044,   1.7043,2,  34.6651,2,  34.6647,2,    136.0,2,   142.94,2,    37.00,2,     0.00,2,     2.58,2, -999.000,9, -999.000,9,   2334.2,6,   2414.0,6,   7.5580,6,    25.00,  -999.00,9,  -999.00,9,   1.7043,2,      847
  49UP20100706,   P09,   108,  1,      7,     80,2,20100811,0829,  2.1950, 140.9945, 3445,   2713.3,   1.7044,   1.7043,2,  34.6651,2,  34.6648,6,    136.1,6,   142.97,6,    36.99,6,     0.00,6,     2.58,6, -999.000,9, -999.000,9,   2333.4,2,   2417.4,2,   7.5572,2,    25.00,  -999.00,9,  -999.00,9,   1.7043,2,      847
  49UP20100706,   P09,   108,  1,      6,     79,2,20100811,0829,  2.1950, 140.9945, 3445,   2955.3,   1.6098,   1.6095,2,  34.6713,2,  34.6713,6,    141.9,6,   143.30,6,    36.65,6,     0.00,6,     2.55,6, -999.000,9, -999.000,9,   2327.6,3,   2418.5,2,   7.5667,2,    25.00,  -999.00,9,  -999.00,9,   1.6095,2,      841
  49UP20100706,   P09,   108,  1,      5,     78,2,20100811,0829,  2.1950, 140.9945, 3445,   3220.9,   1.5799,   1.5796,2,  34.6748,2,  34.6748,6,    144.3,6,   143.48,6,    36.48,6,     0.00,6,     2.54,6, -999.000,9, -999.000,9,   2331.3,2,   2418.2,2,   7.5725,2,    25.00,  -999.00,9,  -999.00,9,   1.5796,2,      836
  49UP20100706,   P09,   108,  1,      1,     74,2,20100811,0829,  2.1950, 140.9945, 3445,   3474.7,   1.5623,   1.5621,2,  34.6781,2,  34.6772,6,    145.4,6,   144.17,6,    36.40,6,     0.00,6,     2.53,6, -999.000,9, -999.000,9,   2331.8,2,   2418.7,2,   7.5761,2,    25.00,  -999.00,9,  -999.00,9,   1.5621,2,      830