BOTTLE,20200625PRINUNIVRMK
EXPOCODE,SECT_ID,STNNBR,CASTNO,SAMPNO,BTLNBR,BTLNBR_FLAG_W,DATE,TIME,LATITUDE,LONGITUDE,DEPTH,CTDPRS,CTDTMP,SBE35,SBE35_FLAG_W,CTDSAL,CTDSAL_FLAG_W,SALNTY,SALNTY_FLAG_W,OXYGEN,OXYGEN_FLAG_W,SILCAT,SILCAT_FLAG_W,NITRAT,NITRAT_FLAG_W,NITRIT,NITRIT_FLAG_W,PHSPHT,PHSPHT_FLAG_W,CFC-11,CFC-11_FLAG_W,CFC-12,CFC-12_FLAG_W,TCARBN,TCARBN_FLAG_W,ALKALI,ALKALI_FLAG_W,PH_TOT,PH_TOT_FLAG_W,PH_TMP,CHLORA,CHLORA_FLAG_W,PPHYTN,PPHYTN_FLAG_W,SBE35,SBE35_FLAG_W,BTL_TIME
,,,,,,,,,,,METERS,DBAR,ITS-90,,,PSS-78,,PSS-78,,UMOL/KG,,UMOL/KG,,UMOL/KG,,UMOL/KG,,UMOL/KG,,PMOL/KG,,PMOL/KG,,UMOL/KG,,UMOL/KG,,,,DEG C,UG/KG,,UG/KG,,,,
  49UP20100706,   P09,   118,  1,      0,     -9,0,20100814,0748,  4.0218, 136.9745, 4716,      0.0,  30.3078,-999.0000,9,  33.7770,2,-999.0000,9,    193.7,2,     1.08,2,     0.00,2,     0.00,2,     0.02,2, -999.000,9, -999.000,9,   -999.0,9,   -999.0,9,-999.0000,9,  -999.00,     0.05,2,     0.01,2,-999.0000,9,      937
  49UP20100706,   P09,   118,  1,     36,    109,2,20100814,0748,  4.0218, 136.9745, 4716,      9.4,  30.1162,  30.1096,2,  33.7710,2,  33.7713,2,    194.1,2,     1.03,2,     0.00,2,     0.00,2,     0.01,2,    1.484,2,    0.885,2,   1882.1,2,   2221.6,2,   8.1442,2,    25.00,     0.04,2,     0.01,2,  30.1096,2,      946
  49UP20100706,   P09,   118,  1,     35,    108,2,20100814,0748,  4.0218, 136.9745, 4716,     25.1,  29.9604,  29.9564,2,  33.7934,2,  33.7910,2,    194.9,2,     1.05,2,     0.00,2,     0.00,2,     0.00,2,    1.503,2,    0.888,2,   1886.2,2,   2222.8,2,   8.1478,2,    25.00,     0.05,2,     0.01,2,  29.9564,2,      945
  49UP20100706,   P09,   118,  1,     34,    107,2,20100814,0748,  4.0218, 136.9745, 4716,     51.6,  30.0169,  30.0154,2,  33.8806,2,  33.8804,2,    194.4,2,     0.93,2,     0.00,2,     0.00,2,     0.01,2,    1.480,2,    0.885,2,   1888.3,2,   2227.9,2,   8.1417,2,    25.00,     0.05,2,     0.02,2,  30.0154,2,      943
  49UP20100706,   P09,   118,  1,     33,    106,2,20100814,0748,  4.0218, 136.9745, 4716,     74.8,  29.7525,  29.7480,2,  34.3742,2,  34.3745,2,    198.5,2,     1.35,2,     0.00,2,     0.00,2,     0.03,2,    1.578,2,    0.956,2,   1933.3,2,   2258.0,2,   8.1113,2,    25.00,     0.12,2,     0.03,2,  29.7480,2,      941
  49UP20100706,   P09,   118,  1,     32,    105,2,20100814,0748,  4.0218, 136.9745, 4716,    101.6,  28.8279,  28.8267,2,  34.5840,2,  34.5996,4,    191.5,2,     1.12,2,     0.00,2,     0.00,2,     0.07,2,    1.589,2,    0.955,2,   1951.5,2,   2275.4,2,   8.0954,2,    25.00,     0.24,2,     0.15,2,  28.8267,2,      940
  49UP20100706,   P09,   118,  1,     31,    104,2,20100814,0748,  4.0218, 136.9745, 4716,    126.9,  26.0609,  26.0602,2,  34.7304,2,  34.7313,2,    172.4,2,     2.34,2,     1.51,2,     0.30,2,     0.22,2,    1.719,2,    1.053,2,   1994.5,2,   2284.8,2,   8.0350,2,    25.00,     0.16,2,     0.28,2,  26.0602,2,      939
  49UP20100706,   P09,   118,  1,     30,    103,2,20100814,0748,  4.0218, 136.9745, 4716,    151.9,  24.1439,  24.1411,2,  34.8153,2,  34.8200,2,    163.4,2,     3.22,2,     3.41,2,     0.06,2,     0.35,2,    1.878,2,    1.111,2,   2022.0,2,   2288.3,2,   7.9902,2,    25.00,     0.09,2,     0.21,2,  24.1411,2,      938
  49UP20100706,   P09,   118,  1,     29,    102,2,20100814,0748,  4.0218, 136.9745, 4716,    200.6,  14.1041,  14.1003,2,  34.5450,2,  34.5485,2,    132.5,2,    17.32,2,    17.09,2,     0.00,2,     1.25,2,    2.065,2,    1.165,2,   2132.0,2,   2282.5,2,   7.7416,2,    25.00,     0.02,2,     0.02,2,  14.1003,2,      936
  49UP20100706,   P09,   118,  1,     28,    101,2,20100814,0748,  4.0218, 136.9745, 4716,    251.5,  10.2843,  10.2895,2,  34.5693,2,  34.5701,2,     61.8,2,    32.80,2,    30.70,2,     0.00,2,     2.19,2,    0.835,2,    0.420,2,   2225.1,2,   2296.2,2,   7.5312,2,    25.00,  -999.00,9,  -999.00,9,  10.2895,2,      935
  49UP20100706,   P09,   118,  1,     27,    100,2,20100814,0748,  4.0218, 136.9745, 4716,    301.9,   9.1877,   9.1874,2,  34.5912,2,  34.5952,2,     57.9,2,    37.04,2,    33.34,2,     0.00,2,     2.35,2,    0.469,6,    0.236,6,   2241.2,2,   2303.7,2,   7.5119,2,    25.00,  -999.00,9,  -999.00,9,   9.1874,2,      933
  49UP20100706,   P09,   118,  1,     26,     99,2,20100814,0748,  4.0218, 136.9745, 4716,    352.7,   8.4939,   8.4925,2,  34.5870,2,  34.5869,2,     67.0,2,    39.74,2,    33.81,2,     0.00,2,     2.37,2,    0.387,2,    0.203,2,   2242.6,2,   2310.0,2,   7.5111,2,    25.00,  -999.00,9,  -999.00,9,   8.4925,2,      931
  49UP20100706,   P09,   118,  1,     25,     98,2,20100814,0748,  4.0218, 136.9745, 4716,    402.7,   8.0128,   8.0111,2,  34.5734,2,  34.5722,2,     79.2,2,    41.68,2,    33.63,2,     0.00,2,     2.36,2,    0.364,2,    0.186,2,   2238.7,2,   2310.9,2,   7.5269,2,    25.00,  -999.00,9,  -999.00,9,   8.0111,2,      930
  49UP20100706,   P09,   118,  1,     24,     97,2,20100814,0748,  4.0218, 136.9745, 4716,    452.7,   7.5800,   7.5786,2,  34.5585,2,  34.5576,2,     86.8,2,    44.22,2,    33.79,2,     0.00,2,     2.38,2,    0.349,2,    0.177,2,   2245.7,2,   2315.0,2,   7.5283,2,    25.00,  -999.00,9,  -999.00,9,   7.5786,2,      927
  49UP20100706,   P09,   118,  1,     23,     96,2,20100814,0748,  4.0218, 136.9745, 4716,    503.2,   7.1979,   7.1976,2,  34.5464,2,  34.5457,2,     94.7,2,    46.44,2,    33.79,2,     0.00,2,     2.38,2,    0.327,2,    0.185,2,   2251.0,2,   2315.9,2,   7.5316,2,    25.00,  -999.00,9,  -999.00,9,   7.1976,2,      925
  49UP20100706,   P09,   118,  1,     22,     95,2,20100814,0748,  4.0218, 136.9745, 4716,    604.2,   6.6054,   6.6050,2,  34.5377,2,  34.5381,2,     98.0,2,    51.41,2,    34.74,2,     0.00,2,     2.45,2,    0.243,6,    0.117,6,   2249.7,2,   2321.7,2,   7.5303,2,    25.00,  -999.00,9,  -999.00,9,   6.6050,2,      922
  49UP20100706,   P09,   118,  1,     21,     94,2,20100814,0748,  4.0218, 136.9745, 4716,    705.4,   5.9958,   5.9957,2,  34.5330,2,  34.5324,2,     99.7,2,    59.95,2,    35.56,2,     0.00,2,     2.51,2,    0.173,2,    0.087,2,   2262.1,2,   2329.4,2,   7.5268,2,    25.00,  -999.00,9,  -999.00,9,   5.9957,2,      920
  49UP20100706,   P09,   118,  1,     20,     93,2,20100814,0748,  4.0218, 136.9745, 4716,    805.7,   5.4003,   5.4000,2,  34.5371,2,  34.5369,6,     95.6,6,    71.58,6,    36.77,6,     0.00,6,     2.61,6,    0.113,2,    0.044,2,   2275.0,2,   2342.6,2,   7.5098,2,    25.00,  -999.00,9,  -999.00,9,   5.4000,2,      917
  49UP20100706,   P09,   118,  1,     19,     92,2,20100814,0748,  4.0218, 136.9745, 4716,    907.9,   4.8144,   4.8142,2,  34.5494,2,  34.5486,6,     93.6,6,    82.67,6,    37.64,6,     0.00,6,     2.67,6,    0.059,2,    0.042,2,   2290.9,2,   2353.5,2,   7.5061,2,    25.00,  -999.00,9,  -999.00,9,   4.8142,2,      914
  49UP20100706,   P09,   118,  1,     18,     91,2,20100814,0748,  4.0218, 136.9745, 4716,   1007.8,   4.4424,   4.4421,2,  34.5571,2,  34.5571,6,     92.2,6,    89.96,6,    38.29,6,     0.00,6,     2.72,6,    0.005,2,    0.000,2,   2300.9,2,   2361.7,2,   7.5024,2,    25.00,  -999.00,9,  -999.00,9,   4.4421,2,      912
  49UP20100706,   P09,   118,  1,     17,     90,2,20100814,0748,  4.0218, 136.9745, 4716,   1260.7,   3.5670,   3.5670,2,  34.5807,2,  34.5814,6,     95.6,4,   108.40,6,    38.83,6,     0.00,6,     2.76,6,    0.000,2,    0.000,2,   2318.3,2,   2381.6,2,   7.4989,2,    25.00,  -999.00,9,  -999.00,9,   3.5670,2,      906
  49UP20100706,   P09,   118,  1,     16,     89,2,20100814,0748,  4.0218, 136.9745, 4716,   1513.4,   2.8876,   2.8889,2,  34.6054,2,  34.6063,2,     99.9,2,   123.64,2,    39.11,2,     0.00,2,     2.76,2,    0.000,2,    0.000,2,   2334.5,2,   2397.5,2,   7.5014,6,    25.00,  -999.00,9,  -999.00,9,   2.8889,2,      901
  49UP20100706,   P09,   118,  1,     15,     88,2,20100814,0748,  4.0218, 136.9745, 4716,   1767.1,   2.4918,   2.4910,2,  34.6230,2,  34.6228,2,    106.7,2,   132.02,2,    38.84,2,     0.00,2,     2.73,2, -999.000,9, -999.000,9,   2336.0,2,   2400.6,2,   7.5119,2,    25.00,  -999.00,9,  -999.00,9,   2.4910,2,      855
  49UP20100706,   P09,   118,  1,     14,     87,2,20100814,0748,  4.0218, 136.9745, 4716,   2022.0,   2.2071,   2.2067,2,  34.6374,2,  34.6383,2,    114.5,2,   137.38,2,    38.46,2,     0.00,2,     2.70,2, -999.000,9, -999.000,9,   2340.8,2,   2411.1,2,   7.5199,2,    25.00,  -999.00,9,  -999.00,9,   2.2067,2,      850
  49UP20100706,   P09,   118,  1,     13,     86,2,20100814,0748,  4.0218, 136.9745, 4716,   2273.9,   1.9596,   1.9592,2,  34.6505,2,  34.6510,2,    123.0,2,   141.08,2,    37.98,2,     0.00,2,     2.65,2, -999.000,9, -999.000,9,   2342.2,2,   2409.6,2,   7.5337,2,    25.00,  -999.00,9,  -999.00,9,   1.9592,2,      844
  49UP20100706,   P09,   118,  1,     12,     85,2,20100814,0748,  4.0218, 136.9745, 4716,   2529.8,   1.7770,   1.7766,2,  34.6605,2,  34.6608,2,    131.9,2,   142.86,2,    37.45,2,     0.00,2,     2.61,2, -999.000,9, -999.000,9,   2337.6,6,   2414.8,6,   7.5477,6,    25.00,  -999.00,9,  -999.00,9,   1.7766,2,      839
  49UP20100706,   P09,   118,  1,     11,    110,2,20100814,0748,  4.0218, 136.9745, 4716,   2529.8,   1.7770,   1.7766,2,  34.6605,2,  34.6605,2,    131.5,2,   142.03,2,    37.34,2,     0.00,2,     2.60,2,    0.000,2,    0.000,2,   2336.4,2,   2411.7,2,   7.5484,2,    25.00,  -999.00,9,  -999.00,9,   1.7766,2,      839
  49UP20100706,   P09,   118,  1,     10,     83,2,20100814,0748,  4.0218, 136.9745, 4716,   2784.1,   1.6330,   1.6335,2,  34.6694,2,  34.6701,2,    139.8,2,   142.98,2,    36.87,2,     0.00,2,     2.56,2, -999.000,9, -999.000,9,   2334.0,2,   2414.2,2,   7.5613,2,    25.00,  -999.00,9,  -999.00,9,   1.6335,2,      833
  49UP20100706,   P09,   118,  1,      9,     82,2,20100814,0748,  4.0218, 136.9745, 4716,   3038.7,   1.5785,   1.5786,2,  34.6738,2,  34.6730,2,    143.9,2,   143.00,2,    36.58,2,     0.00,2,     2.53,2, -999.000,9, -999.000,9,   2330.7,2,   2418.2,2,   7.5667,2,    25.00,  -999.00,9,  -999.00,9,   1.5786,2,      827
  49UP20100706,   P09,   118,  1,      8,     81,2,20100814,0748,  4.0218, 136.9745, 4716,   3295.4,   1.5466,   1.5466,2,  34.6775,2,  34.6775,2,    147.3,2,   142.67,2,    36.29,2,     0.00,2,     2.51,2, -999.000,9, -999.000,9,   2335.4,3,   2414.6,2,   7.5717,2,    25.00,  -999.00,9,  -999.00,9,   1.5466,2,      821
  49UP20100706,   P09,   118,  1,      7,     80,2,20100814,0748,  4.0218, 136.9745, 4716,   3549.0,   1.5450,   1.5451,2,  34.6796,2,  34.6793,2,    149.1,2,   142.61,2,    36.21,2,     0.00,2,     2.50,2,    0.000,2,    0.000,2,   2329.9,2,   2417.4,2,   7.5744,2,    25.00,  -999.00,9,  -999.00,9,   1.5451,2,      816
  49UP20100706,   P09,   118,  1,      6,     79,2,20100814,0748,  4.0218, 136.9745, 4716,   3804.0,   1.5292,   1.5295,2,  34.6829,2,  34.6840,4,    152.5,2,   142.38,2,    36.07,2,     0.00,2,     2.49,2, -999.000,9, -999.000,9,   2329.7,2,   2419.3,2,   7.5779,2,    25.00,  -999.00,9,  -999.00,9,   1.5295,2,      810
  49UP20100706,   P09,   118,  1,      5,     78,2,20100814,0748,  4.0218, 136.9745, 4716,   4060.4,   1.5107,   1.5107,2,  34.6864,2,  34.6875,4,    155.3,2,   142.27,2,    35.98,2,     0.00,2,     2.48,2, -999.000,9, -999.000,9,   2326.7,6,   2420.5,6,   7.5857,6,    25.00,  -999.00,9,  -999.00,9,   1.5107,2,      805
  49UP20100706,   P09,   118,  1,      4,     77,2,20100814,0748,  4.0218, 136.9745, 4716,   4060.4,   1.5107,   1.5107,2,  34.6864,2,  34.6871,2,    155.1,2,   142.07,2,    35.89,2,     0.00,2,     2.48,2, -999.000,9, -999.000,9,   2324.9,2,   2417.7,2,   7.5848,2,    25.00,  -999.00,9,  -999.00,9,   1.5107,2,      805
  49UP20100706,   P09,   118,  1,      3,     76,2,20100814,0748,  4.0218, 136.9745, 4716,   4317.1,   1.5016,   1.5016,2,  34.6889,2,  34.6893,2,    159.0,2,   140.76,2,    35.64,2,     0.00,2,     2.46,2, -999.000,9, -999.000,9,   2322.3,2,   2413.4,2,   7.5884,2,    25.00,  -999.00,9,  -999.00,9,   1.5016,2,      759
  49UP20100706,   P09,   118,  1,      2,     75,2,20100814,0748,  4.0218, 136.9745, 4716,   4573.2,   1.5251,   1.5250,2,  34.6891,2,  34.6890,2,    160.1,2,   140.23,2,    35.54,2,     0.00,2,     2.45,2, -999.000,9, -999.000,9,   2321.4,2,   2414.3,2,   7.5872,2,    25.00,  -999.00,9,  -999.00,9,   1.5250,2,      753
  49UP20100706,   P09,   118,  1,      1,     74,2,20100814,0748,  4.0218, 136.9745, 4716,   4772.2,   1.5491,   1.5490,2,  34.6890,2,  34.6891,2,    160.2,2,   140.39,2,    35.59,2,     0.00,2,     2.46,2,    0.006,4,    0.000,2,   2324.4,2,   2411.5,2,   7.5901,2,    25.00,  -999.00,9,  -999.00,9,   1.5490,2,      749