BOTTLE,20200625PRINUNIVRMK
EXPOCODE,SECT_ID,STNNBR,CASTNO,SAMPNO,BTLNBR,BTLNBR_FLAG_W,DATE,TIME,LATITUDE,LONGITUDE,DEPTH,CTDPRS,CTDTMP,SBE35,SBE35_FLAG_W,CTDSAL,CTDSAL_FLAG_W,SALNTY,SALNTY_FLAG_W,OXYGEN,OXYGEN_FLAG_W,SILCAT,SILCAT_FLAG_W,NITRAT,NITRAT_FLAG_W,NITRIT,NITRIT_FLAG_W,PHSPHT,PHSPHT_FLAG_W,CFC-11,CFC-11_FLAG_W,CFC-12,CFC-12_FLAG_W,TCARBN,TCARBN_FLAG_W,ALKALI,ALKALI_FLAG_W,PH_TOT,PH_TOT_FLAG_W,PH_TMP,CHLORA,CHLORA_FLAG_W,PPHYTN,PPHYTN_FLAG_W,SBE35,SBE35_FLAG_W,BTL_TIME
,,,,,,,,,,,METERS,DBAR,ITS-90,,,PSS-78,,PSS-78,,UMOL/KG,,UMOL/KG,,UMOL/KG,,UMOL/KG,,UMOL/KG,,PMOL/KG,,PMOL/KG,,UMOL/KG,,UMOL/KG,,,,DEG C,UG/KG,,UG/KG,,,,
  49UP20100706,   P09,    36,  1,      0,     -9,0,20100715,1132, 20.9972, 136.9702, 4788,      0.0,  29.9572,-999.0000,9,  34.6411,2,-999.0000,9,    194.9,2,     1.06,2,     0.01,2,     0.00,2,     0.01,2, -999.000,9, -999.000,9,   -999.0,9,   -999.0,9,-999.0000,9,  -999.00,     0.04,2,     0.01,2,-999.0000,9,     1345
  49UP20100706,   P09,    36,  1,     36,    109,2,20100715,1132, 20.9972, 136.9702, 4788,     10.0,  29.9709,  29.9713,2,  34.6414,2,  34.6409,2,    194.5,2,     0.99,2,     0.00,2,     0.00,2,     0.01,2, -999.000,9, -999.000,9,   1933.0,2,   2273.6,2,   8.1297,2,    25.00,     0.04,2,     0.00,2,  29.9713,2,     1358
  49UP20100706,   P09,    36,  1,     35,    108,2,20100715,1132, 20.9972, 136.9702, 4788,     26.1,  29.8267,  29.8250,2,  34.6707,2,  34.6652,2,    197.2,6,     1.27,6,     0.01,6,     0.00,6,     0.01,6, -999.000,9, -999.000,9,   1937.0,2,   2279.7,2,   8.1203,2,    25.00,     0.04,2,     0.01,2,  29.8250,2,     1356
  49UP20100706,   P09,    36,  1,     34,    107,2,20100715,1132, 20.9972, 136.9702, 4788,     50.3,  26.3298,  26.3327,2,  34.9252,2,  34.9276,6,    212.5,6,     1.17,6,     0.02,6,     0.00,6,     0.01,6, -999.000,9, -999.000,9,   1956.2,2,   2297.0,2,   8.1169,2,    25.00,     0.07,2,     0.01,2,  26.3327,2,     1352
  49UP20100706,   P09,    36,  1,     33,    106,2,20100715,1132, 20.9972, 136.9702, 4788,     76.6,  25.0207,  25.0177,2,  34.8979,2,  34.8967,6,    210.0,6,     1.22,6,     0.00,6,     0.00,6,     0.01,6, -999.000,9, -999.000,9,   1962.4,2,   2290.8,2,   8.0990,2,    25.00,     0.09,2,     0.01,2,  25.0177,2,     1350
  49UP20100706,   P09,    36,  1,     32,    105,2,20100715,1132, 20.9972, 136.9702, 4788,    101.4,  24.1102,  24.1098,2,  34.9320,2,  34.9324,6,    216.2,6,     1.37,6,     0.00,6,     0.00,6,     0.00,6, -999.000,9, -999.000,9,   1965.6,2,   2293.0,2,   8.0983,2,    25.00,     0.11,2,     0.03,2,  24.1098,2,     1348
  49UP20100706,   P09,    36,  1,     31,    104,2,20100715,1132, 20.9972, 136.9702, 4788,    125.1,  23.0268,  23.0257,2,  34.8793,2,  34.8795,2,    212.3,2,     1.61,2,     0.00,2,     0.00,2,     0.01,2, -999.000,9, -999.000,9,   1977.5,2,   2293.7,2,   8.0698,2,    25.00,     0.15,2,     0.06,2,  23.0257,2,     1346
  49UP20100706,   P09,    36,  1,     30,    103,2,20100715,1132, 20.9972, 136.9702, 4788,    150.0,  22.2290,  22.2360,2,  34.8471,2,  34.8480,2,    207.4,2,     1.58,2,     0.00,2,     0.01,2,     0.02,2, -999.000,9, -999.000,9,   1987.4,2,   2291.2,2,   8.0533,2,    25.00,     0.18,2,     0.24,2,  22.2360,2,     1345
  49UP20100706,   P09,    36,  1,     29,    102,2,20100715,1132, 20.9972, 136.9702, 4788,    201.8,  18.8296,  18.8294,2,  34.7593,2,  34.7594,2,    195.4,2,     3.15,2,     3.41,2,     0.01,2,     0.22,3, -999.000,9, -999.000,9,   2026.3,2,   2282.5,2,   7.9775,2,    25.00,     0.03,2,     0.03,2,  18.8294,2,     1343
  49UP20100706,   P09,    36,  1,     28,    101,2,20100715,1132, 20.9972, 136.9702, 4788,    252.8,  17.5255,  17.5262,2,  34.7453,2,  34.7456,2,    193.6,2,     4.35,2,     5.35,2,     0.01,2,     0.35,3, -999.000,9, -999.000,9,   2042.3,2,   2287.2,2,   7.9384,2,    25.00,  -999.00,9,  -999.00,9,  17.5262,2,     1341
  49UP20100706,   P09,    36,  1,     27,    100,2,20100715,1132, 20.9972, 136.9702, 4788,    303.7,  16.2790,  16.2757,2,  34.6601,2,  34.6601,2,    189.0,2,     6.45,2,     7.47,2,     0.00,2,     0.51,3, -999.000,9, -999.000,9,   2058.9,2,   2279.3,2,   7.9022,2,    25.00,  -999.00,9,  -999.00,9,  16.2757,2,     1339
  49UP20100706,   P09,    36,  1,     26,     99,2,20100715,1132, 20.9972, 136.9702, 4788,    403.8,  13.4633,  13.4609,2,  34.4482,2,  34.4521,2,    185.9,2,    12.44,2,    12.10,2,     0.00,2,     0.83,3, -999.000,9, -999.000,9,   2090.1,2,   2275.9,2,   7.8279,2,    25.00,  -999.00,9,  -999.00,9,  13.4609,2,     1335
  49UP20100706,   P09,    36,  1,     25,     98,2,20100715,1132, 20.9972, 136.9702, 4788,    504.8,  10.5708,  10.5723,2,  34.2558,2,  34.2602,2,    168.6,2,    24.21,2,    18.75,2,     0.00,2,     1.31,3, -999.000,9, -999.000,9,   2133.9,2,   2275.5,2,   7.7134,2,    25.00,  -999.00,9,  -999.00,9,  10.5723,2,     1332
  49UP20100706,   P09,    36,  1,     24,     97,2,20100715,1132, 20.9972, 136.9702, 4788,    605.1,   7.5493,   7.5489,2,  34.1404,2,  34.1405,2,    131.4,2,    51.08,2,    27.79,2,     0.00,2,     1.97,3, -999.000,9, -999.000,9,   2202.8,2,   2290.1,2,   7.5837,2,    25.00,  -999.00,9,  -999.00,9,   7.5489,2,     1328
  49UP20100706,   P09,    36,  1,     23,     96,2,20100715,1132, 20.9972, 136.9702, 4788,    705.9,   5.7268,   5.7263,2,  34.1723,2,  34.1709,2,     86.3,2,    75.33,2,    35.05,2,     0.00,2,     2.49,3, -999.000,9, -999.000,9,   2266.0,2,   2313.1,2,   7.4651,2,    25.00,  -999.00,9,  -999.00,9,   5.7263,2,     1324
  49UP20100706,   P09,    36,  1,     22,     95,2,20100715,1132, 20.9972, 136.9702, 4788,    808.3,   4.8368,   4.8371,2,  34.2654,2,  34.2655,2,     63.7,2,    92.83,2,    38.46,2,     0.00,2,     2.73,2, -999.000,9, -999.000,9,   2305.0,6,   2332.6,6,   7.4150,6,    25.00,  -999.00,9,  -999.00,9,   4.8371,2,     1320
  49UP20100706,   P09,    36,  1,     21,     94,2,20100715,1132, 20.9972, 136.9702, 4788,    808.3,   4.8368,   4.8371,2,  34.2654,2,  34.2650,2,     63.4,2,    93.56,2,    38.60,2,     0.00,2,     2.73,3, -999.000,9, -999.000,9,   2306.9,2,   2336.2,2,   7.4130,2,    25.00,  -999.00,9,  -999.00,9,   4.8371,2,     1320
  49UP20100706,   P09,    36,  1,     20,     93,2,20100715,1132, 20.9972, 136.9702, 4788,    908.1,   4.2621,   4.2622,2,  34.3534,2,  34.3510,4,     57.2,2,   105.87,2,    40.05,2,     0.00,2,     2.83,3, -999.000,9, -999.000,9,   2323.9,2,   2354.7,2,   7.4062,2,    25.00,  -999.00,9,  -999.00,9,   4.2622,2,     1317
  49UP20100706,   P09,    36,  1,     19,     92,2,20100715,1132, 20.9972, 136.9702, 4788,   1011.5,   3.7098,   3.7109,2,  34.4173,2,  34.4156,2,     59.1,2,   117.87,2,    40.64,2,     0.00,2,     2.86,3, -999.000,9, -999.000,9,   2335.6,2,   2368.7,2,   7.4140,2,    25.00,  -999.00,9,  -999.00,9,   3.7109,2,     1313
  49UP20100706,   P09,    36,  1,     18,     91,2,20100715,1132, 20.9972, 136.9702, 4788,   1215.4,   3.0759,   3.0789,2,  34.5149,2,  34.5126,4,     76.5,2,   131.42,2,    40.00,2,     0.00,2,     2.81,2, -999.000,9, -999.000,9,   2340.4,2,   2384.9,2,   7.4496,2,    25.00,  -999.00,9,  -999.00,9,   3.0789,2,     1306
  49UP20100706,   P09,    36,  1,     17,     90,2,20100715,1132, 20.9972, 136.9702, 4788,   1415.8,   2.7205,   2.7210,2,  34.5574,2,  34.5575,2,     90.8,2,   134.86,2,    39.28,2,     0.00,2,     2.76,2, -999.000,9, -999.000,9,   2343.3,2,   2400.5,2,   7.4764,2,    25.00,  -999.00,9,  -999.00,9,   2.7210,2,     1300
  49UP20100706,   P09,    36,  1,     16,     89,2,20100715,1132, 20.9972, 136.9702, 4788,   1619.8,   2.4362,   2.4366,2,  34.5922,2,  34.5929,2,    103.4,3,   137.15,2,    38.75,2,     0.00,2,     2.71,2, -999.000,9, -999.000,9,   2340.3,2,   2401.1,2,   7.4979,2,    25.00,  -999.00,9,  -999.00,9,   2.4366,2,     1253
  49UP20100706,   P09,    36,  1,     15,     88,2,20100715,1132, 20.9972, 136.9702, 4788,   1822.9,   2.2225,   2.2231,2,  34.6110,2,  34.6117,2,    109.3,2,   139.79,2,    38.55,2,     0.00,2,     2.69,2, -999.000,9, -999.000,9,   2342.6,2,   2410.3,2,   7.5091,2,    25.00,  -999.00,9,  -999.00,9,   2.2231,2,     1246
  49UP20100706,   P09,    36,  1,     14,     87,2,20100715,1132, 20.9972, 136.9702, 4788,   2023.6,   2.0552,   2.0554,2,  34.6240,2,  34.6238,2,    114.9,2,   141.60,2,    38.26,2,     0.00,2,     2.66,2, -999.000,9, -999.000,9,   2340.7,2,   2411.8,2,   7.5191,2,    25.00,  -999.00,9,  -999.00,9,   2.0554,2,     1240
  49UP20100706,   P09,    36,  1,     13,     86,2,20100715,1132, 20.9972, 136.9702, 4788,   2279.0,   1.8622,   1.8624,2,  34.6393,2,  34.6392,2,    123.9,2,   142.60,2,    37.81,2,     0.00,2,     2.62,2, -999.000,9, -999.000,9,   2338.5,2,   2412.5,2,   7.5293,2,    25.00,  -999.00,9,  -999.00,9,   1.8624,2,     1234
  49UP20100706,   P09,    36,  1,     12,     85,2,20100715,1132, 20.9972, 136.9702, 4788,   2531.6,   1.7537,   1.7538,2,  34.6490,2,  34.6489,2,    130.2,2,   143.43,2,    37.47,2,     0.00,2,     2.59,2, -999.000,9, -999.000,9,   2329.5,3,   2413.6,2,   7.5432,2,    25.00,  -999.00,9,  -999.00,9,   1.7538,2,     1227
  49UP20100706,   P09,    36,  1,     11,    110,2,20100715,1132, 20.9972, 136.9702, 4788,   2786.7,   1.6766,   1.6767,2,  34.6582,2,  34.6582,2,    136.0,2,   143.08,2,    37.11,2,     0.00,2,     2.57,2, -999.000,9, -999.000,9,   2332.6,2,   2412.2,2,   7.5524,2,    25.00,  -999.00,9,  -999.00,9,   1.6767,2,     1221
  49UP20100706,   P09,    36,  1,     10,     83,2,20100715,1132, 20.9972, 136.9702, 4788,   3042.8,   1.6368,   1.6371,2,  34.6639,2,  34.6632,2,    140.3,2,   142.65,2,    36.83,2,     0.00,2,     2.54,2, -999.000,9, -999.000,9,   2331.3,2,   2417.8,2,   7.5573,2,    25.00,  -999.00,9,  -999.00,9,   1.6371,2,     1213
  49UP20100706,   P09,    36,  1,      9,     82,2,20100715,1132, 20.9972, 136.9702, 4788,   3295.8,   1.5992,   1.5994,2,  34.6697,2,  34.6693,2,    144.3,2,   142.52,2,    36.62,2,     0.00,2,     2.53,2, -999.000,9, -999.000,9,   2329.5,2,   2414.8,2,   7.5630,2,    25.00,  -999.00,9,  -999.00,9,   1.5994,2,     1207
  49UP20100706,   P09,    36,  1,      8,     81,3,20100715,1132, 20.9972, 136.9702, 4788,   3550.9,   1.5558,   1.5561,2,  34.6758,2,  34.6757,3,    149.7,2,   141.61,2,    36.25,2,     0.00,2,     2.49,2, -999.000,9, -999.000,9,   2324.2,2,   2416.2,2,   7.5734,2,    25.00,  -999.00,9,  -999.00,9,   1.5561,2,     1201
  49UP20100706,   P09,    36,  1,      7,     80,2,20100715,1132, 20.9972, 136.9702, 4788,   3807.4,   1.5340,   1.5340,2,  34.6801,2,  34.6799,2,    153.1,2,   141.11,2,    36.04,2,     0.00,2,     2.47,2, -999.000,9, -999.000,9,   2322.0,2,   2411.5,2,   7.5752,2,    25.00,  -999.00,9,  -999.00,9,   1.5340,2,     1155
  49UP20100706,   P09,    36,  1,      6,     79,2,20100715,1132, 20.9972, 136.9702, 4788,   4061.2,   1.5212,   1.5212,2,  34.6835,2,  34.6832,2,    156.6,2,   140.35,2,    35.87,2,     0.00,2,     2.46,2, -999.000,9, -999.000,9,   2322.3,2,   2412.8,2,   7.5790,2,    25.00,  -999.00,9,  -999.00,9,   1.5212,2,     1150
  49UP20100706,   P09,    36,  1,      5,     78,2,20100715,1132, 20.9972, 136.9702, 4788,   4320.5,   1.5259,   1.5262,2,  34.6855,2,  34.6855,2,    158.1,2,   139.95,2,    35.76,2,     0.00,2,     2.45,2, -999.000,9, -999.000,9,   2320.4,2,   2410.7,2,   7.5781,2,    25.00,  -999.00,9,  -999.00,9,   1.5262,2,     1144
  49UP20100706,   P09,    36,  1,      4,     77,2,20100715,1132, 20.9972, 136.9702, 4788,   4575.2,   1.5520,   1.5520,2,  34.6857,2,  34.6855,2,    158.6,2,   139.33,2,    35.65,2,     0.00,2,     2.44,2, -999.000,9, -999.000,9,   2320.0,6,   2412.8,6,   7.5822,6,    25.00,  -999.00,9,  -999.00,9,   1.5520,2,     1139
  49UP20100706,   P09,    36,  1,      3,     76,2,20100715,1132, 20.9972, 136.9702, 4788,   4575.2,   1.5520,   1.5520,2,  34.6857,2,  34.6862,2,    158.5,2,   139.75,2,    35.68,2,     0.00,2,     2.45,2, -999.000,9, -999.000,9,   2320.8,2,   2414.0,2,   7.5819,2,    25.00,  -999.00,9,  -999.00,9,   1.5520,2,     1139
  49UP20100706,   P09,    36,  1,      2,     75,2,20100715,1132, 20.9972, 136.9702, 4788,   4830.9,   1.5820,   1.5819,2,  34.6856,2,  34.6857,2,    158.6,2,   139.61,2,    35.65,2,     0.00,2,     2.45,2, -999.000,9, -999.000,9,   2320.4,2,   2409.4,2,   7.5807,2,    25.00,  -999.00,9,  -999.00,9,   1.5819,2,     1134
  49UP20100706,   P09,    36,  1,      1,     74,2,20100715,1132, 20.9972, 136.9702, 4788,   4875.3,   1.5877,   1.5876,2,  34.6855,2,  34.6867,4,    158.6,2,   140.15,2,    35.68,2,     0.00,2,     2.44,2, -999.000,9, -999.000,9,   2321.7,2,   2416.7,2,   7.5788,2,    25.00,  -999.00,9,  -999.00,9,   1.5876,2,     1133