BOTTLE,20200625PRINUNIVRMK
EXPOCODE,SECT_ID,STNNBR,CASTNO,SAMPNO,BTLNBR,BTLNBR_FLAG_W,DATE,TIME,LATITUDE,LONGITUDE,DEPTH,CTDPRS,CTDTMP,SBE35,SBE35_FLAG_W,CTDSAL,CTDSAL_FLAG_W,SALNTY,SALNTY_FLAG_W,OXYGEN,OXYGEN_FLAG_W,SILCAT,SILCAT_FLAG_W,NITRAT,NITRAT_FLAG_W,NITRIT,NITRIT_FLAG_W,PHSPHT,PHSPHT_FLAG_W,CFC-11,CFC-11_FLAG_W,CFC-12,CFC-12_FLAG_W,TCARBN,TCARBN_FLAG_W,ALKALI,ALKALI_FLAG_W,PH_TOT,PH_TOT_FLAG_W,PH_TMP,CHLORA,CHLORA_FLAG_W,PPHYTN,PPHYTN_FLAG_W,SBE35,SBE35_FLAG_W,BTL_TIME
,,,,,,,,,,,METERS,DBAR,ITS-90,,,PSS-78,,PSS-78,,UMOL/KG,,UMOL/KG,,UMOL/KG,,UMOL/KG,,UMOL/KG,,PMOL/KG,,PMOL/KG,,UMOL/KG,,UMOL/KG,,,,DEG C,UG/KG,,UG/KG,,,,
  49UP20100706,   P09,    40,  1,      0,     -9,0,20100716,1136, 18.9957, 136.9840, 4696,      0.0,  30.1116,-999.0000,9,  34.7016,2,-999.0000,9,    193.9,2,     1.05,2,     0.01,2,     0.00,2,     0.01,2, -999.000,9, -999.000,9,   -999.0,9,   -999.0,9,-999.0000,9,  -999.00,     0.09,2,     0.01,2,-999.0000,9,     1338
  49UP20100706,   P09,    40,  1,     36,    109,2,20100716,1136, 18.9957, 136.9840, 4696,     10.9,  30.1263,  30.1169,2,  34.7016,2,  34.7006,2,    196.2,2,     0.97,2,     0.00,2,     0.00,2,     0.01,2, -999.000,9, -999.000,9,   1937.6,2,   2291.8,4,   8.1382,2,    25.00,     0.09,2,     0.01,2,  30.1169,2,     1347
  49UP20100706,   P09,    40,  1,     35,    108,2,20100716,1136, 18.9957, 136.9840, 4696,     26.5,  30.1113,  30.1104,2,  34.7002,2,  34.7000,2,    195.8,2,     0.98,2,     0.00,2,     0.00,2,     0.00,2, -999.000,9, -999.000,9,   1930.0,2,   2274.5,3,   8.1356,2,    25.00,     0.08,2,     0.02,2,  30.1104,2,     1346
  49UP20100706,   P09,    40,  1,     34,    107,2,20100716,1136, 18.9957, 136.9840, 4696,     50.2,  26.2578,  26.2830,2,  34.8029,2,  34.8031,2,    217.0,2,     1.14,2,     0.00,2,     0.00,2,     0.00,2, -999.000,9, -999.000,9,   1950.8,2,   2280.9,3,   8.1174,2,    25.00,     0.12,2,     0.02,2,  26.2830,2,     1343
  49UP20100706,   P09,    40,  1,     33,    106,2,20100716,1136, 18.9957, 136.9840, 4696,     77.2,  24.5304,  24.5309,2,  34.8145,2,  34.8144,2,    209.7,2,     1.23,2,     0.00,2,     0.00,2,     0.01,2, -999.000,9, -999.000,9,   1967.3,2,   2279.5,3,   8.0897,2,    25.00,     0.20,2,     0.09,2,  24.5309,2,     1341
  49UP20100706,   P09,    40,  1,     32,    105,2,20100716,1136, 18.9957, 136.9840, 4696,    101.1,  23.2341,  23.2323,2,  34.8378,2,  34.8400,2,    197.7,2,     1.49,2,     0.00,2,     0.01,2,     0.03,2, -999.000,9, -999.000,9,   1985.6,2,   2283.2,3,   8.0576,2,    25.00,     0.21,2,     0.33,2,  23.2323,2,     1339
  49UP20100706,   P09,    40,  1,     31,    104,2,20100716,1136, 18.9957, 136.9840, 4696,    125.1,  21.5562,  21.5524,2,  34.7782,2,  34.7754,2,    212.3,2,     1.65,2,     0.10,2,     0.11,2,     0.03,2, -999.000,9, -999.000,9,   1984.3,2,   2280.4,3,   8.0528,2,    25.00,     0.15,2,     0.21,2,  21.5524,2,     1338
  49UP20100706,   P09,    40,  1,     30,    103,2,20100716,1136, 18.9957, 136.9840, 4696,    150.4,  20.4270,  20.4184,2,  34.8038,2,  34.8030,2,    196.0,2,     2.17,2,     1.55,2,     0.03,2,     0.11,2, -999.000,9, -999.000,9,   2008.6,2,   2280.6,3,   8.0072,2,    25.00,     0.03,2,     0.04,2,  20.4184,2,     1336
  49UP20100706,   P09,    40,  1,     29,    102,2,20100716,1136, 18.9957, 136.9840, 4696,    202.4,  18.8501,  18.8489,2,  34.7851,2,  34.7828,2,    193.6,2,     3.00,2,     3.32,2,     0.01,2,     0.22,2, -999.000,9, -999.000,9,   2027.5,2,   2277.6,3,   7.9781,2,    25.00,     0.00,2,     0.01,2,  18.8489,2,     1335
  49UP20100706,   P09,    40,  1,     28,    101,2,20100716,1136, 18.9957, 136.9840, 4696,    252.4,  17.5079,  17.5069,2,  34.7431,2,  34.7429,6,    192.0,6,     4.92,6,     5.76,6,     0.01,6,     0.38,6, -999.000,9, -999.000,9,   2041.6,2,   2276.7,3,   7.9471,2,    25.00,  -999.00,9,  -999.00,9,  17.5069,2,     1332
  49UP20100706,   P09,    40,  1,     27,    100,2,20100716,1136, 18.9957, 136.9840, 4696,    322.8,  15.7302,  15.7335,2,  34.6370,2,  34.6373,6,    188.6,6,     8.45,6,     8.69,6,     0.01,6,     0.59,6, -999.000,9, -999.000,9,   2062.4,2,   2278.0,3,   7.8983,2,    25.00,  -999.00,9,  -999.00,9,  15.7335,2,     1330
  49UP20100706,   P09,    40,  1,     26,     99,2,20100716,1136, 18.9957, 136.9840, 4696,    374.2,  13.9589,  13.9610,2,  34.4841,2,  34.4860,6,    183.8,6,    11.52,6,    11.42,6,     0.01,6,     0.80,6, -999.000,9, -999.000,9,   2083.2,2,   2298.5,3,   7.8431,2,    25.00,  -999.00,9,  -999.00,9,  13.9610,2,     1328
  49UP20100706,   P09,    40,  1,     25,     98,2,20100716,1136, 18.9957, 136.9840, 4696,    431.3,  12.0133,  12.0069,2,  34.3510,2,  34.3498,6,    180.3,6,    18.26,6,    15.18,6,     0.01,6,     1.07,6, -999.000,9, -999.000,9,   2110.1,2,   2300.6,3,   7.7800,2,    25.00,  -999.00,9,  -999.00,9,  12.0069,2,     1326
  49UP20100706,   P09,    40,  1,     24,     97,2,20100716,1136, 18.9957, 136.9840, 4696,    474.2,  10.8530,  10.8499,2,  34.2809,2,  34.2813,2,    172.8,2,    24.18,2,    17.88,2,     0.01,2,     1.26,2, -999.000,9, -999.000,9,   2129.2,2,   2302.7,3,   7.7356,2,    25.00,  -999.00,9,  -999.00,9,  10.8499,2,     1324
  49UP20100706,   P09,    40,  1,     23,     96,2,20100716,1136, 18.9957, 136.9840, 4696,    534.5,   8.6225,   8.6219,2,  34.1659,2,  34.1663,2,    144.7,2,    39.25,2,    24.43,2,     0.00,2,     1.75,2, -999.000,9, -999.000,9,   2175.9,2,   2309.7,3,   7.6256,2,    25.00,  -999.00,9,  -999.00,9,   8.6219,2,     1322
  49UP20100706,   P09,    40,  1,     22,     95,2,20100716,1136, 18.9957, 136.9840, 4696,    635.4,   6.4625,   6.4613,2,  34.1491,2,  34.1495,2,     94.4,2,    63.50,2,    32.81,2,     0.00,2,     2.37,2, -999.000,9, -999.000,9,   2249.4,2,   2323.9,3,   7.4933,2,    25.00,  -999.00,9,  -999.00,9,   6.4613,2,     1318
  49UP20100706,   P09,    40,  1,     21,     94,2,20100716,1136, 18.9957, 136.9840, 4696,    735.8,   5.3537,   5.3525,2,  34.2327,2,  34.2330,2,     64.5,2,    83.04,2,    37.51,2,     0.00,2,     2.71,2, -999.000,9, -999.000,9,   2292.0,2,   2349.8,3,   7.4259,2,    25.00,  -999.00,9,  -999.00,9,   5.3525,2,     1316
  49UP20100706,   P09,    40,  1,     20,     93,2,20100716,1136, 18.9957, 136.9840, 4696,    835.9,   4.6288,   4.6278,2,  34.3573,2,  34.3585,2,     56.7,2,    98.11,2,    39.45,2,     0.00,2,     2.84,2, -999.000,9, -999.000,9,   2313.7,6,   2346.4,6,   7.4144,6,    25.00,  -999.00,9,  -999.00,9,   4.6278,2,     1312
  49UP20100706,   P09,    40,  1,     19,     92,2,20100716,1136, 18.9957, 136.9840, 4696,    835.9,   4.6288,   4.6278,2,  34.3573,2,  34.3586,2,     56.8,2,    98.00,2,    39.50,2,     0.00,2,     2.84,2, -999.000,9, -999.000,9,   2317.7,2,   2345.8,2,   7.4151,2,    25.00,  -999.00,9,  -999.00,9,   4.6278,2,     1312
  49UP20100706,   P09,    40,  1,     18,     91,2,20100716,1136, 18.9957, 136.9840, 4696,    937.8,   4.2268,   4.2262,2,  34.4477,2,  34.4479,2,     62.4,2,   105.53,2,    39.77,2,     0.00,2,     2.86,2, -999.000,9, -999.000,9,   2324.3,2,   2359.2,2,   7.4334,2,    25.00,  -999.00,9,  -999.00,9,   4.2262,2,     1310
  49UP20100706,   P09,    40,  1,     17,     90,2,20100716,1136, 18.9957, 136.9840, 4696,   1091.5,   3.5548,   3.5549,2,  34.5174,2,  34.5178,2,     75.3,2,   118.23,2,    39.52,2,     0.00,2,     2.82,2, -999.000,9, -999.000,9,   2333.1,2,   2377.0,2,   7.4585,2,    25.00,  -999.00,9,  -999.00,9,   3.5549,2,     1306
  49UP20100706,   P09,    40,  1,     16,     89,2,20100716,1136, 18.9957, 136.9840, 4696,   1342.4,   2.9259,   2.9262,2,  34.5569,2,  34.5569,2,     87.7,2,   129.98,2,    39.15,2,     0.00,2,     2.78,2, -999.000,9, -999.000,9,   2340.0,2,   2392.4,2,   7.4775,2,    25.00,  -999.00,9,  -999.00,9,   2.9262,2,     1300
  49UP20100706,   P09,    40,  1,     15,     88,2,20100716,1136, 18.9957, 136.9840, 4696,   1596.8,   2.5014,   2.5005,2,  34.5893,2,  34.5891,2,     99.8,2,   136.47,2,    38.67,2,     0.00,2,     2.72,2, -999.000,9, -999.000,9,   2336.8,3,   2403.0,6,   7.4976,6,    25.00,  -999.00,9,  -999.00,9,   2.5005,2,     1253
  49UP20100706,   P09,    40,  1,     14,     87,2,20100716,1136, 18.9957, 136.9840, 4696,   1596.8,   2.5014,   2.5005,2,  34.5893,2,  34.5898,2,     99.7,2,   136.54,2,    38.66,2,     0.00,2,     2.74,2, -999.000,9, -999.000,9,   2344.2,2,   2403.1,2,   7.4961,2,    25.00,  -999.00,9,  -999.00,9,   2.5005,2,     1253
  49UP20100706,   P09,    40,  1,     13,     86,2,20100716,1136, 18.9957, 136.9840, 4696,   1850.0,   2.2312,   2.2307,2,  34.6117,2,  34.6126,2,    108.0,2,   140.02,2,    38.33,2,     0.00,2,     2.70,2, -999.000,9, -999.000,9,   2336.3,3,   2406.4,2,   7.5095,2,    25.00,  -999.00,9,  -999.00,9,   2.2307,2,     1247
  49UP20100706,   P09,    40,  1,     12,     85,2,20100716,1136, 18.9957, 136.9840, 4696,   2104.3,   2.0180,   2.0177,2,  34.6286,2,  34.6306,4,    115.5,2,   142.92,2,    37.98,2,     0.00,2,     2.67,2, -999.000,9, -999.000,9,   2337.6,2,   2410.8,2,   7.5215,2,    25.00,  -999.00,9,  -999.00,9,   2.0177,2,     1241
  49UP20100706,   P09,    40,  1,     11,    110,2,20100716,1136, 18.9957, 136.9840, 4696,   2357.7,   1.8792,   1.8790,2,  34.6411,2,  34.6416,2,    122.0,2,   144.56,2,    37.68,2,     0.00,2,     2.64,2, -999.000,9, -999.000,9,   2339.1,2,   2412.9,2,   7.5315,2,    25.00,  -999.00,9,  -999.00,9,   1.8790,2,     1235
  49UP20100706,   P09,    40,  1,     10,     83,2,20100716,1136, 18.9957, 136.9840, 4696,   2613.6,   1.7797,   1.7797,2,  34.6512,2,  34.6515,2,    128.1,2,   145.07,2,    37.39,2,     0.00,2,     2.61,2, -999.000,9, -999.000,9,   2334.9,2,   2413.9,2,   7.5420,2,    25.00,  -999.00,9,  -999.00,9,   1.7797,2,     1228
  49UP20100706,   P09,    40,  1,      9,     82,2,20100716,1136, 18.9957, 136.9840, 4696,   2868.7,   1.6977,   1.6976,2,  34.6598,2,  34.6601,2,    133.8,2,   145.03,2,    37.00,2,     0.00,2,     2.58,2, -999.000,9, -999.000,9,   2333.8,2,   2417.3,2,   7.5502,2,    25.00,  -999.00,9,  -999.00,9,   1.6976,2,     1222
  49UP20100706,   P09,    40,  1,      8,     81,2,20100716,1136, 18.9957, 136.9840, 4696,   3120.3,   1.6408,   1.6409,2,  34.6665,2,  34.6670,2,    138.8,2,   144.37,2,    36.63,2,     0.00,2,     2.56,2, -999.000,9, -999.000,9,   2330.9,6,   2416.0,6,   7.5597,6,    25.00,  -999.00,9,  -999.00,9,   1.6409,2,     1216
  49UP20100706,   P09,    40,  1,      7,     80,2,20100716,1136, 18.9957, 136.9840, 4696,   3377.3,   1.5937,   1.5940,2,  34.6721,2,  34.6728,2,    144.4,2,   143.71,2,    36.31,2,     0.00,2,     2.53,2, -999.000,9, -999.000,9,   2324.0,3,   2415.3,2,   7.5688,2,    25.00,  -999.00,9,  -999.00,9,   1.5940,2,     1210
  49UP20100706,   P09,    40,  1,      6,     79,2,20100716,1136, 18.9957, 136.9840, 4696,   3633.5,   1.5597,   1.5597,2,  34.6771,2,  34.6769,2,    148.9,2,   142.94,2,    36.07,2,     0.00,2,     2.51,2, -999.000,9, -999.000,9,   2325.1,2,   2414.2,2,   7.5737,2,    25.00,  -999.00,9,  -999.00,9,   1.5597,2,     1204
  49UP20100706,   P09,    40,  1,      5,     78,2,20100716,1136, 18.9957, 136.9840, 4696,   3889.0,   1.5312,   1.5314,2,  34.6813,2,  34.6818,2,    153.3,2,   141.51,2,    35.76,2,     0.00,2,     2.48,2, -999.000,9, -999.000,9,   2324.4,2,   2414.1,2,   7.5801,2,    25.00,  -999.00,9,  -999.00,9,   1.5314,2,     1158
  49UP20100706,   P09,    40,  1,      4,     77,2,20100716,1136, 18.9957, 136.9840, 4696,   4145.2,   1.5082,   1.5082,2,  34.6850,2,  34.6867,4,    158.0,2,   140.30,2,    35.39,2,     0.00,2,     2.46,2, -999.000,9, -999.000,9,   2316.4,2,   2415.6,2,   7.5848,2,    25.00,  -999.00,9,  -999.00,9,   1.5082,2,     1152
  49UP20100706,   P09,    40,  1,      3,     76,2,20100716,1136, 18.9957, 136.9840, 4696,   4402.3,   1.5233,   1.5232,2,  34.6860,2,  34.6862,2,    159.2,2,   140.10,2,    35.35,2,     0.00,2,     2.45,2, -999.000,9, -999.000,9,   2315.5,2,   2411.8,2,   7.5863,2,    25.00,  -999.00,9,  -999.00,9,   1.5232,2,     1146
  49UP20100706,   P09,    40,  1,      2,     75,2,20100716,1136, 18.9957, 136.9840, 4696,   4659.7,   1.5477,   1.5475,2,  34.6864,2,  34.6870,2,    159.9,2,   139.87,2,    35.34,2,     0.00,2,     2.45,2, -999.000,9, -999.000,9,   2308.6,3,   2413.2,2,   7.5835,2,    25.00,  -999.00,9,  -999.00,9,   1.5475,2,     1140
  49UP20100706,   P09,    40,  1,      1,     74,2,20100716,1136, 18.9957, 136.9840, 4696,   4769.5,   1.5599,   1.5598,2,  34.6865,2,  34.6866,2,    160.2,2,   139.65,2,    35.34,2,     0.00,2,     2.45,2, -999.000,9, -999.000,9,   2317.0,2,   2412.3,2,   7.5869,2,    25.00,  -999.00,9,  -999.00,9,   1.5598,2,     1137