BOTTLE,20200625PRINUNIVRMK
EXPOCODE,SECT_ID,STNNBR,CASTNO,SAMPNO,BTLNBR,BTLNBR_FLAG_W,DATE,TIME,LATITUDE,LONGITUDE,DEPTH,CTDPRS,CTDTMP,SBE35,SBE35_FLAG_W,CTDSAL,CTDSAL_FLAG_W,SALNTY,SALNTY_FLAG_W,OXYGEN,OXYGEN_FLAG_W,SILCAT,SILCAT_FLAG_W,NITRAT,NITRAT_FLAG_W,NITRIT,NITRIT_FLAG_W,PHSPHT,PHSPHT_FLAG_W,CFC-11,CFC-11_FLAG_W,CFC-12,CFC-12_FLAG_W,TCARBN,TCARBN_FLAG_W,ALKALI,ALKALI_FLAG_W,PH_TOT,PH_TOT_FLAG_W,PH_TMP,CHLORA,CHLORA_FLAG_W,PPHYTN,PPHYTN_FLAG_W,SBE35,SBE35_FLAG_W,BTL_TIME
,,,,,,,,,,,METERS,DBAR,ITS-90,,,PSS-78,,PSS-78,,UMOL/KG,,UMOL/KG,,UMOL/KG,,UMOL/KG,,UMOL/KG,,PMOL/KG,,PMOL/KG,,UMOL/KG,,UMOL/KG,,,,DEG C,UG/KG,,UG/KG,,,,
  49UP20100706,   P09,    87,  1,      0,     -9,0,20100807,0249,  0.9920, 141.9845, 3121,      0.0,  29.7438,-999.0000,9,  34.4356,2,-999.0000,9,    194.1,2,     0.93,2,     0.02,2,     0.00,2,     0.12,2, -999.000,9, -999.000,9,   -999.0,9,   -999.0,9,-999.0000,9,  -999.00,     0.10,2,     0.03,2,-999.0000,9,      415
  49UP20100706,   P09,    87,  1,     36,    109,2,20100807,0249,  0.9920, 141.9845, 3121,     10.1,  29.7685,  29.7483,2,  34.4350,2,  34.4351,2,    193.8,2,     0.89,2,     0.00,2,     0.00,2,     0.09,2, -999.000,9, -999.000,9,   1928.6,2,   2260.1,2,   8.1286,2,    25.00,     0.11,2,     0.02,2,  29.7483,2,      440
  49UP20100706,   P09,    87,  1,     35,    108,2,20100807,0249,  0.9920, 141.9845, 3121,     26.2,  29.6629,  29.6629,2,  34.4904,2,  34.4867,2,    193.9,2,     0.90,2,     0.00,2,     0.00,2,     0.09,2, -999.000,9, -999.000,9,   1934.4,2,   2263.6,2,   8.1272,2,    25.00,     0.11,2,     0.04,2,  29.6629,2,      439
  49UP20100706,   P09,    87,  1,     34,    107,2,20100807,0249,  0.9920, 141.9845, 3121,     49.4,  29.6127,  29.6122,2,  34.9784,2,  34.9827,2,    194.9,2,     0.92,2,     0.01,2,     0.01,2,     0.16,2, -999.000,9, -999.000,9,   1966.5,2,   2297.4,2,   8.1273,2,    25.00,     0.26,2,     0.09,2,  29.6122,2,      435
  49UP20100706,   P09,    87,  1,     33,    106,2,20100807,0249,  0.9920, 141.9845, 3121,     76.7,  29.4873,  29.4855,2,  35.1999,2,  35.1988,6,    191.4,6,     1.15,6,     0.25,6,     0.07,6,     0.21,6, -999.000,9, -999.000,9,   1976.6,2,   2307.9,2,   8.1152,2,    25.00,  -999.00,5,  -999.00,5,  29.4855,2,      433
  49UP20100706,   P09,    87,  1,     32,    105,2,20100807,0249,  0.9920, 141.9845, 3121,    102.9,  28.7254,  28.7494,2,  35.0596,2,  35.1407,4,    185.5,6,     1.30,6,     0.61,6,     0.14,6,     0.24,6, -999.000,9, -999.000,9,   1983.6,2,   2306.3,2,   8.0949,2,    25.00,     0.26,2,     0.11,2,  28.7494,2,      432
  49UP20100706,   P09,    87,  1,     31,    104,2,20100807,0249,  0.9920, 141.9845, 3121,    128.2,  26.3377,  26.3224,2,  35.1511,2,  34.9986,4,    158.9,6,     2.38,6,     3.87,6,     0.11,6,     0.38,6, -999.000,9, -999.000,9,   2011.9,2,   2295.1,2,   8.0304,2,    25.00,     0.11,2,     0.21,2,  26.3224,2,      429
  49UP20100706,   P09,    87,  1,     30,    103,2,20100807,0249,  0.9920, 141.9845, 3121,    153.2,  23.1888,  23.1874,2,  35.4684,2,  35.4572,4,    139.0,6,     2.98,6,     7.52,6,     0.02,6,     0.63,6, -999.000,9, -999.000,9,   2076.3,2,   2321.1,2,   7.9566,2,    25.00,     0.02,2,     0.07,2,  23.1874,2,      426
  49UP20100706,   P09,    87,  1,     29,    102,2,20100807,0249,  0.9920, 141.9845, 3121,    203.7,  16.5578,  16.5576,2,  35.2909,2,  35.2831,4,    144.6,2,     6.73,2,    13.22,2,     0.01,2,     1.01,2, -999.000,9, -999.000,9,   2133.2,2,   2319.9,2,   7.8364,2,    25.00,     0.00,2,     0.01,2,  16.5576,2,      423
  49UP20100706,   P09,    87,  1,     28,    101,2,20100807,0249,  0.9920, 141.9845, 3121,    250.1,  12.4664,  12.4959,2,  34.8519,2,  34.8736,4,    139.2,2,    16.98,2,    19.74,2,     0.01,2,     1.43,2, -999.000,9, -999.000,9,   2167.1,2,   2306.5,2,   7.7367,2,    25.00,  -999.00,9,  -999.00,9,  12.4959,2,      420
  49UP20100706,   P09,    87,  1,     27,    100,2,20100807,0249,  0.9920, 141.9845, 3121,    302.9,  10.7641,  10.7641,2,  34.7994,2,  34.7983,2,    157.2,4,    16.82,2,    22.34,2,     0.00,2,     1.58,2, -999.000,9, -999.000,9,   2174.8,2,   2303.4,2,   7.7050,2,    25.00,  -999.00,9,  -999.00,9,  10.7641,2,      418
  49UP20100706,   P09,    87,  1,     26,     99,2,20100807,0249,  0.9920, 141.9845, 3121,    351.0,  10.2717,  10.2732,2,  34.7609,2,  34.7591,2,    139.4,2,    18.40,2,    23.79,2,     0.01,2,     1.67,2, -999.000,9, -999.000,9,   2183.5,2,   2301.8,2,   7.6794,2,    25.00,  -999.00,9,  -999.00,9,  10.2732,2,      416
  49UP20100706,   P09,    87,  1,     25,     98,2,20100807,0249,  0.9920, 141.9845, 3121,    403.8,   9.7506,   9.7537,2,  34.7168,2,  34.7162,2,    135.1,2,    20.68,2,    25.24,2,     0.00,2,     1.77,2, -999.000,9, -999.000,9,   2185.6,2,   2300.7,2,   7.6655,2,    25.00,  -999.00,9,  -999.00,9,   9.7537,2,      413
  49UP20100706,   P09,    87,  1,     24,     97,2,20100807,0249,  0.9920, 141.9845, 3121,    454.8,   9.1282,   9.1285,2,  34.6709,2,  34.6683,2,    106.5,2,    27.35,2,    29.28,2,     0.00,2,     2.04,2, -999.000,9, -999.000,9,   2215.3,6,   2303.5,6,   7.5951,6,    25.00,  -999.00,9,  -999.00,9,   9.1285,2,      410
  49UP20100706,   P09,    87,  1,     23,     96,2,20100807,0249,  0.9920, 141.9845, 3121,    454.8,   9.1282,   9.1285,2,  34.6709,2,  34.6716,2,    107.0,2,    27.13,2,    29.23,2,     0.00,2,     2.04,2, -999.000,9, -999.000,9,   2215.1,2,   2303.2,2,   7.5970,2,    25.00,  -999.00,9,  -999.00,9,   9.1285,2,      410
  49UP20100706,   P09,    87,  1,     22,     95,2,20100807,0249,  0.9920, 141.9845, 3121,    505.9,   8.4865,   8.4924,2,  34.6204,2,  34.6245,2,    113.6,2,    30.49,2,    29.57,2,     0.00,2,     2.06,2, -999.000,9, -999.000,9,   2217.8,2,   2304.8,2,   7.6013,2,    25.00,  -999.00,9,  -999.00,9,   8.4924,2,      407
  49UP20100706,   P09,    87,  1,     21,     94,2,20100807,0249,  0.9920, 141.9845, 3121,    606.9,   7.1093,   7.1128,2,  34.5512,2,  34.5552,2,    115.2,2,    40.78,2,    32.02,2,     0.00,2,     2.24,2, -999.000,9, -999.000,9,   2231.1,6,   2310.1,6,   7.5710,6,    25.00,  -999.00,9,  -999.00,9,   7.1128,2,      403
  49UP20100706,   P09,    87,  1,     20,     93,2,20100807,0249,  0.9920, 141.9845, 3121,    606.9,   7.1093,   7.1128,2,  34.5512,2,  34.5542,2,    115.2,2,    40.44,2,    31.98,2,     0.00,2,     2.25,2, -999.000,9, -999.000,9,   2235.3,2,   2312.1,2,   7.5697,2,    25.00,  -999.00,9,  -999.00,9,   7.1128,2,      403
  49UP20100706,   P09,    87,  1,     19,     92,2,20100807,0249,  0.9920, 141.9845, 3121,    708.2,   6.0348,   6.0351,2,  34.5268,2,  34.5272,2,    127.5,2,    48.89,2,    33.15,2,     0.00,2,     2.32,2, -999.000,9, -999.000,9,   2241.0,2,   2317.2,2,   7.5659,2,    25.00,  -999.00,9,  -999.00,9,   6.0351,2,      359
  49UP20100706,   P09,    87,  1,     18,     91,2,20100807,0249,  0.9920, 141.9845, 3121,    806.8,   5.3639,   5.3645,2,  34.5337,2,  34.5340,2,    109.5,2,    63.62,2,    35.81,2,     0.00,2,     2.53,2, -999.000,9, -999.000,9,   2264.1,2,   2329.0,2,   7.5320,2,    25.00,  -999.00,9,  -999.00,9,   5.3645,2,      356
  49UP20100706,   P09,    87,  1,     17,     90,2,20100807,0249,  0.9920, 141.9845, 3121,    907.5,   4.9728,   4.9726,2,  34.5422,2,  34.5419,2,    103.8,2,    73.58,2,    36.65,2,     0.00,2,     2.59,2, -999.000,9, -999.000,9,   2280.7,2,   2345.8,2,   7.5200,2,    25.00,  -999.00,9,  -999.00,9,   4.9726,2,      348
  49UP20100706,   P09,    87,  1,     16,     89,2,20100807,0249,  0.9920, 141.9845, 3121,   1008.7,   4.5571,   4.5571,2,  34.5532,2,  34.5526,2,    101.4,2,    83.63,2,    37.28,2,     0.00,2,     2.64,2, -999.000,9, -999.000,9,   2292.4,2,   2355.2,2,   7.5127,2,    25.00,  -999.00,9,  -999.00,9,   4.5571,2,      339
  49UP20100706,   P09,    87,  1,     15,     88,2,20100807,0249,  0.9920, 141.9845, 3121,   1260.4,   3.7075,   3.7074,2,  34.5762,2,  34.5759,2,    101.3,2,   101.17,2,    38.24,2,     0.00,2,     2.70,2, -999.000,9, -999.000,9,   2316.9,2,   2374.7,2,   7.5085,2,    25.00,  -999.00,9,  -999.00,9,   3.7074,2,      333
  49UP20100706,   P09,    87,  1,     14,     87,2,20100807,0249,  0.9920, 141.9845, 3121,   1513.1,   3.1039,   3.1041,2,  34.5971,2,  34.5969,2,    104.7,2,   114.47,2,    38.56,2,     0.00,2,     2.73,2, -999.000,9, -999.000,9,   2329.9,6,   2387.1,6,   7.5102,6,    25.00,  -999.00,9,  -999.00,9,   3.1041,2,      328
  49UP20100706,   P09,    87,  1,     13,     86,2,20100807,0249,  0.9920, 141.9845, 3121,   1513.1,   3.1039,   3.1041,2,  34.5971,2,  34.5978,2,    104.7,2,   114.17,2,    38.41,2,     0.00,2,     2.72,2, -999.000,9, -999.000,9,   2324.9,2,   2387.5,2,   7.5100,2,    25.00,  -999.00,9,  -999.00,9,   3.1041,2,      328
  49UP20100706,   P09,    87,  1,     12,     85,2,20100807,0249,  0.9920, 141.9845, 3121,   1768.0,   2.5661,   2.5665,2,  34.6205,2,  34.6201,2,    113.5,2,   125.67,2,    38.10,2,     0.00,2,     2.68,2, -999.000,9, -999.000,9,   2335.7,2,   2399.2,2,   7.5233,2,    25.00,  -999.00,9,  -999.00,9,   2.5665,2,      322
  49UP20100706,   P09,    87,  1,     11,    110,2,20100807,0249,  0.9920, 141.9845, 3121,   2022.3,   2.2304,   2.2307,2,  34.6370,2,  34.6367,2,    117.8,2,   133.92,2,    37.98,2,     0.00,2,     2.66,2, -999.000,9, -999.000,9,   2341.6,2,   2409.7,2,   7.5293,2,    25.00,  -999.00,9,  -999.00,9,   2.2307,2,      316
  49UP20100706,   P09,    87,  1,     10,     83,2,20100807,0249,  0.9920, 141.9845, 3121,   2277.6,   2.0200,   2.0200,2,  34.6472,2,  34.6478,2,    123.7,2,   138.22,2,    37.71,2,     0.00,2,     2.63,2, -999.000,9, -999.000,9,   2340.6,6,   2409.5,6,   7.5384,6,    25.00,  -999.00,9,  -999.00,9,   2.0200,2,      310
  49UP20100706,   P09,    87,  1,      9,     82,2,20100807,0249,  0.9920, 141.9845, 3121,   2277.6,   2.0200,   2.0200,2,  34.6472,2,  34.6476,2,    123.4,2,   138.17,2,    37.66,2,     0.00,2,     2.63,2, -999.000,9, -999.000,9,   2333.0,3,   2416.2,3,   7.5385,2,    25.00,  -999.00,9,  -999.00,9,   2.0200,2,      310
  49UP20100706,   P09,    87,  1,      8,     81,2,20100807,0249,  0.9920, 141.9845, 3121,   2530.5,   1.7778,   1.7777,2,  34.6599,2,  34.6590,2,    132.6,2,   141.42,2,    37.11,2,     0.00,2,     2.58,2, -999.000,9, -999.000,9,   2326.8,3,   2414.5,2,   7.5505,2,    25.00,  -999.00,9,  -999.00,9,   1.7777,2,      304
  49UP20100706,   P09,    87,  1,      7,     80,2,20100807,0249,  0.9920, 141.9845, 3121,   2785.4,   1.6787,   1.6785,2,  34.6662,2,  34.6674,2,    138.1,2,   142.27,2,    36.81,2,     0.00,2,     2.56,2, -999.000,9, -999.000,9,   2326.9,3,   2417.4,2,   7.5621,2,    25.00,  -999.00,9,  -999.00,9,   1.6785,2,      259
  49UP20100706,   P09,    87,  1,      6,     79,2,20100807,0249,  0.9920, 141.9845, 3121,   3038.8,   1.5803,   1.5802,2,  34.6735,2,  34.6769,4,    143.3,2,   142.96,2,    36.48,2,     0.00,2,     2.53,2, -999.000,9, -999.000,9,   2339.5,2,   2423.4,2,   7.5696,2,    25.00,  -999.00,9,  -999.00,9,   1.5802,2,      253
  49UP20100706,   P09,    87,  1,      1,     74,2,20100807,0249,  0.9920, 141.9845, 3121,   3140.6,   1.5787,   1.5784,2,  34.6744,2,  34.6774,4,    143.2,2,   142.94,2,    36.45,2,     0.00,2,     2.53,2, -999.000,9, -999.000,9,   2337.1,2,   2419.9,2,   7.5708,2,    25.00,  -999.00,9,  -999.00,9,   1.5784,2,      250