BOTTLE,20200625PRINUNIVRMK
EXPOCODE,SECT_ID,STNNBR,CASTNO,SAMPNO,BTLNBR,BTLNBR_FLAG_W,DATE,TIME,LATITUDE,LONGITUDE,DEPTH,CTDPRS,CTDTMP,SBE35,SBE35_FLAG_W,CTDSAL,CTDSAL_FLAG_W,SALNTY,SALNTY_FLAG_W,OXYGEN,OXYGEN_FLAG_W,SILCAT,SILCAT_FLAG_W,NITRAT,NITRAT_FLAG_W,NITRIT,NITRIT_FLAG_W,PHSPHT,PHSPHT_FLAG_W,CFC-11,CFC-11_FLAG_W,CFC-12,CFC-12_FLAG_W,TCARBN,TCARBN_FLAG_W,ALKALI,ALKALI_FLAG_W,PH_TOT,PH_TOT_FLAG_W,PH_TMP,CHLORA,CHLORA_FLAG_W,PPHYTN,PPHYTN_FLAG_W,SBE35,SBE35_FLAG_W,BTL_TIME
,,,,,,,,,,,METERS,DBAR,ITS-90,,,PSS-78,,PSS-78,,UMOL/KG,,UMOL/KG,,UMOL/KG,,UMOL/KG,,UMOL/KG,,PMOL/KG,,PMOL/KG,,UMOL/KG,,UMOL/KG,,,,DEG C,UG/KG,,UG/KG,,,,
  49UP20100706,   P09,   116,  1,      0,     -9,0,20100813,1634,  2.9930, 136.9938, 4501,      0.0,  30.0549,-999.0000,9,  33.7260,2,-999.0000,9,    194.1,2,     1.02,2,     0.03,2,     0.00,2,     0.09,2, -999.000,9, -999.000,9,   -999.0,9,   -999.0,9,-999.0000,9,  -999.00,     0.06,2,     0.02,2,-999.0000,9,     1820
  49UP20100706,   P09,   116,  1,     36,    109,2,20100813,1634,  2.9930, 136.9938, 4501,     10.5,  30.0404,  30.0453,2,  33.7236,2,  33.7227,2,    193.8,2,     1.01,2,     0.00,2,     0.00,2,     0.01,2,    1.506,2,    0.911,2,   1885.0,2,   2219.1,2,   8.1485,2,    25.00,     0.06,2,     0.01,2,  30.0453,2,     1844
  49UP20100706,   P09,   116,  1,     35,    108,2,20100813,1634,  2.9930, 136.9938, 4501,     26.3,  29.9741,  29.9735,2,  33.7277,2,  33.7281,2,    194.2,2,     1.05,2,     0.00,2,     0.00,2,     0.00,2,    1.505,2,    0.880,2,   1879.2,2,   2216.4,2,   8.1437,2,    25.00,     0.05,2,     0.02,2,  29.9735,2,     1843
  49UP20100706,   P09,   116,  1,     34,    107,2,20100813,1634,  2.9930, 136.9938, 4501,     50.3,  30.0637,  30.0629,2,  33.8372,2,  33.8371,2,    194.2,2,     0.92,2,     0.00,2,     0.00,2,     0.00,2,    1.499,2,    0.913,2,   1883.8,2,   2226.3,2,   8.1427,2,    25.00,     0.07,2,     0.02,2,  30.0629,2,     1840
  49UP20100706,   P09,   116,  1,     33,    106,2,20100813,1634,  2.9930, 136.9938, 4501,     74.6,  29.9301,  29.9269,2,  34.3296,2,  34.3406,4,    197.4,2,     1.28,2,     0.00,2,     0.00,2,     0.04,2,    1.574,2,    0.961,2,   1926.9,2,   2259.1,2,   8.1180,2,    25.00,     0.12,2,     0.05,2,  29.9269,2,     1838
  49UP20100706,   P09,   116,  1,     32,    105,2,20100813,1634,  2.9930, 136.9938, 4501,    101.8,  28.3628,  28.3687,2,  34.5388,2,  34.5382,2,    192.2,2,     1.32,2,    -0.01,2,     0.01,2,     0.11,2,    1.623,2,    0.935,2,   1951.1,2,   2269.4,2,   8.1002,2,    25.00,     0.23,2,     0.26,2,  28.3687,2,     1837
  49UP20100706,   P09,   116,  1,     31,    104,2,20100813,1634,  2.9930, 136.9938, 4501,    127.3,  25.9901,  26.0264,2,  34.7373,2,  34.7353,2,    172.3,2,     2.10,2,     2.10,2,     0.04,2,     0.25,2,    1.759,2,    1.066,2,   1995.3,2,   2283.4,2,   8.0269,2,    25.00,     0.07,2,     0.12,2,  26.0264,2,     1836
  49UP20100706,   P09,   116,  1,     30,    103,2,20100813,1634,  2.9930, 136.9938, 4501,    152.2,  22.3706,  22.3841,2,  34.9969,2,  34.9853,4,    139.6,2,     5.88,2,     8.49,2,     0.02,2,     0.66,2,    1.885,2,    1.149,2,   2064.4,2,   2300.1,2,   7.9288,2,    25.00,     0.03,2,     0.05,2,  22.3841,2,     1835
  49UP20100706,   P09,   116,  1,     29,    102,2,20100813,1634,  2.9930, 136.9938, 4501,    201.5,  17.5428,  17.5193,2,  34.7974,2,  34.7987,2,    138.3,2,    10.44,2,    12.40,2,     0.01,2,     0.92,2,    2.122,2,    1.216,2,   2098.4,2,   2293.7,2,   7.8351,2,    25.00,     0.01,2,     0.02,2,  17.5193,2,     1833
  49UP20100706,   P09,   116,  1,     28,    101,2,20100813,1634,  2.9930, 136.9938, 4501,    250.0,  12.7614,  12.8283,2,  34.5892,2,  34.5906,2,    120.7,2,    21.68,2,    20.47,2,     0.00,2,     1.48,2,    1.916,2,    1.040,2,   2157.1,6,   2289.6,6,   7.7000,6,    25.00,  -999.00,9,  -999.00,9,  12.8283,2,     1831
  49UP20100706,   P09,   116,  1,     27,    100,2,20100813,1634,  2.9930, 136.9938, 4501,    250.0,  12.7614,  12.8283,2,  34.5892,2,  34.5913,2,    120.8,2,    21.34,2,    20.42,2,     0.00,2,     1.47,2,    1.898,6,    1.039,6,   2156.2,2,   2289.1,2,   7.6999,2,    25.00,  -999.00,9,  -999.00,9,  12.8283,2,     1831
  49UP20100706,   P09,   116,  1,     26,     99,2,20100813,1634,  2.9930, 136.9938, 4501,    321.8,   9.2510,   9.2503,2,  34.5593,2,  34.5638,2,    100.8,2,    34.48,2,    28.87,2,     0.00,2,     2.04,2,    1.006,2,    0.501,2,   2208.7,2,   2303.1,2,   7.5944,2,    25.00,  -999.00,9,  -999.00,9,   9.2503,2,     1828
  49UP20100706,   P09,   116,  1,     25,     98,2,20100813,1634,  2.9930, 136.9938, 4501,    372.6,   8.5627,   8.5626,2,  34.5889,2,  34.5862,2,     83.9,2,    37.86,2,    32.16,2,     0.00,2,     2.26,2,    0.569,2,    0.299,2,   2233.6,2,   2308.7,2,   7.5410,2,    25.00,  -999.00,9,  -999.00,9,   8.5626,2,     1826
  49UP20100706,   P09,   116,  1,     24,     97,2,20100813,1634,  2.9930, 136.9938, 4501,    423.6,   8.0786,   8.0781,2,  34.5785,2,  34.5776,2,     89.3,2,    39.18,2,    32.65,2,     0.00,2,     2.29,2,    0.471,2,    0.201,2,   2236.5,2,   2310.2,2,   7.5466,2,    25.00,  -999.00,9,  -999.00,9,   8.0781,2,     1822
  49UP20100706,   P09,   116,  1,     23,     96,2,20100813,1634,  2.9930, 136.9938, 4501,    472.7,   7.7108,   7.7099,2,  34.5775,2,  34.5755,2,    106.0,2,    37.67,2,    32.08,2,     0.00,2,     2.24,2,    0.508,2,    0.239,2,   2231.4,2,   2305.8,2,   7.5636,2,    25.00,  -999.00,9,  -999.00,9,   7.7099,2,     1816
  49UP20100706,   P09,   116,  1,     22,     95,2,20100813,1634,  2.9930, 136.9938, 4501,    533.1,   7.2329,   7.2317,2,  34.5568,2,  34.5564,2,    109.1,2,    41.10,2,    32.63,2,     0.00,2,     2.29,2,    0.418,2,    0.228,2,   2235.4,2,   2313.0,2,   7.5592,2,    25.00,  -999.00,9,  -999.00,9,   7.2317,2,     1813
  49UP20100706,   P09,   116,  1,     21,     94,2,20100813,1634,  2.9930, 136.9938, 4501,    634.6,   6.6986,   6.7011,2,  34.5466,2,  34.5455,2,     85.7,2,    51.07,2,    35.69,2,     0.00,2,     2.53,2,    0.174,6,    0.105,2,   2257.6,2,   2321.3,2,   7.5085,2,    25.00,  -999.00,9,  -999.00,9,   6.7011,2,     1811
  49UP20100706,   P09,   116,  1,     20,     93,2,20100813,1634,  2.9930, 136.9938, 4501,    736.3,   5.9315,   5.9307,2,  34.5380,2,  34.5373,2,     80.3,2,    63.51,2,    37.57,2,     0.00,2,     2.66,2,    0.043,2,    0.039,2,   2276.3,2,   2333.1,2,   7.4897,2,    25.00,  -999.00,9,  -999.00,9,   5.9307,2,     1807
  49UP20100706,   P09,   116,  1,     19,     92,2,20100813,1634,  2.9930, 136.9938, 4501,    836.4,   5.2108,   5.2112,2,  34.5410,2,  34.5411,2,     88.3,2,    74.87,2,    37.78,2,     0.00,2,     2.68,2,    0.011,2,    0.033,2,   2282.9,2,   2345.3,2,   7.4947,2,    25.00,  -999.00,9,  -999.00,9,   5.2112,2,     1804
  49UP20100706,   P09,   116,  1,     18,     91,2,20100813,1634,  2.9930, 136.9938, 4501,    937.5,   4.7331,   4.7333,2,  34.5505,2,  34.5496,2,     88.3,2,    82.80,2,    38.54,2,     0.00,2,     2.73,2,    0.008,2,    0.000,2,   2294.3,2,   2354.1,2,   7.4969,2,    25.00,  -999.00,9,  -999.00,9,   4.7333,2,     1800
  49UP20100706,   P09,   116,  1,     17,     90,2,20100813,1634,  2.9930, 136.9938, 4501,   1089.1,   4.1541,   4.1538,2,  34.5647,2,  34.5639,2,     92.5,2,    95.91,2,    38.52,2,     0.00,2,     2.73,2,    0.000,3,    0.000,3,   2305.6,2,   2368.6,2,   7.4974,2,    25.00,  -999.00,9,  -999.00,9,   4.1538,2,     1756
  49UP20100706,   P09,   116,  1,     16,     89,2,20100813,1634,  2.9930, 136.9938, 4501,   1342.7,   3.3854,   3.3857,2,  34.5876,2,  34.5869,2,     97.0,2,   111.64,2,    38.90,2,     0.00,2,     2.75,2,    0.000,2,    0.000,2,   2331.9,3,   2385.8,2,   7.4985,2,    25.00,  -999.00,9,  -999.00,9,   3.3857,2,     1749
  49UP20100706,   P09,   116,  1,     15,     88,3,20100813,1634,  2.9930, 136.9938, 4501,   1596.3,   2.8044,   2.8042,2,  34.6092,2,  34.6090,3,    104.4,6,   123.88,6,    38.76,6,     0.00,6,     2.74,6,    0.000,2,    0.000,2,   2330.9,2,   2397.7,2,   7.5041,2,    25.00,  -999.00,9,  -999.00,9,   2.8042,2,     1743
  49UP20100706,   P09,   116,  1,     14,     87,2,20100813,1634,  2.9930, 136.9938, 4501,   1849.2,   2.3257,   2.3255,2,  34.6308,2,  34.6309,6,    112.9,6,   133.71,6,    38.41,6,     0.00,6,     2.69,6, -999.000,9, -999.000,9,   2334.7,2,   2404.4,2,   7.5217,2,    25.00,  -999.00,9,  -999.00,9,   2.3255,2,     1737
  49UP20100706,   P09,   116,  1,     13,     86,2,20100813,1634,  2.9930, 136.9938, 4501,   2101.6,   2.0160,   2.0162,2,  34.6470,2,  34.6472,2,    120.4,2,   139.66,2,    38.04,2,     0.00,2,     2.66,2, -999.000,9, -999.000,9,   2345.2,6,   2414.6,6,   7.5328,6,    25.00,  -999.00,9,  -999.00,9,   2.0162,2,     1730
  49UP20100706,   P09,   116,  1,     12,     85,2,20100813,1634,  2.9930, 136.9938, 4501,   2101.6,   2.0160,   2.0162,2,  34.6470,2,  34.6473,6,    120.5,6,   139.70,6,    38.08,6,     0.00,6,     2.66,6, -999.000,9, -999.000,9,   2344.4,2,   2415.2,2,   7.5302,2,    25.00,  -999.00,9,  -999.00,9,   2.0162,2,     1730
  49UP20100706,   P09,   116,  1,     11,    110,2,20100813,1634,  2.9930, 136.9938, 4501,   2356.8,   1.8269,   1.8265,2,  34.6576,2,  34.6572,6,    128.0,6,   142.04,6,    37.63,6,     0.00,6,     2.62,6, -999.000,9, -999.000,9,   2338.6,2,   2412.2,2,   7.5465,2,    25.00,  -999.00,9,  -999.00,9,   1.8265,2,     1725
  49UP20100706,   P09,   116,  1,     10,     83,2,20100813,1634,  2.9930, 136.9938, 4501,   2611.0,   1.7059,   1.7057,2,  34.6644,2,  34.6643,2,    135.6,2,   142.27,2,    37.05,2,     0.00,2,     2.57,2, -999.000,9, -999.000,9,   2336.3,2,   2415.3,2,   7.5535,2,    25.00,  -999.00,9,  -999.00,9,   1.7057,2,     1719
  49UP20100706,   P09,   116,  1,      9,     82,2,20100813,1634,  2.9930, 136.9938, 4501,   2864.2,   1.5920,   1.5920,2,  34.6720,2,  34.6718,2,    142.6,2,   142.77,2,    36.65,2,     0.00,2,     2.53,2, -999.000,9, -999.000,9,   2334.1,2,   2416.3,2,   7.5666,2,    25.00,  -999.00,9,  -999.00,9,   1.5920,2,     1713
  49UP20100706,   P09,   116,  1,      8,     81,2,20100813,1634,  2.9930, 136.9938, 4501,   3119.9,   1.5659,   1.5659,2,  34.6752,2,  34.6751,2,    145.3,2,   142.61,2,    36.45,2,     0.00,2,     2.53,2, -999.000,9, -999.000,9,   2331.1,2,   2421.0,2,   7.5714,2,    25.00,  -999.00,9,  -999.00,9,   1.5659,2,     1708
  49UP20100706,   P09,   116,  1,      7,     80,2,20100813,1634,  2.9930, 136.9938, 4501,   3376.3,   1.5567,   1.5567,2,  34.6775,2,  34.6775,2,    147.7,2,   142.65,2,    36.33,2,     0.00,2,     2.52,2,    0.000,2,    0.000,2,   2329.6,2,   2419.4,2,   7.5716,2,    25.00,  -999.00,9,  -999.00,9,   1.5567,2,     1702
  49UP20100706,   P09,   116,  1,      6,     79,2,20100813,1634,  2.9930, 136.9938, 4501,   3630.3,   1.5550,   1.5551,2,  34.6797,2,  34.6793,2,    149.2,2,   142.39,2,    36.24,2,     0.00,2,     2.51,2, -999.000,9, -999.000,9,   2328.3,2,   2421.4,2,   7.5787,2,    25.00,  -999.00,9,  -999.00,9,   1.5551,2,     1656
  49UP20100706,   P09,   116,  1,      5,     78,2,20100813,1634,  2.9930, 136.9938, 4501,   3886.1,   1.5258,   1.5259,2,  34.6841,2,  34.6835,2,    152.2,2,   142.19,2,    36.05,2,     0.00,2,     2.49,2, -999.000,9, -999.000,9,   2336.3,3,   2421.9,2,   7.5828,2,    25.00,  -999.00,9,  -999.00,9,   1.5259,2,     1650
  49UP20100706,   P09,   116,  1,      4,     77,2,20100813,1634,  2.9930, 136.9938, 4501,   4142.5,   1.5216,   1.5217,2,  34.6862,2,  34.6860,2,    155.3,2,   141.50,2,    35.83,2,     0.00,2,     2.47,2, -999.000,9, -999.000,9,   2328.0,6,   2420.8,6,   7.5869,6,    25.00,  -999.00,9,  -999.00,9,   1.5217,2,     1645
  49UP20100706,   P09,   116,  1,      3,     76,2,20100813,1634,  2.9930, 136.9938, 4501,   4142.5,   1.5216,   1.5217,2,  34.6862,2,  34.6857,2,    155.3,2,   141.39,2,    35.83,2,     0.00,2,     2.47,2, -999.000,9, -999.000,9,   2327.3,2,   2415.5,3,   7.5847,2,    25.00,  -999.00,9,  -999.00,9,   1.5217,2,     1645
  49UP20100706,   P09,   116,  1,      2,     75,2,20100813,1634,  2.9930, 136.9938, 4501,   4398.1,   1.5109,   1.5109,2,  34.6886,2,  34.6880,2,    159.4,2,   140.35,2,    35.56,2,     0.00,2,     2.45,2, -999.000,9, -999.000,9,   2326.1,2,   2416.4,2,   7.5878,2,    25.00,  -999.00,9,  -999.00,9,   1.5109,2,     1639
  49UP20100706,   P09,   116,  1,      1,     74,2,20100813,1634,  2.9930, 136.9938, 4501,   4560.9,   1.5246,   1.5245,2,  34.6890,2,  34.6887,2,    159.7,2,   140.09,2,    35.52,2,     0.00,2,     2.45,2,    0.000,2,    0.000,2,   2323.4,2,   2410.1,2,   7.5865,2,    25.00,  -999.00,9,  -999.00,9,   1.5245,2,     1635