BOTTLE,20200625PRINUNIVRMK
EXPOCODE,SECT_ID,STNNBR,CASTNO,SAMPNO,BTLNBR,BTLNBR_FLAG_W,DATE,TIME,LATITUDE,LONGITUDE,DEPTH,CTDPRS,CTDTMP,SBE35,SBE35_FLAG_W,CTDSAL,CTDSAL_FLAG_W,SALNTY,SALNTY_FLAG_W,OXYGEN,OXYGEN_FLAG_W,SILCAT,SILCAT_FLAG_W,NITRAT,NITRAT_FLAG_W,NITRIT,NITRIT_FLAG_W,PHSPHT,PHSPHT_FLAG_W,CFC-11,CFC-11_FLAG_W,CFC-12,CFC-12_FLAG_W,TCARBN,TCARBN_FLAG_W,ALKALI,ALKALI_FLAG_W,PH_TOT,PH_TOT_FLAG_W,PH_TMP,CHLORA,CHLORA_FLAG_W,PPHYTN,PPHYTN_FLAG_W,SBE35,SBE35_FLAG_W,BTL_TIME
,,,,,,,,,,,METERS,DBAR,ITS-90,,,PSS-78,,PSS-78,,UMOL/KG,,UMOL/KG,,UMOL/KG,,UMOL/KG,,UMOL/KG,,PMOL/KG,,PMOL/KG,,UMOL/KG,,UMOL/KG,,,,DEG C,UG/KG,,UG/KG,,,,
  49UP20100706,   P09,     9,  1,      0,     -9,0,20100708,0311, 33.0260, 137.0335, 4294,      0.0,  27.2106,-999.0000,9,  34.2106,2,-999.0000,9,    200.3,2,     1.43,2,     0.01,2,     0.00,2,     0.01,2, -999.000,9, -999.000,9,   -999.0,9,   -999.0,9,-999.0000,9,  -999.00,     0.24,2,     0.05,2,-999.0000,9,      448
  49UP20100706,   P09,     9,  1,     36,    109,2,20100708,0311, 33.0260, 137.0335, 4294,     11.2,  27.2217,  27.2202,2,  34.2094,2,  34.2173,4,    201.3,2,     1.37,2,     0.00,2,     0.00,2,     0.01,2, -999.000,9, -999.000,9,   1924.4,2,   2246.9,2,   8.0954,2,    25.00,     0.19,2,     0.06,2,  27.2202,2,      505
  49UP20100706,   P09,     9,  1,     35,    108,2,20100708,0311, 33.0260, 137.0335, 4294,     25.9,  26.2298,  26.1878,2,  34.5588,2,  34.5715,4,    206.7,2,     1.33,2,     0.03,2,     0.00,2,     0.02,2, -999.000,9, -999.000,9,   1945.0,2,   2270.5,2,   8.0923,2,    25.00,     0.21,2,     0.08,2,  26.1878,2,      504
  49UP20100706,   P09,     9,  1,     34,    107,2,20100708,0311, 33.0260, 137.0335, 4294,     50.7,  24.9143,  24.9111,2,  34.6972,2,  34.6969,2,    209.1,2,     1.27,2,     0.02,2,     0.01,2,     0.01,2, -999.000,9, -999.000,9,   1954.3,2,   2275.8,2,   8.0934,2,    25.00,     0.31,2,     0.19,2,  24.9111,2,      501
  49UP20100706,   P09,     9,  1,     33,    106,2,20100708,0311, 33.0260, 137.0335, 4294,     75.9,  24.0568,  24.0541,2,  34.7502,2,  34.7507,2,    214.0,2,     1.16,2,     0.00,2,     0.00,2,     0.00,2, -999.000,9, -999.000,9,   1939.2,3,   2283.0,2,   8.0878,2,    25.00,     0.25,2,     0.16,2,  24.0541,2,      500
  49UP20100706,   P09,     9,  1,     32,    105,2,20100708,0311, 33.0260, 137.0335, 4294,    101.1,  23.3068,  23.3159,2,  34.7851,2,  34.7938,4,    207.6,2,     1.34,2,     0.18,2,     0.06,2,     0.02,2, -999.000,9, -999.000,9,   1982.9,2,   2284.4,2,   8.0672,2,    25.00,     0.19,2,     0.23,2,  23.3159,2,      458
  49UP20100706,   P09,     9,  1,     31,    104,2,20100708,0311, 33.0260, 137.0335, 4294,    126.7,  22.3741,  22.3729,2,  34.7684,2,  34.7664,2,    194.4,2,     2.09,2,     1.64,2,     0.03,2,     0.12,2, -999.000,9, -999.000,9,   1997.4,2,   2283.8,2,   8.0300,2,    25.00,     0.05,2,     0.09,2,  22.3729,2,      457
  49UP20100706,   P09,     9,  1,     30,    103,2,20100708,0311, 33.0260, 137.0335, 4294,    149.4,  21.4558,  21.4620,2,  34.7590,2,  34.7590,6,    195.0,6,     2.30,6,     2.05,6,     0.03,6,     0.15,6, -999.000,9, -999.000,9,   1996.2,2,   2278.7,2,   8.0217,2,    25.00,     0.02,2,     0.03,2,  21.4620,2,      455
  49UP20100706,   P09,     9,  1,     29,    102,2,20100708,0311, 33.0260, 137.0335, 4294,    202.3,  19.6830,  19.6756,2,  34.7516,2,  34.7515,6,    192.6,6,     3.34,6,     3.47,6,     0.02,6,     0.24,6, -999.000,9, -999.000,9,   2016.2,2,   2280.9,2,   7.9920,2,    25.00,     0.00,2,     0.02,2,  19.6756,2,      452
  49UP20100706,   P09,     9,  1,     28,    101,2,20100708,0311, 33.0260, 137.0335, 4294,    251.9,  18.4088,  18.4101,2,  34.7363,2,  34.7390,6,    186.5,6,     5.18,6,     5.36,6,     0.01,6,     0.36,6, -999.000,9, -999.000,9,   2036.4,2,   2278.4,2,   7.9536,2,    25.00,  -999.00,9,  -999.00,9,  18.4101,2,      450
  49UP20100706,   P09,     9,  1,     27,    100,2,20100708,0311, 33.0260, 137.0335, 4294,    302.3,  16.4932,  16.4970,2,  34.6426,2,  34.6569,4,    179.2,6,    10.01,6,     8.61,6,     0.01,6,     0.60,6, -999.000,9, -999.000,9,   2063.1,2,   2275.4,2,   7.8971,2,    25.00,  -999.00,9,  -999.00,9,  16.4970,2,      448
  49UP20100706,   P09,     9,  1,     26,     99,2,20100708,0311, 33.0260, 137.0335, 4294,    404.7,  11.8691,  11.8786,2,  34.3674,2,  34.3820,4,    170.0,2,    21.53,2,    16.43,2,     0.01,2,     1.17,2, -999.000,9, -999.000,9,   2128.1,2,   2290.9,2,   7.7668,2,    25.00,  -999.00,9,  -999.00,9,  11.8786,2,      444
  49UP20100706,   P09,     9,  1,     25,     98,2,20100708,0311, 33.0260, 137.0335, 4294,    505.9,   9.4230,   9.4132,2,  34.3143,2,  34.3411,4,    137.2,2,    44.10,2,    23.53,2,     0.00,2,     1.69,2, -999.000,9, -999.000,9,   2192.3,2,   2300.3,3,   7.6551,2,    25.00,  -999.00,9,  -999.00,9,   9.4132,2,      440
  49UP20100706,   P09,     9,  1,     24,     97,2,20100708,0311, 33.0260, 137.0335, 4294,    607.1,   7.0944,   7.0938,2,  34.2117,2,  34.2126,2,    116.6,2,    63.12,2,    29.75,2,     0.01,2,     2.15,2, -999.000,9, -999.000,9,   2227.2,2,   2310.4,3,   7.5573,2,    25.00,  -999.00,9,  -999.00,9,   7.0938,2,      435
  49UP20100706,   P09,     9,  1,     23,     96,3,20100708,0311, 33.0260, 137.0335, 4294,    709.8,   5.7154,   5.7148,2,  34.2759,2,  34.2779,3,     87.4,2,    85.16,2,    34.53,2,     0.00,2,     2.50,2, -999.000,9, -999.000,9,   2274.1,2,   2332.8,4,   7.4796,2,    25.00,  -999.00,9,  -999.00,9,   5.7148,2,      429
  49UP20100706,   P09,     9,  1,     22,     95,2,20100708,0311, 33.0260, 137.0335, 4294,    809.9,   4.6239,   4.6238,2,  34.2913,2,  34.2910,2,     70.2,2,   102.11,2,    37.71,2,     0.00,2,     2.72,2, -999.000,9, -999.000,9,   2306.6,2,   2349.0,3,   7.4350,2,    25.00,  -999.00,9,  -999.00,9,   4.6238,2,      425
  49UP20100706,   P09,     9,  1,     21,     94,2,20100708,0311, 33.0260, 137.0335, 4294,    912.9,   4.1358,   4.1394,2,  34.3322,2,  34.3320,2,     62.8,2,   111.59,2,    39.15,2,     0.00,2,     2.82,2, -999.000,9, -999.000,9,   2321.4,2,   2359.0,3,   7.4159,2,    25.00,  -999.00,9,  -999.00,9,   4.1394,2,      420
  49UP20100706,   P09,     9,  1,     20,     93,2,20100708,0311, 33.0260, 137.0335, 4294,   1012.1,   3.7104,   3.7112,2,  34.3744,2,  34.3743,2,     58.9,2,   120.61,2,    40.02,2,     0.00,2,     2.88,2, -999.000,9, -999.000,9,   2346.7,2,   2368.2,3,   7.4043,2,    25.00,  -999.00,9,  -999.00,9,   3.7112,2,      416
  49UP20100706,   P09,     9,  1,     19,     92,2,20100708,0311, 33.0260, 137.0335, 4294,   1213.4,   3.0452,   3.0452,2,  34.4498,2,  34.4489,2,     59.4,2,   134.90,2,    40.88,2,     0.00,2,     2.93,2, -999.000,9, -999.000,9,   2357.8,2,   2387.8,3,   7.4086,2,    25.00,  -999.00,9,  -999.00,9,   3.0452,2,      410
  49UP20100706,   P09,     9,  1,     18,     91,2,20100708,0311, 33.0260, 137.0335, 4294,   1415.2,   2.6470,   2.6468,2,  34.5088,2,  34.5082,2,     71.9,2,   141.27,2,    40.43,2,     0.00,2,     2.88,2, -999.000,9, -999.000,9,   2358.3,2,   2398.3,3,   7.4337,2,    25.00,  -999.00,9,  -999.00,9,   2.6468,2,      404
  49UP20100706,   P09,     9,  1,     17,     90,2,20100708,0311, 33.0260, 137.0335, 4294,   1617.5,   2.3475,   2.3476,2,  34.5516,2,  34.5529,2,     85.4,2,   144.44,2,    39.75,2,     0.00,2,     2.82,2, -999.000,9, -999.000,9,   2355.6,2,   2404.9,3,   7.4597,2,    25.00,  -999.00,9,  -999.00,9,   2.3476,2,      400
  49UP20100706,   P09,     9,  1,     16,     89,2,20100708,0311, 33.0260, 137.0335, 4294,   1819.1,   2.1409,   2.1405,2,  34.5803,2,  34.5803,2,     95.1,2,   146.47,2,    39.30,2,     0.00,2,     2.79,2, -999.000,9, -999.000,9,   2349.6,2,   2402.5,3,   7.4780,2,    25.00,  -999.00,9,  -999.00,9,   2.1405,2,      355
  49UP20100706,   P09,     9,  1,     15,     88,2,20100708,0311, 33.0260, 137.0335, 4294,   2022.0,   1.9766,   1.9766,2,  34.6058,2,  34.6066,2,    108.6,2,   145.55,2,    38.45,2,     0.00,2,     2.72,2, -999.000,9, -999.000,9,   2350.3,2,   2406.6,3,   7.5046,2,    25.00,  -999.00,9,  -999.00,9,   1.9766,2,      352
  49UP20100706,   P09,     9,  1,     14,     87,2,20100708,0311, 33.0260, 137.0335, 4294,   2275.5,   1.8149,   1.8150,2,  34.6298,2,  34.6297,2,    122.5,4,   145.21,2,    37.72,2,     0.00,2,     2.66,2, -999.000,9, -999.000,9,   2352.6,3,   2413.8,3,   7.5273,2,    25.00,  -999.00,9,  -999.00,9,   1.8150,2,      348
  49UP20100706,   P09,     9,  1,     13,     86,2,20100708,0311, 33.0260, 137.0335, 4294,   2528.7,   1.6899,   1.6898,2,  34.6479,2,  34.6486,2,    132.3,2,   144.07,2,    37.07,2,     0.00,2,     2.60,2, -999.000,9, -999.000,9,   2337.0,2,   2416.8,3,   7.5426,2,    25.00,  -999.00,9,  -999.00,9,   1.6898,2,      343
  49UP20100706,   P09,     9,  1,     12,     85,2,20100708,0311, 33.0260, 137.0335, 4294,   2528.7,   1.6899,   1.6898,2,  34.6479,2,  34.6491,2,    131.9,2,   144.28,2,    37.10,2,     0.00,2,     2.61,2, -999.000,9, -999.000,9,   2337.0,6,   2418.0,3,   7.5402,6,    25.00,  -999.00,9,  -999.00,9,   1.6898,2,      343
  49UP20100706,   P09,     9,  1,     11,    110,2,20100708,0311, 33.0260, 137.0335, 4294,   2782.4,   1.6228,   1.6225,2,  34.6585,2,  34.6610,4,    138.5,2,   143.58,2,    36.84,2,     0.00,2,     2.58,2, -999.000,9, -999.000,9,   2334.3,2,   2420.9,3,   7.5560,2,    25.00,  -999.00,9,  -999.00,9,   1.6225,2,      339
  49UP20100706,   P09,     9,  1,     10,     83,2,20100708,0311, 33.0260, 137.0335, 4294,   3040.7,   1.5489,   1.5490,2,  34.6693,2,  34.6695,2,    145.2,2,   142.99,2,    36.35,2,     0.00,2,     2.53,2, -999.000,9, -999.000,9,   2325.0,2,   2416.7,3,   7.5646,2,    25.00,  -999.00,9,  -999.00,9,   1.5490,2,      335
  49UP20100706,   P09,     9,  1,      9,     82,2,20100708,0311, 33.0260, 137.0335, 4294,   3040.7,   1.5489,   1.5490,2,  34.6693,2,  34.6700,2,    146.4,3,   142.98,2,    36.31,2,     0.00,2,     2.54,2, -999.000,9, -999.000,9,   2341.6,3,   2415.8,3,   7.5649,6,    25.00,  -999.00,9,  -999.00,9,   1.5490,2,      335
  49UP20100706,   P09,     9,  1,      8,     81,2,20100708,0311, 33.0260, 137.0335, 4294,   3297.5,   1.5243,   1.5242,2,  34.6748,2,  34.6751,2,    149.7,2,   142.44,2,    36.09,2,     0.00,2,     2.52,2, -999.000,9, -999.000,9,   2323.0,2,   2414.6,3,   7.5741,2,    25.00,  -999.00,9,  -999.00,9,   1.5242,2,      331
  49UP20100706,   P09,     9,  1,      7,     80,2,20100708,0311, 33.0260, 137.0335, 4294,   3550.8,   1.5173,   1.5171,2,  34.6783,2,  34.6783,2,    152.2,2,   142.31,2,    35.96,2,     0.00,2,     2.51,2, -999.000,9, -999.000,9,   2325.0,2,   2417.7,3,   7.5753,2,    25.00,  -999.00,9,  -999.00,9,   1.5171,2,      326
  49UP20100706,   P09,     9,  1,      6,     79,2,20100708,0311, 33.0260, 137.0335, 4294,   3550.8,   1.5173,   1.5171,2,  34.6783,2,  34.6793,2,    152.1,2,   142.34,2,    35.94,2,     0.00,2,     2.51,2, -999.000,9, -999.000,9,   2327.8,2,   2432.2,3,   7.5765,6,    25.00,  -999.00,9,  -999.00,9,   1.5171,2,      326
  49UP20100706,   P09,     9,  1,      5,     78,2,20100708,0311, 33.0260, 137.0335, 4294,   3810.8,   1.5299,   1.5299,2,  34.6800,2,  34.6808,2,    152.6,2,   142.03,2,    35.85,2,     0.00,2,     2.51,2, -999.000,9, -999.000,9,   2338.0,3,   2423.3,3,   7.5802,2,    25.00,  -999.00,9,  -999.00,9,   1.5299,2,      322
  49UP20100706,   P09,     9,  1,      4,     77,2,20100708,0311, 33.0260, 137.0335, 4294,   4063.7,   1.5471,   1.5470,2,  34.6810,2,  34.6809,2,    153.5,2,   141.75,2,    35.82,2,     0.00,2,     2.50,2, -999.000,9, -999.000,9,   2318.7,2,   2429.7,3,   7.5803,2,    25.00,  -999.00,9,  -999.00,9,   1.5470,2,      317
  49UP20100706,   P09,     9,  1,      2,     75,2,20100708,0311, 33.0260, 137.0335, 4294,   4327.0,   1.5630,   1.5627,2,  34.6824,2,  34.6824,4,    155.0,2,   141.16,2,    35.65,2,     0.00,2,     2.49,2, -999.000,9, -999.000,9,   2326.1,2,   2425.4,3,   7.5822,2,    25.00,  -999.00,9,  -999.00,9,   1.5627,2,      312
  49UP20100706,   P09,     9,  1,      1,     74,2,20100708,0311, 33.0260, 137.0335, 4294,   4327.0,   1.5630,   1.5627,2,  34.6824,2,  34.6845,4,    154.9,2,   141.33,2,    35.76,2,     0.00,2,     2.50,2, -999.000,9, -999.000,9,   2324.5,6,   2426.9,3,   7.5811,6,    25.00,  -999.00,9,  -999.00,9,   1.5627,2,      311