BOTTLE,20200625PRINUNIVRMK
EXPOCODE,SECT_ID,STNNBR,CASTNO,SAMPNO,BTLNBR,BTLNBR_FLAG_W,DATE,TIME,LATITUDE,LONGITUDE,DEPTH,CTDPRS,CTDTMP,SBE35,SBE35_FLAG_W,CTDSAL,CTDSAL_FLAG_W,SALNTY,SALNTY_FLAG_W,OXYGEN,OXYGEN_FLAG_W,SILCAT,SILCAT_FLAG_W,NITRAT,NITRAT_FLAG_W,NITRIT,NITRIT_FLAG_W,PHSPHT,PHSPHT_FLAG_W,CFC-11,CFC-11_FLAG_W,CFC-12,CFC-12_FLAG_W,TCARBN,TCARBN_FLAG_W,ALKALI,ALKALI_FLAG_W,PH_TOT,PH_TOT_FLAG_W,PH_TMP,CHLORA,CHLORA_FLAG_W,PPHYTN,PPHYTN_FLAG_W,SBE35,SBE35_FLAG_W,BTL_TIME
,,,,,,,,,,,METERS,DBAR,ITS-90,,,PSS-78,,PSS-78,,UMOL/KG,,UMOL/KG,,UMOL/KG,,UMOL/KG,,UMOL/KG,,PMOL/KG,,PMOL/KG,,UMOL/KG,,UMOL/KG,,,,DEG C,UG/KG,,UG/KG,,,,
  49UP20100706,   P09,    89,  1,      0,     -9,0,20100807,1055,  0.4937, 141.9918, 3298,      0.0,  29.6069,-999.0000,9,  34.5311,2,-999.0000,9,    193.9,2,     0.40,2,     0.00,2,     0.00,2,     0.09,2, -999.000,9, -999.000,9,   -999.0,9,   -999.0,9,-999.0000,9,  -999.00,  -999.00,9,  -999.00,9,-999.0000,9,     1208
  49UP20100706,   P09,    89,  1,     36,    109,2,20100807,1055,  0.4937, 141.9918, 3298,     11.6,  29.6102,  29.6086,2,  34.5310,2,  34.5318,6,    194.0,6,     1.46,6,     0.00,6,     0.00,6,     0.09,6, -999.000,9, -999.000,9,   1936.3,2,   2267.0,2,   8.1240,2,    25.00,  -999.00,9,  -999.00,9,  29.6086,2,     1244
  49UP20100706,   P09,    89,  1,     35,    108,2,20100807,1055,  0.4937, 141.9918, 3298,     26.1,  29.6113,  29.6102,2,  34.6160,2,  34.6458,4,    193.9,6,     0.96,6,     0.00,6,     0.00,6,     0.11,6, -999.000,9, -999.000,9,   1941.3,2,   2275.9,2,   8.1288,2,    25.00,  -999.00,9,  -999.00,9,  29.6102,2,     1243
  49UP20100706,   P09,    89,  1,     34,    107,2,20100807,1055,  0.4937, 141.9918, 3298,     50.5,  29.5440,  29.5437,2,  35.1192,2,  35.1189,6,    193.4,6,     0.96,6,     0.02,6,     0.02,6,     0.18,6, -999.000,9, -999.000,9,   1972.1,2,   2307.8,2,   8.1162,2,    25.00,  -999.00,9,  -999.00,9,  29.5437,2,     1240
  49UP20100706,   P09,    89,  1,     33,    106,2,20100807,1055,  0.4937, 141.9918, 3298,     75.6,  29.4445,  29.4435,2,  35.1470,2,  35.1448,6,    190.9,6,     0.51,6,     0.18,6,     0.06,6,     0.20,6, -999.000,9, -999.000,9,   1977.3,2,   2312.0,2,   8.1163,2,    25.00,  -999.00,9,  -999.00,9,  29.4435,2,     1239
  49UP20100706,   P09,    89,  1,     32,    105,2,20100807,1055,  0.4937, 141.9918, 3298,    101.1,  29.0512,  29.0678,2,  35.1329,2,  35.1559,4,    190.0,2,     0.60,2,     0.45,2,     0.10,2,     0.23,2, -999.000,9, -999.000,9,   1985.0,2,   2311.8,2,   8.1043,2,    25.00,  -999.00,9,  -999.00,9,  29.0678,2,     1237
  49UP20100706,   P09,    89,  1,     31,    104,2,20100807,1055,  0.4937, 141.9918, 3298,    127.1,  25.5345,  25.5270,2,  35.2910,2,  35.2414,4,    153.8,2,     1.52,2,     4.92,2,     0.06,2,     0.45,2, -999.000,9, -999.000,9,   2029.8,2,   2311.3,2,   8.0150,2,    25.00,  -999.00,9,  -999.00,9,  25.5270,2,     1234
  49UP20100706,   P09,    89,  1,     30,    103,2,20100807,1055,  0.4937, 141.9918, 3298,    153.0,  22.1738,  22.1627,2,  35.5729,2,  35.5791,2,    142.3,2,     2.92,2,     7.41,2,     0.02,2,     0.64,2, -999.000,9, -999.000,9,   2086.3,2,   2334.3,2,   7.9498,2,    25.00,  -999.00,9,  -999.00,9,  22.1627,2,     1232
  49UP20100706,   P09,    89,  1,     29,    102,2,20100807,1055,  0.4937, 141.9918, 3298,    204.8,  17.5731,  17.5726,2,  35.3666,2,  35.4044,4,    142.5,2,     5.70,2,    11.48,2,     0.01,2,     0.91,2, -999.000,9, -999.000,9,   2121.0,2,   2327.7,2,   7.8690,2,    25.00,  -999.00,9,  -999.00,9,  17.5726,2,     1228
  49UP20100706,   P09,    89,  1,     28,    101,2,20100807,1055,  0.4937, 141.9918, 3298,    252.2,  12.7644,  12.7772,2,  34.9444,2,  34.9640,4,    148.0,2,    13.35,2,    18.41,2,     0.01,2,     1.34,2, -999.000,9, -999.000,9,   2151.7,2,   2307.6,2,   7.7576,3,    25.00,  -999.00,9,  -999.00,9,  12.7772,2,     1225
  49UP20100706,   P09,    89,  1,     27,    100,4,20100807,1055,  0.4937, 141.9918, 3298,    322.3,  11.4646,  11.4642,2,  34.8646,2,-999.0000,9,   -999.0,9,  -999.00,9,     0.00,9,  -999.00,9,  -999.00,9, -999.000,9, -999.000,9,   -999.0,9,   -999.0,9,-999.0000,9,  -999.00,  -999.00,9,  -999.00,9,  11.4642,2,     1219
  49UP20100706,   P09,    89,  1,     26,     99,3,20100807,1055,  0.4937, 141.9918, 3298,    372.3,  10.9375,  10.9374,2,  34.8197,2,  34.8222,3,    149.8,2,    14.86,2,    21.56,2,     0.00,2,     1.54,2, -999.000,9, -999.000,9,   2165.9,3,   2301.0,2,   7.7145,2,    25.00,  -999.00,9,  -999.00,9,  10.9374,2,     1215
  49UP20100706,   P09,    89,  1,     25,     98,2,20100807,1055,  0.4937, 141.9918, 3298,    424.6,   9.9046,   9.8933,2,  34.7232,2,  34.7229,2,    119.7,2,    22.40,2,    26.42,2,     0.00,2,     1.86,2, -999.000,9, -999.000,9,   2195.2,2,   2300.4,2,   7.6415,2,    25.00,  -999.00,9,  -999.00,9,   9.8933,2,     1212
  49UP20100706,   P09,    89,  1,     24,     97,2,20100807,1055,  0.4937, 141.9918, 3298,    474.1,   9.1770,   9.1766,2,  34.6638,2,  34.6626,2,     98.6,2,    29.01,2,    29.92,2,     0.00,2,     2.09,2, -999.000,9, -999.000,9,   2222.1,2,   2296.0,2,   7.5858,2,    25.00,  -999.00,9,  -999.00,9,   9.1766,2,     1210
  49UP20100706,   P09,    89,  1,     23,     96,2,20100807,1055,  0.4937, 141.9918, 3298,    534.7,   8.2367,   8.2401,2,  34.6085,2,  34.6110,2,    113.7,2,    32.14,2,    30.21,2,     0.00,2,     2.11,2, -999.000,9, -999.000,9,   2216.3,2,   2304.5,2,   7.5907,2,    25.00,  -999.00,9,  -999.00,9,   8.2401,2,     1207
  49UP20100706,   P09,    89,  1,     22,     95,2,20100807,1055,  0.4937, 141.9918, 3298,    638.4,   6.5449,   6.5452,2,  34.5367,2,  34.5369,2,    127.9,2,    43.09,2,    32.21,2,     0.00,2,     2.26,2, -999.000,9, -999.000,9,   2231.3,2,   2310.8,2,   7.5773,2,    25.00,  -999.00,9,  -999.00,9,   6.5452,2,     1204
  49UP20100706,   P09,    89,  1,     21,     94,2,20100807,1055,  0.4937, 141.9918, 3298,    736.5,   5.8897,   5.8930,2,  34.5290,2,  34.5301,2,    122.2,2,    53.87,2,    33.72,2,     0.00,2,     2.37,2, -999.000,9, -999.000,9,   2246.3,2,   2316.8,2,   7.5596,2,    25.00,  -999.00,9,  -999.00,9,   5.8930,2,     1201
  49UP20100706,   P09,    89,  1,     20,     93,2,20100807,1055,  0.4937, 141.9918, 3298,    835.9,   5.1527,   5.1530,2,  34.5354,2,  34.5358,2,    106.2,2,    66.88,2,    36.51,2,     0.00,2,     2.58,2, -999.000,9, -999.000,9,   2273.9,2,   2334.9,2,   7.5267,2,    25.00,  -999.00,9,  -999.00,9,   5.1530,2,     1158
  49UP20100706,   P09,    89,  1,     19,     92,2,20100807,1055,  0.4937, 141.9918, 3298,    937.1,   4.6828,   4.6822,2,  34.5471,2,  34.5483,2,    103.6,2,    79.72,2,    37.12,2,     0.00,2,     2.63,2, -999.000,9, -999.000,9,   2287.7,6,   2347.7,6,   7.5189,6,    25.00,  -999.00,9,  -999.00,9,   4.6822,2,     1154
  49UP20100706,   P09,    89,  1,     18,     91,2,20100807,1055,  0.4937, 141.9918, 3298,    937.1,   4.6828,   4.6822,2,  34.5471,2,  34.5481,2,    103.2,2,    79.17,2,    37.08,2,     0.00,2,     2.63,2, -999.000,9, -999.000,9,   2289.0,2,   2348.7,2,   7.5161,2,    25.00,  -999.00,9,  -999.00,9,   4.6822,2,     1154
  49UP20100706,   P09,    89,  1,     17,     90,2,20100807,1055,  0.4937, 141.9918, 3298,   1088.5,   4.2043,   4.2042,2,  34.5607,2,  34.5606,2,    101.2,2,    90.21,2,    37.79,2,     0.00,2,     2.68,2, -999.000,9, -999.000,9,   2304.6,2,   2356.7,2,   7.5083,2,    25.00,  -999.00,9,  -999.00,9,   4.2042,2,     1145
  49UP20100706,   P09,    89,  1,     16,     89,2,20100807,1055,  0.4937, 141.9918, 3298,   1342.3,   3.4417,   3.4421,2,  34.5835,2,  34.5833,2,    102.6,2,   106.08,2,    38.49,2,     0.00,2,     2.73,2, -999.000,9, -999.000,9,   2316.2,2,   2374.6,2,   7.5081,2,    25.00,  -999.00,9,  -999.00,9,   3.4421,2,     1139
  49UP20100706,   P09,    89,  1,     15,     88,2,20100807,1055,  0.4937, 141.9918, 3298,   1594.4,   3.0047,   3.0044,2,  34.6008,2,  34.6008,2,    106.2,2,   117.05,2,    38.45,2,     0.00,2,     2.72,2, -999.000,9, -999.000,9,   2329.5,2,   2383.9,2,   7.5135,2,    25.00,  -999.00,9,  -999.00,9,   3.0044,2,     1133
  49UP20100706,   P09,    89,  1,     14,     87,2,20100807,1055,  0.4937, 141.9918, 3298,   1849.7,   2.4338,   2.4336,2,  34.6266,2,  34.6271,2,    114.5,2,   129.96,2,    38.20,2,     0.00,2,     2.68,2, -999.000,9, -999.000,9,   2337.1,6,   2399.8,6,   7.5247,6,    25.00,  -999.00,9,  -999.00,9,   2.4336,2,     1127
  49UP20100706,   P09,    89,  1,     13,     86,2,20100807,1055,  0.4937, 141.9918, 3298,   1849.7,   2.4338,   2.4336,2,  34.6266,2,  34.6280,2,    114.6,2,   130.03,2,    38.13,2,     0.00,2,     2.68,2, -999.000,9, -999.000,9,   2338.6,2,   2395.0,2,   7.5271,2,    25.00,  -999.00,9,  -999.00,9,   2.4336,2,     1127
  49UP20100706,   P09,    89,  1,     12,     85,2,20100807,1055,  0.4937, 141.9918, 3298,   2103.0,   2.1338,   2.1338,2,  34.6420,2,  34.6423,2,    119.7,2,   136.72,2,    37.92,2,     0.00,2,     2.66,2, -999.000,9, -999.000,9,   2343.0,2,   2407.9,2,   7.5351,2,    25.00,  -999.00,9,  -999.00,9,   2.1338,2,     1121
  49UP20100706,   P09,    89,  1,     11,    110,2,20100807,1055,  0.4937, 141.9918, 3298,   2357.3,   1.8258,   1.8246,2,  34.6564,2,  34.6571,2,    130.0,2,   141.61,2,    37.31,2,     0.00,2,     2.60,2, -999.000,9, -999.000,9,   2340.2,2,   2406.8,2,   7.5470,2,    25.00,  -999.00,9,  -999.00,9,   1.8246,2,     1116
  49UP20100706,   P09,    89,  1,     10,     83,2,20100807,1055,  0.4937, 141.9918, 3298,   2611.2,   1.7124,   1.7125,2,  34.6638,2,  34.6645,2,    135.6,2,   142.53,2,    36.98,2,     0.00,2,     2.57,2, -999.000,9, -999.000,9,   2334.0,2,   2408.4,2,   7.5555,6,    25.00,  -999.00,9,  -999.00,9,   1.7125,2,     1110
  49UP20100706,   P09,    89,  1,      9,     82,2,20100807,1055,  0.4937, 141.9918, 3298,   2611.2,   1.7124,   1.7125,2,  34.6638,2,  34.6638,2,    135.8,2,   142.64,2,    36.97,2,     0.00,2,     2.57,2, -999.000,9, -999.000,9,   2335.2,2,   2407.1,2,   7.5560,2,    25.00,  -999.00,9,  -999.00,9,   1.7125,2,     1110
  49UP20100706,   P09,    89,  1,      8,     81,2,20100807,1055,  0.4937, 141.9918, 3298,   2863.8,   1.6283,   1.6281,2,  34.6692,2,  34.6698,2,    141.2,2,   143.05,2,    36.56,2,     0.00,2,     2.54,2, -999.000,9, -999.000,9,   2336.8,2,   2414.6,2,   7.5621,2,    25.00,  -999.00,9,  -999.00,9,   1.6281,2,     1105
  49UP20100706,   P09,    89,  1,      7,     80,2,20100807,1055,  0.4937, 141.9918, 3298,   3117.8,   1.5845,   1.5842,2,  34.6736,2,  34.6741,2,    143.8,2,   143.60,2,    36.43,2,     0.00,2,     2.53,2, -999.000,9, -999.000,9,   2333.7,2,   2413.4,6,   7.5703,6,    25.00,  -999.00,9,  -999.00,9,   1.5842,2,     1100
  49UP20100706,   P09,    89,  1,      6,     79,2,20100807,1055,  0.4937, 141.9918, 3298,   3117.8,   1.5845,   1.5842,2,  34.6736,2,  34.6741,2,    143.9,2,   143.49,2,    36.43,2,     0.00,2,     2.53,2, -999.000,9, -999.000,9,   2338.2,2,   2417.3,2,   7.5721,2,    25.00,  -999.00,9,  -999.00,9,   1.5842,2,     1100
  49UP20100706,   P09,    89,  1,      1,     74,2,20100807,1055,  0.4937, 141.9918, 3298,   3331.9,   1.5915,   1.5913,2,  34.6748,2,  34.6754,2,    144.0,2,   143.88,2,    36.44,2,     0.00,2,     2.53,2, -999.000,9, -999.000,9,   2340.0,2,   2418.7,2,   7.5704,2,    25.00,  -999.00,9,  -999.00,9,   1.5913,2,     1055