BOTTLE,20200625PRINUNIVRMK
EXPOCODE,SECT_ID,STNNBR,CASTNO,SAMPNO,BTLNBR,BTLNBR_FLAG_W,DATE,TIME,LATITUDE,LONGITUDE,DEPTH,CTDPRS,CTDTMP,SBE35,SBE35_FLAG_W,CTDSAL,CTDSAL_FLAG_W,SALNTY,SALNTY_FLAG_W,OXYGEN,OXYGEN_FLAG_W,SILCAT,SILCAT_FLAG_W,NITRAT,NITRAT_FLAG_W,NITRIT,NITRIT_FLAG_W,PHSPHT,PHSPHT_FLAG_W,CFC-11,CFC-11_FLAG_W,CFC-12,CFC-12_FLAG_W,TCARBN,TCARBN_FLAG_W,ALKALI,ALKALI_FLAG_W,PH_TOT,PH_TOT_FLAG_W,PH_TMP,CHLORA,CHLORA_FLAG_W,PPHYTN,PPHYTN_FLAG_W,SBE35,SBE35_FLAG_W,BTL_TIME
,,,,,,,,,,,METERS,DBAR,ITS-90,,,PSS-78,,PSS-78,,UMOL/KG,,UMOL/KG,,UMOL/KG,,UMOL/KG,,UMOL/KG,,PMOL/KG,,PMOL/KG,,UMOL/KG,,UMOL/KG,,,,DEG C,UG/KG,,UG/KG,,,,
  49UP20100706,   P09,   122,  1,      0,     -9,0,20100815,1640,  5.9870, 136.9702, 4487,      0.0,  29.9901,-999.0000,9,  33.7994,2,-999.0000,9,    192.6,2,     0.98,2,     0.02,2,     0.00,2,     0.05,2, -999.000,9, -999.000,9,   -999.0,9,   -999.0,9,-999.0000,9,  -999.00,     0.06,2,     0.01,2,-999.0000,9,     1830
  49UP20100706,   P09,   122,  1,     36,    109,2,20100815,1640,  5.9870, 136.9702, 4487,     10.7,  29.9963,  29.9956,2,  33.7958,2,  33.7940,2,    193.2,2,     0.92,2,     0.00,2,     0.00,2,     0.02,2,    1.497,2,    0.874,2,   1886.2,2,   2222.9,2,   8.1383,2,    25.00,     0.06,2,     0.01,2,  29.9956,2,     1845
  49UP20100706,   P09,   122,  1,     35,    108,2,20100815,1640,  5.9870, 136.9702, 4487,     26.3,  30.0039,  30.0024,2,  33.7998,2,  33.7997,2,    194.0,2,     1.05,2,     0.00,2,     0.00,2,     0.02,2,    1.486,2,    0.887,2,   1892.0,2,   2222.5,2,   8.1394,2,    25.00,     0.06,2,     0.01,2,  30.0024,2,     1844
  49UP20100706,   P09,   122,  1,     34,    107,2,20100815,1640,  5.9870, 136.9702, 4487,     50.7,  29.9521,  29.9508,2,  33.8518,2,  33.8510,2,    194.5,2,     0.94,2,     0.00,2,     0.00,2,     0.02,2,    1.493,2,    0.905,2,   1890.1,2,   2226.7,2,   8.1377,2,    25.00,     0.07,2,     0.02,2,  29.9508,2,     1841
  49UP20100706,   P09,   122,  1,     33,    106,2,20100815,1640,  5.9870, 136.9702, 4487,     75.5,  29.6337,  29.6255,2,  34.4208,2,  34.4305,4,    198.8,2,     0.99,2,     0.00,2,     0.00,2,     0.04,2,    1.595,2,    0.922,2,   1931.5,2,   2257.9,2,   8.1168,2,    25.00,     0.13,2,     0.06,2,  29.6255,2,     1840
  49UP20100706,   P09,   122,  1,     32,    105,2,20100815,1640,  5.9870, 136.9702, 4487,    100.7,  27.4273,  27.4293,2,  34.6220,2,  34.6221,2,    190.0,2,     1.25,2,     0.00,2,     0.00,2,     0.10,2,    1.686,2,    1.030,2,   1962.0,2,   2276.6,2,   8.0818,2,    25.00,     0.25,2,     0.24,2,  27.4293,2,     1839
  49UP20100706,   P09,   122,  1,     31,    104,2,20100815,1640,  5.9870, 136.9702, 4487,    126.5,  24.1377,  24.1364,2,  34.8672,2,  34.8656,2,    175.5,2,     2.44,2,     1.76,2,     0.31,2,     0.27,2,    1.895,2,    1.117,2,   2016.4,2,   2288.7,2,   8.0080,2,    25.00,     0.15,2,     0.26,2,  24.1364,2,     1837
  49UP20100706,   P09,   122,  1,     30,    103,2,20100815,1640,  5.9870, 136.9702, 4487,    150.8,  19.7596,  19.7632,2,  34.7649,2,  34.7601,2,    146.4,2,     6.99,2,     8.49,2,     0.02,2,     0.69,2,    2.098,2,    1.223,2,   2075.0,2,   2289.1,2,   7.8821,2,    25.00,     0.05,2,     0.13,2,  19.7632,2,     1836
  49UP20100706,   P09,   122,  1,     29,    102,2,20100815,1640,  5.9870, 136.9702, 4487,    200.7,  14.1046,  14.0978,2,  34.5683,2,  34.5650,2,    116.1,2,    18.70,2,    19.03,2,     0.00,2,     1.39,2,    1.928,2,    1.056,2,   2144.9,2,   2283.5,2,   7.7218,2,    25.00,     0.01,2,     0.02,2,  14.0978,2,     1834
  49UP20100706,   P09,   122,  1,     28,    101,2,20100815,1640,  5.9870, 136.9702, 4487,    251.6,  10.2421,  10.2345,2,  34.5732,2,  34.5723,2,     61.0,2,    32.52,2,    30.70,2,     0.00,2,     2.21,2,    0.831,2,    0.417,2,   2227.5,2,   2294.3,2,   7.5327,2,    25.00,  -999.00,9,  -999.00,9,  10.2345,2,     1832
  49UP20100706,   P09,   122,  1,     27,    100,2,20100815,1640,  5.9870, 136.9702, 4487,    322.9,   9.0952,   9.0949,2,  34.6031,2,  34.6011,2,     58.8,2,    36.73,2,    33.33,2,     0.00,2,     2.36,2,    0.474,6,    0.200,6,   2241.9,2,   2301.4,2,   7.5114,2,    25.00,  -999.00,9,  -999.00,9,   9.0949,2,     1830
  49UP20100706,   P09,   122,  1,     26,     99,2,20100815,1640,  5.9870, 136.9702, 4487,    372.5,   8.6236,   8.6245,2,  34.5930,2,  34.5915,2,     66.8,2,    38.56,2,    33.54,2,     0.00,2,     2.37,2,    0.434,2,    0.207,2,   2242.3,2,   2303.5,2,   7.5122,2,    25.00,  -999.00,9,  -999.00,9,   8.6245,2,     1828
  49UP20100706,   P09,   122,  1,     25,     98,2,20100815,1640,  5.9870, 136.9702, 4487,    423.0,   8.1775,   8.1782,2,  34.5763,2,  34.5753,2,     73.9,2,    40.99,2,    33.71,2,     0.00,2,     2.38,2,    0.390,2,    0.187,2,   2250.3,2,   2307.8,2,   7.5169,2,    25.00,  -999.00,9,  -999.00,9,   8.1782,2,     1826
  49UP20100706,   P09,   122,  1,     24,     97,2,20100815,1640,  5.9870, 136.9702, 4487,    470.8,   7.7801,   7.7769,2,  34.5672,2,  34.5658,6,     91.1,6,    41.40,6,    33.02,6,     0.00,6,     2.33,6,    0.426,2,    0.202,2,   2236.6,2,   2313.1,2,   7.5405,2,    25.00,  -999.00,9,  -999.00,9,   7.7769,2,     1824
  49UP20100706,   P09,   122,  1,     23,     96,2,20100815,1640,  5.9870, 136.9702, 4487,    534.0,   7.3292,   7.3291,2,  34.5525,2,  34.5514,6,    103.4,6,    43.14,6,    32.76,6,     0.00,6,     2.32,6,    0.385,2,    0.196,2,   2227.6,2,   2313.3,2,   7.5530,2,    25.00,  -999.00,9,  -999.00,9,   7.3291,2,     1822
  49UP20100706,   P09,   122,  1,     22,     95,2,20100815,1640,  5.9870, 136.9702, 4487,    633.7,   6.8423,   6.8426,2,  34.5370,2,  34.5361,2,    110.5,2,    47.05,2,    33.02,2,     0.00,2,     2.34,2,    0.417,6,    0.189,6,   2233.7,6,   2313.4,6,   7.5573,6,    25.00,  -999.00,9,  -999.00,9,   6.8426,2,     1819
  49UP20100706,   P09,   122,  1,     21,     94,2,20100815,1640,  5.9870, 136.9702, 4487,    633.7,   6.8423,   6.8426,2,  34.5370,2,  34.5356,6,    110.2,6,    46.98,6,    33.02,6,     0.00,6,     2.34,6,    0.342,2,    0.171,2,   2237.1,2,   2313.9,2,   7.5530,2,    25.00,  -999.00,9,  -999.00,9,   6.8426,2,     1819
  49UP20100706,   P09,   122,  1,     20,     93,2,20100815,1640,  5.9870, 136.9702, 4487,    736.9,   6.2686,   6.2728,2,  34.5292,2,  34.5281,6,     99.0,6,    56.82,6,    34.99,6,     0.00,6,     2.49,6,    0.239,2,    0.096,2,   2252.8,2,   2325.3,2,   7.5299,2,    25.00,  -999.00,9,  -999.00,9,   6.2728,2,     1815
  49UP20100706,   P09,   122,  1,     19,     92,2,20100815,1640,  5.9870, 136.9702, 4487,    838.5,   5.6654,   5.6660,2,  34.5325,2,  34.5314,2,     92.7,2,    67.95,2,    36.41,2,     0.00,2,     2.59,2,    0.113,2,    0.047,2,   2276.2,2,   2337.7,2,   7.5096,2,    25.00,  -999.00,9,  -999.00,9,   5.6660,2,     1812
  49UP20100706,   P09,   122,  1,     18,     91,2,20100815,1640,  5.9870, 136.9702, 4487,    938.7,   4.9901,   4.9918,2,  34.5436,2,  34.5426,2,     91.7,2,    80.39,2,    37.32,2,     0.00,2,     2.66,2,    0.069,2,    0.021,2,   2288.3,2,   2349.6,2,   7.5086,2,    25.00,  -999.00,9,  -999.00,9,   4.9918,2,     1808
  49UP20100706,   P09,   122,  1,     17,     90,2,20100815,1640,  5.9870, 136.9702, 4487,   1089.8,   4.1719,   4.1720,2,  34.5634,2,  34.5635,2,     90.8,2,    97.28,2,    38.39,2,     0.00,2,     2.74,2,    0.002,2,    0.000,2,   2310.0,6,   2367.4,6,   7.4941,6,    25.00,  -999.00,9,  -999.00,9,   4.1720,2,     1803
  49UP20100706,   P09,   122,  1,     16,     89,2,20100815,1640,  5.9870, 136.9702, 4487,   1089.8,   4.1719,   4.1720,2,  34.5634,2,  34.5628,2,     90.5,2,    97.43,2,    38.40,2,     0.00,2,     2.73,2,    0.000,2,    0.012,3,   2306.5,2,   2368.3,2,   7.4947,2,    25.00,  -999.00,9,  -999.00,9,   4.1720,2,     1803
  49UP20100706,   P09,   122,  1,     15,     88,2,20100815,1640,  5.9870, 136.9702, 4487,   1343.8,   3.3135,   3.3138,2,  34.5890,2,  34.5882,2,     95.7,2,   114.75,2,    38.90,2,     0.00,2,     2.76,2,    0.000,2,    0.000,2,   2326.4,2,   2385.0,2,   7.4970,2,    25.00,  -999.00,9,  -999.00,9,   3.3138,2,     1756
  49UP20100706,   P09,   122,  1,     14,     87,2,20100815,1640,  5.9870, 136.9702, 4487,   1596.0,   2.7341,   2.7342,2,  34.6115,2,  34.6117,2,    102.8,2,   127.03,2,    38.81,2,     0.00,2,     2.74,2,    0.000,2,    0.000,2,   2336.4,2,   2398.0,2,   7.5034,2,    25.00,  -999.00,9,  -999.00,9,   2.7342,2,     1749
  49UP20100706,   P09,   122,  1,     13,     86,2,20100815,1640,  5.9870, 136.9702, 4487,   1849.0,   2.3918,   2.3920,2,  34.6277,2,  34.6272,2,    109.4,2,   133.50,2,    38.53,2,     0.00,2,     2.71,2,    0.000,2,    0.000,2,   2341.1,2,   2400.0,2,   7.5150,2,    25.00,  -999.00,9,  -999.00,9,   2.3920,2,     1743
  49UP20100706,   P09,   122,  1,     12,     85,2,20100815,1640,  5.9870, 136.9702, 4487,   2102.5,   2.1329,   2.1331,2,  34.6402,2,  34.6398,2,    116.9,2,   138.36,2,    38.22,2,     0.00,2,     2.68,2,    0.000,2,    0.000,2,   2338.9,6,   2412.7,6,   7.5249,6,    25.00,  -999.00,9,  -999.00,9,   2.1331,2,     1737
  49UP20100706,   P09,   122,  1,     11,    110,2,20100815,1640,  5.9870, 136.9702, 4487,   2102.5,   2.1329,   2.1331,2,  34.6402,2,  34.6398,2,    117.2,2,   137.67,2,    38.14,2,     0.00,2,     2.68,2,    0.000,2,    0.000,2,   2336.2,2,   2402.1,3,   7.5290,2,    25.00,  -999.00,9,  -999.00,9,   2.1331,2,     1737
  49UP20100706,   P09,   122,  1,     10,     83,2,20100815,1640,  5.9870, 136.9702, 4487,   2361.1,   1.9239,   1.9246,2,  34.6524,2,  34.6516,2,    126.6,3,   140.81,2,    37.71,2,     0.00,2,     2.64,2,    0.000,2,    0.000,2,   2342.0,2,   2413.9,2,   7.5367,2,    25.00,  -999.00,9,  -999.00,9,   1.9246,2,     1731
  49UP20100706,   P09,   122,  1,      9,     82,2,20100815,1640,  5.9870, 136.9702, 4487,   2611.1,   1.7354,   1.7356,2,  34.6633,2,  34.6633,2,    133.9,2,   142.18,2,    37.17,2,     0.00,2,     2.59,2,    0.006,4,    0.000,2,   2333.7,2,   2410.6,2,   7.5532,2,    25.00,  -999.00,9,  -999.00,9,   1.7356,2,     1724
  49UP20100706,   P09,   122,  1,      8,     81,2,20100815,1640,  5.9870, 136.9702, 4487,   2868.7,   1.6430,   1.6431,2,  34.6692,2,  34.6686,2,    139.7,2,   142.76,2,    36.82,2,     0.00,2,     2.56,2,    0.000,2,    0.000,2,   2339.1,3,   2411.0,2,   7.5581,2,    25.00,  -999.00,9,  -999.00,9,   1.6431,2,     1717
  49UP20100706,   P09,   122,  1,      7,     80,2,20100815,1640,  5.9870, 136.9702, 4487,   3119.1,   1.5797,   1.5798,2,  34.6740,2,  34.6736,2,    144.2,2,   142.88,2,    36.54,2,     0.00,2,     2.54,2,    0.000,2,    0.000,2,   2330.6,2,   2415.9,2,   7.5693,2,    25.00,  -999.00,9,  -999.00,9,   1.5798,2,     1711
  49UP20100706,   P09,   122,  1,      6,     79,2,20100815,1640,  5.9870, 136.9702, 4487,   3374.9,   1.5605,   1.5606,2,  34.6771,2,  34.6772,2,    147.1,2,   142.69,2,    36.35,2,     0.00,2,     2.53,2,    0.000,2,    0.000,2,   2331.4,2,   2410.8,2,   7.5714,2,    25.00,  -999.00,9,  -999.00,9,   1.5606,2,     1706
  49UP20100706,   P09,   122,  1,      5,     78,2,20100815,1640,  5.9870, 136.9702, 4487,   3630.7,   1.5498,   1.5499,2,  34.6799,2,  34.6794,2,    149.6,2,   142.08,2,    36.16,2,     0.00,2,     2.51,2,    0.000,2,    0.000,2,   2330.5,2,   2415.9,2,   7.5740,2,    25.00,  -999.00,9,  -999.00,9,   1.5499,2,     1700
  49UP20100706,   P09,   122,  1,      4,     77,2,20100815,1640,  5.9870, 136.9702, 4487,   3886.3,   1.5376,   1.5379,2,  34.6824,2,  34.6816,2,    152.2,2,   141.65,2,    36.00,2,     0.00,2,     2.50,2,    0.000,2,    0.000,2,   2326.1,2,   2415.0,2,   7.5782,2,    25.00,  -999.00,9,  -999.00,9,   1.5379,2,     1654
  49UP20100706,   P09,   122,  1,      3,     76,2,20100815,1640,  5.9870, 136.9702, 4487,   4141.4,   1.5192,   1.5192,2,  34.6856,2,  34.6857,2,    156.1,2,   140.67,2,    35.77,2,     0.00,2,     2.48,2,    0.000,2,    0.000,2,   2325.8,2,   2415.7,2,   7.5840,2,    25.00,  -999.00,9,  -999.00,9,   1.5192,2,     1649
  49UP20100706,   P09,   122,  1,      2,     75,2,20100815,1640,  5.9870, 136.9702, 4487,   4399.6,   1.5042,   1.5042,2,  34.6889,2,  34.6880,4,    160.2,2,   139.14,2,    35.47,2,     0.00,2,     2.46,2,    0.000,2,    0.000,2,   2324.6,2,   2408.5,2,   7.5878,2,    25.00,  -999.00,9,  -999.00,9,   1.5042,2,     1644
  49UP20100706,   P09,   122,  1,      1,     74,2,20100815,1640,  5.9870, 136.9702, 4487,   4521.2,   1.5008,   1.5006,2,  34.6898,2,  34.6894,2,    161.9,2,   138.47,2,    35.37,2,     0.00,2,     2.45,2,    0.001,2,    0.000,2,   2318.6,2,   2411.4,2,   7.5887,2,    25.00,  -999.00,9,  -999.00,9,   1.5006,2,     1640