BOTTLE,20200625PRINUNIVRMK
# 3/15/2012 Initialized README file  
# Data source: CCHDO; 3/15/2010; new version 2/17/2014; new 6/25/2020 
# SHIP: Ryofu Maru 
# Cruise: RF10-05 
# Region: P09 western North Pacific 
# EXPOCODE: 49UP20100706 
# DATES:7/6 - 8/22/2010 
# Chief Scientist: Toshiya Nakano, JMA 
# 104 stations with 36 place Rosette 
# Section on ~137E includes stations 1:67, 116:124 
# Hydro: Who - H.Kamiya; Status - final 
# 	Notes: 	File includes surface samples collected with stainless steel bucket. 
# 	These samples assigned bottle number of 999 rather than original -999 
# 		to prevent substitution with NA, NaN, similar 
# Nuts: Who - H.Kamiya; Status - final 
# 	Notes: RMNS used for nutrient calibration.  
# 	Lots BA,AX,Be,AZ 
# 	Expected accuracy better than 1% 
# 	Nitrate is really NO3+NO2 
# O2: Who - H.Kamiya; Status - final 
# 	Notes: 
# TCO2: Who - H.Kamiya; Status - final 
# 	Notes:  
# TA: Who - H.Kamiya; Status - final 
# 	Notes:  
# CFC: Who -  H.Kamiya; Status - final 
# 	Notes:  
# C13: Who - M.Ishii; Status - not yet completed 
# 	Notes:  
# Other: Chlorophyl, phaeophyten,DOC 
# References: 
EXPOCODE,SECT_ID,STNNBR,CASTNO,SAMPNO,BTLNBR,BTLNBR_FLAG_W,DATE,TIME,LATITUDE,LONGITUDE,DEPTH,CTDPRS,CTDTMP,SBE35,SBE35_FLAG_W,CTDSAL,CTDSAL_FLAG_W,SALNTY,SALNTY_FLAG_W,OXYGEN,OXYGEN_FLAG_W,SILCAT,SILCAT_FLAG_W,NITRAT,NITRAT_FLAG_W,NITRIT,NITRIT_FLAG_W,PHSPHT,PHSPHT_FLAG_W,CFC-11,CFC-11_FLAG_W,CFC-12,CFC-12_FLAG_W,TCARBN,TCARBN_FLAG_W,ALKALI,ALKALI_FLAG_W,PH_TOT,PH_TOT_FLAG_W,PH_TMP,CHLORA,CHLORA_FLAG_W,PPHYTN,PPHYTN_FLAG_W,SBE35,SBE35_FLAG_W,BTL_TIME
,,,,,,,,,,,METERS,DBAR,ITS-90,,,PSS-78,,PSS-78,,UMOL/KG,,UMOL/KG,,UMOL/KG,,UMOL/KG,,UMOL/KG,,PMOL/KG,,PMOL/KG,,UMOL/KG,,UMOL/KG,,,,DEG C,UG/KG,,UG/KG,,,,
  49UP20100706,   P09,     1,  1,      0,     -9,0,20100707,0017, 34.2475, 136.9912,  154,      0.0,  24.0678,-999.0000,9,  31.3879,2,-999.0000,9,    220.8,2,    11.21,2,     0.07,2,     0.00,2,     0.04,2, -999.000,9, -999.000,9,   -999.0,9,   -999.0,9,-999.0000,9,  -999.00,     0.55,2,     0.12,2,-999.0000,9,       20
  49UP20100706,   P09,     1,  1,     36,    109,2,20100707,0017, 34.2475, 136.9912,  154,     11.8,  22.9496,  22.9549,2,  33.3988,2,  33.4246,4,    225.3,2,     6.63,2,     0.00,2,     0.00,2,     0.02,2, -999.000,9, -999.000,9,   1912.5,2,   2201.4,2,   8.0720,3,    25.00,     0.38,2,     0.11,2,  22.9549,2,       31
  49UP20100706,   P09,     1,  1,     35,    108,2,20100707,0017, 34.2475, 136.9912,  154,     25.0,  18.3994,  18.4543,2,  34.4617,2,  34.4554,2,    220.7,2,     8.12,2,     2.03,2,     0.11,2,     0.21,2, -999.000,9, -999.000,9,   2009.2,2,   2260.9,2,   7.9954,3,    25.00,     0.45,2,     0.20,2,  18.4543,2,       29
  49UP20100706,   P09,     1,  1,     34,    107,2,20100707,0017, 34.2475, 136.9912,  154,     49.7,  15.6618,  15.6534,2,  34.5503,2,  34.5485,2,    177.3,2,    14.86,2,    10.48,2,     0.20,2,     0.75,2, -999.000,9, -999.000,9,   2064.7,2,   2272.4,2,   7.8754,3,    25.00,     0.26,2,     0.20,2,  15.6534,2,       28
  49UP20100706,   P09,     1,  1,     33,    106,2,20100707,0017, 34.2475, 136.9912,  154,     76.2,  14.0868,  14.1432,2,  34.5164,2,  34.5203,2,    168.5,2,    19.06,2,    13.20,2,     0.06,2,     0.92,2, -999.000,9, -999.000,9,   2086.1,2,   2273.2,2,   7.8343,3,    25.00,     0.13,2,     0.11,2,  14.1432,2,       26
  49UP20100706,   P09,     1,  1,     32,    105,2,20100707,0017, 34.2475, 136.9912,  154,    101.9,  13.1758,  13.1637,2,  34.4745,2,  34.4729,4,    160.3,2,    25.02,2,    15.78,2,     0.02,2,     1.11,2, -999.000,9, -999.000,9,   2113.4,2,   2279.6,2,   7.7905,3,    25.00,     0.04,2,     0.08,2,  13.1637,2,       25
  49UP20100706,   P09,     1,  1,     31,    104,2,20100707,0017, 34.2475, 136.9912,  154,    125.7,  12.9840,  12.9829,2,  34.4682,2,  34.4676,2,    158.3,2,    26.17,2,    16.11,2,     0.05,2,     1.14,2, -999.000,9, -999.000,9,   2117.2,2,   2278.7,2,   7.7845,3,    25.00,     0.05,2,     0.11,2,  12.9829,2,       23
  49UP20100706,   P09,     1,  1,      2,     75,2,20100707,0017, 34.2475, 136.9912,  154,    138.6,  12.8735,  12.8704,2,  34.4646,2,  34.4640,2,    157.5,3,    26.86,2,    16.39,2,     0.05,2,     1.17,2, -999.000,9, -999.000,9,   2123.1,3,   2287.3,3,   7.7779,3,    25.00,  -999.00,9,  -999.00,9,  12.8704,2,       18
  49UP20100706,   P09,     1,  1,      1,     74,2,20100707,0017, 34.2475, 136.9912,  154,    138.6,  12.8735,  12.8704,2,  34.4646,2,  34.4657,6,    158.8,2,    26.88,6,    16.35,6,     0.05,6,     1.16,6, -999.000,9, -999.000,9,   2115.2,2,   2277.2,2,   7.7779,3,    25.00,     0.05,2,     0.10,2,  12.8704,2,       18
  49UP20100706,   P09,     3,  1,      0,     -9,0,20100707,0445, 34.0157, 136.9733,  972,      0.0,  25.0335,-999.0000,9,  33.3824,2,-999.0000,9,    213.1,2,     3.88,2,     0.05,2,     0.00,2,     0.01,2, -999.000,9, -999.000,9,   -999.0,9,   -999.0,9,-999.0000,9,  -999.00,     0.41,2,     0.09,2,-999.0000,9,      508
  49UP20100706,   P09,     3,  1,     36,    109,2,20100707,0445, 34.0157, 136.9733,  972,     11.9,  23.4327,  23.1940,2,  33.7164,2,  33.8011,4,    227.4,6,     2.20,6,     0.02,6,     0.00,6,     0.01,6,    1.808,2,    1.068,2,   1913.2,2,   2218.8,2,   8.0830,3,    25.00,     0.33,2,     0.08,2,  23.1940,2,      525
  49UP20100706,   P09,     3,  1,     35,    108,2,20100707,0445, 34.0157, 136.9733,  972,     25.2,  20.5641,  20.5788,2,  34.5338,2,  34.5397,6,    206.4,6,     4.47,2,     2.18,2,     0.22,2,     0.20,3,    2.062,2,    1.276,2,   1993.1,2,   2264.5,2,   8.0108,3,    25.00,     1.92,2,     0.54,2,  20.5788,2,      524
  49UP20100706,   P09,     3,  1,     34,    107,2,20100707,0445, 34.0157, 136.9733,  972,     50.2,  17.2284,  17.2175,2,  34.5683,2,  34.5723,2,    180.9,2,    11.09,2,     8.35,2,     0.02,2,     0.58,2,    2.218,2,    1.325,2,   2041.7,2,   2268.0,2,   7.9137,3,    25.00,     0.11,2,     0.10,2,  17.2175,2,      521
  49UP20100706,   P09,     3,  1,     33,    106,2,20100707,0445, 34.0157, 136.9733,  972,     77.0,  16.2341,  16.2365,2,  34.5770,2,  34.5815,2,    178.3,2,    12.70,2,     9.64,2,     0.01,2,     0.66,2, -999.000,5, -999.000,5,   2057.2,2,   2273.8,2,   7.8892,3,    25.00,     0.03,2,     0.05,2,  16.2365,2,      519
  49UP20100706,   P09,     3,  1,     32,    105,2,20100707,0445, 34.0157, 136.9733,  972,    100.3,  14.6454,  14.6433,2,  34.5426,2,  34.5500,4,    171.4,2,    16.85,2,    12.26,2,     0.01,2,     0.86,2,    2.253,2,    1.327,2,   2075.9,2,   2147.8,4,   7.8463,3,    25.00,     0.02,2,     0.02,2,  14.6433,2,      518
  49UP20100706,   P09,     3,  1,     31,    104,2,20100707,0445, 34.0157, 136.9733,  972,    126.4,  13.0778,  13.0804,2,  34.4711,2,  34.4727,2,    160.3,2,    25.02,2,    15.80,2,     0.01,2,     1.11,2,    2.132,2,    1.186,2,   2113.7,2,   2282.5,2,   7.7876,3,    25.00,     0.02,2,     0.06,2,  13.0804,2,      516
  49UP20100706,   P09,     3,  1,     30,    103,2,20100707,0445, 34.0157, 136.9733,  972,    151.7,  11.9616,  11.9207,2,  34.4245,2,  34.4275,2,    152.1,2,    31.46,2,    18.41,2,     0.01,2,     1.31,2,    2.042,4,    1.142,4,   2121.9,2,   2280.3,2,   7.7451,3,    25.00,     0.02,2,     0.06,2,  11.9207,2,      515
  49UP20100706,   P09,     3,  1,     29,    102,2,20100707,0445, 34.0157, 136.9733,  972,    202.7,  10.0667,  10.0718,2,  34.3560,2,  34.3540,2,    137.4,3,    43.60,2,    22.98,2,     0.01,2,     1.65,2,    1.821,4,    1.066,4,   2160.6,6,   2290.4,6,   7.6705,3,    25.00,  -999.00,9,  -999.00,9,  10.0718,2,      513
  49UP20100706,   P09,     3,  1,     28,    101,2,20100707,0445, 34.0157, 136.9733,  972,    202.7,  10.0667,  10.0718,2,  34.3560,2,  34.3570,2,    136.0,2,    43.52,6,    22.90,6,     0.01,6,     1.65,6,    1.839,2,    0.981,2,   2157.1,2,   2290.2,2,   7.6703,3,    25.00,     0.01,2,     0.05,2,  10.0718,2,      513
  49UP20100706,   P09,     3,  1,     27,    100,2,20100707,0445, 34.0157, 136.9733,  972,    253.9,   8.5612,   8.5620,2,  34.2861,2,  34.2875,2,    126.9,2,    52.12,2,    26.29,2,     0.02,2,     1.90,2,    8.165,4,   21.304,4,   2184.4,2,   2293.8,2,   7.6097,3,    25.00,  -999.00,9,  -999.00,9,   8.5620,2,      511
  49UP20100706,   P09,     3,  1,     26,     99,2,20100707,0445, 34.0157, 136.9733,  972,    333.8,   7.2119,   7.2110,2,  34.2765,2,  34.2777,2,    107.0,2,    68.26,2,    30.23,2,     0.01,2,     2.19,2,    1.363,2,    0.741,2,   2234.9,2,   2309.2,2,   7.5453,3,    25.00,  -999.00,9,  -999.00,9,   7.2110,2,      508
  49UP20100706,   P09,     3,  1,     25,     98,2,20100707,0445, 34.0157, 136.9733,  972,    434.7,   6.0447,   6.0443,2,  34.2737,2,  34.2760,2,     91.7,2,    82.01,2,    33.58,2,     0.00,2,     2.44,2,    1.025,2,    0.575,2,   2251.2,2,   2319.9,2,   7.5001,3,    25.00,  -999.00,9,  -999.00,9,   6.0443,2,      505
  49UP20100706,   P09,     3,  1,     24,     97,2,20100707,0445, 34.0157, 136.9733,  972,    535.2,   5.1539,   5.1530,2,  34.2938,2,  34.2940,2,     81.5,2,    94.76,2,    36.18,2,     0.01,2,     2.62,2,    0.740,6,    0.327,6,   2269.6,2,   2329.3,2,   7.4552,3,    25.00,  -999.00,9,  -999.00,9,   5.1530,2,      501
  49UP20100706,   P09,     3,  1,     23,     96,2,20100707,0445, 34.0157, 136.9733,  972,    637.1,   4.4930,   4.4937,2,  34.3255,2,  34.3253,2,     70.0,2,   105.93,2,    37.91,2,     0.01,2,     2.73,2,    0.535,2,    0.283,2,   2306.6,2,   2344.6,2,   7.4375,3,    25.00,  -999.00,9,  -999.00,9,   4.4937,2,      458
  49UP20100706,   P09,     3,  1,     22,     95,2,20100707,0445, 34.0157, 136.9733,  972,    737.8,   4.1725,   4.1716,2,  34.3418,2,  34.3423,2,     65.8,2,   111.52,2,    38.88,2,     0.01,2,     2.80,2,    0.421,2,    0.174,2,   2304.3,3,   2347.8,2,   7.4219,3,    25.00,  -999.00,9,  -999.00,9,   4.1716,2,      455
  49UP20100706,   P09,     3,  1,     21,     94,2,20100707,0445, 34.0157, 136.9733,  972,    837.7,   3.7242,   3.7241,2,  34.3799,2,  34.3811,2,     62.1,2,   120.61,2,    39.74,2,     0.01,2,     2.85,2,    0.244,2,    0.115,2,   2324.9,2,   2359.1,2,   7.4151,3,    25.00,  -999.00,9,  -999.00,9,   3.7241,2,      452
  49UP20100706,   P09,     3,  1,     19,     92,2,20100707,0445, 34.0157, 136.9733,  972,    939.1,   3.3738,   3.3732,2,  34.4155,2,-999.0000,9,   -999.0,9,  -999.00,9,     0.00,9,  -999.00,9,  -999.00,9,    0.179,4,    0.098,4,   -999.0,9,   -999.0,9,-999.0000,9,  -999.00,  -999.00,9,  -999.00,9,   3.3732,2,      448
  49UP20100706,   P09,     3,  1,     20,     93,2,20100707,0445, 34.0157, 136.9733,  972,    939.1,   3.3726,   3.3720,2,  34.4155,2,  34.4169,2,     62.3,2,   127.67,2,    40.21,2,     0.00,2,     2.89,2,    0.177,2,    0.091,2,   2342.0,2,   2340.1,3,   7.4104,3,    25.00,  -999.00,9,  -999.00,9,   3.3720,2,      449
  49UP20100706,   P09,     3,  1,      2,     75,2,20100707,0445, 34.0157, 136.9733,  972,    941.7,   3.3822,   3.3817,2,  34.4145,2,  34.4153,2,     63.7,3,   127.20,6,    40.20,6,     0.01,6,     2.89,6, -999.000,9, -999.000,9,   2337.8,2,   2366.2,6,   7.4109,3,    25.00,  -999.00,9,  -999.00,9,   3.3817,2,      446
  49UP20100706,   P09,     3,  1,      1,     74,2,20100707,0445, 34.0157, 136.9733,  972,    941.7,   3.3822,   3.3817,2,  34.4145,2,  34.4152,2,     64.8,3,   127.16,2,    40.16,2,     0.01,2,     2.89,2, -999.000,9, -999.000,9,   2341.9,2,   2363.8,2,   7.4128,3,    25.00,  -999.00,9,  -999.00,9,   3.3817,2,      446