BOTTLE,20200625PRINUNIVRMK
EXPOCODE,SECT_ID,STNNBR,CASTNO,SAMPNO,BTLNBR,BTLNBR_FLAG_W,DATE,TIME,LATITUDE,LONGITUDE,DEPTH,CTDPRS,CTDTMP,SBE35,SBE35_FLAG_W,CTDSAL,CTDSAL_FLAG_W,SALNTY,SALNTY_FLAG_W,OXYGEN,OXYGEN_FLAG_W,SILCAT,SILCAT_FLAG_W,NITRAT,NITRAT_FLAG_W,NITRIT,NITRIT_FLAG_W,PHSPHT,PHSPHT_FLAG_W,CFC-11,CFC-11_FLAG_W,CFC-12,CFC-12_FLAG_W,TCARBN,TCARBN_FLAG_W,ALKALI,ALKALI_FLAG_W,PH_TOT,PH_TOT_FLAG_W,PH_TMP,CHLORA,CHLORA_FLAG_W,PPHYTN,PPHYTN_FLAG_W,SBE35,SBE35_FLAG_W,BTL_TIME
,,,,,,,,,,,METERS,DBAR,ITS-90,,,PSS-78,,PSS-78,,UMOL/KG,,UMOL/KG,,UMOL/KG,,UMOL/KG,,UMOL/KG,,PMOL/KG,,PMOL/KG,,UMOL/KG,,UMOL/KG,,,,DEG C,UG/KG,,UG/KG,,,,
  49UP20100706,   P09,   110,  1,      0,     -9,0,20100811,2046,  2.4037, 139.9953, 4151,      0.0,  29.8440,-999.0000,9,  34.5154,2,-999.0000,9,    193.3,2,     1.02,2,     0.01,2,     0.00,2,     0.11,2, -999.000,9, -999.000,9,   -999.0,9,   -999.0,9,-999.0000,9,  -999.00,     0.07,2,     0.02,2,-999.0000,9,     2220
  49UP20100706,   P09,   110,  1,     36,    109,2,20100811,2046,  2.4037, 139.9953, 4151,      9.9,  29.8567,  29.8564,2,  34.5154,2,  34.5153,2,    193.0,2,     1.02,2,     0.00,2,     0.00,2,     0.10,2,    1.497,2,    0.862,2,   1930.4,2,   2270.1,2,   8.1358,2,    25.00,     0.06,2,     0.03,2,  29.8564,2,     2235
  49UP20100706,   P09,   110,  1,     35,    108,2,20100811,2046,  2.4037, 139.9953, 4151,     26.5,  29.9314,  29.9306,2,  34.6701,2,  34.6794,4,    192.5,2,     1.05,2,     0.00,2,     0.00,2,     0.11,2,    1.516,2,    0.908,2,   1938.5,2,   2279.6,2,   8.1286,2,    25.00,     0.09,2,     0.04,2,  29.9306,2,     2234
  49UP20100706,   P09,   110,  1,     34,    107,2,20100811,2046,  2.4037, 139.9953, 4151,     49.4,  29.8598,  29.8581,2,  34.6979,2,  34.6975,2,    192.3,2,     0.99,2,     0.00,2,     0.00,2,     0.12,2,    1.517,2,    0.930,2,   1937.4,2,   2277.4,2,   8.1284,2,    25.00,     0.13,2,     0.07,2,  29.8581,2,     2231
  49UP20100706,   P09,   110,  1,     33,    106,2,20100811,2046,  2.4037, 139.9953, 4151,     75.7,  29.8145,  29.8131,2,  34.7245,2,  34.7232,2,    192.1,2,     1.00,2,     0.00,2,     0.00,2,     0.12,2,    1.545,2,    0.914,2,   1937.6,2,   2281.8,2,   8.1278,2,    25.00,     0.21,2,     0.11,2,  29.8131,2,     2230
  49UP20100706,   P09,   110,  1,     32,    105,2,20100811,2046,  2.4037, 139.9953, 4151,    102.8,  29.6800,  29.6827,2,  34.8328,2,  34.7945,4,    191.1,2,     1.08,2,    -0.01,2,     0.01,2,     0.14,2,    1.507,2,    0.920,2,   1941.3,2,   2286.5,2,   8.1288,2,    25.00,     0.22,2,     0.13,2,  29.6827,2,     2228
  49UP20100706,   P09,   110,  1,     31,    104,2,20100811,2046,  2.4037, 139.9953, 4151,    126.9,  28.3358,  28.2803,2,  34.8543,2,  34.8959,4,    178.2,2,     1.63,2,     1.02,2,     0.27,2,     0.23,2,    1.564,2,    0.960,2,   1968.3,2,   2291.6,2,   8.0843,2,    25.00,     0.17,2,     0.17,2,  28.2803,2,     2226
  49UP20100706,   P09,   110,  1,     30,    103,2,20100811,2046,  2.4037, 139.9953, 4151,    150.7,  23.9224,  24.1027,2,  34.8762,2,  34.8573,4,    153.8,2,     4.31,2,     5.30,2,     0.05,2,     0.46,2,    1.798,2,    1.031,2,   2030.3,2,   2288.6,2,   7.9833,2,    25.00,     0.09,2,     0.17,2,  24.1027,2,     2225
  49UP20100706,   P09,   110,  1,     29,    102,2,20100811,2046,  2.4037, 139.9953, 4151,    202.4,  14.5907,  14.6229,2,  34.5761,2,  34.5876,4,    133.5,2,    15.36,2,    15.60,2,     0.01,2,     1.15,2,    2.115,2,    1.183,2,   2121.8,2,   2281.1,2,   7.7737,2,    25.00,     0.00,2,     0.02,2,  14.6229,2,     2222
  49UP20100706,   P09,   110,  1,     28,    101,2,20100811,2046,  2.4037, 139.9953, 4151,    253.0,   9.9915,   9.9934,2,  34.5625,2,  34.5592,2,     79.1,2,    33.60,2,    29.34,2,     0.00,2,     2.10,2,    0.975,2,    0.503,2,   2218.3,2,   2300.0,2,   7.5610,2,    25.00,  -999.00,9,  -999.00,9,   9.9934,2,     2220
  49UP20100706,   P09,   110,  1,     27,    100,2,20100811,2046,  2.4037, 139.9953, 4151,    323.5,   8.8864,   8.8867,2,  34.5909,2,  34.5896,2,     79.1,2,    37.04,2,    31.66,2,     0.00,2,     2.24,2,    0.624,6,    0.313,6,   2228.9,2,   2297.6,2,   7.5433,2,    25.00,  -999.00,9,  -999.00,9,   8.8867,2,     2218
  49UP20100706,   P09,   110,  1,     26,     99,2,20100811,2046,  2.4037, 139.9953, 4151,    374.3,   8.4771,   8.4791,2,  34.6031,2,  34.6001,2,    108.0,2,    34.39,2,    30.14,2,     0.00,2,     2.11,2,    0.684,2,    0.337,2,   2216.3,2,   2304.5,2,   7.5857,2,    25.00,  -999.00,9,  -999.00,9,   8.4791,2,     2216
  49UP20100706,   P09,   110,  1,     25,     98,2,20100811,2046,  2.4037, 139.9953, 4151,    423.8,   7.9548,   7.9541,2,  34.5809,2,  34.5774,2,    108.8,2,    37.17,2,    30.99,2,     0.00,2,     2.18,2,    0.586,2,    0.310,2,   2222.6,2,   2303.6,2,   7.5803,2,    25.00,  -999.00,9,  -999.00,9,   7.9541,2,     2214
  49UP20100706,   P09,   110,  1,     24,     97,2,20100811,2046,  2.4037, 139.9953, 4151,    474.6,   7.4671,   7.4688,2,  34.5551,2,  34.5538,2,    116.5,2,    40.02,2,    31.26,2,     0.00,2,     2.20,2,    0.548,3,    0.303,3,   2227.5,2,   2309.5,2,   7.5798,2,    25.00,  -999.00,9,  -999.00,9,   7.4688,2,     2212
  49UP20100706,   P09,   110,  1,     23,     96,2,20100811,2046,  2.4037, 139.9953, 4151,    534.8,   7.1344,   7.1394,2,  34.5498,2,  34.5497,2,    117.1,2,    41.06,2,    31.83,2,     0.00,2,     2.25,2,    0.488,2,    0.214,2,   2226.4,6,   2308.4,6,   7.5740,6,    25.00,  -999.00,9,  -999.00,9,   7.1394,2,     2209
  49UP20100706,   P09,   110,  1,     22,     95,2,20100811,2046,  2.4037, 139.9953, 4151,    534.8,   7.1344,   7.1394,2,  34.5498,2,  34.5494,2,    117.2,2,    41.02,2,    31.88,2,     0.00,2,     2.24,2,    0.483,2,    0.268,2,   2224.9,2,   2307.5,2,   7.5726,2,    25.00,  -999.00,9,  -999.00,9,   7.1394,2,     2209
  49UP20100706,   P09,   110,  1,     21,     94,2,20100811,2046,  2.4037, 139.9953, 4151,    635.3,   6.4270,   6.4272,2,  34.5352,2,  34.5343,2,    108.9,2,    50.55,2,    34.07,2,     0.00,2,     2.41,2,    0.280,6,    0.107,2,   2245.8,2,   2320.2,2,   7.5478,2,    25.00,  -999.00,9,  -999.00,9,   6.4272,2,     2206
  49UP20100706,   P09,   110,  1,     20,     93,2,20100811,2046,  2.4037, 139.9953, 4151,    735.8,   6.0269,   6.0272,2,  34.5327,2,  34.5321,2,    104.0,2,    57.34,2,    35.15,2,     0.00,2,     2.49,2,    0.164,2,    0.101,3,   2255.6,2,   2324.7,2,   7.5313,2,    25.00,  -999.00,9,  -999.00,9,   6.0272,2,     2203
  49UP20100706,   P09,   110,  1,     19,     92,2,20100811,2046,  2.4037, 139.9953, 4151,    838.7,   5.0722,   5.0734,2,  34.5448,2,  34.5442,2,    101.8,2,    75.10,2,    36.56,2,     0.00,2,     2.60,2,    0.085,2,    0.049,3,   2273.2,2,   2337.6,2,   7.5221,2,    25.00,  -999.00,9,  -999.00,9,   5.0734,2,     2200
  49UP20100706,   P09,   110,  1,     18,     91,2,20100811,2046,  2.4037, 139.9953, 4151,    939.3,   4.6338,   4.6343,2,  34.5537,2,  34.5527,2,     99.1,2,    84.17,2,    37.40,2,     0.00,2,     2.66,2,    0.014,2,    0.021,3,   2288.8,2,   2354.0,2,   7.5170,2,    25.00,  -999.00,9,  -999.00,9,   4.6343,2,     2157
  49UP20100706,   P09,   110,  1,     17,     90,2,20100811,2046,  2.4037, 139.9953, 4151,   1091.0,   4.1744,   4.1748,2,  34.5658,2,  34.5656,2,     95.8,2,    95.56,2,    38.10,2,     0.00,2,     2.71,2,    0.019,2,    0.002,3,   2304.3,2,   2367.0,2,   7.5046,2,    25.00,  -999.00,9,  -999.00,9,   4.1748,2,     2153
  49UP20100706,   P09,   110,  1,     16,     89,2,20100811,2046,  2.4037, 139.9953, 4151,   1342.2,   3.4680,   3.4681,2,  34.5851,2,  34.5845,2,    103.0,2,   107.61,2,    38.33,2,     0.00,2,     2.73,2,    0.000,2,    0.000,3,   2316.2,6,   2378.2,6,   7.5097,6,    25.00,  -999.00,9,  -999.00,9,   3.4681,2,     2147
  49UP20100706,   P09,   110,  1,     15,     88,2,20100811,2046,  2.4037, 139.9953, 4151,   1342.2,   3.4680,   3.4681,2,  34.5851,2,  34.5857,2,    102.5,2,   107.60,2,    38.32,2,     0.00,2,     2.72,2,    0.000,2,    0.000,3,   2320.1,2,   2377.5,2,   7.5101,2,    25.00,  -999.00,9,  -999.00,9,   3.4681,2,     2147
  49UP20100706,   P09,   110,  1,     14,     87,2,20100811,2046,  2.4037, 139.9953, 4151,   1594.4,   2.9435,   2.9431,2,  34.6037,2,  34.6034,2,    104.3,2,   121.49,2,    38.62,2,     0.00,2,     2.74,2,    0.000,2,    0.000,4,   2327.3,2,   2391.7,2,   7.5107,2,    25.00,  -999.00,9,  -999.00,9,   2.9431,2,     2142
  49UP20100706,   P09,   110,  1,     13,     86,2,20100811,2046,  2.4037, 139.9953, 4151,   1848.0,   2.4877,   2.4875,2,  34.6233,2,  34.6243,2,    111.0,2,   130.38,2,    38.32,2,     0.00,2,     2.71,2, -999.000,9, -999.000,9,   2336.5,2,   2399.1,2,   7.5177,2,    25.00,  -999.00,9,  -999.00,9,   2.4875,2,     2136
  49UP20100706,   P09,   110,  1,     12,     85,2,20100811,2046,  2.4037, 139.9953, 4151,   2101.5,   2.1430,   2.1428,2,  34.6404,2,  34.6403,2,    118.4,2,   137.23,2,    38.11,2,     0.00,2,     2.68,2, -999.000,9, -999.000,9,   2336.9,2,   2408.2,2,   7.5310,2,    25.00,  -999.00,9,  -999.00,9,   2.1428,2,     2131
  49UP20100706,   P09,   110,  1,     11,    110,2,20100811,2046,  2.4037, 139.9953, 4151,   2355.5,   1.9035,   1.9035,2,  34.6542,2,  34.6539,2,    124.8,2,   141.71,2,    37.79,2,     0.00,2,     2.65,2, -999.000,9, -999.000,9,   2337.1,2,   2416.1,2,   7.5393,2,    25.00,  -999.00,9,  -999.00,9,   1.9035,2,     2126
  49UP20100706,   P09,   110,  1,     10,     83,2,20100811,2046,  2.4037, 139.9953, 4151,   2609.3,   1.7544,   1.7545,2,  34.6623,2,  34.6616,2,    132.8,2,   142.58,2,    37.23,2,     0.00,2,     2.60,2,    0.000,2,    0.000,4,   2341.5,2,   2414.3,2,   7.5534,2,    25.00,  -999.00,9,  -999.00,9,   1.7545,2,     2121
  49UP20100706,   P09,   110,  1,      9,     82,2,20100811,2046,  2.4037, 139.9953, 4151,   2864.8,   1.6276,   1.6276,2,  34.6698,2,  34.6699,2,    141.2,2,   142.88,2,    36.70,2,     0.00,2,     2.56,2, -999.000,9, -999.000,9,   2337.5,2,   2415.2,2,   7.5629,2,    25.00,  -999.00,9,  -999.00,9,   1.6276,2,     2115
  49UP20100706,   P09,   110,  1,      8,     81,2,20100811,2046,  2.4037, 139.9953, 4151,   3119.5,   1.5874,   1.5875,2,  34.6740,2,  34.6735,2,    143.3,2,   143.45,2,    36.54,2,     0.00,2,     2.55,2, -999.000,9, -999.000,9,   2333.6,2,   2417.0,2,   7.5665,2,    25.00,  -999.00,9,  -999.00,9,   1.5875,2,     2110
  49UP20100706,   P09,   110,  1,      7,     80,2,20100811,2046,  2.4037, 139.9953, 4151,   3374.5,   1.5666,   1.5666,2,  34.6767,2,  34.6764,2,    146.1,2,   143.25,2,    36.32,2,     0.00,2,     2.53,2, -999.000,9, -999.000,9,   2331.5,6,   2417.5,2,   7.5725,6,    25.00,  -999.00,9,  -999.00,9,   1.5666,2,     2105
  49UP20100706,   P09,   110,  1,      6,     79,2,20100811,2046,  2.4037, 139.9953, 4151,   3374.5,   1.5666,   1.5666,2,  34.6767,2,  34.6763,2,    146.1,2,   143.05,2,    36.30,2,     0.00,2,     2.52,2, -999.000,9, -999.000,9,   2328.6,2,   2417.3,2,   7.5752,2,    25.00,  -999.00,9,  -999.00,9,   1.5666,2,     2105
  49UP20100706,   P09,   110,  1,      5,     78,2,20100811,2046,  2.4037, 139.9953, 4151,   3630.1,   1.5593,   1.5592,2,  34.6793,2,  34.6793,6,    147.6,6,   143.17,6,    36.25,6,     0.00,6,     2.53,6,    0.000,2,    0.000,4,   2327.4,2,   2415.0,2,   7.5761,2,    25.00,  -999.00,9,  -999.00,9,   1.5592,2,     2059
  49UP20100706,   P09,   110,  1,      4,     77,2,20100811,2046,  2.4037, 139.9953, 4151,   3884.8,   1.5424,   1.5425,2,  34.6832,2,  34.6829,6,    150.1,2,   143.27,6,    36.10,6,     0.00,6,     2.51,6, -999.000,9, -999.000,9,   2330.2,2,   2423.3,2,   7.5850,2,    25.00,  -999.00,9,  -999.00,9,   1.5425,2,     2054
  49UP20100706,   P09,   110,  1,      3,     76,2,20100811,2046,  2.4037, 139.9953, 4151,   4142.6,   1.5185,   1.5184,2,  34.6870,2,  34.6868,2,    154.1,2,   142.71,2,    35.91,2,     0.00,2,     2.49,2, -999.000,9, -999.000,9,   2331.5,6,   2422.5,6,   7.5904,6,    25.00,  -999.00,9,  -999.00,9,   1.5184,2,     2049
  49UP20100706,   P09,   110,  1,      2,     75,2,20100811,2046,  2.4037, 139.9953, 4151,   4142.6,   1.5185,   1.5184,2,  34.6870,2,  34.6872,6,    153.7,2,   142.76,6,    35.87,6,     0.00,6,     2.49,6, -999.000,9, -999.000,9,   2327.1,2,   2421.0,2,   7.5919,2,    25.00,  -999.00,9,  -999.00,9,   1.5184,2,     2049
  49UP20100706,   P09,   110,  1,      1,     74,2,20100811,2046,  2.4037, 139.9953, 4151,   4194.6,   1.5216,   1.5214,2,  34.6871,2,  34.6869,6,    153.7,6,   142.79,6,    35.91,6,     0.00,6,     2.49,6,    0.000,2,    0.000,4,   2327.2,2,   2424.5,2,   7.5904,2,    25.00,  -999.00,9,  -999.00,9,   1.5214,2,     2046