BOTTLE,20200625PRINUNIVRMK
EXPOCODE,SECT_ID,STNNBR,CASTNO,SAMPNO,BTLNBR,BTLNBR_FLAG_W,DATE,TIME,LATITUDE,LONGITUDE,DEPTH,CTDPRS,CTDTMP,SBE35,SBE35_FLAG_W,CTDSAL,CTDSAL_FLAG_W,SALNTY,SALNTY_FLAG_W,OXYGEN,OXYGEN_FLAG_W,SILCAT,SILCAT_FLAG_W,NITRAT,NITRAT_FLAG_W,NITRIT,NITRIT_FLAG_W,PHSPHT,PHSPHT_FLAG_W,CFC-11,CFC-11_FLAG_W,CFC-12,CFC-12_FLAG_W,TCARBN,TCARBN_FLAG_W,ALKALI,ALKALI_FLAG_W,PH_TOT,PH_TOT_FLAG_W,PH_TMP,CHLORA,CHLORA_FLAG_W,PPHYTN,PPHYTN_FLAG_W,SBE35,SBE35_FLAG_W,BTL_TIME
,,,,,,,,,,,METERS,DBAR,ITS-90,,,PSS-78,,PSS-78,,UMOL/KG,,UMOL/KG,,UMOL/KG,,UMOL/KG,,UMOL/KG,,PMOL/KG,,PMOL/KG,,UMOL/KG,,UMOL/KG,,,,DEG C,UG/KG,,UG/KG,,,,
  49UP20100706,   P09,    66,  1,      0,     -9,0,20100723,0536,  7.3377, 136.8123, 6501,      0.0,  30.2549,-999.0000,9,  33.7979,2,-999.0000,9,    195.4,3,     1.18,2,     0.00,2,     0.00,2,     0.03,2, -999.000,9, -999.000,9,   -999.0,9,   -999.0,9,-999.0000,9,  -999.00,  -999.00,9,  -999.00,9,-999.0000,9,      745
  49UP20100706,   P09,    66,  1,     36,    109,2,20100723,0536,  7.3377, 136.8123, 6501,     11.7,  30.0985,  30.1269,2,  33.8087,2,  33.8112,2,    197.2,3,     1.20,2,     0.00,2,     0.00,2,     0.01,2,    1.474,2,    0.907,2,   -999.0,9,   -999.0,9,-999.0000,9,  -999.00,  -999.00,9,  -999.00,9,  30.1269,2,      815
  49UP20100706,   P09,    66,  1,     35,    108,2,20100723,0536,  7.3377, 136.8123, 6501,     51.2,  29.4490,  29.4478,2,  34.5083,2,  34.5049,2,    202.4,3,     0.86,2,     0.00,2,     0.00,2,     0.05,2, -999.000,9, -999.000,9,   -999.0,9,   -999.0,9,-999.0000,9,  -999.00,  -999.00,9,  -999.00,9,  29.4478,2,      801
  49UP20100706,   P09,    66,  1,     34,    107,2,20100723,0536,  7.3377, 136.8123, 6501,     75.6,  28.7352,  28.7339,2,  34.5091,2,  34.5084,2,    200.2,3,     1.14,2,     0.00,2,     0.00,2,     0.06,2, -999.000,9, -999.000,9,   -999.0,9,   -999.0,9,-999.0000,9,  -999.00,  -999.00,9,  -999.00,9,  28.7339,2,      800
  49UP20100706,   P09,    66,  1,     33,    106,2,20100723,0536,  7.3377, 136.8123, 6501,    101.5,  26.5538,  26.5595,2,  34.7543,2,  34.7515,2,    190.0,3,     1.42,2,     0.26,2,     0.23,2,     0.15,2,    1.804,2,    1.063,2,   -999.0,9,   -999.0,9,-999.0000,9,  -999.00,  -999.00,9,  -999.00,9,  26.5595,2,      758
  49UP20100706,   P09,    66,  1,     32,    105,2,20100723,0536,  7.3377, 136.8123, 6501,    125.7,  23.3203,  23.3297,2,  34.8590,2,  34.8642,2,    170.9,3,     3.06,2,     2.82,2,     0.11,2,     0.35,2, -999.000,9, -999.000,9,   -999.0,9,   -999.0,9,-999.0000,9,  -999.00,  -999.00,9,  -999.00,9,  23.3297,2,      756
  49UP20100706,   P09,    66,  1,     31,    104,2,20100723,0536,  7.3377, 136.8123, 6501,    152.9,  20.2046,  20.2988,2,  34.7878,2,  34.7959,4,    153.4,3,     6.00,2,     7.02,2,     0.03,2,     0.61,2, -999.000,9, -999.000,9,   -999.0,9,   -999.0,9,-999.0000,9,  -999.00,  -999.00,9,  -999.00,9,  20.2988,2,      755
  49UP20100706,   P09,    66,  1,     30,    103,2,20100723,0536,  7.3377, 136.8123, 6501,    200.8,  13.3864,  13.3843,2,  34.4896,2,  34.4909,2,    128.2,3,    18.09,2,    18.00,2,     0.00,2,     1.34,2,    2.122,2,    1.176,2,   -999.0,9,   -999.0,9,-999.0000,9,  -999.00,  -999.00,9,  -999.00,9,  13.3843,2,      753
  49UP20100706,   P09,    66,  1,     29,    102,2,20100723,0536,  7.3377, 136.8123, 6501,    255.6,  10.8122,  10.8108,2,  34.4533,2,  34.4538,2,     97.0,3,    28.58,2,    25.43,2,     0.00,2,     1.85,2, -999.000,9, -999.000,9,   -999.0,9,   -999.0,9,-999.0000,9,  -999.00,  -999.00,9,  -999.00,9,  10.8108,2,      751
  49UP20100706,   P09,    66,  1,     28,    101,2,20100723,0536,  7.3377, 136.8123, 6501,    302.2,   9.4468,   9.4466,2,  34.5303,2,  34.5402,4,     69.1,3,    36.61,2,    30.99,2,     0.00,2,     2.22,2,    0.806,2,    0.388,2,   -999.0,9,   -999.0,9,-999.0000,9,  -999.00,  -999.00,9,  -999.00,9,   9.4466,2,      749
  49UP20100706,   P09,    66,  1,     27,    100,2,20100723,0536,  7.3377, 136.8123, 6501,    403.5,   8.3189,   8.3187,2,  34.5405,2,  34.5306,4,     71.1,3,    42.66,2,    33.19,2,     0.00,2,     2.36,2, -999.000,9, -999.000,9,   -999.0,9,   -999.0,9,-999.0000,9,  -999.00,  -999.00,9,  -999.00,9,   8.3187,2,      746
  49UP20100706,   P09,    66,  1,     26,     99,2,20100723,0536,  7.3377, 136.8123, 6501,    503.1,   7.5036,   7.5035,2,  34.5338,2,  34.5336,2,     78.9,3,    47.82,2,    34.05,2,     0.00,2,     2.42,2,    0.361,2,    0.164,2,   -999.0,9,   -999.0,9,-999.0000,9,  -999.00,  -999.00,9,  -999.00,9,   7.5035,2,      744
  49UP20100706,   P09,    66,  1,     25,     98,2,20100723,0536,  7.3377, 136.8123, 6501,    604.6,   6.7418,   6.7416,2,  34.5266,2,  34.5270,2,     83.4,3,    54.82,2,    35.17,2,     0.00,2,     2.51,2, -999.000,9, -999.000,9,   -999.0,9,   -999.0,9,-999.0000,9,  -999.00,  -999.00,9,  -999.00,9,   6.7416,2,      741
  49UP20100706,   P09,    66,  1,     24,     97,2,20100723,0536,  7.3377, 136.8123, 6501,    706.7,   6.0950,   6.0948,2,  34.5256,2,  34.5250,2,     80.1,3,    64.47,2,    36.51,2,     0.00,2,     2.61,2, -999.000,9, -999.000,9,   -999.0,9,   -999.0,9,-999.0000,9,  -999.00,  -999.00,9,  -999.00,9,   6.0948,2,      738
  49UP20100706,   P09,    66,  1,     23,     96,2,20100723,0536,  7.3377, 136.8123, 6501,    806.1,   5.4753,   5.4745,2,  34.5321,2,  34.5327,2,     82.0,3,    74.06,2,    37.36,2,     0.00,2,     2.67,2, -999.000,9, -999.000,9,   -999.0,9,   -999.0,9,-999.0000,9,  -999.00,  -999.00,9,  -999.00,9,   5.4745,2,      735
  49UP20100706,   P09,    66,  1,     22,     95,2,20100723,0536,  7.3377, 136.8123, 6501,    907.1,   4.9082,   4.9104,2,  34.5413,2,  34.5411,2,     84.1,3,    84.19,2,    37.96,2,     0.00,2,     2.71,2, -999.000,9, -999.000,9,   -999.0,9,   -999.0,9,-999.0000,9,  -999.00,  -999.00,9,  -999.00,9,   4.9104,2,      732
  49UP20100706,   P09,    66,  1,     21,     94,2,20100723,0536,  7.3377, 136.8123, 6501,   1008.7,   4.4752,   4.4751,2,  34.5531,2,  34.5533,2,     87.7,3,    92.23,2,    38.26,2,     0.00,2,     2.73,2,    0.000,2,    0.000,2,   -999.0,9,   -999.0,9,-999.0000,9,  -999.00,  -999.00,9,  -999.00,9,   4.4751,2,      729
  49UP20100706,   P09,    66,  1,     20,     93,2,20100723,0536,  7.3377, 136.8123, 6501,   1260.6,   3.5954,   3.5951,2,  34.5766,2,  34.5764,2,     92.5,3,   110.26,2,    38.72,2,     0.00,2,     2.75,2, -999.000,9, -999.000,9,   -999.0,9,   -999.0,9,-999.0000,9,  -999.00,  -999.00,9,  -999.00,9,   3.5951,2,      724
  49UP20100706,   P09,    66,  1,     19,     92,2,20100723,0536,  7.3377, 136.8123, 6501,   1514.6,   2.9763,   2.9762,2,  34.5998,2,  34.5987,2,     99.2,3,   122.70,2,    38.81,2,     0.00,2,     2.75,2,    0.000,2,    0.000,2,   -999.0,9,   -999.0,9,-999.0000,9,  -999.00,  -999.00,9,  -999.00,9,   2.9762,2,      718
  49UP20100706,   P09,    66,  1,     18,     91,2,20100723,0536,  7.3377, 136.8123, 6501,   1767.1,   2.5259,   2.5261,2,  34.6196,2,  34.6197,2,    107.2,3,   131.62,2,    38.55,2,     0.00,2,     2.72,2, -999.000,9, -999.000,9,   -999.0,9,   -999.0,9,-999.0000,9,  -999.00,  -999.00,9,  -999.00,9,   2.5261,2,      712
  49UP20100706,   P09,    66,  1,     17,     90,2,20100723,0536,  7.3377, 136.8123, 6501,   2021.2,   2.2146,   2.2147,2,  34.6344,2,  34.6347,2,    115.2,3,   136.87,2,    38.15,2,     0.00,2,     2.68,2,    0.000,2,    0.000,2,   -999.0,9,   -999.0,9,-999.0000,9,  -999.00,  -999.00,9,  -999.00,9,   2.2147,2,      707
  49UP20100706,   P09,    66,  1,     16,     89,2,20100723,0536,  7.3377, 136.8123, 6501,   2276.4,   1.9617,   1.9617,2,  34.6470,2,  34.6472,2,    123.5,3,   140.88,2,    37.72,2,     0.00,2,     2.64,2,    0.000,2,    0.000,2,   -999.0,9,   -999.0,9,-999.0000,9,  -999.00,  -999.00,9,  -999.00,9,   1.9617,2,      701
  49UP20100706,   P09,    66,  1,     15,     88,2,20100723,0536,  7.3377, 136.8123, 6501,   2530.3,   1.8043,   1.8044,2,  34.6576,2,  34.6577,2,    131.3,3,   142.60,2,    37.33,2,     0.00,2,     2.61,2,    0.000,2,    0.000,2,   -999.0,9,   -999.0,9,-999.0000,9,  -999.00,  -999.00,9,  -999.00,9,   1.8044,2,      656
  49UP20100706,   P09,    66,  1,     14,     87,2,20100723,0536,  7.3377, 136.8123, 6501,   2784.8,   1.6701,   1.6705,2,  34.6655,2,  34.6657,2,    137.5,3,   144.04,2,    36.93,2,     0.00,2,     2.57,2,    0.000,2,    0.000,2,   -999.0,9,   -999.0,9,-999.0000,9,  -999.00,  -999.00,9,  -999.00,9,   1.6705,2,      650
  49UP20100706,   P09,    66,  1,     13,     86,2,20100723,0536,  7.3377, 136.8123, 6501,   3039.3,   1.6186,   1.6187,2,  34.6700,2,  34.6694,2,    141.7,3,   144.03,2,    36.67,2,     0.00,2,     2.55,2,    0.000,3,    0.000,3,   -999.0,9,   -999.0,9,-999.0000,9,  -999.00,  -999.00,9,  -999.00,9,   1.6187,2,      645
  49UP20100706,   P09,    66,  1,     12,     85,2,20100723,0536,  7.3377, 136.8123, 6501,   3295.4,   1.5747,   1.5750,2,  34.6753,2,  34.6750,2,    147.6,3,   142.82,2,    36.29,2,     0.00,2,     2.52,2,    0.000,2,    0.000,2,   -999.0,9,   -999.0,9,-999.0000,9,  -999.00,  -999.00,9,  -999.00,9,   1.5750,2,      639
  49UP20100706,   P09,    66,  1,     11,    110,2,20100723,0536,  7.3377, 136.8123, 6501,   3550.4,   1.5553,   1.5557,2,  34.6782,2,  34.6780,2,    149.8,3,   142.67,2,    35.99,2,     0.00,2,     2.51,2,    0.000,2,    0.000,2,   -999.0,9,   -999.0,9,-999.0000,9,  -999.00,  -999.00,9,  -999.00,9,   1.5557,2,      634
  49UP20100706,   P09,    66,  1,     10,     83,2,20100723,0536,  7.3377, 136.8123, 6501,   3806.7,   1.5379,   1.5383,2,  34.6810,2,  34.6807,2,    153.2,3,   142.25,2,    35.91,2,     0.00,2,     2.50,2,    0.000,2,    0.000,2,   -999.0,9,   -999.0,9,-999.0000,9,  -999.00,  -999.00,9,  -999.00,9,   1.5383,2,      628
  49UP20100706,   P09,    66,  1,      9,     82,2,20100723,0536,  7.3377, 136.8123, 6501,   4062.4,   1.5103,   1.5105,2,  34.6847,2,  34.6847,2,    157.4,3,   141.41,2,    35.61,2,     0.00,2,     2.48,2,    0.000,2,    0.020,4,   -999.0,9,   -999.0,9,-999.0000,9,  -999.00,  -999.00,9,  -999.00,9,   1.5105,2,      622
  49UP20100706,   P09,    66,  1,      8,     81,2,20100723,0536,  7.3377, 136.8123, 6501,   4319.1,   1.4869,   1.4873,2,  34.6884,2,  34.6888,2,    163.0,3,   139.41,2,    35.26,2,     0.00,2,     2.45,2,    0.000,2,    0.000,2,   -999.0,9,   -999.0,9,-999.0000,9,  -999.00,  -999.00,9,  -999.00,9,   1.4873,2,      617
  49UP20100706,   P09,    66,  1,      7,     80,2,20100723,0536,  7.3377, 136.8123, 6501,   4574.7,   1.4521,   1.4523,2,  34.6928,2,  34.6928,2,    169.9,3,   136.46,2,    34.76,2,     0.00,2,     2.41,2,    0.000,2,    0.000,2,   -999.0,9,   -999.0,9,-999.0000,9,  -999.00,  -999.00,9,  -999.00,9,   1.4523,2,      611
  49UP20100706,   P09,    66,  1,      6,     79,2,20100723,0536,  7.3377, 136.8123, 6501,   4832.1,   1.4620,   1.4625,2,  34.6946,2,  34.6943,2,    172.9,3,   135.15,2,    34.61,2,     0.00,2,     2.40,2,    0.000,2,    0.000,2,   -999.0,9,   -999.0,9,-999.0000,9,  -999.00,  -999.00,9,  -999.00,9,   1.4625,2,      606
  49UP20100706,   P09,    66,  1,      5,     78,2,20100723,0536,  7.3377, 136.8123, 6501,   5087.1,   1.4826,   1.4830,2,  34.6955,2,  34.6949,2,    174.1,3,   134.53,2,    34.44,2,     0.00,2,     2.39,2,    0.000,2,    0.000,2,   -999.0,9,   -999.0,9,-999.0000,9,  -999.00,  -999.00,9,  -999.00,9,   1.4830,2,      600
  49UP20100706,   P09,    66,  1,      4,     77,2,20100723,0536,  7.3377, 136.8123, 6501,   5345.9,   1.5118,   1.5122,2,  34.6957,2,  34.6954,6,    174.6,3,   134.14,6,    34.43,6,     0.00,6,     2.39,6,    0.000,2,    0.000,2,   -999.0,9,   -999.0,9,-999.0000,9,  -999.00,  -999.00,9,  -999.00,9,   1.5122,2,      554
  49UP20100706,   P09,    66,  1,      3,     76,2,20100723,0536,  7.3377, 136.8123, 6501,   5602.5,   1.5453,   1.5456,2,  34.6958,2,  34.6957,6,    174.7,3,   133.78,6,    34.43,6,     0.00,6,     2.39,6,    0.000,2,    0.000,2,   -999.0,9,   -999.0,9,-999.0000,9,  -999.00,  -999.00,9,  -999.00,9,   1.5456,2,      548
  49UP20100706,   P09,    66,  1,      2,     75,2,20100723,0536,  7.3377, 136.8123, 6501,   5862.3,   1.5786,   1.5789,2,  34.6958,2,  34.6955,6,    174.9,3,   133.76,6,    34.40,6,     0.00,6,     2.38,6,    0.000,2,    0.000,2,   -999.0,9,   -999.0,9,-999.0000,9,  -999.00,  -999.00,9,  -999.00,9,   1.5789,2,      543
  49UP20100706,   P09,    66,  1,      1,     74,2,20100723,0536,  7.3377, 136.8123, 6501,   6123.4,   1.6148,   1.6149,2,  34.6957,2,  34.6962,4,    174.8,3,   133.73,6,    34.35,6,     0.00,6,     2.38,6,    0.000,2,    0.000,6,   -999.0,9,   -999.0,9,-999.0000,9,  -999.00,  -999.00,9,  -999.00,9,   1.6149,2,      536