BOTTLE,20200625PRINUNIVRMK
EXPOCODE,SECT_ID,STNNBR,CASTNO,SAMPNO,BTLNBR,BTLNBR_FLAG_W,DATE,TIME,LATITUDE,LONGITUDE,DEPTH,CTDPRS,CTDTMP,SBE35,SBE35_FLAG_W,CTDSAL,CTDSAL_FLAG_W,SALNTY,SALNTY_FLAG_W,OXYGEN,OXYGEN_FLAG_W,SILCAT,SILCAT_FLAG_W,NITRAT,NITRAT_FLAG_W,NITRIT,NITRIT_FLAG_W,PHSPHT,PHSPHT_FLAG_W,CFC-11,CFC-11_FLAG_W,CFC-12,CFC-12_FLAG_W,TCARBN,TCARBN_FLAG_W,ALKALI,ALKALI_FLAG_W,PH_TOT,PH_TOT_FLAG_W,PH_TMP,CHLORA,CHLORA_FLAG_W,PPHYTN,PPHYTN_FLAG_W,SBE35,SBE35_FLAG_W,BTL_TIME
,,,,,,,,,,,METERS,DBAR,ITS-90,,,PSS-78,,PSS-78,,UMOL/KG,,UMOL/KG,,UMOL/KG,,UMOL/KG,,UMOL/KG,,PMOL/KG,,PMOL/KG,,UMOL/KG,,UMOL/KG,,,,DEG C,UG/KG,,UG/KG,,,,
  49UP20100706,   P09,    18,  1,      0,     -9,0,20100710,0906, 30.0017, 137.0238, 4507,      0.0,  26.5310,-999.0000,9,  33.7457,2,-999.0000,9,    205.5,2,     1.25,2,     0.03,2,     0.00,2,     0.01,2, -999.000,9, -999.000,9,   -999.0,9,   -999.0,9,-999.0000,9,  -999.00,     0.09,2,     0.01,2,-999.0000,9,     1100
  49UP20100706,   P09,    18,  1,     36,    109,2,20100710,0906, 30.0017, 137.0238, 4507,     10.9,  26.5140,  26.5138,2,  33.7569,2,  33.7671,4,    205.9,2,     1.27,2,     0.03,2,     0.00,2,     0.00,2,    1.604,2,    0.983,2,   1905.5,2,   2218.1,2,   8.1030,2,    25.00,     0.07,2,     0.02,2,  26.5138,2,     1117
  49UP20100706,   P09,    18,  1,     35,    108,2,20100710,0906, 30.0017, 137.0238, 4507,     26.1,  25.4997,  25.4978,2,  34.4268,2,  34.4345,4,    209.5,2,     1.30,2,     0.01,2,     0.00,2,     0.00,2,    1.706,2,    1.057,2,   1944.9,2,   2262.7,2,   8.0943,2,    25.00,     0.08,2,     0.02,2,  25.4978,2,     1115
  49UP20100706,   P09,    18,  1,     34,    107,2,20100710,0906, 30.0017, 137.0238, 4507,     50.5,  24.0480,  24.0465,2,  34.6901,2,  34.6908,2,    214.4,2,     1.20,2,     0.02,2,     0.00,2,     0.00,2,    1.788,2,    1.103,2,   1959.3,2,   2274.0,2,   8.0926,2,    25.00,     0.10,2,     0.03,2,  24.0465,2,     1111
  49UP20100706,   P09,    18,  1,     33,    106,2,20100710,0906, 30.0017, 137.0238, 4507,     75.8,  23.2046,  23.2036,2,  34.7564,2,  34.7569,2,    214.8,2,     1.52,2,     0.03,2,     0.00,2,     0.01,2,    1.811,2,    1.123,2,   1968.1,6,   2279.8,6,   8.0823,6,    25.00,  -999.00,9,  -999.00,9,  23.2036,2,     1109
  49UP20100706,   P09,    18,  1,     32,    105,2,20100710,0906, 30.0017, 137.0238, 4507,     75.8,  23.2046,  23.2036,2,  34.7564,2,  34.7561,2,    215.6,2,     1.42,2,     0.02,2,     0.01,2,     0.01,2,    1.820,2,    1.126,2,   1966.1,2,   2281.4,2,   8.0820,2,    25.00,     0.19,2,     0.12,2,  23.2036,2,     1109
  49UP20100706,   P09,    18,  1,     31,    104,2,20100710,0906, 30.0017, 137.0238, 4507,    102.0,  22.4055,  22.4030,2,  34.7598,2,  34.7591,2,    209.0,2,     1.54,2,     0.14,2,     0.22,2,     0.04,2,    1.909,2,    1.121,2,   1979.1,2,   2284.4,2,   8.0635,2,    25.00,     0.25,2,     0.23,2,  22.4030,2,     1108
  49UP20100706,   P09,    18,  1,     30,    103,2,20100710,0906, 30.0017, 137.0238, 4507,    126.5,  21.7309,  21.7294,2,  34.7477,2,  34.7470,2,    205.3,2,     1.65,2,     1.05,2,     0.06,2,     0.08,2,    1.878,2,    1.159,2,   1985.7,2,   2284.0,2,   8.0512,2,    25.00,     0.12,2,     0.16,2,  21.7294,2,     1106
  49UP20100706,   P09,    18,  1,     29,    102,2,20100710,0906, 30.0017, 137.0238, 4507,    151.5,  20.8021,  20.8011,2,  34.7366,2,  34.7368,2,    205.6,2,     2.31,2,     1.53,2,     0.05,2,     0.11,2,    2.027,2,    1.230,2,   1995.1,6,   2279.7,6,   8.0298,6,    25.00,  -999.00,9,  -999.00,9,  20.8011,2,     1104
  49UP20100706,   P09,    18,  1,     28,    101,2,20100710,0906, 30.0017, 137.0238, 4507,    151.5,  20.8021,  20.8011,2,  34.7366,2,  34.7365,2,    205.5,2,     2.11,2,     1.53,2,     0.05,2,     0.11,2,    2.002,2,    1.242,2,   1996.8,2,   2280.2,2,   8.0307,2,    25.00,     0.05,2,     0.07,2,  20.8011,2,     1104
  49UP20100706,   P09,    18,  1,     27,    100,2,20100710,0906, 30.0017, 137.0238, 4507,    202.5,  19.4010,  19.4008,2,  34.7315,2,  34.7309,2,    206.0,2,     2.60,2,     2.37,2,     0.02,2,     0.16,2,    2.093,2,    1.281,2,   2005.4,2,   2279.3,2,   8.0149,2,    25.00,     0.01,2,     0.02,2,  19.4008,2,     1102
  49UP20100706,   P09,    18,  1,     26,     99,2,20100710,0906, 30.0017, 137.0238, 4507,    254.0,  18.7666,  18.7655,2,  34.7583,2,  34.7575,2,    187.5,2,     4.18,2,     4.86,2,     0.01,2,     0.32,2,    2.150,2,    1.357,2,   2032.5,2,   2283.3,2,   7.9635,2,    25.00,  -999.00,9,  -999.00,9,  18.7655,2,     1059
  49UP20100706,   P09,    18,  1,     25,     98,2,20100710,0906, 30.0017, 137.0238, 4507,    302.9,  17.6197,  17.6190,2,  34.7415,2,  34.7414,2,    188.3,2,     5.31,2,     6.16,2,     0.01,2,     0.40,2,    2.279,6,    1.354,6,   2043.5,2,   2279.2,2,   7.9428,2,    25.00,  -999.00,9,  -999.00,9,  17.6190,2,     1057
  49UP20100706,   P09,    18,  1,     24,     97,2,20100710,0906, 30.0017, 137.0238, 4507,    405.4,  15.3517,  15.3527,2,  34.6084,2,  34.6103,2,    186.8,2,    10.04,2,     9.61,2,     0.01,2,     0.65,2,    2.418,3,    1.383,3,   2066.0,2,   2278.2,2,   7.8905,2,    25.00,  -999.00,9,  -999.00,9,  15.3527,2,     1047
  49UP20100706,   P09,    18,  1,     23,     96,2,20100710,0906, 30.0017, 137.0238, 4507,    504.6,  12.7837,  12.7778,2,  34.4324,2,  34.4362,2,    173.6,2,    18.45,2,    14.73,2,     0.01,2,     1.03,2,    2.482,2,    1.373,2,   2104.9,2,   2276.4,2,   7.7965,2,    25.00,  -999.00,9,  -999.00,9,  12.7778,2,     1044
  49UP20100706,   P09,    18,  1,     22,     95,2,20100710,0906, 30.0017, 137.0238, 4507,    604.2,  10.4162,  10.4173,2,  34.3021,2,  34.3026,2,    155.4,2,    32.56,2,    20.60,2,     0.00,2,     1.46,2,    2.227,6,    1.205,6,   2151.2,2,   2282.3,2,   7.7104,2,    25.00,  -999.00,9,  -999.00,9,  10.4173,2,     1042
  49UP20100706,   P09,    18,  1,     21,     94,2,20100710,0906, 30.0017, 137.0238, 4507,    706.4,   7.9295,   7.9285,2,  34.2002,2,  34.2006,2,    132.2,2,    52.63,2,    26.97,2,     0.01,2,     1.94,2,    1.910,2,    1.037,2,   2201.3,2,   2293.1,2,   7.5991,2,    25.00,  -999.00,9,  -999.00,9,   7.9285,2,     1039
  49UP20100706,   P09,    18,  1,     20,     93,2,20100710,0906, 30.0017, 137.0238, 4507,    807.0,   6.4048,   6.4054,2,  34.1975,2,  34.1972,2,    106.3,2,    71.60,2,    31.92,2,     0.01,2,     2.30,2,    1.386,2,    0.755,2,   2245.4,2,   2311.1,2,   7.5213,2,    25.00,  -999.00,9,  -999.00,9,   6.4054,2,     1036
  49UP20100706,   P09,    18,  1,     19,     92,2,20100710,0906, 30.0017, 137.0238, 4507,    907.0,   5.1460,   5.1385,2,  34.2637,2,  34.1973,4,     79.4,2,    71.63,3,    31.98,3,     0.01,3,     2.31,3,    0.822,2,    0.465,2,   2246.8,3,   2311.9,4,   7.5135,4,    25.00,  -999.00,9,  -999.00,9,   5.1385,2,     1033
  49UP20100706,   P09,    18,  1,     18,     91,2,20100710,0906, 30.0017, 137.0238, 4507,   1010.0,   4.2904,   4.2904,2,  34.3086,2,  34.3076,2,     64.8,2,   108.77,2,    38.98,2,     0.01,2,     2.80,2,    0.543,2,    0.241,2,   2317.6,2,   2344.4,2,   7.4169,2,    25.00,  -999.00,9,  -999.00,9,   4.2904,2,     1030
  49UP20100706,   P09,    18,  1,     17,     90,3,20100710,0906, 30.0017, 137.0238, 4507,   1210.8,   3.4593,   3.4595,2,  34.4044,2,  34.4040,3,     60.8,4,   126.32,2,    40.46,2,     0.01,2,     2.89,2,    0.192,2,    0.100,2,   2339.7,2,   2369.9,2,   7.4068,2,    25.00,  -999.00,9,  -999.00,9,   3.4595,2,     1026
  49UP20100706,   P09,    18,  1,     16,     89,2,20100710,0906, 30.0017, 137.0238, 4507,   1414.4,   2.9254,   2.9254,2,  34.4723,2,  34.4723,2,     65.6,2,   136.86,2,    40.63,2,     0.00,2,     2.90,2,    0.088,2,    0.020,2,   2351.9,6,   2385.2,6,   7.4212,6,    25.00,  -999.00,9,  -999.00,9,   2.9254,2,     1021
  49UP20100706,   P09,    18,  1,     15,     88,2,20100710,0906, 30.0017, 137.0238, 4507,   1414.4,   2.9254,   2.9254,2,  34.4723,2,  34.4720,2,     65.6,2,   136.83,2,    40.66,2,     0.00,2,     2.90,2,    0.077,2,    0.087,2,   2352.2,2,   2385.6,2,   7.4236,2,    25.00,  -999.00,9,  -999.00,9,   2.9254,2,     1021
  49UP20100706,   P09,    18,  1,     14,     87,2,20100710,0906, 30.0017, 137.0238, 4507,   1617.6,   2.5289,   2.5284,2,  34.5244,2,  34.5245,2,     75.2,2,   143.74,2,    40.37,2,     0.00,2,     2.87,2,    0.068,2,    0.002,2,   2354.9,2,   2392.2,2,   7.4384,2,    25.00,  -999.00,9,  -999.00,9,   2.5284,2,     1016
  49UP20100706,   P09,    18,  1,     13,     86,2,20100710,0906, 30.0017, 137.0238, 4507,   1820.7,   2.2225,   2.2223,2,  34.5698,2,  34.5698,2,     91.3,2,   146.10,2,    39.58,2,     0.00,2,     2.80,2,    0.025,2,    0.003,2,   2351.0,2,   2398.3,2,   7.4705,2,    25.00,  -999.00,9,  -999.00,9,   2.2223,2,     1011
  49UP20100706,   P09,    18,  1,     12,     85,2,20100710,0906, 30.0017, 137.0238, 4507,   2024.3,   2.0267,   2.0269,2,  34.5976,2,  34.5979,2,    102.2,2,   147.37,2,    39.02,2,     0.00,2,     2.75,2,    0.000,2,    0.000,2,   2349.3,2,   2404.6,2,   7.4925,2,    25.00,  -999.00,9,  -999.00,9,   2.0269,2,     1006
  49UP20100706,   P09,    18,  1,     11,    110,2,20100710,0906, 30.0017, 137.0238, 4507,   2278.7,   1.8463,   1.8463,2,  34.6250,2,  34.6250,2,    116.6,2,   146.28,2,    38.11,2,     0.00,2,     2.68,2,    0.000,2,    0.001,2,   2344.2,2,   2435.9,4,   7.5169,2,    25.00,  -999.00,9,  -999.00,9,   1.8463,2,     1000
  49UP20100706,   P09,    18,  1,     10,     83,2,20100710,0906, 30.0017, 137.0238, 4507,   2534.0,   1.7400,   1.7399,2,  34.6428,2,  34.6428,2,    127.9,2,   144.80,2,    37.53,2,     0.00,2,     2.63,2,    0.000,2,    0.000,2,   2335.7,2,   2403.0,3,   7.5381,2,    25.00,  -999.00,9,  -999.00,9,   1.7399,2,      954
  49UP20100706,   P09,    18,  1,      9,     82,2,20100710,0906, 30.0017, 137.0238, 4507,   2788.9,   1.6562,   1.6564,2,  34.6555,2,  34.6556,2,    135.6,2,   144.36,2,    37.00,2,     0.00,2,     2.58,2,    0.000,2,    0.018,4,   2333.5,6,   2401.6,3,   7.5541,6,    25.00,  -999.00,9,  -999.00,9,   1.6564,2,      948
  49UP20100706,   P09,    18,  1,      8,     81,2,20100710,0906, 30.0017, 137.0238, 4507,   2788.9,   1.6562,   1.6564,2,  34.6555,2,  34.6556,2,    135.6,2,   144.07,2,    37.08,2,     0.00,2,     2.59,2,    0.008,4,    0.000,2,   2331.7,2,   2403.4,3,   7.5518,2,    25.00,  -999.00,9,  -999.00,9,   1.6564,2,      948
  49UP20100706,   P09,    18,  1,      7,     80,2,20100710,0906, 30.0017, 137.0238, 4507,   3043.5,   1.5936,   1.5936,2,  34.6653,2,  34.6651,2,    142.3,2,   143.29,2,    36.61,2,     0.00,2,     2.56,2,    0.000,4,    0.007,4,   2328.1,2,   2407.3,3,   7.5622,2,    25.00,  -999.00,9,  -999.00,9,   1.5936,2,      942
  49UP20100706,   P09,    18,  1,      6,     79,2,20100710,0906, 30.0017, 137.0238, 4507,   3297.6,   1.5438,   1.5437,2,  34.6731,2,  34.6735,6,    147.7,6,   142.66,6,    36.29,6,     0.00,6,     2.53,6,    0.000,2,    0.000,2,   2329.0,2,   2404.8,3,   7.5727,2,    25.00,  -999.00,9,  -999.00,9,   1.5437,2,      936
  49UP20100706,   P09,    18,  1,      5,     78,2,20100710,0906, 30.0017, 137.0238, 4507,   3554.9,   1.5261,   1.5260,2,  34.6778,2,  34.6779,6,    152.2,6,   142.38,6,    36.05,6,     0.00,6,     2.51,6,    0.000,2,    0.003,2,   2325.3,2,   2406.0,3,   7.5797,2,    25.00,  -999.00,9,  -999.00,9,   1.5260,2,      931
  49UP20100706,   P09,    18,  1,      4,     77,2,20100710,0906, 30.0017, 137.0238, 4507,   3810.7,   1.5317,   1.5315,2,  34.6801,2,  34.6803,6,    153.6,6,   142.14,6,    35.93,6,     0.00,6,     2.50,6,    0.000,2,    0.000,2,   2323.6,2,   2404.8,3,   7.5802,2,    25.00,  -999.00,9,  -999.00,9,   1.5315,2,      925
  49UP20100706,   P09,    18,  1,      3,     76,2,20100710,0906, 30.0017, 137.0238, 4507,   4067.2,   1.5468,   1.5465,2,  34.6814,2,  34.6818,6,    154.0,6,   141.76,6,    35.86,6,     0.00,6,     2.50,6,    0.000,2,    0.000,2,   2325.4,2,   2405.9,3,   7.5845,2,    25.00,  -999.00,9,  -999.00,9,   1.5465,2,      919
  49UP20100706,   P09,    18,  1,      2,     75,2,20100710,0906, 30.0017, 137.0238, 4507,   4324.3,   1.5692,   1.5692,2,  34.6820,2,  34.6827,2,    154.8,2,   141.46,2,    35.81,2,     0.00,2,     2.49,2,    0.000,2,    0.027,4,   2326.7,2,   2403.8,3,   7.5820,2,    25.00,  -999.00,9,  -999.00,9,   1.5692,2,      912
  49UP20100706,   P09,    18,  1,      1,     74,2,20100710,0906, 30.0017, 137.0238, 4507,   4583.7,   1.5921,   1.5918,2,  34.6825,2,  34.6826,2,    155.4,2,   141.26,2,    35.80,2,     0.00,2,     2.49,2,    0.000,2,    0.012,4,   2322.8,2,   2404.8,3,   7.5821,2,    25.00,  -999.00,9,  -999.00,9,   1.5918,2,      906