BOTTLE,20200625PRINUNIVRMK
EXPOCODE,SECT_ID,STNNBR,CASTNO,SAMPNO,BTLNBR,BTLNBR_FLAG_W,DATE,TIME,LATITUDE,LONGITUDE,DEPTH,CTDPRS,CTDTMP,SBE35,SBE35_FLAG_W,CTDSAL,CTDSAL_FLAG_W,SALNTY,SALNTY_FLAG_W,OXYGEN,OXYGEN_FLAG_W,SILCAT,SILCAT_FLAG_W,NITRAT,NITRAT_FLAG_W,NITRIT,NITRIT_FLAG_W,PHSPHT,PHSPHT_FLAG_W,CFC-11,CFC-11_FLAG_W,CFC-12,CFC-12_FLAG_W,TCARBN,TCARBN_FLAG_W,ALKALI,ALKALI_FLAG_W,PH_TOT,PH_TOT_FLAG_W,PH_TMP,CHLORA,CHLORA_FLAG_W,PPHYTN,PPHYTN_FLAG_W,SBE35,SBE35_FLAG_W,BTL_TIME
,,,,,,,,,,,METERS,DBAR,ITS-90,,,PSS-78,,PSS-78,,UMOL/KG,,UMOL/KG,,UMOL/KG,,UMOL/KG,,UMOL/KG,,PMOL/KG,,PMOL/KG,,UMOL/KG,,UMOL/KG,,,,DEG C,UG/KG,,UG/KG,,,,
  49UP20100706,   P09,    51,  1,      0,     -9,0,20100719,1337, 13.4978, 136.9593, 5009,      0.0,  29.7463,-999.0000,9,  34.6822,2,-999.0000,9,    194.0,2,     0.73,2,     0.00,2,     0.00,4,     0.04,2, -999.000,9, -999.000,9,   -999.0,9,   -999.0,9,-999.0000,9,  -999.00,  -999.00,9,  -999.00,9,-999.0000,9,     1532
  49UP20100706,   P09,    51,  1,     36,    109,2,20100719,1337, 13.4978, 136.9593, 5009,     10.9,  29.7464,  29.7459,2,  34.6818,2,  34.6796,2,    195.1,2,     0.80,2,     0.00,2,     0.00,4,     0.04,2, -999.000,9, -999.000,9,   -999.0,9,   -999.0,9,-999.0000,9,  -999.00,  -999.00,9,  -999.00,9,  29.7459,2,     1608
  49UP20100706,   P09,    51,  1,     35,    108,4,20100719,1337, 13.4978, 136.9593, 5009,     26.0,  29.7666,  29.7657,2,  34.6806,2,  34.9232,4,    194.9,4,     1.80,4,     1.31,4,     0.00,4,     0.15,4, -999.000,9, -999.000,9,   -999.0,9,   -999.0,9,-999.0000,9,  -999.00,  -999.00,9,  -999.00,9,  29.7657,2,     1555
  49UP20100706,   P09,    51,  1,     34,    107,2,20100719,1337, 13.4978, 136.9593, 5009,     51.0,  28.7734,  28.7667,2,  34.7875,2,  34.7865,2,    208.3,2,     0.72,2,     0.00,2,     0.00,4,     0.05,4, -999.000,9, -999.000,9,   -999.0,9,   -999.0,9,-999.0000,9,  -999.00,  -999.00,9,  -999.00,9,  28.7667,2,     1552
  49UP20100706,   P09,    51,  1,     33,    106,2,20100719,1337, 13.4978, 136.9593, 5009,     76.5,  28.1993,  28.2190,2,  34.9140,2,  34.8995,4,    209.2,2,     0.71,2,     0.00,2,     0.00,4,     0.04,2, -999.000,9, -999.000,9,   -999.0,9,   -999.0,9,-999.0000,9,  -999.00,  -999.00,9,  -999.00,9,  28.2190,2,     1550
  49UP20100706,   P09,    51,  1,     32,    105,2,20100719,1337, 13.4978, 136.9593, 5009,    101.1,  27.6162,  27.6092,2,  34.9999,2,  34.9961,2,    206.1,2,     0.71,2,     0.00,2,     0.00,4,     0.07,4, -999.000,9, -999.000,9,   -999.0,9,   -999.0,9,-999.0000,9,  -999.00,  -999.00,9,  -999.00,9,  27.6092,2,     1549
  49UP20100706,   P09,    51,  1,     31,    104,2,20100719,1337, 13.4978, 136.9593, 5009,    126.7,  27.0704,  27.0815,2,  35.0358,2,  35.0374,2,    199.5,2,     0.65,2,     0.00,2,     0.00,4,     0.05,2, -999.000,9, -999.000,9,   -999.0,9,   -999.0,9,-999.0000,9,  -999.00,  -999.00,9,  -999.00,9,  27.0815,2,     1547
  49UP20100706,   P09,    51,  1,     30,    103,2,20100719,1337, 13.4978, 136.9593, 5009,    149.9,  25.8573,  25.8910,2,  35.1110,2,  35.1106,2,    188.0,2,     0.83,2,     0.09,2,     0.16,4,     0.09,2, -999.000,9, -999.000,9,   -999.0,9,   -999.0,9,-999.0000,9,  -999.00,  -999.00,9,  -999.00,9,  25.8910,2,     1546
  49UP20100706,   P09,    51,  1,     29,    102,2,20100719,1337, 13.4978, 136.9593, 5009,    202.4,  21.5382,  21.5386,2,  35.0102,2,  35.0254,4,    172.9,2,     2.04,2,     2.53,2,     0.00,4,     0.25,2, -999.000,9, -999.000,9,   -999.0,9,   -999.0,9,-999.0000,9,  -999.00,  -999.00,9,  -999.00,9,  21.5386,2,     1544
  49UP20100706,   P09,    51,  1,     28,    101,2,20100719,1337, 13.4978, 136.9593, 5009,    251.3,  17.1202,  17.1082,2,  34.7025,2,  34.7156,4,    179.6,2,     5.21,2,     6.66,2,     0.00,4,     0.48,2, -999.000,9, -999.000,9,   -999.0,9,   -999.0,9,-999.0000,9,  -999.00,  -999.00,9,  -999.00,9,  17.1082,2,     1542
  49UP20100706,   P09,    51,  1,     27,    100,2,20100719,1337, 13.4978, 136.9593, 5009,    302.5,  14.3614,  14.3622,2,  34.4952,2,  34.5070,4,    175.5,2,    10.37,2,    11.13,2,     0.00,4,     0.81,2, -999.000,9, -999.000,9,   -999.0,9,   -999.0,9,-999.0000,9,  -999.00,  -999.00,9,  -999.00,9,  14.3622,2,     1540
  49UP20100706,   P09,    51,  1,     26,     99,2,20100719,1337, 13.4978, 136.9593, 5009,    352.9,  11.5188,  11.5272,2,  34.3026,2,  34.3117,4,    158.5,2,    19.20,2,    17.23,2,     0.00,4,     1.26,2, -999.000,9, -999.000,9,   -999.0,9,   -999.0,9,-999.0000,9,  -999.00,  -999.00,9,  -999.00,9,  11.5272,2,     1537
  49UP20100706,   P09,    51,  1,     25,     98,2,20100719,1337, 13.4978, 136.9593, 5009,    403.6,   9.6879,   9.6868,2,  34.2924,2,  34.2923,2,    115.2,2,    32.55,2,    25.10,2,     0.00,4,     1.84,2, -999.000,9, -999.000,9,   -999.0,9,   -999.0,9,-999.0000,9,  -999.00,  -999.00,9,  -999.00,9,   9.6868,2,     1535
  49UP20100706,   P09,    51,  1,     24,     97,2,20100719,1337, 13.4978, 136.9593, 5009,    454.2,   8.4097,   8.4094,2,  34.3401,2,  34.3402,2,     83.4,2,    44.43,2,    30.74,2,     0.00,4,     2.22,2, -999.000,9, -999.000,9,   -999.0,9,   -999.0,9,-999.0000,9,  -999.00,  -999.00,9,  -999.00,9,   8.4094,2,     1533
  49UP20100706,   P09,    51,  1,     23,     96,2,20100719,1337, 13.4978, 136.9593, 5009,    504.6,   7.6589,   7.6583,2,  34.3792,2,  34.3780,2,     72.1,2,    51.56,2,    33.25,2,     0.00,4,     2.41,2, -999.000,9, -999.000,9,   -999.0,9,   -999.0,9,-999.0000,9,  -999.00,  -999.00,9,  -999.00,9,   7.6583,2,     1531
  49UP20100706,   P09,    51,  1,     22,     95,2,20100719,1337, 13.4978, 136.9593, 5009,    605.4,   6.4458,   6.4457,2,  34.4177,2,  34.4180,2,     69.1,2,    65.64,2,    35.93,2,     0.00,4,     2.59,2, -999.000,9, -999.000,9,   -999.0,9,   -999.0,9,-999.0000,9,  -999.00,  -999.00,9,  -999.00,9,   6.4457,2,     1527
  49UP20100706,   P09,    51,  1,     21,     94,2,20100719,1337, 13.4978, 136.9593, 5009,    707.5,   5.6299,   5.6324,2,  34.4633,2,  34.4601,2,     72.4,2,    76.31,2,    37.33,2,     0.00,4,     2.68,2, -999.000,9, -999.000,9,   -999.0,9,   -999.0,9,-999.0000,9,  -999.00,  -999.00,9,  -999.00,9,   5.6324,2,     1524
  49UP20100706,   P09,    51,  1,     20,     93,2,20100719,1337, 13.4978, 136.9593, 5009,    808.1,   4.9468,   4.9472,2,  34.5052,2,  34.5040,2,     79.7,2,    86.65,2,    38.09,2,     0.00,4,     2.73,2, -999.000,9, -999.000,9,   -999.0,9,   -999.0,9,-999.0000,9,  -999.00,  -999.00,9,  -999.00,9,   4.9472,2,     1520
  49UP20100706,   P09,    51,  1,     19,     92,2,20100719,1337, 13.4978, 136.9593, 5009,    909.0,   4.5555,   4.5557,2,  34.5271,2,  34.5271,2,     87.4,3,    93.39,2,    38.35,2,     0.00,4,     2.74,2, -999.000,9, -999.000,9,   -999.0,9,   -999.0,9,-999.0000,9,  -999.00,  -999.00,9,  -999.00,9,   4.5557,2,     1516
  49UP20100706,   P09,    51,  1,     18,     91,2,20100719,1337, 13.4978, 136.9593, 5009,   1008.6,   4.1740,   4.1740,2,  34.5421,2,  34.5411,2,     84.5,2,   100.85,2,    38.51,2,     0.00,4,     2.75,2, -999.000,9, -999.000,9,   -999.0,9,   -999.0,9,-999.0000,9,  -999.00,  -999.00,9,  -999.00,9,   4.1740,2,     1513
  49UP20100706,   P09,    51,  1,     17,     90,2,20100719,1337, 13.4978, 136.9593, 5009,   1263.9,   3.3265,   3.3279,2,  34.5689,2,  34.5690,2,     92.2,2,   118.14,2,    38.70,2,     0.00,4,     2.75,2, -999.000,9, -999.000,9,   -999.0,9,   -999.0,9,-999.0000,9,  -999.00,  -999.00,9,  -999.00,9,   3.3279,2,     1505
  49UP20100706,   P09,    51,  1,     16,     89,2,20100719,1337, 13.4978, 136.9593, 5009,   1518.0,   2.7582,   2.7550,2,  34.5916,2,  34.5914,2,     98.8,2,   129.62,2,    38.54,2,     0.00,4,     2.73,2, -999.000,9, -999.000,9,   -999.0,9,   -999.0,9,-999.0000,9,  -999.00,  -999.00,9,  -999.00,9,   2.7550,2,     1458
  49UP20100706,   P09,    51,  1,     15,     88,2,20100719,1337, 13.4978, 136.9593, 5009,   1770.2,   2.3309,   2.3309,2,  34.6144,2,  34.6144,2,    107.0,2,   137.06,2,    38.50,2,     0.00,4,     2.71,2, -999.000,9, -999.000,9,   -999.0,9,   -999.0,9,-999.0000,9,  -999.00,  -999.00,9,  -999.00,9,   2.3309,2,     1452
  49UP20100706,   P09,    51,  1,     14,     87,2,20100719,1337, 13.4978, 136.9593, 5009,   2025.0,   2.0606,   2.0606,2,  34.6333,2,  34.6332,2,    115.3,2,   141.18,2,    38.11,2,     0.00,4,     2.68,2, -999.000,9, -999.000,9,   -999.0,9,   -999.0,9,-999.0000,9,  -999.00,  -999.00,9,  -999.00,9,   2.0606,2,     1446
  49UP20100706,   P09,    51,  1,     13,     86,2,20100719,1337, 13.4978, 136.9593, 5009,   2278.2,   1.8463,   1.8468,2,  34.6491,2,  34.6494,2,    123.8,2,   143.82,2,    37.60,2,     0.00,4,     2.63,2, -999.000,9, -999.000,9,   -999.0,9,   -999.0,9,-999.0000,9,  -999.00,  -999.00,9,  -999.00,9,   1.8468,2,     1440
  49UP20100706,   P09,    51,  1,     12,     85,2,20100719,1337, 13.4978, 136.9593, 5009,   2529.2,   1.7270,   1.7271,2,  34.6589,2,  34.6589,2,    130.7,2,   144.90,2,    37.25,2,     0.00,4,     2.60,2, -999.000,9, -999.000,9,   -999.0,9,   -999.0,9,-999.0000,9,  -999.00,  -999.00,9,  -999.00,9,   1.7271,2,     1434
  49UP20100706,   P09,    51,  1,     11,    110,2,20100719,1337, 13.4978, 136.9593, 5009,   2785.2,   1.6446,   1.6448,2,  34.6656,2,  34.6655,2,    136.4,2,   145.08,2,    36.95,2,     0.00,4,     2.57,2, -999.000,9, -999.000,9,   -999.0,9,   -999.0,9,-999.0000,9,  -999.00,  -999.00,9,  -999.00,9,   1.6448,2,     1428
  49UP20100706,   P09,    51,  1,     10,     83,2,20100719,1337, 13.4978, 136.9593, 5009,   3038.1,   1.5970,   1.5970,2,  34.6708,2,  34.6701,2,    141.6,2,   143.96,2,    36.57,2,     0.00,4,     2.54,2, -999.000,9, -999.000,9,   -999.0,9,   -999.0,9,-999.0000,9,  -999.00,  -999.00,9,  -999.00,9,   1.5970,2,     1422
  49UP20100706,   P09,    51,  1,      9,     82,2,20100719,1337, 13.4978, 136.9593, 5009,   3294.8,   1.5644,   1.5645,2,  34.6748,2,  34.6750,6,    146.2,6,   143.03,6,    36.33,6,     0.00,4,     2.52,6, -999.000,9, -999.000,9,   -999.0,9,   -999.0,9,-999.0000,9,  -999.00,  -999.00,9,  -999.00,9,   1.5645,2,     1416
  49UP20100706,   P09,    51,  1,      8,     81,2,20100719,1337, 13.4978, 136.9593, 5009,   3550.4,   1.5507,   1.5508,2,  34.6776,2,  34.6777,6,    149.0,6,   142.40,6,    36.10,6,     0.00,4,     2.50,6, -999.000,9, -999.000,9,   -999.0,9,   -999.0,9,-999.0000,9,  -999.00,  -999.00,9,  -999.00,9,   1.5508,2,     1410
  49UP20100706,   P09,    51,  1,      7,     80,2,20100719,1337, 13.4978, 136.9593, 5009,   3806.4,   1.5431,   1.5431,2,  34.6800,2,  34.6800,6,    151.4,6,   142.12,6,    35.91,6,     0.00,4,     2.49,6, -999.000,9, -999.000,9,   -999.0,9,   -999.0,9,-999.0000,9,  -999.00,  -999.00,9,  -999.00,9,   1.5431,2,     1405
  49UP20100706,   P09,    51,  1,      6,     79,2,20100719,1337, 13.4978, 136.9593, 5009,   4060.6,   1.5319,   1.5320,2,  34.6829,2,  34.6829,6,    154.6,6,   141.32,6,    35.74,6,     0.00,4,     2.48,6, -999.000,9, -999.000,9,   -999.0,9,   -999.0,9,-999.0000,9,  -999.00,  -999.00,9,  -999.00,9,   1.5320,2,     1359
  49UP20100706,   P09,    51,  1,      5,     78,2,20100719,1337, 13.4978, 136.9593, 5009,   4317.2,   1.5228,   1.5228,2,  34.6857,2,  34.6855,2,    159.0,2,   139.46,2,    35.38,2,     0.00,4,     2.45,2, -999.000,9, -999.000,9,   -999.0,9,   -999.0,9,-999.0000,9,  -999.00,  -999.00,9,  -999.00,9,   1.5228,2,     1354
  49UP20100706,   P09,    51,  1,      4,     77,2,20100719,1337, 13.4978, 136.9593, 5009,   4573.2,   1.5358,   1.5358,2,  34.6869,2,  34.6867,2,    160.4,2,   139.07,2,    35.32,2,     0.00,4,     2.44,2, -999.000,9, -999.000,9,   -999.0,9,   -999.0,9,-999.0000,9,  -999.00,  -999.00,9,  -999.00,9,   1.5358,2,     1348
  49UP20100706,   P09,    51,  1,      3,     76,2,20100719,1337, 13.4978, 136.9593, 5009,   4830.3,   1.5564,   1.5564,2,  34.6875,2,  34.6878,2,    161.4,2,   138.76,2,    35.25,2,     0.00,4,     2.45,2, -999.000,9, -999.000,9,   -999.0,9,   -999.0,9,-999.0000,9,  -999.00,  -999.00,9,  -999.00,9,   1.5564,2,     1343
  49UP20100706,   P09,    51,  1,      2,     75,2,20100719,1337, 13.4978, 136.9593, 5009,   5119.6,   1.5873,   1.5872,2,  34.6878,2,  34.6880,2,    161.9,2,   138.62,2,    35.21,2,     0.00,4,     2.45,2, -999.000,9, -999.000,9,   -999.0,9,   -999.0,9,-999.0000,9,  -999.00,  -999.00,9,  -999.00,9,   1.5872,2,     1337
  49UP20100706,   P09,    51,  1,      1,     74,2,20100719,1337, 13.4978, 136.9593, 5009,   5120.6,   1.5867,   1.5866,2,  34.6878,2,  34.6883,2,    162.2,2,   138.69,2,    35.11,2,     0.00,4,     2.48,2, -999.000,9, -999.000,9,   -999.0,9,   -999.0,9,-999.0000,9,  -999.00,  -999.00,9,  -999.00,9,   1.5866,2,     1337