BOTTLE,20200625PRINUNIVRMK
EXPOCODE,SECT_ID,STNNBR,CASTNO,SAMPNO,BTLNBR,BTLNBR_FLAG_W,DATE,TIME,LATITUDE,LONGITUDE,DEPTH,CTDPRS,CTDTMP,SBE35,SBE35_FLAG_W,CTDSAL,CTDSAL_FLAG_W,SALNTY,SALNTY_FLAG_W,OXYGEN,OXYGEN_FLAG_W,SILCAT,SILCAT_FLAG_W,NITRAT,NITRAT_FLAG_W,NITRIT,NITRIT_FLAG_W,PHSPHT,PHSPHT_FLAG_W,CFC-11,CFC-11_FLAG_W,CFC-12,CFC-12_FLAG_W,TCARBN,TCARBN_FLAG_W,ALKALI,ALKALI_FLAG_W,PH_TOT,PH_TOT_FLAG_W,PH_TMP,CHLORA,CHLORA_FLAG_W,PPHYTN,PPHYTN_FLAG_W,SBE35,SBE35_FLAG_W,BTL_TIME
,,,,,,,,,,,METERS,DBAR,ITS-90,,,PSS-78,,PSS-78,,UMOL/KG,,UMOL/KG,,UMOL/KG,,UMOL/KG,,UMOL/KG,,PMOL/KG,,PMOL/KG,,UMOL/KG,,UMOL/KG,,,,DEG C,UG/KG,,UG/KG,,,,
  49UP20100706,   P09,   114,  1,      0,     -9,0,20100813,0000,  2.7998, 138.0018, 4416,      0.0,  30.2893,-999.0000,9,  33.7696,2,-999.0000,9,    193.9,2,     1.33,2,     0.00,2,     0.00,2,     0.01,2, -999.000,9, -999.000,9,   -999.0,9,   -999.0,9,-999.0000,9,  -999.00,     0.05,2,     0.02,2,-999.0000,9,      145
  49UP20100706,   P09,   114,  1,     36,    109,2,20100813,0000,  2.7998, 138.0018, 4416,     10.7,  30.1598,  30.1595,2,  33.7654,2,  33.7650,2,    194.2,2,     1.23,2,     0.00,2,     0.00,2,     0.01,2,    1.254,2,    0.742,2,   1887.2,2,   2211.1,2,   8.1550,2,    25.00,     0.06,2,     0.02,2,  30.1595,2,      159
  49UP20100706,   P09,   114,  1,     35,    108,2,20100813,0000,  2.7998, 138.0018, 4416,     26.0,  30.0229,  30.0229,2,  33.7699,2,  33.7684,2,    194.4,2,     1.27,2,     0.00,2,     0.00,2,     0.01,2,    1.232,2,    0.779,2,   1889.2,2,   2219.2,2,   8.1501,2,    25.00,     0.07,2,     0.02,2,  30.0229,2,      158
  49UP20100706,   P09,   114,  1,     34,    107,2,20100813,0000,  2.7998, 138.0018, 4416,     50.2,  30.1644,  30.1629,2,  33.8988,2,  33.8965,2,    194.0,2,     1.12,2,     0.00,2,     0.00,2,     0.01,2,    1.224,2,    0.795,2,   1891.1,2,   2220.7,2,   8.1468,2,    25.00,     0.06,2,     0.02,2,  30.1629,2,      156
  49UP20100706,   P09,   114,  1,     33,    106,2,20100813,0000,  2.7998, 138.0018, 4416,     79.1,  29.9928,  29.9925,2,  34.2958,2,  34.3173,4,    197.2,2,     1.37,2,    -0.01,2,     0.01,2,     0.04,2,    1.250,2,    0.768,2,   1930.2,2,   2253.1,2,   8.1194,2,    25.00,     0.13,2,     0.06,2,  29.9925,2,      154
  49UP20100706,   P09,   114,  1,     32,    105,2,20100813,0000,  2.7998, 138.0018, 4416,    105.2,  28.8256,  28.8251,2,  34.6055,2,  34.5912,4,    186.1,2,     1.41,2,     0.20,2,     0.26,2,     0.13,2,    1.259,2,    0.789,2,   1954.6,2,   2263.4,2,   8.1034,2,    25.00,     0.42,2,     0.28,2,  28.8251,2,      152
  49UP20100706,   P09,   114,  1,     31,    104,2,20100813,0000,  2.7998, 138.0018, 4416,    123.9,  28.4867,  28.4862,2,  34.6335,2,  34.6377,2,    182.4,2,     1.62,2,     0.49,2,     0.34,2,     0.17,2,    1.282,2,    0.761,2,   1958.7,2,   2274.0,2,   8.0830,2,    25.00,     0.21,2,     0.21,2,  28.4862,2,      151
  49UP20100706,   P09,   114,  1,     30,    103,2,20100813,0000,  2.7998, 138.0018, 4416,    152.2,  23.5627,  23.5793,2,  34.8527,2,  34.8654,4,    160.0,2,     3.91,2,     4.32,2,     0.03,2,     0.41,2,    1.481,2,    0.914,2,   2038.7,2,   2290.3,2,   7.9769,2,    25.00,     0.05,2,     0.09,2,  23.5793,2,      150
  49UP20100706,   P09,   114,  1,     29,    102,2,20100813,0000,  2.7998, 138.0018, 4416,    201.2,  15.9820,  15.9881,2,  34.7419,2,  34.7371,2,    134.7,2,    13.67,2,    14.72,2,     0.01,2,     1.08,2,    1.626,2,    0.973,2,   2122.2,2,   2288.3,2,   7.7928,2,    25.00,     0.00,2,     0.03,2,  15.9881,2,      148
  49UP20100706,   P09,   114,  1,     28,    101,2,20100813,0000,  2.7998, 138.0018, 4416,    252.6,  11.0481,  11.0552,2,  34.4959,2,  34.4886,4,    112.2,2,    28.71,2,    24.00,2,     0.00,2,     1.73,2,    1.279,2,    0.703,2,   2185.2,2,   2286.3,2,   7.6508,2,    25.00,  -999.00,9,  -999.00,9,  11.0552,2,      146
  49UP20100706,   P09,   114,  1,     27,    100,2,20100813,0000,  2.7998, 138.0018, 4416,    282.2,  10.0403,  10.0396,2,  34.5287,2,  34.5288,2,     78.5,2,    34.52,2,    29.32,2,     0.00,2,     2.10,2,    0.807,2,    0.424,6,   2220.5,2,   2295.2,2,   7.5607,2,    25.00,  -999.00,9,  -999.00,9,  10.0396,2,      145
  49UP20100706,   P09,   114,  1,     26,     99,2,20100813,0000,  2.7998, 138.0018, 4416,    332.4,   9.0626,   9.0620,2,  34.5986,2,  34.5984,2,     64.7,2,    37.20,2,    32.85,2,     0.00,2,     2.32,2,    0.417,2,    0.203,2,   2239.7,2,   2299.6,2,   7.5185,2,    25.00,  -999.00,9,  -999.00,9,   9.0620,2,      143
  49UP20100706,   P09,   114,  1,     25,     98,2,20100813,0000,  2.7998, 138.0018, 4416,    383.1,   8.2688,   8.2714,2,  34.5854,2,  34.5847,2,     88.8,2,    38.61,2,    32.29,2,     0.00,2,     2.27,2,    0.383,2,    0.196,2,   2236.4,2,   2306.8,2,   7.5474,2,    25.00,  -999.00,9,  -999.00,9,   8.2714,2,      141
  49UP20100706,   P09,   114,  1,     24,     97,2,20100813,0000,  2.7998, 138.0018, 4416,    433.7,   7.9978,   7.9975,2,  34.5818,2,  34.5803,2,    112.2,2,    36.40,2,    30.83,2,     0.00,2,     2.16,2,    0.482,2,    0.208,2,   2218.5,2,   2300.6,2,   7.5856,2,    25.00,  -999.00,9,  -999.00,9,   7.9975,2,      139
  49UP20100706,   P09,   114,  1,     23,     96,4,20100813,0000,  2.7998, 138.0018, 4416,    482.9,   7.6307,   7.6302,2,  34.5581,2,  34.6916,4,    130.6,4,    19.13,4,    16.84,4,     0.02,4,     1.25,4,    1.159,4,    0.698,4,   2128.0,4,   2292.1,4,   7.7889,4,    25.00,  -999.00,9,  -999.00,9,   7.6302,2,      137
  49UP20100706,   P09,   114,  1,     22,     95,2,20100813,0000,  2.7998, 138.0018, 4416,    574.1,   7.0940,   7.0944,2,  34.5548,2,  34.5540,2,    118.8,2,    39.77,2,    32.15,2,     0.00,2,     2.26,2,    0.345,2,    0.139,2,   2228.3,2,   2312.5,2,   7.5742,2,    25.00,  -999.00,9,  -999.00,9,   7.0944,2,      134
  49UP20100706,   P09,   114,  1,     21,     94,2,20100813,0000,  2.7998, 138.0018, 4416,    674.3,   6.2741,   6.2737,2,  34.5350,2,  34.5351,2,     94.2,4,    56.42,2,    35.64,2,     0.00,2,     2.52,2,    0.117,2,    0.044,2,   2260.5,6,   2323.6,2,   7.5203,6,    25.00,  -999.00,9,  -999.00,9,   6.2737,2,      131
  49UP20100706,   P09,   114,  1,     20,     93,2,20100813,0000,  2.7998, 138.0018, 4416,    674.3,   6.2741,   6.2737,2,  34.5350,2,  34.5346,2,     93.5,2,    56.57,2,    35.69,2,     0.00,2,     2.53,2,    0.117,3,    0.058,3,   2257.1,2,   2321.2,2,   7.5158,2,    25.00,  -999.00,9,  -999.00,9,   6.2737,2,      131
  49UP20100706,   P09,   114,  1,     19,     92,2,20100813,0000,  2.7998, 138.0018, 4416,    775.9,   5.6103,   5.6095,2,  34.5390,2,  34.5385,2,     85.4,2,    66.95,2,    37.62,2,     0.00,2,     2.67,2,    0.030,2,    0.000,2,   2281.4,2,   2336.2,2,   7.4938,2,    25.00,  -999.00,9,  -999.00,9,   5.6095,2,      128
  49UP20100706,   P09,   114,  1,     18,     91,2,20100813,0000,  2.7998, 138.0018, 4416,    876.9,   5.0185,   5.0180,2,  34.5447,2,  34.5440,2,     89.7,2,    77.40,2,    37.99,2,     0.00,2,     2.70,2,    0.000,2,    0.000,2,   2291.0,2,   2344.0,2,   7.4958,2,    25.00,  -999.00,9,  -999.00,9,   5.0180,2,      125
  49UP20100706,   P09,   114,  1,     17,     90,2,20100813,0000,  2.7998, 138.0018, 4416,    979.0,   4.4873,   4.4872,2,  34.5562,2,  34.5555,2,     92.2,2,    88.63,2,    38.30,2,     0.00,2,     2.72,2,    0.014,4,    0.000,2,   2300.8,2,   2353.3,2,   7.5032,2,    25.00,  -999.00,9,  -999.00,9,   4.4872,2,      121
  49UP20100706,   P09,   114,  1,     16,     89,2,20100813,0000,  2.7998, 138.0018, 4416,   1179.6,   3.8547,   3.8544,2,  34.5726,2,  34.5725,2,     94.6,2,   102.75,2,    38.57,2,     0.00,2,     2.74,2,    0.000,2,    0.000,2,   2314.5,2,   2372.7,2,   7.4999,2,    25.00,  -999.00,9,  -999.00,9,   3.8544,2,      116
  49UP20100706,   P09,   114,  1,     15,     88,2,20100813,0000,  2.7998, 138.0018, 4416,   1433.5,   3.1693,   3.1692,2,  34.5943,2,  34.5940,2,     99.1,2,   117.15,2,    38.94,2,     0.00,2,     2.75,2,    0.000,2,    0.000,2,   2330.4,2,   2387.5,2,   7.5022,2,    25.00,  -999.00,9,  -999.00,9,   3.1692,2,      110
  49UP20100706,   P09,   114,  1,     14,     87,2,20100813,0000,  2.7998, 138.0018, 4416,   1696.8,   2.5813,   2.5811,2,  34.6190,2,  34.6191,2,    107.4,2,   129.16,2,    38.74,2,     0.00,2,     2.73,2,    0.000,2,    0.000,2,   2334.2,2,   2400.6,2,   7.5142,2,    25.00,  -999.00,9,  -999.00,9,   2.5811,2,      104
  49UP20100706,   P09,   114,  1,     13,     86,2,20100813,0000,  2.7998, 138.0018, 4416,   1940.4,   2.2133,   2.2131,2,  34.6366,2,  34.6374,2,    116.0,2,   135.93,2,    38.28,2,     0.00,2,     2.69,2, -999.000,9, -999.000,9,   2338.0,2,   2407.1,2,   7.5256,2,    25.00,  -999.00,9,  -999.00,9,   2.2131,2,       58
  49UP20100706,   P09,   114,  1,     12,     85,2,20100813,0000,  2.7998, 138.0018, 4416,   2194.9,   1.9824,   1.9828,2,  34.6490,2,  34.6490,2,    122.5,2,   140.61,2,    38.08,2,     0.00,2,     2.67,2,    0.000,2,    0.000,2,   2339.7,2,   2410.9,2,   7.5370,2,    25.00,  -999.00,9,  -999.00,9,   1.9828,2,       52
  49UP20100706,   P09,   114,  1,     11,    110,4,20100813,0000,  2.7998, 138.0018, 4416,   2448.7,   1.7822,   1.7821,2,  34.6603,2,  34.5351,4,     93.5,4,    56.59,4,    35.73,4,     0.00,4,     2.53,4, -999.000,9, -999.000,9,   2258.2,4,   2316.2,4,   7.5201,4,    25.00,  -999.00,9,  -999.00,9,   1.7821,2,       46
  49UP20100706,   P09,   114,  1,     10,     83,2,20100813,0000,  2.7998, 138.0018, 4416,   2715.0,   1.6703,   1.6703,2,  34.6667,2,  34.6664,6,    138.2,6,   142.81,6,    37.03,6,     0.00,6,     2.58,6, -999.000,9, -999.000,9,   2334.0,2,   2410.2,2,   7.5589,2,    25.00,  -999.00,9,  -999.00,9,   1.6703,2,       40
  49UP20100706,   P09,   114,  1,      9,     82,2,20100813,0000,  2.7998, 138.0018, 4416,   2958.4,   1.5869,   1.5868,2,  34.6727,2,  34.6730,6,    143.2,2,   143.08,6,    36.68,6,     0.00,6,     2.55,6, -999.000,9, -999.000,9,   2328.0,3,   2416.5,2,   7.5659,2,    25.00,  -999.00,9,  -999.00,9,   1.5868,2,       35
  49UP20100706,   P09,   114,  1,      8,     81,2,20100813,0000,  2.7998, 138.0018, 4416,   3223.2,   1.5570,   1.5570,2,  34.6763,2,  34.6762,6,    146.2,6,   142.99,6,    36.46,6,     0.00,6,     2.53,6,    0.000,2,    0.000,2,   2332.5,2,   2418.7,2,   7.5747,2,    25.00,  -999.00,9,  -999.00,9,   1.5570,2,       29
  49UP20100706,   P09,   114,  1,      7,     80,2,20100813,0000,  2.7998, 138.0018, 4416,   3467.8,   1.5481,   1.5483,2,  34.6790,2,  34.6782,2,    147.8,2,   142.98,2,    36.36,2,     0.00,2,     2.52,2, -999.000,9, -999.000,9,   2335.2,2,   2417.4,2,   7.5755,2,    25.00,  -999.00,9,  -999.00,9,   1.5483,2,       23
  49UP20100706,   P09,   114,  1,      6,     79,2,20100813,0000,  2.7998, 138.0018, 4416,   3732.8,   1.5384,   1.5386,2,  34.6818,2,  34.6816,2,    150.0,2,   143.01,2,    36.20,2,     0.00,2,     2.51,2, -999.000,9, -999.000,9,   2323.3,3,   2420.0,6,   7.5807,6,    25.00,  -999.00,9,  -999.00,9,   1.5386,2,       17
  49UP20100706,   P09,   114,  1,      5,     78,2,20100813,0000,  2.7998, 138.0018, 4416,   3732.8,   1.5384,   1.5386,2,  34.6818,2,  34.6817,2,    149.9,2,   143.09,2,    36.24,2,     0.00,2,     2.51,2, -999.000,9, -999.000,9,   2330.2,2,   2419.3,2,   7.5824,2,    25.00,  -999.00,9,  -999.00,9,   1.5386,2,       17
  49UP20100706,   P09,   114,  1,      4,     77,2,20100813,0000,  2.7998, 138.0018, 4416,   3978.5,   1.5134,   1.5135,2,  34.6860,2,  34.6855,2,    153.2,2,   142.68,2,    36.03,2,     0.00,2,     2.49,2, -999.000,9, -999.000,9,   2326.9,2,   2422.1,2,   7.5886,2,    25.00,  -999.00,9,  -999.00,9,   1.5135,2,       12
  49UP20100706,   P09,   114,  1,      3,     76,2,20100813,0000,  2.7998, 138.0018, 4416,   4245.1,   1.5126,   1.5125,2,  34.6879,2,  34.6873,2,    156.5,2,   141.73,2,    35.85,2,     0.00,2,     2.47,2, -999.000,9, -999.000,9,   2332.0,3,   2417.6,2,   7.5906,2,    25.00,  -999.00,9,  -999.00,9,   1.5125,2,        6
  49UP20100706,   P09,   114,  1,      2,     75,2,20100813,0000,  2.7998, 138.0018, 4416,   4472.3,   1.5233,   1.5234,2,  34.6885,2,-999.0000,9,    158.4,2,   140.82,2,    35.69,2,     0.00,2,     2.46,2, -999.000,9, -999.000,9,   2321.8,6,   2415.8,6,   7.5895,6,    25.00,  -999.00,9,  -999.00,9,   1.5234,2,        1
  49UP20100706,   P09,   114,  1,      1,     74,2,20100813,0000,  2.7998, 138.0018, 4416,   4472.6,   1.5234,   1.5234,2,  34.6886,2,  34.6884,6,    158.4,2,   140.91,2,    35.69,2,     0.00,2,     2.47,2,    0.000,3,    0.000,3,   2322.5,2,   2416.1,2,   7.5872,2,    25.00,  -999.00,9,  -999.00,9,   1.5234,2,        1