BOTTLE,20200625PRINUNIVRMK
EXPOCODE,SECT_ID,STNNBR,CASTNO,SAMPNO,BTLNBR,BTLNBR_FLAG_W,DATE,TIME,LATITUDE,LONGITUDE,DEPTH,CTDPRS,CTDTMP,SBE35,SBE35_FLAG_W,CTDSAL,CTDSAL_FLAG_W,SALNTY,SALNTY_FLAG_W,OXYGEN,OXYGEN_FLAG_W,SILCAT,SILCAT_FLAG_W,NITRAT,NITRAT_FLAG_W,NITRIT,NITRIT_FLAG_W,PHSPHT,PHSPHT_FLAG_W,CFC-11,CFC-11_FLAG_W,CFC-12,CFC-12_FLAG_W,TCARBN,TCARBN_FLAG_W,ALKALI,ALKALI_FLAG_W,PH_TOT,PH_TOT_FLAG_W,PH_TMP,CHLORA,CHLORA_FLAG_W,PPHYTN,PPHYTN_FLAG_W,SBE35,SBE35_FLAG_W,BTL_TIME
,,,,,,,,,,,METERS,DBAR,ITS-90,,,PSS-78,,PSS-78,,UMOL/KG,,UMOL/KG,,UMOL/KG,,UMOL/KG,,UMOL/KG,,PMOL/KG,,PMOL/KG,,UMOL/KG,,UMOL/KG,,,,DEG C,UG/KG,,UG/KG,,,,
  49UP20100706,   P09,    61,  1,      0,     -9,0,20100722,0708,  8.6712, 136.9930, 2111,      0.0,  29.9578,-999.0000,9,  33.8959,2,-999.0000,9,    195.6,3,     1.17,2,     0.00,2,     0.00,2,     0.02,2, -999.000,9, -999.000,9,   -999.0,9,   -999.0,9,-999.0000,9,  -999.00,  -999.00,9,  -999.00,9,-999.0000,9,      750
  49UP20100706,   P09,    61,  1,     36,    109,2,20100722,0708,  8.6712, 136.9930, 2111,     11.3,  29.9674,  29.9624,2,  33.9025,2,  33.9067,2,    195.9,3,     1.06,2,     0.00,2,     0.00,2,     0.00,2, -999.000,9, -999.000,9,   -999.0,9,   -999.0,9,-999.0000,9,  -999.00,  -999.00,9,  -999.00,9,  29.9624,2,      813
  49UP20100706,   P09,    61,  1,     35,    108,2,20100722,0708,  8.6712, 136.9930, 2111,     11.3,  29.9674,  29.9624,2,  33.9025,2,  33.9043,6,    196.2,3,     1.13,6,     0.00,6,     0.00,6,     0.01,6, -999.000,9, -999.000,9,   -999.0,9,   -999.0,9,-999.0000,9,  -999.00,  -999.00,9,  -999.00,9,  29.9624,2,      813
  49UP20100706,   P09,    61,  1,     34,    107,2,20100722,0708,  8.6712, 136.9930, 2111,     26.0,  30.0278,  30.0354,2,  34.0932,2,  34.0901,6,    196.1,3,     1.05,6,     0.00,6,     0.00,6,     0.02,6, -999.000,9, -999.000,9,   -999.0,9,   -999.0,9,-999.0000,9,  -999.00,  -999.00,9,  -999.00,9,  30.0354,2,      812
  49UP20100706,   P09,    61,  1,     33,    106,2,20100722,0708,  8.6712, 136.9930, 2111,     49.9,  29.9596,  29.9651,2,  34.2770,2,  34.2666,4,    198.7,3,     1.02,6,     0.00,6,     0.00,6,     0.04,6, -999.000,9, -999.000,9,   -999.0,9,   -999.0,9,-999.0000,9,  -999.00,  -999.00,9,  -999.00,9,  29.9651,2,      809
  49UP20100706,   P09,    61,  1,     32,    105,2,20100722,0708,  8.6712, 136.9930, 2111,     74.2,  29.1886,  29.1920,2,  34.5338,2,  34.5394,4,    202.8,3,     0.89,6,     0.00,6,     0.00,6,     0.05,6, -999.000,9, -999.000,9,   -999.0,9,   -999.0,9,-999.0000,9,  -999.00,  -999.00,9,  -999.00,9,  29.1920,2,      808
  49UP20100706,   P09,    61,  1,     31,    104,2,20100722,0708,  8.6712, 136.9930, 2111,    100.6,  28.4699,  28.4668,2,  34.5814,2,  34.5870,4,    201.1,3,     1.01,2,     0.00,2,     0.00,2,     0.07,2, -999.000,9, -999.000,9,   -999.0,9,   -999.0,9,-999.0000,9,  -999.00,  -999.00,9,  -999.00,9,  28.4668,2,      806
  49UP20100706,   P09,    61,  1,     30,    103,2,20100722,0708,  8.6712, 136.9930, 2111,    125.5,  25.7459,  25.5916,2,  34.8611,2,  34.9190,4,    188.5,3,     1.71,2,     0.45,2,     0.06,2,     0.17,2, -999.000,9, -999.000,9,   -999.0,9,   -999.0,9,-999.0000,9,  -999.00,  -999.00,9,  -999.00,9,  25.5916,2,      805
  49UP20100706,   P09,    61,  1,     29,    102,2,20100722,0708,  8.6712, 136.9930, 2111,    150.9,  18.4864,  18.4889,2,  34.7445,2,  34.7537,4,    150.6,3,     7.55,2,     8.84,2,     0.02,2,     0.72,2, -999.000,9, -999.000,9,   -999.0,9,   -999.0,9,-999.0000,9,  -999.00,  -999.00,9,  -999.00,9,  18.4889,2,      804
  49UP20100706,   P09,    61,  1,     28,    101,2,20100722,0708,  8.6712, 136.9930, 2111,    201.3,  14.0666,  14.0590,2,  34.5190,2,  34.5206,2,    131.9,3,    16.29,2,    16.71,2,     0.00,2,     1.24,2, -999.000,9, -999.000,9,   -999.0,9,   -999.0,9,-999.0000,9,  -999.00,  -999.00,9,  -999.00,9,  14.0590,2,      802
  49UP20100706,   P09,    61,  1,     27,    100,2,20100722,0708,  8.6712, 136.9930, 2111,    250.4,  11.6946,  11.6888,2,  34.5040,2,  34.5060,2,     94.3,3,    26.05,2,    24.36,2,     0.00,2,     1.77,2, -999.000,9, -999.000,9,   -999.0,9,   -999.0,9,-999.0000,9,  -999.00,  -999.00,9,  -999.00,9,  11.6888,2,      800
  49UP20100706,   P09,    61,  1,     26,     99,2,20100722,0708,  8.6712, 136.9930, 2111,    321.5,   9.6922,   9.6901,2,  34.5278,2,  34.5279,2,     80.4,3,    35.19,2,    29.50,2,     0.00,2,     2.12,2, -999.000,9, -999.000,9,   -999.0,9,   -999.0,9,-999.0000,9,  -999.00,  -999.00,9,  -999.00,9,   9.6901,2,      758
  49UP20100706,   P09,    61,  1,     25,     98,2,20100722,0708,  8.6712, 136.9930, 2111,    371.6,   9.4004,   9.3997,2,  34.5328,2,  34.5331,2,     79.9,3,    36.40,2,    30.15,2,     0.00,2,     2.16,2, -999.000,9, -999.000,9,   -999.0,9,   -999.0,9,-999.0000,9,  -999.00,  -999.00,9,  -999.00,9,   9.3997,2,      756
  49UP20100706,   P09,    61,  1,     24,     97,2,20100722,0708,  8.6712, 136.9930, 2111,    425.9,   8.6388,   8.6387,2,  34.5277,2,  34.5300,2,     84.0,3,    39.75,2,    31.00,2,     0.00,2,     2.21,2, -999.000,9, -999.000,9,   -999.0,9,   -999.0,9,-999.0000,9,  -999.00,  -999.00,9,  -999.00,9,   8.6387,2,      754
  49UP20100706,   P09,    61,  1,     23,     96,2,20100722,0708,  8.6712, 136.9930, 2111,    425.9,   8.6388,   8.6387,2,  34.5277,2,  34.5304,2,     85.0,3,    39.73,2,    30.97,2,     0.00,2,     2.21,2, -999.000,9, -999.000,9,   -999.0,9,   -999.0,9,-999.0000,9,  -999.00,  -999.00,9,  -999.00,9,   8.6387,2,      754
  49UP20100706,   P09,    61,  1,     22,     95,2,20100722,0708,  8.6712, 136.9930, 2111,    474.1,   8.1811,   8.1810,2,  34.5463,2,  34.5466,2,     72.0,3,    43.08,2,    33.41,2,     0.00,2,     2.38,2, -999.000,9, -999.000,9,   -999.0,9,   -999.0,9,-999.0000,9,  -999.00,  -999.00,9,  -999.00,9,   8.1810,2,      752
  49UP20100706,   P09,    61,  1,     21,     94,2,20100722,0708,  8.6712, 136.9930, 2111,    533.3,   7.9073,   7.9062,2,  34.5444,2,  34.5439,2,     73.5,3,    45.03,2,    33.86,2,     0.00,2,     2.40,2, -999.000,9, -999.000,9,   -999.0,9,   -999.0,9,-999.0000,9,  -999.00,  -999.00,9,  -999.00,9,   7.9062,2,      750
  49UP20100706,   P09,    61,  1,     20,     93,2,20100722,0708,  8.6712, 136.9930, 2111,    635.7,   7.1853,   7.1854,2,  34.5157,2,  34.5159,2,     89.8,3,    50.26,2,    33.75,2,     0.00,2,     2.41,2, -999.000,9, -999.000,9,   -999.0,9,   -999.0,9,-999.0000,9,  -999.00,  -999.00,9,  -999.00,9,   7.1854,2,      747
  49UP20100706,   P09,    61,  1,     19,     92,2,20100722,0708,  8.6712, 136.9930, 2111,    735.4,   6.3910,   6.3926,2,  34.5203,2,  34.5212,2,     84.6,3,    59.86,2,    35.56,2,     0.00,2,     2.54,2, -999.000,9, -999.000,9,   -999.0,9,   -999.0,9,-999.0000,9,  -999.00,  -999.00,9,  -999.00,9,   6.3926,2,      745
  49UP20100706,   P09,    61,  1,     18,     91,2,20100722,0708,  8.6712, 136.9930, 2111,    837.0,   5.7181,   5.7178,2,  34.5256,2,  34.5257,2,     85.3,3,    69.80,2,    36.61,2,     0.00,2,     2.48,4, -999.000,9, -999.000,9,   -999.0,9,   -999.0,9,-999.0000,9,  -999.00,  -999.00,9,  -999.00,9,   5.7178,2,      741
  49UP20100706,   P09,    61,  1,     17,     90,2,20100722,0708,  8.6712, 136.9930, 2111,    837.0,   5.7181,   5.7178,2,  34.5256,2,  34.5258,2,     85.4,3,    69.80,2,    36.64,2,     0.00,2,     2.61,2, -999.000,9, -999.000,9,   -999.0,9,   -999.0,9,-999.0000,9,  -999.00,  -999.00,9,  -999.00,9,   5.7178,2,      741
  49UP20100706,   P09,    61,  1,     16,     89,2,20100722,0708,  8.6712, 136.9930, 2111,    937.6,   5.1281,   5.1276,2,  34.5358,2,  34.5362,2,     86.3,3,    79.96,2,    37.42,2,     0.00,2,     2.67,2, -999.000,9, -999.000,9,   -999.0,9,   -999.0,9,-999.0000,9,  -999.00,  -999.00,9,  -999.00,9,   5.1276,2,      739
  49UP20100706,   P09,    61,  1,     15,     88,2,20100722,0708,  8.6712, 136.9930, 2111,   1090.1,   4.3594,   4.3605,2,  34.5544,2,  34.5550,2,     88.0,3,    94.59,2,    38.22,2,     0.00,2,     2.73,2, -999.000,9, -999.000,9,   -999.0,9,   -999.0,9,-999.0000,9,  -999.00,  -999.00,9,  -999.00,9,   4.3605,2,      735
  49UP20100706,   P09,    61,  1,     14,     87,2,20100722,0708,  8.6712, 136.9930, 2111,   1342.9,   3.4012,   3.4007,2,  34.5807,2,  34.5813,2,     94.9,3,   114.31,2,    38.56,2,     0.00,2,     2.75,2, -999.000,9, -999.000,9,   -999.0,9,   -999.0,9,-999.0000,9,  -999.00,  -999.00,9,  -999.00,9,   3.4007,2,      729
  49UP20100706,   P09,    61,  1,     13,     86,2,20100722,0708,  8.6712, 136.9930, 2111,   1596.3,   2.7869,   2.7869,2,  34.6044,2,  34.6050,2,    103.4,3,   126.28,2,    38.47,2,     0.00,2,     2.61,4, -999.000,9, -999.000,9,   -999.0,9,   -999.0,9,-999.0000,9,  -999.00,  -999.00,9,  -999.00,9,   2.7869,2,      723
  49UP20100706,   P09,    61,  1,     12,     85,2,20100722,0708,  8.6712, 136.9930, 2111,   1596.3,   2.7869,   2.7869,2,  34.6044,2,  34.6019,4,    103.9,3,   126.32,2,    38.52,2,     0.00,2,     2.73,2, -999.000,9, -999.000,9,   -999.0,9,   -999.0,9,-999.0000,9,  -999.00,  -999.00,9,  -999.00,9,   2.7869,2,      723
  49UP20100706,   P09,    61,  1,     11,    110,2,20100722,0708,  8.6712, 136.9930, 2111,   1848.7,   2.4428,   2.4425,2,  34.6211,2,  34.6219,2,    110.4,3,   132.53,2,    38.24,2,     0.00,2,     2.70,2, -999.000,9, -999.000,9,   -999.0,9,   -999.0,9,-999.0000,9,  -999.00,  -999.00,9,  -999.00,9,   2.4425,2,      717
  49UP20100706,   P09,    61,  1,      1,     74,2,20100722,0708,  8.6712, 136.9930, 2111,   2119.0,   1.9599,   1.9601,2,  34.6458,2,  34.6469,2,    124.1,3,   140.19,2,    37.59,2,     0.00,2,     2.64,2, -999.000,9, -999.000,9,   -999.0,9,   -999.0,9,-999.0000,9,  -999.00,  -999.00,9,  -999.00,9,   1.9601,2,      708
  49UP20100706,   P09,    62,  1,      0,     -9,0,20100722,1128,  8.3350, 136.9997, 2318,      0.0,  30.0198,-999.0000,9,  33.8137,2,-999.0000,9,    195.6,3,     1.18,2,     0.00,2,     0.00,2,     0.00,2, -999.000,9, -999.000,9,   -999.0,9,   -999.0,9,-999.0000,9,  -999.00,  -999.00,9,  -999.00,9,-999.0000,9,     1230
  49UP20100706,   P09,    62,  1,     36,    109,2,20100722,1128,  8.3350, 136.9997, 2318,      9.4,  30.0330,  30.0352,2,  33.8131,2,  33.8126,2,    196.6,3,     1.13,2,     0.00,2,     0.00,2,     0.00,2, -999.000,9, -999.000,9,   -999.0,9,   -999.0,9,-999.0000,9,  -999.00,  -999.00,9,  -999.00,9,  30.0352,2,     1243
  49UP20100706,   P09,    62,  1,     35,    108,2,20100722,1128,  8.3350, 136.9997, 2318,     24.6,  30.1275,  30.1137,2,  33.8978,2,  33.8486,4,    197.0,3,     1.14,2,     0.00,2,     0.00,2,     0.00,2, -999.000,9, -999.000,9,   -999.0,9,   -999.0,9,-999.0000,9,  -999.00,  -999.00,9,  -999.00,9,  30.1137,2,     1242
  49UP20100706,   P09,    62,  1,     34,    107,2,20100722,1128,  8.3350, 136.9997, 2318,     50.6,  30.0551,  30.0615,2,  34.2184,2,  34.2558,4,    200.9,3,     1.17,2,     0.00,2,     0.00,2,     0.02,2, -999.000,9, -999.000,9,   -999.0,9,   -999.0,9,-999.0000,9,  -999.00,  -999.00,9,  -999.00,9,  30.0615,2,     1239
  49UP20100706,   P09,    62,  1,     33,    106,2,20100722,1128,  8.3350, 136.9997, 2318,     75.5,  28.8317,  28.8350,2,  34.5124,2,  34.5228,4,    200.7,3,     1.13,2,     0.00,2,     0.00,2,     0.05,2, -999.000,9, -999.000,9,   -999.0,9,   -999.0,9,-999.0000,9,  -999.00,  -999.00,9,  -999.00,9,  28.8350,2,     1237
  49UP20100706,   P09,    62,  1,     32,    105,2,20100722,1128,  8.3350, 136.9997, 2318,     75.5,  28.8317,  28.8350,2,  34.5124,2,  34.5215,4,    201.2,3,     1.02,2,     0.00,2,     0.00,2,     0.04,2, -999.000,9, -999.000,9,   -999.0,9,   -999.0,9,-999.0000,9,  -999.00,  -999.00,9,  -999.00,9,  28.8350,2,     1237
  49UP20100706,   P09,    62,  1,     31,    104,2,20100722,1128,  8.3350, 136.9997, 2318,    101.9,  26.8298,  26.8315,2,  34.7248,2,  34.7313,4,    196.7,3,     1.42,6,    -0.01,6,     0.01,6,     0.11,6, -999.000,9, -999.000,9,   -999.0,9,   -999.0,9,-999.0000,9,  -999.00,  -999.00,9,  -999.00,9,  26.8315,2,     1236
  49UP20100706,   P09,    62,  1,     30,    103,2,20100722,1128,  8.3350, 136.9997, 2318,    125.3,  24.0585,  24.0533,2,  34.8580,2,  34.8638,6,    180.9,3,     2.62,6,     1.69,6,     0.19,6,     0.27,6, -999.000,9, -999.000,9,   -999.0,9,   -999.0,9,-999.0000,9,  -999.00,  -999.00,9,  -999.00,9,  24.0533,2,     1235
  49UP20100706,   P09,    62,  1,     29,    102,2,20100722,1128,  8.3350, 136.9997, 2318,    150.9,  18.7941,  18.7883,2,  34.7701,2,  34.7711,6,    161.6,3,     5.95,6,     7.19,6,     0.02,6,     0.61,6, -999.000,9, -999.000,9,   -999.0,9,   -999.0,9,-999.0000,9,  -999.00,  -999.00,9,  -999.00,9,  18.7883,2,     1233
  49UP20100706,   P09,    62,  1,     28,    101,2,20100722,1128,  8.3350, 136.9997, 2318,    201.2,  13.1337,  13.1302,2,  34.4935,2,  34.4946,6,    123.3,3,    19.55,6,    19.13,6,     0.00,6,     1.41,6, -999.000,9, -999.000,9,   -999.0,9,   -999.0,9,-999.0000,9,  -999.00,  -999.00,9,  -999.00,9,  13.1302,2,     1231
  49UP20100706,   P09,    62,  1,     27,    100,2,20100722,1128,  8.3350, 136.9997, 2318,    251.2,  11.3970,  11.3963,2,  34.4785,2,  34.4776,2,    102.6,3,    26.62,2,    24.05,2,     0.00,2,     1.74,2, -999.000,9, -999.000,9,   -999.0,9,   -999.0,9,-999.0000,9,  -999.00,  -999.00,9,  -999.00,9,  11.3963,2,     1230
  49UP20100706,   P09,    62,  1,     26,     99,3,20100722,1128,  8.3350, 136.9997, 2318,    281.4,  10.8711,  10.8693,2,  34.4823,2,  34.4846,3,    102.8,4,    29.70,2,    25.25,2,     0.00,2,     1.82,2, -999.000,9, -999.000,9,   -999.0,9,   -999.0,9,-999.0000,9,  -999.00,  -999.00,9,  -999.00,9,  10.8693,2,     1228
  49UP20100706,   P09,    62,  1,     25,     98,2,20100722,1128,  8.3350, 136.9997, 2318,    331.6,   9.4296,   9.4292,2,  34.5207,2,  34.5215,2,     83.9,3,    36.43,2,    29.74,2,     0.00,2,     2.14,2, -999.000,9, -999.000,9,   -999.0,9,   -999.0,9,-999.0000,9,  -999.00,  -999.00,9,  -999.00,9,   9.4292,2,     1226
  49UP20100706,   P09,    62,  1,     24,     97,2,20100722,1128,  8.3350, 136.9997, 2318,    331.6,   9.4296,   9.4292,2,  34.5207,2,  34.5211,2,     83.8,3,    36.46,2,    29.75,2,     0.00,2,     2.15,2, -999.000,9, -999.000,9,   -999.0,9,   -999.0,9,-999.0000,9,  -999.00,  -999.00,9,  -999.00,9,   9.4292,2,     1226
  49UP20100706,   P09,    62,  1,     23,     96,2,20100722,1128,  8.3350, 136.9997, 2318,    382.3,   8.6548,   8.6530,2,  34.5630,2,  34.5614,2,     67.7,3,    40.41,2,    33.06,2,     0.00,2,     2.35,2, -999.000,9, -999.000,9,   -999.0,9,   -999.0,9,-999.0000,9,  -999.00,  -999.00,9,  -999.00,9,   8.6530,2,     1225
  49UP20100706,   P09,    62,  1,     22,     95,2,20100722,1128,  8.3350, 136.9997, 2318,    433.6,   8.1724,   8.1717,2,  34.5503,2,  34.5504,2,     74.6,3,    42.83,2,    33.29,2,     0.00,2,     2.36,2, -999.000,9, -999.000,9,   -999.0,9,   -999.0,9,-999.0000,9,  -999.00,  -999.00,9,  -999.00,9,   8.1717,2,     1223
  49UP20100706,   P09,    62,  1,     21,     94,2,20100722,1128,  8.3350, 136.9997, 2318,    485.1,   7.7229,   7.7227,2,  34.5436,2,  34.5427,2,     79.7,3,    45.71,2,    33.74,2,     0.00,2,     2.39,2, -999.000,9, -999.000,9,   -999.0,9,   -999.0,9,-999.0000,9,  -999.00,  -999.00,9,  -999.00,9,   7.7227,2,     1221
  49UP20100706,   P09,    62,  1,     20,     93,2,20100722,1128,  8.3350, 136.9997, 2318,    576.1,   7.2671,   7.2672,2,  34.5320,2,  34.5314,2,     77.7,3,    50.68,2,    34.75,2,     0.00,2,     2.48,2, -999.000,9, -999.000,9,   -999.0,9,   -999.0,9,-999.0000,9,  -999.00,  -999.00,9,  -999.00,9,   7.2672,2,     1218
  49UP20100706,   P09,    62,  1,     19,     92,2,20100722,1128,  8.3350, 136.9997, 2318,    675.1,   6.5335,   6.5336,2,  34.5238,2,  34.5241,2,     84.2,3,    57.95,2,    35.47,2,     0.00,2,     2.53,2, -999.000,9, -999.000,9,   -999.0,9,   -999.0,9,-999.0000,9,  -999.00,  -999.00,9,  -999.00,9,   6.5336,2,     1215
  49UP20100706,   P09,    62,  1,     18,     91,2,20100722,1128,  8.3350, 136.9997, 2318,    776.3,   5.7105,   5.7104,2,  34.5286,2,  34.5291,2,     82.8,3,    70.51,2,    36.97,2,     0.00,2,     2.64,2, -999.000,9, -999.000,9,   -999.0,9,   -999.0,9,-999.0000,9,  -999.00,  -999.00,9,  -999.00,9,   5.7104,2,     1212
  49UP20100706,   P09,    62,  1,     17,     90,2,20100722,1128,  8.3350, 136.9997, 2318,    877.3,   5.0977,   5.0975,2,  34.5377,2,  34.5386,2,     85.2,3,    80.78,2,    37.65,2,     0.00,2,     2.69,2, -999.000,9, -999.000,9,   -999.0,9,   -999.0,9,-999.0000,9,  -999.00,  -999.00,9,  -999.00,9,   5.0975,2,     1208
  49UP20100706,   P09,    62,  1,     16,     89,2,20100722,1128,  8.3350, 136.9997, 2318,    977.0,   4.7748,   4.7735,2,  34.5433,2,  34.5437,2,     88.9,3,    86.63,2,    37.68,2,     0.00,2,     2.69,2, -999.000,9, -999.000,9,   -999.0,9,   -999.0,9,-999.0000,9,  -999.00,  -999.00,9,  -999.00,9,   4.7735,2,     1205
  49UP20100706,   P09,    62,  1,     15,     88,2,20100722,1128,  8.3350, 136.9997, 2318,   1180.9,   4.0050,   4.0021,2,  34.5631,2,  34.5635,2,     90.8,3,   102.57,2,    38.51,2,     0.00,2,     2.74,2, -999.000,9, -999.000,9,   -999.0,9,   -999.0,9,-999.0000,9,  -999.00,  -999.00,9,  -999.00,9,   4.0021,2,     1200
  49UP20100706,   P09,    62,  1,     14,     87,2,20100722,1128,  8.3350, 136.9997, 2318,   1180.9,   4.0050,   4.0021,2,  34.5631,2,  34.5634,2,     90.5,3,   102.23,2,    38.48,2,     0.00,2,     2.74,2, -999.000,9, -999.000,9,   -999.0,9,   -999.0,9,-999.0000,9,  -999.00,  -999.00,9,  -999.00,9,   4.0021,2,     1200
  49UP20100706,   P09,    62,  1,     13,     86,2,20100722,1128,  8.3350, 136.9997, 2318,   1433.9,   3.2563,   3.2573,2,  34.5878,2,  34.5883,2,     98.0,3,   116.90,2,    38.55,2,     0.00,2,     2.75,2, -999.000,9, -999.000,9,   -999.0,9,   -999.0,9,-999.0000,9,  -999.00,  -999.00,9,  -999.00,9,   3.2573,2,     1153
  49UP20100706,   P09,    62,  1,     12,     85,2,20100722,1128,  8.3350, 136.9997, 2318,   1699.9,   2.6869,   2.6865,2,  34.6098,2,  34.6100,2,    105.3,3,   128.58,2,    38.54,2,     0.00,2,     2.73,2, -999.000,9, -999.000,9,   -999.0,9,   -999.0,9,-999.0000,9,  -999.00,  -999.00,9,  -999.00,9,   2.6865,2,     1146
  49UP20100706,   P09,    62,  1,     11,    110,2,20100722,1128,  8.3350, 136.9997, 2318,   1941.0,   2.2625,   2.2622,2,  34.6298,2,  34.6303,2,    116.3,4,   136.13,2,    38.08,2,     0.00,2,     2.69,2, -999.000,9, -999.000,9,   -999.0,9,   -999.0,9,-999.0000,9,  -999.00,  -999.00,9,  -999.00,9,   2.2622,2,     1140
  49UP20100706,   P09,    62,  1,     10,     83,2,20100722,1128,  8.3350, 136.9997, 2318,   2194.2,   2.0152,   2.0154,2,  34.6436,2,  34.6448,2,    123.6,3,   139.73,2,    37.75,2,     0.00,2,     2.65,2, -999.000,9, -999.000,9,   -999.0,9,   -999.0,9,-999.0000,9,  -999.00,  -999.00,9,  -999.00,9,   2.0154,2,     1134
  49UP20100706,   P09,    62,  1,      9,     82,2,20100722,1128,  8.3350, 136.9997, 2318,   2344.1,   1.9318,   1.9327,2,  34.6488,2,  34.6495,2,    127.0,3,   140.97,2,    37.52,2,     0.00,2,     2.63,2, -999.000,9, -999.000,9,   -999.0,9,   -999.0,9,-999.0000,9,  -999.00,  -999.00,9,  -999.00,9,   1.9327,2,     1130
  49UP20100706,   P09,    62,  1,      8,     81,2,20100722,1128,  8.3350, 136.9997, 2318,   2344.1,   1.9318,   1.9327,2,  34.6488,2,  34.6496,2,    126.7,3,   140.81,2,    37.48,2,     0.00,2,     2.63,2, -999.000,9, -999.000,9,   -999.0,9,   -999.0,9,-999.0000,9,  -999.00,  -999.00,9,  -999.00,9,   1.9327,2,     1130