BOTTLE,20200625PRINUNIVRMK
EXPOCODE,SECT_ID,STNNBR,CASTNO,SAMPNO,BTLNBR,BTLNBR_FLAG_W,DATE,TIME,LATITUDE,LONGITUDE,DEPTH,CTDPRS,CTDTMP,SBE35,SBE35_FLAG_W,CTDSAL,CTDSAL_FLAG_W,SALNTY,SALNTY_FLAG_W,OXYGEN,OXYGEN_FLAG_W,SILCAT,SILCAT_FLAG_W,NITRAT,NITRAT_FLAG_W,NITRIT,NITRIT_FLAG_W,PHSPHT,PHSPHT_FLAG_W,CFC-11,CFC-11_FLAG_W,CFC-12,CFC-12_FLAG_W,TCARBN,TCARBN_FLAG_W,ALKALI,ALKALI_FLAG_W,PH_TOT,PH_TOT_FLAG_W,PH_TMP,CHLORA,CHLORA_FLAG_W,PPHYTN,PPHYTN_FLAG_W,SBE35,SBE35_FLAG_W,BTL_TIME
,,,,,,,,,,,METERS,DBAR,ITS-90,,,PSS-78,,PSS-78,,UMOL/KG,,UMOL/KG,,UMOL/KG,,UMOL/KG,,UMOL/KG,,PMOL/KG,,PMOL/KG,,UMOL/KG,,UMOL/KG,,,,DEG C,UG/KG,,UG/KG,,,,
  49UP20100706,   P09,    38,  1,      0,     -9,0,20100715,2356, 19.9708, 137.0065, 4771,      0.0,  29.8259,-999.0000,9,  34.6867,2,-999.0000,9,    207.1,2,     1.02,2,     0.01,2,     0.00,2,     0.00,2, -999.000,9, -999.000,9,   -999.0,9,   -999.0,9,-999.0000,9,  -999.00,     0.05,2,     0.01,2,-999.0000,9,      155
  49UP20100706,   P09,    38,  1,     36,    109,2,20100715,2356, 19.9708, 137.0065, 4771,     10.0,  29.8252,  29.8190,2,  34.6863,2,  34.6860,6,    195.0,6,     1.03,6,     0.01,6,     0.00,6,     0.01,6,    1.608,2,    0.945,2,   1940.4,2,   2281.5,2,   8.1276,2,    25.00,     0.05,2,     0.01,2,  29.8190,2,      210
  49UP20100706,   P09,    38,  1,     35,    108,2,20100715,2356, 19.9708, 137.0065, 4771,     25.9,  28.4079,  28.3861,2,  34.8030,2,  34.8002,6,    205.9,6,     1.12,6,     0.01,6,     0.00,6,     0.01,6,    1.877,2,    1.044,2,   1948.4,2,   2288.4,2,   8.1135,2,    25.00,     0.05,2,     0.00,2,  28.3861,2,      209
  49UP20100706,   P09,    38,  1,     34,    107,2,20100715,2356, 19.9708, 137.0065, 4771,     49.9,  25.5580,  25.5551,2,  34.9519,2,  34.9450,4,    216.8,6,     1.17,6,     0.01,6,     0.00,6,     0.00,6,    2.012,2,    1.128,2,   1962.9,2,   2295.6,2,   8.1039,2,    25.00,     0.06,2,     0.01,2,  25.5551,2,      205
  49UP20100706,   P09,    38,  1,     33,    106,2,20100715,2356, 19.9708, 137.0065, 4771,     75.6,  23.7999,  23.7928,2,  34.8731,2,  34.8743,6,    214.7,6,     1.32,6,     0.00,6,     0.00,6,     0.00,6,    2.039,2,    1.183,2,   1969.8,2,   2294.0,2,   8.0881,2,    25.00,     0.11,2,     0.03,2,  23.7928,2,      204
  49UP20100706,   P09,    38,  1,     32,    105,2,20100715,2356, 19.9708, 137.0065, 4771,    102.1,  22.5259,  22.5234,2,  34.8392,2,  34.8391,2,    209.7,2,     1.51,2,     0.00,2,     0.00,2,     0.01,2,    2.036,2,    1.197,2,   1986.3,2,   2291.5,2,   8.0574,2,    25.00,     0.17,2,     0.10,2,  22.5234,2,      202
  49UP20100706,   P09,    38,  1,     31,    104,2,20100715,2356, 19.9708, 137.0065, 4771,    125.2,  21.1516,  21.1510,2,  34.7880,2,  34.7880,2,    209.8,2,     1.82,2,     0.01,2,     0.02,2,     0.01,2,    2.090,2,    1.250,2,   1997.2,2,   2284.7,2,   8.0333,2,    25.00,     0.21,2,     0.27,2,  21.1510,2,      200
  49UP20100706,   P09,    38,  1,     30,    103,2,20100715,2356, 19.9708, 137.0065, 4771,    151.9,  19.7490,  19.7468,2,  34.7739,2,  34.7745,2,    198.0,2,     2.39,2,     1.77,2,     0.03,2,     0.12,2,    2.263,2,    1.328,2,   2017.5,2,   2287.2,2,   7.9977,2,    25.00,     0.07,2,     0.16,2,  19.7468,2,      159
  49UP20100706,   P09,    38,  1,     29,    102,2,20100715,2356, 19.9708, 137.0065, 4771,    201.1,  18.2865,  18.2823,2,  34.7602,2,  34.7616,2,    193.9,2,     3.50,2,     4.11,2,     0.01,2,     0.27,2,    2.406,2,    1.443,2,   2034.6,2,   2281.8,2,   7.9639,2,    25.00,     0.00,2,     0.02,2,  18.2823,2,      157
  49UP20100706,   P09,    38,  1,     28,    101,2,20100715,2356, 19.9708, 137.0065, 4771,    251.8,  17.0499,  17.0437,2,  34.7171,2,  34.7160,2,    190.7,3,     5.16,2,     6.24,2,     0.00,2,     0.42,2,    2.560,2,    1.513,2,   2052.3,6,   2280.7,6,   7.9266,6,    25.00,  -999.00,9,  -999.00,9,  17.0437,2,      155
  49UP20100706,   P09,    38,  1,     27,    100,2,20100715,2356, 19.9708, 137.0065, 4771,    251.8,  17.0499,  17.0437,2,  34.7171,2,  34.7156,2,    191.7,3,     5.06,2,     6.21,2,     0.00,2,     0.42,2,    2.284,6,    1.355,6,   2052.2,2,   2285.9,2,   7.9284,2,    25.00,  -999.00,9,  -999.00,9,  17.0437,2,      155
  49UP20100706,   P09,    38,  1,     26,     99,2,20100715,2356, 19.9708, 137.0065, 4771,    285.1,  16.1818,  16.1798,2,  34.6489,2,  34.6548,2,    187.9,2,     6.36,2,     7.52,2,     0.00,2,     0.52,2,    2.415,4,    1.376,4,   2061.8,2,   2283.2,2,   7.8983,2,    25.00,  -999.00,9,  -999.00,9,  16.1798,2,      153
  49UP20100706,   P09,    38,  1,     25,     98,2,20100715,2356, 19.9708, 137.0065, 4771,    376.1,  13.0657,  13.0748,2,  34.4155,2,  34.4206,2,    182.4,2,    13.51,2,    12.84,2,     0.00,2,     0.91,2,    2.740,2,    1.502,2,   2095.7,2,   2262.5,3,   7.8123,2,    25.00,  -999.00,9,  -999.00,9,  13.0748,2,      149
  49UP20100706,   P09,    38,  1,     24,     97,2,20100715,2356, 19.9708, 137.0065, 4771,    475.1,  10.0722,  10.0720,2,  34.2362,2,  34.2390,2,    169.2,2,    28.65,2,    19.58,2,     0.00,2,     1.39,2,    2.649,2,    1.429,2,   2141.9,2,   2275.8,2,   7.7058,2,    25.00,  -999.00,9,  -999.00,9,  10.0720,2,      146
  49UP20100706,   P09,    38,  1,     23,     96,2,20100715,2356, 19.9708, 137.0065, 4771,    574.9,   7.3194,   7.3278,2,  34.1368,2,  34.1383,2,    125.6,2,    52.71,2,    28.40,2,     0.00,2,     2.04,2,    1.977,2,    0.961,2,   2212.0,2,   2288.4,2,   7.5701,2,    25.00,  -999.00,9,  -999.00,9,   7.3278,2,      143
  49UP20100706,   P09,    38,  1,     22,     95,2,20100715,2356, 19.9708, 137.0065, 4771,    676.9,   5.6909,   5.6903,2,  34.1679,2,  34.1668,2,     87.2,2,    76.42,2,    34.74,2,     0.00,2,     2.51,2,    1.152,2,    0.580,2,   2268.7,2,   2309.8,2,   7.4595,2,    25.00,  -999.00,9,  -999.00,9,   5.6903,2,      140
  49UP20100706,   P09,    38,  1,     21,     94,2,20100715,2356, 19.9708, 137.0065, 4771,    777.8,   4.9756,   4.9769,2,  34.2927,2,  34.2921,2,     57.8,2,    90.17,2,    38.80,2,     0.00,2,     2.80,2,    0.364,2,    0.152,2,   2308.6,2,   2335.3,2,   7.4157,2,    25.00,  -999.00,9,  -999.00,9,   4.9769,2,      137
  49UP20100706,   P09,    38,  1,     20,     93,2,20100715,2356, 19.9708, 137.0065, 4771,    877.0,   4.2170,   4.2170,2,  34.3657,2,  34.3658,2,     57.7,2,   106.46,2,    39.79,2,     0.00,2,     2.86,2,    0.212,2,    0.101,2,   2326.9,2,   2355.1,2,   7.4096,2,    25.00,  -999.00,9,  -999.00,9,   4.2170,2,      134
  49UP20100706,   P09,    38,  1,     19,     92,2,20100715,2356, 19.9708, 137.0065, 4771,    978.0,   3.7290,   3.7286,2,  34.4173,2,  34.4169,2,     59.2,2,   117.13,2,    40.14,2,     0.00,2,     2.88,2,    0.097,2,    0.074,2,   2336.5,2,   2364.9,2,   7.4141,2,    25.00,  -999.00,9,  -999.00,9,   3.7286,2,      131
  49UP20100706,   P09,    38,  1,     18,     91,2,20100715,2356, 19.9708, 137.0065, 4771,   1140.9,   3.1720,   3.1716,2,  34.4758,2,  34.4748,2,     66.4,2,   128.86,2,    40.37,2,     0.00,2,     2.88,2,    0.037,2,    0.028,2,   2347.6,3,   2382.2,2,   7.4267,2,    25.00,  -999.00,9,  -999.00,9,   3.1716,2,      127
  49UP20100706,   P09,    38,  1,     17,     90,2,20100715,2356, 19.9708, 137.0065, 4771,   1343.4,   2.7323,   2.7320,2,  34.5492,2,  34.5494,2,     88.0,2,   134.80,2,    39.15,2,     0.00,2,     2.78,2,    0.011,2,    0.010,2,   2343.3,2,   2395.0,2,   7.4712,2,    25.00,  -999.00,9,  -999.00,9,   2.7320,2,      122
  49UP20100706,   P09,    38,  1,     16,     89,2,20100715,2356, 19.9708, 137.0065, 4771,   1546.3,   2.4327,   2.4327,2,  34.5888,2,  34.5888,2,    101.4,2,   137.22,2,    38.49,2,     0.00,2,     2.72,2,    0.000,3,    0.002,3,   2341.4,2,   2406.7,2,   7.4966,2,    25.00,  -999.00,9,  -999.00,9,   2.4327,2,      116
  49UP20100706,   P09,    38,  1,     15,     88,2,20100715,2356, 19.9708, 137.0065, 4771,   1747.3,   2.2156,   2.2154,2,  34.6098,2,  34.6099,2,    107.7,2,   139.95,2,    38.37,2,     0.00,2,     2.70,2,    0.000,2,    0.000,2,   2344.4,2,   2406.6,2,   7.5067,2,    25.00,  -999.00,9,  -999.00,9,   2.2154,2,      111
  49UP20100706,   P09,    38,  1,     14,     87,2,20100715,2356, 19.9708, 137.0065, 4771,   1952.2,   2.0615,   2.0618,2,  34.6230,2,  34.6226,2,    113.0,2,   141.92,2,    38.18,2,     0.00,2,     2.68,2,    0.000,2,    0.000,2,   2342.3,6,   2411.9,6,   7.5144,6,    25.00,  -999.00,9,  -999.00,9,   2.0618,2,      106
  49UP20100706,   P09,    38,  1,     13,     86,2,20100715,2356, 19.9708, 137.0065, 4771,   1952.2,   2.0615,   2.0618,2,  34.6230,2,  34.6232,2,    113.3,2,   141.87,2,    38.06,2,     0.00,2,     2.67,2,    0.000,3,    0.000,2,   2342.2,2,   2412.3,2,   7.5154,2,    25.00,  -999.00,9,  -999.00,9,   2.0618,2,      106
  49UP20100706,   P09,    38,  1,     12,     85,2,20100715,2356, 19.9708, 137.0065, 4771,   2196.0,   1.8848,   1.8856,2,  34.6385,2,  34.6379,2,    120.1,2,   144.11,2,    37.78,2,     0.00,2,     2.64,2,    0.000,2,    0.000,2,   2341.6,2,   2414.5,2,   7.5252,2,    25.00,  -999.00,9,  -999.00,9,   1.8856,2,      100
  49UP20100706,   P09,    38,  1,     11,    110,2,20100715,2356, 19.9708, 137.0065, 4771,   2448.4,   1.7794,   1.7795,2,  34.6493,2,  34.6493,2,    127.2,2,   144.51,2,    37.34,2,     0.00,2,     2.61,2,    0.000,2,    0.000,2,   2338.6,2,   2412.8,2,   7.5354,2,    25.00,  -999.00,9,  -999.00,9,   1.7795,2,       53
  49UP20100706,   P09,    38,  1,     10,     83,2,20100715,2356, 19.9708, 137.0065, 4771,   2713.7,   1.7063,   1.7064,2,  34.6573,2,  34.6572,2,    133.2,2,   144.42,2,    36.98,2,     0.00,2,     2.59,2,    0.000,2,    0.000,2,   2334.3,2,   2416.0,2,   7.5476,2,    25.00,  -999.00,9,  -999.00,9,   1.7064,2,       47
  49UP20100706,   P09,    38,  1,      9,     82,2,20100715,2356, 19.9708, 137.0065, 4771,   2960.4,   1.6450,   1.6450,2,  34.6639,2,  34.6640,2,    138.7,2,   143.34,2,    36.65,2,     0.00,2,     2.56,2,    0.000,2,    0.000,2,   2332.2,2,   2417.8,2,   7.5547,2,    25.00,  -999.00,9,  -999.00,9,   1.6450,2,       41
  49UP20100706,   P09,    38,  1,      8,     81,2,20100715,2356, 19.9708, 137.0065, 4771,   3224.9,   1.5992,   1.5991,2,  34.6700,2,  34.6696,2,    143.2,2,   143.10,2,    36.40,2,     0.00,2,     2.53,2,    0.000,2,    0.001,2,   2330.0,2,   2420.8,2,   7.5624,2,    25.00,  -999.00,9,  -999.00,9,   1.5991,2,       35
  49UP20100706,   P09,    38,  1,      7,     80,2,20100715,2356, 19.9708, 137.0065, 4771,   3471.3,   1.5710,   1.5710,2,  34.6742,2,  34.6745,2,    147.6,2,   142.12,2,    36.17,2,     0.00,2,     2.51,2,    0.000,2,    0.000,2,   2328.4,2,   2416.6,2,   7.5674,2,    25.00,  -999.00,9,  -999.00,9,   1.5710,2,       29
  49UP20100706,   P09,    38,  1,      6,     79,2,20100715,2356, 19.9708, 137.0065, 4771,   3737.0,   1.5514,   1.5513,2,  34.6783,2,  34.6790,2,    150.9,2,   141.74,2,    35.88,2,     0.00,2,     2.50,2,    0.000,2,    0.000,2,   2327.8,2,   2411.4,2,   7.5723,2,    25.00,  -999.00,9,  -999.00,9,   1.5513,2,       22
  49UP20100706,   P09,    38,  1,      5,     78,2,20100715,2356, 19.9708, 137.0065, 4771,   3983.2,   1.5049,   1.5049,2,  34.6840,2,  34.6839,2,    157.0,2,   140.30,2,    35.48,2,     0.00,2,     2.46,2,    0.000,2,    0.000,2,   2321.9,2,   2414.5,2,   7.5802,2,    25.00,  -999.00,9,  -999.00,9,   1.5049,2,       17
  49UP20100706,   P09,    38,  1,      4,     77,2,20100715,2356, 19.9708, 137.0065, 4771,   4247.6,   1.5100,   1.5100,2,  34.6859,2,  34.6857,2,    159.1,2,   139.76,2,    35.34,2,     0.00,2,     2.45,2,    0.000,3,    0.000,3,   2320.8,2,   2412.4,2,   7.5825,2,    25.00,  -999.00,9,  -999.00,9,   1.5100,2,       11
  49UP20100706,   P09,    38,  1,      3,     76,2,20100715,2356, 19.9708, 137.0065, 4771,   4492.9,   1.5267,   1.5269,2,  34.6868,2,  34.6867,2,    159.9,2,   139.33,2,    35.37,2,     0.00,2,     2.45,2,    0.000,4,    0.000,2,   2319.6,2,   2414.1,2,   7.5865,2,    25.00,  -999.00,9,  -999.00,9,   1.5269,2,        6
  49UP20100706,   P09,    38,  1,      2,     75,2,20100715,2356, 19.9708, 137.0065, 4771,   4760.8,   1.5578,   1.5576,2,  34.6866,2,  34.6882,4,    160.1,2,   139.19,2,    35.32,2,     0.00,2,     2.44,2,    0.004,4,    0.000,2,   2319.5,2,   2413.4,2,   7.5823,2,    25.00,  -999.00,9,  -999.00,9,   1.5576,2,        0
  49UP20100706,   P09,    38,  1,      1,     74,2,20100715,2356, 19.9708, 137.0065, 4771,   4869.9,   1.5718,   1.5716,2,  34.6866,2,  34.6870,2,    160.1,2,   139.25,2,    35.35,2,     0.00,2,     2.45,2,    0.000,2,    0.000,2,   2317.1,2,   2411.7,2,   7.5781,2,    25.00,  -999.00,9,  -999.00,9,   1.5716,2,     2357