BOTTLE,20200625PRINUNIVRMK
EXPOCODE,SECT_ID,STNNBR,CASTNO,SAMPNO,BTLNBR,BTLNBR_FLAG_W,DATE,TIME,LATITUDE,LONGITUDE,DEPTH,CTDPRS,CTDTMP,SBE35,SBE35_FLAG_W,CTDSAL,CTDSAL_FLAG_W,SALNTY,SALNTY_FLAG_W,OXYGEN,OXYGEN_FLAG_W,SILCAT,SILCAT_FLAG_W,NITRAT,NITRAT_FLAG_W,NITRIT,NITRIT_FLAG_W,PHSPHT,PHSPHT_FLAG_W,CFC-11,CFC-11_FLAG_W,CFC-12,CFC-12_FLAG_W,TCARBN,TCARBN_FLAG_W,ALKALI,ALKALI_FLAG_W,PH_TOT,PH_TOT_FLAG_W,PH_TMP,CHLORA,CHLORA_FLAG_W,PPHYTN,PPHYTN_FLAG_W,SBE35,SBE35_FLAG_W,BTL_TIME
,,,,,,,,,,,METERS,DBAR,ITS-90,,,PSS-78,,PSS-78,,UMOL/KG,,UMOL/KG,,UMOL/KG,,UMOL/KG,,UMOL/KG,,PMOL/KG,,PMOL/KG,,UMOL/KG,,UMOL/KG,,,,DEG C,UG/KG,,UG/KG,,,,
  49UP20100706,   P09,   120,  1,      0,     -9,0,20100814,2231,  4.9990, 136.9958, 5016,      0.0,  29.9429,-999.0000,9,  33.5917,2,-999.0000,9,    193.9,2,     1.09,2,     0.02,2,     0.00,2,     0.03,2, -999.000,9, -999.000,9,   -999.0,9,   -999.0,9,-999.0000,9,  -999.00,     0.07,2,     0.01,2,-999.0000,9,       17
  49UP20100706,   P09,   120,  1,     36,    109,2,20100814,2231,  4.9990, 136.9958, 5016,     11.0,  29.9181,  29.9195,2,  33.6097,2,  33.6161,2,    193.9,2,     1.08,2,     0.00,2,     0.00,2,     0.01,2, -999.000,9, -999.000,9,   1874.8,2,   2211.6,2,   8.1484,2,    25.00,     0.07,2,     0.02,2,  29.9195,2,       39
  49UP20100706,   P09,   120,  1,     35,    108,2,20100814,2231,  4.9990, 136.9958, 5016,     26.0,  29.9825,  29.9819,2,  33.7807,2,  33.7890,4,    194.2,2,     1.10,2,     0.00,2,     0.00,2,     0.00,2, -999.000,9, -999.000,9,   1882.5,2,   2220.0,2,   8.1521,2,    25.00,     0.06,2,     0.01,2,  29.9819,2,       38
  49UP20100706,   P09,   120,  1,     34,    107,2,20100814,2231,  4.9990, 136.9958, 5016,     50.3,  30.0854,  30.0848,2,  33.8823,2,  33.8840,2,    194.2,2,     1.10,2,     0.00,2,     0.00,2,     0.00,2, -999.000,9, -999.000,9,   1885.8,2,   2225.1,2,   8.1464,2,    25.00,     0.07,2,     0.02,2,  30.0848,2,       35
  49UP20100706,   P09,   120,  1,     33,    106,2,20100814,2231,  4.9990, 136.9958, 5016,     76.8,  29.9183,  29.9190,2,  34.3210,2,  34.3251,2,    199.0,2,     1.38,2,     0.00,2,     0.00,2,     0.03,2, -999.000,9, -999.000,9,   1928.1,2,   2256.9,2,   8.1188,2,    25.00,     0.11,2,     0.04,2,  29.9190,2,       34
  49UP20100706,   P09,   120,  1,     32,    105,2,20100814,2231,  4.9990, 136.9958, 5016,    101.5,  28.6508,  28.6469,2,  34.5272,2,  34.5390,4,    192.3,2,     1.40,2,    -0.01,2,     0.01,2,     0.06,2, -999.000,9, -999.000,9,   1951.3,2,   2265.8,2,   8.1007,2,    25.00,     0.19,2,     0.14,2,  28.6469,2,       32
  49UP20100706,   P09,   120,  1,     31,    104,2,20100814,2231,  4.9990, 136.9958, 5016,    127.3,  26.7280,  26.7229,2,  34.6933,2,  34.6986,2,    174.7,2,     2.02,2,     1.06,2,     0.35,2,     0.19,2, -999.000,9, -999.000,9,   1986.2,2,   2276.2,2,   8.0432,2,    25.00,     0.22,2,     0.28,2,  26.7229,2,       31
  49UP20100706,   P09,   120,  1,     30,    103,3,20100814,2231,  4.9990, 136.9958, 5016,    151.3,  21.2502,  21.2430,2,  34.8085,2,  34.8084,3,    154.6,2,     5.27,2,     6.15,2,     0.02,2,     0.52,2, -999.000,9, -999.000,9,   2064.4,2,   2291.1,2,   7.9307,2,    25.00,     0.06,2,     0.14,2,  21.2430,2,       29
  49UP20100706,   P09,   120,  1,     29,    102,2,20100814,2231,  4.9990, 136.9958, 5016,    202.5,  13.6933,  13.6922,2,  34.5515,2,  34.5516,2,    108.6,2,    19.67,2,    20.06,2,     0.00,2,     1.46,2, -999.000,9, -999.000,9,   2155.2,2,   2280.4,2,   7.6924,2,    25.00,     0.01,2,     0.02,2,  13.6922,2,       27
  49UP20100706,   P09,   120,  1,     28,    101,2,20100814,2231,  4.9990, 136.9958, 5016,    252.8,  10.4788,  10.4779,2,  34.5723,2,  34.5726,2,     61.7,2,    32.06,2,    30.29,2,     0.00,2,     2.17,2, -999.000,9, -999.000,9,   2224.4,2,   2296.0,2,   7.5432,2,    25.00,  -999.00,9,  -999.00,9,  10.4779,2,       25
  49UP20100706,   P09,   120,  1,     27,    100,2,20100814,2231,  4.9990, 136.9958, 5016,    283.1,   9.4943,   9.4959,2,  34.5993,2,  34.5981,2,     57.2,2,    35.65,2,    32.66,2,     0.00,2,     2.31,2, -999.000,9, -999.000,9,   2239.4,2,   2300.9,2,   7.5121,2,    25.00,  -999.00,9,  -999.00,9,   9.4959,2,       24
  49UP20100706,   P09,   120,  1,     26,     99,2,20100814,2231,  4.9990, 136.9958, 5016,    333.3,   8.8634,   8.8625,2,  34.6013,2,  34.6004,2,     60.8,2,    37.91,2,    33.64,2,     0.00,2,     2.37,2, -999.000,9, -999.000,9,   2244.4,2,   2301.2,2,   7.5053,2,    25.00,  -999.00,9,  -999.00,9,   8.8625,2,       22
  49UP20100706,   P09,   120,  1,     25,     98,2,20100814,2231,  4.9990, 136.9958, 5016,    382.7,   8.3670,   8.3695,2,  34.5837,2,  34.5832,2,     72.2,2,    40.13,2,    33.55,2,     0.00,2,     2.36,2, -999.000,9, -999.000,9,   2240.6,2,   2308.4,2,   7.5211,2,    25.00,  -999.00,9,  -999.00,9,   8.3695,2,       20
  49UP20100706,   P09,   120,  1,     24,     97,4,20100814,2231,  4.9990, 136.9958, 5016,    432.5,   7.9836,   7.9821,2,  34.5713,2,  34.5776,4,     95.5,4,    72.95,4,    35.26,4,     0.00,4,     2.48,4, -999.000,9, -999.000,9,   2272.5,4,   2341.3,4,   7.5276,4,    25.00,  -999.00,9,  -999.00,9,   7.9821,2,       18
  49UP20100706,   P09,   120,  1,     23,     96,4,20100814,2231,  4.9990, 136.9958, 5016,    483.7,   7.5257,   7.5254,2,  34.5569,2,  34.5544,4,     99.6,4,    50.75,4,    33.12,4,     0.00,4,     2.34,4, -999.000,9, -999.000,9,   2282.1,4,   2353.9,4,   7.5380,4,    25.00,  -999.00,9,  -999.00,9,   7.5254,2,       16
  49UP20100706,   P09,   120,  1,     22,     95,4,20100814,2231,  4.9990, 136.9958, 5016,    574.1,   6.9667,   6.9657,2,  34.5436,2,  34.5732,4,    112.5,4,    84.38,4,    35.53,4,     0.00,4,     2.50,4, -999.000,9, -999.000,9,   2245.7,4,   2315.4,4,   7.5470,4,    25.00,  -999.00,9,  -999.00,9,   6.9657,2,       13
  49UP20100706,   P09,   120,  1,     21,     94,2,20100814,2231,  4.9990, 136.9958, 5016,    675.9,   6.4266,   6.4264,2,  34.5327,2,  34.5321,2,    112.6,2,    50.64,2,    33.69,2,     0.00,2,     2.37,2, -999.000,9, -999.000,9,   2242.0,6,   2318.6,6,   7.5532,6,    25.00,  -999.00,9,  -999.00,9,   6.4264,2,       10
  49UP20100706,   P09,   120,  1,     20,     93,2,20100814,2231,  4.9990, 136.9958, 5016,    776.0,   6.0314,   6.0307,2,  34.5317,2,  34.5305,2,    101.4,2,    58.76,2,    35.26,2,     0.00,2,     2.50,2, -999.000,9, -999.000,9,   2257.9,2,   2320.9,2,   7.5284,2,    25.00,  -999.00,9,  -999.00,9,   6.0307,2,        7
  49UP20100706,   P09,   120,  1,     19,     92,2,20100814,2231,  4.9990, 136.9958, 5016,    877.1,   5.4541,   5.4562,2,  34.5338,2,  34.5336,2,     91.8,2,    72.63,2,    36.74,2,     0.00,2,     2.61,2, -999.000,9, -999.000,9,   2279.0,2,   2339.8,2,   7.5034,2,    25.00,  -999.00,9,  -999.00,9,   5.4562,2,        4
  49UP20100706,   P09,   120,  1,     18,     91,2,20100814,2231,  4.9990, 136.9958, 5016,    979.0,   4.8135,   4.8132,2,  34.5466,2,  34.5464,2,     91.9,2,    85.25,2,    37.57,2,     0.00,2,     2.67,2, -999.000,9, -999.000,9,   2293.3,2,   2348.9,2,   7.5068,2,    25.00,  -999.00,9,  -999.00,9,   4.8132,2,        1
  49UP20100706,   P09,   120,  1,     17,     90,2,20100814,2231,  4.9990, 136.9958, 5016,   1180.7,   3.6857,   3.6851,2,  34.5757,2,  34.5757,2,     94.3,2,   107.44,2,    38.60,2,     0.00,2,     2.74,2, -999.000,9, -999.000,9,   2319.2,2,   2374.2,2,   7.4990,2,    25.00,  -999.00,9,  -999.00,9,   3.6851,2,     2357
  49UP20100706,   P09,   120,  1,     16,     89,2,20100814,2231,  4.9990, 136.9958, 5016,   1434.1,   3.0151,   3.0149,2,  34.5997,2,  34.5995,2,     99.2,2,   121.22,2,    38.92,2,     0.00,2,     2.76,2, -999.000,9, -999.000,9,   2326.3,2,   2392.2,2,   7.5016,2,    25.00,  -999.00,9,  -999.00,9,   3.0149,2,     2351
  49UP20100706,   P09,   120,  1,     15,     88,2,20100814,2231,  4.9990, 136.9958, 5016,   1696.6,   2.5737,   2.5720,2,  34.6187,2,  34.6186,2,    106.3,2,   130.23,2,    38.74,2,     0.00,2,     2.74,2, -999.000,9, -999.000,9,   2338.0,2,   2404.0,2,   7.5115,2,    25.00,  -999.00,9,  -999.00,9,   2.5720,2,     2346
  49UP20100706,   P09,   120,  1,     14,     87,2,20100814,2231,  4.9990, 136.9958, 5016,   1941.0,   2.2758,   2.2757,2,  34.6340,2,  34.6337,2,    112.6,2,   136.63,2,    38.54,2,     0.00,2,     2.72,2, -999.000,9, -999.000,9,   2340.6,6,   2406.1,6,   7.5193,6,    25.00,  -999.00,9,  -999.00,9,   2.2757,2,     2340
  49UP20100706,   P09,   120,  1,     13,     86,2,20100814,2231,  4.9990, 136.9958, 5016,   2194.2,   2.0442,   2.0439,2,  34.6464,2,  34.6459,2,    119.4,2,   140.66,2,    38.19,2,     0.00,2,     2.68,2, -999.000,9, -999.000,9,   2342.1,2,   2415.1,2,   7.5295,2,    25.00,  -999.00,9,  -999.00,9,   2.0439,2,     2335
  49UP20100706,   P09,   120,  1,     12,     85,2,20100814,2231,  4.9990, 136.9958, 5016,   2448.0,   1.8664,   1.8664,2,  34.6557,2,  34.6564,2,    128.0,2,   142.09,2,    37.57,2,     0.00,2,     2.63,2, -999.000,9, -999.000,9,   2341.0,2,   2416.4,2,   7.5422,2,    25.00,  -999.00,9,  -999.00,9,   1.8664,2,     2330
  49UP20100706,   P09,   120,  1,     11,    110,2,20100814,2231,  4.9990, 136.9958, 5016,   2713.2,   1.7095,   1.7098,2,  34.6650,2,  34.6645,2,    135.2,2,   143.18,2,    37.10,2,     0.00,2,     2.59,2, -999.000,9, -999.000,9,   2333.6,2,   2413.2,2,   7.5578,2,    25.00,  -999.00,9,  -999.00,9,   1.7098,2,     2324
  49UP20100706,   P09,   120,  1,     10,     83,2,20100814,2231,  4.9990, 136.9958, 5016,   2957.1,   1.6101,   1.6100,2,  34.6717,2,  34.6714,2,    142.4,2,   143.39,2,    36.65,2,     0.00,2,     2.55,2, -999.000,9, -999.000,9,   2329.0,2,   2418.8,2,   7.5602,2,    25.00,  -999.00,9,  -999.00,9,   1.6100,2,     2319
  49UP20100706,   P09,   120,  1,      9,     82,2,20100814,2231,  4.9990, 136.9958, 5016,   3222.6,   1.5629,   1.5629,2,  34.6761,2,  34.6756,2,    146.7,2,   143.24,2,    36.43,2,     0.00,2,     2.54,2, -999.000,9, -999.000,9,   2327.9,2,   2418.4,2,   7.5677,2,    25.00,  -999.00,9,  -999.00,9,   1.5629,2,     2313
  49UP20100706,   P09,   120,  1,      8,     81,2,20100814,2231,  4.9990, 136.9958, 5016,   3468.7,   1.5377,   1.5380,2,  34.6796,2,  34.6782,4,    148.9,2,   142.90,2,    36.22,2,     0.00,2,     2.52,2, -999.000,9, -999.000,9,   2329.6,6,   2418.6,6,   7.5746,6,    25.00,  -999.00,9,  -999.00,9,   1.5380,2,     2308
  49UP20100706,   P09,   120,  1,      7,     80,2,20100814,2231,  4.9990, 136.9958, 5016,   3734.5,   1.5131,   1.5132,2,  34.6837,2,  34.6827,2,    152.1,2,   142.47,2,    35.97,2,     0.00,2,     2.49,2, -999.000,9, -999.000,9,   2328.8,2,   2422.4,2,   7.5831,2,    25.00,  -999.00,9,  -999.00,9,   1.5132,2,     2302
  49UP20100706,   P09,   120,  1,      6,     79,2,20100814,2231,  4.9990, 136.9958, 5016,   3979.0,   1.5003,   1.5006,2,  34.6864,2,  34.6849,4,    155.7,2,   141.40,2,    35.71,2,     0.00,2,     2.47,2, -999.000,9, -999.000,9,   2320.4,3,   2414.1,2,   7.5843,2,    25.00,  -999.00,9,  -999.00,9,   1.5006,2,     2257
  49UP20100706,   P09,   120,  1,      5,     78,2,20100814,2231,  4.9990, 136.9958, 5016,   4245.5,   1.5166,   1.5167,2,  34.6875,2,  34.6876,2,    156.9,2,   141.12,2,    35.61,2,     0.00,2,     2.46,2, -999.000,9, -999.000,9,   2333.6,3,   2419.0,2,   7.5889,2,    25.00,  -999.00,9,  -999.00,9,   1.5167,2,     2251
  49UP20100706,   P09,   120,  1,      4,     77,2,20100814,2231,  4.9990, 136.9958, 5016,   4491.7,   1.5277,   1.5279,2,  34.6886,2,  34.6884,6,    158.6,6,   140.48,6,    35.50,6,     0.00,6,     2.46,6, -999.000,9, -999.000,9,   2321.0,2,   2416.8,2,   7.5874,2,    25.00,  -999.00,9,  -999.00,9,   1.5279,2,     2246
  49UP20100706,   P09,   120,  1,      3,     76,2,20100814,2231,  4.9990, 136.9958, 5016,   4758.7,   1.5353,   1.5355,2,  34.6899,2,  34.6899,6,    161.2,6,   139.64,6,    35.32,6,     0.00,6,     2.45,6, -999.000,9, -999.000,9,   2311.5,3,   2414.1,2,   7.5900,2,    25.00,  -999.00,9,  -999.00,9,   1.5355,2,     2240
  49UP20100706,   P09,   120,  1,      2,     75,2,20100814,2231,  4.9990, 136.9958, 5016,   5006.8,   1.5605,   1.5605,2,  34.6900,2,  34.6900,6,    161.8,6,   139.12,6,    35.26,6,     0.00,6,     2.45,6, -999.000,9, -999.000,9,   2318.2,2,   2412.5,2,   7.5860,2,    25.00,  -999.00,9,  -999.00,9,   1.5605,2,     2234
  49UP20100706,   P09,   120,  1,      1,     74,2,20100814,2231,  4.9990, 136.9958, 5016,   5099.1,   1.5690,   1.5690,2,  34.6902,2,  34.6901,6,    162.1,6,   139.02,6,    35.26,6,     0.00,6,     2.44,6, -999.000,9, -999.000,9,   2320.5,2,   2413.3,2,   7.5898,2,    25.00,  -999.00,9,  -999.00,9,   1.5690,2,     2231