BOTTLE,20200625PRINUNIVRMK
EXPOCODE,SECT_ID,STNNBR,CASTNO,SAMPNO,BTLNBR,BTLNBR_FLAG_W,DATE,TIME,LATITUDE,LONGITUDE,DEPTH,CTDPRS,CTDTMP,SBE35,SBE35_FLAG_W,CTDSAL,CTDSAL_FLAG_W,SALNTY,SALNTY_FLAG_W,OXYGEN,OXYGEN_FLAG_W,SILCAT,SILCAT_FLAG_W,NITRAT,NITRAT_FLAG_W,NITRIT,NITRIT_FLAG_W,PHSPHT,PHSPHT_FLAG_W,CFC-11,CFC-11_FLAG_W,CFC-12,CFC-12_FLAG_W,TCARBN,TCARBN_FLAG_W,ALKALI,ALKALI_FLAG_W,PH_TOT,PH_TOT_FLAG_W,PH_TMP,CHLORA,CHLORA_FLAG_W,PPHYTN,PPHYTN_FLAG_W,SBE35,SBE35_FLAG_W,BTL_TIME
,,,,,,,,,,,METERS,DBAR,ITS-90,,,PSS-78,,PSS-78,,UMOL/KG,,UMOL/KG,,UMOL/KG,,UMOL/KG,,UMOL/KG,,PMOL/KG,,PMOL/KG,,UMOL/KG,,UMOL/KG,,,,DEG C,UG/KG,,UG/KG,,,,
  49UP20100706,   P09,    12,  1,      0,     -9,0,20100708,2210, 32.0102, 137.0125, 4188,      0.0,  26.4468,-999.0000,9,  34.2578,2,-999.0000,9,    202.4,2,     1.55,2,     0.03,2,     0.00,2,     0.02,2, -999.000,9, -999.000,9,   -999.0,9,   -999.0,9,-999.0000,9,  -999.00,     0.19,2,     0.08,2,-999.0000,9,     2355
  49UP20100706,   P09,    12,  1,     36,    109,2,20100708,2210, 32.0102, 137.0125, 4188,     11.9,  26.4515,  26.4509,2,  34.2638,2,  34.2623,2,    203.0,2,     1.48,2,     0.01,2,     0.00,2,     0.02,2,    1.627,2,    1.060,2,   -999.0,9,   -999.0,9,-999.0000,9,  -999.00,     0.17,2,     0.06,2,  26.4509,2,       19
  49UP20100706,   P09,    12,  1,     35,    108,2,20100708,2210, 32.0102, 137.0125, 4188,     25.2,  26.1738,  26.1614,2,  34.4048,2,  34.4027,2,    203.5,2,     1.41,2,     0.01,2,     0.00,2,     0.01,2,    1.699,2,    1.137,2,   -999.0,9,   -999.0,9,-999.0000,9,  -999.00,     0.21,2,     0.10,2,  26.1614,2,       18
  49UP20100706,   P09,    12,  1,     34,    107,2,20100708,2210, 32.0102, 137.0125, 4188,     50.1,  24.3342,  24.3382,2,  34.6860,2,  34.7006,4,    197.9,2,     2.16,2,     0.65,2,     0.26,2,     0.08,2,    1.859,2,    1.147,2,   -999.0,9,   -999.0,9,-999.0000,9,  -999.00,  -999.00,9,  -999.00,9,  24.3382,2,        2
  49UP20100706,   P09,    12,  1,     33,    106,3,20100708,2210, 32.0102, 137.0125, 4188,     50.1,  24.3342,  24.3382,2,  34.6860,2,  34.6971,4,    197.7,2,     1.87,2,     0.66,2,     0.27,2,     0.08,2,    1.798,2,    1.143,2,   -999.0,9,   -999.0,9,-999.0000,9,  -999.00,     0.27,2,     0.26,2,  24.3382,2,        2
  49UP20100706,   P09,    12,  1,     32,    105,2,20100708,2210, 32.0102, 137.0125, 4188,     75.2,  23.3128,  23.3066,2,  34.7787,2,  34.7749,2,    207.0,2,     1.44,2,     0.32,2,     0.11,2,     0.04,2,    1.812,2,    1.201,2,   -999.0,9,   -999.0,9,-999.0000,9,  -999.00,     0.12,2,     0.14,2,  23.3066,2,        1
  49UP20100706,   P09,    12,  1,     31,    104,2,20100708,2210, 32.0102, 137.0125, 4188,    101.3,  21.8772,  21.8790,2,  34.7604,2,  34.7593,2,    197.3,2,     2.01,2,     1.59,2,     0.03,2,     0.12,2,    1.949,2,    1.252,2,   -999.0,9,   -999.0,9,-999.0000,9,  -999.00,     0.04,2,     0.06,2,  21.8790,2,     2359
  49UP20100706,   P09,    12,  1,     30,    103,3,20100708,2210, 32.0102, 137.0125, 4188,    127.2,  20.8075,  20.8044,2,  34.7495,2,  34.7485,3,    197.3,2,     2.02,2,     1.84,2,     0.02,2,     0.13,2,    2.042,2,    1.346,2,   -999.0,9,   -999.0,9,-999.0000,9,  -999.00,     0.01,2,     0.03,2,  20.8044,2,     2357
  49UP20100706,   P09,    12,  1,     29,    102,2,20100708,2210, 32.0102, 137.0125, 4188,    148.4,  20.1490,  20.1385,2,  34.7600,2,  34.7596,2,    190.4,2,     3.22,2,     3.33,2,     0.01,2,     0.23,2,    2.093,2,    1.308,2,   -999.0,9,   -999.0,9,-999.0000,9,  -999.00,     0.02,2,     0.03,2,  20.1385,2,     2355
  49UP20100706,   P09,    12,  1,     28,    101,2,20100708,2210, 32.0102, 137.0125, 4188,    200.7,  19.2085,  19.2104,2,  34.7126,2,  34.7123,2,    219.2,2,     1.82,2,     1.20,2,     0.02,2,     0.09,2,    2.128,2,    1.320,2,   -999.0,9,   -999.0,9,-999.0000,9,  -999.00,     0.06,2,     0.05,2,  19.2104,2,     2353
  49UP20100706,   P09,    12,  1,     27,    100,2,20100708,2210, 32.0102, 137.0125, 4188,    254.9,  18.8695,  18.8811,2,  34.7130,2,  34.7115,2,    215.6,2,     2.14,2,     1.86,2,     0.01,2,     0.12,2,    2.048,2,    1.328,2,   -999.0,9,   -999.0,9,-999.0000,9,  -999.00,  -999.00,9,  -999.00,9,  18.8811,2,     2351
  49UP20100706,   P09,    12,  1,     26,     99,2,20100708,2210, 32.0102, 137.0125, 4188,    304.2,  18.2605,  18.2596,2,  34.7161,2,  34.7168,2,    206.5,2,     3.52,2,     3.49,2,     0.00,2,     0.23,2,    2.069,4,    1.391,4,   -999.0,9,   -999.0,9,-999.0000,9,  -999.00,  -999.00,9,  -999.00,9,  18.2596,2,     2349
  49UP20100706,   P09,    12,  1,     25,     98,2,20100708,2210, 32.0102, 137.0125, 4188,    304.2,  18.2605,  18.2596,2,  34.7161,2,  34.7166,2,    205.8,2,     3.42,2,     3.56,2,     0.00,2,     0.24,2,    2.189,2,    1.373,2,   -999.0,9,   -999.0,9,-999.0000,9,  -999.00,  -999.00,9,  -999.00,9,  18.2596,2,     2349
  49UP20100706,   P09,    12,  1,     24,     97,4,20100708,2210, 32.0102, 137.0125, 4188,    402.9,  16.9659,  16.9677,2,  34.7114,2,  34.5575,4,     87.5,4,   144.21,4,    39.62,4,     0.00,4,     2.81,4,    0.000,4,    0.003,4,   -999.0,9,   -999.0,9,-999.0000,9,  -999.00,  -999.00,9,  -999.00,9,  16.9677,2,     2346
  49UP20100706,   P09,    12,  1,     23,     96,2,20100708,2210, 32.0102, 137.0125, 4188,    504.3,  14.2508,  14.2496,2,  34.5314,2,  34.5316,2,    184.8,2,    13.06,2,    11.46,2,     0.00,2,     0.79,2,    2.547,2,    1.488,2,   -999.0,9,   -999.0,9,-999.0000,9,  -999.00,  -999.00,9,  -999.00,9,  14.2496,2,     2342
  49UP20100706,   P09,    12,  1,     22,     95,2,20100708,2210, 32.0102, 137.0125, 4188,    605.6,  10.8176,  10.8716,2,  34.3241,2,  34.3322,4,    155.2,2,    29.75,2,    19.64,2,     0.00,2,     1.41,2,    2.283,6,    1.287,6,   -999.0,9,   -999.0,9,-999.0000,9,  -999.00,  -999.00,9,  -999.00,9,  10.8716,2,     2339
  49UP20100706,   P09,    12,  1,     21,     94,2,20100708,2210, 32.0102, 137.0125, 4188,    705.3,   8.6141,   8.6100,2,  34.2270,2,  34.2277,2,    133.3,2,    46.12,2,    25.68,2,     0.00,2,     1.85,2,    1.924,2,    1.056,2,   -999.0,9,   -999.0,9,-999.0000,9,  -999.00,  -999.00,9,  -999.00,9,   8.6100,2,     2336
  49UP20100706,   P09,    12,  1,     20,     93,2,20100708,2210, 32.0102, 137.0125, 4188,    807.2,   6.8917,   6.8862,2,  34.2310,2,  34.2246,4,    107.1,6,    67.67,6,    31.04,6,     0.00,6,     2.25,6,    1.419,2,    0.747,2,   -999.0,9,   -999.0,9,-999.0000,9,  -999.00,  -999.00,9,  -999.00,9,   6.8862,2,     2333
  49UP20100706,   P09,    12,  1,     19,     92,3,20100708,2210, 32.0102, 137.0125, 4188,    908.8,   5.5719,   5.5745,2,  34.2392,2,  34.2404,3,     93.3,4,    85.61,6,    34.95,6,     0.00,6,     2.53,6,    1.057,2,    0.547,2,   -999.0,9,   -999.0,9,-999.0000,9,  -999.00,  -999.00,9,  -999.00,9,   5.5745,2,     2330
  49UP20100706,   P09,    12,  1,     18,     91,2,20100708,2210, 32.0102, 137.0125, 4188,   1011.4,   4.6715,   4.6708,2,  34.2823,2,  34.2824,6,     70.7,6,   101.28,6,    37.76,6,     0.00,6,     2.72,6,    0.707,2,    0.341,2,   -999.0,9,   -999.0,9,-999.0000,9,  -999.00,  -999.00,9,  -999.00,9,   4.6708,2,     2327
  49UP20100706,   P09,    12,  1,     17,     90,2,20100708,2210, 32.0102, 137.0125, 4188,   1213.6,   3.4828,   3.4824,2,  34.3981,2,  34.3985,6,     58.9,6,   125.81,6,    40.41,6,     0.00,6,     2.89,6,    0.204,2,    0.088,2,   -999.0,9,   -999.0,9,-999.0000,9,  -999.00,  -999.00,9,  -999.00,9,   3.4824,2,     2322
  49UP20100706,   P09,    12,  1,     16,     89,2,20100708,2210, 32.0102, 137.0125, 4188,   1415.9,   2.9472,   2.9471,2,  34.4719,2,  34.4725,2,     66.4,2,   136.20,2,    40.51,2,     0.00,2,     2.90,2,    0.121,3,    0.056,3,   -999.0,9,   -999.0,9,-999.0000,9,  -999.00,  -999.00,9,  -999.00,9,   2.9471,2,     2317
  49UP20100706,   P09,    12,  1,     15,     88,2,20100708,2210, 32.0102, 137.0125, 4188,   1415.9,   2.9472,   2.9471,2,  34.4719,2,  34.4715,2,     66.2,2,   136.06,2,    40.53,2,     0.00,2,     2.89,2,    0.010,3,    0.011,3,   -999.0,9,   -999.0,9,-999.0000,9,  -999.00,  -999.00,9,  -999.00,9,   2.9471,2,     2317
  49UP20100706,   P09,    12,  1,     14,     87,2,20100708,2210, 32.0102, 137.0125, 4188,   1618.3,   2.6012,   2.6008,2,  34.5185,2,  34.5185,2,     75.3,2,   141.81,2,    40.26,2,     0.00,2,     2.86,2,    0.000,2,    0.011,2,   -999.0,9,   -999.0,9,-999.0000,9,  -999.00,  -999.00,9,  -999.00,9,   2.6008,2,     2312
  49UP20100706,   P09,    12,  1,     13,     86,2,20100708,2210, 32.0102, 137.0125, 4188,   1823.0,   2.3195,   2.3196,2,  34.5586,2,  34.5586,2,     89.9,2,   144.29,2,    39.45,2,     0.00,2,     2.80,2,    0.000,2,    0.000,2,   -999.0,9,   -999.0,9,-999.0000,9,  -999.00,  -999.00,9,  -999.00,9,   2.3196,2,     2307
  49UP20100706,   P09,    12,  1,     12,     85,2,20100708,2210, 32.0102, 137.0125, 4188,   2023.8,   2.1107,   2.1103,2,  34.5883,2,  34.5892,2,    100.5,2,   145.60,2,    38.97,2,     0.00,2,     2.76,2,    0.000,2,    0.003,2,   -999.0,9,   -999.0,9,-999.0000,9,  -999.00,  -999.00,9,  -999.00,9,   2.1103,2,     2302
  49UP20100706,   P09,    12,  1,     11,    110,2,20100708,2210, 32.0102, 137.0125, 4188,   2279.5,   1.9197,   1.9196,2,  34.6164,2,  34.6159,2,    114.9,2,   145.27,2,    38.15,2,     0.00,2,     2.68,2,    0.000,2,    0.000,2,   -999.0,9,   -999.0,9,-999.0000,9,  -999.00,  -999.00,9,  -999.00,9,   1.9196,2,     2255
  49UP20100706,   P09,    12,  1,     10,     83,2,20100708,2210, 32.0102, 137.0125, 4188,   2279.5,   1.9197,   1.9196,2,  34.6164,2,  34.6170,2,    131.9,4,   145.39,2,    38.16,2,     0.00,2,     2.69,2,    0.000,2,    0.000,2,   -999.0,9,   -999.0,9,-999.0000,9,  -999.00,  -999.00,9,  -999.00,9,   1.9196,2,     2255
  49UP20100706,   P09,    12,  1,      9,     82,2,20100708,2210, 32.0102, 137.0125, 4188,   2532.9,   1.7853,   1.7852,2,  34.6365,2,  34.6391,4,    125.1,2,   144.76,2,    37.54,2,     0.00,2,     2.63,2,    0.000,2,    0.000,2,   -999.0,9,   -999.0,9,-999.0000,9,  -999.00,  -999.00,9,  -999.00,9,   1.7852,2,     2249
  49UP20100706,   P09,    12,  1,      8,     81,3,20100708,2210, 32.0102, 137.0125, 4188,   2786.3,   1.6720,   1.6717,2,  34.6532,2,  34.6527,3,    134.9,2,   143.84,2,    36.95,2,     0.00,2,     2.59,2,    0.000,2,    0.000,2,   -999.0,9,   -999.0,9,-999.0000,9,  -999.00,  -999.00,9,  -999.00,9,   1.6717,2,     2244
  49UP20100706,   P09,    12,  1,      7,     80,2,20100708,2210, 32.0102, 137.0125, 4188,   3043.0,   1.5873,   1.5870,2,  34.6654,2,  34.6657,2,    142.8,2,   143.14,2,    36.51,2,     0.00,2,     2.55,2, -999.000,9, -999.000,9,   -999.0,9,   -999.0,9,-999.0000,9,  -999.00,  -999.00,9,  -999.00,9,   1.5870,2,     2238
  49UP20100706,   P09,    12,  1,      6,     79,2,20100708,2210, 32.0102, 137.0125, 4188,   3294.9,   1.5363,   1.5360,2,  34.6735,2,  34.6737,2,    149.1,2,   142.69,2,    36.15,2,     0.00,2,     2.52,2,    0.000,2,    0.000,2,   -999.0,9,   -999.0,9,-999.0000,9,  -999.00,  -999.00,9,  -999.00,9,   1.5360,2,     2232
  49UP20100706,   P09,    12,  1,      5,     78,2,20100708,2210, 32.0102, 137.0125, 4188,   3551.2,   1.5257,   1.5255,2,  34.6776,2,  34.6777,2,    150.9,2,   142.20,2,    35.94,2,     0.00,2,     2.51,2, -999.000,9, -999.000,9,   -999.0,9,   -999.0,9,-999.0000,9,  -999.00,  -999.00,9,  -999.00,9,   1.5255,2,     2226
  49UP20100706,   P09,    12,  1,      4,     77,2,20100708,2210, 32.0102, 137.0125, 4188,   3809.0,   1.5300,   1.5297,2,  34.6801,2,  34.6802,2,    152.8,2,   141.94,2,    35.81,2,     0.00,2,     2.50,2, -999.000,9, -999.000,9,   -999.0,9,   -999.0,9,-999.0000,9,  -999.00,  -999.00,9,  -999.00,9,   1.5297,2,     2221
  49UP20100706,   P09,    12,  1,      3,     76,2,20100708,2210, 32.0102, 137.0125, 4188,   4065.3,   1.5476,   1.5473,2,  34.6813,2,  34.6814,2,    153.6,2,   141.92,2,    35.81,2,     0.00,2,     2.49,2, -999.000,9, -999.000,9,   -999.0,9,   -999.0,9,-999.0000,9,  -999.00,  -999.00,9,  -999.00,9,   1.5473,2,     2215
  49UP20100706,   P09,    12,  1,      1,     74,2,20100708,2210, 32.0102, 137.0125, 4188,   4273.3,   1.5644,   1.5641,2,  34.6820,2,  34.6819,2,    154.6,2,   141.82,2,    35.76,2,     0.00,2,     2.49,2,    0.000,2,    0.000,2,   -999.0,9,   -999.0,9,-999.0000,9,  -999.00,  -999.00,9,  -999.00,9,   1.5641,2,     2211