BOTTLE,20200625PRINUNIVRMK
EXPOCODE,SECT_ID,STNNBR,CASTNO,SAMPNO,BTLNBR,BTLNBR_FLAG_W,DATE,TIME,LATITUDE,LONGITUDE,DEPTH,CTDPRS,CTDTMP,SBE35,SBE35_FLAG_W,CTDSAL,CTDSAL_FLAG_W,SALNTY,SALNTY_FLAG_W,OXYGEN,OXYGEN_FLAG_W,SILCAT,SILCAT_FLAG_W,NITRAT,NITRAT_FLAG_W,NITRIT,NITRIT_FLAG_W,PHSPHT,PHSPHT_FLAG_W,CFC-11,CFC-11_FLAG_W,CFC-12,CFC-12_FLAG_W,TCARBN,TCARBN_FLAG_W,ALKALI,ALKALI_FLAG_W,PH_TOT,PH_TOT_FLAG_W,PH_TMP,CHLORA,CHLORA_FLAG_W,PPHYTN,PPHYTN_FLAG_W,SBE35,SBE35_FLAG_W,BTL_TIME
,,,,,,,,,,,METERS,DBAR,ITS-90,,,PSS-78,,PSS-78,,UMOL/KG,,UMOL/KG,,UMOL/KG,,UMOL/KG,,UMOL/KG,,PMOL/KG,,PMOL/KG,,UMOL/KG,,UMOL/KG,,,,DEG C,UG/KG,,UG/KG,,,,
  49UP20100706,   P09,   124,  1,      0,     -9,0,20100816,0723,  7.0033, 136.9860, 4257,      0.0,  29.9885,-999.0000,9,  33.7978,2,-999.0000,9,    193.4,3,     1.25,2,     0.00,2,     0.00,2,     0.06,2, -999.000,9, -999.000,9,   -999.0,9,   -999.0,9,-999.0000,9,  -999.00,     0.05,2,     0.01,2,-999.0000,9,      903
  49UP20100706,   P09,   124,  1,     36,    109,3,20100816,0723,  7.0033, 136.9860, 4257,     10.6,  29.9940,  29.9944,2,  33.7974,2,  33.7972,3,    192.7,2,     1.21,2,     0.00,2,     0.00,2,     0.03,2, -999.000,9, -999.000,9,   1888.4,2,   2223.5,2,   8.1362,2,    25.00,     0.05,2,     0.01,2,  29.9944,2,      912
  49UP20100706,   P09,   124,  1,     35,    108,2,20100816,0723,  7.0033, 136.9860, 4257,     25.1,  29.9399,  29.9384,2,  33.8008,2,  33.7996,2,    194.3,2,     1.21,2,     0.00,2,     0.00,2,     0.03,2, -999.000,9, -999.000,9,   1884.6,2,   2223.1,2,   8.1384,2,    25.00,     0.05,2,     0.01,2,  29.9384,2,      911
  49UP20100706,   P09,   124,  1,     34,    107,2,20100816,0723,  7.0033, 136.9860, 4257,     49.8,  30.1224,  30.1222,2,  34.1265,2,  34.1383,4,    196.5,2,     1.27,2,     0.00,2,     0.00,2,     0.02,2, -999.000,9, -999.000,9,   1903.6,2,   2240.5,2,   8.1332,2,    25.00,     0.06,2,     0.02,2,  30.1222,2,      908
  49UP20100706,   P09,   124,  1,     33,    106,2,20100816,0723,  7.0033, 136.9860, 4257,     74.9,  28.6402,  28.6460,2,  34.5274,2,  34.5319,2,    198.2,2,     1.29,2,     0.00,2,     0.00,2,     0.05,2, -999.000,9, -999.000,9,   1945.9,2,   2269.8,2,   8.1074,2,    25.00,     0.18,2,     0.08,2,  28.6460,2,      907
  49UP20100706,   P09,   124,  1,     32,    105,2,20100816,0723,  7.0033, 136.9860, 4257,    100.4,  26.5531,  26.5568,2,  34.6890,2,  34.6923,2,    187.9,2,     1.79,2,     0.12,2,     0.04,2,     0.12,2, -999.000,9, -999.000,9,   1974.4,3,   2280.3,2,   8.0679,2,    25.00,     0.22,2,     0.18,2,  26.5568,2,      906
  49UP20100706,   P09,   124,  1,     31,    104,2,20100816,0723,  7.0033, 136.9860, 4257,    125.8,  22.6176,  22.6213,2,  34.8134,2,  34.8147,2,    164.2,2,     4.17,2,     4.13,2,     0.15,2,     0.43,2, -999.000,9, -999.000,9,   2038.7,2,   2290.6,2,   7.9587,2,    25.00,     0.12,2,     0.25,2,  22.6213,2,      905
  49UP20100706,   P09,   124,  1,     30,    103,2,20100816,0723,  7.0033, 136.9860, 4257,    150.0,  18.5790,  18.5652,2,  34.7255,2,  34.7190,2,    143.1,2,     9.02,2,    10.28,2,     0.01,2,     0.82,2, -999.000,9, -999.000,9,   2093.6,2,   2286.9,2,   7.8577,2,    25.00,     0.06,2,     0.17,2,  18.5652,2,      903
  49UP20100706,   P09,   124,  1,     29,    102,2,20100816,0723,  7.0033, 136.9860, 4257,    202.1,  12.5680,  12.5685,2,  34.5443,2,  34.5436,2,     92.4,2,    24.00,2,    23.64,2,     0.01,2,     1.73,2, -999.000,9, -999.000,9,   2182.0,6,   2287.7,6,   7.6371,6,    25.00,  -999.00,9,  -999.00,9,  12.5685,2,      901
  49UP20100706,   P09,   124,  1,     28,    101,2,20100816,0723,  7.0033, 136.9860, 4257,    202.1,  12.5680,  12.5685,2,  34.5443,2,  34.5437,2,     92.3,2,    23.54,2,    23.44,2,     0.00,2,     1.70,2, -999.000,9, -999.000,9,   2183.3,2,   2287.3,2,   7.6390,2,    25.00,     0.00,2,     0.02,2,  12.5685,2,      901
  49UP20100706,   P09,   124,  1,     27,    100,2,20100816,0723,  7.0033, 136.9860, 4257,    252.1,  10.1098,  10.1090,2,  34.5702,2,  34.5688,6,     61.8,6,    33.44,6,    30.87,6,     0.00,6,     2.20,6, -999.000,9, -999.000,9,   2232.2,2,   2297.8,2,   7.5340,2,    25.00,  -999.00,9,  -999.00,9,  10.1090,2,      900
  49UP20100706,   P09,   124,  1,     26,     99,2,20100816,0723,  7.0033, 136.9860, 4257,    302.7,   9.2901,   9.2930,2,  34.5897,2,  34.5887,6,     57.4,6,    36.82,6,    33.00,6,     0.00,6,     2.34,6, -999.000,9, -999.000,9,   2247.4,2,   2302.8,2,   7.5074,2,    25.00,  -999.00,9,  -999.00,9,   9.2930,2,      858
  49UP20100706,   P09,   124,  1,     25,     98,2,20100816,0723,  7.0033, 136.9860, 4257,    351.2,   8.8656,   8.8642,2,  34.5952,2,  34.5932,6,     62.1,6,    38.24,6,    33.52,6,     0.00,6,     2.36,6, -999.000,9, -999.000,9,   2246.1,2,   2305.1,2,   7.5062,2,    25.00,  -999.00,9,  -999.00,9,   8.8642,2,      856
  49UP20100706,   P09,   124,  1,     24,     97,2,20100816,0723,  7.0033, 136.9860, 4257,    401.7,   8.4384,   8.4379,2,  34.5862,2,  34.5844,6,     69.4,6,    39.90,6,    33.67,6,     0.00,6,     2.37,6, -999.000,9, -999.000,9,   2244.4,2,   2308.0,2,   7.5116,2,    25.00,  -999.00,9,  -999.00,9,   8.4379,2,      854
  49UP20100706,   P09,   124,  1,     23,     96,2,20100816,0723,  7.0033, 136.9860, 4257,    452.6,   8.1309,   8.1314,2,  34.5772,2,  34.5759,2,     76.4,2,    41.07,2,    33.58,2,     0.00,2,     2.36,2, -999.000,9, -999.000,9,   2244.5,2,   2310.6,2,   7.5204,2,    25.00,  -999.00,9,  -999.00,9,   8.1314,2,      853
  49UP20100706,   P09,   124,  1,     22,     95,2,20100816,0723,  7.0033, 136.9860, 4257,    502.3,   7.8047,   7.8040,2,  34.5651,2,  34.5632,2,     86.6,2,    42.49,2,    33.31,2,     0.00,2,     2.35,2, -999.000,9, -999.000,9,   2240.1,2,   2312.8,2,   7.5334,2,    25.00,  -999.00,9,  -999.00,9,   7.8040,2,      851
  49UP20100706,   P09,   124,  1,     21,     94,3,20100816,0723,  7.0033, 136.9860, 4257,    603.9,   7.0652,   7.0629,2,  34.5362,2,  34.5348,3,     97.8,2,    48.47,2,    33.88,2,     0.00,2,     2.40,2, -999.000,9, -999.000,9,   2245.6,2,   2315.3,2,   7.5315,2,    25.00,  -999.00,9,  -999.00,9,   7.0629,2,      849
  49UP20100706,   P09,   124,  1,     20,     93,2,20100816,0723,  7.0033, 136.9860, 4257,    704.8,   6.4261,   6.4255,2,  34.5270,2,  34.5260,2,     92.9,2,    56.78,2,    35.17,2,     0.00,2,     2.48,2, -999.000,9, -999.000,9,   2261.4,2,   2317.5,2,   7.5190,2,    25.00,  -999.00,9,  -999.00,9,   6.4255,2,      846
  49UP20100706,   P09,   124,  1,     19,     92,3,20100816,0723,  7.0033, 136.9860, 4257,    806.6,   5.8733,   5.8732,2,  34.5289,2,  34.5280,3,     88.2,2,    65.89,2,    36.38,2,     0.00,2,     2.57,2, -999.000,9, -999.000,9,   2270.5,2,   2333.0,2,   7.5052,2,    25.00,  -999.00,9,  -999.00,9,   5.8732,2,      843
  49UP20100706,   P09,   124,  1,     18,     91,2,20100816,0723,  7.0033, 136.9860, 4257,    906.4,   5.3273,   5.3238,2,  34.5380,2,  34.5369,2,     81.0,2,    77.17,2,    37.87,2,     0.00,2,     2.68,2, -999.000,9, -999.000,9,   2290.9,2,   2343.1,2,   7.4866,2,    25.00,  -999.00,9,  -999.00,9,   5.3238,2,      841
  49UP20100706,   P09,   124,  1,     17,     90,2,20100816,0723,  7.0033, 136.9860, 4257,   1009.2,   4.8199,   4.8202,2,  34.5460,2,  34.5455,2,     85.0,2,    86.11,2,    38.27,2,     0.00,2,     2.72,2, -999.000,9, -999.000,9,   2300.7,2,   2349.1,2,   7.4917,2,    25.00,  -999.00,9,  -999.00,9,   4.8202,2,      837
  49UP20100706,   P09,   124,  1,     16,     89,2,20100816,0723,  7.0033, 136.9860, 4257,   1261.5,   3.4820,   3.4839,2,  34.5800,2,  34.5792,2,     92.8,2,   112.95,2,    38.98,2,     0.00,2,     2.77,2, -999.000,9, -999.000,9,   2327.6,2,   2382.3,2,   7.4924,2,    25.00,  -999.00,9,  -999.00,9,   3.4839,2,      832
  49UP20100706,   P09,   124,  1,     15,     88,2,20100816,0723,  7.0033, 136.9860, 4257,   1515.6,   2.9409,   2.9449,2,  34.6006,2,  34.5999,2,     99.0,2,   123.64,2,    38.94,2,     0.00,2,     2.76,2, -999.000,9, -999.000,9,   2334.4,2,   2394.3,2,   7.5027,2,    25.00,  -999.00,9,  -999.00,9,   2.9449,2,      826
  49UP20100706,   P09,   124,  1,     14,     87,2,20100816,0723,  7.0033, 136.9860, 4257,   1767.2,   2.5124,   2.5123,2,  34.6198,2,  34.6190,2,    107.4,2,   132.23,2,    38.68,2,     0.00,2,     2.73,2, -999.000,9, -999.000,9,   2338.9,2,   2396.2,2,   7.5121,2,    25.00,  -999.00,9,  -999.00,9,   2.5123,2,      821
  49UP20100706,   P09,   124,  1,     13,     86,2,20100816,0723,  7.0033, 136.9860, 4257,   2021.3,   2.2022,   2.2021,2,  34.6356,2,  34.6347,2,    115.0,2,   137.77,2,    38.38,2,     0.00,2,     2.69,2, -999.000,9, -999.000,9,   2343.2,2,   2409.5,2,   7.5215,2,    25.00,  -999.00,9,  -999.00,9,   2.2021,2,      815
  49UP20100706,   P09,   124,  1,     12,     85,2,20100816,0723,  7.0033, 136.9860, 4257,   2275.7,   1.9484,   1.9484,2,  34.6490,2,  34.6486,2,    123.6,2,   141.40,2,    37.86,2,     0.00,2,     2.65,2, -999.000,9, -999.000,9,   2338.2,2,   2412.7,2,   7.5369,2,    25.00,  -999.00,9,  -999.00,9,   1.9484,2,      809
  49UP20100706,   P09,   124,  1,     11,    110,2,20100816,0723,  7.0033, 136.9860, 4257,   2528.2,   1.7495,   1.7498,2,  34.6614,2,  34.6607,2,    132.0,2,   143.05,2,    37.29,2,     0.00,2,     2.60,2, -999.000,9, -999.000,9,   2337.4,6,   2413.7,6,   7.5494,6,    25.00,  -999.00,9,  -999.00,9,   1.7498,2,      803
  49UP20100706,   P09,   124,  1,     10,     83,2,20100816,0723,  7.0033, 136.9860, 4257,   2528.2,   1.7495,   1.7498,2,  34.6614,2,  34.6611,2,    132.3,2,   143.16,2,    37.36,2,     0.00,2,     2.61,2, -999.000,9, -999.000,9,   2337.0,2,   2415.2,2,   7.5494,2,    25.00,  -999.00,9,  -999.00,9,   1.7498,2,      803
  49UP20100706,   P09,   124,  1,      9,     82,2,20100816,0723,  7.0033, 136.9860, 4257,   2784.5,   1.6534,   1.6534,2,  34.6676,2,  34.6673,2,    137.7,2,   144.23,2,    37.09,2,     0.00,2,     2.58,2, -999.000,9, -999.000,9,   2335.3,2,   2418.3,2,   7.5566,2,    25.00,  -999.00,9,  -999.00,9,   1.6534,2,      758
  49UP20100706,   P09,   124,  1,      8,     81,2,20100816,0723,  7.0033, 136.9860, 4257,   3037.9,   1.5874,   1.5875,2,  34.6729,2,  34.6727,2,    142.8,2,   143.75,2,    36.69,2,     0.00,2,     2.56,2, -999.000,9, -999.000,9,   2329.9,2,   2411.8,2,   7.5655,2,    25.00,  -999.00,9,  -999.00,9,   1.5875,2,      752
  49UP20100706,   P09,   124,  1,      7,     80,2,20100816,0723,  7.0033, 136.9860, 4257,   3293.3,   1.5570,   1.5570,2,  34.6766,2,  34.6759,2,    146.5,2,   143.22,2,    36.46,2,     0.00,2,     2.53,2, -999.000,9, -999.000,9,   2331.1,6,   2416.6,6,   7.5696,6,    25.00,  -999.00,9,  -999.00,9,   1.5570,2,      746
  49UP20100706,   P09,   124,  1,      6,     79,2,20100816,0723,  7.0033, 136.9860, 4257,   3293.3,   1.5570,   1.5570,2,  34.6766,2,  34.6761,2,    146.3,2,   143.63,2,    36.49,2,     0.00,2,     2.53,2, -999.000,9, -999.000,9,   2329.7,2,   2413.1,2,   7.5681,2,    25.00,  -999.00,9,  -999.00,9,   1.5570,2,      746
  49UP20100706,   P09,   124,  1,      5,     78,2,20100816,0723,  7.0033, 136.9860, 4257,   3549.1,   1.5454,   1.5455,2,  34.6790,2,  34.6779,4,    148.6,2,   143.28,2,    36.37,2,     0.00,2,     2.52,2, -999.000,9, -999.000,9,   2329.5,2,   2411.0,2,   7.5702,2,    25.00,  -999.00,9,  -999.00,9,   1.5455,2,      741
  49UP20100706,   P09,   124,  1,      4,     77,2,20100816,0723,  7.0033, 136.9860, 4257,   3805.4,   1.5349,   1.5350,2,  34.6820,2,  34.6814,2,    151.7,2,   142.33,2,    36.07,2,     0.00,2,     2.50,2, -999.000,9, -999.000,9,   2326.5,6,   2410.6,6,   7.5754,6,    25.00,  -999.00,9,  -999.00,9,   1.5350,2,      735
  49UP20100706,   P09,   124,  1,      3,     76,2,20100816,0723,  7.0033, 136.9860, 4257,   3805.4,   1.5349,   1.5350,2,  34.6820,2,  34.6810,2,    151.5,2,   142.58,2,    36.11,2,     0.00,2,     2.50,2, -999.000,9, -999.000,9,   2325.8,2,   2417.6,3,   7.5788,2,    25.00,  -999.00,9,  -999.00,9,   1.5350,2,      735
  49UP20100706,   P09,   124,  1,      2,     75,2,20100816,0723,  7.0033, 136.9860, 4257,   4062.3,   1.5083,   1.5081,2,  34.6857,2,  34.6851,2,    156.0,2,   141.27,2,    35.81,2,     0.00,2,     2.48,2, -999.000,9, -999.000,9,   2324.1,2,   2416.0,2,   7.5838,2,    25.00,  -999.00,9,  -999.00,9,   1.5081,2,      729
  49UP20100706,   P09,   124,  1,      1,     74,2,20100816,0723,  7.0033, 136.9860, 4257,   4308.2,   1.4899,   1.4898,2,  34.6889,2,  34.6886,2,    160.3,2,   139.78,2,    35.54,2,     0.00,2,     2.45,2, -999.000,9, -999.000,9,   2319.4,2,   2413.2,2,   7.5834,2,    25.00,  -999.00,9,  -999.00,9,   1.4898,2,      724