BOTTLE,20200625PRINUNIVRMK
EXPOCODE,SECT_ID,STNNBR,CASTNO,SAMPNO,BTLNBR,BTLNBR_FLAG_W,DATE,TIME,LATITUDE,LONGITUDE,DEPTH,CTDPRS,CTDTMP,SBE35,SBE35_FLAG_W,CTDSAL,CTDSAL_FLAG_W,SALNTY,SALNTY_FLAG_W,OXYGEN,OXYGEN_FLAG_W,SILCAT,SILCAT_FLAG_W,NITRAT,NITRAT_FLAG_W,NITRIT,NITRIT_FLAG_W,PHSPHT,PHSPHT_FLAG_W,CFC-11,CFC-11_FLAG_W,CFC-12,CFC-12_FLAG_W,TCARBN,TCARBN_FLAG_W,ALKALI,ALKALI_FLAG_W,PH_TOT,PH_TOT_FLAG_W,PH_TMP,CHLORA,CHLORA_FLAG_W,PPHYTN,PPHYTN_FLAG_W,SBE35,SBE35_FLAG_W,BTL_TIME
,,,,,,,,,,,METERS,DBAR,ITS-90,,,PSS-78,,PSS-78,,UMOL/KG,,UMOL/KG,,UMOL/KG,,UMOL/KG,,UMOL/KG,,PMOL/KG,,PMOL/KG,,UMOL/KG,,UMOL/KG,,,,DEG C,UG/KG,,UG/KG,,,,
  49UP20100706,   P09,    72,  1,      0,     -9,0,20100803,0211,  5.5552, 138.4298, 4579,      0.0,  29.9980,-999.0000,9,  33.8640,2,-999.0000,9,    192.5,2,     0.67,2,     0.02,2,     0.00,2,     0.10,2, -999.000,9, -999.000,9,   -999.0,9,   -999.0,9,-999.0000,9,  -999.00,  -999.00,9,  -999.00,9,-999.0000,9,      355
  49UP20100706,   P09,    72,  1,     36,    109,2,20100803,0211,  5.5552, 138.4298, 4579,     11.0,  30.0443,  30.0452,2,  33.8663,2,  33.8649,2,    193.4,2,     0.72,2,     0.02,2,     0.00,2,     0.04,2, -999.000,9, -999.000,9,   -999.0,9,   -999.0,9,-999.0000,9,  -999.00,  -999.00,9,  -999.00,9,  30.0452,2,      417
  49UP20100706,   P09,    72,  1,     35,    108,2,20100803,0211,  5.5552, 138.4298, 4579,     25.6,  30.0106,  30.0110,2,  33.8668,2,  33.8653,2,    193.7,2,     0.71,2,     0.00,2,     0.00,2,     0.03,2, -999.000,9, -999.000,9,   -999.0,9,   -999.0,9,-999.0000,9,  -999.00,  -999.00,9,  -999.00,9,  30.0110,2,      416
  49UP20100706,   P09,    72,  1,     34,    107,2,20100803,0211,  5.5552, 138.4298, 4579,     50.9,  30.0270,  30.0253,2,  33.8769,2,  33.8815,2,    193.7,2,     0.72,2,     0.00,2,     0.00,2,     0.03,2, -999.000,9, -999.000,9,   -999.0,9,   -999.0,9,-999.0000,9,  -999.00,  -999.00,9,  -999.00,9,  30.0253,2,      413
  49UP20100706,   P09,    72,  1,     33,    106,2,20100803,0211,  5.5552, 138.4298, 4579,     75.6,  29.2929,  29.2912,2,  34.5576,2,  34.5756,4,    197.2,2,     1.01,2,     0.00,2,     0.00,2,     0.06,2, -999.000,9, -999.000,9,   -999.0,9,   -999.0,9,-999.0000,9,  -999.00,  -999.00,9,  -999.00,9,  29.2912,2,      411
  49UP20100706,   P09,    72,  1,     32,    105,2,20100803,0211,  5.5552, 138.4298, 4579,    100.0,  27.9156,  27.9140,2,  34.9430,2,  34.9415,2,    170.5,2,     1.50,2,     1.01,2,     0.22,2,     0.27,2, -999.000,9, -999.000,9,   -999.0,9,   -999.0,9,-999.0000,9,  -999.00,  -999.00,9,  -999.00,9,  27.9140,2,      410
  49UP20100706,   P09,    72,  1,     31,    104,2,20100803,0211,  5.5552, 138.4298, 4579,    125.5,  25.5045,  25.5001,2,  34.9434,2,  34.9186,4,    155.3,2,     3.35,2,     4.71,2,     0.06,2,     0.43,2, -999.000,9, -999.000,9,   -999.0,9,   -999.0,9,-999.0000,9,  -999.00,  -999.00,9,  -999.00,9,  25.5001,2,      408
  49UP20100706,   P09,    72,  1,     30,    103,2,20100803,0211,  5.5552, 138.4298, 4579,    125.5,  25.5045,  25.5001,2,  34.9434,2,  34.9211,4,    154.9,2,     3.13,2,     4.74,2,     0.06,2,     0.42,2, -999.000,9, -999.000,9,   -999.0,9,   -999.0,9,-999.0000,9,  -999.00,  -999.00,9,  -999.00,9,  25.5001,2,      408
  49UP20100706,   P09,    72,  1,     29,    102,2,20100803,0211,  5.5552, 138.4298, 4579,    151.0,  20.8841,  20.8808,2,  34.8065,2,  34.8059,2,    152.3,2,     5.67,2,     6.83,2,     0.02,2,     0.58,2, -999.000,9, -999.000,9,   -999.0,9,   -999.0,9,-999.0000,9,  -999.00,  -999.00,9,  -999.00,9,  20.8808,2,      406
  49UP20100706,   P09,    72,  1,     28,    101,2,20100803,0211,  5.5552, 138.4298, 4579,    201.8,  12.6477,  12.6319,2,  34.5269,2,  34.5301,2,     97.0,2,    22.96,2,    22.88,2,     0.00,2,     1.67,2, -999.000,9, -999.000,9,   -999.0,9,   -999.0,9,-999.0000,9,  -999.00,  -999.00,9,  -999.00,9,  12.6319,2,      405
  49UP20100706,   P09,    72,  1,     27,    100,2,20100803,0211,  5.5552, 138.4298, 4579,    253.8,  10.1438,  10.1414,2,  34.5534,2,  34.5499,2,     67.4,2,    32.66,2,    30.16,2,     0.00,2,     2.16,2, -999.000,9, -999.000,9,   -999.0,9,   -999.0,9,-999.0000,9,  -999.00,  -999.00,9,  -999.00,9,  10.1414,2,      402
  49UP20100706,   P09,    72,  1,     26,     99,2,20100803,0211,  5.5552, 138.4298, 4579,    321.5,   9.2426,   9.2438,2,  34.6073,2,  34.6058,2,     55.7,2,    36.03,2,    33.26,2,     0.00,2,     2.35,2, -999.000,9, -999.000,9,   -999.0,9,   -999.0,9,-999.0000,9,  -999.00,  -999.00,9,  -999.00,9,   9.2438,2,      359
  49UP20100706,   P09,    72,  1,     25,     98,2,20100803,0211,  5.5552, 138.4298, 4579,    374.6,   8.8697,   8.8650,2,  34.6004,2,  34.6001,2,     58.3,2,    37.64,2,    33.76,2,     0.00,2,     2.39,2, -999.000,9, -999.000,9,   -999.0,9,   -999.0,9,-999.0000,9,  -999.00,  -999.00,9,  -999.00,9,   8.8650,2,      357
  49UP20100706,   P09,    72,  1,     24,     97,2,20100803,0211,  5.5552, 138.4298, 4579,    423.7,   8.4362,   8.4413,2,  34.5907,2,  34.5898,2,     76.6,2,    38.49,2,    33.08,2,     0.00,2,     2.33,2, -999.000,9, -999.000,9,   -999.0,9,   -999.0,9,-999.0000,9,  -999.00,  -999.00,9,  -999.00,9,   8.4413,2,      355
  49UP20100706,   P09,    72,  1,     23,     96,2,20100803,0211,  5.5552, 138.4298, 4579,    473.1,   7.9085,   7.9031,2,  34.5699,2,  34.5692,2,     80.8,2,    41.86,2,    33.63,2,     0.00,2,     2.37,2, -999.000,9, -999.000,9,   -999.0,9,   -999.0,9,-999.0000,9,  -999.00,  -999.00,9,  -999.00,9,   7.9031,2,      353
  49UP20100706,   P09,    72,  1,     22,     95,2,20100803,0211,  5.5552, 138.4298, 4579,    534.1,   7.4183,   7.4218,2,  34.5514,2,  34.5506,2,     94.2,2,    44.20,2,    33.39,2,     0.00,2,     2.36,2, -999.000,9, -999.000,9,   -999.0,9,   -999.0,9,-999.0000,9,  -999.00,  -999.00,9,  -999.00,9,   7.4218,2,      350
  49UP20100706,   P09,    72,  1,     21,     94,2,20100803,0211,  5.5552, 138.4298, 4579,    633.5,   6.6724,   6.6722,2,  34.5323,2,  34.5320,2,     96.2,2,    51.75,2,    34.53,2,     0.00,2,     2.44,2, -999.000,9, -999.000,9,   -999.0,9,   -999.0,9,-999.0000,9,  -999.00,  -999.00,9,  -999.00,9,   6.6722,2,      347
  49UP20100706,   P09,    72,  1,     20,     93,2,20100803,0211,  5.5552, 138.4298, 4579,    734.3,   6.2012,   6.2003,2,  34.5317,2,  34.5312,2,     93.8,2,    58.26,2,    35.61,2,     0.00,2,     2.53,2, -999.000,9, -999.000,9,   -999.0,9,   -999.0,9,-999.0000,9,  -999.00,  -999.00,9,  -999.00,9,   6.2003,2,      345
  49UP20100706,   P09,    72,  1,     19,     92,2,20100803,0211,  5.5552, 138.4298, 4579,    835.6,   5.5911,   5.5904,2,  34.5364,2,  34.5363,2,     94.0,2,    67.25,2,    36.61,2,     0.00,2,     2.60,2, -999.000,9, -999.000,9,   -999.0,9,   -999.0,9,-999.0000,9,  -999.00,  -999.00,9,  -999.00,9,   5.5904,2,      342
  49UP20100706,   P09,    72,  1,     18,     91,2,20100803,0211,  5.5552, 138.4298, 4579,    937.5,   4.9864,   4.9874,2,  34.5442,2,  34.5440,2,     93.0,2,    80.32,2,    37.22,2,     0.00,2,     2.65,2, -999.000,9, -999.000,9,   -999.0,9,   -999.0,9,-999.0000,9,  -999.00,  -999.00,9,  -999.00,9,   4.9874,2,      339
  49UP20100706,   P09,    72,  1,     17,     90,2,20100803,0211,  5.5552, 138.4298, 4579,   1088.4,   4.2768,   4.2768,2,  34.5599,2,  34.5594,2,     89.4,2,    94.64,2,    38.39,2,     0.00,2,     2.73,2, -999.000,9, -999.000,9,   -999.0,9,   -999.0,9,-999.0000,9,  -999.00,  -999.00,9,  -999.00,9,   4.2768,2,      335
  49UP20100706,   P09,    72,  1,     16,     89,2,20100803,0211,  5.5552, 138.4298, 4579,   1342.0,   3.3567,   3.3565,2,  34.5872,2,  34.5868,2,     94.1,2,   114.06,2,    38.99,2,     0.00,2,     2.77,2, -999.000,9, -999.000,9,   -999.0,9,   -999.0,9,-999.0000,9,  -999.00,  -999.00,9,  -999.00,9,   3.3565,2,      330
  49UP20100706,   P09,    72,  1,     15,     88,2,20100803,0211,  5.5552, 138.4298, 4579,   1595.6,   2.7959,   2.7958,2,  34.6086,2,  34.6086,2,    102.3,2,   125.46,2,    38.84,2,     0.00,2,     2.74,2, -999.000,9, -999.000,9,   -999.0,9,   -999.0,9,-999.0000,9,  -999.00,  -999.00,9,  -999.00,9,   2.7958,2,      324
  49UP20100706,   P09,    72,  1,     14,     87,2,20100803,0211,  5.5552, 138.4298, 4579,   1848.6,   2.4090,   2.4087,2,  34.6262,2,  34.6258,2,    108.7,2,   133.78,2,    38.59,2,     0.00,2,     2.72,2, -999.000,9, -999.000,9,   -999.0,9,   -999.0,9,-999.0000,9,  -999.00,  -999.00,9,  -999.00,9,   2.4087,2,      317
  49UP20100706,   P09,    72,  1,     13,     86,2,20100803,0211,  5.5552, 138.4298, 4579,   2103.8,   2.1203,   2.1206,2,  34.6411,2,  34.6407,2,    116.6,2,   138.21,2,    38.16,2,     0.00,2,     2.68,2, -999.000,9, -999.000,9,   -999.0,9,   -999.0,9,-999.0000,9,  -999.00,  -999.00,9,  -999.00,9,   2.1206,2,      311
  49UP20100706,   P09,    72,  1,     12,     85,2,20100803,0211,  5.5552, 138.4298, 4579,   2358.4,   1.8959,   1.8960,2,  34.6539,2,  34.6533,2,    126.2,2,   140.70,2,    37.58,2,     0.00,2,     2.63,2, -999.000,9, -999.000,9,   -999.0,9,   -999.0,9,-999.0000,9,  -999.00,  -999.00,9,  -999.00,9,   1.8960,2,      305
  49UP20100706,   P09,    72,  1,     11,    110,2,20100803,0211,  5.5552, 138.4298, 4579,   2611.2,   1.7650,   1.7654,2,  34.6619,2,  34.6614,2,    132.9,2,   141.60,2,    37.14,2,     0.00,2,     2.59,2, -999.000,9, -999.000,9,   -999.0,9,   -999.0,9,-999.0000,9,  -999.00,  -999.00,9,  -999.00,9,   1.7654,2,      259
  49UP20100706,   P09,    72,  1,     10,     83,2,20100803,0211,  5.5552, 138.4298, 4579,   2865.2,   1.6410,   1.6410,2,  34.6696,2,  34.6695,2,    139.8,2,   142.75,2,    36.74,2,     0.00,2,     2.56,2, -999.000,9, -999.000,9,   -999.0,9,   -999.0,9,-999.0000,9,  -999.00,  -999.00,9,  -999.00,9,   1.6410,2,      253
  49UP20100706,   P09,    72,  1,      9,     82,2,20100803,0211,  5.5552, 138.4298, 4579,   3121.4,   1.5827,   1.5824,2,  34.6741,2,  34.6742,2,    144.0,2,   142.70,2,    36.49,2,     0.00,2,     2.54,2, -999.000,9, -999.000,9,   -999.0,9,   -999.0,9,-999.0000,9,  -999.00,  -999.00,9,  -999.00,9,   1.5824,2,      247
  49UP20100706,   P09,    72,  1,      8,     81,2,20100803,0211,  5.5552, 138.4298, 4579,   3121.4,   1.5827,   1.5824,2,  34.6741,2,  34.6743,2,    144.3,2,   142.73,2,    36.47,2,     0.00,2,     2.53,2, -999.000,9, -999.000,9,   -999.0,9,   -999.0,9,-999.0000,9,  -999.00,  -999.00,9,  -999.00,9,   1.5824,2,      247
  49UP20100706,   P09,    72,  1,      7,     80,2,20100803,0211,  5.5552, 138.4298, 4579,   3375.4,   1.5516,   1.5514,2,  34.6776,2,  34.6777,6,    147.5,6,   142.68,6,    36.26,6,     0.00,6,     2.52,6, -999.000,9, -999.000,9,   -999.0,9,   -999.0,9,-999.0000,9,  -999.00,  -999.00,9,  -999.00,9,   1.5514,2,      241
  49UP20100706,   P09,    72,  1,      6,     79,2,20100803,0211,  5.5552, 138.4298, 4579,   3631.9,   1.5255,   1.5257,2,  34.6817,2,  34.6812,6,    150.8,6,   142.28,6,    36.06,6,     0.00,6,     2.51,6, -999.000,9, -999.000,9,   -999.0,9,   -999.0,9,-999.0000,9,  -999.00,  -999.00,9,  -999.00,9,   1.5257,2,      235
  49UP20100706,   P09,    72,  1,      5,     78,2,20100803,0211,  5.5552, 138.4298, 4579,   3886.6,   1.5017,   1.5017,2,  34.6856,2,  34.6852,6,    154.6,6,   141.62,6,    35.84,6,     0.00,6,     2.48,6, -999.000,9, -999.000,9,   -999.0,9,   -999.0,9,-999.0000,9,  -999.00,  -999.00,9,  -999.00,9,   1.5017,2,      229
  49UP20100706,   P09,    72,  1,      4,     77,2,20100803,0211,  5.5552, 138.4298, 4579,   4144.5,   1.5088,   1.5089,2,  34.6868,2,  34.6864,6,    156.4,6,   140.82,6,    35.70,6,     0.00,6,     2.47,6, -999.000,9, -999.000,9,   -999.0,9,   -999.0,9,-999.0000,9,  -999.00,  -999.00,9,  -999.00,9,   1.5089,2,      224
  49UP20100706,   P09,    72,  1,      3,     76,2,20100803,0211,  5.5552, 138.4298, 4579,   4401.2,   1.5246,   1.5247,2,  34.6879,2,  34.6873,2,    157.8,2,   140.35,2,    35.63,2,     0.00,2,     2.46,2, -999.000,9, -999.000,9,   -999.0,9,   -999.0,9,-999.0000,9,  -999.00,  -999.00,9,  -999.00,9,   1.5247,2,      218
  49UP20100706,   P09,    72,  1,      1,     74,2,20100803,0211,  5.5552, 138.4298, 4579,   4637.5,   1.5328,   1.5328,2,  34.6889,2,  34.6879,2,    160.0,2,   139.62,2,    35.44,2,     0.00,2,     2.46,2, -999.000,9, -999.000,9,   -999.0,9,   -999.0,9,-999.0000,9,  -999.00,  -999.00,9,  -999.00,9,   1.5328,2,      212