BOTTLE,20200625PRINUNIVRMK
EXPOCODE,SECT_ID,STNNBR,CASTNO,SAMPNO,BTLNBR,BTLNBR_FLAG_W,DATE,TIME,LATITUDE,LONGITUDE,DEPTH,CTDPRS,CTDTMP,SBE35,SBE35_FLAG_W,CTDSAL,CTDSAL_FLAG_W,SALNTY,SALNTY_FLAG_W,OXYGEN,OXYGEN_FLAG_W,SILCAT,SILCAT_FLAG_W,NITRAT,NITRAT_FLAG_W,NITRIT,NITRIT_FLAG_W,PHSPHT,PHSPHT_FLAG_W,CFC-11,CFC-11_FLAG_W,CFC-12,CFC-12_FLAG_W,TCARBN,TCARBN_FLAG_W,ALKALI,ALKALI_FLAG_W,PH_TOT,PH_TOT_FLAG_W,PH_TMP,CHLORA,CHLORA_FLAG_W,PPHYTN,PPHYTN_FLAG_W,SBE35,SBE35_FLAG_W,BTL_TIME
,,,,,,,,,,,METERS,DBAR,ITS-90,,,PSS-78,,PSS-78,,UMOL/KG,,UMOL/KG,,UMOL/KG,,UMOL/KG,,UMOL/KG,,PMOL/KG,,PMOL/KG,,UMOL/KG,,UMOL/KG,,,,DEG C,UG/KG,,UG/KG,,,,
  49UP20100706,   P09,    28,  1,      0,     -9,0,20100713,0645, 25.0108, 137.0035, 5040,      0.0,  29.3131,-999.0000,9,  34.6895,2,-999.0000,9,    197.5,2,     1.09,2,     0.00,2,     0.00,2,     0.01,2, -999.000,9, -999.000,9,   -999.0,9,   -999.0,9,-999.0000,9,  -999.00,     0.04,2,     0.01,2,-999.0000,9,      850
  49UP20100706,   P09,    28,  1,     36,    109,2,20100713,0645, 25.0108, 137.0035, 5040,     10.6,  28.9154,  28.9176,2,  34.7243,2,  34.7251,4,    198.6,2,     1.11,2,     0.00,2,     0.00,2,     0.01,2, -999.000,9, -999.000,9,   1949.3,2,   2279.4,3,   8.1114,2,    25.00,     0.04,2,     0.01,2,  28.9176,2,      856
  49UP20100706,   P09,    28,  1,     35,    108,2,20100713,0645, 25.0108, 137.0035, 5040,     27.3,  26.5570,  26.5567,2,  34.7826,2,  34.7852,4,    209.9,2,     1.18,2,     0.00,2,     0.00,2,     0.00,2, -999.000,9, -999.000,9,   1953.8,2,   2281.8,3,   8.0973,2,    25.00,     0.05,2,     0.00,2,  26.5567,2,      854
  49UP20100706,   P09,    28,  1,     34,    107,2,20100713,0645, 25.0108, 137.0035, 5040,     50.6,  23.7903,  23.7998,2,  34.7645,2,  34.7666,4,    220.8,2,     1.40,2,     0.00,2,     0.00,2,     0.00,2, -999.000,9, -999.000,9,   1967.2,2,   2284.2,3,   8.0792,2,    25.00,     0.07,2,     0.02,2,  23.7998,2,      851
  49UP20100706,   P09,    28,  1,     33,    106,2,20100713,0645, 25.0108, 137.0035, 5040,     76.1,  21.4635,  21.4744,2,  34.7452,2,  34.7456,4,    226.6,2,     1.59,2,     0.00,2,     0.00,2,     0.00,2, -999.000,9, -999.000,9,   1981.6,2,   2277.2,3,   8.0576,2,    25.00,     0.18,2,     0.06,2,  21.4744,2,      849
  49UP20100706,   P09,    28,  1,     32,    105,2,20100713,0645, 25.0108, 137.0035, 5040,    103.8,  20.0936,  20.0962,2,  34.7334,2,  34.7334,4,    219.4,2,     1.87,2,     0.10,2,     0.07,2,     0.03,2, -999.000,9, -999.000,9,   1992.0,2,   2278.7,3,   8.0298,2,    25.00,     0.36,2,     0.35,2,  20.0962,2,      848
  49UP20100706,   P09,    28,  1,     31,    104,2,20100713,0645, 25.0108, 137.0035, 5040,    125.7,  19.8941,  19.8943,2,  34.7327,2,  34.7320,4,    215.6,2,     2.06,2,     0.38,2,     0.13,2,     0.05,2, -999.000,9, -999.000,9,   1996.2,2,   2282.1,2,   8.0259,2,    25.00,     0.20,2,     0.30,2,  19.8943,2,      847
  49UP20100706,   P09,    28,  1,     30,    103,2,20100713,0645, 25.0108, 137.0035, 5040,    151.2,  19.4967,  19.4966,2,  34.7270,2,  34.7284,4,    209.2,2,     2.31,2,     1.48,2,     0.04,2,     0.11,2, -999.000,9, -999.000,9,   2005.2,2,   2276.5,2,   8.0083,2,    25.00,     0.09,2,     0.17,2,  19.4966,2,      845
  49UP20100706,   P09,    28,  1,     29,    102,2,20100713,0645, 25.0108, 137.0035, 5040,    205.4,  18.2249,  18.2264,2,  34.7324,2,  34.7328,4,    198.6,2,     3.60,2,     4.09,2,     0.01,2,     0.26,2, -999.000,9, -999.000,9,   2027.1,3,   2281.1,2,   7.9726,2,    25.00,     0.00,2,     0.01,2,  18.2264,2,      843
  49UP20100706,   P09,    28,  1,     28,    101,2,20100713,0645, 25.0108, 137.0035, 5040,    252.5,  17.3566,  17.3558,2,  34.7253,2,  34.7258,4,    194.0,2,     4.99,2,     5.83,2,     0.00,2,     0.38,2, -999.000,9, -999.000,9,   2041.0,2,   2249.5,3,   7.9421,2,    25.00,  -999.00,9,  -999.00,9,  17.3558,2,      841
  49UP20100706,   P09,    28,  1,     27,    100,2,20100713,0645, 25.0108, 137.0035, 5040,    333.2,  15.8053,  15.8020,2,  34.6423,2,  34.6414,4,    187.5,2,     8.69,2,     8.81,2,     0.00,2,     0.59,2, -999.000,9, -999.000,9,   2061.6,2,   2277.4,2,   7.8943,2,    25.00,  -999.00,9,  -999.00,9,  15.8020,2,      839
  49UP20100706,   P09,    28,  1,     26,     99,2,20100713,0645, 25.0108, 137.0035, 5040,    434.7,  13.5257,  13.5265,2,  34.4830,2,  34.4850,4,    180.7,2,    15.55,2,    12.98,2,     0.00,2,     0.89,2, -999.000,9, -999.000,9,   2091.5,2,   2277.6,2,   7.8317,2,    25.00,  -999.00,9,  -999.00,9,  13.5265,2,      836
  49UP20100706,   P09,    28,  1,     25,     98,2,20100713,0645, 25.0108, 137.0035, 5040,    535.6,  10.3100,  10.3096,2,  34.2644,2,  34.2658,4,    167.8,2,    29.57,2,    19.62,2,     0.00,2,     1.38,2, -999.000,9, -999.000,9,   2142.2,2,   2280.4,2,   7.7077,2,    25.00,  -999.00,9,  -999.00,9,  10.3096,2,      833
  49UP20100706,   P09,    28,  1,     24,     97,2,20100713,0645, 25.0108, 137.0035, 5040,    635.4,   7.4628,   7.4671,2,  34.1330,2,  34.1752,4,    146.5,3,    44.86,2,    25.02,2,     0.00,2,     1.78,2, -999.000,9, -999.000,9,   2181.8,3,   2288.2,2,   7.6319,2,    25.00,  -999.00,9,  -999.00,9,   7.4671,2,      830
  49UP20100706,   P09,    28,  1,     23,     96,2,20100713,0645, 25.0108, 137.0035, 5040,    736.3,   5.9279,   5.9302,2,  34.1582,2,  34.1593,4,    100.9,2,    74.55,2,    33.34,2,     0.00,2,     2.38,2, -999.000,9, -999.000,9,   2254.2,2,   2310.4,2,   7.4868,2,    25.00,  -999.00,9,  -999.00,9,   5.9302,2,      827
  49UP20100706,   P09,    28,  1,     22,     95,2,20100713,0645, 25.0108, 137.0035, 5040,    837.8,   4.8276,   4.8271,2,  34.2099,2,  34.2115,4,     73.6,2,    93.84,2,    37.62,2,     0.00,2,     2.68,2, -999.000,9, -999.000,9,   2295.6,2,   2329.9,2,   7.4299,2,    25.00,  -999.00,9,  -999.00,9,   4.8271,2,      825
  49UP20100706,   P09,    28,  1,     21,     94,2,20100713,0645, 25.0108, 137.0035, 5040,    938.3,   4.1711,   4.1715,2,  34.2855,2,  34.2865,4,     60.7,2,   108.96,2,    39.66,2,     0.00,2,     2.82,2, -999.000,9, -999.000,9,   2319.8,2,   2344.4,2,   7.3987,2,    25.00,  -999.00,9,  -999.00,9,   4.1715,2,      822
  49UP20100706,   P09,    28,  1,     20,     93,2,20100713,0645, 25.0108, 137.0035, 5040,   1079.8,   3.5185,   3.5171,2,  34.3693,2,  34.3707,4,     53.7,6,   124.16,6,    41.14,6,     0.00,6,     2.92,6, -999.000,9, -999.000,9,   2345.2,2,   2363.9,2,   7.3913,2,    25.00,  -999.00,9,  -999.00,9,   3.5171,2,      818
  49UP20100706,   P09,    28,  1,     19,     92,2,20100713,0645, 25.0108, 137.0035, 5040,   1282.3,   2.8489,   2.8485,2,  34.4702,2,  34.4713,4,     60.1,6,   138.36,6,    41.50,6,     0.00,6,     2.93,6, -999.000,9, -999.000,9,   2359.7,2,   2386.3,2,   7.4066,2,    25.00,  -999.00,9,  -999.00,9,   2.8485,2,      813
  49UP20100706,   P09,    28,  1,     18,     91,2,20100713,0645, 25.0108, 137.0035, 5040,   1484.8,   2.4498,   2.4501,2,  34.5309,2,  34.5315,4,     74.3,6,   144.39,6,    40.85,6,     0.00,6,     2.87,6, -999.000,9, -999.000,9,   2356.1,2,   2399.0,2,   7.4335,2,    25.00,  -999.00,9,  -999.00,9,   2.4501,2,      809
  49UP20100706,   P09,    28,  1,     17,     90,2,20100713,0645, 25.0108, 137.0035, 5040,   1687.5,   2.1920,   2.1918,2,  34.5731,2,  34.5743,4,     91.5,6,   145.35,6,    39.87,6,     0.00,6,     2.79,6, -999.000,9, -999.000,9,   2352.0,2,   2403.4,2,   7.4676,2,    25.00,  -999.00,9,  -999.00,9,   2.1918,2,      804
  49UP20100706,   P09,    28,  1,     16,     89,2,20100713,0645, 25.0108, 137.0035, 5040,   1890.7,   2.0015,   2.0014,2,  34.6057,2,  34.6069,4,    107.7,2,   144.38,2,    38.86,2,     0.00,2,     2.71,2, -999.000,9, -999.000,9,   2346.1,2,   2407.0,2,   7.4970,2,    25.00,  -999.00,9,  -999.00,9,   2.0014,2,      759
  49UP20100706,   P09,    28,  1,     15,     88,2,20100713,0645, 25.0108, 137.0035, 5040,   2104.8,   1.8722,   1.8724,2,  34.6258,2,  34.6266,4,    117.6,2,   144.08,2,    38.28,2,     0.00,2,     2.66,2, -999.000,9, -999.000,9,   2341.8,6,   2411.2,6,   7.5198,6,    25.00,  -999.00,9,  -999.00,9,   1.8724,2,      754
  49UP20100706,   P09,    28,  1,     14,     87,2,20100713,0645, 25.0108, 137.0035, 5040,   2357.6,   1.7738,   1.7741,2,  34.6420,2,  34.6428,4,    126.7,2,   143.42,2,    37.80,2,     0.00,2,     2.62,2, -999.000,9, -999.000,9,   2337.3,2,   2409.4,2,   7.5354,2,    25.00,  -999.00,9,  -999.00,9,   1.7741,2,      748
  49UP20100706,   P09,    28,  1,     13,     86,2,20100713,0645, 25.0108, 137.0035, 5040,   2613.1,   1.6961,   1.6960,2,  34.6524,2,  34.6533,4,    133.3,2,   143.22,2,    37.36,2,     0.00,2,     2.59,2, -999.000,9, -999.000,9,   2334.1,2,   2410.3,2,   7.5457,2,    25.00,  -999.00,9,  -999.00,9,   1.6960,2,      742
  49UP20100706,   P09,    28,  1,     12,     85,2,20100713,0645, 25.0108, 137.0035, 5040,   2869.3,   1.6515,   1.6517,2,  34.6592,2,  34.6600,4,    137.5,2,   143.11,2,    37.12,2,     0.00,2,     2.57,2, -999.000,9, -999.000,9,   2331.1,2,   2410.2,2,   7.5491,2,    25.00,  -999.00,9,  -999.00,9,   1.6517,2,      736
  49UP20100706,   P09,    28,  1,     11,    110,2,20100713,0645, 25.0108, 137.0035, 5040,   3122.1,   1.6002,   1.6003,2,  34.6667,2,  34.6678,4,    142.8,2,   142.62,2,    36.81,2,     0.00,2,     2.54,2, -999.000,9, -999.000,9,   2328.0,2,   2411.7,2,   7.5574,2,    25.00,  -999.00,9,  -999.00,9,   1.6003,2,      730
  49UP20100706,   P09,    28,  1,     10,     83,2,20100713,0645, 25.0108, 137.0035, 5040,   3378.9,   1.5666,   1.5666,2,  34.6724,2,  34.6735,4,    147.0,2,   142.19,2,    36.51,2,     0.00,2,     2.52,2, -999.000,9, -999.000,9,   2324.8,2,   2410.2,2,   7.5669,2,    25.00,  -999.00,9,  -999.00,9,   1.5666,2,      724
  49UP20100706,   P09,    28,  1,      9,     82,2,20100713,0645, 25.0108, 137.0035, 5040,   3633.8,   1.5395,   1.5396,2,  34.6777,2,  34.6786,4,    151.0,2,   141.41,2,    36.32,2,     0.00,2,     2.50,2, -999.000,9, -999.000,9,   2326.4,2,   2410.9,2,   7.5714,2,    25.00,  -999.00,9,  -999.00,9,   1.5396,2,      718
  49UP20100706,   P09,    28,  1,      8,     81,2,20100713,0645, 25.0108, 137.0035, 5040,   3890.2,   1.5284,   1.5285,2,  34.6814,2,  34.6821,4,    154.1,2,   141.11,2,    36.13,2,     0.00,2,     2.48,2, -999.000,9, -999.000,9,   2322.7,2,   2408.9,2,   7.5739,2,    25.00,  -999.00,9,  -999.00,9,   1.5285,2,      712
  49UP20100706,   P09,    28,  1,      7,     80,2,20100713,0645, 25.0108, 137.0035, 5040,   4145.8,   1.5377,   1.5378,2,  34.6830,2,  34.6840,4,    155.6,2,   140.64,2,    36.02,2,     0.00,2,     2.48,2, -999.000,9, -999.000,9,   2320.8,2,   2413.0,2,   7.5774,2,    25.00,  -999.00,9,  -999.00,9,   1.5378,2,      706
  49UP20100706,   P09,    28,  1,      6,     79,2,20100713,0645, 25.0108, 137.0035, 5040,   4403.3,   1.5595,   1.5597,2,  34.6838,2,  34.6847,4,    156.4,2,   140.41,2,    35.99,2,     0.00,2,     2.47,2, -999.000,9, -999.000,9,   2321.9,2,   2411.8,2,   7.5796,2,    25.00,  -999.00,9,  -999.00,9,   1.5597,2,      700
  49UP20100706,   P09,    28,  1,      5,     78,2,20100713,0645, 25.0108, 137.0035, 5040,   4660.2,   1.5865,   1.5865,2,  34.6840,2,  34.6849,4,    156.6,2,   140.46,2,    35.92,2,     0.00,2,     2.47,2, -999.000,9, -999.000,9,   2319.0,6,   2411.0,6,   7.5789,6,    25.00,  -999.00,9,  -999.00,9,   1.5865,2,      655
  49UP20100706,   P09,    28,  1,      4,     77,2,20100713,0645, 25.0108, 137.0035, 5040,   4660.2,   1.5865,   1.5865,2,  34.6840,2,  34.6852,4,    156.8,2,   140.48,2,    35.93,2,     0.00,2,     2.47,2, -999.000,9, -999.000,9,   2320.8,2,   2416.3,2,   7.5784,2,    25.00,  -999.00,9,  -999.00,9,   1.5865,2,      655
  49UP20100706,   P09,    28,  1,      3,     76,2,20100713,0645, 25.0108, 137.0035, 5040,   4917.2,   1.6161,   1.6162,2,  34.6843,2,  34.6850,4,    156.7,2,   140.45,2,    35.96,2,     0.00,2,     2.47,2, -999.000,9, -999.000,9,   2318.1,2,   2413.6,2,   7.5814,2,    25.00,  -999.00,9,  -999.00,9,   1.6162,2,      650
  49UP20100706,   P09,    28,  1,      2,     75,2,20100713,0645, 25.0108, 137.0035, 5040,   5109.2,   1.6395,   1.6394,2,  34.6842,2,  34.6854,4,    156.8,2,   140.41,2,    35.91,2,     0.00,2,     2.47,2, -999.000,9, -999.000,9,   2318.1,6,   2414.0,6,   7.5807,6,    25.00,  -999.00,9,  -999.00,9,   1.6394,2,      645
  49UP20100706,   P09,    28,  1,      1,     74,2,20100713,0645, 25.0108, 137.0035, 5040,   5109.2,   1.6395,   1.6394,2,  34.6842,2,  34.6850,4,    156.6,2,   140.55,2,    35.99,2,     0.00,2,     2.47,2, -999.000,9, -999.000,9,   2316.5,2,   2414.3,2,   7.5741,2,    25.00,  -999.00,9,  -999.00,9,   1.6394,2,      645