BOTTLE,20200625PRINUNIVRMK
EXPOCODE,SECT_ID,STNNBR,CASTNO,SAMPNO,BTLNBR,BTLNBR_FLAG_W,DATE,TIME,LATITUDE,LONGITUDE,DEPTH,CTDPRS,CTDTMP,SBE35,SBE35_FLAG_W,CTDSAL,CTDSAL_FLAG_W,SALNTY,SALNTY_FLAG_W,OXYGEN,OXYGEN_FLAG_W,SILCAT,SILCAT_FLAG_W,NITRAT,NITRAT_FLAG_W,NITRIT,NITRIT_FLAG_W,PHSPHT,PHSPHT_FLAG_W,CFC-11,CFC-11_FLAG_W,CFC-12,CFC-12_FLAG_W,TCARBN,TCARBN_FLAG_W,ALKALI,ALKALI_FLAG_W,PH_TOT,PH_TOT_FLAG_W,PH_TMP,CHLORA,CHLORA_FLAG_W,PPHYTN,PPHYTN_FLAG_W,SBE35,SBE35_FLAG_W,BTL_TIME
,,,,,,,,,,,METERS,DBAR,ITS-90,,,PSS-78,,PSS-78,,UMOL/KG,,UMOL/KG,,UMOL/KG,,UMOL/KG,,UMOL/KG,,PMOL/KG,,PMOL/KG,,UMOL/KG,,UMOL/KG,,,,DEG C,UG/KG,,UG/KG,,,,
  49UP20100706,   P09,    34,  1,      0,     -9,0,20100714,2249, 21.9995, 137.3095, 4214,      0.0,  30.1206,-999.0000,9,  34.6875,2,-999.0000,9,    196.2,2,     1.00,2,     0.01,2,     0.00,2,     0.01,2, -999.000,9, -999.000,9,   -999.0,9,   -999.0,9,-999.0000,9,  -999.00,     0.05,2,     0.01,2,-999.0000,9,       35
  49UP20100706,   P09,    34,  1,     36,    109,2,20100714,2249, 21.9995, 137.3095, 4214,     10.1,  30.1330,  30.1294,2,  34.6866,2,  34.6850,2,    194.3,2,     0.94,2,     0.00,2,     0.00,2,     0.00,2,    1.513,2,    0.902,2,   1937.7,6,   2276.5,6,   8.1257,6,    25.00,  -999.00,9,  -999.00,9,  30.1294,2,       52
  49UP20100706,   P09,    34,  1,     35,    108,2,20100714,2249, 21.9995, 137.3095, 4214,     10.1,  30.1330,  30.1294,2,  34.6866,2,  34.6849,2,    194.3,2,     0.96,2,     0.00,2,     0.00,2,     0.00,2,    1.582,2,    0.938,2,   1936.0,2,   2281.1,2,   8.1211,2,    25.00,     0.05,2,     0.01,2,  30.1294,2,       52
  49UP20100706,   P09,    34,  1,     34,    107,2,20100714,2249, 21.9995, 137.3095, 4214,     25.4,  29.3173,  29.3211,2,  34.6841,2,  34.6827,2,    200.8,2,     1.01,2,     0.00,2,     0.00,2,     0.00,2,    1.684,2,    0.960,2,   1937.6,2,   2280.0,2,   8.1219,2,    25.00,     0.05,2,     0.01,2,  29.3211,2,       51
  49UP20100706,   P09,    34,  1,     33,    106,2,20100714,2249, 21.9995, 137.3095, 4214,     51.5,  26.1838,  26.1867,2,  34.8074,2,  34.8075,2,    215.1,2,     1.12,2,     0.00,2,     0.00,2,     0.00,2,    1.852,2,    1.021,2,   1951.6,2,   2286.5,2,   8.1112,2,    25.00,     0.09,2,     0.02,2,  26.1867,2,       47
  49UP20100706,   P09,    34,  1,     32,    105,2,20100714,2249, 21.9995, 137.3095, 4214,     75.4,  25.6174,  25.6149,2,  34.8157,2,  34.8171,2,    214.0,2,     1.14,2,     0.00,2,     0.00,2,     0.01,2,    1.888,2,    1.099,2,   1956.8,2,   2289.2,2,   8.1025,2,    25.00,     0.10,2,     0.03,2,  25.6149,2,       45
  49UP20100706,   P09,    34,  1,     31,    104,2,20100714,2249, 21.9995, 137.3095, 4214,    104.0,  23.9108,  23.9130,2,  34.8074,2,  34.8140,4,    205.6,2,     1.33,2,     0.00,2,     0.00,2,     0.02,2,    1.916,2,    1.141,2,   1973.5,2,   2290.0,2,   8.0684,2,    25.00,     0.14,2,     0.05,2,  23.9130,2,       44
  49UP20100706,   P09,    34,  1,     30,    103,2,20100714,2249, 21.9995, 137.3095, 4214,    127.0,  22.5205,  22.5129,2,  34.8081,2,  34.7941,4,    201.5,6,     1.62,6,     0.03,6,     0.00,6,     0.03,6,    1.998,2,    1.195,2,   1988.3,2,   2280.2,2,   8.0520,2,    25.00,     0.21,2,     0.25,2,  22.5129,2,       42
  49UP20100706,   P09,    34,  1,     29,    102,2,20100714,2249, 21.9995, 137.3095, 4214,    151.7,  21.5149,  21.5144,2,  34.8125,2,  34.8127,6,    201.9,6,     1.80,6,     0.37,6,     0.17,6,     0.06,6,    2.027,2,    1.218,2,   1996.1,2,   2284.2,2,   8.0268,2,    25.00,     0.14,2,     0.25,2,  21.5144,2,       41
  49UP20100706,   P09,    34,  1,     28,    101,2,20100714,2249, 21.9995, 137.3095, 4214,    203.4,  19.4070,  19.4007,2,  34.7502,2,  34.7502,6,    195.8,6,     2.80,6,     3.00,6,     0.01,6,     0.20,6,    2.173,2,    1.326,2,   2017.4,2,   2285.0,2,   7.9910,2,    25.00,     0.03,2,     0.03,2,  19.4007,2,       38
  49UP20100706,   P09,    34,  1,     27,    100,2,20100714,2249, 21.9995, 137.3095, 4214,    253.4,  17.9871,  17.9904,2,  34.7586,2,  34.7592,6,    193.0,6,     3.98,6,     4.77,6,     0.00,6,     0.32,6,    2.291,6,    1.352,6,   2036.2,2,   2284.4,2,   7.9536,2,    25.00,  -999.00,9,  -999.00,9,  17.9904,2,       36
  49UP20100706,   P09,    34,  1,     26,     99,2,20100714,2249, 21.9995, 137.3095, 4214,    334.3,  16.0746,  16.0874,2,  34.6608,2,  34.6680,4,    190.3,2,     7.08,2,     7.78,2,     0.00,2,     0.52,2,    2.556,2,    1.463,2,   2058.2,2,   2280.2,2,   7.9039,2,    25.00,  -999.00,9,  -999.00,9,  16.0874,2,       32
  49UP20100706,   P09,    34,  1,     25,     98,2,20100714,2249, 21.9995, 137.3095, 4214,    435.0,  12.8570,  12.8686,2,  34.4299,2,  34.4418,4,    181.2,2,    16.54,2,    13.65,2,     0.00,2,     0.95,2,    2.673,2,    1.447,2,   2099.7,2,   2277.5,2,   7.8096,2,    25.00,  -999.00,9,  -999.00,9,  12.8686,2,       28
  49UP20100706,   P09,    34,  1,     24,     97,2,20100714,2249, 21.9995, 137.3095, 4214,    535.8,   9.2633,   9.2649,2,  34.1984,2,  34.2011,2,    155.3,2,    34.74,2,    22.37,2,     0.00,2,     1.59,2,    2.431,2,    1.280,2,   2161.1,2,   2279.7,2,   7.6671,2,    25.00,  -999.00,9,  -999.00,9,   9.2649,2,       24
  49UP20100706,   P09,    34,  1,     23,     96,2,20100714,2249, 21.9995, 137.3095, 4214,    636.3,   7.1572,   7.1583,2,  34.1363,2,  34.1401,2,    122.1,2,    54.69,2,    29.21,2,     0.00,2,     2.11,2,    1.740,6,    0.877,6,   2216.1,6,   2291.4,6,   7.5505,6,    25.00,  -999.00,9,  -999.00,9,   7.1583,2,       20
  49UP20100706,   P09,    34,  1,     22,     95,2,20100714,2249, 21.9995, 137.3095, 4214,    636.3,   7.1572,   7.1583,2,  34.1363,2,  34.1364,2,    121.3,2,    55.30,2,    29.30,2,     0.00,2,     2.10,2,    1.762,2,    0.881,2,   2218.1,2,   2295.3,2,   7.5461,2,    25.00,  -999.00,9,  -999.00,9,   7.1583,2,       20
  49UP20100706,   P09,    34,  1,     21,     94,2,20100714,2249, 21.9995, 137.3095, 4214,    738.5,   5.3505,   5.3528,2,  34.1944,2,  34.1928,2,     78.1,2,    82.95,2,    36.45,2,     0.00,2,     2.61,2,    0.929,2,    0.458,2,   2282.8,2,   2320.9,2,   7.4392,2,    25.00,  -999.00,9,  -999.00,9,   5.3528,2,       17
  49UP20100706,   P09,    34,  1,     20,     93,2,20100714,2249, 21.9995, 137.3095, 4214,    837.8,   4.6574,   4.6549,2,  34.2682,2,  34.2668,2,     62.5,2,    97.32,2,    38.98,2,     0.00,2,     2.78,2,    0.541,2,    0.242,2,   2311.6,2,   2336.0,2,   7.4147,2,    25.00,  -999.00,9,  -999.00,9,   4.6549,2,       13
  49UP20100706,   P09,    34,  1,     19,     92,2,20100714,2249, 21.9995, 137.3095, 4214,    937.5,   4.0498,   4.0497,2,  34.3428,2,  34.3421,2,     56.2,2,   111.13,2,    40.39,2,     0.00,2,     2.87,2,    0.277,2,    0.128,2,   2330.2,2,   2352.8,2,   7.3975,2,    25.00,  -999.00,9,  -999.00,9,   4.0497,2,       10
  49UP20100706,   P09,    34,  1,     18,     91,2,20100714,2249, 21.9995, 137.3095, 4214,   1082.5,   3.4279,   3.4284,2,  34.4294,2,  34.4280,2,     58.7,2,   124.41,2,    41.02,2,     0.00,2,     2.90,2,    0.137,2,    0.059,2,   2346.0,2,   2371.0,2,   7.4087,2,    25.00,  -999.00,9,  -999.00,9,   3.4284,2,        5
  49UP20100706,   P09,    34,  1,     17,     90,3,20100714,2249, 21.9995, 137.3095, 4214,   1283.6,   2.9203,   2.9215,2,  34.5086,2,  34.5083,3,     74.4,2,   133.05,2,    40.36,2,     0.00,2,     2.84,2,    0.026,2,    0.000,2,   2346.6,2,   2387.0,2,   7.4414,2,    25.00,  -999.00,9,  -999.00,9,   2.9215,2,     2359
  49UP20100706,   P09,    34,  1,     16,     89,2,20100714,2249, 21.9995, 137.3095, 4214,   1485.6,   2.6196,   2.6198,2,  34.5563,2,  34.5557,2,     90.6,2,   136.77,2,    39.50,2,     0.00,2,     2.76,2,    0.020,2,    0.000,2,   2344.1,6,   2399.0,6,   7.4757,6,    25.00,  -999.00,9,  -999.00,9,   2.6198,2,     2354
  49UP20100706,   P09,    34,  1,     15,     88,2,20100714,2249, 21.9995, 137.3095, 4214,   1485.6,   2.6196,   2.6198,2,  34.5563,2,  34.5563,2,     90.5,2,   137.55,2,    39.46,2,     0.00,2,     2.76,2,    0.018,2,    0.000,2,   2342.8,2,   2398.5,2,   7.4747,2,    25.00,  -999.00,9,  -999.00,9,   2.6198,2,     2354
  49UP20100706,   P09,    34,  1,     14,     87,2,20100714,2249, 21.9995, 137.3095, 4214,   1686.3,   2.3448,   2.3449,2,  34.5884,2,  34.5871,2,    102.3,2,   139.42,2,    38.90,2,     0.00,2,     2.73,2,    0.000,2,    0.000,2,   2341.7,2,   2403.3,2,   7.4940,2,    25.00,  -999.00,9,  -999.00,9,   2.3449,2,     2350
  49UP20100706,   P09,    34,  1,     13,     86,2,20100714,2249, 21.9995, 137.3095, 4214,   1888.0,   2.1498,   2.1498,2,  34.6119,2,  34.6126,2,    111.5,2,   140.35,2,    38.49,2,     0.00,2,     2.69,2,    0.016,4,    0.000,2,   2341.1,2,   2405.9,2,   7.5088,2,    25.00,  -999.00,9,  -999.00,9,   2.1498,2,     2345
  49UP20100706,   P09,    34,  1,     12,     85,2,20100714,2249, 21.9995, 137.3095, 4214,   2102.1,   1.9364,   1.9362,2,  34.6299,2,  34.6300,2,    119.2,2,   142.58,2,    38.20,2,     0.00,2,     2.67,2,    0.022,4,    0.000,2,   2339.5,2,   2412.1,2,   7.5263,2,    25.00,  -999.00,9,  -999.00,9,   1.9362,2,     2340
  49UP20100706,   P09,    34,  1,     11,    110,2,20100714,2249, 21.9995, 137.3095, 4214,   2356.3,   1.8212,   1.8211,2,  34.6421,2,  34.6417,2,    125.3,2,   143.54,2,    37.84,2,     0.00,2,     2.64,2,    0.000,2,    0.000,2,   2337.1,2,   2411.4,2,   7.5321,2,    25.00,  -999.00,9,  -999.00,9,   1.8211,2,     2334
  49UP20100706,   P09,    34,  1,     10,     83,2,20100714,2249, 21.9995, 137.3095, 4214,   2610.6,   1.7332,   1.7332,2,  34.6520,2,  34.6523,2,    131.8,2,   143.85,2,    37.52,2,     0.00,2,     2.59,2,    0.000,2,    0.000,2,   2334.2,2,   2417.2,2,   7.5415,2,    25.00,  -999.00,9,  -999.00,9,   1.7332,2,     2329
  49UP20100706,   P09,    34,  1,      9,     82,2,20100714,2249, 21.9995, 137.3095, 4214,   2864.8,   1.6513,   1.6514,2,  34.6618,2,  34.6636,4,    137.9,2,   143.76,2,    37.17,2,     0.00,2,     2.61,3,    0.018,4,    0.000,2,   2330.9,2,   2415.4,2,   7.5522,2,    25.00,  -999.00,9,  -999.00,9,   1.6514,2,     2323
  49UP20100706,   P09,    34,  1,      8,     81,3,20100714,2249, 21.9995, 137.3095, 4214,   2864.8,   1.6513,   1.6514,2,  34.6618,2,  34.6611,3,    138.0,6,   142.38,4,    36.89,4,     0.00,4,     2.56,4,    0.002,2,    0.000,2,   2328.5,6,   2411.3,6,   7.5534,6,    25.00,  -999.00,9,  -999.00,9,   1.6514,2,     2323
  49UP20100706,   P09,    34,  1,      7,     80,2,20100714,2249, 21.9995, 137.3095, 4214,   3120.4,   1.6142,   1.6143,2,  34.6673,2,  34.6673,2,    141.8,2,   143.30,2,    36.91,2,     0.00,2,     2.55,2, -999.000,9, -999.000,9,   2329.7,2,   2411.0,2,   7.5567,2,    25.00,  -999.00,9,  -999.00,9,   1.6143,2,     2317
  49UP20100706,   P09,    34,  1,      6,     79,2,20100714,2249, 21.9995, 137.3095, 4214,   3376.8,   1.5827,   1.5828,2,  34.6720,2,  34.6723,2,    145.6,2,   142.55,2,    36.63,2,     0.00,2,     2.53,2, -999.000,9, -999.000,9,   2325.9,2,   2414.4,3,   7.5617,2,    25.00,  -999.00,9,  -999.00,9,   1.5828,2,     2311
  49UP20100706,   P09,    34,  1,      5,     78,2,20100714,2249, 21.9995, 137.3095, 4214,   3632.4,   1.5433,   1.5434,2,  34.6775,2,  34.6773,2,    150.7,2,   141.64,2,    36.30,2,     0.00,2,     2.51,2, -999.000,9, -999.000,9,   2324.9,2,   2414.4,3,   7.5702,2,    25.00,  -999.00,9,  -999.00,9,   1.5434,2,     2306
  49UP20100706,   P09,    34,  1,      4,     77,2,20100714,2249, 21.9995, 137.3095, 4214,   3888.8,   1.5336,   1.5338,2,  34.6810,2,  34.6805,2,    153.8,2,   141.29,2,    36.13,2,     0.00,2,     2.49,2, -999.000,9, -999.000,9,   2325.8,2,   2413.7,3,   7.5711,2,    25.00,  -999.00,9,  -999.00,9,   1.5338,2,     2300
  49UP20100706,   P09,    34,  1,      3,     76,2,20100714,2249, 21.9995, 137.3095, 4214,   4146.1,   1.5416,   1.5416,2,  34.6825,2,  34.6827,2,    155.4,2,   140.99,2,    36.03,2,     0.00,2,     2.49,2, -999.000,9, -999.000,9,   2322.8,2,   2410.3,3,   7.5744,2,    25.00,  -999.00,9,  -999.00,9,   1.5416,2,     2254
  49UP20100706,   P09,    34,  1,      1,     74,2,20100714,2249, 21.9995, 137.3095, 4214,   4278.3,   1.5425,   1.5424,2,  34.6837,2,  34.6838,2,    156.5,2,   140.67,2,    35.95,2,     0.00,2,     2.49,2,    0.000,2,    0.000,2,   2310.6,3,   2409.4,3,   7.5725,2,    25.00,  -999.00,9,  -999.00,9,   1.5424,2,     2250