BOTTLE,20200625PRINUNIVRMK
EXPOCODE,SECT_ID,STNNBR,CASTNO,SAMPNO,BTLNBR,BTLNBR_FLAG_W,DATE,TIME,LATITUDE,LONGITUDE,DEPTH,CTDPRS,CTDTMP,SBE35,SBE35_FLAG_W,CTDSAL,CTDSAL_FLAG_W,SALNTY,SALNTY_FLAG_W,OXYGEN,OXYGEN_FLAG_W,SILCAT,SILCAT_FLAG_W,NITRAT,NITRAT_FLAG_W,NITRIT,NITRIT_FLAG_W,PHSPHT,PHSPHT_FLAG_W,CFC-11,CFC-11_FLAG_W,CFC-12,CFC-12_FLAG_W,TCARBN,TCARBN_FLAG_W,ALKALI,ALKALI_FLAG_W,PH_TOT,PH_TOT_FLAG_W,PH_TMP,CHLORA,CHLORA_FLAG_W,PPHYTN,PPHYTN_FLAG_W,SBE35,SBE35_FLAG_W,BTL_TIME
,,,,,,,,,,,METERS,DBAR,ITS-90,,,PSS-78,,PSS-78,,UMOL/KG,,UMOL/KG,,UMOL/KG,,UMOL/KG,,UMOL/KG,,PMOL/KG,,PMOL/KG,,UMOL/KG,,UMOL/KG,,,,DEG C,UG/KG,,UG/KG,,,,
  49UP20100706,   P09,    48,  1,      0,     -9,0,20100718,1751, 14.9818, 136.9817, 5265,      0.0,  29.7787,-999.0000,9,  34.9497,2,-999.0000,9,    193.8,2,     0.72,2,     0.00,2,     0.00,2,     0.04,2, -999.000,9, -999.000,9,   -999.0,9,   -999.0,9,-999.0000,9,  -999.00,     0.08,2,     0.02,2,-999.0000,9,     1950
  49UP20100706,   P09,    48,  1,     36,    109,2,20100718,1751, 14.9818, 136.9817, 5265,      9.8,  29.8011,  29.7930,2,  34.9487,2,  34.9476,2,    195.0,2,     0.69,2,     0.00,2,     0.00,2,     0.03,2, -999.000,9, -999.000,9,   1946.8,2,   2294.0,2,   8.1327,2,    25.00,     0.09,2,     0.02,2,  29.7930,2,     2009
  49UP20100706,   P09,    48,  1,     35,    108,4,20100718,1751, 14.9818, 136.9817, 5265,     25.9,  29.7822,  29.7815,2,  34.9472,2,  34.9667,4,    184.9,4,     2.75,4,     1.85,4,     0.00,4,     0.18,4, -999.000,9, -999.000,9,   1996.3,4,   2298.7,4,   8.0727,4,    25.00,     0.09,4,     0.04,4,  29.7815,2,     2007
  49UP20100706,   P09,    48,  1,     34,    107,2,20100718,1751, 14.9818, 136.9817, 5265,     52.3,  29.0034,  29.0083,2,  35.0006,2,  34.9960,2,    206.3,2,     0.67,2,     0.00,2,     0.00,2,     0.03,2, -999.000,9, -999.000,9,   1951.1,2,   2300.4,2,   8.1308,2,    25.00,     0.12,2,     0.03,2,  29.0083,2,     2004
  49UP20100706,   P09,    48,  1,     33,    106,4,20100718,1751, 14.9818, 136.9817, 5265,     76.3,  27.6318,  27.5989,2,  35.0550,2,  35.0264,4,    189.3,4,     1.64,4,     1.39,4,     0.01,4,     0.15,4, -999.000,9, -999.000,9,   1993.7,4,   2300.1,4,   8.0542,4,    25.00,     0.13,4,     0.10,4,  27.5989,2,     2003
  49UP20100706,   P09,    48,  1,     32,    105,2,20100718,1751, 14.9818, 136.9817, 5265,     99.5,  27.0916,  27.0899,2,  35.0768,2,  35.0775,2,    201.6,2,     0.74,2,     0.00,2,     0.00,2,     0.07,2, -999.000,9, -999.000,9,   1966.4,2,   2302.1,2,   8.1124,2,    25.00,     0.20,2,     0.10,2,  27.0899,2,     2001
  49UP20100706,   P09,    48,  1,     31,    104,2,20100718,1751, 14.9818, 136.9817, 5265,    126.2,  25.9335,  25.9307,2,  35.1018,2,  35.1022,2,    191.5,2,     0.79,2,     0.03,2,     0.12,2,     0.07,2, -999.000,9, -999.000,9,   1985.3,2,   2304.3,2,   8.0826,2,    25.00,     0.16,2,     0.26,2,  25.9307,2,     2000
  49UP20100706,   P09,    48,  1,     30,    103,2,20100718,1751, 14.9818, 136.9817, 5265,    148.8,  24.6712,  24.6836,2,  35.0871,2,  35.0870,2,    184.2,2,     0.96,2,     0.58,2,     0.02,2,     0.09,2, -999.000,9, -999.000,9,   2000.8,2,   2301.6,2,   8.0518,2,    25.00,     0.05,2,     0.14,2,  24.6836,2,     1959
  49UP20100706,   P09,    48,  1,     29,    102,2,20100718,1751, 14.9818, 136.9817, 5265,    201.1,  21.9711,  21.9893,2,  35.0402,2,  35.0504,4,    172.8,2,     1.82,2,     2.15,2,     0.00,2,     0.24,2, -999.000,9, -999.000,9,   2040.2,6,   2301.0,6,   7.9817,6,    25.00,     0.01,2,     0.03,2,  21.9893,2,     1957
  49UP20100706,   P09,    48,  1,     28,    101,2,20100718,1751, 14.9818, 136.9817, 5265,    251.5,  16.9081,  16.8990,2,  34.6740,2,  34.6784,2,    171.2,2,     6.11,2,     7.79,2,     0.00,2,     0.59,2, -999.000,9, -999.000,9,   2075.2,2,   2280.5,2,   7.8738,2,    25.00,  -999.00,9,  -999.00,9,  16.8990,2,     1955
  49UP20100706,   P09,    48,  1,     27,    100,2,20100718,1751, 14.9818, 136.9817, 5265,    303.5,  13.6872,  13.7022,2,  34.4462,2,  34.4505,2,    172.7,2,    12.11,2,    12.54,2,     0.00,2,     0.91,2, -999.000,9, -999.000,9,   2100.2,2,   2263.5,2,   7.8085,2,    25.00,  -999.00,9,  -999.00,9,  13.7022,2,     1953
  49UP20100706,   P09,    48,  1,     26,     99,2,20100718,1751, 14.9818, 136.9817, 5265,    353.6,  11.6569,  11.6617,2,  34.3337,2,  34.3344,2,    151.8,2,    20.32,2,    18.06,2,     0.00,2,     1.32,2, -999.000,9, -999.000,9,   2136.9,2,   2264.8,2,   7.7136,2,    25.00,  -999.00,9,  -999.00,9,  11.6617,2,     1951
  49UP20100706,   P09,    48,  1,     25,     98,2,20100718,1751, 14.9818, 136.9817, 5265,    405.0,   9.4042,   9.4092,2,  34.2322,2,  34.2334,2,    131.8,2,    32.13,2,    23.95,2,     0.00,2,     1.73,2, -999.000,9, -999.000,9,   2176.8,2,   2271.6,2,   7.6282,2,    25.00,  -999.00,9,  -999.00,9,   9.4092,2,     1950
  49UP20100706,   P09,    48,  1,     24,     97,2,20100718,1751, 14.9818, 136.9817, 5265,    454.8,   8.3969,   8.3959,2,  34.2719,2,  34.2682,2,     98.8,2,    43.26,2,    29.14,2,     0.00,2,     2.11,2, -999.000,9, -999.000,9,   2217.8,2,   2287.4,2,   7.5385,2,    25.00,  -999.00,9,  -999.00,9,   8.3959,2,     1948
  49UP20100706,   P09,    48,  1,     23,     96,2,20100718,1751, 14.9818, 136.9817, 5265,    505.5,   7.3998,   7.4002,2,  34.2838,2,  34.2833,2,     81.6,2,    54.01,2,    32.57,2,     0.00,2,     2.36,2, -999.000,9, -999.000,9,   2246.0,2,   2292.7,2,   7.4959,2,    25.00,  -999.00,9,  -999.00,9,   7.4002,2,     1946
  49UP20100706,   P09,    48,  1,     22,     95,2,20100718,1751, 14.9818, 136.9817, 5265,    605.6,   6.3008,   6.2954,2,  34.3703,2,  34.3649,2,     67.8,2,    68.60,2,    36.07,2,     0.00,2,     2.61,2, -999.000,9, -999.000,9,   2278.1,2,   2313.6,2,   7.4583,2,    25.00,  -999.00,9,  -999.00,9,   6.2954,2,     1943
  49UP20100706,   P09,    48,  1,     21,     94,2,20100718,1751, 14.9818, 136.9817, 5265,    706.0,   5.5968,   5.5982,2,  34.4478,2,  34.4460,2,     69.2,2,    77.92,2,    37.54,2,     0.00,2,     2.70,2, -999.000,9, -999.000,9,   2293.1,2,   2334.9,2,   7.4622,2,    25.00,  -999.00,9,  -999.00,9,   5.5982,2,     1940
  49UP20100706,   P09,    48,  1,     20,     93,2,20100718,1751, 14.9818, 136.9817, 5265,    808.0,   5.0672,   5.0674,2,  34.4888,2,  34.4883,2,     75.0,2,    85.97,2,    38.03,2,     0.00,2,     2.73,2, -999.000,9, -999.000,9,   2302.0,6,   2344.4,6,   7.4690,6,    25.00,  -999.00,9,  -999.00,9,   5.0674,2,     1937
  49UP20100706,   P09,    48,  1,     19,     92,2,20100718,1751, 14.9818, 136.9817, 5265,    907.2,   4.6680,   4.6678,2,  34.5116,2,  34.5115,2,     78.9,2,    92.63,2,    38.29,2,     0.00,2,     2.74,2, -999.000,9, -999.000,9,   2306.0,2,   2351.5,2,   7.4749,2,    25.00,  -999.00,9,  -999.00,9,   4.6678,2,     1934
  49UP20100706,   P09,    48,  1,     18,     91,2,20100718,1751, 14.9818, 136.9817, 5265,   1011.2,   4.2650,   4.2655,2,  34.5295,2,  34.5284,2,     82.8,2,   100.12,2,    38.52,2,     0.00,2,     2.74,2, -999.000,9, -999.000,9,   2313.4,2,   2364.8,2,   7.4797,2,    25.00,  -999.00,9,  -999.00,9,   4.2655,2,     1931
  49UP20100706,   P09,    48,  1,     17,     90,2,20100718,1751, 14.9818, 136.9817, 5265,   1262.8,   3.3977,   3.3984,2,  34.5585,2,  34.5581,2,     91.3,2,   118.27,2,    38.53,2,     0.00,2,     2.74,2, -999.000,9, -999.000,9,   2330.7,2,   2384.1,2,   7.4883,2,    25.00,  -999.00,9,  -999.00,9,   3.3984,2,     1924
  49UP20100706,   P09,    48,  1,     16,     89,2,20100718,1751, 14.9818, 136.9817, 5265,   1517.1,   2.8337,   2.8338,2,  34.5847,2,  34.5845,2,     98.5,2,   129.09,2,    38.58,2,     0.00,2,     2.74,2, -999.000,9, -999.000,9,   2337.1,2,   2388.9,2,   7.4937,2,    25.00,  -999.00,9,  -999.00,9,   2.8338,2,     1918
  49UP20100706,   P09,    48,  1,     15,     88,2,20100718,1751, 14.9818, 136.9817, 5265,   1770.1,   2.3943,   2.3957,2,  34.6079,2,  34.6077,2,    105.5,2,   136.77,2,    38.58,2,     0.00,2,     2.72,2, -999.000,9, -999.000,9,   2338.0,2,   2404.3,2,   7.5076,2,    25.00,  -999.00,9,  -999.00,9,   2.3957,2,     1912
  49UP20100706,   P09,    48,  1,     14,     87,2,20100718,1751, 14.9818, 136.9817, 5265,   2022.4,   2.0634,   2.0634,2,  34.6311,2,  34.6311,2,    115.0,2,   141.42,2,    38.08,2,     0.00,2,     2.68,2, -999.000,9, -999.000,9,   2344.4,2,   2409.5,2,   7.5189,2,    25.00,  -999.00,9,  -999.00,9,   2.0634,2,     1906
  49UP20100706,   P09,    48,  1,     13,     86,2,20100718,1751, 14.9818, 136.9817, 5265,   2276.9,   1.8708,   1.8711,2,  34.6456,2,  34.6457,2,    123.9,4,   143.90,2,    37.74,2,     0.00,2,     2.64,2, -999.000,9, -999.000,9,   2342.3,2,   2410.8,2,   7.5345,2,    25.00,  -999.00,9,  -999.00,9,   1.8711,2,     1900
  49UP20100706,   P09,    48,  1,     12,     85,2,20100718,1751, 14.9818, 136.9817, 5265,   2529.7,   1.7584,   1.7582,2,  34.6553,2,  34.6553,2,    128.4,2,   145.03,2,    37.45,2,     0.00,2,     2.61,2, -999.000,9, -999.000,9,   2341.4,2,   2413.0,2,   7.5413,2,    25.00,  -999.00,9,  -999.00,9,   1.7582,2,     1854
  49UP20100706,   P09,    48,  1,     11,    110,2,20100718,1751, 14.9818, 136.9817, 5265,   2784.4,   1.6866,   1.6866,2,  34.6624,2,  34.6623,2,    133.6,2,   145.37,2,    37.10,2,     0.00,2,     2.59,2, -999.000,9, -999.000,9,   2340.7,2,   2412.2,2,   7.5460,2,    25.00,  -999.00,9,  -999.00,9,   1.6866,2,     1849
  49UP20100706,   P09,    48,  1,     10,     83,2,20100718,1751, 14.9818, 136.9817, 5265,   3040.8,   1.6312,   1.6313,2,  34.6681,2,  34.6675,2,    138.6,2,   144.82,2,    36.77,2,     0.00,2,     2.56,2, -999.000,9, -999.000,9,   2341.3,2,   2414.2,2,   7.5520,2,    25.00,  -999.00,9,  -999.00,9,   1.6313,2,     1843
  49UP20100706,   P09,    48,  1,      9,     82,2,20100718,1751, 14.9818, 136.9817, 5265,   3294.0,   1.5873,   1.5873,2,  34.6730,2,  34.6723,2,    143.7,2,   143.84,2,    36.46,2,     0.00,2,     2.54,2, -999.000,9, -999.000,9,   2333.5,2,   2414.8,2,   7.5599,2,    25.00,  -999.00,9,  -999.00,9,   1.5873,2,     1837
  49UP20100706,   P09,    48,  1,      8,     81,2,20100718,1751, 14.9818, 136.9817, 5265,   3551.4,   1.5552,   1.5553,2,  34.6772,2,  34.6769,2,    148.4,2,   142.88,2,    36.12,2,     0.00,2,     2.51,2, -999.000,9, -999.000,9,   2330.3,6,   2413.2,6,   7.5656,6,    25.00,  -999.00,9,  -999.00,9,   1.5553,2,     1831
  49UP20100706,   P09,    48,  1,      7,     80,2,20100718,1751, 14.9818, 136.9817, 5265,   3805.2,   1.5428,   1.5427,2,  34.6800,2,  34.6800,2,    151.6,2,   142.28,2,    35.94,2,     0.00,2,     2.50,2, -999.000,9, -999.000,9,   2327.5,2,   2412.5,2,   7.5693,2,    25.00,  -999.00,9,  -999.00,9,   1.5427,2,     1826
  49UP20100706,   P09,    48,  1,      6,     79,2,20100718,1751, 14.9818, 136.9817, 5265,   4060.9,   1.5153,   1.5154,2,  34.6840,2,  34.6836,2,    156.6,2,   140.71,2,    35.57,2,     0.00,2,     2.47,2, -999.000,9, -999.000,9,   2325.7,2,   2409.2,2,   7.5757,2,    25.00,  -999.00,9,  -999.00,9,   1.5154,2,     1820
  49UP20100706,   P09,    48,  1,      5,     78,2,20100718,1751, 14.9818, 136.9817, 5265,   4319.9,   1.5031,   1.5032,2,  34.6871,2,  34.6869,2,    160.2,2,   139.22,2,    35.44,2,     0.00,2,     2.45,2, -999.000,9, -999.000,9,   2324.0,2,   2405.6,2,   7.5808,2,    25.00,  -999.00,9,  -999.00,9,   1.5032,2,     1814
  49UP20100706,   P09,    48,  1,      4,     77,2,20100718,1751, 14.9818, 136.9817, 5265,   4575.8,   1.5225,   1.5224,2,  34.6877,2,  34.6878,6,    161.2,6,   139.12,6,    35.34,6,     0.00,6,     2.45,6, -999.000,9, -999.000,9,   2320.6,2,   2406.8,2,   7.5873,2,    25.00,  -999.00,9,  -999.00,9,   1.5224,2,     1808
  49UP20100706,   P09,    48,  1,      3,     76,2,20100718,1751, 14.9818, 136.9817, 5265,   4832.4,   1.5505,   1.5506,2,  34.6881,2,  34.6881,6,    161.7,6,   138.88,6,    35.29,6,     0.00,6,     2.45,6, -999.000,9, -999.000,9,   2309.3,3,   2406.1,2,   7.5823,2,    25.00,  -999.00,9,  -999.00,9,   1.5506,2,     1802
  49UP20100706,   P09,    48,  1,      2,     75,2,20100718,1751, 14.9818, 136.9817, 5265,   5089.7,   1.5799,   1.5798,2,  34.6879,2,  34.6884,6,    161.8,6,   138.82,6,    35.26,6,     0.00,6,     2.44,6, -999.000,9, -999.000,9,   2317.7,2,   2408.1,2,   7.5827,2,    25.00,  -999.00,9,  -999.00,9,   1.5798,2,     1757
  49UP20100706,   P09,    48,  1,      1,     74,2,20100718,1751, 14.9818, 136.9817, 5265,   5303.2,   1.6066,   1.6066,2,  34.6881,2,  34.6881,6,    162.0,6,   138.93,6,    35.24,6,     0.00,6,     2.44,6, -999.000,9, -999.000,9,   2318.6,2,   2406.2,2,   7.5800,2,    25.00,  -999.00,9,  -999.00,9,   1.6066,2,     1751