BOTTLE,20200625PRINUNIVRMK
EXPOCODE,SECT_ID,STNNBR,CASTNO,SAMPNO,BTLNBR,BTLNBR_FLAG_W,DATE,TIME,LATITUDE,LONGITUDE,DEPTH,CTDPRS,CTDTMP,SBE35,SBE35_FLAG_W,CTDSAL,CTDSAL_FLAG_W,SALNTY,SALNTY_FLAG_W,OXYGEN,OXYGEN_FLAG_W,SILCAT,SILCAT_FLAG_W,NITRAT,NITRAT_FLAG_W,NITRIT,NITRIT_FLAG_W,PHSPHT,PHSPHT_FLAG_W,CFC-11,CFC-11_FLAG_W,CFC-12,CFC-12_FLAG_W,TCARBN,TCARBN_FLAG_W,ALKALI,ALKALI_FLAG_W,PH_TOT,PH_TOT_FLAG_W,PH_TMP,CHLORA,CHLORA_FLAG_W,PPHYTN,PPHYTN_FLAG_W,SBE35,SBE35_FLAG_W,BTL_TIME
,,,,,,,,,,,METERS,DBAR,ITS-90,,,PSS-78,,PSS-78,,UMOL/KG,,UMOL/KG,,UMOL/KG,,UMOL/KG,,UMOL/KG,,PMOL/KG,,PMOL/KG,,UMOL/KG,,UMOL/KG,,,,DEG C,UG/KG,,UG/KG,,,,
  49UP20100706,   P09,    52,  1,      0,     -9,0,20100719,2035, 12.9993, 136.9710, 4798,      0.0,  29.7947,-999.0000,9,  34.6758,2,-999.0000,9,    193.8,2,     0.85,2,     0.00,2,     0.00,2,     0.05,2, -999.000,9, -999.000,9,   -999.0,9,   -999.0,9,-999.0000,9,  -999.00,     0.07,2,     0.01,2,-999.0000,9,     2220
  49UP20100706,   P09,    52,  1,     36,    109,2,20100719,2035, 12.9993, 136.9710, 4798,     10.7,  29.7917,  29.7938,2,  34.6755,2,  34.6740,2,    194.5,2,     0.75,2,     0.00,2,     0.00,2,     0.04,2, -999.000,9, -999.000,9,   1935.7,2,   2272.5,2,   8.1187,2,    25.00,     0.06,2,     0.01,2,  29.7938,2,     2242
  49UP20100706,   P09,    52,  1,     35,    108,4,20100719,2035, 12.9993, 136.9710, 4798,     27.0,  29.7988,  29.7988,2,  34.6772,2,  34.7998,4,    180.3,4,     4.03,4,     3.05,4,     0.00,4,     0.26,4, -999.000,9, -999.000,9,   2008.4,4,   2290.9,4,   8.0427,4,    25.00,     0.09,4,     0.05,4,  29.7988,2,     2241
  49UP20100706,   P09,    52,  1,     34,    107,2,20100719,2035, 12.9993, 136.9710, 4798,     49.4,  29.7567,  29.7657,2,  34.7006,2,  34.6955,2,    195.7,2,     0.81,2,     0.00,2,     0.00,2,     0.04,2, -999.000,9, -999.000,9,   1938.2,2,   2274.5,2,   8.1167,2,    25.00,     0.07,2,     0.02,2,  29.7657,2,     2238
  49UP20100706,   P09,    52,  1,     33,    106,2,20100719,2035, 12.9993, 136.9710, 4798,     74.8,  28.0862,  28.0853,2,  34.8215,2,  34.8273,2,    207.6,2,     0.74,2,     0.00,2,     0.00,2,     0.06,2, -999.000,9, -999.000,9,   1946.5,2,   2284.1,2,   8.1118,2,    25.00,     0.13,2,     0.04,2,  28.0853,2,     2237
  49UP20100706,   P09,    52,  1,     32,    105,2,20100719,2035, 12.9993, 136.9710, 4798,    100.1,  27.6564,  27.6565,2,  34.9698,2,  34.9655,2,    206.4,2,     0.73,2,     0.00,2,     0.00,2,     0.06,2, -999.000,9, -999.000,9,   1959.5,6,   2296.9,6,   8.1065,6,    25.00,  -999.00,9,  -999.00,9,  27.6565,2,     2235
  49UP20100706,   P09,    52,  1,     31,    104,2,20100719,2035, 12.9993, 136.9710, 4798,    100.1,  27.6564,  27.6565,2,  34.9698,2,  34.9660,2,    206.5,2,     0.75,2,     0.00,2,     0.00,2,     0.06,2, -999.000,9, -999.000,9,   1960.5,2,   2296.3,2,   8.1091,2,    25.00,     0.22,2,     0.10,2,  27.6565,2,     2235
  49UP20100706,   P09,    52,  1,     30,    103,2,20100719,2035, 12.9993, 136.9710, 4798,    126.4,  27.0316,  27.0308,2,  35.0455,2,  35.0468,2,    198.4,2,     0.73,2,     0.00,2,     0.00,2,     0.06,2, -999.000,9, -999.000,9,   1970.3,2,   2302.5,2,   8.0968,2,    25.00,     0.23,2,     0.29,2,  27.0308,2,     2234
  49UP20100706,   P09,    52,  1,     29,    102,2,20100719,2035, 12.9993, 136.9710, 4798,    150.4,  26.3740,  26.3723,2,  35.0950,2,  35.0982,2,    193.3,2,     0.77,2,    -0.03,2,     0.06,2,     0.09,2, -999.000,9, -999.000,9,   1987.0,2,   2306.9,2,   8.0816,2,    25.00,     0.13,2,     0.22,2,  26.3723,2,     2232
  49UP20100706,   P09,    52,  1,     28,    101,2,20100719,2035, 12.9993, 136.9710, 4798,    201.2,  23.5858,  23.5817,2,  35.1084,2,  35.1124,2,    176.0,2,     1.40,2,     1.22,2,     0.02,2,     0.18,2, -999.000,9, -999.000,9,   2029.5,2,   2304.3,2,   8.0028,2,    25.00,     0.03,2,     0.06,2,  23.5817,2,     2231
  49UP20100706,   P09,    52,  1,     27,    100,2,20100719,2035, 12.9993, 136.9710, 4798,    252.3,  18.0296,  18.0391,2,  34.7707,2,  34.7722,2,    182.0,2,     4.24,2,     5.47,2,     0.00,2,     0.39,2, -999.000,9, -999.000,9,   2053.3,2,   2284.3,2,   7.9197,2,    25.00,  -999.00,9,  -999.00,9,  18.0391,2,     2229
  49UP20100706,   P09,    52,  1,     26,     99,2,20100719,2035, 12.9993, 136.9710, 4798,    322.2,  13.4997,  13.4987,2,  34.4426,2,  34.4441,2,    168.0,2,    13.32,2,    13.37,2,     0.00,2,     0.97,2, -999.000,9, -999.000,9,   2106.2,2,   2274.1,2,   7.7966,2,    25.00,  -999.00,9,  -999.00,9,  13.4987,2,     2227
  49UP20100706,   P09,    52,  1,     25,     98,2,20100719,2035, 12.9993, 136.9710, 4798,    372.7,  10.9147,  10.9148,2,  34.3171,2,  34.3171,2,    132.9,2,    24.89,2,    21.18,2,     0.00,2,     1.55,2, -999.000,9, -999.000,9,   2161.4,6,   2274.9,6,   7.6607,6,    25.00,  -999.00,9,  -999.00,9,  10.9148,2,     2225
  49UP20100706,   P09,    52,  1,     24,     97,2,20100719,2035, 12.9993, 136.9710, 4798,    372.7,  10.9147,  10.9148,2,  34.3171,2,  34.3175,2,    133.5,2,    24.72,2,    21.04,2,     0.00,2,     1.55,2, -999.000,9, -999.000,9,   2160.9,2,   2276.7,2,   7.6541,2,    25.00,  -999.00,9,  -999.00,9,  10.9148,2,     2225
  49UP20100706,   P09,    52,  1,     23,     96,2,20100719,2035, 12.9993, 136.9710, 4798,    422.9,   9.0864,   9.0868,2,  34.3194,2,  34.3195,2,     96.1,2,    37.47,2,    28.14,2,     0.00,2,     2.06,2, -999.000,9, -999.000,9,   2213.0,2,   2288.9,2,   7.5593,2,    25.00,  -999.00,9,  -999.00,9,   9.0868,2,     2223
  49UP20100706,   P09,    52,  1,     22,     95,2,20100719,2035, 12.9993, 136.9710, 4798,    475.2,   7.9139,   7.9175,2,  34.3642,2,  34.3583,2,     76.4,2,    48.72,2,    32.25,2,     0.00,2,     2.34,2, -999.000,9, -999.000,9,   2244.4,2,   2301.0,2,   7.4971,2,    25.00,  -999.00,9,  -999.00,9,   7.9175,2,     2221
  49UP20100706,   P09,    52,  1,     21,     94,2,20100719,2035, 12.9993, 136.9710, 4798,    534.0,   7.1034,   7.1057,2,  34.3773,2,  34.3761,2,     70.6,2,    57.94,2,    34.41,2,     0.00,2,     2.49,2, -999.000,9, -999.000,9,   2260.6,2,   2313.2,2,   7.4838,2,    25.00,  -999.00,9,  -999.00,9,   7.1057,2,     2219
  49UP20100706,   P09,    52,  1,     20,     93,2,20100719,2035, 12.9993, 136.9710, 4798,    635.0,   6.0554,   6.0559,2,  34.4283,2,  34.4273,2,     69.9,2,    70.77,2,    36.61,2,     0.00,2,     2.64,2, -999.000,9, -999.000,9,   2282.4,2,   2330.8,2,   7.4629,2,    25.00,  -999.00,9,  -999.00,9,   6.0559,2,     2216
  49UP20100706,   P09,    52,  1,     19,     92,2,20100719,2035, 12.9993, 136.9710, 4798,    736.8,   5.2623,   5.2629,2,  34.4888,2,  34.4878,2,     76.7,2,    81.25,2,    37.60,2,     0.00,2,     2.70,2, -999.000,9, -999.000,9,   2295.1,2,   2344.8,2,   7.4776,2,    25.00,  -999.00,9,  -999.00,9,   5.2629,2,     2213
  49UP20100706,   P09,    52,  1,     18,     91,2,20100719,2035, 12.9993, 136.9710, 4798,    837.2,   4.7589,   4.7583,2,  34.5176,2,  34.5166,2,     80.5,2,    89.55,2,    38.06,2,     0.00,2,     2.72,2, -999.000,9, -999.000,9,   2303.9,2,   2357.8,2,   7.4740,2,    25.00,  -999.00,9,  -999.00,9,   4.7583,2,     2210
  49UP20100706,   P09,    52,  1,     17,     90,2,20100719,2035, 12.9993, 136.9710, 4798,    940.3,   4.3724,   4.3747,2,  34.5345,2,  34.5305,4,     83.4,2,    96.48,2,    38.40,2,     0.00,2,     2.74,2, -999.000,9, -999.000,9,   2316.2,2,   2365.7,2,   7.4781,2,    25.00,  -999.00,9,  -999.00,9,   4.3747,2,     2208
  49UP20100706,   P09,    52,  1,     16,     89,2,20100719,2035, 12.9993, 136.9710, 4798,   1090.8,   3.8546,   3.8546,2,  34.5514,2,  34.5499,2,     87.6,2,   107.48,2,    38.63,2,     0.00,2,     2.75,2, -999.000,9, -999.000,9,   2325.3,2,   2377.4,2,   7.4821,2,    25.00,  -999.00,9,  -999.00,9,   3.8546,2,     2203
  49UP20100706,   P09,    52,  1,     15,     88,2,20100719,2035, 12.9993, 136.9710, 4798,   1345.0,   3.0756,   3.0760,2,  34.5750,2,  34.5719,4,     95.1,2,   123.65,2,    38.61,2,     0.00,2,     2.74,2, -999.000,9, -999.000,9,   2331.4,2,   2395.1,2,   7.4902,2,    25.00,  -999.00,9,  -999.00,9,   3.0760,2,     2157
  49UP20100706,   P09,    52,  1,     14,     87,2,20100719,2035, 12.9993, 136.9710, 4798,   1597.8,   2.5232,   2.5249,2,  34.6032,2,  34.6024,2,    103.5,2,   133.34,2,    38.56,2,     0.00,2,     2.72,2, -999.000,9, -999.000,9,   2339.0,2,   2404.9,2,   7.4992,2,    25.00,  -999.00,9,  -999.00,9,   2.5249,2,     2150
  49UP20100706,   P09,    52,  1,     13,     86,2,20100719,2035, 12.9993, 136.9710, 4798,   1852.0,   2.1869,   2.1876,2,  34.6262,2,  34.6244,4,    111.5,2,   138.68,2,    38.30,2,     0.00,2,     2.70,2, -999.000,9, -999.000,9,   2346.8,2,   2409.1,2,   7.5101,2,    25.00,  -999.00,9,  -999.00,9,   2.1876,2,     2144
  49UP20100706,   P09,    52,  1,     12,     85,2,20100719,2035, 12.9993, 136.9710, 4798,   2104.6,   1.9932,   1.9943,2,  34.6390,2,  34.6386,2,    118.0,2,   142.02,2,    37.99,2,     0.00,2,     2.66,2, -999.000,9, -999.000,9,   2345.7,2,   2415.5,2,   7.5186,2,    25.00,  -999.00,9,  -999.00,9,   1.9943,2,     2138
  49UP20100706,   P09,    52,  1,     11,    110,2,20100719,2035, 12.9993, 136.9710, 4798,   2359.4,   1.8423,   1.8420,2,  34.6488,2,  34.6488,6,    124.6,6,   144.20,6,    37.66,6,     0.00,6,     2.64,6, -999.000,9, -999.000,9,   2343.1,2,   2414.8,2,   7.5315,2,    25.00,  -999.00,9,  -999.00,9,   1.8420,2,     2132
  49UP20100706,   P09,    52,  1,     10,     83,2,20100719,2035, 12.9993, 136.9710, 4798,   2614.3,   1.7128,   1.7125,2,  34.6590,2,  34.6586,6,    131.7,6,   145.14,6,    37.29,6,     0.00,6,     2.60,6, -999.000,9, -999.000,9,   2341.6,2,   2419.0,2,   7.5409,2,    25.00,  -999.00,9,  -999.00,9,   1.7125,2,     2126
  49UP20100706,   P09,    52,  1,      9,     82,2,20100719,2035, 12.9993, 136.9710, 4798,   2868.3,   1.6514,   1.6511,2,  34.6653,2,  34.6655,6,    136.8,6,   145.06,6,    36.98,6,     0.00,6,     2.58,6, -999.000,9, -999.000,9,   2345.0,3,   2418.9,2,   7.5483,2,    25.00,  -999.00,9,  -999.00,9,   1.6511,2,     2120
  49UP20100706,   P09,    52,  1,      8,     81,2,20100719,2035, 12.9993, 136.9710, 4798,   3122.7,   1.5889,   1.5888,2,  34.6716,2,  34.6715,6,    142.6,6,   143.98,6,    36.57,6,     0.00,6,     2.55,6, -999.000,9, -999.000,9,   2339.2,2,   2418.8,2,   7.5573,2,    25.00,  -999.00,9,  -999.00,9,   1.5888,2,     2113
  49UP20100706,   P09,    52,  1,      7,     80,2,20100719,2035, 12.9993, 136.9710, 4798,   3376.7,   1.5593,   1.5590,2,  34.6752,2,  34.6755,2,    147.0,2,   142.90,2,    36.28,2,     0.00,2,     2.52,2, -999.000,9, -999.000,9,   2334.0,2,   2414.7,2,   7.5626,2,    25.00,  -999.00,9,  -999.00,9,   1.5590,2,     2107
  49UP20100706,   P09,    52,  1,      6,     79,2,20100719,2035, 12.9993, 136.9710, 4798,   3631.5,   1.5324,   1.5324,2,  34.6793,2,  34.6791,2,    151.2,2,   142.11,2,    35.94,2,     0.00,2,     2.50,2, -999.000,9, -999.000,9,   2324.6,2,   2416.4,2,   7.5682,2,    25.00,  -999.00,9,  -999.00,9,   1.5324,2,     2102
  49UP20100706,   P09,    52,  1,      5,     78,2,20100719,2035, 12.9993, 136.9710, 4798,   3886.7,   1.5019,   1.5018,2,  34.6835,2,  34.6835,2,    156.5,2,   140.01,2,    35.61,2,     0.00,2,     2.47,2, -999.000,9, -999.000,9,   2323.1,2,   2413.2,2,   7.5784,2,    25.00,  -999.00,9,  -999.00,9,   1.5018,2,     2056
  49UP20100706,   P09,    52,  1,      4,     77,2,20100719,2035, 12.9993, 136.9710, 4798,   4143.3,   1.4998,   1.4997,2,  34.6855,2,  34.6853,2,    159.2,2,   139.29,2,    35.44,2,     0.00,2,     2.46,2, -999.000,9, -999.000,9,   2321.4,2,   2407.9,2,   7.5797,2,    25.00,  -999.00,9,  -999.00,9,   1.4997,2,     2050
  49UP20100706,   P09,    52,  1,      3,     76,2,20100719,2035, 12.9993, 136.9710, 4798,   4398.8,   1.5125,   1.5125,2,  34.6870,2,  34.6869,2,    160.9,2,   138.69,2,    35.38,2,     0.00,2,     2.45,2, -999.000,9, -999.000,9,   2322.2,6,   2412.0,6,   7.5844,6,    25.00,  -999.00,9,  -999.00,9,   1.5125,2,     2045
  49UP20100706,   P09,    52,  1,      2,     75,2,20100719,2035, 12.9993, 136.9710, 4798,   4655.7,   1.5394,   1.5393,2,  34.6871,2,  34.6872,2,    161.4,2,   138.48,2,    35.28,2,     0.00,2,     2.45,2, -999.000,9, -999.000,9,   2323.9,2,   2406.1,2,   7.5828,2,    25.00,  -999.00,9,  -999.00,9,   1.5393,2,     2040
  49UP20100706,   P09,    52,  1,      1,     74,2,20100719,2035, 12.9993, 136.9710, 4798,   4833.9,   1.5589,   1.5588,2,  34.6873,2,  34.6873,2,    161.4,2,   138.44,2,    35.26,2,     0.00,2,     2.45,2, -999.000,9, -999.000,9,   2319.8,2,   2413.0,2,   7.5818,2,    25.00,  -999.00,9,  -999.00,9,   1.5588,2,     2035