BOTTLE,20200625PRINUNIVRMK
EXPOCODE,SECT_ID,STNNBR,CASTNO,SAMPNO,BTLNBR,BTLNBR_FLAG_W,DATE,TIME,LATITUDE,LONGITUDE,DEPTH,CTDPRS,CTDTMP,SBE35,SBE35_FLAG_W,CTDSAL,CTDSAL_FLAG_W,SALNTY,SALNTY_FLAG_W,OXYGEN,OXYGEN_FLAG_W,SILCAT,SILCAT_FLAG_W,NITRAT,NITRAT_FLAG_W,NITRIT,NITRIT_FLAG_W,PHSPHT,PHSPHT_FLAG_W,CFC-11,CFC-11_FLAG_W,CFC-12,CFC-12_FLAG_W,TCARBN,TCARBN_FLAG_W,ALKALI,ALKALI_FLAG_W,PH_TOT,PH_TOT_FLAG_W,PH_TMP,CHLORA,CHLORA_FLAG_W,PPHYTN,PPHYTN_FLAG_W,SBE35,SBE35_FLAG_W,BTL_TIME
,,,,,,,,,,,METERS,DBAR,ITS-90,,,PSS-78,,PSS-78,,UMOL/KG,,UMOL/KG,,UMOL/KG,,UMOL/KG,,UMOL/KG,,PMOL/KG,,PMOL/KG,,UMOL/KG,,UMOL/KG,,,,DEG C,UG/KG,,UG/KG,,,,
  49UP20100706,   P09,    46,  1,      0,     -9,0,20100718,0502, 16.0102, 136.9763, 5045,      0.0,  29.9831,-999.0000,9,  34.9339,2,-999.0000,9,    194.1,2,     0.54,2,     0.00,2,     0.00,2,     0.02,2, -999.000,9, -999.000,9,   -999.0,9,   -999.0,9,-999.0000,9,  -999.00,     0.09,2,     0.02,2,-999.0000,9,      652
  49UP20100706,   P09,    46,  1,     36,    109,2,20100718,0502, 16.0102, 136.9763, 5045,     10.6,  29.8142,  29.8138,2,  34.9462,2,  34.9450,2,    195.3,2,     0.52,2,     0.00,2,     0.00,2,     0.02,2,    1.664,2,    0.929,2,   1944.6,2,   2292.6,2,   8.1346,2,    25.00,     0.09,2,     0.02,2,  29.8138,2,      713
  49UP20100706,   P09,    46,  1,     35,    108,2,20100718,0502, 16.0102, 136.9763, 5045,     25.8,  29.8284,  29.8278,2,  35.0070,2,  35.0076,2,    195.3,2,     0.53,2,     0.00,2,     0.00,2,     0.01,2,    1.638,4,    0.898,4,   1949.7,2,   2299.8,2,   8.1359,2,    25.00,     0.09,2,     0.02,2,  29.8278,2,      712
  49UP20100706,   P09,    46,  1,     34,    107,2,20100718,0502, 16.0102, 136.9763, 5045,     49.6,  29.7140,  29.7084,2,  35.0418,2,  35.0412,2,    199.2,2,     0.50,2,     0.00,2,     0.00,2,     0.02,2,    1.655,2,    0.935,2,   1949.0,2,   2301.2,2,   8.1354,2,    25.00,     0.12,2,     0.04,2,  29.7084,2,      708
  49UP20100706,   P09,    46,  1,     33,    106,2,20100718,0502, 16.0102, 136.9763, 5045,     74.9,  28.0012,  27.9995,2,  35.1111,2,  35.1118,2,    212.4,2,     0.57,2,     0.00,2,     0.00,2,     0.01,2,    1.837,2,    1.069,2,   1950.3,2,   2306.2,2,   8.1261,2,    25.00,     0.15,2,     0.06,2,  27.9995,2,      707
  49UP20100706,   P09,    46,  1,     32,    105,2,20100718,0502, 16.0102, 136.9763, 5045,    101.9,  27.1821,  27.1808,2,  35.0901,2,  35.0886,2,    207.0,2,     0.50,2,     0.00,2,     0.00,2,     0.02,2,    1.790,2,    1.043,2,   1959.1,2,   2303.7,6,   8.1209,6,    25.00,     0.23,2,     0.10,2,  27.1808,2,      706
  49UP20100706,   P09,    46,  1,     31,    104,2,20100718,0502, 16.0102, 136.9763, 5045,    128.4,  26.5840,  26.5846,2,  35.1059,2,  35.1079,2,    202.1,2,     0.52,2,     0.00,2,     0.00,2,     0.02,2,    1.771,2,    1.026,2,   1962.8,2,   2303.9,2,   8.1062,2,    25.00,     0.31,2,     0.29,2,  26.5846,2,      704
  49UP20100706,   P09,    46,  1,     30,    103,2,20100718,0502, 16.0102, 136.9763, 5045,    151.0,  25.3993,  25.3964,2,  35.0265,2,  35.0273,2,    195.4,2,     0.65,2,    -0.02,2,     0.19,2,     0.02,2,    1.865,2,    1.093,2,   1971.6,2,   2299.5,2,   8.0885,2,    25.00,     0.13,2,     0.21,2,  25.3964,2,      703
  49UP20100706,   P09,    46,  1,     29,    102,2,20100718,0502, 16.0102, 136.9763, 5045,    201.7,  21.9163,  21.9148,2,  34.9539,2,  34.9548,2,    185.5,2,     1.45,2,     1.34,2,     0.01,2,     0.12,2,    2.121,2,    1.247,2,   2018.1,2,   2292.1,2,   8.0055,2,    25.00,     0.02,2,     0.04,2,  21.9148,2,      701
  49UP20100706,   P09,    46,  1,     28,    101,2,20100718,0502, 16.0102, 136.9763, 5045,    252.7,  18.8930,  18.8899,2,  34.8171,2,  34.8165,2,    185.5,2,     2.88,2,     3.91,2,     0.00,2,     0.28,2,    2.370,2,    1.435,2,   2039.4,2,   2286.2,2,   7.9503,2,    25.00,  -999.00,9,  -999.00,9,  18.8899,2,      659
  49UP20100706,   P09,    46,  1,     27,    100,2,20100718,0502, 16.0102, 136.9763, 5045,    322.3,  15.5420,  15.5414,2,  34.5989,2,  34.5970,2,    188.2,2,     7.16,2,     8.57,2,     0.00,2,     0.59,2,    2.661,6,    1.538,6,   2061.9,2,   2273.8,2,   7.8870,2,    25.00,  -999.00,9,  -999.00,9,  15.5414,2,      657
  49UP20100706,   P09,    46,  1,     26,     99,2,20100718,0502, 16.0102, 136.9763, 5045,    373.2,  12.9184,  12.9185,2,  34.3853,2,  34.3846,2,    176.3,2,    13.61,2,    13.61,2,     0.00,2,     0.98,2,    2.837,2,    1.539,2,   2099.9,2,   2268.1,2,   7.7848,2,    25.00,  -999.00,9,  -999.00,9,  12.9185,2,      655
  49UP20100706,   P09,    46,  1,     25,     98,2,20100718,0502, 16.0102, 136.9763, 5045,    423.5,  10.7352,  10.7352,2,  34.2642,2,  34.2638,2,    143.8,2,    23.86,2,    20.43,2,     0.00,2,     1.50,2,    2.550,2,    1.344,2,   2141.5,2,   2267.8,2,   7.6788,2,    25.00,  -999.00,9,  -999.00,9,  10.7352,2,      653
  49UP20100706,   P09,    46,  1,     24,     97,2,20100718,0502, 16.0102, 136.9763, 5045,    473.4,   9.2423,   9.2444,2,  34.2343,2,  34.2358,2,    119.0,2,    34.24,2,    25.62,2,     0.00,2,     1.86,2,    1.995,2,    1.012,2,   2186.3,2,   2277.4,2,   7.5894,2,    25.00,  -999.00,9,  -999.00,9,   9.2444,2,      651
  49UP20100706,   P09,    46,  1,     23,     96,2,20100718,0502, 16.0102, 136.9763, 5045,    534.4,   7.9096,   7.9086,2,  34.2388,2,  34.2378,2,     92.0,2,    46.96,2,    30.56,2,     0.00,2,     2.22,2,    1.345,2,    0.651,2,   2217.9,2,   2287.9,2,   7.5215,2,    25.00,  -999.00,9,  -999.00,9,   7.9086,2,      649
  49UP20100706,   P09,    46,  1,     22,     95,2,20100718,0502, 16.0102, 136.9763, 5045,    635.3,   6.6841,   6.6866,2,  34.3415,2,  34.3407,2,     69.5,2,    63.24,2,    35.21,2,     0.00,2,     2.55,2,    0.599,6,    0.263,6,   2262.1,2,   2312.9,2,   7.4662,2,    25.00,  -999.00,9,  -999.00,9,   6.6866,2,      647
  49UP20100706,   P09,    46,  1,     21,     94,2,20100718,0502, 16.0102, 136.9763, 5045,    735.8,   5.8422,   5.8411,2,  34.4097,2,  34.4097,2,     66.0,2,    75.14,2,    37.22,2,     0.00,2,     2.69,2,    0.258,2,    0.081,2,   2282.4,2,   2327.7,2,   7.4605,2,    25.00,  -999.00,9,  -999.00,9,   5.8411,2,      644
  49UP20100706,   P09,    46,  1,     20,     93,2,20100718,0502, 16.0102, 136.9763, 5045,    837.1,   5.2322,   5.2326,2,  34.4658,2,  34.4658,2,     71.2,2,    84.02,2,    38.07,2,     0.00,2,     2.73,2,    0.117,2,    0.007,2,   2290.7,2,   2352.6,2,   7.4625,2,    25.00,  -999.00,9,  -999.00,9,   5.2326,2,      641
  49UP20100706,   P09,    46,  1,     19,     92,2,20100718,0502, 16.0102, 136.9763, 5045,    938.8,   4.7411,   4.7418,2,  34.4959,2,  34.4966,2,     76.3,2,    92.41,2,    38.30,2,     0.00,2,     2.74,2,    0.075,2,    0.010,2,   2294.4,2,   2353.9,2,   7.4688,2,    25.00,  -999.00,9,  -999.00,9,   4.7418,2,      638
  49UP20100706,   P09,    46,  1,     18,     91,2,20100718,0502, 16.0102, 136.9763, 5045,   1090.8,   4.0516,   4.0516,2,  34.5292,2,  34.5290,2,     83.4,2,   105.78,2,    38.56,2,     0.00,2,     2.75,2,    0.046,2,    0.005,2,   2313.8,2,   2371.9,2,   7.4782,2,    25.00,  -999.00,9,  -999.00,9,   4.0516,2,      635
  49UP20100706,   P09,    46,  1,     17,     90,2,20100718,0502, 16.0102, 136.9763, 5045,   1343.6,   3.2318,   3.2320,2,  34.5609,2,  34.5612,2,     93.1,2,   122.63,2,    38.54,2,     0.00,2,     2.74,2,    0.035,2,    0.041,2,   2328.4,2,   2389.5,2,   7.4912,2,    25.00,  -999.00,9,  -999.00,9,   3.2320,2,      629
  49UP20100706,   P09,    46,  1,     16,     89,2,20100718,0502, 16.0102, 136.9763, 5045,   1596.5,   2.6498,   2.6495,2,  34.5908,2,  34.5913,2,    100.0,2,   132.55,2,    38.66,2,     0.00,2,     2.74,2,    0.000,3,    0.000,2,   2334.0,2,   2400.8,2,   7.4966,2,    25.00,  -999.00,9,  -999.00,9,   2.6495,2,      623
  49UP20100706,   P09,    46,  1,     15,     88,2,20100718,0502, 16.0102, 136.9763, 5045,   1851.0,   2.2942,   2.2949,2,  34.6127,2,  34.6126,2,    107.3,2,   138.33,2,    38.52,2,     0.00,2,     2.71,2,    0.000,3,    0.000,2,   2335.8,2,   2406.8,2,   7.5055,2,    25.00,  -999.00,9,  -999.00,9,   2.2949,2,      617
  49UP20100706,   P09,    46,  1,     14,     87,2,20100718,0502, 16.0102, 136.9763, 5045,   2104.1,   2.0383,   2.0382,2,  34.6297,2,  34.6299,2,    115.0,2,   142.40,2,    38.23,2,     0.00,2,     2.68,2,    0.037,4,    0.000,2,   2340.0,6,   2409.9,6,   7.5193,6,    25.00,  -999.00,9,  -999.00,9,   2.0382,2,      612
  49UP20100706,   P09,    46,  1,     13,     86,2,20100718,0502, 16.0102, 136.9763, 5045,   2356.9,   1.8808,   1.8809,2,  34.6441,2,  34.6444,6,    122.2,6,   144.04,6,    37.76,6,     0.00,6,     2.65,6,    0.000,2,    0.000,2,   2333.1,3,   2411.1,2,   7.5285,2,    25.00,  -999.00,9,  -999.00,9,   1.8809,2,      606
  49UP20100706,   P09,    46,  1,     12,     85,2,20100718,0502, 16.0102, 136.9763, 5045,   2612.1,   1.7766,   1.7764,2,  34.6529,2,  34.6531,6,    127.7,6,   145.14,6,    37.49,6,     0.00,6,     2.62,6,    0.000,4,    0.000,2,   2335.2,2,   2415.6,2,   7.5363,2,    25.00,  -999.00,9,  -999.00,9,   1.7764,2,      600
  49UP20100706,   P09,    46,  1,     11,    110,2,20100718,0502, 16.0102, 136.9763, 5045,   2866.9,   1.7098,   1.7098,2,  34.6603,2,  34.6606,6,    132.0,6,   145.44,6,    37.27,6,     0.00,6,     2.60,6, -999.000,9, -999.000,9,   2330.7,2,   2414.6,2,   7.5464,2,    25.00,  -999.00,9,  -999.00,9,   1.7098,2,      554
  49UP20100706,   P09,    46,  1,     10,     83,2,20100718,0502, 16.0102, 136.9763, 5045,   3121.0,   1.6461,   1.6462,2,  34.6673,2,  34.6676,6,    138.2,6,   144.92,6,    36.88,6,     0.00,6,     2.57,6,    0.063,4,    0.000,2,   2331.6,2,   2417.4,2,   7.5557,2,    25.00,  -999.00,9,  -999.00,9,   1.6462,2,      548
  49UP20100706,   P09,    46,  1,      9,     82,2,20100718,0502, 16.0102, 136.9763, 5045,   3377.3,   1.5966,   1.5967,2,  34.6727,2,  34.6725,2,    143.6,2,   143.95,2,    36.50,2,     0.00,2,     2.54,2, -999.000,9, -999.000,9,   2329.9,2,   2416.0,2,   7.5625,2,    25.00,  -999.00,9,  -999.00,9,   1.5967,2,      543
  49UP20100706,   P09,    46,  1,      8,     81,2,20100718,0502, 16.0102, 136.9763, 5045,   3632.9,   1.5628,   1.5628,2,  34.6771,2,  34.6768,2,    148.5,2,   142.69,2,    36.23,2,     0.00,2,     2.51,2, -999.000,9, -999.000,9,   2325.4,2,   2417.3,2,   7.5698,2,    25.00,  -999.00,9,  -999.00,9,   1.5628,2,      537
  49UP20100706,   P09,    46,  1,      7,     80,2,20100718,0502, 16.0102, 136.9763, 5045,   3888.5,   1.5303,   1.5304,2,  34.6816,2,  34.6813,2,    153.3,2,   141.40,2,    35.89,2,     0.00,2,     2.49,2, -999.000,9, -999.000,9,   2321.1,2,   2413.3,2,   7.5727,2,    25.00,  -999.00,9,  -999.00,9,   1.5304,2,      532
  49UP20100706,   P09,    46,  1,      6,     79,2,20100718,0502, 16.0102, 136.9763, 5045,   4144.8,   1.5126,   1.5134,2,  34.6848,2,  34.6844,2,    157.3,2,   140.33,2,    35.61,2,     0.00,2,     2.46,2,    0.044,4,    0.000,2,   2316.2,6,   2411.8,6,   7.5813,6,    25.00,  -999.00,9,  -999.00,9,   1.5134,2,      526
  49UP20100706,   P09,    46,  1,      5,     78,2,20100718,0502, 16.0102, 136.9763, 5045,   4401.1,   1.5124,   1.5126,2,  34.6868,2,  34.6868,2,    159.9,2,   139.58,2,    35.49,2,     0.00,2,     2.45,2, -999.000,9, -999.000,9,   2312.4,2,   2410.2,2,   7.5851,2,    25.00,  -999.00,9,  -999.00,9,   1.5126,2,      520
  49UP20100706,   P09,    46,  1,      4,     77,2,20100718,0502, 16.0102, 136.9763, 5045,   4658.4,   1.5334,   1.5335,2,  34.6875,2,  34.6877,2,    160.8,2,   139.31,2,    35.32,2,     0.00,2,     2.45,2, -999.000,9, -999.000,9,   2315.2,2,   2408.6,2,   7.5869,2,    25.00,  -999.00,9,  -999.00,9,   1.5335,2,      514
  49UP20100706,   P09,    46,  1,      3,     76,2,20100718,0502, 16.0102, 136.9763, 5045,   4914.7,   1.5595,   1.5595,2,  34.6878,2,  34.6880,2,    161.2,2,   139.06,2,    35.37,2,     0.00,2,     2.45,2, -999.000,9, -999.000,9,   2313.3,2,   2410.3,2,   7.5876,2,    25.00,  -999.00,9,  -999.00,9,   1.5595,2,      508
  49UP20100706,   P09,    46,  1,      2,     75,2,20100718,0502, 16.0102, 136.9763, 5045,   5128.7,   1.5853,   1.5852,2,  34.6878,2,  34.6882,2,    161.4,2,   139.04,2,    35.31,2,     0.00,2,     2.45,2, -999.000,9, -999.000,9,   2319.3,2,   2407.9,2,   7.5831,2,    25.00,  -999.00,9,  -999.00,9,   1.5852,2,      503
  49UP20100706,   P09,    46,  1,      1,     74,2,20100718,0502, 16.0102, 136.9763, 5045,   5129.1,   1.5854,   1.5854,2,  34.6877,2,  34.6873,2,    161.6,2,   138.99,2,    35.35,2,     0.00,2,     2.45,2,    0.000,2,    0.000,2,   2315.8,2,   2410.8,2,   7.5842,2,    25.00,  -999.00,9,  -999.00,9,   1.5854,2,      503