BOTTLE,20200625PRINUNIVRMK
EXPOCODE,SECT_ID,STNNBR,CASTNO,SAMPNO,BTLNBR,BTLNBR_FLAG_W,DATE,TIME,LATITUDE,LONGITUDE,DEPTH,CTDPRS,CTDTMP,SBE35,SBE35_FLAG_W,CTDSAL,CTDSAL_FLAG_W,SALNTY,SALNTY_FLAG_W,OXYGEN,OXYGEN_FLAG_W,SILCAT,SILCAT_FLAG_W,NITRAT,NITRAT_FLAG_W,NITRIT,NITRIT_FLAG_W,PHSPHT,PHSPHT_FLAG_W,CFC-11,CFC-11_FLAG_W,CFC-12,CFC-12_FLAG_W,TCARBN,TCARBN_FLAG_W,ALKALI,ALKALI_FLAG_W,PH_TOT,PH_TOT_FLAG_W,PH_TMP,CHLORA,CHLORA_FLAG_W,PPHYTN,PPHYTN_FLAG_W,SBE35,SBE35_FLAG_W,BTL_TIME
,,,,,,,,,,,METERS,DBAR,ITS-90,,,PSS-78,,PSS-78,,UMOL/KG,,UMOL/KG,,UMOL/KG,,UMOL/KG,,UMOL/KG,,PMOL/KG,,PMOL/KG,,UMOL/KG,,UMOL/KG,,,,DEG C,UG/KG,,UG/KG,,,,
  49UP20100706,   P09,    83,  1,      0,     -9,0,20100805,1719,  1.9910, 141.9842, 2555,      0.0,  29.9370,-999.0000,9,  34.4168,2,-999.0000,9,    192.5,2,     0.95,2,     0.00,2,     0.00,2,     0.11,2, -999.000,9, -999.000,9,   -999.0,9,   -999.0,9,-999.0000,9,  -999.00,     0.05,2,     0.02,2,-999.0000,9,     1835
  49UP20100706,   P09,    83,  1,     36,    109,2,20100805,1719,  1.9910, 141.9842, 2555,     10.5,  29.9456,  29.9449,2,  34.4157,2,  34.4141,2,    193.0,2,     0.92,2,     0.00,2,     0.00,2,     0.09,2,    1.521,2,    0.885,2,   1917.5,2,   2260.2,2,   8.1411,2,    25.00,     0.06,2,     0.02,2,  29.9449,2,     1859
  49UP20100706,   P09,    83,  1,     35,    108,2,20100805,1719,  1.9910, 141.9842, 2555,     25.9,  29.9475,  29.9463,2,  34.4160,2,  34.4171,2,    192.9,2,     0.86,2,     0.00,2,     0.00,2,     0.09,2,    1.544,2,    0.919,2,   1925.8,2,   2259.5,2,   8.1403,2,    25.00,     0.05,2,     0.02,2,  29.9463,2,     1858
  49UP20100706,   P09,    83,  1,     34,    107,2,20100805,1719,  1.9910, 141.9842, 2555,     49.8,  29.9260,  29.9243,2,  34.4915,2,  34.4969,2,    193.0,2,     0.89,2,     0.00,2,     0.00,2,     0.10,2,    1.546,2,    0.916,2,   1931.2,2,   2267.0,2,   8.1338,2,    25.00,     0.10,2,     0.04,2,  29.9243,2,     1855
  49UP20100706,   P09,    83,  1,     33,    106,2,20100805,1719,  1.9910, 141.9842, 2555,     75.0,  29.1869,  29.1866,2,  34.6456,2,  34.6437,2,    189.2,2,     1.14,2,     0.08,2,     0.07,2,     0.13,2,    1.574,2,    0.946,2,   1951.3,2,   2275.6,2,   8.1056,2,    25.00,     0.27,2,     0.19,2,  29.1866,2,     1854
  49UP20100706,   P09,    83,  1,     32,    105,2,20100805,1719,  1.9910, 141.9842, 2555,    103.6,  28.9533,  28.9528,2,  34.6582,2,  34.6546,2,    187.2,2,     1.17,2,     0.11,2,     0.08,2,     0.13,2,    1.582,2,    0.933,2,   1956.8,2,   2276.8,2,   8.1016,2,    25.00,     0.23,2,     0.23,2,  28.9528,2,     1852
  49UP20100706,   P09,    83,  1,     31,    104,2,20100805,1719,  1.9910, 141.9842, 2555,    129.9,  27.9655,  27.9585,2,  34.6491,2,  34.6442,2,    184.5,2,     1.32,2,     0.24,2,     0.16,2,     0.15,2,    1.611,2,    0.938,2,   1967.1,2,   2277.7,2,   8.0859,2,    25.00,     0.17,2,     0.25,2,  27.9585,2,     1850
  49UP20100706,   P09,    83,  1,     30,    103,2,20100805,1719,  1.9910, 141.9842, 2555,    152.5,  24.2245,  24.2385,2,  35.3419,2,  35.2826,4,    138.8,2,     3.25,2,     7.20,2,     0.03,2,     0.59,2,    1.794,2,    1.087,2,   2061.1,2,   2314.4,2,   7.9756,2,    25.00,     0.04,2,     0.14,2,  24.2385,2,     1849
  49UP20100706,   P09,    83,  1,     29,    102,4,20100805,1719,  1.9910, 141.9842, 2555,    202.8,  14.3527,  14.3543,2,  34.5711,2,-999.0000,9,   -999.0,9,  -999.00,9,     0.00,9,  -999.00,9,  -999.00,9, -999.000,9, -999.000,9,   -999.0,9,   -999.0,9,-999.0000,9,  -999.00,  -999.00,9,  -999.00,9,  14.3543,2,     1847
  49UP20100706,   P09,    83,  1,     28,    101,4,20100805,1719,  1.9910, 141.9842, 2555,    202.8,  14.3527,  14.3543,2,  34.5711,2,-999.0000,9,   -999.0,9,  -999.00,9,     0.00,9,  -999.00,9,  -999.00,9, -999.000,9, -999.000,9,   -999.0,9,   -999.0,9,-999.0000,9,  -999.00,  -999.00,9,  -999.00,9,  14.3543,2,     1847
  49UP20100706,   P09,    83,  1,     27,    100,2,20100805,1719,  1.9910, 141.9842, 2555,    253.2,   9.7249,   9.7250,2,  34.6384,2,  34.6499,4,    121.2,2,    29.90,2,    25.98,2,     0.00,2,     1.84,2,    1.126,2,    0.589,2,   2199.1,2,   2303.6,2,   7.6452,2,    25.00,  -999.00,9,  -999.00,9,   9.7250,2,     1845
  49UP20100706,   P09,    83,  1,     26,     99,2,20100805,1719,  1.9910, 141.9842, 2555,    325.5,   9.1640,   9.1647,2,  34.6725,2,  34.6726,2,    126.8,2,    24.08,2,    27.00,2,     0.00,2,     1.89,2,    0.992,6,    0.512,6,   2192.7,2,   2302.6,2,   7.6402,2,    25.00,  -999.00,9,  -999.00,9,   9.1647,2,     1842
  49UP20100706,   P09,    83,  1,     25,     98,2,20100805,1719,  1.9910, 141.9842, 2555,    374.2,   9.0186,   9.0186,2,  34.6625,2,  34.6616,2,    133.8,2,    23.31,2,    26.66,2,     0.00,2,     1.87,2,    1.051,2,    0.544,2,   2192.3,2,   2299.5,2,   7.6412,2,    25.00,  -999.00,9,  -999.00,9,   9.0186,2,     1840
  49UP20100706,   P09,    83,  1,     24,     97,2,20100805,1719,  1.9910, 141.9842, 2555,    424.7,   8.9047,   8.9044,2,  34.6547,2,  34.6536,2,    116.5,2,    26.65,2,    28.59,2,     0.00,2,     1.99,2,    0.838,2,    0.435,2,   2204.7,2,   2305.6,2,   7.6098,2,    25.00,  -999.00,9,  -999.00,9,   8.9044,2,     1836
  49UP20100706,   P09,    83,  1,     23,     96,2,20100805,1719,  1.9910, 141.9842, 2555,    475.5,   8.4980,   8.5020,2,  34.6259,2,  34.6262,2,    112.2,2,    29.96,2,    29.65,2,     0.00,2,     2.07,2,    0.712,2,    0.353,2,   2211.8,2,   2303.3,2,   7.5980,2,    25.00,  -999.00,9,  -999.00,9,   8.5020,2,     1832
  49UP20100706,   P09,    83,  1,     22,     95,2,20100805,1719,  1.9910, 141.9842, 2555,    535.8,   8.0546,   8.0547,2,  34.5940,2,  34.5933,2,    117.8,2,    33.28,2,    30.09,2,     0.00,2,     2.11,2,    0.612,2,    0.316,2,   2216.5,2,   2303.8,2,   7.5946,2,    25.00,  -999.00,9,  -999.00,9,   8.0547,2,     1830
  49UP20100706,   P09,    83,  1,     21,     94,2,20100805,1719,  1.9910, 141.9842, 2555,    636.0,   7.1033,   7.1045,2,  34.5531,2,  34.5529,6,    115.8,6,    40.46,6,    32.02,6,     0.00,6,     2.25,6,    0.435,6,    0.220,6,   2228.3,2,   2313.4,2,   7.5692,2,    25.00,  -999.00,9,  -999.00,9,   7.1045,2,     1827
  49UP20100706,   P09,    83,  1,     20,     93,2,20100805,1719,  1.9910, 141.9842, 2555,    737.6,   6.1429,   6.1454,2,  34.5369,2,  34.5358,6,     90.6,6,    57.49,6,    35.92,6,     0.00,6,     2.55,6,    0.131,3,    0.081,3,   2255.9,2,   2325.2,2,   7.5117,2,    25.00,  -999.00,9,  -999.00,9,   6.1454,2,     1824
  49UP20100706,   P09,    83,  1,     19,     92,2,20100805,1719,  1.9910, 141.9842, 2555,    837.0,   5.3572,   5.3563,2,  34.5389,2,  34.5391,6,     93.3,6,    69.12,6,    36.93,6,     0.00,6,     2.62,6,    0.069,2,    0.037,2,   2269.7,2,   2338.6,2,   7.5080,2,    25.00,  -999.00,9,  -999.00,9,   5.3563,2,     1821
  49UP20100706,   P09,    83,  1,     18,     91,2,20100805,1719,  1.9910, 141.9842, 2555,    937.5,   4.9317,   4.9317,2,  34.5468,2,  34.5461,6,     92.3,6,    78.82,6,    37.49,6,     0.00,6,     2.67,6,    0.018,2,    0.035,2,   2289.9,2,   2351.0,2,   7.5022,2,    25.00,  -999.00,9,  -999.00,9,   4.9317,2,     1815
  49UP20100706,   P09,    83,  1,     17,     90,2,20100805,1719,  1.9910, 141.9842, 2555,   1089.3,   4.2907,   4.2944,2,  34.5620,2,  34.5612,2,     94.4,2,    92.23,2,    37.90,2,     0.00,2,     2.70,2,    0.020,2,    0.001,2,   2305.3,2,   2359.6,2,   7.5038,2,    25.00,  -999.00,9,  -999.00,9,   4.2944,2,     1805
  49UP20100706,   P09,    83,  1,     16,     89,2,20100805,1719,  1.9910, 141.9842, 2555,   1340.8,   3.3299,   3.3310,2,  34.5892,2,  34.5887,2,     98.9,2,   112.29,2,    38.47,2,     0.00,2,     2.73,2,    0.000,2,    0.000,2,   2317.9,2,   2379.3,2,   7.5057,6,    25.00,  -999.00,9,  -999.00,9,   3.3310,2,     1759
  49UP20100706,   P09,    83,  1,     15,     88,2,20100805,1719,  1.9910, 141.9842, 2555,   1340.8,   3.3299,   3.3310,2,  34.5892,2,  34.5889,2,     99.0,2,   112.22,2,    38.48,2,     0.00,2,     2.73,2,    0.000,2,    0.000,2,   2320.3,2,   2376.7,2,   7.5070,2,    25.00,  -999.00,9,  -999.00,9,   3.3310,2,     1759
  49UP20100706,   P09,    83,  1,     14,     87,2,20100805,1719,  1.9910, 141.9842, 2555,   1593.7,   2.7892,   2.7900,2,  34.6096,2,  34.6089,2,    104.5,2,   124.04,2,    38.50,2,     0.00,2,     2.73,2, -999.000,9, -999.000,9,   2336.8,2,   2395.5,6,   7.5125,6,    25.00,  -999.00,9,  -999.00,9,   2.7900,2,     1744
  49UP20100706,   P09,    83,  1,     13,     86,2,20100805,1719,  1.9910, 141.9842, 2555,   1593.7,   2.7892,   2.7900,2,  34.6096,2,  34.6077,4,    104.6,2,   123.90,2,    38.46,2,     0.00,2,     2.72,2,    0.000,2,    0.000,2,   2333.9,2,   2396.2,2,   7.5073,2,    25.00,  -999.00,9,  -999.00,9,   2.7900,2,     1744
  49UP20100706,   P09,    83,  1,     12,     85,2,20100805,1719,  1.9910, 141.9842, 2555,   1849.2,   2.3292,   2.3298,2,  34.6306,2,  34.6288,4,    115.2,2,   132.40,2,    37.99,2,     0.00,2,     2.67,2,    0.000,2,    0.000,2,   2328.2,3,   2405.5,2,   7.5288,2,    25.00,  -999.00,9,  -999.00,9,   2.3298,2,     1739
  49UP20100706,   P09,    83,  1,     11,    110,2,20100805,1719,  1.9910, 141.9842, 2555,   2100.8,   2.1254,   2.1251,2,  34.6412,2,  34.6402,2,    119.8,2,   136.43,2,    37.83,2,     0.00,2,     2.65,2,    0.000,2,    0.000,2,   2335.1,2,   2408.8,2,   7.5377,2,    25.00,  -999.00,9,  -999.00,9,   2.1251,2,     1733
  49UP20100706,   P09,    83,  1,     10,     83,2,20100805,1719,  1.9910, 141.9842, 2555,   2358.5,   1.9044,   1.9042,2,  34.6531,2,  34.6531,2,    125.6,2,   140.84,2,    37.51,2,     0.00,2,     2.63,2, -999.000,9, -999.000,9,   2340.6,2,   2417.1,6,   7.5416,6,    25.00,  -999.00,9,  -999.00,9,   1.9042,2,     1727
  49UP20100706,   P09,    83,  1,      9,     82,2,20100805,1719,  1.9910, 141.9842, 2555,   2358.5,   1.9044,   1.9042,2,  34.6531,2,  34.6537,2,    125.6,2,   141.13,2,    37.55,2,     0.00,2,     2.63,2,    0.000,2,    0.000,2,   2338.2,2,   2416.2,2,   7.5427,2,    25.00,  -999.00,9,  -999.00,9,   1.9042,2,     1727
  49UP20100706,   P09,    83,  1,      1,     74,2,20100805,1719,  1.9910, 141.9842, 2555,   2573.8,   1.7185,   1.7182,2,  34.6635,2,  34.6637,2,    134.1,2,   142.42,2,    36.97,2,     0.00,2,     2.58,2,    0.000,2,    0.000,2,   2328.7,3,   2412.3,2,   7.5578,2,    25.00,  -999.00,9,  -999.00,9,   1.7182,2,     1719
  49UP20100706,   P09,   106,  1,      0,     -9,0,20100806,0054,  2.1027, 141.4927, 2383,      0.0,  29.9245,-999.0000,9,  34.4380,2,-999.0000,9,    192.0,2,     0.90,2,     0.02,2,     0.00,2,     0.10,2, -999.000,9, -999.000,9,   -999.0,9,   -999.0,9,-999.0000,9,  -999.00,  -999.00,9,  -999.00,9,-999.0000,9,      143
  49UP20100706,   P09,   106,  1,     36,    109,2,20100806,0054,  2.1027, 141.4927, 2383,     11.1,  29.9177,  29.9192,2,  34.4391,2,  34.4375,2,    193.1,2,     0.96,2,     0.01,2,     0.00,2,     0.10,2, -999.000,9, -999.000,9,   -999.0,9,   -999.0,9,-999.0000,9,  -999.00,  -999.00,9,  -999.00,9,  29.9192,2,      215
  49UP20100706,   P09,   106,  1,     35,    108,2,20100806,0054,  2.1027, 141.4927, 2383,     25.5,  29.9118,  29.9114,2,  34.4690,2,  34.4617,4,    193.2,2,     0.88,2,     0.00,2,     0.00,2,     0.10,2, -999.000,9, -999.000,9,   -999.0,9,   -999.0,9,-999.0000,9,  -999.00,  -999.00,9,  -999.00,9,  29.9114,2,      214
  49UP20100706,   P09,   106,  1,     34,    107,2,20100806,0054,  2.1027, 141.4927, 2383,     51.2,  29.8161,  29.8167,2,  34.5823,2,  34.5762,4,    192.4,2,     0.99,2,     0.01,2,     0.00,2,     0.11,2, -999.000,9, -999.000,9,   -999.0,9,   -999.0,9,-999.0000,9,  -999.00,  -999.00,9,  -999.00,9,  29.8167,2,      210
  49UP20100706,   P09,   106,  1,     33,    106,2,20100806,0054,  2.1027, 141.4927, 2383,     75.9,  29.3938,  29.3957,2,  34.6835,2,  34.6907,4,    189.9,2,     1.17,2,     0.08,2,     0.07,2,     0.13,2, -999.000,9, -999.000,9,   -999.0,9,   -999.0,9,-999.0000,9,  -999.00,  -999.00,9,  -999.00,9,  29.3957,2,      208
  49UP20100706,   P09,   106,  1,     32,    105,2,20100806,0054,  2.1027, 141.4927, 2383,     75.9,  29.3938,  29.3957,2,  34.6835,2,  34.6912,4,    190.0,2,     1.32,2,     0.11,2,     0.07,2,     0.14,2, -999.000,9, -999.000,9,   -999.0,9,   -999.0,9,-999.0000,9,  -999.00,  -999.00,9,  -999.00,9,  29.3957,2,      208
  49UP20100706,   P09,   106,  1,     31,    104,2,20100806,0054,  2.1027, 141.4927, 2383,    101.5,  28.9312,  28.9310,2,  34.6624,2,  34.6667,2,    186.4,2,     1.41,2,     0.24,2,     0.19,2,     0.15,2, -999.000,9, -999.000,9,   -999.0,9,   -999.0,9,-999.0000,9,  -999.00,  -999.00,9,  -999.00,9,  28.9310,2,      206
  49UP20100706,   P09,   106,  1,     30,    103,2,20100806,0054,  2.1027, 141.4927, 2383,    127.0,  25.8126,  25.8039,2,  34.7903,2,  34.7884,2,    158.0,2,     3.49,2,     4.42,2,     0.08,2,     0.40,2, -999.000,9, -999.000,9,   -999.0,9,   -999.0,9,-999.0000,9,  -999.00,  -999.00,9,  -999.00,9,  25.8039,2,      204
  49UP20100706,   P09,   106,  1,     29,    102,2,20100806,0054,  2.1027, 141.4927, 2383,    152.9,  21.7018,  21.7036,2,  34.9745,2,  34.9753,2,    144.4,2,     5.50,2,     7.50,2,     0.02,2,     0.63,2, -999.000,9, -999.000,9,   -999.0,9,   -999.0,9,-999.0000,9,  -999.00,  -999.00,9,  -999.00,9,  21.7036,2,      202
  49UP20100706,   P09,   106,  1,     28,    101,2,20100806,0054,  2.1027, 141.4927, 2383,    203.7,  15.9673,  16.0485,2,  34.6683,2,  34.7155,4,    138.8,2,    11.58,2,    12.85,2,     0.01,2,     0.96,2, -999.000,9, -999.000,9,   -999.0,9,   -999.0,9,-999.0000,9,  -999.00,  -999.00,9,  -999.00,9,  16.0485,2,      200
  49UP20100706,   P09,   106,  1,     27,    100,2,20100806,0054,  2.1027, 141.4927, 2383,    252.0,   9.4748,   9.4768,2,  34.4571,2,  34.4572,2,    107.6,2,    35.52,2,    26.98,2,     0.00,2,     1.94,2, -999.000,9, -999.000,9,   -999.0,9,   -999.0,9,-999.0000,9,  -999.00,  -999.00,9,  -999.00,9,   9.4768,2,      158
  49UP20100706,   P09,   106,  1,     26,     99,2,20100806,0054,  2.1027, 141.4927, 2383,    323.1,   9.1346,   9.1348,2,  34.6652,2,  34.6647,2,    127.1,2,    25.11,2,    27.06,2,     0.00,2,     1.90,2, -999.000,9, -999.000,9,   -999.0,9,   -999.0,9,-999.0000,9,  -999.00,  -999.00,9,  -999.00,9,   9.1348,2,      156
  49UP20100706,   P09,   106,  1,     25,     98,2,20100806,0054,  2.1027, 141.4927, 2383,    372.8,   9.0803,   9.0799,2,  34.6659,2,  34.6650,6,    114.9,6,    26.49,6,    28.47,6,     0.00,6,     1.99,6, -999.000,9, -999.000,9,   -999.0,9,   -999.0,9,-999.0000,9,  -999.00,  -999.00,9,  -999.00,9,   9.0799,2,      154
  49UP20100706,   P09,   106,  1,     24,     97,2,20100806,0054,  2.1027, 141.4927, 2383,    423.6,   8.5684,   8.5687,2,  34.6318,2,  34.6319,2,    112.8,2,    29.36,2,    29.61,2,     0.00,2,     2.07,2, -999.000,9, -999.000,9,   -999.0,9,   -999.0,9,-999.0000,9,  -999.00,  -999.00,9,  -999.00,9,   8.5687,2,      152
  49UP20100706,   P09,   106,  1,     23,     96,2,20100806,0054,  2.1027, 141.4927, 2383,    423.6,   8.5684,   8.5687,2,  34.6318,2,  34.6322,6,    113.1,6,    29.52,6,    29.69,6,     0.00,6,     2.08,6, -999.000,9, -999.000,9,   -999.0,9,   -999.0,9,-999.0000,9,  -999.00,  -999.00,9,  -999.00,9,   8.5687,2,      152
  49UP20100706,   P09,   106,  1,     22,     95,2,20100806,0054,  2.1027, 141.4927, 2383,    474.1,   8.1305,   8.1308,2,  34.6069,2,  34.6068,6,    118.5,6,    30.74,6,    29.99,6,     0.00,6,     2.10,6, -999.000,9, -999.000,9,   -999.0,9,   -999.0,9,-999.0000,9,  -999.00,  -999.00,9,  -999.00,9,   8.1308,2,      150
  49UP20100706,   P09,   106,  1,     21,     94,2,20100806,0054,  2.1027, 141.4927, 2383,    534.3,   7.8992,   7.8996,2,  34.5907,2,  34.5909,6,    121.7,6,    32.48,6,    30.14,6,     0.00,6,     2.12,6, -999.000,9, -999.000,9,   -999.0,9,   -999.0,9,-999.0000,9,  -999.00,  -999.00,9,  -999.00,9,   7.8996,2,      147
  49UP20100706,   P09,   106,  1,     20,     93,2,20100806,0054,  2.1027, 141.4927, 2383,    635.5,   7.1106,   7.1106,2,  34.5539,2,  34.5536,2,    132.7,2,    36.24,2,    30.64,2,     0.00,2,     2.15,2, -999.000,9, -999.000,9,   -999.0,9,   -999.0,9,-999.0000,9,  -999.00,  -999.00,9,  -999.00,9,   7.1106,2,      144
  49UP20100706,   P09,   106,  1,     19,     92,2,20100806,0054,  2.1027, 141.4927, 2383,    635.5,   7.1106,   7.1106,2,  34.5539,2,  34.5527,2,    132.0,2,    36.14,2,    30.70,2,     0.00,2,     2.15,2, -999.000,9, -999.000,9,   -999.0,9,   -999.0,9,-999.0000,9,  -999.00,  -999.00,9,  -999.00,9,   7.1106,2,      144
  49UP20100706,   P09,   106,  1,     18,     91,2,20100806,0054,  2.1027, 141.4927, 2383,    737.5,   6.3633,   6.3646,2,  34.5375,2,  34.5377,2,     95.8,2,    53.53,2,    35.18,2,     0.00,2,     2.49,2, -999.000,9, -999.000,9,   -999.0,9,   -999.0,9,-999.0000,9,  -999.00,  -999.00,9,  -999.00,9,   6.3646,2,      141
  49UP20100706,   P09,   106,  1,     17,     90,2,20100806,0054,  2.1027, 141.4927, 2383,    838.6,   5.5055,   5.5061,2,  34.5374,2,  34.5373,2,     93.1,2,    66.69,2,    36.89,2,     0.00,2,     2.62,2, -999.000,9, -999.000,9,   -999.0,9,   -999.0,9,-999.0000,9,  -999.00,  -999.00,9,  -999.00,9,   5.5061,2,      138
  49UP20100706,   P09,   106,  1,     16,     89,2,20100806,0054,  2.1027, 141.4927, 2383,    938.8,   4.8556,   4.8555,2,  34.5480,2,  34.5469,2,     91.7,2,    80.65,2,    37.70,2,     0.00,2,     2.68,2, -999.000,9, -999.000,9,   -999.0,9,   -999.0,9,-999.0000,9,  -999.00,  -999.00,9,  -999.00,9,   4.8555,2,      135
  49UP20100706,   P09,   106,  1,     15,     88,2,20100806,0054,  2.1027, 141.4927, 2383,   1089.1,   4.2264,   4.2266,2,  34.5626,2,  34.5622,2,     93.3,2,    94.15,2,    38.18,2,     0.00,2,     2.72,2, -999.000,9, -999.000,9,   -999.0,9,   -999.0,9,-999.0000,9,  -999.00,  -999.00,9,  -999.00,9,   4.2266,2,      130
  49UP20100706,   P09,   106,  1,     14,     87,2,20100806,0054,  2.1027, 141.4927, 2383,   1345.0,   3.4517,   3.4524,2,  34.5851,2,  34.5847,2,     96.8,2,   110.52,2,    38.65,2,     0.00,2,     2.74,2, -999.000,9, -999.000,9,   -999.0,9,   -999.0,9,-999.0000,9,  -999.00,  -999.00,9,  -999.00,9,   3.4524,2,      124
  49UP20100706,   P09,   106,  1,     13,     86,2,20100806,0054,  2.1027, 141.4927, 2383,   1594.8,   2.8596,   2.8594,2,  34.6069,2,  34.6067,2,    103.0,2,   122.91,2,    38.69,2,     0.00,2,     2.74,2, -999.000,9, -999.000,9,   -999.0,9,   -999.0,9,-999.0000,9,  -999.00,  -999.00,9,  -999.00,9,   2.8594,2,      118
  49UP20100706,   P09,   106,  1,     12,     85,2,20100806,0054,  2.1027, 141.4927, 2383,   1846.5,   2.2786,   2.2786,2,  34.6328,2,  34.6330,2,    116.3,2,   133.35,2,    38.00,2,     0.00,2,     2.67,2, -999.000,9, -999.000,9,   -999.0,9,   -999.0,9,-999.0000,9,  -999.00,  -999.00,9,  -999.00,9,   2.2786,2,      113
  49UP20100706,   P09,   106,  1,     11,    110,2,20100806,0054,  2.1027, 141.4927, 2383,   1846.5,   2.2786,   2.2786,2,  34.6328,2,  34.6325,2,    116.1,2,   133.55,2,    37.98,2,     0.00,2,     2.68,2, -999.000,9, -999.000,9,   -999.0,9,   -999.0,9,-999.0000,9,  -999.00,  -999.00,9,  -999.00,9,   2.2786,2,      113
  49UP20100706,   P09,   106,  1,     10,     83,2,20100806,0054,  2.1027, 141.4927, 2383,   2100.2,   2.0400,   2.0398,2,  34.6453,2,  34.6449,2,    122.4,2,   138.25,2,    37.70,2,     0.00,2,     2.64,2, -999.000,9, -999.000,9,   -999.0,9,   -999.0,9,-999.0000,9,  -999.00,  -999.00,9,  -999.00,9,   2.0398,2,      108
  49UP20100706,   P09,   106,  1,      9,     82,2,20100806,0054,  2.1027, 141.4927, 2383,   2355.7,   1.8316,   1.8312,2,  34.6570,2,  34.6573,2,    128.3,2,   142.62,2,    37.46,2,     0.00,2,     2.62,2, -999.000,9, -999.000,9,   -999.0,9,   -999.0,9,-999.0000,9,  -999.00,  -999.00,9,  -999.00,9,   1.8312,2,      100
  49UP20100706,   P09,   106,  1,      1,     74,2,20100806,0054,  2.1027, 141.4927, 2383,   2468.9,   1.7527,   1.7525,2,  34.6616,2,  34.6615,2,    131.8,2,   142.90,2,    37.18,2,     0.00,2,     2.59,2, -999.000,9, -999.000,9,   -999.0,9,   -999.0,9,-999.0000,9,  -999.00,  -999.00,9,  -999.00,9,   1.7525,2,       55