BOTTLE,20200625PRINUNIVRMK
EXPOCODE,SECT_ID,STNNBR,CASTNO,SAMPNO,BTLNBR,BTLNBR_FLAG_W,DATE,TIME,LATITUDE,LONGITUDE,DEPTH,CTDPRS,CTDTMP,SBE35,SBE35_FLAG_W,CTDSAL,CTDSAL_FLAG_W,SALNTY,SALNTY_FLAG_W,OXYGEN,OXYGEN_FLAG_W,SILCAT,SILCAT_FLAG_W,NITRAT,NITRAT_FLAG_W,NITRIT,NITRIT_FLAG_W,PHSPHT,PHSPHT_FLAG_W,CFC-11,CFC-11_FLAG_W,CFC-12,CFC-12_FLAG_W,TCARBN,TCARBN_FLAG_W,ALKALI,ALKALI_FLAG_W,PH_TOT,PH_TOT_FLAG_W,PH_TMP,CHLORA,CHLORA_FLAG_W,PPHYTN,PPHYTN_FLAG_W,SBE35,SBE35_FLAG_W,BTL_TIME
,,,,,,,,,,,METERS,DBAR,ITS-90,,,PSS-78,,PSS-78,,UMOL/KG,,UMOL/KG,,UMOL/KG,,UMOL/KG,,UMOL/KG,,PMOL/KG,,PMOL/KG,,UMOL/KG,,UMOL/KG,,,,DEG C,UG/KG,,UG/KG,,,,
  49UP20100706,   P09,    95,  1,      0,     -9,0,20100808,1337, -1.0023, 141.9802, 2985,      0.0,  29.9300,-999.0000,9,  35.0245,2,-999.0000,9,    192.1,2,     0.97,2,     0.03,2,     0.00,2,     0.17,2, -999.000,9, -999.000,9,   -999.0,9,   -999.0,9,-999.0000,9,  -999.00,     0.17,2,     0.07,2,-999.0000,9,     1438
  49UP20100706,   P09,    95,  1,     36,    109,2,20100808,1337, -1.0023, 141.9802, 2985,     10.9,  29.7735,  29.7652,2,  35.0851,2,  35.0999,4,    194.3,2,     0.72,2,     0.02,2,     0.00,2,     0.17,2, -999.000,9, -999.000,9,   1959.4,3,   2307.7,2,   8.1219,2,    25.00,     0.15,2,     0.04,2,  29.7652,2,     1513
  49UP20100706,   P09,    95,  1,     35,    108,2,20100808,1337, -1.0023, 141.9802, 2985,     26.0,  29.5177,  29.5178,2,  35.1130,2,  35.1106,2,    193.6,2,     0.84,2,     0.02,2,     0.00,2,     0.16,2, -999.000,9, -999.000,9,   1966.8,3,   2309.2,2,   8.1176,2,    25.00,     0.15,2,     0.06,2,  29.5178,2,     1512
  49UP20100706,   P09,    95,  1,     34,    107,2,20100808,1337, -1.0023, 141.9802, 2985,     50.7,  29.4192,  29.4187,2,  35.1061,2,  35.1039,2,    191.5,2,     0.96,2,     0.09,2,     0.05,2,     0.18,2, -999.000,9, -999.000,9,   1965.2,3,   2308.9,2,   8.1175,2,    25.00,     0.34,2,     0.13,2,  29.4187,2,     1509
  49UP20100706,   P09,    95,  1,     33,    106,2,20100808,1337, -1.0023, 141.9802, 2985,     75.8,  29.3398,  29.3389,2,  35.1397,2,  35.1363,2,    186.8,2,     1.13,2,     0.39,2,     0.15,2,     0.21,2, -999.000,9, -999.000,9,   1975.4,3,   2309.3,2,   8.1103,2,    25.00,     0.42,2,     0.18,2,  29.3389,2,     1507
  49UP20100706,   P09,    95,  1,     32,    105,2,20100808,1337, -1.0023, 141.9802, 2985,    101.1,  29.0828,  29.0807,2,  35.1747,2,  35.1747,2,    181.1,2,     1.29,2,     0.85,2,     0.30,2,     0.25,2, -999.000,9, -999.000,9,   1986.9,2,   2312.9,2,   8.0988,2,    25.00,     0.19,2,     0.11,2,  29.0807,2,     1506
  49UP20100706,   P09,    95,  1,     31,    104,2,20100808,1337, -1.0023, 141.9802, 2985,    126.3,  25.3478,  25.3463,2,  35.3743,2,  35.3980,4,    138.7,2,     2.45,2,     6.68,2,     0.03,2,     0.57,2, -999.000,9, -999.000,9,   2057.9,2,   2318.3,2,   7.9820,2,    25.00,     0.03,2,     0.10,2,  25.3463,2,     1504
  49UP20100706,   P09,    95,  1,     30,    103,2,20100808,1337, -1.0023, 141.9802, 2985,    151.3,  22.7590,  22.7628,2,  35.6395,2,  35.6380,2,    140.1,2,     2.53,2,     7.55,2,     0.02,2,     0.65,2, -999.000,9, -999.000,9,   2093.7,2,   2339.8,2,   7.9480,2,    25.00,     0.01,2,     0.04,2,  22.7628,2,     1503
  49UP20100706,   P09,    95,  1,     29,    102,2,20100808,1337, -1.0023, 141.9802, 2985,    202.0,  17.9495,  17.9559,2,  35.4143,2,  35.4230,4,    140.6,2,     5.35,2,    11.66,2,     0.02,2,     0.92,2, -999.000,9, -999.000,9,   2129.1,2,   2327.5,2,   7.8662,2,    25.00,     0.00,2,     0.03,2,  17.9559,2,     1501
  49UP20100706,   P09,    95,  1,     28,    101,2,20100808,1337, -1.0023, 141.9802, 2985,    252.6,  16.0588,  16.0583,2,  35.2641,2,  35.2636,2,    144.4,2,     7.50,2,    13.85,2,     0.01,2,     1.05,2, -999.000,9, -999.000,9,   2136.6,6,   2321.1,6,   7.8261,6,    25.00,  -999.00,9,  -999.00,9,  16.0583,2,     1458
  49UP20100706,   P09,    95,  1,     27,    100,2,20100808,1337, -1.0023, 141.9802, 2985,    252.6,  16.0588,  16.0583,2,  35.2641,2,  35.2632,2,    145.2,4,     7.26,2,    13.83,2,     0.01,2,     1.05,2, -999.000,9, -999.000,9,   2134.3,2,   2321.7,2,   7.8255,2,    25.00,  -999.00,9,  -999.00,9,  16.0583,2,     1458
  49UP20100706,   P09,    95,  1,     26,     99,2,20100808,1337, -1.0023, 141.9802, 2985,    323.0,  10.8690,  10.8694,2,  34.8032,2,  34.8049,2,    127.9,2,    20.20,2,    23.73,2,     0.01,2,     1.67,2, -999.000,9, -999.000,9,   2179.0,2,   2304.9,2,   7.6855,2,    25.00,  -999.00,9,  -999.00,9,  10.8694,2,     1455
  49UP20100706,   P09,    95,  1,     25,     98,2,20100808,1337, -1.0023, 141.9802, 2985,    373.4,  10.3766,  10.3763,2,  34.7589,2,  34.7578,2,    121.4,2,    22.70,2,    25.41,2,     0.00,2,     1.78,2, -999.000,9, -999.000,9,   2194.1,2,   2304.5,2,   7.6536,2,    25.00,  -999.00,9,  -999.00,9,  10.3763,2,     1452
  49UP20100706,   P09,    95,  1,     24,     97,2,20100808,1337, -1.0023, 141.9802, 2985,    424.1,   9.8500,   9.8564,2,  34.7260,2,  34.7300,6,    140.1,6,    20.23,6,    24.52,6,     0.00,6,     1.72,6, -999.000,9, -999.000,9,   2183.8,2,   2302.9,2,   7.6755,2,    25.00,  -999.00,9,  -999.00,9,   9.8564,2,     1447
  49UP20100706,   P09,    95,  1,     23,     96,2,20100808,1337, -1.0023, 141.9802, 2985,    474.1,   8.6372,   8.6459,2,  34.6339,2,  34.6372,6,    162.4,6,    20.90,6,    24.85,6,     0.00,6,     1.73,6, -999.000,9, -999.000,9,   2178.4,2,   2298.6,2,   7.6743,2,    25.00,  -999.00,9,  -999.00,9,   8.6459,2,     1445
  49UP20100706,   P09,    95,  1,     22,     95,2,20100808,1337, -1.0023, 141.9802, 2985,    534.5,   7.4072,   7.4146,2,  34.5638,2,  34.5667,6,    143.6,6,    31.97,6,    29.16,6,     0.00,6,     2.03,6, -999.000,9, -999.000,9,   2203.1,2,   2305.5,2,   7.6257,2,    25.00,  -999.00,9,  -999.00,9,   7.4146,2,     1442
  49UP20100706,   P09,    95,  1,     21,     94,2,20100808,1337, -1.0023, 141.9802, 2985,    635.6,   6.3931,   6.3988,2,  34.5356,2,  34.5356,6,    118.0,6,    47.04,6,    33.56,6,     0.00,6,     2.35,6, -999.000,9, -999.000,9,   2238.3,2,   2316.1,2,   7.5574,2,    25.00,  -999.00,9,  -999.00,9,   6.3988,2,     1439
  49UP20100706,   P09,    95,  1,     20,     93,2,20100808,1337, -1.0023, 141.9802, 2985,    736.3,   5.7830,   5.7868,2,  34.5211,2,  34.5208,2,    127.4,2,    52.66,2,    33.66,2,     0.00,2,     2.36,2, -999.000,9, -999.000,9,   2243.4,2,   2320.1,2,   7.5650,2,    25.00,  -999.00,9,  -999.00,9,   5.7868,2,     1435
  49UP20100706,   P09,    95,  1,     19,     92,2,20100808,1337, -1.0023, 141.9802, 2985,    837.4,   5.2592,   5.2670,2,  34.5334,2,  34.5335,2,    109.7,2,    65.75,2,    36.01,2,     0.00,2,     2.53,2, -999.000,9, -999.000,9,   2259.5,2,   2333.3,2,   7.5323,2,    25.00,  -999.00,9,  -999.00,9,   5.2670,2,     1432
  49UP20100706,   P09,    95,  1,     18,     91,2,20100808,1337, -1.0023, 141.9802, 2985,    938.2,   4.7960,   4.7971,2,  34.5420,2,  34.5428,2,    104.2,2,    77.02,2,    37.20,2,     0.00,2,     2.61,2, -999.000,9, -999.000,9,   2285.2,2,   2342.1,2,   7.5192,2,    25.00,  -999.00,9,  -999.00,9,   4.7971,2,     1429
  49UP20100706,   P09,    95,  1,     17,     90,2,20100808,1337, -1.0023, 141.9802, 2985,   1090.9,   4.2730,   4.2733,2,  34.5548,2,  34.5545,2,    105.0,2,    88.46,2,    37.64,2,     0.00,2,     2.65,2, -999.000,9, -999.000,9,   2298.6,2,   2357.6,2,   7.5150,2,    25.00,  -999.00,9,  -999.00,9,   4.2733,2,     1425
  49UP20100706,   P09,    95,  1,     16,     89,2,20100808,1337, -1.0023, 141.9802, 2985,   1342.9,   3.3794,   3.3795,2,  34.5851,2,  34.5854,2,    106.8,3,   108.89,2,    38.30,2,     0.00,2,     2.71,2, -999.000,9, -999.000,9,   2313.9,6,   2377.7,6,   7.5126,6,    25.00,  -999.00,9,  -999.00,9,   3.3795,2,     1418
  49UP20100706,   P09,    95,  1,     15,     88,2,20100808,1337, -1.0023, 141.9802, 2985,   1342.9,   3.3794,   3.3795,2,  34.5851,2,  34.5853,2,    105.7,2,   108.17,2,    38.40,2,     0.00,2,     2.71,2, -999.000,9, -999.000,9,   2316.9,2,   2379.2,2,   7.5129,2,    25.00,  -999.00,9,  -999.00,9,   3.3795,2,     1418
  49UP20100706,   P09,    95,  1,     14,     87,2,20100808,1337, -1.0023, 141.9802, 2985,   1596.8,   2.7964,   2.7976,2,  34.6099,2,  34.6102,2,    110.5,2,   121.97,2,    38.32,2,     0.00,2,     2.69,2, -999.000,9, -999.000,9,   2326.2,6,   2393.7,6,   7.5184,6,    25.00,  -999.00,9,  -999.00,9,   2.7976,2,     1412
  49UP20100706,   P09,    95,  1,     13,     86,2,20100808,1337, -1.0023, 141.9802, 2985,   1596.8,   2.7964,   2.7976,2,  34.6099,2,  34.6111,2,    110.5,2,   121.07,2,    38.32,2,     0.00,2,     2.69,2, -999.000,9, -999.000,9,   2325.1,2,   2394.3,2,   7.5187,2,    25.00,  -999.00,9,  -999.00,9,   2.7976,2,     1412
  49UP20100706,   P09,    95,  1,     12,     85,2,20100808,1337, -1.0023, 141.9802, 2985,   1851.2,   2.4815,   2.4818,2,  34.6251,2,  34.6258,2,    115.1,2,   128.69,2,    38.11,2,     0.00,2,     2.67,2, -999.000,9, -999.000,9,   2337.0,2,   2398.0,2,   7.5272,2,    25.00,  -999.00,9,  -999.00,9,   2.4818,2,     1406
  49UP20100706,   P09,    95,  1,     11,    110,2,20100808,1337, -1.0023, 141.9802, 2985,   2106.4,   2.1024,   2.1040,2,  34.6434,2,  34.6433,2,    121.7,2,   136.45,2,    37.82,2,     0.00,2,     2.64,2, -999.000,9, -999.000,9,   2344.3,2,   2412.0,2,   7.5344,2,    25.00,  -999.00,9,  -999.00,9,   2.1040,2,     1400
  49UP20100706,   P09,    95,  1,     10,     83,2,20100808,1337, -1.0023, 141.9802, 2985,   2357.9,   1.8427,   1.8428,2,  34.6561,2,  34.6564,2,    129.8,2,   141.45,2,    37.38,2,     0.00,2,     2.60,2, -999.000,9, -999.000,9,   2341.0,2,   2414.3,2,   7.5480,2,    25.00,  -999.00,9,  -999.00,9,   1.8428,2,     1354
  49UP20100706,   P09,    95,  1,      9,     82,2,20100808,1337, -1.0023, 141.9802, 2985,   2611.5,   1.7078,   1.7082,2,  34.6642,2,  34.6563,4,    129.9,4,   141.18,4,    37.37,4,     0.00,4,     2.60,4, -999.000,9, -999.000,9,   2335.6,3,   2415.3,2,   7.5484,3,    25.00,  -999.00,9,  -999.00,9,   1.7082,2,     1348
  49UP20100706,   P09,    95,  1,      8,     81,2,20100808,1337, -1.0023, 141.9802, 2985,   2864.6,   1.6256,   1.6255,2,  34.6696,2,  34.6702,4,    140.9,2,   143.46,2,    36.70,2,     0.00,2,     2.54,2, -999.000,9, -999.000,9,   2341.9,2,   2418.2,6,   7.5649,6,    25.00,  -999.00,9,  -999.00,9,   1.6255,2,     1342
  49UP20100706,   P09,    95,  1,      7,     80,2,20100808,1337, -1.0023, 141.9802, 2985,   2864.6,   1.6256,   1.6255,2,  34.6696,2,  34.6719,4,    140.8,2,   143.33,2,    36.69,2,     0.00,2,     2.54,2, -999.000,9, -999.000,9,   2342.3,2,   2417.1,2,   7.5678,2,    25.00,  -999.00,9,  -999.00,9,   1.6255,2,     1342
  49UP20100706,   P09,    95,  1,      1,     74,2,20100808,1337, -1.0023, 141.9802, 2985,   3027.8,   1.6050,   1.6050,2,  34.6718,2,  34.6720,2,    142.8,2,   143.26,2,    36.56,2,     0.00,2,     2.53,2, -999.000,9, -999.000,9,   2342.8,2,   2413.1,2,   7.5643,2,    25.00,  -999.00,9,  -999.00,9,   1.6050,2,     1338