BOTTLE,20200625PRINUNIVRMK
EXPOCODE,SECT_ID,STNNBR,CASTNO,SAMPNO,BTLNBR,BTLNBR_FLAG_W,DATE,TIME,LATITUDE,LONGITUDE,DEPTH,CTDPRS,CTDTMP,SBE35,SBE35_FLAG_W,CTDSAL,CTDSAL_FLAG_W,SALNTY,SALNTY_FLAG_W,OXYGEN,OXYGEN_FLAG_W,SILCAT,SILCAT_FLAG_W,NITRAT,NITRAT_FLAG_W,NITRIT,NITRIT_FLAG_W,PHSPHT,PHSPHT_FLAG_W,CFC-11,CFC-11_FLAG_W,CFC-12,CFC-12_FLAG_W,TCARBN,TCARBN_FLAG_W,ALKALI,ALKALI_FLAG_W,PH_TOT,PH_TOT_FLAG_W,PH_TMP,CHLORA,CHLORA_FLAG_W,PPHYTN,PPHYTN_FLAG_W,SBE35,SBE35_FLAG_W,BTL_TIME
,,,,,,,,,,,METERS,DBAR,ITS-90,,,PSS-78,,PSS-78,,UMOL/KG,,UMOL/KG,,UMOL/KG,,UMOL/KG,,UMOL/KG,,PMOL/KG,,PMOL/KG,,UMOL/KG,,UMOL/KG,,,,DEG C,UG/KG,,UG/KG,,,,
  49UP20100706,   P09,    47,  1,      0,     -9,0,20100718,1123, 15.4885, 136.9848, 4866,      0.0,  29.7924,-999.0000,9,  34.9296,2,-999.0000,9,    194.8,2,     0.81,2,     0.00,2,     0.00,2,     0.04,2, -999.000,9, -999.000,9,   -999.0,9,   -999.0,9,-999.0000,9,  -999.00,  -999.00,9,  -999.00,9,-999.0000,9,     1330
  49UP20100706,   P09,    47,  1,     36,    109,2,20100718,1123, 15.4885, 136.9848, 4866,     10.8,  29.8077,  29.8104,2,  34.9310,2,  34.9291,2,    195.3,2,     0.78,2,     0.00,2,     0.00,2,     0.03,2, -999.000,9, -999.000,9,   -999.0,9,   -999.0,9,-999.0000,9,  -999.00,  -999.00,9,  -999.00,9,  29.8104,2,     1343
  49UP20100706,   P09,    47,  1,     35,    108,2,20100718,1123, 15.4885, 136.9848, 4866,     26.1,  29.8225,  29.8217,2,  34.9481,2,  34.9507,2,    195.8,2,     0.77,2,     0.00,2,     0.00,2,     0.03,2, -999.000,9, -999.000,9,   -999.0,9,   -999.0,9,-999.0000,9,  -999.00,  -999.00,9,  -999.00,9,  29.8217,2,     1342
  49UP20100706,   P09,    47,  1,     34,    107,2,20100718,1123, 15.4885, 136.9848, 4866,     51.0,  28.3360,  28.3363,2,  34.9921,2,  34.9927,2,    210.3,2,     0.82,2,     0.00,2,     0.00,2,     0.04,2, -999.000,9, -999.000,9,   -999.0,9,   -999.0,9,-999.0000,9,  -999.00,  -999.00,9,  -999.00,9,  28.3363,2,     1338
  49UP20100706,   P09,    47,  1,     33,    106,2,20100718,1123, 15.4885, 136.9848, 4866,     76.4,  27.4470,  27.4540,2,  35.0451,2,  35.0432,2,    206.7,2,     0.81,2,     0.00,2,     0.00,2,     0.06,2, -999.000,9, -999.000,9,   -999.0,9,   -999.0,9,-999.0000,9,  -999.00,  -999.00,9,  -999.00,9,  27.4540,2,     1336
  49UP20100706,   P09,    47,  1,     32,    105,2,20100718,1123, 15.4885, 136.9848, 4866,    101.0,  26.8898,  26.8889,2,  35.1061,2,  35.1046,2,    204.7,2,     0.78,2,     0.00,2,     0.00,2,     0.03,2, -999.000,9, -999.000,9,   -999.0,9,   -999.0,9,-999.0000,9,  -999.00,  -999.00,9,  -999.00,9,  26.8889,2,     1335
  49UP20100706,   P09,    47,  1,     31,    104,2,20100718,1123, 15.4885, 136.9848, 4866,    126.9,  26.3696,  26.3668,2,  35.0848,2,  35.0856,2,    198.0,2,     0.81,2,     0.00,2,     0.00,2,     0.03,2, -999.000,9, -999.000,9,   -999.0,9,   -999.0,9,-999.0000,9,  -999.00,  -999.00,9,  -999.00,9,  26.3668,2,     1333
  49UP20100706,   P09,    47,  1,     30,    103,2,20100718,1123, 15.4885, 136.9848, 4866,    151.4,  24.7543,  24.7546,2,  35.0468,2,  35.0464,2,    187.5,2,     0.99,2,     0.40,2,     0.04,2,     0.06,2, -999.000,9, -999.000,9,   -999.0,9,   -999.0,9,-999.0000,9,  -999.00,  -999.00,9,  -999.00,9,  24.7546,2,     1332
  49UP20100706,   P09,    47,  1,     29,    102,2,20100718,1123, 15.4885, 136.9848, 4866,    202.0,  22.5523,  22.5496,2,  34.9922,2,  34.9932,2,    184.0,2,     1.51,2,     1.21,2,     0.01,2,     0.12,2, -999.000,9, -999.000,9,   -999.0,9,   -999.0,9,-999.0000,9,  -999.00,  -999.00,9,  -999.00,9,  22.5496,2,     1329
  49UP20100706,   P09,    47,  1,     28,    101,2,20100718,1123, 15.4885, 136.9848, 4866,    252.5,  19.2070,  19.2047,2,  34.8480,2,  34.8489,2,    180.6,2,     3.17,2,     3.97,2,     0.00,2,     0.30,2, -999.000,9, -999.000,9,   -999.0,9,   -999.0,9,-999.0000,9,  -999.00,  -999.00,9,  -999.00,9,  19.2047,2,     1327
  49UP20100706,   P09,    47,  1,     27,    100,2,20100718,1123, 15.4885, 136.9848, 4866,    283.3,  17.4187,  17.4232,2,  34.7259,2,  34.7221,2,    180.8,2,     5.08,2,     6.41,2,     0.00,2,     0.47,2, -999.000,9, -999.000,9,   -999.0,9,   -999.0,9,-999.0000,9,  -999.00,  -999.00,9,  -999.00,9,  17.4232,2,     1326
  49UP20100706,   P09,    47,  1,     26,     99,2,20100718,1123, 15.4885, 136.9848, 4866,    333.2,  14.5971,  14.6112,2,  34.5030,2,  34.5112,4,    179.6,2,     9.53,2,    10.55,2,     0.00,2,     0.77,2, -999.000,9, -999.000,9,   -999.0,9,   -999.0,9,-999.0000,9,  -999.00,  -999.00,9,  -999.00,9,  14.6112,2,     1323
  49UP20100706,   P09,    47,  1,     25,     98,2,20100718,1123, 15.4885, 136.9848, 4866,    382.7,  11.9069,  11.9059,2,  34.3231,2,  34.3229,2,    158.8,2,    18.33,2,    16.78,2,     0.00,2,     1.23,2, -999.000,9, -999.000,9,   -999.0,9,   -999.0,9,-999.0000,9,  -999.00,  -999.00,9,  -999.00,9,  11.9059,2,     1321
  49UP20100706,   P09,    47,  1,     24,     97,2,20100718,1123, 15.4885, 136.9848, 4866,    433.7,  10.0448,  10.0436,2,  34.2847,2,  34.2845,2,    124.2,2,    29.91,2,    23.53,2,     0.00,2,     1.72,2, -999.000,9, -999.000,9,   -999.0,9,   -999.0,9,-999.0000,9,  -999.00,  -999.00,9,  -999.00,9,  10.0436,2,     1319
  49UP20100706,   P09,    47,  1,     23,     96,2,20100718,1123, 15.4885, 136.9848, 4866,    484.2,   8.4316,   8.4338,2,  34.2669,2,  34.2688,2,     98.4,2,    43.03,2,    29.07,2,     0.00,2,     2.11,2, -999.000,9, -999.000,9,   -999.0,9,   -999.0,9,-999.0000,9,  -999.00,  -999.00,9,  -999.00,9,   8.4338,2,     1317
  49UP20100706,   P09,    47,  1,     22,     95,2,20100718,1123, 15.4885, 136.9848, 4866,    574.7,   6.8801,   6.8826,2,  34.3229,2,  34.3217,2,     72.2,2,    60.83,2,    34.49,2,     0.00,2,     2.50,2, -999.000,9, -999.000,9,   -999.0,9,   -999.0,9,-999.0000,9,  -999.00,  -999.00,9,  -999.00,9,   6.8826,2,     1314
  49UP20100706,   P09,    47,  1,     21,     94,2,20100718,1123, 15.4885, 136.9848, 4866,    675.9,   5.8771,   5.8768,2,  34.4029,2,  34.4020,2,     66.4,2,    74.69,2,    36.99,2,     0.00,2,     2.68,2, -999.000,9, -999.000,9,   -999.0,9,   -999.0,9,-999.0000,9,  -999.00,  -999.00,9,  -999.00,9,   5.8768,2,     1311
  49UP20100706,   P09,    47,  1,     20,     93,2,20100718,1123, 15.4885, 136.9848, 4866,    776.5,   5.3073,   5.3071,2,  34.4657,2,  34.4658,2,     71.9,2,    82.45,2,    37.76,2,     0.00,2,     2.72,2, -999.000,9, -999.000,9,   -999.0,9,   -999.0,9,-999.0000,9,  -999.00,  -999.00,9,  -999.00,9,   5.3071,2,     1308
  49UP20100706,   P09,    47,  1,     19,     92,2,20100718,1123, 15.4885, 136.9848, 4866,    876.5,   4.8407,   4.8402,2,  34.4987,2,  34.4986,2,     77.2,2,    89.72,2,    38.09,2,     0.00,2,     2.73,2, -999.000,9, -999.000,9,   -999.0,9,   -999.0,9,-999.0000,9,  -999.00,  -999.00,9,  -999.00,9,   4.8402,2,     1305
  49UP20100706,   P09,    47,  1,     18,     91,2,20100718,1123, 15.4885, 136.9848, 4866,    978.8,   4.4570,   4.4574,2,  34.5199,2,  34.5198,2,     80.2,2,    96.69,2,    38.35,2,     0.00,2,     2.74,2, -999.000,9, -999.000,9,   -999.0,9,   -999.0,9,-999.0000,9,  -999.00,  -999.00,9,  -999.00,9,   4.4574,2,     1302
  49UP20100706,   P09,    47,  1,     17,     90,2,20100718,1123, 15.4885, 136.9848, 4866,   1181.4,   3.6495,   3.6499,2,  34.5493,2,  34.5498,2,     88.2,2,   113.26,2,    38.52,2,     0.00,2,     2.75,2, -999.000,9, -999.000,9,   -999.0,9,   -999.0,9,-999.0000,9,  -999.00,  -999.00,9,  -999.00,9,   3.6499,2,     1257
  49UP20100706,   P09,    47,  1,     16,     89,2,20100718,1123, 15.4885, 136.9848, 4866,   1434.5,   2.9557,   2.9555,2,  34.5771,2,  34.5779,2,     95.7,2,   127.14,2,    38.56,2,     0.00,2,     2.74,2, -999.000,9, -999.000,9,   -999.0,9,   -999.0,9,-999.0000,9,  -999.00,  -999.00,9,  -999.00,9,   2.9555,2,     1252
  49UP20100706,   P09,    47,  1,     15,     88,2,20100718,1123, 15.4885, 136.9848, 4866,   1698.2,   2.4904,   2.4900,2,  34.6007,2,  34.6010,2,    102.7,2,   135.09,2,    38.50,2,     0.00,2,     2.72,2, -999.000,9, -999.000,9,   -999.0,9,   -999.0,9,-999.0000,9,  -999.00,  -999.00,9,  -999.00,9,   2.4900,2,     1245
  49UP20100706,   P09,    47,  1,     14,     87,2,20100718,1123, 15.4885, 136.9848, 4866,   1942.0,   2.1016,   2.1013,2,  34.6255,2,  34.6274,4,    113.2,2,   141.11,2,    38.21,2,     0.00,2,     2.68,2, -999.000,9, -999.000,9,   -999.0,9,   -999.0,9,-999.0000,9,  -999.00,  -999.00,9,  -999.00,9,   2.1013,2,     1239
  49UP20100706,   P09,    47,  1,     13,     86,2,20100718,1123, 15.4885, 136.9848, 4866,   2195.4,   1.8909,   1.8905,2,  34.6441,2,  34.6445,2,    121.8,2,   143.53,2,    37.76,2,     0.00,2,     2.64,2, -999.000,9, -999.000,9,   -999.0,9,   -999.0,9,-999.0000,9,  -999.00,  -999.00,9,  -999.00,9,   1.8905,2,     1233
  49UP20100706,   P09,    47,  1,     12,     85,2,20100718,1123, 15.4885, 136.9848, 4866,   2449.8,   1.7901,   1.7902,2,  34.6521,2,  34.6527,2,    126.9,2,   144.97,2,    37.48,2,     0.00,2,     2.62,2, -999.000,9, -999.000,9,   -999.0,9,   -999.0,9,-999.0000,9,  -999.00,  -999.00,9,  -999.00,9,   1.7902,2,     1226
  49UP20100706,   P09,    47,  1,     11,    110,2,20100718,1123, 15.4885, 136.9848, 4866,   2714.4,   1.7116,   1.7114,2,  34.6596,2,  34.6604,2,    131.6,2,   145.46,2,    37.14,2,     0.00,2,     2.59,2, -999.000,9, -999.000,9,   -999.0,9,   -999.0,9,-999.0000,9,  -999.00,  -999.00,9,  -999.00,9,   1.7114,2,     1219
  49UP20100706,   P09,    47,  1,     10,     83,2,20100718,1123, 15.4885, 136.9848, 4866,   2958.4,   1.6606,   1.6604,2,  34.6651,2,  34.6652,2,    136.8,2,   145.30,2,    36.86,2,     0.00,2,     2.57,2, -999.000,9, -999.000,9,   -999.0,9,   -999.0,9,-999.0000,9,  -999.00,  -999.00,9,  -999.00,9,   1.6604,2,     1213
  49UP20100706,   P09,    47,  1,      9,     82,2,20100718,1123, 15.4885, 136.9848, 4866,   3223.7,   1.6016,   1.6015,2,  34.6713,2,  34.6709,6,    142.5,6,   144.31,6,    36.52,6,     0.00,6,     2.54,6, -999.000,9, -999.000,9,   -999.0,9,   -999.0,9,-999.0000,9,  -999.00,  -999.00,9,  -999.00,9,   1.6015,2,     1207
  49UP20100706,   P09,    47,  1,      8,     81,2,20100718,1123, 15.4885, 136.9848, 4866,   3470.1,   1.5654,   1.5654,2,  34.6756,2,  34.6751,6,    147.1,6,   143.11,6,    36.21,6,     0.00,6,     2.51,6, -999.000,9, -999.000,9,   -999.0,9,   -999.0,9,-999.0000,9,  -999.00,  -999.00,9,  -999.00,9,   1.5654,2,     1201
  49UP20100706,   P09,    47,  1,      7,     80,2,20100718,1123, 15.4885, 136.9848, 4866,   3734.4,   1.5512,   1.5511,2,  34.6786,2,  34.6789,6,    150.3,6,   142.57,6,    36.09,6,     0.00,6,     2.50,6, -999.000,9, -999.000,9,   -999.0,9,   -999.0,9,-999.0000,9,  -999.00,  -999.00,9,  -999.00,9,   1.5511,2,     1155
  49UP20100706,   P09,    47,  1,      6,     79,2,20100718,1123, 15.4885, 136.9848, 4866,   3980.1,   1.5243,   1.5242,2,  34.6825,2,  34.6829,6,    154.9,6,   141.09,6,    35.70,6,     0.00,6,     2.48,6, -999.000,9, -999.000,9,   -999.0,9,   -999.0,9,-999.0000,9,  -999.00,  -999.00,9,  -999.00,9,   1.5242,2,     1148
  49UP20100706,   P09,    47,  1,      5,     78,2,20100718,1123, 15.4885, 136.9848, 4866,   4249.2,   1.5154,   1.5155,2,  34.6854,2,  34.6854,2,    158.3,2,   139.97,2,    35.40,2,     0.00,2,     2.45,2, -999.000,9, -999.000,9,   -999.0,9,   -999.0,9,-999.0000,9,  -999.00,  -999.00,9,  -999.00,9,   1.5155,2,     1142
  49UP20100706,   P09,    47,  1,      4,     77,3,20100718,1123, 15.4885, 136.9848, 4866,   4494.7,   1.5199,   1.5201,2,  34.6872,2,  34.6876,3,    160.7,2,   139.24,2,    35.25,2,     0.00,2,     2.44,2, -999.000,9, -999.000,9,   -999.0,9,   -999.0,9,-999.0000,9,  -999.00,  -999.00,9,  -999.00,9,   1.5201,2,     1135
  49UP20100706,   P09,    47,  1,      3,     76,2,20100718,1123, 15.4885, 136.9848, 4866,   4761.6,   1.5420,   1.5419,2,  34.6877,2,  34.6880,2,    161.5,2,   139.07,2,    35.27,2,     0.00,2,     2.44,2, -999.000,9, -999.000,9,   -999.0,9,   -999.0,9,-999.0000,9,  -999.00,  -999.00,9,  -999.00,9,   1.5419,2,     1129
  49UP20100706,   P09,    47,  1,      1,     74,2,20100718,1123, 15.4885, 136.9848, 4866,   4926.9,   1.5610,   1.5608,2,  34.6877,2,  34.6880,2,    161.8,2,   139.06,2,    35.27,2,     0.00,2,     2.44,2, -999.000,9, -999.000,9,   -999.0,9,   -999.0,9,-999.0000,9,  -999.00,  -999.00,9,  -999.00,9,   1.5608,2,     1124