BOTTLE,20200625PRINUNIVRMK
EXPOCODE,SECT_ID,STNNBR,CASTNO,SAMPNO,BTLNBR,BTLNBR_FLAG_W,DATE,TIME,LATITUDE,LONGITUDE,DEPTH,CTDPRS,CTDTMP,SBE35,SBE35_FLAG_W,CTDSAL,CTDSAL_FLAG_W,SALNTY,SALNTY_FLAG_W,OXYGEN,OXYGEN_FLAG_W,SILCAT,SILCAT_FLAG_W,NITRAT,NITRAT_FLAG_W,NITRIT,NITRIT_FLAG_W,PHSPHT,PHSPHT_FLAG_W,CFC-11,CFC-11_FLAG_W,CFC-12,CFC-12_FLAG_W,TCARBN,TCARBN_FLAG_W,ALKALI,ALKALI_FLAG_W,PH_TOT,PH_TOT_FLAG_W,PH_TMP,CHLORA,CHLORA_FLAG_W,PPHYTN,PPHYTN_FLAG_W,SBE35,SBE35_FLAG_W,BTL_TIME
,,,,,,,,,,,METERS,DBAR,ITS-90,,,PSS-78,,PSS-78,,UMOL/KG,,UMOL/KG,,UMOL/KG,,UMOL/KG,,UMOL/KG,,PMOL/KG,,PMOL/KG,,UMOL/KG,,UMOL/KG,,,,DEG C,UG/KG,,UG/KG,,,,
  49UP20100706,   P09,    76,  1,      0,     -9,0,20100804,0320,  4.1007, 139.9095, 4254,      0.0,  30.0918,-999.0000,9,  34.0638,2,-999.0000,9,    194.0,2,     0.96,2,     0.02,2,     0.00,2,     0.04,2, -999.000,9, -999.000,9,   -999.0,9,   -999.0,9,-999.0000,9,  -999.00,  -999.00,9,  -999.00,9,-999.0000,9,      430
  49UP20100706,   P09,    76,  1,     36,    109,2,20100804,0320,  4.1007, 139.9095, 4254,     10.8,  30.0881,  30.0877,2,  34.0631,2,  34.0613,2,    193.7,2,     0.92,2,     0.00,2,     0.00,2,     0.04,2, -999.000,9, -999.000,9,   -999.0,9,   -999.0,9,-999.0000,9,  -999.00,  -999.00,9,  -999.00,9,  30.0877,2,      525
  49UP20100706,   P09,    76,  1,     35,    108,2,20100804,0320,  4.1007, 139.9095, 4254,     25.6,  30.0710,  30.0705,2,  34.0759,2,  34.0739,2,    194.4,2,     0.97,2,     0.00,2,     0.00,2,     0.03,2, -999.000,9, -999.000,9,   -999.0,9,   -999.0,9,-999.0000,9,  -999.00,  -999.00,9,  -999.00,9,  30.0705,2,      524
  49UP20100706,   P09,    76,  1,     34,    107,2,20100804,0320,  4.1007, 139.9095, 4254,     50.3,  29.9909,  29.9912,2,  34.1739,2,  34.1738,2,    195.1,2,     1.08,2,     0.00,2,     0.00,2,     0.04,2, -999.000,9, -999.000,9,   -999.0,9,   -999.0,9,-999.0000,9,  -999.00,  -999.00,9,  -999.00,9,  29.9912,2,      520
  49UP20100706,   P09,    76,  1,     33,    106,2,20100804,0320,  4.1007, 139.9095, 4254,     75.7,  29.9756,  29.9688,2,  34.2770,2,  34.2813,2,    196.4,2,     1.10,2,     0.00,2,     0.00,2,     0.04,2, -999.000,9, -999.000,9,   -999.0,9,   -999.0,9,-999.0000,9,  -999.00,  -999.00,9,  -999.00,9,  29.9688,2,      518
  49UP20100706,   P09,    76,  1,     32,    105,2,20100804,0320,  4.1007, 139.9095, 4254,    100.9,  28.8405,  28.8424,2,  34.6023,2,  34.6059,2,    189.4,2,     1.19,2,    -0.01,2,     0.04,2,     0.10,2, -999.000,9, -999.000,9,   -999.0,9,   -999.0,9,-999.0000,9,  -999.00,  -999.00,9,  -999.00,9,  28.8424,2,      517
  49UP20100706,   P09,    76,  1,     31,    104,2,20100804,0320,  4.1007, 139.9095, 4254,    126.6,  26.8573,  26.8561,2,  34.6636,2,  34.6673,2,    170.8,2,     2.63,2,     2.04,2,     0.37,2,     0.28,2, -999.000,9, -999.000,9,   -999.0,9,   -999.0,9,-999.0000,9,  -999.00,  -999.00,9,  -999.00,9,  26.8561,2,      515
  49UP20100706,   P09,    76,  1,     30,    103,2,20100804,0320,  4.1007, 139.9095, 4254,    152.0,  21.2304,  21.2336,2,  34.8087,2,  34.8149,2,    154.2,2,     5.09,2,     6.01,2,     0.02,2,     0.53,2, -999.000,9, -999.000,9,   -999.0,9,   -999.0,9,-999.0000,9,  -999.00,  -999.00,9,  -999.00,9,  21.2336,2,      514
  49UP20100706,   P09,    76,  1,     29,    102,2,20100804,0320,  4.1007, 139.9095, 4254,    202.1,  13.7325,  13.7306,2,  34.5460,2,  34.5456,2,    126.1,2,    18.54,2,    18.04,2,     0.00,2,     1.32,2, -999.000,9, -999.000,9,   -999.0,9,   -999.0,9,-999.0000,9,  -999.00,  -999.00,9,  -999.00,9,  13.7306,2,      511
  49UP20100706,   P09,    76,  1,     27,    100,2,20100804,0320,  4.1007, 139.9095, 4254,    252.8,  10.3910,  10.3906,2,  34.6073,2,  34.6045,2,    118.1,2,    28.18,2,    24.77,2,     0.00,2,     1.77,2, -999.000,9, -999.000,9,   -999.0,9,   -999.0,9,-999.0000,9,  -999.00,  -999.00,9,  -999.00,9,  10.3906,2,      509
  49UP20100706,   P09,    76,  1,     28,    101,2,20100804,0320,  4.1007, 139.9095, 4254,    253.3,  10.3157,  10.3175,2,  34.6080,2,  34.6060,2,    118.0,2,    28.22,2,    24.82,2,     0.00,2,     1.78,2, -999.000,9, -999.000,9,   -999.0,9,   -999.0,9,-999.0000,9,  -999.00,  -999.00,9,  -999.00,9,  10.3175,2,      509
  49UP20100706,   P09,    76,  1,     26,     99,2,20100804,0320,  4.1007, 139.9095, 4254,    283.2,   9.1184,   9.1285,2,  34.5582,2,  34.5618,2,     93.7,2,    36.21,2,    29.54,2,     0.00,2,     2.10,2, -999.000,9, -999.000,9,   -999.0,9,   -999.0,9,-999.0000,9,  -999.00,  -999.00,9,  -999.00,9,   9.1285,2,      507
  49UP20100706,   P09,    76,  1,     25,     98,2,20100804,0320,  4.1007, 139.9095, 4254,    333.6,   8.3064,   8.3044,2,  34.5826,2,  34.5824,2,    108.0,2,    35.60,2,    30.19,2,     0.00,2,     2.12,2, -999.000,9, -999.000,9,   -999.0,9,   -999.0,9,-999.0000,9,  -999.00,  -999.00,9,  -999.00,9,   8.3044,2,      505
  49UP20100706,   P09,    76,  1,     24,     97,2,20100804,0320,  4.1007, 139.9095, 4254,    383.2,   7.9529,   7.9520,2,  34.5805,2,  34.5799,2,    118.8,2,    35.36,2,    29.98,2,     0.00,2,     2.10,2, -999.000,9, -999.000,9,   -999.0,9,   -999.0,9,-999.0000,9,  -999.00,  -999.00,9,  -999.00,9,   7.9520,2,      502
  49UP20100706,   P09,    76,  1,     23,     96,2,20100804,0320,  4.1007, 139.9095, 4254,    433.8,   7.6420,   7.6423,2,  34.5688,2,  34.5681,2,    117.8,2,    37.23,2,    30.73,2,     0.00,2,     2.16,2, -999.000,9, -999.000,9,   -999.0,9,   -999.0,9,-999.0000,9,  -999.00,  -999.00,9,  -999.00,9,   7.6423,2,      500
  49UP20100706,   P09,    76,  1,     22,     95,2,20100804,0320,  4.1007, 139.9095, 4254,    483.8,   7.4629,   7.4622,2,  34.5667,2,  34.5653,2,    107.9,2,    39.51,2,    32.04,2,     0.00,2,     2.26,2, -999.000,9, -999.000,9,   -999.0,9,   -999.0,9,-999.0000,9,  -999.00,  -999.00,9,  -999.00,9,   7.4622,2,      458
  49UP20100706,   P09,    76,  1,     21,     94,2,20100804,0320,  4.1007, 139.9095, 4254,    483.8,   7.4629,   7.4622,2,  34.5667,2,  34.5656,2,    108.4,2,    39.38,2,    32.10,2,     0.00,2,     2.26,2, -999.000,9, -999.000,9,   -999.0,9,   -999.0,9,-999.0000,9,  -999.00,  -999.00,9,  -999.00,9,   7.4622,2,      458
  49UP20100706,   P09,    76,  1,     20,     93,2,20100804,0320,  4.1007, 139.9095, 4254,    574.5,   6.8970,   6.8975,2,  34.5425,2,  34.5410,2,    101.0,2,    47.16,2,    33.65,2,     0.00,2,     2.38,2, -999.000,9, -999.000,9,   -999.0,9,   -999.0,9,-999.0000,9,  -999.00,  -999.00,9,  -999.00,9,   6.8975,2,      455
  49UP20100706,   P09,    76,  1,     19,     92,2,20100804,0320,  4.1007, 139.9095, 4254,    676.4,   6.3469,   6.3466,2,  34.5385,2,  34.5376,2,     86.0,2,    56.15,2,    35.93,2,     0.00,2,     2.55,2, -999.000,9, -999.000,9,   -999.0,9,   -999.0,9,-999.0000,9,  -999.00,  -999.00,9,  -999.00,9,   6.3466,2,      452
  49UP20100706,   P09,    76,  1,     18,     91,2,20100804,0320,  4.1007, 139.9095, 4254,    778.3,   5.6540,   5.6529,2,  34.5373,2,  34.5363,2,     85.2,2,    67.21,2,    37.08,2,     0.00,2,     2.64,2, -999.000,9, -999.000,9,   -999.0,9,   -999.0,9,-999.0000,9,  -999.00,  -999.00,9,  -999.00,9,   5.6529,2,      448
  49UP20100706,   P09,    76,  1,     17,     90,2,20100804,0320,  4.1007, 139.9095, 4254,    877.8,   5.1313,   5.1314,2,  34.5429,2,  34.5422,2,     92.4,2,    76.18,2,    37.15,2,     0.00,2,     2.64,2, -999.000,9, -999.000,9,   -999.0,9,   -999.0,9,-999.0000,9,  -999.00,  -999.00,9,  -999.00,9,   5.1314,2,      445
  49UP20100706,   P09,    76,  1,     16,     89,2,20100804,0320,  4.1007, 139.9095, 4254,    980.1,   4.5803,   4.5805,2,  34.5541,2,  34.5533,2,     91.7,2,    85.93,2,    37.89,2,     0.00,2,     2.70,2, -999.000,9, -999.000,9,   -999.0,9,   -999.0,9,-999.0000,9,  -999.00,  -999.00,9,  -999.00,9,   4.5805,2,      441
  49UP20100706,   P09,    76,  1,     15,     88,2,20100804,0320,  4.1007, 139.9095, 4254,   1182.1,   3.9178,   3.9179,2,  34.5712,2,  34.5706,2,     95.0,2,   100.91,2,    38.11,2,     0.00,2,     2.71,2, -999.000,9, -999.000,9,   -999.0,9,   -999.0,9,-999.0000,9,  -999.00,  -999.00,9,  -999.00,9,   3.9179,2,      435
  49UP20100706,   P09,    76,  1,     14,     87,2,20100804,0320,  4.1007, 139.9095, 4254,   1434.0,   3.1679,   3.1681,2,  34.5949,2,  34.5945,2,     96.0,2,   117.10,2,    38.83,2,     0.00,2,     2.76,2, -999.000,9, -999.000,9,   -999.0,9,   -999.0,9,-999.0000,9,  -999.00,  -999.00,9,  -999.00,9,   3.1681,2,      428
  49UP20100706,   P09,    76,  1,     13,     86,2,20100804,0320,  4.1007, 139.9095, 4254,   1697.2,   2.6665,   2.6666,2,  34.6152,2,  34.6148,2,    103.2,2,   127.76,2,    38.61,2,     0.00,2,     2.73,2, -999.000,9, -999.000,9,   -999.0,9,   -999.0,9,-999.0000,9,  -999.00,  -999.00,9,  -999.00,9,   2.6666,2,      422
  49UP20100706,   P09,    76,  1,     12,     85,2,20100804,0320,  4.1007, 139.9095, 4254,   1940.4,   2.2974,   2.2973,2,  34.6325,2,  34.6322,2,    110.9,2,   135.82,2,    38.33,2,     0.00,2,     2.70,2, -999.000,9, -999.000,9,   -999.0,9,   -999.0,9,-999.0000,9,  -999.00,  -999.00,9,  -999.00,9,   2.2973,2,      416
  49UP20100706,   P09,    76,  1,     11,    110,2,20100804,0320,  4.1007, 139.9095, 4254,   2194.3,   1.9999,   2.0000,2,  34.6485,2,  34.6479,2,    120.0,2,   140.28,2,    37.88,2,     0.00,2,     2.65,2, -999.000,9, -999.000,9,   -999.0,9,   -999.0,9,-999.0000,9,  -999.00,  -999.00,9,  -999.00,9,   2.0000,2,      409
  49UP20100706,   P09,    76,  1,     10,     83,2,20100804,0320,  4.1007, 139.9095, 4254,   2449.0,   1.8275,   1.8279,2,  34.6578,2,  34.6575,2,    128.6,2,   141.93,2,    37.32,2,     0.00,2,     2.61,2, -999.000,9, -999.000,9,   -999.0,9,   -999.0,9,-999.0000,9,  -999.00,  -999.00,9,  -999.00,9,   1.8279,2,      403
  49UP20100706,   P09,    76,  1,      9,     82,2,20100804,0320,  4.1007, 139.9095, 4254,   2713.1,   1.7039,   1.7041,2,  34.6652,2,  34.6655,2,    136.1,2,   142.70,2,    36.84,2,     0.00,2,     2.57,2, -999.000,9, -999.000,9,   -999.0,9,   -999.0,9,-999.0000,9,  -999.00,  -999.00,9,  -999.00,9,   1.7041,2,      357
  49UP20100706,   P09,    76,  1,      8,     81,2,20100804,0320,  4.1007, 139.9095, 4254,   2713.1,   1.7039,   1.7041,2,  34.6652,2,  34.6647,6,    135.8,6,   142.40,6,    36.86,6,     0.00,6,     2.57,6, -999.000,9, -999.000,9,   -999.0,9,   -999.0,9,-999.0000,9,  -999.00,  -999.00,9,  -999.00,9,   1.7041,2,      357
  49UP20100706,   P09,    76,  1,      7,     80,2,20100804,0320,  4.1007, 139.9095, 4254,   2958.1,   1.6025,   1.6025,2,  34.6719,2,  34.6719,6,    141.9,6,   142.83,6,    36.46,6,     0.00,6,     2.54,6, -999.000,9, -999.000,9,   -999.0,9,   -999.0,9,-999.0000,9,  -999.00,  -999.00,9,  -999.00,9,   1.6025,2,      351
  49UP20100706,   P09,    76,  1,      6,     79,2,20100804,0320,  4.1007, 139.9095, 4254,   3222.2,   1.5671,   1.5671,2,  34.6756,2,  34.6753,6,    145.2,6,   142.93,6,    36.27,6,     0.00,6,     2.52,6, -999.000,9, -999.000,9,   -999.0,9,   -999.0,9,-999.0000,9,  -999.00,  -999.00,9,  -999.00,9,   1.5671,2,      345
  49UP20100706,   P09,    76,  1,      5,     78,2,20100804,0320,  4.1007, 139.9095, 4254,   3468.6,   1.5544,   1.5544,2,  34.6783,2,  34.6774,6,    147.5,6,   142.87,6,    36.09,6,     0.00,6,     2.51,6, -999.000,9, -999.000,9,   -999.0,9,   -999.0,9,-999.0000,9,  -999.00,  -999.00,9,  -999.00,9,   1.5544,2,      340
  49UP20100706,   P09,    76,  1,      4,     77,2,20100804,0320,  4.1007, 139.9095, 4254,   3733.2,   1.5429,   1.5428,2,  34.6813,2,  34.6810,2,    149.5,2,   142.66,2,    35.95,2,     0.00,2,     2.49,2, -999.000,9, -999.000,9,   -999.0,9,   -999.0,9,-999.0000,9,  -999.00,  -999.00,9,  -999.00,9,   1.5428,2,      334
  49UP20100706,   P09,    76,  1,      3,     76,2,20100804,0320,  4.1007, 139.9095, 4254,   3979.4,   1.5253,   1.5252,2,  34.6851,2,  34.6848,2,    152.2,2,   142.65,2,    35.81,2,     0.00,2,     2.48,2, -999.000,9, -999.000,9,   -999.0,9,   -999.0,9,-999.0000,9,  -999.00,  -999.00,9,  -999.00,9,   1.5252,2,      328
  49UP20100706,   P09,    76,  1,      2,     75,2,20100804,0320,  4.1007, 139.9095, 4254,   4243.5,   1.5305,   1.5305,2,  34.6869,2,  34.6865,2,    154.4,2,   142.37,2,    35.71,2,     0.00,2,     2.47,2, -999.000,9, -999.000,9,   -999.0,9,   -999.0,9,-999.0000,9,  -999.00,  -999.00,9,  -999.00,9,   1.5305,2,      323
  49UP20100706,   P09,    76,  1,      1,     74,2,20100804,0320,  4.1007, 139.9095, 4254,   4307.7,   1.5309,   1.5308,2,  34.6874,2,  34.6866,2,    154.7,2,   142.29,2,    35.64,2,     0.00,2,     2.46,2, -999.000,9, -999.000,9,   -999.0,9,   -999.0,9,-999.0000,9,  -999.00,  -999.00,9,  -999.00,9,   1.5308,2,      321