BOTTLE,20200625PRINUNIVRMK
EXPOCODE,SECT_ID,STNNBR,CASTNO,SAMPNO,BTLNBR,BTLNBR_FLAG_W,DATE,TIME,LATITUDE,LONGITUDE,DEPTH,CTDPRS,CTDTMP,SBE35,SBE35_FLAG_W,CTDSAL,CTDSAL_FLAG_W,SALNTY,SALNTY_FLAG_W,OXYGEN,OXYGEN_FLAG_W,SILCAT,SILCAT_FLAG_W,NITRAT,NITRAT_FLAG_W,NITRIT,NITRIT_FLAG_W,PHSPHT,PHSPHT_FLAG_W,CFC-11,CFC-11_FLAG_W,CFC-12,CFC-12_FLAG_W,TCARBN,TCARBN_FLAG_W,ALKALI,ALKALI_FLAG_W,PH_TOT,PH_TOT_FLAG_W,PH_TMP,CHLORA,CHLORA_FLAG_W,PPHYTN,PPHYTN_FLAG_W,SBE35,SBE35_FLAG_W,BTL_TIME
,,,,,,,,,,,METERS,DBAR,ITS-90,,,PSS-78,,PSS-78,,UMOL/KG,,UMOL/KG,,UMOL/KG,,UMOL/KG,,UMOL/KG,,PMOL/KG,,PMOL/KG,,UMOL/KG,,UMOL/KG,,,,DEG C,UG/KG,,UG/KG,,,,
  49UP20100706,   P09,    45,  1,      0,     -9,0,20100717,2213, 16.5063, 136.9805, 5549,      0.0,  29.7876,-999.0000,9,  35.0672,2,-999.0000,9,    194.0,2,     0.76,2,     0.01,2,     0.00,2,     0.02,2, -999.000,9, -999.000,9,   -999.0,9,   -999.0,9,-999.0000,9,  -999.00,  -999.00,9,  -999.00,9,-999.0000,9,       30
  49UP20100706,   P09,    45,  1,     36,    109,2,20100717,2213, 16.5063, 136.9805, 5549,     10.8,  29.8143,  29.8198,2,  35.0668,2,  35.0653,2,    194.7,2,     0.78,2,     0.00,2,     0.00,2,     0.02,2, -999.000,9, -999.000,9,   -999.0,9,   -999.0,9,-999.0000,9,  -999.00,  -999.00,9,  -999.00,9,  29.8198,2,       42
  49UP20100706,   P09,    45,  1,     35,    108,2,20100717,2213, 16.5063, 136.9805, 5549,     25.5,  29.7671,  29.7656,2,  35.0635,2,  35.0633,2,    195.2,2,     0.79,2,     0.00,2,     0.00,2,     0.02,2, -999.000,9, -999.000,9,   -999.0,9,   -999.0,9,-999.0000,9,  -999.00,  -999.00,9,  -999.00,9,  29.7656,2,       41
  49UP20100706,   P09,    45,  1,     34,    107,2,20100717,2213, 16.5063, 136.9805, 5549,     51.5,  27.8359,  27.8344,2,  35.0458,2,  35.0333,4,    209.4,2,     0.79,2,     0.00,2,     0.00,2,     0.05,2, -999.000,9, -999.000,9,   -999.0,9,   -999.0,9,-999.0000,9,  -999.00,  -999.00,9,  -999.00,9,  27.8344,2,       37
  49UP20100706,   P09,    45,  1,     33,    106,2,20100717,2213, 16.5063, 136.9805, 5549,     75.6,  27.1207,  27.1188,2,  35.0784,2,  35.0784,2,    206.1,2,     0.80,2,     0.00,2,     0.00,2,     0.02,2, -999.000,9, -999.000,9,   -999.0,9,   -999.0,9,-999.0000,9,  -999.00,  -999.00,9,  -999.00,9,  27.1188,2,       35
  49UP20100706,   P09,    45,  1,     32,    105,2,20100717,2213, 16.5063, 136.9805, 5549,    101.0,  26.6943,  26.6885,2,  35.1118,2,  35.1091,2,    200.8,2,     0.81,2,     0.00,2,     0.00,2,     0.02,2, -999.000,9, -999.000,9,   -999.0,9,   -999.0,9,-999.0000,9,  -999.00,  -999.00,9,  -999.00,9,  26.6885,2,       34
  49UP20100706,   P09,    45,  1,     31,    104,2,20100717,2213, 16.5063, 136.9805, 5549,    126.0,  25.2870,  25.2896,2,  34.9829,2,  34.9798,2,    197.4,2,     0.93,2,     0.03,2,     0.16,2,     0.03,2, -999.000,9, -999.000,9,   -999.0,9,   -999.0,9,-999.0000,9,  -999.00,  -999.00,9,  -999.00,9,  25.2896,2,       33
  49UP20100706,   P09,    45,  1,     30,    103,2,20100717,2213, 16.5063, 136.9805, 5549,    151.9,  24.2703,  24.2692,2,  35.0199,2,  35.0251,2,    189.0,2,     1.08,2,     0.48,2,     0.03,2,     0.06,2, -999.000,9, -999.000,9,   -999.0,9,   -999.0,9,-999.0000,9,  -999.00,  -999.00,9,  -999.00,9,  24.2692,2,       31
  49UP20100706,   P09,    45,  1,     29,    102,2,20100717,2213, 16.5063, 136.9805, 5549,    201.4,  21.0253,  21.0237,2,  34.8802,2,  34.8807,2,    189.2,2,     1.96,2,     1.56,2,     0.01,2,     0.13,2, -999.000,9, -999.000,9,   -999.0,9,   -999.0,9,-999.0000,9,  -999.00,  -999.00,9,  -999.00,9,  21.0237,2,       29
  49UP20100706,   P09,    45,  1,     28,    101,2,20100717,2213, 16.5063, 136.9805, 5549,    252.2,  17.3205,  17.3158,2,  34.7300,2,  34.7310,2,    192.0,2,     4.44,2,     5.64,2,     0.00,2,     0.38,2, -999.000,9, -999.000,9,   -999.0,9,   -999.0,9,-999.0000,9,  -999.00,  -999.00,9,  -999.00,9,  17.3158,2,       27
  49UP20100706,   P09,    45,  1,     27,    100,2,20100717,2213, 16.5063, 136.9805, 5549,    302.9,  15.3771,  15.3766,2,  34.5899,2,  34.5847,2,    190.0,2,     7.77,2,     8.74,2,     0.00,2,     0.61,2, -999.000,9, -999.000,9,   -999.0,9,   -999.0,9,-999.0000,9,  -999.00,  -999.00,9,  -999.00,9,  15.3766,2,       25
  49UP20100706,   P09,    45,  1,     26,     99,2,20100717,2213, 16.5063, 136.9805, 5549,    352.6,  13.3783,  13.3560,2,  34.4312,2,  34.4139,4,    179.1,2,    13.20,2,    12.97,2,     0.00,2,     0.93,2, -999.000,9, -999.000,9,   -999.0,9,   -999.0,9,-999.0000,9,  -999.00,  -999.00,9,  -999.00,9,  13.3560,2,       23
  49UP20100706,   P09,    45,  1,     25,     98,2,20100717,2213, 16.5063, 136.9805, 5549,    404.0,  10.7890,  10.7942,2,  34.2703,2,  34.2695,2,    147.5,2,    23.37,2,    19.90,2,     0.00,2,     1.46,2, -999.000,9, -999.000,9,   -999.0,9,   -999.0,9,-999.0000,9,  -999.00,  -999.00,9,  -999.00,9,  10.7942,2,       21
  49UP20100706,   P09,    45,  1,     24,     97,2,20100717,2213, 16.5063, 136.9805, 5549,    454.0,   9.1468,   9.1344,2,  34.2279,2,  34.2268,2,    118.0,2,    35.42,2,    25.83,2,     0.00,2,     1.92,2, -999.000,9, -999.000,9,   -999.0,9,   -999.0,9,-999.0000,9,  -999.00,  -999.00,9,  -999.00,9,   9.1344,2,       19
  49UP20100706,   P09,    45,  1,     23,     96,4,20100717,2213, 16.5063, 136.9805, 5549,    503.0,   7.7017,   7.7001,2,  34.2345,2,  34.2728,4,    121.8,4,    35.12,4,    24.62,4,     0.00,4,     1.80,4, -999.000,9, -999.000,9,   -999.0,9,   -999.0,9,-999.0000,9,  -999.00,  -999.00,9,  -999.00,9,   7.7001,2,       17
  49UP20100706,   P09,    45,  1,     22,     95,2,20100717,2213, 16.5063, 136.9805, 5549,    606.0,   6.2858,   6.2854,2,  34.3710,2,  34.3669,2,     65.4,2,    68.96,2,    36.34,2,     0.00,2,     2.63,2, -999.000,9, -999.000,9,   -999.0,9,   -999.0,9,-999.0000,9,  -999.00,  -999.00,9,  -999.00,9,   6.2854,2,       14
  49UP20100706,   P09,    45,  1,     21,     94,2,20100717,2213, 16.5063, 136.9805, 5549,    706.6,   5.5339,   5.5337,2,  34.4317,2,  34.4307,2,     68.1,2,    79.95,2,    37.60,2,     0.00,2,     2.70,2, -999.000,9, -999.000,9,   -999.0,9,   -999.0,9,-999.0000,9,  -999.00,  -999.00,9,  -999.00,9,   5.5337,2,       11
  49UP20100706,   P09,    45,  1,     20,     93,2,20100717,2213, 16.5063, 136.9805, 5549,    806.1,   5.0158,   5.0155,2,  34.4751,2,  34.4751,2,     73.0,2,    87.98,2,    38.07,2,     0.00,2,     2.73,2, -999.000,9, -999.000,9,   -999.0,9,   -999.0,9,-999.0000,9,  -999.00,  -999.00,9,  -999.00,9,   5.0155,2,        8
  49UP20100706,   P09,    45,  1,     19,     92,2,20100717,2213, 16.5063, 136.9805, 5549,    907.3,   4.5315,   4.5304,2,  34.5131,2,  34.5130,2,     78.1,2,    95.67,2,    38.43,2,     0.00,2,     2.75,2, -999.000,9, -999.000,9,   -999.0,9,   -999.0,9,-999.0000,9,  -999.00,  -999.00,9,  -999.00,9,   4.5304,2,        5
  49UP20100706,   P09,    45,  1,     18,     91,2,20100717,2213, 16.5063, 136.9805, 5549,   1008.8,   4.0707,   4.0705,2,  34.5283,2,  34.5279,2,     83.2,2,   105.23,2,    38.42,2,     0.00,2,     2.74,2, -999.000,9, -999.000,9,   -999.0,9,   -999.0,9,-999.0000,9,  -999.00,  -999.00,9,  -999.00,9,   4.0705,2,        2
  49UP20100706,   P09,    45,  1,     17,     90,2,20100717,2213, 16.5063, 136.9805, 5549,   1263.0,   3.3073,   3.3109,2,  34.5561,2,  34.5557,6,     91.6,6,   121.11,6,    38.41,6,     0.00,6,     2.74,6, -999.000,9, -999.000,9,   -999.0,9,   -999.0,9,-999.0000,9,  -999.00,  -999.00,9,  -999.00,9,   3.3109,2,     2356
  49UP20100706,   P09,    45,  1,     16,     89,2,20100717,2213, 16.5063, 136.9805, 5549,   1516.2,   2.8329,   2.8343,2,  34.5801,2,  34.5799,6,     97.7,6,   129.80,6,    38.52,6,     0.00,6,     2.73,6, -999.000,9, -999.000,9,   -999.0,9,   -999.0,9,-999.0000,9,  -999.00,  -999.00,9,  -999.00,9,   2.8343,2,     2350
  49UP20100706,   P09,    45,  1,     15,     88,2,20100717,2213, 16.5063, 136.9805, 5549,   1769.8,   2.4401,   2.4399,2,  34.6005,2,  34.6003,6,    102.8,6,   136.68,6,    38.55,6,     0.00,6,     2.72,6, -999.000,9, -999.000,9,   -999.0,9,   -999.0,9,-999.0000,9,  -999.00,  -999.00,9,  -999.00,9,   2.4399,2,     2344
  49UP20100706,   P09,    45,  1,     14,     87,2,20100717,2213, 16.5063, 136.9805, 5549,   2024.4,   2.0911,   2.0912,2,  34.6247,2,  34.6250,6,    113.0,6,   141.49,6,    38.18,6,     0.00,6,     2.68,6, -999.000,9, -999.000,9,   -999.0,9,   -999.0,9,-999.0000,9,  -999.00,  -999.00,9,  -999.00,9,   2.0912,2,     2338
  49UP20100706,   P09,    45,  1,     13,     86,2,20100717,2213, 16.5063, 136.9805, 5549,   2277.2,   1.8967,   1.8969,2,  34.6410,2,  34.6404,2,    120.8,2,   143.49,2,    37.68,2,     0.00,2,     2.64,2, -999.000,9, -999.000,9,   -999.0,9,   -999.0,9,-999.0000,9,  -999.00,  -999.00,9,  -999.00,9,   1.8969,2,     2331
  49UP20100706,   P09,    45,  1,     12,     85,2,20100717,2213, 16.5063, 136.9805, 5549,   2531.1,   1.7861,   1.7862,2,  34.6516,2,  34.6512,2,    126.8,2,   145.00,2,    37.43,2,     0.00,2,     2.61,2, -999.000,9, -999.000,9,   -999.0,9,   -999.0,9,-999.0000,9,  -999.00,  -999.00,9,  -999.00,9,   1.7862,2,     2325
  49UP20100706,   P09,    45,  1,     11,    110,2,20100717,2213, 16.5063, 136.9805, 5549,   2784.8,   1.7142,   1.7141,2,  34.6593,2,  34.6593,2,    131.9,2,   145.12,2,    37.16,2,     0.00,2,     2.59,2, -999.000,9, -999.000,9,   -999.0,9,   -999.0,9,-999.0000,9,  -999.00,  -999.00,9,  -999.00,9,   1.7141,2,     2319
  49UP20100706,   P09,    45,  1,     10,     83,2,20100717,2213, 16.5063, 136.9805, 5549,   3041.2,   1.6597,   1.6598,2,  34.6655,2,  34.6656,2,    136.7,2,   144.86,2,    36.79,2,     0.00,2,     2.56,2, -999.000,9, -999.000,9,   -999.0,9,   -999.0,9,-999.0000,9,  -999.00,  -999.00,9,  -999.00,9,   1.6598,2,     2313
  49UP20100706,   P09,    45,  1,      9,     82,2,20100717,2213, 16.5063, 136.9805, 5549,   3294.9,   1.6128,   1.6128,2,  34.6707,2,  34.6703,2,    141.8,2,   144.06,2,    36.52,2,     0.00,2,     2.54,2, -999.000,9, -999.000,9,   -999.0,9,   -999.0,9,-999.0000,9,  -999.00,  -999.00,9,  -999.00,9,   1.6128,2,     2307
  49UP20100706,   P09,    45,  1,      8,     81,2,20100717,2213, 16.5063, 136.9805, 5549,   3552.4,   1.5724,   1.5726,2,  34.6759,2,  34.6774,4,    146.9,2,   142.92,2,    36.18,2,     0.00,2,     2.51,2, -999.000,9, -999.000,9,   -999.0,9,   -999.0,9,-999.0000,9,  -999.00,  -999.00,9,  -999.00,9,   1.5726,2,     2300
  49UP20100706,   P09,    45,  1,      7,     80,2,20100717,2213, 16.5063, 136.9805, 5549,   3807.2,   1.5294,   1.5295,2,  34.6810,2,  34.6810,2,    152.4,2,   141.61,2,    35.87,2,     0.00,2,     2.48,2, -999.000,9, -999.000,9,   -999.0,9,   -999.0,9,-999.0000,9,  -999.00,  -999.00,9,  -999.00,9,   1.5295,2,     2254
  49UP20100706,   P09,    45,  1,      6,     79,2,20100717,2213, 16.5063, 136.9805, 5549,   4062.3,   1.5234,   1.5237,2,  34.6834,2,  34.6830,2,    155.4,2,   140.94,2,    35.70,2,     0.00,2,     2.47,2, -999.000,9, -999.000,9,   -999.0,9,   -999.0,9,-999.0000,9,  -999.00,  -999.00,9,  -999.00,9,   1.5237,2,     2248
  49UP20100706,   P09,    45,  1,      5,     78,2,20100717,2213, 16.5063, 136.9805, 5549,   4319.6,   1.5145,   1.5144,2,  34.6861,2,  34.6862,2,    158.5,2,   140.06,2,    35.43,2,     0.00,2,     2.45,2, -999.000,9, -999.000,9,   -999.0,9,   -999.0,9,-999.0000,9,  -999.00,  -999.00,9,  -999.00,9,   1.5144,2,     2242
  49UP20100706,   P09,    45,  1,      4,     77,2,20100717,2213, 16.5063, 136.9805, 5549,   4575.2,   1.5268,   1.5271,2,  34.6876,2,  34.6873,2,    160.6,2,   139.21,2,    35.30,2,     0.00,2,     2.44,2, -999.000,9, -999.000,9,   -999.0,9,   -999.0,9,-999.0000,9,  -999.00,  -999.00,9,  -999.00,9,   1.5271,2,     2236
  49UP20100706,   P09,    45,  1,      3,     76,2,20100717,2213, 16.5063, 136.9805, 5549,   4831.8,   1.5560,   1.5563,2,  34.6877,2,  34.6874,2,    165.9,3,   138.91,2,    35.26,2,     0.00,2,     2.44,2, -999.000,9, -999.000,9,   -999.0,9,   -999.0,9,-999.0000,9,  -999.00,  -999.00,9,  -999.00,9,   1.5563,2,     2231
  49UP20100706,   P09,    45,  1,      2,     75,2,20100717,2213, 16.5063, 136.9805, 5549,   5090.3,   1.5868,   1.5872,2,  34.6878,2,  34.6872,2,    160.8,2,   139.22,2,    35.30,2,     0.00,2,     2.44,2, -999.000,9, -999.000,9,   -999.0,9,   -999.0,9,-999.0000,9,  -999.00,  -999.00,9,  -999.00,9,   1.5872,2,     2225
  49UP20100706,   P09,    45,  1,      1,     74,2,20100717,2213, 16.5063, 136.9805, 5549,   5613.6,   1.6511,   1.6512,2,  34.6878,2,  34.6903,4,    161.3,2,   139.12,2,    35.28,2,     0.00,2,     2.44,2, -999.000,9, -999.000,9,   -999.0,9,   -999.0,9,-999.0000,9,  -999.00,  -999.00,9,  -999.00,9,   1.6512,2,     2214