BOTTLE,20200625PRINUNIVRMK
EXPOCODE,SECT_ID,STNNBR,CASTNO,SAMPNO,BTLNBR,BTLNBR_FLAG_W,DATE,TIME,LATITUDE,LONGITUDE,DEPTH,CTDPRS,CTDTMP,SBE35,SBE35_FLAG_W,CTDSAL,CTDSAL_FLAG_W,SALNTY,SALNTY_FLAG_W,OXYGEN,OXYGEN_FLAG_W,SILCAT,SILCAT_FLAG_W,NITRAT,NITRAT_FLAG_W,NITRIT,NITRIT_FLAG_W,PHSPHT,PHSPHT_FLAG_W,CFC-11,CFC-11_FLAG_W,CFC-12,CFC-12_FLAG_W,TCARBN,TCARBN_FLAG_W,ALKALI,ALKALI_FLAG_W,PH_TOT,PH_TOT_FLAG_W,PH_TMP,CHLORA,CHLORA_FLAG_W,PPHYTN,PPHYTN_FLAG_W,SBE35,SBE35_FLAG_W,BTL_TIME
,,,,,,,,,,,METERS,DBAR,ITS-90,,,PSS-78,,PSS-78,,UMOL/KG,,UMOL/KG,,UMOL/KG,,UMOL/KG,,UMOL/KG,,PMOL/KG,,PMOL/KG,,UMOL/KG,,UMOL/KG,,,,DEG C,UG/KG,,UG/KG,,,,
  49UP20100706,   P09,    70,  1,      0,     -9,0,20100802,1348,  6.2957, 137.7178, 4396,      0.0,  30.0596,-999.0000,9,  33.8484,2,-999.0000,9,    193.0,2,     1.01,2,     0.00,2,     0.00,2,     0.10,2, -999.000,9, -999.000,9,   -999.0,9,   -999.0,9,-999.0000,9,  -999.00,  -999.00,9,  -999.00,9,-999.0000,9,     1530
  49UP20100706,   P09,    70,  1,     36,    109,2,20100802,1348,  6.2957, 137.7178, 4396,     10.9,  30.0813,  30.0826,2,  33.8484,2,  33.8464,2,    193.6,2,     0.95,2,     0.00,2,     0.00,2,     0.04,2, -999.000,9, -999.000,9,   -999.0,9,   -999.0,9,-999.0000,9,  -999.00,  -999.00,9,  -999.00,9,  30.0826,2,     1554
  49UP20100706,   P09,    70,  1,     35,    108,2,20100802,1348,  6.2957, 137.7178, 4396,     25.7,  30.0736,  30.0715,2,  33.8463,2,  33.8428,2,    193.4,2,     0.91,2,     0.00,2,     0.00,2,     0.03,2, -999.000,9, -999.000,9,   -999.0,9,   -999.0,9,-999.0000,9,  -999.00,  -999.00,9,  -999.00,9,  30.0715,2,     1553
  49UP20100706,   P09,    70,  1,     34,    107,2,20100802,1348,  6.2957, 137.7178, 4396,     51.3,  30.1926,  30.1911,2,  34.1470,2,  34.1100,4,    197.0,2,     1.17,2,     0.00,2,     0.00,2,     0.04,2, -999.000,9, -999.000,9,   -999.0,9,   -999.0,9,-999.0000,9,  -999.00,  -999.00,9,  -999.00,9,  30.1911,2,     1549
  49UP20100706,   P09,    70,  1,     33,    106,2,20100802,1348,  6.2957, 137.7178, 4396,     75.9,  29.9501,  29.9494,2,  34.3389,2,  34.3404,2,    201.8,2,     1.51,2,     0.00,2,     0.00,2,     0.03,2, -999.000,9, -999.000,9,   -999.0,9,   -999.0,9,-999.0000,9,  -999.00,  -999.00,9,  -999.00,9,  29.9494,2,     1547
  49UP20100706,   P09,    70,  1,     32,    105,2,20100802,1348,  6.2957, 137.7178, 4396,    101.4,  28.6060,  28.6098,2,  34.4935,2,  34.4944,2,    195.0,2,     1.46,2,     0.00,2,     0.00,2,     0.08,2, -999.000,9, -999.000,9,   -999.0,9,   -999.0,9,-999.0000,9,  -999.00,  -999.00,9,  -999.00,9,  28.6098,2,     1546
  49UP20100706,   P09,    70,  1,     31,    104,2,20100802,1348,  6.2957, 137.7178, 4396,    126.0,  24.8811,  24.8847,2,  34.7735,2,  34.7742,2,    170.9,2,     2.67,2,     2.24,2,     0.11,2,     0.28,2, -999.000,9, -999.000,9,   -999.0,9,   -999.0,9,-999.0000,9,  -999.00,  -999.00,9,  -999.00,9,  24.8847,2,     1544
  49UP20100706,   P09,    70,  1,     30,    103,2,20100802,1348,  6.2957, 137.7178, 4396,    151.8,  21.2920,  21.2905,2,  34.8111,2,  34.8098,2,    153.3,2,     5.49,2,     6.27,2,     0.02,2,     0.55,2, -999.000,9, -999.000,9,   -999.0,9,   -999.0,9,-999.0000,9,  -999.00,  -999.00,9,  -999.00,9,  21.2905,2,     1542
  49UP20100706,   P09,    70,  1,     29,    102,2,20100802,1348,  6.2957, 137.7178, 4396,    202.4,  14.2717,  14.2716,2,  34.5731,2,  34.5731,2,    123.0,2,    17.41,2,    17.62,2,     0.01,2,     1.30,2, -999.000,9, -999.000,9,   -999.0,9,   -999.0,9,-999.0000,9,  -999.00,  -999.00,9,  -999.00,9,  14.2716,2,     1540
  49UP20100706,   P09,    70,  1,     28,    101,2,20100802,1348,  6.2957, 137.7178, 4396,    252.0,  11.5593,  11.5588,2,  34.5368,2,  34.5368,2,     85.6,2,    27.08,2,    25.85,2,     0.00,2,     1.87,2, -999.000,9, -999.000,9,   -999.0,9,   -999.0,9,-999.0000,9,  -999.00,  -999.00,9,  -999.00,9,  11.5588,2,     1537
  49UP20100706,   P09,    70,  1,     27,    100,2,20100802,1348,  6.2957, 137.7178, 4396,    282.8,   9.9077,   9.9067,2,  34.5839,2,  34.5831,2,     58.8,2,    34.03,2,    31.53,2,     0.00,2,     2.25,2, -999.000,9, -999.000,9,   -999.0,9,   -999.0,9,-999.0000,9,  -999.00,  -999.00,9,  -999.00,9,   9.9067,2,     1535
  49UP20100706,   P09,    70,  1,     26,     99,2,20100802,1348,  6.2957, 137.7178, 4396,    333.2,   9.1123,   9.1138,2,  34.5961,2,  34.5953,2,     58.5,2,    37.17,2,    33.20,2,     0.00,2,     2.35,2, -999.000,9, -999.000,9,   -999.0,9,   -999.0,9,-999.0000,9,  -999.00,  -999.00,9,  -999.00,9,   9.1138,2,     1533
  49UP20100706,   P09,    70,  1,     25,     98,2,20100802,1348,  6.2957, 137.7178, 4396,    383.2,   8.5614,   8.5611,2,  34.5905,2,  34.5895,2,     69.8,2,    38.85,2,    33.27,2,     0.00,2,     2.35,2, -999.000,9, -999.000,9,   -999.0,9,   -999.0,9,-999.0000,9,  -999.00,  -999.00,9,  -999.00,9,   8.5611,2,     1531
  49UP20100706,   P09,    70,  1,     24,     97,4,20100802,1348,  6.2957, 137.7178, 4396,    433.9,   8.1158,   8.1150,2,  34.5789,2,  34.6786,4,    149.2,4,   142.53,4,    36.10,4,     0.00,4,     2.50,4, -999.000,9, -999.000,9,   -999.0,9,   -999.0,9,-999.0000,9,  -999.00,  -999.00,9,  -999.00,9,   8.1150,2,     1529
  49UP20100706,   P09,    70,  1,     23,     96,2,20100802,1348,  6.2957, 137.7178, 4396,    484.4,   7.6571,   7.6560,2,  34.5577,2,  34.5574,2,     86.4,2,    43.75,2,    33.48,2,     0.00,2,     2.37,2, -999.000,9, -999.000,9,   -999.0,9,   -999.0,9,-999.0000,9,  -999.00,  -999.00,9,  -999.00,9,   7.6560,2,     1526
  49UP20100706,   P09,    70,  1,     22,     95,2,20100802,1348,  6.2957, 137.7178, 4396,    575.0,   7.1686,   7.1681,2,  34.5406,2,  34.5401,2,     94.8,2,    47.12,2,    33.57,2,     0.00,2,     2.38,2, -999.000,9, -999.000,9,   -999.0,9,   -999.0,9,-999.0000,9,  -999.00,  -999.00,9,  -999.00,9,   7.1681,2,     1524
  49UP20100706,   P09,    70,  1,     21,     94,2,20100802,1348,  6.2957, 137.7178, 4396,    675.3,   6.5073,   6.5070,2,  34.5279,2,  34.5270,2,     95.5,2,    54.76,2,    34.73,2,     0.00,2,     2.47,2, -999.000,9, -999.000,9,   -999.0,9,   -999.0,9,-999.0000,9,  -999.00,  -999.00,9,  -999.00,9,   6.5070,2,     1520
  49UP20100706,   P09,    70,  1,     20,     93,2,20100802,1348,  6.2957, 137.7178, 4396,    778.2,   5.8476,   5.8483,2,  34.5306,2,  34.5301,2,     85.1,2,    66.89,2,    36.69,2,     0.00,2,     2.62,2, -999.000,9, -999.000,9,   -999.0,9,   -999.0,9,-999.0000,9,  -999.00,  -999.00,9,  -999.00,9,   5.8483,2,     1517
  49UP20100706,   P09,    70,  1,     19,     92,2,20100802,1348,  6.2957, 137.7178, 4396,    878.0,   5.2371,   5.2385,2,  34.5388,2,  34.5383,2,     88.2,2,    76.73,2,    37.27,2,     0.00,2,     2.65,2, -999.000,9, -999.000,9,   -999.0,9,   -999.0,9,-999.0000,9,  -999.00,  -999.00,9,  -999.00,9,   5.2385,2,     1513
  49UP20100706,   P09,    70,  1,     18,     91,2,20100802,1348,  6.2957, 137.7178, 4396,    878.0,   5.2371,   5.2385,2,  34.5388,2,  34.5380,2,     88.0,2,    76.90,2,    37.29,2,     0.00,2,     2.66,2, -999.000,9, -999.000,9,   -999.0,9,   -999.0,9,-999.0000,9,  -999.00,  -999.00,9,  -999.00,9,   5.2385,2,     1513
  49UP20100706,   P09,    70,  1,     17,     90,2,20100802,1348,  6.2957, 137.7178, 4396,    979.5,   4.6813,   4.6813,2,  34.5502,2,  34.5492,2,     90.6,2,    87.18,2,    37.72,2,     0.00,2,     2.69,2, -999.000,9, -999.000,9,   -999.0,9,   -999.0,9,-999.0000,9,  -999.00,  -999.00,9,  -999.00,9,   4.6813,2,     1510
  49UP20100706,   P09,    70,  1,     16,     89,2,20100802,1348,  6.2957, 137.7178, 4396,   1180.1,   3.8883,   3.8879,2,  34.5702,2,  34.5694,2,     90.2,2,   103.38,2,    38.65,2,     0.00,2,     2.76,2, -999.000,9, -999.000,9,   -999.0,9,   -999.0,9,-999.0000,9,  -999.00,  -999.00,9,  -999.00,9,   3.8879,2,     1505
  49UP20100706,   P09,    70,  1,     15,     88,2,20100802,1348,  6.2957, 137.7178, 4396,   1180.1,   3.8883,   3.8879,2,  34.5702,2,  34.5694,2,     90.0,2,   103.55,2,    38.63,2,     0.00,2,     2.75,2, -999.000,9, -999.000,9,   -999.0,9,   -999.0,9,-999.0000,9,  -999.00,  -999.00,9,  -999.00,9,   3.8879,2,     1505
  49UP20100706,   P09,    70,  1,     14,     87,2,20100802,1348,  6.2957, 137.7178, 4396,   1433.5,   3.1749,   3.1750,2,  34.5928,2,  34.5925,2,     96.3,2,   118.43,2,    38.87,2,     0.00,2,     2.75,2, -999.000,9, -999.000,9,   -999.0,9,   -999.0,9,-999.0000,9,  -999.00,  -999.00,9,  -999.00,9,   3.1750,2,     1458
  49UP20100706,   P09,    70,  1,     13,     86,2,20100802,1348,  6.2957, 137.7178, 4396,   1697.1,   2.7344,   2.7354,2,  34.6113,2,  34.6110,2,    102.6,2,   127.39,2,    38.75,2,     0.00,2,     2.74,2, -999.000,9, -999.000,9,   -999.0,9,   -999.0,9,-999.0000,9,  -999.00,  -999.00,9,  -999.00,9,   2.7354,2,     1451
  49UP20100706,   P09,    70,  1,     12,     85,2,20100802,1348,  6.2957, 137.7178, 4396,   1940.7,   2.3383,   2.3383,2,  34.6288,2,  34.6287,2,    111.0,2,   135.15,2,    38.38,2,     0.00,2,     2.70,2, -999.000,9, -999.000,9,   -999.0,9,   -999.0,9,-999.0000,9,  -999.00,  -999.00,9,  -999.00,9,   2.3383,2,     1446
  49UP20100706,   P09,    70,  1,     11,    110,2,20100802,1348,  6.2957, 137.7178, 4396,   2194.0,   2.0065,   2.0064,2,  34.6477,2,  34.6473,2,    120.3,2,   140.01,2,    37.91,2,     0.00,2,     2.66,2, -999.000,9, -999.000,9,   -999.0,9,   -999.0,9,-999.0000,9,  -999.00,  -999.00,9,  -999.00,9,   2.0064,2,     1440
  49UP20100706,   P09,    70,  1,     10,     83,2,20100802,1348,  6.2957, 137.7178, 4396,   2448.6,   1.8136,   1.8138,2,  34.6584,2,  34.6581,2,    129.5,2,   141.54,2,    37.33,2,     0.00,2,     2.61,2, -999.000,9, -999.000,9,   -999.0,9,   -999.0,9,-999.0000,9,  -999.00,  -999.00,9,  -999.00,9,   1.8138,2,     1434
  49UP20100706,   P09,    70,  1,      9,     82,2,20100802,1348,  6.2957, 137.7178, 4396,   2448.6,   1.8136,   1.8138,2,  34.6584,2,  34.6585,6,    129.3,6,   142.13,6,    37.35,6,     0.00,6,     2.61,6, -999.000,9, -999.000,9,   -999.0,9,   -999.0,9,-999.0000,9,  -999.00,  -999.00,9,  -999.00,9,   1.8138,2,     1434
  49UP20100706,   P09,    70,  1,      8,     81,2,20100802,1348,  6.2957, 137.7178, 4396,   2713.0,   1.6559,   1.6562,2,  34.6676,2,  34.6675,6,    138.2,6,   142.94,6,    36.82,6,     0.00,6,     2.57,6, -999.000,9, -999.000,9,   -999.0,9,   -999.0,9,-999.0000,9,  -999.00,  -999.00,9,  -999.00,9,   1.6562,2,     1428
  49UP20100706,   P09,    70,  1,      7,     80,2,20100802,1348,  6.2957, 137.7178, 4396,   2957.7,   1.5924,   1.5926,2,  34.6724,2,  34.6718,6,    142.2,6,   142.75,6,    36.58,6,     0.00,6,     2.55,6, -999.000,9, -999.000,9,   -999.0,9,   -999.0,9,-999.0000,9,  -999.00,  -999.00,9,  -999.00,9,   1.5926,2,     1423
  49UP20100706,   P09,    70,  1,      6,     79,2,20100802,1348,  6.2957, 137.7178, 4396,   3223.8,   1.5683,   1.5685,2,  34.6755,2,  34.6749,6,    145.6,6,   142.77,6,    36.35,6,     0.00,6,     2.53,6, -999.000,9, -999.000,9,   -999.0,9,   -999.0,9,-999.0000,9,  -999.00,  -999.00,9,  -999.00,9,   1.5685,2,     1417
  49UP20100706,   P09,    70,  1,      5,     78,2,20100802,1348,  6.2957, 137.7178, 4396,   3468.3,   1.5406,   1.5407,2,  34.6791,2,  34.6790,2,    148.5,2,   142.45,2,    36.13,2,     0.00,2,     2.51,2, -999.000,9, -999.000,9,   -999.0,9,   -999.0,9,-999.0000,9,  -999.00,  -999.00,9,  -999.00,9,   1.5407,2,     1411
  49UP20100706,   P09,    70,  1,      4,     77,2,20100802,1348,  6.2957, 137.7178, 4396,   3734.4,   1.5164,   1.5167,2,  34.6828,2,  34.6825,2,    152.2,2,   141.58,2,    35.89,2,     0.00,2,     2.49,2, -999.000,9, -999.000,9,   -999.0,9,   -999.0,9,-999.0000,9,  -999.00,  -999.00,9,  -999.00,9,   1.5167,2,     1405
  49UP20100706,   P09,    70,  1,      3,     76,2,20100802,1348,  6.2957, 137.7178, 4396,   3979.1,   1.5116,   1.5119,2,  34.6853,2,  34.6850,2,    154.8,2,   141.05,2,    35.70,2,     0.00,2,     2.48,2, -999.000,9, -999.000,9,   -999.0,9,   -999.0,9,-999.0000,9,  -999.00,  -999.00,9,  -999.00,9,   1.5119,2,     1400
  49UP20100706,   P09,    70,  1,      2,     75,2,20100802,1348,  6.2957, 137.7178, 4396,   4245.1,   1.5100,   1.5100,2,  34.6873,2,  34.6869,2,    157.6,2,   140.46,2,    35.53,2,     0.00,2,     2.46,2, -999.000,9, -999.000,9,   -999.0,9,   -999.0,9,-999.0000,9,  -999.00,  -999.00,9,  -999.00,9,   1.5100,2,     1353
  49UP20100706,   P09,    70,  1,      1,     74,2,20100802,1348,  6.2957, 137.7178, 4396,   4451.4,   1.5127,   1.5127,2,  34.6888,2,  34.6882,2,    159.3,2,   139.42,2,    35.38,2,     0.00,2,     2.45,2, -999.000,9, -999.000,9,   -999.0,9,   -999.0,9,-999.0000,9,  -999.00,  -999.00,9,  -999.00,9,   1.5127,2,     1348