BOTTLE,20200625PRINUNIVRMK
EXPOCODE,SECT_ID,STNNBR,CASTNO,SAMPNO,BTLNBR,BTLNBR_FLAG_W,DATE,TIME,LATITUDE,LONGITUDE,DEPTH,CTDPRS,CTDTMP,SBE35,SBE35_FLAG_W,CTDSAL,CTDSAL_FLAG_W,SALNTY,SALNTY_FLAG_W,OXYGEN,OXYGEN_FLAG_W,SILCAT,SILCAT_FLAG_W,NITRAT,NITRAT_FLAG_W,NITRIT,NITRIT_FLAG_W,PHSPHT,PHSPHT_FLAG_W,CFC-11,CFC-11_FLAG_W,CFC-12,CFC-12_FLAG_W,TCARBN,TCARBN_FLAG_W,ALKALI,ALKALI_FLAG_W,PH_TOT,PH_TOT_FLAG_W,PH_TMP,CHLORA,CHLORA_FLAG_W,PPHYTN,PPHYTN_FLAG_W,SBE35,SBE35_FLAG_W,BTL_TIME
,,,,,,,,,,,METERS,DBAR,ITS-90,,,PSS-78,,PSS-78,,UMOL/KG,,UMOL/KG,,UMOL/KG,,UMOL/KG,,UMOL/KG,,PMOL/KG,,PMOL/KG,,UMOL/KG,,UMOL/KG,,,,DEG C,UG/KG,,UG/KG,,,,
  49UP20100706,   P09,    99,  1,      0,     -9,0,20100809,1532, -2.0018, 141.9848, 3604,      0.0,  28.9905,-999.0000,9,  34.5500,2,-999.0000,9,    193.8,2,     1.12,2,     0.02,2,     0.00,2,     0.12,2, -999.000,9, -999.000,9,   -999.0,9,   -999.0,9,-999.0000,9,  -999.00,     0.17,2,     0.04,2,-999.0000,9,     1700
  49UP20100706,   P09,    99,  1,     36,    109,2,20100809,1532, -2.0018, 141.9848, 3604,     11.1,  29.0667,  29.0656,2,  34.6005,2,  34.6215,4,    194.7,2,     1.15,2,     0.00,2,     0.00,2,     0.10,2,    1.502,2,    0.915,2,   1938.8,2,   2275.7,2,   8.1299,2,    25.00,     0.12,2,     0.05,2,  29.0656,2,     1717
  49UP20100706,   P09,    99,  1,     35,    108,2,20100809,1532, -2.0018, 141.9848, 3604,     27.1,  29.0908,  29.0897,2,  34.7149,2,  34.7167,2,    194.4,2,     1.20,2,     0.00,2,     0.00,2,     0.09,2,    1.511,2,    0.921,2,   1942.2,2,   2281.8,2,   8.1311,2,    25.00,     0.13,2,     0.05,2,  29.0897,2,     1716
  49UP20100706,   P09,    99,  1,     34,    107,2,20100809,1532, -2.0018, 141.9848, 3604,     50.8,  28.9784,  28.9758,2,  34.7097,2,  34.7029,4,    194.6,2,     1.19,2,     0.00,2,     0.00,2,     0.09,2,    1.518,2,    0.904,2,   1941.9,2,   2279.4,2,   8.1273,2,    25.00,     0.17,2,     0.07,2,  28.9758,2,     1714
  49UP20100706,   P09,    99,  1,     33,    106,2,20100809,1532, -2.0018, 141.9848, 3604,     75.6,  27.9871,  27.9839,2,  34.7384,2,  34.7401,2,    188.2,2,     1.20,2,     0.15,2,     0.23,2,     0.10,2,    1.548,2,    0.949,2,   1953.3,2,   2281.2,2,   8.1085,2,    25.00,     0.40,2,     0.32,2,  27.9839,2,     1712
  49UP20100706,   P09,    99,  1,     32,    105,2,20100809,1532, -2.0018, 141.9848, 3604,    101.3,  27.5446,  27.5436,2,  34.8008,2,  34.8218,4,    180.8,2,     1.37,2,     0.96,2,     0.35,2,     0.16,2,    1.616,2,    0.951,2,   1969.0,2,   2285.2,2,   8.0850,2,    25.00,     0.21,2,     0.23,2,  27.5436,2,     1711
  49UP20100706,   P09,    99,  1,     31,    104,2,20100809,1532, -2.0018, 141.9848, 3604,    126.4,  26.0124,  26.0124,2,  35.2506,2,  35.2886,4,    160.5,2,     1.62,2,     3.73,2,     0.07,2,     0.36,2,    1.681,2,    1.062,2,   2021.8,2,   2324.9,2,   8.0328,2,    25.00,     0.06,2,     0.13,2,  26.0124,2,     1710
  49UP20100706,   P09,    99,  1,     30,    103,2,20100809,1532, -2.0018, 141.9848, 3604,    150.6,  23.6256,  23.6394,2,  35.5418,2,  35.5605,4,    148.8,2,     1.96,2,     5.72,2,     0.03,2,     0.52,2,    1.821,3,    1.135,3,   2063.1,2,   2331.5,2,   7.9833,2,    25.00,     0.02,2,     0.07,2,  23.6394,2,     1708
  49UP20100706,   P09,    99,  1,     29,    102,2,20100809,1532, -2.0018, 141.9848, 3604,    199.4,  18.4815,  18.4780,2,  35.4536,2,  35.4525,2,    146.4,2,     4.24,2,    10.47,2,     0.01,2,     0.84,2,    1.966,2,    1.164,2,   2114.9,6,   2330.1,6,   7.8824,6,    25.00,  -999.00,9,  -999.00,9,  18.4780,2,     1706
  49UP20100706,   P09,    99,  1,     28,    101,2,20100809,1532, -2.0018, 141.9848, 3604,    199.4,  18.4815,  18.4780,2,  35.4536,2,  35.4517,2,    146.2,2,     4.25,2,    10.47,2,     0.01,2,     0.83,2,    1.970,2,    1.119,2,   2113.3,2,   2324.0,3,   7.8840,2,    25.00,     0.00,2,     0.03,2,  18.4780,2,     1706
  49UP20100706,   P09,    99,  1,     27,    100,2,20100809,1532, -2.0018, 141.9848, 3604,    250.8,  16.7768,  16.7749,2,  35.3403,2,  35.3421,2,    146.3,2,     5.60,2,    12.37,2,     0.01,2,     0.96,2,    1.916,2,    1.104,2,   2124.0,2,   2319.3,2,   7.8494,2,    25.00,  -999.00,9,  -999.00,9,  16.7749,2,     1704
  49UP20100706,   P09,    99,  1,     26,     99,2,20100809,1532, -2.0018, 141.9848, 3604,    301.8,  13.3143,  13.3006,2,  35.0365,2,  35.0484,4,    146.5,2,    10.25,2,    17.37,2,     0.00,2,     1.27,2,    1.728,6,    0.930,6,   2149.3,2,   2306.4,2,   7.7744,2,    25.00,  -999.00,9,  -999.00,9,  13.3006,2,     1702
  49UP20100706,   P09,    99,  1,     25,     98,2,20100809,1532, -2.0018, 141.9848, 3604,    352.9,  11.2959,  11.3119,2,  34.8602,2,  34.8919,4,    151.5,2,    12.96,2,    19.88,2,     0.00,2,     1.42,2,    1.562,2,    0.827,2,   2155.2,2,   2304.8,2,   7.7364,2,    25.00,  -999.00,9,  -999.00,9,  11.3119,2,     1700
  49UP20100706,   P09,    99,  1,     24,     97,2,20100809,1532, -2.0018, 141.9848, 3604,    404.5,   9.0300,   9.0414,2,  34.6661,2,  34.6809,4,    167.3,2,    16.95,2,    23.14,2,     0.00,2,     1.62,2,    1.322,2,    0.666,2,   2168.2,2,   2297.8,2,   7.7010,2,    25.00,  -999.00,9,  -999.00,9,   9.0414,2,     1658
  49UP20100706,   P09,    99,  1,     23,     96,2,20100809,1532, -2.0018, 141.9848, 3604,    455.5,   8.0547,   8.0574,2,  34.5925,2,  34.5940,2,    169.0,2,    21.28,2,    25.38,2,     0.00,2,     1.77,2,    1.093,2,    0.515,2,   2178.9,2,   2297.3,2,   7.6743,2,    25.00,  -999.00,9,  -999.00,9,   8.0574,2,     1656
  49UP20100706,   P09,    99,  1,     22,     95,2,20100809,1532, -2.0018, 141.9848, 3604,    504.9,   7.3830,   7.3835,2,  34.5473,2,  34.5483,2,    170.8,2,    24.51,2,    26.62,2,     0.00,2,     1.85,2,    0.956,2,    0.454,2,   2186.0,2,   2297.9,2,   7.6642,2,    25.00,  -999.00,9,  -999.00,9,   7.3835,2,     1654
  49UP20100706,   P09,    99,  1,     21,     94,2,20100809,1532, -2.0018, 141.9848, 3604,    607.3,   6.7783,   6.7795,2,  34.5367,2,  34.5379,2,    146.0,2,    35.43,2,    30.19,2,     0.00,2,     2.10,2,    0.567,6,    0.256,6,   2211.4,2,   2303.2,2,   7.6116,2,    25.00,  -999.00,9,  -999.00,9,   6.7795,2,     1650
  49UP20100706,   P09,    99,  1,     20,     93,2,20100809,1532, -2.0018, 141.9848, 3604,    709.2,   6.0473,   6.0480,2,  34.5112,2,  34.5101,2,    146.3,2,    42.24,2,    31.57,2,     0.00,2,     2.20,2,    0.400,2,    0.184,2,   2225.3,6,   2314.2,6,   7.5981,6,    25.00,  -999.00,9,  -999.00,9,   6.0480,2,     1647
  49UP20100706,   P09,    99,  1,     19,     92,2,20100809,1532, -2.0018, 141.9848, 3604,    709.2,   6.0473,   6.0480,2,  34.5112,2,  34.5110,2,    146.4,2,    42.35,2,    31.51,2,     0.00,2,     2.20,2,    0.429,2,    0.180,2,   2224.9,2,   2313.3,2,   7.5993,2,    25.00,  -999.00,9,  -999.00,9,   6.0480,2,     1647
  49UP20100706,   P09,    99,  1,     18,     91,2,20100809,1532, -2.0018, 141.9848, 3604,    811.7,   5.6692,   5.6760,2,  34.5191,2,  34.5180,2,    129.2,2,    51.95,2,    33.68,2,     0.00,2,     2.36,2,    0.256,3,    0.061,4,   2247.9,2,   2321.1,2,   7.5690,2,    25.00,  -999.00,9,  -999.00,9,   5.6760,2,     1643
  49UP20100706,   P09,    99,  1,     17,     90,2,20100809,1532, -2.0018, 141.9848, 3604,    909.9,   4.7723,   4.7730,2,  34.5155,2,  34.5152,2,    137.4,2,    64.34,2,    34.17,2,     0.00,2,     2.39,2,    0.164,3,    0.378,4,   2257.9,2,   2332.4,2,   7.5686,2,    25.00,  -999.00,9,  -999.00,9,   4.7730,2,     1640
  49UP20100706,   P09,    99,  1,     16,     89,2,20100809,1532, -2.0018, 141.9848, 3604,   1010.9,   4.4596,   4.4608,2,  34.5345,2,  34.5339,6,    124.7,6,    74.93,6,    35.55,6,     0.00,6,     2.51,6,    0.087,2,    0.030,2,   2274.9,2,   2345.5,2,   7.5472,2,    25.00,  -999.00,9,  -999.00,9,   4.4608,2,     1636
  49UP20100706,   P09,    99,  1,     15,     88,2,20100809,1532, -2.0018, 141.9848, 3604,   1262.9,   3.5834,   3.5865,2,  34.5785,2,  34.5785,2,    107.2,2,   101.58,2,    37.73,2,     0.00,2,     2.68,2,    0.000,2,    0.000,2,   2316.5,2,   2373.6,2,   7.5170,2,    25.00,  -999.00,9,  -999.00,9,   3.5865,2,     1629
  49UP20100706,   P09,    99,  1,     14,     87,2,20100809,1532, -2.0018, 141.9848, 3604,   1514.9,   2.9566,   2.9566,2,  34.6035,2,  34.6029,2,    108.9,2,   116.69,2,    38.22,2,     0.00,2,     2.70,2,    0.000,2,    0.000,2,   2329.2,2,   2390.4,2,   7.5154,2,    25.00,  -999.00,9,  -999.00,9,   2.9566,2,     1622
  49UP20100706,   P09,    99,  1,     13,     86,2,20100809,1532, -2.0018, 141.9848, 3604,   1767.9,   2.5530,   2.5532,2,  34.6214,2,  34.6228,6,    114.3,2,   125.76,6,    38.08,6,     0.00,6,     2.68,6,    0.000,2,    0.000,2,   2334.3,2,   2398.2,2,   7.5266,2,    25.00,  -999.00,9,  -999.00,9,   2.5532,2,     1616
  49UP20100706,   P09,    99,  1,     12,     85,2,20100809,1532, -2.0018, 141.9848, 3604,   2021.9,   2.1771,   2.1779,2,  34.6395,2,  34.6401,2,    119.9,2,   134.91,2,    37.93,2,     0.00,2,     2.66,2, -999.000,9, -999.000,9,   2341.6,6,   2406.7,6,   7.5323,6,    25.00,  -999.00,9,  -999.00,9,   2.1779,2,     1609
  49UP20100706,   P09,    99,  1,     11,    110,2,20100809,1532, -2.0018, 141.9848, 3604,   2021.9,   2.1771,   2.1779,2,  34.6395,2,  34.6397,6,    119.9,6,   134.85,6,    37.89,6,     0.00,6,     2.66,6, -999.000,9, -999.000,9,   2339.0,2,   2408.4,2,   7.5329,2,    25.00,  -999.00,9,  -999.00,9,   2.1779,2,     1609
  49UP20100706,   P09,    99,  1,     10,     83,2,20100809,1532, -2.0018, 141.9848, 3604,   2274.6,   1.9187,   1.9189,2,  34.6530,2,  34.6534,6,    128.0,6,   139.08,6,    37.40,6,     0.00,6,     2.61,6, -999.000,9, -999.000,9,   2341.9,2,   2414.2,2,   7.5453,2,    25.00,  -999.00,9,  -999.00,9,   1.9189,2,     1603
  49UP20100706,   P09,    99,  1,      9,     82,2,20100809,1532, -2.0018, 141.9848, 3604,   2528.2,   1.7483,   1.7482,2,  34.6624,2,  34.6626,2,    134.2,2,   141.57,2,    37.01,2,     0.00,2,     2.58,2, -999.000,9, -999.000,9,   2339.0,2,   2417.6,2,   7.5546,2,    25.00,  -999.00,9,  -999.00,9,   1.7482,2,     1557
  49UP20100706,   P09,    99,  1,      8,     81,2,20100809,1532, -2.0018, 141.9848, 3604,   2781.7,   1.6489,   1.6488,2,  34.6691,2,  34.6697,2,    139.2,2,   142.47,2,    36.69,2,     0.00,2,     2.55,2,    0.000,2,    0.000,2,   2340.2,2,   2415.1,2,   7.5645,2,    25.00,  -999.00,9,  -999.00,9,   1.6488,2,     1552
  49UP20100706,   P09,    99,  1,      7,     80,2,20100809,1532, -2.0018, 141.9848, 3604,   3035.2,   1.6012,   1.6012,2,  34.6736,2,  34.6742,2,    142.0,2,   142.76,2,    36.52,2,     0.00,2,     2.54,2, -999.000,9, -999.000,9,   2342.1,6,   2421.1,6,   7.5710,6,    25.00,  -999.00,9,  -999.00,9,   1.6012,2,     1546
  49UP20100706,   P09,    99,  1,      6,     79,2,20100809,1532, -2.0018, 141.9848, 3604,   3035.2,   1.6012,   1.6012,2,  34.6736,2,  34.6740,2,    141.8,2,   142.93,2,    36.50,2,     0.00,2,     2.54,2, -999.000,9, -999.000,9,   2329.4,3,   2417.1,2,   7.5710,2,    25.00,  -999.00,9,  -999.00,9,   1.6012,2,     1546
  49UP20100706,   P09,    99,  1,      5,     78,2,20100809,1532, -2.0018, 141.9848, 3604,   3292.7,   1.5840,   1.5839,2,  34.6758,2,  34.6758,2,    144.3,2,   143.07,2,    36.34,2,     0.00,2,     2.53,2, -999.000,9, -999.000,9,   2341.2,2,   2421.0,2,   7.5738,2,    25.00,  -999.00,9,  -999.00,9,   1.5839,2,     1540
  49UP20100706,   P09,    99,  1,      1,     74,2,20100809,1532, -2.0018, 141.9848, 3604,   3631.9,   1.5749,   1.5748,2,  34.6786,2,  34.6788,2,    146.8,2,   143.12,2,    36.23,2,     0.00,2,     2.51,2,    0.000,2,    0.000,2,   2341.7,2,   2423.7,2,   7.5791,2,    25.00,  -999.00,9,  -999.00,9,   1.5748,2,     1532