BOTTLE,20200625PRINUNIVRMK
EXPOCODE,SECT_ID,STNNBR,CASTNO,SAMPNO,BTLNBR,BTLNBR_FLAG_W,DATE,TIME,LATITUDE,LONGITUDE,DEPTH,CTDPRS,CTDTMP,SBE35,SBE35_FLAG_W,CTDSAL,CTDSAL_FLAG_W,SALNTY,SALNTY_FLAG_W,OXYGEN,OXYGEN_FLAG_W,SILCAT,SILCAT_FLAG_W,NITRAT,NITRAT_FLAG_W,NITRIT,NITRIT_FLAG_W,PHSPHT,PHSPHT_FLAG_W,CFC-11,CFC-11_FLAG_W,CFC-12,CFC-12_FLAG_W,TCARBN,TCARBN_FLAG_W,ALKALI,ALKALI_FLAG_W,PH_TOT,PH_TOT_FLAG_W,PH_TMP,CHLORA,CHLORA_FLAG_W,PPHYTN,PPHYTN_FLAG_W,SBE35,SBE35_FLAG_W,BTL_TIME
,,,,,,,,,,,METERS,DBAR,ITS-90,,,PSS-78,,PSS-78,,UMOL/KG,,UMOL/KG,,UMOL/KG,,UMOL/KG,,UMOL/KG,,PMOL/KG,,PMOL/KG,,UMOL/KG,,UMOL/KG,,,,DEG C,UG/KG,,UG/KG,,,,
  49UP20100706,   P09,    54,  1,      0,     -9,0,20100720,0936, 12.0052, 136.9708, 4970,      0.0,  29.8831,-999.0000,9,  34.2861,2,-999.0000,9,    193.5,2,     0.92,2,     0.00,2,     0.00,2,     0.04,2, -999.000,9, -999.000,9,   -999.0,9,   -999.0,9,-999.0000,9,  -999.00,     0.03,2,     0.01,2,-999.0000,9,     1133
  49UP20100706,   P09,    54,  1,     36,    109,2,20100720,0936, 12.0052, 136.9708, 4970,     10.8,  29.8953,  29.8939,2,  34.2852,2,  34.2848,2,    193.9,2,     0.87,2,     0.00,2,     0.00,2,     0.04,2,    1.606,2,    0.955,2,   1917.2,2,   2251.9,2,   8.1216,2,    25.00,     0.03,2,     0.00,2,  29.8939,2,     1154
  49UP20100706,   P09,    54,  1,     35,    108,2,20100720,0936, 12.0052, 136.9708, 4970,     26.2,  29.8119,  29.8129,2,  34.3507,2,  34.3415,4,    195.2,2,     0.90,2,     0.00,2,     0.00,2,     0.03,2,    1.623,4,    0.965,4,   1917.7,2,   2254.4,2,   8.1264,2,    25.00,     0.03,2,     0.00,2,  29.8129,2,     1153
  49UP20100706,   P09,    54,  1,     34,    107,2,20100720,0936, 12.0052, 136.9708, 4970,     50.7,  29.0042,  29.0113,2,  34.6368,2,  34.6301,4,    201.3,2,     0.88,2,     0.00,2,     0.00,2,     0.05,2,    1.730,2,    0.969,2,   1935.3,2,   2272.0,2,   8.1188,2,    25.00,     0.04,2,     0.01,2,  29.0113,2,     1149
  49UP20100706,   P09,    54,  1,     33,    106,2,20100720,0936, 12.0052, 136.9708, 4970,     75.4,  28.1223,  28.1220,2,  34.7622,2,  34.7446,4,    204.0,2,     0.91,2,     0.00,2,     0.00,2,     0.06,2,    1.751,3,    1.009,3,   1941.9,2,   2283.2,2,   8.1112,2,    25.00,     0.08,2,     0.02,2,  28.1220,2,     1148
  49UP20100706,   P09,    54,  1,     32,    105,2,20100720,0936, 12.0052, 136.9708, 4970,    102.4,  27.2862,  27.2857,2,  35.0784,2,  35.0767,2,    205.0,2,     0.87,2,     0.00,2,     0.00,2,     0.06,2,    1.744,2,    1.030,2,   1962.1,2,   2308.0,2,   8.1118,2,    25.00,     0.21,2,     0.11,2,  27.2857,2,     1146
  49UP20100706,   P09,    54,  1,     31,    104,3,20100720,0936, 12.0052, 136.9708, 4970,    125.3,  26.5221,  26.5216,2,  35.1111,2,-999.0000,9,   -999.0,9,  -999.00,9,     0.00,9,  -999.00,9,  -999.00,9, -999.000,9, -999.000,9,   -999.0,9,   -999.0,9,-999.0000,9,  -999.00,  -999.00,9,  -999.00,9,  26.5216,2,     1144
  49UP20100706,   P09,    54,  1,     30,    103,2,20100720,0936, 12.0052, 136.9708, 4970,    150.1,  24.8576,  24.8492,2,  35.1235,2,  35.1240,2,    184.4,2,     1.14,2,     0.45,2,     0.03,2,     0.10,2,    1.856,2,    1.150,2,   2006.4,2,   2308.5,2,   8.0449,3,    25.00,     0.09,2,     0.22,2,  24.8492,2,     1143
  49UP20100706,   P09,    54,  1,     29,    102,2,20100720,0936, 12.0052, 136.9708, 4970,    201.9,  20.5927,  20.6004,2,  34.9478,2,  34.9675,4,    172.7,2,     2.64,2,     3.24,2,     0.01,2,     0.30,2,    2.179,2,    1.329,2,   2042.7,2,   2298.7,2,   7.9444,3,    25.00,     0.01,2,     0.03,2,  20.6004,2,     1140
  49UP20100706,   P09,    54,  1,     28,    101,2,20100720,0936, 12.0052, 136.9708, 4970,    253.4,  15.2983,  15.3043,2,  34.5717,2,  34.5860,4,    175.0,2,     8.56,2,     9.66,2,     0.00,2,     0.70,2,    2.564,2,    1.447,2,   2083.0,2,   2278.7,2,   7.8414,3,    25.00,  -999.00,9,  -999.00,9,  15.3043,2,     1137
  49UP20100706,   P09,    54,  1,     27,    100,2,20100720,0936, 12.0052, 136.9708, 4970,    303.2,  12.4327,  12.4287,2,  34.3819,2,  34.3845,2,    158.7,2,    17.22,2,    16.02,2,     0.00,2,     1.16,2,    2.530,6,    1.375,6,   2122.5,2,   2277.4,2,   7.7477,3,    25.00,  -999.00,9,  -999.00,9,  12.4287,2,     1133
  49UP20100706,   P09,    54,  1,     26,     99,2,20100720,0936, 12.0052, 136.9708, 4970,    355.3,  10.1882,  10.1997,2,  34.3675,2,  34.3578,4,    108.4,2,    29.89,2,    24.99,2,     0.00,2,     1.81,2,    1.772,2,    0.894,2,   2187.6,2,   2282.1,2,   7.6005,3,    25.00,  -999.00,9,  -999.00,9,  10.1997,2,     1131
  49UP20100706,   P09,    54,  1,     25,     98,2,20100720,0936, 12.0052, 136.9708, 4970,    405.5,   8.9093,   8.9235,2,  34.4269,2,  34.4196,4,     79.3,2,    39.40,2,    30.37,2,     0.00,2,     2.19,2,    1.045,2,    0.503,2,   2229.1,2,   2295.6,2,-999.0000,5,    25.00,  -999.00,9,  -999.00,9,   8.9235,2,     1128
  49UP20100706,   P09,    54,  1,     24,     97,2,20100720,0936, 12.0052, 136.9708, 4970,    455.8,   8.3132,   8.3143,2,  34.4371,2,  34.4356,2,     72.6,2,    44.94,2,    32.33,2,     0.00,2,     2.33,2,    0.770,2,    0.379,2,   2240.3,2,   2303.6,2,   7.4938,3,    25.00,  -999.00,9,  -999.00,9,   8.3143,2,     1125
  49UP20100706,   P09,    54,  1,     23,     96,2,20100720,0936, 12.0052, 136.9708, 4970,    505.6,   7.4618,   7.4619,2,  34.4337,2,  34.4335,2,     69.2,2,    52.67,2,    34.22,2,     0.00,2,     2.47,2,    0.635,2,    0.457,2,   2253.1,2,   2310.0,6,   7.4670,3,    25.00,  -999.00,9,  -999.00,9,   7.4619,2,     1122
  49UP20100706,   P09,    54,  1,     22,     95,2,20100720,0936, 12.0052, 136.9708, 4970,    505.6,   7.4618,   7.4619,2,  34.4337,2,  34.4331,2,     68.4,2,    52.99,2,    34.34,2,     0.00,2,     2.47,2,    0.518,6,    0.225,6,   2257.7,2,   2310.6,2,   7.4711,3,    25.00,  -999.00,9,  -999.00,9,   7.4619,2,     1122
  49UP20100706,   P09,    54,  1,     21,     94,2,20100720,0936, 12.0052, 136.9708, 4970,    607.5,   6.6839,   6.6902,2,  34.4755,2,  34.4777,2,     70.2,2,    59.50,2,    35.86,2,     0.00,2,     2.57,2,    0.257,2,    0.116,2,   2269.8,2,   2325.0,2,-999.0000,5,    25.00,  -999.00,9,  -999.00,9,   6.6902,2,     1117
  49UP20100706,   P09,    54,  1,     20,     93,2,20100720,0936, 12.0052, 136.9708, 4970,    707.8,   6.0258,   6.0273,2,  34.5040,2,  34.5034,2,     72.9,2,    67.53,2,    37.08,2,     0.00,2,     2.66,2,    0.130,2,    0.009,2,   2283.8,2,   2334.9,2,-999.0000,5,    25.00,  -999.00,9,  -999.00,9,   6.0273,2,     1113
  49UP20100706,   P09,    54,  1,     19,     92,2,20100720,0936, 12.0052, 136.9708, 4970,    807.8,   5.4607,   5.4605,2,  34.5184,2,  34.5176,2,     73.8,2,    76.17,2,    37.92,2,     0.00,2,     2.72,2,    0.073,2,    0.002,2,   2291.1,2,   2339.1,2,   7.4574,3,    25.00,  -999.00,9,  -999.00,9,   5.4605,2,     1110
  49UP20100706,   P09,    54,  1,     18,     91,2,20100720,0936, 12.0052, 136.9708, 4970,    905.8,   5.0061,   5.0058,2,  34.5274,2,  34.5264,2,     75.1,2,    84.48,2,    38.51,2,     0.00,2,     2.76,2,    0.051,2,    0.006,2,   2298.2,2,   2351.4,2,   7.4671,3,    25.00,  -999.00,9,  -999.00,9,   5.0058,2,     1107
  49UP20100706,   P09,    54,  1,     17,     90,3,20100720,0936, 12.0052, 136.9708, 4970,   1006.7,   4.5471,   4.5470,2,  34.5344,2,  34.5336,3,     80.9,2,    93.40,2,    38.50,2,     0.00,2,     2.76,2,    0.075,2,    0.000,2,   2311.7,2,   2359.3,2,   7.4648,3,    25.00,  -999.00,9,  -999.00,9,   4.5470,2,     1103
  49UP20100706,   P09,    54,  1,     16,     89,2,20100720,0936, 12.0052, 136.9708, 4970,   1266.1,   3.6008,   3.6009,2,  34.5652,2,  34.5649,6,     88.9,6,   112.27,6,    38.77,6,     0.00,6,     2.77,6,    0.024,2,    0.000,2,   2328.3,2,   2383.1,2,   7.4714,3,    25.00,  -999.00,9,  -999.00,9,   3.6009,2,     1054
  49UP20100706,   P09,    54,  1,     15,     88,2,20100720,0936, 12.0052, 136.9708, 4970,   1513.6,   2.9124,   2.9121,2,  34.5889,2,  34.5887,6,     97.1,6,   126.42,6,    38.70,6,     0.00,6,     2.75,6,    0.013,2,    0.000,2,   2340.0,2,   2395.9,2,   7.4873,3,    25.00,  -999.00,9,  -999.00,9,   2.9121,2,     1048
  49UP20100706,   P09,    54,  1,     14,     87,2,20100720,0936, 12.0052, 136.9708, 4970,   1765.5,   2.4567,   2.4564,2,  34.6134,2,  34.6135,6,    105.2,6,   134.57,6,    38.59,6,     0.00,6,     2.73,6,    0.000,2,    0.000,2,   2342.4,2,   2406.5,2,   7.4960,3,    25.00,  -999.00,9,  -999.00,9,   2.4564,2,     1043
  49UP20100706,   P09,    54,  1,     13,     86,2,20100720,0936, 12.0052, 136.9708, 4970,   2020.3,   2.1490,   2.1490,2,  34.6318,2,  34.6322,6,    114.2,6,   139.34,6,    38.07,6,     0.00,6,     2.68,6, -999.000,5, -999.000,5,   2345.0,2,   2411.8,2,   7.5001,3,    25.00,  -999.00,9,  -999.00,9,   2.1490,2,     1038
  49UP20100706,   P09,    54,  1,     12,     85,2,20100720,0936, 12.0052, 136.9708, 4970,   2269.7,   1.9417,   1.9415,2,  34.6455,2,  34.6452,2,    122.0,2,   142.35,2,    37.78,2,     0.00,2,     2.65,2,    0.002,2,    0.000,2,   2344.4,2,   2414.5,2,   7.5167,3,    25.00,  -999.00,9,  -999.00,9,   1.9415,2,     1034
  49UP20100706,   P09,    54,  1,     11,    110,2,20100720,0936, 12.0052, 136.9708, 4970,   2526.9,   1.7808,   1.7806,2,  34.6560,2,  34.6560,2,    129.2,2,   144.09,2,    37.42,2,     0.00,2,     2.62,2,    0.000,2,    0.000,2,   2340.0,6,   2416.4,6,   7.5218,3,    25.00,  -999.00,9,  -999.00,9,   1.7806,2,     1029
  49UP20100706,   P09,    54,  1,     10,     83,2,20100720,0936, 12.0052, 136.9708, 4970,   2526.9,   1.7808,   1.7806,2,  34.6560,2,  34.6560,2,    128.9,2,   144.04,2,    37.40,2,     0.00,2,     2.61,2,    0.000,2,    0.000,2,   2342.1,2,   2416.0,2,   7.5217,3,    25.00,  -999.00,9,  -999.00,9,   1.7806,2,     1029
  49UP20100706,   P09,    54,  1,      9,     82,2,20100720,0936, 12.0052, 136.9708, 4970,   2781.9,   1.6909,   1.6909,2,  34.6628,2,  34.6630,2,    134.5,2,   144.39,2,    36.94,2,     0.00,2,     2.58,2, -999.000,9, -999.000,9,   2333.9,2,   2417.1,2,   7.5281,3,    25.00,  -999.00,9,  -999.00,9,   1.6909,2,     1024
  49UP20100706,   P09,    54,  1,      8,     81,2,20100720,0936, 12.0052, 136.9708, 4970,   3036.0,   1.6105,   1.6108,2,  34.6697,2,  34.6694,2,    140.9,2,   143.69,2,    36.53,2,     0.00,2,     2.55,2,    0.000,2,    0.000,2,   2332.5,2,   2416.9,2,   7.5519,3,    25.00,  -999.00,9,  -999.00,9,   1.6108,2,     1019
  49UP20100706,   P09,    54,  1,      7,     80,2,20100720,0936, 12.0052, 136.9708, 4970,   3289.1,   1.5673,   1.5673,2,  34.6741,2,  34.6740,2,    146.0,2,   142.98,2,    36.20,2,     0.00,2,     2.52,2, -999.000,9, -999.000,9,   2325.0,2,   2415.9,2,   7.5585,3,    25.00,  -999.00,9,  -999.00,9,   1.5673,2,     1014
  49UP20100706,   P09,    54,  1,      6,     79,2,20100720,0936, 12.0052, 136.9708, 4970,   3547.5,   1.5461,   1.5462,2,  34.6776,2,  34.6778,2,    149.7,2,   142.16,2,    36.01,2,     0.00,2,     2.51,2, -999.000,9, -999.000,9,   2324.2,2,   2415.8,2,   7.5557,3,    25.00,  -999.00,9,  -999.00,9,   1.5462,2,     1008
  49UP20100706,   P09,    54,  1,      5,     78,2,20100720,0936, 12.0052, 136.9708, 4970,   3804.8,   1.5285,   1.5286,2,  34.6810,2,  34.6812,2,    153.9,2,   141.02,2,    35.81,2,     0.00,2,     2.49,2, -999.000,9, -999.000,9,   2322.2,6,   2415.6,6,   7.5717,3,    25.00,  -999.00,9,  -999.00,9,   1.5286,2,     1003
  49UP20100706,   P09,    54,  1,      4,     77,2,20100720,0936, 12.0052, 136.9708, 4970,   4061.0,   1.5107,   1.5109,2,  34.6845,2,  34.6844,2,    157.8,2,   139.64,2,    35.51,2,     0.00,2,     2.46,2,    0.000,2,    0.000,2,   2320.7,2,   2413.3,2,   7.5731,3,    25.00,  -999.00,9,  -999.00,9,   1.5109,2,      957
  49UP20100706,   P09,    54,  1,      3,     76,2,20100720,0936, 12.0052, 136.9708, 4970,   4317.0,   1.5264,   1.5264,2,  34.6854,2,  34.6854,2,    159.1,2,   139.29,2,    35.36,2,     0.00,2,     2.45,2, -999.000,9, -999.000,9,   2318.1,2,   2412.5,2,   7.5630,3,    25.00,  -999.00,9,  -999.00,9,   1.5264,2,      952
  49UP20100706,   P09,    54,  1,      2,     75,2,20100720,0936, 12.0052, 136.9708, 4970,   4572.6,   1.5371,   1.5372,2,  34.6867,2,  34.6870,2,    160.7,2,   138.53,2,    35.24,2,     0.00,2,     2.45,2, -999.000,9, -999.000,9,   2318.6,2,   2412.9,2,   7.5716,3,    25.00,  -999.00,9,  -999.00,9,   1.5372,2,      943
  49UP20100706,   P09,    54,  1,      1,     74,2,20100720,0936, 12.0052, 136.9708, 4970,   4889.6,   1.5543,   1.5543,2,  34.6881,2,  34.6886,2,    162.8,2,   137.98,2,    35.13,2,     0.00,2,     2.44,2,    0.000,2,    0.000,2,   2312.6,2,   2410.1,2,   7.5732,3,    25.00,  -999.00,9,  -999.00,9,   1.5543,2,      936