BOTTLE,20200625PRINUNIVRMK
EXPOCODE,SECT_ID,STNNBR,CASTNO,SAMPNO,BTLNBR,BTLNBR_FLAG_W,DATE,TIME,LATITUDE,LONGITUDE,DEPTH,CTDPRS,CTDTMP,SBE35,SBE35_FLAG_W,CTDSAL,CTDSAL_FLAG_W,SALNTY,SALNTY_FLAG_W,OXYGEN,OXYGEN_FLAG_W,SILCAT,SILCAT_FLAG_W,NITRAT,NITRAT_FLAG_W,NITRIT,NITRIT_FLAG_W,PHSPHT,PHSPHT_FLAG_W,CFC-11,CFC-11_FLAG_W,CFC-12,CFC-12_FLAG_W,TCARBN,TCARBN_FLAG_W,ALKALI,ALKALI_FLAG_W,PH_TOT,PH_TOT_FLAG_W,PH_TMP,CHLORA,CHLORA_FLAG_W,PPHYTN,PPHYTN_FLAG_W,SBE35,SBE35_FLAG_W,BTL_TIME
,,,,,,,,,,,METERS,DBAR,ITS-90,,,PSS-78,,PSS-78,,UMOL/KG,,UMOL/KG,,UMOL/KG,,UMOL/KG,,UMOL/KG,,PMOL/KG,,PMOL/KG,,UMOL/KG,,UMOL/KG,,,,DEG C,UG/KG,,UG/KG,,,,
  49UP20100706,   P09,   101,  1,      0,     -9,0,20100809,0604, -2.1445, 141.4928, 4080,      0.0,  29.1244,-999.0000,9,  34.5241,2,-999.0000,9,    195.5,2,     1.23,2,     0.00,2,     0.00,2,     0.08,2, -999.000,9, -999.000,9,   -999.0,9,   -999.0,9,-999.0000,9,  -999.00,  -999.00,9,  -999.00,9,-999.0000,9,      738
  49UP20100706,   P09,   101,  1,     36,    109,2,20100809,0604, -2.1445, 141.4928, 4080,     11.2,  29.1296,  29.1283,2,  34.5235,2,  34.5336,4,    195.8,2,     1.24,2,     0.01,2,     0.00,2,     0.10,2, -999.000,9, -999.000,9,   -999.0,9,   -999.0,9,-999.0000,9,  -999.00,  -999.00,9,  -999.00,9,  29.1283,2,      753
  49UP20100706,   P09,   101,  1,     35,    108,2,20100809,0604, -2.1445, 141.4928, 4080,     25.4,  28.9262,  28.9251,2,  34.5666,2,  34.5640,2,    196.6,2,     1.29,2,     0.00,2,     0.00,2,     0.06,2, -999.000,9, -999.000,9,   -999.0,9,   -999.0,9,-999.0000,9,  -999.00,  -999.00,9,  -999.00,9,  28.9251,2,      751
  49UP20100706,   P09,   101,  1,     34,    107,2,20100809,0604, -2.1445, 141.4928, 4080,     51.4,  28.7961,  28.7954,2,  34.5604,2,  34.5590,2,    195.8,2,     1.37,2,     0.00,2,     0.00,2,     0.06,2, -999.000,9, -999.000,9,   -999.0,9,   -999.0,9,-999.0000,9,  -999.00,  -999.00,9,  -999.00,9,  28.7954,2,      748
  49UP20100706,   P09,   101,  1,     33,    106,2,20100809,0604, -2.1445, 141.4928, 4080,     76.0,  28.5375,  28.5350,2,  34.5974,2,  34.6102,4,    191.9,2,     1.26,2,     0.02,2,     0.12,2,     0.07,2, -999.000,9, -999.000,9,   -999.0,9,   -999.0,9,-999.0000,9,  -999.00,  -999.00,9,  -999.00,9,  28.5350,2,      747
  49UP20100706,   P09,   101,  1,     32,    105,2,20100809,0604, -2.1445, 141.4928, 4080,    100.6,  27.6952,  27.6922,2,  34.7747,2,  34.7815,4,    183.6,2,     1.36,2,     0.66,2,     0.40,2,     0.14,2, -999.000,9, -999.000,9,   -999.0,9,   -999.0,9,-999.0000,9,  -999.00,  -999.00,9,  -999.00,9,  27.6922,2,      746
  49UP20100706,   P09,   101,  1,     31,    104,2,20100809,0604, -2.1445, 141.4928, 4080,    126.1,  26.6430,  26.6372,2,  35.1042,2,  35.1165,4,    167.5,2,     1.42,2,     2.78,2,     0.12,2,     0.29,2, -999.000,9, -999.000,9,   -999.0,9,   -999.0,9,-999.0000,9,  -999.00,  -999.00,9,  -999.00,9,  26.6372,2,      745
  49UP20100706,   P09,   101,  1,     30,    103,2,20100809,0604, -2.1445, 141.4928, 4080,    152.0,  23.0691,  23.0781,2,  35.5603,2,  35.5294,4,    148.9,2,     2.01,2,     6.01,2,     0.03,2,     0.53,2, -999.000,9, -999.000,9,   -999.0,9,   -999.0,9,-999.0000,9,  -999.00,  -999.00,9,  -999.00,9,  23.0781,2,      743
  49UP20100706,   P09,   101,  1,     29,    102,2,20100809,0604, -2.1445, 141.4928, 4080,    201.7,  18.6233,  18.6235,2,  35.4757,2,  35.4745,2,    145.5,2,     3.97,2,    10.20,2,     0.01,2,     0.81,2, -999.000,9, -999.000,9,   -999.0,9,   -999.0,9,-999.0000,9,  -999.00,  -999.00,9,  -999.00,9,  18.6235,2,      741
  49UP20100706,   P09,   101,  1,     28,    101,2,20100809,0604, -2.1445, 141.4928, 4080,    252.8,  15.6952,  15.6966,2,  35.2518,2,  34.8346,4,    147.7,2,     6.43,2,    13.52,2,     0.01,2,     1.03,2, -999.000,9, -999.000,9,   -999.0,9,   -999.0,9,-999.0000,9,  -999.00,  -999.00,9,  -999.00,9,  15.6966,2,      738
  49UP20100706,   P09,   101,  1,     27,    100,2,20100809,0604, -2.1445, 141.4928, 4080,    323.2,  10.9740,  10.9703,2,  34.8301,2,  35.2587,4,    160.2,2,    12.87,2,    20.22,2,     0.00,2,     1.43,2, -999.000,9, -999.000,9,   -999.0,9,   -999.0,9,-999.0000,9,  -999.00,  -999.00,9,  -999.00,9,  10.9703,2,      736
  49UP20100706,   P09,   101,  1,     26,     99,3,20100809,0604, -2.1445, 141.4928, 4080,    373.3,  10.1270,  10.1244,2,  34.7575,2,  34.7582,3,    165.7,2,    14.52,2,    21.41,2,     0.00,2,     1.51,2, -999.000,9, -999.000,9,   -999.0,9,   -999.0,9,-999.0000,9,  -999.00,  -999.00,9,  -999.00,9,  10.1244,2,      734
  49UP20100706,   P09,   101,  1,     25,     98,2,20100809,0604, -2.1445, 141.4928, 4080,    434.1,   9.1797,   9.1743,2,  34.6792,2,  34.6802,2,    167.1,2,    17.47,2,    23.29,2,     0.00,2,     1.63,2, -999.000,9, -999.000,9,   -999.0,9,   -999.0,9,-999.0000,9,  -999.00,  -999.00,9,  -999.00,9,   9.1743,2,      731
  49UP20100706,   P09,   101,  1,     24,     97,2,20100809,0604, -2.1445, 141.4928, 4080,    474.8,   8.3893,   8.3884,2,  34.6163,2,  34.6190,2,    169.9,2,    19.60,2,    24.56,2,     0.00,2,     1.71,2, -999.000,9, -999.000,9,   -999.0,9,   -999.0,9,-999.0000,9,  -999.00,  -999.00,9,  -999.00,9,   8.3884,2,      728
  49UP20100706,   P09,   101,  1,     23,     96,2,20100809,0604, -2.1445, 141.4928, 4080,    536.8,   7.6760,   7.6760,2,  34.5658,2,  34.5660,2,    170.6,2,    23.13,2,    26.12,2,     0.00,2,     1.81,2, -999.000,9, -999.000,9,   -999.0,9,   -999.0,9,-999.0000,9,  -999.00,  -999.00,9,  -999.00,9,   7.6760,2,      724
  49UP20100706,   P09,   101,  1,     22,     95,2,20100809,0604, -2.1445, 141.4928, 4080,    637.4,   6.6393,   6.6471,2,  34.5242,2,  34.5260,2,    154.1,2,    34.43,2,    29.70,2,     0.00,2,     2.07,2, -999.000,9, -999.000,9,   -999.0,9,   -999.0,9,-999.0000,9,  -999.00,  -999.00,9,  -999.00,9,   6.6471,2,      720
  49UP20100706,   P09,   101,  1,     21,     94,2,20100809,0604, -2.1445, 141.4928, 4080,    738.0,   5.7551,   5.7549,2,  34.5046,2,  34.5034,2,    147.1,2,    45.86,2,    32.05,2,     0.00,2,     2.23,2, -999.000,9, -999.000,9,   -999.0,9,   -999.0,9,-999.0000,9,  -999.00,  -999.00,9,  -999.00,9,   5.7549,2,      717
  49UP20100706,   P09,   101,  1,     20,     93,2,20100809,0604, -2.1445, 141.4928, 4080,    838.3,   5.1735,   5.1774,2,  34.5013,2,  34.5008,2,    147.3,2,    53.65,2,    32.86,2,     0.00,2,     2.29,2, -999.000,9, -999.000,9,   -999.0,9,   -999.0,9,-999.0000,9,  -999.00,  -999.00,9,  -999.00,9,   5.1774,2,      713
  49UP20100706,   P09,   101,  1,     19,     92,3,20100809,0604, -2.1445, 141.4928, 4080,    939.3,   4.8303,   4.8304,2,  34.5168,2,  34.5171,3,    134.6,2,    64.13,2,    34.33,2,     0.00,2,     2.41,2, -999.000,9, -999.000,9,   -999.0,9,   -999.0,9,-999.0000,9,  -999.00,  -999.00,9,  -999.00,9,   4.8304,2,      710
  49UP20100706,   P09,   101,  1,     18,     91,2,20100809,0604, -2.1445, 141.4928, 4080,    939.3,   4.8303,   4.8304,2,  34.5168,2,  34.5164,6,    134.7,6,    64.41,6,    34.38,6,     0.00,6,     2.41,6, -999.000,9, -999.000,9,   -999.0,9,   -999.0,9,-999.0000,9,  -999.00,  -999.00,9,  -999.00,9,   4.8304,2,      710
  49UP20100706,   P09,   101,  1,     17,     90,2,20100809,0604, -2.1445, 141.4928, 4080,   1092.8,   4.3211,   4.3221,2,  34.5442,2,  34.5440,6,    118.0,6,    80.57,6,    36.26,6,     0.00,6,     2.56,6, -999.000,9, -999.000,9,   -999.0,9,   -999.0,9,-999.0000,9,  -999.00,  -999.00,9,  -999.00,9,   4.3221,2,      705
  49UP20100706,   P09,   101,  1,     16,     89,2,20100809,0604, -2.1445, 141.4928, 4080,   1342.9,   3.4968,   3.4971,2,  34.5819,2,  34.5815,6,    104.0,6,   105.03,6,    38.29,6,     0.00,6,     2.71,6, -999.000,9, -999.000,9,   -999.0,9,   -999.0,9,-999.0000,9,  -999.00,  -999.00,9,  -999.00,9,   3.4971,2,      658
  49UP20100706,   P09,   101,  1,     15,     88,2,20100809,0604, -2.1445, 141.4928, 4080,   1594.2,   2.8702,   2.8704,2,  34.6069,2,  34.6069,6,    109.7,6,   119.06,6,    38.34,6,     0.00,6,     2.70,6, -999.000,9, -999.000,9,   -999.0,9,   -999.0,9,-999.0000,9,  -999.00,  -999.00,9,  -999.00,9,   2.8704,2,      653
  49UP20100706,   P09,   101,  1,     14,     87,2,20100809,0604, -2.1445, 141.4928, 4080,   1847.5,   2.4755,   2.4755,2,  34.6256,2,  34.6255,2,    114.9,2,   128.44,2,    38.13,2,     0.00,2,     2.68,2, -999.000,9, -999.000,9,   -999.0,9,   -999.0,9,-999.0000,9,  -999.00,  -999.00,9,  -999.00,9,   2.4755,2,      647
  49UP20100706,   P09,   101,  1,     13,     86,2,20100809,0604, -2.1445, 141.4928, 4080,   1847.5,   2.4755,   2.4755,2,  34.6256,2,  34.6261,2,    114.9,2,   127.98,2,    38.05,2,     0.00,2,     2.68,2, -999.000,9, -999.000,9,   -999.0,9,   -999.0,9,-999.0000,9,  -999.00,  -999.00,9,  -999.00,9,   2.4755,2,      647
  49UP20100706,   P09,   101,  1,     12,     85,2,20100809,0604, -2.1445, 141.4928, 4080,   2102.5,   2.1252,   2.1253,2,  34.6418,2,  34.6418,2,    121.3,2,   136.51,2,    37.88,2,     0.00,2,     2.65,2, -999.000,9, -999.000,9,   -999.0,9,   -999.0,9,-999.0000,9,  -999.00,  -999.00,9,  -999.00,9,   2.1253,2,      642
  49UP20100706,   P09,   101,  1,     11,    110,2,20100809,0604, -2.1445, 141.4928, 4080,   2356.6,   1.8503,   1.8505,2,  34.6559,2,  34.6560,2,    130.5,2,   140.13,2,    37.32,2,     0.00,2,     2.60,2, -999.000,9, -999.000,9,   -999.0,9,   -999.0,9,-999.0000,9,  -999.00,  -999.00,9,  -999.00,9,   1.8505,2,      637
  49UP20100706,   P09,   101,  1,     10,     83,2,20100809,0604, -2.1445, 141.4928, 4080,   2608.0,   1.7576,   1.7578,2,  34.6618,2,  34.6620,2,    134.4,2,   141.76,2,    37.09,2,     0.00,2,     2.58,2, -999.000,9, -999.000,9,   -999.0,9,   -999.0,9,-999.0000,9,  -999.00,  -999.00,9,  -999.00,9,   1.7578,2,      632
  49UP20100706,   P09,   101,  1,      9,     82,2,20100809,0604, -2.1445, 141.4928, 4080,   2608.0,   1.7576,   1.7578,2,  34.6618,2,  34.6619,2,    134.2,2,   142.07,2,    37.10,2,     0.00,2,     2.58,2, -999.000,9, -999.000,9,   -999.0,9,   -999.0,9,-999.0000,9,  -999.00,  -999.00,9,  -999.00,9,   1.7578,2,      632
  49UP20100706,   P09,   101,  1,      8,     81,2,20100809,0604, -2.1445, 141.4928, 4080,   2861.4,   1.6644,   1.6646,2,  34.6687,2,  34.6687,2,    138.8,2,   142.48,2,    36.75,2,     0.00,2,     2.55,2, -999.000,9, -999.000,9,   -999.0,9,   -999.0,9,-999.0000,9,  -999.00,  -999.00,9,  -999.00,9,   1.6646,2,      628
  49UP20100706,   P09,   101,  1,      7,     80,2,20100809,0604, -2.1445, 141.4928, 4080,   3116.3,   1.5914,   1.5913,2,  34.6744,2,  34.6747,2,    142.7,2,   142.96,2,    36.46,2,     0.00,2,     2.53,2, -999.000,9, -999.000,9,   -999.0,9,   -999.0,9,-999.0000,9,  -999.00,  -999.00,9,  -999.00,9,   1.5913,2,      623
  49UP20100706,   P09,   101,  1,      6,     79,2,20100809,0604, -2.1445, 141.4928, 4080,   3371.9,   1.5839,   1.5836,2,  34.6761,2,  34.6761,2,    144.6,2,   143.31,2,    36.40,2,     0.00,2,     2.52,2, -999.000,9, -999.000,9,   -999.0,9,   -999.0,9,-999.0000,9,  -999.00,  -999.00,9,  -999.00,9,   1.5836,2,      619
  49UP20100706,   P09,   101,  1,      5,     78,2,20100809,0604, -2.1445, 141.4928, 4080,   3627.4,   1.5836,   1.5835,2,  34.6778,2,  34.6775,2,    146.4,2,   143.15,2,    36.31,2,     0.00,2,     2.52,2, -999.000,9, -999.000,9,   -999.0,9,   -999.0,9,-999.0000,9,  -999.00,  -999.00,9,  -999.00,9,   1.5835,2,      614
  49UP20100706,   P09,   101,  1,      4,     77,3,20100809,0604, -2.1445, 141.4928, 4080,   3627.4,   1.5836,   1.5835,2,  34.6778,2,  34.6778,3,    146.4,2,   143.06,2,    36.27,2,     0.00,2,     2.51,2, -999.000,9, -999.000,9,   -999.0,9,   -999.0,9,-999.0000,9,  -999.00,  -999.00,9,  -999.00,9,   1.5835,2,      614
  49UP20100706,   P09,   101,  1,      3,     76,2,20100809,0604, -2.1445, 141.4928, 4080,   3885.3,   1.6022,   1.6020,2,  34.6786,2,  34.6790,2,    147.0,2,   143.08,2,    36.22,2,     0.00,2,     2.51,2, -999.000,9, -999.000,9,   -999.0,9,   -999.0,9,-999.0000,9,  -999.00,  -999.00,9,  -999.00,9,   1.6020,2,      609
  49UP20100706,   P09,   101,  1,      1,     74,2,20100809,0604, -2.1445, 141.4928, 4080,   4043.4,   1.6173,   1.6172,2,  34.6787,2,  34.6788,2,    147.5,2,   143.36,2,    36.26,2,     0.00,2,     2.51,2, -999.000,9, -999.000,9,   -999.0,9,   -999.0,9,-999.0000,9,  -999.00,  -999.00,9,  -999.00,9,   1.6172,2,      605