BOTTLE,20200625PRINUNIVRMK
EXPOCODE,SECT_ID,STNNBR,CASTNO,SAMPNO,BTLNBR,BTLNBR_FLAG_W,DATE,TIME,LATITUDE,LONGITUDE,DEPTH,CTDPRS,CTDTMP,SBE35,SBE35_FLAG_W,CTDSAL,CTDSAL_FLAG_W,SALNTY,SALNTY_FLAG_W,OXYGEN,OXYGEN_FLAG_W,SILCAT,SILCAT_FLAG_W,NITRAT,NITRAT_FLAG_W,NITRIT,NITRIT_FLAG_W,PHSPHT,PHSPHT_FLAG_W,CFC-11,CFC-11_FLAG_W,CFC-12,CFC-12_FLAG_W,TCARBN,TCARBN_FLAG_W,ALKALI,ALKALI_FLAG_W,PH_TOT,PH_TOT_FLAG_W,PH_TMP,CHLORA,CHLORA_FLAG_W,PPHYTN,PPHYTN_FLAG_W,SBE35,SBE35_FLAG_W,BTL_TIME
,,,,,,,,,,,METERS,DBAR,ITS-90,,,PSS-78,,PSS-78,,UMOL/KG,,UMOL/KG,,UMOL/KG,,UMOL/KG,,UMOL/KG,,PMOL/KG,,PMOL/KG,,UMOL/KG,,UMOL/KG,,,,DEG C,UG/KG,,UG/KG,,,,
  49UP20100706,   P09,    68,  1,      0,     -9,0,20100802,0119,  7.0147, 136.9960, 4217,      0.0,  30.1272,-999.0000,9,  33.8883,2,-999.0000,9,    193.4,2,     0.99,2,     0.02,2,     0.00,2,     0.04,2, -999.000,9, -999.000,9,   -999.0,9,   -999.0,9,-999.0000,9,  -999.00,     0.10,2,     0.03,2,-999.0000,9,      249
  49UP20100706,   P09,    68,  1,     36,    109,2,20100802,0119,  7.0147, 136.9960, 4217,     10.5,  30.1157,  30.1149,2,  33.8829,2,  33.8828,2,    193.0,2,     0.95,2,     0.00,2,     0.00,2,     0.03,2,    1.488,2,    0.886,2,   1889.3,2,   2229.9,2,   8.1498,2,    25.00,     0.09,2,     0.03,2,  30.1149,2,      317
  49UP20100706,   P09,    68,  1,     35,    108,2,20100802,0119,  7.0147, 136.9960, 4217,     25.9,  30.1207,  30.1205,2,  33.8843,2,  33.8848,2,    193.2,2,     0.99,2,     0.00,2,     0.00,2,     0.02,2,    1.492,2,    0.889,2,   1890.1,2,   2230.8,2,   8.1400,2,    25.00,     0.11,2,     0.04,2,  30.1205,2,      316
  49UP20100706,   P09,    68,  1,     34,    107,2,20100802,0119,  7.0147, 136.9960, 4217,     51.1,  30.1438,  30.1465,2,  33.8936,2,  33.8956,2,    193.2,2,     0.95,2,     0.00,2,     0.00,2,     0.02,2,    1.481,2,    0.902,2,   1892.4,2,   2227.6,2,   8.1470,2,    25.00,     0.12,2,     0.04,2,  30.1465,2,      312
  49UP20100706,   P09,    68,  1,     33,    106,2,20100802,0119,  7.0147, 136.9960, 4217,     75.6,  30.2224,  30.2218,2,  34.1301,2,  34.1423,4,    196.3,2,     1.17,2,     0.00,2,     0.00,2,     0.05,2,    1.472,2,    0.939,2,   1909.4,2,   2243.9,2,   8.1321,2,    25.00,     0.16,2,     0.07,2,  30.2218,2,      310
  49UP20100706,   P09,    68,  1,     32,    105,2,20100802,0119,  7.0147, 136.9960, 4217,    102.2,  29.2151,  29.2123,2,  34.3948,2,  34.3980,2,    196.3,2,     1.57,2,     0.00,2,     0.00,2,     0.09,2,    1.538,2,    0.948,2,   1937.4,2,   2262.0,2,   8.1041,2,    25.00,     0.21,2,     0.11,2,  29.2123,2,      308
  49UP20100706,   P09,    68,  1,     31,    104,2,20100802,0119,  7.0147, 136.9960, 4217,    126.4,  26.9025,  26.9018,2,  34.9251,2,  34.9119,4,    159.0,2,     2.37,2,     3.53,2,     0.24,2,     0.41,2,    1.601,2,    0.959,2,   2013.1,2,   2289.8,2,   8.0249,2,    25.00,     0.13,2,     0.31,2,  26.9018,2,      306
  49UP20100706,   P09,    68,  1,     30,    103,2,20100802,0119,  7.0147, 136.9960, 4217,    150.3,  22.1108,  22.1094,2,  34.8218,2,  34.8223,2,    157.2,2,     4.69,2,     5.32,2,     0.03,2,     0.51,2,    1.920,2,    1.134,2,   2053.1,2,   2285.6,2,   7.9400,2,    25.00,     0.05,2,     0.15,2,  22.1094,2,      305
  49UP20100706,   P09,    68,  1,     29,    102,2,20100802,0119,  7.0147, 136.9960, 4217,    202.9,  15.4521,  15.4535,2,  34.6121,2,  34.6059,2,    129.8,2,    14.43,2,    15.26,2,     0.01,2,     1.16,2,    1.953,2,    1.114,2,   2125.2,2,   2281.8,2,   7.7739,2,    25.00,     0.01,2,     0.03,2,  15.4535,2,      302
  49UP20100706,   P09,    68,  1,     28,    101,2,20100802,0119,  7.0147, 136.9960, 4217,    252.5,  11.6472,  11.6571,2,  34.5305,2,  34.5355,2,     89.2,2,    26.62,2,    25.02,2,     0.00,2,     1.83,2,    1.357,2,    0.737,2,   2189.0,2,   2284.3,2,   7.6228,2,    25.00,  -999.00,9,  -999.00,9,  11.6571,2,      300
  49UP20100706,   P09,    68,  1,     27,    100,2,20100802,0119,  7.0147, 136.9960, 4217,    302.4,   9.8029,   9.8031,2,  34.5723,2,  34.5727,2,     70.0,4,    35.16,2,    30.71,2,     0.00,2,     2.21,2,    0.781,6,    0.399,6,   2227.6,6,   2296.4,6,   7.5411,6,    25.00,  -999.00,9,  -999.00,9,   9.8031,2,      258
  49UP20100706,   P09,    68,  1,     26,     99,2,20100802,0119,  7.0147, 136.9960, 4217,    302.4,   9.8029,   9.8031,2,  34.5723,2,  34.5723,2,     71.2,2,    34.85,2,    30.60,2,     0.00,2,     2.20,2,    0.797,2,    0.405,2,   2232.2,2,   2300.7,2,   7.5430,2,    25.00,  -999.00,9,  -999.00,9,   9.8031,2,      258
  49UP20100706,   P09,    68,  1,     25,     98,2,20100802,0119,  7.0147, 136.9960, 4217,    352.8,   9.0871,   9.0858,2,  34.5872,2,  34.5876,2,     60.7,2,    37.77,2,    32.97,2,     0.00,2,     2.36,2,    0.506,2,    0.248,2,   2243.9,2,   2298.8,2,   7.5078,2,    25.00,  -999.00,9,  -999.00,9,   9.0858,2,      256
  49UP20100706,   P09,    68,  1,     24,     97,2,20100802,0119,  7.0147, 136.9960, 4217,    404.7,   8.6140,   8.6140,2,  34.5762,2,  34.5750,2,     72.0,2,    39.75,2,    32.84,2,     0.00,2,     2.34,2,    0.492,2,    0.264,2,   2238.2,2,   2308.2,2,   7.5262,2,    25.00,  -999.00,9,  -999.00,9,   8.6140,2,      253
  49UP20100706,   P09,    68,  1,     23,     96,2,20100802,0119,  7.0147, 136.9960, 4217,    454.3,   8.1817,   8.1837,2,  34.5677,2,  34.5662,2,     81.3,2,    41.33,2,    32.78,2,     0.00,2,     2.33,2,    0.451,2,    0.252,2,   2237.9,2,   2305.8,2,   7.5312,2,    25.00,  -999.00,9,  -999.00,9,   8.1837,2,      251
  49UP20100706,   P09,    68,  1,     22,     95,2,20100802,0119,  7.0147, 136.9960, 4217,    504.2,   7.9340,   7.9328,2,  34.5636,2,  34.5635,2,     80.3,2,    42.76,2,    33.38,2,     0.00,2,     2.37,2,    0.321,3,    0.183,3,   2245.2,6,   2308.9,6,   7.5238,6,    25.00,  -999.00,9,  -999.00,9,   7.9328,2,      249
  49UP20100706,   P09,    68,  1,     21,     94,2,20100802,0119,  7.0147, 136.9960, 4217,    504.2,   7.9340,   7.9328,2,  34.5636,2,  34.5628,2,     80.1,2,    43.05,2,    33.46,2,     0.00,2,     2.39,2,    0.351,2,    0.207,2,   2243.0,2,   2311.3,2,   7.5242,2,    25.00,  -999.00,9,  -999.00,9,   7.9328,2,      249
  49UP20100706,   P09,    68,  1,     20,     93,2,20100802,0119,  7.0147, 136.9960, 4217,    604.7,   7.0287,   7.0286,2,  34.5342,2,  34.5338,2,     85.4,2,    51.15,2,    34.52,2,     0.00,2,     2.47,2,    0.269,6,    0.123,6,   2253.0,2,   2318.1,2,   7.5214,2,    25.00,  -999.00,9,  -999.00,9,   7.0286,2,      246
  49UP20100706,   P09,    68,  1,     19,     92,2,20100802,0119,  7.0147, 136.9960, 4217,    705.0,   6.2079,   6.2050,2,  34.5228,2,  34.5232,2,     95.4,2,    60.35,2,    35.03,2,     0.00,2,     2.51,2,    0.211,2,    0.115,2,   2261.5,2,   2328.5,2,   7.5236,2,    25.00,  -999.00,9,  -999.00,9,   6.2050,2,      244
  49UP20100706,   P09,    68,  1,     18,     91,2,20100802,0119,  7.0147, 136.9960, 4217,    807.1,   5.5349,   5.5345,2,  34.5316,2,  34.5318,2,     83.1,2,    72.91,2,    37.15,2,     0.00,2,     2.66,2,    0.057,2,    0.032,2,   2289.0,2,   2340.9,2,   7.4936,2,    25.00,  -999.00,9,  -999.00,9,   5.5345,2,      241
  49UP20100706,   P09,    68,  1,     17,     90,2,20100802,0119,  7.0147, 136.9960, 4217,    907.7,   5.0720,   5.0719,2,  34.5404,2,  34.5412,2,     83.9,2,    81.43,2,    37.77,2,     0.00,2,     2.71,2,    0.028,2,    0.000,2,   2293.4,2,   2349.9,2,   7.4895,2,    25.00,  -999.00,9,  -999.00,9,   5.0719,2,      238
  49UP20100706,   P09,    68,  1,     16,     89,2,20100802,0119,  7.0147, 136.9960, 4217,   1009.8,   4.4527,   4.4534,2,  34.5528,2,  34.5524,2,     86.0,2,    93.33,2,    38.31,2,     0.00,2,     2.74,2,    0.010,2,    0.007,2,   2311.0,2,   2364.3,2,   7.4908,2,    25.00,  -999.00,9,  -999.00,9,   4.4534,2,      235
  49UP20100706,   P09,    68,  1,     15,     88,2,20100802,0119,  7.0147, 136.9960, 4217,   1262.1,   3.6069,   3.6096,2,  34.5776,2,  34.5774,2,     91.5,2,   109.89,2,    38.61,2,     0.00,2,     2.76,2,    0.006,2,    0.013,2,   2321.8,2,   2381.8,2,   7.4956,2,    25.00,  -999.00,9,  -999.00,9,   3.6096,2,      229
  49UP20100706,   P09,    68,  1,     14,     87,2,20100802,0119,  7.0147, 136.9960, 4217,   1514.5,   3.0156,   3.0154,2,  34.5989,2,  34.5992,6,     98.4,6,   122.02,6,    38.77,6,     0.00,6,     2.77,6,    0.000,2,    0.000,2,   2329.4,2,   2393.0,2,   7.4986,2,    25.00,  -999.00,9,  -999.00,9,   3.0154,2,      224
  49UP20100706,   P09,    68,  1,     13,     86,2,20100802,0119,  7.0147, 136.9960, 4217,   1767.6,   2.5770,   2.5768,2,  34.6167,2,  34.6172,2,    105.3,2,   130.88,2,    38.53,2,     0.00,2,     2.74,2,    0.000,2,    0.000,2,   2340.3,6,   2404.8,6,   7.5100,6,    25.00,  -999.00,9,  -999.00,9,   2.5768,2,      217
  49UP20100706,   P09,    68,  1,     12,     85,2,20100802,0119,  7.0147, 136.9960, 4217,   1767.6,   2.5770,   2.5768,2,  34.6167,2,  34.6170,6,    105.5,6,   130.95,6,    38.53,6,     0.00,6,     2.74,6,    0.000,2,    0.000,2,   2337.3,2,   2405.5,2,   7.5121,2,    25.00,  -999.00,9,  -999.00,9,   2.5768,2,      217
  49UP20100706,   P09,    68,  1,     11,    110,2,20100802,0119,  7.0147, 136.9960, 4217,   2022.7,   2.2079,   2.2079,2,  34.6350,2,  34.6352,6,    114.7,6,   137.11,6,    38.10,6,     0.00,6,     2.70,6,    0.000,2,    0.011,4,   2341.4,2,   2410.9,2,   7.5285,2,    25.00,  -999.00,9,  -999.00,9,   2.2079,2,      212
  49UP20100706,   P09,    68,  1,     10,     83,2,20100802,0119,  7.0147, 136.9960, 4217,   2277.0,   1.9691,   1.9690,2,  34.6484,2,  34.6490,6,    122.8,6,   140.73,6,    37.65,6,     0.00,6,     2.66,6,    0.000,2,    0.000,4,   2346.6,3,   2413.8,2,   7.5388,2,    25.00,  -999.00,9,  -999.00,9,   1.9690,2,      206
  49UP20100706,   P09,    68,  1,      9,     82,2,20100802,0119,  7.0147, 136.9960, 4217,   2531.0,   1.7534,   1.7532,2,  34.6601,2,  34.6605,2,    131.7,2,   142.91,2,    37.07,2,     0.00,2,     2.61,2,    0.000,2,    0.000,2,   2338.6,2,   2413.4,2,   7.5491,2,    25.00,  -999.00,9,  -999.00,9,   1.7532,2,      200
  49UP20100706,   P09,    68,  1,      8,     81,2,20100802,0119,  7.0147, 136.9960, 4217,   2784.9,   1.6659,   1.6659,2,  34.6670,2,  34.6669,2,    137.0,2,   143.42,2,    36.74,2,     0.00,2,     2.58,2, -999.000,5, -999.000,5,   2335.3,2,   2417.0,2,   7.5571,2,    25.00,  -999.00,9,  -999.00,9,   1.6659,2,      154
  49UP20100706,   P09,    68,  1,      7,     80,2,20100802,0119,  7.0147, 136.9960, 4217,   3039.6,   1.5918,   1.5917,2,  34.6724,2,  34.6726,2,    142.2,2,   143.42,2,    36.42,2,     0.00,2,     2.55,2,    0.000,2,    0.000,2,   2334.3,2,   2414.1,2,   7.5647,2,    25.00,  -999.00,9,  -999.00,9,   1.5917,2,      148
  49UP20100706,   P09,    68,  1,      6,     79,2,20100802,0119,  7.0147, 136.9960, 4217,   3294.6,   1.5537,   1.5540,2,  34.6766,2,  34.6768,2,    146.7,2,   142.58,2,    36.17,2,     0.00,2,     2.53,2,    0.000,2,    0.000,2,   2332.6,2,   2419.3,2,   7.5719,2,    25.00,  -999.00,9,  -999.00,9,   1.5540,2,      142
  49UP20100706,   P09,    68,  1,      5,     78,2,20100802,0119,  7.0147, 136.9960, 4217,   3549.0,   1.5370,   1.5369,2,  34.6794,2,  34.6794,2,    149.5,2,   142.75,2,    36.02,2,     0.00,2,     2.52,2,    0.000,2,    0.016,4,   2328.7,2,   2417.2,2,   7.5759,2,    25.00,  -999.00,9,  -999.00,9,   1.5369,2,      137
  49UP20100706,   P09,    68,  1,      4,     77,2,20100802,0119,  7.0147, 136.9960, 4217,   3805.1,   1.5338,   1.5340,2,  34.6818,2,  34.6818,2,    152.0,2,   141.89,2,    35.84,2,     0.00,2,     2.51,2,    0.000,2,    0.000,2,   2334.2,3,   2415.3,2,   7.5828,2,    25.00,  -999.00,9,  -999.00,9,   1.5340,2,      131
  49UP20100706,   P09,    68,  1,      3,     76,2,20100802,0119,  7.0147, 136.9960, 4217,   4061.5,   1.5046,   1.5047,2,  34.6857,2,  34.6860,2,    156.4,2,   140.75,2,    35.54,2,     0.00,2,     2.48,2,    0.000,2,    0.000,2,   2324.7,2,   2413.2,2,   7.5865,2,    25.00,  -999.00,9,  -999.00,9,   1.5047,2,      125
  49UP20100706,   P09,    68,  1,      2,     75,2,20100802,0119,  7.0147, 136.9960, 4217,   4290.6,   1.4800,   1.4799,2,  34.6892,2,  34.6894,2,    161.3,2,   138.98,2,    35.18,2,     0.00,2,     2.46,2,    0.000,2,    0.000,2,   2319.1,6,   2412.2,6,   7.5913,6,    25.00,  -999.00,9,  -999.00,9,   1.4799,2,      120
  49UP20100706,   P09,    68,  1,      1,     74,2,20100802,0119,  7.0147, 136.9960, 4217,   4290.6,   1.4800,   1.4799,2,  34.6892,2,  34.6892,2,    161.0,2,   139.11,2,    35.24,2,     0.00,2,     2.46,2,    0.000,2,    0.000,2,   2323.6,2,   2412.4,2,   7.5912,2,    25.00,  -999.00,9,  -999.00,9,   1.4799,2,      120