BOTTLE,20200504CCHSIOCBG
# Added parameters: SAMPNO
# 20190813PRINUNIVRMK
# 06/27/2017 Initialized README file  
# Data source: Melissa Miller 20170925  
# SHIP: Agulhas II 
# Cruise: Gough Island supply cruise; AGU027 
# Region: South Atlantic; Cape Town to Cape Town 
# EXPOCODE: 91AH20170907 
# DATES: 20170907 - 20171011 
# Chief Scientist: Tahlia Henry, Univ. Cape Town 
# Contact: Isabella Ansorge 
# 6 stations with 24 place Rosette 
# SOCCOM Biogeochemical floats deployed by Melissa Miller 
#  No. Sta   WMO_ID       Lat       Lon       Date     FLID      NAME              Adoption School                  Town 
#  1    1   5905130   -34.4350   11.7950    20170909  12744   Marine Mustang       J.C. Parks Elementary          Deanna, MD 
#  2    2   5905133   -39.1133  -10.9133    20170916  12729   Pixel                Stanford Online High School    Kristina, CA 
#  3    3   5905134   -42.9800   -9.9267    20170919  12723   Titans               Desert Ridge Middle School     Albuquerque, NM 
#  4    4   5905135   -47.4967  -13.0817    20170920  12742   Zora                 Homeschool                     Jodi, CA 
#  5    5   5905132   -36.5708  -10.0002    20171006  12745   Freddy Cougar        Melvin Kreps Middle School     West Windsor, NJ 
#  6    6   5905131   -34.5003    4.0022    20171008  12733   Olympians            Desert Ridge Middle School     Albuquerque, NM 
# Supported by NSF Award PLR-1425989 to J.L. Sarmiento et al.  
# CTD: Who - Tahlia Henry; Status - final 
# 	Includes: CTDSAL, CTDOXY, FLBB(E. Boss) 
# 	CTDOXY calibrated values/flags rcd and added 5/14/18 
# 	Calibration(listed uncertainty is standard error): 
# 		CTDSAL = -0.404(+/-0.176) + 1.011(+/-0.005)*SALNTY; RSE 0.025, 122d.f. 
# 		CTDOXY = -0.308(+/-1.99) + 1.005(+/-0.009)*OXYGEN; RSE 3.68, 142d.f. 
# Salinty: Who - Tahlia Henry; Status - final 
# 	Notes: salinometer only reports 3 decimal places 
# 	IAPSO from OSIL, batch P158 
# Nutrients: Who - L.Talley; Status - final 
# 	Includes: nitrate, nitrite, silicate, phopshpate 
# 	Samples frozen for analysis at SIO 
# O2: Who - L.Talley; Status -final 
# 	Notes: 
# pH: Who - A.Dickson; Status - final 
# 	Notes:  
# ALKALI: Who - A.Dickson; Status - final 
# 	Notes:  
# pCO2: Who - Pedro Monteiro; Status - collected 
# 	Includes: underway only 
# HPLC:  Who - E. Boss; Status - final 
# 	Notes: supported by NASA grant NNX14AP49G 
# POC/DOC: Who - E. Boss; Status - final 
# 	Notes: Data stored at NASA 
# These data should be cited as: 
# References that have used data from this cruise:
EXPOCODE,SECT_ID,STNNBR,CASTNO,SAMPNO,BTLNBR,BTLNBR_FLAG_W,DATE,TIME,LATITUDE,LONGITUDE,DEPTH,CTDPRS,CTDTMP,CTDSAL,CTDSAL_FLAG_W,SALNTY,SALNTY_FLAG_W,CTDOXY,CTDOXY_FLAG_W,OXYGEN,OXYGEN_FLAG_W,SILCAT,SILCAT_FLAG_W,NITRAT,NITRAT_FLAG_W,NITRIT,NITRIT_FLAG_W,PHSPHT,PHSPHT_FLAG_W,ALKALI,ALKALI_FLAG_W,PH_TOT,PH_TOT_FLAG_W,PH_TMP
,,,,,,,,,,,METERS,DBAR,ITS-90,PSS-78,,PSS-78,,UMOL/KG,,UMOL/KG,,UMOL/KG,,UMOL/KG,,UMOL/KG,,UMOL/KG,,UMOL/KG,,,,DEG C
91AH20170907,      GOUGH,       1,          1,          1,          1,2,20170909,       0657,   -34.5002,    11.9988,       4859,  2000.8,   2.7565,  34.7856,0,  34.7973,2,    205.0,0,   204.8,2,   53.61,2,   27.59,2,    0.00,2,    1.86,2,  2335.2,2,   7.6411,2,    25.00
91AH20170907,      GOUGH,       1,          1,          2,          2,2,20170909,       0657,   -34.5002,    11.9988,       4859,  1800.7,   2.8320,  34.7351,0,-999.0000,9,    190.8,0,   192.0,2,   57.71,2,   29.51,2,    0.00,2,    2.00,2,  2334.2,2,   7.6115,2,    25.00
91AH20170907,      GOUGH,       1,          1,          3,          3,2,20170909,       0657,   -34.5002,    11.9988,       4859,  1598.3,   2.8365,  34.6449,0,-999.0000,9,    180.0,0,   181.4,2,   61.14,2,   31.73,2,    0.00,2,    2.16,2,  2333.6,2,   7.5887,2,    25.00
91AH20170907,      GOUGH,       1,          1,          4,          4,2,20170909,       0657,   -34.5002,    11.9988,       4859,  1399.4,   3.0746,  34.5513,0,-999.0000,9,    173.6,0,   175.5,2,   59.58,2,   33.31,2,    0.00,2,    2.26,2,  2329.3,2,   7.5712,2,    25.00
91AH20170907,      GOUGH,       1,          1,          5,          5,2,20170909,       0657,   -34.5002,    11.9988,       4859,  1300.0,   3.1931,  34.4940,0,-999.0000,9,    175.7,0,   176.8,2,   55.97,2,   33.65,2,    0.00,2,    2.30,2,  2324.0,2,   7.5688,2,    25.00
91AH20170907,      GOUGH,       1,          1,          6,          6,2,20170909,       0657,   -34.5002,    11.9988,       4859,  1199.0,   3.4461,  34.4351,0,-999.0000,9,    182.0,0,   180.0,2,   51.77,2,   33.39,2,    0.00,2,    2.31,2,  2319.2,2,   7.5717,2,    25.00
91AH20170907,      GOUGH,       1,          1,          7,          7,2,20170909,       0657,   -34.5002,    11.9988,       4859,  1099.5,   3.7208,  34.4001,0,-999.0000,9,    186.1,0,   187.4,2,   44.93,2,   32.82,2,    0.00,2,    2.28,2,  2312.3,2,   7.5811,2,    25.00
91AH20170907,      GOUGH,       1,          1,          8,          8,2,20170909,       0657,   -34.5002,    11.9988,       4859,  1000.1,   3.8965,  34.3398,0,-999.0000,9,    200.0,0,   202.1,2,   35.56,2,   31.86,2,    0.00,2,    2.19,2,  2302.4,6,   7.5962,6,    25.00
91AH20170907,      GOUGH,       1,          1,          9,          9,2,20170909,       0657,   -34.5002,    11.9988,       4859,   900.5,   4.4059,  34.3180,0,  34.3317,2,    209.6,0,   210.1,2,   28.72,2,   30.56,2,    0.00,2,    2.11,2,  2296.9,2,   7.6142,2,    25.00
91AH20170907,      GOUGH,       1,          1,         10,         10,2,20170909,       0657,   -34.5002,    11.9988,       4859,   800.6,   5.2144,  34.3459,0,-999.0000,9,    208.6,0,   211.6,2,   22.27,2,   28.90,2,    0.00,2,    1.98,2,  2292.1,2,   7.6299,2,    25.00
91AH20170907,      GOUGH,       1,          1,         11,         11,2,20170909,       0657,   -34.5002,    11.9988,       4859,   700.9,   6.3233,  34.4115,0,-999.0000,9,    206.0,0,   206.1,2,   17.48,2,   26.78,2,    0.00,2,    1.84,2,  2290.7,2,   7.6474,2,    25.00
91AH20170907,      GOUGH,       1,          1,         12,         12,2,20170909,       0657,   -34.5002,    11.9988,       4859,   599.4,   8.0241,  34.5786,0,-999.0000,9,    198.7,0,   196.5,2,   13.58,2,   23.49,2,    0.00,2,    1.64,2,  2293.5,2,   7.6726,2,    25.00
91AH20170907,      GOUGH,       1,          1,         13,         13,2,20170909,       0657,   -34.5002,    11.9988,       4859,   500.3,   9.3988,  34.6901,0,-999.0000,9,    213.8,0,   214.1,2,    6.15,2,   18.56,2,    0.00,2,    1.30,2,  2294.4,2,   7.7291,2,    25.00
91AH20170907,      GOUGH,       1,          1,         14,         14,2,20170909,       0657,   -34.5002,    11.9988,       4859,   400.9,  10.7752,  34.7792,0,  34.8667,2,    225.8,0,   217.8,2,    3.42,2,   14.71,2,    0.00,2,    1.04,2,  2302.3,2,   7.7716,2,    25.00
91AH20170907,      GOUGH,       1,          1,         15,         15,2,20170909,       0657,   -34.5002,    11.9988,       4859,   349.2,  11.3987,  34.9777,0,-999.0000,9,    216.6,0,   222.5,2,    2.44,2,   12.73,2,    0.01,2,    0.92,2,  2305.1,2,   7.7917,2,    25.00
91AH20170907,      GOUGH,       1,          1,         16,         16,2,20170909,       0657,   -34.5002,    11.9988,       4859,   301.0,  12.2311,  35.0871,0,-999.0000,9,    220.9,0,   221.0,2,    2.93,2,   11.34,2,    0.01,2,    0.86,2,  2309.7,2,   7.8139,2,    25.00
91AH20170907,      GOUGH,       1,          1,         17,         17,2,20170909,       0657,   -34.5002,    11.9988,       4859,   249.1,  12.5908,  35.0066,0,-999.0000,9,    232.6,0,   228.5,2,    1.66,2,    9.24,2,    0.02,2,    0.72,2,  2309.9,2,   7.8329,2,    25.00
91AH20170907,      GOUGH,       1,          1,         18,         18,2,20170909,       0657,   -34.5002,    11.9988,       4859,   199.6,  12.9604,  34.9907,0,-999.0000,9,    239.7,0,   238.6,2,    0.68,2,    7.11,2,    0.11,2,    0.61,2,  2309.6,6,   7.8538,6,    25.00
91AH20170907,      GOUGH,       1,          1,         19,         19,2,20170909,       0657,   -34.5002,    11.9988,       4859,   150.5,  13.3751,  35.0713,0,-999.0000,9,    247.2,0,   245.4,2,    0.59,2,    5.00,2,    0.27,2,    0.50,2,  2314.7,2,   7.8814,2,    25.00
91AH20170907,      GOUGH,       1,          1,         20,         20,2,20170909,       0657,   -34.5002,    11.9988,       4859,   100.5,  14.2613,  35.2359,0,-999.0000,9,    241.2,0,   235.9,2,    0.98,2,    4.71,2,    0.22,2,    0.47,2,  2320.9,2,   7.8939,2,    25.00
91AH20170907,      GOUGH,       1,          1,         21,         21,2,20170909,       0657,   -34.5002,    11.9988,       4859,    73.1,  15.4006,  35.3160,0,-999.0000,9,    242.3,0,   238.4,2,    1.07,2,    3.68,2,    0.32,2,    0.41,2,  2325.1,2,   7.9199,2,    25.00
91AH20170907,      GOUGH,       1,          1,         22,         22,2,20170909,       0657,   -34.5002,    11.9988,       4859,    50.5,  16.4817,  35.4925,0,-999.0000,9,    249.4,0,   236.6,2,    0.20,2,    2.30,2,    0.19,2,    0.31,2,  2330.7,2,   7.9537,2,    25.00
91AH20170907,      GOUGH,       1,          1,         23,         23,2,20170909,       0657,   -34.5002,    11.9988,       4859,    29.5,  16.6049,  35.5050,0,-999.0000,9,    248.6,0,   240.2,2,    0.00,2,    1.52,2,    0.14,2,    0.26,2,  2333.4,2,   7.9677,2,    25.00
91AH20170907,      GOUGH,       1,          1,         24,         24,2,20170909,       0657,   -34.5002,    11.9988,       4859,     4.4,  16.6286,  35.5037,0,  35.5257,2,    249.9,0,   242.4,2,    0.00,2,    1.33,2,    0.13,2,    0.22,2,  2333.9,2,   7.9736,2,    25.00
91AH20170907,      GOUGH,       2,          1,          1,          1,2,20170916,       0407,   -39.0533,   -11.0000,       2787,  2000.2,   2.7315,  34.7409,0,  34.7497,2,    196.2,0,   195.8,2,   60.55,2,   28.48,2,    0.00,2,    1.96,2,  -999.0,9,-999.0000,9,  -999.00
91AH20170907,      GOUGH,       2,          1,          2,          2,2,20170916,       0407,   -39.0533,   -11.0000,       2787,  1800.1,   2.7814,  34.6840,0,  34.7010,2,    188.1,0,   188.7,2,   60.35,2,   29.94,2,    0.00,2,    2.06,2,  -999.0,9,-999.0000,9,  -999.00
91AH20170907,      GOUGH,       2,          1,          3,          3,2,20170916,       0407,   -39.0533,   -11.0000,       2787,  1599.9,   2.8107,  34.5946,0,  34.6137,2,    183.3,0,   183.2,2,   60.36,2,   31.50,2,    0.00,2,    2.19,2,  -999.0,9,-999.0000,9,  -999.00
91AH20170907,      GOUGH,       2,          1,          4,          4,2,20170916,       0407,   -39.0533,   -11.0000,       2787,  1400.1,   2.8874,  34.4922,0,  34.5050,2,    185.0,0,   184.8,2,   55.97,2,   32.83,2,    0.00,2,    2.27,2,  -999.0,9,-999.0000,9,  -999.00
91AH20170907,      GOUGH,       2,          1,          5,          5,2,20170916,       0407,   -39.0533,   -11.0000,       2787,  1300.3,   2.9500,  34.4428,0,  34.4507,2,    187.4,0,   188.4,2,   52.65,2,   32.88,2,    0.00,2,    2.25,2,  -999.0,9,-999.0000,9,  -999.00
91AH20170907,      GOUGH,       2,          1,          6,          6,2,20170916,       0407,   -39.0533,   -11.0000,       2787,  1200.5,   3.0501,  34.3796,0,  34.3907,2,    194.4,0,   196.0,2,   47.57,2,   32.68,2,    0.00,2,    2.23,2,  -999.0,9,-999.0000,9,  -999.00
91AH20170907,      GOUGH,       2,          1,          7,          7,2,20170916,       0407,   -39.0533,   -11.0000,       2787,  1100.4,   3.2295,  34.3269,0,  34.3313,2,    204.9,0,   207.9,2,   39.85,2,   31.89,2,    0.00,2,    2.16,2,  -999.0,9,-999.0000,9,  -999.00
91AH20170907,      GOUGH,       2,          1,          8,          8,2,20170916,       0407,   -39.0533,   -11.0000,       2787,  1000.0,   3.4597,  34.2793,0,  34.2820,2,    216.7,0,   219.7,2,   31.94,2,   30.92,2,    0.00,2,    2.10,2,  -999.0,9,-999.0000,9,  -999.00
91AH20170907,      GOUGH,       2,          1,          9,          9,2,20170916,       0407,   -39.0533,   -11.0000,       2787,   900.4,   3.7474,  34.2288,0,  34.2410,2,    228.6,0,   230.9,2,   25.01,2,   29.75,2,    0.00,2,    2.01,2,  -999.0,9,-999.0000,9,  -999.00
91AH20170907,      GOUGH,       2,          1,         10,         10,2,20170916,       0407,   -39.0533,   -11.0000,       2787,   799.9,   4.1695,  34.2068,0,  34.2193,2,    238.1,0,   240.7,2,   18.46,2,   28.20,2,    0.00,2,    1.91,2,  -999.0,9,-999.0000,9,  -999.00
91AH20170907,      GOUGH,       2,          1,         11,         11,2,20170916,       0407,   -39.0533,   -11.0000,       2787,   700.9,   4.7131,  34.2067,0,  34.2243,2,    242.8,0,   244.0,2,   14.07,2,   26.87,2,    0.00,2,    1.84,2,  -999.0,9,-999.0000,9,  -999.00
91AH20170907,      GOUGH,       2,          1,         12,         12,2,20170916,       0407,   -39.0533,   -11.0000,       2787,   601.1,   5.9942,  34.3222,0,  34.3317,2,    234.1,0,   234.6,2,   10.94,2,   24.63,2,    0.00,2,    1.69,2,  -999.0,9,-999.0000,9,  -999.00
91AH20170907,      GOUGH,       2,          1,         13,         13,2,20170916,       0407,   -39.0533,   -11.0000,       2787,   500.6,   7.6027,  34.4691,0,  34.5017,2,    233.1,0,   232.7,2,    7.62,2,   20.85,2,    0.01,2,    1.45,2,  -999.0,9,-999.0000,9,  -999.00
91AH20170907,      GOUGH,       2,          1,         14,         14,2,20170916,       0407,   -39.0533,   -11.0000,       2787,   400.1,   9.2833,  34.6584,0,  34.6910,2,    235.6,0,   234.2,2,    4.10,2,   16.03,2,    0.01,2,    1.18,2,  -999.0,9,-999.0000,9,  -999.00
91AH20170907,      GOUGH,       2,          1,         15,         15,2,20170916,       0407,   -39.0533,   -11.0000,       2787,   350.4,  10.0840,  34.7397,0,  34.7920,2,    235.2,0,   236.7,2,    2.64,2,   13.48,2,    0.02,2,    0.97,2,  -999.0,9,-999.0000,9,  -999.00
91AH20170907,      GOUGH,       2,          1,         16,         16,2,20170916,       0407,   -39.0533,   -11.0000,       2787,   299.6,  10.7335,  34.8201,0,  34.8577,2,    252.1,0,   250.0,2,    1.56,2,   10.31,2,    0.02,2,    0.79,2,  -999.0,9,-999.0000,9,  -999.00
91AH20170907,      GOUGH,       2,          1,         17,         17,2,20170916,       0407,   -39.0533,   -11.0000,       2787,   250.4,  11.2435,  34.8735,0,  34.9333,2,    259.8,0,   259.3,2,    1.07,2,    7.54,2,    0.04,2,    0.65,2,  -999.0,9,-999.0000,9,  -999.00
91AH20170907,      GOUGH,       2,          1,         18,         18,2,20170916,       0407,   -39.0533,   -11.0000,       2787,   200.1,  11.3461,  34.9278,0,  34.9470,2,    261.6,0,   261.2,2,    0.10,2,    6.98,2,    0.09,2,    0.62,2,  -999.0,9,-999.0000,9,  -999.00
91AH20170907,      GOUGH,       2,          1,         19,         19,2,20170916,       0407,   -39.0533,   -11.0000,       2787,   150.1,  11.4878,  34.9370,0,  34.9540,2,    263.5,0,   264.2,2,    0.29,2,    6.22,2,    0.19,2,    0.56,2,  -999.0,9,-999.0000,9,  -999.00
91AH20170907,      GOUGH,       2,          1,         20,         20,2,20170916,       0407,   -39.0533,   -11.0000,       2787,    99.7,  11.6508,  34.9505,0,  34.9657,2,    264.2,0,   262.9,2,    0.20,2,    5.84,2,    0.21,2,    0.55,2,  -999.0,9,-999.0000,9,  -999.00
91AH20170907,      GOUGH,       2,          1,         21,         21,2,20170916,       0407,   -39.0533,   -11.0000,       2787,    75.0,  11.6940,  34.9476,0,  34.9610,2,    265.4,0,   265.1,2,    0.39,2,    5.59,2,    0.20,2,    0.52,2,  -999.0,9,-999.0000,9,  -999.00
91AH20170907,      GOUGH,       2,          1,         22,         22,2,20170916,       0407,   -39.0533,   -11.0000,       2787,    49.7,  11.7479,  34.9428,0,  34.9573,2,    267.5,0,   267.3,2,    0.29,2,    5.33,2,    0.19,2,    0.50,2,  -999.0,9,-999.0000,9,  -999.00
91AH20170907,      GOUGH,       2,          1,         23,         23,2,20170916,       0407,   -39.0533,   -11.0000,       2787,    30.5,  11.8393,  34.9408,0,  34.9577,2,    270.8,0,   268.8,2,    0.29,2,    5.10,2,    0.17,2,    0.49,2,  -999.0,9,-999.0000,9,  -999.00
91AH20170907,      GOUGH,       2,          1,         24,         24,2,20170916,       0407,   -39.0533,   -11.0000,       2787,     4.4,  11.8549,  34.9415,0,  34.9577,2,    271.8,0,   268.9,2,    0.10,2,    5.06,2,    0.17,2,    0.49,2,  -999.0,9,-999.0000,9,  -999.00