BOTTLE,20200504CCHSIOCBG
EXPOCODE,SECT_ID,STNNBR,CASTNO,SAMPNO,BTLNBR,BTLNBR_FLAG_W,DATE,TIME,LATITUDE,LONGITUDE,DEPTH,CTDPRS,CTDTMP,CTDSAL,CTDSAL_FLAG_W,SALNTY,SALNTY_FLAG_W,CTDOXY,CTDOXY_FLAG_W,OXYGEN,OXYGEN_FLAG_W,SILCAT,SILCAT_FLAG_W,NITRAT,NITRAT_FLAG_W,NITRIT,NITRIT_FLAG_W,PHSPHT,PHSPHT_FLAG_W,ALKALI,ALKALI_FLAG_W,PH_TOT,PH_TOT_FLAG_W,PH_TMP
,,,,,,,,,,,METERS,DBAR,ITS-90,PSS-78,,PSS-78,,UMOL/KG,,UMOL/KG,,UMOL/KG,,UMOL/KG,,UMOL/KG,,UMOL/KG,,UMOL/KG,,,,DEG C
91AH20170907,      GOUGH,       5,          1,          1,          1,2,20171005,       2023,   -36.5708,   -10.0002,       4079,  2001.0,   2.8025,  34.7501,0,  34.7597,2,    201.2,0,   201.6,2,   58.79,2,   28.12,2,    0.00,2,    2.01,2,  2334.1,2,   7.6349,2,    25.00
91AH20170907,      GOUGH,       5,          1,          2,          2,2,20171005,       2023,   -36.5708,   -10.0002,       4079,  1800.4,   2.8245,  34.6835,0,  34.6980,2,    191.8,0,   192.1,2,   60.55,2,   29.96,2,    0.00,2,    2.14,2,  2332.0,2,   7.6082,2,    25.00
91AH20170907,      GOUGH,       5,          1,          3,          3,2,20171005,       2023,   -36.5708,   -10.0002,       4079,  1600.0,   2.8452,  34.5874,0,  34.6073,2,    183.6,0,   185.3,2,   61.82,2,   32.04,2,    0.00,2,    2.30,2,  2330.3,2,   7.5914,2,    25.00
91AH20170907,      GOUGH,       5,          1,          4,          4,2,20171005,       2023,   -36.5708,   -10.0002,       4079,  1400.3,   2.9075,  34.4763,0,  34.4907,2,    185.4,0,   184.8,2,   58.02,2,   33.57,2,    0.00,2,    2.35,2,  2322.1,2,   7.5749,2,    25.00
91AH20170907,      GOUGH,       5,          1,          5,          5,2,20171005,       2023,   -36.5708,   -10.0002,       4079,  1299.8,   3.0147,  34.4090,0,  34.4247,2,    191.7,0,   191.3,2,   53.04,2,   33.53,2,    0.00,2,    2.38,2,  2315.0,2,   7.5768,2,    25.00
91AH20170907,      GOUGH,       5,          1,          6,          6,2,20171005,       2023,   -36.5708,   -10.0002,       4079,  1200.3,   3.2695,  34.3476,0,  34.3657,2,    200.3,0,   200.5,2,   45.81,2,   33.01,2,    0.00,2,    2.34,2,  2307.9,6,   7.5887,6,    25.00
91AH20170907,      GOUGH,       5,          1,          7,          7,2,20171005,       2023,   -36.5708,   -10.0002,       4079,  1099.9,   3.4810,  34.2903,0,  34.3050,2,    212.9,0,   212.9,2,   37.02,2,   31.94,2,    0.00,2,    2.26,2,  2299.8,2,   7.6002,2,    25.00
91AH20170907,      GOUGH,       5,          1,          8,          8,2,20171005,       2023,   -36.5708,   -10.0002,       4079,  1000.1,   3.7567,  34.2432,0,  34.2583,2,    226.3,0,   226.1,2,   29.80,2,   30.69,2,    0.00,2,    2.16,2,  2293.4,2,   7.6190,2,    25.00
91AH20170907,      GOUGH,       5,          1,          9,          9,2,20171005,       2023,   -36.5708,   -10.0002,       4079,   900.0,   4.2207,  34.2214,0,  34.2343,2,    235.3,0,   236.9,2,   21.59,2,   28.95,2,    0.00,2,    2.02,2,  2288.8,2,   7.6445,2,    25.00
91AH20170907,      GOUGH,       5,          1,         10,         10,2,20171005,       2023,   -36.5708,   -10.0002,       4079,   800.2,   4.7050,  34.2237,0,  34.2377,2,    240.5,0,   241.5,2,   16.51,2,   27.52,2,    0.00,2,    1.91,2,  2283.1,2,   7.6529,2,    25.00
91AH20170907,      GOUGH,       5,          1,         11,         11,2,20171005,       2023,   -36.5708,   -10.0002,       4079,   700.4,   5.8332,  34.3241,0,  34.3320,2,    227.0,0,   228.5,2,   13.97,2,   26.10,2,    0.00,2,    1.82,2,  2284.6,2,   7.6610,2,    25.00
91AH20170907,      GOUGH,       5,          1,         12,         12,2,20171005,       2023,   -36.5708,   -10.0002,       4079,   599.7,   7.2573,  34.4458,0,  34.4723,2,    223.6,0,   222.7,2,    8.89,2,   22.86,2,    0.00,2,    1.59,2,  2286.3,2,   7.6893,2,    25.00
91AH20170907,      GOUGH,       5,          1,         13,         13,2,20171005,       2023,   -36.5708,   -10.0002,       4079,   499.8,   9.1796,  34.6914,0,  34.7020,2,    209.6,0,   210.5,2,    7.42,2,   19.22,2,    0.00,2,    1.37,2,  2295.4,2,   7.7228,2,    25.00
91AH20170907,      GOUGH,       5,          1,         14,         14,2,20171005,       2023,   -36.5708,   -10.0002,       4079,   400.2,  11.0630,  34.9495,0,  34.9590,2,    214.1,0,   213.6,2,    4.39,2,   13.93,2,    0.00,2,    1.03,2,  2308.6,2,   7.7803,2,    25.00
91AH20170907,      GOUGH,       5,          1,         15,         15,2,20171005,       2023,   -36.5708,   -10.0002,       4079,   349.9,  11.9159,  35.0792,0,  35.0907,2,    217.4,0,   217.7,2,    2.93,2,   11.48,2,    0.00,2,    0.87,2,  2314.9,2,   7.8095,2,    25.00
91AH20170907,      GOUGH,       5,          1,         16,         16,2,20171005,       2023,   -36.5708,   -10.0002,       4079,   299.6,  12.7455,  35.2318,0,  35.2163,2,    218.1,0,   216.6,2,    2.15,2,    9.85,2,    0.00,2,    0.77,2,  2322.0,2,   7.8314,2,    25.00
91AH20170907,      GOUGH,       5,          1,         17,         17,2,20171005,       2023,   -36.5708,   -10.0002,       4079,   249.8,  13.2275,  35.2663,0,  35.2830,2,    235.6,0,   222.5,2,    2.25,2,    8.07,2,    0.00,2,    0.77,2,  2324.3,2,   7.8502,2,    25.00
91AH20170907,      GOUGH,       5,          1,         18,         18,2,20171005,       2023,   -36.5708,   -10.0002,       4079,   200.0,  13.5053,  35.3121,0,  35.3107,2,    223.1,0,   230.2,2,    2.25,2,    6.48,2,    0.01,2,    0.56,2,  2327.7,2,   7.8669,2,    25.00
91AH20170907,      GOUGH,       5,          1,         19,         19,2,20171005,       2023,   -36.5708,   -10.0002,       4079,   150.0,  13.7712,  35.4338,0,  35.3303,2,    241.9,0,   224.8,2,    2.34,2,    6.45,2,    0.01,2,    0.56,2,  2327.1,6,   7.8651,6,    25.00
91AH20170907,      GOUGH,       5,          1,         20,         20,2,20171005,       2023,   -36.5708,   -10.0002,       4079,    99.6,  14.6053,  35.4745,0,  35.4830,2,    251.6,0,   246.5,2,    1.56,2,    2.16,2,    0.13,2,    0.31,2,  2337.0,2,   7.9141,2,    25.00
91AH20170907,      GOUGH,       5,          1,         21,         21,2,20171005,       2023,   -36.5708,   -10.0002,       4079,    75.2,  14.6300,  35.4758,0,  35.4883,2,    252.1,0,   248.4,2,    1.46,2,    1.90,2,    0.12,2,    0.30,2,  2336.6,2,   7.9152,2,    25.00
91AH20170907,      GOUGH,       5,          1,         22,         22,2,20171005,       2023,   -36.5708,   -10.0002,       4079,    39.4,  14.6298,  35.4785,0,  35.4880,2,    255.0,0,   248.2,2,    0.78,2,    1.88,2,    0.11,2,    0.27,2,  2337.1,2,   7.9169,2,    25.00
91AH20170907,      GOUGH,       5,          1,         23,         23,2,20171005,       2023,   -36.5708,   -10.0002,       4079,    23.9,  14.6475,  35.4778,0,  35.4867,2,    255.7,0,   248.2,2,    0.78,2,    1.86,2,    0.12,2,    0.27,2,  2335.3,2,   7.9127,2,    25.00
91AH20170907,      GOUGH,       5,          1,         24,         24,2,20171005,       2023,   -36.5708,   -10.0002,       4079,     5.0,  14.7099,  35.4780,0,  35.4917,2,    256.6,0,   249.3,2,    1.17,2,    1.86,2,    0.11,2,    0.31,2,  2337.5,2,   7.9182,2,    25.00
91AH20170907,      GOUGH,       6,          1,          1,          1,2,20171008,       1337,   -34.5003,     4.0022,       5043,  1999.3,   2.7762,  34.7452,0,  34.7560,2,    200.0,0,   199.9,2,   54.69,2,   28.77,2,    0.00,2,    1.82,2,  2333.2,2,   7.6267,2,    25.00
91AH20170907,      GOUGH,       6,          1,          2,          2,2,20171008,       1337,   -34.5003,     4.0022,       5043,  1801.3,   2.7905,  34.6758,0,  34.6897,2,    190.5,0,   190.2,2,   56.64,2,   30.67,2,    0.00,2,    1.96,2,  2332.8,2,   7.6077,2,    25.00
91AH20170907,      GOUGH,       6,          1,          3,          3,2,20171008,       1337,   -34.5003,     4.0022,       5043,  1599.1,   3.0089,  34.6217,0,  34.6383,2,    181.0,0,   181.5,2,   56.25,2,   32.12,2,    0.00,2,    2.02,2,  2329.1,2,   7.5887,2,    25.00
91AH20170907,      GOUGH,       6,          1,          4,          4,2,20171008,       1337,   -34.5003,     4.0022,       5043,  1399.4,   3.1848,  34.5130,0,  34.5290,2,    177.5,0,   176.5,2,   54.79,2,   33.75,2,    0.00,2,    2.12,2,  2325.1,2,   7.5727,2,    25.00
91AH20170907,      GOUGH,       6,          1,          5,          5,2,20171008,       1337,   -34.5003,     4.0022,       5043,  1299.7,   3.3590,  34.4508,0,  34.4667,2,    182.6,0,   181.1,2,   50.20,2,   33.81,2,    0.00,2,    2.16,2,  2318.1,6,   7.5717,6,    25.00
91AH20170907,      GOUGH,       6,          1,          6,          6,2,20171008,       1337,   -34.5003,     4.0022,       5043,  1200.1,   3.3683,  34.3538,0,  34.3653,2,    200.9,0,   200.4,2,   40.15,2,   33.04,2,    0.00,2,    2.08,2,  -999.0,9,-999.0000,9,  -999.00
91AH20170907,      GOUGH,       6,          1,          7,          7,2,20171008,       1337,   -34.5003,     4.0022,       5043,  1099.8,   3.5793,  34.3028,0,  34.3150,2,    211.4,0,   209.9,2,   33.99,2,   32.10,2,    0.00,2,    2.03,2,  2297.8,2,   7.5995,2,    25.00
91AH20170907,      GOUGH,       6,          1,          8,          8,2,20171008,       1337,   -34.5003,     4.0022,       5043,  1001.0,   4.1807,  34.3162,0,  34.3277,2,    208.0,0,   207.0,2,   29.21,2,   31.44,2,    0.00,2,    1.99,2,  2296.3,2,   7.6067,2,    25.00
91AH20170907,      GOUGH,       6,          1,          9,          9,2,20171008,       1337,   -34.5003,     4.0022,       5043,   901.2,   4.6880,  34.2971,0,  34.3147,2,    216.7,0,   214.0,2,   22.57,2,   29.97,2,    0.00,2,    1.90,2,  2291.0,2,   7.6225,2,    25.00
91AH20170907,      GOUGH,       6,          1,         10,         10,2,20171008,       1337,   -34.5003,     4.0022,       5043,   800.7,   5.3646,  34.3093,0,  34.3217,2,    219.4,0,   219.6,2,   17.19,2,   28.14,2,    0.00,2,    1.77,2,  2285.1,2,   7.6378,2,    25.00
91AH20170907,      GOUGH,       6,          1,         11,         11,2,20171008,       1337,   -34.5003,     4.0022,       5043,   699.8,   6.3763,  34.3760,0,  34.3847,2,    219.4,0,   220.0,2,   11.43,2,   25.63,2,    0.00,2,    1.62,2,  2283.5,2,   7.6596,2,    25.00
91AH20170907,      GOUGH,       6,          1,         12,         12,2,20171008,       1337,   -34.5003,     4.0022,       5043,   600.6,   8.1199,  34.5675,0,  34.5797,2,    203.5,0,   202.3,2,   10.65,2,   22.68,2,    0.00,2,    1.46,2,  2290.1,2,   7.6818,2,    25.00
91AH20170907,      GOUGH,       6,          1,         13,         13,2,20171008,       1337,   -34.5003,     4.0022,       5043,   499.9,  10.0221,  34.7418,0,  34.7837,2,    207.8,0,   209.0,2,    5.96,2,   17.34,2,    0.00,2,    1.13,2,  2297.9,6,   7.7398,6,    25.00
91AH20170907,      GOUGH,       6,          1,         14,         14,2,20171008,       1337,   -34.5003,     4.0022,       5043,   400.4,  11.3757,  34.9685,0,  34.9577,2,    213.5,0,   213.1,2,    3.51,2,   13.50,2,    0.00,2,    0.89,2,  2305.7,2,   7.7835,2,    25.00
91AH20170907,      GOUGH,       6,          1,         15,         15,2,20171008,       1337,   -34.5003,     4.0022,       5043,   350.7,  12.2529,  35.0894,0,  35.0810,2,    213.4,0,   212.8,2,    3.12,2,   11.60,2,    0.01,2,    0.78,2,  2312.1,2,   7.8062,2,    25.00
91AH20170907,      GOUGH,       6,          1,         16,         16,2,20171008,       1337,   -34.5003,     4.0022,       5043,   300.7,  12.9809,  35.1900,0,  35.1707,2,    215.4,0,   211.5,2,    3.61,2,   10.07,2,    0.02,2,    0.69,2,  2316.2,2,   7.8224,2,    25.00
91AH20170907,      GOUGH,       6,          1,         17,         17,2,20171008,       1337,   -34.5003,     4.0022,       5043,   249.7,  13.7643,  35.2171,0,  35.2247,2,    215.4,0,   214.6,2,    2.44,2,    7.91,2,    0.02,2,    0.57,2,  2318.3,2,   7.8450,2,    25.00
91AH20170907,      GOUGH,       6,          1,         18,         18,2,20171008,       1337,   -34.5003,     4.0022,       5043,   209.5,  14.6633,  35.4617,0,  35.3167,2,    240.2,0,   229.0,2,    2.05,2,    4.15,2,    0.07,2,    0.39,2,  2325.7,2,   7.8920,2,    25.00
91AH20170907,      GOUGH,       6,          1,         19,         19,2,20171008,       1337,   -34.5003,     4.0022,       5043,   150.5,  15.5978,  35.5098,0,  35.5087,2,    242.1,0,   244.2,2,    2.05,2,    1.48,2,    0.10,2,    0.24,2,  2336.3,2,   7.9319,2,    25.00
91AH20170907,      GOUGH,       6,          1,         20,         20,2,20171008,       1337,   -34.5003,     4.0022,       5043,    99.8,  15.7369,  35.5197,0,  35.5337,2,    240.5,0,   242.9,2,    1.95,2,    1.33,2,    0.11,2,    0.21,2,  2337.5,2,   7.9350,2,    25.00
91AH20170907,      GOUGH,       6,          1,         21,         21,2,20171008,       1337,   -34.5003,     4.0022,       5043,    75.0,  16.2952,  35.5700,0,  35.5773,2,    236.3,0,   232.7,2,    1.95,2,    1.89,2,    0.16,2,    0.23,2,  2338.3,2,   7.9343,2,    25.00
91AH20170907,      GOUGH,       6,          1,         22,         22,2,20171008,       1337,   -34.5003,     4.0022,       5043,    50.5,  16.6189,  35.6291,0,  35.6580,2,    237.5,0,   239.7,2,    1.37,2,    0.74,2,    0.13,2,    0.17,2,  2343.5,2,   7.9533,2,    25.00
91AH20170907,      GOUGH,       6,          1,         23,         23,2,20171008,       1337,   -34.5003,     4.0022,       5043,    24.9,  16.6071,  35.6255,0,  35.6553,2,    237.0,0,   240.0,2,    1.37,2,    0.77,2,    0.13,2,    0.18,2,  2344.0,2,   7.9528,2,    25.00
91AH20170907,      GOUGH,       6,          1,         24,         24,2,20171008,       1337,   -34.5003,     4.0022,       5043,     3.3,  16.6033,  35.6240,0,  35.6557,2,    236.9,0,   239.6,2,    1.46,2,    0.74,2,    0.13,2,    0.19,2,  2343.5,2,   7.9541,2,    25.00