BOTTLE,20200504CCHSIOCBG
EXPOCODE,SECT_ID,STNNBR,CASTNO,SAMPNO,BTLNBR,BTLNBR_FLAG_W,DATE,TIME,LATITUDE,LONGITUDE,DEPTH,CTDPRS,CTDTMP,CTDSAL,CTDSAL_FLAG_W,SALNTY,SALNTY_FLAG_W,CTDOXY,CTDOXY_FLAG_W,OXYGEN,OXYGEN_FLAG_W,SILCAT,SILCAT_FLAG_W,NITRAT,NITRAT_FLAG_W,NITRIT,NITRIT_FLAG_W,PHSPHT,PHSPHT_FLAG_W,ALKALI,ALKALI_FLAG_W,PH_TOT,PH_TOT_FLAG_W,PH_TMP
,,,,,,,,,,,METERS,DBAR,ITS-90,PSS-78,,PSS-78,,UMOL/KG,,UMOL/KG,,UMOL/KG,,UMOL/KG,,UMOL/KG,,UMOL/KG,,UMOL/KG,,,,DEG C
91AH20170907,      GOUGH,       3,          1,          1,          1,2,20170918,       2125,   -43.0005,    -9.9997,       3993,  1999.7,   2.6905,  34.7318,0,  34.7460,2,    189.9,0,   190.2,2,   65.72,2,   28.06,2,    0.00,2,    2.04,2,  2339.3,2,   7.6097,2,    25.00
91AH20170907,      GOUGH,       3,          1,          2,          2,2,20170918,       2125,   -43.0005,    -9.9997,       3993,  1800.1,   2.7527,  34.6827,0,  34.6980,2,    182.5,0,   183.3,2,   65.43,2,   28.35,3,    0.00,2,    2.14,2,  2337.3,2,   7.5905,2,    25.00
91AH20170907,      GOUGH,       3,          1,          3,          3,2,20170918,       2125,   -43.0005,    -9.9997,       3993,  1599.8,   2.7717,  34.5963,0,  34.6130,2,    176.3,0,   176.1,2,   65.04,2,   31.75,2,    0.00,2,    2.25,2,  2333.2,6,   7.5674,6,    25.00
91AH20170907,      GOUGH,       3,          1,          4,          4,2,20170918,       2125,   -43.0005,    -9.9997,       3993,  1399.8,   2.8058,  34.4930,0,  34.5203,2,    178.2,0,   177.5,2,   62.12,2,   32.75,2,    0.00,2,    2.32,2,  2326.7,2,   7.5627,2,    25.00
91AH20170907,      GOUGH,       3,          1,          5,          5,2,20170918,       2125,   -43.0005,    -9.9997,       3993,  1300.5,   2.8579,  34.4428,0,  34.4737,2,    183.2,0,   181.5,2,   58.70,2,   32.96,2,    0.00,2,    2.35,2,  2324.0,2,   7.5611,2,    25.00
91AH20170907,      GOUGH,       3,          1,          6,          6,2,20170918,       2125,   -43.0005,    -9.9997,       3993,  1199.9,   2.9486,  34.3984,0,  34.4223,2,    189.7,0,   188.9,2,   53.82,2,   32.77,2,    0.00,2,    2.32,2,  2317.4,2,   7.5655,2,    25.00
91AH20170907,      GOUGH,       3,          1,          7,          7,2,20170918,       2125,   -43.0005,    -9.9997,       3993,  1099.7,   3.0280,  34.3485,0,  34.3673,2,    199.5,0,   198.8,2,   47.96,2,   32.34,2,    0.00,2,    2.29,2,  2310.5,2,   7.5733,2,    25.00
91AH20170907,      GOUGH,       3,          1,          8,          8,2,20170918,       2125,   -43.0005,    -9.9997,       3993,  1000.4,   3.1714,  34.3105,0,  34.3247,2,    207.1,0,   207.3,2,   42.10,2,   31.71,2,    0.00,2,    2.24,2,  2304.2,2,   7.5842,2,    25.00
91AH20170907,      GOUGH,       3,          1,          9,          9,2,20170918,       2125,   -43.0005,    -9.9997,       3993,   900.1,   3.3249,  34.2493,0,  34.2733,2,    222.4,0,   219.9,2,   34.39,2,   30.64,2,    0.00,2,    2.18,2,  2297.4,2,   7.5992,2,    25.00
91AH20170907,      GOUGH,       3,          1,         10,         10,2,20170918,       2125,   -43.0005,    -9.9997,       3993,   799.3,   3.5814,  34.2099,0,  34.2340,2,    234.8,0,   232.3,2,   26.77,2,   29.48,2,    0.00,2,    2.08,2,  2291.6,2,   7.6169,2,    25.00
91AH20170907,      GOUGH,       3,          1,         11,         11,2,20170918,       2125,   -43.0005,    -9.9997,       3993,   701.0,   3.7997,  34.1718,0,  34.1863,2,    250.2,0,   250.3,2,   20.91,2,   27.83,2,    0.00,2,    1.97,2,  2285.2,2,   7.6365,2,    25.00
91AH20170907,      GOUGH,       3,          1,         12,         12,2,20170918,       2125,   -43.0005,    -9.9997,       3993,   601.5,   4.2464,  34.1687,0,  34.1817,2,    254.4,0,   255.2,2,   15.53,2,   26.62,2,    0.00,2,    1.90,2,  2281.7,2,   7.6499,2,    25.00
91AH20170907,      GOUGH,       3,          1,         13,         13,2,20170918,       2125,   -43.0005,    -9.9997,       3993,   500.2,   4.8567,  34.2041,0,  34.2160,2,    248.4,0,   249.1,2,   12.11,2,   25.68,2,    0.00,2,    1.83,2,  2279.4,2,   7.6539,2,    25.00
91AH20170907,      GOUGH,       3,          1,         14,         14,2,20170918,       2125,   -43.0005,    -9.9997,       3993,   400.4,   5.8802,  34.2991,0,  34.3020,2,    238.4,0,   239.5,2,    9.57,2,   23.89,2,    0.00,2,    1.71,2,  2280.8,2,   7.6668,2,    25.00
91AH20170907,      GOUGH,       3,          1,         15,         15,2,20170918,       2125,   -43.0005,    -9.9997,       3993,   350.1,   6.6260,  34.3562,0,  34.3783,2,    240.0,0,   239.6,2,    7.91,2,   21.90,2,    0.00,2,    1.56,2,  2282.3,2,   7.6851,2,    25.00
91AH20170907,      GOUGH,       3,          1,         16,         16,2,20170918,       2125,   -43.0005,    -9.9997,       3993,   299.7,   7.3483,  34.4394,0,  34.4623,2,    235.5,0,   235.4,2,    6.84,2,   20.43,2,    0.01,2,    1.49,2,  2286.1,2,   7.7002,2,    25.00
91AH20170907,      GOUGH,       3,          1,         17,         17,2,20170918,       2125,   -43.0005,    -9.9997,       3993,   250.0,   8.1469,  34.5358,0,  34.5540,2,    237.1,0,   237.2,2,    5.66,2,   18.01,2,    0.01,2,    1.30,2,  2290.3,2,   7.7242,2,    25.00
91AH20170907,      GOUGH,       3,          1,         18,         18,2,20170918,       2125,   -43.0005,    -9.9997,       3993,   200.4,   9.2452,  34.6720,0,  34.6927,2,    262.8,0,   267.7,2,    3.03,2,   11.56,2,    0.13,2,    0.93,2,  2295.2,2,   7.7917,2,    25.00
91AH20170907,      GOUGH,       3,          1,         19,         19,2,20170918,       2125,   -43.0005,    -9.9997,       3993,   150.7,   9.2524,  34.6855,0,  34.6920,2,    272.8,0,   274.4,2,    2.64,2,   10.82,2,    0.20,2,    0.89,2,  2299.5,2,   7.8083,2,    25.00
91AH20170907,      GOUGH,       3,          1,         20,         20,2,20170918,       2125,   -43.0005,    -9.9997,       3993,   110.7,   9.4579,  34.7261,0,  34.7310,2,    272.5,0,   273.1,2,    1.86,2,   10.64,2,    0.20,2,    0.88,2,  2300.4,2,   7.8112,2,    25.00
91AH20170907,      GOUGH,       3,          1,         21,         21,2,20170918,       2125,   -43.0005,    -9.9997,       3993,    74.5,   9.5622,  34.7763,0,  34.7503,2,    269.3,0,   273.6,2,    2.05,2,   10.40,2,    0.18,2,    0.85,2,  2301.7,2,   7.8144,2,    25.00
91AH20170907,      GOUGH,       3,          1,         22,         22,2,20170918,       2125,   -43.0005,    -9.9997,       3993,    45.7,   9.7605,  34.7779,0,  34.7813,2,    273.2,0,   273.9,2,    1.56,2,   10.08,2,    0.15,2,    0.82,2,  2302.9,2,   7.8206,2,    25.00
91AH20170907,      GOUGH,       3,          1,         23,         23,2,20170918,       2125,   -43.0005,    -9.9997,       3993,    25.6,   9.7816,  34.7808,0,  34.7880,2,    273.4,0,   273.7,2,    1.56,2,   10.10,2,    0.14,2,    0.80,2,  2302.8,6,   7.8213,6,    25.00
91AH20170907,      GOUGH,       3,          1,         24,         24,2,20170918,       2125,   -43.0005,    -9.9997,       3993,     4.1,   9.7131,  34.7798,0,  34.7690,2,    273.0,0,   276.3,2,    1.56,2,   10.27,2,    0.14,2,    0.81,2,  2302.5,2,   7.8213,2,    25.00
91AH20170907,      GOUGH,       4,          1,          1,          1,2,20170920,       0602,   -47.4992,   -13.0007,       2797,  2000.4,   2.1876,  34.7761,0,  34.7863,2,    202.3,0,   202.9,2,   75.00,2,   28.64,2,    0.00,2,    1.93,2,  2351.0,2,   7.6324,2,    25.00
91AH20170907,      GOUGH,       4,          1,          2,          2,2,20170920,       0602,   -47.4992,   -13.0007,       2797,  1800.8,   2.1991,  34.7484,0,  34.7587,2,    193.9,0,   192.5,2,   74.41,2,   30.09,2,    0.00,2,    2.01,2,  2348.3,2,   7.6114,2,    25.00
91AH20170907,      GOUGH,       4,          1,          3,          3,2,20170920,       0602,   -47.4992,   -13.0007,       2797,  1599.8,   2.4435,  34.7276,0,  34.7447,2,    187.7,0,   187.5,2,   73.24,2,   30.68,2,    0.00,2,    2.06,2,  2344.1,2,   7.6008,2,    25.00
91AH20170907,      GOUGH,       4,          1,          4,          4,2,20170920,       0602,   -47.4992,   -13.0007,       2797,  1400.5,   2.5021,  34.6845,0,  34.7003,2,    180.0,0,   179.8,2,   73.63,2,   32.07,2,    0.00,2,    2.16,2,  2342.9,2,   7.5877,2,    25.00
91AH20170907,      GOUGH,       4,          1,          5,          5,2,20170920,       0602,   -47.4992,   -13.0007,       2797,  1299.8,   2.5300,  34.6494,0,  34.6693,2,    176.3,0,   176.2,2,   73.44,2,   32.86,2,    0.00,2,    2.20,2,  2340.6,6,   7.5784,6,    25.00
91AH20170907,      GOUGH,       4,          1,          6,          6,2,20170920,       0602,   -47.4992,   -13.0007,       2797,  1199.3,   2.5632,  34.6134,0,  34.6383,2,    174.5,0,   174.4,2,   71.59,2,   33.47,2,    0.00,2,    2.25,2,  2338.9,2,   7.5713,2,    25.00
91AH20170907,      GOUGH,       4,          1,          7,          7,2,20170920,       0602,   -47.4992,   -13.0007,       2797,  1099.5,   2.5919,  34.5727,0,  34.5917,2,    173.8,0,   173.0,2,   70.12,2,   34.09,2,    0.00,2,    2.27,2,  2335.3,2,   7.5619,2,    25.00
91AH20170907,      GOUGH,       4,          1,          8,          8,2,20170920,       0602,   -47.4992,   -13.0007,       2797,   999.6,   2.6033,  34.5267,0,  34.5487,2,    175.0,0,   174.2,2,   66.61,2,   34.69,2,    0.00,2,    2.31,2,  2331.6,2,   7.5552,2,    25.00
91AH20170907,      GOUGH,       4,          1,          9,          9,2,20170920,       0602,   -47.4992,   -13.0007,       2797,   899.6,   2.6269,  34.4684,0,  34.4937,2,    179.5,0,   178.4,2,   63.98,2,   34.92,2,    0.00,2,    2.34,2,  2326.6,2,   7.5611,2,    25.00
91AH20170907,      GOUGH,       4,          1,         10,         10,2,20170920,       0602,   -47.4992,   -13.0007,       2797,   800.5,   2.6560,  34.4000,0,  34.4233,2,    188.8,0,   187.0,2,   59.19,2,   34.71,2,    0.00,2,    2.33,2,  2319.6,2,   7.5561,2,    25.00
91AH20170907,      GOUGH,       4,          1,         11,         11,2,20170920,       0602,   -47.4992,   -13.0007,       2797,   701.5,   2.7427,  34.3330,0,  34.3627,2,    201.2,0,   198.2,2,   50.60,2,   34.23,2,    0.00,2,    2.30,2,  2313.2,2,   7.5672,2,    25.00
91AH20170907,      GOUGH,       4,          1,         12,         12,2,20170920,       0602,   -47.4992,   -13.0007,       2797,   601.6,   2.8029,  34.2628,0,  34.2987,2,    218.4,0,   213.5,2,   42.98,2,   33.21,2,    0.00,2,    2.24,2,  2305.0,2,   7.5797,2,    25.00
91AH20170907,      GOUGH,       4,          1,         13,         13,2,20170920,       0602,   -47.4992,   -13.0007,       2797,   501.7,   2.8703,  34.2018,0,  34.2147,2,    236.0,0,   235.4,2,   32.63,2,   31.50,2,    0.00,2,    2.14,2,  2295.2,2,   7.6019,2,    25.00
91AH20170907,      GOUGH,       4,          1,         14,         14,2,20170920,       0602,   -47.4992,   -13.0007,       2797,   400.9,   3.0810,  34.1402,0,  34.1470,2,    251.4,0,   254.6,2,   24.91,2,   29.55,2,    0.00,2,    2.02,2,  2287.3,6,   7.6247,6,    25.00
91AH20170907,      GOUGH,       4,          1,         15,         15,2,20170920,       0602,   -47.4992,   -13.0007,       2797,   351.4,   3.2372,  34.1001,0,  34.1193,2,    263.9,0,   263.9,2,   20.03,2,   28.44,2,    0.00,2,    1.94,2,  2283.5,2,   7.6376,2,    25.00
91AH20170907,      GOUGH,       4,          1,         16,         16,2,20170920,       0602,   -47.4992,   -13.0007,       2797,   300.2,   3.2935,  34.0741,0,  34.0857,2,    272.2,0,   272.8,2,   18.17,2,   27.63,2,    0.01,2,    1.91,2,  2281.2,2,   7.6486,2,    25.00
91AH20170907,      GOUGH,       4,          1,         17,         17,2,20170920,       0602,   -47.4992,   -13.0007,       2797,   250.1,   3.4633,  34.0574,0,  34.0783,2,    278.8,0,   276.3,2,   15.34,2,   27.03,2,    0.01,2,    1.87,2,  2283.3,2,   7.6561,2,    25.00
91AH20170907,      GOUGH,       4,          1,         18,         18,2,20170920,       0602,   -47.4992,   -13.0007,       2797,   200.9,   3.8417,  33.9235,0,  34.0697,2,    300.3,0,   280.3,2,   12.02,2,   25.93,2,    0.02,2,    1.80,2,  2277.2,2,   7.6658,2,    25.00
91AH20170907,      GOUGH,       4,          1,         19,         19,2,20170920,       0602,   -47.4992,   -13.0007,       2797,   151.1,   2.6419,  33.8086,0,  33.8273,2,    322.6,0,   324.3,2,   12.02,2,   23.42,2,    0.39,2,    1.65,2,  2274.4,2,   7.7010,2,    25.00
91AH20170907,      GOUGH,       4,          1,         20,         20,2,20170920,       0602,   -47.4992,   -13.0007,       2797,   100.1,   3.5776,  33.8459,0,  33.8493,2,    320.9,0,   320.4,2,    8.31,2,   22.19,2,    0.47,2,    1.57,2,  2269.6,2,   7.7142,2,    25.00
91AH20170907,      GOUGH,       4,          1,         21,         21,2,20170920,       0602,   -47.4992,   -13.0007,       2797,    75.9,   3.6007,  33.8444,0,  33.8547,2,    321.1,0,   321.0,2,    7.82,2,   22.05,2,    0.47,2,    1.56,2,  2269.3,2,   7.7148,2,    25.00
91AH20170907,      GOUGH,       4,          1,         22,         22,2,20170920,       0602,   -47.4992,   -13.0007,       2797,    51.3,   3.6090,  33.8493,0,  33.8530,2,    320.3,0,   320.8,2,    7.82,2,   21.97,2,    0.47,2,    1.56,2,  2269.3,2,   7.7124,2,    25.00
91AH20170907,      GOUGH,       4,          1,         23,         23,2,20170920,       0602,   -47.4992,   -13.0007,       2797,    30.6,   3.6186,  33.8496,0,  33.8537,2,    320.0,0,   320.9,2,    7.92,2,   21.88,2,    0.47,2,    1.55,2,  2269.5,2,   7.7153,2,    25.00
91AH20170907,      GOUGH,       4,          1,         24,         24,2,20170920,       0602,   -47.4992,   -13.0007,       2797,     4.9,   3.6176,  33.8452,0,  33.8550,2,    319.8,0,   320.5,2,    8.01,2,   21.81,2,    0.48,2,    1.54,2,  2268.9,2,   7.7142,2,    25.00