BOTTLE,20190617PRINUNIVRMK
EXPOCODE,SECT_ID,STNNBR,CASTNO,SAMPNO,BTLNBR,BTLNBR_FLAG_W,DATE,TIME,LATITUDE,LONGITUDE,DEPTH,CTDPRS,CTDTMP,SBE35_FLAG_W,REFTMP,CTDSAL,CTDSAL_FLAG_W,SALNTY,SALNTY_FLAG_W,CTDOXY,CTDOXY_FLAG_W,OXYGEN,OXYGEN_FLAG_W,SILCAT,SILCAT_FLAG_W,NITRAT,NITRAT_FLAG_W,NITRIT,NITRIT_FLAG_W,PHSPHT,PHSPHT_FLAG_W,NH4,NH4_FLAG_W,ALKALI,ALKALI_FLAG_W,PH_TOT,PH_TOT_FLAG_W,PH_TMP,CHLORA,CHLORA_FLAG_W,SBE35_FLAG_W,BTL_DATE,BTL_TIME
,,,,,,,,,,,METERS,DBAR,ITS-90,,,PSS-78,,PSS-78,,UMOL/KG,,UMOL/KG,,UMOL/KG,,UMOL/KG,,UMOL/KG,,UMOL/KG,,UMOL/KG,,UMOL/KG,,,,DEG C,UG/KG,,,,
  320620161224,HAZMAT,    16,  2,      1,      1,2,20170104,0535,-68.2897, -95.4232, 4512,   4570.5,   0.3927,9,-999.0000,-999.0000,0,  34.6997,2,   -999.0,0,    213.5,2,   146.70,2,    32.43,2,     0.00,2,     2.25,2,        0,2,   2362.8,6,   7.5891,6,    25.00,  -999.00,9,9, 20170104,      535
  320620161224,HAZMAT,    16,  2,      2,      2,2,20170104,0535,-68.2897, -95.4232, 4512,   4427.5,   0.3916,2,   0.3912,  34.7257,2,  34.7001,2,    211.8,2,    214.5,2,   143.00,2,    32.38,2,     0.00,2,     2.25,2,        0,2,   2362.6,2,   7.5912,2,    25.00,  -999.00,9,2, 20170104,      539
  320620161224,HAZMAT,    16,  2,      3,      3,2,20170104,0535,-68.2897, -95.4232, 4512,   4284.8,   0.3907,2,   0.3905,  34.7257,2,  34.7000,2,    210.8,2,    213.6,2,   141.20,2,    32.39,2,     0.00,2,     2.26,2,        0,2,   2362.1,2,   7.5893,2,    25.00,  -999.00,9,2, 20170104,      543
  320620161224,HAZMAT,    16,  2,      4,      4,2,20170104,0535,-68.2897, -95.4232, 4512,   3874.0,   0.4193,2,   0.4189,  34.7038,2,  34.7008,2,    206.8,2,    212.5,2,   137.50,2,    32.30,2,     0.00,2,     2.25,2,        0,2,   2361.9,2,   7.5916,2,    25.00,  -999.00,9,2, 20170104,      551
  320620161224,HAZMAT,    16,  2,      5,      5,2,20170104,0535,-68.2897, -95.4232, 4512,   3462.2,   0.4858,2,   0.4858,  34.7041,2,  34.7073,2,    203.0,2,    210.4,2,   133.30,2,    32.17,2,     0.00,2,     2.24,2,        0,2,   2361.8,2,   7.5926,2,    25.00,  -999.00,9,2, 20170104,      559
  320620161224,HAZMAT,    16,  2,      6,      6,2,20170104,0535,-68.2897, -95.4232, 4512,   3052.1,   0.6051,2,   0.6056,  34.7052,2,  34.7031,2,    199.5,2,    208.0,2,   128.80,2,    31.59,2,     0.00,2,     2.23,2,        0,2,   2361.1,2,   7.5843,2,    25.00,  -999.00,9,2, 20170104,      607
  320620161224,HAZMAT,    16,  2,      7,      7,2,20170104,0535,-68.2897, -95.4232, 4512,   2643.6,   0.7536,2,   0.7540,  34.7084,2,  34.7109,2,    196.1,2,    204.7,2,   125.50,2,    31.53,2,     0.00,2,     2.24,2,        0,2,   2361.0,2,   7.5945,2,    25.00,  -999.00,9,2, 20170104,      615
  320620161224,HAZMAT,    16,  2,      8,      8,2,20170104,0535,-68.2897, -95.4232, 4512,   2234.7,   0.9134,2,   0.9133,  34.7139,2,  34.7144,2,    193.3,2,    201.6,2,   119.90,2,    31.42,2,     0.00,2,     2.21,2,        0,2,   2361.4,2,   7.5961,2,    25.00,  -999.00,9,2, 20170104,      623
  320620161224,HAZMAT,    16,  2,      9,      9,2,20170104,0535,-68.2897, -95.4232, 4512,   1825.8,   1.1104,2,   1.1105,  34.7209,2,  34.7209,2,    190.6,2,    197.7,2,   112.70,2,    31.26,2,     0.00,2,     2.23,2,        0,2,   2368.6,3,   7.6086,3,    25.00,  -999.00,9,2, 20170104,      631
  320620161224,HAZMAT,    16,  2,     10,     10,2,20170104,0535,-68.2897, -95.4232, 4512,   1419.4,   1.3554,2,   1.3568,  34.7283,2,  34.7281,2,    187.4,2,    193.0,2,   104.80,2,    31.32,2,     0.00,2,     2.22,2,        0,2,   2356.8,2,   7.5906,2,    25.00,  -999.00,9,2, 20170104,      639
  320620161224,HAZMAT,    16,  2,     11,     11,2,20170104,0535,-68.2897, -95.4232, 4512,   1012.2,   1.6812,2,   1.6818,  34.7292,2,  34.7315,2,    183.8,2,    188.3,2,    95.30,2,    30.93,2,     0.00,2,     2.18,2,        0,2,   2351.6,2,   7.5918,2,    25.00,  -999.00,9,2, 20170104,      647
  320620161224,HAZMAT,    16,  2,     12,     12,2,20170104,0535,-68.2897, -95.4232, 4512,    810.3,   1.8532,2,   1.8523,  34.7207,2,  34.7217,2,    180.6,2,    183.8,2,    89.50,2,    31.56,2,     0.00,2,     2.22,2,        0,2,   2349.1,2,   7.5837,2,    25.00,  -999.00,9,2, 20170104,      652
  320620161224,HAZMAT,    16,  2,     13,     13,2,20170104,0535,-68.2897, -95.4232, 4512,    607.6,   2.0029,2,   2.0032,  34.6953,2,  34.6950,2,    175.2,2,    177.6,2,    85.40,2,    32.26,2,     0.00,2,     2.24,2,        0,2,   2344.7,2,   7.5689,2,    25.00,  -999.00,9,2, 20170104,      657
  320620161224,HAZMAT,    16,  2,     14,     14,2,20170104,0535,-68.2897, -95.4232, 4512,    404.6,   2.0561,2,   2.0553,  34.6345,2,  34.6350,2,    171.2,2,    173.4,2,    81.00,2,    33.47,2,     0.00,2,     2.34,2,        0,2,   2338.3,2,   7.5560,2,    25.00,  -999.00,9,2, 20170104,      701
  320620161224,HAZMAT,    16,  2,     15,     15,2,20170104,0535,-68.2897, -95.4232, 4512,    353.8,   2.0749,2,   2.0742,  34.6067,2,  34.6131,2,    171.3,2,    173.4,2,    79.70,2,    33.72,2,     0.00,2,     2.36,2,        0,2,   2336.7,2,   7.5370,2,    25.00,  -999.00,9,2, 20170104,      703
  320620161224,HAZMAT,    16,  2,     16,     16,2,20170104,0535,-68.2897, -95.4232, 4512,    303.7,   2.0261,2,   2.0258,  34.5705,2,  34.5772,2,    173.0,2,    175.4,2,    77.90,2,    34.13,2,     0.00,2,     2.37,2,        0,2,   2333.0,2,   7.5308,2,    25.00,  -999.00,9,2, 20170104,      705
  320620161224,HAZMAT,    16,  2,     17,     17,2,20170104,0535,-68.2897, -95.4232, 4512,    253.5,   1.9732,2,   1.9734,  34.5145,2,  34.5278,2,    178.2,2,    180.2,2,    74.80,2,    34.43,2,     0.00,2,     2.38,2,        0,2,   2328.7,2,   7.5346,2,    25.00,  -999.00,9,2, 20170104,      707
  320620161224,HAZMAT,    16,  2,     18,     18,2,20170104,0535,-68.2897, -95.4232, 4512,    203.1,   1.4799,2,   1.4676,  34.3692,2,  34.4117,2,    200.8,2,    205.7,2,    69.00,2,    34.08,2,     0.02,2,     2.36,2,     0.01,2,   2320.6,2,   7.5412,2,    25.00,  -999.00,9,2, 20170104,      710
  320620161224,HAZMAT,    16,  2,     19,     19,2,20170104,0535,-68.2897, -95.4232, 4512,    151.7,   0.1271,2,   0.1268,  34.1410,2,  34.1850,2,    234.8,2,    265.8,2,    56.70,2,    31.91,2,     0.03,2,     2.22,2,        0,2,   2304.3,2,   7.5793,2,    25.00,  -999.00,9,2, 20170104,      712
  320620161224,HAZMAT,    16,  2,     20,     20,2,20170104,0535,-68.2897, -95.4232, 4512,    101.7,  -1.4127,2,  -1.4144,  33.9307,2,  33.9362,2,    315.3,2,    328.7,2,    45.90,2,    28.41,2,     0.21,2,     2.00,2,     0.33,2,   2291.2,2,   7.6357,2,    25.00,  -999.00,9,2, 20170104,      714
  320620161224,HAZMAT,    16,  2,     21,     21,2,20170104,0535,-68.2897, -95.4232, 4512,     76.0,  -1.5428,2,  -1.5452,  33.8417,2,  33.8625,2,    341.3,2,    340.1,2,    41.70,2,    27.40,2,     0.22,2,     1.94,2,     0.51,2,   2286.3,2,   7.6460,2,    25.00,  -999.00,9,2, 20170104,      715
  320620161224,HAZMAT,    16,  2,     22,     22,2,20170104,0535,-68.2897, -95.4232, 4512,     55.7,  -1.5113,2,  -1.5123,  33.7673,2,  33.7861,2,    348.0,2,    351.9,2,    35.70,2,    26.13,2,     0.23,2,     1.89,2,     0.64,2,   2282.6,2,   7.6664,2,    25.00,  -999.00,9,2, 20170104,      717
  320620161224,HAZMAT,    16,  2,     23,     23,2,20170104,0535,-68.2897, -95.4232, 4512,     35.4,  -1.2016,2,  -1.1927,  33.6897,2,  33.6819,2,    339.3,2,    366.4,2,    27.80,2,    24.13,2,     0.21,2,     1.75,2,     0.63,2,   2280.7,2,   7.6787,2,    25.00,  -999.00,9,2, 20170104,      718
  320620161224,HAZMAT,    16,  2,     24,     24,2,20170104,0535,-68.2897, -95.4232, 4512,      5.4,   0.1972,2,   0.1989,  32.8861,2,  32.8184,2,    292.6,2,    334.5,3,    29.00,2,    22.65,2,     0.32,2,     1.49,2,     0.53,2,   2219.4,6,   7.7045,6,    25.00,  -999.00,9,2, 20170104,      720
  320620161224,HAZMAT,    17,  1,      6,      6,2,20170105,1645,-69.6662,-109.0781, 4010,     36.1,  -1.5555,9,-999.0000,  33.9883,2,-999.0000,9,    324.3,2,   -999.0,9,  -999.00,9,  -999.00,9,  -999.00,9,  -999.00,9,     -999,9,   -999.0,9,-999.0000,9,  -999.00,  -999.00,9,9, 20170105,     1645
  320620161224,HAZMAT,    17,  1,      7,      7,2,20170105,1645,-69.6662,-109.0781, 4010,     36.1,  -1.5688,2,  -1.5917,  33.9879,2,-999.0000,9,    324.3,2,   -999.0,9,  -999.00,9,  -999.00,9,  -999.00,9,  -999.00,9,     -999,9,   -999.0,9,-999.0000,9,  -999.00,  -999.00,9,2, 20170105,     1645
  320620161224,HAZMAT,    17,  1,      5,      5,2,20170105,1645,-69.6662,-109.0781, 4010,     35.9,  -1.5817,9,-999.0000,  33.9857,2,-999.0000,9,    324.4,2,   -999.0,9,  -999.00,9,  -999.00,9,  -999.00,9,  -999.00,9,     -999,9,   -999.0,9,-999.0000,9,  -999.00,  -999.00,9,9, 20170105,     1645
  320620161224,HAZMAT,    17,  1,      2,      2,2,20170105,1645,-69.6662,-109.0781, 4010,     35.9,  -1.6137,9,-999.0000,  33.9862,2,-999.0000,9,    324.4,2,   -999.0,9,  -999.00,9,  -999.00,9,  -999.00,9,  -999.00,9,     -999,9,   -999.0,9,-999.0000,9,  -999.00,  -999.00,9,9, 20170105,     1645
  320620161224,HAZMAT,    17,  1,      1,      1,2,20170105,1645,-69.6662,-109.0781, 4010,     35.8,  -1.6090,9,-999.0000,  33.9856,2,-999.0000,9,    324.4,2,   -999.0,9,  -999.00,9,  -999.00,9,  -999.00,9,  -999.00,9,     -999,9,   -999.0,9,-999.0000,9,  -999.00,  -999.00,9,9, 20170105,     1645
  320620161224,HAZMAT,    17,  1,      3,      3,2,20170105,1645,-69.6662,-109.0781, 4010,     35.7,  -1.5983,9,-999.0000,  33.9846,2,-999.0000,9,    324.5,2,   -999.0,9,  -999.00,9,  -999.00,9,  -999.00,9,  -999.00,9,     -999,9,   -999.0,9,-999.0000,9,  -999.00,  -999.00,9,9, 20170105,     1645
  320620161224,HAZMAT,    17,  1,      4,      4,2,20170105,1645,-69.6662,-109.0781, 4010,     35.6,  -1.5985,2,  -1.6039,  33.9835,2,-999.0000,9,    324.6,2,   -999.0,9,  -999.00,9,  -999.00,9,  -999.00,9,  -999.00,9,     -999,9,   -999.0,9,-999.0000,9,  -999.00,     0.28,2,2, 20170105,     1645
  320620161224,HAZMAT,    17,  1,     12,     12,2,20170105,1645,-69.6662,-109.0781, 4010,      3.1,  -0.2559,9,-999.0000,  33.1713,2,-999.0000,9,    335.4,2,   -999.0,9,  -999.00,9,  -999.00,9,  -999.00,9,  -999.00,9,     -999,9,   -999.0,9,-999.0000,9,  -999.00,     0.28,2,9, 20170105,     1647
  320620161224,HAZMAT,    17,  1,      9,      9,2,20170105,1645,-69.6662,-109.0781, 4010,      3.1,  -0.2812,9,-999.0000,  33.1712,2,-999.0000,9,    335.4,2,   -999.0,9,  -999.00,9,  -999.00,9,  -999.00,9,  -999.00,9,     -999,9,   -999.0,9,-999.0000,9,  -999.00,  -999.00,9,9, 20170105,     1647
  320620161224,HAZMAT,    17,  1,      8,      8,2,20170105,1645,-69.6662,-109.0781, 4010,      3.0,  -0.2721,2,  -0.2798,  33.1711,2,-999.0000,9,    335.4,2,   -999.0,9,  -999.00,9,  -999.00,9,  -999.00,9,  -999.00,9,     -999,9,   -999.0,9,-999.0000,9,  -999.00,  -999.00,9,2, 20170105,     1647
  320620161224,HAZMAT,    17,  1,     13,     13,2,20170105,1645,-69.6662,-109.0781, 4010,      3.1,  -0.2555,9,-999.0000,  33.1712,2,-999.0000,9,    335.4,2,   -999.0,9,  -999.00,9,  -999.00,9,  -999.00,9,  -999.00,9,     -999,9,   -999.0,9,-999.0000,9,  -999.00,  -999.00,9,9, 20170105,     1647
  320620161224,HAZMAT,    17,  1,     11,     11,2,20170105,1645,-69.6662,-109.0781, 4010,      2.6,  -0.2542,2,  -0.2614,  33.1705,2,-999.0000,9,    335.3,2,   -999.0,9,  -999.00,9,  -999.00,9,  -999.00,9,  -999.00,9,     -999,9,   -999.0,9,-999.0000,9,  -999.00,  -999.00,9,2, 20170105,     1647
  320620161224,HAZMAT,    17,  1,     10,     10,2,20170105,1645,-69.6662,-109.0781, 4010,      2.7,  -0.2572,9,-999.0000,  33.1707,2,-999.0000,9,    335.4,2,   -999.0,9,  -999.00,9,  -999.00,9,  -999.00,9,  -999.00,9,     -999,9,   -999.0,9,-999.0000,9,  -999.00,  -999.00,9,9, 20170105,     1647
  320620161224,HAZMAT,    17,  1,     14,     14,2,20170105,1645,-69.6662,-109.0781, 4010,      2.5,  -0.2416,2,  -0.2460,  33.1703,2,-999.0000,9,    335.3,2,   -999.0,9,  -999.00,9,  -999.00,9,  -999.00,9,  -999.00,9,     -999,9,   -999.0,9,-999.0000,9,  -999.00,  -999.00,9,2, 20170105,     1647
  320620161224,HAZMAT,    17,  2,      1,      1,2,20170105,1814,-69.6662,-109.0781, 4010,   2031.0,   0.8162,9,-999.0000,-999.0000,0,  34.7125,2,   -999.0,0,    202.3,2,   123.80,2,    32.24,2,     0.00,2,     2.24,2,        0,2,   2361.3,6,   7.5946,6,    25.00,  -999.00,9,9, 20170105,     1814
  320620161224,HAZMAT,    17,  2,      2,      2,2,20170105,1814,-69.6662,-109.0781, 4010,   1765.7,   0.9305,2,   0.9301,  34.7168,2,  34.7161,2,    199.9,2,    200.1,2,   118.80,2,    32.17,2,     0.00,2,     2.23,2,        0,2,   2360.3,2,   7.5919,2,    25.00,  -999.00,9,2, 20170105,     1820
  320620161224,HAZMAT,    17,  2,      3,      3,2,20170105,1814,-69.6662,-109.0781, 4010,   1562.2,   1.0293,2,   1.0295,  34.7202,2,  34.7191,2,    198.0,2,    198.1,2,   115.40,2,    31.81,2,     0.00,2,     2.22,2,        0,2,   2357.0,2,   7.5776,3,    25.00,  -999.00,9,2, 20170105,     1825
  320620161224,HAZMAT,    17,  2,      4,      4,2,20170105,1814,-69.6662,-109.0781, 4010,   1358.6,   1.1479,2,   1.1477,  34.7241,2,  34.7244,2,    195.4,2,    195.3,2,   111.60,2,    31.98,2,     0.00,2,     2.22,2,        0,2,   2358.5,2,   7.5926,2,    25.00,  -999.00,9,2, 20170105,     1831
  320620161224,HAZMAT,    17,  2,      5,      5,2,20170105,1814,-69.6662,-109.0781, 4010,   1257.0,   1.2167,2,   1.2166,  34.7261,2,  34.7256,2,    194.4,2,    194.4,2,   109.40,2,    31.62,2,     0.00,2,     2.20,2,        0,2,   2358.1,2,   7.5939,2,    25.00,  -999.00,9,2, 20170105,     1835
  320620161224,HAZMAT,    17,  2,      6,      6,2,20170105,1814,-69.6662,-109.0781, 4010,   1155.1,   1.2830,2,   1.2833,  34.7282,2,  34.7284,2,    193.1,2,    193.0,2,   107.20,2,    31.42,2,     0.00,2,     2.20,2,        0,2,   2357.5,2,   7.5935,2,    25.00,  -999.00,9,2, 20170105,     1838
  320620161224,HAZMAT,    17,  2,      7,      7,2,20170105,1814,-69.6662,-109.0781, 4010,   1053.8,   1.3523,2,   1.3521,  34.7296,2,  34.7332,2,    191.7,2,    191.5,2,   105.10,2,    31.80,2,     0.00,2,     2.19,2,        0,2,   2351.3,2,   7.5692,3,    25.00,  -999.00,9,2, 20170105,     1842
  320620161224,HAZMAT,    17,  2,      8,      8,2,20170105,1814,-69.6662,-109.0781, 4010,    952.0,   1.4295,2,   1.4288,  34.7314,2,  34.7312,2,    190.6,2,    191.1,2,   102.60,2,    31.66,2,     0.00,2,     2.20,2,        0,2,   2355.2,2,   7.5903,2,    25.00,  -999.00,9,2, 20170105,     1845
  320620161224,HAZMAT,    17,  2,      9,      9,2,20170105,1814,-69.6662,-109.0781, 4010,    851.1,   1.5110,2,   1.5098,  34.7318,2,  34.7303,2,    188.5,2,    188.6,2,   101.00,2,    31.32,2,     0.00,2,     2.19,2,        0,2,   2353.4,2,   7.5878,2,    25.00,  -999.00,9,2, 20170105,     1849
  320620161224,HAZMAT,    17,  2,     10,     10,2,20170105,1814,-69.6662,-109.0781, 4010,    749.6,   1.6022,2,   1.6020,  34.7317,2,  34.7322,2,    187.6,2,    187.4,2,    97.00,2,    31.33,2,     0.00,2,     2.19,2,        0,2,   2352.6,2,   7.5825,2,    25.00,  -999.00,9,2, 20170105,     1852
  320620161224,HAZMAT,    17,  2,     11,     11,2,20170105,1814,-69.6662,-109.0781, 4010,    648.3,   1.6814,2,   1.6817,  34.7288,2,  34.7298,2,    184.1,2,    184.0,2,    94.90,2,    31.62,2,     0.00,2,     2.20,2,        0,2,   2350.2,2,   7.5806,2,    25.00,  -999.00,9,2, 20170105,     1856
  320620161224,HAZMAT,    17,  2,     12,     12,2,20170105,1814,-69.6662,-109.0781, 4010,    546.9,   1.7725,2,   1.7723,  34.7241,2,  34.7238,2,    181.5,2,    182.1,2,    92.20,2,    31.79,2,     0.00,2,     2.21,2,        0,2,   2348.1,2,   7.5782,2,    25.00,  -999.00,9,2, 20170105,     1859
  320620161224,HAZMAT,    17,  2,     13,     13,2,20170105,1814,-69.6662,-109.0781, 4010,    445.3,   1.8558,2,   1.8579,  34.7159,2,  34.7168,2,    178.6,2,    179.6,2,    89.70,2,    31.89,2,     0.00,2,     2.23,2,        0,2,   2346.8,2,   7.5738,2,    25.00,  -999.00,9,2, 20170105,     1902
  320620161224,HAZMAT,    17,  2,     14,     14,2,20170105,1814,-69.6662,-109.0781, 4010,    395.6,   1.8829,2,   1.8824,  34.7081,2,  34.7100,2,    176.6,2,    177.0,2,    88.70,2,    32.15,2,     0.00,2,     2.24,2,        0,2,   2345.8,2,   7.5664,2,    25.00,  -999.00,9,2, 20170105,     1904
  320620161224,HAZMAT,    17,  2,     15,     15,2,20170105,1814,-69.6662,-109.0781, 4010,    344.1,   1.9294,2,   1.9292,  34.7003,2,  34.7002,2,    175.2,2,    175.7,2,    87.30,2,    32.37,2,     0.00,2,     2.24,2,        0,2,   2343.9,2,   7.5634,2,    25.00,  -999.00,9,2, 20170105,     1907
  320620161224,HAZMAT,    17,  2,     16,     16,2,20170105,1814,-69.6662,-109.0781, 4010,    293.9,   1.9535,2,   1.9528,  34.6880,2,  34.6905,2,    173.3,2,    173.8,2,    86.40,2,    33.00,2,     0.00,2,     2.28,2,        0,2,   2342.2,2,   7.5527,2,    25.00,  -999.00,9,2, 20170105,     1910
  320620161224,HAZMAT,    17,  2,     17,     17,2,20170105,1814,-69.6662,-109.0781, 4010,    243.3,   1.9613,2,   1.9605,  34.6683,2,  34.6743,2,    171.8,2,    171.9,2,    85.20,2,    33.41,2,     0.00,2,     2.29,2,        0,2,   2340.4,2,   7.5496,2,    25.00,  -999.00,9,2, 20170105,     1913
  320620161224,HAZMAT,    17,  2,     18,     18,2,20170105,1814,-69.6662,-109.0781, 4010,    192.6,   1.9322,2,   1.9311,  34.6373,2,  34.6480,2,    172.8,2,    171.5,2,    83.60,2,    33.77,2,     0.01,2,     2.32,2,     0.09,2,   2342.9,2,   7.5400,2,    25.00,  -999.00,9,2, 20170105,     1915
  320620161224,HAZMAT,    17,  2,     19,     19,2,20170105,1814,-69.6662,-109.0781, 4010,    142.1,   1.6230,2,   1.6234,  34.5412,2,  34.5788,2,    192.6,2,    178.5,2,    81.00,2,    33.93,2,     0.02,2,     2.35,2,        0,2,   2334.0,2,   7.5343,2,    25.00,  -999.00,9,2, 20170105,     1917
  320620161224,HAZMAT,    17,  2,     20,     20,2,20170105,1814,-69.6662,-109.0781, 4010,    101.0,  -0.7816,2,  -0.9293,  34.2100,2,  34.2463,2,    288.3,2,    272.6,2,    67.30,2,    30.89,2,     0.10,2,     2.16,2,     0.01,2,   2312.8,2,   7.5822,2,    25.00,  -999.00,9,2, 20170105,     1920
  320620161224,HAZMAT,    17,  2,     21,     21,2,20170105,1814,-69.6662,-109.0781, 4010,     71.4,  -1.7204,2,  -1.7211,  34.1066,2,  34.1147,2,    314.3,2,    315.1,2,    62.90,2,    28.71,2,     0.27,2,     2.03,2,     0.21,2,   2306.5,2,   7.6143,2,    25.00,  -999.00,9,2, 20170105,     1922
  320620161224,HAZMAT,    17,  2,     22,     22,2,20170105,1814,-69.6662,-109.0781, 4010,     50.5,  -1.6425,2,  -1.6462,  34.0698,2,  34.0537,2,    317.7,2,    314.7,2,    60.80,2,    28.92,2,     0.20,2,     2.05,2,     0.29,2,   2301.4,2,   7.6161,2,    25.00,  -999.00,9,2, 20170105,     1924
  320620161224,HAZMAT,    17,  2,     23,     23,2,20170105,1814,-69.6662,-109.0781, 4010,     35.3,  -1.4112,2,  -1.4272,  33.9809,2,  33.9731,2,    324.7,2,    333.6,2,    60.00,2,    27.88,2,     0.08,2,     1.96,2,     0.39,2,   2311.7,2,   7.6318,2,    25.00,  -999.00,9,2, 20170105,     1925
  320620161224,HAZMAT,    17,  2,     24,     24,2,20170105,1814,-69.6662,-109.0781, 4010,      5.1,  -0.2217,2,  -0.2131,  33.1746,2,  33.1979,2,    335.6,2,    351.7,2,    58.20,2,    26.36,2,     0.20,2,     1.85,2,     0.45,2,   2246.4,6,   7.6572,6,    25.00,  -999.00,9,2, 20170105,     1927