BOTTLE,20190617PRINUNIVRMK
EXPOCODE,SECT_ID,STNNBR,CASTNO,SAMPNO,BTLNBR,BTLNBR_FLAG_W,DATE,TIME,LATITUDE,LONGITUDE,DEPTH,CTDPRS,CTDTMP,SBE35_FLAG_W,REFTMP,CTDSAL,CTDSAL_FLAG_W,SALNTY,SALNTY_FLAG_W,CTDOXY,CTDOXY_FLAG_W,OXYGEN,OXYGEN_FLAG_W,SILCAT,SILCAT_FLAG_W,NITRAT,NITRAT_FLAG_W,NITRIT,NITRIT_FLAG_W,PHSPHT,PHSPHT_FLAG_W,NH4,NH4_FLAG_W,ALKALI,ALKALI_FLAG_W,PH_TOT,PH_TOT_FLAG_W,PH_TMP,CHLORA,CHLORA_FLAG_W,SBE35_FLAG_W,BTL_DATE,BTL_TIME
,,,,,,,,,,,METERS,DBAR,ITS-90,,,PSS-78,,PSS-78,,UMOL/KG,,UMOL/KG,,UMOL/KG,,UMOL/KG,,UMOL/KG,,UMOL/KG,,UMOL/KG,,UMOL/KG,,,,DEG C,UG/KG,,,,
  320620161224,HAZMAT,    18,  1,      3,      3,2,20170108,1808,-68.2504,-128.4778, 4050,     35.3,  -1.3464,2,  -1.3392,  33.8379,2,-999.0000,9,    236.2,2,   -999.0,9,  -999.00,9,  -999.00,9,  -999.00,9,  -999.00,9,     -999,9,   -999.0,9,-999.0000,9,  -999.00,  -999.00,9,2, 20170108,     1808
  320620161224,HAZMAT,    18,  1,      1,      1,2,20170108,1808,-68.2504,-128.4778, 4050,     35.3,  -1.3576,9,-999.0000,  33.8382,2,-999.0000,9,    236.2,2,   -999.0,9,  -999.00,9,  -999.00,9,  -999.00,9,  -999.00,9,     -999,9,   -999.0,9,-999.0000,9,  -999.00,  -999.00,9,9, 20170108,     1808
  320620161224,HAZMAT,    18,  1,      5,      5,2,20170108,1808,-68.2504,-128.4778, 4050,     35.2,  -1.3222,2,  -1.3216,  33.8344,2,-999.0000,9,    235.8,2,   -999.0,9,  -999.00,9,  -999.00,9,  -999.00,9,  -999.00,9,     -999,9,   -999.0,9,-999.0000,9,  -999.00,     0.28,2,2, 20170108,     1808
  320620161224,HAZMAT,    18,  1,      4,      4,2,20170108,1808,-68.2504,-128.4778, 4050,     35.0,  -1.3212,9,-999.0000,  33.8297,2,-999.0000,9,    235.2,2,   -999.0,9,  -999.00,9,  -999.00,9,  -999.00,9,  -999.00,9,     -999,9,   -999.0,9,-999.0000,9,  -999.00,  -999.00,9,9, 20170108,     1808
  320620161224,HAZMAT,    18,  1,      6,      6,2,20170108,1808,-68.2504,-128.4778, 4050,     34.9,  -1.3044,9,-999.0000,  33.8289,2,-999.0000,9,    235.1,2,   -999.0,9,  -999.00,9,  -999.00,9,  -999.00,9,  -999.00,9,     -999,9,   -999.0,9,-999.0000,9,  -999.00,  -999.00,9,9, 20170108,     1808
  320620161224,HAZMAT,    18,  1,      7,      7,2,20170108,1808,-68.2504,-128.4778, 4050,     34.7,  -1.3020,2,  -1.3050,  33.8253,2,-999.0000,9,    234.6,2,   -999.0,9,  -999.00,9,  -999.00,9,  -999.00,9,  -999.00,9,     -999,9,   -999.0,9,-999.0000,9,  -999.00,  -999.00,9,2, 20170108,     1808
  320620161224,HAZMAT,    18,  1,      2,      2,2,20170108,1808,-68.2504,-128.4778, 4050,     34.6,  -1.3032,9,-999.0000,  33.8226,2,-999.0000,9,    234.3,2,   -999.0,9,  -999.00,9,  -999.00,9,  -999.00,9,  -999.00,9,     -999,9,   -999.0,9,-999.0000,9,  -999.00,  -999.00,9,9, 20170108,     1808
  320620161224,HAZMAT,    18,  1,     14,     14,2,20170108,1808,-68.2504,-128.4778, 4050,      7.3,  -0.0174,9,-999.0000,  33.7051,2,-999.0000,9,    222.3,2,   -999.0,9,  -999.00,9,  -999.00,9,  -999.00,9,  -999.00,9,     -999,9,   -999.0,9,-999.0000,9,  -999.00,  -999.00,9,9, 20170108,     1810
  320620161224,HAZMAT,    18,  1,     11,     11,2,20170108,1808,-68.2504,-128.4778, 4050,      7.3,  -0.0182,9,-999.0000,  33.7051,2,-999.0000,9,    222.3,2,   -999.0,9,  -999.00,9,  -999.00,9,  -999.00,9,  -999.00,9,     -999,9,   -999.0,9,-999.0000,9,  -999.00,  -999.00,9,9, 20170108,     1810
  320620161224,HAZMAT,    18,  1,      8,      8,2,20170108,1808,-68.2504,-128.4778, 4050,      7.2,  -0.0260,2,  -0.0244,  33.7051,2,-999.0000,9,    222.3,2,   -999.0,9,  -999.00,9,  -999.00,9,  -999.00,9,  -999.00,9,     -999,9,   -999.0,9,-999.0000,9,  -999.00,  -999.00,9,2, 20170108,     1810
  320620161224,HAZMAT,    18,  1,      9,      9,2,20170108,1808,-68.2504,-128.4778, 4050,      7.2,  -0.0224,9,-999.0000,  33.7051,2,-999.0000,9,    222.3,2,   -999.0,9,  -999.00,9,  -999.00,9,  -999.00,9,  -999.00,9,     -999,9,   -999.0,9,-999.0000,9,  -999.00,  -999.00,9,9, 20170108,     1810
  320620161224,HAZMAT,    18,  1,     12,     12,2,20170108,1808,-68.2504,-128.4778, 4050,      7.2,  -0.0177,2,  -0.0186,  33.7051,2,-999.0000,9,    222.3,2,   -999.0,9,  -999.00,9,  -999.00,9,  -999.00,9,  -999.00,9,     -999,9,   -999.0,9,-999.0000,9,  -999.00,     0.28,2,2, 20170108,     1810
  320620161224,HAZMAT,    18,  1,     10,     10,2,20170108,1808,-68.2504,-128.4778, 4050,      6.8,  -0.0161,2,  -0.0167,  33.7051,2,-999.0000,9,    222.3,2,   -999.0,9,  -999.00,9,  -999.00,9,  -999.00,9,  -999.00,9,     -999,9,   -999.0,9,-999.0000,9,  -999.00,  -999.00,9,2, 20170108,     1810
  320620161224,HAZMAT,    18,  1,     13,     13,2,20170108,1808,-68.2504,-128.4778, 4050,      6.7,  -0.0186,9,-999.0000,  33.7051,2,-999.0000,9,    222.3,2,   -999.0,9,  -999.00,9,  -999.00,9,  -999.00,9,  -999.00,9,     -999,9,   -999.0,9,-999.0000,9,  -999.00,  -999.00,9,9, 20170108,     1810
  320620161224,HAZMAT,    18,  2,      1,      1,2,20170108,1928,-68.2504,-128.4778, 4050,   2031.8,   0.7799,9,-999.0000,  34.7131,2,  34.7118,2,    201.8,2,    202.9,2,   123.90,2,    32.26,2,     0.00,2,     2.24,2,        0,2,   2359.2,6,   7.5844,6,    25.00,  -999.00,9,9, 20170108,     1928
  320620161224,HAZMAT,    18,  2,      2,      2,2,20170108,1928,-68.2504,-128.4778, 4050,   1857.0,   0.8919,2,   0.8918,  34.7167,2,  34.7150,2,    200.2,2,    201.7,2,   120.30,2,    32.11,2,     0.00,2,     2.24,2,        0,2,   2359.3,2,   7.5874,2,    25.00,  -999.00,9,2, 20170108,     1932
  320620161224,HAZMAT,    18,  2,      3,      3,2,20170108,1928,-68.2504,-128.4778, 4050,   1653.2,   0.9846,2,   0.9847,  34.7201,2,  34.7178,2,    197.8,2,    199.5,2,   116.90,2,    32.03,2,     0.00,2,     2.24,2,        0,2,   2359.3,2,   7.5944,2,    25.00,  -999.00,9,2, 20170108,     1937
  320620161224,HAZMAT,    18,  2,      4,      4,2,20170108,1928,-68.2504,-128.4778, 4050,   1450.3,   1.0874,2,   1.0870,  34.7236,2,  34.7217,2,    195.4,2,    196.5,2,   113.20,2,    31.96,2,     0.00,2,     2.24,2,        0,2,   2359.6,2,   7.5932,2,    25.00,  -999.00,9,2, 20170108,     1942
  320620161224,HAZMAT,    18,  2,      5,      5,2,20170108,1928,-68.2504,-128.4778, 4050,   1348.2,   1.1370,2,   1.1368,  34.7257,2,  34.7235,2,    194.4,2,    196.8,2,   111.50,2,    31.91,2,     0.00,2,     2.22,2,        0,2,   2363.8,3,   7.5932,2,    25.00,  -999.00,9,2, 20170108,     1945
  320620161224,HAZMAT,    18,  2,      6,      6,2,20170108,1928,-68.2504,-128.4778, 4050,   1246.6,   1.2111,2,   1.2089,  34.7276,2,  34.7268,2,    193.1,2,    194.4,2,   109.40,2,    31.85,2,     0.00,2,     2.21,2,        0,2,   2356.1,2,   7.5854,2,    25.00,  -999.00,9,2, 20170108,     1948
  320620161224,HAZMAT,    18,  2,      7,      7,2,20170108,1928,-68.2504,-128.4778, 4050,   1145.0,   1.2804,2,   1.2795,  34.7297,2,  34.7282,2,    191.9,2,    193.3,2,   107.10,2,    31.75,2,     0.00,2,     2.20,2,        0,2,   2347.2,3,   7.5544,3,    25.00,  -999.00,9,2, 20170108,     1951
  320620161224,HAZMAT,    18,  2,      8,      8,2,20170108,1928,-68.2504,-128.4778, 4050,   1042.8,   1.3521,2,   1.3524,  34.7315,2,  34.7298,2,    190.8,2,    192.0,2,   104.40,2,    31.73,2,     0.00,2,     2.21,2,        0,2,   2354.9,2,   7.5840,2,    25.00,  -999.00,9,2, 20170108,     1954
  320620161224,HAZMAT,    18,  2,      9,      9,2,20170108,1928,-68.2504,-128.4778, 4050,    941.8,   1.4325,2,   1.4329,  34.7330,2,  34.7319,2,    189.6,2,    190.7,2,   101.90,2,    31.69,2,     0.00,2,     2.20,2,        0,2,   2354.7,2,   7.5795,2,    25.00,  -999.00,9,2, 20170108,     1957
  320620161224,HAZMAT,    18,  2,     10,     10,2,20170108,1928,-68.2504,-128.4778, 4050,    840.7,   1.5149,2,   1.5148,  34.7337,2,  34.7324,2,    188.3,2,    189.2,2,    98.80,2,    31.58,2,     0.00,2,     2.19,2,        0,2,   2350.3,2,   7.5851,2,    25.00,  -999.00,9,2, 20170108,     2000
  320620161224,HAZMAT,    18,  2,     11,     11,2,20170108,1928,-68.2504,-128.4778, 4050,    739.5,   1.5936,2,   1.5956,  34.7334,2,  34.7316,2,    186.7,2,    187.7,2,    96.70,2,    31.58,2,     0.00,2,     2.21,2,        0,2,   2352.3,2,   7.5873,2,    25.00,  -999.00,9,2, 20170108,     2003
  320620161224,HAZMAT,    18,  2,     12,     12,2,20170108,1928,-68.2504,-128.4778, 4050,    638.0,   1.6836,2,   1.6844,  34.7309,2,  34.7297,2,    184.8,2,    185.8,2,    93.70,2,    31.64,2,     0.00,2,     2.20,2,        0,2,   2350.9,2,   7.5857,2,    25.00,  -999.00,9,2, 20170108,     2006
  320620161224,HAZMAT,    18,  2,     13,     13,2,20170108,1928,-68.2504,-128.4778, 4050,    536.0,   1.7632,2,   1.7632,  34.7257,2,  34.7312,2,    182.5,2,    183.1,2,    91.40,2,    31.79,2,     0.00,2,     2.21,2,        0,2,   2349.1,2,   7.5801,2,    25.00,  -999.00,9,2, 20170108,     2009
  320620161224,HAZMAT,    18,  2,     14,     14,2,20170108,1928,-68.2504,-128.4778, 4050,    435.2,   1.8430,2,   1.8432,  34.7157,2,  34.7176,2,    179.7,2,    180.0,2,    89.10,2,    32.15,2,     0.00,2,     2.23,2,        0,2,   2346.5,2,   7.5719,2,    25.00,  -999.00,9,2, 20170108,     2012
  320620161224,HAZMAT,    18,  2,     15,     15,2,20170108,1928,-68.2504,-128.4778, 4050,    384.4,   1.8843,2,   1.8839,  34.7097,2,  34.7078,2,    178.3,2,    178.2,2,    87.60,2,    32.31,2,     0.00,2,     2.23,2,        0,2,   2345.3,2,   7.5694,2,    25.00,  -999.00,9,2, 20170108,     2014
  320620161224,HAZMAT,    18,  2,     16,     16,2,20170108,1928,-68.2504,-128.4778, 4050,    334.2,   1.9121,2,   1.9112,  34.6969,2,  34.6949,2,    176.8,2,    176.4,2,    86.60,2,    32.69,2,     0.00,2,     2.24,2,        0,2,   2343.8,2,   7.5623,2,    25.00,  -999.00,9,2, 20170108,     2016
  320620161224,HAZMAT,    18,  2,     17,     17,2,20170108,1928,-68.2504,-128.4778, 4050,    282.9,   1.9299,2,   1.9293,  34.6815,2,  34.6842,2,    175.0,2,    175.3,2,    85.50,2,    32.89,2,     0.00,2,     2.26,2,        0,2,   2342.7,2,   7.5579,2,    25.00,  -999.00,9,2, 20170108,     2019
  320620161224,HAZMAT,    18,  2,     18,     18,2,20170108,1928,-68.2504,-128.4778, 4050,    232.6,   1.9237,2,   1.9238,  34.6572,2,  34.6609,2,    174.8,2,    173.8,2,    84.00,2,    33.39,2,     0.00,2,     2.30,2,        0,2,   2338.3,2,   7.5407,2,    25.00,  -999.00,9,2, 20170108,     2021
  320620161224,HAZMAT,    18,  2,     19,     19,2,20170108,1928,-68.2504,-128.4778, 4050,    172.3,   1.5402,2,   1.5378,  34.5606,2,  34.5668,2,    180.2,2,    185.2,2,    79.70,2,    33.71,2,     0.00,2,     2.33,2,        0,2,   2323.1,2,   7.4985,3,    25.00,  -999.00,9,2, 20170108,     2023
  320620161224,HAZMAT,    18,  2,     20,     20,2,20170108,1928,-68.2504,-128.4778, 4050,    121.7,   0.4451,2,   0.4554,  34.3551,2,  34.3717,2,    185.2,2,    221.8,3,    70.20,2,    32.64,2,     0.00,2,     2.25,2,        0,2,   2320.9,2,   7.5588,2,    25.00,  -999.00,9,2, 20170108,     2025
  320620161224,HAZMAT,    18,  2,     21,     21,2,20170108,1928,-68.2504,-128.4778, 4050,     91.5,  -0.6852,2,  -0.6455,  34.1682,2,  34.1940,2,    192.9,2,    256.7,3,    65.30,2,    31.34,2,     0.07,2,     2.16,2,     0.06,2,   2308.6,2,   7.5777,2,    25.00,  -999.00,9,2, 20170108,     2027
  320620161224,HAZMAT,    18,  2,     22,     22,2,20170108,1928,-68.2504,-128.4778, 4050,     61.0,  -1.4010,2,  -1.4002,  34.0289,2,  34.0535,2,    228.3,2,    284.8,3,    60.70,2,    29.71,2,     0.10,2,     2.08,2,     0.14,2,   2298.1,2,   7.5912,2,    25.00,  -999.00,9,2, 20170108,     2029
  320620161224,HAZMAT,    18,  2,     23,     23,2,20170108,1928,-68.2504,-128.4778, 4050,     35.7,  -0.9604,2,  -0.9984,  33.8463,2,  33.8834,2,    237.3,2,    325.1,3,    58.70,2,    28.30,2,     0.13,2,     1.97,2,     0.19,2,   2286.6,2,   7.6195,2,    25.00,  -999.00,9,2, 20170108,     2030
  320620161224,HAZMAT,    18,  2,     24,     24,2,20170108,1928,-68.2504,-128.4778, 4050,      7.5,   0.0122,2,   0.0232,  33.7051,2,  33.7122,2,    222.3,2,    346.0,3,    59.60,2,    27.26,2,     0.20,2,     1.88,2,     0.23,2,   2280.3,6,   7.6540,6,    25.00,  -999.00,9,2, 20170108,     2032
  320620161224,HAZMAT,    19,  1,      4,      4,2,20170109,2018,-70.6506,-136.5905, 4350,     70.7,  -1.6553,9,-999.0000,  34.0014,2,-999.0000,9,    310.2,2,   -999.0,9,  -999.00,9,  -999.00,9,  -999.00,9,  -999.00,9,     -999,9,   -999.0,9,-999.0000,9,  -999.00,  -999.00,9,9, 20170109,     2018
  320620161224,HAZMAT,    19,  1,      5,      5,2,20170109,2018,-70.6506,-136.5905, 4350,     70.7,  -1.6554,2,  -1.6552,  34.0014,2,-999.0000,9,    310.2,2,   -999.0,9,  -999.00,9,  -999.00,9,  -999.00,9,  -999.00,9,     -999,9,   -999.0,9,-999.0000,9,  -999.00,     0.50,2,2, 20170109,     2018
  320620161224,HAZMAT,    19,  1,      1,      1,2,20170109,2018,-70.6506,-136.5905, 4350,     70.4,  -1.6557,9,-999.0000,  34.0010,2,-999.0000,9,    310.4,2,   -999.0,9,  -999.00,9,  -999.00,9,  -999.00,9,  -999.00,9,     -999,9,   -999.0,9,-999.0000,9,  -999.00,  -999.00,9,9, 20170109,     2018
  320620161224,HAZMAT,    19,  1,      3,      3,2,20170109,2018,-70.6506,-136.5905, 4350,     70.3,  -1.6526,2,  -1.6540,  34.0009,2,-999.0000,9,    310.4,2,   -999.0,9,  -999.00,9,  -999.00,9,  -999.00,9,  -999.00,9,     -999,9,   -999.0,9,-999.0000,9,  -999.00,  -999.00,9,2, 20170109,     2018
  320620161224,HAZMAT,    19,  1,      6,      6,2,20170109,2018,-70.6506,-136.5905, 4350,     70.3,  -1.6532,9,-999.0000,  34.0009,2,-999.0000,9,    310.4,2,   -999.0,9,  -999.00,9,  -999.00,9,  -999.00,9,  -999.00,9,     -999,9,   -999.0,9,-999.0000,9,  -999.00,  -999.00,9,9, 20170109,     2018
  320620161224,HAZMAT,    19,  1,      2,      2,2,20170109,2018,-70.6506,-136.5905, 4350,     70.2,  -1.6525,9,-999.0000,  34.0007,2,-999.0000,9,    310.5,2,   -999.0,9,  -999.00,9,  -999.00,9,  -999.00,9,  -999.00,9,     -999,9,   -999.0,9,-999.0000,9,  -999.00,  -999.00,9,9, 20170109,     2018
  320620161224,HAZMAT,    19,  1,      7,      7,2,20170109,2018,-70.6506,-136.5905, 4350,     70.2,  -1.6538,2,  -1.6538,  34.0007,2,-999.0000,9,    310.5,2,   -999.0,9,  -999.00,9,  -999.00,9,  -999.00,9,  -999.00,9,     -999,9,   -999.0,9,-999.0000,9,  -999.00,  -999.00,9,2, 20170109,     2018
  320620161224,HAZMAT,    19,  1,     11,     11,2,20170109,2018,-70.6506,-136.5905, 4350,      1.9,  -1.2386,2,  -1.2371,  33.1613,2,-999.0000,9,    352.0,2,   -999.0,9,  -999.00,9,  -999.00,9,  -999.00,9,  -999.00,9,     -999,9,   -999.0,9,-999.0000,9,  -999.00,  -999.00,9,2, 20170109,     2021
  320620161224,HAZMAT,    19,  1,     10,     10,2,20170109,2018,-70.6506,-136.5905, 4350,      1.9,  -1.2375,9,-999.0000,  33.1613,2,-999.0000,9,    352.0,2,   -999.0,9,  -999.00,9,  -999.00,9,  -999.00,9,  -999.00,9,     -999,9,   -999.0,9,-999.0000,9,  -999.00,  -999.00,9,9, 20170109,     2021
  320620161224,HAZMAT,    19,  1,     12,     12,2,20170109,2018,-70.6506,-136.5905, 4350,      1.9,  -1.2392,9,-999.0000,  33.1613,2,-999.0000,9,    352.0,2,   -999.0,9,  -999.00,9,  -999.00,9,  -999.00,9,  -999.00,9,     -999,9,   -999.0,9,-999.0000,9,  -999.00,     0.42,2,9, 20170109,     2021
  320620161224,HAZMAT,    19,  1,      9,      9,2,20170109,2018,-70.6506,-136.5905, 4350,      1.9,  -1.2344,9,-999.0000,  33.1613,2,-999.0000,9,    352.0,2,   -999.0,9,  -999.00,9,  -999.00,9,  -999.00,9,  -999.00,9,     -999,9,   -999.0,9,-999.0000,9,  -999.00,  -999.00,9,9, 20170109,     2021
  320620161224,HAZMAT,    19,  1,      8,      8,2,20170109,2018,-70.6506,-136.5905, 4350,      1.9,  -1.2311,2,  -1.2340,  33.1612,2,-999.0000,9,    352.0,2,   -999.0,9,  -999.00,9,  -999.00,9,  -999.00,9,  -999.00,9,     -999,9,   -999.0,9,-999.0000,9,  -999.00,  -999.00,9,2, 20170109,     2021
  320620161224,HAZMAT,    19,  1,     13,     13,2,20170109,2018,-70.6506,-136.5905, 4350,      1.8,  -1.2405,9,-999.0000,  33.1612,2,-999.0000,9,    352.0,2,   -999.0,9,  -999.00,9,  -999.00,9,  -999.00,9,  -999.00,9,     -999,9,   -999.0,9,-999.0000,9,  -999.00,  -999.00,9,9, 20170109,     2021
  320620161224,HAZMAT,    19,  1,     14,     14,2,20170109,2018,-70.6506,-136.5905, 4350,      1.8,  -1.2332,2,  -1.2262,  33.1612,2,-999.0000,9,    352.0,2,   -999.0,9,  -999.00,9,  -999.00,9,  -999.00,9,  -999.00,9,     -999,9,   -999.0,9,-999.0000,9,  -999.00,  -999.00,9,2, 20170109,     2021