BOTTLE,20190617PRINUNIVRMK
EXPOCODE,SECT_ID,STNNBR,CASTNO,SAMPNO,BTLNBR,BTLNBR_FLAG_W,DATE,TIME,LATITUDE,LONGITUDE,DEPTH,CTDPRS,CTDTMP,SBE35_FLAG_W,REFTMP,CTDSAL,CTDSAL_FLAG_W,SALNTY,SALNTY_FLAG_W,CTDOXY,CTDOXY_FLAG_W,OXYGEN,OXYGEN_FLAG_W,SILCAT,SILCAT_FLAG_W,NITRAT,NITRAT_FLAG_W,NITRIT,NITRIT_FLAG_W,PHSPHT,PHSPHT_FLAG_W,NH4,NH4_FLAG_W,ALKALI,ALKALI_FLAG_W,PH_TOT,PH_TOT_FLAG_W,PH_TMP,CHLORA,CHLORA_FLAG_W,SBE35_FLAG_W,BTL_DATE,BTL_TIME
,,,,,,,,,,,METERS,DBAR,ITS-90,,,PSS-78,,PSS-78,,UMOL/KG,,UMOL/KG,,UMOL/KG,,UMOL/KG,,UMOL/KG,,UMOL/KG,,UMOL/KG,,UMOL/KG,,,,DEG C,UG/KG,,,,
  320620161224,HAZMAT,     2,  1,      7,      7,2,20161228,0329,-59.3321, -68.4999, 3644,     35.8,   3.6301,2,   3.8308,  33.8212,2,-999.0000,9,    329.3,2,   -999.0,9,  -999.00,9,  -999.00,9,  -999.00,9,  -999.00,9,     -999,9,   -999.0,9,-999.0000,9,  -999.00,  -999.00,9,2, 20161228,      329
  320620161224,HAZMAT,     2,  1,      3,      3,2,20161228,0329,-59.3321, -68.4999, 3644,     35.3,   3.8349,9,-999.0000,  33.8212,2,-999.0000,9,    329.6,2,   -999.0,9,  -999.00,9,  -999.00,9,  -999.00,9,  -999.00,9,     -999,9,   -999.0,9,-999.0000,9,  -999.00,  -999.00,9,9, 20161228,      329
  320620161224,HAZMAT,     2,  1,      4,      4,2,20161228,0329,-59.3321, -68.4999, 3644,     35.2,   3.7941,2,   3.8447,  33.8212,2,-999.0000,9,    329.6,2,   -999.0,9,     4.60,2,    22.60,2,     0.25,2,     1.52,2,     1.16,2,   -999.0,9,-999.0000,9,  -999.00,     0.45,2,2, 20161228,      329
  320620161224,HAZMAT,     2,  1,      1,      1,2,20161228,0329,-59.3321, -68.4999, 3644,     35.2,   3.0702,9,-999.0000,  33.8212,2,-999.0000,9,    329.6,2,   -999.0,9,  -999.00,9,  -999.00,9,  -999.00,9,  -999.00,9,     -999,9,   -999.0,9,-999.0000,9,  -999.00,  -999.00,9,9, 20161228,      329
  320620161224,HAZMAT,     2,  1,      5,      5,2,20161228,0329,-59.3321, -68.4999, 3644,     35.1,   3.8337,9,-999.0000,  33.8212,2,-999.0000,9,    329.7,2,   -999.0,9,  -999.00,9,  -999.00,9,  -999.00,9,  -999.00,9,     -999,9,   -999.0,9,-999.0000,9,  -999.00,  -999.00,9,9, 20161228,      329
  320620161224,HAZMAT,     2,  1,      6,      6,2,20161228,0329,-59.3321, -68.4999, 3644,     35.0,   3.8077,2,   3.8403,  33.8212,2,-999.0000,9,    329.8,2,   -999.0,9,  -999.00,9,  -999.00,9,  -999.00,9,  -999.00,9,     -999,9,   -999.0,9,-999.0000,9,  -999.00,  -999.00,9,2, 20161228,      329
  320620161224,HAZMAT,     2,  1,      9,      9,2,20161228,0329,-59.3321, -68.4999, 3644,     34.8,   3.8211,2,   3.8214,  33.8211,2,-999.0000,9,    329.9,2,   -999.0,9,  -999.00,9,  -999.00,9,  -999.00,9,  -999.00,9,     -999,9,   -999.0,9,-999.0000,9,  -999.00,  -999.00,9,2, 20161228,      329
  320620161224,HAZMAT,     2,  1,      2,      2,2,20161228,0329,-59.3321, -68.4999, 3644,     34.8,   3.3604,9,-999.0000,  33.8211,2,-999.0000,9,    329.9,2,   -999.0,9,  -999.00,9,  -999.00,9,  -999.00,9,  -999.00,9,     -999,9,   -999.0,9,-999.0000,9,  -999.00,  -999.00,9,9, 20161228,      329
  320620161224,HAZMAT,     2,  1,      8,      8,2,20161228,0329,-59.3321, -68.4999, 3644,     34.5,   3.1490,9,-999.0000,  33.8211,2,-999.0000,9,    330.1,2,   -999.0,9,  -999.00,9,  -999.00,9,  -999.00,9,  -999.00,9,     -999,9,   -999.0,9,-999.0000,9,  -999.00,  -999.00,9,9, 20161228,      329
  320620161224,HAZMAT,     2,  1,     15,     15,2,20161228,0329,-59.3321, -68.4999, 3644,      5.4,   3.9570,9,-999.0000,  33.8165,2,-999.0000,9,    335.2,2,   -999.0,9,  -999.00,9,  -999.00,9,  -999.00,9,  -999.00,9,     -999,9,   -999.0,9,-999.0000,9,  -999.00,  -999.00,9,9, 20161228,      331
  320620161224,HAZMAT,     2,  1,     16,     16,2,20161228,0329,-59.3321, -68.4999, 3644,      5.2,   3.9255,2,   3.9583,  33.8165,2,-999.0000,9,    335.2,2,   -999.0,9,     5.30,2,    22.55,2,     0.27,2,     1.62,2,     0.53,2,   -999.0,9,-999.0000,9,  -999.00,     0.43,2,2, 20161228,      331
  320620161224,HAZMAT,     2,  1,     18,     18,2,20161228,0329,-59.3321, -68.4999, 3644,      5.0,   3.9449,2,   3.9593,  33.8165,2,-999.0000,9,    335.2,2,   -999.0,9,  -999.00,9,  -999.00,9,  -999.00,9,  -999.00,9,     -999,9,   -999.0,9,-999.0000,9,  -999.00,  -999.00,9,2, 20161228,      331
  320620161224,HAZMAT,     2,  1,     13,     13,2,20161228,0329,-59.3321, -68.4999, 3644,      5.0,   3.9542,9,-999.0000,  33.8165,2,-999.0000,9,    335.2,2,   -999.0,9,  -999.00,9,  -999.00,9,  -999.00,9,  -999.00,9,     -999,9,   -999.0,9,-999.0000,9,  -999.00,  -999.00,9,9, 20161228,      331
  320620161224,HAZMAT,     2,  1,     11,     11,2,20161228,0329,-59.3321, -68.4999, 3644,      4.9,   3.9434,9,-999.0000,  33.8165,2,-999.0000,9,    335.2,2,   -999.0,9,  -999.00,9,  -999.00,9,  -999.00,9,  -999.00,9,     -999,9,   -999.0,9,-999.0000,9,  -999.00,  -999.00,9,9, 20161228,      331
  320620161224,HAZMAT,     2,  1,     10,     10,2,20161228,0329,-59.3321, -68.4999, 3644,      4.9,   3.9420,2,   3.9558,  33.8165,2,-999.0000,9,    335.2,2,   -999.0,9,  -999.00,9,  -999.00,9,  -999.00,9,  -999.00,9,     -999,9,   -999.0,9,-999.0000,9,  -999.00,  -999.00,9,2, 20161228,      331
  320620161224,HAZMAT,     2,  1,     12,     12,2,20161228,0329,-59.3321, -68.4999, 3644,      4.8,   3.9463,2,   3.9559,  33.8165,2,-999.0000,9,    335.2,2,   -999.0,9,  -999.00,9,  -999.00,9,  -999.00,9,  -999.00,9,     -999,9,   -999.0,9,-999.0000,9,  -999.00,  -999.00,9,2, 20161228,      331
  320620161224,HAZMAT,     2,  1,     17,     17,2,20161228,0329,-59.3321, -68.4999, 3644,      4.3,   3.9536,9,-999.0000,  33.8165,2,-999.0000,9,    335.2,2,   -999.0,9,  -999.00,9,  -999.00,9,  -999.00,9,  -999.00,9,     -999,9,   -999.0,9,-999.0000,9,  -999.00,  -999.00,9,9, 20161228,      331
  320620161224,HAZMAT,     2,  1,     14,     14,2,20161228,0329,-59.3321, -68.4999, 3644,      4.1,   3.9217,2,   3.9568,  33.8164,2,-999.0000,9,    335.2,2,   -999.0,9,  -999.00,9,  -999.00,9,  -999.00,9,  -999.00,9,     -999,9,   -999.0,9,-999.0000,9,  -999.00,  -999.00,9,2, 20161228,      331
  320620161224,HAZMAT,     2,  2,      1,      1,2,20161228,0506,-59.3321, -68.4999, 3644,   2030.7,   1.6323,9,-999.0000,  34.7212,2,  34.9882,4,    188.0,2,    188.4,2,   101.80,2,    31.82,2,     0.00,2,     2.20,2,        0,2,   2362.4,2,   7.5949,2,    25.00,  -999.00,9,9, 20161228,      506
  320620161224,HAZMAT,     2,  2,      2,      2,2,20161228,0506,-59.3321, -68.4999, 3644,   1764.5,   1.8837,2,   1.8829,  34.7189,2,  34.7203,2,    184.4,2,    185.6,2,    93.10,2,    31.78,2,     0.00,2,     2.21,2,        0,2,   2355.5,6,   7.5877,6,    25.00,  -999.00,9,2, 20161228,      512
  320620161224,HAZMAT,     2,  2,      3,      3,2,20161228,0506,-59.3321, -68.4999, 3644,   1559.1,   2.0136,2,   2.0138,  34.7103,2,  34.7089,2,    181.2,2,    180.4,2,    88.00,2,    31.94,2,     0.00,2,     2.22,2,        0,2,   2350.9,2,   7.5791,2,    25.00,  -999.00,9,2, 20161228,      517
  320620161224,HAZMAT,     2,  2,      4,      4,2,20161228,0506,-59.3321, -68.4999, 3644,   1356.0,   2.1484,2,   2.1487,  34.6847,2,  34.6808,2,    175.5,2,    175.3,2,    85.10,2,    32.54,2,     0.00,2,     2.24,2,        0,2,   2352.2,2,   7.5810,3,    25.00,  -999.00,9,2, 20161228,      523
  320620161224,HAZMAT,     2,  2,      5,      5,2,20161228,0506,-59.3321, -68.4999, 3644,   1257.6,   2.2176,2,   2.2198,  34.6673,2,  34.6671,2,    173.5,2,    173.3,2,    82.50,2,    32.93,2,     0.00,2,     2.26,2,        0,2,   2345.9,2,   7.5635,2,    25.00,  -999.00,9,2, 20161228,      526
  320620161224,HAZMAT,     2,  2,      6,      6,2,20161228,0506,-59.3321, -68.4999, 3644,   1155.7,   2.2855,2,   2.2856,  34.6413,2,  34.6463,2,    170.6,2,    171.0,2,    81.40,2,    33.24,2,     0.00,2,     2.29,2,        0,2,   2344.6,2,   7.5588,2,    25.00,  -999.00,9,2, 20161228,      529
  320620161224,HAZMAT,     2,  2,      7,      7,2,20161228,0506,-59.3321, -68.4999, 3644,   1052.9,   2.3437,2,   2.3443,  34.6199,2,  34.6230,2,    169.3,2,    170.2,2,    79.10,2,    33.64,2,     0.00,2,     2.33,2,        0,2,   2341.2,2,   7.5535,2,    25.00,  -999.00,9,2, 20161228,      532
  320620161224,HAZMAT,     2,  2,      8,      8,2,20161228,0506,-59.3321, -68.4999, 3644,    952.6,   2.4083,2,   2.4082,  34.5872,2,  34.5729,2,    168.7,2,    170.4,2,    75.20,2,    34.14,2,     0.00,2,     2.36,2,        0,2,   2338.8,2,   7.5561,2,    25.00,  -999.00,9,2, 20161228,      535
  320620161224,HAZMAT,     2,  2,      9,      9,2,20161228,0506,-59.3321, -68.4999, 3644,    851.8,   2.4966,2,   2.4974,  34.5481,2,  34.5480,2,    169.1,2,    170.9,2,    73.00,2,    34.13,2,     0.00,2,     2.36,2,        0,2,   2334.4,2,   7.5492,2,    25.00,  -999.00,9,2, 20161228,      538
  320620161224,HAZMAT,     2,  2,     10,     10,2,20161228,0506,-59.3321, -68.4999, 3644,    750.5,   2.5870,2,   2.5876,  34.5036,2,  34.5017,2,    170.9,2,    174.1,2,    68.40,2,    34.25,2,     0.00,2,     2.38,2,        0,2,   2331.4,2,   7.5624,3,    25.00,  -999.00,9,2, 20161228,      541
  320620161224,HAZMAT,     2,  2,     11,     11,2,20161228,0506,-59.3321, -68.4999, 3644,    649.6,   2.6206,2,   2.6211,  34.4346,2,  34.4374,2,    177.4,2,    181.7,2,    61.90,2,    34.30,2,     0.00,2,     2.36,2,        0,2,   2320.8,2,   7.5478,2,    25.00,  -999.00,9,2, 20161228,      544
  320620161224,HAZMAT,     2,  2,     12,     12,2,20161228,0506,-59.3321, -68.4999, 3644,    546.3,   2.7260,2,   2.7262,  34.3468,2,  34.3657,2,    191.8,2,    194.2,2,    53.80,2,    33.83,2,     0.00,2,     2.32,2,        0,2,   2313.4,2,   7.5583,2,    25.00,  -999.00,9,2, 20161228,      547
  320620161224,HAZMAT,     2,  2,     13,     13,2,20161228,0506,-59.3321, -68.4999, 3644,    445.9,   2.6293,2,   2.6291,  34.2613,2,  34.2626,2,    209.9,2,    217.5,2,    44.00,2,    32.79,2,     0.00,2,     2.25,2,        0,2,   2302.8,2,   7.5738,2,    25.00,  -999.00,9,2, 20161228,      550
  320620161224,HAZMAT,     2,  2,     14,     14,2,20161228,0506,-59.3321, -68.4999, 3644,    394.7,   2.5356,2,   2.5352,  34.2115,2,  34.2059,2,    222.9,2,    232.8,2,    39.00,2,    31.93,2,     0.00,2,     2.18,2,        0,2,   2296.9,2,   7.5879,2,    25.00,  -999.00,9,2, 20161228,      553
  320620161224,HAZMAT,     2,  2,     15,     15,2,20161228,0506,-59.3321, -68.4999, 3644,    343.6,   2.3127,2,   2.3209,  34.1476,2,  34.1192,3,    243.3,2,    258.6,2,    31.90,2,    30.47,2,     0.00,2,     2.09,2,        0,2,   2290.6,2,   7.6124,2,    25.00,  -999.00,9,2, 20161228,      555
  320620161224,HAZMAT,     2,  2,     16,     16,2,20161228,0506,-59.3321, -68.4999, 3644,    293.7,   2.4918,2,   2.4914,  34.0811,2,  34.0982,2,    259.1,2,    264.2,2,    28.40,2,    29.79,2,     0.00,2,     2.04,2,        0,2,   2287.0,2,   7.6217,2,    25.00,  -999.00,9,2, 20161228,      557
  320620161224,HAZMAT,     2,  2,     17,     17,2,20161228,0506,-59.3321, -68.4999, 3644,    252.9,   2.5167,2,   2.5179,  34.0609,2,  34.0601,2,    260.2,2,    274.3,2,    25.20,2,    29.01,2,     0.00,2,     1.99,2,        0,2,   2283.6,2,   7.6335,2,    25.00,  -999.00,9,2, 20161228,      559
  320620161224,HAZMAT,     2,  2,     18,     18,2,20161228,0506,-59.3321, -68.4999, 3644,    193.0,   1.6743,2,   1.6713,  33.8692,2,  33.9035,2,    307.8,2,    312.6,2,    20.00,2,    27.16,2,     0.03,2,     1.88,2,     0.15,2,   2278.1,2,   7.6665,2,    25.00,  -999.00,9,2, 20161228,      601
  320620161224,HAZMAT,     2,  2,     19,     19,2,20161228,0506,-59.3321, -68.4999, 3644,    142.2,   2.1511,2,   2.1528,  33.8458,2,  33.8690,2,    314.8,2,    318.2,2,    15.80,2,    25.61,2,     0.22,2,     1.81,2,     0.17,2,   2273.5,2,   7.6862,2,    25.00,  -999.00,9,2, 20161228,      604
  320620161224,HAZMAT,     2,  2,     20,     20,2,20161228,0506,-59.3321, -68.4999, 3644,    101.6,   2.4433,2,   2.4404,  33.8309,2,  33.8292,2,    311.9,2,    324.8,2,    13.70,2,    24.48,2,     0.21,2,     1.74,2,     0.53,2,   2271.7,2,   7.7017,2,    25.00,  -999.00,9,2, 20161228,      605
  320620161224,HAZMAT,     2,  2,     21,     21,2,20161228,0506,-59.3321, -68.4999, 3644,     73.0,   2.8100,2,   2.8247,  33.8245,2,  33.8332,2,    310.0,2,    325.8,2,    10.70,2,    23.97,2,     0.21,2,     1.69,2,     0.79,2,   2272.0,2,   7.7121,2,    25.00,  -999.00,9,2, 20161228,      607
  320620161224,HAZMAT,     2,  2,     22,     22,2,20161228,0506,-59.3321, -68.4999, 3644,     52.3,   3.6042,2,   3.6067,  33.8254,2,  33.8215,2,    310.6,2,    325.2,2,     6.30,2,    23.00,2,     0.23,2,     1.56,2,     0.13,2,   2272.4,2,   7.7317,2,    25.00,  -999.00,9,2, 20161228,      608
  320620161224,HAZMAT,     2,  2,     23,     23,2,20161228,0506,-59.3321, -68.4999, 3644,     35.6,   3.9307,2,   3.9304,  33.8212,2,  33.8186,2,    329.5,2,    323.3,2,     4.90,2,    22.67,2,     0.25,2,     1.55,2,     0.03,2,   2265.3,6,   7.7161,6,    25.00,  -999.00,9,2, 20161228,      610
  320620161224,HAZMAT,     2,  2,     24,     24,2,20161228,0506,-59.3321, -68.4999, 3644,      5.7,   4.0348,2,   4.0346,  33.8165,2,  33.8211,2,    335.2,2,    322.9,2,     4.40,2,    22.58,2,     0.26,2,     1.55,2,     0.04,2,   2271.9,2,   7.7386,2,    25.00,  -999.00,9,2, 20161228,      611
  320620161224,HAZMAT,     3,  1,      5,      5,2,20161228,1555,-60.6396, -68.6210, 4378,     72.7,   1.2862,9,-999.0000,  33.7193,2,-999.0000,9,    341.7,2,   -999.0,9,  -999.00,9,  -999.00,9,  -999.00,9,  -999.00,9,     -999,9,   -999.0,9,-999.0000,9,  -999.00,  -999.00,9,9, 20161228,     1555
  320620161224,HAZMAT,     3,  1,      4,      4,2,20161228,1555,-60.6396, -68.6210, 4378,     72.2,   1.2781,2,   1.2912,  33.7184,2,-999.0000,9,    341.7,2,   -999.0,9,  -999.00,9,  -999.00,9,  -999.00,9,  -999.00,9,     -999,9,   -999.0,9,-999.0000,9,  -999.00,  -999.00,9,2, 20161228,     1555
  320620161224,HAZMAT,     3,  1,      6,      6,2,20161228,1555,-60.6396, -68.6210, 4378,     72.3,   1.2859,9,-999.0000,  33.7186,2,-999.0000,9,    341.7,2,   -999.0,9,  -999.00,9,  -999.00,9,  -999.00,9,  -999.00,9,     -999,9,   -999.0,9,-999.0000,9,  -999.00,  -999.00,9,9, 20161228,     1555
  320620161224,HAZMAT,     3,  1,      8,      8,2,20161228,1555,-60.6396, -68.6210, 4378,     72.0,   1.2822,9,-999.0000,  33.7182,2,-999.0000,9,    341.7,2,   -999.0,9,  -999.00,9,  -999.00,9,  -999.00,9,  -999.00,9,     -999,9,   -999.0,9,-999.0000,9,  -999.00,  -999.00,9,9, 20161228,     1555
  320620161224,HAZMAT,     3,  1,      1,      1,2,20161228,1555,-60.6396, -68.6210, 4378,     72.1,   1.2515,9,-999.0000,  33.7183,2,-999.0000,9,    341.7,2,   -999.0,9,  -999.00,9,  -999.00,9,  -999.00,9,  -999.00,9,     -999,9,   -999.0,9,-999.0000,9,  -999.00,     0.24,2,9, 20161228,     1555
  320620161224,HAZMAT,     3,  1,      7,      7,2,20161228,1555,-60.6396, -68.6210, 4378,     71.9,   1.2795,2,   1.2834,  33.7180,2,-999.0000,9,    341.7,2,   -999.0,9,    15.80,2,    24.72,2,     0.28,2,     1.76,2,     0.35,2,   -999.0,9,-999.0000,9,  -999.00,  -999.00,9,2, 20161228,     1555
  320620161224,HAZMAT,     3,  1,      3,      3,2,20161228,1555,-60.6396, -68.6210, 4378,     71.3,   1.2476,9,-999.0000,  33.7170,2,-999.0000,9,    341.6,2,   -999.0,9,  -999.00,9,  -999.00,9,  -999.00,9,  -999.00,9,     -999,9,   -999.0,9,-999.0000,9,  -999.00,  -999.00,9,9, 20161228,     1555
  320620161224,HAZMAT,     3,  1,      2,      2,2,20161228,1555,-60.6396, -68.6210, 4378,     71.3,   1.2562,9,-999.0000,  33.7170,2,-999.0000,9,    341.6,2,   -999.0,9,  -999.00,9,  -999.00,9,  -999.00,9,  -999.00,9,     -999,9,   -999.0,9,-999.0000,9,  -999.00,  -999.00,9,9, 20161228,     1555
  320620161224,HAZMAT,     3,  1,     12,     12,2,20161228,1555,-60.6396, -68.6210, 4378,      5.7,   2.9681,2,   2.9650,  33.6682,2,-999.0000,9,    332.5,2,   -999.0,9,  -999.00,9,  -999.00,9,  -999.00,9,  -999.00,9,     -999,9,   -999.0,9,-999.0000,9,  -999.00,     0.16,2,2, 20161228,     1557
  320620161224,HAZMAT,     3,  1,      9,      9,2,20161228,1555,-60.6396, -68.6210, 4378,      5.5,   2.9651,2,   2.9491,  33.6682,2,-999.0000,9,    332.5,2,   -999.0,9,  -999.00,9,  -999.00,9,  -999.00,9,  -999.00,9,     -999,9,   -999.0,9,-999.0000,9,  -999.00,  -999.00,9,2, 20161228,     1557
  320620161224,HAZMAT,     3,  1,     11,     11,2,20161228,1555,-60.6396, -68.6210, 4378,      5.1,   2.9536,9,-999.0000,  33.6682,2,-999.0000,9,    332.5,2,   -999.0,9,  -999.00,9,  -999.00,9,  -999.00,9,  -999.00,9,     -999,9,   -999.0,9,-999.0000,9,  -999.00,  -999.00,9,9, 20161228,     1557
  320620161224,HAZMAT,     3,  1,     13,     13,2,20161228,1555,-60.6396, -68.6210, 4378,      5.1,   2.9656,9,-999.0000,  33.6682,2,-999.0000,9,    332.5,2,   -999.0,9,    14.00,2,    24.08,2,     0.34,2,     1.65,2,     0.23,2,   -999.0,9,-999.0000,9,  -999.00,  -999.00,9,9, 20161228,     1557
  320620161224,HAZMAT,     3,  1,     10,     10,2,20161228,1555,-60.6396, -68.6210, 4378,      4.5,   2.9567,9,-999.0000,  33.6682,2,-999.0000,9,    332.5,2,   -999.0,9,  -999.00,9,  -999.00,9,  -999.00,9,  -999.00,9,     -999,9,   -999.0,9,-999.0000,9,  -999.00,  -999.00,9,9, 20161228,     1557