BOTTLE,20190617PRINUNIVRMK
EXPOCODE,SECT_ID,STNNBR,CASTNO,SAMPNO,BTLNBR,BTLNBR_FLAG_W,DATE,TIME,LATITUDE,LONGITUDE,DEPTH,CTDPRS,CTDTMP,SBE35_FLAG_W,REFTMP,CTDSAL,CTDSAL_FLAG_W,SALNTY,SALNTY_FLAG_W,CTDOXY,CTDOXY_FLAG_W,OXYGEN,OXYGEN_FLAG_W,SILCAT,SILCAT_FLAG_W,NITRAT,NITRAT_FLAG_W,NITRIT,NITRIT_FLAG_W,PHSPHT,PHSPHT_FLAG_W,NH4,NH4_FLAG_W,ALKALI,ALKALI_FLAG_W,PH_TOT,PH_TOT_FLAG_W,PH_TMP,CHLORA,CHLORA_FLAG_W,SBE35_FLAG_W,BTL_DATE,BTL_TIME
,,,,,,,,,,,METERS,DBAR,ITS-90,,,PSS-78,,PSS-78,,UMOL/KG,,UMOL/KG,,UMOL/KG,,UMOL/KG,,UMOL/KG,,UMOL/KG,,UMOL/KG,,UMOL/KG,,,,DEG C,UG/KG,,,,
  320620161224,HAZMAT,     4,  1,      5,      5,2,20161229,0100,-61.9852, -68.8060, 4100,     30.5,   0.7925,9,-999.0000,  33.6699,2,-999.0000,9,    358.4,2,   -999.0,9,  -999.00,9,  -999.00,9,  -999.00,9,  -999.00,9,     -999,9,   -999.0,9,-999.0000,9,  -999.00,  -999.00,9,9, 20161229,      101
  320620161224,HAZMAT,     4,  1,      4,      4,2,20161229,0100,-61.9852, -68.8060, 4100,     30.3,   0.7945,2,   0.7933,  33.6699,2,-999.0000,9,    358.4,2,   -999.0,9,  -999.00,9,  -999.00,9,  -999.00,9,  -999.00,9,     -999,9,   -999.0,9,-999.0000,9,  -999.00,  -999.00,9,2, 20161229,      101
  320620161224,HAZMAT,     4,  1,      1,      1,2,20161229,0100,-61.9852, -68.8060, 4100,     30.4,   0.7951,9,-999.0000,  33.6699,2,-999.0000,9,    358.4,2,   -999.0,9,  -999.00,9,  -999.00,9,  -999.00,9,  -999.00,9,     -999,9,   -999.0,9,-999.0000,9,  -999.00,  -999.00,9,9, 20161229,      100
  320620161224,HAZMAT,     4,  1,      8,      8,2,20161229,0100,-61.9852, -68.8060, 4100,     30.3,   0.7931,2,   0.7936,  33.6699,2,-999.0000,9,    358.4,2,   -999.0,9,  -999.00,9,  -999.00,9,  -999.00,9,  -999.00,9,     -999,9,   -999.0,9,-999.0000,9,  -999.00,  -999.00,9,2, 20161229,      101
  320620161224,HAZMAT,     4,  1,      2,      2,2,20161229,0100,-61.9852, -68.8060, 4100,     30.2,   0.7954,9,-999.0000,  33.6699,2,-999.0000,9,    358.3,2,   -999.0,9,  -999.00,9,  -999.00,9,  -999.00,9,  -999.00,9,     -999,9,   -999.0,9,-999.0000,9,  -999.00,  -999.00,9,9, 20161229,      101
  320620161224,HAZMAT,     4,  1,      6,      6,2,20161229,0100,-61.9852, -68.8060, 4100,     30.3,   0.7935,2,   0.7950,  33.6699,2,-999.0000,9,    358.4,2,   -999.0,9,  -999.00,9,  -999.00,9,  -999.00,9,  -999.00,9,     -999,9,   -999.0,9,-999.0000,9,  -999.00,  -999.00,9,2, 20161229,      101
  320620161224,HAZMAT,     4,  1,      3,      3,2,20161229,0100,-61.9852, -68.8060, 4100,     30.1,   0.7938,9,-999.0000,  33.6698,2,-999.0000,9,    358.3,2,   -999.0,9,  -999.00,9,  -999.00,9,  -999.00,9,  -999.00,9,     -999,9,   -999.0,9,-999.0000,9,  -999.00,     0.36,2,9, 20161229,      101
  320620161224,HAZMAT,     4,  1,      7,      7,2,20161229,0100,-61.9852, -68.8060, 4100,     30.0,   0.7956,9,-999.0000,  33.6698,2,-999.0000,9,    358.3,2,   -999.0,9,  -999.00,9,  -999.00,9,  -999.00,9,  -999.00,9,     -999,9,   -999.0,9,-999.0000,9,  -999.00,  -999.00,9,9, 20161229,      101
  320620161224,HAZMAT,     4,  1,     10,     10,2,20161229,0100,-61.9852, -68.8060, 4100,      5.9,   2.0772,9,-999.0000,  33.6303,2,-999.0000,9,    323.5,2,   -999.0,9,  -999.00,9,  -999.00,9,  -999.00,9,  -999.00,9,     -999,9,   -999.0,9,-999.0000,9,  -999.00,  -999.00,9,9, 20161229,      102
  320620161224,HAZMAT,     4,  1,     13,     13,2,20161229,0100,-61.9852, -68.8060, 4100,      5.7,   2.0681,2,   2.0644,  33.6303,2,-999.0000,9,    323.5,2,   -999.0,9,  -999.00,9,  -999.00,9,  -999.00,9,  -999.00,9,     -999,9,   -999.0,9,-999.0000,9,  -999.00,  -999.00,9,2, 20161229,      102
  320620161224,HAZMAT,     4,  1,      9,      9,2,20161229,0100,-61.9852, -68.8060, 4100,      5.7,   2.0650,2,   2.0793,  33.6303,2,-999.0000,9,    323.5,2,   -999.0,9,  -999.00,9,  -999.00,9,  -999.00,9,  -999.00,9,     -999,9,   -999.0,9,-999.0000,9,  -999.00,  -999.00,9,2, 20161229,      102
  320620161224,HAZMAT,     4,  1,     12,     12,2,20161229,0100,-61.9852, -68.8060, 4100,      5.8,   2.0606,9,-999.0000,  33.6303,2,-999.0000,9,    323.5,2,   -999.0,9,  -999.00,9,  -999.00,9,  -999.00,9,  -999.00,9,     -999,9,   -999.0,9,-999.0000,9,  -999.00,     0.17,2,9, 20161229,      102
  320620161224,HAZMAT,     4,  1,     14,     14,2,20161229,0100,-61.9852, -68.8060, 4100,      5.7,   2.0797,9,-999.0000,  33.6303,2,-999.0000,9,    323.5,2,   -999.0,9,  -999.00,9,  -999.00,9,  -999.00,9,  -999.00,9,     -999,9,   -999.0,9,-999.0000,9,  -999.00,  -999.00,9,9, 20161229,      102
  320620161224,HAZMAT,     4,  1,     11,     11,2,20161229,0100,-61.9852, -68.8060, 4100,      5.3,   2.0622,2,   2.0685,  33.6302,2,-999.0000,9,    323.5,2,   -999.0,9,  -999.00,9,  -999.00,9,  -999.00,9,  -999.00,9,     -999,9,   -999.0,9,-999.0000,9,  -999.00,  -999.00,9,2, 20161229,      102
  320620161224,HAZMAT,     4,  2,      1,      1,2,20161229,0219,-61.9852, -68.8060, 4100,   2029.9,   1.2428,9,-999.0000,  34.7217,2,  34.7313,2,    196.4,2,    195.5,2,   110.70,2,    31.25,2,     0.00,2,     2.18,2,        0,2,   2361.2,2,   7.5983,2,    25.00,  -999.00,9,9, 20161229,      219
  320620161224,HAZMAT,     4,  2,      2,      2,2,20161229,0219,-61.9852, -68.8060, 4100,   1855.0,   1.3249,2,   1.3248,  34.7241,2,  34.7337,2,    195.2,2,    196.7,2,   107.90,2,    31.23,2,     0.00,2,     2.19,2,        0,2,   2360.3,6,   7.5970,6,    25.00,  -999.00,9,2, 20161229,      224
  320620161224,HAZMAT,     4,  2,      3,      3,2,20161229,0219,-61.9852, -68.8060, 4100,   1653.5,   1.4618,2,   1.4615,  34.7259,2,  34.7256,2,    192.7,2,    192.1,2,   103.90,2,    31.11,2,     0.00,2,     2.19,2,        0,2,   2358.2,2,   7.5922,2,    25.00,  -999.00,9,2, 20161229,      230
  320620161224,HAZMAT,     4,  2,      4,      4,2,20161229,0219,-61.9852, -68.8060, 4100,   1448.8,   1.6185,2,   1.6190,  34.7270,2,  34.7237,2,    189.9,2,    189.5,2,    98.60,2,    31.07,2,     0.00,2,     2.17,2,        0,2,   2356.9,2,   7.5945,2,    25.00,  -999.00,9,2, 20161229,      235
  320620161224,HAZMAT,     4,  2,      5,      5,2,20161229,0219,-61.9852, -68.8060, 4100,   1347.0,   1.7446,2,   1.7437,  34.7273,2,  34.7297,2,    187.4,2,    187.2,2,    94.40,2,    30.90,2,     0.00,2,     2.17,2,        0,2,   2351.4,2,   7.5857,2,    25.00,  -999.00,9,2, 20161229,      239
  320620161224,HAZMAT,     4,  2,      6,      6,2,20161229,0219,-61.9852, -68.8060, 4100,   1246.4,   1.8174,2,   1.8166,  34.7242,2,  34.7247,2,    185.5,2,    185.7,2,    92.20,2,    30.96,2,     0.00,2,     2.17,2,        0,2,   2351.9,2,   7.5880,2,    25.00,  -999.00,9,2, 20161229,      242
  320620161224,HAZMAT,     4,  2,      7,      7,2,20161229,0219,-61.9852, -68.8060, 4100,   1144.5,   1.8891,2,   1.8885,  34.7198,2,  34.7171,2,    183.5,2,    183.0,2,    90.70,2,    31.15,2,     0.00,2,     2.18,2,        0,2,   2349.4,2,   7.5833,2,    25.00,  -999.00,9,2, 20161229,      245
  320620161224,HAZMAT,     4,  2,      8,      8,2,20161229,0219,-61.9852, -68.8060, 4100,   1041.6,   1.9496,2,   1.9491,  34.7124,2,  34.7230,2,    181.2,2,    181.2,2,    88.90,2,    31.19,2,     0.00,2,     2.20,2,        0,2,   2347.8,2,   7.5814,2,    25.00,  -999.00,9,2, 20161229,      249
  320620161224,HAZMAT,     4,  2,      9,      9,2,20161229,0219,-61.9852, -68.8060, 4100,    941.9,   2.0297,2,   2.0288,  34.6992,2,  34.6986,2,    178.2,2,    177.9,2,    86.80,2,    31.58,2,     0.00,2,     2.21,2,        0,2,   2345.8,2,   7.5726,2,    25.00,  -999.00,9,2, 20161229,      252
  320620161224,HAZMAT,     4,  2,     10,     10,2,20161229,0219,-61.9852, -68.8060, 4100,    839.4,   2.1056,2,   2.1050,  34.6814,2,  34.6760,2,    175.4,2,    175.4,2,    84.50,2,    32.17,2,     0.00,2,     2.24,2,        0,2,   2344.0,2,   7.5662,2,    25.00,  -999.00,9,2, 20161229,      255
  320620161224,HAZMAT,     4,  2,     11,     11,2,20161229,0219,-61.9852, -68.8060, 4100,    737.7,   2.1398,2,   2.1397,  34.6561,2,  34.6556,2,    173.3,2,    173.0,2,    83.00,2,    32.84,2,     0.00,2,     2.27,2,        0,2,   2341.6,2,   7.5581,2,    25.00,  -999.00,9,2, 20161229,      258
  320620161224,HAZMAT,     4,  2,     12,     12,2,20161229,0219,-61.9852, -68.8060, 4100,    637.7,   2.1677,2,   2.1671,  34.6243,2,  34.6236,2,    172.6,2,    171.8,2,    80.60,2,    33.40,2,     0.00,2,     2.29,2,        0,2,   2338.3,2,   7.5510,2,    25.00,  -999.00,9,2, 20161229,      301
  320620161224,HAZMAT,     4,  2,     13,     13,2,20161229,0219,-61.9852, -68.8060, 4100,    536.3,   2.1626,2,   2.1622,  34.5784,2,  34.5793,2,    173.9,2,    172.4,2,    77.80,2,    33.98,2,     0.00,2,     2.34,2,        0,2,   2334.4,2,   7.5416,2,    25.00,  -999.00,9,2, 20161229,      304
  320620161224,HAZMAT,     4,  2,     14,     14,2,20161229,0219,-61.9852, -68.8060, 4100,    435.0,   2.1400,2,   2.1396,  34.5229,2,  34.5184,2,    177.1,2,    176.8,2,    73.80,2,    34.44,2,     0.00,2,     2.36,2,        0,2,   2330.2,2,   7.5369,2,    25.00,  -999.00,9,2, 20161229,      307
  320620161224,HAZMAT,     4,  2,     15,     15,2,20161229,0219,-61.9852, -68.8060, 4100,    384.8,   2.0896,2,   2.0887,  34.4836,2,  34.4733,2,    181.7,2,    181.4,2,    71.10,2,    34.74,2,     0.00,2,     2.36,2,        0,2,   2325.1,2,   7.5335,2,    25.00,  -999.00,9,2, 20161229,      309
  320620161224,HAZMAT,     4,  2,     16,     16,2,20161229,0219,-61.9852, -68.8060, 4100,    334.0,   1.9479,2,   1.9474,  34.4317,2,  34.4153,2,    187.8,2,    191.1,2,    67.30,2,    34.67,2,     0.00,2,     2.36,2,        0,2,   2320.0,2,   7.5366,2,    25.00,  -999.00,9,2, 20161229,      312
  320620161224,HAZMAT,     4,  2,     17,     17,2,20161229,0219,-61.9852, -68.8060, 4100,    282.8,   2.0273,2,   2.0272,  34.3700,2,  34.3796,2,    199.4,2,    196.3,2,    63.10,2,    34.26,2,     0.02,2,     2.35,2,        0,2,   2316.3,2,   7.5403,2,    25.00,  -999.00,9,2, 20161229,      314
  320620161224,HAZMAT,     4,  2,     18,     18,2,20161229,0219,-61.9852, -68.8060, 4100,    227.4,   1.4224,2,   1.4223,  34.2187,2,  34.2353,2,    246.5,2,    233.1,2,    53.80,2,    33.01,2,     0.02,2,     2.27,2,        0,2,   2306.5,2,   7.5616,2,    25.00,  -999.00,9,2, 20161229,      317
  320620161224,HAZMAT,     4,  2,     19,     19,2,20161229,0219,-61.9852, -68.8060, 4100,    171.2,  -0.3272,2,  -0.2588,  34.0063,2,  33.9971,2,    312.1,2,    302.4,2,    45.80,2,    30.06,2,     0.04,2,     2.09,2,        0,2,   2292.0,2,   7.6051,2,    25.00,  -999.00,9,2, 20161229,      319
  320620161224,HAZMAT,     4,  2,     20,     20,2,20161229,0219,-61.9852, -68.8060, 4100,    121.7,  -1.1158,2,  -1.1157,  33.7833,2,  33.7867,2,    350.5,2,    347.9,2,    36.40,2,    26.04,2,     0.26,2,     1.92,2,     0.87,2,   2281.9,2,   7.6434,2,    25.00,  -999.00,9,2, 20161229,      322
  320620161224,HAZMAT,     4,  2,     21,     21,2,20161229,0219,-61.9852, -68.8060, 4100,     91.3,  -0.7259,2,  -0.7266,  33.7193,2,  33.7145,2,    355.8,2,    362.3,2,    30.00,2,    24.73,2,     0.28,2,     1.85,2,      1.1,2,   2277.1,2,   7.6612,2,    25.00,  -999.00,9,2, 20161229,      323
  320620161224,HAZMAT,     4,  2,     22,     22,2,20161229,0219,-61.9852, -68.8060, 4100,     61.1,   0.2793,2,   0.2783,  33.6788,2,  33.6860,2,    360.6,2,    355.5,2,    21.10,2,    22.18,2,     0.31,2,     1.58,2,     0.63,2,   2276.5,2,   7.7032,2,    25.00,  -999.00,9,2, 20161229,      325
  320620161224,HAZMAT,     4,  2,     23,     23,2,20161229,0219,-61.9852, -68.8060, 4100,     30.9,   0.9634,2,   0.9682,  33.6700,2,  33.6715,2,    358.6,2,    356.4,2,    16.30,2,    21.22,2,     0.30,2,     1.41,2,     0.25,2,   2272.3,6,   7.7090,6,    25.00,  -999.00,9,2, 20161229,      327
  320620161224,HAZMAT,     4,  2,     24,     24,2,20161229,0219,-61.9852, -68.8060, 4100,      4.5,   2.0443,2,   2.0438,  33.6300,2,  33.6359,2,    323.5,2,    322.3,2,    16.00,2,    21.32,2,     0.34,2,     1.46,2,      0.3,2,   2273.4,2,   7.7194,2,    25.00,  -999.00,9,2, 20161229,      329
  320620161224,HAZMAT,     5,  1,      6,      6,2,20161229,1111,-63.1240, -68.9860, 3800,     55.9,  -0.2263,9,-999.0000,  33.7078,2,-999.0000,9,    356.5,2,   -999.0,9,  -999.00,9,  -999.00,9,  -999.00,9,  -999.00,9,     -999,9,   -999.0,9,-999.0000,9,  -999.00,  -999.00,9,9, 20161229,     1111
  320620161224,HAZMAT,     5,  1,      7,      7,2,20161229,1111,-63.1240, -68.9860, 3800,     55.9,  -0.2323,2,  -0.2169,  33.7078,2,-999.0000,9,    356.5,2,   -999.0,9,  -999.00,9,  -999.00,9,  -999.00,9,  -999.00,9,     -999,9,   -999.0,9,-999.0000,9,  -999.00,  -999.00,9,2, 20161229,     1111
  320620161224,HAZMAT,     5,  1,      2,      2,2,20161229,1111,-63.1240, -68.9860, 3800,     55.8,  -0.2168,9,-999.0000,  33.7077,2,-999.0000,9,    356.5,2,   -999.0,9,  -999.00,9,  -999.00,9,  -999.00,9,  -999.00,9,     -999,9,   -999.0,9,-999.0000,9,  -999.00,  -999.00,9,9, 20161229,     1111
  320620161224,HAZMAT,     5,  1,      3,      3,2,20161229,1111,-63.1240, -68.9860, 3800,     55.7,  -0.2181,9,-999.0000,  33.7077,2,-999.0000,9,    356.5,2,   -999.0,9,  -999.00,9,  -999.00,9,  -999.00,9,  -999.00,9,     -999,9,   -999.0,9,-999.0000,9,  -999.00,  -999.00,9,9, 20161229,     1111
  320620161224,HAZMAT,     5,  1,      5,      5,2,20161229,1111,-63.1240, -68.9860, 3800,     55.6,  -0.2210,9,-999.0000,  33.7076,2,-999.0000,9,    356.5,2,   -999.0,9,  -999.00,9,  -999.00,9,  -999.00,9,  -999.00,9,     -999,9,   -999.0,9,-999.0000,9,  -999.00,  -999.00,9,9, 20161229,     1111
  320620161224,HAZMAT,     5,  1,      1,      1,2,20161229,1111,-63.1240, -68.9860, 3800,     55.6,  -0.2303,9,-999.0000,  33.7076,2,-999.0000,9,    356.5,2,   -999.0,9,  -999.00,9,  -999.00,9,  -999.00,9,  -999.00,9,     -999,9,   -999.0,9,-999.0000,9,  -999.00,  -999.00,9,9, 20161229,     1111
  320620161224,HAZMAT,     5,  1,      4,      4,2,20161229,1111,-63.1240, -68.9860, 3800,     55.6,  -0.2182,2,  -0.2136,  33.7076,2,-999.0000,9,    356.5,2,   -999.0,9,  -999.00,9,  -999.00,9,  -999.00,9,  -999.00,9,     -999,9,   -999.0,9,-999.0000,9,  -999.00,  -999.00,9,2, 20161229,     1111
  320620161224,HAZMAT,     5,  1,      8,      8,2,20161229,1111,-63.1240, -68.9860, 3800,     55.6,  -0.2248,9,-999.0000,  33.7076,2,-999.0000,9,    356.5,2,   -999.0,9,    25.40,2,    23.73,2,     0.28,2,     1.77,2,     0.74,2,   -999.0,9,-999.0000,9,  -999.00,     0.22,2,9, 20161229,     1111
  320620161224,HAZMAT,     5,  1,     10,     10,2,20161229,1111,-63.1240, -68.9860, 3800,     34.2,   0.3891,9,-999.0000,  33.6940,2,-999.0000,9,    354.8,2,   -999.0,9,  -999.00,9,  -999.00,9,  -999.00,9,  -999.00,9,     -999,9,   -999.0,9,-999.0000,9,  -999.00,  -999.00,9,9, 20161229,     1112
  320620161224,HAZMAT,     5,  1,     11,     11,2,20161229,1111,-63.1240, -68.9860, 3800,     34.3,   0.3926,9,-999.0000,  33.6942,2,-999.0000,9,    354.9,2,   -999.0,9,  -999.00,9,  -999.00,9,  -999.00,9,  -999.00,9,     -999,9,   -999.0,9,-999.0000,9,  -999.00,  -999.00,9,9, 20161229,     1112
  320620161224,HAZMAT,     5,  1,     14,     14,2,20161229,1111,-63.1240, -68.9860, 3800,     34.1,   0.4940,9,-999.0000,  33.6940,2,-999.0000,9,    354.8,2,   -999.0,9,  -999.00,9,  -999.00,9,  -999.00,9,  -999.00,9,     -999,9,   -999.0,9,-999.0000,9,  -999.00,  -999.00,9,9, 20161229,     1113
  320620161224,HAZMAT,     5,  1,     15,     15,2,20161229,1111,-63.1240, -68.9860, 3800,     33.8,   0.5078,2,   0.5013,  33.6936,2,-999.0000,9,    354.8,2,   -999.0,9,  -999.00,9,  -999.00,9,  -999.00,9,  -999.00,9,     -999,9,   -999.0,9,-999.0000,9,  -999.00,  -999.00,9,2, 20161229,     1113
  320620161224,HAZMAT,     5,  1,      9,      9,2,20161229,1111,-63.1240, -68.9860, 3800,     33.3,   0.4106,2,   0.3745,  33.6929,2,-999.0000,9,    354.6,2,   -999.0,9,  -999.00,9,  -999.00,9,  -999.00,9,  -999.00,9,     -999,9,   -999.0,9,-999.0000,9,  -999.00,  -999.00,9,2, 20161229,     1112
  320620161224,HAZMAT,     5,  1,     16,     16,2,20161229,1111,-63.1240, -68.9860, 3800,     33.3,   0.5136,9,-999.0000,  33.6928,2,-999.0000,9,    354.6,2,   -999.0,9,  -999.00,9,  -999.00,9,  -999.00,9,  -999.00,9,     -999,9,   -999.0,9,-999.0000,9,  -999.00,  -999.00,9,9, 20161229,     1113
  320620161224,HAZMAT,     5,  1,     12,     12,2,20161229,1111,-63.1240, -68.9860, 3800,     33.4,   0.4588,2,   0.4657,  33.6929,2,-999.0000,9,    354.6,2,   -999.0,9,  -999.00,9,  -999.00,9,  -999.00,9,  -999.00,9,     -999,9,   -999.0,9,-999.0000,9,  -999.00,  -999.00,9,2, 20161229,     1112
  320620161224,HAZMAT,     5,  1,     13,     13,2,20161229,1111,-63.1240, -68.9860, 3800,     33.1,   0.4838,9,-999.0000,  33.6925,2,-999.0000,9,    354.6,2,   -999.0,9,  -999.00,9,  -999.00,9,  -999.00,9,  -999.00,9,     -999,9,   -999.0,9,-999.0000,9,  -999.00,  -999.00,9,9, 20161229,     1113
  320620161224,HAZMAT,     5,  1,     19,     19,2,20161229,1111,-63.1240, -68.9860, 3800,      6.5,   1.6865,9,-999.0000,  33.6638,2,-999.0000,9,    348.1,2,   -999.0,9,  -999.00,9,  -999.00,9,  -999.00,9,  -999.00,9,     -999,9,   -999.0,9,-999.0000,9,  -999.00,  -999.00,9,9, 20161229,     1114
  320620161224,HAZMAT,     5,  1,     18,     18,2,20161229,1111,-63.1240, -68.9860, 3800,      5.6,   1.6960,9,-999.0000,  33.6638,2,-999.0000,9,    348.1,2,   -999.0,9,  -999.00,9,  -999.00,9,  -999.00,9,  -999.00,9,     -999,9,   -999.0,9,-999.0000,9,  -999.00,  -999.00,9,9, 20161229,     1114
  320620161224,HAZMAT,     5,  1,     22,     22,2,20161229,1111,-63.1240, -68.9860, 3800,      5.8,   1.7262,9,-999.0000,  33.6638,2,-999.0000,9,    348.1,2,   -999.0,9,  -999.00,9,  -999.00,9,  -999.00,9,  -999.00,9,     -999,9,   -999.0,9,-999.0000,9,  -999.00,  -999.00,9,9, 20161229,     1114
  320620161224,HAZMAT,     5,  1,     20,     20,2,20161229,1111,-63.1240, -68.9860, 3800,      5.8,   1.6978,2,   1.7007,  33.6638,2,-999.0000,9,    348.1,2,   -999.0,9,  -999.00,9,  -999.00,9,  -999.00,9,  -999.00,9,     -999,9,   -999.0,9,-999.0000,9,  -999.00,  -999.00,9,2, 20161229,     1114
  320620161224,HAZMAT,     5,  1,     21,     21,2,20161229,1111,-63.1240, -68.9860, 3800,      5.3,   1.7032,9,-999.0000,  33.6638,2,-999.0000,9,    348.1,2,   -999.0,9,    16.10,2,    21.72,2,     0.34,2,     1.46,2,     0.35,2,   -999.0,9,-999.0000,9,  -999.00,     0.28,2,9, 20161229,     1114
  320620161224,HAZMAT,     5,  1,     17,     17,2,20161229,1111,-63.1240, -68.9860, 3800,      4.2,   1.7044,2,   1.6967,  33.6638,2,-999.0000,9,    348.1,2,   -999.0,9,  -999.00,9,  -999.00,9,  -999.00,9,  -999.00,9,     -999,9,   -999.0,9,-999.0000,9,  -999.00,  -999.00,9,2, 20161229,     1114