BOTTLE,20190617PRINUNIVRMK
EXPOCODE,SECT_ID,STNNBR,CASTNO,SAMPNO,BTLNBR,BTLNBR_FLAG_W,DATE,TIME,LATITUDE,LONGITUDE,DEPTH,CTDPRS,CTDTMP,SBE35_FLAG_W,REFTMP,CTDSAL,CTDSAL_FLAG_W,SALNTY,SALNTY_FLAG_W,CTDOXY,CTDOXY_FLAG_W,OXYGEN,OXYGEN_FLAG_W,SILCAT,SILCAT_FLAG_W,NITRAT,NITRAT_FLAG_W,NITRIT,NITRIT_FLAG_W,PHSPHT,PHSPHT_FLAG_W,NH4,NH4_FLAG_W,ALKALI,ALKALI_FLAG_W,PH_TOT,PH_TOT_FLAG_W,PH_TMP,CHLORA,CHLORA_FLAG_W,SBE35_FLAG_W,BTL_DATE,BTL_TIME
,,,,,,,,,,,METERS,DBAR,ITS-90,,,PSS-78,,PSS-78,,UMOL/KG,,UMOL/KG,,UMOL/KG,,UMOL/KG,,UMOL/KG,,UMOL/KG,,UMOL/KG,,UMOL/KG,,,,DEG C,UG/KG,,,,
  320620161224,HAZMAT,    25,  1,      1,      1,2,20170113,0940,-77.2771,-160.3612,  410,     26.0,  -0.2784,9,-999.0000,  34.0994,2,-999.0000,9,    384.9,2,   -999.0,9,  -999.00,9,  -999.00,9,  -999.00,9,  -999.00,9,     -999,9,   -999.0,9,-999.0000,9,  -999.00,  -999.00,9,9, 20170113,      940
  320620161224,HAZMAT,    25,  1,      4,      4,2,20170113,0940,-77.2771,-160.3612,  410,     26.0,  -0.2790,2,  -0.2805,  34.0994,2,-999.0000,9,    384.9,2,   -999.0,9,  -999.00,9,  -999.00,9,  -999.00,9,  -999.00,9,     -999,9,   -999.0,9,-999.0000,9,  -999.00,     2.09,2,2, 20170113,      940
  320620161224,HAZMAT,    25,  1,      8,      8,2,20170113,0940,-77.2771,-160.3612,  410,     25.7,  -0.2814,9,-999.0000,  34.0994,2,-999.0000,9,    384.9,2,   -999.0,9,  -999.00,9,  -999.00,9,  -999.00,9,  -999.00,9,     -999,9,   -999.0,9,-999.0000,9,  -999.00,  -999.00,9,9, 20170113,      940
  320620161224,HAZMAT,    25,  1,      5,      5,2,20170113,0940,-77.2771,-160.3612,  410,     25.7,  -0.2803,9,-999.0000,  34.0994,2,-999.0000,9,    384.9,2,   -999.0,9,  -999.00,9,  -999.00,9,  -999.00,9,  -999.00,9,     -999,9,   -999.0,9,-999.0000,9,  -999.00,  -999.00,9,9, 20170113,      940
  320620161224,HAZMAT,    25,  1,      2,      2,2,20170113,0940,-77.2771,-160.3612,  410,     25.7,  -0.2798,9,-999.0000,  34.0994,2,-999.0000,9,    384.9,2,   -999.0,9,  -999.00,9,  -999.00,9,  -999.00,9,  -999.00,9,     -999,9,   -999.0,9,-999.0000,9,  -999.00,  -999.00,9,9, 20170113,      940
  320620161224,HAZMAT,    25,  1,      9,      9,2,20170113,0940,-77.2771,-160.3612,  410,     25.6,  -0.2809,9,-999.0000,  34.0994,2,-999.0000,9,    384.9,2,   -999.0,9,  -999.00,9,  -999.00,9,  -999.00,9,  -999.00,9,     -999,9,   -999.0,9,-999.0000,9,  -999.00,  -999.00,9,9, 20170113,      940
  320620161224,HAZMAT,    25,  1,      3,      3,2,20170113,0940,-77.2771,-160.3612,  410,     25.4,  -0.2822,9,-999.0000,  34.0994,2,-999.0000,9,    384.9,2,   -999.0,9,    73.50,2,    16.23,2,     0.06,2,     1.19,2,     0.34,2,   -999.0,9,-999.0000,9,  -999.00,  -999.00,9,9, 20170113,      940
  320620161224,HAZMAT,    25,  1,      7,      7,2,20170113,0940,-77.2771,-160.3612,  410,     25.4,  -0.2819,2,  -0.2808,  34.0994,2,-999.0000,9,    384.9,2,   -999.0,9,  -999.00,9,  -999.00,9,  -999.00,9,  -999.00,9,     -999,9,   -999.0,9,-999.0000,9,  -999.00,  -999.00,9,2, 20170113,      940
  320620161224,HAZMAT,    25,  1,      6,      6,2,20170113,0940,-77.2771,-160.3612,  410,     25.3,  -0.2823,9,-999.0000,  34.0994,2,-999.0000,9,    384.9,2,   -999.0,9,  -999.00,9,  -999.00,9,  -999.00,9,  -999.00,9,     -999,9,   -999.0,9,-999.0000,9,  -999.00,  -999.00,9,9, 20170113,      940
  320620161224,HAZMAT,    25,  1,     14,     14,2,20170113,0940,-77.2771,-160.3612,  410,      4.4,  -0.2808,2,  -0.2812,  34.0984,2,-999.0000,9,    384.8,2,   -999.0,9,  -999.00,9,  -999.00,9,  -999.00,9,  -999.00,9,     -999,9,   -999.0,9,-999.0000,9,  -999.00,  -999.00,9,2, 20170113,      941
  320620161224,HAZMAT,    25,  1,     10,     10,2,20170113,0940,-77.2771,-160.3612,  410,      4.2,  -0.2801,2,  -0.2810,  34.0984,2,-999.0000,9,    384.8,2,   -999.0,9,  -999.00,9,  -999.00,9,  -999.00,9,  -999.00,9,     -999,9,   -999.0,9,-999.0000,9,  -999.00,  -999.00,9,2, 20170113,      941
  320620161224,HAZMAT,    25,  1,     18,     18,2,20170113,0940,-77.2771,-160.3612,  410,      4.2,  -0.2813,2,  -0.2817,  34.0984,2,-999.0000,9,    384.8,2,   -999.0,9,  -999.00,9,  -999.00,9,  -999.00,9,  -999.00,9,     -999,9,   -999.0,9,-999.0000,9,  -999.00,  -999.00,9,2, 20170113,      941
  320620161224,HAZMAT,    25,  1,     17,     17,2,20170113,0940,-77.2771,-160.3612,  410,      4.0,  -0.2812,9,-999.0000,  34.0983,2,-999.0000,9,    384.8,2,   -999.0,9,  -999.00,9,  -999.00,9,  -999.00,9,  -999.00,9,     -999,9,   -999.0,9,-999.0000,9,  -999.00,  -999.00,9,9, 20170113,      941
  320620161224,HAZMAT,    25,  1,     13,     13,2,20170113,0940,-77.2771,-160.3612,  410,      4.0,  -0.2807,9,-999.0000,  34.0983,2,-999.0000,9,    384.8,2,   -999.0,9,  -999.00,9,  -999.00,9,  -999.00,9,  -999.00,9,     -999,9,   -999.0,9,-999.0000,9,  -999.00,  -999.00,9,9, 20170113,      941
  320620161224,HAZMAT,    25,  1,     15,     15,2,20170113,0940,-77.2771,-160.3612,  410,      4.1,  -0.2809,9,-999.0000,  34.0984,2,-999.0000,9,    384.8,2,   -999.0,9,  -999.00,9,  -999.00,9,  -999.00,9,  -999.00,9,     -999,9,   -999.0,9,-999.0000,9,  -999.00,  -999.00,9,9, 20170113,      941
  320620161224,HAZMAT,    25,  1,     11,     11,2,20170113,0940,-77.2771,-160.3612,  410,      4.0,  -0.2805,9,-999.0000,  34.0983,2,-999.0000,9,    384.8,2,   -999.0,9,  -999.00,9,  -999.00,9,  -999.00,9,  -999.00,9,     -999,9,   -999.0,9,-999.0000,9,  -999.00,  -999.00,9,9, 20170113,      941
  320620161224,HAZMAT,    25,  1,     16,     16,2,20170113,0940,-77.2771,-160.3612,  410,      3.7,  -0.2811,9,-999.0000,  34.0983,2,-999.0000,9,    384.8,2,   -999.0,9,    73.60,2,    16.13,2,     0.06,2,     1.21,2,     0.33,2,   -999.0,9,-999.0000,9,  -999.00,     2.09,2,9, 20170113,      941
  320620161224,HAZMAT,    25,  1,     12,     12,2,20170113,0940,-77.2771,-160.3612,  410,      3.6,  -0.2807,9,-999.0000,  34.0983,2,-999.0000,9,    384.8,2,   -999.0,9,  -999.00,9,  -999.00,9,  -999.00,9,  -999.00,9,     -999,9,   -999.0,9,-999.0000,9,  -999.00,  -999.00,9,9, 20170113,      941
  320620161224,HAZMAT,    26,  1,      2,      2,2,20170113,2144,-75.6555,-165.7114, 2575,     26.0,  -0.9273,9,-999.0000,  33.9995,2,-999.0000,9,    346.5,2,   -999.0,9,  -999.00,9,  -999.00,9,  -999.00,9,  -999.00,9,     -999,9,   -999.0,9,-999.0000,9,  -999.00,  -999.00,9,9, 20170113,     2144
  320620161224,HAZMAT,    26,  1,      5,      5,2,20170113,2144,-75.6555,-165.7114, 2575,     25.8,  -0.9616,2,  -0.9431,  33.9964,2,-999.0000,9,    347.0,2,   -999.0,9,  -999.00,9,  -999.00,9,  -999.00,9,  -999.00,9,     -999,9,   -999.0,9,-999.0000,9,  -999.00,     4.20,2,2, 20170113,     2144
  320620161224,HAZMAT,    26,  1,      4,      4,2,20170113,2144,-75.6555,-165.7114, 2575,     25.7,  -0.9594,9,-999.0000,  33.9946,2,-999.0000,9,    347.4,2,   -999.0,9,  -999.00,9,  -999.00,9,  -999.00,9,  -999.00,9,     -999,9,   -999.0,9,-999.0000,9,  -999.00,  -999.00,9,9, 20170113,     2144
  320620161224,HAZMAT,    26,  1,      7,      7,2,20170113,2144,-75.6555,-165.7114, 2575,     25.8,  -0.9284,2,  -0.9295,  33.9959,2,-999.0000,9,    347.1,2,   -999.0,9,  -999.00,9,  -999.00,9,  -999.00,9,  -999.00,9,     -999,9,   -999.0,9,-999.0000,9,  -999.00,  -999.00,9,2, 20170113,     2144
  320620161224,HAZMAT,    26,  1,      1,      1,2,20170113,2144,-75.6555,-165.7114, 2575,     25.6,  -0.9420,9,-999.0000,  33.9918,2,-999.0000,9,    347.9,2,   -999.0,9,  -999.00,9,  -999.00,9,  -999.00,9,  -999.00,9,     -999,9,   -999.0,9,-999.0000,9,  -999.00,  -999.00,9,9, 20170113,     2144
  320620161224,HAZMAT,    26,  1,      6,      6,2,20170113,2144,-75.6555,-165.7114, 2575,     25.5,  -0.9299,9,-999.0000,  33.9907,2,-999.0000,9,    348.0,2,   -999.0,9,  -999.00,9,  -999.00,9,  -999.00,9,  -999.00,9,     -999,9,   -999.0,9,-999.0000,9,  -999.00,  -999.00,9,9, 20170113,     2144
  320620161224,HAZMAT,    26,  1,      3,      3,2,20170113,2144,-75.6555,-165.7114, 2575,     25.4,  -0.9397,2,  -0.9492,  33.9889,2,-999.0000,9,    348.4,2,   -999.0,9,  -999.00,9,  -999.00,9,  -999.00,9,  -999.00,9,     -999,9,   -999.0,9,-999.0000,9,  -999.00,  -999.00,9,2, 20170113,     2144
  320620161224,HAZMAT,    26,  1,      9,      9,2,20170113,2144,-75.6555,-165.7114, 2575,      7.7,  -0.7083,9,-999.0000,  33.8692,2,-999.0000,9,    366.6,2,   -999.0,9,  -999.00,9,  -999.00,9,  -999.00,9,  -999.00,9,     -999,9,   -999.0,9,-999.0000,9,  -999.00,  -999.00,9,9, 20170113,     2145
  320620161224,HAZMAT,    26,  1,     14,     14,2,20170113,2144,-75.6555,-165.7114, 2575,      7.5,  -0.7190,9,-999.0000,  33.8693,2,-999.0000,9,    366.5,2,   -999.0,9,  -999.00,9,  -999.00,9,  -999.00,9,  -999.00,9,     -999,9,   -999.0,9,-999.0000,9,  -999.00,     4.14,2,9, 20170113,     2146
  320620161224,HAZMAT,    26,  1,     12,     12,2,20170113,2144,-75.6555,-165.7114, 2575,      7.5,  -0.7141,2,  -0.7154,  33.8693,2,-999.0000,9,    366.5,2,   -999.0,9,  -999.00,9,  -999.00,9,  -999.00,9,  -999.00,9,     -999,9,   -999.0,9,-999.0000,9,  -999.00,  -999.00,9,2, 20170113,     2146
  320620161224,HAZMAT,    26,  1,     11,     11,2,20170113,2144,-75.6555,-165.7114, 2575,      7.4,  -0.7119,9,-999.0000,  33.8694,2,-999.0000,9,    366.5,2,   -999.0,9,  -999.00,9,  -999.00,9,  -999.00,9,  -999.00,9,     -999,9,   -999.0,9,-999.0000,9,  -999.00,  -999.00,9,9, 20170113,     2146
  320620161224,HAZMAT,    26,  1,     13,     13,2,20170113,2144,-75.6555,-165.7114, 2575,      7.3,  -0.7172,2,  -0.7186,  33.8694,2,-999.0000,9,    366.5,2,   -999.0,9,  -999.00,9,  -999.00,9,  -999.00,9,  -999.00,9,     -999,9,   -999.0,9,-999.0000,9,  -999.00,  -999.00,9,2, 20170113,     2146
  320620161224,HAZMAT,    26,  1,     10,     10,2,20170113,2144,-75.6555,-165.7114, 2575,      7.3,  -0.7103,2,  -0.7121,  33.8694,2,-999.0000,9,    366.5,2,   -999.0,9,  -999.00,9,  -999.00,9,  -999.00,9,  -999.00,9,     -999,9,   -999.0,9,-999.0000,9,  -999.00,  -999.00,9,2, 20170113,     2145
  320620161224,HAZMAT,    26,  1,      8,      8,2,20170113,2144,-75.6555,-165.7114, 2575,      7.2,  -0.7111,2,  -0.7120,  33.8695,2,-999.0000,9,    366.5,2,   -999.0,9,  -999.00,9,  -999.00,9,  -999.00,9,  -999.00,9,     -999,9,   -999.0,9,-999.0000,9,  -999.00,  -999.00,9,2, 20170113,     2145
  320620161224,HAZMAT,    26,  2,      1,      1,2,20170113,2314,-75.6555,-165.7114, 2575,   2555.3,   0.4706,9,-999.0000,  34.7071,2,  34.7054,2,    193.7,2,    207.0,2,   134.60,2,    32.59,2,     0.00,2,     2.28,2,        0,2,   2364.0,6,   7.5884,6,    25.00,  -999.00,9,9, 20170113,     2314
  320620161224,HAZMAT,    26,  2,      2,      2,2,20170113,2314,-75.6555,-165.7114, 2575,   2337.6,   0.5362,2,   0.5360,  34.7084,2,  34.7069,2,    193.7,2,    207.0,2,   131.00,2,    32.41,2,     0.00,2,     2.26,2,        0,2,   -999.0,9,-999.0000,9,  -999.00,  -999.00,9,2, 20170113,     2319
  320620161224,HAZMAT,    26,  2,      3,      3,2,20170113,2314,-75.6555,-165.7114, 2575,   2132.9,   0.5634,2,   0.5632,  34.7084,2,  34.7063,2,    193.8,2,    206.3,2,   129.60,2,    32.36,2,     0.00,2,     2.25,2,        0,2,   -999.0,9,-999.0000,9,  -999.00,  -999.00,9,2, 20170113,     2324
  320620161224,HAZMAT,    26,  2,      4,      4,2,20170113,2314,-75.6555,-165.7114, 2575,   1928.7,   0.6051,2,   0.6051,  34.7092,2,  34.7079,2,    193.7,2,    204.9,2,   128.10,2,    32.26,2,     0.00,2,     2.24,2,        0,2,   2362.0,2,   7.5920,2,    25.00,  -999.00,9,2, 20170113,     2329
  320620161224,HAZMAT,    26,  2,      5,      5,2,20170113,2314,-75.6555,-165.7114, 2575,   1726.1,   0.6535,2,   0.6534,  34.7099,2,  34.7093,2,    193.7,2,    204.1,2,   126.10,2,    32.20,2,     0.00,2,     2.25,2,        0,2,   -999.0,9,-999.0000,9,  -999.00,  -999.00,9,2, 20170113,     2334
  320620161224,HAZMAT,    26,  2,      6,      6,2,20170113,2314,-75.6555,-165.7114, 2575,   1522.3,   0.7105,2,   0.7104,  34.7112,2,  34.7106,2,    193.1,2,    202.8,2,   124.20,2,    32.17,2,     0.00,2,     2.24,2,        0,2,   2361.5,2,   7.5927,2,    25.00,  -999.00,9,2, 20170113,     2339
  320620161224,HAZMAT,    26,  2,      7,      7,2,20170113,2314,-75.6555,-165.7114, 2575,   1318.8,   0.7713,2,   0.7709,  34.7130,2,  34.7126,2,    192.4,2,    201.4,2,   122.10,2,    32.12,2,     0.00,2,     2.24,2,        0,2,   -999.0,9,-999.0000,9,  -999.00,  -999.00,9,2, 20170113,     2343
  320620161224,HAZMAT,    26,  2,      8,      8,2,20170113,2314,-75.6555,-165.7114, 2575,   1114.9,   0.8418,2,   0.8421,  34.7154,2,  34.7123,2,    191.4,2,    201.4,2,   121.40,2,    32.09,2,     0.00,2,     2.26,2,        0,2,   -999.0,9,-999.0000,9,  -999.00,  -999.00,9,2, 20170113,     2348
  320620161224,HAZMAT,    26,  2,      9,      9,2,20170113,2314,-75.6555,-165.7114, 2575,    911.4,   0.9500,2,   0.9497,  34.7177,2,  34.7228,2,    190.4,2,    196.6,2,   116.10,2,    32.04,2,     0.00,2,     2.23,2,        0,2,   2355.5,2,   7.5748,2,    25.00,  -999.00,9,2, 20170113,     2353
  320620161224,HAZMAT,    26,  2,     10,     10,2,20170113,2314,-75.6555,-165.7114, 2575,    810.6,   0.9991,2,   0.9989,  34.7189,2,  34.7210,2,    189.7,2,    195.3,2,   114.80,2,    32.03,2,     0.00,2,     2.24,2,        0,2,   -999.0,9,-999.0000,9,  -999.00,  -999.00,9,2, 20170113,     2356
  320620161224,HAZMAT,    26,  2,     11,     11,2,20170113,2314,-75.6555,-165.7114, 2575,    708.5,   1.0599,2,   1.0597,  34.7208,2,  34.7221,2,    188.6,2,    193.8,2,   112.50,2,    31.97,2,     0.00,2,     2.23,2,        0,2,   2358.0,2,   7.5868,2,    25.00,  -999.00,9,2, 20170113,     2359
  320620161224,HAZMAT,    26,  2,     12,     12,2,20170113,2314,-75.6555,-165.7114, 2575,    606.4,   1.1641,2,   1.1638,  34.7230,2,  34.7238,2,    185.9,2,    190.8,2,   109.30,2,    32.06,2,     0.00,2,     2.24,2,        0,2,   -999.0,9,-999.0000,9,  -999.00,  -999.00,9,2, 20170114,        3
  320620161224,HAZMAT,    26,  2,     13,     13,2,20170113,2314,-75.6555,-165.7114, 2575,    507.2,   1.2851,2,   1.2852,  34.7150,2,  34.7067,2,    182.7,2,    187.7,2,   101.10,2,    32.09,2,     0.00,2,     2.24,2,        0,2,   2351.4,2,   7.5750,2,    25.00,  -999.00,9,2, 20170114,        6
  320620161224,HAZMAT,    26,  2,     14,     14,2,20170113,2314,-75.6555,-165.7114, 2575,    405.0,   0.6067,2,   0.6058,  34.5777,2,  34.5794,2,    206.0,2,    208.1,2,    88.80,2,    32.07,2,     0.00,2,     2.25,2,        0,2,   -999.0,9,-999.0000,9,  -999.00,  -999.00,9,2, 20170114,        9
  320620161224,HAZMAT,    26,  2,     15,     15,2,20170113,2314,-75.6555,-165.7114, 2575,    355.4,   0.2797,2,   0.2828,  34.5140,2,  34.5229,2,    213.8,2,    217.9,2,    86.00,2,    31.95,2,     0.00,2,     2.24,2,        0,2,   2333.8,2,   7.5649,2,    25.00,  -999.00,9,2, 20170114,       11
  320620161224,HAZMAT,    26,  2,     16,     16,2,20170113,2314,-75.6555,-165.7114, 2575,    303.3,  -0.2019,2,  -0.2043,  34.4302,2,  34.4494,2,    229.1,2,    233.1,2,    83.20,2,    31.54,2,     0.00,2,     2.22,2,        0,2,   -999.0,9,-999.0000,9,  -999.00,  -999.00,9,2, 20170114,       13
  320620161224,HAZMAT,    26,  2,     17,     17,2,20170113,2314,-75.6555,-165.7114, 2575,    253.2,  -0.3837,2,  -0.3880,  34.3782,2,  34.3948,2,    236.1,2,    235.6,2,    80.60,2,    31.44,2,     0.00,2,     2.21,2,        0,2,   2325.8,2,   7.5708,2,    25.00,  -999.00,9,2, 20170114,       15
  320620161224,HAZMAT,    26,  2,     18,     18,2,20170113,2314,-75.6555,-165.7114, 2575,    202.7,  -1.3536,2,  -1.3536,  34.3102,2,  34.3026,2,    262.0,2,    267.8,2,    76.00,2,    30.34,2,     0.04,2,     2.14,2,        0,2,   -999.0,9,-999.0000,9,  -999.00,  -999.00,9,2, 20170114,       17
  320620161224,HAZMAT,    26,  2,     19,     19,2,20170113,2314,-75.6555,-165.7114, 2575,    152.2,  -1.7205,2,  -1.7171,  34.2439,2,  34.2474,2,    274.4,2,    277.5,2,    74.10,2,    29.95,2,     0.07,2,     2.10,2,        0,2,   2316.8,2,   7.5987,2,    25.00,  -999.00,9,2, 20170114,       19
  320620161224,HAZMAT,    26,  2,     20,     20,2,20170113,2314,-75.6555,-165.7114, 2575,    101.2,  -1.7843,2,  -1.7847,  34.2332,2,  34.2336,2,    273.6,2,    279.7,2,    76.30,2,    29.97,2,     0.03,2,     2.11,2,        0,2,   -999.0,9,-999.0000,9,  -999.00,  -999.00,9,2, 20170114,       21
  320620161224,HAZMAT,    26,  2,     21,     21,2,20170113,2314,-75.6555,-165.7114, 2575,     76.2,  -1.7604,2,  -1.7610,  34.2307,2,  34.2284,2,    276.8,2,    282.8,2,    74.20,2,    29.38,2,     0.11,2,     2.10,2,     0.14,2,   2316.8,2,   7.6038,2,    25.00,  -999.00,9,2, 20170114,       23
  320620161224,HAZMAT,    26,  2,     22,     22,2,20170113,2314,-75.6555,-165.7114, 2575,     50.5,  -1.6685,2,  -1.6683,  34.2023,2,  34.1812,2,    296.7,2,    299.1,2,    72.30,2,    27.93,2,     0.05,2,     2.00,2,     0.31,2,   2314.2,2,   7.6377,2,    25.00,  -999.00,9,2, 20170114,       25
  320620161224,HAZMAT,    26,  2,     23,     23,2,20170113,2314,-75.6555,-165.7114, 2575,     25.8,  -1.3280,2,  -1.3326,  33.9965,2,  34.0529,2,    347.0,2,    330.9,2,    71.60,2,    25.20,2,     0.04,2,     1.81,2,     0.26,2,   2309.5,2,   7.6765,2,    25.00,  -999.00,9,2, 20170114,       26
  320620161224,HAZMAT,    26,  2,     24,     24,2,20170113,2314,-75.6555,-165.7114, 2575,     10.7,  -0.7771,2,  -0.7678,  33.8695,2,  33.8885,2,    366.7,2,    347.3,2,    72.50,2,    20.74,2,     0.04,2,     1.49,2,     0.04,2,   2304.0,2,   7.7872,2,    25.00,  -999.00,9,2, 20170114,       28