BOTTLE,20190617PRINUNIVRMK
EXPOCODE,SECT_ID,STNNBR,CASTNO,SAMPNO,BTLNBR,BTLNBR_FLAG_W,DATE,TIME,LATITUDE,LONGITUDE,DEPTH,CTDPRS,CTDTMP,SBE35_FLAG_W,REFTMP,CTDSAL,CTDSAL_FLAG_W,SALNTY,SALNTY_FLAG_W,CTDOXY,CTDOXY_FLAG_W,OXYGEN,OXYGEN_FLAG_W,SILCAT,SILCAT_FLAG_W,NITRAT,NITRAT_FLAG_W,NITRIT,NITRIT_FLAG_W,PHSPHT,PHSPHT_FLAG_W,NH4,NH4_FLAG_W,ALKALI,ALKALI_FLAG_W,PH_TOT,PH_TOT_FLAG_W,PH_TMP,CHLORA,CHLORA_FLAG_W,SBE35_FLAG_W,BTL_DATE,BTL_TIME
,,,,,,,,,,,METERS,DBAR,ITS-90,,,PSS-78,,PSS-78,,UMOL/KG,,UMOL/KG,,UMOL/KG,,UMOL/KG,,UMOL/KG,,UMOL/KG,,UMOL/KG,,UMOL/KG,,,,DEG C,UG/KG,,,,
  320620161224,HAZMAT,     6,  1,      2,      2,2,20161229,1824,-64.1808, -69.0990, 3300,     65.4,  -0.4012,2,  -0.4000,  33.9631,2,-999.0000,9,    348.8,2,   -999.0,9,  -999.00,9,  -999.00,9,  -999.00,9,  -999.00,9,     -999,9,   -999.0,9,-999.0000,9,  -999.00,  -999.00,9,2, 20161229,     1824
  320620161224,HAZMAT,     6,  1,      1,      1,2,20161229,1824,-64.1808, -69.0990, 3300,     65.3,  -0.3830,9,-999.0000,  33.9627,2,-999.0000,9,    348.8,2,   -999.0,9,  -999.00,9,  -999.00,9,  -999.00,9,  -999.00,9,     -999,9,   -999.0,9,-999.0000,9,  -999.00,  -999.00,9,9, 20161229,     1824
  320620161224,HAZMAT,     6,  1,      4,      4,2,20161229,1824,-64.1808, -69.0990, 3300,     41.1,   0.9603,9,-999.0000,  33.9053,2,-999.0000,9,    348.0,2,   -999.0,9,  -999.00,9,  -999.00,9,  -999.00,9,  -999.00,9,     -999,9,   -999.0,9,-999.0000,9,  -999.00,  -999.00,9,9, 20161229,     1826
  320620161224,HAZMAT,     6,  1,      7,      7,2,20161229,1824,-64.1808, -69.0990, 3300,     40.9,   0.9697,2,   0.9705,  33.9051,2,-999.0000,9,    347.9,2,   -999.0,9,  -999.00,9,  -999.00,9,  -999.00,9,  -999.00,9,     -999,9,   -999.0,9,-999.0000,9,  -999.00,     0.44,2,2, 20161229,     1826
  320620161224,HAZMAT,     6,  1,      6,      6,2,20161229,1824,-64.1808, -69.0990, 3300,     40.4,   0.9288,9,-999.0000,  33.9049,2,-999.0000,9,    347.9,2,   -999.0,9,  -999.00,9,  -999.00,9,  -999.00,9,  -999.00,9,     -999,9,   -999.0,9,-999.0000,9,  -999.00,  -999.00,9,9, 20161229,     1826
  320620161224,HAZMAT,     6,  1,      8,      8,2,20161229,1824,-64.1808, -69.0990, 3300,     40.5,   0.9716,9,-999.0000,  33.9049,2,-999.0000,9,    347.9,2,   -999.0,9,  -999.00,9,  -999.00,9,  -999.00,9,  -999.00,9,     -999,9,   -999.0,9,-999.0000,9,  -999.00,  -999.00,9,9, 20161229,     1826
  320620161224,HAZMAT,     6,  1,      9,      9,2,20161229,1824,-64.1808, -69.0990, 3300,     40.2,   0.9660,2,   0.9683,  33.9048,2,-999.0000,9,    347.9,2,   -999.0,9,  -999.00,9,  -999.00,9,  -999.00,9,  -999.00,9,     -999,9,   -999.0,9,-999.0000,9,  -999.00,  -999.00,9,2, 20161229,     1826
  320620161224,HAZMAT,     6,  1,      3,      3,2,20161229,1824,-64.1808, -69.0990, 3300,     40.2,   0.8992,2,   0.9443,  33.9048,2,-999.0000,9,    347.9,2,   -999.0,9,  -999.00,9,  -999.00,9,  -999.00,9,  -999.00,9,     -999,9,   -999.0,9,-999.0000,9,  -999.00,  -999.00,9,2, 20161229,     1826
  320620161224,HAZMAT,     6,  1,      5,      5,2,20161229,1824,-64.1808, -69.0990, 3300,     40.2,   0.8897,2,   0.8897,  33.9048,2,-999.0000,9,    347.9,2,   -999.0,9,  -999.00,9,  -999.00,9,  -999.00,9,  -999.00,9,     -999,9,   -999.0,9,-999.0000,9,  -999.00,  -999.00,9,2, 20161229,     1826
  320620161224,HAZMAT,     6,  1,     11,     11,2,20161229,1824,-64.1808, -69.0990, 3300,      4.2,   1.1481,9,-999.0000,  33.9017,2,-999.0000,9,    346.2,2,   -999.0,9,  -999.00,9,  -999.00,9,  -999.00,9,  -999.00,9,     -999,9,   -999.0,9,-999.0000,9,  -999.00,  -999.00,9,9, 20161229,     1828
  320620161224,HAZMAT,     6,  1,     16,     16,2,20161229,1824,-64.1808, -69.0990, 3300,      4.2,   1.1504,2,   1.1519,  33.9017,2,-999.0000,9,    346.2,2,   -999.0,9,  -999.00,9,  -999.00,9,  -999.00,9,  -999.00,9,     -999,9,   -999.0,9,-999.0000,9,  -999.00,  -999.00,9,2, 20161229,     1828
  320620161224,HAZMAT,     6,  1,     13,     13,2,20161229,1824,-64.1808, -69.0990, 3300,      4.1,   1.1481,9,-999.0000,  33.9017,2,-999.0000,9,    346.2,2,   -999.0,9,  -999.00,9,  -999.00,9,  -999.00,9,  -999.00,9,     -999,9,   -999.0,9,-999.0000,9,  -999.00,  -999.00,9,9, 20161229,     1828
  320620161224,HAZMAT,     6,  1,     15,     15,2,20161229,1824,-64.1808, -69.0990, 3300,      4.0,   1.1489,9,-999.0000,  33.9017,2,-999.0000,9,    346.2,2,   -999.0,9,  -999.00,9,  -999.00,9,  -999.00,9,  -999.00,9,     -999,9,   -999.0,9,-999.0000,9,  -999.00,     0.48,2,9, 20161229,     1828
  320620161224,HAZMAT,     6,  1,     10,     10,2,20161229,1824,-64.1808, -69.0990, 3300,      3.8,   1.1446,2,   1.1458,  33.9018,2,-999.0000,9,    346.2,2,   -999.0,9,  -999.00,9,  -999.00,9,  -999.00,9,  -999.00,9,     -999,9,   -999.0,9,-999.0000,9,  -999.00,  -999.00,9,2, 20161229,     1828
  320620161224,HAZMAT,     6,  1,     14,     14,2,20161229,1824,-64.1808, -69.0990, 3300,      3.9,   1.1476,2,   1.1474,  33.9018,2,-999.0000,9,    346.2,2,   -999.0,9,  -999.00,9,  -999.00,9,  -999.00,9,  -999.00,9,     -999,9,   -999.0,9,-999.0000,9,  -999.00,  -999.00,9,2, 20161229,     1828
  320620161224,HAZMAT,     6,  1,     12,     12,2,20161229,1824,-64.1808, -69.0990, 3300,      3.7,   1.1469,2,   1.1468,  33.9019,2,-999.0000,9,    346.2,2,   -999.0,9,  -999.00,9,  -999.00,9,  -999.00,9,  -999.00,9,     -999,9,   -999.0,9,-999.0000,9,  -999.00,  -999.00,9,2, 20161229,     1828
  320620161224,HAZMAT,     6,  2,      1,      1,2,20161229,2009,-64.1808, -69.0990, 3300,   3316.0,   0.4378,9,-999.0000,  34.7018,2,  34.7018,2,    210.0,2,    209.5,2,   140.70,2,    32.11,2,     0.00,2,     2.26,2,        0,2,   2365.3,2,   7.5925,2,    25.00,  -999.00,9,9, 20161229,     2009
  320620161224,HAZMAT,     6,  2,      2,      2,2,20161229,2009,-64.1808, -69.0990, 3300,   3052.0,   0.4658,2,   0.4657,  34.7016,2,  34.7027,2,    210.0,2,    209.6,2,   136.10,2,    31.99,2,     0.00,2,     2.26,2,        0,2,   2364.5,6,   7.5942,6,    25.00,  -999.00,9,2, 20161229,     2014
  320620161224,HAZMAT,     6,  2,      3,      3,2,20161229,2009,-64.1808, -69.0990, 3300,   2744.6,   0.4881,2,   0.4880,  34.6994,2,  34.7004,2,    209.9,2,    209.4,2,   132.50,2,    31.92,2,     0.00,2,     2.24,2,        0,2,   2359.4,2,   7.5794,3,    25.00,  -999.00,9,2, 20161229,     2021
  320620161224,HAZMAT,     6,  2,      4,      4,2,20161229,2009,-64.1808, -69.0990, 3300,   2436.7,   0.5886,2,   0.5883,  34.7036,2,  34.7051,2,    207.4,2,    207.2,2,   129.30,2,    31.92,2,     0.00,2,     2.24,2,        0,2,   2363.3,2,   7.5949,2,    25.00,  -999.00,9,2, 20161229,     2028
  320620161224,HAZMAT,     6,  2,      5,      5,2,20161229,2009,-64.1808, -69.0990, 3300,   2132.0,   0.7281,2,   0.7277,  34.7065,2,  34.7084,2,    204.7,2,    204.5,2,   125.00,2,    32.07,2,     0.00,2,     2.22,2,        0,2,   2362.2,2,   7.5958,2,    25.00,  -999.00,9,2, 20161229,     2034
  320620161224,HAZMAT,     6,  2,      6,      6,2,20161229,2009,-64.1808, -69.0990, 3300,   1826.1,   0.8807,2,   0.8801,  34.7112,2,  34.7141,2,    202.0,2,    201.8,2,   120.20,2,    31.90,2,     0.00,2,     2.20,2,        0,2,   2361.4,2,   7.5963,2,    25.00,  -999.00,9,2, 20161229,     2041
  320620161224,HAZMAT,     6,  2,      7,      7,2,20161229,2009,-64.1808, -69.0990, 3300,   1519.4,   1.0374,2,   1.0372,  34.7168,2,  34.7189,2,    198.7,2,    198.8,2,   114.90,2,    31.36,2,     0.00,2,     2.21,2,        0,2,   2358.8,2,   7.5924,2,    25.00,  -999.00,9,2, 20161229,     2047
  320620161224,HAZMAT,     6,  2,      8,      8,2,20161229,2009,-64.1808, -69.0990, 3300,   1214.3,   1.2320,2,   1.2314,  34.7219,2,  34.7253,2,    195.0,2,    194.8,2,   108.90,2,    31.40,2,     0.00,2,     2.20,2,        0,2,   2358.8,2,   7.5945,2,    25.00,  -999.00,9,2, 20161229,     2054
  320620161224,HAZMAT,     6,  2,      9,      9,2,20161229,2009,-64.1808, -69.0990, 3300,   1012.3,   1.3893,2,   1.3888,  34.7254,2,  34.7254,2,    191.7,2,    191.8,2,   104.00,2,    31.28,2,     0.00,2,     2.20,2,        0,2,   2356.6,2,   7.5928,2,    25.00,  -999.00,9,2, 20161229,     2059
  320620161224,HAZMAT,     6,  2,     10,     10,2,20161229,2009,-64.1808, -69.0990, 3300,    912.1,   1.4932,2,   1.4929,  34.7261,2,  34.7278,2,    190.0,2,    189.7,2,   100.50,2,    31.19,2,     0.00,2,     2.20,2,        0,2,   2354.8,2,   7.5912,2,    25.00,  -999.00,9,2, 20161229,     2102
  320620161224,HAZMAT,     6,  2,     11,     11,2,20161229,2009,-64.1808, -69.0990, 3300,    810.3,   1.6024,2,   1.6017,  34.7258,2,  34.7282,2,    187.7,2,    187.5,2,    97.50,2,    31.18,2,     0.00,2,     2.19,2,        0,2,   2352.8,2,   7.5879,2,    25.00,  -999.00,9,2, 20161229,     2105
  320620161224,HAZMAT,     6,  2,     12,     12,2,20161229,2009,-64.1808, -69.0990, 3300,    707.7,   1.6710,2,   1.6704,  34.7229,2,  34.7235,2,    185.3,2,    184.7,2,    95.80,2,    31.64,2,     0.00,2,     2.22,2,        0,2,   2353.2,2,   7.5853,2,    25.00,  -999.00,9,2, 20161229,     2109
  320620161224,HAZMAT,     6,  2,     13,     13,2,20161229,2009,-64.1808, -69.0990, 3300,    607.5,   1.7632,2,   1.7628,  34.7159,2,  34.7183,2,    182.5,2,    182.5,2,    92.80,2,    31.82,2,     0.00,2,     2.21,2,        0,2,   2350.6,2,   7.5809,2,    25.00,  -999.00,9,2, 20161229,     2112
  320620161224,HAZMAT,     6,  2,     14,     14,2,20161229,2009,-64.1808, -69.0990, 3300,    505.0,   1.8542,2,   1.8537,  34.7037,2,  34.7099,2,    179.5,2,    179.5,2,    89.50,2,    31.59,2,     0.00,2,     2.24,2,        0,2,   2348.8,2,   7.5767,2,    25.00,  -999.00,9,2, 20161229,     2115
  320620161224,HAZMAT,     6,  2,     15,     15,2,20161229,2009,-64.1808, -69.0990, 3300,    404.6,   1.9010,2,   1.8994,  34.6824,2,  34.6885,2,    177.0,2,    176.6,2,    87.50,2,    32.42,2,     0.00,2,     2.25,2,        0,2,   2345.6,2,   7.5643,2,    25.00,  -999.00,9,2, 20161229,     2118
  320620161224,HAZMAT,     6,  2,     16,     16,2,20161229,2009,-64.1808, -69.0990, 3300,    353.3,   1.8828,2,   1.8857,  34.6757,2,  34.6713,2,    175.6,2,    175.5,2,    86.70,2,    32.38,2,     0.00,2,     2.26,2,        0,2,   2344.5,2,   7.5585,2,    25.00,  -999.00,9,2, 20161229,     2121
  320620161224,HAZMAT,     6,  2,     17,     17,2,20161229,2009,-64.1808, -69.0990, 3300,    303.2,   1.8545,2,   1.8540,  34.6377,2,  34.6496,2,    176.2,2,    175.0,2,    85.20,2,    32.71,2,     0.00,2,     2.30,2,        0,2,   2340.6,2,   7.5521,2,    25.00,  -999.00,9,2, 20161229,     2123
  320620161224,HAZMAT,     6,  2,     18,     18,2,20161229,2009,-64.1808, -69.0990, 3300,    253.1,   1.6545,2,   1.6486,  34.6044,2,  34.5947,2,    179.0,2,    178.8,2,    83.60,2,    33.08,2,     0.00,2,     2.32,2,        0,2,   2338.9,2,   7.5459,2,    25.00,  -999.00,9,2, 20161229,     2125
  320620161224,HAZMAT,     6,  2,     19,     19,2,20161229,2009,-64.1808, -69.0990, 3300,    202.9,   1.3218,2,   1.3169,  34.5245,2,  34.5250,2,    193.6,2,    189.6,2,    81.70,2,    33.29,2,     0.00,2,     2.33,2,        0,2,   2331.6,2,   7.5419,2,    25.00,  -999.00,9,2, 20161229,     2127
  320620161224,HAZMAT,     6,  2,     20,     20,2,20161229,2009,-64.1808, -69.0990, 3300,    151.6,   0.3843,2,   0.3696,  34.3406,2,  34.3561,2,    242.1,2,    230.9,2,    76.90,2,    32.47,2,     0.03,2,     2.29,2,        0,2,   2321.5,2,   7.5553,2,    25.00,  -999.00,9,2, 20161229,     2129
  320620161224,HAZMAT,     6,  2,     21,     21,2,20161229,2009,-64.1808, -69.0990, 3300,    100.8,  -0.7126,2,  -0.7212,  34.0866,2,  34.1320,2,    315.1,2,    302.0,2,    68.40,2,    30.25,2,     0.18,2,     2.16,2,     0.45,2,   2309.5,2,   7.5922,2,    25.00,  -999.00,9,2, 20161229,     2132
  320620161224,HAZMAT,     6,  2,     22,     22,2,20161229,2009,-64.1808, -69.0990, 3300,     70.4,  -0.7000,2,  -0.7027,  33.9998,2,  34.0289,2,    347.6,2,    335.1,2,    61.30,2,    28.57,2,     0.16,2,     2.02,2,     0.67,2,   2301.0,2,   7.6267,2,    25.00,  -999.00,9,2, 20161229,     2133
  320620161224,HAZMAT,     6,  2,     23,     23,2,20161229,2009,-64.1808, -69.0990, 3300,     40.7,   1.0786,2,   1.0791,  33.9050,2,  33.9107,2,    347.9,2,    347.0,2,    47.50,2,    24.48,2,     0.21,2,     1.64,2,     0.37,2,   2295.4,2,   7.6958,2,    25.00,  -999.00,9,2, 20161229,     2135
  320620161224,HAZMAT,     6,  2,     24,     24,2,20161229,2009,-64.1808, -69.0990, 3300,      3.7,   1.3935,2,   1.3935,  33.9019,2,  33.9104,2,    346.2,2,    345.7,2,    47.40,2,    24.77,2,     0.22,2,     1.63,2,     0.31,2,   2297.2,6,   7.6980,6,    25.00,  -999.00,9,2, 20161229,     2137
  320620161224,HAZMAT,     7,  1,      5,      5,2,20161230,0754,-65.2355, -66.7787,  483,     42.0,   0.1406,9,-999.0000,  33.8076,2,-999.0000,9,    352.5,2,   -999.0,9,  -999.00,9,  -999.00,9,  -999.00,9,  -999.00,9,     -999,9,   -999.0,9,-999.0000,9,  -999.00,  -999.00,9,9, 20161230,      754
  320620161224,HAZMAT,     7,  1,      4,      4,2,20161230,0754,-65.2355, -66.7787,  483,     41.8,   0.1437,2,   0.1414,  33.8062,2,-999.0000,9,    352.4,2,   -999.0,9,  -999.00,9,  -999.00,9,  -999.00,9,  -999.00,9,     -999,9,   -999.0,9,-999.0000,9,  -999.00,  -999.00,9,2, 20161230,      754
  320620161224,HAZMAT,     7,  1,      1,      1,2,20161230,0754,-65.2355, -66.7787,  483,     41.6,   0.1462,9,-999.0000,  33.8051,2,-999.0000,9,    352.4,2,   -999.0,9,  -999.00,9,  -999.00,9,  -999.00,9,  -999.00,9,     -999,9,   -999.0,9,-999.0000,9,  -999.00,  -999.00,9,9, 20161230,      754
  320620161224,HAZMAT,     7,  1,      2,      2,2,20161230,0754,-65.2355, -66.7787,  483,     41.6,   0.1455,9,-999.0000,  33.8051,2,-999.0000,9,    352.4,2,   -999.0,9,  -999.00,9,  -999.00,9,  -999.00,9,  -999.00,9,     -999,9,   -999.0,9,-999.0000,9,  -999.00,  -999.00,9,9, 20161230,      754
  320620161224,HAZMAT,     7,  1,      3,      3,2,20161230,0754,-65.2355, -66.7787,  483,     41.4,   0.1478,9,-999.0000,  33.8040,2,-999.0000,9,    352.3,2,   -999.0,9,  -999.00,9,  -999.00,9,  -999.00,9,  -999.00,9,     -999,9,   -999.0,9,-999.0000,9,  -999.00,  -999.00,9,9, 20161230,      754
  320620161224,HAZMAT,     7,  1,      6,      6,2,20161230,0754,-65.2355, -66.7787,  483,     41.5,   0.1358,9,-999.0000,  33.8047,2,-999.0000,9,    352.3,2,   -999.0,9,  -999.00,9,  -999.00,9,  -999.00,9,  -999.00,9,     -999,9,   -999.0,9,-999.0000,9,  -999.00,  -999.00,9,9, 20161230,      754
  320620161224,HAZMAT,     7,  1,      7,      7,2,20161230,0754,-65.2355, -66.7787,  483,     40.9,   0.0830,2,   0.1010,  33.8011,2,-999.0000,9,    352.1,2,   -999.0,9,    57.70,2,    21.19,2,     0.13,2,     1.64,2,     1.07,2,   -999.0,9,-999.0000,9,  -999.00,     0.42,2,2, 20161230,      754
  320620161224,HAZMAT,     7,  1,     10,     10,2,20161230,0754,-65.2355, -66.7787,  483,      5.8,   0.4736,9,-999.0000,  33.6490,2,-999.0000,9,    360.4,2,   -999.0,9,  -999.00,9,  -999.00,9,  -999.00,9,  -999.00,9,     -999,9,   -999.0,9,-999.0000,9,  -999.00,  -999.00,9,9, 20161230,      755
  320620161224,HAZMAT,     7,  1,     11,     11,2,20161230,0754,-65.2355, -66.7787,  483,      5.7,   0.3916,2,   0.4439,  33.6490,2,-999.0000,9,    360.3,2,   -999.0,9,  -999.00,9,  -999.00,9,  -999.00,9,  -999.00,9,     -999,9,   -999.0,9,-999.0000,9,  -999.00,  -999.00,9,2, 20161230,      756
  320620161224,HAZMAT,     7,  1,     14,     14,2,20161230,0754,-65.2355, -66.7787,  483,      5.6,   0.6823,2,   0.6078,  33.6490,2,-999.0000,9,    360.3,2,   -999.0,9,    72.50,2,    21.25,2,     0.14,2,     1.57,2,     1.62,2,   -999.0,9,-999.0000,9,  -999.00,     0.88,2,2, 20161230,      756
  320620161224,HAZMAT,     7,  1,     13,     13,2,20161230,0754,-65.2355, -66.7787,  483,      5.6,   0.4401,9,-999.0000,  33.6490,2,-999.0000,9,    360.3,2,   -999.0,9,  -999.00,9,  -999.00,9,  -999.00,9,  -999.00,9,     -999,9,   -999.0,9,-999.0000,9,  -999.00,  -999.00,9,9, 20161230,      756
  320620161224,HAZMAT,     7,  1,     12,     12,2,20161230,0754,-65.2355, -66.7787,  483,      5.6,   0.4073,9,-999.0000,  33.6490,2,-999.0000,9,    360.3,2,   -999.0,9,  -999.00,9,  -999.00,9,  -999.00,9,  -999.00,9,     -999,9,   -999.0,9,-999.0000,9,  -999.00,  -999.00,9,9, 20161230,      756
  320620161224,HAZMAT,     7,  1,      9,      9,2,20161230,0754,-65.2355, -66.7787,  483,      5.3,   0.6999,9,-999.0000,  33.6490,2,-999.0000,9,    360.2,2,   -999.0,9,  -999.00,9,  -999.00,9,  -999.00,9,  -999.00,9,     -999,9,   -999.0,9,-999.0000,9,  -999.00,  -999.00,9,9, 20161230,      755
  320620161224,HAZMAT,     7,  1,      8,      8,2,20161230,0754,-65.2355, -66.7787,  483,      5.2,   0.6853,2,   0.6822,  33.6490,2,-999.0000,9,    360.2,2,   -999.0,9,  -999.00,9,  -999.00,9,  -999.00,9,  -999.00,9,     -999,9,   -999.0,9,-999.0000,9,  -999.00,  -999.00,9,2, 20161230,      755