BOTTLE,20190617PRINUNIVRMK
EXPOCODE,SECT_ID,STNNBR,CASTNO,SAMPNO,BTLNBR,BTLNBR_FLAG_W,DATE,TIME,LATITUDE,LONGITUDE,DEPTH,CTDPRS,CTDTMP,SBE35_FLAG_W,REFTMP,CTDSAL,CTDSAL_FLAG_W,SALNTY,SALNTY_FLAG_W,CTDOXY,CTDOXY_FLAG_W,OXYGEN,OXYGEN_FLAG_W,SILCAT,SILCAT_FLAG_W,NITRAT,NITRAT_FLAG_W,NITRIT,NITRIT_FLAG_W,PHSPHT,PHSPHT_FLAG_W,NH4,NH4_FLAG_W,ALKALI,ALKALI_FLAG_W,PH_TOT,PH_TOT_FLAG_W,PH_TMP,CHLORA,CHLORA_FLAG_W,SBE35_FLAG_W,BTL_DATE,BTL_TIME
,,,,,,,,,,,METERS,DBAR,ITS-90,,,PSS-78,,PSS-78,,UMOL/KG,,UMOL/KG,,UMOL/KG,,UMOL/KG,,UMOL/KG,,UMOL/KG,,UMOL/KG,,UMOL/KG,,,,DEG C,UG/KG,,,,
  320620161224,HAZMAT,    20,  2,      1,      1,2,20170111,0819,-72.3434,-146.3450, 4199,   4223.4,   0.2422,9,-999.0000,  34.7215,2,  34.6959,2,    219.9,2,    217.2,2,   131.40,2,    32.50,2,     0.00,2,     2.28,2,        0,2,   2361.0,6,   7.5864,6,    25.00,  -999.00,9,9, 20170111,      819
  320620161224,HAZMAT,    20,  2,      2,      2,2,20170111,0819,-72.3434,-146.3450, 4199,   4049.2,   0.2471,2,   0.2470,  34.7218,2,  34.6963,2,    220.4,2,    217.8,2,   130.30,2,    32.41,2,     0.00,2,     2.28,2,        0,2,   2360.7,2,   7.5901,2,    25.00,  -999.00,9,2, 20170111,      824
  320620161224,HAZMAT,    20,  2,      3,      3,2,20170111,0819,-72.3434,-146.3450, 4199,   3874.6,   0.3167,2,   0.3164,  34.7249,2,  34.7001,2,    217.3,2,    214.2,2,   138.60,2,    32.55,2,     0.00,2,     2.28,2,        0,2,   2362.6,2,   7.5895,2,    25.00,  -999.00,9,2, 20170111,      828
  320620161224,HAZMAT,    20,  2,      4,      4,2,20170111,0819,-72.3434,-146.3450, 4199,   3463.4,   0.3658,2,   0.3656,  34.7259,2,  34.7025,2,    212.1,2,    212.1,2,   137.40,2,    32.48,2,     0.00,2,     2.27,2,        0,2,   2364.2,2,   7.5930,2,    25.00,  -999.00,9,2, 20170111,      836
  320620161224,HAZMAT,    20,  2,      5,      5,2,20170111,0819,-72.3434,-146.3450, 4199,   3053.2,   0.4204,2,   0.4206,  34.7039,2,  34.7031,2,    206.7,2,    209.5,2,   133.90,2,    32.11,2,     0.00,2,     2.26,2,        0,2,   2362.7,2,   7.5921,2,    25.00,  -999.00,9,2, 20170111,      844
  320620161224,HAZMAT,    20,  2,      6,      6,2,20170111,0819,-72.3434,-146.3450, 4199,   2643.7,   0.5111,2,   0.5111,  34.7039,2,  34.7032,2,    201.3,2,    207.8,2,   129.70,2,    32.31,2,     0.00,2,     2.26,2,        0,2,   2361.8,2,   7.5903,2,    25.00,  -999.00,9,2, 20170111,      852
  320620161224,HAZMAT,    20,  2,      7,      7,2,20170111,0819,-72.3434,-146.3450, 4199,   2234.6,   0.6486,2,   0.6484,  34.7057,2,  34.7058,2,    197.9,2,    204.6,2,   126.70,2,    32.19,2,     0.00,2,     2.25,2,        0,2,   2362.4,2,   7.5927,2,    25.00,  -999.00,9,2, 20170111,      900
  320620161224,HAZMAT,    20,  2,      8,      8,2,20170111,0819,-72.3434,-146.3450, 4199,   1826.8,   0.7889,2,   0.7885,  34.7097,2,  34.7106,2,    193.7,2,    201.9,2,   123.10,2,    32.06,2,     0.00,2,     2.24,2,     0.05,2,   2362.5,2,   7.5919,2,    25.00,  -999.00,9,2, 20170111,      908
  320620161224,HAZMAT,    20,  2,      9,      9,2,20170111,0819,-72.3434,-146.3450, 4199,   1419.5,   0.9626,2,   0.9620,  34.7166,2,  34.7166,2,    189.8,2,    197.5,2,   116.30,2,    31.92,2,     0.00,2,     2.23,2,        0,2,   2360.7,2,   7.5907,2,    25.00,  -999.00,9,2, 20170111,      917
  320620161224,HAZMAT,    20,  2,     10,     10,2,20170111,0819,-72.3434,-146.3450, 4199,   1215.9,   1.0786,2,   1.0772,  34.7207,2,  34.7216,2,    187.6,2,    194.7,2,   112.90,2,    31.94,2,     0.00,2,     2.23,2,        0,2,   2359.8,2,   7.5888,2,    25.00,  -999.00,9,2, 20170111,      921
  320620161224,HAZMAT,    20,  2,     11,     11,2,20170111,0819,-72.3434,-146.3450, 4199,   1012.9,   1.2049,2,   1.2044,  34.7247,2,  34.7265,2,    185.3,2,    191.3,2,   108.80,2,    31.89,2,     0.00,2,     2.24,2,        0,2,   2358.8,2,   7.5861,2,    25.00,  -999.00,9,2, 20170111,      926
  320620161224,HAZMAT,    20,  2,     12,     12,2,20170111,0819,-72.3434,-146.3450, 4199,    810.2,   1.3359,2,   1.3353,  34.7280,2,  34.7302,2,    183.1,2,    187.6,2,   104.50,2,    31.96,2,     0.00,2,     2.25,2,        0,2,   2356.9,2,   7.5822,2,    25.00,  -999.00,9,2, 20170111,      931
  320620161224,HAZMAT,    20,  2,     13,     13,2,20170111,0819,-72.3434,-146.3450, 4199,    607.8,   1.4973,2,   1.4968,  34.7287,2,  34.7305,2,    184.3,2,    186.4,2,    98.30,2,    31.65,2,     0.00,2,     2.22,2,        0,2,   2353.8,2,   7.5788,2,    25.00,  -999.00,9,2, 20170111,      935
  320620161224,HAZMAT,    20,  2,     14,     14,2,20170111,0819,-72.3434,-146.3450, 4199,    404.5,   1.6954,2,   1.6950,  34.7180,2,  34.7212,2,    180.5,2,    182.7,2,    91.90,2,    31.85,2,     0.00,2,     2.22,2,        0,2,   2349.1,2,   7.5762,2,    25.00,  -999.00,9,2, 20170111,      940
  320620161224,HAZMAT,    20,  2,     15,     15,2,20170111,0819,-72.3434,-146.3450, 4199,    354.0,   1.7319,2,   1.7307,  34.7110,2,  34.7130,2,    177.9,2,    180.9,2,    90.20,2,    32.00,2,     0.00,2,     2.24,2,        0,2,   2348.1,2,   7.5713,2,    25.00,  -999.00,9,2, 20170111,      942
  320620161224,HAZMAT,    20,  2,     16,     16,2,20170111,0819,-72.3434,-146.3450, 4199,    303.7,   1.7643,2,   1.7636,  34.6950,2,  34.7020,2,    175.0,2,    179.7,2,    88.70,2,    32.33,2,     0.00,2,     2.25,2,        0,2,   2345.6,2,   7.5656,2,    25.00,  -999.00,9,2, 20170111,      945
  320620161224,HAZMAT,    20,  2,     17,     17,2,20170111,0819,-72.3434,-146.3450, 4199,    252.9,   1.6841,2,   1.6894,  34.6496,2,  34.6700,2,    175.6,2,    180.5,2,    86.40,2,    32.71,2,     0.00,2,     2.26,2,        0,2,   2344.7,2,   7.5607,2,    25.00,  -999.00,9,2, 20170111,      947
  320620161224,HAZMAT,    20,  2,     18,     18,2,20170111,0819,-72.3434,-146.3450, 4199,    202.1,   0.9646,2,   0.9700,  34.4952,2,  34.5308,2,    167.6,2,    202.8,3,    78.80,2,    32.40,2,     0.00,2,     2.25,2,        0,2,   2333.1,2,   7.5622,2,    25.00,  -999.00,9,2, 20170111,      949
  320620161224,HAZMAT,    20,  2,     19,     19,2,20170111,0819,-72.3434,-146.3450, 4199,    151.5,  -0.1477,2,  -0.1491,  34.3127,2,  34.3485,2,    146.9,2,    237.2,3,    68.70,2,    31.30,2,     0.00,2,     2.19,2,     0.01,2,   2320.5,2,   7.5756,2,    25.00,  -999.00,9,2, 20170111,      951
  320620161224,HAZMAT,    20,  2,     20,     20,2,20170111,0819,-72.3434,-146.3450, 4199,    101.4,  -1.1337,2,  -1.1350,  34.1689,2,  34.1854,2,    296.6,2,    271.2,2,    59.80,2,    30.06,2,     0.03,2,     2.12,2,        0,2,   2308.8,2,   7.5985,2,    25.00,  -999.00,9,2, 20170111,      953
  320620161224,HAZMAT,    20,  2,     21,     21,2,20170111,0819,-72.3434,-146.3450, 4199,     81.2,  -1.4577,2,  -1.4487,  34.1276,2,  34.1386,2,    405.9,2,    283.3,3,    57.00,2,    29.44,2,     0.07,2,     2.07,2,     0.02,2,   2306.0,2,   7.6064,2,    25.00,  -999.00,9,2, 20170111,      955
  320620161224,HAZMAT,    20,  2,     22,     22,2,20170111,0819,-72.3434,-146.3450, 4199,     61.0,  -1.6115,2,  -1.5978,  34.0732,2,  34.0831,2,    462.1,2,    294.9,3,    55.20,2,    28.55,2,     0.16,2,     2.02,2,     0.04,2,   2302.9,2,   7.6186,2,    25.00,  -999.00,9,2, 20170111,      957
  320620161224,HAZMAT,    20,  2,     23,     23,2,20170111,0819,-72.3434,-146.3450, 4199,     30.4,  -1.4932,2,  -1.5049,  33.9574,2,  33.9306,2,    470.6,2,    312.6,3,    55.70,2,    27.38,2,     0.17,2,     1.96,2,     0.22,2,   2293.6,2,   7.6372,2,    25.00,  -999.00,9,2, 20170111,      959
  320620161224,HAZMAT,    20,  2,     24,     24,2,20170111,0819,-72.3434,-146.3450, 4199,      2.0,  -0.9709,2,  -0.9766,  33.5852,2,  33.4756,2,    367.8,2,    343.3,2,    52.60,2,    26.58,2,     0.24,2,     1.90,2,     0.26,2,   2263.9,6,   7.6468,6,    25.00,  -999.00,9,2, 20170111,     1001
  320620161224,HAZMAT,    21,  1,      7,      7,2,20170111,1820,-73.0817,-148.9482, 4201,     71.7,  -1.5466,2,  -1.5468,  34.1244,2,-999.0000,9,    282.0,2,   -999.0,9,  -999.00,9,  -999.00,9,  -999.00,9,  -999.00,9,     -999,9,   -999.0,9,-999.0000,9,  -999.00,  -999.00,9,2, 20170111,     1821
  320620161224,HAZMAT,    21,  1,      6,      6,2,20170111,1820,-73.0817,-148.9482, 4201,     71.7,  -1.5446,9,-999.0000,  34.1244,2,-999.0000,9,    282.0,2,   -999.0,9,  -999.00,9,  -999.00,9,  -999.00,9,  -999.00,9,     -999,9,   -999.0,9,-999.0000,9,  -999.00,  -999.00,9,9, 20170111,     1821
  320620161224,HAZMAT,    21,  1,      5,      5,2,20170111,1820,-73.0817,-148.9482, 4201,     71.6,  -1.5420,9,-999.0000,  34.1243,2,-999.0000,9,    282.0,2,   -999.0,9,  -999.00,9,  -999.00,9,  -999.00,9,  -999.00,9,     -999,9,   -999.0,9,-999.0000,9,  -999.00,  -999.00,9,9, 20170111,     1821
  320620161224,HAZMAT,    21,  1,      4,      4,2,20170111,1820,-73.0817,-148.9482, 4201,     71.6,  -1.5428,2,  -1.5447,  34.1243,2,-999.0000,9,    282.0,2,   -999.0,9,  -999.00,9,  -999.00,9,  -999.00,9,  -999.00,9,     -999,9,   -999.0,9,-999.0000,9,  -999.00,  -999.00,9,2, 20170111,     1820
  320620161224,HAZMAT,    21,  1,      3,      3,2,20170111,1820,-73.0817,-148.9482, 4201,     71.6,  -1.5443,9,-999.0000,  34.1243,2,-999.0000,9,    282.0,2,   -999.0,9,  -999.00,9,  -999.00,9,  -999.00,9,  -999.00,9,     -999,9,   -999.0,9,-999.0000,9,  -999.00,  -999.00,9,9, 20170111,     1820
  320620161224,HAZMAT,    21,  1,      2,      2,2,20170111,1820,-73.0817,-148.9482, 4201,     71.6,  -1.5448,9,-999.0000,  34.1242,2,-999.0000,9,    282.0,2,   -999.0,9,    58.90,2,    29.40,2,     0.08,2,     2.06,2,     0.07,2,   -999.0,9,-999.0000,9,  -999.00,     0.22,2,9, 20170111,     1820
  320620161224,HAZMAT,    21,  1,      1,      1,2,20170111,1820,-73.0817,-148.9482, 4201,     71.5,  -1.5479,9,-999.0000,  34.1242,2,-999.0000,9,    282.0,2,   -999.0,9,  -999.00,9,  -999.00,9,  -999.00,9,  -999.00,9,     -999,9,   -999.0,9,-999.0000,9,  -999.00,  -999.00,9,9, 20170111,     1820
  320620161224,HAZMAT,    21,  1,     13,     13,2,20170111,1820,-73.0817,-148.9482, 4201,      2.0,  -1.1481,9,-999.0000,  33.6490,2,-999.0000,9,    334.0,2,   -999.0,9,  -999.00,9,  -999.00,9,  -999.00,9,  -999.00,9,     -999,9,   -999.0,9,-999.0000,9,  -999.00,  -999.00,9,9, 20170111,     1823
  320620161224,HAZMAT,    21,  1,     14,     14,2,20170111,1820,-73.0817,-148.9482, 4201,      2.0,  -1.1467,9,-999.0000,  33.6490,2,-999.0000,9,    334.0,2,   -999.0,9,  -999.00,9,  -999.00,9,  -999.00,9,  -999.00,9,     -999,9,   -999.0,9,-999.0000,9,  -999.00,  -999.00,9,9, 20170111,     1823
  320620161224,HAZMAT,    21,  1,     12,     12,2,20170111,1820,-73.0817,-148.9482, 4201,      2.0,  -1.1474,2,  -1.1487,  33.6490,2,-999.0000,9,    334.0,2,   -999.0,9,    56.80,2,    27.49,2,     0.18,2,     1.95,2,      0.3,2,   -999.0,9,-999.0000,9,  -999.00,     0.14,2,2, 20170111,     1823
  320620161224,HAZMAT,    21,  1,      8,      8,2,20170111,1820,-73.0817,-148.9482, 4201,      2.0,  -1.1442,2,  -1.1457,  33.6490,2,-999.0000,9,    334.0,2,   -999.0,9,  -999.00,9,  -999.00,9,  -999.00,9,  -999.00,9,     -999,9,   -999.0,9,-999.0000,9,  -999.00,  -999.00,9,2, 20170111,     1823
  320620161224,HAZMAT,    21,  1,     11,     11,2,20170111,1820,-73.0817,-148.9482, 4201,      2.0,  -1.1473,9,-999.0000,  33.6490,2,-999.0000,9,    334.0,2,   -999.0,9,  -999.00,9,  -999.00,9,  -999.00,9,  -999.00,9,     -999,9,   -999.0,9,-999.0000,9,  -999.00,  -999.00,9,9, 20170111,     1823
  320620161224,HAZMAT,    21,  1,      9,      9,2,20170111,1820,-73.0817,-148.9482, 4201,      2.0,  -1.1464,9,-999.0000,  33.6490,2,-999.0000,9,    334.0,2,   -999.0,9,  -999.00,9,  -999.00,9,  -999.00,9,  -999.00,9,     -999,9,   -999.0,9,-999.0000,9,  -999.00,  -999.00,9,9, 20170111,     1823
  320620161224,HAZMAT,    21,  1,     10,     10,2,20170111,1820,-73.0817,-148.9482, 4201,      2.0,  -1.1460,9,-999.0000,  33.6490,2,-999.0000,9,    334.0,2,   -999.0,9,  -999.00,9,  -999.00,9,  -999.00,9,  -999.00,9,     -999,9,   -999.0,9,-999.0000,9,  -999.00,  -999.00,9,9, 20170111,     1823
  320620161224,HAZMAT,    22,  1,      4,      4,2,20170112,0208,-73.9105,-151.0680, 4068,     35.6,  -1.7058,9,-999.0000,  34.0901,2,-999.0000,9,    295.2,2,   -999.0,9,  -999.00,9,  -999.00,9,  -999.00,9,  -999.00,9,     -999,9,   -999.0,9,-999.0000,9,  -999.00,  -999.00,9,9, 20170112,      208
  320620161224,HAZMAT,    22,  1,      3,      3,2,20170112,0208,-73.9105,-151.0680, 4068,     35.6,  -1.7062,2,  -1.7061,  34.0901,2,-999.0000,9,    295.2,2,   -999.0,9,    69.30,2,    29.01,2,     0.05,2,     2.06,2,     0.17,2,   -999.0,9,-999.0000,9,  -999.00,     0.88,2,2, 20170112,      208
  320620161224,HAZMAT,    22,  1,      6,      6,2,20170112,0208,-73.9105,-151.0680, 4068,     35.6,  -1.7058,9,-999.0000,  34.0901,2,-999.0000,9,    295.2,2,   -999.0,9,  -999.00,9,  -999.00,9,  -999.00,9,  -999.00,9,     -999,9,   -999.0,9,-999.0000,9,  -999.00,  -999.00,9,9, 20170112,      208
  320620161224,HAZMAT,    22,  1,      5,      5,2,20170112,0208,-73.9105,-151.0680, 4068,     35.6,  -1.7056,2,  -1.7052,  34.0901,2,-999.0000,9,    295.2,2,   -999.0,9,  -999.00,9,  -999.00,9,  -999.00,9,  -999.00,9,     -999,9,   -999.0,9,-999.0000,9,  -999.00,  -999.00,9,2, 20170112,      208
  320620161224,HAZMAT,    22,  1,      2,      2,2,20170112,0208,-73.9105,-151.0680, 4068,     35.6,  -1.7049,9,-999.0000,  34.0901,2,-999.0000,9,    295.2,2,   -999.0,9,  -999.00,9,  -999.00,9,  -999.00,9,  -999.00,9,     -999,9,   -999.0,9,-999.0000,9,  -999.00,  -999.00,9,9, 20170112,      208
  320620161224,HAZMAT,    22,  1,      7,      7,2,20170112,0208,-73.9105,-151.0680, 4068,     35.6,  -1.7050,2,  -1.7053,  34.0901,2,-999.0000,9,    295.2,2,   -999.0,9,  -999.00,9,  -999.00,9,  -999.00,9,  -999.00,9,     -999,9,   -999.0,9,-999.0000,9,  -999.00,  -999.00,9,2, 20170112,      208
  320620161224,HAZMAT,    22,  1,      1,      1,2,20170112,0208,-73.9105,-151.0680, 4068,     35.6,  -1.7070,9,-999.0000,  34.0900,2,-999.0000,9,    295.2,2,   -999.0,9,  -999.00,9,  -999.00,9,  -999.00,9,  -999.00,9,     -999,9,   -999.0,9,-999.0000,9,  -999.00,  -999.00,9,9, 20170112,      208
  320620161224,HAZMAT,    22,  1,     11,     11,2,20170112,0208,-73.9105,-151.0680, 4068,      1.9,  -1.4132,9,-999.0000,  33.6128,2,-999.0000,9,    329.7,2,   -999.0,9,  -999.00,9,  -999.00,9,  -999.00,9,  -999.00,9,     -999,9,   -999.0,9,-999.0000,9,  -999.00,  -999.00,9,9, 20170112,      211
  320620161224,HAZMAT,    22,  1,     10,     10,2,20170112,0208,-73.9105,-151.0680, 4068,      1.9,  -1.4148,2,  -1.4138,  33.6128,2,-999.0000,9,    329.7,2,   -999.0,9,  -999.00,9,  -999.00,9,  -999.00,9,  -999.00,9,     -999,9,   -999.0,9,-999.0000,9,  -999.00,  -999.00,9,2, 20170112,      211
  320620161224,HAZMAT,    22,  1,     12,     12,2,20170112,0208,-73.9105,-151.0680, 4068,      1.9,  -1.4125,2,  -1.4124,  33.6128,2,-999.0000,9,    329.7,2,   -999.0,9,    59.50,2,    25.27,2,     0.14,2,     1.70,2,     0.18,2,   -999.0,9,-999.0000,9,  -999.00,     0.83,2,2, 20170112,      211
  320620161224,HAZMAT,    22,  1,     13,     13,2,20170112,0208,-73.9105,-151.0680, 4068,      1.9,  -1.4121,9,-999.0000,  33.6128,2,-999.0000,9,    329.7,2,   -999.0,9,  -999.00,9,  -999.00,9,  -999.00,9,  -999.00,9,     -999,9,   -999.0,9,-999.0000,9,  -999.00,  -999.00,9,9, 20170112,      211
  320620161224,HAZMAT,    22,  1,     14,     14,2,20170112,0208,-73.9105,-151.0680, 4068,      1.9,  -1.4119,2,  -1.4133,  33.6128,2,-999.0000,9,    329.7,2,   -999.0,9,  -999.00,9,  -999.00,9,  -999.00,9,  -999.00,9,     -999,9,   -999.0,9,-999.0000,9,  -999.00,  -999.00,9,2, 20170112,      211
  320620161224,HAZMAT,    22,  1,      9,      9,2,20170112,0208,-73.9105,-151.0680, 4068,      1.9,  -1.4150,9,-999.0000,  33.6128,2,-999.0000,9,    329.7,2,   -999.0,9,  -999.00,9,  -999.00,9,  -999.00,9,  -999.00,9,     -999,9,   -999.0,9,-999.0000,9,  -999.00,  -999.00,9,9, 20170112,      211
  320620161224,HAZMAT,    22,  1,      8,      8,2,20170112,0208,-73.9105,-151.0680, 4068,      1.9,  -1.4108,2,  -1.4138,  33.6128,2,-999.0000,9,    329.7,2,   -999.0,9,  -999.00,9,  -999.00,9,  -999.00,9,  -999.00,9,     -999,9,   -999.0,9,-999.0000,9,  -999.00,  -999.00,9,2, 20170112,      211