BOTTLE,20190617PRINUNIVRMK
# 07/21/2015 Initialized README file  
# Data source: 5/8/17 final data from https://cchdo.ucsd.edu/cruise/320620161224 
# SHIP: N.B. Palmer 
# Cruise: NBP1701; HazMat 
# Region: Punta Arenas to McMurdo Station 
# EXPOCODE: 320620161224  
# DATES:20161224 - 20170120 
# Chief Scientist: Tatiana Rynearson,Steve Riser 
# 31 stations with 24 place Rosette 
# SOCCOM Biogeochemical floats deployed by  
# Sta   WMO_ID     Lat       Lon       Date     UW#   Type      Adopted_Name 
#  1    5904854  -57.191   -63.019   20161228  12575  Apex      RE Byrd (Princeton Day School) 
#  2    5904982  -57.443   -69.403   20161228  12573  Apex      RF Scott (Princeton Day School) 
#  4    5904984  -62.045   -68.094   20161229   0569  BGC-Navis Titus (Bear Tavern Elementary) 
#  6    5904856  -63.967   -67.711   20161230  12545  Apex      Southstar (Melvin H. Kreps M.S.) 
# 14    5904980  -66.422   -74.242   20170101  12543  Apex      Kirby (Melvin H. Kreps M.S.) 
# 15    5904983  -67.250   -84.231   20170103   0567  BGC-Navis Jorge (Princeton University) 
# 16    5904855  -68.285   -95.440   20170104  12559  Apex      Darwin (Passaic Valley H.S.) 
# 17    5904859  -69.659  -109.087   20170106  12549  Apex      Mann (Passaic Valley H.S.) 
# 18    5904981  -68.257  -128.458   20170109  12390  Apex      Bell (John Witherspoon M.S.) 
# 19    5904858  -70.680  -136.519   20170110  12551  Apex*     Sundevil Sam (Sandia Prep School) 
# 20    5904860  -72.355  -146.349   20170112  12541  Apex      Sundevil Lion (Sandia Prep School) 
# 24    5904857  -75.647  -156.978   20170112  12381  Apex      E.H. Shackelton (Princeton Day School) 
# * (bad O2 sensor) 
# Supported by NSF Award PLR-1425989 to J.L. Sarmiento et al.  
# CTD: Who - L.Talley; Status - final 
# 	Includes: CTDSAL, CTDOXY 
# 	Values in bottle file interpolated from final CTD files; flag set to 2 
# 	USAP provided transmissometer 
# 	No FLBB instrument 
# Salinty: Who - S.Becker; Status - final 
# 	Notes: 	 
# Nutrients: Who - S.Becker; Status - final 
# 	Includes: nitrate, nitrite, silicate, phopshpate, ammonium 
# O2: Who - S.Becker; Status - final 
# 	Notes: 
# Alkalinity: Who - A.Dickson; Status - final 
# 	Notes: measured ashore 
# 	Values from A.D. 9/17/18 
# pH: Who - E.Briggs; A.Dickson; Status - final 
# 	Notes: measured aboard and ashore 
# 	Shorebased values in file 
# 	Values from A.D. 9/17/18 
# pCO2: Who - T.Takahashi/Colm Sweeney; Status - unknown 
# 	Notes: underway only 
# ChloroA: Who - T.Rynearson; Status - final 
# 	Notes: measured ashore 
# These data should be cited as: 
# References that have used data from this cruise: 
EXPOCODE,SECT_ID,STNNBR,CASTNO,SAMPNO,BTLNBR,BTLNBR_FLAG_W,DATE,TIME,LATITUDE,LONGITUDE,DEPTH,CTDPRS,CTDTMP,SBE35_FLAG_W,REFTMP,CTDSAL,CTDSAL_FLAG_W,SALNTY,SALNTY_FLAG_W,CTDOXY,CTDOXY_FLAG_W,OXYGEN,OXYGEN_FLAG_W,SILCAT,SILCAT_FLAG_W,NITRAT,NITRAT_FLAG_W,NITRIT,NITRIT_FLAG_W,PHSPHT,PHSPHT_FLAG_W,NH4,NH4_FLAG_W,ALKALI,ALKALI_FLAG_W,PH_TOT,PH_TOT_FLAG_W,PH_TMP,CHLORA,CHLORA_FLAG_W,SBE35_FLAG_W,BTL_DATE,BTL_TIME
,,,,,,,,,,,METERS,DBAR,ITS-90,,,PSS-78,,PSS-78,,UMOL/KG,,UMOL/KG,,UMOL/KG,,UMOL/KG,,UMOL/KG,,UMOL/KG,,UMOL/KG,,UMOL/KG,,,,DEG C,UG/KG,,,,
  320620161224,HAZMAT,     1,  1,     19,     19,2,20161227,0805,-57.3355, -68.2774, 4395,     80.3,   4.8260,2,   4.8331,  33.9477,2,-999.0000,9,    309.5,2,   -999.0,9,  -999.00,9,  -999.00,9,  -999.00,9,  -999.00,9,     -999,9,   -999.0,9,-999.0000,9,  -999.00,  -999.00,9,2, 20161227,      806
  320620161224,HAZMAT,     1,  1,     16,     16,2,20161227,0805,-57.3355, -68.2774, 4395,     80.1,   4.8285,9,-999.0000,  33.9475,2,-999.0000,9,    309.6,2,   -999.0,9,  -999.00,9,  -999.00,9,  -999.00,9,  -999.00,9,     -999,9,   -999.0,9,-999.0000,9,  -999.00,  -999.00,9,9, 20161227,      806
  320620161224,HAZMAT,     1,  1,     14,     14,2,20161227,0805,-57.3355, -68.2774, 4395,     79.6,   4.8296,9,-999.0000,  33.9469,2,-999.0000,9,    309.7,2,   -999.0,9,  -999.00,9,  -999.00,9,  -999.00,9,  -999.00,9,     -999,9,   -999.0,9,-999.0000,9,  -999.00,  -999.00,9,9, 20161227,      805
  320620161224,HAZMAT,     1,  1,      2,      2,2,20161227,0805,-57.3355, -68.2774, 4395,     79.3,   4.8275,9,-999.0000,  33.9465,2,-999.0000,9,    309.7,2,   -999.0,9,     2.60,2,    20.03,2,     0.22,2,     1.49,2,     0.71,2,   -999.0,9,-999.0000,9,  -999.00,     0.39,2,9, 20161227,      805
  320620161224,HAZMAT,     1,  1,      4,      4,2,20161227,0805,-57.3355, -68.2774, 4395,     79.1,   4.8378,9,-999.0000,  33.9463,2,-999.0000,9,    309.7,2,   -999.0,9,  -999.00,9,  -999.00,9,  -999.00,9,  -999.00,9,     -999,9,   -999.0,9,-999.0000,9,  -999.00,  -999.00,9,9, 20161227,      805
  320620161224,HAZMAT,     1,  1,     10,     10,2,20161227,0805,-57.3355, -68.2774, 4395,     79.1,   4.8365,2,   4.8400,  33.9463,2,-999.0000,9,    309.7,2,   -999.0,9,  -999.00,9,  -999.00,9,  -999.00,9,  -999.00,9,     -999,9,   -999.0,9,-999.0000,9,  -999.00,  -999.00,9,2, 20161227,      805
  320620161224,HAZMAT,     1,  1,     17,     17,2,20161227,0805,-57.3355, -68.2774, 4395,     79.1,   4.8341,2,   4.8370,  33.9463,2,-999.0000,9,    309.7,2,   -999.0,9,  -999.00,9,  -999.00,9,  -999.00,9,  -999.00,9,     -999,9,   -999.0,9,-999.0000,9,  -999.00,  -999.00,9,2, 20161227,      806
  320620161224,HAZMAT,     1,  1,      7,      7,2,20161227,0805,-57.3355, -68.2774, 4395,     78.8,   4.8318,2,   4.8326,  33.9460,2,-999.0000,9,    309.7,2,   -999.0,9,  -999.00,9,  -999.00,9,  -999.00,9,  -999.00,9,     -999,9,   -999.0,9,-999.0000,9,  -999.00,  -999.00,9,2, 20161227,      805
  320620161224,HAZMAT,     1,  1,     13,     13,2,20161227,0805,-57.3355, -68.2774, 4395,     78.2,   4.8394,2,   4.8339,  33.9453,2,-999.0000,9,    309.8,2,   -999.0,9,  -999.00,9,  -999.00,9,  -999.00,9,  -999.00,9,     -999,9,   -999.0,9,-999.0000,9,  -999.00,  -999.00,9,2, 20161227,      805
  320620161224,HAZMAT,     1,  1,      9,      9,2,20161227,0805,-57.3355, -68.2774, 4395,     78.1,   4.8408,9,-999.0000,  33.9452,2,-999.0000,9,    309.8,2,   -999.0,9,  -999.00,9,  -999.00,9,  -999.00,9,  -999.00,9,     -999,9,   -999.0,9,-999.0000,9,  -999.00,  -999.00,9,9, 20161227,      805
  320620161224,HAZMAT,     1,  1,     12,     12,2,20161227,0805,-57.3355, -68.2774, 4395,     78.3,   4.8378,9,-999.0000,  33.9454,2,-999.0000,9,    309.8,2,   -999.0,9,  -999.00,9,  -999.00,9,  -999.00,9,  -999.00,9,     -999,9,   -999.0,9,-999.0000,9,  -999.00,  -999.00,9,9, 20161227,      805
  320620161224,HAZMAT,     1,  1,      6,      6,2,20161227,0805,-57.3355, -68.2774, 4395,     78.2,   4.8405,9,-999.0000,  33.9453,2,-999.0000,9,    309.8,2,   -999.0,9,  -999.00,9,  -999.00,9,  -999.00,9,  -999.00,9,     -999,9,   -999.0,9,-999.0000,9,  -999.00,  -999.00,9,9, 20161227,      805
  320620161224,HAZMAT,     1,  1,      5,      5,2,20161227,0805,-57.3355, -68.2774, 4395,     78.1,   4.8417,2,   4.8405,  33.9452,2,-999.0000,9,    309.8,2,   -999.0,9,  -999.00,9,  -999.00,9,  -999.00,9,  -999.00,9,     -999,9,   -999.0,9,-999.0000,9,  -999.00,  -999.00,9,2, 20161227,      805
  320620161224,HAZMAT,     1,  1,     18,     18,2,20161227,0805,-57.3355, -68.2774, 4395,     78.0,   4.8373,9,-999.0000,  33.9451,2,-999.0000,9,    309.8,2,   -999.0,9,  -999.00,9,  -999.00,9,  -999.00,9,  -999.00,9,     -999,9,   -999.0,9,-999.0000,9,  -999.00,  -999.00,9,9, 20161227,      806
  320620161224,HAZMAT,     1,  1,     15,     15,2,20161227,0805,-57.3355, -68.2774, 4395,     77.9,   4.8374,2,   4.8343,  33.9449,2,-999.0000,9,    309.8,2,   -999.0,9,  -999.00,9,  -999.00,9,  -999.00,9,  -999.00,9,     -999,9,   -999.0,9,-999.0000,9,  -999.00,  -999.00,9,2, 20161227,      805
  320620161224,HAZMAT,     1,  1,     11,     11,2,20161227,0805,-57.3355, -68.2774, 4395,     77.9,   4.8395,2,   4.8389,  33.9450,2,-999.0000,9,    309.8,2,   -999.0,9,  -999.00,9,  -999.00,9,  -999.00,9,  -999.00,9,     -999,9,   -999.0,9,-999.0000,9,  -999.00,  -999.00,9,2, 20161227,      805
  320620161224,HAZMAT,     1,  1,      1,      1,2,20161227,0805,-57.3355, -68.2774, 4395,     77.8,   4.8456,9,-999.0000,  33.9449,2,-999.0000,9,    309.9,2,   -999.0,9,  -999.00,9,  -999.00,9,  -999.00,9,  -999.00,9,     -999,9,   -999.0,9,-999.0000,9,  -999.00,  -999.00,9,9, 20161227,      805
  320620161224,HAZMAT,     1,  1,      8,      8,2,20161227,0805,-57.3355, -68.2774, 4395,     77.6,   4.8396,2,   4.8419,  33.9446,2,-999.0000,9,    309.9,2,   -999.0,9,  -999.00,9,  -999.00,9,  -999.00,9,  -999.00,9,     -999,9,   -999.0,9,-999.0000,9,  -999.00,  -999.00,9,2, 20161227,      805
  320620161224,HAZMAT,     1,  1,      3,      3,2,20161227,0805,-57.3355, -68.2774, 4395,     77.1,   4.8458,2,   4.8449,  33.9440,2,-999.0000,9,    309.9,2,   -999.0,9,  -999.00,9,  -999.00,9,  -999.00,9,  -999.00,9,     -999,9,   -999.0,9,-999.0000,9,  -999.00,  -999.00,9,2, 20161227,      805
  320620161224,HAZMAT,     1,  1,     20,     20,2,20161227,0805,-57.3355, -68.2774, 4395,      8.3,   5.6928,2,   5.6920,  33.8204,2,-999.0000,9,    332.3,2,   -999.0,9,  -999.00,9,  -999.00,9,  -999.00,9,  -999.00,9,     -999,9,   -999.0,9,-999.0000,9,  -999.00,  -999.00,9,2, 20161227,      808
  320620161224,HAZMAT,     1,  1,     21,     21,2,20161227,0805,-57.3355, -68.2774, 4395,      6.7,   5.5722,9,-999.0000,  33.8204,2,-999.0000,9,    332.3,2,   -999.0,9,  -999.00,9,  -999.00,9,  -999.00,9,  -999.00,9,     -999,9,   -999.0,9,-999.0000,9,  -999.00,  -999.00,9,9, 20161227,      808
  320620161224,HAZMAT,     1,  1,     22,     22,2,20161227,0805,-57.3355, -68.2774, 4395,      5.8,   5.6786,9,-999.0000,  33.8204,2,-999.0000,9,    332.3,2,   -999.0,9,     0.40,2,    19.73,2,     0.26,2,     1.40,2,     0.27,2,   -999.0,9,-999.0000,9,  -999.00,     0.29,2,9, 20161227,      808
  320620161224,HAZMAT,     1,  1,     23,     23,2,20161227,0805,-57.3355, -68.2774, 4395,      3.8,   5.5380,2,   5.6845,  33.8204,2,-999.0000,9,    332.3,2,   -999.0,9,  -999.00,9,  -999.00,9,  -999.00,9,  -999.00,9,     -999,9,   -999.0,9,-999.0000,9,  -999.00,  -999.00,9,2, 20161227,      808
  320620161224,HAZMAT,     1,  1,     24,     24,2,20161227,0805,-57.3355, -68.2774, 4395,      3.4,   5.6837,9,-999.0000,  33.8204,2,-999.0000,9,    332.3,2,   -999.0,9,  -999.00,9,  -999.00,9,  -999.00,9,  -999.00,9,     -999,9,   -999.0,9,-999.0000,9,  -999.00,  -999.00,9,9, 20161227,      808
  320620161224,HAZMAT,     1,  2,      1,      1,2,20161227,1114,-57.3355, -68.2774, 4395,   2028.2,   1.9905,9,-999.0000,  34.7068,2,  34.7072,2,    177.8,2,    177.7,2,    93.50,2,    31.86,2,     0.00,2,     2.23,2,        0,2,   2354.2,2,   7.5686,2,    25.00,  -999.00,9,9, 20161227,     1114
  320620161224,HAZMAT,     1,  2,      2,      2,2,20161227,1114,-57.3355, -68.2774, 4395,   1826.0,   2.1773,2,   2.1785,  34.6868,2,  34.6870,2,    175.4,2,    175.4,2,    85.80,2,    32.09,2,     0.00,2,     2.23,2,        0,2,   2349.2,2,   7.5727,2,    25.00,  -999.00,9,2, 20161227,     1121
  320620161224,HAZMAT,     1,  2,      3,      3,2,20161227,1114,-57.3355, -68.2774, 4395,   1619.5,   2.2917,2,   2.2928,  34.6514,2,  34.6536,2,    172.2,2,    172.0,2,    81.60,2,    32.48,2,     0.00,2,     2.26,2,        0,2,   2343.7,2,   7.5575,2,    25.00,  -999.00,9,2, 20161227,     1127
  320620161224,HAZMAT,     1,  2,      4,      4,2,20161227,1114,-57.3355, -68.2774, 4395,   1418.3,   2.3840,2,   2.3860,  34.6029,2,  34.6033,2,    170.3,2,    170.6,2,    77.70,2,    33.27,2,     0.00,2,     2.30,2,        0,2,   2337.5,2,   7.5468,2,    25.00,  -999.00,9,2, 20161227,     1132
  320620161224,HAZMAT,     1,  2,      5,      5,2,20161227,1114,-57.3355, -68.2774, 4395,   1315.8,   2.4540,2,   2.4574,  34.5736,2,  34.5745,2,    170.3,2,    170.7,2,    75.30,2,    33.42,2,     0.00,2,     2.31,2,        0,2,   2336.1,2,   7.5457,2,    25.00,  -999.00,9,2, 20161227,     1136
  320620161224,HAZMAT,     1,  2,      6,      6,2,20161227,1114,-57.3355, -68.2774, 4395,   1214.8,   2.5591,2,   2.5663,  34.5387,2,  34.5374,2,    171.5,2,    171.2,2,    71.60,2,    33.70,2,     0.00,2,     2.34,2,        0,2,   2334.8,2,   7.5500,2,    25.00,  -999.00,9,2, 20161227,     1140
  320620161224,HAZMAT,     1,  2,      7,      7,2,20161227,1114,-57.3355, -68.2774, 4395,   1114.9,   2.6552,2,   2.6598,  34.4907,2,  34.4889,2,    175.5,2,    175.7,2,    66.30,2,    33.72,2,     0.00,2,     2.32,2,        0,2,   2327.3,2,   7.5494,2,    25.00,  -999.00,9,2, 20161227,     1143
  320620161224,HAZMAT,     1,  2,      8,      8,2,20161227,1114,-57.3355, -68.2774, 4395,   1010.3,   2.7437,2,   2.7513,  34.4306,2,  34.4256,2,    182.9,2,    184.1,2,    59.90,2,    33.48,2,     0.00,2,     2.31,2,        0,2,   2318.8,2,   7.5491,2,    25.00,  -999.00,9,2, 20161227,     1147
  320620161224,HAZMAT,     1,  2,      9,      9,2,20161227,1114,-57.3355, -68.2774, 4395,    909.7,   2.9338,2,   2.9502,  34.3816,2,  34.3720,2,    191.0,2,    193.0,2,    52.10,2,    32.89,2,     0.00,2,     2.28,2,        0,2,   2314.2,2,   7.5680,2,    25.00,  -999.00,9,2, 20161227,     1150
  320620161224,HAZMAT,     1,  2,     10,     10,2,20161227,1114,-57.3355, -68.2774, 4395,    759.3,   3.0710,2,   3.0794,  34.2994,2,  34.2974,2,    206.7,2,    208.5,2,    43.10,2,    31.92,2,     0.00,2,     2.21,2,        0,2,   2304.1,2,   7.5806,2,    25.00,  -999.00,9,2, 20161227,     1155
  320620161224,HAZMAT,     1,  2,     11,     11,2,20161227,1114,-57.3355, -68.2774, 4395,    657.2,   3.3132,2,   3.3137,  34.2488,2,  34.2547,2,    219.3,2,    219.2,2,    36.00,2,    30.84,2,     0.00,2,     2.15,2,        0,2,   2297.3,2,   7.5932,2,    25.00,  -999.00,9,2, 20161227,     1158
  320620161224,HAZMAT,     1,  2,     12,     12,2,20161227,1114,-57.3355, -68.2774, 4395,    554.7,   3.1985,2,   3.2005,  34.1386,2,  34.1570,2,    246.5,2,    248.6,2,    27.10,2,    28.97,2,     0.00,2,     2.01,2,        0,2,   2287.5,2,   7.6204,2,    25.00,  -999.00,9,2, 20161227,     1201
  320620161224,HAZMAT,     1,  2,     13,     13,2,20161227,1114,-57.3355, -68.2774, 4395,    505.4,   3.8057,2,   3.8060,  34.1850,2,  34.1937,2,    239.9,2,    237.5,2,    25.10,2,    28.63,2,     0.00,2,     2.00,2,        0,2,   2287.1,2,   7.6330,2,    25.00,  -999.00,9,2, 20161227,     1204
  320620161224,HAZMAT,     1,  2,     14,     14,2,20161227,1114,-57.3355, -68.2774, 4395,    403.6,   3.9657,2,   3.9669,  34.1034,2,  34.1264,2,    262.8,2,    259.3,2,    18.20,2,    26.60,2,     0.00,2,     1.85,2,        0,2,   2281.3,2,   7.6528,2,    25.00,  -999.00,9,2, 20161227,     1207
  320620161224,HAZMAT,     1,  2,     15,     15,2,20161227,1114,-57.3355, -68.2774, 4395,    352.2,   3.8407,2,   3.8313,  34.0499,2,  34.0615,2,    277.2,2,    276.9,2,    15.10,2,    25.46,2,     0.00,2,     1.80,2,        0,2,   2278.5,2,   7.6712,2,    25.00,  -999.00,9,2, 20161227,     1210
  320620161224,HAZMAT,     1,  2,     16,     16,2,20161227,1114,-57.3355, -68.2774, 4395,    305.0,   4.0963,2,   4.0921,  34.0537,2,  34.0541,2,    279.7,2,    280.1,2,    12.90,2,    24.61,2,     0.00,2,     1.73,2,        0,2,   2276.1,2,   7.6821,2,    25.00,  -999.00,9,2, 20161227,     1212
  320620161224,HAZMAT,     1,  2,     17,     17,2,20161227,1114,-57.3355, -68.2774, 4395,    255.1,   4.1706,2,   4.1605,  34.0266,2,  34.0126,2,    287.8,2,    291.7,2,    10.00,2,    23.40,2,     0.00,2,     1.65,2,        0,2,   2272.9,2,   7.7003,2,    25.00,  -999.00,9,2, 20161227,     1214
  320620161224,HAZMAT,     1,  2,     18,     18,2,20161227,1114,-57.3355, -68.2774, 4395,    202.6,   4.1643,2,   4.1649,  33.9822,2,  33.9846,2,    298.5,2,    300.1,2,     8.30,2,    22.44,2,     0.03,2,     1.60,2,        0,2,   2271.3,2,   7.7111,2,    25.00,  -999.00,9,2, 20161227,     1216
  320620161224,HAZMAT,     1,  2,     19,     19,2,20161227,1114,-57.3355, -68.2774, 4395,    154.7,   4.2697,2,   4.2687,  33.9544,2,  33.9587,2,    304.9,2,    305.9,2,     7.00,2,    21.24,2,     0.31,2,     1.58,2,     0.32,2,   2269.7,2,   7.7223,2,    25.00,  -999.00,9,2, 20161227,     1219
  320620161224,HAZMAT,     1,  2,     20,     20,2,20161227,1114,-57.3355, -68.2774, 4395,    106.5,   4.7638,2,   4.8206,  33.9654,2,  33.9716,2,    306.4,2,    305.0,2,     5.10,2,    20.03,2,     0.21,2,     1.48,2,     0.42,2,   2269.8,2,   7.7370,2,    25.00,  -999.00,9,2, 20161227,     1221
  320620161224,HAZMAT,     1,  2,     21,     21,2,20161227,1114,-57.3355, -68.2774, 4395,     77.0,   4.8904,2,   4.8853,  33.9439,2,  33.9351,2,    309.9,2,    309.8,2,     1.60,2,    19.85,2,     0.22,2,     1.48,2,     0.32,2,   2271.1,2,   7.7491,2,    25.00,  -999.00,9,2, 20161227,     1223
  320620161224,HAZMAT,     1,  2,     22,     22,2,20161227,1114,-57.3355, -68.2774, 4395,     55.4,   5.1966,2,   5.2070,  33.9360,2,  33.9377,2,    311.9,2,    311.3,2,     0.40,2,    19.41,2,     0.21,2,     1.41,2,     0.16,2,   2270.2,2,   7.7589,2,    25.00,  -999.00,9,2, 20161227,     1224
  320620161224,HAZMAT,     1,  2,     23,     23,2,20161227,1114,-57.3355, -68.2774, 4395,     26.2,   5.5845,2,   5.6376,  33.9062,2,  33.8992,2,    313.9,2,    311.1,2,     0.20,2,    19.40,2,     0.25,2,     1.39,2,     0.02,2,   2263.9,6,   7.7460,6,    25.00,  -999.00,9,2, 20161227,     1226
  320620161224,HAZMAT,     1,  2,     24,     24,2,20161227,1114,-57.3355, -68.2774, 4395,      3.6,   5.6531,2,   5.6554,  33.8204,2,  33.8980,2,    332.3,2,    310.3,2,     0.20,2,    19.38,2,     0.26,2,     1.39,2,      0.1,2,   2269.1,2,   7.7648,2,    25.00,  -999.00,9,2, 20161227,     1228