BOTTLE,20190617PRINUNIVRMK
EXPOCODE,SECT_ID,STNNBR,CASTNO,SAMPNO,BTLNBR,BTLNBR_FLAG_W,DATE,TIME,LATITUDE,LONGITUDE,DEPTH,CTDPRS,CTDTMP,SBE35_FLAG_W,REFTMP,CTDSAL,CTDSAL_FLAG_W,SALNTY,SALNTY_FLAG_W,CTDOXY,CTDOXY_FLAG_W,OXYGEN,OXYGEN_FLAG_W,SILCAT,SILCAT_FLAG_W,NITRAT,NITRAT_FLAG_W,NITRIT,NITRIT_FLAG_W,PHSPHT,PHSPHT_FLAG_W,NH4,NH4_FLAG_W,ALKALI,ALKALI_FLAG_W,PH_TOT,PH_TOT_FLAG_W,PH_TMP,CHLORA,CHLORA_FLAG_W,SBE35_FLAG_W,BTL_DATE,BTL_TIME
,,,,,,,,,,,METERS,DBAR,ITS-90,,,PSS-78,,PSS-78,,UMOL/KG,,UMOL/KG,,UMOL/KG,,UMOL/KG,,UMOL/KG,,UMOL/KG,,UMOL/KG,,UMOL/KG,,,,DEG C,UG/KG,,,,
  320620161224,HAZMAT,    15,  2,      1,      1,2,20170102,2335,-67.2498, -84.2307, 4285,   2031.5,   0.9978,9,-999.0000,-999.0000,0,  34.7175,2,   -999.0,0,    198.9,2,   116.70,2,    32.17,2,     0.00,2,     2.21,2,        0,2,   2361.2,6,   7.5955,6,    25.00,  -999.00,9,9, 20170102,     2335
  320620161224,HAZMAT,    15,  2,      2,      2,2,20170102,2335,-67.2498, -84.2307, 4285,   1826.4,   1.1003,2,   1.1002,  34.7204,2,  34.7211,2,    197.4,2,    197.9,2,   113.40,2,    32.06,2,     0.00,2,     2.20,2,        0,2,   2360.7,2,   7.5961,2,    25.00,  -999.00,9,2, 20170102,     2341
  320620161224,HAZMAT,    15,  2,      3,      3,2,20170102,2335,-67.2498, -84.2307, 4285,   1622.7,   1.2146,2,   1.2149,  34.7240,2,  34.7241,2,    195.9,2,    195.8,2,   109.40,2,    31.94,2,     0.00,2,     2.19,2,        0,2,   2359.2,2,   7.5948,2,    25.00,  -999.00,9,2, 20170102,     2346
  320620161224,HAZMAT,    15,  2,      4,      4,2,20170102,2335,-67.2498, -84.2307, 4285,   1418.8,   1.3471,2,   1.3468,  34.7280,2,  34.7293,2,    193.5,2,    193.5,2,   105.00,2,    31.80,2,     0.00,2,     2.19,2,        0,2,   2357.2,2,   7.5936,2,    25.00,  -999.00,9,2, 20170102,     2351
  320620161224,HAZMAT,    15,  2,      5,      5,2,20170102,2335,-67.2498, -84.2307, 4285,   1317.4,   1.4255,2,   1.4248,  34.7295,2,  34.7306,2,    192.6,2,    192.4,2,   102.60,2,    31.72,2,     0.00,2,     2.18,2,        0,2,   2356.9,2,   7.5940,2,    25.00,  -999.00,9,2, 20170102,     2355
  320620161224,HAZMAT,    15,  2,      6,      6,2,20170102,2335,-67.2498, -84.2307, 4285,   1214.7,   1.4945,2,   1.4949,  34.7306,2,  34.7323,2,    191.3,2,    190.9,2,   100.10,2,    31.64,2,     0.00,2,     2.17,2,        0,2,   2355.1,2,   7.5920,2,    25.00,  -999.00,9,2, 20170102,     2358
  320620161224,HAZMAT,    15,  2,      7,      7,2,20170102,2335,-67.2498, -84.2307, 4285,   1113.6,   1.5861,2,   1.5859,  34.7309,2,  34.7337,2,    189.6,2,    189.6,2,    97.50,2,    31.60,2,     0.00,2,     2.16,2,        0,2,   2353.9,2,   7.5913,2,    25.00,  -999.00,9,2, 20170103,        1
  320620161224,HAZMAT,    15,  2,      8,      8,2,20170102,2335,-67.2498, -84.2307, 4285,   1012.5,   1.6703,2,   1.6699,  34.7298,2,  34.7307,2,    187.9,2,    187.4,2,    94.90,2,    31.57,2,     0.00,2,     2.16,2,        0,2,   2352.4,2,   7.5898,2,    25.00,  -999.00,9,2, 20170103,        4
  320620161224,HAZMAT,    15,  2,      9,      9,2,20170102,2335,-67.2498, -84.2307, 4285,    912.2,   1.7478,2,   1.7474,  34.7276,2,  34.7285,2,    186.0,2,    185.6,2,    92.70,2,    31.61,2,     0.00,2,     2.17,2,        0,2,   2349.8,2,   7.5773,3,    25.00,  -999.00,9,2, 20170103,        7
  320620161224,HAZMAT,    15,  2,     10,     10,2,20170102,2335,-67.2498, -84.2307, 4285,    759.3,   1.8584,2,   1.8579,  34.7191,2,  34.7209,2,    182.3,2,    182.9,2,    89.40,2,    31.84,2,     0.00,2,     2.17,2,        0,2,   2349.9,2,   7.5813,2,    25.00,  -999.00,9,2, 20170103,       11
  320620161224,HAZMAT,    15,  2,     11,     11,2,20170102,2335,-67.2498, -84.2307, 4285,    656.7,   1.9412,2,   1.9407,  34.7079,2,  34.7082,2,    178.9,2,    179.6,2,    87.30,2,    32.11,2,     0.00,2,     2.21,2,        0,2,   2347.2,2,   7.5736,2,    25.00,  -999.00,9,2, 20170103,       15
  320620161224,HAZMAT,    15,  2,     12,     12,2,20170102,2335,-67.2498, -84.2307, 4285,    556.1,   2.0090,2,   2.0085,  34.6904,2,  34.6911,2,    175.7,2,    175.5,2,    85.00,2,    32.61,2,     0.00,2,     2.24,2,        0,2,   2344.4,2,   7.5647,2,    25.00,  -999.00,9,2, 20170103,       18
  320620161224,HAZMAT,    15,  2,     13,     13,2,20170102,2335,-67.2498, -84.2307, 4285,    506.1,   2.0323,2,   2.0320,  34.6798,2,  34.6818,2,    174.2,2,    174.6,2,    84.00,2,    32.75,2,     0.00,2,     2.24,2,        0,2,   2343.5,2,   7.5617,2,    25.00,  -999.00,9,2, 20170103,       20
  320620161224,HAZMAT,    15,  2,     14,     14,2,20170102,2335,-67.2498, -84.2307, 4285,    404.5,   2.0489,2,   2.0483,  34.6454,2,  34.6475,2,    172.3,2,    172.0,2,    82.10,2,    33.46,2,     0.00,2,     2.29,2,        0,2,   2340.5,2,   7.5497,2,    25.00,  -999.00,9,2, 20170103,       24
  320620161224,HAZMAT,    15,  2,     15,     15,2,20170102,2335,-67.2498, -84.2307, 4285,    354.5,   2.0363,2,   2.0361,  34.6167,2,  34.6214,2,    172.8,2,    171.9,2,    80.60,2,    33.79,2,     0.00,2,     2.31,2,     0.06,2,   2337.9,2,   7.5422,2,    25.00,  -999.00,9,2, 20170103,       26
  320620161224,HAZMAT,    15,  2,     16,     16,2,20170102,2335,-67.2498, -84.2307, 4285,    303.5,   2.0042,2,   2.0039,  34.5836,2,  34.5908,2,    174.6,2,    172.5,2,    78.80,2,    34.04,2,     0.01,2,     2.36,2,      0.1,2,   2335.4,2,   7.5373,2,    25.00,  -999.00,9,2, 20170103,       29
  320620161224,HAZMAT,    15,  2,     17,     17,2,20170102,2335,-67.2498, -84.2307, 4285,    252.1,   1.9259,2,   1.9248,  34.5435,2,  34.5534,2,    177.4,2,    175.8,2,    76.90,2,    34.04,2,     0.02,2,     2.39,2,     0.18,2,   2332.1,2,   7.5299,2,    25.00,  -999.00,9,2, 20170103,       31
  320620161224,HAZMAT,    15,  2,     18,     18,2,20170102,2335,-67.2498, -84.2307, 4285,    201.9,   1.8551,2,   1.8527,  34.4858,2,  34.4940,2,    187.3,2,    183.6,2,    72.80,2,    34.54,2,     0.01,2,     2.40,2,     0.06,2,   2326.8,2,   7.5304,2,    25.00,  -999.00,9,2, 20170103,       33
  320620161224,HAZMAT,    15,  2,     19,     19,2,20170102,2335,-67.2498, -84.2307, 4285,    151.3,   1.1418,2,   1.1354,  34.3358,2,  34.3265,2,    219.7,2,    221.2,2,    63.70,2,    33.66,2,     0.03,2,     2.34,2,     0.02,2,   2311.0,2,   7.5350,2,    25.00,  -999.00,9,2, 20170103,       35
  320620161224,HAZMAT,    15,  2,     20,     20,2,20170102,2335,-67.2498, -84.2307, 4285,    106.1,  -0.8101,2,  -0.8327,  34.0906,2,  34.0886,2,    283.4,2,    294.8,2,    54.60,2,    30.63,2,     0.15,2,     2.16,2,     0.12,2,   2300.8,2,   7.5963,2,    25.00,  -999.00,9,2, 20170103,       38
  320620161224,HAZMAT,    15,  2,     21,     21,2,20170102,2335,-67.2498, -84.2307, 4285,     81.3,  -1.5392,2,  -1.5184,  33.9252,2,  33.9349,2,    333.8,2,    328.5,2,    48.40,2,    28.05,2,     0.19,2,     2.06,2,     0.83,2,   2289.9,2,   7.6316,2,    25.00,  -999.00,9,2, 20170103,       39
  320620161224,HAZMAT,    15,  2,     22,     22,2,20170102,2335,-67.2498, -84.2307, 4285,     55.7,  -0.4805,2,  -0.5462,  33.8255,2,  33.8634,2,    358.2,2,    377.2,2,    42.60,2,    20.80,2,     0.11,2,     1.63,2,     1.17,2,   2296.3,2,   7.7697,2,    25.00,  -999.00,9,2, 20170103,       41
  320620161224,HAZMAT,    15,  2,     23,     23,2,20170102,2335,-67.2498, -84.2307, 4285,     30.1,   0.5651,2,   0.5701,  33.7393,2,  33.7324,2,    344.5,2,    360.7,2,    34.00,2,    22.18,2,     0.20,2,     1.56,2,     0.85,2,   2281.2,6,   7.7180,6,    25.00,  -999.00,9,2, 20170103,       43
  320620161224,HAZMAT,    15,  2,     24,     24,2,20170102,2335,-67.2498, -84.2307, 4285,      5.2,   0.7630,2,   0.7609,  33.6440,2,  33.7107,2,    335.2,2,    353.0,2,    33.10,2,    22.66,2,     0.22,2,     1.61,2,     0.89,2,   2282.8,2,   7.7190,2,    25.00,  -999.00,9,2, 20170103,       45
  320620161224,HAZMAT,    16,  1,      8,      8,2,20170104,0330,-68.2897, -95.4232, 4512,     35.7,  -1.3007,9,-999.0000,  33.6914,2,-999.0000,9,    339.5,2,   -999.0,9,  -999.00,9,  -999.00,9,  -999.00,9,  -999.00,9,     -999,9,   -999.0,9,-999.0000,9,  -999.00,  -999.00,9,9, 20170104,      330
  320620161224,HAZMAT,    16,  1,      5,      5,2,20170104,0330,-68.2897, -95.4232, 4512,     35.6,  -1.2807,2,  -1.2971,  33.6909,2,-999.0000,9,    339.4,2,   -999.0,9,  -999.00,9,  -999.00,9,  -999.00,9,  -999.00,9,     -999,9,   -999.0,9,-999.0000,9,  -999.00,  -999.00,9,2, 20170104,      330
  320620161224,HAZMAT,    16,  1,      2,      2,2,20170104,0330,-68.2897, -95.4232, 4512,     35.6,  -1.3024,2,  -1.3335,  33.6906,2,-999.0000,9,    339.4,2,   -999.0,9,  -999.00,9,  -999.00,9,  -999.00,9,  -999.00,9,     -999,9,   -999.0,9,-999.0000,9,  -999.00,  -999.00,9,2, 20170104,      330
  320620161224,HAZMAT,    16,  1,      6,      6,2,20170104,0330,-68.2897, -95.4232, 4512,     35.2,  -1.2922,9,-999.0000,  33.6880,2,-999.0000,9,    339.1,2,   -999.0,9,  -999.00,9,  -999.00,9,  -999.00,9,  -999.00,9,     -999,9,   -999.0,9,-999.0000,9,  -999.00,  -999.00,9,9, 20170104,      330
  320620161224,HAZMAT,    16,  1,      3,      3,2,20170104,0330,-68.2897, -95.4232, 4512,     35.0,  -1.3427,9,-999.0000,  33.6873,2,-999.0000,9,    339.0,2,   -999.0,9,  -999.00,9,  -999.00,9,  -999.00,9,  -999.00,9,     -999,9,   -999.0,9,-999.0000,9,  -999.00,     0.28,2,9, 20170104,      330
  320620161224,HAZMAT,    16,  1,      9,      9,2,20170104,0330,-68.2897, -95.4232, 4512,     35.0,  -1.2740,2,  -1.2782,  33.6866,2,-999.0000,9,    338.9,2,   -999.0,9,  -999.00,9,  -999.00,9,  -999.00,9,  -999.00,9,     -999,9,   -999.0,9,-999.0000,9,  -999.00,  -999.00,9,2, 20170104,      330
  320620161224,HAZMAT,    16,  1,      7,      7,2,20170104,0330,-68.2897, -95.4232, 4512,     34.9,  -1.2750,2,  -1.2854,  33.6865,2,-999.0000,9,    338.9,2,   -999.0,9,  -999.00,9,  -999.00,9,  -999.00,9,  -999.00,9,     -999,9,   -999.0,9,-999.0000,9,  -999.00,  -999.00,9,2, 20170104,      330
  320620161224,HAZMAT,    16,  1,      4,      4,2,20170104,0330,-68.2897, -95.4232, 4512,     35.0,  -1.3207,2,  -1.3342,  33.6867,2,-999.0000,9,    338.9,2,   -999.0,9,  -999.00,9,  -999.00,9,  -999.00,9,  -999.00,9,     -999,9,   -999.0,9,-999.0000,9,  -999.00,  -999.00,9,2, 20170104,      330
  320620161224,HAZMAT,    16,  1,      1,      1,2,20170104,0330,-68.2897, -95.4232, 4512,     34.8,  -1.3432,9,-999.0000,  33.6858,2,-999.0000,9,    338.8,2,   -999.0,9,  -999.00,9,  -999.00,9,  -999.00,9,  -999.00,9,     -999,9,   -999.0,9,-999.0000,9,  -999.00,  -999.00,9,9, 20170104,      330
  320620161224,HAZMAT,    16,  1,     17,     17,2,20170104,0330,-68.2897, -95.4232, 4512,      6.1,  -0.0831,9,-999.0000,  32.8843,2,-999.0000,9,    292.5,2,   -999.0,9,  -999.00,9,  -999.00,9,  -999.00,9,  -999.00,9,     -999,9,   -999.0,9,-999.0000,9,  -999.00,  -999.00,9,9, 20170104,      332
  320620161224,HAZMAT,    16,  1,     11,     11,2,20170104,0330,-68.2897, -95.4232, 4512,      6.1,  -0.0833,9,-999.0000,  32.8845,2,-999.0000,9,    292.5,2,   -999.0,9,  -999.00,9,  -999.00,9,  -999.00,9,  -999.00,9,     -999,9,   -999.0,9,-999.0000,9,  -999.00,  -999.00,9,9, 20170104,      332
  320620161224,HAZMAT,    16,  1,     13,     13,2,20170104,0330,-68.2897, -95.4232, 4512,      6.1,  -0.0795,9,-999.0000,  32.8844,2,-999.0000,9,    292.5,2,   -999.0,9,  -999.00,9,  -999.00,9,  -999.00,9,  -999.00,9,     -999,9,   -999.0,9,-999.0000,9,  -999.00,  -999.00,9,9, 20170104,      332
  320620161224,HAZMAT,    16,  1,     15,     15,2,20170104,0330,-68.2897, -95.4232, 4512,      5.9,  -0.0933,9,-999.0000,  32.8849,2,-999.0000,9,    292.5,2,   -999.0,9,  -999.00,9,  -999.00,9,  -999.00,9,  -999.00,9,     -999,9,   -999.0,9,-999.0000,9,  -999.00,  -999.00,9,9, 20170104,      332
  320620161224,HAZMAT,    16,  1,     12,     12,2,20170104,0330,-68.2897, -95.4232, 4512,      5.9,  -0.0871,2,  -0.0858,  32.8848,2,-999.0000,9,    292.5,2,   -999.0,9,  -999.00,9,  -999.00,9,  -999.00,9,  -999.00,9,     -999,9,   -999.0,9,-999.0000,9,  -999.00,  -999.00,9,2, 20170104,      332
  320620161224,HAZMAT,    16,  1,     16,     16,2,20170104,0330,-68.2897, -95.4232, 4512,      5.9,  -0.0961,2,  -0.0914,  32.8850,2,-999.0000,9,    292.6,2,   -999.0,9,  -999.00,9,  -999.00,9,  -999.00,9,  -999.00,9,     -999,9,   -999.0,9,-999.0000,9,  -999.00,     0.28,2,2, 20170104,      332
  320620161224,HAZMAT,    16,  1,     10,     10,2,20170104,0330,-68.2897, -95.4232, 4512,      5.6,  -0.0927,2,  -0.0932,  32.8856,2,-999.0000,9,    292.6,2,   -999.0,9,  -999.00,9,  -999.00,9,  -999.00,9,  -999.00,9,     -999,9,   -999.0,9,-999.0000,9,  -999.00,  -999.00,9,2, 20170104,      332
  320620161224,HAZMAT,    16,  1,     18,     18,2,20170104,0330,-68.2897, -95.4232, 4512,      5.7,  -0.0772,2,  -0.0824,  32.8855,2,-999.0000,9,    292.6,2,   -999.0,9,  -999.00,9,  -999.00,9,  -999.00,9,  -999.00,9,     -999,9,   -999.0,9,-999.0000,9,  -999.00,  -999.00,9,2, 20170104,      332
  320620161224,HAZMAT,    16,  1,     14,     14,2,20170104,0330,-68.2897, -95.4232, 4512,      5.5,  -0.0773,2,  -0.0871,  32.8860,2,-999.0000,9,    292.6,2,   -999.0,9,  -999.00,9,  -999.00,9,  -999.00,9,  -999.00,9,     -999,9,   -999.0,9,-999.0000,9,  -999.00,  -999.00,9,2, 20170104,      332