BOTTLE,20190617PRINUNIVRMK
EXPOCODE,SECT_ID,STNNBR,CASTNO,SAMPNO,BTLNBR,BTLNBR_FLAG_W,DATE,TIME,LATITUDE,LONGITUDE,DEPTH,CTDPRS,CTDTMP,SBE35_FLAG_W,REFTMP,CTDSAL,CTDSAL_FLAG_W,SALNTY,SALNTY_FLAG_W,CTDOXY,CTDOXY_FLAG_W,OXYGEN,OXYGEN_FLAG_W,SILCAT,SILCAT_FLAG_W,NITRAT,NITRAT_FLAG_W,NITRIT,NITRIT_FLAG_W,PHSPHT,PHSPHT_FLAG_W,NH4,NH4_FLAG_W,ALKALI,ALKALI_FLAG_W,PH_TOT,PH_TOT_FLAG_W,PH_TMP,CHLORA,CHLORA_FLAG_W,SBE35_FLAG_W,BTL_DATE,BTL_TIME
,,,,,,,,,,,METERS,DBAR,ITS-90,,,PSS-78,,PSS-78,,UMOL/KG,,UMOL/KG,,UMOL/KG,,UMOL/KG,,UMOL/KG,,UMOL/KG,,UMOL/KG,,UMOL/KG,,,,DEG C,UG/KG,,,,
  320620161224,HAZMAT,    14,  1,      6,      6,2,20170101,1801,-66.3817, -74.4632, 3600,     76.9,  -0.5421,9,-999.0000,  34.0372,2,-999.0000,9,    356.6,2,   -999.0,9,  -999.00,9,  -999.00,9,  -999.00,9,  -999.00,9,     -999,9,   -999.0,9,-999.0000,9,  -999.00,  -999.00,9,9, 20170101,     1802
  320620161224,HAZMAT,    14,  1,      2,      2,2,20170101,1801,-66.3817, -74.4632, 3600,     76.8,  -0.5179,9,-999.0000,  34.0372,2,-999.0000,9,    356.6,2,   -999.0,9,  -999.00,9,  -999.00,9,  -999.00,9,  -999.00,9,     -999,9,   -999.0,9,-999.0000,9,  -999.00,  -999.00,9,9, 20170101,     1801
  320620161224,HAZMAT,    14,  1,      7,      7,2,20170101,1801,-66.3817, -74.4632, 3600,     76.7,  -0.5122,2,  -0.5089,  34.0371,2,-999.0000,9,    356.7,2,   -999.0,9,  -999.00,9,  -999.00,9,  -999.00,9,  -999.00,9,     -999,9,   -999.0,9,-999.0000,9,  -999.00,  -999.00,9,2, 20170101,     1802
  320620161224,HAZMAT,    14,  1,      1,      1,2,20170101,1801,-66.3817, -74.4632, 3600,     76.6,  -0.5053,9,-999.0000,  34.0371,2,-999.0000,9,    356.7,2,   -999.0,9,  -999.00,9,  -999.00,9,  -999.00,9,  -999.00,9,     -999,9,   -999.0,9,-999.0000,9,  -999.00,  -999.00,9,9, 20170101,     1801
  320620161224,HAZMAT,    14,  1,      4,      4,2,20170101,1801,-66.3817, -74.4632, 3600,     76.7,  -0.5302,9,-999.0000,  34.0371,2,-999.0000,9,    356.7,2,   -999.0,9,  -999.00,9,  -999.00,9,  -999.00,9,  -999.00,9,     -999,9,   -999.0,9,-999.0000,9,  -999.00,     0.32,2,9, 20170101,     1801
  320620161224,HAZMAT,    14,  1,      3,      3,2,20170101,1801,-66.3817, -74.4632, 3600,     76.2,  -0.4856,2,  -0.5101,  34.0370,2,-999.0000,9,    356.8,2,   -999.0,9,  -999.00,9,  -999.00,9,  -999.00,9,  -999.00,9,     -999,9,   -999.0,9,-999.0000,9,  -999.00,  -999.00,9,2, 20170101,     1801
  320620161224,HAZMAT,    14,  1,      5,      5,2,20170101,1801,-66.3817, -74.4632, 3600,     76.2,  -0.4767,2,  -0.5021,  34.0370,2,-999.0000,9,    356.8,2,   -999.0,9,    56.20,2,    26.60,2,     0.13,2,     1.85,2,     0.77,2,   -999.0,9,-999.0000,9,  -999.00,  -999.00,9,2, 20170101,     1802
  320620161224,HAZMAT,    14,  1,      9,      9,2,20170101,1801,-66.3817, -74.4632, 3600,      3.5,   1.2720,9,-999.0000,  33.8398,2,-999.0000,9,    345.8,2,   -999.0,9,  -999.00,9,  -999.00,9,  -999.00,9,  -999.00,9,     -999,9,   -999.0,9,-999.0000,9,  -999.00,  -999.00,9,9, 20170101,     1804
  320620161224,HAZMAT,    14,  1,     13,     13,2,20170101,1801,-66.3817, -74.4632, 3600,      3.2,   1.2770,9,-999.0000,  33.8397,2,-999.0000,9,    345.8,2,   -999.0,9,  -999.00,9,  -999.00,9,  -999.00,9,  -999.00,9,     -999,9,   -999.0,9,-999.0000,9,  -999.00,  -999.00,9,9, 20170101,     1804
  320620161224,HAZMAT,    14,  1,     11,     11,2,20170101,1801,-66.3817, -74.4632, 3600,      3.0,   1.2597,9,-999.0000,  33.8397,2,-999.0000,9,    345.8,2,   -999.0,9,    37.70,2,    23.04,2,     0.21,2,     1.73,2,     1.32,2,   -999.0,9,-999.0000,9,  -999.00,     0.09,2,9, 20170101,     1804
  320620161224,HAZMAT,    14,  1,     14,     14,2,20170101,1801,-66.3817, -74.4632, 3600,      2.9,   1.2832,2,   1.2801,  33.8397,2,-999.0000,9,    345.8,2,   -999.0,9,  -999.00,9,  -999.00,9,  -999.00,9,  -999.00,9,     -999,9,   -999.0,9,-999.0000,9,  -999.00,  -999.00,9,2, 20170101,     1804
  320620161224,HAZMAT,    14,  1,     12,     12,2,20170101,1801,-66.3817, -74.4632, 3600,      2.7,   1.2662,2,   1.2767,  33.8396,2,-999.0000,9,    345.8,2,   -999.0,9,  -999.00,9,  -999.00,9,  -999.00,9,  -999.00,9,     -999,9,   -999.0,9,-999.0000,9,  -999.00,  -999.00,9,2, 20170101,     1804
  320620161224,HAZMAT,    14,  1,     10,     10,2,20170101,1801,-66.3817, -74.4632, 3600,      2.6,   1.2627,2,   1.2631,  33.8396,2,-999.0000,9,    345.8,2,   -999.0,9,  -999.00,9,  -999.00,9,  -999.00,9,  -999.00,9,     -999,9,   -999.0,9,-999.0000,9,  -999.00,  -999.00,9,2, 20170101,     1804
  320620161224,HAZMAT,    14,  1,      8,      8,2,20170101,1801,-66.3817, -74.4632, 3600,      2.4,   1.2513,2,   1.2606,  33.8396,2,-999.0000,9,    345.8,2,   -999.0,9,  -999.00,9,  -999.00,9,  -999.00,9,  -999.00,9,     -999,9,   -999.0,9,-999.0000,9,  -999.00,  -999.00,9,2, 20170101,     1804
  320620161224,HAZMAT,    14,  2,      1,      1,2,20170101,1955,-66.3817, -74.4632, 3600,   3627.3,   0.4028,9,-999.0000,  34.7031,2,  34.7026,2,    194.0,2,    210.7,2,   143.30,2,    32.69,2,     0.00,2,     2.31,2,        0,2,   2363.4,6,   7.5906,6,    25.00,  -999.00,9,9, 20170101,     1955
  320620161224,HAZMAT,    14,  2,      2,      2,2,20170101,1955,-66.3817, -74.4632, 3600,   3359.2,   0.4576,2,   0.4577,  34.7037,2,  34.7037,2,    194.6,2,    209.9,2,   137.60,2,    32.59,2,     0.00,2,     2.30,2,        0,2,   2362.1,2,   7.5889,2,    25.00,  -999.00,9,2, 20170101,     2001
  320620161224,HAZMAT,    14,  2,      3,      3,2,20170101,1955,-66.3817, -74.4632, 3600,   3052.1,   0.4960,2,   0.4959,  34.7033,2,  34.7024,2,    195.0,2,    209.1,2,   134.40,2,    32.49,2,     0.00,2,     2.29,2,        0,2,   2360.7,2,   7.5828,2,    25.00,  -999.00,9,2, 20170101,     2008
  320620161224,HAZMAT,    14,  2,      4,      4,2,20170101,1955,-66.3817, -74.4632, 3600,   2744.7,   0.5661,2,   0.5658,  34.7046,2,  34.7049,2,    194.9,2,    207.5,2,   131.40,2,    32.45,2,     0.00,2,     2.28,2,        0,2,   2362.1,2,   7.5936,2,    25.00,  -999.00,9,2, 20170101,     2014
  320620161224,HAZMAT,    14,  2,      6,      6,2,20170101,1955,-66.3817, -74.4632, 3600,   2438.8,   0.7017,2,   0.7012,  34.7074,2,  34.7094,2,    193.6,2,    204.8,2,   126.70,2,    32.24,2,     0.00,2,     2.27,2,        0,2,   2359.3,2,   7.5807,3,    25.00,  -999.00,9,2, 20170101,     2021
  320620161224,HAZMAT,    14,  2,      5,      5,2,20170101,1955,-66.3817, -74.4632, 3600,   2438.3,   0.7019,2,   0.7016,  34.7074,2,  34.7078,2,    193.6,2,    205.9,2,   126.90,2,    32.26,2,     0.00,2,     2.27,2,        0,2,   2361.4,2,   7.5944,2,    25.00,  -999.00,9,2, 20170101,     2021
  320620161224,HAZMAT,    14,  2,      7,      7,2,20170101,1955,-66.3817, -74.4632, 3600,   2029.6,   0.8935,2,   0.8935,  34.7126,2,  34.7139,2,    192.0,2,    202.0,2,   120.30,2,    32.02,2,     0.00,2,     2.25,2,        0,2,   2361.4,2,   7.5965,2,    25.00,  -999.00,9,2, 20170101,     2030
  320620161224,HAZMAT,    14,  2,      8,      8,2,20170101,1955,-66.3817, -74.4632, 3600,   1621.5,   1.0970,2,   1.0968,  34.7195,2,  34.7227,2,    189.8,2,  -3939.6,4,   113.50,2,    31.85,2,     0.00,2,     2.24,2,        0,2,   2360.4,2,   7.5958,2,    25.00,  -999.00,9,2, 20170101,     2038
  320620161224,HAZMAT,    14,  2,      9,      9,2,20170101,1955,-66.3817, -74.4632, 3600,   1216.1,   1.3516,2,   1.3512,  34.7266,2,  34.7291,2,    186.5,2,    192.9,2,   104.30,2,    31.58,2,     0.00,2,     2.24,2,        0,2,   2357.4,2,   7.5889,2,    25.00,  -999.00,9,2, 20170101,     2046
  320620161224,HAZMAT,    14,  2,     10,     10,2,20170101,1955,-66.3817, -74.4632, 3600,    911.0,   1.6287,2,   1.6285,  34.7280,2,  34.7292,2,    182.6,2,    187.3,2,    96.70,2,    31.50,2,     0.00,2,     2.23,2,        0,2,   2353.3,2,   7.5878,2,    25.00,  -999.00,9,2, 20170101,     2053
  320620161224,HAZMAT,    14,  2,     11,     11,2,20170101,1955,-66.3817, -74.4632, 3600,    810.3,   1.7239,2,   1.7237,  34.7271,2,  34.7283,2,    181.8,2,    185.7,2,    93.60,2,    31.56,2,     0.00,2,     2.22,2,        0,2,   2352.1,2,   7.5869,2,    25.00,  -999.00,9,2, 20170101,     2057
  320620161224,HAZMAT,    14,  2,     12,     12,2,20170101,1955,-66.3817, -74.4632, 3600,    708.9,   1.8193,2,   1.8189,  34.7224,2,  34.7228,2,    179.7,2,    183.2,2,    91.00,2,    31.68,2,     0.00,2,     2.23,2,        0,2,   2349.8,2,   7.5821,2,    25.00,  -999.00,9,2, 20170101,     2100
  320620161224,HAZMAT,    14,  2,     13,     13,2,20170101,1955,-66.3817, -74.4632, 3600,    607.4,   1.9076,2,   1.9074,  34.7133,2,  34.7120,2,    176.9,2,    179.9,2,    88.90,2,    31.90,2,     0.00,2,     2.26,2,        0,2,   2348.4,2,   7.5765,2,    25.00,  -999.00,9,2, 20170101,     2103
  320620161224,HAZMAT,    14,  2,     14,     14,2,20170101,1955,-66.3817, -74.4632, 3600,    505.8,   1.9756,2,   1.9752,  34.6973,2,  34.6995,2,    174.2,2,    177.0,2,    86.50,2,    32.26,2,     0.00,2,     2.27,2,        0,2,   2347.3,2,   7.5708,2,    25.00,  -999.00,9,2, 20170101,     2107
  320620161224,HAZMAT,    14,  2,     15,     15,2,20170101,1955,-66.3817, -74.4632, 3600,    404.7,   2.0253,2,   2.0249,  34.6754,2,  34.6691,2,    171.9,2,    174.1,2,    84.10,2,    32.78,2,     0.00,2,     2.30,2,        0,2,   2342.6,2,   7.5596,2,    25.00,  -999.00,9,2, 20170101,     2110
  320620161224,HAZMAT,    14,  2,     16,     16,2,20170101,1955,-66.3817, -74.4632, 3600,    354.2,   2.0317,2,   2.0315,  34.6536,2,  34.6488,2,    170.6,2,    172.8,2,    83.30,2,    33.20,2,     0.00,2,     2.33,2,        0,2,   2339.8,2,   7.5468,2,    25.00,  -999.00,9,2, 20170101,     2112
  320620161224,HAZMAT,    14,  2,     17,     17,2,20170101,1955,-66.3817, -74.4632, 3600,    303.7,   2.0290,9,-999.0000,  34.6269,2,  34.6310,2,    170.7,2,    172.0,2,    83.20,2,    33.68,2,     0.00,2,     2.34,2,        0,2,   2338.4,2,   7.5376,2,    25.00,  -999.00,9,9, 20170101,     2114
  320620161224,HAZMAT,    14,  2,     18,     18,2,20170101,1955,-66.3817, -74.4632, 3600,    252.9,   1.9849,9,-999.0000,  34.6030,2,  34.6024,2,    171.8,2,    172.9,2,    80.40,2,    33.94,2,     0.01,2,     2.42,2,     0.02,2,   2336.3,2,   7.5400,2,    25.00,  -999.00,9,9, 20170101,     2117
  320620161224,HAZMAT,    14,  2,     19,     19,2,20170101,1955,-66.3817, -74.4632, 3600,    202.9,   1.8485,9,-999.0000,  34.5455,2,  34.5440,2,    177.1,2,    177.8,2,    77.60,2,    34.40,2,     0.02,2,     2.40,2,        0,2,   2331.9,2,   7.5310,2,    25.00,  -999.00,9,9, 20170101,     2119
  320620161224,HAZMAT,    14,  2,     20,     20,2,20170101,1955,-66.3817, -74.4632, 3600,    152.3,   1.2412,9,-999.0000,  34.4322,2,  34.4063,2,    203.4,2,    202.3,2,    71.80,2,    34.20,2,     0.12,2,     2.40,2,     0.12,2,   2321.1,2,   7.5332,2,    25.00,  -999.00,9,9, 20170101,     2121
  320620161224,HAZMAT,    14,  2,     21,     21,2,20170101,1955,-66.3817, -74.4632, 3600,    101.8,  -1.0965,9,-999.0000,  34.0641,2,  34.0528,2,    339.7,2,    337.7,2,    60.90,2,    28.02,2,     0.12,2,     2.06,2,     1.35,2,   2305.6,2,   7.6334,2,    25.00,  -999.00,9,9, 20170101,     2123
  320620161224,HAZMAT,    14,  2,     22,     22,2,20170101,1955,-66.3817, -74.4632, 3600,     76.6,  -0.7887,9,-999.0000,  34.0371,2,  34.0041,2,    356.7,2,    350.9,2,    53.40,2,    26.07,2,     0.17,2,     1.92,2,     1.41,2,   2300.2,2,   7.6601,2,    25.00,  -999.00,9,9, 20170101,     2125
  320620161224,HAZMAT,    14,  2,     23,     23,2,20170101,1955,-66.3817, -74.4632, 3600,     31.0,   0.5646,9,-999.0000,  33.9360,2,  33.8839,2,    349.0,2,    347.5,2,    39.40,2,    23.59,2,     0.18,2,     1.72,2,     1.23,2,   2291.2,2,   7.6991,2,    25.00,  -999.00,9,9, 20170101,     2128
  320620161224,HAZMAT,    14,  2,     24,     24,2,20170101,1955,-66.3817, -74.4632, 3600,      5.4,   1.2896,9,-999.0000,  33.8402,2,  33.8422,2,    345.9,2,    344.4,2,    37.80,2,    23.08,2,     0.21,2,     1.68,2,     1.23,2,   2289.3,6,   7.7024,6,    25.00,  -999.00,9,9, 20170101,     2130
  320620161224,HAZMAT,    15,  1,      2,      2,2,20170102,2200,-67.2498, -84.2307, 4285,     56.1,  -1.1534,9,-999.0000,  33.8262,2,-999.0000,9,    358.5,2,   -999.0,9,  -999.00,9,  -999.00,9,  -999.00,9,  -999.00,9,     -999,9,   -999.0,9,-999.0000,9,  -999.00,  -999.00,9,9, 20170102,     2200
  320620161224,HAZMAT,    15,  1,      8,      8,2,20170102,2200,-67.2498, -84.2307, 4285,     56.1,  -1.1506,9,-999.0000,  33.8261,2,-999.0000,9,    358.5,2,   -999.0,9,  -999.00,9,  -999.00,9,  -999.00,9,  -999.00,9,     -999,9,   -999.0,9,-999.0000,9,  -999.00,  -999.00,9,9, 20170102,     2200
  320620161224,HAZMAT,    15,  1,      4,      4,2,20170102,2200,-67.2498, -84.2307, 4285,     55.9,  -1.1483,9,-999.0000,  33.8259,2,-999.0000,9,    358.3,2,   -999.0,9,  -999.00,9,  -999.00,9,  -999.00,9,  -999.00,9,     -999,9,   -999.0,9,-999.0000,9,  -999.00,  -999.00,9,9, 20170102,     2200
  320620161224,HAZMAT,    15,  1,      7,      7,2,20170102,2200,-67.2498, -84.2307, 4285,     55.8,  -1.1444,2,  -1.1482,  33.8257,2,-999.0000,9,    358.2,2,   -999.0,9,  -999.00,9,  -999.00,9,  -999.00,9,  -999.00,9,     -999,9,   -999.0,9,-999.0000,9,  -999.00,  -999.00,9,2, 20170102,     2200
  320620161224,HAZMAT,    15,  1,      5,      5,2,20170102,2200,-67.2498, -84.2307, 4285,     55.8,  -1.1472,2,  -1.1447,  33.8258,2,-999.0000,9,    358.3,2,   -999.0,9,  -999.00,9,  -999.00,9,  -999.00,9,  -999.00,9,     -999,9,   -999.0,9,-999.0000,9,  -999.00,  -999.00,9,2, 20170102,     2200
  320620161224,HAZMAT,    15,  1,      6,      6,2,20170102,2200,-67.2498, -84.2307, 4285,     55.7,  -1.1442,9,-999.0000,  33.8255,2,-999.0000,9,    358.1,2,   -999.0,9,  -999.00,9,  -999.00,9,  -999.00,9,  -999.00,9,     -999,9,   -999.0,9,-999.0000,9,  -999.00,  -999.00,9,9, 20170102,     2200
  320620161224,HAZMAT,    15,  1,      1,      1,2,20170102,2200,-67.2498, -84.2307, 4285,     55.6,  -1.1816,9,-999.0000,  33.8254,2,-999.0000,9,    358.1,2,   -999.0,9,  -999.00,9,  -999.00,9,  -999.00,9,  -999.00,9,     -999,9,   -999.0,9,-999.0000,9,  -999.00,  -999.00,9,9, 20170102,     2200
  320620161224,HAZMAT,    15,  1,      3,      3,2,20170102,2200,-67.2498, -84.2307, 4285,     55.5,  -1.1546,2,  -1.1515,  33.8253,2,-999.0000,9,    358.0,2,   -999.0,9,  -999.00,9,  -999.00,9,  -999.00,9,  -999.00,9,     -999,9,   -999.0,9,-999.0000,9,  -999.00,     0.33,2,2, 20170102,     2200
  320620161224,HAZMAT,    15,  1,      9,      9,2,20170102,2200,-67.2498, -84.2307, 4285,     55.2,  -1.1491,2,  -1.1480,  33.8249,2,-999.0000,9,    357.8,2,   -999.0,9,  -999.00,9,  -999.00,9,  -999.00,9,  -999.00,9,     -999,9,   -999.0,9,-999.0000,9,  -999.00,  -999.00,9,2, 20170102,     2201
  320620161224,HAZMAT,    15,  1,     11,     11,2,20170102,2200,-67.2498, -84.2307, 4285,      6.8,   0.7804,9,-999.0000,  33.6441,2,-999.0000,9,    335.2,2,   -999.0,9,  -999.00,9,  -999.00,9,  -999.00,9,  -999.00,9,     -999,9,   -999.0,9,-999.0000,9,  -999.00,  -999.00,9,9, 20170102,     2202
  320620161224,HAZMAT,    15,  1,     15,     15,2,20170102,2200,-67.2498, -84.2307, 4285,      6.7,   0.7815,9,-999.0000,  33.6441,2,-999.0000,9,    335.2,2,   -999.0,9,  -999.00,9,  -999.00,9,  -999.00,9,  -999.00,9,     -999,9,   -999.0,9,-999.0000,9,  -999.00,  -999.00,9,9, 20170102,     2203
  320620161224,HAZMAT,    15,  1,     18,     18,2,20170102,2200,-67.2498, -84.2307, 4285,      6.5,   0.7789,2,   0.7787,  33.6441,2,-999.0000,9,    335.2,2,   -999.0,9,  -999.00,9,  -999.00,9,  -999.00,9,  -999.00,9,     -999,9,   -999.0,9,-999.0000,9,  -999.00,  -999.00,9,2, 20170102,     2203
  320620161224,HAZMAT,    15,  1,     13,     13,2,20170102,2200,-67.2498, -84.2307, 4285,      6.5,   0.7803,9,-999.0000,  33.6441,2,-999.0000,9,    335.2,2,   -999.0,9,  -999.00,9,  -999.00,9,  -999.00,9,  -999.00,9,     -999,9,   -999.0,9,-999.0000,9,  -999.00,  -999.00,9,9, 20170102,     2203
  320620161224,HAZMAT,    15,  1,     17,     17,2,20170102,2200,-67.2498, -84.2307, 4285,      6.4,   0.7794,9,-999.0000,  33.6441,2,-999.0000,9,    335.2,2,   -999.0,9,  -999.00,9,  -999.00,9,  -999.00,9,  -999.00,9,     -999,9,   -999.0,9,-999.0000,9,  -999.00,  -999.00,9,9, 20170102,     2203
  320620161224,HAZMAT,    15,  1,     14,     14,2,20170102,2200,-67.2498, -84.2307, 4285,      6.2,   0.7799,2,   0.7809,  33.6441,2,-999.0000,9,    335.2,2,   -999.0,9,  -999.00,9,  -999.00,9,  -999.00,9,  -999.00,9,     -999,9,   -999.0,9,-999.0000,9,  -999.00,  -999.00,9,2, 20170102,     2203
  320620161224,HAZMAT,    15,  1,     10,     10,2,20170102,2200,-67.2498, -84.2307, 4285,      6.2,   0.7783,2,   0.7797,  33.6441,2,-999.0000,9,    335.2,2,   -999.0,9,  -999.00,9,  -999.00,9,  -999.00,9,  -999.00,9,     -999,9,   -999.0,9,-999.0000,9,  -999.00,  -999.00,9,2, 20170102,     2202
  320620161224,HAZMAT,    15,  1,     16,     16,2,20170102,2200,-67.2498, -84.2307, 4285,      6.1,   0.7787,2,   0.7798,  33.6441,2,-999.0000,9,    335.2,2,   -999.0,9,  -999.00,9,  -999.00,9,  -999.00,9,  -999.00,9,     -999,9,   -999.0,9,-999.0000,9,  -999.00,     0.12,2,2, 20170102,     2203
  320620161224,HAZMAT,    15,  1,     12,     12,2,20170102,2200,-67.2498, -84.2307, 4285,      6.0,   0.7782,2,   0.7794,  33.6440,2,-999.0000,9,    335.2,2,   -999.0,9,  -999.00,9,  -999.00,9,  -999.00,9,  -999.00,9,     -999,9,   -999.0,9,-999.0000,9,  -999.00,  -999.00,9,2, 20170102,     2203