BOTTLE,20190617PRINUNIVRMK
EXPOCODE,SECT_ID,STNNBR,CASTNO,SAMPNO,BTLNBR,BTLNBR_FLAG_W,DATE,TIME,LATITUDE,LONGITUDE,DEPTH,CTDPRS,CTDTMP,SBE35_FLAG_W,REFTMP,CTDSAL,CTDSAL_FLAG_W,SALNTY,SALNTY_FLAG_W,CTDOXY,CTDOXY_FLAG_W,OXYGEN,OXYGEN_FLAG_W,SILCAT,SILCAT_FLAG_W,NITRAT,NITRAT_FLAG_W,NITRIT,NITRIT_FLAG_W,PHSPHT,PHSPHT_FLAG_W,NH4,NH4_FLAG_W,ALKALI,ALKALI_FLAG_W,PH_TOT,PH_TOT_FLAG_W,PH_TMP,CHLORA,CHLORA_FLAG_W,SBE35_FLAG_W,BTL_DATE,BTL_TIME
,,,,,,,,,,,METERS,DBAR,ITS-90,,,PSS-78,,PSS-78,,UMOL/KG,,UMOL/KG,,UMOL/KG,,UMOL/KG,,UMOL/KG,,UMOL/KG,,UMOL/KG,,UMOL/KG,,,,DEG C,UG/KG,,,,
  320620161224,HAZMAT,    19,  4,      1,      1,2,20170109,0356,-70.6506,-136.5905, 4350,   2031.1,   0.7394,9,-999.0000,-999.0000,0,  34.7086,2,   -999.0,0,    202.6,2,   124.30,2,    32.26,2,     0.00,2,     2.24,2,        0,2,   2361.5,6,   7.5912,6,    25.00,  -999.00,9,9, 20170110,      356
  320620161224,HAZMAT,    19,  4,      2,      2,2,20170109,0356,-70.6506,-136.5905, 4350,   1827.0,   0.8186,2,   0.8180,  34.7136,2,  34.7104,2,    201.5,2,    201.7,2,   121.50,2,    32.12,2,     0.00,2,     2.24,2,        0,2,   2360.6,2,   7.5912,2,    25.00,  -999.00,9,2, 20170110,      401
  320620161224,HAZMAT,    19,  4,      3,      3,2,20170109,0356,-70.6506,-136.5905, 4350,   1623.0,   0.8948,2,   0.8944,  34.7164,2,  34.7140,2,    199.7,2,    199.8,2,   118.70,2,    32.11,2,     0.00,2,     2.24,2,        0,2,   2360.3,2,   7.5913,2,    25.00,  -999.00,9,2, 20170110,      406
  320620161224,HAZMAT,    19,  4,      4,      4,2,20170109,0356,-70.6506,-136.5905, 4350,   1419.1,   0.9981,2,   0.9978,  34.7204,2,  34.7175,2,    197.4,2,    197.4,2,   115.10,2,    31.91,2,     0.00,2,     2.24,2,        0,2,   2360.9,2,   7.5918,2,    25.00,  -999.00,9,2, 20170110,      411
  320620161224,HAZMAT,    19,  4,      5,      5,2,20170109,0356,-70.6506,-136.5905, 4350,   1317.3,   1.0531,2,   1.0534,  34.7223,2,  34.7202,2,    196.0,2,    195.9,2,   113.20,2,    31.87,2,     0.00,2,     2.24,2,        0,2,   2359.2,2,   7.5900,2,    25.00,  -999.00,9,2, 20170110,      414
  320620161224,HAZMAT,    19,  4,      6,      6,2,20170109,0356,-70.6506,-136.5905, 4350,   1216.0,   1.1086,2,   1.1082,  34.7246,2,  34.7223,2,    194.4,2,    194.1,2,   111.20,2,    31.87,2,     0.00,2,     2.23,2,        0,2,   2356.1,2,   7.5798,2,    25.00,  -999.00,9,2, 20170110,      417
  320620161224,HAZMAT,    19,  4,      7,      7,2,20170109,0356,-70.6506,-136.5905, 4350,   1114.4,   1.1832,2,   1.1827,  34.7271,2,  34.7252,2,    193.0,2,    192.9,2,   108.80,2,    31.77,2,     0.00,2,     2.22,2,        0,2,   2357.2,2,   7.5861,2,    25.00,  -999.00,9,2, 20170110,      420
  320620161224,HAZMAT,    19,  4,      8,      8,2,20170109,0356,-70.6506,-136.5905, 4350,   1012.6,   1.2476,2,   1.2472,  34.7288,2,  34.7269,2,    191.4,2,    190.8,2,   107.10,2,    31.78,2,     0.00,2,     2.22,2,        0,2,   2356.1,2,   7.5851,2,    25.00,  -999.00,9,2, 20170110,      423
  320620161224,HAZMAT,    19,  4,      9,      9,2,20170109,0356,-70.6506,-136.5905, 4350,    911.3,   1.3146,2,   1.3143,  34.7305,2,  34.7286,2,    189.7,2,    189.3,2,   104.70,2,    31.84,2,     0.00,2,     2.22,2,        0,2,   2355.4,2,   7.5837,2,    25.00,  -999.00,9,2, 20170110,      425
  320620161224,HAZMAT,    19,  4,     10,     10,2,20170109,0356,-70.6506,-136.5905, 4350,    809.9,   1.3915,2,   1.3913,  34.7316,2,  34.7302,2,    188.3,2,    188.0,2,   102.30,2,    31.80,2,     0.00,2,     2.22,2,        0,2,   2353.9,2,   7.5820,2,    25.00,  -999.00,9,2, 20170110,      428
  320620161224,HAZMAT,    19,  4,     11,     11,2,20170109,0356,-70.6506,-136.5905, 4350,    708.5,   1.4797,2,   1.4794,  34.7327,2,  34.7294,2,    188.6,2,    188.4,2,    98.80,2,    31.49,2,     0.00,2,     2.19,2,        0,2,   2352.9,2,   7.5843,2,    25.00,  -999.00,9,2, 20170110,      431
  320620161224,HAZMAT,    19,  4,     12,     12,2,20170109,0356,-70.6506,-136.5905, 4350,    607.4,   1.5765,2,   1.5758,  34.7312,2,  34.7298,2,    187.1,2,    187.0,2,    95.40,2,    31.46,2,     0.00,2,     2.20,2,        0,2,   2351.5,2,   7.5836,2,    25.00,  -999.00,9,2, 20170110,      434
  320620161224,HAZMAT,    19,  4,     13,     13,2,20170109,0356,-70.6506,-136.5905, 4350,    506.3,   1.6760,2,   1.6757,  34.7271,2,  34.7263,2,    184.9,2,    184.6,2,    92.30,2,    31.51,2,     0.00,2,     2.20,2,        0,2,   2347.2,2,-999.0000,9,  -999.00,  -999.00,9,2, 20170110,      436
  320620161224,HAZMAT,    19,  4,     14,     14,2,20170109,0356,-70.6506,-136.5905, 4350,    404.4,   1.7772,2,   1.7765,  34.7179,2,  34.7159,2,    181.6,2,    181.8,2,    89.40,2,    31.79,2,     0.00,2,     2.22,2,        0,2,   2346.5,2,   7.5746,2,    25.00,  -999.00,9,2, 20170110,      439
  320620161224,HAZMAT,    19,  4,     15,     15,2,20170109,0356,-70.6506,-136.5905, 4350,    354.5,   1.8209,2,   1.8204,  34.7089,2,  34.7057,2,    179.7,2,    179.7,2,    87.90,2,    32.18,2,     0.00,2,     2.23,2,        0,2,   2342.4,2,   7.5540,2,    25.00,  -999.00,9,2, 20170110,      441
  320620161224,HAZMAT,    19,  4,     16,     16,2,20170109,0356,-70.6506,-136.5905, 4350,    303.6,   1.8373,2,   1.8371,  34.6933,2,  34.6898,2,    177.7,2,    177.6,2,    86.10,2,    32.50,2,     0.00,2,     2.25,2,        0,2,   2342.1,2,   7.5563,2,    25.00,  -999.00,9,2, 20170110,      443
  320620161224,HAZMAT,    19,  4,     17,     17,2,20170109,0356,-70.6506,-136.5905, 4350,    253.6,   1.8205,2,   1.8210,  34.6582,2,  34.6592,2,    178.3,2,    176.9,2,    84.50,2,    32.96,2,     0.00,2,     2.27,2,        0,2,   2338.5,2,   7.5463,2,    25.00,  -999.00,9,2, 20170110,      445
  320620161224,HAZMAT,    19,  4,     18,     18,2,20170109,0356,-70.6506,-136.5905, 4350,    202.4,   1.1356,2,   1.1369,  34.5183,2,  34.5129,2,    207.4,2,    201.6,2,    76.60,2,    32.60,2,     0.00,2,     2.26,2,        0,2,   2328.2,2,   7.5495,2,    25.00,  -999.00,9,2, 20170110,      447
  320620161224,HAZMAT,    19,  4,     19,     19,2,20170109,0356,-70.6506,-136.5905, 4350,    152.3,  -0.3952,2,  -0.3912,  34.2690,2,  34.2429,2,    258.4,2,    259.2,2,    62.00,2,    30.30,2,     0.01,2,     2.13,2,        0,2,   2312.0,2,   7.5856,2,    25.00,  -999.00,9,2, 20170110,      449
  320620161224,HAZMAT,    19,  4,     20,     20,2,20170109,0356,-70.6506,-136.5905, 4350,    106.1,  -1.4588,2,  -1.4581,  34.0696,2,  34.0577,2,    294.4,2,    296.4,2,    53.00,2,    28.46,2,     0.19,2,     2.02,2,     0.01,2,   2300.0,2,   7.6106,2,    25.00,  -999.00,9,2, 20170110,      451
  320620161224,HAZMAT,    19,  4,     21,     21,2,20170109,0356,-70.6506,-136.5905, 4350,     71.2,  -1.7006,2,  -1.6982,  34.0022,2,  33.9965,2,    309.9,2,    308.6,2,    50.90,2,    27.52,2,     0.23,2,     1.95,2,     0.13,2,   2297.6,2,   7.6219,2,    25.00,  -999.00,9,2, 20170110,      453
  320620161224,HAZMAT,    19,  4,     22,     22,2,20170109,0356,-70.6506,-136.5905, 4350,     55.7,  -1.6955,2,  -1.6954,  33.9729,2,  33.9707,2,    315.5,2,    313.8,2,    50.20,2,    27.11,2,     0.21,2,     1.93,2,     0.18,2,   2296.2,2,   7.6319,2,    25.00,  -999.00,9,2, 20170110,      454
  320620161224,HAZMAT,    19,  4,     23,     23,2,20170109,0356,-70.6506,-136.5905, 4350,     25.2,  -1.4251,2,  -1.4255,  33.6717,2,  33.5219,2,    340.9,2,    342.2,2,    47.20,2,    25.47,2,     0.23,2,     1.80,2,     0.17,2,   2262.3,2,   7.6338,2,    25.00,  -999.00,9,2, 20170110,      456
  320620161224,HAZMAT,    19,  4,     24,     24,2,20170109,0356,-70.6506,-136.5905, 4350,      1.6,  -1.2015,2,  -1.2028,  33.1607,2,  33.1598,2,    352.0,2,    331.5,2,    45.30,2,    24.82,2,     0.28,2,     1.74,2,     0.19,2,   2242.7,6,   7.6645,6,    25.00,  -999.00,9,2, 20170110,      458
  320620161224,HAZMAT,    20,  1,      2,      2,2,20170111,0621,-72.3434,-146.3450, 4199,     61.9,  -1.5607,2,  -1.5556,  34.0764,2,-999.0000,9,    459.8,2,   -999.0,9,  -999.00,9,  -999.00,9,  -999.00,9,  -999.00,9,     -999,9,   -999.0,9,-999.0000,9,  -999.00,  -999.00,9,2, 20170111,      621
  320620161224,HAZMAT,    20,  1,      9,      9,2,20170111,0621,-72.3434,-146.3450, 4199,     61.9,  -1.5561,9,-999.0000,  34.0764,2,-999.0000,9,    459.8,2,   -999.0,9,  -999.00,9,  -999.00,9,  -999.00,9,  -999.00,9,     -999,9,   -999.0,9,-999.0000,9,  -999.00,  -999.00,9,9, 20170111,      621
  320620161224,HAZMAT,    20,  1,      8,      8,2,20170111,0621,-72.3434,-146.3450, 4199,     61.9,  -1.5567,2,  -1.5550,  34.0764,2,-999.0000,9,    459.8,2,   -999.0,9,  -999.00,9,  -999.00,9,  -999.00,9,  -999.00,9,     -999,9,   -999.0,9,-999.0000,9,  -999.00,  -999.00,9,2, 20170111,      621
  320620161224,HAZMAT,    20,  1,      5,      5,2,20170111,0621,-72.3434,-146.3450, 4199,     61.9,  -1.5561,9,-999.0000,  34.0764,2,-999.0000,9,    459.8,2,   -999.0,9,  -999.00,9,  -999.00,9,  -999.00,9,  -999.00,9,     -999,9,   -999.0,9,-999.0000,9,  -999.00,  -999.00,9,9, 20170111,      621
  320620161224,HAZMAT,    20,  1,      3,      3,2,20170111,0621,-72.3434,-146.3450, 4199,     61.8,  -1.5516,9,-999.0000,  34.0763,2,-999.0000,9,    459.9,2,   -999.0,9,  -999.00,9,  -999.00,9,  -999.00,9,  -999.00,9,     -999,9,   -999.0,9,-999.0000,9,  -999.00,     0.21,2,9, 20170111,      621
  320620161224,HAZMAT,    20,  1,      4,      4,2,20170111,0621,-72.3434,-146.3450, 4199,     61.8,  -1.5514,2,  -1.5570,  34.0763,2,-999.0000,9,    459.9,2,   -999.0,9,  -999.00,9,  -999.00,9,  -999.00,9,  -999.00,9,     -999,9,   -999.0,9,-999.0000,9,  -999.00,  -999.00,9,2, 20170111,      621
  320620161224,HAZMAT,    20,  1,      7,      7,2,20170111,0621,-72.3434,-146.3450, 4199,     61.8,  -1.5539,9,-999.0000,  34.0763,2,-999.0000,9,    459.9,2,   -999.0,9,  -999.00,9,  -999.00,9,  -999.00,9,  -999.00,9,     -999,9,   -999.0,9,-999.0000,9,  -999.00,  -999.00,9,9, 20170111,      621
  320620161224,HAZMAT,    20,  1,      1,      1,2,20170111,0621,-72.3434,-146.3450, 4199,     61.8,  -1.5598,9,-999.0000,  34.0763,2,-999.0000,9,    459.9,2,   -999.0,9,  -999.00,9,  -999.00,9,  -999.00,9,  -999.00,9,     -999,9,   -999.0,9,-999.0000,9,  -999.00,  -999.00,9,9, 20170111,      621
  320620161224,HAZMAT,    20,  1,      6,      6,2,20170111,0621,-72.3434,-146.3450, 4199,     61.8,  -1.5540,2,  -1.5574,  34.0763,2,-999.0000,9,    459.9,2,   -999.0,9,  -999.00,9,  -999.00,9,  -999.00,9,  -999.00,9,     -999,9,   -999.0,9,-999.0000,9,  -999.00,  -999.00,9,2, 20170111,      621
  320620161224,HAZMAT,    20,  1,     17,     17,2,20170111,0621,-72.3434,-146.3450, 4199,      2.7,  -1.1509,9,-999.0000,  33.5892,2,-999.0000,9,    369.8,2,   -999.0,9,  -999.00,9,  -999.00,9,  -999.00,9,  -999.00,9,     -999,9,   -999.0,9,-999.0000,9,  -999.00,  -999.00,9,9, 20170111,      624
  320620161224,HAZMAT,    20,  1,     16,     16,2,20170111,0621,-72.3434,-146.3450, 4199,      2.7,  -1.1629,2,  -1.1380,  33.5892,2,-999.0000,9,    369.8,2,   -999.0,9,  -999.00,9,  -999.00,9,  -999.00,9,  -999.00,9,     -999,9,   -999.0,9,-999.0000,9,  -999.00,     0.12,2,2, 20170111,      624
  320620161224,HAZMAT,    20,  1,     15,     15,2,20170111,0621,-72.3434,-146.3450, 4199,      2.7,  -1.1508,9,-999.0000,  33.5892,2,-999.0000,9,    369.8,2,   -999.0,9,  -999.00,9,  -999.00,9,  -999.00,9,  -999.00,9,     -999,9,   -999.0,9,-999.0000,9,  -999.00,  -999.00,9,9, 20170111,      624
  320620161224,HAZMAT,    20,  1,     18,     18,2,20170111,0621,-72.3434,-146.3450, 4199,      2.7,  -1.1456,2,  -1.1413,  33.5892,2,-999.0000,9,    369.8,2,   -999.0,9,  -999.00,9,  -999.00,9,  -999.00,9,  -999.00,9,     -999,9,   -999.0,9,-999.0000,9,  -999.00,  -999.00,9,2, 20170111,      624
  320620161224,HAZMAT,    20,  1,     10,     10,2,20170111,0621,-72.3434,-146.3450, 4199,      2.7,  -1.1139,2,  -1.0845,  33.5892,2,-999.0000,9,    369.8,2,   -999.0,9,  -999.00,9,  -999.00,9,  -999.00,9,  -999.00,9,     -999,9,   -999.0,9,-999.0000,9,  -999.00,  -999.00,9,2, 20170111,      624
  320620161224,HAZMAT,    20,  1,     14,     14,2,20170111,0621,-72.3434,-146.3450, 4199,      2.6,  -1.1349,2,  -1.1113,  33.5891,2,-999.0000,9,    369.8,2,   -999.0,9,  -999.00,9,  -999.00,9,  -999.00,9,  -999.00,9,     -999,9,   -999.0,9,-999.0000,9,  -999.00,  -999.00,9,2, 20170111,      624
  320620161224,HAZMAT,    20,  1,     11,     11,2,20170111,0621,-72.3434,-146.3450, 4199,      2.6,  -1.1087,9,-999.0000,  33.5891,2,-999.0000,9,    369.8,2,   -999.0,9,  -999.00,9,  -999.00,9,  -999.00,9,  -999.00,9,     -999,9,   -999.0,9,-999.0000,9,  -999.00,  -999.00,9,9, 20170111,      624
  320620161224,HAZMAT,    20,  1,     13,     13,2,20170111,0621,-72.3434,-146.3450, 4199,      2.6,  -1.1106,9,-999.0000,  33.5891,2,-999.0000,9,    369.7,2,   -999.0,9,  -999.00,9,  -999.00,9,  -999.00,9,  -999.00,9,     -999,9,   -999.0,9,-999.0000,9,  -999.00,  -999.00,9,9, 20170111,      624
  320620161224,HAZMAT,    20,  1,     12,     12,2,20170111,0621,-72.3434,-146.3450, 4199,      2.6,  -1.1201,2,  -1.1032,  33.5890,2,-999.0000,9,    369.7,2,   -999.0,9,  -999.00,9,  -999.00,9,  -999.00,9,  -999.00,9,     -999,9,   -999.0,9,-999.0000,9,  -999.00,  -999.00,9,2, 20170111,      624