BOTTLE,20190617PRINUNIVRMK
EXPOCODE,SECT_ID,STNNBR,CASTNO,SAMPNO,BTLNBR,BTLNBR_FLAG_W,DATE,TIME,LATITUDE,LONGITUDE,DEPTH,CTDPRS,CTDTMP,SBE35_FLAG_W,REFTMP,CTDSAL,CTDSAL_FLAG_W,SALNTY,SALNTY_FLAG_W,CTDOXY,CTDOXY_FLAG_W,OXYGEN,OXYGEN_FLAG_W,SILCAT,SILCAT_FLAG_W,NITRAT,NITRAT_FLAG_W,NITRIT,NITRIT_FLAG_W,PHSPHT,PHSPHT_FLAG_W,NH4,NH4_FLAG_W,ALKALI,ALKALI_FLAG_W,PH_TOT,PH_TOT_FLAG_W,PH_TMP,CHLORA,CHLORA_FLAG_W,SBE35_FLAG_W,BTL_DATE,BTL_TIME
,,,,,,,,,,,METERS,DBAR,ITS-90,,,PSS-78,,PSS-78,,UMOL/KG,,UMOL/KG,,UMOL/KG,,UMOL/KG,,UMOL/KG,,UMOL/KG,,UMOL/KG,,UMOL/KG,,,,DEG C,UG/KG,,,,
  320620161224,HAZMAT,    23,  1,      9,      9,2,20170112,1019,-74.6316,-153.3701, 3815,     28.5,  -1.5440,9,-999.0000,  33.8786,2,-999.0000,9,    368.9,2,   -999.0,9,  -999.00,9,  -999.00,9,  -999.00,9,  -999.00,9,     -999,9,   -999.0,9,-999.0000,9,  -999.00,  -999.00,9,9, 20170112,     1020
  320620161224,HAZMAT,    23,  1,      8,      8,2,20170112,1019,-74.6316,-153.3701, 3815,     28.5,  -1.5634,9,-999.0000,  33.8786,2,-999.0000,9,    368.9,2,   -999.0,9,  -999.00,9,  -999.00,9,  -999.00,9,  -999.00,9,     -999,9,   -999.0,9,-999.0000,9,  -999.00,  -999.00,9,9, 20170112,     1020
  320620161224,HAZMAT,    23,  1,      7,      7,2,20170112,1019,-74.6316,-153.3701, 3815,     28.5,  -1.5726,2,  -1.4797,  33.8782,2,-999.0000,9,    368.9,2,   -999.0,9,  -999.00,9,  -999.00,9,  -999.00,9,  -999.00,9,     -999,9,   -999.0,9,-999.0000,9,  -999.00,  -999.00,9,2, 20170112,     1020
  320620161224,HAZMAT,    23,  1,      1,      1,2,20170112,1019,-74.6316,-153.3701, 3815,     28.5,  -1.6703,9,-999.0000,  33.8778,2,-999.0000,9,    368.9,2,   -999.0,9,  -999.00,9,  -999.00,9,  -999.00,9,  -999.00,9,     -999,9,   -999.0,9,-999.0000,9,  -999.00,  -999.00,9,9, 20170112,     1019
  320620161224,HAZMAT,    23,  1,      6,      6,2,20170112,1019,-74.6316,-153.3701, 3815,     28.5,  -1.6330,9,-999.0000,  33.8780,2,-999.0000,9,    368.9,2,   -999.0,9,  -999.00,9,  -999.00,9,  -999.00,9,  -999.00,9,     -999,9,   -999.0,9,-999.0000,9,  -999.00,  -999.00,9,9, 20170112,     1020
  320620161224,HAZMAT,    23,  1,      2,      2,2,20170112,1019,-74.6316,-153.3701, 3815,     28.5,  -1.5955,9,-999.0000,  33.8778,2,-999.0000,9,    368.9,2,   -999.0,9,  -999.00,9,  -999.00,9,  -999.00,9,  -999.00,9,     -999,9,   -999.0,9,-999.0000,9,  -999.00,  -999.00,9,9, 20170112,     1019
  320620161224,HAZMAT,    23,  1,      5,      5,2,20170112,1019,-74.6316,-153.3701, 3815,     28.5,  -1.5676,9,-999.0000,  33.8778,2,-999.0000,9,    368.9,2,   -999.0,9,  -999.00,9,  -999.00,9,  -999.00,9,  -999.00,9,     -999,9,   -999.0,9,-999.0000,9,  -999.00,  -999.00,9,9, 20170112,     1020
  320620161224,HAZMAT,    23,  1,      4,      4,2,20170112,1019,-74.6316,-153.3701, 3815,     28.5,  -1.4965,2,  -1.4612,  33.8775,2,-999.0000,9,    368.9,2,   -999.0,9,  -999.00,9,  -999.00,9,  -999.00,9,  -999.00,9,     -999,9,   -999.0,9,-999.0000,9,  -999.00,  -999.00,9,2, 20170112,     1019
  320620161224,HAZMAT,    23,  1,      3,      3,2,20170112,1019,-74.6316,-153.3701, 3815,     28.5,  -1.5454,9,-999.0000,  33.8775,2,-999.0000,9,    368.9,2,   -999.0,9,    59.20,2,    24.59,2,     0.10,2,     1.47,2,     0.21,2,   -999.0,9,-999.0000,9,  -999.00,     1.91,2,9, 20170112,     1019
  320620161224,HAZMAT,    23,  1,     18,     18,2,20170112,1019,-74.6316,-153.3701, 3815,      2.5,  -0.8320,2,  -0.8325,  33.3708,2,-999.0000,9,    376.1,2,   -999.0,9,  -999.00,9,  -999.00,9,  -999.00,9,  -999.00,9,     -999,9,   -999.0,9,-999.0000,9,  -999.00,  -999.00,9,2, 20170112,     1021
  320620161224,HAZMAT,    23,  1,     17,     17,2,20170112,1019,-74.6316,-153.3701, 3815,      2.4,  -0.8321,9,-999.0000,  33.3708,2,-999.0000,9,    376.1,2,   -999.0,9,  -999.00,9,  -999.00,9,  -999.00,9,  -999.00,9,     -999,9,   -999.0,9,-999.0000,9,  -999.00,  -999.00,9,9, 20170112,     1021
  320620161224,HAZMAT,    23,  1,     16,     16,2,20170112,1019,-74.6316,-153.3701, 3815,      2.4,  -0.8324,9,-999.0000,  33.3708,2,-999.0000,9,    376.1,2,   -999.0,9,    53.10,2,    19.44,2,     0.14,2,     1.10,2,     0.19,2,   -999.0,9,-999.0000,9,  -999.00,     1.96,2,9, 20170112,     1021
  320620161224,HAZMAT,    23,  1,     15,     15,2,20170112,1019,-74.6316,-153.3701, 3815,      2.4,  -0.8326,9,-999.0000,  33.3708,2,-999.0000,9,    376.1,2,   -999.0,9,  -999.00,9,  -999.00,9,  -999.00,9,  -999.00,9,     -999,9,   -999.0,9,-999.0000,9,  -999.00,  -999.00,9,9, 20170112,     1021
  320620161224,HAZMAT,    23,  1,     14,     14,2,20170112,1019,-74.6316,-153.3701, 3815,      2.4,  -0.8327,2,  -0.8328,  33.3708,2,-999.0000,9,    376.1,2,   -999.0,9,  -999.00,9,  -999.00,9,  -999.00,9,  -999.00,9,     -999,9,   -999.0,9,-999.0000,9,  -999.00,  -999.00,9,2, 20170112,     1021
  320620161224,HAZMAT,    23,  1,     10,     10,2,20170112,1019,-74.6316,-153.3701, 3815,      2.4,  -0.8328,2,  -0.8332,  33.3708,2,-999.0000,9,    376.1,2,   -999.0,9,  -999.00,9,  -999.00,9,  -999.00,9,  -999.00,9,     -999,9,   -999.0,9,-999.0000,9,  -999.00,  -999.00,9,2, 20170112,     1021
  320620161224,HAZMAT,    23,  1,     12,     12,2,20170112,1019,-74.6316,-153.3701, 3815,      2.4,  -0.8328,9,-999.0000,  33.3708,2,-999.0000,9,    376.1,2,   -999.0,9,  -999.00,9,  -999.00,9,  -999.00,9,  -999.00,9,     -999,9,   -999.0,9,-999.0000,9,  -999.00,  -999.00,9,9, 20170112,     1021
  320620161224,HAZMAT,    23,  1,     13,     13,2,20170112,1019,-74.6316,-153.3701, 3815,      2.4,  -0.8328,9,-999.0000,  33.3708,2,-999.0000,9,    376.1,2,   -999.0,9,  -999.00,9,  -999.00,9,  -999.00,9,  -999.00,9,     -999,9,   -999.0,9,-999.0000,9,  -999.00,  -999.00,9,9, 20170112,     1021
  320620161224,HAZMAT,    23,  1,     11,     11,2,20170112,1019,-74.6316,-153.3701, 3815,      2.4,  -0.8328,9,-999.0000,  33.3708,2,-999.0000,9,    376.1,2,   -999.0,9,  -999.00,9,  -999.00,9,  -999.00,9,  -999.00,9,     -999,9,   -999.0,9,-999.0000,9,  -999.00,  -999.00,9,9, 20170112,     1021
  320620161224,HAZMAT,    24,  1,      5,      5,2,20170112,1905,-75.6360,-157.0124, 3541,     20.4,  -1.0772,9,-999.0000,  33.6193,2,-999.0000,9,    398.6,2,   -999.0,9,  -999.00,9,  -999.00,9,  -999.00,9,  -999.00,9,     -999,9,   -999.0,9,-999.0000,9,  -999.00,     1.86,2,9, 20170112,     1905
  320620161224,HAZMAT,    24,  1,      4,      4,2,20170112,1905,-75.6360,-157.0124, 3541,     20.4,  -1.0743,2,  -1.0788,  33.6192,2,-999.0000,9,    398.6,2,   -999.0,9,  -999.00,9,  -999.00,9,  -999.00,9,  -999.00,9,     -999,9,   -999.0,9,-999.0000,9,  -999.00,  -999.00,9,2, 20170112,     1905
  320620161224,HAZMAT,    24,  1,      6,      6,2,20170112,1905,-75.6360,-157.0124, 3541,     20.4,  -1.0738,9,-999.0000,  33.6192,2,-999.0000,9,    398.6,2,   -999.0,9,  -999.00,9,  -999.00,9,  -999.00,9,  -999.00,9,     -999,9,   -999.0,9,-999.0000,9,  -999.00,  -999.00,9,9, 20170112,     1905
  320620161224,HAZMAT,    24,  1,      3,      3,2,20170112,1905,-75.6360,-157.0124, 3541,     20.4,  -1.0767,9,-999.0000,  33.6191,2,-999.0000,9,    398.6,2,   -999.0,9,  -999.00,9,  -999.00,9,  -999.00,9,  -999.00,9,     -999,9,   -999.0,9,-999.0000,9,  -999.00,  -999.00,9,9, 20170112,     1905
  320620161224,HAZMAT,    24,  1,      7,      7,2,20170112,1905,-75.6360,-157.0124, 3541,     20.4,  -1.0701,2,  -1.0753,  33.6190,2,-999.0000,9,    398.6,2,   -999.0,9,  -999.00,9,  -999.00,9,  -999.00,9,  -999.00,9,     -999,9,   -999.0,9,-999.0000,9,  -999.00,  -999.00,9,2, 20170112,     1905
  320620161224,HAZMAT,    24,  1,      2,      2,2,20170112,1905,-75.6360,-157.0124, 3541,     20.4,  -1.0781,9,-999.0000,  33.6188,2,-999.0000,9,    398.6,2,   -999.0,9,  -999.00,9,  -999.00,9,  -999.00,9,  -999.00,9,     -999,9,   -999.0,9,-999.0000,9,  -999.00,  -999.00,9,9, 20170112,     1905
  320620161224,HAZMAT,    24,  1,      1,      1,2,20170112,1905,-75.6360,-157.0124, 3541,     20.4,  -1.0782,9,-999.0000,  33.6184,2,-999.0000,9,    398.6,2,   -999.0,9,  -999.00,9,  -999.00,9,  -999.00,9,  -999.00,9,     -999,9,   -999.0,9,-999.0000,9,  -999.00,  -999.00,9,9, 20170112,     1905
  320620161224,HAZMAT,    24,  1,      9,      9,2,20170112,1905,-75.6360,-157.0124, 3541,      2.2,  -1.0500,9,-999.0000,  33.2239,2,-999.0000,9,    403.0,2,   -999.0,9,  -999.00,9,  -999.00,9,  -999.00,9,  -999.00,9,     -999,9,   -999.0,9,-999.0000,9,  -999.00,  -999.00,9,9, 20170112,     1906
  320620161224,HAZMAT,    24,  1,     10,     10,2,20170112,1905,-75.6360,-157.0124, 3541,      2.2,  -1.0504,9,-999.0000,  33.2239,2,-999.0000,9,    403.0,2,   -999.0,9,  -999.00,9,  -999.00,9,  -999.00,9,  -999.00,9,     -999,9,   -999.0,9,-999.0000,9,  -999.00,  -999.00,9,9, 20170112,     1906
  320620161224,HAZMAT,    24,  1,     12,     12,2,20170112,1905,-75.6360,-157.0124, 3541,      2.2,  -1.0512,9,-999.0000,  33.2239,2,-999.0000,9,    403.0,2,   -999.0,9,  -999.00,9,  -999.00,9,  -999.00,9,  -999.00,9,     -999,9,   -999.0,9,-999.0000,9,  -999.00,     2.58,2,9, 20170112,     1906
  320620161224,HAZMAT,    24,  1,      8,      8,2,20170112,1905,-75.6360,-157.0124, 3541,      2.2,  -1.0497,2,  -1.0502,  33.2240,2,-999.0000,9,    403.0,2,   -999.0,9,  -999.00,9,  -999.00,9,  -999.00,9,  -999.00,9,     -999,9,   -999.0,9,-999.0000,9,  -999.00,  -999.00,9,2, 20170112,     1906
  320620161224,HAZMAT,    24,  1,     11,     11,2,20170112,1905,-75.6360,-157.0124, 3541,      2.2,  -1.0503,2,  -1.0505,  33.2239,2,-999.0000,9,    403.0,2,   -999.0,9,  -999.00,9,  -999.00,9,  -999.00,9,  -999.00,9,     -999,9,   -999.0,9,-999.0000,9,  -999.00,  -999.00,9,2, 20170112,     1906
  320620161224,HAZMAT,    24,  1,     14,     14,2,20170112,1905,-75.6360,-157.0124, 3541,      2.2,  -1.0506,2,  -1.0484,  33.2239,2,-999.0000,9,    403.0,2,   -999.0,9,  -999.00,9,  -999.00,9,  -999.00,9,  -999.00,9,     -999,9,   -999.0,9,-999.0000,9,  -999.00,  -999.00,9,2, 20170112,     1906
  320620161224,HAZMAT,    24,  1,     13,     13,2,20170112,1905,-75.6360,-157.0124, 3541,      2.2,  -1.0506,9,-999.0000,  33.2240,2,-999.0000,9,    403.0,2,   -999.0,9,  -999.00,9,  -999.00,9,  -999.00,9,  -999.00,9,     -999,9,   -999.0,9,-999.0000,9,  -999.00,  -999.00,9,9, 20170112,     1906
  320620161224,HAZMAT,    24,  2,      1,      1,2,20170112,2042,-75.6360,-157.0124, 3541,   3596.2,   0.2986,9,-999.0000,  34.7236,2,  34.7015,2,    213.8,2,    212.2,2,   140.20,2,    32.66,2,     0.00,2,     2.28,2,        0,2,   2361.4,6,   7.5834,6,    25.00,  -999.00,9,9, 20170112,     2042
  320620161224,HAZMAT,    24,  2,      2,      2,2,20170112,2042,-75.6360,-157.0124, 3541,   3412.4,   0.3908,2,   0.3906,  34.7266,2,  34.7015,2,    210.1,2,    210.5,2,   138.40,2,    32.51,2,     0.00,2,     2.26,2,        0,2,   2363.3,2,   7.5910,2,    25.00,  -999.00,9,2, 20170112,     2046
  320620161224,HAZMAT,    24,  2,      3,      3,2,20170112,2042,-75.6360,-157.0124, 3541,   3258.7,   0.4249,2,   0.4254,  34.7267,2,  34.7028,2,    208.0,2,    209.8,2,   136.30,2,    32.43,2,     0.00,2,     2.27,2,        0,2,   2364.3,2,   7.5918,2,    25.00,  -999.00,9,2, 20170112,     2050
  320620161224,HAZMAT,    24,  2,      4,      4,2,20170112,2042,-75.6360,-157.0124, 3541,   2950.6,   0.4767,2,   0.4769,  34.7049,2,  34.7035,2,    204.7,2,    208.2,2,   133.90,2,    32.47,2,     0.00,2,     2.26,2,        0,2,   2362.5,2,   7.5911,2,    25.00,  -999.00,9,2, 20170112,     2057
  320620161224,HAZMAT,    24,  2,      5,      5,2,20170112,2042,-75.6360,-157.0124, 3541,   2643.9,   0.5207,2,   0.5207,  34.7052,2,  34.7047,2,    201.8,2,    207.2,2,   131.70,2,    32.31,2,     0.00,2,     2.27,2,        0,2,   2363.8,2,   7.5917,2,    25.00,  -999.00,9,2, 20170112,     2104
  320620161224,HAZMAT,    24,  2,      6,      6,2,20170112,2042,-75.6360,-157.0124, 3541,   2337.2,   0.5704,2,   0.5702,  34.7058,2,  34.7048,2,    199.0,2,    206.0,2,   129.10,2,    32.17,2,     0.00,2,     2.27,2,        0,2,   2362.4,2,   7.5915,2,    25.00,  -999.00,9,2, 20170112,     2110
  320620161224,HAZMAT,    24,  2,      7,      7,2,20170112,2042,-75.6360,-157.0124, 3541,   2031.5,   0.6391,2,   0.6393,  34.7067,2,  34.7065,2,    196.1,2,    204.4,2,   126.90,2,    32.19,2,     0.00,2,     2.25,2,        0,2,   2360.0,2,   7.5841,2,    25.00,  -999.00,9,2, 20170112,     2117
  320620161224,HAZMAT,    24,  2,      8,      8,2,20170112,2042,-75.6360,-157.0124, 3541,   1725.3,   0.7281,2,   0.7287,  34.7087,2,  34.7085,2,    193.3,2,    202.4,2,   124.30,2,    32.17,2,     0.00,2,     2.26,2,        0,2,   2366.4,3,   7.5918,2,    25.00,  -999.00,9,2, 20170112,     2124
  320620161224,HAZMAT,    24,  2,      9,      9,2,20170112,2042,-75.6360,-157.0124, 3541,   1419.8,   0.8372,2,   0.8372,  34.7125,2,  34.7134,2,    190.8,2,    200.0,2,   120.10,2,    32.04,2,     0.00,2,     2.25,2,        0,2,   2360.6,2,   7.5905,2,    25.00,  -999.00,9,2, 20170112,     2130
  320620161224,HAZMAT,    24,  2,     10,     10,2,20170112,2042,-75.6360,-157.0124, 3541,   1216.1,   0.9279,2,   0.9277,  34.7154,2,  34.7169,2,    189.5,2,    197.7,2,   117.00,2,    31.98,2,     0.00,2,     2.26,2,        0,2,   2360.0,2,   7.5906,2,    25.00,  -999.00,9,2, 20170112,     2135
  320620161224,HAZMAT,    24,  2,     11,     11,2,20170112,2042,-75.6360,-157.0124, 3541,   1013.4,   1.0409,2,   1.0406,  34.7193,2,  34.7211,2,    188.8,2,    194.9,2,   113.20,2,    31.91,2,     0.00,2,     2.24,2,        0,2,   2359.4,2,   7.5844,2,    25.00,  -999.00,9,2, 20170112,     2140
  320620161224,HAZMAT,    24,  2,     12,     12,2,20170112,2042,-75.6360,-157.0124, 3541,    810.0,   1.1998,2,   1.1945,  34.7239,2,  34.7263,2,    190.2,2,    190.8,2,   108.10,2,    31.89,2,     0.00,2,     2.24,2,        0,2,   2357.1,2,   7.5855,2,    25.00,  -999.00,9,2, 20170112,     2145
  320620161224,HAZMAT,    24,  2,     13,     13,2,20170112,2042,-75.6360,-157.0124, 3541,    607.5,   1.3812,2,   1.3833,  34.7216,2,  34.7236,2,    195.4,2,    187.2,2,   100.50,2,    31.83,2,     0.00,2,     2.23,2,        0,2,   2352.9,2,   7.5792,2,    25.00,  -999.00,9,2, 20170112,     2149
  320620161224,HAZMAT,    24,  2,     14,     14,2,20170112,2042,-75.6360,-157.0124, 3541,    405.0,   1.1646,2,   1.1638,  34.6284,2,  34.6220,2,    193.0,2,    189.8,2,    88.50,2,    32.35,2,     0.00,2,     2.26,2,        0,2,   2340.6,2,   7.5581,2,    25.00,  -999.00,9,2, 20170112,     2154
  320620161224,HAZMAT,    24,  2,     15,     15,2,20170112,2042,-75.6360,-157.0124, 3541,    354.2,   0.1537,2,   0.1539,  34.4608,2,  34.4403,2,    206.0,2,    220.3,2,    84.10,2,    31.75,2,     0.00,2,     2.24,2,     0.01,2,   2330.1,2,   7.5658,2,    25.00,  -999.00,9,2, 20170112,     2156
  320620161224,HAZMAT,    24,  2,     16,     16,2,20170112,2042,-75.6360,-157.0124, 3541,    304.0,  -0.9870,2,  -0.9855,  34.2782,2,  34.2770,2,    272.8,2,    257.2,2,    80.90,2,    30.58,2,     0.00,2,     2.16,2,     0.01,2,   2319.7,2,   7.5822,2,    25.00,  -999.00,9,2, 20170112,     2159
  320620161224,HAZMAT,    24,  2,     17,     17,2,20170112,2042,-75.6360,-157.0124, 3541,    253.0,  -1.5446,2,  -1.5430,  34.2053,2,  34.2133,2,    284.6,2,    275.7,2,    79.50,2,    29.91,2,     0.00,2,     2.11,2,        0,2,   2316.0,2,   7.5888,2,    25.00,  -999.00,9,2, 20170112,     2201
  320620161224,HAZMAT,    24,  2,     18,     18,2,20170112,2042,-75.6360,-157.0124, 3541,    203.0,  -1.7596,2,  -1.7598,  34.1807,2,  34.1865,2,    279.3,2,    285.6,2,    79.70,2,    29.28,2,     0.00,2,     2.07,2,        0,2,   2316.9,2,   7.6070,2,    25.00,  -999.00,9,2, 20170112,     2204
  320620161224,HAZMAT,    24,  2,     19,     19,2,20170112,2042,-75.6360,-157.0124, 3541,    152.1,  -1.8077,2,  -1.8067,  34.1762,2,  34.1798,2,    275.8,2,    286.6,2,    79.70,2,    29.18,2,     0.03,2,     2.06,2,        0,2,   2316.8,2,   7.6068,2,    25.00,  -999.00,9,2, 20170112,     2206
  320620161224,HAZMAT,    24,  2,     20,     20,2,20170112,2042,-75.6360,-157.0124, 3541,    101.5,  -1.8128,2,  -1.8130,  34.1743,2,  34.1784,2,    275.6,2,    285.6,2,    80.00,2,    28.91,2,     0.13,2,     2.10,2,     0.03,2,   2315.9,2,   7.6018,2,    25.00,  -999.00,9,2, 20170112,     2208
  320620161224,HAZMAT,    24,  2,     21,     21,2,20170112,2042,-75.6360,-157.0124, 3541,     76.0,  -1.8134,2,  -1.8137,  34.1717,2,  34.1761,2,    275.7,2,    284.5,2,    80.00,2,    28.87,2,     0.17,2,     2.15,2,     0.23,2,   2316.0,2,   7.5991,2,    25.00,  -999.00,9,2, 20170112,     2210
  320620161224,HAZMAT,    24,  2,     22,     22,2,20170112,2042,-75.6360,-157.0124, 3541,     50.9,  -1.7724,2,  -1.7723,  34.1355,2,  34.1504,2,    299.6,2,    289.7,2,    78.70,2,    27.83,2,     0.16,2,     2.17,2,     1.13,2,   2316.3,2,   7.6075,2,    25.00,  -999.00,9,2, 20170112,     2212
  320620161224,HAZMAT,    24,  2,     23,     23,2,20170112,2042,-75.6360,-157.0124, 3541,     20.5,  -1.0148,2,  -1.0150,  33.6219,2,  33.7646,2,    398.4,2,    373.3,2,    56.70,2,    16.26,2,     0.08,2,     1.07,2,     1.94,2,   2292.3,2,   7.7798,2,    25.00,  -999.00,9,2, 20170112,     2213
  320620161224,HAZMAT,    24,  2,     24,     24,2,20170112,2042,-75.6360,-157.0124, 3541,      5.5,  -1.0662,2,  -1.0648,  33.2124,2,  33.1625,2,    402.9,2,    385.1,2,    36.30,2,    13.25,2,     0.20,2,     0.54,2,      0.3,2,   2241.2,6,   7.7945,6,    25.00,  -999.00,9,2, 20170112,     2215