BOTTLE,20170124CCHSIORJL
EXPOCODE,SECT_ID,STNNBR,CASTNO,GEOTR_EVENT,GEOTR_SAMPNO,SAMPNO,BTLNBR,BTLNBR_FLAG_W,BTLNBR_U,BTLNBR_U_FLAG_W,DATE,TIME,LATITUDE,LONGITUDE,DEPTH,CTDPRS,CTDDEPTH,CTDTMP,CTDSAL,CTDSAL_FLAG_W,SALNTY,SALNTY_FLAG_W,SALTREF,SALTREF_FLAG_W,CTDOXY,CTDOXY_FLAG_W,OXYGEN,OXYGEN_FLAG_W,SILCAT,SILCAT_FLAG_W,NITRAT,NITRAT_FLAG_W,NITRIT,NITRIT_FLAG_W,PHSPHT,PHSPHT_FLAG_W,REFTMP,REFTMP_FLAG_W,BTL_TIME,BTL_LAT,BTL_LON,ODF_CTDPRS,SMDEPTH,FMDEPTH
,,,,,,,,,,,,,,,METERS,DBAR,METERS,ITS-90,PSS-78,,PSS-78,,G/KG,,UMOL/KG,,UMOL/KG,,UMOL/KG,,UMOL/KG,,UMOL/KG,,UMOL/KG,,DEG C,,,,,DBARS,METERS,METERS
316N20101015,  GT10,9,9,2173,5749,12, NIS-12,2,     12,2,20101029,221,17.3605,-18.2543,3053,1548.4,1533.4,4.3878,34.9868,2,34.9871,2,35.152,2,196.1,2,196,2,24.1,2,24.54,2,0,2,1.66,2,4.3893,2,259,17.3605,-18.2543,1548.4,1533,1533.4
316N20101015,  GT10,9,9,2173,5748,11, NIS-11,2,     11,2,20101029,221,17.3605,-18.2543,3053,1698.3,1681.4,4.1087,34.9853,2,34.9874,2,35.1524,2,208.6,2,208.1,2,24.3,2,23.18,2,0,2,1.59,2,4.1092,2,255,17.3605,-18.2543,1698.3,1681,1681.4
316N20101015,  GT10,9,9,2173,5747,10, NIS-10,2,     10,2,20101029,221,17.3605,-18.2543,3053,2099.7,2076.8,3.5035,34.9709,2,34.9723,2,35.1372,2,226.3,2,226.1,2,27.42,2,21.8,2,0,2,1.51,2,3.5054,2,247,17.3604,-18.2543,2099.7,2076.4,2076.8
316N20101015,  GT10,9,9,2173,5746,9,  NIS-9,2,       9,2,20101029,221,17.3605,-18.2543,3053,2501,2471.4,3.0979,34.9509,2,34.9512,2,35.116,2,230.9,2,231.8,2,32.3,2,21.58,2,0,2,1.5,2,3.0981,2,239,17.3605,-18.2543,2501,2471.1,2471.4
316N20101015,  GT10,9,9,2173,5745,8,  NIS-8,2,       8,2,20101029,221,17.3605,-18.2543,3053,2903.2,2866.2,2.7875,34.9318,2,34.9323,2,35.097,2,229.1,2,229,2,38.84,2,21.85,2,0,2,1.54,2,2.7875,2,232,17.3605,-18.2543,2903.2,2865.9,2866.2
316N20101015,  GT10,9,9,2173,5744,7,  NIS-7,2,       7,2,20101029,221,17.3605,-18.2543,3053,2969.1,2930.8,2.7324,34.9281,2,34.9285,2,35.0932,2,227.2,2,227.5,2,40.3,2,21.93,2,0,2,1.55,2,2.7325,2,229,17.3605,-18.2543,2969.1,2930.5,2930.8
316N20101015,  GT10,9,9,2173,5743,6,  NIS-6,2,       6,2,20101029,221,17.3605,-18.2543,3053,2999,2960,2.7084,34.9265,2,34.9269,2,35.0916,2,229.3,2,229.7,2,40.21,2,21.86,2,0,2,1.55,2,2.7083,2,228,17.3605,-18.2543,2999,2959.8,2960
316N20101015,  GT10,9,9,2173,5742,5,  NIS-5,2,       5,2,20101029,221,17.3605,-18.2543,3053,3024.5,2985.1,2.6928,34.9251,2,34.9256,2,35.0902,2,226.5,2,222.9,2,42.84,2,22.08,2,0,2,1.58,2,2.6928,2,226,17.3605,-18.2543,3024.5,2984.8,2985.1
316N20101015,  GT10,9,9,2173,5741,4,  NIS-4,2,       4,2,20101029,221,17.3605,-18.2543,3053,3039.1,2999.3,2.6923,34.9249,2,34.9255,2,35.0902,2,220.9,2,220.6,2,43.62,2,22.13,2,0,2,1.59,2,2.6924,2,224,17.3605,-18.2543,3039.1,2999.1,2999.3
316N20101015,  GT10,9,9,2173,5740,3,  NIS-3,2,       3,2,20101029,221,17.3605,-18.2543,3053,3053.8,3013.8,2.6939,34.9249,2,34.9247,2,35.0894,2,220.3,2,220.8,2,43.23,2,22.14,2,0,2,1.59,2,2.6941,2,223,17.3605,-18.2543,3053.8,3013.5,3013.8
316N20101015,  GT10,9,9,2173,5750,1,  NIS-1,2,       1,2,20101029,221,17.3605,-18.2543,3053,3069.2,3028.9,2.6954,34.9249,2,34.9253,2,35.09,2,220.5,2,221.2,2,43.33,2,22.15,2,0,2,1.6,2,2.6955,2,221,17.3605,-18.2543,3069.2,3028.7,3028.9
316N20101015,  GT10,9,9,2173,5739,2,  NIS-2,2,       2,2,20101029,221,17.3605,-18.2543,3053,3069.7,3029.3,2.6955,34.9249,2,34.9255,2,35.0902,2,220.5,2,220.5,2,43.13,2,22.14,2,0,2,1.59,2,2.6955,2,221,17.3605,-18.2543,3069.7,3029.1,3029.3
316N20101015,  GT10,9,10,2175,5762,12, NIS-12,2,    12,2,20101029,612,17.3514,-18.2516,3049,29.4,29.2,28.0337,35.8122,2,35.8447,3,36.0138,3,199.7,2,198.8,2,0.78,2,0,2,0,2,0.08,2,28.0342,2,720,17.3514,-18.2516,29.4,29.2,29.2
316N20101015,  GT10,9,10,2175,5761,11, NIS-11,2,    11,2,20101029,612,17.3514,-18.2516,3049,52.8,52.5,20.3976,36.1774,2,36.1626,3,36.3332,3,143.4,2,143.5,2,2.24,2,7.23,2,0.27,2,0.7,2,20.4081,3,718,17.3514,-18.2516,52.8,52.6,52.5
316N20101015,  GT10,9,10,2175,5760,10, NIS-10,2,    10,2,20101029,612,17.3514,-18.2516,3049,187.3,186.1,13.4164,35.4999,2,35.4981,2,35.6655,2,63.4,2,63,2,9.17,2,26.51,2,0,2,1.65,2,13.417,2,714,17.3514,-18.2516,187.3,186.4,186.1
316N20101015,  GT10,9,10,2175,5759,9,  NIS-9,2,      9,2,20101029,612,17.3514,-18.2516,3049,799.3,793,7.2768,34.9389,2,34.9386,2,35.1033,2,87.1,2,87,2,22.45,2,34.35,2,0,2,2.23,2,7.2774,2,702,17.3514,-18.2516,799.3,793.8,793
316N20101015,  GT10,9,10,2175,5758,8,  NIS-8,2,      8,2,20101029,612,17.3514,-18.2516,3049,1248.7,1237.5,5.253,34.9817,2,34.9836,2,35.1486,2,159.9,2,160,2,24.01,2,27.49,2,0,2,1.87,2,5.2489,2,653,17.3514,-18.2516,1248.7,1238.5,1237.5
316N20101015,  GT10,9,10,2175,5757,7,  NIS-7,2,      7,2,20101029,612,17.3514,-18.2516,3049,1348.8,1336.5,4.8882,34.9847,2,34.9848,2,35.1498,2,174,2,174,2,24.01,2,26.2,2,0,2,1.8,2,4.8886,2,650,17.3514,-18.2516,1348.8,1337.5,1336.5
316N20101015,  GT10,9,10,2175,5756,6,  NIS-6,2,      6,2,20101029,612,17.3514,-18.2516,3049,1498.7,1484.5,4.4667,34.9899,2,34.9891,2,35.1541,2,193.4,2,193.5,2,24.01,2,24.4,2,0,2,1.68,2,4.4656,2,646,17.3514,-18.2516,1498.7,1485.5,1484.5
316N20101015,  GT10,9,10,2175,5755,5,  NIS-5,2,      5,2,20101029,612,17.3514,-18.2516,3049,1698.7,1681.7,4.0788,34.9854,2,34.9848,2,35.1497,2,209.2,2,208.7,2,24.4,2,23.08,2,0,2,1.59,2,4.08,2,641,17.3514,-18.2516,1698.7,1682.9,1681.7
316N20101015,  GT10,9,10,2175,5754,4,  NIS-4,2,      4,2,20101029,612,17.3514,-18.2516,3049,2099.8,2076.8,3.5049,34.9706,2,34.9731,2,35.1381,2,226.1,2,225.9,2,27.62,2,21.76,2,0,2,1.5,2,3.504,2,632,17.3514,-18.2516,2099.8,2078.1,2076.8
316N20101015,  GT10,9,10,2175,5753,3,  NIS-3,2,      3,2,20101029,612,17.3514,-18.2516,3049,2300.7,2274.5,3.2643,34.9592,2,34.9588,2,35.1236,2,229.7,2,230.1,2,29.96,2,21.57,2,0,2,1.48,2,3.2645,2,627,17.3514,-18.2516,2300.7,2275.8,2274.5
316N20101015,  GT10,9,10,2175,5752,2,  NIS-2,2,      2,2,20101029,612,17.3514,-18.2516,3049,2501.2,2471.5,3.0965,34.9509,2,34.9503,2,35.1151,2,231,2,231.6,2,32.4,2,21.53,2,0,2,1.48,2,3.095,2,622,17.3514,-18.2516,2501.2,2472.8,2471.5
316N20101015,  GT10,9,10,2175,5751,1,  NIS-1,2,      1,2,20101029,612,17.3514,-18.2516,3049,2903.4,2866.3,2.7828,34.9316,2,34.932,2,35.0967,2,228.9,2,229.2,2,39.04,2,21.75,2,0,2,1.52,2,2.7828,2,613,17.3514,-18.2516,2903.4,2867.7,2866.3
316N20101015,  GT10,10,2,2188,5777,12, NIS-12,2,    12,2,20101030,330,17.3516,-20.8168,3357,27.4,27.2,26.1589,36.2823,2,36.2759,2,36.447,2,209.7,2,203.9,2,0.58,2,0.04,2,0.01,2,0.06,2,26.2832,3,400,17.3516,-20.8168,27.4,27.2,27.2
316N20101015,  GT10,10,2,2188,5776,11, NIS-11,2,    11,2,20101030,330,17.3516,-20.8168,3357,52.1,51.8,17.9374,35.8341,2,35.8593,3,36.0283,3,97.1,2,97.2,2,3.8,2,15.5,2,0.44,2,1.1,2,18.0017,3,356,17.3516,-20.8168,52.1,51.8,51.8
316N20101015,  GT10,10,2,2188,5775,10, NIS-10,2,    10,2,20101030,330,17.3516,-20.8168,3357,87,86.5,15.2256,35.671,2,35.6602,2,35.8283,2,60.6,2,60.5,2,6.93,2,24.68,2,0.03,2,1.53,2,15.2324,2,354,17.3516,-20.8169,87,86.6,86.5
316N20101015,  GT10,10,2,2188,5774,9,  NIS-9,2,      9,2,20101030,330,17.3516,-20.8168,3357,101.6,100.9,14.5076,35.5828,2,35.5832,2,35.751,2,63.5,2,63.6,2,7.41,2,25.02,2,0.02,2,1.55,2,14.5042,2,352,17.3516,-20.8169,101.6,101.1,100.9
316N20101015,  GT10,10,2,2188,5773,8,  NIS-8,2,      8,2,20101030,330,17.3516,-20.8168,3357,141.5,140.6,13.8651,35.5802,2,35.5602,3,35.7278,3,75.5,2,75.9,2,8.29,2,24.38,2,0.01,2,1.53,2,13.8486,2,350,17.3516,-20.8169,141.5,140.8,140.6
316N20101015,  GT10,10,2,2188,5772,7,  NIS-7,2,      7,2,20101030,330,17.3516,-20.8168,3357,186,184.8,12.9308,35.4105,2,35.3996,2,35.5665,2,76.6,2,76.1,2,9.17,2,25.73,2,0.01,2,1.62,2,12.9313,2,348,17.3516,-20.8169,186,185.1,184.8
316N20101015,  GT10,10,2,2188,5771,6,  NIS-6,2,      6,2,20101030,330,17.3516,-20.8168,3357,235.8,234.3,12.6871,35.4361,2,35.4323,2,35.5994,2,72.7,2,72.8,2,9.46,2,26.27,2,0.01,2,1.63,2,12.6865,2,346,17.3516,-20.8169,235.8,234.5,234.3
316N20101015,  GT10,10,2,2188,5770,5,  NIS-5,2,      5,2,20101030,330,17.3516,-20.8168,3357,290.1,288.2,12.0754,35.3787,2,35.3833,2,35.5501,2,62.9,2,63.4,2,10.54,2,28.14,2,0.01,2,1.73,2,12.0765,2,344,17.3516,-20.8169,290.1,288.5,288.2
316N20101015,  GT10,10,2,2188,5769,4,  NIS-4,2,      4,2,20101030,330,17.3516,-20.8168,3357,419.2,416.3,10.8325,35.2801,2,35.2798,2,35.4461,2,50.3,2,49.8,2,13.27,2,31.95,2,0.01,2,1.96,2,10.8416,2,341,17.3516,-20.8169,419.2,416.7,416.3
316N20101015,  GT10,10,2,2188,5768,3,  NIS-3,2,      3,2,20101030,330,17.3516,-20.8168,3357,499.1,495.6,9.9443,35.1805,2,35.1795,2,35.3454,2,52.8,2,52.6,2,15.61,2,33.37,2,0.01,2,2.08,2,9.9438,2,338,17.3516,-20.817,499.1,496.1,495.6
316N20101015,  GT10,10,2,2188,5767,2,  NIS-2,2,      2,2,20101030,330,17.3516,-20.8168,3357,663.8,658.8,8.3095,35.0181,2,35.0198,2,35.185,2,67.3,2,67.4,2,19.32,2,34.71,2,0,2,2.22,2,8.3014,2,334,17.3516,-20.8169,663.8,659.4,658.8
316N20101015,  GT10,10,2,2188,5766,1,  NIS-1,2,      1,2,20101030,330,17.3516,-20.8168,3357,798.1,791.8,7.1961,34.9194,2,34.9197,2,35.0844,2,85.1,2,84.5,2,22.35,2,34.65,2,0,2,2.26,2,7.1972,2,329,17.3516,-20.8168,798.1,792.5,791.8
316N20101015,  GT10,10,4,2191,5847,13,SRFCPUMP,2,   13,2,20101030,1027,17.3523,-20.8242,3356,5.1,5,27.3527,36.2213,2,36.2422,3,36.4131,3,199.4,2,-999,9,-999,9,-999,9,-999,9,-999,9,-999,9,1056,17.3524,-20.8245,5.1,5.1,5
316N20101015,  GT10,10,4,2191,5846,12, NIS-12,2,    12,2,20101030,1027,17.3523,-20.8242,3356,17.1,17,27.3361,36.2161,2,36.2175,2,36.3882,2,199.7,2,199.6,2,0.39,2,0,2,0,2,0.01,2,27.3363,2,1055,17.3524,-20.8244,17.1,17.1,17
316N20101015,  GT10,10,4,2191,5845,11, NIS-11,2,    11,2,20101030,1027,17.3523,-20.8242,3356,32,31.8,25.7732,36.3337,2,36.3661,3,36.5376,3,211.6,2,210.3,2,0.68,2,0.09,2,0.01,2,0.11,2,25.6489,3,1053,17.3524,-20.8244,32,31.9,31.8
316N20101015,  GT10,10,4,2191,5844,10, NIS-10,2,    10,2,20101030,1027,17.3523,-20.8242,3356,52,51.6,18.5146,35.9809,2,35.9811,2,36.1508,2,110.1,2,110.2,2,3.32,2,13.64,2,0.38,2,0.98,2,18.4573,3,1052,17.3523,-20.8244,52,51.8,51.6
316N20101015,  GT10,10,4,2191,5843,9,  NIS-9,2,      9,2,20101030,1027,17.3523,-20.8242,3356,76.9,76.4,16.7058,35.8336,2,35.8139,3,35.9828,3,64.1,2,63.6,2,5.46,2,22.38,2,0.07,2,1.41,2,16.6836,3,1050,17.3523,-20.8244,76.9,76.6,76.4
316N20101015,  GT10,10,4,2191,5842,8,  NIS-8,2,      8,2,20101030,1027,17.3523,-20.8242,3356,101.7,101.1,15.0212,35.647,2,35.6388,2,35.8069,2,60.4,2,60.8,2,7.02,2,24.62,2,0.02,2,1.53,2,15.0214,2,1048,17.3524,-20.8244,101.7,101.3,101.1
316N20101015,  GT10,10,4,2191,5841,7,  NIS-7,2,      7,2,20101030,1027,17.3523,-20.8242,3356,121.9,121.1,14.2621,35.5588,2,35.5577,2,35.7254,2,64.5,2,65.6,2,7.71,2,24.99,2,0.01,2,1.53,2,14.2598,2,1046,17.3524,-20.8245,121.9,121.4,121.1
316N20101015,  GT10,10,4,2191,5840,6,  NIS-6,2,      6,2,20101030,1027,17.3523,-20.8242,3356,141.6,140.7,14.3638,35.6778,2,35.6692,2,35.8374,2,73.1,2,74.9,2,7.51,2,23.53,2,0.01,2,1.44,2,14.3622,2,1044,17.3524,-20.8245,141.6,141,140.7
316N20101015,  GT10,10,4,2191,5839,5,  NIS-5,2,      5,2,20101030,1027,17.3523,-20.8242,3356,186.5,185.3,12.8356,35.3869,2,35.3952,2,35.5621,2,75.8,2,75.8,2,9.17,2,25.72,2,0.01,2,1.62,2,12.8501,3,1042,17.3524,-20.8245,186.5,185.6,185.3
316N20101015,  GT10,10,4,2191,5838,4,  NIS-4,2,      4,2,20101030,1027,17.3523,-20.8242,3356,236.1,234.5,12.7209,35.4631,2,35.4565,2,35.6237,2,71.3,2,69.4,2,9.36,2,26.41,2,0.01,2,1.62,2,12.7166,2,1040,17.3524,-20.8246,236.1,234.9,234.5
316N20101015,  GT10,10,4,2191,5837,3,  NIS-3,2,      3,2,20101030,1027,17.3523,-20.8242,3356,420.2,417.3,10.7422,35.2767,2,35.275,2,35.4413,2,51.1,2,50.7,2,13.85,2,31.94,2,0.01,2,1.95,2,10.7448,2,1036,17.3524,-20.8245,420.2,417.8,417.3
316N20101015,  GT10,10,4,2191,5836,2,  NIS-2,2,      2,2,20101030,1027,17.3523,-20.8242,3356,663.9,658.9,8.2286,35.0098,2,35.0087,2,35.1738,2,67.9,2,68,2,19.42,2,34.71,2,0.01,2,2.22,2,8.2309,2,1030,17.3523,-20.8243,663.9,659.6,658.9
316N20101015,  GT10,10,4,2191,5835,1,  NIS-1,2,      1,2,20101030,1027,17.3523,-20.8242,3356,798.4,792.1,7.0964,34.9103,2,34.9102,2,35.0748,2,85.7,2,85.6,2,22.06,2,34.53,2,0,2,2.25,2,7.0921,2,1027,17.3523,-20.8242,798.4,792.9,792.1
316N20101015,  GT10,10,6,2194,5860,12, NIS-12,2,    12,2,20101030,1546,17.3606,-20.8266,3352,965.7,957.7,6.3418,34.9139,2,34.9148,2,35.0794,2,113.7,2,113.9,2,23.52,2,32.18,2,0,2,2.15,2,6.3422,2,1639,17.3606,-20.8266,965.7,957.4,957.7
316N20101015,  GT10,10,6,2194,5859,11, NIS-11,2,    11,2,20101030,1546,17.3606,-20.8266,3352,1100.3,1090.9,5.884,34.955,2,34.9547,2,35.1196,2,136,2,136.6,2,23.13,2,29.78,2,0,2,2,2,5.8848,2,1636,17.3606,-20.8266,1100.3,1090.7,1090.9
316N20101015,  GT10,10,6,2194,5858,10, NIS-10,2,    10,2,20101030,1546,17.3606,-20.8266,3352,1250.6,1239.4,5.4603,34.9878,2,34.9874,2,35.1524,2,157.6,2,157.4,2,22.83,2,27.71,2,0.01,2,1.86,2,5.461,2,1632,17.3606,-20.8266,1250.6,1239.3,1239.4
316N20101015,  GT10,10,6,2194,5857,9,  NIS-9,2,      9,2,20101030,1546,17.3606,-20.8266,3352,1500.2,1485.9,4.6307,35.0086,2,35.0083,2,35.1733,2,192.3,2,192.2,2,22.93,2,24.39,2,0.01,2,1.66,2,4.6353,2,1627,17.3606,-20.8266,1500.2,1485.8,1485.9
316N20101015,  GT10,10,6,2194,5856,8,  NIS-8,2,      8,2,20101030,1546,17.3606,-20.8266,3352,1750.7,1733,4.0627,34.996,2,34.9959,2,35.1609,2,212.8,2,212.5,2,24.01,2,22.74,2,0,2,1.55,2,4.0634,2,1622,17.3606,-20.8266,1750.7,1733,1733
316N20101015,  GT10,10,6,2194,5855,7,  NIS-7,2,      7,2,20101030,1546,17.3606,-20.8266,3352,2001.6,1980.2,3.6591,34.9796,2,34.9791,2,35.1441,2,224,2,223.5,2,25.86,2,21.96,2,0,2,1.49,2,3.6601,2,1616,17.3606,-20.8266,2001.6,1980.2,1980.2
316N20101015,  GT10,10,6,2194,5854,6,  NIS-6,2,      6,2,20101030,1546,17.3606,-20.8266,3352,2252.5,2227.1,3.3663,34.9691,2,34.9693,2,35.1342,2,230.5,2,230.2,2,28.4,2,21.49,2,0,2,1.47,2,3.3661,2,1611,17.3606,-20.8266,2252.5,2227.2,2227.1
316N20101015,  GT10,10,6,2194,5853,5,  NIS-5,2,      5,2,20101030,1546,17.3606,-20.8266,3352,2504.3,2474.6,3.0869,34.9524,2,34.9532,2,35.118,2,233.5,2,234.9,2,31.72,2,21.35,2,0,2,1.47,2,3.087,2,1606,17.3606,-20.8266,2504.3,2474.7,2474.6
316N20101015,  GT10,10,6,2194,5852,4,  NIS-4,2,      4,2,20101030,1546,17.3606,-20.8266,3352,2755,2720.7,2.9185,34.9427,2,34.9429,2,35.1077,2,236.6,2,237.3,2,34.25,2,21.24,2,0,2,1.46,2,2.9186,2,1600,17.3606,-20.8266,2755,2720.9,2720.7
316N20101015,  GT10,10,6,2194,5851,3,  NIS-3,2,      3,2,20101030,1546,17.3606,-20.8266,3352,3007.5,2968.4,2.7474,34.9306,2,34.9305,2,35.0953,2,237.4,2,237.3,2,37.57,2,21.47,2,0,2,1.47,2,2.7475,2,1555,17.3606,-20.8266,3007.5,2968.6,2968.4
316N20101015,  GT10,10,6,2194,5850,2,  NIS-2,2,      2,2,20101030,1546,17.3606,-20.8266,3352,3310.2,3264.8,2.5701,34.915,2,34.9156,2,35.0802,2,232.5,2,231.7,2,42.74,2,22.1,2,0,2,1.52,2,2.5701,2,1549,17.3606,-20.8266,3310.2,3265,3264.8
316N20101015,  GT10,10,6,2194,5849,1,  NIS-1,2,      1,2,20101030,1546,17.3606,-20.8266,3352,3375.2,3328.5,2.4976,34.9082,2,34.9085,2,35.0731,2,227.7,2,228.4,2,45.48,2,22.44,2,0.01,2,1.54,2,2.4953,2,1546,17.3606,-20.8266,3375.2,3328.7,3328.5
316N20101015,  GT10,10,7,2195,5868,8,McNIS-8,2,      8,2,20101030,2200,17.3605,-20.8266,-999,806.2,799.8,7.0107,34.8786,2,34.9079,2,35.0725,2,-999,9,-999,9,22.45,2,34.41,2,0,2,2.27,2,-999,9,30,17.3686,-23.757,806.2,799.5,799.8
316N20101015,  GT10,10,7,2195,5867,7,McNIS-7,2,      7,2,20101030,2200,17.3605,-20.8266,-999,972.8,964.8,6.3561,34.8916,2,34.9172,2,35.0818,2,-999,9,-999,9,23.52,2,31.97,2,0,2,2.18,2,-999,9,30,17.3686,-23.757,972.8,964.6,964.8
316N20101015,  GT10,10,7,2195,5866,6,McNIS-6,2,      6,2,20101030,2200,17.3605,-20.8266,-999,1514.1,1499.6,4.6282,34.9852,2,35.0165,2,35.1816,2,-999,9,-999,9,23.03,2,24.17,2,0,2,1.68,2,-999,9,30,17.3686,-23.757,1514.1,1499.7,1499.6
316N20101015,  GT10,10,7,2195,5865,5,McNIS-5,2,      5,2,20101030,2200,17.3605,-20.8266,-999,2021.2,1999.5,3.6561,34.9542,2,34.9833,2,35.1482,2,-999,9,-999,9,25.96,2,21.62,2,0,2,1.5,2,-999,9,30,17.3686,-23.757,2021.2,1999.7,1999.5
316N20101015,  GT10,10,7,2195,5864,4,McNIS-4,2,      4,2,20101030,2200,17.3605,-20.8266,-999,3039,2999.3,2.7366,34.9094,2,34.9299,2,35.0947,2,-999,9,-999,9,38.25,2,21.35,2,0,2,1.49,2,-999,9,30,17.3686,-23.757,3039,2999.6,2999.3
316N20101015,  GT10,10,7,2195,5863,3,McNIS-3,2,      3,2,20101030,2200,17.3605,-20.8266,-999,3243.1,3199.2,2.6137,34.8959,2,34.9205,2,35.0852,2,-999,9,-999,9,41.38,2,21.69,2,0,2,1.53,2,-999,9,30,17.3686,-23.757,3243.1,3199.5,3199.2
316N20101015,  GT10,11,2,2204,5907,12, NIS-12,2,    12,2,20101031,1757,17.3545,-22.7871,3361,31.7,31.5,27.1103,36.2006,2,36.2253,3,36.3961,3,203.2,2,203.1,2,0.39,2,0,2,0,2,0.04,2,27.1109,2,1822,17.3553,-22.7883,31.7,31.5,31.5
316N20101015,  GT10,11,2,2204,5906,11, NIS-11,2,    11,2,20101031,1757,17.3545,-22.7871,3361,65.3,64.9,21.4453,36.7404,2,36.7385,2,36.9117,2,194.1,2,194.2,2,1.07,2,0.68,2,0.12,2,0.19,2,21.4714,3,1820,17.3552,-22.7883,65.3,65,64.9
316N20101015,  GT10,11,2,2204,5905,10, NIS-10,2,    10,2,20101031,1757,17.3545,-22.7871,3361,87.1,86.6,18.8047,36.4355,2,36.4304,2,36.6022,2,129.4,2,126.1,2,2.83,2,12.8,2,0.07,2,0.81,2,18.8203,3,1819,17.3552,-22.7883,87.1,86.7,86.6
316N20101015,  GT10,11,2,2204,5904,9,  NIS-9,2,      9,2,20101031,1757,17.3545,-22.7871,3361,136.8,135.9,16.1305,36.1195,2,36.1161,2,36.2864,2,103.7,2,103.5,2,5.07,2,17.65,2,0,2,1.07,2,16.1304,2,1817,17.3552,-22.7883,136.8,136.1,135.9
316N20101015,  GT10,11,2,2204,5903,8,  NIS-8,2,      8,2,20101031,1757,17.3545,-22.7871,3361,181.4,180.2,14.8849,35.9299,2,35.9302,2,36.0996,2,96.7,2,96.9,2,6.05,2,19.72,2,0,2,1.19,2,14.8884,2,1815,17.3553,-22.7883,181.4,180.5,180.2
316N20101015,  GT10,11,2,2204,5902,7,  NIS-7,2,      7,2,20101031,1757,17.3545,-22.7871,3361,201.5,200.2,14.6188,35.8837,2,35.8862,2,36.0554,2,95.4,2,95.6,2,6.44,2,20.21,2,0,2,1.23,2,14.6234,2,1814,17.3552,-22.7883,201.5,200.4,200.2
316N20101015,  GT10,11,2,2204,5901,6,  NIS-6,2,      6,2,20101031,1757,17.3545,-22.7871,3361,251,249.4,13.4357,35.6948,2,35.6983,2,35.8666,2,85.2,2,84.7,2,8.1,2,23.15,2,0,2,1.41,2,13.4452,2,1812,17.3551,-22.7882,251,249.7,249.4
316N20101015,  GT10,11,2,2204,5900,5,  NIS-5,2,      5,2,20101031,1757,17.3545,-22.7871,3361,300.4,298.4,12.6763,35.5818,2,35.5825,2,35.7502,2,75.9,2,76.7,2,9.36,2,25.38,2,0,2,1.54,2,12.685,2,1811,17.3551,-22.788,300.4,298.8,298.4
316N20101015,  GT10,11,2,2204,5899,4,  NIS-4,2,      4,2,20101031,1757,17.3545,-22.7871,3361,349.9,347.6,11.9778,35.4973,2,35.497,2,35.6644,2,77,2,76.7,2,10.34,2,26.55,2,0,2,1.62,2,11.9776,2,1809,17.355,-22.788,349.9,348,347.6
316N20101015,  GT10,11,2,2204,5898,3,  NIS-3,2,      3,2,20101031,1757,17.3545,-22.7871,3361,449.9,446.8,10.5894,35.311,2,35.3135,2,35.48,2,72.7,2,72.7,2,13.27,2,29.55,2,0,2,1.82,2,10.5991,2,1806,17.3549,-22.7878,449.9,447.2,446.8
316N20101015,  GT10,11,2,2204,5897,2,  NIS-2,2,      2,2,20101031,1757,17.3545,-22.7871,3361,599.1,594.7,8.8489,35.1096,2,35.1072,2,35.2728,2,82.3,2,82.2,2,17.27,2,31.7,2,0,2,2.04,2,8.8489,2,1802,17.3547,-22.7875,599.1,595.3,594.7
316N20101015,  GT10,11,2,2204,5896,1,  NIS-1,2,      1,2,20101031,1757,17.3545,-22.7871,3361,798,791.7,7.0849,34.9398,2,34.9405,2,35.1052,2,101.5,2,101.6,2,21.66,2,32.53,2,0,2,2.16,2,7.0818,2,1757,17.3545,-22.7872,798,792.4,791.7