BOTTLE,20170124CCHSIORJL
EXPOCODE,SECT_ID,STNNBR,CASTNO,GEOTR_EVENT,GEOTR_SAMPNO,SAMPNO,BTLNBR,BTLNBR_FLAG_W,BTLNBR_U,BTLNBR_U_FLAG_W,DATE,TIME,LATITUDE,LONGITUDE,DEPTH,CTDPRS,CTDDEPTH,CTDTMP,CTDSAL,CTDSAL_FLAG_W,SALNTY,SALNTY_FLAG_W,SALTREF,SALTREF_FLAG_W,CTDOXY,CTDOXY_FLAG_W,OXYGEN,OXYGEN_FLAG_W,SILCAT,SILCAT_FLAG_W,NITRAT,NITRAT_FLAG_W,NITRIT,NITRIT_FLAG_W,PHSPHT,PHSPHT_FLAG_W,REFTMP,REFTMP_FLAG_W,BTL_TIME,BTL_LAT,BTL_LON,ODF_CTDPRS,SMDEPTH,FMDEPTH
,,,,,,,,,,,,,,,METERS,DBAR,METERS,ITS-90,PSS-78,,PSS-78,,G/KG,,UMOL/KG,,UMOL/KG,,UMOL/KG,,UMOL/KG,,UMOL/KG,,UMOL/KG,,DEG C,,,,,DBARS,METERS,METERS
316N20101015,  GT10,11,4,2206,5964,13,SRFCPUMP,2,   13,2,20101101,149,17.35,-22.7833,3359,5,4.9,27.103,36.2304,2,36.2445,3,36.4154,3,201.7,2,-999,9,-999,9,-999,9,-999,9,-999,9,-999,9,213,17.35,-22.7833,5,4.9,4.9
316N20101015,  GT10,11,4,2206,5963,12, NIS-12,2,    12,2,20101101,149,17.35,-22.7833,3359,17.9,17.8,27.1117,36.2239,2,36.2236,2,36.3944,2,202,2,201.1,2,0.58,2,0,2,0,2,0.03,2,27.114,2,212,17.35,-22.7833,17.9,17.8,17.8
316N20101015,  GT10,11,4,2206,5962,11, NIS-11,2,    11,2,20101101,149,17.35,-22.7833,3359,32.2,32,27.0815,36.2652,2,36.2818,3,36.4528,3,202.4,2,202.5,2,0.49,2,0,2,0,2,0.03,2,27.0902,2,210,17.35,-22.7833,32.2,32.2,32
316N20101015,  GT10,11,4,2206,5961,10, NIS-10,2,    10,2,20101101,149,17.35,-22.7833,3359,47.7,47.4,22.4419,36.8485,2,36.8026,3,36.9761,3,207.4,2,207.3,2,0.97,2,0.12,2,0.02,2,0.11,2,22.4114,3,209,17.35,-22.7833,47.7,47.5,47.4
316N20101015,  GT10,11,4,2206,5960,9,  NIS-9,2,      9,2,20101101,149,17.35,-22.7833,3359,65.8,65.4,20.2476,36.6321,2,36.614,3,36.7866,3,161.6,2,161.4,2,1.75,2,5.89,2,0.4,2,0.46,2,20.2347,2,207,17.35,-22.7833,65.8,65.6,65.4
316N20101015,  GT10,11,4,2206,5959,8,  NIS-8,2,      8,2,20101101,149,17.35,-22.7833,3359,87.2,86.7,18.1955,36.3766,2,36.3722,2,36.5437,2,115.7,2,116.2,2,3.51,2,14.13,2,0.04,2,0.88,2,18.1895,2,206,17.35,-22.7833,87.2,86.9,86.7
316N20101015,  GT10,11,4,2206,5958,7,  NIS-7,2,      7,2,20101101,149,17.35,-22.7833,3359,112.2,111.5,17.0659,36.266,2,36.2669,2,36.4379,2,110.7,2,110.6,2,4.19,2,15.67,2,0.01,2,0.96,2,17.0681,2,204,17.35,-22.7833,112.2,111.8,111.5
316N20101015,  GT10,11,4,2206,5957,6,  NIS-6,2,      6,2,20101101,149,17.35,-22.7833,3359,137.3,136.4,16.2645,36.1288,2,36.1381,2,36.3085,2,101.5,2,101.6,2,4.97,2,17.49,2,0.01,2,1.06,2,16.2716,2,203,17.35,-22.7833,137.3,136.7,136.4
316N20101015,  GT10,11,4,2206,5956,5,  NIS-5,2,      5,2,20101101,149,17.35,-22.7833,3359,151.6,150.6,15.8702,36.0704,2,36.0623,2,36.2324,2,99.6,2,99.1,2,5.46,2,18.31,2,0.01,2,1.11,2,15.8711,2,201,17.35,-22.7833,151.6,150.9,150.6
316N20101015,  GT10,11,4,2206,5955,4,  NIS-4,2,      4,2,20101101,149,17.35,-22.7833,3359,182,180.8,15.1438,35.9681,2,35.9613,2,36.1309,2,94.9,2,97.5,2,6.24,2,19.23,2,0.01,2,1.16,2,15.1448,2,200,17.35,-22.7833,182,181.2,180.8
316N20101015,  GT10,11,4,2206,5954,3,  NIS-3,2,      3,2,20101101,149,17.35,-22.7833,3359,251.1,249.5,13.6545,35.7316,2,35.7309,2,35.8994,2,87,2,87.3,2,7.8,2,22.44,2,0,2,1.35,2,13.6506,2,157,17.35,-22.7833,251.1,249.9,249.5
316N20101015,  GT10,11,4,2206,5953,2,  NIS-2,2,      2,2,20101101,149,17.35,-22.7833,3359,450.4,447.2,10.5044,35.3107,2,35.3092,2,35.4757,2,76.4,2,76.2,2,13.37,2,29.38,2,0,2,1.8,2,10.505,2,152,17.35,-22.7833,450.4,447.8,447.2
316N20101015,  GT10,11,4,2206,5952,1,  NIS-1,2,      1,2,20101101,149,17.35,-22.7833,3359,600.1,595.6,8.7246,35.0918,2,35.0958,2,35.2613,2,82.6,2,82.8,2,17.47,2,31.75,2,0,2,2.01,2,8.7239,2,148,17.35,-22.7833,600.1,596.3,595.6
316N20101015,  GT10,11,6,2208,5919,12, NIS-12,2,    12,2,20101101,652,17.3502,-22.7837,3358,899,891.7,6.562,34.9289,2,34.9298,2,35.0945,2,113.6,2,116.1,2,22.93,2,31.55,2,0,2,2.08,2,6.5548,2,751,17.3502,-22.7837,899,891.5,891.7
316N20101015,  GT10,11,6,2208,5918,11, NIS-11,2,    11,2,20101101,652,17.3502,-22.7837,3358,1098.4,1089,5.8172,34.9655,2,34.966,2,35.1309,2,144.4,2,145,2,23.23,2,28.71,2,0,2,1.91,2,5.8182,2,746,17.3502,-22.7837,1098.4,1088.8,1089
316N20101015,  GT10,11,6,2208,5917,10, NIS-10,2,    10,2,20101101,652,17.3502,-22.7837,3358,1298.8,1287,5.3358,35.0321,2,35.0325,2,35.1977,2,172.3,2,170.7,2,22.64,2,25.78,2,0,2,1.74,2,5.3344,2,740,17.3502,-22.7837,1298.8,1286.9,1287
316N20101015,  GT10,11,6,2208,5916,9,  NIS-9,2,      9,2,20101101,652,17.3502,-22.7837,3358,1497.5,1483.3,4.6343,35.0238,2,35.0243,2,35.1894,2,193.1,2,194.2,2,23.03,2,23.75,2,0,2,1.61,2,4.6341,2,735,17.3502,-22.7837,1497.5,1483.2,1483.3
316N20101015,  GT10,11,6,2208,5915,8,  NIS-8,2,      8,2,20101101,652,17.3502,-22.7837,3358,1748.3,1730.6,4.0629,35.0007,2,35.0005,2,35.1655,2,212.3,2,212.1,2,23.81,2,22.45,2,0,2,1.53,2,4.0635,2,730,17.3502,-22.7837,1748.3,1730.6,1730.6
316N20101015,  GT10,11,6,2208,5914,7,  NIS-7,2,      7,2,20101101,652,17.3502,-22.7837,3358,1998.8,1977.4,3.6283,34.9821,2,34.9824,2,35.1473,2,225.4,2,225,2,26.45,2,21.55,2,0,2,1.46,2,3.6297,2,724,17.3502,-22.7837,1998.8,1977.5,1977.4
316N20101015,  GT10,11,6,2208,5913,6,  NIS-6,2,      6,2,20101101,652,17.3502,-22.7837,3358,2250.2,2224.8,3.3128,34.9652,2,34.9656,2,35.1305,2,233.6,2,233.5,2,28.3,2,21.04,2,0,2,1.42,2,3.3138,2,719,17.3502,-22.7837,2250.2,2224.9,2224.8
316N20101015,  GT10,11,6,2208,5912,5,  NIS-5,2,      5,2,20101101,652,17.3502,-22.7837,3358,2500.8,2471.2,3.1021,34.9544,2,34.9546,2,35.1194,2,237.1,2,237.1,2,31.23,2,20.87,2,0,2,1.42,2,3.1022,2,713,17.3502,-22.7837,2500.8,2471.4,2471.2
316N20101015,  GT10,11,6,2208,5911,4,  NIS-4,2,      4,2,20101101,652,17.3502,-22.7837,3358,2751.4,2717.2,2.9135,34.9429,2,34.9426,2,35.1074,2,239.6,2,239.9,2,33.57,2,20.81,2,0,2,1.42,2,2.9132,2,708,17.3502,-22.7837,2751.4,2717.4,2717.2
316N20101015,  GT10,11,6,2208,5910,3,  NIS-3,2,      3,2,20101101,652,17.3502,-22.7837,3358,3003.5,2964.5,2.7557,34.9326,2,34.933,2,35.0977,2,240.9,2,241.2,2,36.11,2,20.94,2,0,2,1.43,2,2.7554,2,702,17.3502,-22.7837,3003.5,2964.6,2964.5
316N20101015,  GT10,11,6,2208,5909,2,  NIS-2,2,      2,2,20101101,652,17.3502,-22.7837,3358,3205.3,3162.1,2.6388,34.9233,2,34.9233,2,35.088,2,240.5,2,240.7,2,39.52,2,21.19,2,0,2,1.44,2,2.6387,2,657,17.3502,-22.7837,3205.3,3162.3,3162.1
316N20101015,  GT10,11,6,2208,5908,1,  NIS-1,2,      1,2,20101101,652,17.3502,-22.7837,3358,3385.4,3338.5,2.5646,34.916,2,34.9163,2,35.0809,2,237.8,2,237.9,2,41.67,2,21.57,2,0,2,1.47,2,2.5642,2,652,17.3502,-22.7837,3385.4,3338.7,3338.5
316N20101015,  GT10,11,7,2210,5973,8,McNIS-8,2,      8,2,20101101,1318,17.3543,-22.7896,-999,805.5,799.1,-999,-999,2,34.9398,2,35.1045,2,-999,9,-999,9,22.25,2,32.5,2,0,2,2.19,2,-999,9,1318,17.3543,-22.7896,805.5,798.9,799.1
316N20101015,  GT10,11,7,2210,5972,7,McNIS-7,2,      7,2,20101101,1318,17.3543,-22.7896,-999,906.5,899.1,-999,-999,2,34.929,2,35.0937,2,-999,9,-999,9,23.03,2,31.82,2,0,2,2.13,2,-999,9,1318,17.3543,-22.7896,906.5,898.8,899.1
316N20101015,  GT10,11,7,2210,5971,6,McNIS-6,2,      6,2,20101101,1318,17.3543,-22.7896,-999,1513,1498.5,-999,-999,2,35.0211,2,35.1862,2,-999,9,-999,9,23.03,2,23.99,2,0,2,1.66,2,-999,9,1318,17.3543,-22.7896,1513,1498.1,1498.5
316N20101015,  GT10,11,7,2210,5970,5,McNIS-5,2,      5,2,20101101,1318,17.3543,-22.7896,-999,2020,1998.3,-999,-999,2,34.9847,2,35.1496,2,-999,9,-999,9,26.64,2,21.6,2,0,2,1.5,2,-999,9,1318,17.3543,-22.7896,2020,1997.7,1998.3
316N20101015,  GT10,11,7,2210,5969,4,McNIS-4,2,      4,2,20101101,1318,17.3543,-22.7896,-999,2528,2497.9,-999,-999,2,34.955,2,35.1198,2,-999,9,-999,9,31.13,2,20.94,2,0,2,1.46,2,-999,9,1318,17.3543,-22.7896,2528,2497.2,2497.9
316N20101015,  GT10,11,7,2210,5968,3,McNIS-3,2,      3,2,20101101,1318,17.3543,-22.7896,-999,3037.5,2997.8,-999,-999,2,34.9319,2,35.0967,2,-999,9,-999,9,36.89,2,21.08,2,0,2,1.47,2,-999,9,1318,17.3543,-22.7896,3037.5,2996.9,2997.8
316N20101015,  GT10,11,7,2210,5967,2,McNIS-2,2,      2,2,20101101,1318,17.3543,-22.7896,-999,3241,3197.1,-999,-999,2,34.9237,2,35.0884,2,-999,9,-999,9,39.23,2,21.28,2,0,2,1.47,2,-999,9,1318,17.3543,-22.7896,3241,3196.1,3197.1
316N20101015,  GT10,11,7,2210,5966,1,McNIS-1,2,      1,2,20101101,1318,17.3543,-22.7896,-999,3344,3298,-999,-999,2,34.9302,2,35.0949,2,-999,9,-999,9,38.25,2,21.5,2,0,2,1.47,2,-999,9,1318,17.3543,-22.7896,3344,3296.9,3298
316N20101015,  GT10,12,2,2218,6012,12, NIS-12,2,    12,2,20101102,932,17.3998,-24.4998,3543,32,31.8,26.6674,36.92,2,36.9183,2,37.0924,2,202.2,2,203,2,0.39,2,0,2,0,2,0.02,2,26.6722,2,1000,17.3998,-24.4998,32,31.8,31.8
316N20101015,  GT10,12,2,2218,6011,11, NIS-11,2,    11,2,20101102,932,17.3998,-24.4998,3543,50.7,50.4,24.0001,36.9009,2,36.8961,2,37.07,2,212.2,2,212.2,2,0.49,2,0,2,0.01,2,0.08,2,24.0035,2,958,17.3998,-24.4998,50.7,50.4,50.4
316N20101015,  GT10,12,2,2218,6010,10, NIS-10,2,    10,2,20101102,932,17.3998,-24.4998,3543,72.3,71.8,21.9822,36.8077,2,36.8002,2,36.9737,2,184.6,2,184.1,2,0.88,2,2.09,2,0.19,2,0.25,2,21.9821,2,956,17.3998,-24.4998,72.3,71.9,71.8
316N20101015,  GT10,12,2,2218,6009,9,  NIS-9,2,      9,2,20101102,932,17.3998,-24.4998,3543,92,91.5,20.5943,36.7287,2,36.7296,2,36.9028,2,165.5,2,165.6,2,1.46,2,5.56,2,0.08,2,0.43,2,20.5842,2,955,17.3998,-24.4998,92,91.6,91.5
316N20101015,  GT10,12,2,2218,6008,8,  NIS-8,2,      8,2,20101102,932,17.3998,-24.4998,3543,137.2,136.4,18.6511,36.6415,2,36.6457,2,36.8185,2,157,2,157.7,2,1.95,2,8.23,2,0.02,2,0.52,2,18.6622,2,952,17.3998,-24.4998,137.2,136.6,136.4
316N20101015,  GT10,12,2,2218,6007,7,  NIS-7,2,      7,2,20101102,932,17.3998,-24.4998,3543,186.3,185.1,16.0692,36.1477,2,36.1476,2,36.318,2,115.7,2,116.3,2,4.88,2,16.14,2,0,2,0.98,2,16.0802,2,950,17.3998,-24.4998,186.3,185.4,185.1
316N20101015,  GT10,12,2,2218,6006,6,  NIS-6,2,      6,2,20101102,932,17.3998,-24.4998,3543,236.3,234.8,14.483,35.8603,2,35.8593,2,36.0284,2,93.6,2,93.5,2,6.83,2,20.7,2,0,2,1.27,2,14.481,2,948,17.3998,-24.4998,236.3,235.1,234.8
316N20101015,  GT10,12,2,2218,6005,5,  NIS-5,2,      5,2,20101102,932,17.3998,-24.4998,3543,286.3,284.4,13.2439,35.6569,2,35.6567,2,35.8249,2,81.6,2,80.8,2,8.68,2,24.05,2,0,2,1.47,2,13.2524,2,946,17.3998,-24.4998,286.3,284.8,284.4
316N20101015,  GT10,12,2,2218,6004,4,  NIS-4,2,      4,2,20101102,932,17.3998,-24.4998,3543,350.7,348.3,12.0217,35.4807,2,35.4787,2,35.646,2,68,2,69.3,2,10.63,2,27.38,2,0,2,1.68,2,12.021,2,944,17.3998,-24.4998,350.7,348.8,348.3
316N20101015,  GT10,12,2,2218,6003,3,  NIS-3,2,      3,2,20101102,932,17.3998,-24.4998,3543,450.1,446.9,10.5623,35.2874,2,35.2859,2,35.4523,2,68.8,2,68.8,2,13.66,2,30.27,2,0,2,1.88,2,10.5626,2,941,17.3998,-24.4998,450.1,447.4,446.9
316N20101015,  GT10,12,2,2218,6002,2,  NIS-2,2,      2,2,20101102,932,17.3998,-24.4998,3543,599.2,594.8,8.5902,35.051,2,35.0525,2,35.2178,2,84.4,2,84.4,2,18.25,2,32.24,2,0,2,2.06,2,8.5854,2,937,17.3998,-24.4998,599.2,595.4,594.8
316N20101015,  GT10,12,2,2218,6001,1,  NIS-1,2,      1,2,20101102,932,17.3998,-24.4998,3543,798.4,792.1,7.0557,34.9331,2,34.9327,2,35.0974,2,96.3,2,96,2,22.54,2,33.34,2,0,2,2.19,2,7.0541,2,933,17.3998,-24.4998,798.4,792.8,792.1
316N20101015,  GT10,12,4,2220,6033,13,SRFCPUMP,2,   13,2,20101102,1734,17.404,-24.4962,3548,5.1,5.1,26.7929,36.9279,2,36.9459,3,37.1201,3,204.1,2,-999,9,-999,9,-999,9,-999,9,-999,9,-999,9,1803,17.404,-24.4962,5.1,5.1,5.1
316N20101015,  GT10,12,4,2220,6032,12, NIS-12,2,    12,2,20101102,1734,17.404,-24.4962,3548,22.6,22.5,26.7259,36.9313,2,36.9296,2,37.1037,2,204.4,2,203.8,2,0.1,2,0,2,0,2,0.02,2,26.7258,2,1802,17.404,-24.4962,22.6,22.6,22.5
316N20101015,  GT10,12,4,2220,6031,11, NIS-11,2,    11,2,20101102,1734,17.404,-24.4962,3548,40.5,40.2,24.6837,36.9026,2,36.8994,2,37.0734,2,221.3,2,217.9,2,0.19,2,0,2,0,2,0.04,2,24.6875,2,1801,17.404,-24.4962,40.5,40.4,40.2
316N20101015,  GT10,12,4,2220,6030,10, NIS-10,2,    10,2,20101102,1734,17.404,-24.4962,3548,57,56.7,23.581,36.8906,2,36.8855,2,37.0595,2,210.2,2,209.3,2,0.29,2,0.03,2,0.02,2,0.09,2,23.5783,2,1759,17.404,-24.4962,57,56.9,56.7
316N20101015,  GT10,12,4,2220,6029,9,  NIS-9,2,      9,2,20101102,1734,17.404,-24.4962,3548,75.2,74.7,22.0021,36.8065,2,36.804,2,36.9775,2,185.9,2,186.1,2,0.58,2,1.67,2,0.2,2,0.22,2,22.0076,2,1758,17.404,-24.4962,75.2,75,74.7
316N20101015,  GT10,12,4,2220,6028,8,  NIS-8,2,      8,2,20101102,1734,17.404,-24.4962,3548,92.1,91.5,20.703,36.7329,2,36.7302,2,36.9034,2,165.5,2,166.4,2,1.07,2,5.46,2,0.08,2,0.41,2,20.702,2,1757,17.4039,-24.4962,92.1,91.8,91.5
316N20101015,  GT10,12,4,2220,6027,7,  NIS-7,2,      7,2,20101102,1734,17.404,-24.4962,3548,112.3,111.6,18.8219,36.5177,2,36.541,3,36.7133,3,160.1,2,158.4,2,1.75,2,8.98,2,0.04,2,0.59,2,18.8306,3,1755,17.404,-24.4962,112.3,111.9,111.6
316N20101015,  GT10,12,4,2220,6026,6,  NIS-6,2,      6,2,20101102,1734,17.404,-24.4962,3548,136.6,135.7,18.2663,36.5552,2,36.5541,2,36.7265,2,147.2,2,147.7,2,2.24,2,9.98,2,0.02,2,0.62,2,18.2654,2,1753,17.404,-24.4962,136.6,136,135.7
316N20101015,  GT10,12,4,2220,6025,5,  NIS-5,2,      5,2,20101102,1734,17.404,-24.4962,3548,186.1,184.9,15.8736,36.1058,2,36.1063,2,36.2765,2,110.9,2,111.1,2,4.78,2,17.05,2,0.01,2,1.03,2,15.873,2,1751,17.404,-24.4962,186.1,185.3,184.9
316N20101015,  GT10,12,4,2220,6024,4,  NIS-4,2,      4,2,20101102,1734,17.404,-24.4962,3548,235.8,234.3,14.4961,35.8638,2,35.8666,2,36.0358,2,93.8,2,93.3,2,6.34,2,20.74,2,0.01,2,1.28,2,14.4992,2,1748,17.404,-24.4962,235.8,234.7,234.3
316N20101015,  GT10,12,4,2220,6023,3,  NIS-3,2,      3,2,20101102,1734,17.404,-24.4962,3548,450.1,446.9,11.0476,35.3548,2,35.3541,2,35.5208,2,68.5,2,68.4,2,12.19,2,29.57,2,0.01,2,1.8,2,11.0484,2,1744,17.404,-24.4962,450.1,447.5,446.9
316N20101015,  GT10,12,4,2220,6022,2,  NIS-2,2,      2,2,20101102,1734,17.404,-24.4962,3548,599,594.6,8.8663,35.0791,2,35.0756,2,35.241,2,83.6,2,83.7,2,16.88,2,32.05,2,0,2,2.03,2,8.8611,2,1740,17.404,-24.4962,599,595.3,594.6
316N20101015,  GT10,12,4,2220,6021,1,  NIS-1,2,      1,2,20101102,1734,17.404,-24.4962,3548,798.1,791.9,7.079,34.931,2,34.9301,2,35.0949,2,97.2,2,96.7,2,21.76,2,33.39,2,0,2,2.19,2,7.079,2,1734,17.404,-24.4962,798.1,792.7,791.9
316N20101015,  GT10,12,6,2222,6069,12, NIS-12,2,    12,2,20101102,2303,17.404,-24.4962,3548,899.2,891.9,6.4636,34.9169,2,34.9168,2,35.0815,2,114.3,2,116.8,2,22.64,2,31.9,2,0,2,2.12,2,6.4654,2,1,17.404,-24.4962,899.2,891.7,891.9
316N20101015,  GT10,12,6,2222,6068,11, NIS-11,2,    11,2,20101102,2303,17.404,-24.4962,3548,1078.6,1069.4,5.9258,34.9631,2,34.9652,2,35.1301,2,139.8,2,139.7,2,22.74,2,29.38,2,0,2,1.96,2,5.9259,2,2357,17.404,-24.4962,1078.6,1069.2,1069.4
316N20101015,  GT10,12,6,2222,6067,10, NIS-10,2,    10,2,20101102,2303,17.404,-24.4962,3548,1278.4,1266.9,5.2953,35.0139,2,35.0144,2,35.1795,2,171.4,2,170.4,2,22.25,2,26.12,2,0,2,1.77,2,5.296,2,2352,17.404,-24.4962,1278.4,1266.8,1266.9
316N20101015,  GT10,12,6,2222,6066,9,  NIS-9,2,      9,2,20101102,2303,17.404,-24.4962,3548,1498.5,1484.2,4.6913,35.0173,2,35.0164,2,35.1815,2,194.4,2,193.7,2,22.35,2,24.06,2,0,2,1.64,2,4.6921,2,2347,17.404,-24.4962,1498.5,1484.2,1484.2
316N20101015,  GT10,12,6,2222,6065,8,  NIS-8,2,      8,2,20101102,2303,17.404,-24.4962,3548,1748.2,1730.6,4.0864,35.0002,2,34.9997,2,35.1647,2,214,2,214,2,23.52,2,22.48,2,0,2,1.53,2,4.0865,2,2342,17.404,-24.4962,1748.2,1730.6,1730.6
316N20101015,  GT10,12,6,2222,6064,7,  NIS-7,2,      7,2,20101102,2303,17.404,-24.4962,3548,1998.7,1977.3,3.6682,34.9782,2,34.9782,2,35.1432,2,227.2,2,226.1,2,25.37,2,21.61,2,0.01,2,1.47,2,3.6681,2,2337,17.404,-24.4962,1998.7,1977.4,1977.3
316N20101015,  GT10,12,6,2222,6063,6,  NIS-6,2,      6,2,20101102,2303,17.404,-24.4962,3548,2249.5,2224.2,3.3822,34.966,2,34.966,2,35.1309,2,232.4,2,233,2,27.42,2,21.25,2,0,2,1.45,2,3.3825,2,2332,17.404,-24.4962,2249.5,2224.3,2224.2
316N20101015,  GT10,12,6,2222,6062,5,  NIS-5,2,      5,2,20101102,2303,17.404,-24.4962,3548,2500.7,2471.1,3.1574,34.9562,2,34.9558,2,35.1206,2,237.8,2,239,2,29.57,2,20.95,2,0,2,1.43,2,3.1582,2,2326,17.404,-24.4962,2500.7,2471.2,2471.1
316N20101015,  GT10,12,6,2222,6061,4,  NIS-4,2,      4,2,20101102,2303,17.404,-24.4962,3548,2751.8,2717.6,2.9542,34.9454,2,34.945,2,35.1098,2,239.4,2,239.7,2,32.5,2,20.98,2,0,2,1.44,2,2.9543,2,2321,17.404,-24.4962,2751.8,2717.8,2717.6
316N20101015,  GT10,12,6,2222,6060,3,  NIS-3,2,      3,2,20101102,2303,17.404,-24.4962,3548,3003.8,2964.8,2.7943,34.935,2,34.9353,2,35.1001,2,241.3,2,241.4,2,35.52,2,21.06,2,0,2,1.45,2,2.7948,2,2315,17.404,-24.4962,3003.8,2965,2964.8
316N20101015,  GT10,12,6,2222,6059,2,  NIS-2,2,      2,2,20101102,2303,17.404,-24.4962,3548,3255.8,3211.6,2.6411,34.9238,2,34.9237,2,35.0884,2,241.6,2,241.1,2,38.84,2,21.31,2,0,2,1.46,2,2.6412,2,2310,17.404,-24.4962,3255.8,3211.8,3211.6
316N20101015,  GT10,12,6,2222,6058,1,  NIS-1,2,      1,2,20101102,2303,17.404,-24.4962,3548,3585.3,3534,2.5492,34.9139,2,34.9147,2,35.0793,2,238.7,2,238.8,2,42.16,2,21.76,2,0,2,1.49,2,2.5492,2,2303,17.404,-24.4962,3585.3,3534.2,3534
316N20101015,  GT10,12,7,2223,6078,8,McNIS-8,2,      8,2,20101103,622,17.404,-24.4962,-999,806.2,799.8,6.8517,34.8952,2,34.9477,2,35.1125,2,-999,9,-999,9,20.69,2,32.82,2,0,2,2.17,2,-999,9,1207,17.3572,-24.5329,806.2,799.5,799.8
316N20101015,  GT10,12,7,2223,6077,7,McNIS-7,2,      7,2,20101103,622,17.404,-24.4962,-999,1089.1,1079.7,5.8015,34.9419,2,34.9593,2,35.1241,2,-999,9,-999,9,22.93,2,29.41,2,0.01,2,1.99,2,-999,9,1207,17.3572,-24.5329,1089.1,1079.6,1079.7
316N20101015,  GT10,12,7,2223,6076,6,McNIS-6,2,      6,2,20101103,622,17.404,-24.4962,-999,1514.1,1499.6,4.534,34.9763,2,35.0045,2,35.1696,2,-999,9,-999,9,22.93,2,23.88,2,0.01,2,1.64,2,-999,9,1207,17.3572,-24.5329,1514.1,1499.7,1499.6
316N20101015,  GT10,12,7,2223,6075,5,McNIS-5,2,      5,2,20101103,622,17.404,-24.4962,-999,2021.2,1999.5,3.5744,34.9503,2,34.9786,2,35.1435,2,-999,9,-999,9,25.47,2,21.44,2,0.01,2,1.48,2,-999,9,1207,17.3572,-24.5329,2021.2,1999.6,1999.5
316N20101015,  GT10,12,7,2223,6074,4,McNIS-4,2,      4,2,20101103,622,17.404,-24.4962,-999,2529.5,2499.4,3.0818,34.9329,2,34.9569,2,35.1218,2,-999,9,-999,9,30.35,2,21.05,2,0.01,2,1.45,2,-999,9,1207,17.3572,-24.5329,2529.5,2499.6,2499.4
316N20101015,  GT10,12,7,2223,6073,3,McNIS-3,2,      3,2,20101103,622,17.404,-24.4962,-999,3039,2999.3,2.7467,34.9075,2,34.9329,2,35.0977,2,-999,9,-999,9,35.62,2,21.1,2,0,2,1.45,2,-999,9,1207,17.3572,-24.5329,3039,2999.5,2999.3
316N20101015,  GT10,12,7,2223,6072,2,McNIS-2,2,      2,2,20101103,622,17.404,-24.4962,-999,3294.2,3249.2,2.6251,34.9032,2,34.9235,2,35.0882,2,-999,9,-999,9,39.13,2,21.31,2,0.01,2,1.46,2,-999,9,1207,17.3572,-24.5329,3294.2,3249.5,3249.2
316N20101015,  GT10,12,7,2223,6071,1,McNIS-1,2,      1,2,20101103,622,17.404,-24.4962,-999,3549.7,3499.1,2.5448,34.8961,2,34.9176,2,35.0822,2,-999,9,-999,9,41.67,2,21.73,2,0,2,1.48,2,-999,9,1207,17.3572,-24.5329,3549.7,3499.4,3499.1