BOTTLE,20170124CCHSIORJL
EXPOCODE,SECT_ID,STNNBR,CASTNO,GEOTR_EVENT,GEOTR_SAMPNO,SAMPNO,BTLNBR,BTLNBR_FLAG_W,BTLNBR_U,BTLNBR_U_FLAG_W,DATE,TIME,LATITUDE,LONGITUDE,DEPTH,CTDPRS,CTDDEPTH,CTDTMP,CTDSAL,CTDSAL_FLAG_W,SALNTY,SALNTY_FLAG_W,SALTREF,SALTREF_FLAG_W,CTDOXY,CTDOXY_FLAG_W,OXYGEN,OXYGEN_FLAG_W,SILCAT,SILCAT_FLAG_W,NITRAT,NITRAT_FLAG_W,NITRIT,NITRIT_FLAG_W,PHSPHT,PHSPHT_FLAG_W,REFTMP,REFTMP_FLAG_W,BTL_TIME,BTL_LAT,BTL_LON,ODF_CTDPRS,SMDEPTH,FMDEPTH
,,,,,,,,,,,,,,,METERS,DBAR,METERS,ITS-90,PSS-78,,PSS-78,,G/KG,,UMOL/KG,,UMOL/KG,,UMOL/KG,,UMOL/KG,,UMOL/KG,,UMOL/KG,,DEG C,,,,,DBARS,METERS,METERS
316N20101015,  GT10,7,7,2133,5529,8,McNIS-8,2,       8,2,20101025,806,24.0048,-22.0009,-999,755.7,749.5,8.7529,35.1629,2,35.1884,2,35.3543,2,-999,9,-999,9,17.27,2,29.4,2,0.01,2,1.88,2,-999,9,806,24.0048,-22.0009,755.7,749.3,749.5
316N20101015,  GT10,7,7,2133,5528,7,McNIS-7,2,       7,2,20101025,806,24.0048,-22.0009,-999,1008.2,999.4,7.2309,35.1296,2,35.1488,2,35.3146,2,-999,9,-999,9,20,2,27.06,2,0.01,2,1.79,2,-999,9,806,24.0048,-22.0009,1008.2,999.3,999.4
316N20101015,  GT10,7,7,2133,5527,6,McNIS-6,2,       6,2,20101025,806,24.0048,-22.0009,-999,1210.4,1199.2,6.7381,35.2027,2,35.2313,2,35.3975,2,-999,9,-999,9,19.32,2,24.2,2,0.01,2,1.61,2,-999,9,806,24.0048,-22.0009,1210.4,1199.2,1199.2
316N20101015,  GT10,7,7,2133,5526,5,McNIS-5,2,       5,2,20101025,806,24.0048,-22.0009,-999,1514.1,1499,5.4905,35.165,2,35.1886,2,35.3545,2,-999,9,-999,9,20.78,2,22.11,2,0.01,2,1.49,2,-999,9,806,24.0048,-22.0009,1514.1,1499.1,1499
316N20101015,  GT10,7,7,2133,5525,4,McNIS-4,2,       4,2,20101025,806,24.0048,-22.0009,-999,2529.5,2498.4,3.2095,34.9572,2,34.9889,2,35.1539,2,-999,9,-999,9,31.52,2,21.03,2,0.01,2,1.46,2,-999,9,806,24.0048,-22.0009,2529.5,2498.7,2498.4
316N20101015,  GT10,7,7,2133,5524,3,McNIS-3,2,       3,2,20101025,806,24.0048,-22.0009,-999,3549.7,3497.7,2.5069,34.8951,2,34.9155,2,35.0802,2,-999,9,-999,9,42.94,2,21.66,2,0,2,1.5,2,-999,9,806,24.0048,-22.0009,3549.7,3498.1,3497.7
316N20101015,  GT10,7,7,2133,5511,2,McNIS-2,2,       2,2,20101025,806,24.0048,-22.0009,-999,4225.5,4157.3,2.3584,34.8745,2,34.8935,2,35.058,2,-999,9,-999,9,47.04,2,21.78,2,0,2,1.5,2,-999,9,806,24.0048,-22.0009,4225.5,4157.6,4157.3
316N20101015,  GT10,7,7,2133,5510,1,McNIS-1,2,       1,2,20101025,806,24.0048,-22.0009,-999,4574.5,4497.1,2.3823,34.8715,2,34.8925,2,35.057,2,-999,9,-999,9,47.82,2,21.82,2,0,2,1.5,2,-999,9,806,24.0048,-22.0009,4574.5,4497.3,4497.1
316N20101015,  GT10,8,2,2143,5619,13,SRFCPUMP,2,    13,2,20101026,623,21.0015,-22.0035,4341,4.8,4.8,26.1574,36.822,2,36.8353,3,37.009,3,202.9,2,-999,9,-999,9,-999,9,-999,9,-999,9,-999,9,704,21.0069,-22.0051,4.8,4.8,4.8
316N20101015,  GT10,8,2,2143,5618,12, NIS-12,2,     12,2,20101026,623,21.0015,-22.0035,4341,34,33.8,26.1819,36.8188,2,36.8159,2,36.9895,2,202.9,2,203.3,2,0.49,2,0,2,0,2,0.05,2,26.1814,2,702,21.0066,-22.005,34,33.9,33.8
316N20101015,  GT10,8,2,2143,5617,11, NIS-11,2,     11,2,20101026,623,21.0015,-22.0035,4341,68.5,68.1,23.7492,37.1569,2,37.1554,2,37.3306,2,220.9,2,219.8,2,0.49,2,0,2,0,2,0.01,2,23.7526,2,700,21.0061,-22.0047,68.5,68.3,68.1
316N20101015,  GT10,8,2,2143,5616,10, NIS-10,2,     10,2,20101026,623,21.0015,-22.0035,4341,93.2,92.6,21.7056,36.9968,2,36.9949,2,37.1693,2,204.1,2,203.3,2,0.68,2,0.02,2,0.03,2,0.09,2,21.7065,2,658,21.0057,-22.0045,93.2,92.9,92.6
316N20101015,  GT10,8,2,2143,5615,9,  NIS-9,2,       9,2,20101026,623,21.0015,-22.0035,4341,113.1,112.4,20.5135,36.8862,2,36.8843,2,37.0582,2,181.2,2,181.6,2,1.17,2,2.97,2,0.09,2,0.26,2,20.5046,2,656,21.0054,-22.0044,113.1,112.7,112.4
316N20101015,  GT10,8,2,2143,5614,8,  NIS-8,2,       8,2,20101026,623,21.0015,-22.0035,4341,138.2,137.3,18.36,36.5325,2,36.5364,2,36.7087,2,138.5,2,139.9,2,3.02,2,10.66,2,0.02,2,0.67,2,18.3716,2,654,21.0052,-22.0044,138.2,137.6,137.3
316N20101015,  GT10,8,2,2143,5613,7,  NIS-7,2,       7,2,20101026,623,21.0015,-22.0035,4341,186.7,185.4,17.2783,36.4233,2,36.4257,2,36.5974,2,144.1,2,143.3,2,3.31,2,11.13,2,0.01,2,0.73,2,17.2814,2,651,21.0049,-22.0043,186.7,185.8,185.4
316N20101015,  GT10,8,2,2143,5612,6,  NIS-6,2,       6,2,20101026,623,21.0015,-22.0035,4341,236.1,234.5,16.1745,36.2382,2,36.2453,2,36.4162,2,142.4,2,144.3,2,4,2,12.32,2,0.01,2,0.75,2,16.1795,2,649,21.0045,-22.0041,236.1,234.9,234.5
316N20101015,  GT10,8,2,2143,5611,5,  NIS-5,2,       5,2,20101026,623,21.0015,-22.0035,4341,286.5,284.5,15.1397,36.0516,2,36.0544,2,36.2244,2,134.9,2,134.1,2,5.07,2,14.92,2,0.01,2,0.92,2,15.1393,2,646,21.0041,-22.0041,286.5,285,284.5
316N20101015,  GT10,8,2,2143,5610,4,  NIS-4,2,       4,2,20101026,623,21.0015,-22.0035,4341,419.8,416.8,12.9363,35.7229,2,35.7232,2,35.8917,2,121,2,122.4,2,7.41,2,19.72,2,0.01,2,1.2,2,12.9333,2,642,21.0035,-22.0042,419.8,417.4,416.8
316N20101015,  GT10,8,2,2143,5609,3,  NIS-3,2,       3,2,20101026,623,21.0015,-22.0035,4341,663.3,658.1,8.9877,35.1852,2,35.184,2,35.3499,2,92.6,2,92.5,2,17.07,2,30.1,2,0.01,2,1.91,2,8.984,2,636,21.0028,-22.0039,663.3,659,658.1
316N20101015,  GT10,8,2,2143,5608,2,  NIS-2,2,       2,2,20101026,623,21.0015,-22.0035,4341,963.8,955.6,6.5905,35.0202,2,35.0218,2,35.1869,2,136.6,2,135.4,2,21.66,2,28.73,2,0,2,1.92,2,6.5932,2,629,21.0021,-22.0039,963.8,956.6,955.6
316N20101015,  GT10,8,2,2143,5607,1,  NIS-1,2,       1,2,20101026,623,21.0015,-22.0035,4341,1197.3,1186.5,6.0083,35.1089,2,35.1082,2,35.2738,2,170,2,169.9,2,20.49,2,24.96,2,0,2,1.7,2,6.0078,2,623,21.0015,-22.0035,1197.3,1187.6,1186.5
316N20101015,  GT10,9,1,2162,5635,12, NIS-12,2,     12,2,20101027,2023,17.3503,-18.2542,3053,30.4,30.2,27.8274,35.7295,2,35.844,3,36.013,3,204.1,2,203.9,2,0.68,2,0,2,0,2,0.03,2,27.8354,2,2101,17.3506,-18.2547,30.4,30.2,30.2
316N20101015,  GT10,9,1,2162,5634,11, NIS-11,2,     11,2,20101027,2023,17.3503,-18.2542,3053,55.9,55.5,19.402,36.0471,2,36.0448,2,36.2147,2,123.2,2,123.1,2,2.63,2,7.01,2,0.57,2,0.83,2,19.4032,2,2059,17.3506,-18.2546,55.9,55.6,55.5
316N20101015,  GT10,9,1,2162,5633,10, NIS-10,2,     10,2,20101027,2023,17.3503,-18.2542,3053,88.9,88.4,15.7524,35.7346,2,35.733,2,35.9015,2,53.5,2,54,2,6.73,2,22.54,2,0.03,2,1.53,2,15.7608,2,2056,17.3505,-18.2545,88.9,88.5,88.4
316N20101015,  GT10,9,1,2162,5632,9,  NIS-9,2,       9,2,20101027,2023,17.3503,-18.2542,3053,138.4,137.5,14.1065,35.5765,2,35.5697,2,35.7375,2,65,2,65.1,2,8.1,2,23.57,2,0.01,2,1.56,2,14.098,3,2053,17.3505,-18.2544,138.4,137.7,137.5
316N20101015,  GT10,9,1,2162,5631,8,  NIS-8,2,       8,2,20101027,2023,17.3503,-18.2542,3053,188.3,187.1,13.3913,35.506,2,35.5025,2,35.6699,2,60.6,2,60.5,2,9.07,2,25.06,2,0.01,2,1.64,2,13.3927,2,2051,17.3505,-18.2544,188.3,187.3,187.1
316N20101015,  GT10,9,1,2162,5630,7,  NIS-7,2,       7,2,20101027,2023,17.3503,-18.2542,3053,237.6,236,12.8185,35.4854,2,35.4881,2,35.6554,2,57.2,2,56.6,2,9.85,2,26.32,2,0,2,1.69,2,12.8322,2,2049,17.3504,-18.2544,237.6,236.3,236
316N20101015,  GT10,9,1,2162,5629,6,  NIS-6,2,       6,2,20101027,2023,17.3503,-18.2542,3053,391.6,388.9,11.0224,35.301,2,35.3006,2,35.467,2,41.9,2,42.2,2,13.27,2,31.5,2,0,2,1.96,2,11.0225,2,2044,17.3504,-18.2544,391.6,389.3,388.9
316N20101015,  GT10,9,1,2162,5628,5,  NIS-5,2,       5,2,20101027,2023,17.3503,-18.2542,3053,391.7,389,11.0155,35.3004,2,35.3005,2,35.467,2,41.9,2,42.3,2,13.17,2,31.57,2,0,2,1.96,2,11.0183,2,2044,17.3504,-18.2544,391.7,389.4,389
316N20101015,  GT10,9,1,2162,5627,4,  NIS-4,2,       4,2,20101027,2023,17.3503,-18.2542,3053,666.1,661,8.3468,35.0329,2,35.0343,2,35.1995,2,70,2,69.1,2,19.32,2,33.81,2,0,2,2.19,2,8.3475,2,2037,17.3504,-18.2543,666.1,661.7,661
316N20101015,  GT10,9,1,2162,5626,3,  NIS-3,2,       3,2,20101027,2023,17.3503,-18.2542,3053,964.2,956.2,6.3742,34.9129,2,34.9126,2,35.0773,2,109,2,108.8,2,24.3,2,32.09,2,0,2,2.18,2,6.373,2,2031,17.3503,-18.2542,964.2,957,956.2
316N20101015,  GT10,9,1,2162,5625,2,  NIS-2,2,       2,2,20101027,2023,17.3503,-18.2542,3053,964.2,956.3,6.3711,34.9129,2,34.9128,2,35.0775,2,109.2,2,109.6,2,24.3,2,31.99,2,0,2,2.17,2,6.3732,2,2030,17.3503,-18.2542,964.2,957.1,956.3
316N20101015,  GT10,9,1,2162,5624,1,  NIS-1,2,       1,2,20101027,2023,17.3503,-18.2542,3053,1196.8,1186.3,5.4734,34.9631,2,34.9663,2,35.1312,2,149,2,149.1,2,24.4,2,27.74,2,0,2,1.93,2,5.4725,2,2023,17.3503,-18.2542,1196.8,1187.2,1186.3
316N20101015,  GT10,9,3,2165,5671,12, NIS-12,2,     12,2,20101027,2325,17.3506,-18.2546,3050,22.5,22.4,27.8796,35.7653,2,35.8,3,35.9688,3,200,2,199.9,2,0.59,2,0,2,0,2,0.04,2,27.8785,2,0,17.3509,-18.2551,22.5,22.4,22.4
316N20101015,  GT10,9,3,2165,5670,11, NIS-11,2,     11,2,20101027,2325,17.3506,-18.2546,3050,52.4,52,18.9721,36.0854,2,36.0622,3,36.2323,3,129.9,2,98.8,2,3.41,2,15.12,2,0.37,2,1.05,2,18.9572,2,2358,17.3509,-18.2551,52.4,52.1,52
316N20101015,  GT10,9,3,2165,5669,10, NIS-10,2,     10,2,20101027,2325,17.3506,-18.2546,3050,91.6,91,15.5154,35.7901,2,35.7587,3,35.9273,3,59.9,2,59.4,2,6.83,2,24.38,2,0.01,2,1.5,2,15.5238,2,2354,17.3509,-18.255,91.6,91.2,91
316N20101015,  GT10,9,3,2165,5668,9,  NIS-9,2,       9,2,20101027,2325,17.3506,-18.2546,3050,106.9,106.3,14.7667,35.6746,2,35.6718,2,35.84,2,62.1,2,61.7,2,7.51,2,24.78,2,0.01,2,1.53,2,14.7589,2,2353,17.3509,-18.255,106.9,106.4,106.3
316N20101015,  GT10,9,3,2165,5667,8,  NIS-8,2,       8,2,20101027,2325,17.3506,-18.2546,3050,151,150.1,13.7072,35.5326,2,35.5317,2,35.6993,2,64.3,2,63.4,2,8.49,2,25.92,2,0,2,1.61,2,13.7245,3,2351,17.3508,-18.255,151,150.3,150.1
316N20101015,  GT10,9,3,2165,5666,7,  NIS-7,2,       7,2,20101027,2325,17.3506,-18.2546,3050,250.6,249,12.6629,35.4781,2,35.4704,2,35.6376,2,53.1,2,52.6,2,10.05,2,28.4,2,0,2,1.73,2,12.6643,2,2348,17.3508,-18.255,250.6,249.3,249
316N20101015,  GT10,9,3,2165,5665,6,  NIS-6,2,       6,2,20101027,2325,17.3506,-18.2546,3050,350.4,348,11.4598,35.3455,2,35.3454,2,35.512,2,42,2,41.8,2,12.29,2,31.67,2,0,2,1.91,2,11.4604,2,2345,17.3508,-18.2549,350.4,348.4,348
316N20101015,  GT10,9,3,2165,5664,5,  NIS-5,2,       5,2,20101027,2325,17.3506,-18.2546,3050,459.9,456.6,10.4159,35.2445,2,35.2429,2,35.4091,2,46.4,2,46.2,2,14.63,2,33.21,2,0,2,2.04,2,10.4122,2,2342,17.3508,-18.2549,459.9,457.1,456.6
316N20101015,  GT10,9,3,2165,5663,4,  NIS-4,2,       4,2,20101027,2325,17.3506,-18.2546,3050,564.2,560.1,9.3073,35.1179,2,35.117,2,35.2826,2,55,2,53.8,2,17.17,2,34.5,2,0,2,2.17,2,9.3081,2,2338,17.3508,-18.2549,564.2,560.7,560.1
316N20101015,  GT10,9,3,2165,5662,3,  NIS-3,2,       3,2,20101027,2325,17.3506,-18.2546,3050,663.9,658.9,8.5175,35.05,2,35.0503,2,35.2155,2,67.3,2,67.1,2,18.74,2,34.43,2,0,2,2.18,2,8.516,2,2335,17.3507,-18.2549,663.9,659.6,658.9
316N20101015,  GT10,9,3,2165,5661,2,  NIS-2,2,       2,2,20101027,2325,17.3506,-18.2546,3050,798.1,791.9,7.3714,34.9432,2,34.9418,2,35.1066,2,83.3,2,83.5,2,21.66,2,34.58,2,0,2,2.23,2,7.3846,2,2332,17.3507,-18.2548,798.1,792.6,791.9
316N20101015,  GT10,9,3,2165,5660,1,  NIS-1,2,       1,2,20101027,2325,17.3506,-18.2546,3050,948,940.2,6.4179,34.9034,2,34.9031,2,35.0677,2,105.8,2,105.3,2,24.01,2,33.3,2,0,2,2.21,2,6.4177,2,2328,17.3506,-18.2547,948,941,940.2
316N20101015,  GT10,9,5,2167,5692,13,SRFCPUMP,2,    13,2,20101028,639,17.3524,-18.2579,3053,5,5,27.9719,35.8052,2,35.8269,3,35.9958,3,197.5,2,-999,9,-999,9,-999,9,-999,9,-999,9,-999,9,713,17.3525,-18.2579,5,5,5
316N20101015,  GT10,9,5,2167,5691,12, NIS-12,2,     12,2,20101028,639,17.3524,-18.2579,3053,13.3,13.3,27.9812,35.8,2,35.7991,2,35.9679,2,197.6,2,197.4,2,0.78,2,0.02,2,0,2,0.06,2,27.981,2,713,17.3524,-18.2579,13.3,13.3,13.3
316N20101015,  GT10,9,5,2167,5690,11, NIS-11,2,     11,2,20101028,639,17.3524,-18.2579,3053,29,28.8,27.9745,35.7996,2,35.8393,3,36.0083,3,197.9,2,198.4,2,0.78,2,0.03,2,0,2,0.07,2,27.9741,2,711,17.3524,-18.2579,29,28.9,28.8
316N20101015,  GT10,9,5,2167,5689,10, NIS-10,2,     10,2,20101028,639,17.3524,-18.2579,3053,54.7,54.4,19.4492,36.0286,2,36.0696,3,36.2397,3,121.9,2,122,2,2.73,2,10.58,2,0.43,2,0.84,2,19.4219,3,709,17.3524,-18.2579,54.7,54.6,54.4
316N20101015,  GT10,9,5,2167,5688,9,  NIS-9,2,       9,2,20101028,639,17.3524,-18.2579,3053,87.6,87.1,15.634,35.7177,2,35.7185,2,35.8869,2,54.5,2,54.5,2,6.83,2,24.55,2,0.02,2,1.53,2,15.616,2,707,17.3524,-18.2579,87.6,87.4,87.1
316N20101015,  GT10,9,5,2167,5687,8,  NIS-8,2,       8,2,20101028,639,17.3524,-18.2579,3053,112.7,112,14.9205,35.6636,2,35.6508,2,35.8189,2,59.5,2,59.2,2,7.41,2,24.85,2,0.01,2,1.55,2,14.9164,2,705,17.3524,-18.2579,112.7,112.3,112
316N20101015,  GT10,9,5,2167,5686,7,  NIS-7,2,       7,2,20101028,639,17.3524,-18.2579,3053,137.1,136.2,14.3999,35.614,2,35.6012,2,35.7691,2,63.7,2,64.1,2,7.71,2,25.03,2,0,2,1.55,2,14.39,2,702,17.3524,-18.2579,137.1,136.6,136.2
316N20101015,  GT10,9,5,2167,5685,6,  NIS-6,2,       6,2,20101028,639,17.3524,-18.2579,3053,161.7,160.7,13.7283,35.5309,2,35.5221,2,35.6896,2,64,2,63.9,2,8.39,2,25.88,2,0,2,1.6,2,13.7099,2,700,17.3524,-18.2579,161.7,161,160.7
316N20101015,  GT10,9,5,2167,5684,5,  NIS-5,2,       5,2,20101028,639,17.3524,-18.2579,3053,186.8,185.6,13.3003,35.4906,2,35.4897,2,35.6571,2,62.7,2,62.6,2,8.97,2,26.47,2,0,2,1.64,2,13.3163,2,658,17.3524,-18.2579,186.8,186,185.6
316N20101015,  GT10,9,5,2167,5683,4,  NIS-4,2,       4,2,20101028,639,17.3524,-18.2579,3053,236.8,235.3,12.6508,35.438,2,35.4373,2,35.6044,2,56.1,2,55.9,2,9.95,2,28.08,2,0,2,1.73,2,12.6389,2,656,17.3524,-18.2579,236.8,235.7,235.3
316N20101015,  GT10,9,5,2167,5682,3,  NIS-3,2,       3,2,20101028,639,17.3524,-18.2579,3053,390.8,388.1,11.0341,35.3068,2,35.3101,2,35.4766,2,43.2,2,43.1,2,13.07,2,32.23,2,0,2,1.95,2,11.0357,2,651,17.3524,-18.2579,390.8,388.6,388.1
316N20101015,  GT10,9,5,2167,5681,2,  NIS-2,2,       2,2,20101028,639,17.3524,-18.2579,3053,664.3,659.3,8.3316,35.0336,2,35.0298,2,35.195,2,70.3,2,69.7,2,19.32,2,34.5,2,0,2,2.19,2,8.3321,2,645,17.3524,-18.2579,664.3,660.1,659.3
316N20101015,  GT10,9,5,2167,5680,1,  NIS-1,2,       1,2,20101028,639,17.3524,-18.2579,3053,799.2,793,7.2013,34.9357,2,34.935,2,35.0997,2,88.1,2,87.5,2,22.05,2,34.28,2,0,2,2.22,2,7.201,2,640,17.3524,-18.2579,799.2,793.8,793
316N20101015,  GT10,9,6,2168,5704,12, NIS-12,2,     12,2,20101028,1059,17.3497,-18.2499,3050,1098.1,1088.6,5.9186,34.9498,2,34.9504,2,35.1152,2,133.8,2,125.8,3,23.91,2,30.52,2,0,2,2.02,2,5.9188,2,1147,17.3497,-18.2499,1098.1,1088.3,1088.6
316N20101015,  GT10,9,6,2168,5703,11, NIS-11,2,     11,2,20101028,1059,17.3497,-18.2499,3050,1248.3,1237.1,5.2801,34.9713,2,34.9736,2,35.1385,2,158.9,2,158.6,2,23.91,2,27.88,2,0,2,1.86,2,5.2799,2,1144,17.3497,-18.2499,1248.3,1236.9,1237.1
316N20101015,  GT10,9,6,2168,5702,10, NIS-10,2,     10,2,20101028,1059,17.3497,-18.2499,3050,1398.3,1385.3,4.8393,34.9875,2,34.988,2,35.153,2,178.3,2,177.4,2,23.62,2,25.96,2,0,2,1.74,2,4.8384,2,1140,17.3497,-18.2499,1398.3,1385.1,1385.3
316N20101015,  GT10,9,6,2168,5701,9,  NIS-9,2,       9,2,20101028,1059,17.3497,-18.2499,3050,1548.4,1533.5,4.3825,34.9877,2,34.9882,2,35.1532,2,196.3,2,197,2,23.42,2,24.17,2,0,2,1.63,2,4.3823,2,1136,17.3497,-18.25,1548.4,1533.3,1533.5
316N20101015,  GT10,9,6,2168,5700,8,  NIS-8,2,       8,2,20101028,1059,17.3497,-18.2499,3050,1698.6,1681.6,4.0699,34.9841,2,34.9842,2,35.1492,2,208.7,2,209,2,23.91,2,23.14,2,0,2,1.56,2,4.0709,2,1132,17.3497,-18.25,1698.6,1681.5,1681.6
316N20101015,  GT10,9,6,2168,5699,7,  NIS-7,2,       7,2,20101028,1059,17.3497,-18.2499,3050,1899.2,1879.4,3.7618,34.9771,2,34.9772,2,35.1421,2,219.9,2,219.8,2,25.08,2,22.26,2,0,2,1.5,2,3.76,2,1127,17.3497,-18.2501,1899.2,1879.3,1879.4
316N20101015,  GT10,9,6,2168,5698,6,  NIS-6,2,       6,2,20101028,1059,17.3497,-18.2499,3050,2100,2077.1,3.5021,34.9706,2,34.9707,2,35.1356,2,226.4,2,226.8,2,27.13,2,21.84,2,0,2,1.47,2,3.5023,2,1123,17.3497,-18.2501,2100,2077,2077.1
316N20101015,  GT10,9,6,2168,5697,5,  NIS-5,2,       5,2,20101028,1059,17.3497,-18.2499,3050,2300.8,2274.6,3.2661,34.9593,2,34.9648,3,35.1296,3,230.5,2,231,2,29.57,2,21.61,2,0,2,1.46,2,3.2656,2,1118,17.3497,-18.2499,2300.8,2274.6,2274.6
316N20101015,  GT10,9,6,2168,5696,4,  NIS-4,2,       4,2,20101028,1059,17.3497,-18.2499,3050,2501.8,2472.2,3.0782,34.9501,2,34.9494,2,35.1142,2,231.6,2,231.4,2,32.11,2,21.56,2,0,2,1.48,2,3.0782,2,1113,17.3497,-18.25,2501.8,2472.2,2472.2
316N20101015,  GT10,9,6,2168,5695,3,  NIS-3,2,       3,2,20101028,1059,17.3497,-18.2499,3050,2702.9,2669.7,2.9374,34.9416,2,34.9427,2,35.1075,2,232.2,2,232.2,2,34.45,2,21.52,2,0,2,1.47,2,2.937,2,1109,17.3497,-18.2499,2702.9,2669.7,2669.7
316N20101015,  GT10,9,6,2168,5694,2,  NIS-2,2,       2,2,20101028,1059,17.3497,-18.2499,3050,2904.2,2867.1,2.7837,34.9317,2,34.9313,2,35.096,2,228.6,2,229.3,2,38.06,2,21.73,2,0,2,1.5,2,2.7835,2,1103,17.3497,-18.2498,2904.2,2867.1,2867.1
316N20101015,  GT10,9,6,2168,5693,1,  NIS-1,2,       1,2,20101028,1059,17.3497,-18.2499,3050,3063.4,3023.1,2.6982,34.9253,2,34.9264,2,35.0911,2,221.7,2,221.9,2,41.77,2,21.98,2,0,2,1.53,2,2.6983,2,1059,17.3497,-18.2498,3063.4,3023.2,3023.1
316N20101015,  GT10,9,8,2172,5737,8,McNIS-5,2,       5,2,20101028,2121,17.358,-18.2503,-999,806.2,799.8,7.1103,34.923,2,34.9338,2,35.0985,2,-999,9,-999,9,22.84,2,34.19,2,0,2,2.23,2,-999,9,330,17.3516,-20.8168,806.2,799.5,799.8
316N20101015,  GT10,9,8,2172,5736,7,McNIS-4,2,       4,2,20101028,2121,17.358,-18.2503,-999,957.7,949.8,6.2976,34.9094,2,34.9192,2,35.0839,2,-999,9,-999,9,24.79,2,32.37,2,0,2,2.17,2,-999,9,330,17.3516,-20.8168,957.7,949.6,949.8
316N20101015,  GT10,9,8,2172,5735,6,McNIS-3,2,       3,2,20101028,2121,17.358,-18.2503,-999,1261,1249.7,5.2372,34.9647,2,34.9843,2,35.1493,2,-999,9,-999,9,24.01,2,27.37,2,0,2,1.88,2,-999,9,330,17.3516,-20.8168,1261,1249.6,1249.7
316N20101015,  GT10,9,8,2172,5734,5,McNIS-2,2,       2,2,20101028,2121,17.358,-18.2503,-999,1716.8,1699.6,4.0996,34.9732,2,34.99,2,35.155,2,-999,9,-999,9,24.4,2,22.88,2,0,2,1.59,2,-999,9,330,17.3516,-20.8168,1716.8,1699.7,1699.6
316N20101015,  GT10,9,8,2172,5733,4,McNIS-1,2,       1,2,20101028,2121,17.358,-18.2503,-999,2122.8,2099.5,3.503,34.9567,2,34.9711,2,35.136,2,-999,9,-999,9,27.91,2,21.64,2,0,2,1.51,2,-999,9,330,17.3516,-20.8168,2122.8,2099.7,2099.5