BOTTLE,20170124CCHSIORJL
# Change GEOTRC_EVENTNO to GEOTR_EVENT
# Change GEOTRC_SAMPNO to GEOTR_SAMPNO
# Change BTMDEPTH to DEPTH
# Change DEPTH units from CORR.M to METERS
# Change CTDPRS units from DBARS to DBAR
# Change REFTMP units from ITS-90 to DEG C
# This ODF bottle data is from SIOR Niskin bottles.
#
# SHIP: R/V KNORR
# Cruise: GT10; GEOTRACES 2010
# EXPOCODE: 316N20101015
# DATES:  20101015 - 20101105
# Chief Scientist: W.Jenkins, E.Boyle, & G.Cutter
# 12 stations multiple casts per station
#
# BOTTLE,20141030ODF
# S-M_DEPTH IS SAUNDERS-MANTYLA DEPTH (INTEGRATED; USES DYNAMIC HEIGHT) 
# F-M_DEPTH IS FOFONOFF-MILLARD DEPTH (NON-INTEGRATED; ALSO USED BY SBE)
# CTDDEPTH REPORTED HERE IS NON-INTEGRATED FOFONOFF-MILLARD DEPTH
EXPOCODE,SECT_ID,STNNBR,CASTNO,GEOTR_EVENT,GEOTR_SAMPNO,SAMPNO,BTLNBR,BTLNBR_FLAG_W,BTLNBR_U,BTLNBR_U_FLAG_W,DATE,TIME,LATITUDE,LONGITUDE,DEPTH,CTDPRS,CTDDEPTH,CTDTMP,CTDSAL,CTDSAL_FLAG_W,SALNTY,SALNTY_FLAG_W,SALTREF,SALTREF_FLAG_W,CTDOXY,CTDOXY_FLAG_W,OXYGEN,OXYGEN_FLAG_W,SILCAT,SILCAT_FLAG_W,NITRAT,NITRAT_FLAG_W,NITRIT,NITRIT_FLAG_W,PHSPHT,PHSPHT_FLAG_W,REFTMP,REFTMP_FLAG_W,BTL_TIME,BTL_LAT,BTL_LON,ODF_CTDPRS,SMDEPTH,FMDEPTH
,,,,,,,,,,,,,,,METERS,DBAR,METERS,ITS-90,PSS-78,,PSS-78,,G/KG,,UMOL/KG,,UMOL/KG,,UMOL/KG,,UMOL/KG,,UMOL/KG,,UMOL/KG,,DEG C,,,,,DBARS,METERS,METERS
316N20101015,  GT10,1,1,2008,5523,12, NIS-12,2,     12,2,20101016,228,38.3269,-9.6625,2819,804.2,796.6,12.8059,36.3522,2,36.3524,2,36.5239,2,190.2,2,190.8,2,5.85,2,10.76,2,0.01,2,0.69,2,12.809,2,327,38.3292,-9.6655,804.2,796.3,796.6
316N20101015,  GT10,1,1,2008,5522,11, NIS-11,2,     11,2,20101016,228,38.3269,-9.6625,2819,963.2,953.8,12.4441,36.4109,2,36.4103,2,36.582,2,185.4,2,186,2,6.82,2,11.82,2,0.01,2,0.75,2,12.4446,2,323,38.329,-9.6652,963.2,953.6,953.8
316N20101015,  GT10,1,1,2008,5521,10, NIS-10,2,     10,2,20101016,228,38.3269,-9.6625,2819,1048.3,1037.8,12.5167,36.4828,2,36.481,2,36.653,2,186.6,2,185.7,2,6.73,2,11.66,2,0,2,0.73,2,12.517,2,319,38.3289,-9.665,1048.3,1037.7,1037.8
316N20101015,  GT10,1,1,2008,5520,9,  NIS-9,2,       9,2,20101016,228,38.3269,-9.6625,2819,1198.7,1186.2,12.3137,36.5025,2,36.501,2,36.6731,2,185.1,2,183.3,2,7.51,2,12.22,2,0,2,0.77,2,12.3167,2,315,38.3287,-9.6648,1198.7,1186.2,1186.2
316N20101015,  GT10,1,1,2008,5519,8,  NIS-8,2,       8,2,20101016,228,38.3269,-9.6625,2819,1348.8,1334.4,11.3082,36.3506,2,36.3505,2,36.5219,2,181.6,2,181.3,2,9.26,2,14.04,2,0,2,0.9,2,11.3086,2,310,38.3285,-9.6646,1348.8,1334.4,1334.4
316N20101015,  GT10,1,1,2008,5518,7,  NIS-7,2,       7,2,20101016,228,38.3269,-9.6625,2819,1498.4,1481.8,10.7221,36.274,2,36.2764,2,36.4475,2,188,2,186,2,10.04,2,14.37,2,0,2,0.92,2,10.723,2,305,38.3284,-9.6644,1498.4,1481.9,1481.8
316N20101015,  GT10,1,1,2008,5517,6,  NIS-6,2,       6,2,20101016,228,38.3269,-9.6625,2819,1647.9,1629.1,8.2251,35.7931,2,35.7959,2,35.9647,2,202.1,2,204,2,13.07,2,16.24,2,0,2,1.07,2,8.2287,2,301,38.3282,-9.6641,1647.9,1629.2,1629.1
316N20101015,  GT10,1,1,2008,5516,5,  NIS-5,2,       5,2,20101016,228,38.3269,-9.6625,2819,1797.7,1776.5,6.1202,35.4242,2,35.4237,2,35.5908,2,223.5,2,224.8,2,16.39,2,17.33,2,0.01,2,1.17,2,6.1198,2,256,38.328,-9.6639,1797.7,1776.7,1776.5
316N20101015,  GT10,1,1,2008,5515,4,  NIS-4,2,       4,2,20101016,228,38.3269,-9.6625,2819,2098.2,2072.1,4.4519,35.1583,2,35.1579,2,35.3237,2,239.4,2,238.8,2,21.08,2,18.3,2,0.01,2,1.26,2,4.4517,2,249,38.3277,-9.6636,2098.2,2072.3,2072.1
316N20101015,  GT10,1,1,2008,5514,3,  NIS-3,2,       3,2,20101016,228,38.3269,-9.6625,2819,2399.2,2367.7,3.7293,35.0631,2,35.0622,2,35.2275,2,241.9,2,241.2,2,26.44,2,19.11,2,0,2,1.33,2,3.7301,2,243,38.3275,-9.6632,2399.2,2367.9,2367.7
316N20101015,  GT10,1,1,2008,5513,2,  NIS-2,2,       2,2,20101016,228,38.3269,-9.6625,2819,2700.2,2662.8,3.0347,34.975,2,34.9746,2,35.1395,2,243.9,2,243.8,2,32.59,2,19.93,2,0,2,1.39,3,3.0332,2,235,38.3272,-9.6629,2700.2,2663.1,2662.8
316N20101015,  GT10,1,1,2008,5512,1,  NIS-1,2,       1,2,20101016,228,38.3269,-9.6625,2819,2850.5,2810.1,2.8487,34.9543,2,34.9559,2,35.1208,2,243.9,2,243.6,2,35.42,2,20.33,2,0,2,1.42,2,2.8528,2,228,38.3269,-9.6625,2850.5,2810.4,2810.1
316N20101015,  GT10,1,2,2009,5036,4,McNIS-4,2,       4,2,20101016,1015,38.3334,-9.67,-999,1210.4,1197.8,11.9545,36.3972,2,-999,9,-999,9,-999,9,-999,9,-999,9,-999,9,-999,9,-999,9,-999,9,1015,38.3334,-9.67,1210.4,1197.5,1197.8
316N20101015,  GT10,1,2,2009,5035,3,McNIS-3,2,       3,2,20101016,1015,38.3334,-9.67,-999,1514.1,1497.3,10.3359,36.1427,2,-999,9,-999,9,-999,9,-999,9,-999,9,-999,9,-999,9,-999,9,-999,9,1015,38.3334,-9.67,1514.1,1497.1,1497.3
316N20101015,  GT10,1,2,2009,5034,2,McNIS-2,2,       2,2,20101016,1015,38.3334,-9.67,-999,2122.8,2096.2,4.336,35.0978,2,-999,9,-999,9,-999,9,-999,9,-999,9,-999,9,-999,9,-999,9,-999,9,1015,38.3334,-9.67,2122.8,2096.2,2096.2
316N20101015,  GT10,1,2,2009,5033,1,McNIS-1,2,       1,2,20101016,1015,38.3334,-9.67,-999,2733.2,2695.1,3.0182,34.9546,2,-999,9,-999,9,-999,9,-999,9,-999,9,-999,9,-999,9,-999,9,-999,9,1015,38.3334,-9.67,2733.2,2695.2,2695.1
316N20101015,  GT10,1,3,2011,5038,13,SRFCPUMP,2,    13,2,20101016,1548,38.3289,-9.6633,2802,5,5,20.3108,36.3212,2,36.3366,3,36.5079,3,226.9,2,-999,9,0.39,2,0.02,2,0,2,0.03,2,-999,9,1633,38.3287,-9.6602,5,5,5
316N20101015,  GT10,1,3,2011,5039,12, NIS-12,2,     12,2,20101016,1548,38.3289,-9.6633,2802,17.3,17.1,20.2185,36.3115,2,36.3101,2,36.4813,2,227.4,2,227,2,0.39,2,0,2,0,2,0.01,2,20.2196,2,1632,38.3287,-9.6603,17.3,17.2,17.1
316N20101015,  GT10,1,3,2011,5040,11, NIS-11,2,     11,2,20101016,1548,38.3289,-9.6633,2802,32.6,32.3,18.966,36.0762,2,36.1504,3,36.3208,3,234.8,2,235.6,2,0.78,2,0,2,0,2,0.02,2,18.9655,2,1630,38.3288,-9.6605,32.6,32.4,32.3
316N20101015,  GT10,1,3,2011,5041,10, NIS-10,2,     10,2,20101016,1548,38.3289,-9.6633,2802,51.9,51.5,17.7406,36.3538,2,36.353,2,36.5245,2,243,2,243.3,2,0.49,2,0,2,0,2,0.03,2,17.7231,2,1627,38.3288,-9.6607,51.9,51.5,51.5
316N20101015,  GT10,1,3,2011,5042,9,  NIS-9,2,       9,2,20101016,1548,38.3289,-9.6633,2802,77,76.4,16.5607,36.2969,2,36.298,2,36.4692,2,229.2,2,229.1,2,0.78,2,0.65,2,0.1,2,0.1,2,16.5634,2,1624,38.3289,-9.6609,77,76.5,76.4
316N20101015,  GT10,1,3,2011,5043,8,  NIS-8,2,       8,2,20101016,1548,38.3289,-9.6633,2802,92.2,91.5,16.0031,36.2445,2,36.2457,2,36.4167,2,218.9,2,218.8,2,1.27,2,2.62,2,0.04,2,0.2,2,16.0026,2,1622,38.329,-9.6611,92.2,91.6,91.5
316N20101015,  GT10,1,3,2011,5044,7,  NIS-7,2,       7,2,20101016,1548,38.3289,-9.6633,2802,112,111.1,15.6688,36.2071,2,36.2196,2,36.3904,2,216.7,2,215.3,2,1.46,2,3.57,2,0.03,2,0.26,2,15.6691,2,1619,38.329,-9.6613,112,111.2,111.1
316N20101015,  GT10,1,3,2011,5045,6,  NIS-6,2,       6,2,20101016,1548,38.3289,-9.6633,2802,136.7,135.6,15.2786,36.16,2,36.1634,2,36.3339,2,210.9,2,210.5,2,1.85,2,5.17,2,0.01,2,0.36,2,15.2789,2,1616,38.329,-9.6615,136.7,135.8,135.6
316N20101015,  GT10,1,3,2011,5046,5,  NIS-5,2,       5,2,20101016,1548,38.3289,-9.6633,2802,185.9,184.5,14.3777,36.0221,2,36.0198,2,36.1897,2,207.7,2,208.3,2,2.54,2,7.23,2,0.01,2,0.49,2,14.3792,2,1614,38.3291,-9.6617,185.9,184.7,184.5
316N20101015,  GT10,1,3,2011,5047,4,  NIS-4,2,       4,2,20101016,1548,38.3289,-9.6633,2802,235.7,233.8,13.6703,35.9142,2,35.9143,2,36.0836,2,207.6,2,207.7,2,2.93,2,8.54,2,0.01,2,0.57,2,13.6704,2,1611,38.3292,-9.6619,235.7,234.1,233.8
316N20101015,  GT10,1,3,2011,5048,3,  NIS-3,2,       3,2,20101016,1548,38.3289,-9.6633,2802,417.7,414.2,12.0144,35.6813,2,35.6828,2,35.851,2,195.7,2,195.7,2,4.97,2,12.96,2,0,2,0.82,2,12.0141,2,1606,38.3293,-9.6624,417.7,414.6,414.2
316N20101015,  GT10,1,3,2011,5049,2,  NIS-2,2,       2,2,20101016,1548,38.3289,-9.6633,2802,658.7,652.7,12.8749,36.2973,2,36.3162,3,36.4875,3,192.2,2,192.4,2,5.26,2,10.78,2,0,2,0.68,2,12.8882,2,1559,38.3293,-9.6628,658.7,653.3,652.7
316N20101015,  GT10,1,3,2011,5050,1,  NIS-1,2,       1,2,20101016,1548,38.3289,-9.6633,2802,949,939.8,12.6645,36.4931,2,36.4891,2,36.6612,2,188.5,2,188.6,2,6.14,2,11.59,2,0,2,0.71,2,12.6651,2,1552,38.329,-9.6631,949,940.5,939.8
316N20101015,  GT10,1,5,2020,5086,12, NIS-12,2,     12,2,20101016,2129,38.3241,-9.6601,-999,17.9,17.8,20.2366,36.3196,2,36.3187,2,36.4899,2,226,2,225.8,2,0.49,2,0,2,0,2,0.01,2,20.2361,2,2211,38.3241,-9.6601,17.9,17.8,17.8
316N20101015,  GT10,1,5,2020,5085,11, NIS-11,2,     11,2,20101016,2129,38.3241,-9.6601,-999,34.9,34.6,19.2096,36.1769,2,36.1722,2,36.3428,2,233.2,2,233.4,2,0.68,2,0,2,0.01,2,0.02,2,19.2001,2,2209,38.3241,-9.6601,34.9,34.7,34.6
316N20101015,  GT10,1,5,2020,5084,10, NIS-10,2,     10,2,20101016,2129,38.3241,-9.6601,-999,67.8,67.3,17.2687,36.3346,2,36.3363,2,36.5076,2,239.3,2,239.2,2,0.58,2,0.03,2,0.03,2,0.03,2,17.2796,2,2204,38.3241,-9.6601,67.8,67.4,67.3
316N20101015,  GT10,1,5,2020,5083,9,  NIS-9,2,       9,2,20101016,2129,38.3241,-9.6601,-999,92.3,91.6,16.1239,36.2586,2,36.2542,2,36.4251,2,218.9,2,220.2,2,1.17,2,2.54,2,0.05,2,0.19,2,16.1109,2,2202,38.3241,-9.6601,92.3,91.7,91.6
316N20101015,  GT10,1,5,2020,5082,8,  NIS-8,2,       8,2,20101016,2129,38.3241,-9.6601,-999,112.4,111.5,15.7045,36.2101,2,36.2088,2,36.3796,2,211.8,2,212.9,2,1.56,2,4.09,2,0.02,2,0.26,2,15.6992,2,2159,38.3241,-9.6601,112.4,111.6,111.5
316N20101015,  GT10,1,5,2020,5081,7,  NIS-7,2,       7,2,20101016,2129,38.3241,-9.6601,-999,137.2,136.2,15.3161,36.165,2,36.1564,2,36.3269,2,211.5,2,207.9,3,1.56,2,5.19,2,0.01,2,0.33,2,15.3157,2,2157,38.3241,-9.6601,137.2,136.3,136.2
316N20101015,  GT10,1,5,2020,5080,6,  NIS-6,2,       6,2,20101016,2129,38.3241,-9.6601,-999,186.8,185.4,14.3227,36.0126,2,36.0119,2,36.1817,2,206.8,2,207.9,2,2.54,2,7.63,2,0,2,0.47,2,14.3196,2,2154,38.3241,-9.6601,186.8,185.6,185.4
316N20101015,  GT10,1,5,2020,5079,5,  NIS-5,2,       5,2,20101016,2129,38.3241,-9.6601,-999,286.4,284,13.3399,35.858,2,35.8591,2,36.0282,2,206.1,2,206.4,2,3.41,2,9.66,2,0,2,0.59,2,13.3398,2,2150,38.3241,-9.6601,286.4,284.3,284
316N20101015,  GT10,1,5,2020,5078,4,  NIS-4,2,       4,2,20101016,2129,38.3241,-9.6601,-999,419.2,415.6,12.3893,35.7732,2,35.7728,2,35.9415,2,196.2,2,196.4,2,4.78,2,12.37,2,0,2,0.75,2,12.3889,2,2146,38.3241,-9.6601,419.2,416,415.6
316N20101015,  GT10,1,5,2020,5077,3,  NIS-3,2,       3,2,20101016,2129,38.3241,-9.6601,-999,660.8,654.8,12.7865,36.281,2,36.2813,2,36.4524,2,190.9,2,190.6,2,5.65,2,11.51,2,0,2,0.69,2,12.7862,2,2140,38.3241,-9.6601,660.8,655.3,654.8
316N20101015,  GT10,1,5,2020,5075,1,  NIS-1,2,       1,2,20101016,2129,38.3241,-9.6601,-999,958.8,949.4,12.5512,36.4013,2,36.4015,2,36.5732,2,187,2,186.7,2,6.43,2,12.11,2,0,2,0.74,2,12.5515,2,2132,38.3241,-9.6601,958.8,950.1,949.4
316N20101015,  GT10,1,5,2020,5076,2,  NIS-2,2,       2,2,20101016,2129,38.3241,-9.6601,-999,958.8,949.4,12.5492,36.4029,2,36.4017,2,36.5734,2,187,2,186.7,2,6.73,2,12.17,2,0,2,0.59,3,12.5488,2,2132,38.3241,-9.6601,958.8,950.1,949.4
316N20101015,  GT10,1,7,2022,5131,12, NIS-12,2,     12,2,20101017,654,38.326,-9.66,2798,1198.1,1185.7,12.1728,36.4498,2,36.4498,2,36.6217,2,183.5,2,182.9,2,7.51,2,13.06,2,0,2,0.78,2,12.1728,2,736,38.326,-9.66,1198.1,1185.3,1185.7
316N20101015,  GT10,1,7,2022,5129,11, NIS-11,2,     11,2,20101017,654,38.326,-9.66,2798,1198.2,1185.7,12.174,36.4499,2,36.4498,2,36.6217,2,183.5,2,183.6,2,7.51,2,13.08,2,0,2,0.78,2,12.174,2,735,38.326,-9.66,1198.2,1185.4,1185.7
316N20101015,  GT10,1,7,2022,5128,10, NIS-10,2,     10,2,20101017,654,38.326,-9.66,2798,1498.6,1482,10.8142,36.3021,2,36.2964,3,36.4675,3,186.4,2,185.7,2,9.85,2,14.82,2,0,2,0.94,2,10.8178,2,728,38.326,-9.66,1498.6,1481.7,1482
316N20101015,  GT10,1,7,2022,5127,9,  NIS-9,2,       9,2,20101017,654,38.326,-9.66,2798,1799.1,1777.9,6.0988,35.4205,2,35.4184,2,35.5854,2,224.3,2,224.7,2,15.9,2,17.75,2,0,2,1.16,2,6.1048,2,721,38.326,-9.66,1799.1,1777.7,1777.9
316N20101015,  GT10,1,7,2022,5125,7,  NIS-7,2,       7,2,20101017,654,38.326,-9.66,2798,2100,2073.9,4.4659,35.1608,2,35.161,2,35.3268,2,238.2,2,238.5,2,20.69,2,18.69,2,0,2,1.25,2,4.4678,2,714,38.326,-9.66,2100,2073.8,2073.9
316N20101015,  GT10,1,7,2022,5126,8,  NIS-8,2,       8,2,20101017,654,38.326,-9.66,2798,2100.2,2074.1,4.4529,35.1588,2,35.1596,2,35.3254,2,238.2,2,238.7,2,20.78,2,18.69,2,0,2,1.25,2,4.4526,2,714,38.326,-9.66,2100.2,2074,2074.1
316N20101015,  GT10,1,7,2022,5124,6,  NIS-6,2,       6,2,20101017,654,38.326,-9.66,2798,2401.1,2369.5,3.6191,35.0449,2,35.0455,2,35.2107,2,243.1,2,243.2,2,26.15,2,19.5,2,0,2,1.32,2,3.6197,2,707,38.326,-9.66,2401.1,2369.4,2369.5
316N20101015,  GT10,1,7,2022,5123,5,  NIS-5,2,       5,2,20101017,654,38.326,-9.66,2798,2401.2,2369.6,3.6173,35.0448,2,35.0447,2,35.2099,2,243.1,2,242.6,2,26.44,2,19.47,2,0,2,1.32,2,3.6187,2,706,38.326,-9.66,2401.2,2369.5,2369.6
316N20101015,  GT10,1,7,2022,5122,4,  NIS-4,2,       4,2,20101017,654,38.326,-9.66,2798,2703.3,2665.9,2.9236,34.9638,2,34.9636,2,35.1285,2,243.1,2,243.6,2,33.57,2,20.42,2,0,2,1.4,2,2.9232,2,700,38.326,-9.66,2703.3,2665.9,2665.9
316N20101015,  GT10,1,7,2022,5121,3,  NIS-3,2,       3,2,20101017,654,38.326,-9.66,2798,2703.4,2665.9,2.9229,34.9637,2,34.9634,2,35.1283,2,243.1,2,243.7,2,33.76,2,20.42,2,0,2,1.39,2,2.9227,2,659,38.326,-9.66,2703.4,2665.9,2665.9
316N20101015,  GT10,1,7,2022,5120,2,  NIS-2,2,       2,2,20101017,654,38.326,-9.66,2798,2843.7,2803.3,2.8059,34.9503,2,34.95,2,35.1149,2,243.5,2,244.4,2,35.62,2,20.65,2,0,2,1.42,2,2.8054,2,655,38.326,-9.66,2843.7,2803.3,2803.3
316N20101015,  GT10,1,7,2022,5119,1,  NIS-1,2,       1,2,20101017,654,38.326,-9.66,2798,2843.7,2803.4,2.806,34.9504,2,34.9503,2,35.1151,2,243.5,2,243.4,2,35.62,2,20.64,2,0,2,1.42,2,2.8059,2,655,38.326,-9.66,2843.7,2803.4,2803.4
316N20101015,  GT10,1,8,2024,5143,12, NIS-12,2,     12,2,20101017,1202,38.3299,-9.6604,2783,32.4,32.2,18.9855,36.0906,2,36.0893,2,36.2594,2,233.8,2,234.7,2,0.98,2,0,2,0,2,0.08,2,18.982,2,1239,38.3299,-9.6604,32.4,32.2,32.2
316N20101015,  GT10,1,8,2024,5142,11, NIS-11,2,     11,2,20101017,1202,38.3299,-9.6604,2783,32.4,32.2,18.9917,36.089,2,36.0901,2,36.2602,2,233.8,2,233.7,2,0.88,2,0,2,0,2,0.06,2,18.9912,2,1238,38.3299,-9.6604,32.4,32.2,32.2
316N20101015,  GT10,1,8,2024,5141,10, NIS-10,2,     10,2,20101017,1202,38.3299,-9.6604,2783,92.1,91.4,15.6579,36.1163,2,36.1162,2,36.2865,2,208,2,208.4,2,2.05,2,4.84,2,0.1,2,0.35,2,15.6507,2,1234,38.3299,-9.6604,92.1,91.5,91.4
316N20101015,  GT10,1,8,2024,5140,9,  NIS-9,2,       9,2,20101017,1202,38.3299,-9.6604,2783,112.1,111.2,15.3364,36.107,2,36.1069,2,36.2772,2,207,2,206.4,2,2.44,2,5.52,2,0.04,2,0.38,2,15.335,2,1232,38.3299,-9.6604,112.1,111.3,111.2
316N20101015,  GT10,1,8,2024,5139,8,  NIS-8,2,       8,2,20101017,1202,38.3299,-9.6604,2783,137,135.9,15.315,36.165,2,36.1562,2,36.3267,2,211.1,2,214.3,2,1.85,2,4.77,2,0.02,2,0.33,2,15.3152,2,1229,38.3299,-9.6604,137,136,135.9
316N20101015,  GT10,1,8,2024,5138,7,  NIS-7,2,       7,2,20101017,1202,38.3299,-9.6604,2783,186.6,185.2,14.3183,36.0128,2,35.9986,3,36.1683,3,207.8,2,207.6,2,2.83,2,7.77,2,0.01,2,0.5,2,14.3084,2,1227,38.3299,-9.6604,186.6,185.3,185.2
316N20101015,  GT10,1,8,2024,5137,5,  NIS-5,2,       5,2,20101017,1202,38.3299,-9.6604,2783,236.2,234.3,13.6247,35.9032,2,35.9045,2,36.0738,2,207.7,2,208.2,2,3.32,2,8.92,2,0,2,0.58,2,13.6254,2,1224,38.3299,-9.6604,236.2,234.5,234.3
316N20101015,  GT10,1,8,2024,5136,6,  NIS-6,2,       6,2,20101017,1202,38.3299,-9.6604,2783,236.3,234.4,13.6206,35.9027,2,35.9037,2,36.073,2,207.7,2,207.4,2,3.32,2,8.93,2,0,2,0.57,2,13.621,2,1225,38.3299,-9.6604,236.3,234.6,234.4
316N20101015,  GT10,1,8,2024,5135,4,  NIS-4,2,       4,2,20101017,1202,38.3299,-9.6604,2783,420.2,416.7,12.4519,35.7999,2,35.8002,2,35.969,2,195.5,2,195.8,2,4.97,2,12.24,2,0.01,2,0.77,2,12.4523,2,1218,38.3299,-9.6604,420.2,417,416.7
316N20101015,  GT10,1,8,2024,5134,3,  NIS-3,2,       3,2,20101017,1202,38.3299,-9.6604,2783,664.4,658.3,12.9983,36.3307,2,36.3312,2,36.5025,2,192.7,2,192.7,2,5.46,2,10.86,2,0,2,0.66,2,12.9989,2,1212,38.3299,-9.6604,664.4,658.8,658.3
316N20101015,  GT10,1,8,2024,5132,1,  NIS-1,2,       1,2,20101017,1202,38.3299,-9.6604,2783,963.7,954.3,12.5334,36.4215,2,36.4243,2,36.596,2,186.9,2,187.4,2,6.73,2,12.14,2,0,2,0.74,2,12.5338,2,1204,38.3299,-9.6604,963.7,954.9,954.3
316N20101015,  GT10,1,8,2024,5133,2,  NIS-2,2,       2,2,20101017,1202,38.3299,-9.6604,2783,963.8,954.3,12.5314,36.4206,2,36.4227,2,36.5944,2,186.9,2,186.7,2,6.82,2,12.17,2,0,2,0.75,2,12.5313,2,1205,38.3299,-9.6604,963.8,955,954.3
316N20101015,  GT10,1,10,2031,5155,12, NIS-12,2,    12,2,20101017,1632,38.3281,-9.6603,2787,32.9,32.7,18.1546,36.0475,2,36.0523,2,36.2223,2,229.7,2,228.2,2,1.17,2,0.26,2,0.16,2,0.1,2,18.1547,2,1726,38.3281,-9.6603,32.9,32.6,32.7
316N20101015,  GT10,1,10,2031,5154,11, NIS-11,2,    11,2,20101017,1632,38.3281,-9.6603,2787,92.3,91.6,15.6542,36.111,2,36.1094,2,36.2797,2,210.6,2,208,2,2.34,2,5.02,2,0.11,2,0.36,2,15.653,2,1722,38.3281,-9.6603,92.3,91.7,91.6
316N20101015,  GT10,1,10,2031,5153,10, NIS-10,2,    10,2,20101017,1632,38.3281,-9.6603,2787,112.2,111.4,15.2365,36.1043,2,36.1069,2,36.2771,2,204.3,2,207.1,2,2.34,2,5.62,2,0.04,2,0.41,2,15.2362,2,1721,38.3281,-9.6603,112.2,111.5,111.4
316N20101015,  GT10,1,10,2031,5152,9,  NIS-9,2,      9,2,20101017,1632,38.3281,-9.6603,2787,137,135.9,14.8604,36.0865,2,36.0893,2,36.2594,2,209.6,2,207,2,2.63,2,6.24,2,0.03,2,0.42,2,14.8611,2,1719,38.3281,-9.6603,137,136,135.9
316N20101015,  GT10,1,10,2031,5151,8,  NIS-8,2,      8,2,20101017,1632,38.3281,-9.6603,2787,186.4,184.9,14.1887,35.9973,2,35.9948,2,36.1645,2,206.1,2,208.3,2,2.93,2,7.76,2,0.01,2,0.5,2,14.1887,2,1715,38.3281,-9.6602,186.4,185.1,184.9
316N20101015,  GT10,1,10,2031,5150,7,  NIS-7,2,      7,2,20101017,1632,38.3281,-9.6603,2787,192.1,190.5,14.131,35.9876,2,35.9883,2,36.158,2,205.4,2,207.9,2,2.93,2,7.85,2,0.01,2,0.51,2,14.1339,2,1714,38.3281,-9.6602,192.1,190.7,190.5
316N20101015,  GT10,1,10,2031,5149,6,  NIS-6,2,      6,2,20101017,1632,38.3281,-9.6603,2787,420,416.4,12.1867,35.7979,2,35.796,2,35.9648,2,194.9,2,192.3,2,5.75,2,13.06,2,0,2,0.82,2,12.187,2,1706,38.3281,-9.6603,420,416.8,416.4
316N20101015,  GT10,1,10,2031,5148,5,  NIS-5,2,      5,2,20101017,1632,38.3281,-9.6603,2787,664.2,658.2,12.6583,36.2334,2,36.2323,2,36.4032,2,189.7,2,189.5,2,6.04,2,11.89,2,0,2,0.74,2,12.6568,2,1700,38.3281,-9.6603,664.2,658.7,658.2
316N20101015,  GT10,1,10,2031,5147,4,  NIS-4,2,      4,2,20101017,1632,38.3281,-9.6603,2787,963.9,954.4,12.5517,36.4292,2,36.4248,2,36.5965,2,186,2,186.7,2,6.73,2,12.14,2,0,2,0.74,2,12.5519,2,1653,38.3281,-9.6603,963.9,955,954.4
316N20101015,  GT10,1,10,2031,5146,3,  NIS-3,2,      3,2,20101017,1632,38.3281,-9.6603,2787,1198.7,1186.3,12.3913,36.4938,2,36.4937,2,36.6658,2,184.2,2,184.2,2,7.31,2,12.54,2,0,2,0.77,2,12.3915,2,1647,38.3281,-9.6603,1198.7,1187.1,1186.3
316N20101015,  GT10,1,10,2031,5156,2,  NIS-2,2,      2,2,20101017,1632,38.3281,-9.6603,2787,1498.8,1482.2,10.8742,36.3116,2,36.3103,2,36.4816,2,186.6,2,185.2,2,9.94,2,14.65,2,0,2,0.93,2,10.8746,2,1639,38.3281,-9.6603,1498.8,1483.1,1482.2
316N20101015,  GT10,1,10,2031,5144,1,  NIS-1,2,      1,2,20101017,1632,38.3281,-9.6603,2787,1799.3,1778.1,6.0232,35.4066,2,35.4074,2,35.5744,2,225.2,2,225.4,2,16.39,2,17.69,2,0,2,1.19,2,6.0227,2,1632,38.3281,-9.6603,1799.3,1779.1,1778.1