BOTTLE,20170124CCHSIORJL
EXPOCODE,SECT_ID,STNNBR,CASTNO,GEOTR_EVENT,GEOTR_SAMPNO,SAMPNO,BTLNBR,BTLNBR_FLAG_W,BTLNBR_U,BTLNBR_U_FLAG_W,DATE,TIME,LATITUDE,LONGITUDE,DEPTH,CTDPRS,CTDDEPTH,CTDTMP,CTDSAL,CTDSAL_FLAG_W,SALNTY,SALNTY_FLAG_W,SALTREF,SALTREF_FLAG_W,CTDOXY,CTDOXY_FLAG_W,OXYGEN,OXYGEN_FLAG_W,SILCAT,SILCAT_FLAG_W,NITRAT,NITRAT_FLAG_W,NITRIT,NITRIT_FLAG_W,PHSPHT,PHSPHT_FLAG_W,REFTMP,REFTMP_FLAG_W,BTL_TIME,BTL_LAT,BTL_LON,ODF_CTDPRS,SMDEPTH,FMDEPTH
,,,,,,,,,,,,,,,METERS,DBAR,METERS,ITS-90,PSS-78,,PSS-78,,G/KG,,UMOL/KG,,UMOL/KG,,UMOL/KG,,UMOL/KG,,UMOL/KG,,UMOL/KG,,DEG C,,,,,DBARS,METERS,METERS
316N20101015,  GT10,5,4,2091,5370,13,SRFCPUMP,2,    13,2,20101022,108,31.0032,-22.0022,5011,5,4.9,24.3235,37.2435,2,37.2454,2,37.4211,2,200.2,2,-999,9,-999,9,-999,9,-999,9,-999,9,-999,9,141,31.0053,-22.0036,5,4.9,4.9
316N20101015,  GT10,5,4,2091,5371,12, NIS-12,2,     12,2,20101022,108,31.0032,-22.0022,5011,17.7,17.5,24.3282,37.2381,2,37.2361,2,37.4117,2,201.1,2,200.6,2,0.29,2,0,2,0,2,0.05,2,24.328,2,140,31.0053,-22.0036,17.7,17.6,17.5
316N20101015,  GT10,5,4,2091,5372,11, NIS-11,2,     11,2,20101022,108,31.0032,-22.0022,5011,32.4,32.2,24.3118,37.2334,2,37.2146,3,37.3901,3,201.8,2,213.7,3,0.39,2,0,2,0,2,0.02,2,24.3124,2,139,31.0052,-22.0035,32.4,32.2,32.2
316N20101015,  GT10,5,4,2091,5373,10, NIS-10,2,     10,2,20101022,108,31.0032,-22.0022,5011,67.4,66.9,20.727,36.7302,2,36.7262,2,36.8993,2,241.6,2,242.5,2,0.39,2,0,2,0,2,0.07,2,20.7341,2,136,31.005,-22.0034,67.4,67.1,66.9
316N20101015,  GT10,5,4,2091,5374,9,  NIS-9,2,       9,2,20101022,108,31.0032,-22.0022,5011,82.1,81.6,19.6517,36.6719,2,36.6601,2,36.833,2,234.6,2,232.3,2,0.39,2,0,2,0,2,0.03,2,19.6466,2,135,31.0049,-22.0033,82.1,81.7,81.6
316N20101015,  GT10,5,4,2091,5375,8,  NIS-8,2,       8,2,20101022,108,31.0032,-22.0022,5011,111.8,111,18.4846,36.6163,2,36.6163,2,36.789,2,217.6,2,218,2,0.58,2,0,2,0.04,2,0.02,2,18.5033,2,133,31.0047,-22.0032,111.8,111.2,111
316N20101015,  GT10,5,4,2091,5376,7,  NIS-7,2,       7,2,20101022,108,31.0032,-22.0022,5011,136.8,135.8,18.0228,36.5537,2,36.5511,2,36.7235,2,210,2,209.5,2,0.88,2,2,2,0.03,2,0.1,2,18.0152,2,131,31.0046,-22.0032,136.8,136.1,135.8
316N20101015,  GT10,5,4,2091,5377,6,  NIS-6,2,       6,2,20101022,108,31.0032,-22.0022,5011,151.3,150.2,17.8217,36.5338,2,36.5321,2,36.7044,2,209.9,2,209.5,2,1.07,2,2.82,2,0.02,2,0.16,2,17.8194,2,130,31.0045,-22.0031,151.3,150.5,150.2
316N20101015,  GT10,5,4,2091,5378,5,  NIS-5,2,       5,2,20101022,108,31.0032,-22.0022,5011,186.5,185.1,17.4102,36.4735,2,36.4685,2,36.6405,2,204.9,2,205,2,1.27,2,3.89,2,0.01,2,0.21,2,17.4089,2,128,31.0044,-22.003,186.5,185.4,185.1
316N20101015,  GT10,5,4,2091,5379,4,  NIS-4,2,       4,2,20101022,108,31.0032,-22.0022,5011,251.3,249.4,16.3357,36.2701,2,36.2699,2,36.4409,2,204.5,2,203.7,2,1.95,2,5.78,2,0.01,2,0.33,2,16.3359,2,126,31.0042,-22.0029,251.3,249.8,249.4
316N20101015,  GT10,5,4,2091,5380,3,  NIS-3,2,       3,2,20101022,108,31.0032,-22.0022,5011,549.8,545.3,12.3697,35.6784,2,35.6772,2,35.8455,2,190.2,2,189.3,2,5.66,2,13.64,2,0,2,0.83,2,12.3732,2,119,31.0038,-22.0026,549.8,546,545.3
316N20101015,  GT10,5,4,2091,5381,2,  NIS-2,2,       2,2,20101022,108,31.0032,-22.0022,5011,848.5,841,9.7717,35.4811,2,35.4811,2,35.6484,2,163,2,162.1,2,11.8,2,20.48,2,0,2,1.3,2,9.7716,2,113,31.0034,-22.0024,848.5,841.9,841
316N20101015,  GT10,5,4,2091,5382,1,  NIS-1,2,       1,2,20101022,108,31.0032,-22.0022,5011,947.8,939.1,9.3364,35.528,2,35.5316,2,35.6992,2,168.7,2,169.7,2,12.1,2,19.82,2,0,2,1.27,2,9.3371,2,110,31.0033,-22.0023,947.8,940.1,939.1
316N20101015,  GT10,5,6,2093,5385,12, NIS-12,2,     12,2,20101022,752,31.0054,-22.0039,5013,1499.7,1484,6.7206,35.4355,2,35.4404,3,35.6075,3,212.9,2,210.1,2,14.93,2,18.65,2,0,2,1.22,2,6.7172,2,911,31.0054,-22.0039,1499.7,1483.6,1484
316N20101015,  GT10,5,6,2093,5386,11, NIS-11,2,     11,2,20101022,752,31.0054,-22.0039,5013,1800.6,1780.5,5.1546,35.2216,2,35.2196,2,35.3857,2,236.1,2,235.9,2,15.12,2,18.14,2,0,2,1.2,2,5.1542,2,904,31.0054,-22.0039,1800.6,1780.2,1780.5
316N20101015,  GT10,5,6,2093,5387,10, NIS-10,2,     10,2,20101022,752,31.0054,-22.0039,5013,2101.6,2076.7,4.1739,35.0942,2,35.0928,2,35.2583,2,243.8,2,244,2,19.32,2,18.62,2,0,2,1.25,2,4.1723,2,858,31.0054,-22.0039,2101.6,2076.4,2076.7
316N20101015,  GT10,5,6,2093,5388,9,  NIS-9,2,       9,2,20101022,752,31.0054,-22.0039,5013,2402.7,2372.5,3.5287,35.0183,2,35.0174,2,35.1825,2,246.9,2,247.4,2,23.91,2,19.09,2,0,2,1.3,2,3.5291,2,851,31.0054,-22.0039,2402.7,2372.3,2372.5
316N20101015,  GT10,5,6,2093,5389,8,  NIS-8,2,       8,2,20101022,752,31.0054,-22.0039,5013,2704,2668.3,3.0861,34.9729,2,34.9716,2,35.1365,2,247.2,2,247.6,2,28.79,2,19.68,2,0,2,1.34,2,3.0866,2,845,31.0054,-22.0039,2704,2668,2668.3
316N20101015,  GT10,5,6,2093,5390,7,  NIS-7,2,       7,2,20101022,752,31.0054,-22.0039,5013,3006.4,2964.5,2.8083,34.9463,2,34.9454,2,35.1102,2,245.6,2,245.5,2,33.86,2,20.36,2,0,2,1.39,2,2.8085,2,839,31.0054,-22.0039,3006.4,2964.3,2964.5
316N20101015,  GT10,5,6,2093,5391,6,  NIS-6,2,       6,2,20101022,752,31.0054,-22.0039,5013,3308.7,3260.3,2.6529,34.9301,2,34.9289,2,35.0936,2,242.9,2,243,2,38.65,2,20.99,2,0,2,1.43,2,2.6531,2,832,31.0054,-22.0039,3308.7,3260.2,3260.3
316N20101015,  GT10,5,6,2093,5392,5,  NIS-5,2,       5,2,20101022,752,31.0054,-22.0039,5013,3611.5,3556.3,2.5343,34.9159,2,34.9149,2,35.0796,2,244.1,2,244.7,2,41.09,2,21.26,2,0,2,1.45,2,2.5343,2,825,31.0054,-22.0039,3611.5,3556.1,3556.3
316N20101015,  GT10,5,6,2093,5393,4,  NIS-4,2,       4,2,20101022,752,31.0054,-22.0039,5013,3914.9,3852.4,2.463,34.9056,2,34.9053,2,35.0699,2,244.2,2,243.9,2,43.14,2,21.49,2,0,2,1.47,2,2.4631,2,818,31.0054,-22.0039,3914.9,3852.2,3852.4
316N20101015,  GT10,5,6,2093,5394,3,  NIS-3,2,       3,2,20101022,752,31.0054,-22.0039,5013,4319.7,4246.8,2.4116,34.8958,2,34.8959,2,35.0604,2,244.8,2,244.7,2,45.18,2,21.68,2,0,2,1.48,2,2.4116,2,810,31.0054,-22.0039,4319.7,4246.5,4246.8
316N20101015,  GT10,5,6,2093,5395,2,  NIS-2,2,       2,2,20101022,752,31.0054,-22.0039,5013,4776.5,4691.1,2.4182,34.8904,2,34.89,2,35.0545,2,244.4,2,244.4,2,46.65,2,21.73,2,0,2,1.49,2,2.4182,2,800,31.0054,-22.0039,4776.5,4690.7,4691.1
316N20101015,  GT10,5,6,2093,5396,1,  NIS-1,2,       1,2,20101022,752,31.0054,-22.0039,5013,5131.5,5035.8,2.4538,34.8888,2,34.8886,2,35.0531,2,244.4,2,244.8,2,46.84,2,21.73,2,0,2,1.5,2,2.4537,2,753,31.0054,-22.0039,5131.5,5035.3,5035.8
316N20101015,  GT10,5,7,2094,5369,8,McNIS-8,2,       8,2,20101022,1502,31.0138,-22.0057,-999,972.8,963.9,8.8997,35.484,2,35.5195,2,35.687,2,-999,9,-999,9,12.78,2,20.04,2,0,2,1.33,2,-999,9,1502,31.0138,-22.0056,972.8,963.6,963.9
316N20101015,  GT10,5,7,2094,5368,7,McNIS-7,2,       7,2,20101022,1502,31.0138,-22.0057,-999,1514.1,1498.2,6.3174,35.3605,2,35.4201,2,35.5871,2,-999,9,-999,9,14.34,2,18.24,2,0,2,1.22,2,-999,9,1502,31.0138,-22.0056,1514.1,1498.1,1498.2
316N20101015,  GT10,5,7,2094,5367,6,McNIS-6,2,       6,2,20101022,1502,31.0138,-22.0057,-999,2122.8,2097.5,3.9426,35.0388,2,35.0942,2,35.2597,2,-999,9,-999,9,19.42,2,18.51,2,0,2,1.26,2,-999,9,1502,31.0138,-22.0056,2122.8,2097.5,2097.5
316N20101015,  GT10,5,7,2094,5366,5,McNIS-5,2,       5,2,20101022,1502,31.0138,-22.0057,-999,3039,2996.5,2.7813,34.923,2,34.9464,2,35.1112,2,-999,9,-999,9,34.25,2,20.27,2,0,2,1.41,2,-999,9,1502,31.0138,-22.0056,3039,2996.6,2996.5
316N20101015,  GT10,5,7,2094,5365,4,McNIS-4,2,       4,2,20101022,1502,31.0138,-22.0057,-999,3651.9,3595.8,2.5248,34.894,2,34.9171,2,35.0818,2,-999,9,-999,9,40.79,2,21.14,2,0,2,1.46,2,-999,9,1502,31.0138,-22.0056,3651.9,3595.9,3595.8
316N20101015,  GT10,5,7,2094,5364,3,McNIS-3,2,       3,2,20101022,1502,31.0138,-22.0057,-999,4369.1,4295,2.4117,34.8753,2,34.8965,2,35.061,2,-999,9,-999,9,45.28,2,21.57,2,0,2,1.49,2,-999,9,1502,31.0138,-22.0056,4369.1,4295,4295
316N20101015,  GT10,5,7,2094,5363,2,McNIS-2,2,       2,2,20101022,1502,31.0138,-22.0057,-999,4831.4,4744.4,2.4186,34.8714,2,34.89,2,35.0545,2,-999,9,-999,9,46.75,2,21.71,2,0,2,1.52,2,-999,9,1502,31.0138,-22.0056,4831.4,4744.3,4744.4
316N20101015,  GT10,5,7,2094,5362,1,McNIS-1,2,       1,2,20101022,1502,31.0138,-22.0057,-999,4985.7,4894.3,2.4332,34.8703,2,34.8902,2,35.0547,2,-999,9,-999,9,47.43,2,21.78,2,0,2,1.5,2,-999,9,1502,31.0138,-22.0056,4985.7,4894.1,4894.3
316N20101015,  GT10,6,2,2107,5462,13,SRFCPUMP,2,    13,2,20101023,1553,27.5154,-22.0053,4837,5.2,5.1,24.5862,37.272,2,37.2871,3,37.4629,3,210.5,2,-999,9,-999,9,-999,9,-999,9,-999,9,-999,9,1634,27.5158,-22.0092,5.2,5.1,5.1
316N20101015,  GT10,6,2,2107,5461,12, NIS-12,2,     12,2,20101023,1553,27.5154,-22.0053,4837,42,41.7,24.3696,37.2604,2,37.2578,2,37.4335,2,211.1,2,210.8,2,0.29,2,0,2,0,2,0.03,2,24.3704,2,1632,27.5157,-22.0089,42,41.9,41.7
316N20101015,  GT10,6,2,2107,5460,11, NIS-11,2,     11,2,20101023,1553,27.5154,-22.0053,4837,67,66.6,22.9248,37.1463,2,37.1313,3,37.3063,3,226.1,2,224.5,2,0.29,2,0,2,0,2,0.03,2,22.924,2,1630,27.5157,-22.0087,67,66.7,66.6
316N20101015,  GT10,6,2,2107,5459,10, NIS-10,2,     10,2,20101023,1553,27.5154,-22.0053,4837,91.5,90.8,20.1877,36.8765,2,36.8675,2,37.0414,2,227.8,2,227.7,2,0.39,2,0,2,0,2,0.02,2,20.1967,2,1628,27.5157,-22.0086,91.5,91,90.8
316N20101015,  GT10,6,2,2107,5458,9,  NIS-9,2,       9,2,20101023,1553,27.5154,-22.0053,4837,110.9,110.1,19.2852,36.7667,2,36.7669,2,36.9403,2,220.9,2,220.9,2,0.39,2,0,2,0,2,0.02,2,19.3064,2,1627,27.5157,-22.0084,110.9,110.3,110.1
316N20101015,  GT10,6,2,2107,5457,8,  NIS-8,2,       8,2,20101023,1553,27.5154,-22.0053,4837,136.3,135.3,18.4309,36.6367,2,36.6382,2,36.811,2,212,2,211.8,2,0.68,2,0.53,2,0.03,2,0.06,2,18.4258,2,1625,27.5157,-22.0083,136.3,135.6,135.3
316N20101015,  GT10,6,2,2107,5456,7,  NIS-7,2,       7,2,20101023,1553,27.5154,-22.0053,4837,186.3,185,17.6817,36.5417,2,36.5433,2,36.7156,2,200.6,2,202.3,2,1.07,2,3.58,2,0.01,2,0.22,2,17.6835,2,1622,27.5156,-22.008,186.3,185.3,185
316N20101015,  GT10,6,2,2107,5455,6,  NIS-6,2,       6,2,20101023,1553,27.5154,-22.0053,4837,300.6,298.4,15.3705,36.1333,2,36.1344,2,36.3048,2,197.8,2,198.8,2,2.54,2,7.56,2,0,2,0.46,2,15.3712,2,1619,27.5156,-22.0077,300.6,298.9,298.4
316N20101015,  GT10,6,2,2107,5454,5,  NIS-5,2,       5,2,20101023,1553,27.5154,-22.0053,4837,400.2,397.2,13.8151,35.886,2,35.8879,2,36.0571,2,197.3,2,196.5,2,3.61,2,10.3,2,0,2,0.64,2,13.8034,2,1615,27.5156,-22.0074,400.2,397.8,397.2
316N20101015,  GT10,6,2,2107,5453,4,  NIS-4,2,       4,2,20101023,1553,27.5154,-22.0053,4837,599.2,594.4,11.5047,35.5879,2,35.5885,2,35.7564,2,163,2,162.4,2,7.8,2,17.78,2,0,2,1.11,2,11.5047,2,1610,27.5156,-22.0069,599.2,595.1,594.4
316N20101015,  GT10,6,2,2107,5452,3,  NIS-3,2,       3,2,20101023,1553,27.5154,-22.0053,4837,777.9,771.3,9.7912,35.4339,2,35.4367,2,35.6038,2,150.5,2,149.9,2,12,2,21.75,2,0,2,1.39,2,9.7974,2,1606,27.5155,-22.0065,777.9,772.2,771.3
316N20101015,  GT10,6,2,2107,5451,2,  NIS-2,2,       2,2,20101023,1553,27.5154,-22.0053,4837,996.7,987.7,8.3022,35.3699,2,35.3693,2,35.536,2,157.1,2,157.6,2,15.41,2,23.03,2,0,2,1.51,2,8.3018,2,1559,27.5155,-22.0059,996.7,988.7,987.7
316N20101015,  GT10,6,2,2107,5450,1,  NIS-1,2,       1,2,20101023,1553,27.5154,-22.0053,4837,1196.5,1185.1,7.7943,35.4679,2,35.4674,2,35.6347,2,176.4,2,176.4,2,15.51,2,21.04,2,0,2,1.39,2,7.794,2,1554,27.5154,-22.0053,1196.5,1186.2,1185.1
316N20101015,  GT10,7,2,2121,5490,12, NIS-12,2,     12,2,20101024,1142,24.0001,-22.0001,4597,33.4,33.2,25.6623,36.7218,2,36.7275,2,36.9006,2,206.9,2,207.1,2,0.39,2,0.01,2,0,2,0.08,2,25.6469,2,1219,24.0001,-22.0001,33.4,33.2,33.2
316N20101015,  GT10,7,2,2121,5491,11, NIS-11,2,     11,2,20101024,1142,24.0001,-22.0001,4597,58,57.6,24.0881,36.9275,2,36.9366,2,37.1108,2,219.4,2,218.5,2,0.39,2,0,2,0,2,0.05,2,24.084,2,1217,24.0001,-22.0001,58,57.6,57.6
316N20101015,  GT10,7,2,2121,5492,10, NIS-10,2,     10,2,20101024,1142,24.0001,-22.0001,4597,73.3,72.8,22.8149,36.9218,2,36.9364,2,37.1106,2,213.2,2,211.5,2,0.58,2,0.05,2,0.02,2,0.07,2,22.8089,2,1215,24.0001,-22.0001,73.3,72.9,72.8
316N20101015,  GT10,7,2,2121,5493,9,  NIS-9,2,       9,2,20101024,1142,24.0001,-22.0001,4597,152.5,151.5,17.2727,36.2737,2,36.2551,3,36.4261,3,106.7,2,109.2,2,4.68,2,15.77,2,0.02,2,0.98,2,17.2612,2,1212,24.0001,-22.0001,152.5,151.7,151.5
316N20101015,  GT10,7,2,2121,5494,8,  NIS-8,2,       8,2,20101024,1142,24.0001,-22.0001,4597,202.1,200.7,16.3796,36.1837,2,36.192,2,36.3627,2,115.1,2,114,2,5.07,2,15.62,2,0.01,2,0.96,2,16.3786,2,1210,24.0001,-22.0001,202.1,201,200.7
316N20101015,  GT10,7,2,2121,5495,7,  NIS-7,2,       7,2,20101024,1142,24.0001,-22.0001,4597,350.9,348.4,14.0685,35.8956,2,35.898,2,36.0672,2,134,2,135.3,2,5.75,2,16.22,2,0.01,2,0.98,2,14.0752,2,1207,24.0001,-22.0001,350.9,348.9,348.4
316N20101015,  GT10,7,2,2121,5496,6,  NIS-6,2,       6,2,20101024,1142,24.0001,-22.0001,4597,401,398.1,13.5809,35.8438,2,35.8361,2,36.0051,2,148.9,2,149,2,5.66,2,15.63,2,0.01,2,0.95,2,13.5808,2,1204,24.0001,-22.0002,401,398.6,398.1
316N20101015,  GT10,7,2,2121,5497,5,  NIS-5,2,       5,2,20101024,1142,24.0001,-22.0001,4597,450.8,447.5,12.4346,35.6285,2,35.629,2,35.797,2,110,2,108.7,2,8.88,2,22.15,2,0.01,2,1.34,2,12.4328,2,1201,24.0001,-22.0001,450.8,448,447.5
316N20101015,  GT10,7,2,2121,5498,4,  NIS-4,2,       4,2,20101024,1142,24.0001,-22.0001,4597,500.4,496.6,12.0801,35.6242,2,35.6223,2,35.7903,2,131.5,2,132.6,2,8.29,2,19.92,2,0.01,2,1.22,2,12.08,2,1158,24.0001,-22.0001,500.4,497.2,496.6
316N20101015,  GT10,7,2,2121,5499,3,  NIS-3,2,       3,2,20101024,1142,24.0001,-22.0001,4597,749.3,743.2,8.7287,35.1921,2,35.193,2,35.359,2,104.7,2,104.6,2,17.17,2,28.95,2,0.01,2,1.84,2,8.7167,2,1152,24.0001,-22.0001,749.3,744,743.2
316N20101015,  GT10,7,2,2121,5500,2,  NIS-2,2,       2,2,20101024,1142,24.0001,-22.0001,4597,999.3,990.6,7.3963,35.1756,2,35.1755,2,35.3414,2,141.1,2,140.9,2,19.32,2,26.51,2,0.01,2,1.76,2,7.3947,2,1147,24.0001,-22.0001,999.3,991.5,990.6
316N20101015,  GT10,7,2,2121,5501,1,  NIS-1,2,       1,2,20101024,1142,24.0001,-22.0001,4597,1199.4,1188.3,6.9521,35.2661,2,35.2648,2,35.431,2,165,2,165.6,2,18.93,2,23.74,2,0,2,1.58,2,6.9508,2,1142,24.0001,-22.0001,1199.4,1189.3,1188.3
316N20101015,  GT10,7,4,2130,5530,13,SRFCPUMP,2,    13,2,20101024,1916,24.0032,-21.9961,4595,5.2,5.2,25.5824,36.7368,2,36.7407,2,36.9139,2,206.9,2,-999,9,-999,9,-999,9,-999,9,-999,9,-999,9,1952,24.0032,-21.996,5.2,5.2,5.2
316N20101015,  GT10,7,4,2130,5531,12, NIS-12,2,     12,2,20101024,1916,24.0032,-21.9961,4595,18.4,18.3,25.6005,36.7807,2,36.7784,2,36.9518,2,207.8,2,206.4,2,0.49,2,0,2,0,2,0.07,2,25.6011,2,1951,24.0033,-21.996,18.4,18.4,18.3
316N20101015,  GT10,7,4,2130,5532,11, NIS-11,2,     11,2,20101024,1916,24.0032,-21.9961,4595,43,42.7,25.0174,37.145,2,37.1398,2,37.3149,2,212.7,2,214.8,2,0.39,2,0,2,0,2,0.02,2,25.041,2,1949,24.0033,-21.996,43,42.8,42.7
316N20101015,  GT10,7,4,2130,5533,10, NIS-10,2,     10,2,20101024,1916,24.0032,-21.9961,4595,57.6,57.2,22.7971,36.9224,2,36.8925,3,37.0665,3,211.2,2,209.9,2,0.58,2,0.07,2,0.05,2,0.1,2,22.777,3,1947,24.0033,-21.9961,57.6,57.4,57.2
316N20101015,  GT10,7,4,2130,5534,9,  NIS-9,2,       9,2,20101024,1916,24.0032,-21.9961,4595,73.3,72.8,21.5547,36.8266,2,36.8181,2,36.9917,2,189.2,2,192.3,2,0.97,2,2.01,2,0.19,2,0.21,2,21.5814,2,1945,24.0032,-21.9961,73.3,73,72.8
316N20101015,  GT10,7,4,2130,5535,8,  NIS-8,2,       8,2,20101024,1916,24.0032,-21.9961,4595,112.8,112.1,19.2569,36.5343,2,36.5056,3,36.6777,3,143.7,2,140.2,2,2.73,2,10.6,2,0.03,2,0.7,2,19.2245,3,1943,24.0032,-21.9961,112.8,112.3,112.1
316N20101015,  GT10,7,4,2130,5536,7,  NIS-7,2,       7,2,20101024,1916,24.0032,-21.9961,4595,152.2,151.1,17.3563,36.2482,2,36.2487,2,36.4197,2,103.3,2,102.4,2,4.78,2,16.46,2,0.01,2,1.03,2,17.3624,2,1940,24.0033,-21.9961,152.2,151.5,151.1
316N20101015,  GT10,7,4,2130,5537,6,  NIS-6,2,       6,2,20101024,1916,24.0032,-21.9961,4595,201.7,200.3,16.5095,36.1953,2,36.206,2,36.3767,2,111.5,2,114.8,2,4.97,2,15.61,2,0.01,2,0.97,2,16.5088,2,1938,24.0032,-21.9961,201.7,200.7,200.3
316N20101015,  GT10,7,4,2130,5538,5,  NIS-5,2,       5,2,20101024,1916,24.0032,-21.9961,4595,351.2,348.7,14.3805,35.9399,2,35.9426,2,36.1121,2,134.4,2,135.1,2,5.56,2,15.97,2,0.01,2,0.96,2,14.3903,2,1934,24.0032,-21.9961,351.2,349.2,348.7
316N20101015,  GT10,7,4,2130,5539,4,  NIS-4,2,       4,2,20101024,1916,24.0032,-21.9961,4595,397.6,394.7,13.7103,35.8516,2,35.8517,2,36.0207,2,144.7,2,142.2,2,5.95,2,16.33,2,0.01,2,0.99,2,13.73,2,1931,24.0032,-21.996,397.6,395.3,394.7
316N20101015,  GT10,7,4,2130,5540,3,  NIS-3,2,       3,2,20101024,1916,24.0032,-21.9961,4595,452.2,448.8,12.4984,35.6284,2,35.6299,2,35.7979,2,102.6,2,101.4,2,9.07,2,23.05,2,0.01,2,1.39,2,12.4984,2,1928,24.0032,-21.996,452.2,449.5,448.8
316N20101015,  GT10,7,4,2130,5541,2,  NIS-2,2,       2,2,20101024,1916,24.0032,-21.9961,4595,500.1,496.3,12.0522,35.6092,2,35.6094,2,35.7773,2,123.2,2,125.2,2,8.68,2,21.18,2,0,2,1.29,2,12.0553,2,1925,24.0032,-21.9961,500.1,497,496.3
316N20101015,  GT10,7,4,2130,5542,1,  NIS-1,2,       1,2,20101024,1916,24.0032,-21.9961,4595,748.9,742.7,8.721,35.1916,2,35.1902,2,35.3562,2,104.7,2,104.5,2,17.47,2,29.4,2,0,2,1.88,2,8.7266,2,1919,24.0033,-21.9961,748.9,743.6,742.7
316N20101015,  GT10,7,6,2132,5567,12, NIS-12,2,     12,2,20101025,124,24.0032,-21.996,4596,1500,1485.1,5.4496,35.1786,2,35.1795,2,35.3454,2,195.2,2,197.8,2,20.88,2,22.12,2,0,2,1.5,2,5.4496,2,232,24.0032,-21.996,1500,1484.7,1485.1
316N20101015,  GT10,7,6,2132,5568,11, NIS-11,2,     11,2,20101025,124,24.0032,-21.996,4596,1750.3,1731.9,4.6661,35.1213,2,35.1221,2,35.2878,2,211,2,211.4,2,24.3,2,21.52,2,0,2,1.46,2,4.6658,2,227,24.0032,-21.996,1750.3,1731.5,1731.9
316N20101015,  GT10,7,6,2132,5569,10, NIS-10,2,     10,2,20101025,124,24.0032,-21.996,4596,2000.3,1978.1,3.9793,35.0542,2,35.0548,2,35.2201,2,223.4,2,222.3,2,26.93,2,21.31,2,0,2,1.45,2,3.9802,2,221,24.0032,-21.996,2000.3,1977.8,1978.1
316N20101015,  GT10,7,6,2132,5570,9,  NIS-9,2,       9,2,20101025,124,24.0032,-21.996,4596,2251.4,2225.1,3.5757,35.0146,2,35.0151,2,35.1802,2,229.2,2,228.9,2,29.08,2,21.13,2,0,2,1.44,2,3.5755,2,216,24.0032,-21.9961,2251.4,2224.8,2225.1
316N20101015,  GT10,7,6,2132,5571,8,  NIS-8,2,       8,2,20101025,124,24.0032,-21.996,4596,2502.9,2472.3,3.2607,34.9861,2,34.9863,2,35.1513,2,233.7,2,233.4,2,31.62,2,21.01,2,0,2,1.44,2,3.261,2,210,24.0032,-21.996,2502.9,2472,2472.3
316N20101015,  GT10,7,6,2132,5572,7,  NIS-7,2,       7,2,20101025,124,24.0032,-21.996,4596,2754.1,2718.7,2.9847,34.9602,2,34.9605,2,35.1254,2,235.4,2,234.9,2,34.84,2,21.24,2,0.01,2,1.45,2,2.9847,2,205,24.0032,-21.9961,2754.1,2718.5,2718.7
316N20101015,  GT10,7,6,2132,5573,6,  NIS-6,2,       6,2,20101025,124,24.0032,-21.996,4596,3006.1,2965.8,2.7954,34.9428,2,34.9426,2,35.1074,2,237.8,2,238,2,37.38,2,21.24,2,0,2,1.46,2,2.7958,2,159,24.0032,-21.996,3006.1,2965.6,2965.8
316N20101015,  GT10,7,6,2132,5574,5,  NIS-5,2,       5,2,20101025,124,24.0032,-21.996,4596,3257.3,3211.8,2.6226,34.9264,2,34.9261,2,35.0908,2,239,2,240,2,40.5,2,21.48,2,0,2,1.47,2,2.6226,2,153,24.0032,-21.9961,3257.3,3211.6,3211.8
316N20101015,  GT10,7,6,2132,5575,4,  NIS-4,2,       4,2,20101025,124,24.0032,-21.996,4596,3509.6,3458.6,2.512,34.914,2,34.9143,2,35.0789,2,239.9,2,239.9,2,42.84,2,21.72,2,0.01,2,1.49,2,2.5124,2,148,24.0032,-21.996,3509.6,3458.4,3458.6
316N20101015,  GT10,7,6,2132,5576,3,  NIS-3,2,       3,2,20101025,124,24.0032,-21.996,4596,3843.3,3784.5,2.4143,34.9017,2,34.9017,2,35.0662,2,242.9,2,242.9,2,45.48,2,21.79,2,0,2,1.49,2,2.4144,2,141,24.0032,-21.996,3843.3,3784.3,3784.5
316N20101015,  GT10,7,6,2132,5577,2,  NIS-2,2,       2,2,20101025,124,24.0032,-21.996,4596,4177.1,4110.1,2.364,34.8927,2,34.8928,2,35.0573,2,244.2,2,244.1,2,46.65,2,21.85,2,0,2,1.5,2,2.3639,2,134,24.0032,-21.996,4177.1,4109.8,4110.1
316N20101015,  GT10,7,6,2132,5578,1,  NIS-1,2,       1,2,20101025,124,24.0032,-21.996,4596,4673.1,4593.1,2.3968,34.889,2,34.8901,2,35.0546,2,244.1,2,244.2,2,47.72,2,21.83,2,0,2,1.5,2,2.3969,2,124,24.0032,-21.996,4673.1,4592.7,4593.1