BOTTLE,20170124CCHSIORJL
EXPOCODE,SECT_ID,STNNBR,CASTNO,GEOTR_EVENT,GEOTR_SAMPNO,SAMPNO,BTLNBR,BTLNBR_FLAG_W,BTLNBR_U,BTLNBR_U_FLAG_W,DATE,TIME,LATITUDE,LONGITUDE,DEPTH,CTDPRS,CTDDEPTH,CTDTMP,CTDSAL,CTDSAL_FLAG_W,SALNTY,SALNTY_FLAG_W,SALTREF,SALTREF_FLAG_W,CTDOXY,CTDOXY_FLAG_W,OXYGEN,OXYGEN_FLAG_W,SILCAT,SILCAT_FLAG_W,NITRAT,NITRAT_FLAG_W,NITRIT,NITRIT_FLAG_W,PHSPHT,PHSPHT_FLAG_W,REFTMP,REFTMP_FLAG_W,BTL_TIME,BTL_LAT,BTL_LON,ODF_CTDPRS,SMDEPTH,FMDEPTH
,,,,,,,,,,,,,,,METERS,DBAR,METERS,ITS-90,PSS-78,,PSS-78,,G/KG,,UMOL/KG,,UMOL/KG,,UMOL/KG,,UMOL/KG,,UMOL/KG,,UMOL/KG,,DEG C,,,,,DBARS,METERS,METERS
316N20101015,  GT10,2,1,2042,5160,13,SRFCPUMP,2,    13,2,20101018,928,36.7622,-12.8313,4492,5,5,21.1467,36.4987,2,36.505,2,36.6771,2,223.1,2,-999,9,-999,9,-999,9,-999,9,-999,9,-999,9,1011,36.7622,-12.8313,5,5,5
316N20101015,  GT10,2,1,2042,5161,12, NIS-12,2,     12,2,20101018,928,36.7622,-12.8313,4492,32.7,32.4,21.1459,36.5335,2,36.5172,3,36.6894,3,223.5,2,223.3,2,0.39,2,0,2,0,2,0,2,21.1439,2,1010,36.7622,-12.8313,32.7,32.5,32.4
316N20101015,  GT10,2,1,2042,5162,11, NIS-11,2,     11,2,20101018,928,36.7622,-12.8313,4492,72.5,71.9,16.4092,36.1734,2,36.1737,2,36.3443,2,240.4,2,240.2,2,0.68,2,0.23,2,0.07,2,0.08,2,16.4095,2,1007,36.7622,-12.8313,72.5,72.1,71.9
316N20101015,  GT10,2,1,2042,5163,10, NIS-10,2,     10,2,20101018,928,36.7622,-12.8313,4492,142.1,141,14.9351,36.0621,2,36.06,2,36.23,2,216.4,2,217,2,1.95,2,5.39,2,0.02,2,0.34,2,14.9354,2,1004,36.7622,-12.8313,142.1,141.2,141
316N20101015,  GT10,2,1,2042,5164,9,  NIS-9,2,       9,2,20101018,928,36.7622,-12.8313,4492,202,200.4,14.1689,35.9897,2,35.9831,2,36.1527,2,217.6,2,216.8,2,2.34,2,6.84,2,0.01,2,0.43,2,14.1701,2,1001,36.7622,-12.8313,202,200.6,200.4
316N20101015,  GT10,2,1,2042,5165,8,  NIS-8,2,       8,2,20101018,928,36.7622,-12.8313,4492,251.6,249.6,13.4927,35.8639,2,35.8647,2,36.0338,2,211.7,2,211.6,2,3.32,2,8.98,2,0,2,0.56,2,13.4924,2,959,36.7622,-12.8313,251.6,249.9,249.6
316N20101015,  GT10,2,1,2042,5166,7,  NIS-7,2,       7,2,20101018,928,36.7622,-12.8313,4492,351.1,348.2,12.8187,35.7888,2,35.7882,2,35.957,2,217.1,2,217.5,2,3.32,2,9.34,2,0.01,2,0.59,2,12.8229,2,956,36.7622,-12.8313,351.1,348.6,348.2
316N20101015,  GT10,2,1,2042,5167,6,  NIS-6,2,       6,2,20101018,928,36.7622,-12.8313,4492,500.5,496.2,11.643,35.6247,2,35.6244,2,35.7923,2,197,2,196.4,2,5.85,2,13.92,2,0,2,0.87,2,11.6428,2,952,36.7622,-12.8313,500.5,496.7,496.2
316N20101015,  GT10,2,1,2042,5168,5,  NIS-5,2,       5,2,20101018,928,36.7622,-12.8313,4492,660,654.1,11.1286,35.7167,2,35.714,2,35.8824,2,178.5,2,178.5,2,8.19,2,16.26,2,0,2,1.02,2,11.13,2,947,36.7622,-12.8313,660,654.7,654.1
316N20101015,  GT10,2,1,2042,5169,4,  NIS-4,2,       4,2,20101018,928,36.7622,-12.8313,4492,819.6,811.9,11.9086,36.1379,2,36.1422,2,36.3127,2,182.4,2,182.2,2,7.61,2,13.84,2,0,2,0.9,2,11.9086,2,942,36.7622,-12.8313,819.6,812.6,811.9
316N20101015,  GT10,2,1,2042,5170,3,  NIS-3,2,       3,2,20101018,928,36.7622,-12.8313,4492,899.1,890.5,10.8903,35.9847,2,35.9856,2,36.1553,2,177,2,177.1,2,9.56,2,16.08,2,0,2,1.02,2,10.8965,2,939,36.7622,-12.8313,899.1,891.3,890.5
316N20101015,  GT10,2,1,2042,5171,2,  NIS-2,2,       2,2,20101018,928,36.7622,-12.8313,4492,1049,1038.6,10.6199,36.0663,2,36.0641,2,36.2342,2,179.4,2,179.4,2,10.14,2,16.05,2,0,2,1.01,2,10.6194,2,935,36.7622,-12.8313,1049,1039.4,1038.6
316N20101015,  GT10,2,1,2042,5172,1,  NIS-1,2,       1,2,20101018,928,36.7622,-12.8313,4492,1198.8,1186.5,10.3813,36.1253,2,36.125,2,36.2954,2,184.4,2,184.3,2,10.34,2,15.7,2,0,2,0.98,2,10.3801,2,930,36.7622,-12.8313,1198.8,1187.4,1186.5
316N20101015,  GT10,3,2,2055,5210,12, NIS-12,2,     12,2,20101019,703,35.2009,-16.0023,2776,21.9,21.8,22.1635,36.634,2,36.634,2,36.8067,2,217.7,2,217.6,2,0.29,2,0,2,0,2,0,2,22.1638,2,741,35.201,-16.0023,21.9,21.7,21.8
316N20101015,  GT10,3,2,2055,5209,11, NIS-11,2,     11,2,20101019,703,35.2009,-16.0023,2776,41.6,41.3,22.1655,36.6349,2,36.6332,2,36.8059,2,218.2,2,217.7,2,0.29,2,0,2,0,2,0,2,22.1655,2,739,35.201,-16.0023,41.6,41.4,41.3
316N20101015,  GT10,3,2,2055,5208,10, NIS-10,2,     10,2,20101019,703,35.2009,-16.0023,2776,81.4,80.8,16.9734,36.2923,2,36.3023,2,36.4735,2,229.6,2,224.1,2,0.68,2,0.54,2,0.08,2,0.03,2,16.9716,2,735,35.201,-16.0023,81.4,80.9,80.8
316N20101015,  GT10,3,2,2055,5207,9,  NIS-9,2,       9,2,20101019,703,35.2009,-16.0023,2776,101.4,100.6,16.3967,36.248,2,36.2502,2,36.4212,2,213.6,2,212.8,2,1.36,2,3.93,2,0.04,2,0.21,2,16.3966,2,732,35.201,-16.0023,101.4,100.7,100.6
316N20101015,  GT10,3,2,2055,5206,8,  NIS-8,2,       8,2,20101019,703,35.2009,-16.0023,2776,136.1,135.1,16.1393,36.2423,2,36.2417,2,36.4126,2,209.6,2,210,2,1.66,2,4.79,2,0.01,2,0.29,2,16.1418,2,730,35.201,-16.0023,136.1,135.3,135.1
316N20101015,  GT10,3,2,2055,5205,7,  NIS-7,2,       7,2,20101019,703,35.2009,-16.0023,2776,190.7,189.2,15.1199,36.0814,2,36.0826,2,36.2528,2,207.1,2,207.3,2,2.34,2,6.77,2,0.01,2,0.4,2,15.1179,2,727,35.201,-16.0023,190.7,189.4,189.2
316N20101015,  GT10,3,2,2055,5204,6,  NIS-6,2,       6,2,20101019,703,35.2009,-16.0023,2776,300.1,297.7,13.351,35.8199,2,35.8205,2,35.9894,2,207.4,2,208.5,2,3.71,2,9.79,2,0,2,0.59,2,13.3513,2,724,35.201,-16.0023,300.1,298,297.7
316N20101015,  GT10,3,2,2055,5203,5,  NIS-5,2,       5,2,20101019,703,35.2009,-16.0023,2776,399.6,396.4,12.6545,35.7303,2,35.7298,2,35.8983,2,207.4,2,206.2,2,4.1,2,11.16,2,0,2,0.67,2,12.6499,2,720,35.201,-16.0023,399.6,396.8,396.4
316N20101015,  GT10,3,2,2055,5202,4,  NIS-4,2,       4,2,20101019,703,35.2009,-16.0023,2776,489.1,485,11.9667,35.6446,2,35.6459,2,35.8139,2,192.9,2,194,2,5.36,2,13.56,2,0,2,0.82,2,11.9686,2,717,35.201,-16.0023,489.1,485.5,485
316N20101015,  GT10,3,2,2055,5201,3,  NIS-3,2,       3,2,20101019,703,35.2009,-16.0023,2776,608.6,603.3,11.0889,35.6069,2,35.6066,2,35.7745,2,183.4,2,182.6,2,7.41,2,16,2,0,2,0.99,2,11.0907,2,713,35.201,-16.0023,608.6,603.9,603.3
316N20101015,  GT10,3,2,2055,5200,2,  NIS-2,2,       2,2,20101019,703,35.2009,-16.0023,2776,772.7,765.7,10.5784,35.7285,2,35.7327,2,35.9012,2,176.2,2,175.9,2,9.36,2,17.04,2,0,2,1.07,2,10.5784,2,709,35.201,-16.0023,772.7,766.4,765.7
316N20101015,  GT10,3,2,2055,5199,1,  NIS-1,2,       1,2,20101019,703,35.2009,-16.0023,2776,873.1,865,10.3961,35.8096,2,35.8117,2,35.9806,2,176.6,2,176.2,2,9.85,2,17.01,2,0,2,1.06,2,10.3961,2,706,35.201,-16.0023,873.1,865.7,865
316N20101015,  GT10,3,4,2059,5243,13,SRFCPUMP,2,    13,2,20101019,1451,35.2013,-15.9965,2792,5.3,5.2,22.2455,36.6359,2,36.5095,3,36.6816,3,218.8,2,-999,9,-999,9,-999,9,-999,9,-999,9,-999,9,1530,35.2013,-15.9965,5.3,5.2,5.2
316N20101015,  GT10,3,4,2059,5244,12, NIS-12,2,     12,2,20101019,1451,35.2013,-15.9965,2792,23,22.9,22.1385,36.6322,2,36.6314,2,36.8041,2,218.7,2,218.1,2,0,2,0,2,0,2,0,2,22.1395,2,1529,35.2013,-15.9965,23,22.9,22.9
316N20101015,  GT10,3,4,2059,5245,11, NIS-11,2,     11,2,20101019,1451,35.2013,-15.9965,2792,38.1,37.9,22.0167,36.6708,2,36.6506,3,36.8234,3,220.4,2,222.8,2,0.29,2,0,2,0,2,0.06,2,22.0262,2,1527,35.2013,-15.9965,38.1,38,37.9
316N20101015,  GT10,3,4,2059,5246,10, NIS-10,2,     10,2,20101019,1451,35.2013,-15.9965,2792,57.5,57.1,18.3569,36.3701,2,36.3702,2,36.5417,2,242.8,2,242.6,2,0.1,2,0,2,0,2,0,2,18.3448,2,1525,35.2013,-15.9965,57.5,57.2,57.1
316N20101015,  GT10,3,4,2059,5247,9,  NIS-9,2,       9,2,20101019,1451,35.2013,-15.9965,2792,77.6,77.1,16.9289,36.3089,2,36.312,2,36.4832,2,219.9,2,220.4,2,0.49,2,0.95,2,0.11,2,0.06,2,16.9325,2,1523,35.2013,-15.9965,77.6,77.2,77.1
316N20101015,  GT10,3,4,2059,5248,8,  NIS-8,2,       8,2,20101019,1451,35.2013,-15.9965,2792,102.1,101.4,16.4737,36.2627,2,36.2627,2,36.4337,2,213.5,2,212.4,2,1.36,2,3.95,2,0.04,2,0.21,2,16.4732,2,1521,35.2013,-15.9965,102.1,101.5,101.4
316N20101015,  GT10,3,4,2059,5249,7,  NIS-7,2,       7,2,20101019,1451,35.2013,-15.9965,2792,134.9,133.9,15.7457,36.1589,2,36.1625,2,36.333,2,212.1,2,211.2,2,1.36,2,5.44,2,0.01,2,0.31,2,15.7454,2,1519,35.2013,-15.9965,134.9,134.1,133.9
316N20101015,  GT10,3,4,2059,5250,6,  NIS-6,2,       6,2,20101019,1451,35.2013,-15.9965,2792,191.1,189.6,14.5425,35.9861,2,35.9875,2,36.1572,2,212.3,2,212.6,2,1.27,2,7.15,2,0.01,2,0.45,2,14.543,2,1516,35.2013,-15.9965,191.1,189.9,189.6
316N20101015,  GT10,3,4,2059,5251,5,  NIS-5,2,       5,2,20101019,1451,35.2013,-15.9965,2792,401.2,397.9,12.5116,35.7085,2,35.7061,2,35.8745,2,203.9,2,205,2,4,2,11.69,2,0,2,0.71,2,12.5114,2,1512,35.2013,-15.9965,401.2,398.4,397.9
316N20101015,  GT10,3,4,2059,5252,4,  NIS-4,2,       4,2,20101019,1451,35.2013,-15.9965,2792,489.6,485.4,11.8599,35.6332,2,35.6333,2,35.8013,2,191.6,2,190.8,2,5.36,2,14.1,2,0,2,0.86,2,11.8598,2,1508,35.2013,-15.9965,489.6,486,485.4
316N20101015,  GT10,3,4,2059,5253,3,  NIS-3,2,       3,2,20101019,1451,35.2013,-15.9965,2792,610.1,604.8,11.0001,35.5639,2,35.566,2,35.7337,2,178.7,2,179.8,2,8.78,2,16.53,2,0,2,1.04,2,10.9999,2,1504,35.2013,-15.9965,610.1,605.4,604.8
316N20101015,  GT10,3,4,2059,5254,2,  NIS-2,2,       2,2,20101019,1451,35.2013,-15.9965,2792,774.5,767.5,10.5874,35.7289,2,35.7298,2,35.8983,2,176.8,2,176.3,2,8.88,2,17.03,2,0,2,1.07,2,10.5879,2,1500,35.2013,-15.9965,774.5,768.2,767.5
316N20101015,  GT10,3,4,2059,5255,1,  NIS-1,2,       1,2,20101019,1451,35.2013,-15.9965,2792,899.6,891.2,10.2857,35.8248,2,35.8254,2,35.9943,2,177.3,2,177.4,2,14.04,4,17.11,2,0,2,1.09,2,10.2854,2,1456,35.2013,-15.9965,899.6,892,891.2
316N20101015,  GT10,3,6,2061,5291,12, NIS-12,2,     12,2,20101019,1956,35.2013,-15.9965,2791,994.9,985.3,10.2524,35.92,2,35.9252,2,36.0947,2,178.1,2,178.2,2,10.63,2,16.69,2,0,2,1.08,2,10.2531,2,2040,35.2013,-15.9965,994.9,985,985.3
316N20101015,  GT10,3,6,2061,5290,11, NIS-11,2,     11,2,20101019,1956,35.2013,-15.9965,2791,1049.6,1039.4,10.1135,35.9396,2,35.9365,2,36.106,2,180.5,2,180.1,2,10.82,2,16.72,2,0,2,1.06,2,10.1152,2,2038,35.2013,-15.9965,1049.6,1039.1,1039.4
316N20101015,  GT10,3,6,2061,5289,10, NIS-10,2,     10,2,20101019,1956,35.2013,-15.9965,2791,1199.5,1187.4,9.1957,35.8378,2,35.8359,2,36.0049,2,187.9,2,187.9,2,11.9,2,17.22,2,0,2,1.11,2,9.195,2,2034,35.2013,-15.9965,1199.5,1187.2,1187.4
316N20101015,  GT10,3,6,2061,5288,9,  NIS-9,2,       9,2,20101019,1956,35.2013,-15.9965,2791,1350,1335.9,8.4412,35.7509,2,35.7397,3,35.9082,3,199.3,2,199.1,2,12.29,2,17.14,2,0,2,1.1,2,8.4231,3,2031,35.2013,-15.9965,1350,1335.7,1335.9
316N20101015,  GT10,3,6,2061,5287,8,  NIS-8,2,       8,2,20101019,1956,35.2013,-15.9965,2791,1500.3,1484.1,7.1392,35.5534,2,35.5508,2,35.7184,2,214.1,2,214.1,2,13.17,2,17.32,2,0,2,1.12,2,7.1402,2,2027,35.2013,-15.9965,1500.3,1484,1484.1
316N20101015,  GT10,3,6,2061,5286,7,  NIS-7,2,       7,2,20101019,1956,35.2013,-15.9965,2791,1700.7,1681.5,5.6305,35.3141,2,35.3152,2,35.4817,2,231.9,2,231.9,2,14.73,2,17.64,2,0,2,1.16,2,5.6304,2,2022,35.2013,-15.9965,1700.7,1681.4,1681.5
316N20101015,  GT10,3,6,2061,5285,6,  NIS-6,2,       6,2,20101019,1956,35.2013,-15.9965,2791,1900.8,1878.5,4.7222,35.1765,2,35.1766,2,35.3425,2,241.4,2,241.8,2,16.88,2,17.93,2,0,2,1.2,2,4.7205,2,2018,35.2013,-15.9965,1900.8,1878.4,1878.5
316N20101015,  GT10,3,6,2061,5284,5,  NIS-5,2,       5,2,20101019,1956,35.2013,-15.9965,2791,2102.1,2076.5,4.1475,35.1037,2,35.1032,2,35.2687,2,243.4,2,243.8,2,21.08,2,18.54,2,0,2,1.24,2,4.1462,2,2013,35.2013,-15.9965,2102.1,2076.4,2076.5
316N20101015,  GT10,3,6,2061,5283,4,  NIS-4,2,       4,2,20101019,1956,35.2013,-15.9965,2791,2302.3,2273.1,3.668,35.0434,2,35.0435,2,35.2088,2,245.6,2,245.6,2,24.4,2,19.01,2,0,2,1.29,2,3.668,2,2009,35.2013,-15.9965,2302.3,2273.1,2273.1
316N20101015,  GT10,3,6,2061,5282,3,  NIS-3,2,       3,2,20101019,1956,35.2013,-15.9965,2791,2503.7,2470.9,3.2968,35.0007,2,35.0006,2,35.1656,2,246.4,2,246.1,2,28.01,2,19.51,2,0,2,1.33,2,3.2965,2,2004,35.2013,-15.9965,2503.7,2470.9,2470.9
316N20101015,  GT10,3,6,2061,5281,2,  NIS-2,2,       2,2,20101019,1956,35.2013,-15.9965,2791,2604.2,2569.4,3.1581,34.9861,2,34.9858,2,35.1508,2,245.7,2,245.6,2,30.06,2,19.8,2,0,2,1.38,2,3.1578,2,2001,35.2013,-15.9965,2604.2,2569.5,2569.4
316N20101015,  GT10,3,6,2061,5280,1,  NIS-1,2,       1,2,20101019,1956,35.2013,-15.9965,2791,2820.8,2781.8,2.9283,34.961,2,34.9604,2,35.1253,2,244.8,2,245.2,2,33.37,2,20.23,2,0,2,1.39,2,2.9281,2,1956,35.2013,-15.9965,2820.8,2781.8,2781.8
316N20101015,  GT10,3,7,2063,5297,5,McNIS-5,2,       5,2,20101020,0,35.2013,-15.9965,-999,780.9,773.8,10.6192,35.7138,2,35.7412,2,35.9097,2,-999,9,-999,9,9.75,2,17.01,2,0.01,2,1.08,2,-999,9,0,35.2013,-15.9965,780.9,773.6,773.8
316N20101015,  GT10,3,7,2063,5296,4,McNIS-4,2,       4,2,20101020,0,35.2013,-15.9965,-999,957.7,948.6,10.2211,35.8713,2,35.899,2,36.0683,2,-999,9,-999,9,10.63,2,16.97,2,0,2,1.08,2,-999,9,0,35.2013,-15.9965,957.7,948.4,948.6
316N20101015,  GT10,3,7,2063,5295,3,McNIS-3,2,       3,2,20101020,0,35.2013,-15.9965,-999,1514.1,1497.7,6.8297,35.4675,2,35.5229,2,35.6904,2,-999,9,-999,9,13.56,2,17.38,2,0,2,1.15,2,-999,9,0,35.2013,-15.9965,1514.1,1497.7,1497.7
316N20101015,  GT10,3,7,2063,5294,2,McNIS-2,2,       2,2,20101020,0,35.2013,-15.9965,-999,2122.8,2096.8,4.0981,35.0456,2,35.1019,2,35.2674,2,-999,9,-999,9,20.69,2,18.55,2,0,2,1.29,2,-999,9,0,35.2013,-15.9965,2122.8,2096.9,2096.8
316N20101015,  GT10,3,7,2063,5293,1,McNIS-1,2,       1,2,20101020,0,35.2013,-15.9965,-999,2733.2,2695.9,3.0367,34.9464,2,34.9714,2,35.1363,2,-999,9,-999,9,32.01,2,20.01,2,0,2,1.37,2,-999,9,0,35.2013,-15.9965,2733.2,2696.1,2695.9
316N20101015,  GT10,4,1,2072,5312,13,SRFCPUMP,2,    13,2,20101020,2138,33.1008,-19.0009,3827,5.1,5.1,23.108,36.8818,2,36.8854,2,37.0593,2,217,2,-999,9,-999,9,-999,9,-999,9,-999,9,-999,9,2216,33.1018,-18.9999,5.1,5.1,5.1
316N20101015,  GT10,4,1,2072,5311,12, NIS-12,2,     12,2,20101020,2138,33.1008,-19.0009,3827,27.9,27.8,22.9827,36.8794,2,36.8743,2,37.0481,2,216.7,2,216.3,2,0.29,2,0,2,0,2,0.03,2,22.9826,2,2214,33.1017,-18.9999,27.9,27.8,27.8
316N20101015,  GT10,4,1,2072,5310,11, NIS-11,2,     11,2,20101020,2138,33.1008,-19.0009,3827,52.6,52.2,19.9569,36.7205,2,36.7126,2,36.8857,2,240,2,239.9,2,0.29,2,0,2,0,2,0.02,2,19.9599,2,2213,33.1017,-19,52.6,52.4,52.2
316N20101015,  GT10,4,1,2072,5309,10, NIS-10,2,     10,2,20101020,2138,33.1008,-19.0009,3827,92.5,91.9,18.3771,36.5973,2,36.594,2,36.7665,2,215.3,2,215.6,2,0.49,2,0.13,2,0.05,2,0.01,2,18.3766,2,2210,33.1016,-19.0001,92.5,92,91.9
316N20101015,  GT10,4,1,2072,5308,9,  NIS-9,2,       9,2,20101020,2138,33.1008,-19.0009,3827,122.4,121.5,17.9325,36.5485,2,36.548,2,36.7203,2,209.2,2,209.3,2,0.97,2,2.48,2,0.02,2,0.15,2,17.9328,2,2208,33.1015,-19.0002,122.4,121.7,121.5
316N20101015,  GT10,4,1,2072,5307,8,  NIS-8,2,       8,2,20101020,2138,33.1008,-19.0009,3827,187,185.6,16.9608,36.3782,2,36.3719,2,36.5434,2,205.3,2,205.2,2,1.56,2,4.65,2,0.01,2,0.25,2,16.9583,2,2206,33.1013,-19.0003,187,185.9,185.6
316N20101015,  GT10,4,1,2072,5306,7,  NIS-7,2,       7,2,20101020,2138,33.1008,-19.0009,3827,236.5,234.7,16.301,36.2627,2,36.2618,2,36.4328,2,205,2,204.5,2,1.95,2,5.65,2,0.01,2,0.32,2,16.3058,2,2204,33.1012,-19.0004,236.5,235.1,234.7
316N20101015,  GT10,4,1,2072,5305,6,  NIS-6,2,       6,2,20101020,2138,33.1008,-19.0009,3827,301.5,299.1,15.1468,36.072,2,36.0713,2,36.2414,2,204.2,2,204.3,2,2.63,2,7.45,2,0.01,2,0.44,2,15.1514,2,2201,33.101,-19.0005,301.5,299.5,299.1
316N20101015,  GT10,4,1,2072,5304,5,  NIS-5,2,       5,2,20101020,2138,33.1008,-19.0009,3827,400.6,397.4,13.8997,35.9148,2,35.9139,2,36.0832,2,203.1,2,203.2,2,3.8,2,9.28,2,0.01,2,0.62,2,13.8965,2,2158,33.1008,-19.0007,400.6,397.9,397.4
316N20101015,  GT10,4,1,2072,5303,4,  NIS-4,2,       4,2,20101020,2138,33.1008,-19.0009,3827,520.5,516.2,12.7627,35.7426,2,35.7371,2,35.9056,2,200,2,199.4,2,4.58,2,11.79,2,0.01,2,0.7,2,12.764,2,2155,33.1008,-19.0008,520.5,516.8,516.2
316N20101015,  GT10,4,1,2072,5302,3,  NIS-3,2,       3,2,20101020,2138,33.1008,-19.0009,3827,749.8,743.2,10.6149,35.5504,2,35.5502,2,35.7178,2,174.5,2,174.1,2,9.27,2,17.74,2,0,2,1.11,2,10.6155,2,2150,33.1009,-19.0008,749.8,744,743.2
316N20101015,  GT10,4,1,2072,5301,2,  NIS-2,2,       2,2,20101020,2138,33.1008,-19.0009,3827,899.1,890.8,9.6664,35.5772,2,35.5768,2,35.7446,2,171,2,170.7,2,11.9,2,19.31,2,0,2,1.22,2,9.6652,2,2146,33.1009,-19.0008,899.1,891.7,890.8
316N20101015,  GT10,4,1,2072,5314,1,  NIS-1,2,       1,2,20101020,2138,33.1008,-19.0009,3827,1198.1,1186.2,8.8957,35.711,2,35.7088,2,35.8772,2,186.3,2,185.8,2,12.58,2,18.08,2,0,2,1.15,2,8.8965,2,2138,33.1008,-19.0009,1198.1,1187.2,1186.2
316N20101015,  GT10,5,2,2085,5317,12, NIS-12,2,     12,2,20101021,1755,31,-22,5011,32,31.8,24.3331,37.2367,2,37.2347,2,37.4103,2,212,2,211.5,2,0.49,2,0,2,0,2,0.03,2,24.3335,2,1834,31,-21.9999,32,31.8,31.8
316N20101015,  GT10,5,2,2085,5318,11, NIS-11,2,     11,2,20101021,1755,31,-22,5011,62.5,62,22.303,36.8915,2,36.8256,3,36.9992,3,239.8,2,240,2,0.49,2,0,2,0,2,0.02,2,22.2846,2,1832,31,-21.9999,62.5,62.1,62
316N20101015,  GT10,5,2,2085,5319,10, NIS-10,2,     10,2,20101021,1755,31,-22,5011,81.8,81.3,19.8558,36.6411,2,36.6493,2,36.8221,2,239.6,2,238.4,2,0.49,2,0,2,0,2,0.01,2,19.849,2,1830,31,-21.9999,81.8,81.4,81.3
316N20101015,  GT10,5,2,2085,5320,9,  NIS-9,2,       9,2,20101021,1755,31,-22,5011,112.1,111.3,18.5523,36.6214,2,36.6209,2,36.7936,2,218.2,2,219.3,2,0.78,2,0,2,0.02,2,0.03,2,18.5532,2,1828,31,-21.9999,112.1,111.5,111.3
316N20101015,  GT10,5,2,2085,5321,8,  NIS-8,2,       8,2,20101021,1755,31,-22,5011,136.7,135.7,18.009,36.5498,2,36.5483,2,36.7207,2,209.6,2,209.5,2,1.07,2,2.02,2,0.03,2,0.1,2,18.0094,2,1826,31.0001,-22,136.7,135.9,135.7
316N20101015,  GT10,5,2,2085,5322,7,  NIS-7,2,       7,2,20101021,1755,31,-22,5011,186.3,184.9,17.6121,36.505,2,36.5026,2,36.6747,2,206.9,2,207.1,2,1.46,2,3.37,2,0.01,2,0.24,2,17.6111,2,1823,31.0001,-21.9999,186.3,185.1,184.9
316N20101015,  GT10,5,2,2085,5323,6,  NIS-6,2,       6,2,20101021,1755,31,-22,5011,251,249.1,16.5974,36.3191,2,36.3184,2,36.4896,2,202.6,2,203.6,2,2.05,2,5.36,2,0.01,2,0.29,2,16.5939,2,1820,31,-22,251,249.4,249.1
316N20101015,  GT10,5,2,2085,5324,5,  NIS-5,2,       5,2,20101021,1755,31,-22,5011,350.4,347.7,15.2574,36.1336,2,36.1347,2,36.3051,2,199.6,2,200.5,2,2.83,2,7.36,2,0,2,0.44,2,15.2496,2,1817,31,-22,350.4,348.1,347.7
316N20101015,  GT10,5,2,2085,5325,4,  NIS-4,2,       4,2,20101021,1755,31,-22,5011,549.6,545.1,12.3466,35.674,2,35.6751,2,35.8433,2,192.4,2,190.1,2,5.85,2,13.53,2,0,2,0.81,2,12.3423,2,1812,31,-21.9999,549.6,545.7,545.1
316N20101015,  GT10,5,2,2085,5326,3,  NIS-3,2,       3,2,20101021,1755,31,-22,5011,849,841.4,9.4401,35.4487,2,35.4493,2,35.6165,2,160.5,2,159.9,2,12.97,2,21.1,2,0,2,1.33,2,9.4424,2,1806,31,-21.9999,849,842.2,841.4
316N20101015,  GT10,5,2,2085,5327,2,  NIS-2,2,       2,2,20101021,1755,31,-22,5011,998.5,989.2,8.8493,35.5228,2,35.5221,2,35.6896,2,168.8,2,169.4,2,13.66,2,20.48,2,0,2,1.3,2,8.8484,2,1801,31,-21.9999,998.5,990.1,989.2
316N20101015,  GT10,5,2,2085,5328,1,  NIS-1,2,       1,2,20101021,1755,31,-22,5011,1198.3,1186.6,8.2021,35.5621,2,35.5624,2,35.7301,2,183.7,2,183.3,2,14.14,2,19.49,2,0,2,1.25,2,8.1971,2,1755,31,-22,1198.3,1187.6,1186.6