BOTTLE,20170120CCHSIORJL
EXPOCODE,SECT_ID,STNNBR,CASTNO,GEOTR_EVENT,GEOTR_SAMPNO,SAMPNO,BTLNBR,BTLNBR_FLAG_W,BTLNBR_U,BTLNBR_U_FLAG_W,DATE,TIME,LATITUDE,LONGITUDE,BTMDEPTH,CTDPRS,CTDDEPTH,CTDTMP,CTDSAL,CTDSAL_FLAG_W,SALNTY,SALNTY_FLAG_W,SALTREF,SALTREF_FLAG_W,CTDOXY,CTDOXY_FLAG_W,OXYGEN,OXYGEN_FLAG_W,SILCAT,SILCAT_FLAG_W,NITRAT,NITRAT_FLAG_W,NITRIT,NITRIT_FLAG_W,PHSPHT,PHSPHT_FLAG_W,BTL_TIME,BTL_LAT,BTL_LON,ODF_CTDPRS,SMDEPTH,FMDEPTH
,,,,,,,,,,,,,,,METERS,DBAR,METERS,ITS-90,PSS-78,,PSS-78,,G/KG,,UMOL/KG,,UMOL/KG,,UMOL/KG,,UMOL/KG,,UMOL/KG,,UMOL/KG,,,,,DBARS,METERS,METERS
316N20111106,  GT11,14,1,3143,7209,24,   GF-1,2,   1,2,20111126,1414,27.5831,-49.633,4273,41,40.7,25.3553,36.9162,2,36.9157,2,37.0898,2,204.2,3,-999,9,0.29,2,0,2,0,2,0,2,1457,27.5831,-49.633,41,40.7,40.7
316N20111106,  GT11,14,1,3143,7210,23,   GF-2,2,   2,2,20111126,1414,27.5831,-49.633,4273,41,40.7,25.3553,36.9162,2,36.9171,2,37.0912,2,204.2,3,-999,9,0.29,2,0,2,0,2,0,2,1457,27.5831,-49.633,41,40.7,40.7
316N20111106,  GT11,14,1,3143,7211,22,   GF-3,2,   3,2,20111126,1414,27.5831,-49.633,4273,70.8,70.4,23.221,37.0206,2,37.0345,3,37.2091,3,228.9,3,-999,9,0.1,2,0,2,0,2,0,2,1453,27.5831,-49.633,70.8,70.4,70.4
316N20111106,  GT11,14,1,3143,7212,21,   GF-4,2,   4,2,20111126,1414,27.5831,-49.633,4273,70.8,70.4,23.221,37.0206,2,37.02,2,37.1946,2,228.9,3,-999,9,0,2,0,2,0,2,0,2,1453,27.5831,-49.633,70.8,70.4,70.4
316N20111106,  GT11,14,1,3143,7213,20,   GF-5,2,   5,2,20111126,1414,27.5831,-49.633,4273,101.2,100.5,22.1809,37.0708,2,37.0691,2,37.2439,2,215.9,3,-999,9,0.1,2,0,2,0,2,0,2,1451,27.5831,-49.633,101.2,100.7,100.5
316N20111106,  GT11,14,1,3143,7214,19,   GF-6,2,   6,2,20111126,1414,27.5831,-49.633,4273,101.2,100.5,22.1809,37.0708,2,37.0673,2,37.2421,2,215.9,3,-999,9,0.1,2,0,2,0,2,0,2,1451,27.5831,-49.633,101.2,100.7,100.5
316N20111106,  GT11,14,1,3143,7215,18,   GF-7,2,   7,2,20111126,1414,27.5831,-49.633,4273,116.7,115.9,21.0991,36.9388,2,36.9461,2,37.1204,2,208.8,3,-999,9,0.1,2,0,2,0.1,2,0,2,1447,27.5831,-49.633,116.7,116.1,115.9
316N20111106,  GT11,14,1,3143,7216,17,   GF-8,2,   8,2,20111126,1414,27.5831,-49.633,4273,116.7,115.9,21.0991,36.9388,2,36.9329,2,37.107,2,208.8,3,-999,9,0.1,2,0,2,0.09,2,0,2,1447,27.5831,-49.633,116.7,116.1,115.9
316N20111106,  GT11,14,1,3143,7217,16,  GF-10,2,  10,2,20111126,1414,27.5831,-49.633,4273,136.9,135.9,20.1366,36.8102,2,36.7975,2,36.971,2,205.4,3,-999,9,0.19,2,0.21,2,0.04,2,0,2,1445,27.5831,-49.633,136.9,136.1,135.9
316N20111106,  GT11,14,1,3143,7218,15,  GF-11,2,  11,2,20111126,1414,27.5831,-49.633,4273,136.9,135.9,20.1366,36.8102,2,36.7975,2,36.971,2,205.4,3,-999,9,0.19,2,0.23,2,0.03,2,0,2,1445,27.5831,-49.633,136.9,136.1,135.9
316N20111106,  GT11,14,1,3143,7219,14,  GF-13,2,  13,2,20111126,1414,27.5831,-49.633,4273,186.7,185.3,18.662,36.6316,2,36.6313,2,36.804,2,190.6,3,-999,9,0.58,2,3.03,2,0,2,0.1,2,1442,27.5831,-49.633,186.7,185.6,185.3
316N20111106,  GT11,14,1,3143,7220,13,  GF-16,2,  16,2,20111126,1414,27.5831,-49.633,4273,186.7,185.3,18.662,36.6316,2,36.6327,2,36.8054,2,190.6,3,-999,9,0.58,2,2.95,2,0,2,0.09,2,1442,27.5831,-49.633,186.7,185.6,185.3
316N20111106,  GT11,14,1,3143,7221,12,  GF-18,2,  18,2,20111126,1414,27.5831,-49.633,4273,237,235.3,18.0358,36.5563,2,36.5536,2,36.726,2,191.5,3,-999,9,0.97,2,4.54,2,0,2,0.19,2,1439,27.5831,-49.633,237,235.6,235.3
316N20111106,  GT11,14,1,3143,7222,11,  GF-19,2,  19,2,20111126,1414,27.5831,-49.633,4273,237,235.3,18.0358,36.5563,2,36.5538,2,36.7262,2,191.5,3,-999,9,0.88,2,4.54,2,0,2,0.2,2,1439,27.5831,-49.633,237,235.6,235.3
316N20111106,  GT11,14,1,3143,7223,10,  GF-21,2,  21,2,20111126,1414,27.5831,-49.633,4273,287.7,285.6,17.6419,36.4892,2,36.4904,2,36.6625,2,192.9,3,-999,9,1.17,2,5.1,2,0,2,0.23,2,1435,27.5831,-49.633,287.7,286,285.6
316N20111106,  GT11,14,1,3143,7224,9,  GF-24,2,   24,2,20111126,1414,27.5831,-49.633,4273,287.7,285.6,17.6419,36.4892,2,36.4908,2,36.6629,2,192.9,3,-999,9,1.17,2,5.09,2,0,2,0.24,2,1435,27.5831,-49.633,287.7,286,285.6
316N20111106,  GT11,14,1,3143,7225,8,  GF-25,2,   25,2,20111126,1414,27.5831,-49.633,4273,353.4,350.8,17.0095,36.3803,2,36.3799,2,36.5514,2,192,3,-999,9,1.56,2,6.29,2,0,2,0.32,2,1431,27.5831,-49.633,353.4,351.3,350.8
316N20111106,  GT11,14,1,3143,7226,7,  GF-26,2,   26,2,20111126,1414,27.5831,-49.633,4273,353.4,350.8,17.0095,36.3803,2,36.3809,2,36.5525,2,192,3,-999,9,1.56,2,6.25,2,0,2,0.32,2,1431,27.5831,-49.633,353.4,351.3,350.8
316N20111106,  GT11,14,1,3143,7227,6,  GF-28,2,   28,2,20111126,1414,27.5831,-49.633,4273,434,430.7,16.0479,36.2063,2,36.2085,2,36.3792,2,186.8,3,-999,9,2.34,2,8.31,2,0,2,0.47,2,1426,27.5831,-49.633,434,431.3,430.7
316N20111106,  GT11,14,1,3143,7228,5,  GF-29,2,   29,2,20111126,1414,27.5831,-49.633,4273,434,430.7,16.0479,36.2063,2,36.2109,2,36.3816,2,186.8,3,-999,9,2.24,2,8.24,2,0,2,0.46,2,1426,27.5831,-49.633,434,431.3,430.7
316N20111106,  GT11,14,1,3143,7229,4,  GF-30,2,   30,2,20111126,1414,27.5831,-49.633,4273,555.2,550.8,14.1972,35.8912,2,35.8895,2,36.0588,2,175.4,3,-999,9,4.39,2,12.48,2,0,2,0.74,2,1421,27.5831,-49.633,555.2,551.5,550.8
316N20111106,  GT11,14,1,3143,7230,3,  GF-31,2,   31,2,20111126,1414,27.5831,-49.633,4273,555.2,550.8,14.1972,35.8912,2,35.8921,2,36.0614,2,175.4,3,-999,9,4.29,2,12.39,2,0,2,0.75,2,1421,27.5831,-49.633,555.2,551.5,550.8
316N20111106,  GT11,14,1,3143,7231,2,  GF-33,2,   33,2,20111126,1414,27.5831,-49.633,4273,656.2,650.8,11.9878,35.5803,2,35.5876,2,35.7554,2,162,3,-999,9,7.51,2,17.21,2,0,2,1.07,2,1416,27.5831,-49.633,656.2,651.6,650.8
316N20111106,  GT11,14,1,3143,7232,1,  GF-36,2,   36,2,20111126,1414,27.5831,-49.633,4273,656.2,650.8,11.9878,35.5803,2,35.5886,2,35.7564,2,162,3,-999,9,7.51,2,17.15,2,0,2,1.07,2,1416,27.5831,-49.633,656.2,651.6,650.8
316N20111106,  GT11,14,5,3149,7270,24,   GF-1,2,   1,2,20111127,107,27.5831,-49.633,4254,781.6,774.9,9.5695,35.302,2,35.3039,2,35.4704,2,153,3,-999,9,11.61,2,22,2,0,2,1.4,2,241,27.5831,-49.633,781.6,774.7,774.9
316N20111106,  GT11,14,5,3149,7271,23,   GF-2,2,   2,2,20111127,107,27.5831,-49.633,4254,781.6,774.9,9.5695,35.302,2,35.3026,2,35.469,2,153,3,-999,9,11.51,2,21.89,2,0,2,1.39,2,241,27.5831,-49.633,781.6,774.7,774.9
316N20111106,  GT11,14,5,3149,7272,22,   GF-3,2,   3,2,20111127,107,27.5831,-49.633,4254,974.2,965.4,7.0632,35.1203,2,35.1227,2,35.2883,2,165.8,3,-999,9,15.61,2,23.7,2,0,2,1.55,2,234,27.5831,-49.633,974.2,965.3,965.4
316N20111106,  GT11,14,5,3149,7273,21,   GF-4,2,   4,2,20111127,107,27.5831,-49.633,4254,974.2,965.4,7.0632,35.1203,2,35.1219,2,35.2875,2,165.8,3,-999,9,15.51,2,23.7,2,0,2,1.55,2,234,27.5831,-49.633,974.2,965.3,965.4
316N20111106,  GT11,14,5,3149,7274,20,   GF-5,2,   5,2,20111127,107,27.5831,-49.633,4254,1211.1,1199.6,5.9078,35.1297,2,35.1304,2,35.2961,2,204.4,3,-999,9,14.34,2,20.81,2,0,2,1.38,2,228,27.5831,-49.633,1211.1,1199.5,1199.6
316N20111106,  GT11,14,5,3149,7275,19,   GF-6,2,   6,2,20111127,107,27.5831,-49.633,4254,1211.1,1199.6,5.9078,35.1297,2,35.129,2,35.2947,2,204.4,3,-999,9,14.25,2,20.86,2,0,2,1.38,2,228,27.5831,-49.633,1211.1,1199.5,1199.6
316N20111106,  GT11,14,5,3149,7276,18,   GF-7,2,   7,2,20111127,107,27.5831,-49.633,4254,1464.2,1449.4,5.0164,35.1223,2,35.1243,2,35.2899,2,227.8,3,-999,9,14.44,2,19.03,2,0,2,1.27,2,221,27.5831,-49.633,1464.2,1449.4,1449.4
316N20111106,  GT11,14,5,3149,7277,17,   GF-8,2,   8,2,20111127,107,27.5831,-49.633,4254,1464.2,1449.4,5.0164,35.1223,2,35.1233,2,35.289,2,227.8,3,-999,9,14.44,2,19.07,2,0,2,1.27,2,221,27.5831,-49.633,1464.2,1449.4,1449.4
316N20111106,  GT11,14,5,3149,7278,16,  GF-10,2,  10,2,20111127,107,27.5831,-49.633,4254,1820.6,1800.7,4.1307,35.0525,2,35.0546,2,35.2199,2,243.2,3,-999,9,17.76,2,18.77,2,0,2,1.27,2,212,27.5831,-49.633,1820.6,1800.8,1800.7
316N20111106,  GT11,14,5,3149,7279,15,  GF-11,2,  11,2,20111127,107,27.5831,-49.633,4254,1820.6,1800.7,4.1307,35.0525,2,35.0536,2,35.2189,2,243.2,3,-999,9,17.66,2,18.77,2,0,2,1.27,2,212,27.5831,-49.633,1820.6,1800.8,1800.7
316N20111106,  GT11,14,5,3149,7280,14,  GF-13,2,  13,2,20111127,107,27.5831,-49.633,4254,2125.1,2100.4,3.5585,35.0015,2,35.0033,2,35.1683,2,249.7,3,-999,9,21.57,2,18.94,2,0,2,1.29,2,205,27.5831,-49.633,2125.1,2100.5,2100.4
316N20111106,  GT11,14,5,3149,7281,13,  GF-16,2,  16,2,20111127,107,27.5831,-49.633,4254,2125.1,2100.4,3.5585,35.0015,2,35.0037,2,35.1687,2,249.7,3,-999,9,21.66,2,18.94,2,0,2,1.28,2,205,27.5831,-49.633,2125.1,2100.5,2100.4
316N20111106,  GT11,14,5,3149,7282,12,  GF-18,2,  18,2,20111127,107,27.5831,-49.633,4254,2430.3,2400.4,3.211,34.9709,2,34.9732,2,35.1381,2,250.5,3,-999,9,25.76,2,19.32,2,0,2,1.31,2,157,27.5831,-49.633,2430.3,2400.6,2400.4
316N20111106,  GT11,14,5,3149,7283,11,  GF-19,2,  19,2,20111127,107,27.5831,-49.633,4254,2430.3,2400.4,3.211,34.9709,2,34.9734,2,35.1383,2,250.5,3,-999,9,25.67,2,19.3,2,0,2,1.32,2,157,27.5831,-49.633,2430.3,2400.6,2400.4
316N20111106,  GT11,14,5,3149,7284,10,  GF-21,2,  21,2,20111127,107,27.5831,-49.633,4254,2735.4,2699.8,2.9785,34.9502,2,34.9523,2,35.1171,2,250.9,3,-999,9,29.37,2,19.66,2,0,2,1.34,2,148,27.583,-49.633,2735.4,2700,2699.8
316N20111106,  GT11,14,5,3149,7285,9,  GF-24,2,   24,2,20111127,107,27.5831,-49.633,4254,2735.4,2699.8,2.9785,34.9502,2,34.9569,2,35.1217,2,250.9,3,-999,9,29.28,2,19.69,2,0,2,1.34,2,148,27.583,-49.633,2735.4,2700,2699.8
316N20111106,  GT11,14,5,3149,7286,8,  GF-25,4,   25,4,20111127,107,27.5831,-49.633,4254,3041.3,2999.5,2.8066,34.9347,2,34.9708,4,35.1357,4,251,3,-999,9,27.32,4,19.48,4,0,4,1.33,4,140,27.5831,-49.633,3041.3,2999.8,2999.5
316N20111106,  GT11,14,5,3149,7287,7,  GF-26,2,   26,2,20111127,107,27.5831,-49.633,4254,3041.3,2999.5,2.8066,34.9347,2,34.9384,2,35.1031,2,251,3,-999,9,32.2,2,19.93,2,0,2,1.35,2,140,27.5831,-49.633,3041.3,2999.8,2999.5
316N20111106,  GT11,14,5,3149,7288,6,  GF-28,2,   28,2,20111127,107,27.5831,-49.633,4254,3451.4,3400.8,2.5489,34.9119,2,34.9152,2,35.0798,2,253.1,3,-999,9,35.91,2,20.22,2,0,2,1.39,2,130,27.5831,-49.633,3451.4,3401.1,3400.8
316N20111106,  GT11,14,5,3149,7289,5,  GF-29,2,   29,2,20111127,107,27.5831,-49.633,4254,3451.4,3400.8,2.5489,34.9119,2,34.9144,2,35.079,2,253.1,3,-999,9,35.82,2,20.19,2,0,2,1.4,2,130,27.5831,-49.633,3451.4,3401.1,3400.8
316N20111106,  GT11,14,5,3149,7290,4,  GF-30,2,   30,2,20111127,107,27.5831,-49.633,4254,3861,3800.8,2.3605,34.8936,2,34.8971,2,35.0616,2,255,3,-999,9,38.94,2,20.4,2,0,2,1.42,2,120,27.5831,-49.633,3861,3801.1,3800.8
316N20111106,  GT11,14,5,3149,7291,3,  GF-31,2,   31,2,20111127,107,27.5831,-49.633,4254,3861,3800.8,2.3605,34.8936,2,34.8965,2,35.061,2,255,3,-999,9,38.84,2,20.35,2,0,2,1.41,2,120,27.5831,-49.633,3861,3801.1,3800.8
316N20111106,  GT11,14,5,3149,7292,2,  GF-33,2,   33,2,20111127,107,27.5831,-49.633,4254,4296.9,4225.8,2.2273,34.8776,2,34.8869,3,35.0514,3,255,3,-999,9,42.36,2,20.68,2,0,2,1.43,2,109,27.5831,-49.633,4296.9,4225.9,4225.8
316N20111106,  GT11,14,5,3149,7293,1,  GF-36,2,   36,2,20111127,107,27.5831,-49.633,4254,4296.9,4225.8,2.2273,34.8776,2,34.881,2,35.0454,2,255,3,-999,9,42.75,2,20.72,2,0,2,1.43,2,109,27.5831,-49.633,4296.9,4225.9,4225.8
316N20111106,  GT11,15,1,3159,7318,24,   GF-1,2,   1,2,20111128,444,26.8576,-47.2301,4245,50.7,50.4,25.2582,37.0755,2,37.0754,2,37.2502,2,204.9,3,-999,9,0.29,2,0,2,0,2,0,2,533,26.8572,-47.2301,50.7,50.4,50.4
316N20111106,  GT11,15,1,3159,7319,23,   GF-2,2,   2,2,20111128,444,26.8576,-47.2301,4245,50.7,50.4,25.2582,37.0755,2,37.0754,2,37.2502,2,204.9,3,-999,9,0.19,2,0,2,0,2,0,2,533,26.8572,-47.2301,50.7,50.4,50.4
316N20111106,  GT11,15,1,3159,7320,22,   GF-3,2,   3,2,20111128,444,26.8576,-47.2301,4245,96.8,96.1,21.8252,36.9366,2,36.9266,2,37.1008,2,210.8,3,-999,9,0.1,2,0,2,0.07,2,0,2,530,26.8572,-47.2301,96.8,96.2,96.1
316N20111106,  GT11,15,1,3159,7321,21,   GF-4,2,   4,2,20111128,444,26.8576,-47.2301,4245,96.8,96.1,21.8252,36.9366,2,36.9245,2,37.0986,2,210.8,3,-999,9,0,2,0,2,0.07,2,0,2,530,26.8572,-47.2301,96.8,96.2,96.1
316N20111106,  GT11,15,1,3159,7322,20,   GF-5,2,   5,2,20111128,444,26.8576,-47.2301,4245,136.8,135.9,20.1136,36.8072,2,36.8083,2,36.9819,2,211.2,3,-999,9,0.1,2,0.33,2,0.01,2,0,2,527,26.8572,-47.2301,136.8,136.1,135.9
316N20111106,  GT11,15,1,3159,7323,19,   GF-6,2,   6,2,20111128,444,26.8576,-47.2301,4245,136.8,135.9,20.1136,36.8072,2,36.8095,2,36.9831,2,211.2,3,-999,9,0,2,0.32,2,0.01,2,0,2,527,26.8572,-47.2301,136.8,136.1,135.9
316N20111106,  GT11,15,1,3159,7324,18,   GF-7,2,   7,2,20111128,444,26.8576,-47.2301,4245,187.9,186.6,18.7477,36.6332,2,36.6358,2,36.8085,2,191.7,3,-999,9,0.29,2,2.63,2,0,2,0.05,2,523,26.8572,-47.2301,187.9,186.8,186.6
316N20111106,  GT11,15,1,3159,7325,17,   GF-8,2,   8,2,20111128,444,26.8576,-47.2301,4245,187.9,186.6,18.7477,36.6332,2,36.635,2,36.8077,2,191.7,3,-999,9,0.39,2,2.63,2,0,2,0.06,2,523,26.8572,-47.2301,187.9,186.8,186.6
316N20111106,  GT11,15,1,3159,7326,16,  GF-10,2,  10,2,20111128,444,26.8576,-47.2301,4245,237.3,235.6,18.1035,36.552,2,36.5527,2,36.7251,2,197.6,3,-999,9,0.68,2,4,2,0,2,0.15,2,520,26.8572,-47.2301,237.3,235.9,235.6
316N20111106,  GT11,15,1,3159,7327,15,  GF-11,2,  11,2,20111128,444,26.8576,-47.2301,4245,237.3,235.6,18.1035,36.552,2,36.5535,2,36.7259,2,197.6,3,-999,9,0.68,2,3.99,2,0,2,0.15,2,520,26.8572,-47.2301,237.3,235.9,235.6
316N20111106,  GT11,15,1,3159,7328,14,  GF-13,2,  13,2,20111128,444,26.8576,-47.2301,4245,288.4,286.4,17.6691,36.4921,2,36.4933,2,36.6654,2,199,3,-999,9,0.88,2,4.71,2,0,2,0.2,2,516,26.8571,-47.2301,288.4,286.7,286.4
316N20111106,  GT11,15,1,3159,7329,13,  GF-16,2,  16,2,20111128,444,26.8576,-47.2301,4245,288.4,286.4,17.6691,36.4921,2,36.4935,2,36.6656,2,199,3,-999,9,0.88,2,4.7,2,0,2,0.19,2,516,26.8571,-47.2301,288.4,286.7,286.4
316N20111106,  GT11,15,1,3159,7330,12,  GF-18,2,  18,2,20111128,444,26.8576,-47.2301,4245,353.5,350.9,17.2251,36.4215,2,36.4226,2,36.5943,2,200.7,3,-999,9,1.17,2,5.42,2,0,2,0.24,2,513,26.8571,-47.2301,353.5,351.4,350.9
316N20111106,  GT11,15,1,3159,7331,11,  GF-19,2,  19,2,20111128,444,26.8576,-47.2301,4245,353.5,350.9,17.2251,36.4215,2,36.4231,2,36.5949,2,200.7,3,-999,9,1.17,2,5.4,2,0,2,0.24,2,513,26.8571,-47.2301,353.5,351.4,350.9
316N20111106,  GT11,15,1,3159,7332,10,  GF-21,2,  21,2,20111128,444,26.8576,-47.2301,4245,424.5,421.3,16.4538,36.2788,2,36.2831,2,36.4542,2,190.7,3,-999,9,1.75,2,7.42,2,0,2,0.38,2,509,26.8571,-47.2301,424.5,421.8,421.3
316N20111106,  GT11,15,1,3159,7333,9,  GF-24,2,   24,2,20111128,444,26.8576,-47.2301,4245,424.5,421.3,16.4538,36.2788,2,36.2835,2,36.4546,2,190.7,3,-999,9,1.75,2,7.4,2,0,2,0.38,2,509,26.8571,-47.2301,424.5,421.8,421.3
316N20111106,  GT11,15,1,3159,7334,8,  GF-37,4,   37,4,20111128,444,26.8576,-47.2301,4245,534.9,530.7,14.2322,35.8983,2,35.9072,2,36.0765,2,175.8,3,-999,9,4,2,12.37,2,0,2,0.7,2,503,26.857,-47.2301,534.9,531.4,530.7
316N20111106,  GT11,15,1,3159,7335,7,  GF-26,2,   26,2,20111128,444,26.8576,-47.2301,4245,534.9,530.7,14.2322,35.8983,2,35.8981,2,36.0673,2,175.8,3,-999,9,4,2,12.38,2,0,2,0.71,2,503,26.857,-47.2301,534.9,531.4,530.7
316N20111106,  GT11,15,1,3159,7336,6,  GF-28,2,   28,2,20111128,444,26.8576,-47.2301,4245,671.7,666.2,11.9929,35.5794,2,35.564,2,35.7317,2,158.9,3,-999,9,7.51,2,18.06,2,0,2,1.09,2,458,26.8571,-47.2301,671.7,667.1,666.2
316N20111106,  GT11,15,1,3159,7337,5,  GF-29,2,   29,2,20111128,444,26.8576,-47.2301,4245,671.7,666.2,11.9929,35.5794,2,35.5687,2,35.7364,2,158.9,3,-999,9,7.51,2,17.89,2,0,2,1.08,2,458,26.8571,-47.2301,671.7,667.1,666.2
316N20111106,  GT11,15,1,3159,7338,4,  GF-30,2,   30,2,20111128,444,26.8576,-47.2301,4245,807.6,800.7,8.7267,35.1935,2,35.192,2,35.3579,2,148.1,3,-999,9,14.05,2,24.21,2,0,2,1.54,2,454,26.8573,-47.2301,807.6,801.7,800.7
316N20111106,  GT11,15,1,3159,7339,3,  GF-31,2,   31,2,20111128,444,26.8576,-47.2301,4245,807.6,800.7,8.7267,35.1935,2,35.1918,2,35.3577,2,148.1,3,-999,9,14.05,2,24.18,2,0,2,1.54,2,454,26.8573,-47.2301,807.6,801.7,800.7
316N20111106,  GT11,15,1,3159,7340,2,  GF-33,2,   33,2,20111128,444,26.8576,-47.2301,4245,1010,1000.9,6.8781,35.1006,2,35.1029,2,35.2685,2,173.2,3,-999,9,15.9,2,23.73,2,0,2,1.56,2,447,26.8574,-47.2301,1010,1001.9,1000.9
316N20111106,  GT11,15,1,3159,7341,1,  GF-36,2,   36,2,20111128,444,26.8576,-47.2301,4245,1010,1000.9,6.8781,35.1006,2,35.1016,2,35.2671,2,173.2,3,-999,9,16,2,23.64,2,0,2,1.56,2,447,26.8574,-47.2301,1010,1001.9,1000.9
316N20111106,  GT11,16,1,3168,7358,12,   GF-9,3,   9,3,20111128,2129,26.1368,-44.8262,3763,3270,3223.7,2.7564,34.9238,2,34.9296,2,35.0943,2,249.4,3,-999,9,35.23,2,20.32,3,0,2,1.37,2,2239,26.1368,-44.8262,3270,3222.7,3223.7
316N20111106,  GT11,16,1,3168,7359,11,  GF-12,2,  12,2,20111128,2129,26.1368,-44.8262,3763,3270,3223.7,2.7564,34.9238,2,34.9298,2,35.0945,2,249.4,3,-999,9,34.84,2,20.07,2,0,2,1.37,2,2239,26.1368,-44.8262,3270,3222.7,3223.7
316N20111106,  GT11,16,1,3168,7360,10,  GF-14,2,  14,2,20111128,2129,26.1368,-44.8262,3763,3301.9,3254.9,2.7497,34.9291,2,34.9475,2,35.1123,2,249.3,3,-999,9,34.84,2,20.09,2,0,2,1.38,2,2237,26.1368,-44.8262,3301.9,3253.9,3254.9
316N20111106,  GT11,16,1,3168,7361,9,  GF-15,2,   15,2,20111128,2129,26.1368,-44.8262,3763,3301.9,3254.9,2.7497,34.9291,2,34.9292,2,35.0939,2,249.3,3,-999,9,34.84,2,20.12,2,0,2,1.38,2,2237,26.1368,-44.8262,3301.9,3253.9,3254.9
316N20111106,  GT11,16,1,3168,7362,8,  GF-17,2,   17,2,20111128,2129,26.1368,-44.8262,3763,3375.1,3326.6,2.7024,34.9222,2,34.9258,2,35.0905,2,249.2,3,-999,9,36.01,2,20.28,2,0,2,1.39,2,2229,26.1368,-44.8262,3375.1,3325.6,3326.6
316N20111106,  GT11,16,1,3168,7363,7,  GF-20,2,   20,2,20111128,2129,26.1368,-44.8262,3763,3375.1,3326.6,2.7024,34.9222,2,34.9257,2,35.0903,2,249.2,3,-999,9,35.91,2,20.3,2,0,2,1.39,2,2229,26.1368,-44.8262,3375.1,3325.6,3326.6
316N20111106,  GT11,16,1,3168,7364,6,  GF-22,2,   22,2,20111128,2129,26.1368,-44.8262,3763,3383.4,3334.7,2.6848,34.9197,2,34.9323,2,35.0971,2,249.3,3,-999,9,36.69,2,20.32,2,0,2,1.39,2,2227,26.1368,-44.8262,3383.4,3333.7,3334.7
316N20111106,  GT11,16,1,3168,7365,5,  GF-23,2,   23,2,20111128,2129,26.1368,-44.8262,3763,3383.4,3334.7,2.6848,34.9197,2,34.9235,2,35.0882,2,249.3,3,-999,9,36.6,2,20.29,2,0,2,1.39,2,2227,26.1368,-44.8262,3383.4,3333.7,3334.7
316N20111106,  GT11,16,1,3168,7366,4,  GF-27,2,   27,2,20111128,2129,26.1368,-44.8262,3763,3443.4,3393.3,2.6909,34.9204,2,34.9239,2,35.0886,2,249.3,3,-999,9,36.3,2,20.29,2,0,2,1.39,2,2219,26.1369,-44.8262,3443.4,3392.3,3393.3
316N20111106,  GT11,16,1,3168,7367,3,  GF-32,2,   32,2,20111128,2129,26.1368,-44.8262,3763,3443.4,3393.3,2.6909,34.9204,2,34.9235,2,35.0882,2,249.3,3,-999,9,36.11,2,20.25,2,0,2,1.39,2,2219,26.1369,-44.8262,3443.4,3392.3,3393.3
316N20111106,  GT11,16,1,3168,7368,2,  GF-35,2,   35,2,20111128,2129,26.1368,-44.8262,3763,3646.1,3591.4,2.6827,34.918,2,34.922,2,35.0866,2,249.9,3,-999,9,35.82,2,20.23,2,0,2,1.4,2,2206,26.1368,-44.8262,3646.1,3590.4,3591.4
316N20111106,  GT11,16,1,3168,7369,1,  GF-38,2,   38,2,20111128,2129,26.1368,-44.8262,3763,3646.1,3591.4,2.6827,34.918,2,34.931,2,35.0957,2,249.9,3,-999,9,35.91,2,20.23,2,0,2,1.4,2,2206,26.1368,-44.8262,3646.1,3590.4,3591.4