BOTTLE,20170120CCHSIORJL
EXPOCODE,SECT_ID,STNNBR,CASTNO,GEOTR_EVENT,GEOTR_SAMPNO,SAMPNO,BTLNBR,BTLNBR_FLAG_W,BTLNBR_U,BTLNBR_U_FLAG_W,DATE,TIME,LATITUDE,LONGITUDE,BTMDEPTH,CTDPRS,CTDDEPTH,CTDTMP,CTDSAL,CTDSAL_FLAG_W,SALNTY,SALNTY_FLAG_W,SALTREF,SALTREF_FLAG_W,CTDOXY,CTDOXY_FLAG_W,OXYGEN,OXYGEN_FLAG_W,SILCAT,SILCAT_FLAG_W,NITRAT,NITRAT_FLAG_W,NITRIT,NITRIT_FLAG_W,PHSPHT,PHSPHT_FLAG_W,BTL_TIME,BTL_LAT,BTL_LON,ODF_CTDPRS,SMDEPTH,FMDEPTH
,,,,,,,,,,,,,,,METERS,DBAR,METERS,ITS-90,PSS-78,,PSS-78,,G/KG,,UMOL/KG,,UMOL/KG,,UMOL/KG,,UMOL/KG,,UMOL/KG,,UMOL/KG,,,,,DBARS,METERS,METERS
316N20111106,  GT11,10,11,3089,6929,24,   GF-1,2,   1,2,20111121,900,31.752,-64.1642,4568,672,666.2,13.213,35.7034,2,35.7083,2,35.8767,2,158.1,3,-999,9,6.83,2,17.2,2,0,2,1.04,2,1001,31.751,-64.166,672,666,666.2
316N20111106,  GT11,10,11,3089,6930,23,   GF-2,2,   2,2,20111121,900,31.752,-64.1642,4568,672,666.2,13.213,35.7034,2,35.7054,2,35.8737,2,158.1,3,-999,9,6.92,2,17.14,2,0,2,1.04,2,1001,31.751,-64.166,672,666,666.2
316N20111106,  GT11,10,11,3089,6931,22,   GF-3,2,   3,2,20111121,900,31.752,-64.1642,4568,809.2,802,9.9184,35.2776,2,35.2809,2,35.4473,2,144.1,3,-999,9,12.29,2,22.95,2,0,2,1.46,2,957,31.7509,-64.1661,809.2,801.9,802
316N20111106,  GT11,10,11,3089,6932,21,   GF-4,2,   4,2,20111121,900,31.752,-64.1642,4568,809.2,802,9.9184,35.2776,2,35.2793,2,35.4457,2,144.1,3,-999,9,12.29,2,22.96,2,0,2,1.45,2,957,31.7509,-64.1661,809.2,801.9,802
316N20111106,  GT11,10,11,3089,6933,20,   GF-5,2,   5,2,20111121,900,31.752,-64.1642,4568,884.7,876.6,8.2936,35.1396,2,35.1434,2,35.3091,2,150.1,3,-999,9,13.86,2,23.66,2,0,2,1.52,2,952,31.751,-64.166,884.7,876.6,876.6
316N20111106,  GT11,10,11,3089,6934,19,   GF-6,2,   6,2,20111121,900,31.752,-64.1642,4568,884.7,876.6,8.2936,35.1396,2,35.1422,2,35.3079,2,150.1,3,-999,9,13.95,2,23.7,2,0,2,1.53,2,952,31.751,-64.166,884.7,876.6,876.6
316N20111106,  GT11,10,11,3089,6935,18,   GF-7,2,   7,2,20111121,900,31.752,-64.1642,4568,981.2,972.1,6.7896,35.0987,2,35.0995,2,35.265,2,181.8,3,-999,9,13.27,2,21.37,2,0,2,1.41,2,948,31.751,-64.166,981.2,972.1,972.1
316N20111106,  GT11,10,11,3089,6936,17,   GF-8,2,   8,2,20111121,900,31.752,-64.1642,4568,981.2,972.1,6.7896,35.0987,2,35.0989,2,35.2644,2,181.8,3,-999,9,13.27,2,21.42,2,0,2,1.41,2,948,31.751,-64.166,981.2,972.1,972.1
316N20111106,  GT11,10,11,3089,6937,16,  GF-10,2,  10,2,20111121,900,31.752,-64.1642,4568,1087.2,1076.8,5.8361,35.0779,2,35.08,2,35.2454,2,212.6,3,-999,9,12.49,2,19.74,2,0,2,1.31,2,944,31.751,-64.166,1087.2,1076.8,1076.8
316N20111106,  GT11,10,11,3089,6938,15,  GF-11,2,  11,2,20111121,900,31.752,-64.1642,4568,1087.2,1076.8,5.8361,35.0779,2,35.0796,2,35.245,2,212.6,3,-999,9,12.39,2,19.77,2,0,2,1.31,2,944,31.751,-64.166,1087.2,1076.8,1076.8
316N20111106,  GT11,10,11,3089,6939,14,  GF-13,2,  13,2,20111121,900,31.752,-64.1642,4568,1213.5,1201.6,5.0216,35.025,2,35.0267,2,35.1919,2,238.8,3,-999,9,11.51,2,18.39,2,0,2,1.23,2,938,31.751,-64.166,1213.5,1201.7,1201.6
316N20111106,  GT11,10,11,3089,6940,13,  GF-16,2,  16,2,20111121,900,31.752,-64.1642,4568,1213.5,1201.6,5.0216,35.025,2,35.0269,2,35.1921,2,238.8,3,-999,9,11.51,2,18.43,2,0,2,1.23,2,938,31.751,-64.166,1213.5,1201.7,1201.6
316N20111106,  GT11,10,11,3089,6941,12,  GF-18,2,  18,2,20111121,900,31.752,-64.1642,4568,1366.6,1352.6,4.5675,35,2,35.0023,2,35.1674,2,251.8,3,-999,9,11.42,2,17.94,2,0,2,1.19,2,932,31.7508,-64.1663,1366.6,1352.8,1352.6
316N20111106,  GT11,10,11,3089,6942,11,  GF-19,2,  19,2,20111121,900,31.752,-64.1642,4568,1366.6,1352.6,4.5675,35,2,35.0025,2,35.1676,2,251.8,3,-999,9,11.32,2,17.95,2,0,2,1.2,2,932,31.7508,-64.1663,1366.6,1352.8,1352.6
316N20111106,  GT11,10,11,3089,6943,10,  GF-21,2,  21,2,20111121,900,31.752,-64.1642,4568,1517.1,1501.1,4.2111,34.982,2,34.9846,2,35.1496,2,258.5,3,-999,9,11.71,2,17.73,2,0,2,1.19,2,928,31.7511,-64.1659,1517.1,1501.3,1501.1
316N20111106,  GT11,10,11,3089,6944,9,  GF-24,2,   24,2,20111121,900,31.752,-64.1642,4568,1517.1,1501.1,4.2111,34.982,2,34.9862,2,35.1512,2,258.5,3,-999,9,11.61,2,17.69,2,0,2,1.19,2,928,31.7511,-64.1659,1517.1,1501.3,1501.1
316N20111106,  GT11,10,11,3089,6945,8,  GF-25,2,   25,2,20111121,900,31.752,-64.1642,4568,1669.7,1651.5,3.9669,34.9676,2,34.9704,2,35.1353,2,261.8,3,-999,9,12.2,2,17.65,2,0,2,1.19,2,922,31.7514,-64.1653,1669.7,1651.7,1651.5
316N20111106,  GT11,10,11,3089,6946,7,  GF-26,2,   26,2,20111121,900,31.752,-64.1642,4568,1669.7,1651.5,3.9669,34.9676,2,34.9703,2,35.1351,2,261.8,3,-999,9,12.1,2,17.66,2,0,2,1.19,2,922,31.7514,-64.1653,1669.7,1651.7,1651.5
316N20111106,  GT11,10,11,3089,6947,6,  GF-28,2,   28,2,20111121,900,31.752,-64.1642,4568,1821.5,1801,3.7642,34.9591,2,34.962,2,35.1269,2,263.5,3,-999,9,12.88,2,17.63,2,0,2,1.19,2,917,31.7515,-64.1651,1821.5,1801.2,1801
316N20111106,  GT11,10,11,3089,6948,5,  GF-29,2,   29,2,20111121,900,31.752,-64.1642,4568,1821.5,1801,3.7642,34.9591,2,34.9626,2,35.1274,2,263.5,3,-999,9,12.88,2,17.62,2,0,2,1.19,2,917,31.7515,-64.1651,1821.5,1801.2,1801
316N20111106,  GT11,10,11,3089,6949,4,  GF-30,2,   30,2,20111121,900,31.752,-64.1642,4568,1975,1952,3.6168,34.9555,2,34.9581,2,35.1229,2,264.5,3,-999,9,13.76,2,17.61,2,0,2,1.19,2,910,31.7517,-64.1647,1975,1952.3,1952
316N20111106,  GT11,10,11,3089,6950,3,  GF-31,2,   31,2,20111121,900,31.752,-64.1642,4568,1975,1952,3.6168,34.9555,2,34.9585,2,35.1233,2,264.5,3,-999,9,13.86,2,17.62,2,0,2,1.19,2,910,31.7517,-64.1647,1975,1952.3,1952
316N20111106,  GT11,10,11,3089,6951,2,  GF-33,2,   33,2,20111121,900,31.752,-64.1642,4568,2127.3,2101.8,3.4941,34.9602,2,34.9652,2,35.13,2,263.1,3,-999,9,15.61,2,17.83,2,0,2,1.21,2,904,31.7519,-64.1643,2127.3,2102.1,2101.8
316N20111106,  GT11,10,11,3089,6952,1,  GF-36,2,   36,2,20111121,900,31.752,-64.1642,4568,2127.3,2101.8,3.4941,34.9602,2,34.9632,2,35.1281,2,263.1,3,-999,9,15.52,2,17.86,2,0,2,1.21,2,904,31.7519,-64.1643,2127.3,2102.1,2101.8
316N20111106,  GT11,11,1,3100,6965,24,   GF-1,2,    1,2,20111122,714,30.8197,-60.78,5338,61.8,61.3,24.6466,36.642,2,36.6433,2,36.8161,2,207.2,3,-999,9,0.19,2,0,2,0,2,0,2,807,30.8213,-60.7821,61.8,61.3,61.3
316N20111106,  GT11,11,1,3100,6966,23,   GF-2,2,    2,2,20111122,714,30.8197,-60.78,5338,61.8,61.3,24.6466,36.642,2,36.6437,2,36.8165,2,207.2,3,-999,9,0.1,2,0,2,0,2,0,2,807,30.8213,-60.7821,61.8,61.3,61.3
316N20111106,  GT11,11,1,3100,6967,22,   GF-3,2,    3,2,20111122,714,30.8197,-60.78,5338,93.6,92.9,20.9954,36.7979,2,36.804,2,36.9775,2,210.9,3,-999,9,0,2,0,2,0.04,2,0,2,804,30.8214,-60.7818,93.6,93,92.9
316N20111106,  GT11,11,1,3100,6968,21,   GF-4,2,    4,2,20111122,714,30.8197,-60.78,5338,93.6,92.9,20.9954,36.7979,2,36.8016,2,36.9751,2,210.9,3,-999,9,0.1,2,0.01,2,0.04,2,0,2,804,30.8214,-60.7818,93.6,93,92.9
316N20111106,  GT11,11,1,3100,6969,20,   GF-5,2,    5,2,20111122,714,30.8197,-60.78,5338,137.8,136.8,19.3274,36.6883,2,36.8026,4,36.9761,4,194,3,-999,9,0,2,0.01,2,0.04,2,0,2,801,30.8215,-60.7815,137.8,136.9,136.8
316N20111106,  GT11,11,1,3100,6970,19,   GF-6,2,    6,2,20111122,714,30.8197,-60.78,5338,137.8,136.8,19.3274,36.6883,2,36.8026,4,36.9761,4,194,3,-999,9,0,2,0.01,2,0.04,2,0,2,801,30.8215,-60.7815,137.8,136.9,136.8
316N20111106,  GT11,11,1,3100,6971,18,   GF-7,2,    7,2,20111122,714,30.8197,-60.78,5338,188.4,187,18.548,36.6187,2,36.6185,2,36.7912,2,200.5,3,-999,9,0.49,2,3.1,2,0,2,0.11,2,758,30.8215,-60.7813,188.4,187.2,187
316N20111106,  GT11,11,1,3100,6972,17,   GF-8,2,    8,2,20111122,714,30.8197,-60.78,5338,188.4,187,18.548,36.6187,2,36.6181,2,36.7908,2,200.5,3,-999,9,0.49,2,3.07,2,0,2,0.1,2,758,30.8215,-60.7813,188.4,187.2,187
316N20111106,  GT11,11,1,3100,6973,16,  GF-10,2,   10,2,20111122,714,30.8197,-60.78,5338,237.8,236,18.2824,36.5891,2,36.5888,2,36.7613,2,205.1,3,-999,9,0.58,2,3.65,2,0,2,0.14,2,755,30.8215,-60.781,237.8,236.3,236
316N20111106,  GT11,11,1,3100,6974,15,  GF-11,2,   11,2,20111122,714,30.8197,-60.78,5338,237.8,236,18.2824,36.5891,2,36.5886,2,36.7611,2,205.1,3,-999,9,0.68,2,3.65,2,0,2,0.14,2,755,30.8215,-60.781,237.8,236.3,236
316N20111106,  GT11,11,1,3100,6975,14,  GF-13,2,   13,2,20111122,714,30.8197,-60.78,5338,289.1,287,18.0889,36.5734,2,36.5731,2,36.7456,2,205,3,-999,9,0.68,2,3.79,2,0,2,0.16,2,752,30.8214,-60.7807,289.1,287.3,287
316N20111106,  GT11,11,1,3100,6976,13,  GF-16,2,   16,2,20111122,714,30.8197,-60.78,5338,289.1,287,18.0889,36.5734,2,36.5731,2,36.7456,2,205,3,-999,9,0.68,2,3.78,2,0,2,0.15,2,752,30.8214,-60.7807,289.1,287.3,287
316N20111106,  GT11,11,1,3100,6977,12,  GF-18,2,   18,2,20111122,714,30.8197,-60.78,5338,355.2,352.5,17.814,36.5265,2,36.5293,2,36.7016,2,204.9,3,-999,9,0.88,2,4.4,2,0,2,0.19,2,748,30.8211,-60.7803,355.2,352.9,352.5
316N20111106,  GT11,11,1,3100,6978,11,  GF-19,2,   19,2,20111122,714,30.8197,-60.78,5338,355.2,352.5,17.814,36.5265,2,36.5279,2,36.7002,2,204.9,3,-999,9,0.88,2,4.4,2,0,2,0.19,2,748,30.8211,-60.7803,355.2,352.9,352.5
316N20111106,  GT11,11,1,3100,6979,10,  GF-21,2,   21,2,20111122,714,30.8197,-60.78,5338,423.8,420.5,17.3553,36.4389,2,36.4414,2,36.6132,2,198.2,3,-999,9,1.27,2,5.75,2,0,2,0.27,2,744,30.8208,-60.78,423.8,421,420.5
316N20111106,  GT11,11,1,3100,6980,9,  GF-24,2,    24,2,20111122,714,30.8197,-60.78,5338,423.8,420.5,17.3553,36.4389,2,36.4406,2,36.6124,2,198.2,3,-999,9,1.27,2,5.75,2,0,2,0.27,2,744,30.8208,-60.78,423.8,421,420.5
316N20111106,  GT11,11,1,3100,6981,8,  GF-25,2,    25,2,20111122,714,30.8197,-60.78,5338,536.2,531.8,15.9433,36.1712,2,36.1731,2,36.3437,2,181.9,3,-999,9,2.63,2,9.44,2,0,2,0.52,2,739,30.8207,-60.7796,536.2,532.5,531.8
316N20111106,  GT11,11,1,3100,6982,7,  GF-26,2,    26,2,20111122,714,30.8197,-60.78,5338,536.2,531.8,15.9433,36.1712,2,36.1739,2,36.3445,2,181.9,3,-999,9,2.73,2,9.4,2,0,2,0.51,2,739,30.8207,-60.7796,536.2,532.5,531.8
316N20111106,  GT11,11,1,3100,6983,6,  GF-28,2,    28,2,20111122,714,30.8197,-60.78,5338,672.7,667,13.3889,35.7524,2,35.7562,2,35.9248,2,161.8,3,-999,9,5.75,2,15.4,2,0,2,0.92,2,733,30.8207,-60.7797,672.7,667.9,667
316N20111106,  GT11,11,1,3100,6984,5,  GF-29,2,    29,2,20111122,714,30.8197,-60.78,5338,672.7,667,13.3889,35.7524,2,35.7576,2,35.9262,2,161.8,3,-999,9,5.66,2,15.36,2,0,2,0.92,2,733,30.8207,-60.7797,672.7,667.9,667
316N20111106,  GT11,11,1,3100,6985,4,  GF-30,2,    30,2,20111122,714,30.8197,-60.78,5338,808.8,801.6,10.0611,35.3235,2,35.3275,2,35.4941,2,148.4,3,-999,9,11.32,2,22.11,2,0,2,1.4,2,724,30.8207,-60.78,808.8,802.6,801.6
316N20111106,  GT11,11,1,3100,6986,3,  GF-31,2,    31,2,20111122,714,30.8197,-60.78,5338,808.8,801.6,10.0611,35.3235,2,35.3275,2,35.4941,2,148.4,3,-999,9,11.41,2,22.1,2,0,2,1.39,2,724,30.8207,-60.78,808.8,802.6,801.6
316N20111106,  GT11,11,1,3100,6987,2,  GF-33,2,    33,2,20111122,714,30.8197,-60.78,5338,1011.4,1002,6.7005,35.0914,2,35.0947,2,35.2602,2,182.2,3,-999,9,14.93,2,22.79,2,0,2,1.49,2,718,30.82,-60.7801,1011.4,1003.1,1002
316N20111106,  GT11,11,1,3100,6988,1,  GF-36,2,    36,2,20111122,714,30.8197,-60.78,5338,1011.4,1002,6.7005,35.0914,2,35.0949,2,35.2604,2,182.2,3,-999,9,14.83,2,22.8,2,0,2,1.49,2,718,30.82,-60.7801,1011.4,1003.1,1002
316N20111106,  GT11,12,1,3112,7005,24,   GF-1,2,   1,2,20111123,537,29.7,-56.8165,5622,42,41.7,24.8231,36.9736,2,36.9741,2,37.1484,2,208,3,-999,9,0.29,2,0,2,0,2,0,2,628,29.7,-56.817,42,41.7,41.7
316N20111106,  GT11,12,1,3112,7006,23,   GF-2,2,   2,2,20111123,537,29.7,-56.8165,5622,42,41.7,24.8231,36.9736,2,36.9739,2,37.1482,2,208,3,-999,9,0.19,2,0,2,0,2,0,2,628,29.7,-56.817,42,41.7,41.7
316N20111106,  GT11,12,1,3112,7007,22,   GF-3,2,   3,2,20111123,537,29.7,-56.8165,5622,67.3,66.8,21.6499,36.7934,2,36.7949,2,36.9684,2,235.5,3,-999,9,0.19,2,0,2,0,2,0,2,625,29.6999,-56.817,67.3,66.9,66.8
316N20111106,  GT11,12,1,3112,7008,21,   GF-4,2,   4,2,20111123,537,29.7,-56.8165,5622,67.3,66.8,21.6499,36.7934,2,36.7925,2,36.966,2,235.5,3,-999,9,0.1,2,0,2,0,2,0,2,625,29.6999,-56.817,67.3,66.9,66.8
316N20111106,  GT11,12,1,3112,7009,20,   GF-5,2,   5,2,20111123,537,29.7,-56.8165,5622,100.2,99.5,19.8291,36.712,2,36.9745,4,37.1489,4,215.5,3,-999,9,0.1,2,0,2,0,2,0,2,622,29.7,-56.817,100.2,99.6,99.5
316N20111106,  GT11,12,1,3112,7010,19,   GF-6,2,   6,2,20111123,537,29.7,-56.8165,5622,100.2,99.5,19.8291,36.712,2,36.9743,4,37.1487,4,215.5,3,-999,9,0.19,2,0,2,0,2,0,2,622,29.7,-56.817,100.2,99.6,99.5
316N20111106,  GT11,12,1,3112,7011,18,   GF-7,2,   7,2,20111123,537,29.7,-56.8165,5622,138.5,137.5,18.7551,36.619,2,36.6184,2,36.7911,2,197,3,-999,9,0.39,2,1.88,2,0.01,2,0.04,2,617,29.7,-56.817,138.5,137.6,137.5
316N20111106,  GT11,12,1,3112,7012,17,   GF-8,2,   8,2,20111123,537,29.7,-56.8165,5622,138.5,137.5,18.7551,36.619,2,36.618,2,36.7907,2,197,3,-999,9,0.49,2,1.9,2,0,2,0.04,2,617,29.7,-56.817,138.5,137.6,137.5
316N20111106,  GT11,12,1,3112,7013,16,  GF-10,2,  10,2,20111123,537,29.7,-56.8165,5622,189.2,187.9,18.2154,36.5709,2,36.5704,2,36.7429,2,199.5,3,-999,9,0.78,2,3.81,2,0,2,0.16,2,613,29.7,-56.817,189.2,188.1,187.9
316N20111106,  GT11,12,1,3112,7014,15,  GF-11,2,  11,2,20111123,537,29.7,-56.8165,5622,189.2,187.9,18.2154,36.5709,2,36.5714,2,36.7439,2,199.5,3,-999,9,0.78,2,3.79,2,0,2,0.16,2,613,29.7,-56.817,189.2,188.1,187.9
316N20111106,  GT11,12,1,3112,7015,14,  GF-13,2,  13,2,20111123,537,29.7,-56.8165,5622,238.9,237.2,18.0583,36.562,2,36.5609,2,36.7333,2,204.8,3,-999,9,0.88,2,3.84,2,0,2,0.17,2,610,29.7,-56.817,238.9,237.5,237.2
316N20111106,  GT11,12,1,3112,7016,13,  GF-16,2,  16,2,20111123,537,29.7,-56.8165,5622,238.9,237.2,18.0583,36.562,2,36.5603,2,36.7327,2,204.8,3,-999,9,0.88,2,3.85,2,0,2,0.17,2,610,29.7,-56.817,238.9,237.5,237.2
316N20111106,  GT11,12,1,3112,7017,12,  GF-18,2,  18,2,20111123,537,29.7,-56.8165,5622,288.7,286.5,17.8553,36.5346,2,36.5366,2,36.7088,2,205.5,3,-999,9,0.88,2,4.16,2,0,2,0.19,2,606,29.7,-56.817,288.7,286.9,286.5
316N20111106,  GT11,12,1,3112,7018,11,  GF-19,2,  19,2,20111123,537,29.7,-56.8165,5622,288.7,286.5,17.8553,36.5346,2,36.5354,2,36.7077,2,205.5,3,-999,9,0.88,2,4.18,2,0,2,0.19,2,606,29.7,-56.817,288.7,286.9,286.5
316N20111106,  GT11,12,1,3112,7019,10,  GF-21,2,  21,2,20111123,537,29.7,-56.8165,5622,355.2,352.5,17.4284,36.4542,2,36.4555,2,36.6274,2,199.1,3,-999,9,1.36,2,5.39,2,0,2,0.26,2,601,29.7,-56.817,355.2,352.9,352.5
316N20111106,  GT11,12,1,3112,7020,9,  GF-24,2,   24,2,20111123,537,29.7,-56.8165,5622,355.2,352.5,17.4284,36.4542,2,36.4553,2,36.6272,2,199.1,3,-999,9,1.36,2,5.38,2,0,2,0.26,2,601,29.7,-56.817,355.2,352.9,352.5
316N20111106,  GT11,12,1,3112,7021,8,  GF-25,2,   25,2,20111123,537,29.7,-56.8165,5622,425.3,421.9,16.8875,36.359,2,36.3621,2,36.5335,2,197.5,3,-999,9,1.66,2,6.33,2,0,2,0.33,2,557,29.7,-56.8171,425.3,422.5,421.9
316N20111106,  GT11,12,1,3112,7022,7,  GF-26,2,   26,2,20111123,537,29.7,-56.8165,5622,425.3,421.9,16.8875,36.359,2,36.3623,2,36.5337,2,197.5,3,-999,9,1.66,2,6.32,2,0,2,0.33,2,557,29.7,-56.8171,425.3,422.5,421.9
316N20111106,  GT11,12,1,3112,7023,6,  GF-28,2,   28,2,20111123,537,29.7,-56.8165,5622,507.1,503.1,15.5633,36.1108,2,36.1147,2,36.285,2,183.1,3,-999,9,2.83,2,9.66,2,0,2,0.56,2,553,29.7,-56.8171,507.1,503.7,503.1
316N20111106,  GT11,12,1,3112,7024,5,  GF-29,2,   29,2,20111123,537,29.7,-56.8165,5622,507.1,503.1,15.5633,36.1108,2,36.1139,2,36.2842,2,183.1,3,-999,9,2.83,2,9.64,2,0,2,0.56,2,553,29.7,-56.8171,507.1,503.7,503.1
316N20111106,  GT11,12,1,3112,7025,4,  GF-30,2,   30,2,20111123,537,29.7,-56.8165,5622,673.2,667.5,12.6578,35.6583,2,35.6628,2,35.831,2,162.8,3,-999,9,6.44,2,16.25,2,0,2,1,2,547,29.7,-56.8168,673.2,668.4,667.5
316N20111106,  GT11,12,1,3112,7026,3,  GF-31,2,   31,2,20111123,537,29.7,-56.8165,5622,673.2,667.5,12.6578,35.6583,2,35.6624,2,35.8306,2,162.8,3,-999,9,6.44,2,16.22,2,0,2,1,2,547,29.7,-56.8168,673.2,668.4,667.5
316N20111106,  GT11,12,1,3112,7027,2,  GF-33,2,   33,2,20111123,537,29.7,-56.8165,5622,758.7,752.2,10.5306,35.389,2,35.3975,2,35.5644,2,154.4,3,-999,9,9.95,2,20.34,2,0,2,1.31,2,542,29.7,-56.8167,758.7,753.1,752.2
316N20111106,  GT11,12,1,3112,7028,1,  GF-36,2,   36,2,20111123,537,29.7,-56.8165,5622,758.7,752.2,10.5306,35.389,2,35.3973,2,35.5642,2,154.4,3,-999,9,9.95,2,20.35,2,0,2,1.31,2,542,29.7,-56.8167,758.7,753.1,752.2