BOTTLE,20170120CCHSIORJL
EXPOCODE,SECT_ID,STNNBR,CASTNO,GEOTR_EVENT,GEOTR_SAMPNO,SAMPNO,BTLNBR,BTLNBR_FLAG_W,BTLNBR_U,BTLNBR_U_FLAG_W,DATE,TIME,LATITUDE,LONGITUDE,BTMDEPTH,CTDPRS,CTDDEPTH,CTDTMP,CTDSAL,CTDSAL_FLAG_W,SALNTY,SALNTY_FLAG_W,SALTREF,SALTREF_FLAG_W,CTDOXY,CTDOXY_FLAG_W,OXYGEN,OXYGEN_FLAG_W,SILCAT,SILCAT_FLAG_W,NITRAT,NITRAT_FLAG_W,NITRIT,NITRIT_FLAG_W,PHSPHT,PHSPHT_FLAG_W,BTL_TIME,BTL_LAT,BTL_LON,ODF_CTDPRS,SMDEPTH,FMDEPTH
,,,,,,,,,,,,,,,METERS,DBAR,METERS,ITS-90,PSS-78,,PSS-78,,G/KG,,UMOL/KG,,UMOL/KG,,UMOL/KG,,UMOL/KG,,UMOL/KG,,UMOL/KG,,,,,DBARS,METERS,METERS
316N20111106,  GT11,2,4,3022,6295,24,   GF-1,2,   1,2,20111109,1130,39.35,-69.54,2494,35.7,35.5,20.5963,35.4013,2,35.351,3,35.5177,3,226.5,3,-999,9,0.98,2,0.26,2,0.06,2,0.04,2,1204,39.35,-69.54,35.7,35.5,35.5
316N20111106,  GT11,2,4,3022,6296,23,   GF-2,2,   2,2,20111109,1130,39.35,-69.54,2494,35.7,35.5,20.5963,35.4013,2,35.3415,3,35.5082,3,226.5,3,-999,9,0.98,2,0.32,2,0.06,2,0.03,2,1204,39.35,-69.54,35.7,35.5,35.5
316N20111106,  GT11,2,4,3022,6297,22,   GF-3,2,   3,2,20111109,1130,39.35,-69.54,2494,47.4,47,19.1582,35.2521,2,35.4023,3,35.5692,3,219.3,3,-999,9,2.05,2,3.41,2,0.15,2,0.22,2,1202,39.35,-69.54,47.4,47,47
316N20111106,  GT11,2,4,3022,6298,21,   GF-4,2,   4,2,20111109,1130,39.35,-69.54,2494,47.4,47,19.1582,35.2521,2,35.4129,3,35.5799,3,219.3,3,-999,9,2.05,2,3.49,2,0.14,2,0.22,2,1202,39.35,-69.54,47.4,47,47
316N20111106,  GT11,2,4,3022,6299,20,   GF-5,2,   5,2,20111109,1130,39.35,-69.54,2494,70.2,69.7,16.7586,36.0518,2,36.0555,2,36.2255,2,145.4,3,-999,9,4.19,2,11.14,2,0.02,2,0.61,2,1200,39.35,-69.54,70.2,69.8,69.7
316N20111106,  GT11,2,4,3022,6300,19,   GF-6,2,   6,2,20111109,1130,39.35,-69.54,2494,70.2,69.7,16.7586,36.0518,2,36.0582,2,36.2283,2,145.4,3,-999,9,4.19,2,10.9,2,0.02,2,0.61,2,1200,39.35,-69.54,70.2,69.8,69.7
316N20111106,  GT11,2,4,3022,6301,18,   GF-7,2,   7,2,20111109,1130,39.35,-69.54,2494,102.3,101.5,14.1738,35.7915,2,35.7914,2,35.9602,2,131.1,3,-999,9,6.05,2,15.13,2,0,2,0.89,2,1156,39.35,-69.54,102.3,101.6,101.5
316N20111106,  GT11,2,4,3022,6302,17,   GF-8,2,   8,2,20111109,1130,39.35,-69.54,2494,102.3,101.5,14.1738,35.7915,2,35.7907,2,35.9594,2,131.1,3,-999,9,6.14,2,15.16,2,0,2,0.9,2,1156,39.35,-69.54,102.3,101.6,101.5
316N20111106,  GT11,2,4,3022,6303,16,  GF-10,2,  10,2,20111109,1130,39.35,-69.54,2494,137.7,136.6,13.301,35.7047,2,35.7028,2,35.8711,2,133,3,-999,9,8.1,2,18.39,2,0,2,1.1,2,1154,39.35,-69.54,137.7,136.7,136.6
316N20111106,  GT11,2,4,3022,6304,15,  GF-11,2,  11,2,20111109,1130,39.35,-69.54,2494,137.7,136.6,13.301,35.7047,2,35.7036,2,35.8719,2,133,3,-999,9,8.1,2,18.42,2,0,2,1.1,2,1154,39.35,-69.54,137.7,136.7,136.6
316N20111106,  GT11,2,4,3022,6305,14,  GF-13,2,  13,2,20111109,1130,39.35,-69.54,2494,188.5,187,11.7256,35.4675,2,35.4708,2,35.638,2,126.9,3,-999,9,10.83,2,21.87,2,0,2,1.34,2,1151,39.35,-69.54,188.5,187.1,187
316N20111106,  GT11,2,4,3022,6306,13,  GF-16,2,  16,2,20111109,1130,39.35,-69.54,2494,188.5,187,11.7256,35.4675,2,35.4714,2,35.6386,2,126.9,3,-999,9,10.63,2,21.76,2,0,2,1.35,2,1151,39.35,-69.54,188.5,187.1,187
316N20111106,  GT11,2,4,3022,6307,12,  GF-18,2,  18,2,20111109,1130,39.35,-69.54,2494,239.1,237.2,10.5666,35.3186,2,35.3243,2,35.4909,2,128.3,3,-999,9,12.49,2,23.59,2,0,2,1.48,2,1149,39.35,-69.54,239.1,237.4,237.2
316N20111106,  GT11,2,4,3022,6308,11,  GF-19,2,  19,2,20111109,1130,39.35,-69.54,2494,239.1,237.2,10.5666,35.3186,2,35.3257,2,35.4922,2,128.3,3,-999,9,12.59,2,23.64,2,0,2,1.49,2,1149,39.35,-69.54,239.1,237.4,237.2
316N20111106,  GT11,2,4,3022,6309,10,  GF-21,2,  21,2,20111109,1130,39.35,-69.54,2494,289.2,286.8,9.4889,35.214,2,35.2151,2,35.3812,2,133.1,3,-999,9,14.15,2,24.77,2,0,2,1.58,2,1147,39.35,-69.54,289.2,287,286.8
316N20111106,  GT11,2,4,3022,6310,9,  GF-24,2,   24,2,20111109,1130,39.35,-69.54,2494,289.2,286.8,9.4889,35.214,2,35.2163,2,35.3824,2,133.1,3,-999,9,14.34,2,24.77,2,0,2,1.58,2,1147,39.35,-69.54,289.2,287,286.8
316N20111106,  GT11,2,4,3022,6311,8,  GF-25,2,   25,2,20111109,1130,39.35,-69.54,2494,329.1,326.4,8.1761,35.1282,2,35.1265,2,35.2922,2,150.1,3,-999,9,14.73,2,23.92,2,0,2,1.55,2,1145,39.35,-69.54,329.1,326.6,326.4
316N20111106,  GT11,2,4,3022,6312,7,  GF-26,2,   26,2,20111109,1130,39.35,-69.54,2494,329.1,326.4,8.1761,35.1282,2,35.1271,2,35.2928,2,150.1,3,-999,9,14.44,2,23.95,2,0,2,1.56,2,1145,39.35,-69.54,329.1,326.6,326.4
316N20111106,  GT11,2,4,3022,6313,6,  GF-28,2,   28,2,20111109,1130,39.35,-69.54,2494,425.4,421.8,6.239,35.058,2,35.058,2,35.2233,2,197.1,3,-999,9,12.98,2,20.73,2,0,2,1.37,2,1142,39.35,-69.54,425.4,422,421.8
316N20111106,  GT11,2,4,3022,6314,5,  GF-29,2,   29,2,20111109,1130,39.35,-69.54,2494,425.4,421.8,6.239,35.058,2,35.0578,2,35.2231,2,197.1,3,-999,9,13.17,2,20.83,2,0,2,1.39,2,1142,39.35,-69.54,425.4,422,421.8
316N20111106,  GT11,2,4,3022,6315,4,  GF-30,2,   30,2,20111109,1130,39.35,-69.54,2494,480.6,476.4,5.679,35.0433,2,35.0452,2,35.2105,2,214.4,3,-999,9,12.39,2,19.76,2,0,2,1.31,2,1136,39.35,-69.54,480.6,476.7,476.4
316N20111106,  GT11,2,4,3022,6316,3,  GF-31,2,   31,2,20111109,1130,39.35,-69.54,2494,480.6,476.4,5.679,35.0433,2,35.0451,2,35.2103,2,214.4,3,-999,9,12.78,2,19.75,2,0,2,1.31,2,1136,39.35,-69.54,480.6,476.7,476.4
316N20111106,  GT11,2,4,3022,6317,2,  GF-33,2,   33,2,20111109,1130,39.35,-69.54,2494,530.5,525.8,5.3917,35.0317,2,35.0334,2,35.1986,2,222.3,3,-999,9,12.2,2,19.25,2,0,2,1.28,2,1133,39.35,-69.54,530.5,526.1,525.8
316N20111106,  GT11,2,4,3022,6318,1,  GF-36,2,   36,2,20111109,1130,39.35,-69.54,2494,530.5,525.8,5.3917,35.0317,2,35.0335,2,35.1986,2,222.3,3,-999,9,12.2,2,19.24,2,0,2,1.28,2,1133,39.35,-69.54,530.5,526.1,525.8
316N20111106,  GT11,3,1,3030,6354,24,   GF-1,2,   1,2,20111110,1236,38.6883,-69.0899,3386,28,27.8,25.2008,36.0611,2,36.0697,2,36.2398,2,202.6,3,-999,9,0.68,2,0,2,0,2,0.02,2,1325,38.7063,-69.0601,28,27.8,27.8
316N20111106,  GT11,3,1,3030,6355,23,   GF-2,2,   2,2,20111110,1236,38.6883,-69.0899,3386,28,27.8,25.2008,36.0611,2,36.0675,2,36.2376,2,202.6,3,-999,9,0.59,2,0,2,0,2,0.02,2,1325,38.7063,-69.0601,28,27.8,27.8
316N20111106,  GT11,3,1,3030,6356,22,   GF-3,2,   3,2,20111110,1236,38.6883,-69.0899,3386,61.5,61,24.2665,36.3101,2,36.3137,2,36.4849,2,203.1,3,-999,9,0.58,2,0.08,2,0.01,2,0.01,2,1317,38.7036,-69.0649,61.5,61.1,61
316N20111106,  GT11,3,1,3030,6357,21,   GF-4,2,   4,2,20111110,1236,38.6883,-69.0899,3386,61.5,61,24.2665,36.3101,2,36.3135,2,36.4847,2,203.1,3,-999,9,0.49,2,0.09,2,0.01,2,0,2,1317,38.7036,-69.0649,61.5,61.1,61
316N20111106,  GT11,3,1,3030,6358,20,   GF-5,2,   5,2,20111110,1236,38.6883,-69.0899,3386,83.1,82.4,23.6076,36.4749,2,36.4551,3,36.627,3,205.3,3,-999,9,0.29,2,0.13,2,0.03,2,0.01,2,1314,38.7024,-69.067,83.1,82.6,82.4
316N20111106,  GT11,3,1,3030,6359,19,   GF-6,2,   6,2,20111110,1236,38.6883,-69.0899,3386,83.1,82.4,23.6076,36.4749,2,36.4555,3,36.6274,3,205.3,3,-999,9,0.29,2,0.12,2,0.03,2,0,2,1314,38.7024,-69.067,83.1,82.6,82.4
316N20111106,  GT11,3,1,3030,6360,18,   GF-7,2,   7,2,20111110,1236,38.6883,-69.0899,3386,112.3,111.4,21.3584,36.8275,2,36.8177,2,36.9913,2,156.5,3,-999,9,1.07,2,4.87,2,0,2,0.23,2,1309,38.7001,-69.0705,112.3,111.7,111.4
316N20111106,  GT11,3,1,3030,6361,17,   GF-8,2,   8,2,20111110,1236,38.6883,-69.0899,3386,112.3,111.4,21.3584,36.8275,2,36.8161,2,36.9897,2,156.5,3,-999,9,0.97,2,4.82,2,0,2,0.23,2,1309,38.7001,-69.0705,112.3,111.7,111.4
316N20111106,  GT11,3,1,3030,6362,16,  GF-10,2,  10,2,20111110,1236,38.6883,-69.0899,3386,138.5,137.4,19.97,36.7232,2,36.73,2,36.9032,2,157.9,3,-999,9,0.88,2,5.57,2,0,2,0.27,2,1306,38.6989,-69.0722,138.5,137.7,137.4
316N20111106,  GT11,3,1,3030,6363,15,  GF-11,2,  11,2,20111110,1236,38.6883,-69.0899,3386,138.5,137.4,19.97,36.7232,2,36.7308,2,36.904,2,157.9,3,-999,9,1.17,2,5.57,2,0,2,0.27,2,1306,38.6989,-69.0722,138.5,137.7,137.4
316N20111106,  GT11,3,1,3030,6364,14,  GF-13,2,  13,2,20111110,1236,38.6883,-69.0899,3386,188.4,186.9,18.6927,36.6353,2,36.636,2,36.8088,2,198.7,3,-999,9,0.58,2,2.91,2,0,2,0.12,2,1304,38.6979,-69.0745,188.4,187.3,186.9
316N20111106,  GT11,3,1,3030,6365,13,  GF-16,2,  16,2,20111110,1236,38.6883,-69.0899,3386,188.4,186.9,18.6927,36.6353,2,36.6356,2,36.8084,2,198.7,3,-999,9,0.49,2,2.93,2,0,2,0.13,2,1304,38.6979,-69.0745,188.4,187.3,186.9
316N20111106,  GT11,3,1,3030,6366,12,  GF-18,2,  18,2,20111110,1236,38.6883,-69.0899,3386,240,238.1,18.1776,36.5912,2,36.59,2,36.7626,2,206.5,3,-999,9,0.68,2,3.51,2,0,2,0.17,2,1300,38.6964,-69.0766,240,238.5,238.1
316N20111106,  GT11,3,1,3030,6367,11,  GF-19,2,  19,2,20111110,1236,38.6883,-69.0899,3386,240,238.1,18.1776,36.5912,2,36.5906,2,36.7632,2,206.5,3,-999,9,0.68,2,3.52,2,0,2,0.16,2,1300,38.6964,-69.0766,240,238.5,238.1
316N20111106,  GT11,3,1,3030,6368,10,  GF-21,2,  21,2,20111110,1236,38.6883,-69.0899,3386,289.7,287.4,17.8423,36.5399,2,36.5445,2,36.7168,2,206.3,3,-999,9,0.78,2,4.13,2,0,2,0.19,2,1258,38.6952,-69.0785,289.7,287.8,287.4
316N20111106,  GT11,3,1,3030,6369,9,  GF-24,2,   24,2,20111110,1236,38.6883,-69.0899,3386,289.7,287.4,17.8423,36.5399,2,36.5449,2,36.7172,2,206.3,3,-999,9,0.78,2,4.13,2,0,2,0.19,2,1258,38.6952,-69.0785,289.7,287.8,287.4
316N20111106,  GT11,3,1,3030,6370,8,  GF-25,2,   25,2,20111110,1236,38.6883,-69.0899,3386,420.4,416.8,14.6489,35.9429,2,35.943,2,36.1125,2,172.2,3,-999,9,4.1,2,12.65,2,0,2,0.73,2,1254,38.6935,-69.0813,420.4,417.4,416.8
316N20111106,  GT11,3,1,3030,6371,7,  GF-26,2,   26,2,20111110,1236,38.6883,-69.0899,3386,420.4,416.8,14.6489,35.9429,2,35.944,2,36.1135,2,172.2,3,-999,9,4.1,2,12.55,2,0,2,0.74,2,1254,38.6935,-69.0813,420.4,417.4,416.8
316N20111106,  GT11,3,1,3030,6372,6,  GF-28,2,   28,2,20111110,1236,38.6883,-69.0899,3386,541.2,536.4,9.9066,35.2276,2,35.2393,2,35.4055,2,132.1,3,-999,9,13.76,2,24.97,2,0,2,1.59,2,1246,38.691,-69.085,541.2,537.2,536.4
316N20111106,  GT11,3,1,3030,6373,5,  GF-29,2,   29,2,20111110,1236,38.6883,-69.0899,3386,541.2,536.4,9.9066,35.2276,2,35.2358,2,35.4019,2,132.1,3,-999,9,13.85,2,24.93,2,0,2,1.58,2,1246,38.691,-69.085,541.2,537.2,536.4
316N20111106,  GT11,3,1,3030,6374,4,  GF-30,2,   30,2,20111110,1236,38.6883,-69.0899,3386,667.3,661.2,7.3259,35.102,2,35.102,2,35.2676,2,173,3,-999,9,13.27,2,22.21,2,0,2,1.47,2,1241,38.69,-69.0874,667.3,662,661.2
316N20111106,  GT11,3,1,3030,6375,3,  GF-31,2,   31,2,20111110,1236,38.6883,-69.0899,3386,667.3,661.2,7.3259,35.102,2,35.1022,2,35.2678,2,173,3,-999,9,13.37,2,22.24,2,0,2,1.49,2,1241,38.69,-69.0874,667.3,662,661.2
316N20111106,  GT11,3,1,3030,6376,2,  GF-33,2,   33,2,20111110,1236,38.6883,-69.0899,3386,808.1,800.5,5.5058,35.0303,2,35.0324,2,35.1976,2,219.2,3,-999,9,11.9,2,19.27,2,0,2,1.32,2,1238,38.6889,-69.0889,808.1,801.4,800.5
316N20111106,  GT11,3,1,3030,6377,1,  GF-36,2,   36,2,20111110,1236,38.6883,-69.0899,3386,808.1,800.5,5.5058,35.0303,2,35.0332,2,35.1984,2,219.2,3,-999,9,11.9,2,19.29,2,0,2,1.34,2,1238,38.6889,-69.0889,808.1,801.4,800.5
316N20111106,  GT11,3,4,3034,6398,24,   GF-1,2,   1,2,20111111,326,38.7167,-69.0308,3323,976.1,966.5,4.848,35.0064,2,35.0094,2,35.1744,2,242.6,3,-999,9,11.81,2,18.1,2,0,2,1.2,2,529,38.736,-68.9942,976.1,966.2,966.5
316N20111106,  GT11,3,4,3034,6399,23,   GF-2,2,   2,2,20111111,326,38.7167,-69.0308,3323,976.1,966.5,4.848,35.0064,2,35.007,2,35.1721,2,242.6,3,-999,9,11.61,2,18,2,0,2,1.19,2,529,38.736,-68.9942,976.1,966.2,966.5
316N20111106,  GT11,3,4,3034,6400,22,   GF-3,2,   3,2,20111111,326,38.7167,-69.0308,3323,1089.3,1078.3,4.5567,34.9886,2,34.9905,2,35.1555,2,250,3,-999,9,11.42,2,17.75,2,0,2,1.17,2,522,38.7345,-68.9967,1089.3,1078,1078.3
316N20111106,  GT11,3,4,3034,6401,21,   GF-4,2,   4,2,20111111,326,38.7167,-69.0308,3323,1089.3,1078.3,4.5567,34.9886,2,34.9899,2,35.1549,2,250,3,-999,9,11.32,2,17.74,2,0,2,1.18,2,522,38.7345,-68.9967,1089.3,1078,1078.3
316N20111106,  GT11,3,4,3034,6402,20,   GF-5,2,   5,2,20111111,326,38.7167,-69.0308,3323,1213.7,1201.1,4.3082,34.9756,2,34.9798,2,35.1448,2,257.4,3,-999,9,11.42,2,17.5,2,0,2,1.17,2,513,38.7328,-68.9996,1213.7,1200.8,1201.1
316N20111106,  GT11,3,4,3034,6403,19,   GF-6,2,   6,2,20111111,326,38.7167,-69.0308,3323,1213.7,1201.1,4.3082,34.9756,2,34.9769,2,35.1418,2,257.4,3,-999,9,11.12,2,17.54,2,0,2,1.17,2,513,38.7328,-68.9996,1213.7,1200.8,1201.1
316N20111106,  GT11,3,4,3034,6404,18,   GF-7,2,   7,2,20111111,326,38.7167,-69.0308,3323,1368.7,1353.9,4.1827,34.9792,2,35.007,4,35.1721,4,259.7,3,-999,9,11.71,2,18.32,4,0,2,1.21,4,504,38.7312,-69.0025,1368.7,1353.7,1353.9
316N20111106,  GT11,3,4,3034,6405,17,   GF-8,2,   8,2,20111111,326,38.7167,-69.0308,3323,1368.7,1353.9,4.1827,34.9792,2,34.9812,2,35.1462,2,259.7,3,-999,9,11.81,2,17.49,2,0,2,1.17,2,504,38.7312,-69.0025,1368.7,1353.7,1353.9
316N20111106,  GT11,3,4,3034,6406,16,  GF-10,2,  10,2,20111111,326,38.7167,-69.0308,3323,1517.1,1500.2,3.9865,34.9683,2,34.97,2,35.1349,2,263.1,3,-999,9,12.2,2,17.52,2,0,2,1.17,2,456,38.7299,-69.0051,1517.1,1500,1500.2
316N20111106,  GT11,3,4,3034,6407,15,  GF-11,2,  11,2,20111111,326,38.7167,-69.0308,3323,1517.1,1500.2,3.9865,34.9683,2,34.9692,2,35.1341,2,263.1,3,-999,9,12.2,2,17.55,2,0,2,1.17,2,456,38.7299,-69.0051,1517.1,1500,1500.2
316N20111106,  GT11,3,4,3034,6408,14,  GF-13,2,  13,2,20111111,326,38.7167,-69.0308,3323,1823.7,1802.1,3.6525,34.9499,2,34.9523,2,35.1171,2,266.8,3,-999,9,13.27,2,17.4,2,0,2,1.17,2,442,38.7279,-69.0093,1823.7,1802,1802.1
316N20111106,  GT11,3,4,3034,6409,13,  GF-16,2,  16,2,20111111,326,38.7167,-69.0308,3323,1823.7,1802.1,3.6525,34.9499,2,34.9523,2,35.1171,2,266.8,3,-999,9,13.27,2,17.34,2,0,2,1.17,2,442,38.7279,-69.0093,1823.7,1802,1802.1
316N20111106,  GT11,3,4,3034,6410,12,  GF-18,2,  18,2,20111111,326,38.7167,-69.0308,3323,2127.4,2100.7,3.3912,34.9446,2,34.9472,2,35.112,2,267,3,-999,9,15.03,2,17.41,2,0,2,1.18,2,429,38.7253,-69.0135,2127.4,2100.7,2100.7
316N20111106,  GT11,3,4,3034,6411,11,  GF-19,2,  19,2,20111111,326,38.7167,-69.0308,3323,2127.4,2100.7,3.3912,34.9446,2,34.9468,2,35.1116,2,267,3,-999,9,15.03,2,17.41,2,0,2,1.17,2,429,38.7253,-69.0135,2127.4,2100.7,2100.7
316N20111106,  GT11,3,4,3034,6412,10,  GF-21,2,  21,2,20111111,326,38.7167,-69.0308,3323,2432.8,2400.6,3.1271,34.939,2,34.9409,2,35.1057,2,266.6,3,-999,9,17.47,2,17.44,2,0,2,1.19,2,413,38.7234,-69.0182,2432.8,2400.6,2400.6
316N20111106,  GT11,3,4,3034,6413,9,  GF-24,2,   24,2,20111111,326,38.7167,-69.0308,3323,2432.8,2400.6,3.1271,34.939,2,34.9415,2,35.1063,2,266.6,3,-999,9,17.37,2,17.49,2,0,2,1.19,2,413,38.7234,-69.0182,2432.8,2400.6,2400.6
316N20111106,  GT11,3,4,3034,6414,8,  GF-25,4,   25,4,20111111,326,38.7167,-69.0308,3323,2739.7,2701.4,2.8228,34.9249,2,34.9441,4,35.1089,4,268.2,3,-999,9,11.81,4,19.54,4,0,4,1.27,4,358,38.7209,-69.0223,2739.7,2701.4,2701.4
316N20111106,  GT11,3,4,3034,6415,7,  GF-26,2,   26,2,20111111,326,38.7167,-69.0308,3323,2739.7,2701.4,2.8228,34.9249,2,34.9268,2,35.0915,2,268.2,3,-999,9,18.93,2,17.3,2,0,2,1.19,2,358,38.7209,-69.0223,2739.7,2701.4,2701.4
316N20111106,  GT11,3,4,3034,6416,6,  GF-28,2,   28,2,20111111,326,38.7167,-69.0308,3323,2943.2,2900.7,2.6792,34.9151,2,34.9191,2,35.0838,2,271.4,3,-999,9,18.44,2,16.89,2,0,2,1.16,2,347,38.7193,-69.0258,2943.2,2900.8,2900.7
316N20111106,  GT11,3,4,3034,6417,5,  GF-29,2,   29,2,20111111,326,38.7167,-69.0308,3323,2943.2,2900.7,2.6792,34.9151,2,34.9179,2,35.0826,2,271.4,3,-999,9,18.44,2,16.84,2,0,2,1.16,2,347,38.7193,-69.0258,2943.2,2900.8,2900.7
316N20111106,  GT11,3,4,3034,6418,4,  GF-30,2,   30,2,20111111,326,38.7167,-69.0308,3323,3173,3125.5,2.3914,34.9013,2,34.9034,2,35.068,2,273.1,3,-999,9,21.08,2,16.88,2,0,2,1.17,2,339,38.7183,-69.028,3173,3125.6,3125.5
316N20111106,  GT11,3,4,3034,6419,3,  GF-31,2,   31,2,20111111,326,38.7167,-69.0308,3323,3173,3125.5,2.3914,34.9013,2,34.9044,2,35.0689,2,273.1,3,-999,9,21.08,2,16.84,2,0,2,1.17,2,339,38.7183,-69.028,3173,3125.6,3125.5
316N20111106,  GT11,3,4,3034,6420,2,  GF-33,2,   33,2,20111111,326,38.7167,-69.0308,3323,3326.5,3275.6,2.2781,34.8942,2,34.8987,2,35.0632,2,271.5,3,-999,9,23.32,2,17.18,2,0,2,1.18,2,327,38.7169,-69.0306,3326.5,3275.7,3275.6
316N20111106,  GT11,3,4,3034,6421,1,  GF-36,2,   36,2,20111111,326,38.7167,-69.0308,3323,3326.5,3275.6,2.2781,34.8942,2,34.8977,2,35.0622,2,271.5,3,-999,9,23.32,2,17.09,2,0,2,1.17,2,327,38.7169,-69.0306,3326.5,3275.7,3275.6