BOTTLE,20170120CCHSIORJL
EXPOCODE,SECT_ID,STNNBR,CASTNO,GEOTR_EVENT,GEOTR_SAMPNO,SAMPNO,BTLNBR,BTLNBR_FLAG_W,BTLNBR_U,BTLNBR_U_FLAG_W,DATE,TIME,LATITUDE,LONGITUDE,BTMDEPTH,CTDPRS,CTDDEPTH,CTDTMP,CTDSAL,CTDSAL_FLAG_W,SALNTY,SALNTY_FLAG_W,SALTREF,SALTREF_FLAG_W,CTDOXY,CTDOXY_FLAG_W,OXYGEN,OXYGEN_FLAG_W,SILCAT,SILCAT_FLAG_W,NITRAT,NITRAT_FLAG_W,NITRIT,NITRIT_FLAG_W,PHSPHT,PHSPHT_FLAG_W,BTL_TIME,BTL_LAT,BTL_LON,ODF_CTDPRS,SMDEPTH,FMDEPTH
,,,,,,,,,,,,,,,METERS,DBAR,METERS,ITS-90,PSS-78,,PSS-78,,G/KG,,UMOL/KG,,UMOL/KG,,UMOL/KG,,UMOL/KG,,UMOL/KG,,UMOL/KG,,,,,DBARS,METERS,METERS
316N20111106,  GT11,21,1,3235,7862,24,   GF-1,2,    1,2,20111206,1402,20.8839,-32.6247,4992,40.7,40.5,25.1645,37.0921,2,37.0968,2,37.2718,2,206.9,3,-999,9,0.1,2,0,2,0,2,0,2,1449,20.8839,-32.6247,40.7,40.4,40.5
316N20111106,  GT11,21,1,3235,7863,23,   GF-2,2,    2,2,20111206,1402,20.8839,-32.6247,4992,40.7,40.5,25.1645,37.0921,2,37.0949,2,37.2698,2,206.9,3,-999,9,0,2,0,2,0,2,0,2,1449,20.8839,-32.6247,40.7,40.4,40.5
316N20111106,  GT11,21,1,3235,7864,22,   GF-3,2,    3,2,20111206,1402,20.8839,-32.6247,4992,61.5,61.1,25.1712,37.1949,2,37.1968,2,37.3722,2,207.5,3,-999,9,0,2,0,2,0,2,0,2,1446,20.8839,-32.6247,61.5,61.1,61.1
316N20111106,  GT11,21,1,3235,7865,21,   GF-4,2,    4,2,20111206,1402,20.8839,-32.6247,4992,61.5,61.1,25.1712,37.1949,2,37.1925,2,37.3678,2,207.5,3,-999,9,0,2,0,2,0,2,0,2,1446,20.8839,-32.6247,61.5,61.1,61.1
316N20111106,  GT11,21,1,3235,7866,20,   GF-5,2,    5,2,20111206,1402,20.8839,-32.6247,4992,101,100.3,22.5445,37.0587,2,37.0534,2,37.2281,2,197.5,3,-999,9,0.19,2,0.67,2,0.1,2,0.07,2,1442,20.8838,-32.6247,101,100.4,100.3
316N20111106,  GT11,21,1,3235,7867,19,   GF-6,2,    6,2,20111206,1402,20.8839,-32.6247,4992,101,100.3,22.5445,37.0587,2,37.0512,2,37.2259,2,197.5,3,-999,9,0.19,2,0.65,2,0.1,2,0.07,2,1442,20.8838,-32.6247,101,100.4,100.3
316N20111106,  GT11,21,1,3235,7868,18,   GF-7,2,    7,2,20111206,1402,20.8839,-32.6247,4992,181.5,180.3,17.3587,36.3185,2,36.3196,2,36.4909,2,125.4,3,-999,9,3.22,2,14.35,2,0,2,0.83,2,1438,20.8838,-32.6247,181.5,180.5,180.3
316N20111106,  GT11,21,1,3235,7869,17,   GF-8,2,    8,2,20111206,1402,20.8839,-32.6247,4992,181.5,180.3,17.3587,36.3185,2,36.3169,3,36.4881,3,125.4,3,-999,9,3.22,2,14.22,2,0,2,0.83,2,1438,20.8838,-32.6247,181.5,180.5,180.3
316N20111106,  GT11,21,1,3235,7870,16,  GF-10,2,   10,2,20111206,1402,20.8839,-32.6247,4992,207.2,205.8,16.4375,36.148,2,36.1481,2,36.3185,2,105.5,3,-999,9,4.1,2,16.89,2,0,2,0.99,2,1435,20.8839,-32.6247,207.2,206.1,205.8
316N20111106,  GT11,21,1,3235,7871,15,  GF-11,2,   11,2,20111206,1402,20.8839,-32.6247,4992,207.2,205.8,16.4375,36.148,2,36.1477,2,36.3181,2,105.5,3,-999,9,4.1,2,16.89,2,0,2,1,2,1435,20.8839,-32.6247,207.2,206.1,205.8
316N20111106,  GT11,21,1,3235,7872,14,  GF-13,2,   13,2,20111206,1402,20.8839,-32.6247,4992,287.8,285.8,15.5039,36.1158,2,36.1079,2,36.2782,2,143.3,3,-999,9,3.51,2,13.72,2,0,2,0.8,2,1432,20.8839,-32.6247,287.8,286.2,285.8
316N20111106,  GT11,21,1,3235,7873,13,  GF-16,2,   16,2,20111206,1402,20.8839,-32.6247,4992,287.8,285.8,15.5039,36.1158,2,36.1087,2,36.279,2,143.3,3,-999,9,3.61,2,13.74,2,0,2,0.81,2,1432,20.8839,-32.6247,287.8,286.2,285.8
316N20111106,  GT11,21,1,3235,7874,12,  GF-18,2,   18,2,20111206,1402,20.8839,-32.6247,4992,337.9,335.6,14.5532,35.965,2,35.9658,2,36.1354,2,139,3,-999,9,4.29,2,15.23,2,0,2,0.9,2,1429,20.8839,-32.6247,337.9,336,335.6
316N20111106,  GT11,21,1,3235,7875,11,  GF-19,2,   19,2,20111206,1402,20.8839,-32.6247,4992,337.9,335.6,14.5532,35.965,2,35.9678,2,36.1374,2,139,3,-999,9,4.19,2,15.18,2,0,2,0.9,2,1429,20.8839,-32.6247,337.9,336,335.6
316N20111106,  GT11,21,1,3235,7876,10,  GF-21,2,   21,2,20111206,1402,20.8839,-32.6247,4992,404,401.1,13.5261,35.8058,2,35.8139,2,35.9827,2,132.8,3,-999,9,5.46,2,17.83,2,0,2,1.05,2,1425,20.8839,-32.6247,404,401.6,401.1
316N20111106,  GT11,21,1,3235,7877,9,  GF-24,2,    24,2,20111206,1402,20.8839,-32.6247,4992,404,401.1,13.5261,35.8058,2,35.8139,2,35.9827,2,132.8,3,-999,9,5.46,2,17.78,2,0,2,1.05,2,1425,20.8839,-32.6247,404,401.6,401.1
316N20111106,  GT11,21,1,3235,7878,8,  GF-26,2,    26,2,20111206,1402,20.8839,-32.6247,4992,504.8,501.1,11.9392,35.5886,2,35.5943,2,35.7622,2,122.8,3,-999,9,7.8,2,21.54,2,0,2,1.29,2,1421,20.8838,-32.6247,504.8,501.7,501.1
316N20111106,  GT11,21,1,3235,7879,7,  GF-28,2,    28,2,20111206,1402,20.8839,-32.6247,4992,504.8,501.1,11.9392,35.5886,2,35.5896,2,35.7574,2,122.8,3,-999,9,7.8,2,21.52,2,0,2,1.3,2,1421,20.8838,-32.6247,504.8,501.7,501.1
316N20111106,  GT11,21,1,3235,7880,6,  GF-29,2,    29,2,20111206,1402,20.8839,-32.6247,4992,630.7,625.9,9.9094,35.3214,2,35.3287,2,35.4953,2,110.3,3,-999,9,12.59,2,26.48,2,0,2,1.65,2,1417,20.8838,-32.6247,630.7,626.6,625.9
316N20111106,  GT11,21,1,3235,7881,5,  GF-30,2,    30,2,20111206,1402,20.8839,-32.6247,4992,630.7,625.9,9.9094,35.3214,2,35.3287,2,35.4953,2,110.3,3,-999,9,12.59,2,26.39,2,0,2,1.65,2,1417,20.8838,-32.6247,630.7,626.6,625.9
316N20111106,  GT11,21,1,3235,7882,4,  GF-31,2,    31,2,20111206,1402,20.8839,-32.6247,4992,807.1,800.5,7.6864,35.0747,2,35.0888,3,35.2542,3,120.5,3,-999,9,18.05,2,29.09,2,0,2,1.89,2,1412,20.8838,-32.6247,807.1,801.4,800.5
316N20111106,  GT11,21,1,3235,7883,3,  GF-33,2,    33,2,20111206,1402,20.8839,-32.6247,4992,807.1,800.5,7.6864,35.0747,2,35.0766,2,35.242,2,120.5,3,-999,9,18.44,2,29.18,2,0,2,1.9,2,1412,20.8838,-32.6247,807.1,801.4,800.5
316N20111106,  GT11,21,1,3235,7884,2,  GF-12,2,    12,2,20111206,1402,20.8839,-32.6247,4992,1009.6,1001,6.4023,35.0077,2,35.0089,2,35.174,2,145.7,3,-999,9,20.39,2,27.93,2,0,2,1.87,2,1405,20.8839,-32.6247,1009.6,1001.9,1001
316N20111106,  GT11,21,1,3235,7885,1,  GF-36,2,    36,2,20111206,1402,20.8839,-32.6247,4992,1009.6,1001,6.4023,35.0077,2,35.0089,2,35.174,2,145.7,3,-999,9,20.39,2,27.94,2,0,2,1.88,2,1405,20.8839,-32.6247,1009.6,1001.9,1001
316N20111106,  GT11,22,1,3247,7902,24,   GF-1,2,    1,2,20111207,1031,19.4334,-29.3832,5099,51.3,51,24.8075,37.1711,2,37.1692,2,37.3444,2,206.1,3,-999,9,0.1,2,0,2,0,2,0,2,1122,19.4334,-29.3832,51.3,50.9,51
316N20111106,  GT11,22,1,3247,7903,23,   GF-2,2,    2,2,20111207,1031,19.4334,-29.3832,5099,51.3,51,24.8075,37.1711,2,37.17,2,37.3453,2,206.1,3,-999,9,0,2,0,2,0,2,0,2,1122,19.4334,-29.3832,51.3,50.9,51
316N20111106,  GT11,22,1,3247,7904,22,   GF-3,2,    3,2,20111207,1031,19.4334,-29.3832,5099,81.2,80.7,24.7667,37.1674,2,37.1571,2,37.3323,2,205.3,3,-999,9,0,2,0,2,0,2,0,2,1119,19.4334,-29.3832,81.2,80.7,80.7
316N20111106,  GT11,22,1,3247,7905,21,   GF-4,2,    4,2,20111207,1031,19.4334,-29.3832,5099,81.2,80.7,24.7667,37.1674,2,37.1507,2,37.3259,2,205.3,3,-999,9,0,2,0,2,0,2,0,2,1119,19.4334,-29.3832,81.2,80.7,80.7
316N20111106,  GT11,22,1,3247,7906,20,   GF-5,2,    5,2,20111207,1031,19.4334,-29.3832,5099,95.5,94.9,22.8434,37.0803,2,37.0733,2,37.2481,2,206.8,3,-999,9,0.19,2,0.12,2,0.08,2,0.02,2,1117,19.4334,-29.3832,95.5,95,94.9
316N20111106,  GT11,22,1,3247,7907,19,   GF-6,2,    6,2,20111207,1031,19.4334,-29.3832,5099,95.5,94.9,22.8434,37.0803,2,37.0717,2,37.2465,2,206.8,3,-999,9,0.19,2,0.15,2,0.07,2,0.02,2,1117,19.4334,-29.3832,95.5,95,94.9
316N20111106,  GT11,22,1,3247,7908,18,   GF-7,2,    7,2,20111207,1031,19.4334,-29.3832,5099,126.2,125.3,20.579,36.8403,2,36.814,3,36.9876,3,165.7,3,-999,9,1.07,2,6.13,2,0.02,2,0.38,2,1112,19.4334,-29.3832,126.2,125.5,125.3
316N20111106,  GT11,22,1,3247,7909,17,   GF-8,2,    8,2,20111207,1031,19.4334,-29.3832,5099,126.2,125.3,20.579,36.8403,2,36.8216,3,36.9952,3,165.7,3,-999,9,1.07,2,5.92,2,0.02,2,0.37,2,1112,19.4334,-29.3832,126.2,125.5,125.3
316N20111106,  GT11,22,1,3247,7910,16,  GF-10,2,   10,2,20111207,1031,19.4334,-29.3832,5099,187.3,186,16.1135,36.1747,2,36.1622,2,36.3327,2,119.8,3,-999,9,3.7,2,14.74,2,0,2,0.86,2,1108,19.4334,-29.3832,187.3,186.3,186
316N20111106,  GT11,22,1,3247,7911,15,  GF-11,2,   11,2,20111207,1031,19.4334,-29.3832,5099,187.3,186,16.1135,36.1747,2,36.1574,2,36.3279,2,119.8,3,-999,9,3.7,2,14.78,2,0,2,0.86,2,1108,19.4334,-29.3832,187.3,186.3,186
316N20111106,  GT11,22,1,3247,7912,14,  GF-13,2,   13,2,20111207,1031,19.4334,-29.3832,5099,238.2,236.6,15.1726,36.0383,2,36.0384,2,36.2083,2,127.3,3,-999,9,4.29,2,15.73,2,0,2,0.93,2,1104,19.4334,-29.3832,238.2,236.9,236.6
316N20111106,  GT11,22,1,3247,7913,13,  GF-16,2,   16,2,20111207,1031,19.4334,-29.3832,5099,238.2,236.6,15.1726,36.0383,2,36.0378,2,36.2077,2,127.3,3,-999,9,4.39,2,15.72,2,0,2,0.93,2,1104,19.4334,-29.3832,238.2,236.9,236.6
316N20111106,  GT11,22,1,3247,7914,12,  GF-18,2,   18,2,20111207,1031,19.4334,-29.3832,5099,287.8,285.9,14.4219,35.9207,2,35.9169,2,36.0862,2,125.9,3,-999,9,4.97,2,16.95,2,0,2,1,2,1101,19.4334,-29.3832,287.8,286.2,285.9
316N20111106,  GT11,22,1,3247,7915,11,  GF-19,2,   19,2,20111207,1031,19.4334,-29.3832,5099,287.8,285.9,14.4219,35.9207,2,35.9175,2,36.0868,2,125.9,3,-999,9,4.97,2,16.93,2,0,2,1,2,1101,19.4334,-29.3832,287.8,286.2,285.9
316N20111106,  GT11,22,1,3247,7916,10,  GF-21,2,   21,2,20111207,1031,19.4334,-29.3832,5099,393.8,391.1,12.6498,35.6795,2,35.6838,2,35.8521,2,123.3,3,-999,9,6.92,2,20.16,2,0,2,1.2,2,1057,19.4334,-29.3832,393.8,391.5,391.1
316N20111106,  GT11,22,1,3247,7917,9,  GF-24,2,    24,2,20111207,1031,19.4334,-29.3832,5099,393.8,391.1,12.6498,35.6795,2,35.6842,2,35.8525,2,123.3,3,-999,9,6.92,2,20.11,2,0,2,1.2,2,1057,19.4334,-29.3832,393.8,391.5,391.1
316N20111106,  GT11,22,1,3247,7918,8,  GF-26,2,    26,2,20111207,1031,19.4334,-29.3832,5099,556.7,552.6,10.2901,35.3631,2,35.3658,2,35.5326,2,103.2,3,-999,9,12.1,2,26.63,2,0,2,1.64,2,1053,19.4334,-29.3832,556.7,553.2,552.6
316N20111106,  GT11,22,1,3247,7919,7,  GF-28,2,    28,2,20111207,1031,19.4334,-29.3832,5099,556.7,552.6,10.2901,35.3631,2,35.3629,2,35.5296,2,103.2,3,-999,9,12.1,2,26.57,2,0,2,1.65,2,1053,19.4334,-29.3832,556.7,553.2,552.6
316N20111106,  GT11,22,1,3247,7920,6,  GF-29,2,    29,2,20111207,1031,19.4334,-29.3832,5099,670.8,665.6,8.8401,35.2009,2,35.2007,2,35.3667,2,111.8,3,-999,9,15.51,2,27.89,2,0,2,1.79,2,1049,19.4334,-29.3832,670.8,666.3,665.6
316N20111106,  GT11,22,1,3247,7921,5,  GF-30,2,    30,2,20111207,1031,19.4334,-29.3832,5099,670.8,665.6,8.8401,35.2009,2,35.2021,2,35.3681,2,111.8,3,-999,9,15.42,2,27.89,2,0,2,1.8,2,1049,19.4334,-29.3832,670.8,666.3,665.6
316N20111106,  GT11,22,1,3247,7922,4,  GF-31,2,    31,2,20111207,1031,19.4334,-29.3832,5099,908.9,901.4,6.199,34.9176,2,34.9196,2,35.0843,2,133.1,3,-999,9,22.25,2,29.99,2,0,2,2.02,2,1041,19.4333,-29.3832,908.9,902.2,901.4
316N20111106,  GT11,22,1,3247,7923,3,  GF-33,2,    33,2,20111207,1031,19.4334,-29.3832,5099,908.9,901.4,6.199,34.9176,2,34.9189,2,35.0835,2,133.1,3,-999,9,22.06,2,29.99,2,0,2,2.02,2,1041,19.4333,-29.3832,908.9,902.2,901.4
316N20111106,  GT11,22,1,3247,7924,2,  GF-12,2,    12,2,20111207,1031,19.4334,-29.3832,5099,1211.5,1200.6,5.569,35.0274,2,35.0285,2,35.1937,2,171.3,3,-999,9,20.2,2,25.49,2,0,2,1.74,2,1034,19.4333,-29.3832,1211.5,1201.5,1200.6
316N20111106,  GT11,22,1,3247,7925,1,  GF-36,2,    36,2,20111207,1031,19.4334,-29.3832,5099,1211.5,1200.6,5.569,35.0274,2,35.0281,2,35.1933,2,171.3,3,-999,9,20.3,2,25.55,2,0,2,1.75,2,1034,19.4333,-29.3832,1211.5,1201.5,1200.6
316N20111106,  GT11,22,5,3253,7959,24,   GF-1,2,    1,2,20111207,2332,19.433,-29.383,5023,1514.8,1500.2,4.7051,35.0398,2,35.0419,2,35.2072,2,207.3,3,-999,9,20,2,22.58,2,0,2,1.49,2,131,19.433,-29.383,1514.8,1499.7,1500.2
316N20111106,  GT11,22,5,3253,7960,23,   GF-2,2,    2,2,20111207,2332,19.433,-29.383,5023,1514.8,1500.2,4.7051,35.0398,2,35.0409,2,35.2062,2,207.3,3,-999,9,19.81,2,22.45,2,0,2,1.48,2,131,19.433,-29.383,1514.8,1499.7,1500.2
316N20111106,  GT11,22,5,3253,7961,22,   GF-3,2,    3,2,20111207,2332,19.433,-29.383,5023,1819.8,1800.9,4.0219,35.0108,2,35.0138,2,35.1789,2,228.4,3,-999,9,21.47,2,21.08,2,0,2,1.41,2,121,19.433,-29.383,1819.8,1800.5,1800.9
316N20111106,  GT11,22,5,3253,7962,21,   GF-4,2,    4,2,20111207,2332,19.433,-29.383,5023,1819.8,1800.9,4.0219,35.0108,2,35.0116,2,35.1767,2,228.4,3,-999,9,21.37,2,21.09,2,0,2,1.41,2,121,19.433,-29.383,1819.8,1800.5,1800.9
316N20111106,  GT11,22,5,3253,7963,20,   GF-5,2,    5,2,20111207,2332,19.433,-29.383,5023,2124,2100.4,3.5507,34.9884,2,34.9917,2,35.1567,2,236.9,3,-999,9,24.4,2,20.54,2,0,2,1.39,2,111,19.433,-29.383,2124,2100.1,2100.4
316N20111106,  GT11,22,5,3253,7964,19,   GF-6,2,    6,2,20111207,2332,19.433,-29.383,5023,2124,2100.4,3.5507,34.9884,2,34.9915,2,35.1565,2,236.9,3,-999,9,24.4,2,20.56,2,0,2,1.4,2,111,19.433,-29.383,2124,2100.1,2100.4
316N20111106,  GT11,22,5,3253,7965,18,   GF-7,2,    7,2,20111207,2332,19.433,-29.383,5023,2429.1,2400.5,3.2061,34.9694,2,34.9711,2,35.136,2,239.1,3,-999,9,28.5,2,20.6,2,0,2,1.4,2,101,19.433,-29.383,2429.1,2400.2,2400.5
316N20111106,  GT11,22,5,3253,7966,17,   GF-8,2,    8,2,20111207,2332,19.433,-29.383,5023,2429.1,2400.5,3.2061,34.9694,2,34.9719,2,35.1368,2,239.1,3,-999,9,28.4,2,20.61,2,0,2,1.4,2,101,19.433,-29.383,2429.1,2400.2,2400.5
316N20111106,  GT11,22,5,3253,7967,16,  GF-10,2,   10,2,20111207,2332,19.433,-29.383,5023,2734.4,2700.2,2.9373,34.9509,2,34.9524,2,35.1172,2,240.3,3,-999,9,32.59,2,20.72,2,0,2,1.41,2,52,19.433,-29.383,2734.4,2700,2700.2
316N20111106,  GT11,22,5,3253,7968,15,  GF-11,2,   11,2,20111207,2332,19.433,-29.383,5023,2734.4,2700.2,2.9373,34.9509,2,34.9526,2,35.1174,2,240.3,3,-999,9,32.59,2,20.72,2,0,2,1.41,2,52,19.433,-29.383,2734.4,2700,2700.2
316N20111106,  GT11,22,5,3253,7969,14,  GF-13,2,   13,2,20111207,2332,19.433,-29.383,5023,3040.7,3000.6,2.6953,34.9305,2,34.9329,2,35.0976,2,241,3,-999,9,36.6,2,20.98,2,0,2,1.43,2,41,19.433,-29.383,3040.7,3000.3,3000.6
316N20111106,  GT11,22,5,3253,7970,13,  GF-16,2,   16,2,20111207,2332,19.433,-29.383,5023,3040.7,3000.6,2.6953,34.9305,2,34.9337,2,35.0984,2,241,3,-999,9,36.69,2,20.99,2,0,2,1.43,2,41,19.433,-29.383,3040.7,3000.3,3000.6
316N20111106,  GT11,22,5,3253,7971,12,  GF-18,2,   18,2,20111207,2332,19.433,-29.383,5023,3346.8,3300.3,2.52,34.9131,2,34.9154,2,35.08,2,240.7,3,-999,9,40.69,2,21.35,2,0,2,1.45,2,32,19.433,-29.383,3346.8,3300.1,3300.3
316N20111106,  GT11,22,5,3253,7972,11,  GF-19,2,   19,2,20111207,2332,19.433,-29.383,5023,3346.8,3300.3,2.52,34.9131,2,34.9162,2,35.0808,2,240.7,3,-999,9,40.69,2,21.36,2,0,2,1.45,2,32,19.433,-29.383,3346.8,3300.1,3300.3
316N20111106,  GT11,22,5,3253,7973,10,  GF-21,2,   21,2,20111207,2332,19.433,-29.383,5023,3652.7,3599.4,2.4102,34.9001,2,34.9028,2,35.0674,2,242.1,3,-999,9,43.43,2,21.58,2,0,2,1.47,2,24,19.433,-29.3831,3652.7,3599.2,3599.4
316N20111106,  GT11,22,5,3253,7974,9,  GF-24,2,    24,2,20111207,2332,19.433,-29.383,5023,3652.7,3599.4,2.4102,34.9001,2,34.9032,2,35.0678,2,242.1,3,-999,9,43.33,2,21.58,2,0,2,1.47,2,24,19.433,-29.3831,3652.7,3599.2,3599.4
316N20111106,  GT11,22,5,3253,7975,8,  GF-26,2,    26,2,20111207,2332,19.433,-29.383,5023,3960.4,3899.9,2.3548,34.8909,2,34.893,2,35.0575,2,242.6,3,-999,9,45.48,2,21.78,2,0,2,1.48,2,13,19.433,-29.383,3960.4,3899.7,3899.9
316N20111106,  GT11,22,5,3253,7976,7,  GF-28,2,    28,2,20111207,2332,19.433,-29.383,5023,3960.4,3899.9,2.3548,34.8909,2,34.8934,2,35.0579,2,242.6,3,-999,9,45.38,2,21.78,2,0,2,1.48,2,13,19.433,-29.383,3960.4,3899.7,3899.9
316N20111106,  GT11,22,5,3253,7977,6,  GF-29,2,    29,2,20111207,2332,19.433,-29.383,5023,4268.4,4200.3,2.3513,34.8866,2,34.889,2,35.0535,2,242.8,3,-999,9,46.16,2,21.83,2,0,2,1.49,2,3,19.433,-29.3831,4268.4,4200,4200.3
316N20111106,  GT11,22,5,3253,7978,5,  GF-30,2,    30,2,20111207,2332,19.433,-29.383,5023,4268.4,4200.3,2.3513,34.8866,2,34.8898,2,35.0543,2,242.8,3,-999,9,46.16,2,21.85,2,0,2,1.49,2,3,19.433,-29.3831,4268.4,4200,4200.3
316N20111106,  GT11,22,5,3253,7979,4,  GF-31,2,    31,2,20111207,2332,19.433,-29.383,5023,4679.7,4600.8,2.3822,34.8843,2,34.8882,2,35.0528,2,243,3,-999,9,46.65,2,21.9,2,0,2,1.49,2,2348,19.433,-29.383,4679.7,4600.4,4600.8
316N20111106,  GT11,22,5,3253,7980,3,  GF-33,2,    33,2,20111207,2332,19.433,-29.383,5023,4679.7,4600.8,2.3822,34.8843,2,34.889,2,35.0535,2,243,3,-999,9,46.65,2,21.88,2,0,2,1.49,2,2348,19.433,-29.383,4679.7,4600.4,4600.8
316N20111106,  GT11,22,5,3253,7981,2,  GF-12,2,    12,2,20111207,2332,19.433,-29.383,5023,5076,4986,2.4269,34.8831,2,34.8863,2,35.0508,2,242.7,3,-999,9,46.84,2,21.92,2,0,2,1.49,2,2335,19.433,-29.383,5076,4985.5,4986
316N20111106,  GT11,22,5,3253,7982,1,  GF-36,2,    36,2,20111207,2332,19.433,-29.383,5023,5076,4986,2.4269,34.8831,2,34.8871,2,35.0516,2,242.7,3,-999,9,46.94,2,21.92,2,0,2,1.5,2,2335,19.433,-29.383,5076,4985.5,4986