BOTTLE,20170120CCHSIORJL
# Change GEOTRC_EVENTNO to GEOTR_EVENT
# Change GEOTRC_SAMPNO to GEOTR_SAMPNO
# Change BTMDEPTH to DEPTH
# Change DEPTH units from CORR.M to METERS
# Change CTDPRS units from DBARS to DBAR
# This GEOTRACES bottle data is from GO-FLO bottle.
#
# SHIP: R/V KNORR
# Cruise: GT11; GEOTRACES 2011
# EXPOCODE: 316N20111106
# DATES:  20111106 - 20111211
# Chief Scientist: E.Boyle & G.Cutter
# 22 stations multiple casts per station
#
# BOTTLE,20141030ODU
# S-M_DEPTH IS SAUNDERS-MANTYLA DEPTH (INTEGRATED; USES DYNAMIC HEIGHT)
# F-M_DEPTH IS FOFONOFF-MILLARD DEPTH (NON-INTEGRATED; ALSO USED BY SBE)
# CTDDEPTH REPORTED HERE IS NON-INTEGRATED FOFONOFF-MILLARD DEPTH
EXPOCODE,SECT_ID,STNNBR,CASTNO,GEOTR_EVENT,GEOTR_SAMPNO,SAMPNO,BTLNBR,BTLNBR_FLAG_W,BTLNBR_U,BTLNBR_U_FLAG_W,DATE,TIME,LATITUDE,LONGITUDE,BTMDEPTH,CTDPRS,CTDDEPTH,CTDTMP,CTDSAL,CTDSAL_FLAG_W,SALNTY,SALNTY_FLAG_W,SALTREF,SALTREF_FLAG_W,CTDOXY,CTDOXY_FLAG_W,OXYGEN,OXYGEN_FLAG_W,SILCAT,SILCAT_FLAG_W,NITRAT,NITRAT_FLAG_W,NITRIT,NITRIT_FLAG_W,PHSPHT,PHSPHT_FLAG_W,BTL_TIME,BTL_LAT,BTL_LON,ODF_CTDPRS,SMDEPTH,FMDEPTH
,,,,,,,,,,,,,,,METERS,DBAR,METERS,ITS-90,PSS-78,,PSS-78,,G/KG,,UMOL/KG,,UMOL/KG,,UMOL/KG,,UMOL/KG,,UMOL/KG,,UMOL/KG,,,,,DBARS,METERS,METERS
316N20111106,  GT11,1,1,3005,6135,24,   GF-1,2,   1,2,20111107,345,39.7007,-69.8029,2076,606,600.5,5.3728,35.0193,2,35.0227,2,35.1878,2,230.3,3,-999,9,12.12,2,19.15,2,0,2,2.14,4,441,39.7023,-69.8128,606,600.3,600.5
316N20111106,  GT11,1,1,3005,6134,23,   GF-2,2,   2,2,20111107,345,39.7007,-69.8029,2076,606,600.5,5.3728,35.0193,2,35.0227,2,35.1878,2,230.3,3,-999,9,12.02,2,19.12,2,0,2,1.72,4,441,39.7023,-69.8128,606,600.3,600.5
316N20111106,  GT11,1,1,3005,6133,22,   GF-3,2,   3,2,20111107,345,39.7007,-69.8029,2076,672.4,666.2,4.9807,34.9895,2,34.9942,2,35.1592,2,242.6,3,-999,9,11.43,2,18.3,2,0,2,1.39,2,438,39.7022,-69.8123,672.4,666,666.2
316N20111106,  GT11,1,1,3005,6132,21,   GF-4,2,   4,2,20111107,345,39.7007,-69.8029,2076,672.4,666.2,4.9807,34.9895,2,34.993,3,35.158,3,242.6,3,-999,9,11.43,2,18.27,2,0,2,1.32,2,438,39.7022,-69.8123,672.4,666,666.2
316N20111106,  GT11,1,1,3005,6131,20,   GF-5,2,   5,2,20111107,345,39.7007,-69.8029,2076,834.3,826.3,4.5433,34.959,2,34.9625,2,35.1274,2,260.3,3,-999,9,10.65,2,17.38,2,0,2,1.16,2,433,39.7022,-69.8113,834.3,826.1,826.3
316N20111106,  GT11,1,1,3005,6130,19,   GF-6,2,   6,2,20111107,345,39.7007,-69.8029,2076,834.3,826.3,4.5433,34.959,2,34.9618,2,35.1266,2,260.3,3,-999,9,10.55,2,17.38,2,0,2,1.11,2,433,39.7022,-69.8113,834.3,826.1,826.3
316N20111106,  GT11,1,1,3005,6129,18,   GF-7,2,   7,2,20111107,345,39.7007,-69.8029,2076,976.1,966.4,4.4551,34.9659,2,34.9701,2,35.135,2,261.1,3,-999,9,11.04,2,17.45,2,0,2,1.13,2,429,39.7021,-69.8105,976.1,966.3,966.4
316N20111106,  GT11,1,1,3005,6128,17,   GF-8,2,   8,2,20111107,345,39.7007,-69.8029,2076,976.1,966.4,4.4551,34.9659,2,34.9681,2,35.133,2,261.1,3,-999,9,10.94,2,17.44,2,0,2,1.17,2,429,39.7021,-69.8105,976.1,966.3,966.4
316N20111106,  GT11,1,1,3005,6127,16,  GF-10,2,  10,2,20111107,345,39.7007,-69.8029,2076,1087.5,1076.4,4.4627,34.9814,2,34.9853,2,35.1503,2,257.1,3,-999,9,11.53,2,17.73,2,0,2,1.19,2,424,39.7021,-69.8095,1087.5,1076.3,1076.4
316N20111106,  GT11,1,1,3005,6126,15,  GF-11,2,  11,2,20111107,345,39.7007,-69.8029,2076,1087.5,1076.4,4.4627,34.9814,2,34.9839,2,35.1489,2,257.1,3,-999,9,11.43,2,17.7,2,0,2,1.16,2,424,39.7021,-69.8095,1087.5,1076.3,1076.4
316N20111106,  GT11,1,1,3005,6125,14,  GF-13,2,  13,2,20111107,345,39.7007,-69.8029,2076,1214.2,1201.4,4.2826,34.9753,2,34.9788,2,35.1438,2,259.2,3,-999,9,11.63,2,17.64,2,0,2,1.14,2,420,39.7022,-69.8085,1214.2,1201.3,1201.4
316N20111106,  GT11,1,1,3005,6124,13,  GF-16,2,  16,2,20111107,345,39.7007,-69.8029,2076,1214.2,1201.4,4.2826,34.9753,2,34.9779,2,35.1428,2,259.2,3,-999,9,11.73,2,17.66,2,0,2,1.14,2,420,39.7022,-69.8085,1214.2,1201.3,1201.4
316N20111106,  GT11,1,1,3005,6123,12,  GF-18,2,  18,2,20111107,345,39.7007,-69.8029,2076,1366.4,1351.6,4.0806,34.9578,2,34.9617,2,35.1266,2,262.5,3,-999,9,11.63,2,17.4,2,0,2,1.12,2,416,39.702,-69.8075,1366.4,1351.5,1351.6
316N20111106,  GT11,1,1,3005,6122,11,  GF-19,2,  19,2,20111107,345,39.7007,-69.8029,2076,1366.4,1351.6,4.0806,34.9578,2,34.961,2,35.1258,2,262.5,3,-999,9,11.73,2,17.47,2,0,2,1.1,2,416,39.702,-69.8075,1366.4,1351.5,1351.6
316N20111106,  GT11,1,1,3005,6121,10,  GF-21,2,  21,2,20111107,345,39.7007,-69.8029,2076,1518.7,1501.7,3.9277,34.9507,2,34.9547,2,35.1195,2,264.1,3,-999,9,12.22,2,17.33,2,0,2,1.11,2,411,39.7017,-69.8065,1518.7,1501.7,1501.7
316N20111106,  GT11,1,1,3005,6120,9,  GF-24,2,   24,2,20111107,345,39.7007,-69.8029,2076,1518.7,1501.7,3.9277,34.9507,2,34.9539,2,35.1187,2,264.1,3,-999,9,12.22,2,17.32,2,0,2,1.11,2,411,39.7017,-69.8065,1518.7,1501.7,1501.7
316N20111106,  GT11,1,1,3005,6119,8,  GF-25,2,   25,2,20111107,345,39.7007,-69.8029,2076,1671.2,1651.8,3.8689,34.9494,2,34.9526,2,35.1174,2,265.2,3,-999,9,12.41,2,17.36,2,0,2,1.12,2,404,39.7013,-69.8051,1671.2,1651.8,1651.8
316N20111106,  GT11,1,1,3005,6118,7,  GF-26,2,   26,2,20111107,345,39.7007,-69.8029,2076,1671.2,1651.8,3.8689,34.9494,2,34.9536,2,35.1184,2,265.2,3,-999,9,12.51,2,17.34,2,0,2,1.12,2,404,39.7013,-69.8051,1671.2,1651.8,1651.8
316N20111106,  GT11,1,1,3005,6117,6,  GF-28,2,   28,2,20111107,345,39.7007,-69.8029,2076,1822.3,1800.6,3.7868,34.9483,2,34.9522,2,35.117,2,266.2,3,-999,9,12.9,2,17.37,2,0,2,1.12,2,357,39.701,-69.8041,1822.3,1800.6,1800.6
316N20111106,  GT11,1,1,3005,6116,5,  GF-29,2,   29,2,20111107,345,39.7007,-69.8029,2076,1822.3,1800.6,3.7868,34.9483,2,34.9583,3,35.1232,3,266.2,3,-999,9,12.61,2,17.37,2,0,2,1.12,2,357,39.701,-69.8041,1822.3,1800.6,1800.6
316N20111106,  GT11,1,1,3005,6115,4,  GF-30,2,   30,2,20111107,345,39.7007,-69.8029,2076,2026.2,2001,3.6393,34.9436,2,34.9473,2,35.1121,2,266.6,3,-999,9,13.49,2,17.37,2,0,2,1.13,2,351,39.7008,-69.8036,2026.2,2001.1,2001
316N20111106,  GT11,1,1,3005,6114,3,  GF-31,2,   31,2,20111107,345,39.7007,-69.8029,2076,2026.2,2001,3.6393,34.9436,2,34.9479,2,35.1127,2,266.6,3,-999,9,13.49,2,17.36,2,0,2,1.12,2,351,39.7008,-69.8036,2026.2,2001.1,2001
316N20111106,  GT11,1,1,3005,6113,2,  GF-34,2,   34,2,20111107,345,39.7007,-69.8029,2076,2077.1,2051.1,3.5742,34.9423,2,34.9466,2,35.1114,2,267.1,3,-999,9,13.97,2,17.35,2,0,2,1.13,2,348,39.7007,-69.8032,2077.1,2051.2,2051.1
316N20111106,  GT11,1,1,3005,6112,1,  GF-36,2,   36,2,20111107,345,39.7007,-69.8029,2076,2077.1,2051.1,3.5742,34.9423,2,34.9468,2,35.1116,2,267.1,3,-999,9,13.68,2,17.44,2,0.01,2,1.14,2,348,39.7007,-69.8032,2077.1,2051.2,2051.1
316N20111106,  GT11,1,5,3010,6168,24,   GF-1,2,   1,2,20111107,1928,39.6859,-69.813,2114,30.7,30.5,19.5685,35.0817,2,35.0827,2,35.2481,2,225.8,3,-999,9,0.68,2,0.69,2,0.1,2,0.06,2,2003,39.684,-69.8139,30.7,30.5,30.5
316N20111106,  GT11,1,5,3010,6169,23,   GF-2,2,   2,2,20111107,1928,39.6859,-69.813,2114,30.7,30.5,19.5685,35.0817,2,35.0823,2,35.2477,2,225.8,3,-999,9,0.88,2,0.58,2,0.1,2,0.07,2,2003,39.684,-69.8139,30.7,30.5,30.5
316N20111106,  GT11,1,5,3010,6170,22,   GF-3,2,   3,2,20111107,1928,39.6859,-69.813,2114,59.8,59.4,19.4227,35.1037,2,35.1983,3,35.3643,3,226.3,3,-999,9,1.37,2,2,2,0.12,2,0.15,2,2000,39.6842,-69.814,59.8,59.4,59.4
316N20111106,  GT11,1,5,3010,6171,21,   GF-4,2,   4,2,20111107,1928,39.6859,-69.813,2114,59.8,59.4,19.4227,35.1037,2,35.2009,3,35.3669,3,226.3,3,-999,9,1.47,2,2.02,2,0.13,2,0.17,2,2000,39.6842,-69.814,59.8,59.4,59.4
316N20111106,  GT11,1,5,3010,6172,20,   GF-5,2,   5,2,20111107,1928,39.6859,-69.813,2114,91.2,90.5,16.7325,36.0962,2,36.0921,2,36.2623,2,147.2,3,-999,9,4.3,2,11.49,2,0.01,2,0.67,2,1956,39.6844,-69.8139,91.2,90.6,90.5
316N20111106,  GT11,1,5,3010,6173,19,   GF-6,2,   6,2,20111107,1928,39.6859,-69.813,2114,91.2,90.5,16.7325,36.0962,2,36.0902,2,36.2604,2,147.2,3,-999,9,4.49,2,11.57,2,0.01,2,0.68,2,1956,39.6844,-69.8139,91.2,90.6,90.5
316N20111106,  GT11,1,5,3010,6174,18,   GF-7,2,   7,2,20111107,1928,39.6859,-69.813,2114,111.8,110.9,15.2208,35.977,2,35.9727,2,36.1424,2,143.6,3,-999,9,5.76,2,14.93,2,0,2,0.9,2,1954,39.6845,-69.8138,111.8,111.1,110.9
316N20111106,  GT11,1,5,3010,6175,17,   GF-8,2,   8,2,20111107,1928,39.6859,-69.813,2114,111.8,110.9,15.2208,35.977,2,35.9728,2,36.1424,2,143.6,3,-999,9,5.76,2,14.93,2,0,2,0.9,2,1954,39.6845,-69.8138,111.8,111.1,110.9
316N20111106,  GT11,1,5,3010,6176,16,  GF-10,2,  10,2,20111107,1928,39.6859,-69.813,2114,136.7,135.6,14.2328,35.8354,2,35.824,2,35.9929,2,146.6,3,-999,9,6.54,2,16.03,2,0,2,1.01,2,1953,39.6846,-69.8137,136.7,135.8,135.6
316N20111106,  GT11,1,5,3010,6177,15,  GF-11,2,  11,2,20111107,1928,39.6859,-69.813,2114,136.7,135.6,14.2328,35.8354,2,35.8264,2,35.9953,2,146.6,3,-999,9,6.54,2,15.99,2,0,2,1,2,1953,39.6846,-69.8137,136.7,135.8,135.6
316N20111106,  GT11,1,5,3010,6178,14,  GF-13,2,  13,2,20111107,1928,39.6859,-69.813,2114,187.5,186,11.4195,35.4429,2,35.4453,2,35.6124,2,132,3,-999,9,11.04,2,21.86,2,0,2,1.39,2,1950,39.6847,-69.8135,187.5,186.2,186
316N20111106,  GT11,1,5,3010,6179,13,  GF-16,2,  16,2,20111107,1928,39.6859,-69.813,2114,187.5,186,11.4195,35.4429,2,35.4453,2,35.6124,2,132,3,-999,9,11.04,2,21.75,2,0,2,1.39,2,1950,39.6847,-69.8135,187.5,186.2,186
316N20111106,  GT11,1,5,3010,6180,12,  GF-18,2,  18,2,20111107,1928,39.6859,-69.813,2114,238.1,236.2,10.8975,35.4036,2,35.4043,2,35.5713,2,146.9,3,-999,9,10.75,2,21.31,2,0,2,1.36,2,1948,39.6849,-69.8132,238.1,236.4,236.2
316N20111106,  GT11,1,5,3010,6181,11,  GF-19,2,  19,2,20111107,1928,39.6859,-69.813,2114,238.1,236.2,10.8975,35.4036,2,35.4047,2,35.5717,2,146.9,3,-999,9,10.65,2,21.42,2,0,2,1.33,2,1948,39.6849,-69.8132,238.1,236.4,236.2
316N20111106,  GT11,1,5,3010,6182,10,  GF-21,2,  21,2,20111107,1928,39.6859,-69.813,2114,288.2,285.8,9.5693,35.2351,2,35.237,2,35.4032,2,143.7,3,-999,9,13.58,2,24.05,2,0,2,1.52,2,1942,39.6852,-69.8129,288.2,286.1,285.8
316N20111106,  GT11,1,5,3010,6183,9,  GF-24,2,   24,2,20111107,1928,39.6859,-69.813,2114,288.2,285.8,9.5693,35.2351,2,35.2373,2,35.4034,2,143.7,3,-999,9,13.58,2,24.01,2,0,2,1.52,2,1942,39.6852,-69.8129,288.2,286.1,285.8
316N20111106,  GT11,1,5,3010,6184,8,  GF-25,2,   25,2,20111107,1928,39.6859,-69.813,2114,328.4,325.6,9.0116,35.1869,2,35.1803,2,35.3462,2,143.9,3,-999,9,14.36,2,24.43,2,0,2,1.56,2,1940,39.6853,-69.8135,328.4,325.9,325.6
316N20111106,  GT11,1,5,3010,6185,7,  GF-26,2,   26,2,20111107,1928,39.6859,-69.813,2114,328.4,325.6,9.0116,35.1869,2,35.1806,2,35.3465,2,143.9,3,-999,9,14.36,2,24.49,2,0,2,1.56,2,1940,39.6853,-69.8135,328.4,325.9,325.6
316N20111106,  GT11,1,5,3010,6186,6,  GF-28,2,   28,2,20111107,1928,39.6859,-69.813,2114,424.3,420.6,7.1437,35.0958,2,35.0979,2,35.2634,2,175.8,3,-999,9,13.88,2,22.43,2,0,2,1.47,2,1938,39.6855,-69.8139,424.3,421,420.6
316N20111106,  GT11,1,5,3010,6187,5,  GF-29,2,   29,2,20111107,1928,39.6859,-69.813,2114,424.3,420.6,7.1437,35.0958,2,35.0983,2,35.2638,2,175.8,3,-999,9,13.97,2,22.42,2,0,2,1.47,2,1938,39.6855,-69.8139,424.3,421,420.6
316N20111106,  GT11,1,5,3010,6188,4,  GF-30,2,   30,2,20111107,1928,39.6859,-69.813,2114,479.7,475.5,6.4865,35.0647,2,35.0684,2,35.2338,2,192.6,3,-999,9,13.48,2,21.4,2,0,2,1.41,2,1935,39.6857,-69.8142,479.7,475.9,475.5
316N20111106,  GT11,1,5,3010,6189,3,  GF-31,2,   31,2,20111107,1928,39.6859,-69.813,2114,479.7,475.5,6.4865,35.0647,2,35.0684,2,35.2338,2,192.6,3,-999,9,13.48,2,21.34,2,0,2,1.39,2,1935,39.6857,-69.8142,479.7,475.9,475.5
316N20111106,  GT11,1,5,3010,6190,2,  GF-34,2,   34,2,20111107,1928,39.6859,-69.813,2114,530.9,526.2,6.052,35.0512,2,35.0541,2,35.2194,2,208.5,3,-999,9,13,2,20.4,2,0,2,1.33,2,1931,39.6859,-69.814,530.9,526.6,526.2
316N20111106,  GT11,1,5,3010,6191,1,  GF-36,2,   36,2,20111107,1928,39.6859,-69.813,2114,530.9,526.2,6.052,35.0512,2,35.0545,2,35.2198,2,208.5,3,-999,9,13.09,2,20.55,2,0,2,1.34,2,1931,39.6859,-69.814,530.9,526.6,526.2
316N20111106,  GT11,2,1,3018,6251,24,   GF-1,2,   1,2,20111108,2035,39.3494,-69.5421,2492,606.7,601.2,5.0945,35.0212,2,35.024,2,35.1892,2,233.5,3,-999,9,11.9,2,18.77,2,0,2,1.23,2,2136,39.3481,-69.5435,606.7,601,601.2
316N20111106,  GT11,2,1,3018,6252,23,   GF-2,2,   2,2,20111108,2035,39.3494,-69.5421,2492,606.7,601.2,5.0945,35.0212,2,35.0226,2,35.1878,2,233.5,3,-999,9,11.91,2,18.67,2,0,2,1.22,2,2136,39.3481,-69.5435,606.7,601,601.2
316N20111106,  GT11,2,1,3018,6253,22,   GF-3,2,   3,2,20111108,2035,39.3494,-69.5421,2492,672.4,666.2,4.8943,35.0113,2,35.0144,2,35.1795,2,240.8,3,-999,9,11.61,2,18.4,2,0,2,1.22,2,2132,39.3484,-69.5435,672.4,666,666.2
316N20111106,  GT11,2,1,3018,6254,21,   GF-4,2,   4,2,20111108,2035,39.3494,-69.5421,2492,672.4,666.2,4.8943,35.0113,2,35.0134,2,35.1785,2,240.8,3,-999,9,11.71,2,18.39,2,0,2,1.22,2,2132,39.3484,-69.5435,672.4,666,666.2
316N20111106,  GT11,2,1,3018,6255,20,   GF-5,2,   5,2,20111108,2035,39.3494,-69.5421,2492,834.2,826.2,4.532,34.9951,2,34.9967,2,35.1617,2,251.9,3,-999,9,11.32,2,17.92,2,0,2,1.18,2,2125,39.3486,-69.5433,834.2,826,826.2
316N20111106,  GT11,2,1,3018,6256,19,   GF-6,2,   6,2,20111108,2035,39.3494,-69.5421,2492,834.2,826.2,4.532,34.9951,2,34.9965,2,35.1615,2,251.9,3,-999,9,11.42,2,17.83,2,0,2,1.19,2,2125,39.3486,-69.5433,834.2,826,826.2
316N20111106,  GT11,2,1,3018,6257,18,   GF-7,2,   7,2,20111108,2035,39.3494,-69.5421,2492,975.9,966.2,4.2199,34.97,2,34.9719,2,35.1368,2,260,3,-999,9,11.32,2,17.61,2,0,2,1.16,2,2121,39.3487,-69.5431,975.9,966,966.2
316N20111106,  GT11,2,1,3018,6258,17,   GF-8,2,   8,2,20111108,2035,39.3494,-69.5421,2492,975.9,966.2,4.2199,34.97,2,34.9721,2,35.137,2,260,3,-999,9,11.32,2,17.6,2,0,2,1.17,2,2121,39.3487,-69.5431,975.9,966,966.2
316N20111106,  GT11,2,1,3018,6259,16,  GF-10,2,  10,2,20111108,2035,39.3494,-69.5421,2492,1214,1201.3,3.9897,34.9623,2,34.9641,2,35.1289,2,261.9,3,-999,9,11.81,2,17.5,2,0,2,1.16,2,2114,39.3482,-69.5422,1214,1201.2,1201.3
316N20111106,  GT11,2,1,3018,6260,15,  GF-11,2,  11,2,20111108,2035,39.3494,-69.5421,2492,1214,1201.3,3.9897,34.9623,2,34.9633,2,35.1281,2,261.9,3,-999,9,11.81,2,17.57,2,0,2,1.17,2,2114,39.3482,-69.5422,1214,1201.2,1201.3
316N20111106,  GT11,2,1,3018,6261,14,  GF-13,2,  13,2,20111108,2035,39.3494,-69.5421,2492,1366.2,1351.4,3.8756,34.9572,2,34.959,2,35.1238,2,263.2,3,-999,9,12.1,2,17.44,2,0,2,1.17,2,2107,39.3479,-69.5416,1366.2,1351.3,1351.4
316N20111106,  GT11,2,1,3018,6262,13,  GF-16,2,  16,2,20111108,2035,39.3494,-69.5421,2492,1366.2,1351.4,3.8756,34.9572,2,34.9594,2,35.1242,2,263.2,3,-999,9,12,2,17.47,2,0,2,1.17,2,2107,39.3479,-69.5416,1366.2,1351.3,1351.4
316N20111106,  GT11,2,1,3018,6263,12,  GF-18,2,  18,2,20111108,2035,39.3494,-69.5421,2492,1518.5,1501.4,3.7123,34.9502,2,34.9525,2,35.1173,2,265.4,3,-999,9,12.59,2,17.46,2,0,2,1.17,2,2103,39.3482,-69.5416,1518.5,1501.4,1501.4
316N20111106,  GT11,2,1,3018,6264,11,  GF-19,2,  19,2,20111108,2035,39.3494,-69.5421,2492,1518.5,1501.4,3.7123,34.9502,2,34.9523,2,35.1171,2,265.4,3,-999,9,12.69,2,17.48,2,0,2,1.17,2,2103,39.3482,-69.5416,1518.5,1501.4,1501.4
316N20111106,  GT11,2,1,3018,6265,10,  GF-21,2,  21,2,20111108,2035,39.3494,-69.5421,2492,1669.9,1650.6,3.5803,34.9481,2,34.9503,2,35.1151,2,266.5,3,-999,9,13.37,2,17.47,2,0,2,1.18,2,2059,39.3485,-69.5417,1669.9,1650.6,1650.6
316N20111106,  GT11,2,1,3018,6266,9,  GF-24,2,   24,2,20111108,2035,39.3494,-69.5421,2492,1669.9,1650.6,3.5803,34.9481,2,34.9499,2,35.1147,2,266.5,3,-999,9,13.47,2,17.48,2,0,2,1.18,2,2059,39.3485,-69.5417,1669.9,1650.6,1650.6
316N20111106,  GT11,2,1,3018,6267,8,  GF-25,2,   25,2,20111108,2035,39.3494,-69.5421,2492,1822.6,1800.9,3.4708,34.9451,2,34.9476,2,35.1124,2,267.2,3,-999,9,14.15,2,17.49,2,0,2,1.19,2,2054,39.3487,-69.5417,1822.6,1800.9,1800.9
316N20111106,  GT11,2,1,3018,6268,7,  GF-26,2,   26,2,20111108,2035,39.3494,-69.5421,2492,1822.6,1800.9,3.4708,34.9451,2,34.9472,2,35.112,2,267.2,3,-999,9,14.15,2,17.54,2,0,2,1.18,2,2054,39.3487,-69.5417,1822.6,1800.9,1800.9
316N20111106,  GT11,2,1,3018,6269,6,  GF-28,2,   28,2,20111108,2035,39.3494,-69.5421,2492,2026.9,2001.8,3.3291,34.944,2,34.9476,2,35.1124,2,266.7,3,-999,9,15.52,2,17.54,2,0,2,1.18,2,2049,39.3489,-69.5418,2026.9,2001.8,2001.8
316N20111106,  GT11,2,1,3018,6270,5,  GF-29,2,   29,2,20111108,2035,39.3494,-69.5421,2492,2026.9,2001.8,3.3291,34.944,2,34.9462,3,35.111,3,266.7,3,-999,9,15.52,2,17.54,2,0,2,1.19,2,2049,39.3489,-69.5418,2026.9,2001.8,2001.8
316N20111106,  GT11,2,1,3018,6271,4,  GF-30,2,   30,2,20111108,2035,39.3494,-69.5421,2492,2229.7,2201.1,3.1949,34.9405,2,34.9433,2,35.1081,2,266.3,3,-999,9,16.59,2,17.56,2,0,2,1.2,2,2044,39.3491,-69.5419,2229.7,2201.2,2201.1
316N20111106,  GT11,2,1,3018,6272,3,  GF-31,2,   31,2,20111108,2035,39.3494,-69.5421,2492,2229.7,2201.1,3.1949,34.9405,2,34.9431,2,35.1079,2,266.3,3,-999,9,16.49,2,17.57,2,0,2,1.19,2,2044,39.3491,-69.5419,2229.7,2201.2,2201.1
316N20111106,  GT11,2,1,3018,6273,2,  GF-34,3,   34,3,20111108,2035,39.3494,-69.5421,2492,2495.1,2461.5,2.9084,34.9232,2,34.9266,2,35.0913,2,270.5,3,-999,9,16.98,2,17.06,2,0,2,1.17,2,2037,39.3494,-69.542,2495.1,2461.7,2461.5
316N20111106,  GT11,2,1,3018,6274,1,  GF-36,2,   36,2,20111108,2035,39.3494,-69.5421,2492,2495.1,2461.5,2.9084,34.9232,2,34.9256,2,35.0903,2,270.5,3,-999,9,17.08,2,17.09,2,0,2,1.17,2,2037,39.3494,-69.542,2495.1,2461.7,2461.5