BOTTLE,20170120CCHSIORJL
EXPOCODE,SECT_ID,STNNBR,CASTNO,GEOTR_EVENT,GEOTR_SAMPNO,SAMPNO,BTLNBR,BTLNBR_FLAG_W,BTLNBR_U,BTLNBR_U_FLAG_W,DATE,TIME,LATITUDE,LONGITUDE,BTMDEPTH,CTDPRS,CTDDEPTH,CTDTMP,CTDSAL,CTDSAL_FLAG_W,SALNTY,SALNTY_FLAG_W,SALTREF,SALTREF_FLAG_W,CTDOXY,CTDOXY_FLAG_W,OXYGEN,OXYGEN_FLAG_W,SILCAT,SILCAT_FLAG_W,NITRAT,NITRAT_FLAG_W,NITRIT,NITRIT_FLAG_W,PHSPHT,PHSPHT_FLAG_W,BTL_TIME,BTL_LAT,BTL_LON,ODF_CTDPRS,SMDEPTH,FMDEPTH
,,,,,,,,,,,,,,,METERS,DBAR,METERS,ITS-90,PSS-78,,PSS-78,,G/KG,,UMOL/KG,,UMOL/KG,,UMOL/KG,,UMOL/KG,,UMOL/KG,,UMOL/KG,,,,,DBARS,METERS,METERS
316N20111106,  GT11,10,1,3078,6789,24,   GF-1,2,   1,2,20111119,1844,31.7521,-64.172,4701,41.4,41.1,24.13,36.587,2,36.5906,2,36.7631,2,208.6,3,-999,9,0.29,2,0,2,0,2,0.03,2,1925,31.7532,-64.1746,41.4,41.1,41.1
316N20111106,  GT11,10,1,3078,6790,23,   GF-2,2,   2,2,20111119,1844,31.7521,-64.172,4701,41.4,41.1,24.13,36.587,2,36.5904,2,36.7629,2,208.6,3,-999,9,0.29,2,0,2,0,2,0.02,2,1925,31.7532,-64.1746,41.4,41.1,41.1
316N20111106,  GT11,10,1,3078,6791,22,   GF-3,2,   3,2,20111119,1844,31.7521,-64.172,4701,66.7,66.2,24.1489,36.6295,2,36.6318,2,36.8045,2,208.8,3,-999,9,0.19,2,0,2,0,2,0.02,2,1921,31.7531,-64.1744,66.7,66.2,66.2
316N20111106,  GT11,10,1,3078,6792,21,   GF-4,2,   4,2,20111119,1844,31.7521,-64.172,4701,66.7,66.2,24.1489,36.6295,2,36.6322,2,36.8049,2,208.8,3,-999,9,0.19,2,0,2,0,2,0.02,2,1921,31.7531,-64.1744,66.7,66.2,66.2
316N20111106,  GT11,10,1,3078,6793,20,   GF-5,2,   5,2,20111119,1844,31.7521,-64.172,4701,85,84.4,24.0954,36.6681,2,36.6776,2,36.8506,2,208.4,3,-999,9,0.1,2,0,2,0,2,0.02,2,1919,31.753,-64.1743,85,84.5,84.4
316N20111106,  GT11,10,1,3078,6794,19,   GF-6,2,   6,2,20111119,1844,31.7521,-64.172,4701,85,84.4,24.0954,36.6681,2,36.677,2,36.8499,2,208.4,3,-999,9,0,2,0,2,0,2,0.02,2,1919,31.753,-64.1743,85,84.5,84.4
316N20111106,  GT11,10,1,3078,6795,18,   GF-7,2,   7,2,20111119,1844,31.7521,-64.172,4701,97.8,97.1,21.0482,36.7169,2,36.7196,2,36.8928,2,200.7,3,-999,9,0.49,2,1.73,2,0.04,2,0.08,2,1916,31.7529,-64.1742,97.8,97.3,97.1
316N20111106,  GT11,10,1,3078,6796,17,   GF-8,2,   8,2,20111119,1844,31.7521,-64.172,4701,97.8,97.1,21.0482,36.7169,2,36.7204,2,36.8936,2,200.7,3,-999,9,0.49,2,1.72,2,0.04,2,0.07,2,1916,31.7529,-64.1742,97.8,97.3,97.1
316N20111106,  GT11,10,1,3078,6797,16,  GF-10,2,  10,2,20111119,1844,31.7521,-64.172,4701,137.2,136.2,19.3713,36.6278,2,36.628,2,36.8007,2,207.3,3,-999,9,0.39,2,0.78,2,0.02,2,0,2,1912,31.7528,-64.174,137.2,136.4,136.2
316N20111106,  GT11,10,1,3078,6798,15,  GF-11,2,  11,2,20111119,1844,31.7521,-64.172,4701,137.2,136.2,19.3713,36.6278,2,36.6302,2,36.8029,2,207.3,3,-999,9,0.29,2,0.79,2,0.03,2,0,2,1912,31.7528,-64.174,137.2,136.4,136.2
316N20111106,  GT11,10,1,3078,6799,14,  GF-13,2,  13,2,20111119,1844,31.7521,-64.172,4701,187.8,186.4,18.456,36.5878,2,36.5911,2,36.7637,2,202.6,3,-999,9,0.49,2,2.35,2,0,2,0.04,2,1908,31.7526,-64.1739,187.8,186.6,186.4
316N20111106,  GT11,10,1,3078,6800,13,  GF-16,2,  16,2,20111119,1844,31.7521,-64.172,4701,187.8,186.4,18.456,36.5878,2,36.5917,2,36.7643,2,202.6,3,-999,9,0.58,2,2.33,2,0,2,0.04,2,1908,31.7526,-64.1739,187.8,186.6,186.4
316N20111106,  GT11,10,1,3078,6801,12,  GF-18,2,  18,2,20111119,1844,31.7521,-64.172,4701,238.1,236.3,18.2598,36.5891,2,36.5921,2,36.7646,2,205.9,3,-999,9,0.68,2,3.47,2,0,2,0.11,2,1905,31.7525,-64.1736,238.1,236.7,236.3
316N20111106,  GT11,10,1,3078,6802,11,  GF-19,2,  19,2,20111119,1844,31.7521,-64.172,4701,238.1,236.3,18.2598,36.5891,2,36.5919,2,36.7644,2,205.9,3,-999,9,0.78,2,3.47,2,0,2,0.11,2,1905,31.7525,-64.1736,238.1,236.7,236.3
316N20111106,  GT11,10,1,3078,6803,10,  GF-21,2,  21,2,20111119,1844,31.7521,-64.172,4701,288.8,286.6,18.0532,36.5629,2,36.5665,2,36.7389,2,206.2,3,-999,9,0.97,2,3.92,2,0,2,0.15,2,1901,31.7523,-64.1734,288.8,287,286.6
316N20111106,  GT11,10,1,3078,6804,9,  GF-24,2,   24,2,20111119,1844,31.7521,-64.172,4701,288.8,286.6,18.0532,36.5629,2,36.5659,2,36.7383,2,206.2,3,-999,9,0.88,2,3.92,2,0,2,0.15,2,1901,31.7523,-64.1734,288.8,287,286.6
316N20111106,  GT11,10,1,3078,6805,8,  GF-25,2,   25,2,20111119,1844,31.7521,-64.172,4701,349.2,346.5,17.9511,36.5574,2,36.5633,2,36.7358,2,208.1,3,-999,9,0.97,2,3.81,2,0,2,0.14,2,1859,31.7522,-64.1732,349.2,347,346.5
316N20111106,  GT11,10,1,3078,6806,7,  GF-26,2,   26,2,20111119,1844,31.7521,-64.172,4701,349.2,346.5,17.9511,36.5574,2,36.5627,2,36.7351,2,208.1,3,-999,9,0.97,2,3.8,2,0,2,0.14,2,1859,31.7522,-64.1732,349.2,347,346.5
316N20111106,  GT11,10,1,3078,6807,6,  GF-28,2,   28,2,20111119,1844,31.7521,-64.172,4701,424.2,420.8,17.6329,36.5015,2,36.5051,2,36.6772,2,203.1,3,-999,9,1.17,2,4.51,2,0,2,0.18,2,1855,31.7521,-64.1731,424.2,421.4,420.8
316N20111106,  GT11,10,1,3078,6808,5,  GF-29,2,   29,2,20111119,1844,31.7521,-64.172,4701,424.2,420.8,17.6329,36.5015,2,36.5051,2,36.6772,2,203.1,3,-999,9,1.17,2,4.52,2,0,2,0.19,2,1855,31.7521,-64.1731,424.2,421.4,420.8
316N20111106,  GT11,10,1,3078,6809,4,  GF-30,2,   30,2,20111119,1844,31.7521,-64.172,4701,505.6,501.5,16.9335,36.358,2,36.361,2,36.5325,2,191.1,3,-999,9,1.85,2,6.76,2,0,2,0.32,2,1851,31.7521,-64.173,505.6,502.2,501.5
316N20111106,  GT11,10,1,3078,6810,3,  GF-31,2,   31,2,20111119,1844,31.7521,-64.172,4701,505.6,501.5,16.9335,36.358,2,36.3606,2,36.5321,2,191.1,3,-999,9,1.95,2,6.76,2,0,2,0.33,2,1851,31.7521,-64.173,505.6,502.2,501.5
316N20111106,  GT11,10,1,3078,6811,2,  GF-33,2,   33,2,20111119,1844,31.7521,-64.172,4701,581.3,576.5,15.6409,36.1087,2,36.1158,2,36.2861,2,176.1,3,-999,9,3.22,2,9.86,2,0,2,0.53,2,1847,31.7518,-64.1727,581.3,577.3,576.5
316N20111106,  GT11,10,1,3078,6812,1,  GF-36,2,   36,2,20111119,1844,31.7521,-64.172,4701,581.3,576.5,15.6409,36.1087,2,36.115,2,36.2853,2,176.1,3,-999,9,3.22,2,9.84,2,0,2,0.54,2,1847,31.7518,-64.1727,581.3,577.3,576.5
316N20111106,  GT11,10,5,3082,6851,24,   GF-1,2,   1,2,20111120,850,31.7471,-64.1732,4558,2331.8,2302.8,3.4021,34.9689,2,34.9727,2,35.1376,2,259.4,3,-999,9,19.22,2,18.05,2,0,2,1.21,2,1017,31.744,-64.1781,2331.8,2302.1,2302.8
316N20111106,  GT11,10,5,3082,6852,23,   GF-2,2,   2,2,20111120,850,31.7471,-64.1732,4558,2331.8,2302.8,3.4021,34.9689,2,34.9707,2,35.1356,2,259.4,3,-999,9,18.93,2,18.06,2,0,2,1.21,2,1017,31.744,-64.1781,2331.8,2302.1,2302.8
316N20111106,  GT11,10,5,3082,6853,22,   GF-3,2,   3,2,20111120,850,31.7471,-64.1732,4558,2534.4,2501.7,3.1346,34.9475,2,34.9494,2,35.1142,2,263.3,3,-999,9,19.62,2,17.88,2,0,2,1.21,2,1010,31.7439,-64.1783,2534.4,2501.1,2501.7
316N20111106,  GT11,10,5,3082,6854,21,   GF-4,2,   4,2,20111120,850,31.7471,-64.1732,4558,2534.4,2501.7,3.1346,34.9475,2,34.949,2,35.1138,2,263.3,3,-999,9,19.71,2,17.89,2,0,2,1.2,2,1010,31.7439,-64.1783,2534.4,2501.1,2501.7
316N20111106,  GT11,10,5,3082,6855,20,   GF-5,2,   5,2,20111120,850,31.7471,-64.1732,4558,2738.3,2701.7,2.9106,34.9338,2,34.9363,2,35.101,2,265.2,3,-999,9,20.69,2,17.73,2,0,2,1.2,2,1002,31.744,-64.1781,2738.3,2701,2701.7
316N20111106,  GT11,10,5,3082,6856,19,   GF-6,2,   6,2,20111120,850,31.7471,-64.1732,4558,2738.3,2701.7,2.9106,34.9338,2,34.9357,2,35.1004,2,265.2,3,-999,9,20.69,2,17.77,2,0,2,1.21,2,1002,31.744,-64.1781,2738.3,2701,2701.7
316N20111106,  GT11,10,5,3082,6857,18,   GF-7,2,   7,2,20111120,850,31.7471,-64.1732,4558,3044.2,3001.4,2.6073,34.9179,2,34.9197,2,35.0844,2,266.6,3,-999,9,23.42,2,17.85,2,0,2,1.22,2,950,31.7451,-64.1762,3044.2,3000.8,3001.4
316N20111106,  GT11,10,5,3082,6858,17,   GF-8,2,   8,2,20111120,850,31.7471,-64.1732,4558,3044.2,3001.4,2.6073,34.9179,2,34.9197,2,35.0844,2,266.6,3,-999,9,23.52,2,17.85,2,0,2,1.22,2,950,31.7451,-64.1762,3044.2,3000.8,3001.4
316N20111106,  GT11,10,5,3082,6859,16,  GF-10,2,  10,2,20111120,850,31.7471,-64.1732,4558,3351.1,3301.6,2.3981,34.9039,2,34.9054,2,35.07,2,267.3,3,-999,9,25.96,2,17.95,2,0,2,1.23,2,941,31.7454,-64.1758,3351.1,3301,3301.6
316N20111106,  GT11,10,5,3082,6860,15,  GF-11,2,  11,2,20111120,850,31.7471,-64.1732,4558,3351.1,3301.6,2.3981,34.9039,2,34.9071,2,35.0717,2,267.3,3,-999,9,25.96,2,17.91,2,0,2,1.23,2,941,31.7454,-64.1758,3351.1,3301,3301.6
316N20111106,  GT11,10,5,3082,6861,14,  GF-13,2,  13,2,20111120,850,31.7471,-64.1732,4558,3657.5,3601,2.2715,34.8923,2,34.8942,2,35.0587,2,266.6,3,-999,9,29.37,2,18.26,2,0,2,1.26,2,928,31.7461,-64.1748,3657.5,3600.4,3601
316N20111106,  GT11,10,5,3082,6862,13,  GF-16,2,  16,2,20111120,850,31.7471,-64.1732,4558,3657.5,3601,2.2715,34.8923,2,34.8945,2,35.0591,2,266.6,3,-999,9,29.28,2,18.27,2,0,2,1.26,2,928,31.7461,-64.1748,3657.5,3600.4,3601
316N20111106,  GT11,10,5,3082,6863,12,  GF-18,2,  18,2,20111120,850,31.7471,-64.1732,4558,3966.2,3902.2,2.2077,34.8842,2,34.8867,2,35.0512,2,264.3,3,-999,9,32.6,2,18.73,2,0,2,1.29,2,919,31.7461,-64.1748,3966.2,3901.5,3902.2
316N20111106,  GT11,10,5,3082,6864,11,  GF-19,2,  19,2,20111120,850,31.7471,-64.1732,4558,3966.2,3902.2,2.2077,34.8842,2,34.8869,2,35.0514,2,264.3,3,-999,9,32.6,2,18.69,2,0,2,1.29,2,919,31.7461,-64.1748,3966.2,3901.5,3902.2
316N20111106,  GT11,10,5,3082,6865,10,  GF-21,2,  21,2,20111120,850,31.7471,-64.1732,4558,4273.7,4201.8,2.1989,34.8795,2,34.8825,2,35.047,2,262.6,3,-999,9,35.62,2,19.12,2,0,2,1.33,2,910,31.7461,-64.1748,4273.7,4201.1,4201.8
316N20111106,  GT11,10,5,3082,6866,9,  GF-24,2,   24,2,20111120,850,31.7471,-64.1732,4558,4273.7,4201.8,2.1989,34.8795,2,34.8837,2,35.0482,2,262.6,3,-999,9,35.33,2,19.13,2,0,2,1.33,2,910,31.7461,-64.1748,4273.7,4201.1,4201.8
316N20111106,  GT11,10,5,3082,6867,8,  GF-25,4,   25,4,20111120,850,31.7471,-64.1732,4558,4427.6,4351.6,2.2048,34.878,2,34.8967,4,35.0613,4,261.7,3,-999,9,31.52,4,18.79,4,0,4,1.3,4,904,31.7463,-64.1744,4427.6,4350.9,4351.6
316N20111106,  GT11,10,5,3082,6868,7,  GF-26,2,   26,2,20111120,850,31.7471,-64.1732,4558,4427.6,4351.6,2.2048,34.878,2,34.881,2,35.0454,2,261.7,3,-999,9,36.4,2,19.29,2,0,2,1.34,2,904,31.7463,-64.1744,4427.6,4350.9,4351.6
316N20111106,  GT11,10,5,3082,6869,6,  GF-28,2,   28,2,20111120,850,31.7471,-64.1732,4558,4520.9,4442.3,2.2144,34.8776,2,34.8814,2,35.0458,2,261.7,3,-999,9,36.4,2,19.22,2,0,2,1.34,2,859,31.7465,-64.1741,4520.9,4441.6,4442.3
316N20111106,  GT11,10,5,3082,6870,5,  GF-29,2,   29,2,20111120,850,31.7471,-64.1732,4558,4520.9,4442.3,2.2144,34.8776,2,34.88,2,35.0445,2,261.7,3,-999,9,36.4,2,19.26,2,0,2,1.34,2,859,31.7465,-64.1741,4520.9,4441.6,4442.3
316N20111106,  GT11,10,5,3082,6871,4,  GF-30,2,   30,2,20111120,850,31.7471,-64.1732,4558,4565.1,4485.3,2.2177,34.8772,2,34.8802,2,35.0447,2,261.7,3,-999,9,36.5,2,19.22,2,0,2,1.34,2,854,31.7467,-64.1737,4565.1,4484.5,4485.3
316N20111106,  GT11,10,5,3082,6872,3,  GF-31,2,   31,2,20111120,850,31.7471,-64.1732,4558,4565.1,4485.3,2.2177,34.8772,2,34.881,2,35.0454,2,261.7,3,-999,9,36.3,2,19.23,2,0,2,1.34,2,854,31.7467,-64.1737,4565.1,4484.5,4485.3
316N20111106,  GT11,10,5,3082,6873,2,  GF-33,2,   33,2,20111120,850,31.7471,-64.1732,4558,4613,4531.9,2.2227,34.8771,2,34.8816,2,35.046,2,260.1,3,-999,9,36.5,2,19.22,2,0,2,1.34,2,851,31.747,-64.1733,4613,4531.1,4531.9
316N20111106,  GT11,10,5,3082,6874,1,  GF-36,2,   36,2,20111120,850,31.7471,-64.1732,4558,4613,4531.9,2.2227,34.8771,2,34.88,2,35.0445,2,260.1,3,-999,9,36.69,2,19.25,2,0,2,1.34,2,851,31.747,-64.1733,4613,4531.1,4531.9
316N20111106,  GT11,10,9,3087,6904,24,   GF-1,2,   1,2,20111121,340,31.747,-64.1707,4561,46.1,45.8,24.0266,36.6016,2,-999,9,-999,9,210.9,3,-999,9,-999,9,-999,9,-999,9,-999,9,355,31.7462,-64.1727,46.1,45.7,45.8
316N20111106,  GT11,10,9,3087,-999,23,   GF-2,2,   2,2,20111121,340,31.747,-64.1707,4561,46.1,45.8,24.0266,36.6016,2,-999,9,-999,9,210.9,3,-999,9,-999,9,-999,9,-999,9,-999,9,355,31.7462,-64.1727,46.1,45.7,45.8
316N20111106,  GT11,10,9,3087,6905,22,   GF-3,2,   3,2,20111121,340,31.747,-64.1707,4561,61.9,61.4,24.0656,36.6375,2,-999,9,-999,9,210.7,3,-999,9,-999,9,-999,9,-999,9,-999,9,352,31.7462,-64.1723,61.9,61.4,61.4
316N20111106,  GT11,10,9,3087,-999,21,   GF-4,2,   4,2,20111121,340,31.747,-64.1707,4561,61.9,61.4,24.0656,36.6375,2,-999,9,-999,9,210.7,3,-999,9,-999,9,-999,9,-999,9,-999,9,352,31.7462,-64.1723,61.9,61.4,61.4
316N20111106,  GT11,10,9,3087,6906,20,   GF-5,2,   5,2,20111121,340,31.747,-64.1707,4561,76.7,76.2,23.9741,36.6565,2,-999,9,-999,9,210.7,3,-999,9,-999,9,-999,9,-999,9,-999,9,350,31.7463,-64.172,76.7,76.3,76.2
316N20111106,  GT11,10,9,3087,6907,19,   GF-6,2,   6,2,20111121,340,31.747,-64.1707,4561,76.7,76.2,23.9741,36.6565,2,-999,9,-999,9,210.7,3,-999,9,-999,9,-999,9,-999,9,-999,9,350,31.7463,-64.172,76.7,76.3,76.2
316N20111106,  GT11,10,9,3087,6908,18,   GF-7,2,   7,2,20111121,340,31.747,-64.1707,4561,83.4,82.8,21.8459,36.6718,2,-999,9,-999,9,212.4,3,-999,9,-999,9,-999,9,-999,9,-999,9,348,31.7463,-64.1717,83.4,82.9,82.8
316N20111106,  GT11,10,9,3087,6909,17,   GF-8,2,   8,2,20111121,340,31.747,-64.1707,4561,83.4,82.8,21.8459,36.6718,2,-999,9,-999,9,212.4,3,-999,9,-999,9,-999,9,-999,9,-999,9,348,31.7463,-64.1717,83.4,82.9,82.8
316N20111106,  GT11,10,9,3087,6910,16,  GF-10,2,  10,2,20111121,340,31.747,-64.1707,4561,84.4,83.8,21.6781,36.6676,2,-999,9,-999,9,212.8,3,-999,9,-999,9,-999,9,-999,9,-999,9,348,31.7464,-64.1717,84.4,83.9,83.8
316N20111106,  GT11,10,9,3087,6911,15,  GF-11,2,  11,2,20111121,340,31.747,-64.1707,4561,84.4,83.8,21.6781,36.6676,2,-999,9,-999,9,212.8,3,-999,9,-999,9,-999,9,-999,9,-999,9,348,31.7464,-64.1717,84.4,83.9,83.8
316N20111106,  GT11,10,9,3087,6912,14,  GF-13,2,  13,2,20111121,340,31.747,-64.1707,4561,85.3,84.7,21.6116,36.6677,2,-999,9,-999,9,213.5,3,-999,9,-999,9,-999,9,-999,9,-999,9,348,31.7463,-64.1717,85.3,84.7,84.7
316N20111106,  GT11,10,9,3087,6913,13,  GF-16,2,  16,2,20111121,340,31.747,-64.1707,4561,85.3,84.7,21.6116,36.6677,2,-999,9,-999,9,213.5,3,-999,9,-999,9,-999,9,-999,9,-999,9,348,31.7463,-64.1717,85.3,84.7,84.7
316N20111106,  GT11,10,9,3087,-999,12,  GF-18,2,  18,2,20111121,340,31.747,-64.1707,4561,85.5,84.9,21.5942,36.6675,2,-999,9,-999,9,213.9,3,-999,9,-999,9,-999,9,-999,9,-999,9,348,31.7464,-64.1717,85.5,84.9,84.9
316N20111106,  GT11,10,9,3087,-999,11,  GF-19,2,  19,2,20111121,340,31.747,-64.1707,4561,85.5,84.9,21.5942,36.6675,2,-999,9,-999,9,213.9,3,-999,9,-999,9,-999,9,-999,9,-999,9,348,31.7464,-64.1717,85.5,84.9,84.9
316N20111106,  GT11,10,9,3087,-999,10,  GF-21,2,  21,2,20111121,340,31.747,-64.1707,4561,85.8,85.2,21.5785,36.6688,2,-999,9,-999,9,214,3,-999,9,-999,9,-999,9,-999,9,-999,9,348,31.7464,-64.1716,85.8,85.3,85.2
316N20111106,  GT11,10,9,3087,-999,9,  GF-24,2,   24,2,20111121,340,31.747,-64.1707,4561,85.8,85.2,21.5785,36.6688,2,-999,9,-999,9,214,3,-999,9,-999,9,-999,9,-999,9,-999,9,348,31.7464,-64.1716,85.8,85.3,85.2
316N20111106,  GT11,10,9,3087,-999,8,  GF-25,2,   25,2,20111121,340,31.747,-64.1707,4561,85.9,85.3,21.5605,36.6689,2,-999,9,-999,9,214.2,3,-999,9,-999,9,-999,9,-999,9,-999,9,348,31.7464,-64.1716,85.9,85.4,85.3
316N20111106,  GT11,10,9,3087,-999,7,  GF-26,2,   26,2,20111121,340,31.747,-64.1707,4561,85.9,85.3,21.5605,36.6689,2,-999,9,-999,9,214.2,3,-999,9,-999,9,-999,9,-999,9,-999,9,348,31.7464,-64.1716,85.9,85.4,85.3
316N20111106,  GT11,10,9,3087,-999,6,  GF-28,2,   28,2,20111121,340,31.747,-64.1707,4561,86.1,85.5,21.509,36.6704,2,-999,9,-999,9,214.6,3,-999,9,-999,9,-999,9,-999,9,-999,9,348,31.7464,-64.1716,86.1,85.6,85.5
316N20111106,  GT11,10,9,3087,-999,5,  GF-29,2,   29,2,20111121,340,31.747,-64.1707,4561,86.1,85.5,21.509,36.6704,2,-999,9,-999,9,214.6,3,-999,9,-999,9,-999,9,-999,9,-999,9,348,31.7464,-64.1716,86.1,85.6,85.5
316N20111106,  GT11,10,9,3087,-999,4,  GF-30,3,   30,3,20111121,340,31.747,-64.1707,4561,86.3,85.7,21.4777,36.671,2,-999,9,-999,9,214.8,3,-999,9,-999,9,-999,9,-999,9,-999,9,348,31.7464,-64.1716,86.3,85.8,85.7
316N20111106,  GT11,10,9,3087,-999,3,  GF-31,3,   31,3,20111121,340,31.747,-64.1707,4561,86.3,85.7,21.4777,36.671,2,-999,9,-999,9,214.8,3,-999,9,-999,9,-999,9,-999,9,-999,9,348,31.7464,-64.1716,86.3,85.8,85.7
316N20111106,  GT11,10,9,3087,6914,2,  GF-33,2,   33,2,20111121,340,31.747,-64.1707,4561,111.5,110.7,19.8109,36.686,2,-999,9,-999,9,220.8,3,-999,9,-999,9,-999,9,-999,9,-999,9,345,31.7466,-64.1713,111.5,110.9,110.7
316N20111106,  GT11,10,9,3087,-999,1,  GF-36,2,   36,2,20111121,340,31.747,-64.1707,4561,111.5,110.7,19.8109,36.686,2,-999,9,-999,9,220.8,3,-999,9,-999,9,-999,9,-999,9,-999,9,345,31.7466,-64.1713,111.5,110.9,110.7