BOTTLE,20170120CCHSIORJL
EXPOCODE,SECT_ID,STNNBR,CASTNO,GEOTR_EVENT,GEOTR_SAMPNO,SAMPNO,BTLNBR,BTLNBR_FLAG_W,BTLNBR_U,BTLNBR_U_FLAG_W,DATE,TIME,LATITUDE,LONGITUDE,BTMDEPTH,CTDPRS,CTDDEPTH,CTDTMP,CTDSAL,CTDSAL_FLAG_W,SALNTY,SALNTY_FLAG_W,SALTREF,SALTREF_FLAG_W,CTDOXY,CTDOXY_FLAG_W,OXYGEN,OXYGEN_FLAG_W,SILCAT,SILCAT_FLAG_W,NITRAT,NITRAT_FLAG_W,NITRIT,NITRIT_FLAG_W,PHSPHT,PHSPHT_FLAG_W,BTL_TIME,BTL_LAT,BTL_LON,ODF_CTDPRS,SMDEPTH,FMDEPTH
,,,,,,,,,,,,,,,METERS,DBAR,METERS,ITS-90,PSS-78,,PSS-78,,G/KG,,UMOL/KG,,UMOL/KG,,UMOL/KG,,UMOL/KG,,UMOL/KG,,UMOL/KG,,,,,DBARS,METERS,METERS
316N20111106,  GT11,6,7,3059,6628,24,   GF-1,2,   1,2,20111115,915,37.6017,-68.394,4584,42.3,42,23.1347,35.8078,2,35.8059,2,35.9748,2,209.4,3,-999,9,0.88,2,0,2,0.02,2,0.01,2,956,37.5772,-68.413,42.3,42,42
316N20111106,  GT11,6,7,3059,6629,23,   GF-2,2,   2,2,20111115,915,37.6017,-68.394,4584,42.3,42,23.1347,35.8078,2,35.8069,2,35.9758,2,209.4,3,-999,9,0.88,2,0.01,2,0.01,2,0,2,956,37.5772,-68.413,42.3,42,42
316N20111106,  GT11,6,7,3059,6630,22,   GF-3,2,   3,2,20111115,915,37.6017,-68.394,4584,67.2,66.7,23.1734,35.8442,2,35.8435,2,36.0125,2,210.1,3,-999,9,0.88,2,0,2,0,2,0,2,954,37.5791,-68.4113,67.2,66.7,66.7
316N20111106,  GT11,6,7,3059,6631,21,   GF-4,2,   4,2,20111115,915,37.6017,-68.394,4584,67.2,66.7,23.1734,35.8442,2,35.8439,2,36.0129,2,210.1,3,-999,9,0.78,2,0,2,0,2,0,2,954,37.5791,-68.4113,67.2,66.7,66.7
316N20111106,  GT11,6,7,3059,6632,20,   GF-5,2,   5,2,20111115,915,37.6017,-68.394,4584,91.4,90.7,23.2937,35.9018,2,35.9041,2,36.0734,2,208.3,3,-999,9,0.78,2,0,2,0.02,2,0,2,950,37.5816,-68.4094,91.4,90.8,90.7
316N20111106,  GT11,6,7,3059,6633,19,   GF-6,2,   6,2,20111115,915,37.6017,-68.394,4584,91.4,90.7,23.2937,35.9018,2,35.9026,2,36.0719,2,208.3,3,-999,9,0.68,2,0.01,2,0.02,2,0,2,950,37.5816,-68.4094,91.4,90.8,90.7
316N20111106,  GT11,6,7,3059,6634,18,   GF-7,2,   7,2,20111115,915,37.6017,-68.394,4584,113,112.2,23.6252,36.1501,2,36.1788,3,36.3494,3,203.8,3,-999,9,0.68,2,0.21,2,0.11,2,0,2,947,37.5836,-68.4077,113,112.4,112.2
316N20111106,  GT11,6,7,3059,6635,17,   GF-8,2,   8,2,20111115,915,37.6017,-68.394,4584,113,112.2,23.6252,36.1501,2,36.1746,3,36.3452,3,203.8,3,-999,9,0.68,2,0.2,2,0.11,2,0,2,947,37.5836,-68.4077,113,112.4,112.2
316N20111106,  GT11,6,7,3059,6636,16,  GF-10,2,  10,2,20111115,915,37.6017,-68.394,4584,142.1,141,22.0568,36.4972,2,36.5156,2,36.6878,2,181.3,3,-999,9,1.17,2,2.89,2,0.01,2,0.12,2,941,37.5875,-68.4049,142.1,141.2,141
316N20111106,  GT11,6,7,3059,6637,15,  GF-11,2,  11,2,20111115,915,37.6017,-68.394,4584,142.1,141,22.0568,36.4972,2,36.5144,2,36.6866,2,181.3,3,-999,9,1.17,2,2.86,2,0.01,2,0.12,2,941,37.5875,-68.4049,142.1,141.2,141
316N20111106,  GT11,6,7,3059,6638,14,  GF-13,2,  13,2,20111115,915,37.6017,-68.394,4584,167.7,166.4,19.1821,36.1243,2,36.0951,3,36.2653,3,185.4,3,-999,9,2.54,2,6.21,2,0,2,0.34,2,938,37.5891,-68.4037,167.7,166.7,166.4
316N20111106,  GT11,6,7,3059,6639,13,  GF-16,2,  16,2,20111115,915,37.6017,-68.394,4584,167.7,166.4,19.1821,36.1243,2,36.1086,3,36.2788,3,185.4,3,-999,9,2.44,2,5.99,2,0,2,0.33,2,938,37.5891,-68.4037,167.7,166.7,166.4
316N20111106,  GT11,6,7,3059,6640,12,  GF-18,2,  18,2,20111115,915,37.6017,-68.394,4584,239,237.1,16.5845,36.1504,2,36.159,2,36.3295,2,156.6,3,-999,9,3.8,2,10.63,2,0,2,0.58,2,935,37.5912,-68.4021,239,237.6,237.1
316N20111106,  GT11,6,7,3059,6641,11,  GF-19,2,  19,2,20111115,915,37.6017,-68.394,4584,239,237.1,16.5845,36.1504,2,36.1557,2,36.3262,2,156.6,3,-999,9,3.8,2,10.61,2,0,2,0.59,2,935,37.5912,-68.4021,239,237.6,237.1
316N20111106,  GT11,6,7,3059,6642,10,  GF-21,2,  21,2,20111115,915,37.6017,-68.394,4584,288.7,286.4,15.232,36.0208,2,36.0253,2,36.1952,2,150.4,3,-999,9,4.58,2,12.72,2,0,2,0.73,2,932,37.593,-68.4006,288.7,286.9,286.4
316N20111106,  GT11,6,7,3059,6643,9,  GF-24,2,   24,2,20111115,915,37.6017,-68.394,4584,288.7,286.4,15.232,36.0208,2,36.0253,2,36.1952,2,150.4,3,-999,9,4.58,2,12.72,2,0,2,0.73,2,932,37.593,-68.4006,288.7,286.9,286.4
316N20111106,  GT11,6,7,3059,6644,8,  GF-25,2,   25,2,20111115,915,37.6017,-68.394,4584,355.5,352.5,13.2407,35.6992,2,35.7031,2,35.8714,2,148.9,3,-999,9,7.31,2,17.2,2,0,2,1.04,2,929,37.5945,-68.3994,355.5,353.1,352.5
316N20111106,  GT11,6,7,3059,6645,7,  GF-26,2,   26,2,20111115,915,37.6017,-68.394,4584,355.5,352.5,13.2407,35.6992,2,35.7039,2,35.8722,2,148.9,3,-999,9,7.41,2,17.18,2,0,2,1.05,2,929,37.5945,-68.3994,355.5,353.1,352.5
316N20111106,  GT11,6,7,3059,6646,6,  GF-28,2,   28,2,20111115,915,37.6017,-68.394,4584,425.7,422.1,11.6144,35.4737,2,35.4785,2,35.6458,2,137.2,3,-999,9,10.34,2,20.94,2,0,2,1.31,2,926,37.5962,-68.3981,425.7,422.8,422.1
316N20111106,  GT11,6,7,3059,6647,5,  GF-29,2,   29,2,20111115,915,37.6017,-68.394,4584,425.7,422.1,11.6144,35.4737,2,35.4758,2,35.6431,2,137.2,3,-999,9,10.44,2,20.92,2,0,2,1.32,2,926,37.5962,-68.3981,425.7,422.8,422.1
316N20111106,  GT11,6,7,3059,6648,4,  GF-30,2,   30,2,20111115,915,37.6017,-68.394,4584,490.7,486.5,10.3043,35.3193,2,35.3208,2,35.4874,2,134.8,3,-999,9,12.2,2,22.73,2,0,2,1.44,2,922,37.5981,-68.3968,490.7,487.2,486.5
316N20111106,  GT11,6,7,3059,6649,3,  GF-31,2,   31,2,20111115,915,37.6017,-68.394,4584,490.7,486.5,10.3043,35.3193,2,35.3208,2,35.4874,2,134.8,3,-999,9,12.29,2,22.64,2,0,2,1.45,2,922,37.5981,-68.3968,490.7,487.2,486.5
316N20111106,  GT11,6,7,3059,6650,2,  GF-33,2,   33,2,20111115,915,37.6017,-68.394,4584,608.2,602.7,8.0891,35.1351,2,35.1415,2,35.3072,2,162.1,3,-999,9,14.25,2,23.36,2,0,2,1.53,2,917,37.6004,-68.3951,608.2,603.5,602.7
316N20111106,  GT11,6,7,3059,6651,1,  GF-36,2,   36,2,20111115,915,37.6017,-68.394,4584,608.2,602.7,8.0891,35.1351,2,35.1372,2,35.3029,2,162.1,3,-999,9,14.25,2,23.4,2,0,2,1.53,2,917,37.6004,-68.3951,608.2,603.5,602.7
316N20111106,  GT11,8,1,3064,6687,24,   GF-1,2,   1,2,20111116,1256,35.4178,-66.5265,4918,32.2,31.9,23.0689,36.3499,2,36.3497,2,36.5211,2,212,3,-999,9,0.39,2,0,2,0,2,0,2,1350,35.4171,-66.5371,32.2,31.9,31.9
316N20111106,  GT11,8,1,3064,6688,23,   GF-2,2,   2,2,20111116,1256,35.4178,-66.5265,4918,32.2,31.9,23.0689,36.3499,2,36.3501,2,36.5215,2,212,3,-999,9,0.29,2,0,2,0,2,0,2,1350,35.4171,-66.5371,32.2,31.9,31.9
316N20111106,  GT11,8,1,3064,6689,22,   GF-3,2,   3,2,20111116,1256,35.4178,-66.5265,4918,66.2,65.7,23.0702,36.3525,2,36.3546,2,36.526,2,208.2,3,-999,9,0.29,2,0,2,0,2,0,2,1347,35.4173,-66.536,66.2,65.8,65.7
316N20111106,  GT11,8,1,3064,6690,21,   GF-4,2,   4,2,20111116,1256,35.4178,-66.5265,4918,66.2,65.7,23.0702,36.3525,2,36.3552,2,36.5266,2,208.2,3,-999,9,0.19,2,0.01,2,0,2,0,2,1347,35.4173,-66.536,66.2,65.8,65.7
316N20111106,  GT11,8,1,3064,6691,20,   GF-5,2,   5,2,20111116,1256,35.4178,-66.5265,4918,112.6,111.7,20.8856,36.7506,2,36.749,2,36.9223,2,189,3,-999,9,0.39,2,2.3,2,0.01,2,0.09,2,1344,35.4174,-66.5348,112.6,111.9,111.7
316N20111106,  GT11,8,1,3064,6692,19,   GF-6,2,   6,2,20111116,1256,35.4178,-66.5265,4918,112.6,111.7,20.8856,36.7506,2,36.7482,2,36.9215,2,189,3,-999,9,0.39,2,2.3,2,0,2,0.08,2,1344,35.4174,-66.5348,112.6,111.9,111.7
316N20111106,  GT11,8,1,3064,6693,18,   GF-7,2,   7,2,20111116,1256,35.4178,-66.5265,4918,137.8,136.8,19.7485,36.7009,2,36.7,2,36.8731,2,195.1,3,-999,9,0.29,2,2.35,2,0,2,0.06,2,1342,35.4175,-66.5342,137.8,137,136.8
316N20111106,  GT11,8,1,3064,6694,17,   GF-8,2,   8,2,20111116,1256,35.4178,-66.5265,4918,137.8,136.8,19.7485,36.7009,2,36.7006,2,36.8737,2,195.1,3,-999,9,0.1,2,2.35,2,0,2,0.07,2,1342,35.4175,-66.5342,137.8,137,136.8
316N20111106,  GT11,8,1,3064,6695,16,  GF-10,2,  10,2,20111116,1256,35.4178,-66.5265,4918,186.3,184.9,18.5818,36.5949,2,36.5951,2,36.7677,2,192.6,3,-999,9,0.88,2,4.45,2,0,2,0.19,2,1339,35.4175,-66.5336,186.3,185.2,184.9
316N20111106,  GT11,8,1,3064,6696,15,  GF-11,2,  11,2,20111116,1256,35.4178,-66.5265,4918,186.3,184.9,18.5818,36.5949,2,36.5941,2,36.7667,2,192.6,3,-999,9,0.97,2,4.49,2,0,2,0.18,2,1339,35.4175,-66.5336,186.3,185.2,184.9
316N20111106,  GT11,8,1,3064,6697,14,  GF-13,2,  13,2,20111116,1256,35.4178,-66.5265,4918,237.6,235.7,18.3267,36.5941,2,36.5947,2,36.7673,2,206.2,3,-999,9,0.49,2,3.66,2,0,2,0.14,2,1335,35.4174,-66.5328,237.6,236.1,235.7
316N20111106,  GT11,8,1,3064,6698,13,  GF-16,2,  16,2,20111116,1256,35.4178,-66.5265,4918,237.6,235.7,18.3267,36.5941,2,36.5947,2,36.7673,2,206.2,3,-999,9,0.78,2,3.67,2,0,2,0.13,2,1335,35.4174,-66.5328,237.6,236.1,235.7
316N20111106,  GT11,8,1,3064,6699,12,  GF-18,2,  18,2,20111116,1256,35.4178,-66.5265,4918,289.4,287.1,18.1266,36.5815,2,36.5817,2,36.7542,2,207.9,3,-999,9,0.68,2,3.59,2,0,2,0.13,2,1331,35.4174,-66.5321,289.4,287.6,287.1
316N20111106,  GT11,8,1,3064,6700,11,  GF-19,2,  19,2,20111116,1256,35.4178,-66.5265,4918,289.4,287.1,18.1266,36.5815,2,36.5821,2,36.7546,2,207.9,3,-999,9,0.68,2,3.6,2,0,2,0.13,2,1331,35.4174,-66.5321,289.4,287.6,287.1
316N20111106,  GT11,8,1,3064,6701,10,  GF-21,2,  21,2,20111116,1256,35.4178,-66.5265,4918,425.6,422.1,17.6079,36.5106,2,36.5113,2,36.6835,2,211.1,3,-999,9,0.68,2,4.05,2,0,2,0.16,2,1325,35.4173,-66.5311,425.6,422.7,422.1
316N20111106,  GT11,8,1,3064,6702,9,  GF-24,2,   24,2,20111116,1256,35.4178,-66.5265,4918,425.6,422.1,17.6079,36.5106,2,36.5107,2,36.6829,2,211.1,3,-999,9,0.68,2,4.05,2,0,2,0.17,2,1325,35.4173,-66.5311,425.6,422.7,422.1
316N20111106,  GT11,8,1,3064,6703,8,  GF-25,2,   25,2,20111116,1256,35.4178,-66.5265,4918,556,551.2,16.1181,36.2028,2,36.2064,2,36.3771,2,184.9,3,-999,9,2.14,2,8.54,2,0,2,0.45,2,1320,35.4175,-66.5303,556,552,551.2
316N20111106,  GT11,8,1,3064,6704,7,  GF-26,2,   26,2,20111116,1256,35.4178,-66.5265,4918,556,551.2,16.1181,36.2028,2,36.2071,2,36.3779,2,184.9,3,-999,9,2.24,2,8.51,2,0,2,0.45,2,1320,35.4175,-66.5303,556,552,551.2
316N20111106,  GT11,8,1,3064,6705,6,  GF-28,2,   28,2,20111116,1256,35.4178,-66.5265,4918,810.5,803,10.4163,35.3401,2,35.346,2,35.5127,2,145.9,3,-999,9,10.83,2,21.4,2,0,2,1.33,2,1312,35.4177,-66.5289,810.5,804.1,803
316N20111106,  GT11,8,1,3064,6706,5,  GF-29,2,   29,2,20111116,1256,35.4178,-66.5265,4918,810.5,803,10.4163,35.3401,2,35.3423,2,35.509,2,145.9,3,-999,9,10.73,2,21.38,2,0,2,1.35,2,1312,35.4177,-66.5289,810.5,804.1,803
316N20111106,  GT11,8,1,3064,6707,4,  GF-30,2,   30,2,20111116,1256,35.4178,-66.5265,4918,1011.6,1001.8,6.3494,35.068,2,35.0707,2,35.236,2,205.5,3,-999,9,12.59,2,20.48,2,0,2,1.35,2,1307,35.4177,-66.528,1011.6,1003,1001.8
316N20111106,  GT11,8,1,3064,6708,3,  GF-31,2,   31,2,20111116,1256,35.4178,-66.5265,4918,1011.6,1001.8,6.3494,35.068,2,35.0703,2,35.2356,2,205.5,3,-999,9,12.69,2,20.5,2,0,2,1.37,2,1307,35.4177,-66.528,1011.6,1003,1001.8
316N20111106,  GT11,8,1,3064,6709,2,  GF-33,2,   33,2,20111116,1256,35.4178,-66.5265,4918,1214.3,1202,5.0035,35.0138,2,35.0171,2,35.1822,2,243.8,3,-999,9,11.51,2,18.26,2,0,2,1.24,2,1300,35.4177,-66.5271,1214.3,1203.2,1202
316N20111106,  GT11,8,1,3064,6710,1,  GF-36,2,   36,2,20111116,1256,35.4178,-66.5265,4918,1214.3,1202,5.0035,35.0138,2,35.0165,2,35.1816,2,243.8,3,-999,9,11.71,2,18.3,2,0,2,1.24,2,1300,35.4177,-66.5271,1214.3,1203.2,1202
316N20111106,  GT11,8,5,3068,6731,24,   GF-1,2,   1,2,20111117,155,35.4223,-66.5414,4933,1518.6,1502.1,4.2462,34.9771,2,34.9795,2,35.1445,2,256.8,3,-999,9,11.81,2,17.76,2,0,2,1.17,2,351,35.4269,-66.5576,1518.6,1501.7,1502.1
316N20111106,  GT11,8,5,3068,6732,23,   GF-2,2,   2,2,20111117,155,35.4223,-66.5414,4933,1518.6,1502.1,4.2462,34.9771,2,34.9793,2,35.1443,2,256.8,3,-999,9,11.81,2,17.6,2,0,2,1.16,2,351,35.4269,-66.5576,1518.6,1501.7,1502.1
316N20111106,  GT11,8,5,3068,6733,22,   GF-3,2,   3,2,20111117,155,35.4223,-66.5414,4933,1822.6,1801.5,3.8751,34.9665,2,34.9693,2,35.1342,2,262,3,-999,9,12.98,2,17.56,2,0,2,1.18,2,342,35.4265,-66.5562,1822.6,1801.1,1801.5
316N20111106,  GT11,8,5,3068,6734,21,   GF-4,2,   4,2,20111117,155,35.4223,-66.5414,4933,1822.6,1801.5,3.8751,34.9665,2,34.9679,2,35.1328,2,262,3,-999,9,13.08,2,17.57,2,0,2,1.18,2,342,35.4265,-66.5562,1822.6,1801.1,1801.5
316N20111106,  GT11,8,5,3068,6735,20,   GF-5,2,   5,2,20111117,155,35.4223,-66.5414,4933,2128.1,2102,3.5925,34.9538,2,34.9642,2,35.1291,2,264.7,3,-999,9,13.76,2,17.61,2,0,2,1.18,2,323,35.4262,-66.5544,2128.1,2101.7,2102
316N20111106,  GT11,8,5,3068,6736,19,   GF-6,2,   6,2,20111117,155,35.4223,-66.5414,4933,2128.1,2102,3.5925,34.9538,2,34.9638,2,35.1287,2,264.7,3,-999,9,13.76,2,17.58,2,0,2,1.19,2,323,35.4262,-66.5544,2128.1,2101.7,2102
316N20111106,  GT11,8,5,3068,6737,18,   GF-7,2,   7,2,20111117,155,35.4223,-66.5414,4933,2433,2401.5,3.3258,34.9464,2,34.9488,2,35.1136,2,265.2,3,-999,9,16.69,2,17.62,2,0,2,1.2,2,315,35.4261,-66.5538,2433,2401.2,2401.5
316N20111106,  GT11,8,5,3068,6738,17,   GF-8,2,   8,2,20111117,155,35.4223,-66.5414,4933,2433,2401.5,3.3258,34.9464,2,34.9488,2,35.1136,2,265.2,3,-999,9,16.59,2,17.68,2,0,2,1.21,2,315,35.4261,-66.5538,2433,2401.2,2401.5
316N20111106,  GT11,8,5,3068,6739,16,  GF-10,2,  10,2,20111117,155,35.4223,-66.5414,4933,2739,2701.5,3.0818,34.9404,2,34.9421,2,35.1069,2,263.8,3,-999,9,19.22,2,17.8,2,0,2,1.23,2,306,35.426,-66.5531,2739,2701.3,2701.5
316N20111106,  GT11,8,5,3068,6740,15,  GF-11,2,  11,2,20111117,155,35.4223,-66.5414,4933,2739,2701.5,3.0818,34.9404,2,34.9425,2,35.1073,2,263.8,3,-999,9,19.22,2,17.75,2,0,2,1.23,2,306,35.426,-66.5531,2739,2701.3,2701.5
316N20111106,  GT11,8,5,3068,6741,14,  GF-13,2,  13,2,20111117,155,35.4223,-66.5414,4933,3045.2,3001.4,2.8189,34.9271,2,34.9292,2,35.0939,2,266.7,3,-999,9,21.08,2,17.76,2,0,2,1.23,2,257,35.4259,-66.5521,3045.2,3001.2,3001.4
316N20111106,  GT11,8,5,3068,6742,13,  GF-16,2,  16,2,20111117,155,35.4223,-66.5414,4933,3045.2,3001.4,2.8189,34.9271,2,34.9296,2,35.0943,2,266.7,3,-999,9,20.98,2,17.78,2,0,2,1.23,2,257,35.4259,-66.5521,3045.2,3001.2,3001.4
316N20111106,  GT11,8,5,3068,6743,12,  GF-18,2,  18,2,20111117,155,35.4223,-66.5414,4933,3352.3,3301.8,2.5354,34.9111,2,34.9134,2,35.0781,2,268.2,3,-999,9,23.62,2,17.8,2,0,2,1.24,2,249,35.4257,-66.5511,3352.3,3301.6,3301.8
316N20111106,  GT11,8,5,3068,6744,11,  GF-19,2,  19,2,20111117,155,35.4223,-66.5414,4933,3352.3,3301.8,2.5354,34.9111,2,34.9142,2,35.0788,2,268.2,3,-999,9,23.71,2,17.79,2,0,2,1.24,2,249,35.4257,-66.5511,3352.3,3301.6,3301.8
316N20111106,  GT11,8,5,3068,6745,10,  GF-21,2,  21,2,20111117,155,35.4223,-66.5414,4933,3658.8,3601.1,2.3976,34.9012,2,34.9036,2,35.0682,2,268.6,3,-999,9,25.96,2,17.89,2,0,2,1.26,2,240,35.4254,-66.5498,3658.8,3600.9,3601.1
316N20111106,  GT11,8,5,3068,6746,9,  GF-24,2,   24,2,20111117,155,35.4223,-66.5414,4933,3658.8,3601.1,2.3976,34.9012,2,34.9056,2,35.0702,2,268.6,3,-999,9,25.96,2,17.94,2,0,2,1.26,2,240,35.4254,-66.5498,3658.8,3600.9,3601.1
316N20111106,  GT11,8,5,3068,6747,8,  GF-25,2,   25,2,20111117,155,35.4223,-66.5414,4933,3966.3,3901,2.3198,34.894,2,34.8977,2,35.0622,2,267.5,3,-999,9,28.2,2,18.15,2,0,2,1.28,2,230,35.4247,-66.5478,3966.3,3900.8,3901
316N20111106,  GT11,8,5,3068,6748,7,  GF-26,2,   26,2,20111117,155,35.4223,-66.5414,4933,3966.3,3901,2.3198,34.894,2,34.8969,2,35.0615,2,267.5,3,-999,9,28.3,2,18.17,2,0,2,1.28,2,230,35.4247,-66.5478,3966.3,3900.8,3901
316N20111106,  GT11,8,5,3068,6749,6,  GF-28,2,   28,2,20111117,155,35.4223,-66.5414,4933,4325.8,4251.2,2.2801,34.8875,2,34.8914,2,35.0559,2,266,3,-999,9,31.62,2,18.58,2,0,2,1.31,2,221,35.4241,-66.5461,4325.8,4250.9,4251.2
316N20111106,  GT11,8,5,3068,6750,5,  GF-29,2,   29,2,20111117,155,35.4223,-66.5414,4933,4325.8,4251.2,2.2801,34.8875,2,34.8906,2,35.0551,2,266,3,-999,9,31.42,2,18.64,2,0,2,1.32,2,221,35.4241,-66.5461,4325.8,4250.9,4251.2
316N20111106,  GT11,8,5,3068,6751,4,  GF-30,2,   30,2,20111117,155,35.4223,-66.5414,4933,4659.8,4576,2.2564,34.8808,2,34.8843,2,35.0488,2,262.6,3,-999,9,35.13,2,19.21,2,0,2,1.36,2,213,35.4235,-66.5446,4659.8,4575.6,4576
316N20111106,  GT11,8,5,3068,6752,3,  GF-31,2,   31,2,20111117,155,35.4223,-66.5414,4933,4659.8,4576,2.2564,34.8808,2,34.8843,2,35.0488,2,262.6,3,-999,9,35.33,2,19.15,2,0,2,1.36,2,213,35.4235,-66.5446,4659.8,4575.6,4576
316N20111106,  GT11,8,5,3068,6753,2,  GF-33,2,   33,2,20111117,155,35.4223,-66.5414,4933,4994.6,4901.1,2.2215,34.8716,2,34.8772,2,35.0417,2,256,3,-999,9,40.89,2,20.1,2,0,2,1.44,2,204,35.4229,-66.543,4994.6,4900.6,4901.1
316N20111106,  GT11,8,5,3068,6754,1,  GF-36,2,   36,2,20111117,155,35.4223,-66.5414,4933,4994.6,4901.1,2.2215,34.8716,2,34.8757,2,35.0401,2,256,3,-999,9,41.28,2,20.1,2,0,2,1.43,2,204,35.4229,-66.543,4994.6,4900.6,4901.1