BOTTLE,20170120CCHSIORJL
EXPOCODE,SECT_ID,STNNBR,CASTNO,GEOTR_EVENT,GEOTR_SAMPNO,SAMPNO,BTLNBR,BTLNBR_FLAG_W,BTLNBR_U,BTLNBR_U_FLAG_W,DATE,TIME,LATITUDE,LONGITUDE,BTMDEPTH,CTDPRS,CTDDEPTH,CTDTMP,CTDSAL,CTDSAL_FLAG_W,SALNTY,SALNTY_FLAG_W,SALTREF,SALTREF_FLAG_W,CTDOXY,CTDOXY_FLAG_W,OXYGEN,OXYGEN_FLAG_W,SILCAT,SILCAT_FLAG_W,NITRAT,NITRAT_FLAG_W,NITRIT,NITRIT_FLAG_W,PHSPHT,PHSPHT_FLAG_W,BTL_TIME,BTL_LAT,BTL_LON,ODF_CTDPRS,SMDEPTH,FMDEPTH
,,,,,,,,,,,,,,,METERS,DBAR,METERS,ITS-90,PSS-78,,PSS-78,,G/KG,,UMOL/KG,,UMOL/KG,,UMOL/KG,,UMOL/KG,,UMOL/KG,,UMOL/KG,,,,,DBARS,METERS,METERS
316N20111106,  GT11,20,1,3222,7698,24,   GF-1,2,   1,2,20111203,2219,22.3335,-35.8674,5849,40.8,40.5,25.3277,37.3882,2,37.3865,2,37.5628,2,205.7,3,-999,9,0,2,0,2,0,2,0,2,2304,22.3331,-35.867,40.8,40.5,40.5
316N20111106,  GT11,20,1,3222,7699,23,   GF-2,2,   2,2,20111203,2219,22.3335,-35.8674,5849,40.8,40.5,25.3277,37.3882,2,37.3879,2,37.5642,2,205.7,3,-999,9,0.1,2,0,2,0,2,0,2,2304,22.3331,-35.867,40.8,40.5,40.5
316N20111106,  GT11,20,1,3222,7700,22,   GF-3,2,   3,2,20111203,2219,22.3335,-35.8674,5849,66.5,66,24.7595,37.441,2,37.445,2,37.6216,2,218.4,3,-999,9,0.1,2,0,2,0,2,0,2,2301,22.3331,-35.867,66.5,66.1,66
316N20111106,  GT11,20,1,3222,7701,21,   GF-4,2,   4,2,20111203,2219,22.3335,-35.8674,5849,66.5,66,24.7595,37.441,2,37.4392,2,37.6158,2,218.4,3,-999,9,0.1,2,0,2,0,2,0,2,2301,22.3331,-35.867,66.5,66.1,66
316N20111106,  GT11,20,1,3222,7702,20,   GF-5,2,   5,2,20111203,2219,22.3335,-35.8674,5849,76.5,76.1,23.5791,37.3884,2,37.398,2,37.5744,2,213,3,-999,9,0,2,0,2,0,2,0,2,2259,22.333,-35.867,76.5,76.1,76.1
316N20111106,  GT11,20,1,3222,7703,19,   GF-6,2,   6,2,20111203,2219,22.3335,-35.8674,5849,76.5,76.1,23.5791,37.3884,2,37.3968,2,37.5732,2,213,3,-999,9,0,2,0,2,0,2,0,2,2259,22.333,-35.867,76.5,76.1,76.1
316N20111106,  GT11,20,1,3222,7704,18,   GF-7,2,   7,2,20111203,2219,22.3335,-35.8674,5849,106.8,106.1,21.6868,37.1725,2,37.1765,2,37.3518,2,184,3,-999,9,0.19,2,0.8,2,0.06,2,0.05,2,2254,22.3331,-35.867,106.8,106.3,106.1
316N20111106,  GT11,20,1,3222,7705,17,   GF-8,2,   8,2,20111203,2219,22.3335,-35.8674,5849,106.8,106.1,21.6868,37.1725,2,37.1705,2,37.3458,2,184,3,-999,9,0.19,2,0.78,2,0.06,2,0.04,2,2254,22.3331,-35.867,106.8,106.3,106.1
316N20111106,  GT11,20,1,3222,7706,16,  GF-10,2,  10,2,20111203,2219,22.3335,-35.8674,5849,137.4,136.5,20.7351,37.0231,2,37.0227,2,37.1973,2,171.3,3,-999,9,0.58,2,3.21,2,0.02,2,0.17,2,2252,22.3331,-35.867,137.4,136.7,136.5
316N20111106,  GT11,20,1,3222,7707,15,  GF-11,2,  11,2,20111203,2219,22.3335,-35.8674,5849,137.4,136.5,20.7351,37.0231,2,37.0227,2,37.1973,2,171.3,3,-999,9,0.68,2,3.2,2,0.02,2,0.18,2,2252,22.3331,-35.867,137.4,136.7,136.5
316N20111106,  GT11,20,1,3222,7708,14,  GF-13,2,  13,2,20111203,2219,22.3335,-35.8674,5849,187.9,186.7,19.1705,36.7731,2,36.7833,2,36.9568,2,167.4,3,-999,9,0.97,2,5.68,2,0,2,0.31,2,2248,22.3331,-35.867,187.9,186.9,186.7
316N20111106,  GT11,20,1,3222,7709,13,  GF-16,2,  16,2,20111203,2219,22.3335,-35.8674,5849,187.9,186.7,19.1705,36.7731,2,36.782,2,36.9554,2,167.4,3,-999,9,0.97,2,5.65,2,0,2,0.31,2,2248,22.3331,-35.867,187.9,186.9,186.7
316N20111106,  GT11,20,1,3222,7710,12,  GF-18,2,  18,2,20111203,2219,22.3335,-35.8674,5849,237.7,236,17.5778,36.4813,2,36.4941,2,36.6662,2,158.5,3,-999,9,1.75,2,9,2,0,2,0.52,2,2243,22.3331,-35.867,237.7,236.4,236
316N20111106,  GT11,20,1,3222,7711,11,  GF-19,2,  19,2,20111203,2219,22.3335,-35.8674,5849,237.7,236,17.5778,36.4813,2,36.4907,2,36.6628,2,158.5,3,-999,9,1.85,2,9.01,2,0,2,0.53,2,2243,22.3331,-35.867,237.7,236.4,236
316N20111106,  GT11,20,1,3222,7712,10,  GF-21,2,  21,2,20111203,2219,22.3335,-35.8674,5849,302.7,300.6,16.0607,36.2309,2,36.2281,2,36.399,2,166.4,3,-999,9,2.53,2,10.31,2,0,2,0.61,2,2239,22.3331,-35.8671,302.7,301,300.6
316N20111106,  GT11,20,1,3222,7713,9,  GF-24,2,   24,2,20111203,2219,22.3335,-35.8674,5849,302.7,300.6,16.0607,36.2309,2,36.2271,2,36.398,2,166.4,3,-999,9,2.53,2,10.31,2,0,2,0.61,2,2239,22.3331,-35.8671,302.7,301,300.6
316N20111106,  GT11,20,1,3222,7714,8,  GF-26,2,   26,2,20111203,2219,22.3335,-35.8674,5849,378.4,375.7,14.2884,35.9381,2,35.9382,2,36.1077,2,155.3,3,-999,9,4.1,2,14.14,2,0,2,0.86,2,2235,22.3332,-35.8671,378.4,376.2,375.7
316N20111106,  GT11,20,1,3222,7715,7,  GF-28,2,   28,2,20111203,2219,22.3335,-35.8674,5849,378.4,375.7,14.2884,35.9381,2,35.9388,2,36.1082,2,155.3,3,-999,9,4.19,2,14.07,2,0,2,0.86,2,2235,22.3332,-35.8671,378.4,376.2,375.7
316N20111106,  GT11,20,1,3222,7716,6,  GF-29,2,   29,2,20111203,2219,22.3335,-35.8674,5849,444,440.7,13.3112,35.8009,2,35.8013,2,35.9701,2,158.7,3,-999,9,4.88,2,15.39,2,0,2,0.95,2,2231,22.3333,-35.8672,444,441.3,440.7
316N20111106,  GT11,20,1,3222,7717,5,  GF-30,2,   30,2,20111203,2219,22.3335,-35.8674,5849,444,440.7,13.3112,35.8009,2,35.8009,2,35.9697,2,158.7,3,-999,9,4.97,2,15.39,2,0,2,0.95,2,2231,22.3333,-35.8672,444,441.3,440.7
316N20111106,  GT11,20,1,3222,7718,4,  GF-31,2,   31,2,20111203,2219,22.3335,-35.8674,5849,504.5,500.7,12.428,35.6814,2,35.683,2,35.8512,2,158.1,3,-999,9,5.95,2,16.91,2,0,2,1.05,2,2227,22.3333,-35.8673,504.5,501.3,500.7
316N20111106,  GT11,20,1,3222,7719,3,  GF-33,2,   33,2,20111203,2219,22.3335,-35.8674,5849,504.5,500.7,12.428,35.6814,2,35.6822,2,35.8504,2,158.1,3,-999,9,6.05,2,16.89,2,0,2,1.06,2,2227,22.3333,-35.8673,504.5,501.3,500.7
316N20111106,  GT11,20,1,3222,7720,2,  GF-12,2,   12,2,20111203,2219,22.3335,-35.8674,5849,605.8,601.2,10.8991,35.4873,2,35.4906,2,35.6579,2,144,3,-999,9,9.36,2,21.39,2,0,2,1.37,2,2222,22.3334,-35.8674,605.8,601.8,601.2
316N20111106,  GT11,20,1,3222,7721,1,  GF-36,2,   36,2,20111203,2219,22.3335,-35.8674,5849,605.8,601.2,10.8991,35.4873,2,35.4904,2,35.6577,2,144,3,-999,9,9.36,2,21.34,2,0,2,1.37,2,2222,22.3334,-35.8674,605.8,601.8,601.2
316N20111106,  GT11,20,5,3226,7754,24,   GF-1,2,   1,2,20111204,1206,22.333,-35.867,5848,1920.2,1899.4,3.9649,35.0194,2,35.0217,2,35.1868,2,231.2,3,-999,9,21.86,2,20.68,2,0,2,1.38,2,1416,22.333,-35.8671,1920.2,1898.9,1899.4
316N20111106,  GT11,20,5,3226,7755,23,   GF-2,2,   2,2,20111204,1206,22.333,-35.867,5848,1920.2,1899.4,3.9649,35.0194,2,35.0205,2,35.1856,2,231.2,3,-999,9,21.37,2,20.55,2,0,2,1.36,2,1416,22.333,-35.8671,1920.2,1898.9,1899.4
316N20111106,  GT11,20,5,3226,7756,22,   GF-3,2,   3,2,20111204,1206,22.333,-35.867,5848,2125.5,2101.6,3.6651,35.002,2,35.0041,2,35.1692,2,235,3,-999,9,23.71,2,20.48,2,0,2,1.37,2,1408,22.333,-35.867,2125.5,2101.1,2101.6
316N20111106,  GT11,20,5,3226,7757,21,   GF-4,2,   4,2,20111204,1206,22.333,-35.867,5848,2125.5,2101.6,3.6651,35.002,2,35.0033,2,35.1684,2,235,3,-999,9,23.62,2,20.49,2,0,2,1.37,2,1408,22.333,-35.867,2125.5,2101.1,2101.6
316N20111106,  GT11,20,5,3226,7758,20,   GF-5,2,   5,2,20111204,1206,22.333,-35.867,5848,2328.4,2301.1,3.369,34.9845,2,34.9872,2,35.1522,2,237.9,3,-999,9,26.54,2,20.42,2,0,2,1.38,2,1357,22.333,-35.867,2328.4,2300.6,2301.1
316N20111106,  GT11,20,5,3226,7759,19,   GF-6,2,   6,2,20111204,1206,22.333,-35.867,5848,2328.4,2301.1,3.369,34.9845,2,34.9864,2,35.1514,2,237.9,3,-999,9,26.64,2,20.47,2,0,2,1.38,2,1357,22.333,-35.867,2328.4,2300.6,2301.1
316N20111106,  GT11,20,5,3226,7760,18,   GF-7,2,   7,2,20111204,1206,22.333,-35.867,5848,2531.5,2500.6,3.112,34.9665,2,34.9707,2,35.1356,2,239.4,3,-999,9,29.76,2,20.5,2,0,2,1.39,2,1352,22.333,-35.8671,2531.5,2500.2,2500.6
316N20111106,  GT11,20,5,3226,7761,17,   GF-8,2,   8,2,20111204,1206,22.333,-35.867,5848,2531.5,2500.6,3.112,34.9665,2,34.9683,2,35.1332,2,239.4,3,-999,9,29.86,2,20.52,2,0,2,1.39,2,1352,22.333,-35.8671,2531.5,2500.2,2500.6
316N20111106,  GT11,20,5,3226,7762,16,  GF-10,2,  10,2,20111204,1206,22.333,-35.867,5848,2736.5,2701.8,2.9167,34.9507,2,34.9524,2,35.1172,2,240.9,3,-999,9,32.79,2,20.68,2,0,2,1.4,2,1345,22.333,-35.8671,2736.5,2701.4,2701.8
316N20111106,  GT11,20,5,3226,7763,15,  GF-11,2,  11,2,20111204,1206,22.333,-35.867,5848,2736.5,2701.8,2.9167,34.9507,2,34.952,2,35.1168,2,240.9,3,-999,9,32.59,2,20.67,2,0,2,1.4,2,1345,22.333,-35.8671,2736.5,2701.4,2701.8
316N20111106,  GT11,20,5,3226,7764,14,  GF-13,2,  13,2,20111204,1206,22.333,-35.867,5848,3142.6,3099.8,2.6927,34.9297,2,34.9313,2,35.096,2,241.6,3,-999,9,36.99,2,20.97,2,0,2,1.42,2,1333,22.333,-35.867,3142.6,3099.4,3099.8
316N20111106,  GT11,20,5,3226,7765,13,  GF-16,2,  16,2,20111204,1206,22.333,-35.867,5848,3142.6,3099.8,2.6927,34.9297,2,34.9319,2,35.0966,2,241.6,3,-999,9,36.79,2,20.97,2,0,2,1.42,2,1333,22.333,-35.867,3142.6,3099.4,3099.8
316N20111106,  GT11,20,5,3226,7766,12,  GF-18,2,  18,2,20111204,1206,22.333,-35.867,5848,3552.7,3501.1,2.5107,34.9098,2,34.9124,2,35.0771,2,243,3,-999,9,40.89,2,21.31,2,0,2,1.43,2,1322,22.333,-35.8671,3552.7,3500.6,3501.1
316N20111106,  GT11,20,5,3226,7767,11,  GF-19,2,  19,2,20111204,1206,22.333,-35.867,5848,3552.7,3501.1,2.5107,34.9098,2,34.9121,2,35.0767,2,243,3,-999,9,40.89,2,21.3,2,0,2,1.44,2,1322,22.333,-35.8671,3552.7,3500.6,3501.1
316N20111106,  GT11,20,5,3226,7768,10,  GF-21,2,  21,2,20111204,1206,22.333,-35.867,5848,3962.2,3901,2.4122,34.897,2,34.8991,2,35.0636,2,243.1,3,-999,9,43.92,2,21.61,2,0,2,1.46,2,1309,22.333,-35.8671,3962.2,3900.5,3901
316N20111106,  GT11,20,5,3226,7769,9,  GF-24,2,   24,2,20111204,1206,22.333,-35.867,5848,3962.2,3901,2.4122,34.897,2,34.9006,2,35.0652,2,243.1,3,-999,9,43.92,2,21.57,2,0,2,1.46,2,1309,22.333,-35.8671,3962.2,3900.5,3901
316N20111106,  GT11,20,5,3226,7770,8,  GF-26,2,   26,2,20111204,1206,22.333,-35.867,5848,4372.1,4300.6,2.3869,34.8894,2,34.8916,2,35.0561,2,243.2,3,-999,9,45.48,2,21.77,2,0,2,1.47,2,1255,22.333,-35.867,4372.1,4300.1,4300.6
316N20111106,  GT11,20,5,3226,7771,7,  GF-28,2,   28,2,20111204,1206,22.333,-35.867,5848,4372.1,4300.6,2.3869,34.8894,2,34.892,2,35.0565,2,243.2,3,-999,9,45.48,2,21.74,2,0,2,1.47,2,1255,22.333,-35.867,4372.1,4300.1,4300.6
316N20111106,  GT11,20,5,3226,7772,6,  GF-29,2,   29,2,20111204,1206,22.333,-35.867,5848,4987.8,4899.4,2.3962,34.882,2,34.8843,2,35.0488,2,243.4,3,-999,9,47.04,2,21.83,2,0,2,1.48,2,1238,22.333,-35.867,4987.8,4898.7,4899.4
316N20111106,  GT11,20,5,3226,7773,5,  GF-30,2,   30,2,20111204,1206,22.333,-35.867,5848,4987.8,4899.4,2.3962,34.882,2,34.8843,2,35.0488,2,243.4,3,-999,9,46.94,2,21.85,2,0,2,1.47,2,1238,22.333,-35.867,4987.8,4898.7,4899.4
316N20111106,  GT11,20,5,3226,7774,4,  GF-31,2,   31,2,20111204,1206,22.333,-35.867,5848,5349.2,5250.3,2.4059,34.8778,2,34.8823,2,35.0468,2,244.4,3,-999,9,47.53,2,21.79,2,0,2,1.48,2,1228,22.333,-35.867,5349.2,5249.4,5250.3
316N20111106,  GT11,20,5,3226,7775,3,  GF-33,2,   33,2,20111204,1206,22.333,-35.867,5848,5349.2,5250.3,2.4059,34.8778,2,34.881,2,35.0454,2,244.4,3,-999,9,47.53,2,21.82,2,0,2,1.47,2,1228,22.333,-35.867,5349.2,5249.4,5250.3
316N20111106,  GT11,20,5,3226,7776,2,  GF-12,2,   12,2,20111204,1206,22.333,-35.867,5848,5917.4,5800.6,2.4677,34.8753,2,34.8786,2,35.0431,2,245,3,-999,9,47.82,2,21.79,2,0,2,1.48,2,1212,22.333,-35.867,5917.4,5799.4,5800.6
316N20111106,  GT11,20,5,3226,7777,1,  GF-36,2,   36,2,20111204,1206,22.333,-35.867,5848,5917.4,5800.6,2.4677,34.8753,2,34.8798,2,35.0443,2,245,3,-999,9,48.11,2,21.79,2,0,2,1.48,2,1212,22.333,-35.867,5917.4,5799.4,5800.6
316N20111106,  GT11,20,10,3232,7824,24,   GF-1,2,   1,2,20111205,1237,22.3763,-35.868,5431,706.5,700.9,9.8325,35.3564,2,35.361,2,35.5278,2,136.4,3,-999,9,11.8,2,23.8,2,0,2,1.48,2,1459,22.3763,-35.868,706.5,700.7,700.9
316N20111106,  GT11,20,10,3232,7825,23,   GF-2,2,   2,2,20111205,1237,22.3763,-35.868,5431,706.5,700.9,9.8325,35.3564,2,35.3591,2,35.5258,2,136.4,3,-999,9,12.1,2,23.84,2,0,2,1.48,2,1459,22.3763,-35.868,706.5,700.7,700.9
316N20111106,  GT11,20,10,3232,7826,22,   GF-3,2,   3,2,20111205,1237,22.3763,-35.868,5431,817.6,810.9,8.3021,35.1786,2,35.1778,2,35.3437,2,135.3,3,-999,9,16,2,26.38,2,0,2,1.69,2,1455,22.3763,-35.868,817.6,810.7,810.9
316N20111106,  GT11,20,10,3232,7827,21,   GF-4,2,   4,2,20111205,1237,22.3763,-35.868,5431,817.6,810.9,8.3021,35.1786,2,35.1773,2,35.3431,2,135.3,3,-999,9,15.9,2,26.38,2,0,2,1.69,2,1455,22.3763,-35.868,817.6,810.7,810.9
316N20111106,  GT11,20,10,3232,7828,20,   GF-5,2,   5,2,20111205,1237,22.3763,-35.868,5431,935.1,927.2,6.9812,35.0542,2,35.0583,2,35.2236,2,145.8,3,-999,9,18.64,2,27.21,2,0,2,1.79,2,1449,22.3764,-35.868,935.1,927.1,927.2
316N20111106,  GT11,20,10,3232,7829,19,   GF-6,2,   6,2,20111205,1237,22.3763,-35.868,5431,935.1,927.2,6.9812,35.0542,2,35.0585,2,35.2239,2,145.8,3,-999,9,18.64,2,27.19,2,0,2,1.78,2,1449,22.3764,-35.868,935.1,927.1,927.2
316N20111106,  GT11,20,10,3232,7830,18,   GF-7,2,   7,2,20111205,1237,22.3763,-35.868,5431,1071.3,1061.8,6.0954,35.0214,2,35.0208,2,35.1859,2,163.5,3,-999,9,19.32,2,26.05,2,0,2,1.73,2,1445,22.3764,-35.868,1071.3,1061.8,1061.8
316N20111106,  GT11,20,10,3232,7831,17,   GF-8,2,   8,2,20111205,1237,22.3763,-35.868,5431,1071.3,1061.8,6.0954,35.0214,2,35.0227,2,35.1879,2,163.5,3,-999,9,19.22,2,26.07,2,0,2,1.73,2,1445,22.3764,-35.868,1071.3,1061.8,1061.8
316N20111106,  GT11,20,10,3232,7832,16,  GF-10,2,  10,2,20111205,1237,22.3763,-35.868,5431,1211.5,1200.5,5.6787,35.0472,2,35.0541,2,35.2194,2,186.1,3,-999,9,18.25,2,24.09,2,0,2,1.6,2,1440,22.3763,-35.868,1211.5,1200.5,1200.5
316N20111106,  GT11,20,10,3232,7833,15,  GF-11,2,  11,2,20111205,1237,22.3763,-35.868,5431,1211.5,1200.5,5.6787,35.0472,2,35.048,2,35.2132,2,186.1,3,-999,9,18.25,2,24.14,2,0,2,1.61,2,1440,22.3763,-35.868,1211.5,1200.5,1200.5
316N20111106,  GT11,20,10,3232,7834,14,  GF-13,2,  13,2,20111205,1237,22.3763,-35.868,5431,1363.6,1350.6,5.2146,35.0646,2,35.0647,2,35.2301,2,205.2,3,-999,9,17.56,2,22.25,2,0,2,1.48,2,1434,22.3764,-35.868,1363.6,1350.7,1350.6
316N20111106,  GT11,20,10,3232,7835,13,  GF-16,2,  16,2,20111205,1237,22.3763,-35.868,5431,1363.6,1350.6,5.2146,35.0646,2,35.0663,2,35.2317,2,205.2,3,-999,9,17.56,2,22.26,2,0,2,1.48,2,1434,22.3764,-35.868,1363.6,1350.7,1350.6
316N20111106,  GT11,20,10,3232,7836,12,  GF-18,2,  18,2,20111205,1237,22.3763,-35.868,5431,1515.7,1500.8,4.7265,35.0431,2,35.0443,2,35.2095,2,215.9,3,-999,9,18.35,2,21.62,2,0,2,1.45,2,1429,22.3764,-35.868,1515.7,1500.9,1500.8
316N20111106,  GT11,20,10,3232,7837,11,  GF-19,2,  19,2,20111205,1237,22.3763,-35.868,5431,1515.7,1500.8,4.7265,35.0431,2,35.0498,2,35.2151,2,215.9,3,-999,9,18.25,2,21.63,2,0,2,1.45,2,1429,22.3764,-35.868,1515.7,1500.9,1500.8
316N20111106,  GT11,20,10,3232,7838,10,  GF-21,2,  21,2,20111205,1237,22.3763,-35.868,5431,1643.3,1626.7,4.4935,35.0466,2,35.0469,2,35.2122,2,223.1,3,-999,9,18.83,2,21.01,2,0,2,1.41,2,1421,22.3763,-35.868,1643.3,1626.8,1626.7
316N20111106,  GT11,20,10,3232,7839,9,  GF-24,2,   24,2,20111205,1237,22.3763,-35.868,5431,1643.3,1626.7,4.4935,35.0466,2,35.0501,2,35.2153,2,223.1,3,-999,9,18.74,2,21.01,2,0,2,1.41,2,1421,22.3763,-35.868,1643.3,1626.8,1626.7
316N20111106,  GT11,20,10,3232,7840,8,  GF-26,2,   26,2,20111205,1237,22.3763,-35.868,5431,1770.1,1751.6,4.2033,35.0325,2,35.0333,2,35.1985,2,227.4,3,-999,9,20.2,2,20.9,2,0,2,1.41,2,1417,22.3764,-35.868,1770.1,1751.7,1751.6
316N20111106,  GT11,20,10,3232,7841,7,  GF-28,2,   28,2,20111205,1237,22.3763,-35.868,5431,1770.1,1751.6,4.2033,35.0325,2,35.0345,2,35.1997,2,227.4,3,-999,9,20.2,2,20.91,2,0,2,1.41,2,1417,22.3764,-35.868,1770.1,1751.7,1751.6
316N20111106,  GT11,20,10,3232,7842,6,  GF-29,2,   29,2,20111205,1237,22.3763,-35.868,5431,4783.9,4701.3,2.3867,34.8837,2,34.8856,2,35.0501,2,243.7,3,-999,9,46.75,2,21.95,2,0,2,1.49,2,1302,22.3763,-35.868,4783.9,4701.6,4701.3
316N20111106,  GT11,20,10,3232,7843,5,  GF-30,2,   30,2,20111205,1237,22.3763,-35.868,5431,4783.9,4701.3,2.3867,34.8837,2,34.8858,2,35.0503,2,243.7,3,-999,9,46.36,2,21.93,2,0,2,1.49,2,1302,22.3763,-35.868,4783.9,4701.6,4701.3
316N20111106,  GT11,20,10,3232,7844,4,  GF-31,2,   31,2,20111205,1237,22.3763,-35.868,5431,5196.2,5101.8,2.3948,34.8787,2,34.8817,2,35.0462,2,244.8,3,-999,9,47.23,2,21.89,2,0,2,1.49,2,1252,22.3763,-35.868,5196.2,5101.9,5101.8
316N20111106,  GT11,20,10,3232,7845,3,  GF-33,2,   33,2,20111205,1237,22.3763,-35.868,5431,5196.2,5101.8,2.3948,34.8787,2,34.8833,2,35.0478,2,244.8,3,-999,9,47.33,2,21.89,2,0,2,1.49,2,1252,22.3763,-35.868,5196.2,5101.9,5101.8
316N20111106,  GT11,20,10,3232,7846,2,  GF-12,2,   12,2,20111205,1237,22.3763,-35.868,5431,5494.5,5391.1,2.4179,34.8764,2,34.8784,2,35.0428,2,245.2,3,-999,9,47.72,2,21.89,2,0,2,1.49,2,1243,22.3763,-35.868,5494.5,5391.1,5391.1
316N20111106,  GT11,20,10,3232,7847,1,  GF-36,2,   36,2,20111205,1237,22.3763,-35.868,5431,5494.5,5391.1,2.4179,34.8764,2,34.8802,2,35.0446,2,245.2,3,-999,9,48.11,2,21.89,2,0,2,1.49,2,1243,22.3763,-35.868,5494.5,5391.1,5391.1