BOTTLE,20170120CCHSIORJL
EXPOCODE,SECT_ID,STNNBR,CASTNO,GEOTR_EVENT,GEOTR_SAMPNO,SAMPNO,BTLNBR,BTLNBR_FLAG_W,BTLNBR_U,BTLNBR_U_FLAG_W,DATE,TIME,LATITUDE,LONGITUDE,BTMDEPTH,CTDPRS,CTDDEPTH,CTDTMP,CTDSAL,CTDSAL_FLAG_W,SALNTY,SALNTY_FLAG_W,SALTREF,SALTREF_FLAG_W,CTDOXY,CTDOXY_FLAG_W,OXYGEN,OXYGEN_FLAG_W,SILCAT,SILCAT_FLAG_W,NITRAT,NITRAT_FLAG_W,NITRIT,NITRIT_FLAG_W,PHSPHT,PHSPHT_FLAG_W,BTL_TIME,BTL_LAT,BTL_LON,ODF_CTDPRS,SMDEPTH,FMDEPTH
,,,,,,,,,,,,,,,METERS,DBAR,METERS,ITS-90,PSS-78,,PSS-78,,G/KG,,UMOL/KG,,UMOL/KG,,UMOL/KG,,UMOL/KG,,UMOL/KG,,UMOL/KG,,,,,DBARS,METERS,METERS
316N20111106,  GT11,12,5,3116,7062,24,   GF-1,2,   1,2,20111123,2049,29.7,-56.8171,5645,2584.7,2551.4,3.2345,34.9708,2,34.9754,2,35.1403,2,251.7,3,-999,9,25.47,2,19.28,2,0,2,1.29,2,2214,29.7,-56.8171,2584.7,2550.7,2551.4
316N20111106,  GT11,12,5,3116,7063,23,   GF-2,2,   2,2,20111123,2049,29.7,-56.8171,5645,2584.7,2551.4,3.2345,34.9708,2,34.9725,2,35.1374,2,251.7,3,-999,9,25.27,2,19.18,2,0,2,1.29,2,2214,29.7,-56.8171,2584.7,2550.7,2551.4
316N20111106,  GT11,12,5,3116,7064,22,   GF-3,2,   3,2,20111123,2049,29.7,-56.8171,5645,2737.6,2701.4,3.1326,34.9627,2,34.9656,2,35.1305,2,251.6,3,-999,9,26.93,2,19.44,2,0,2,1.31,2,2210,29.7,-56.8171,2737.6,2700.7,2701.4
316N20111106,  GT11,12,5,3116,7065,21,   GF-4,2,   4,2,20111123,2049,29.7,-56.8171,5645,2737.6,2701.4,3.1326,34.9627,2,34.9646,2,35.1295,2,251.6,3,-999,9,27.03,2,19.39,2,0,2,1.32,2,2210,29.7,-56.8171,2737.6,2700.7,2701.4
316N20111106,  GT11,12,5,3116,7066,20,   GF-5,2,   5,2,20111123,2049,29.7,-56.8171,5645,3043.4,3001.1,2.92,34.944,2,34.9466,2,35.1113,2,254.2,3,-999,9,28.3,2,19.4,2,0,2,1.32,2,2202,29.7,-56.8171,3043.4,3000.4,3001.1
316N20111106,  GT11,12,5,3116,7067,19,   GF-6,2,   6,2,20111123,2049,29.7,-56.8171,5645,3043.4,3001.1,2.92,34.944,2,34.9462,2,35.111,2,254.2,3,-999,9,28.2,2,19.47,2,0,2,1.32,2,2202,29.7,-56.8171,3043.4,3000.4,3001.1
316N20111106,  GT11,12,5,3116,7068,18,   GF-7,2,   7,2,20111123,2049,29.7,-56.8171,5645,3348.9,3300.1,2.7067,34.9265,2,34.9293,2,35.094,2,258.6,3,-999,9,28.3,2,19.1,2,0,2,1.31,2,2155,29.7,-56.817,3348.9,3299.4,3300.1
316N20111106,  GT11,12,5,3116,7069,17,   GF-8,2,   8,2,20111123,2049,29.7,-56.8171,5645,3348.9,3300.1,2.7067,34.9265,2,34.929,2,35.0937,2,258.6,3,-999,9,28.59,2,19.1,2,0,2,1.31,2,2155,29.7,-56.817,3348.9,3299.4,3300.1
316N20111106,  GT11,12,5,3116,7070,16,  GF-10,2,  10,2,20111123,2049,29.7,-56.8171,5645,3657.2,3601.2,2.4884,34.9091,2,34.9118,2,35.0765,2,261.3,3,-999,9,29.96,2,18.96,2,0,2,1.31,2,2147,29.7,-56.8171,3657.2,3600.5,3601.2
316N20111106,  GT11,12,5,3116,7071,15,  GF-11,2,  11,2,20111123,2049,29.7,-56.8171,5645,3657.2,3601.2,2.4884,34.9091,2,34.9126,2,35.0773,2,261.3,3,-999,9,29.86,2,18.89,2,0,2,1.31,2,2147,29.7,-56.8171,3657.2,3600.5,3601.2
316N20111106,  GT11,12,5,3116,7072,14,  GF-13,2,  13,2,20111123,2049,29.7,-56.8171,5645,3964.8,3901.5,2.3479,34.8952,2,34.8952,2,35.0597,2,259.5,3,-999,9,35.62,2,19.68,2,0,2,1.36,2,2139,29.7,-56.8171,3964.8,3900.7,3901.5
316N20111106,  GT11,12,5,3116,7073,13,  GF-16,2,  16,2,20111123,2049,29.7,-56.8171,5645,3964.8,3901.5,2.3479,34.8952,2,34.8975,2,35.0621,2,259.5,3,-999,9,34.64,2,19.55,2,0,2,1.35,2,2139,29.7,-56.8171,3964.8,3900.7,3901.5
316N20111106,  GT11,12,5,3116,7074,12,  GF-18,2,  18,2,20111123,2049,29.7,-56.8171,5645,4374.3,4300.4,2.2425,34.881,2,34.8842,2,35.0487,2,257.5,3,-999,9,39.92,2,20.26,2,0,2,1.41,2,2130,29.7,-56.8171,4374.3,4299.6,4300.4
316N20111106,  GT11,12,5,3116,7075,11,  GF-19,2,  19,2,20111123,2049,29.7,-56.8171,5645,4374.3,4300.4,2.2425,34.881,2,34.884,2,35.0485,2,257.5,3,-999,9,40.11,2,20.27,2,0,2,1.41,2,2130,29.7,-56.8171,4374.3,4299.6,4300.4
316N20111106,  GT11,12,5,3116,7076,10,  GF-21,2,  21,2,20111123,2049,29.7,-56.8171,5645,4785.9,4700.7,2.1514,34.8655,2,34.8686,2,35.0331,2,254,3,-999,9,47.14,2,21.3,2,0,2,1.48,2,2120,29.7,-56.8171,4785.9,4699.8,4700.7
316N20111106,  GT11,12,5,3116,7077,9,  GF-24,2,   24,2,20111123,2049,29.7,-56.8171,5645,4785.9,4700.7,2.1514,34.8655,2,34.8692,2,35.0337,2,254,3,-999,9,47.04,2,21.29,2,0,2,1.47,2,2120,29.7,-56.8171,4785.9,4699.8,4700.7
316N20111106,  GT11,12,5,3116,7078,8,  GF-25,4,   25,4,20111123,2049,29.7,-56.8171,5645,5197.9,5100.7,2.0838,34.8518,2,34.8757,4,35.0402,4,251.9,3,-999,9,44.5,4,20.92,4,0,4,1.45,4,2110,29.7,-56.8171,5197.9,5099.6,5100.7
316N20111106,  GT11,12,5,3116,7079,7,  GF-26,2,   26,2,20111123,2049,29.7,-56.8171,5645,5197.9,5100.7,2.0838,34.8518,2,34.8549,2,35.0193,2,251.9,3,-999,9,52.21,2,22,2,0,2,1.54,2,2110,29.7,-56.8171,5197.9,5099.6,5100.7
316N20111106,  GT11,12,5,3116,7080,6,  GF-28,2,   28,2,20111123,2049,29.7,-56.8171,5645,5507.9,5401.2,2.1128,34.8502,2,34.8543,2,35.0187,2,248.1,3,-999,9,52.9,2,22.13,2,0,2,1.55,2,2101,29.7,-56.8171,5507.9,5400,5401.2
316N20111106,  GT11,12,5,3116,7081,5,  GF-29,2,   29,2,20111123,2049,29.7,-56.8171,5645,5507.9,5401.2,2.1128,34.8502,2,34.8646,4,35.029,4,248.1,3,-999,9,52.21,2,22.03,2,0,2,1.54,2,2101,29.7,-56.8171,5507.9,5400,5401.2
316N20111106,  GT11,12,5,3116,7082,4,  GF-30,2,   30,2,20111123,2049,29.7,-56.8171,5645,5571.5,5462.8,2.1184,34.8495,2,34.8532,2,35.0175,2,248.1,3,-999,9,53.29,2,22.17,2,0,2,1.56,2,2058,29.7,-56.8171,5571.5,5461.5,5462.8
316N20111106,  GT11,12,5,3116,7083,3,  GF-31,2,   31,2,20111123,2049,29.7,-56.8171,5645,5571.5,5462.8,2.1184,34.8495,2,34.8544,2,35.0187,2,248.1,3,-999,9,52.99,2,22.13,2,0,2,1.56,2,2058,29.7,-56.8171,5571.5,5461.5,5462.8
316N20111106,  GT11,12,5,3116,7084,2,  GF-33,2,   33,2,20111123,2049,29.7,-56.8171,5645,5730.3,5616.6,2.1386,34.8491,2,34.8532,2,35.0175,2,249.1,3,-999,9,53.19,2,22.19,2,0,2,1.56,2,2051,29.7,-56.8171,5730.3,5615.2,5616.6
316N20111106,  GT11,12,5,3116,7085,1,  GF-36,2,   36,2,20111123,2049,29.7,-56.8171,5645,5730.3,5616.6,2.1386,34.8491,2,34.8526,2,35.017,2,249.1,3,-999,9,53.58,2,22.21,2,0,2,1.56,2,2051,29.7,-56.8171,5730.3,5615.2,5616.6
316N20111106,  GT11,12,11,3122,7132,24,   GF-1,2,   1,2,20111124,1845,29.7,-56.8169,5643,883.6,875.7,8.4238,35.1886,2,35.1959,2,35.3619,2,157.9,3,-999,9,13.95,2,23.25,2,0,2,1.48,2,2020,29.7,-56.8169,883.6,875.4,875.7
316N20111106,  GT11,12,11,3122,7133,23,   GF-2,2,   2,2,20111124,1845,29.7,-56.8169,5643,883.6,875.7,8.4238,35.1886,2,35.1886,2,35.3546,2,157.9,3,-999,9,13.76,2,23.08,2,0,2,1.48,2,2020,29.7,-56.8169,883.6,875.4,875.7
316N20111106,  GT11,12,11,3122,7134,22,   GF-3,2,   3,2,20111124,1845,29.7,-56.8169,5643,1009.8,1000.5,6.9864,35.1233,2,35.1311,2,35.2968,2,185.1,3,-999,9,13.95,2,21.8,2,0,2,1.43,2,2015,29.7,-56.8169,1009.8,1000.3,1000.5
316N20111106,  GT11,12,11,3122,7135,21,   GF-4,2,   4,2,20111124,1845,29.7,-56.8169,5643,1009.8,1000.5,6.9864,35.1233,2,35.126,2,35.2916,2,185.1,3,-999,9,14.15,2,21.89,2,0,2,1.44,2,2015,29.7,-56.8169,1009.8,1000.3,1000.5
316N20111106,  GT11,12,11,3122,7136,20,   GF-5,2,   5,2,20111124,1845,29.7,-56.8169,5643,1110.1,1099.6,6.1677,35.1196,2,35.1219,2,35.2875,2,206.5,3,-999,9,13.56,2,20.39,2,0,2,1.35,2,2011,29.7,-56.8169,1110.1,1099.5,1099.6
316N20111106,  GT11,12,11,3122,7137,19,   GF-6,2,   6,2,20111124,1845,29.7,-56.8169,5643,1110.1,1099.6,6.1677,35.1196,2,35.1211,2,35.2867,2,206.5,3,-999,9,13.56,2,20.44,2,0,2,1.36,2,2011,29.7,-56.8169,1110.1,1099.5,1099.6
316N20111106,  GT11,12,11,3122,7138,18,   GF-7,2,   7,2,20111124,1845,29.7,-56.8169,5643,1211.8,1200,5.7215,35.1154,2,35.1168,2,35.2824,2,219.2,3,-999,9,13.37,2,19.74,2,0,2,1.31,2,2005,29.7,-56.8169,1211.8,1199.9,1200
316N20111106,  GT11,12,11,3122,7139,17,   GF-8,2,   8,2,20111124,1845,29.7,-56.8169,5643,1211.8,1200,5.7215,35.1154,2,35.1166,2,35.2822,2,219.2,3,-999,9,13.37,2,19.74,2,0,2,1.32,2,2005,29.7,-56.8169,1211.8,1199.9,1200
316N20111106,  GT11,12,11,3122,7140,16,  GF-10,2,  10,2,20111124,1845,29.7,-56.8169,5643,1363.7,1350.1,5.2004,35.0982,2,35.1036,2,35.2691,2,234.7,3,-999,9,12.78,2,18.64,2,0,2,1.25,2,1959,29.7,-56.8169,1363.7,1350,1350.1
316N20111106,  GT11,12,11,3122,7141,15,  GF-11,2,  11,2,20111124,1845,29.7,-56.8169,5643,1363.7,1350.1,5.2004,35.0982,2,35.1012,2,35.2667,2,234.7,3,-999,9,12.78,2,18.66,2,0,2,1.25,2,1959,29.7,-56.8169,1363.7,1350,1350.1
316N20111106,  GT11,12,11,3122,7142,14,  GF-13,2,  13,2,20111124,1845,29.7,-56.8169,5643,1515.5,1499.7,4.7477,35.069,2,35.0711,2,35.2365,2,245.9,3,-999,9,12.98,2,18.25,2,0,2,1.22,2,1953,29.7,-56.8169,1515.5,1499.7,1499.7
316N20111106,  GT11,12,11,3122,7143,13,  GF-16,2,  16,2,20111124,1845,29.7,-56.8169,5643,1515.5,1499.7,4.7477,35.069,2,35.0717,2,35.2371,2,245.9,3,-999,9,13.08,2,18.25,2,0,2,1.22,2,1953,29.7,-56.8169,1515.5,1499.7,1499.7
316N20111106,  GT11,12,11,3122,7144,12,  GF-18,2,  18,2,20111124,1845,29.7,-56.8169,5643,1668.2,1650.3,4.2729,35.019,2,35.0223,2,35.1874,2,254.4,3,-999,9,12.88,2,17.75,2,0,2,1.19,2,1947,29.7,-56.8169,1668.2,1650.2,1650.3
316N20111106,  GT11,12,11,3122,7145,11,  GF-19,2,  19,2,20111124,1845,29.7,-56.8169,5643,1668.2,1650.3,4.2729,35.019,2,35.0231,2,35.1882,2,254.4,3,-999,9,12.88,2,17.78,2,0,2,1.19,2,1947,29.7,-56.8169,1668.2,1650.2,1650.3
316N20111106,  GT11,12,11,3122,7146,10,  GF-21,2,  21,2,20111124,1845,29.7,-56.8169,5643,1820.3,1800.1,4.1883,35.0383,2,35.0408,2,35.206,2,249.7,3,-999,9,15.13,2,18.14,2,0,2,1.22,2,1943,29.7,-56.8169,1820.3,1800.1,1800.1
316N20111106,  GT11,12,11,3122,7147,9,  GF-24,2,   24,2,20111124,1845,29.7,-56.8169,5643,1820.3,1800.1,4.1883,35.0383,2,35.0451,2,35.2104,2,249.7,3,-999,9,14.93,2,18.1,2,0,2,1.22,2,1943,29.7,-56.8169,1820.3,1800.1,1800.1
316N20111106,  GT11,12,11,3122,7148,8,  GF-25,2,   25,2,20111124,1845,29.7,-56.8169,5643,1972.7,1950.1,3.936,35.0168,2,35.019,2,35.1841,2,253.3,3,-999,9,16.3,2,18.15,2,0,2,1.23,2,1934,29.7,-56.8169,1972.7,1950.2,1950.1
316N20111106,  GT11,12,11,3122,7149,7,  GF-26,2,   26,2,20111124,1845,29.7,-56.8169,5643,1972.7,1950.1,3.936,35.0168,2,35.0182,2,35.1833,2,253.3,3,-999,9,16.3,2,18.16,2,0,2,1.23,2,1934,29.7,-56.8169,1972.7,1950.2,1950.1
316N20111106,  GT11,12,11,3122,7150,6,  GF-28,2,   28,2,20111124,1845,29.7,-56.8169,5643,2126,2100.9,3.7506,35.0108,2,35.0137,2,35.1788,2,251.4,3,-999,9,19.03,2,18.51,2,0,2,1.26,2,1929,29.7,-56.8169,2126,2101,2100.9
316N20111106,  GT11,12,11,3122,7151,5,  GF-29,2,   29,2,20111124,1845,29.7,-56.8169,5643,2126,2100.9,3.7506,35.0108,2,35.0131,2,35.1782,2,251.4,3,-999,9,18.93,2,18.51,2,0,2,1.26,2,1929,29.7,-56.8169,2126,2101,2100.9
316N20111106,  GT11,12,11,3122,7152,4,  GF-30,2,   30,2,20111124,1845,29.7,-56.8169,5643,2278.2,2250.5,3.5613,34.9971,2,35.0001,2,35.1651,2,251,3,-999,9,21.18,2,18.73,2,0,2,1.28,2,1924,29.7,-56.8169,2278.2,2250.6,2250.5
316N20111106,  GT11,12,11,3122,7153,3,  GF-31,2,   31,2,20111124,1845,29.7,-56.8169,5643,2278.2,2250.5,3.5613,34.9971,2,35.0011,2,35.1661,2,251,3,-999,9,21.08,2,18.69,2,0,2,1.28,2,1924,29.7,-56.8169,2278.2,2250.6,2250.5
316N20111106,  GT11,12,11,3122,7154,2,  GF-33,2,   33,2,20111124,1845,29.7,-56.8169,5643,2431.2,2400.8,3.3823,34.98,2,34.9828,2,35.1478,2,251.4,3,-999,9,22.44,2,18.71,2,0,2,1.28,2,1916,29.7,-56.8169,2431.2,2400.9,2400.8
316N20111106,  GT11,12,11,3122,7155,1,  GF-36,2,   36,2,20111124,1845,29.7,-56.8169,5643,2431.2,2400.8,3.3823,34.98,2,34.9832,2,35.1482,2,251.4,3,-999,9,22.54,2,18.71,2,0,2,1.28,2,1916,29.7,-56.8169,2431.2,2400.9,2400.8
316N20111106,  GT11,13,1,3133,7170,24,   GF-1,2,    1,2,20111125,1817,28.6432,-53.2225,5282,45.8,45.5,25.1011,36.94,2,36.9657,2,37.1401,2,205,3,-999,9,0.49,2,0,2,0,2,0,2,1914,28.6438,-53.2242,45.8,45.5,45.5
316N20111106,  GT11,13,1,3133,7171,23,   GF-2,2,    2,2,20111125,1817,28.6432,-53.2225,5282,45.8,45.5,25.1011,36.94,2,36.9663,2,37.1407,2,205,3,-999,9,0.39,2,0,2,0,2,0,2,1914,28.6438,-53.2242,45.8,45.5,45.5
316N20111106,  GT11,13,1,3133,7172,22,   GF-3,2,    3,2,20111125,1817,28.6432,-53.2225,5282,100.6,99.9,20.4784,36.8116,2,36.8113,2,36.9849,2,218.8,3,-999,9,0.29,2,0,2,0.05,2,0,2,1910,28.6436,-53.2238,100.6,100,99.9
316N20111106,  GT11,13,1,3133,7173,21,   GF-4,2,    4,2,20111125,1817,28.6432,-53.2225,5282,100.6,99.9,20.4784,36.8116,2,36.8103,2,36.9839,2,218.8,3,-999,9,0.19,2,0,2,0.06,2,0,2,1910,28.6436,-53.2238,100.6,100,99.9
316N20111106,  GT11,13,1,3133,7174,20,   GF-5,2,    5,2,20111125,1817,28.6432,-53.2225,5282,136.3,135.3,19.5102,36.7197,2,36.7252,2,36.8984,2,199.6,3,-999,9,0.29,2,0.88,2,0,2,0,2,1908,28.6436,-53.2236,136.3,135.5,135.3
316N20111106,  GT11,13,1,3133,7175,19,   GF-6,2,    6,2,20111125,1817,28.6432,-53.2225,5282,136.3,135.3,19.5102,36.7197,2,36.7229,2,36.896,2,199.6,3,-999,9,0.29,2,0.87,2,0.01,2,0,2,1908,28.6436,-53.2236,136.3,135.5,135.3
316N20111106,  GT11,13,1,3133,7176,18,   GF-7,2,    7,2,20111125,1817,28.6432,-53.2225,5282,186.6,185.3,18.4605,36.5925,2,36.5912,2,36.7638,2,195.2,3,-999,9,0.78,2,3.26,2,0,2,0.1,2,1905,28.6435,-53.2234,186.6,185.5,185.3
316N20111106,  GT11,13,1,3133,7177,17,   GF-8,2,    8,2,20111125,1817,28.6432,-53.2225,5282,186.6,185.3,18.4605,36.5925,2,36.5896,2,36.7622,2,195.2,3,-999,9,0.68,2,3.25,2,0,2,0.1,2,1905,28.6435,-53.2234,186.6,185.5,185.3
316N20111106,  GT11,13,1,3133,7178,16,  GF-10,2,   10,2,20111125,1817,28.6432,-53.2225,5282,237,235.3,17.9615,36.5282,2,36.5282,2,36.7004,2,201.2,3,-999,9,0.88,2,4.14,2,0,2,0.17,2,1902,28.6434,-53.2232,237,235.6,235.3
316N20111106,  GT11,13,1,3133,7179,15,  GF-11,2,   11,2,20111125,1817,28.6432,-53.2225,5282,237,235.3,17.9615,36.5282,2,36.5288,2,36.701,2,201.2,3,-999,9,0.88,2,4.12,2,0,2,0.17,2,1902,28.6434,-53.2232,237,235.6,235.3
316N20111106,  GT11,13,1,3133,7180,14,  GF-13,2,   13,2,20111125,1817,28.6432,-53.2225,5282,288,285.8,17.6237,36.4859,2,36.4882,2,36.6602,2,200.5,3,-999,9,1.17,2,4.76,2,0,2,0.2,2,1859,28.6434,-53.223,288,286.2,285.8
316N20111106,  GT11,13,1,3133,7181,13,  GF-16,2,   16,2,20111125,1817,28.6432,-53.2225,5282,288,285.8,17.6237,36.4859,2,36.4876,2,36.6596,2,200.5,3,-999,9,1.17,2,4.75,2,0,2,0.19,2,1859,28.6434,-53.223,288,286.2,285.8
316N20111106,  GT11,13,1,3133,7182,12,  GF-18,2,   18,2,20111125,1817,28.6432,-53.2225,5282,352.3,349.7,17.1734,36.4147,2,36.4177,2,36.5894,2,201.4,3,-999,9,1.36,2,5.46,2,0,2,0.25,2,1855,28.6433,-53.2228,352.3,350.1,349.7
316N20111106,  GT11,13,1,3133,7183,11,  GF-19,2,   19,2,20111125,1817,28.6432,-53.2225,5282,352.3,349.7,17.1734,36.4147,2,36.4175,2,36.5892,2,201.4,3,-999,9,1.27,2,5.44,2,0,2,0.25,2,1855,28.6433,-53.2228,352.3,350.1,349.7
316N20111106,  GT11,13,1,3133,7184,10,  GF-21,2,   21,2,20111125,1817,28.6432,-53.2225,5282,424.1,420.9,16.4328,36.2769,2,36.2743,2,36.4454,2,196.9,3,-999,9,1.95,2,7.05,2,0,2,0.36,2,1851,28.6433,-53.2227,424.1,421.4,420.9
316N20111106,  GT11,13,1,3133,7185,9,  GF-24,2,    24,2,20111125,1817,28.6432,-53.2225,5282,424.1,420.9,16.4328,36.2769,2,36.2713,2,36.4424,2,196.9,3,-999,9,1.95,2,7.06,2,0,2,0.36,2,1851,28.6433,-53.2227,424.1,421.4,420.9
316N20111106,  GT11,13,1,3133,7186,8,  GF-25,2,    25,2,20111125,1817,28.6432,-53.2225,5282,534.6,530.3,14.5704,35.9603,2,35.9571,2,36.1266,2,183.7,3,-999,9,3.61,2,11.18,2,0,2,0.63,2,1846,28.6432,-53.2226,534.6,531,530.3
316N20111106,  GT11,13,1,3133,7187,7,  GF-26,2,    26,2,20111125,1817,28.6432,-53.2225,5282,534.6,530.3,14.5704,35.9603,2,35.9604,2,36.13,2,183.7,3,-999,9,3.51,2,11.06,2,0,2,0.62,2,1846,28.6432,-53.2226,534.6,531,530.3
316N20111106,  GT11,13,1,3133,7188,6,  GF-28,2,    28,2,20111125,1817,28.6432,-53.2225,5282,670.2,664.7,12.1274,35.6151,2,35.6154,2,35.7833,2,166.3,3,-999,9,6.93,2,16.94,2,0,2,1.01,2,1841,28.6432,-53.2225,670.2,665.5,664.7
316N20111106,  GT11,13,1,3133,7189,5,  GF-29,2,    29,2,20111125,1817,28.6432,-53.2225,5282,670.2,664.7,12.1274,35.6151,2,35.6176,2,35.7855,2,166.3,3,-999,9,6.83,2,16.8,2,0,2,1,2,1841,28.6432,-53.2225,670.2,665.5,664.7
316N20111106,  GT11,13,1,3133,7190,4,  GF-30,2,    30,2,20111125,1817,28.6432,-53.2225,5282,856.9,849.4,8.5854,35.2096,2,35.2116,2,35.3776,2,152.1,3,-999,9,13.95,2,23.83,2,0,2,1.52,2,1834,28.6432,-53.2224,856.9,850.4,849.4
316N20111106,  GT11,13,1,3133,7191,3,  GF-31,2,    31,2,20111125,1817,28.6432,-53.2225,5282,856.9,849.4,8.5854,35.2096,2,35.2126,2,35.3786,2,152.1,3,-999,9,13.95,2,23.73,2,0,2,1.53,2,1834,28.6432,-53.2224,856.9,850.4,849.4
316N20111106,  GT11,13,1,3133,7192,2,  GF-33,2,    33,2,20111125,1817,28.6432,-53.2225,5282,1009,999.8,7.0359,35.1112,2,35.1123,2,35.2779,2,170.1,3,-999,9,15.9,2,23.73,2,0,2,1.56,2,1821,28.6432,-53.2225,1009,1000.9,999.8
316N20111106,  GT11,13,1,3133,7193,1,  GF-36,2,    36,2,20111125,1817,28.6432,-53.2225,5282,1009,999.8,7.0359,35.1112,2,35.1129,2,35.2785,2,170.1,3,-999,9,15.9,2,23.78,2,0,2,1.56,2,1821,28.6432,-53.2225,1009,1000.9,999.8