BOTTLE,20170120CCHSIORJL
EXPOCODE,SECT_ID,STNNBR,CASTNO,GEOTR_EVENT,GEOTR_SAMPNO,SAMPNO,BTLNBR,BTLNBR_FLAG_W,BTLNBR_U,BTLNBR_U_FLAG_W,DATE,TIME,LATITUDE,LONGITUDE,BTMDEPTH,CTDPRS,CTDDEPTH,CTDTMP,CTDSAL,CTDSAL_FLAG_W,SALNTY,SALNTY_FLAG_W,SALTREF,SALTREF_FLAG_W,CTDOXY,CTDOXY_FLAG_W,OXYGEN,OXYGEN_FLAG_W,SILCAT,SILCAT_FLAG_W,NITRAT,NITRAT_FLAG_W,NITRIT,NITRIT_FLAG_W,PHSPHT,PHSPHT_FLAG_W,BTL_TIME,BTL_LAT,BTL_LON,ODF_CTDPRS,SMDEPTH,FMDEPTH
,,,,,,,,,,,,,,,METERS,DBAR,METERS,ITS-90,PSS-78,,PSS-78,,G/KG,,UMOL/KG,,UMOL/KG,,UMOL/KG,,UMOL/KG,,UMOL/KG,,UMOL/KG,,,,,DBARS,METERS,METERS
316N20111106,  GT11,23,1,3264,8006,24,   GF-1,2,    1,2,20111209,411,18.3897,-26.7653,4289,51.4,51.1,24.8018,36.7826,2,36.7841,2,36.9576,2,206,3,-999,9,0.19,2,0,2,0,2,0,2,500,18.3892,-26.7647,51.4,51,51.1
316N20111106,  GT11,23,1,3264,8007,23,   GF-2,2,    2,2,20111209,411,18.3897,-26.7653,4289,51.4,51.1,24.8018,36.7826,2,36.7853,2,36.9588,2,206,3,-999,9,0.1,2,0,2,0,2,0,2,500,18.3892,-26.7647,51.4,51,51.1
316N20111106,  GT11,23,1,3264,8008,22,   GF-3,2,    3,2,20111209,411,18.3897,-26.7653,4289,77.9,77.4,23.6776,37.1662,2,37.1767,2,37.352,2,203.6,3,-999,9,0.1,2,0,2,0,2,0,2,457,18.3892,-26.7648,77.9,77.5,77.4
316N20111106,  GT11,23,1,3264,8009,21,   GF-4,2,    4,2,20111209,411,18.3897,-26.7653,4289,77.9,77.4,23.6776,37.1662,2,37.1785,2,37.3538,2,203.6,3,-999,9,0,2,0,2,0,2,0,2,457,18.3892,-26.7648,77.9,77.5,77.4
316N20111106,  GT11,23,1,3264,8010,20,   GF-5,2,    5,2,20111209,411,18.3897,-26.7653,4289,128.9,128.1,20.0035,36.7914,2,36.7919,2,36.9654,2,176.1,3,-999,9,0.97,2,6.33,2,0.01,2,0.37,2,453,18.3893,-26.7649,128.9,128.3,128.1
316N20111106,  GT11,23,1,3264,8011,19,   GF-6,2,    6,2,20111209,411,18.3897,-26.7653,4289,128.9,128.1,20.0035,36.7914,2,36.7907,2,36.9642,2,176.1,3,-999,9,1.07,2,6.25,2,0.02,2,0.37,2,453,18.3893,-26.7649,128.9,128.3,128.1
316N20111106,  GT11,23,1,3264,8012,18,   GF-7,2,    7,2,20111209,411,18.3897,-26.7653,4289,187.1,185.9,16.7542,36.2767,2,36.2725,2,36.4435,2,132.7,3,-999,9,3.12,2,13.63,2,0,2,0.76,2,450,18.3894,-26.765,187.1,186.1,185.9
316N20111106,  GT11,23,1,3264,8013,17,   GF-8,2,    8,2,20111209,411,18.3897,-26.7653,4289,187.1,185.9,16.7542,36.2767,2,36.2782,2,36.4493,2,132.7,3,-999,9,3.12,2,13.4,2,0,2,0.75,2,450,18.3894,-26.765,187.1,186.1,185.9
316N20111106,  GT11,23,1,3264,8014,16,  GF-10,2,   10,2,20111209,411,18.3897,-26.7653,4289,237.2,235.6,14.8545,35.9116,2,35.9102,2,36.0795,2,107.6,3,-999,9,5.56,2,19.68,2,0,2,1.15,2,446,18.3895,-26.7651,237.2,235.9,235.6
316N20111106,  GT11,23,1,3264,8015,15,  GF-11,2,   11,2,20111209,411,18.3897,-26.7653,4289,237.2,235.6,14.8545,35.9116,2,35.9171,2,36.0865,2,107.6,3,-999,9,5.46,2,19.49,2,0,2,1.15,2,446,18.3895,-26.7651,237.2,235.9,235.6
316N20111106,  GT11,23,1,3264,8016,14,  GF-13,2,   13,2,20111209,411,18.3897,-26.7653,4289,283.9,282,13.7099,35.6947,2,35.6961,2,35.8644,2,85,3,-999,9,7.22,2,23.42,2,0,2,1.4,2,442,18.3896,-26.7652,283.9,282.3,282
316N20111106,  GT11,23,1,3264,8017,13,  GF-16,2,   16,2,20111209,411,18.3897,-26.7653,4289,283.9,282,13.7099,35.6947,2,35.6968,2,35.8652,2,85,3,-999,9,7.22,2,23.38,2,0,2,1.39,2,442,18.3896,-26.7652,283.9,282.3,282
316N20111106,  GT11,23,1,3264,8018,12,  GF-18,2,   18,2,20111209,411,18.3897,-26.7653,4289,353.6,351.2,12.996,35.6594,2,35.6678,2,35.836,2,90.6,3,-999,9,7.51,2,22.98,2,0,2,1.37,2,440,18.3897,-26.7653,353.6,351.6,351.2
316N20111106,  GT11,23,1,3264,8019,11,  GF-19,2,   19,2,20111209,411,18.3897,-26.7653,4289,353.6,351.2,12.996,35.6594,2,35.6661,2,35.8343,2,90.6,3,-999,9,7.51,2,23.02,2,0,2,1.37,2,440,18.3897,-26.7653,353.6,351.6,351.2
316N20111106,  GT11,23,1,3264,8020,10,  GF-21,2,   21,2,20111209,411,18.3897,-26.7653,4289,403.8,400.9,12.3785,35.5872,2,35.5867,2,35.7545,2,91.7,3,-999,9,8.39,2,24.1,2,0,2,1.43,2,436,18.3897,-26.7653,403.8,401.4,400.9
316N20111106,  GT11,23,1,3264,8021,9,  GF-24,2,    24,2,20111209,411,18.3897,-26.7653,4289,403.8,400.9,12.3785,35.5872,2,35.5869,2,35.7547,2,91.7,3,-999,9,8.39,2,24.02,2,0,2,1.43,2,436,18.3897,-26.7653,403.8,401.4,400.9
316N20111106,  GT11,23,1,3264,8022,8,  GF-26,2,    26,2,20111209,411,18.3897,-26.7653,4289,477.6,474.2,11.2171,35.4225,2,35.4234,2,35.5904,2,84.7,3,-999,9,10.73,2,27.26,2,0,2,1.64,2,431,18.3898,-26.7654,477.6,474.7,474.2
316N20111106,  GT11,23,1,3264,8023,7,  GF-28,2,    28,2,20111209,411,18.3897,-26.7653,4289,477.6,474.2,11.2171,35.4225,2,35.4228,2,35.5899,2,84.7,3,-999,9,10.73,2,27.22,2,0,2,1.63,2,431,18.3898,-26.7654,477.6,474.7,474.2
316N20111106,  GT11,23,1,3264,8024,6,  GF-29,2,    29,2,20111209,411,18.3897,-26.7653,4289,554.7,550.6,9.8659,35.2548,2,35.2555,2,35.4217,2,89.4,3,-999,9,13.66,2,29.29,2,0,2,1.8,2,427,18.3898,-26.7654,554.7,551.2,550.6
316N20111106,  GT11,23,1,3264,8025,5,  GF-30,2,    30,2,20111209,411,18.3897,-26.7653,4289,554.7,550.6,9.8659,35.2548,2,35.2555,2,35.4217,2,89.4,3,-999,9,13.66,2,29.25,2,0,2,1.8,2,427,18.3898,-26.7654,554.7,551.2,550.6
316N20111106,  GT11,23,1,3264,8026,4,  GF-31,2,    31,2,20111209,411,18.3897,-26.7653,4289,756.6,750.7,7.4657,34.9774,2,34.9779,2,35.1428,2,107.9,3,-999,9,19.71,2,31.21,2,0,2,2.02,2,422,18.3897,-26.7653,756.6,751.4,750.7
316N20111106,  GT11,23,1,3264,8027,3,  GF-33,2,    33,2,20111209,411,18.3897,-26.7653,4289,756.6,750.7,7.4657,34.9774,2,34.9785,2,35.1434,2,107.9,3,-999,9,19.71,2,31.23,2,0,2,2.03,2,422,18.3897,-26.7653,756.6,751.4,750.7
316N20111106,  GT11,23,1,3264,8028,2,  GF-12,2,    12,2,20111209,411,18.3897,-26.7653,4289,1009.4,1000.9,6.2379,34.972,2,34.9737,2,35.1386,2,140.6,3,-999,9,21.47,2,29.09,2,0,2,1.93,2,414,18.3897,-26.7653,1009.4,1001.7,1000.9
316N20111106,  GT11,23,1,3264,8029,1,  GF-36,2,    36,2,20111209,411,18.3897,-26.7653,4289,1009.4,1000.9,6.2379,34.972,2,34.9735,2,35.1385,2,140.6,3,-999,9,21.57,2,29.08,2,0,2,1.94,2,414,18.3897,-26.7653,1009.4,1001.7,1000.9
316N20111106,  GT11,24,1,3275,8048,24,   GF-1,2,    1,2,20111209,1904,17.4,-24.5,3572,40.5,40.3,24.6943,36.8337,2,36.8322,2,37.0058,2,207.1,3,-999,9,0,2,0.01,2,0,2,0,2,2003,17.4,-24.5,40.5,40.2,40.3
316N20111106,  GT11,24,1,3275,8049,23,   GF-2,2,    2,2,20111209,1904,17.4,-24.5,3572,40.5,40.3,24.6943,36.8337,2,36.8328,2,37.0064,2,207.1,3,-999,9,0,2,0,2,0,2,0,2,2003,17.4,-24.5,40.5,40.2,40.3
316N20111106,  GT11,24,1,3275,8050,22,   GF-3,2,    3,2,20111209,1904,17.4,-24.5,3572,51,50.7,24.6588,36.8328,2,36.8314,2,37.0051,2,206.2,3,-999,9,0.1,2,0,2,0,2,0,2,2001,17.4,-24.5,51,50.7,50.7
316N20111106,  GT11,24,1,3275,8051,21,   GF-4,2,    4,2,20111209,1904,17.4,-24.5,3572,51,50.7,24.6588,36.8328,2,36.8296,2,37.0033,2,206.2,3,-999,9,0,2,0,2,0,2,0,2,2001,17.4,-24.5,51,50.7,50.7
316N20111106,  GT11,24,1,3275,8052,20,   GF-5,2,    5,2,20111209,1904,17.4,-24.5,3572,71.1,70.7,22.3615,36.7528,2,36.7471,2,36.9203,2,210.5,3,-999,9,0.49,2,0.71,2,0.11,2,0.13,2,1958,17.4,-24.5,71.1,70.7,70.7
316N20111106,  GT11,24,1,3275,8053,19,   GF-6,2,    6,2,20111209,1904,17.4,-24.5,3572,71.1,70.7,22.3615,36.7528,2,36.7493,2,36.9225,2,210.5,3,-999,9,0.49,2,0.65,2,0.11,2,0.13,2,1958,17.4,-24.5,71.1,70.7,70.7
316N20111106,  GT11,24,1,3275,8054,18,   GF-7,2,    7,2,20111209,1904,17.4,-24.5,3572,91.2,90.6,20.2649,36.663,2,36.6717,2,36.8446,2,176.9,3,-999,9,1.27,2,7.11,2,0.07,2,0.47,2,1956,17.4,-24.5,91.2,90.7,90.6
316N20111106,  GT11,24,1,3275,8055,17,   GF-8,2,    8,2,20111209,1904,17.4,-24.5,3572,91.2,90.6,20.2649,36.663,2,36.6654,2,36.8383,2,176.9,3,-999,9,1.27,2,7.02,2,0.07,2,0.47,2,1956,17.4,-24.5,91.2,90.7,90.6
316N20111106,  GT11,24,1,3275,8056,16,  GF-10,2,   10,2,20111209,1904,17.4,-24.5,3572,136.3,135.4,17.4178,36.3608,2,36.3584,2,36.5299,2,127.9,3,-999,9,3.02,2,12.83,2,0,2,0.75,2,1950,17.4,-24.5,136.3,135.6,135.4
316N20111106,  GT11,24,1,3275,8057,15,  GF-11,2,   11,2,20111209,1904,17.4,-24.5,3572,136.3,135.4,17.4178,36.3608,2,36.3576,2,36.5291,2,127.9,3,-999,9,2.92,2,12.79,2,0,2,0.75,2,1950,17.4,-24.5,136.3,135.6,135.4
316N20111106,  GT11,24,1,3275,8058,14,  GF-13,2,   13,2,20111209,1904,17.4,-24.5,3572,187.2,185.9,15.7249,36.0673,2,36.0177,3,36.1876,3,118.9,3,-999,9,4.68,2,17.62,2,0,2,1.04,2,1947,17.4,-24.5,187.2,186.2,185.9
316N20111106,  GT11,24,1,3275,8059,13,  GF-16,2,   16,2,20111209,1904,17.4,-24.5,3572,187.2,185.9,15.7249,36.0673,2,36.0167,3,36.1866,3,118.9,3,-999,9,4.78,2,17.58,2,0,2,1.03,2,1947,17.4,-24.5,187.2,186.2,185.9
316N20111106,  GT11,24,1,3275,8060,12,  GF-18,2,   18,2,20111209,1904,17.4,-24.5,3572,237.4,235.8,13.5401,35.623,2,35.6187,2,35.7867,2,78.5,3,-999,9,7.71,2,24.46,2,0,2,1.47,2,1944,17.4,-24.5,237.4,236.1,235.8
316N20111106,  GT11,24,1,3275,8061,11,  GF-19,2,   19,2,20111209,1904,17.4,-24.5,3572,237.4,235.8,13.5401,35.623,2,35.6191,2,35.7871,2,78.5,3,-999,9,7.61,2,24.4,2,0,2,1.47,2,1944,17.4,-24.5,237.4,236.1,235.8
316N20111106,  GT11,24,1,3275,8062,10,  GF-21,2,   21,2,20111209,1904,17.4,-24.5,3572,287.9,286,12.6467,35.5066,2,35.5045,2,35.6719,2,70.5,3,-999,9,8.97,2,26.42,2,0,2,1.6,2,1941,17.4,-24.5,287.9,286.3,286
316N20111106,  GT11,24,1,3275,8063,9,  GF-24,2,    24,2,20111209,1904,17.4,-24.5,3572,287.9,286,12.6467,35.5066,2,35.5045,2,35.6719,2,70.5,3,-999,9,9.07,2,26.41,2,0,2,1.6,2,1941,17.4,-24.5,287.9,286.3,286
316N20111106,  GT11,24,1,3275,8064,8,  GF-26,2,    26,2,20111209,1904,17.4,-24.5,3572,454.3,451.1,10.6816,35.285,2,35.2898,2,35.4562,2,61.9,3,-999,9,12.59,2,30.75,2,0,2,1.86,2,1936,17.4,-24.5,454.3,451.6,451.1
316N20111106,  GT11,24,1,3275,8065,7,  GF-28,2,    28,2,20111209,1904,17.4,-24.5,3572,454.3,451.1,10.6816,35.285,2,35.2829,2,35.4493,2,61.9,3,-999,9,12.78,2,30.82,2,0,2,1.87,2,1936,17.4,-24.5,454.3,451.6,451.1
316N20111106,  GT11,24,1,3275,8066,6,  GF-29,2,    29,2,20111209,1904,17.4,-24.5,3572,807.8,801.4,7.1825,34.9248,2,34.9255,2,35.0902,2,100.5,3,-999,9,20.88,2,32.49,2,0,2,2.11,2,1928,17.4,-24.5,807.8,802.1,801.4
316N20111106,  GT11,24,1,3275,8067,5,  GF-30,2,    30,2,20111209,1904,17.4,-24.5,3572,807.8,801.4,7.1825,34.9248,2,34.9271,2,35.0918,2,100.5,3,-999,9,20.79,2,32.42,2,0,2,2.11,2,1928,17.4,-24.5,807.8,802.1,801.4
316N20111106,  GT11,24,1,3275,8068,4,  GF-31,2,    31,2,20111209,1904,17.4,-24.5,3572,1108.9,1099.4,5.8083,34.9626,2,34.9645,2,35.1294,2,144.5,3,-999,9,22.25,2,28.79,2,0,2,1.92,2,1918,17.4,-24.5,1108.9,1100.3,1099.4
316N20111106,  GT11,24,1,3275,8069,3,  GF-33,2,    33,2,20111209,1904,17.4,-24.5,3572,1108.9,1099.4,5.8083,34.9626,2,34.9639,2,35.1288,2,144.5,3,-999,9,22.05,2,28.85,2,0,2,1.93,2,1918,17.4,-24.5,1108.9,1100.3,1099.4
316N20111106,  GT11,24,1,3275,8070,2,  GF-12,2,    12,2,20111209,1904,17.4,-24.5,3572,1514.6,1500.1,4.6719,35.0092,2,35.0111,2,35.1762,2,191.6,3,-999,9,21.96,2,24.05,2,0,2,1.64,2,1907,17.4,-24.5,1514.6,1501.2,1500.1
316N20111106,  GT11,24,1,3275,8071,1,  GF-36,2,    36,2,20111209,1904,17.4,-24.5,3572,1514.6,1500.1,4.6719,35.0092,2,35.0113,2,35.1764,2,191.6,3,-999,9,22.15,2,24.1,2,0,2,1.65,2,1907,17.4,-24.5,1514.6,1501.2,1500.1
316N20111106,  GT11,24,5,3280,8105,24,   GF-1,2,    1,2,20111210,630,17.4,-24.5,3572,353.7,351.3,11.7649,35.4022,2,35.4012,2,35.5682,2,65.5,3,-999,9,10.44,2,28.64,2,0,2,1.69,2,819,17.4,-24.5,353.7,351.2,351.3
316N20111106,  GT11,24,5,3280,8106,23,   GF-2,2,    2,2,20111210,630,17.4,-24.5,3572,353.7,351.3,11.7649,35.4022,2,35.4012,2,35.5682,2,65.5,3,-999,9,10.34,2,28.41,2,0,2,1.67,2,819,17.4,-24.5,353.7,351.2,351.3
316N20111106,  GT11,24,5,3280,8107,22,   GF-3,2,    3,2,20111210,630,17.4,-24.5,3572,605.2,600.7,9.0163,35.1002,2,35.1018,2,35.2673,2,79.4,3,-999,9,16.39,2,32.07,2,0,2,1.97,2,810,17.4,-24.5,605.2,600.8,600.7
316N20111106,  GT11,24,5,3280,8108,21,   GF-4,2,    4,2,20111210,630,17.4,-24.5,3572,605.2,600.7,9.0163,35.1002,2,35.0969,2,35.2623,2,79.4,3,-999,9,16.2,2,32.13,2,0,2,1.98,2,810,17.4,-24.5,605.2,600.8,600.7
316N20111106,  GT11,24,5,3280,8109,20,   GF-5,2,    5,2,20111210,630,17.4,-24.5,3572,972.7,964.7,6.3252,34.9378,2,34.94,2,35.1047,2,118.1,3,-999,9,22.25,2,31.08,2,0,2,2.02,2,759,17.4,-24.5,972.7,965,964.7
316N20111106,  GT11,24,5,3280,8110,19,   GF-6,2,    6,2,20111210,630,17.4,-24.5,3572,972.7,964.7,6.3252,34.9378,2,34.9392,2,35.104,2,118.1,3,-999,9,22.25,2,31.17,2,0,2,2.03,2,759,17.4,-24.5,972.7,965,964.7
316N20111106,  GT11,24,5,3280,8111,18,   GF-7,2,    7,2,20111210,630,17.4,-24.5,3572,1268.9,1257.5,5.2678,35.0061,2,35.0098,2,35.1749,2,165.5,3,-999,9,21.57,2,26.03,2,0,2,1.72,2,750,17.4,-24.5,1268.9,1257.9,1257.5
316N20111106,  GT11,24,5,3280,8112,17,   GF-8,2,    8,2,20111210,630,17.4,-24.5,3572,1268.9,1257.5,5.2678,35.0061,2,35.0069,2,35.172,2,165.5,3,-999,9,21.57,2,26.14,2,0,2,1.72,2,750,17.4,-24.5,1268.9,1257.9,1257.5
316N20111106,  GT11,24,5,3280,8113,16,  GF-10,2,   10,2,20111210,630,17.4,-24.5,3572,1768.2,1750.3,3.9685,34.9912,2,34.9929,2,35.1579,2,216.3,3,-999,9,23.03,2,22.15,2,0,2,1.47,2,734,17.4,-24.5,1768.2,1750.8,1750.3
316N20111106,  GT11,24,5,3280,8114,15,  GF-11,2,   11,2,20111210,630,17.4,-24.5,3572,1768.2,1750.3,3.9685,34.9912,2,34.9925,2,35.1575,2,216.3,3,-999,9,22.83,2,22.22,2,0,2,1.47,2,734,17.4,-24.5,1768.2,1750.8,1750.3
316N20111106,  GT11,24,5,3280,8115,14,  GF-13,2,   13,2,20111210,630,17.4,-24.5,3572,2022.4,2000.7,3.5681,34.9768,2,34.978,2,35.1429,2,226.9,3,-999,9,25.57,2,21.57,2,0,2,1.43,2,726,17.4,-24.5001,2022.4,2001.3,2000.7
316N20111106,  GT11,24,5,3280,8116,13,  GF-16,2,   16,2,20111210,630,17.4,-24.5,3572,2022.4,2000.7,3.5681,34.9768,2,34.9783,2,35.1433,2,226.9,3,-999,9,25.57,2,21.57,2,0,2,1.42,2,726,17.4,-24.5001,2022.4,2001.3,2000.7
316N20111106,  GT11,24,5,3280,8117,12,  GF-18,2,   18,2,20111210,630,17.4,-24.5,3572,2276.4,2250.6,3.278,34.9617,2,34.964,2,35.1289,2,233.8,3,-999,9,28.3,2,21.24,2,0,2,1.42,2,719,17.4,-24.5,2276.4,2251.2,2250.6
316N20111106,  GT11,24,5,3280,8118,11,  GF-19,2,   19,2,20111210,630,17.4,-24.5,3572,2276.4,2250.6,3.278,34.9617,2,34.9638,2,35.1287,2,233.8,3,-999,9,28.3,2,21.23,2,0,2,1.42,2,719,17.4,-24.5,2276.4,2251.2,2250.6
316N20111106,  GT11,24,5,3280,8119,10,  GF-21,2,   21,2,20111210,630,17.4,-24.5,3572,2530.8,2500.6,3.0614,34.9492,2,34.9506,2,35.1154,2,237.9,3,-999,9,30.64,2,21.04,2,0,2,1.4,2,710,17.4,-24.5,2530.8,2501.3,2500.6
316N20111106,  GT11,24,5,3280,8120,9,  GF-24,2,    24,2,20111210,630,17.4,-24.5,3572,2530.8,2500.6,3.0614,34.9492,2,34.9524,2,35.1172,2,237.9,3,-999,9,30.64,2,21.04,2,0,2,1.41,2,710,17.4,-24.5,2530.8,2501.3,2500.6
316N20111106,  GT11,24,5,3280,8121,8,  GF-26,2,    26,2,20111210,630,17.4,-24.5,3572,2785.3,2750.5,2.9103,34.9417,2,34.9445,2,35.1093,2,240.6,3,-999,9,32.69,2,20.94,2,0,2,1.4,2,701,17.4,-24.5,2785.3,2751.2,2750.5
316N20111106,  GT11,24,5,3280,8122,7,  GF-28,2,    28,2,20111210,630,17.4,-24.5,3572,2785.3,2750.5,2.9103,34.9417,2,34.9439,2,35.1087,2,240.6,3,-999,9,32.5,2,20.93,2,0,2,1.4,2,701,17.4,-24.5,2785.3,2751.2,2750.5
316N20111106,  GT11,24,5,3280,8123,6,  GF-29,2,    29,2,20111210,630,17.4,-24.5,3572,3040.4,3000.6,2.7663,34.9303,2,34.9325,2,35.0972,2,241,3,-999,9,35.03,2,21.08,2,0,2,1.41,2,653,17.4,-24.5,3040.4,3001.3,3000.6
316N20111106,  GT11,24,5,3280,8124,5,  GF-30,2,    30,2,20111210,630,17.4,-24.5,3572,3040.4,3000.6,2.7663,34.9303,2,34.9335,2,35.0982,2,241,3,-999,9,35.03,2,21.09,2,0,2,1.41,2,653,17.4,-24.5,3040.4,3001.3,3000.6
316N20111106,  GT11,24,5,3280,8125,4,  GF-31,2,    31,2,20111210,630,17.4,-24.5,3572,3244.9,3201,2.6367,34.9206,2,34.9233,2,35.0879,2,239.7,3,-999,9,38.25,2,21.34,2,0,2,1.42,2,647,17.4,-24.5,3244.9,3201.7,3201
316N20111106,  GT11,24,5,3280,8126,3,  GF-33,2,    33,2,20111210,630,17.4,-24.5,3572,3244.9,3201,2.6367,34.9206,2,34.9246,2,35.0893,2,239.7,3,-999,9,38.06,2,21.34,2,0,2,1.42,2,647,17.4,-24.5,3244.9,3201.7,3201
316N20111106,  GT11,24,5,3280,8127,2,  GF-12,2,    12,2,20111210,630,17.4,-24.5,3572,3571.1,3520.1,2.4845,34.9052,2,34.9081,2,35.0727,2,236.6,3,-999,9,43.13,2,22.02,2,0,2,1.45,2,636,17.4,-24.5,3571.1,3520.8,3520.1
316N20111106,  GT11,24,5,3280,8128,1,  GF-36,2,    36,2,20111210,630,17.4,-24.5,3572,3571.1,3520.1,2.4845,34.9052,2,34.9087,2,35.0733,2,236.6,3,-999,9,43.13,2,21.98,2,0,2,1.45,2,636,17.4,-24.5,3571.1,3520.8,3520.1