BOTTLE,20170120CCHSIORJL
EXPOCODE,SECT_ID,STNNBR,CASTNO,GEOTR_EVENT,GEOTR_SAMPNO,SAMPNO,BTLNBR,BTLNBR_FLAG_W,BTLNBR_U,BTLNBR_U_FLAG_W,DATE,TIME,LATITUDE,LONGITUDE,BTMDEPTH,CTDPRS,CTDDEPTH,CTDTMP,CTDSAL,CTDSAL_FLAG_W,SALNTY,SALNTY_FLAG_W,SALTREF,SALTREF_FLAG_W,CTDOXY,CTDOXY_FLAG_W,OXYGEN,OXYGEN_FLAG_W,SILCAT,SILCAT_FLAG_W,NITRAT,NITRAT_FLAG_W,NITRIT,NITRIT_FLAG_W,PHSPHT,PHSPHT_FLAG_W,BTL_TIME,BTL_LAT,BTL_LON,ODF_CTDPRS,SMDEPTH,FMDEPTH
,,,,,,,,,,,,,,,METERS,DBAR,METERS,ITS-90,PSS-78,,PSS-78,,G/KG,,UMOL/KG,,UMOL/KG,,UMOL/KG,,UMOL/KG,,UMOL/KG,,UMOL/KG,,,,,DBARS,METERS,METERS
316N20111106,  GT11,16,5,3172,7402,24,   GF-1,2,   1,2,20111129,1627,26.1368,-44.8262,3886,807.3,800.5,8.8559,35.2125,2,35.2121,2,35.3781,2,144.7,3,-999,9,14.15,2,24.68,2,0,2,1.58,2,1818,26.1368,-44.8262,807.3,800.2,800.5
316N20111106,  GT11,16,5,3172,7403,23,   GF-2,2,   2,2,20111129,1627,26.1368,-44.8262,3886,807.3,800.5,8.8559,35.2125,2,35.2079,2,35.3739,2,144.7,3,-999,9,13.95,2,24.44,2,0,2,1.57,2,1818,26.1368,-44.8262,807.3,800.2,800.5
316N20111106,  GT11,16,5,3172,7404,22,   GF-3,2,   3,2,20111129,1627,26.1368,-44.8262,3886,974.1,965.5,6.947,35.0397,2,35.0413,2,35.2066,2,149.6,3,-999,9,17.95,2,26.24,2,0,2,1.74,2,1812,26.1368,-44.8262,974.1,965.3,965.5
316N20111106,  GT11,16,5,3172,7405,21,   GF-4,2,   4,2,20111129,1627,26.1368,-44.8262,3886,974.1,965.5,6.947,35.0397,2,35.0407,2,35.206,2,149.6,3,-999,9,17.86,2,26.23,2,0,2,1.74,2,1812,26.1368,-44.8262,974.1,965.3,965.5
316N20111106,  GT11,16,5,3172,7406,20,   GF-5,2,   5,2,20111129,1627,26.1368,-44.8262,3886,1210.6,1199.3,5.6588,35.0341,2,35.0358,2,35.201,2,194.2,3,-999,9,16.69,2,22.81,2,0,2,1.54,2,1805,26.1368,-44.8262,1210.6,1199.2,1199.3
316N20111106,  GT11,16,5,3172,7407,19,   GF-6,2,   6,2,20111129,1627,26.1368,-44.8262,3886,1210.6,1199.3,5.6588,35.0341,2,35.0352,2,35.2004,2,194.2,3,-999,9,16.59,2,22.85,2,0,2,1.54,2,1805,26.1368,-44.8262,1210.6,1199.2,1199.3
316N20111106,  GT11,16,5,3172,7408,18,   GF-7,2,   7,2,20111129,1627,26.1368,-44.8262,3886,1515.6,1500.3,4.923,35.0933,2,35.0951,2,35.2606,2,232.1,3,-999,9,14.05,2,18.96,2,0,2,1.29,2,1758,26.1368,-44.8262,1515.6,1500.3,1500.3
316N20111106,  GT11,16,5,3172,7409,17,   GF-8,2,   8,2,20111129,1627,26.1368,-44.8262,3886,1515.6,1500.3,4.923,35.0933,2,35.0951,2,35.2606,2,232.1,3,-999,9,14.15,2,18.99,2,0,2,1.29,2,1758,26.1368,-44.8262,1515.6,1500.3,1500.3
316N20111106,  GT11,16,5,3172,7410,16,  GF-10,2,  10,2,20111129,1627,26.1368,-44.8262,3886,1668.6,1651.1,4.6461,35.0921,2,35.0937,2,35.2592,2,236.9,3,-999,9,15.71,2,18.87,2,0,2,1.29,2,1748,26.1368,-44.8262,1668.6,1651.2,1651.1
316N20111106,  GT11,16,5,3172,7411,15,  GF-11,2,  11,2,20111129,1627,26.1368,-44.8262,3886,1668.6,1651.1,4.6461,35.0921,2,35.0933,2,35.2588,2,236.9,3,-999,9,15.61,2,18.84,2,0,2,1.29,2,1748,26.1368,-44.8262,1668.6,1651.2,1651.1
316N20111106,  GT11,16,5,3172,7412,14,  GF-13,2,  13,2,20111129,1627,26.1368,-44.8262,3886,1819,1799.3,4.246,35.062,2,35.064,2,35.2293,2,245.5,3,-999,9,16.39,2,18.34,2,0,2,1.25,2,1741,26.1368,-44.8262,1819,1799.4,1799.3
316N20111106,  GT11,16,5,3172,7413,13,  GF-16,2,  16,2,20111129,1627,26.1368,-44.8262,3886,1819,1799.3,4.246,35.062,2,35.0646,2,35.2299,2,245.5,3,-999,9,16.3,2,18.31,2,0,2,1.26,2,1741,26.1368,-44.8262,1819,1799.4,1799.3
316N20111106,  GT11,16,5,3172,7414,12,  GF-18,2,  18,2,20111129,1627,26.1368,-44.8262,3886,1972.5,1950.5,3.885,35.0268,2,35.0291,2,35.1943,2,248.2,3,-999,9,18.93,2,18.69,2,0,2,1.29,2,1731,26.1368,-44.8262,1972.5,1950.6,1950.5
316N20111106,  GT11,16,5,3172,7415,11,  GF-19,2,  19,2,20111129,1627,26.1368,-44.8262,3886,1972.5,1950.5,3.885,35.0268,2,35.0297,2,35.1949,2,248.2,3,-999,9,18.93,2,18.69,2,0,2,1.29,2,1731,26.1368,-44.8262,1972.5,1950.6,1950.5
316N20111106,  GT11,16,5,3172,7416,10,  GF-21,2,  21,2,20111129,1627,26.1368,-44.8262,3886,2125.2,2100.7,3.5706,34.9981,2,35.0002,2,35.1652,2,251.6,3,-999,9,20.69,2,18.67,2,0,2,1.3,2,1726,26.1369,-44.8262,2125.2,2100.8,2100.7
316N20111106,  GT11,16,5,3172,7417,9,  GF-24,2,   24,2,20111129,1627,26.1368,-44.8262,3886,2125.2,2100.7,3.5706,34.9981,2,35.0024,2,35.1674,2,251.6,3,-999,9,20.59,2,18.59,2,0,2,1.29,2,1726,26.1369,-44.8262,2125.2,2100.8,2100.7
316N20111106,  GT11,16,5,3172,7418,8,  GF-26,2,   26,2,20111129,1627,26.1368,-44.8262,3886,2277.2,2250.2,3.363,34.9806,2,34.9927,2,35.1577,2,251.9,3,-999,9,23.03,2,18.72,2,0,2,1.31,2,1722,26.1369,-44.8262,2277.2,2250.4,2250.2
316N20111106,  GT11,16,5,3172,7419,7,  GF-28,2,   28,2,20111129,1627,26.1368,-44.8262,3886,2277.2,2250.2,3.363,34.9806,2,34.9833,2,35.1482,2,251.9,3,-999,9,23.03,2,18.82,2,0,2,1.31,2,1722,26.1369,-44.8262,2277.2,2250.4,2250.2
316N20111106,  GT11,16,5,3172,7420,6,  GF-29,2,   29,2,20111129,1627,26.1368,-44.8262,3886,2430.6,2400.8,3.1916,34.9653,2,34.9681,2,35.133,2,252.3,3,-999,9,25.08,2,19.01,2,0,2,1.33,2,1715,26.1368,-44.8262,2430.6,2401,2400.8
316N20111106,  GT11,16,5,3172,7421,5,  GF-30,2,   30,2,20111129,1627,26.1368,-44.8262,3886,2430.6,2400.8,3.1916,34.9653,2,34.9687,2,35.1336,2,252.3,3,-999,9,25.08,2,19,2,0,2,1.32,2,1715,26.1368,-44.8262,2430.6,2401,2400.8
316N20111106,  GT11,16,5,3172,7422,4,  GF-31,2,   31,2,20111129,1627,26.1368,-44.8262,3886,2735.5,2700.2,3.01,34.949,2,34.9524,2,35.1172,2,251.1,3,-999,9,28.2,2,19.37,2,0,2,1.35,2,1700,26.1368,-44.8262,2735.5,2700.4,2700.2
316N20111106,  GT11,16,5,3172,7423,3,  GF-33,2,   33,2,20111129,1627,26.1368,-44.8262,3886,2735.5,2700.2,3.01,34.949,2,34.9528,2,35.1176,2,251.1,3,-999,9,28.3,2,19.35,2,0,2,1.36,2,1700,26.1368,-44.8262,2735.5,2700.4,2700.2
316N20111106,  GT11,16,5,3172,7424,2,  GF-12,2,   12,2,20111129,1627,26.1368,-44.8262,3886,3041.9,3000.4,2.8459,34.935,2,34.9368,2,35.1016,2,249.7,3,-999,9,32.2,2,19.76,2,0,2,1.39,2,1631,26.1368,-44.8262,3041.9,3000.7,3000.4
316N20111106,  GT11,16,5,3172,7425,1,  GF-36,2,   36,2,20111129,1627,26.1368,-44.8262,3886,3041.9,3000.4,2.8459,34.935,2,34.9378,2,35.1026,2,249.7,3,-999,9,32.3,2,19.73,2,0,2,1.36,2,1631,26.1368,-44.8262,3041.9,3000.7,3000.4
316N20111106,  GT11,16,9,3177,7460,24,   GF-1,2,   1,2,20111130,515,26.1369,-44.8262,3712,41.2,41,25.1252,37.3964,2,37.395,2,37.5714,2,205.6,3,-999,9,0.19,2,0,2,0,2,0,2,605,26.1369,-44.8262,41.2,41,41
316N20111106,  GT11,16,9,3177,7461,23,   GF-2,2,   2,2,20111130,515,26.1369,-44.8262,3712,41.2,41,25.1252,37.3964,2,37.395,2,37.5714,2,205.6,3,-999,9,0.19,2,0,2,0,2,0,2,605,26.1369,-44.8262,41.2,41,41
316N20111106,  GT11,16,9,3177,7462,22,   GF-3,2,   3,2,20111130,515,26.1369,-44.8262,3712,55.8,55.4,25.0109,37.3908,2,37.3883,2,37.5646,2,204.9,3,-999,9,0.19,2,0,2,0,2,0,2,603,26.1369,-44.8262,55.8,55.5,55.4
316N20111106,  GT11,16,9,3177,7463,21,   GF-4,2,   4,2,20111130,515,26.1369,-44.8262,3712,55.8,55.4,25.0109,37.3908,2,37.3879,2,37.5641,2,204.9,3,-999,9,0.29,2,0,2,0,2,0,2,603,26.1369,-44.8262,55.8,55.5,55.4
316N20111106,  GT11,16,9,3177,7464,20,   GF-5,2,   5,2,20111130,515,26.1369,-44.8262,3712,92.4,91.7,21.9113,37.0996,2,37.0954,2,37.2703,2,216.2,3,-999,9,0.19,2,0,2,0.01,2,0,2,559,26.1369,-44.8262,92.4,91.8,91.7
316N20111106,  GT11,16,9,3177,7465,19,   GF-6,2,   6,2,20111130,515,26.1369,-44.8262,3712,92.4,91.7,21.9113,37.0996,2,37.0926,2,37.2675,2,216.2,3,-999,9,0.1,2,0.01,2,0.01,2,0,2,559,26.1369,-44.8262,92.4,91.8,91.7
316N20111106,  GT11,16,9,3177,7466,18,   GF-7,2,   7,2,20111130,515,26.1369,-44.8262,3712,108.7,108,21.2671,37.0361,2,37.0288,2,37.2034,2,208.2,3,-999,9,0.19,2,0.17,2,0.05,2,0,2,556,26.1369,-44.8262,108.7,108.1,108
316N20111106,  GT11,16,9,3177,7467,17,   GF-8,2,   8,2,20111130,515,26.1369,-44.8262,3712,108.7,108,21.2671,37.0361,2,37.0296,2,37.2042,2,208.2,3,-999,9,0.29,2,0.16,2,0.05,2,0,2,556,26.1369,-44.8262,108.7,108.1,108
316N20111106,  GT11,16,9,3177,7469,16,  GF-10,2,  10,2,20111130,515,26.1369,-44.8262,3712,136.8,135.9,20.0434,36.8936,2,36.8908,2,37.0648,2,196.7,3,-999,9,0.39,2,0.97,2,0,2,0,2,551,26.1369,-44.8262,136.8,136.1,135.9
316N20111106,  GT11,16,9,3177,7470,15,  GF-11,2,  11,2,20111130,515,26.1369,-44.8262,3712,136.8,135.9,20.0434,36.8936,2,36.8974,2,37.0714,2,196.7,3,-999,9,0.39,2,0.91,2,0,2,0,2,551,26.1369,-44.8262,136.8,136.1,135.9
316N20111106,  GT11,16,9,3177,7471,14,  GF-13,2,  13,2,20111130,515,26.1369,-44.8262,3712,187.1,185.8,18.6321,36.6718,2,36.6744,2,36.8473,2,186.4,3,-999,9,0.68,2,3.81,2,0,2,0.13,2,546,26.1369,-44.8262,187.1,186.1,185.8
316N20111106,  GT11,16,9,3177,7472,13,  GF-16,2,  16,2,20111130,515,26.1369,-44.8262,3712,187.1,185.8,18.6321,36.6718,2,36.673,2,36.8459,2,186.4,3,-999,9,0.78,2,3.8,2,0,2,0.14,2,546,26.1369,-44.8262,187.1,186.1,185.8
316N20111106,  GT11,16,9,3177,7473,12,  GF-18,2,  18,2,20111130,515,26.1369,-44.8262,3712,237.2,235.5,17.7793,36.5245,2,36.5284,2,36.7007,2,190.8,3,-999,9,1.07,2,5.07,2,0,2,0.22,2,541,26.1369,-44.8262,237.2,235.8,235.5
316N20111106,  GT11,16,9,3177,7474,11,  GF-19,2,  19,2,20111130,515,26.1369,-44.8262,3712,237.2,235.5,17.7793,36.5245,2,36.5231,2,36.6953,2,190.8,3,-999,9,1.07,2,5.09,2,0,2,0.23,2,541,26.1369,-44.8262,237.2,235.8,235.5
316N20111106,  GT11,16,9,3177,7475,10,  GF-21,2,  21,2,20111130,515,26.1369,-44.8262,3712,287.7,285.6,17.3267,36.4431,2,36.4468,2,36.6187,2,194.3,3,-999,9,1.17,2,5.56,2,0,2,0.27,2,537,26.1369,-44.8262,287.7,286,285.6
316N20111106,  GT11,16,9,3177,7476,9,  GF-24,2,   24,2,20111130,515,26.1369,-44.8262,3712,287.7,285.6,17.3267,36.4431,2,36.445,2,36.6169,2,194.3,3,-999,9,1.36,2,5.58,2,0,2,0.27,2,537,26.1369,-44.8262,287.7,286,285.6
316N20111106,  GT11,16,9,3177,7477,8,  GF-26,2,   26,2,20111130,515,26.1369,-44.8262,3712,340.4,338,16.6074,36.3138,2,36.3133,2,36.4845,2,195.4,3,-999,9,1.56,2,6.61,2,0,2,0.34,2,534,26.1369,-44.8262,340.4,338.4,338
316N20111106,  GT11,16,9,3177,7478,7,  GF-28,2,   28,2,20111130,515,26.1369,-44.8262,3712,340.4,338,16.6074,36.3138,2,36.3165,2,36.4877,2,195.4,3,-999,9,1.75,2,6.59,2,0,2,0.34,2,534,26.1369,-44.8262,340.4,338.4,338
316N20111106,  GT11,16,9,3177,7479,6,  GF-29,2,   29,2,20111130,515,26.1369,-44.8262,3712,424.3,421.1,15.3452,36.0964,2,36.0964,2,36.2666,2,181.7,3,-999,9,2.73,2,9.89,2,0,2,0.57,2,528,26.1369,-44.8262,424.3,421.7,421.1
316N20111106,  GT11,16,9,3177,7480,5,  GF-30,2,   30,2,20111130,515,26.1369,-44.8262,3712,424.3,421.1,15.3452,36.0964,2,36.0962,2,36.2664,2,181.7,3,-999,9,2.83,2,9.83,2,0,2,0.57,2,528,26.1369,-44.8262,424.3,421.7,421.1
316N20111106,  GT11,16,9,3177,7481,4,  GF-31,2,   31,2,20111130,515,26.1369,-44.8262,3712,515.4,511.4,14.0954,35.8898,2,35.8938,2,36.063,2,170.2,3,-999,9,4.1,2,12.82,2,0,2,0.75,2,524,26.1369,-44.8262,515.4,512,511.4
316N20111106,  GT11,16,9,3177,7482,3,  GF-33,2,   33,2,20111130,515,26.1369,-44.8262,3712,515.4,511.4,14.0954,35.8898,2,35.8932,2,36.0624,2,170.2,3,-999,9,4.19,2,12.77,2,0,2,0.75,2,524,26.1369,-44.8262,515.4,512,511.4
316N20111106,  GT11,16,9,3177,7483,2,  GF-12,2,   12,2,20111130,515,26.1369,-44.8262,3712,606.9,602,12.2335,35.6262,2,35.625,2,35.793,2,160.3,3,-999,9,6.93,2,16.97,2,0,2,1.04,2,518,26.1368,-44.8262,606.9,602.8,602
316N20111106,  GT11,16,9,3177,7484,1,  GF-36,2,   36,2,20111130,515,26.1369,-44.8262,3712,606.9,602,12.2335,35.6262,2,35.6309,2,35.7989,2,160.3,3,-999,9,6.73,2,16.84,2,0,2,1.04,2,518,26.1368,-44.8262,606.9,602.8,602
316N20111106,  GT11,17,1,3188,7512,24,   GF-1,2,   1,2,20111201,32,25.1422,-42.522,3537,51,50.7,25.3723,37.6324,2,37.6303,2,37.8078,2,205,3,-999,9,0.19,2,0,2,0,2,0,2,124,25.1414,-42.5219,51,50.7,50.7
316N20111106,  GT11,17,1,3188,7513,23,   GF-2,2,   2,2,20111201,32,25.1422,-42.522,3537,51,50.7,25.3723,37.6324,2,37.6309,2,37.8084,2,205,3,-999,9,0.19,2,0,2,0,2,0,2,124,25.1414,-42.5219,51,50.7,50.7
316N20111106,  GT11,17,1,3188,7514,22,   GF-3,2,   3,2,20111201,32,25.1422,-42.522,3537,101.8,101.1,22.5653,37.2802,2,37.2835,2,37.4593,2,218.7,3,-999,9,0.1,2,0,2,0,2,0,2,120,25.1415,-42.5219,101.8,101.2,101.1
316N20111106,  GT11,17,1,3188,7515,21,   GF-4,2,   4,2,20111201,32,25.1422,-42.522,3537,101.8,101.1,22.5653,37.2802,2,37.2801,2,37.4559,2,218.7,3,-999,9,0.1,2,0,2,0,2,0,2,120,25.1415,-42.5219,101.8,101.2,101.1
316N20111106,  GT11,17,1,3188,7516,20,   GF-5,2,   5,2,20111201,32,25.1422,-42.522,3537,136.8,135.9,21.5799,37.1997,2,37.1926,2,37.368,2,206.6,3,-999,9,0.1,2,0.22,2,0.05,2,0,2,117,25.1414,-42.5219,136.8,136,135.9
316N20111106,  GT11,17,1,3188,7517,19,   GF-6,2,   6,2,20111201,32,25.1422,-42.522,3537,136.8,135.9,21.5799,37.1997,2,37.195,2,37.3704,2,206.6,3,-999,9,0,2,0.21,2,0.05,2,0,2,117,25.1414,-42.5219,136.8,136,135.9
316N20111106,  GT11,17,1,3188,7518,18,   GF-7,2,   7,2,20111201,32,25.1422,-42.522,3537,187.5,186.2,19.547,36.8489,2,36.8494,2,37.0232,2,173.7,3,-999,9,0.58,2,3.85,2,0,2,0.16,2,114,25.1415,-42.5219,187.5,186.5,186.2
316N20111106,  GT11,17,1,3188,7519,17,   GF-8,2,   8,2,20111201,32,25.1422,-42.522,3537,187.5,186.2,19.547,36.8489,2,36.85,2,37.0238,2,173.7,3,-999,9,0.58,2,3.82,2,0,2,0.15,2,114,25.1415,-42.5219,187.5,186.5,186.2
316N20111106,  GT11,17,1,3188,7520,16,  GF-10,2,  10,2,20111201,32,25.1422,-42.522,3537,237.5,235.9,18.2956,36.6249,2,36.6122,3,36.7848,3,163.2,3,-999,9,1.07,2,6.04,2,0,2,0.29,2,110,25.1415,-42.5219,237.5,236.2,235.9
316N20111106,  GT11,17,1,3188,7521,15,  GF-11,2,  11,2,20111201,32,25.1422,-42.522,3537,237.5,235.9,18.2956,36.6249,2,36.6181,2,36.7908,2,163.2,3,-999,9,1.07,2,5.98,2,0,2,0.28,2,110,25.1415,-42.5219,237.5,236.2,235.9
316N20111106,  GT11,17,1,3188,7522,14,  GF-13,2,  13,2,20111201,32,25.1422,-42.522,3537,287.7,285.7,17.3424,36.4582,2,36.4588,2,36.6307,2,180.7,3,-999,9,1.46,2,7.25,2,0,2,0.37,2,107,25.1416,-42.5219,287.7,286,285.7
316N20111106,  GT11,17,1,3188,7523,13,  GF-16,2,  16,2,20111201,32,25.1422,-42.522,3537,287.7,285.7,17.3424,36.4582,2,36.4596,2,36.6315,2,180.7,3,-999,9,1.46,2,7.21,2,0,2,0.37,2,107,25.1416,-42.5219,287.7,286,285.7
316N20111106,  GT11,17,1,3188,7524,12,  GF-18,2,  18,2,20111201,32,25.1422,-42.522,3537,353.5,351,16.0499,36.2259,2,36.2309,2,36.4017,2,185.4,3,-999,9,2.05,2,8.32,2,0,2,0.44,2,103,25.1416,-42.5219,353.5,351.4,351
316N20111106,  GT11,17,1,3188,7525,11,  GF-19,2,  19,2,20111201,32,25.1422,-42.522,3537,353.5,351,16.0499,36.2259,2,36.2271,2,36.398,2,185.4,3,-999,9,1.95,2,8.33,2,0,2,0.45,2,103,25.1416,-42.5219,353.5,351.4,351
316N20111106,  GT11,17,1,3188,7526,10,  GF-21,2,  21,2,20111201,32,25.1422,-42.522,3537,424.3,421.1,14.8619,36.0306,2,36.0352,2,36.2052,2,183.1,3,-999,9,2.63,2,10.31,2,0,2,0.59,2,59,25.1416,-42.5219,424.3,421.7,421.1
316N20111106,  GT11,17,1,3188,7527,9,  GF-24,2,   24,2,20111201,32,25.1422,-42.522,3537,424.3,421.1,14.8619,36.0306,2,36.037,2,36.207,2,183.1,3,-999,9,2.73,2,10.28,2,0,2,0.58,2,59,25.1416,-42.5219,424.3,421.7,421.1
316N20111106,  GT11,17,1,3188,7528,8,  GF-26,2,   26,2,20111201,32,25.1422,-42.522,3537,534.5,530.4,13.1875,35.7808,2,35.7827,2,35.9514,2,176.6,3,-999,9,4.49,2,13.78,2,0,2,0.81,2,54,25.1417,-42.5219,534.5,531,530.4
316N20111106,  GT11,17,1,3188,7529,7,  GF-28,2,   28,2,20111201,32,25.1422,-42.522,3537,534.5,530.4,13.1875,35.7808,2,35.7859,2,35.9546,2,176.6,3,-999,9,4.39,2,13.73,2,0,2,0.81,2,54,25.1417,-42.5219,534.5,531,530.4
316N20111106,  GT11,17,1,3188,7530,6,  GF-29,2,   29,2,20111201,32,25.1422,-42.522,3537,671.8,666.4,11.0443,35.5134,2,35.5172,2,35.6847,2,162,3,-999,9,8.1,2,18.67,2,0,2,1.14,2,48,25.1418,-42.5219,671.8,667.2,666.4
316N20111106,  GT11,17,1,3188,7531,5,  GF-30,2,   30,2,20111201,32,25.1422,-42.522,3537,671.8,666.4,11.0443,35.5134,2,35.5164,2,35.6839,2,162,3,-999,9,8.1,2,18.62,2,0,2,1.14,2,48,25.1418,-42.5219,671.8,667.2,666.4
316N20111106,  GT11,17,1,3188,7532,4,  GF-31,2,   31,2,20111201,32,25.1422,-42.522,3537,808,801.2,9.2968,35.3282,2,35.3297,2,35.4963,2,152.2,3,-999,9,12.1,2,22.45,2,0,2,1.41,2,43,25.1417,-42.5219,808,802.1,801.2
316N20111106,  GT11,17,1,3188,7533,3,  GF-33,2,   33,2,20111201,32,25.1422,-42.522,3537,808,801.2,9.2968,35.3282,2,35.3299,2,35.4965,2,152.2,3,-999,9,12.1,2,22.42,2,0,2,1.42,2,43,25.1417,-42.5219,808,802.1,801.2
316N20111106,  GT11,17,1,3188,7534,2,  GF-12,2,   12,2,20111201,32,25.1422,-42.522,3537,1010.5,1001.6,7.1973,35.1631,2,35.1644,2,35.3302,2,167.3,3,-999,9,16,2,24.1,2,0,2,1.58,2,35,25.1421,-42.522,1010.5,1002.5,1001.6
316N20111106,  GT11,17,1,3188,7535,1,  GF-36,2,   36,2,20111201,32,25.1422,-42.522,3537,1010.5,1001.6,7.1973,35.1631,2,35.1662,2,35.332,2,167.3,3,-999,9,16.1,2,24.04,2,0,2,1.58,2,35,25.1421,-42.522,1010.5,1002.5,1001.6