BOTTLE,20170120CCHSIORJL
EXPOCODE,SECT_ID,STNNBR,CASTNO,GEOTR_EVENT,GEOTR_SAMPNO,SAMPNO,BTLNBR,BTLNBR_FLAG_W,BTLNBR_U,BTLNBR_U_FLAG_W,DATE,TIME,LATITUDE,LONGITUDE,BTMDEPTH,CTDPRS,CTDDEPTH,CTDTMP,CTDSAL,CTDSAL_FLAG_W,SALNTY,SALNTY_FLAG_W,SALTREF,SALTREF_FLAG_W,CTDOXY,CTDOXY_FLAG_W,OXYGEN,OXYGEN_FLAG_W,SILCAT,SILCAT_FLAG_W,NITRAT,NITRAT_FLAG_W,NITRIT,NITRIT_FLAG_W,PHSPHT,PHSPHT_FLAG_W,BTL_TIME,BTL_LAT,BTL_LON,ODF_CTDPRS,SMDEPTH,FMDEPTH
,,,,,,,,,,,,,,,METERS,DBAR,METERS,ITS-90,PSS-78,,PSS-78,,G/KG,,UMOL/KG,,UMOL/KG,,UMOL/KG,,UMOL/KG,,UMOL/KG,,UMOL/KG,,,,,DBARS,METERS,METERS
316N20111106,  GT11,18,1,3197,7551,24,   GF-1,2,   1,2,20111201,1635,24.1497,-40.2179,4382,41,40.7,25.2205,37.6292,2,37.6273,2,37.8048,2,205.5,3,-999,9,0.29,2,0,2,0,2,0.01,2,1717,24.1497,-40.2179,41,40.7,40.7
316N20111106,  GT11,18,1,3197,7552,23,   GF-2,2,   2,2,20111201,1635,24.1497,-40.2179,4382,41,40.7,25.2205,37.6292,2,37.6275,2,37.805,2,205.5,3,-999,9,0.19,2,0,2,0,2,0,2,1717,24.1497,-40.2179,41,40.7,40.7
316N20111106,  GT11,18,1,3197,7553,22,   GF-3,2,   3,2,20111201,1635,24.1497,-40.2179,4382,67.7,67.2,25.2198,37.6313,2,37.6299,2,37.8074,2,205.2,3,-999,9,0.19,2,0,2,0,2,0,2,1714,24.1497,-40.2179,67.7,67.3,67.2
316N20111106,  GT11,18,1,3197,7554,21,   GF-4,2,   4,2,20111201,1635,24.1497,-40.2179,4382,67.7,67.2,25.2198,37.6313,2,37.6297,2,37.8072,2,205.2,3,-999,9,0.19,2,0,2,0,2,0,2,1714,24.1497,-40.2179,67.7,67.3,67.2
316N20111106,  GT11,18,1,3197,7555,20,   GF-5,2,   5,2,20111201,1635,24.1497,-40.2179,4382,76,75.5,25.0719,37.6173,2,37.6198,2,37.7972,2,205.6,3,-999,9,0,2,0,2,0,2,0,2,1711,24.1497,-40.2179,76,75.5,75.5
316N20111106,  GT11,18,1,3197,7556,19,   GF-6,2,   6,2,20111201,1635,24.1497,-40.2179,4382,76,75.5,25.0719,37.6173,2,37.6162,2,37.7936,2,205.6,3,-999,9,0,2,0,2,0,2,0,2,1711,24.1497,-40.2179,76,75.5,75.5
316N20111106,  GT11,18,1,3197,7557,18,   GF-7,2,   7,2,20111201,1635,24.1497,-40.2179,4382,111.7,110.9,22.1671,37.2964,2,37.297,2,37.4729,2,218,3,-999,9,0,2,0.05,2,0.06,2,0,2,1708,24.1497,-40.2178,111.7,111.1,110.9
316N20111106,  GT11,18,1,3197,7558,17,   GF-8,2,   8,2,20111201,1635,24.1497,-40.2179,4382,111.7,110.9,22.1671,37.2964,2,37.2972,2,37.4731,2,218,3,-999,9,0.1,2,0.05,2,0.06,2,0,2,1708,24.1497,-40.2178,111.7,111.1,110.9
316N20111106,  GT11,18,1,3197,7559,16,  GF-10,2,  10,2,20111201,1635,24.1497,-40.2179,4382,137.5,136.5,21.0127,37.1281,2,37.1324,2,37.3075,2,204.7,3,-999,9,0.1,2,0.76,2,0.01,2,0.01,2,1705,24.1497,-40.2179,137.5,136.7,136.5
316N20111106,  GT11,18,1,3197,7560,15,  GF-11,2,  11,2,20111201,1635,24.1497,-40.2179,4382,137.5,136.5,21.0127,37.1281,2,37.1322,2,37.3073,2,204.7,3,-999,9,0.19,2,0.77,2,0.01,2,0,2,1705,24.1497,-40.2179,137.5,136.7,136.5
316N20111106,  GT11,18,1,3197,7561,14,  GF-13,2,  13,2,20111201,1635,24.1497,-40.2179,4382,187,185.7,18.924,36.7544,2,36.7544,2,36.9277,2,194.4,3,-999,9,0.39,2,2.79,2,0,2,0.1,2,1702,24.1497,-40.2179,187,186,185.7
316N20111106,  GT11,18,1,3197,7562,13,  GF-16,2,  16,2,20111201,1635,24.1497,-40.2179,4382,187,185.7,18.924,36.7544,2,36.754,2,36.9273,2,194.4,3,-999,9,0.49,2,2.77,2,0,2,0.1,2,1702,24.1497,-40.2179,187,186,185.7
316N20111106,  GT11,18,1,3197,7563,12,  GF-18,2,  18,2,20111201,1635,24.1497,-40.2179,4382,237.4,235.7,18.0028,36.5778,2,36.5787,2,36.7512,2,192.5,3,-999,9,0.78,2,4.62,2,0,2,0.21,2,1659,24.1497,-40.2178,237.4,236.1,235.7
316N20111106,  GT11,18,1,3197,7564,11,  GF-19,2,  19,2,20111201,1635,24.1497,-40.2179,4382,237.4,235.7,18.0028,36.5778,2,36.5781,2,36.7506,2,192.5,3,-999,9,0.78,2,4.62,2,0,2,0.21,2,1659,24.1497,-40.2178,237.4,236.1,235.7
316N20111106,  GT11,18,1,3197,7565,10,  GF-21,2,  21,2,20111201,1635,24.1497,-40.2179,4382,288.5,286.5,17.2056,36.4375,2,36.4333,2,36.605,2,188.1,3,-999,9,1.17,2,6.14,2,0,2,0.32,2,1655,24.1497,-40.2179,288.5,286.9,286.5
316N20111106,  GT11,18,1,3197,7566,9,  GF-24,2,   24,2,20111201,1635,24.1497,-40.2179,4382,288.5,286.5,17.2056,36.4375,2,36.4378,2,36.6096,2,188.1,3,-999,9,1.27,2,6.1,2,0,2,0.31,2,1655,24.1497,-40.2179,288.5,286.9,286.5
316N20111106,  GT11,18,1,3197,7567,8,  GF-26,2,   26,2,20111201,1635,24.1497,-40.2179,4382,354.3,351.7,16.1838,36.2548,2,36.2544,2,36.4254,2,181.8,3,-999,9,1.95,2,8.42,2,0,2,0.47,2,1652,24.1497,-40.2179,354.3,352.2,351.7
316N20111106,  GT11,18,1,3197,7568,7,  GF-28,2,   28,2,20111201,1635,24.1497,-40.2179,4382,354.3,351.7,16.1838,36.2548,2,36.2568,2,36.4278,2,181.8,3,-999,9,1.95,2,8.37,2,0,2,0.47,2,1652,24.1497,-40.2179,354.3,352.2,351.7
316N20111106,  GT11,18,1,3197,7569,6,  GF-29,2,   29,2,20111201,1635,24.1497,-40.2179,4382,424.2,421.1,14.7781,36.0211,2,36.0206,2,36.1905,2,178.5,3,-999,9,3.12,2,11.55,2,0,2,0.67,2,1649,24.1497,-40.2178,424.2,421.6,421.1
316N20111106,  GT11,18,1,3197,7570,5,  GF-30,2,   30,2,20111201,1635,24.1497,-40.2179,4382,424.2,421.1,14.7781,36.0211,2,36.0204,2,36.1903,2,178.5,3,-999,9,3.12,2,11.52,2,0,2,0.68,2,1649,24.1497,-40.2178,424.2,421.6,421.1
316N20111106,  GT11,18,1,3197,7571,4,  GF-31,2,   31,2,20111201,1635,24.1497,-40.2179,4382,515.2,511.3,13.186,35.7824,2,35.7859,2,35.9546,2,167.1,3,-999,9,4.68,2,14.7,2,0,2,0.88,2,1643,24.1497,-40.2179,515.2,511.9,511.3
316N20111106,  GT11,18,1,3197,7572,3,  GF-33,2,   33,2,20111201,1635,24.1497,-40.2179,4382,515.2,511.3,13.186,35.7824,2,35.7851,2,35.9538,2,167.1,3,-999,9,4.68,2,14.64,2,0,2,0.89,2,1643,24.1497,-40.2179,515.2,511.9,511.3
316N20111106,  GT11,18,1,3197,7573,2,  GF-12,2,   12,2,20111201,1635,24.1497,-40.2179,4382,606.3,601.5,11.7227,35.5927,2,35.5894,2,35.7572,2,163.1,3,-999,9,7.02,2,17.82,2,0,2,1.09,2,1639,24.1497,-40.2178,606.3,602.3,601.5
316N20111106,  GT11,18,1,3197,7574,1,  GF-36,2,   36,2,20111201,1635,24.1497,-40.2179,4382,606.3,601.5,11.7227,35.5927,2,35.5914,2,35.7592,2,163.1,3,-999,9,7.02,2,17.76,2,0,2,1.1,2,1639,24.1497,-40.2178,606.3,602.3,601.5
316N20111106,  GT11,18,5,3202,7608,24,   GF-1,2,   1,2,20111202,500,24.15,-40.2171,4614,783.2,776.8,9.6222,35.3694,2,35.3731,2,35.5399,2,151,3,-999,9,11.51,2,22.16,2,0,2,1.38,2,731,24.15,-40.2171,783.2,776.5,776.8
316N20111106,  GT11,18,5,3202,7609,23,   GF-2,2,   2,2,20111202,500,24.15,-40.2171,4614,783.2,776.8,9.6222,35.3694,2,35.3693,2,35.5361,2,151,3,-999,9,11.51,2,22.05,2,0,2,1.38,2,731,24.15,-40.2171,783.2,776.5,776.8
316N20111106,  GT11,18,5,3202,7610,22,   GF-3,2,   3,2,20111202,500,24.15,-40.2171,4614,975,966.6,7.1578,35.1437,2,35.1451,2,35.3108,2,161.4,3,-999,9,16.69,2,24.71,2,0,2,1.61,2,722,24.15,-40.217,975,966.4,966.6
316N20111106,  GT11,18,5,3202,7611,21,   GF-4,2,   4,2,20111202,500,24.15,-40.2171,4614,975,966.6,7.1578,35.1437,2,35.1439,2,35.3097,2,161.4,3,-999,9,16.69,2,24.68,2,0,2,1.61,2,722,24.15,-40.217,975,966.4,966.6
316N20111106,  GT11,18,5,3202,7612,20,   GF-5,2,   5,2,20111202,500,24.15,-40.2171,4614,1162,1151.4,6.0461,35.1,2,35.1006,2,35.2661,2,187.4,3,-999,9,16.88,2,23.13,2,0,2,1.53,2,716,24.15,-40.2171,1162,1151.3,1151.4
316N20111106,  GT11,18,5,3202,7613,19,   GF-6,2,   6,2,20111202,500,24.15,-40.2171,4614,1162,1151.4,6.0461,35.1,2,35.1008,2,35.2663,2,187.4,3,-999,9,16.88,2,23.16,2,0,2,1.53,2,716,24.15,-40.2171,1162,1151.3,1151.4
316N20111106,  GT11,18,5,3202,7614,18,   GF-7,2,   7,2,20111202,500,24.15,-40.2171,4614,1339,1326.2,5.6895,35.1536,2,35.1589,2,35.3247,2,206.9,3,-999,9,16.1,2,21.25,2,0,2,1.41,2,707,24.15,-40.2171,1339,1326.2,1326.2
316N20111106,  GT11,18,5,3202,7615,17,   GF-8,2,   8,2,20111202,500,24.15,-40.2171,4614,1339,1326.2,5.6895,35.1536,2,35.1576,2,35.3233,2,206.9,3,-999,9,16.2,2,21.28,2,0,2,1.41,2,707,24.15,-40.2171,1339,1326.2,1326.2
316N20111106,  GT11,18,5,3202,7616,16,  GF-10,2,  10,2,20111202,500,24.15,-40.2171,4614,1517.1,1502,5.1393,35.1333,2,35.1347,2,35.3004,2,221.3,3,-999,9,16.69,2,20.39,2,0,2,1.36,2,701,24.15,-40.217,1517.1,1502,1502
316N20111106,  GT11,18,5,3202,7617,15,  GF-11,2,  11,2,20111202,500,24.15,-40.2171,4614,1517.1,1502,5.1393,35.1333,2,35.1339,2,35.2996,2,221.3,3,-999,9,16.78,2,20.38,2,0,2,1.36,2,701,24.15,-40.217,1517.1,1502,1502
316N20111106,  GT11,18,5,3202,7618,14,  GF-13,2,  13,2,20111202,500,24.15,-40.2171,4614,1821.4,1802,4.0738,35.0322,2,35.0333,2,35.1985,2,237,3,-999,9,19.81,2,19.96,2,0,2,1.34,2,651,24.15,-40.2171,1821.4,1802.1,1802
316N20111106,  GT11,18,5,3202,7619,13,  GF-16,2,  16,2,20111202,500,24.15,-40.2171,4614,1821.4,1802,4.0738,35.0322,2,35.0341,2,35.1993,2,237,3,-999,9,19.81,2,19.96,2,0,2,1.34,2,651,24.15,-40.2171,1821.4,1802.1,1802
316N20111106,  GT11,18,5,3202,7620,12,  GF-18,2,  18,2,20111202,500,24.15,-40.2171,4614,2124.9,2100.7,3.5442,34.9965,2,34.9995,2,35.1645,2,241.5,3,-999,9,23.91,2,20.03,2,0,2,1.37,2,640,24.15,-40.2171,2124.9,2100.9,2100.7
316N20111106,  GT11,18,5,3202,7621,11,  GF-19,2,  19,2,20111202,500,24.15,-40.2171,4614,2124.9,2100.7,3.5442,34.9965,2,35.0064,3,35.1715,3,241.5,3,-999,9,24.1,2,20.02,2,0,2,1.37,2,640,24.15,-40.2171,2124.9,2100.9,2100.7
316N20111106,  GT11,18,5,3202,7622,10,  GF-21,2,  21,2,20111202,500,24.15,-40.2171,4614,2583.4,2551.3,3.0621,34.9621,2,34.9643,2,35.1292,2,241.3,3,-999,9,30.25,2,20.51,2,0,2,1.41,2,618,24.15,-40.2171,2583.4,2551.5,2551.3
316N20111106,  GT11,18,5,3202,7623,9,  GF-24,2,   24,2,20111202,500,24.15,-40.2171,4614,2583.4,2551.3,3.0621,34.9621,2,34.9732,3,35.1381,3,241.3,3,-999,9,30.15,2,20.46,2,0,2,1.4,2,618,24.15,-40.2171,2583.4,2551.5,2551.3
316N20111106,  GT11,18,5,3202,7624,8,  GF-26,2,   26,2,20111202,500,24.15,-40.2171,4614,3042.9,3001.9,2.761,34.9359,2,34.9376,2,35.1023,2,241.7,3,-999,9,35.62,2,20.98,2,0,2,1.43,2,553,24.15,-40.2171,3042.9,3002.1,3001.9
316N20111106,  GT11,18,5,3202,7625,7,  GF-28,2,   28,2,20111202,500,24.15,-40.2171,4614,3042.9,3001.9,2.761,34.9359,2,34.9401,2,35.1049,2,241.7,3,-999,9,35.52,2,20.97,2,0,2,1.43,2,553,24.15,-40.2171,3042.9,3002.1,3001.9
316N20111106,  GT11,18,5,3202,7626,6,  GF-29,2,   29,2,20111202,500,24.15,-40.2171,4614,3451.7,3401.9,2.5763,34.9163,2,34.9189,2,35.0835,2,242.7,3,-999,9,39.33,2,21.24,2,0,2,1.45,2,534,24.15,-40.2171,3451.7,3402.1,3401.9
316N20111106,  GT11,18,5,3202,7627,5,  GF-30,2,   30,2,20111202,500,24.15,-40.2171,4614,3451.7,3401.9,2.5763,34.9163,2,34.9183,2,35.083,2,242.7,3,-999,9,39.33,2,21.24,2,0,2,1.45,2,534,24.15,-40.2171,3451.7,3402.1,3401.9
316N20111106,  GT11,18,5,3202,7628,4,  GF-31,2,   31,2,20111202,500,24.15,-40.2171,4614,3861.3,3802.1,2.4686,34.9019,2,34.9053,2,35.0699,2,244.4,3,-999,9,42.16,2,21.44,2,0,2,1.46,2,521,24.15,-40.2171,3861.3,3802.4,3802.1
316N20111106,  GT11,18,5,3202,7629,3,  GF-33,2,   33,2,20111202,500,24.15,-40.2171,4614,3861.3,3802.1,2.4686,34.9019,2,34.9083,3,35.0729,3,244.4,3,-999,9,41.96,2,21.4,2,0,2,1.47,2,521,24.15,-40.2171,3861.3,3802.4,3802.1
316N20111106,  GT11,18,5,3202,7630,2,  GF-12,2,   12,2,20111202,500,24.15,-40.2171,4614,4373,4301,2.3828,34.8874,2,34.8904,2,35.0549,2,245.7,3,-999,9,45.18,2,21.64,2,0,2,1.48,2,503,24.15,-40.2171,4373,4301.1,4301
316N20111106,  GT11,18,5,3202,7631,1,  GF-36,2,   36,2,20111202,500,24.15,-40.2171,4614,4373,4301,2.3828,34.8874,2,34.891,2,35.0555,2,245.7,3,-999,9,45.09,2,21.64,2,0,2,1.49,2,503,24.15,-40.2171,4373,4301.1,4301
316N20111106,  GT11,19,1,3212,7657,24,   GF-1,2,   1,2,20111203,732,23.2429,-38.0423,5812,61.8,61.4,25.7232,37.4561,2,37.4547,2,37.6314,2,203.2,3,-999,9,0.19,2,0.04,2,0,2,0,2,835,23.2453,-38.0442,61.8,61.4,61.4
316N20111106,  GT11,19,1,3212,7658,23,   GF-2,2,   2,2,20111203,732,23.2429,-38.0423,5812,61.8,61.4,25.7232,37.4561,2,37.4541,2,37.6308,2,203.2,3,-999,9,0.19,2,0,2,0,2,0,2,835,23.2453,-38.0442,61.8,61.4,61.4
316N20111106,  GT11,19,1,3212,7659,22,   GF-3,2,   3,2,20111203,732,23.2429,-38.0423,5812,107.3,106.6,22.894,37.367,2,37.3674,2,37.5436,2,207.1,3,-999,9,0.1,2,0,2,0.08,2,0,2,832,23.2451,-38.044,107.3,106.7,106.6
316N20111106,  GT11,19,1,3212,7660,21,   GF-4,2,   4,2,20111203,732,23.2429,-38.0423,5812,107.3,106.6,22.894,37.367,2,37.3642,2,37.5404,2,207.1,3,-999,9,0,2,0.01,2,0.08,2,0,2,832,23.2451,-38.044,107.3,106.7,106.6
316N20111106,  GT11,19,1,3212,7661,20,   GF-5,2,   5,2,20111203,732,23.2429,-38.0423,5812,137.3,136.4,21.9142,37.2495,2,37.2465,2,37.4221,2,192,3,-999,9,0.19,2,0.62,2,0.01,2,0.11,2,828,23.2449,-38.0439,137.3,136.5,136.4
316N20111106,  GT11,19,1,3212,7662,19,   GF-6,2,   6,2,20111203,732,23.2429,-38.0423,5812,137.3,136.4,21.9142,37.2495,2,37.2457,2,37.4213,2,192,3,-999,9,0.19,2,0.59,2,0.02,2,0.09,2,828,23.2449,-38.0439,137.3,136.5,136.4
316N20111106,  GT11,19,1,3212,7663,18,   GF-7,2,   7,2,20111203,732,23.2429,-38.0423,5812,187.8,186.5,19.6458,36.8627,2,36.8597,2,37.0335,2,175.9,3,-999,9,0.68,2,3.74,2,0,2,0.23,2,824,23.2448,-38.0438,187.8,186.7,186.5
316N20111106,  GT11,19,1,3212,7664,17,   GF-8,2,   8,2,20111203,732,23.2429,-38.0423,5812,187.8,186.5,19.6458,36.8627,2,36.858,2,37.0318,2,175.9,3,-999,9,0.58,2,3.73,2,0,2,0.22,2,824,23.2448,-38.0438,187.8,186.7,186.5
316N20111106,  GT11,19,1,3212,7665,16,  GF-10,2,  10,2,20111203,732,23.2429,-38.0423,5812,239.4,237.7,17.8824,36.5538,2,36.5531,2,36.7255,2,173.9,3,-999,9,1.17,2,6.32,2,0,2,0.39,2,820,23.2447,-38.0437,239.4,238,237.7
316N20111106,  GT11,19,1,3212,7666,15,  GF-11,2,  11,2,20111203,732,23.2429,-38.0423,5812,239.4,237.7,17.8824,36.5538,2,36.5531,2,36.7255,2,173.9,3,-999,9,1.27,2,6.33,2,0,2,0.38,2,820,23.2447,-38.0437,239.4,238,237.7
316N20111106,  GT11,19,1,3212,7667,14,  GF-13,2,  13,2,20111203,732,23.2429,-38.0423,5812,287.8,285.8,16.9305,36.3835,2,36.3806,2,36.5521,2,170.8,3,-999,9,1.85,2,8.2,2,0,2,0.5,2,817,23.2446,-38.0436,287.8,286.2,285.8
316N20111106,  GT11,19,1,3212,7668,13,  GF-16,2,  16,2,20111203,732,23.2429,-38.0423,5812,287.8,285.8,16.9305,36.3835,2,36.3815,2,36.5531,2,170.8,3,-999,9,1.85,2,8.17,2,0,2,0.49,2,817,23.2446,-38.0436,287.8,286.2,285.8
316N20111106,  GT11,19,1,3212,7669,12,  GF-18,2,  18,2,20111203,732,23.2429,-38.0423,5812,354.6,352.1,15.583,36.1442,2,36.1452,2,36.3157,2,164.7,3,-999,9,2.93,2,11.54,2,0,2,0.7,2,813,23.2443,-38.0434,354.6,352.5,352.1
316N20111106,  GT11,19,1,3212,7670,11,  GF-19,2,  19,2,20111203,732,23.2429,-38.0423,5812,354.6,352.1,15.583,36.1442,2,36.1606,3,36.3312,3,164.7,3,-999,9,2.93,2,11.35,2,0,2,0.69,2,813,23.2443,-38.0434,354.6,352.5,352.1
316N20111106,  GT11,19,1,3212,7671,10,  GF-21,2,  21,2,20111203,732,23.2429,-38.0423,5812,424.7,421.6,14.5608,35.972,2,35.97,2,36.1396,2,154.1,3,-999,9,3.9,2,13.93,2,0,2,0.85,2,809,23.2441,-38.0433,424.7,422.1,421.6
316N20111106,  GT11,19,1,3212,7672,9,  GF-24,2,   24,2,20111203,732,23.2429,-38.0423,5812,424.7,421.6,14.5608,35.972,2,35.9706,2,36.1402,2,154.1,3,-999,9,3.9,2,13.92,2,0,2,0.85,2,809,23.2441,-38.0433,424.7,422.1,421.6
316N20111106,  GT11,19,1,3212,7673,8,  GF-26,2,   26,2,20111203,732,23.2429,-38.0423,5812,534.9,530.9,13.0379,35.7545,2,35.7535,2,35.9221,2,152.2,3,-999,9,5.46,2,16.72,2,0,2,1.02,2,802,23.2439,-38.0431,534.9,531.5,530.9
316N20111106,  GT11,19,1,3212,7674,7,  GF-28,2,   28,2,20111203,732,23.2429,-38.0423,5812,534.9,530.9,13.0379,35.7545,2,35.7556,2,35.9242,2,152.2,3,-999,9,5.56,2,16.64,2,0,2,1.02,2,802,23.2439,-38.0431,534.9,531.5,530.9
316N20111106,  GT11,19,1,3212,7675,6,  GF-29,2,   29,2,20111203,732,23.2429,-38.0423,5812,605.9,601.2,12.0013,35.6179,2,35.6192,2,35.7872,2,147.8,3,-999,9,7.12,2,18.67,2,0,2,1.16,2,757,23.2438,-38.043,605.9,601.9,601.2
316N20111106,  GT11,19,1,3212,7676,5,  GF-30,2,   30,2,20111203,732,23.2429,-38.0423,5812,605.9,601.2,12.0013,35.6179,2,35.6182,2,35.7862,2,147.8,3,-999,9,7.12,2,18.64,2,0,2,1.15,2,757,23.2438,-38.043,605.9,601.9,601.2
316N20111106,  GT11,19,1,3212,7677,4,  GF-31,2,   31,2,20111203,732,23.2429,-38.0423,5812,858.2,851,8.0807,35.1829,2,35.1839,2,35.3498,2,149.4,3,-999,9,15.61,2,25.09,2,0,2,1.64,2,748,23.2437,-38.0429,858.2,851.9,851
316N20111106,  GT11,19,1,3212,7678,3,  GF-33,2,   33,2,20111203,732,23.2429,-38.0423,5812,858.2,851,8.0807,35.1829,2,35.1843,2,35.3502,2,149.4,3,-999,9,15.61,2,25.01,2,0,2,1.64,2,748,23.2437,-38.0429,858.2,851.9,851
316N20111106,  GT11,19,1,3212,7679,2,  GF-12,2,   12,2,20111203,732,23.2429,-38.0423,5812,1010.9,1002.1,6.6496,35.0609,2,35.0612,2,35.2265,2,159.8,3,-999,9,18.44,2,25.86,2,0,2,1.73,2,742,23.2436,-38.0429,1010.9,1003,1002.1
316N20111106,  GT11,19,1,3212,7680,1,  GF-36,2,   36,2,20111203,732,23.2429,-38.0423,5812,1010.9,1002.1,6.6496,35.0609,2,35.0622,2,35.2275,2,159.8,3,-999,9,18.34,2,25.88,2,0,2,1.74,2,742,23.2436,-38.0429,1010.9,1003,1002.1