BOTTLE,20170120CCHSIORJL
EXPOCODE,SECT_ID,STNNBR,CASTNO,GEOTR_EVENT,GEOTR_SAMPNO,SAMPNO,BTLNBR,BTLNBR_FLAG_W,BTLNBR_U,BTLNBR_U_FLAG_W,DATE,TIME,LATITUDE,LONGITUDE,BTMDEPTH,CTDPRS,CTDDEPTH,CTDTMP,CTDSAL,CTDSAL_FLAG_W,SALNTY,SALNTY_FLAG_W,SALTREF,SALTREF_FLAG_W,CTDOXY,CTDOXY_FLAG_W,OXYGEN,OXYGEN_FLAG_W,SILCAT,SILCAT_FLAG_W,NITRAT,NITRAT_FLAG_W,NITRIT,NITRIT_FLAG_W,PHSPHT,PHSPHT_FLAG_W,BTL_TIME,BTL_LAT,BTL_LON,ODF_CTDPRS,SMDEPTH,FMDEPTH
,,,,,,,,,,,,,,,METERS,DBAR,METERS,ITS-90,PSS-78,,PSS-78,,G/KG,,UMOL/KG,,UMOL/KG,,UMOL/KG,,UMOL/KG,,UMOL/KG,,UMOL/KG,,,,,DBARS,METERS,METERS
316N20111106,  GT11,5,1,3049,6522,24,   GF-1,2,   1,2,20111113,1931,38.0821,-68.7061,4072,41.7,41.4,23.1299,36.2921,2,36.2919,2,36.463,2,210.1,3,-999,9,0.58,2,0,2,0,2,0,2,2012,38.081,-68.7116,41.7,41.4,41.4
316N20111106,  GT11,5,1,3049,6523,23,   GF-2,2,   2,2,20111113,1931,38.0821,-68.7061,4072,41.7,41.4,23.1299,36.2921,2,36.2925,2,36.4636,2,210.1,3,-999,9,0.49,2,0,2,0,2,0,2,2012,38.081,-68.7116,41.7,41.4,41.4
316N20111106,  GT11,5,1,3049,6524,22,   GF-3,2,   3,2,20111113,1931,38.0821,-68.7061,4072,71.8,71.2,23.108,36.2949,2,36.2948,2,36.466,2,209.6,3,-999,9,0.49,2,0,2,0.01,2,0,2,2010,38.081,-68.7109,71.8,71.3,71.2
316N20111106,  GT11,5,1,3049,6525,21,   GF-4,2,   4,2,20111113,1931,38.0821,-68.7061,4072,71.8,71.2,23.108,36.2949,2,36.2948,2,36.466,2,209.6,3,-999,9,0.49,2,0,2,0.01,2,0,2,2010,38.081,-68.7109,71.8,71.3,71.2
316N20111106,  GT11,5,1,3049,6526,20,   GF-5,2,   5,2,20111113,1931,38.0821,-68.7061,4072,112.2,111.3,21.6617,36.7213,2,36.7221,2,36.8952,2,212.8,3,-999,9,0.19,2,0.23,2,0.17,2,0,2,2007,38.0813,-68.7099,112.2,111.5,111.3
316N20111106,  GT11,5,1,3049,6527,19,   GF-6,2,   6,2,20111113,1931,38.0821,-68.7061,4072,112.2,111.3,21.6617,36.7213,2,36.7231,2,36.8962,2,212.8,3,-999,9,0.1,2,0.22,2,0.17,2,0,2,2007,38.0813,-68.7099,112.2,111.5,111.3
316N20111106,  GT11,5,1,3049,6528,18,   GF-7,2,   7,2,20111113,1931,38.0821,-68.7061,4072,137.2,136.1,20.249,36.713,2,36.7108,2,36.8839,2,221.9,3,-999,9,0.29,2,1.57,2,0.02,2,0.04,2,2004,38.0814,-68.7093,137.2,136.3,136.1
316N20111106,  GT11,5,1,3049,6529,17,   GF-8,2,   8,2,20111113,1931,38.0821,-68.7061,4072,137.2,136.1,20.249,36.713,2,36.7114,2,36.8845,2,221.9,3,-999,9,0.29,2,1.55,2,0.02,2,0.04,2,2004,38.0814,-68.7093,137.2,136.3,136.1
316N20111106,  GT11,5,1,3049,6530,16,  GF-10,2,  10,2,20111113,1931,38.0821,-68.7061,4072,187.7,186.2,18.8441,36.6422,2,36.6434,2,36.8161,2,199.5,3,-999,9,0.49,2,2.23,2,0,2,0.05,2,2002,38.0814,-68.7088,187.7,186.5,186.2
316N20111106,  GT11,5,1,3049,6531,15,  GF-11,2,  11,2,20111113,1931,38.0821,-68.7061,4072,187.7,186.2,18.8441,36.6422,2,36.6436,2,36.8164,2,199.5,3,-999,9,0.49,2,2.24,2,0,2,0.05,2,2002,38.0814,-68.7088,187.7,186.5,186.2
316N20111106,  GT11,5,1,3049,6532,14,  GF-13,2,  13,2,20111113,1931,38.0821,-68.7061,4072,238.8,236.9,18.502,36.6335,2,36.6323,2,36.805,2,202.8,3,-999,9,0.58,2,2.87,2,0,2,0.1,2,2000,38.0814,-68.7086,238.8,237.2,236.9
316N20111106,  GT11,5,1,3049,6533,13,  GF-16,2,  16,2,20111113,1931,38.0821,-68.7061,4072,238.8,236.9,18.502,36.6335,2,36.6319,2,36.8046,2,202.8,3,-999,9,0.58,2,2.87,2,0,2,0.09,2,2000,38.0814,-68.7086,238.8,237.2,236.9
316N20111106,  GT11,5,1,3049,6534,12,  GF-18,2,  18,2,20111113,1931,38.0821,-68.7061,4072,330.3,327.6,18.0863,36.5798,2,36.5807,2,36.7532,2,204.9,3,-999,9,0.78,2,3.6,2,0,2,0.14,2,1957,38.0813,-68.7082,330.3,328.1,327.6
316N20111106,  GT11,5,1,3049,6535,11,  GF-19,2,  19,2,20111113,1931,38.0821,-68.7061,4072,330.3,327.6,18.0863,36.5798,2,36.5815,2,36.754,2,204.9,3,-999,9,0.88,2,3.61,2,0,2,0.14,2,1957,38.0813,-68.7082,330.3,328.1,327.6
316N20111106,  GT11,5,1,3049,6536,10,  GF-21,2,  21,2,20111113,1931,38.0821,-68.7061,4072,424.9,421.2,17.5687,36.4826,2,36.4858,2,36.6579,2,199.7,3,-999,9,1.27,2,5.04,2,0,2,0.22,2,1953,38.0815,-68.7079,424.9,421.9,421.2
316N20111106,  GT11,5,1,3049,6537,9,  GF-24,2,   24,2,20111113,1931,38.0821,-68.7061,4072,424.9,421.2,17.5687,36.4826,2,36.4854,2,36.6575,2,199.7,3,-999,9,1.17,2,5.03,2,0,2,0.22,2,1953,38.0815,-68.7079,424.9,421.9,421.2
316N20111106,  GT11,5,1,3049,6538,8,  GF-25,2,   25,2,20111113,1931,38.0821,-68.7061,4072,556.3,551.4,15.9929,36.1777,2,36.1932,3,36.3638,3,186.4,3,-999,9,2.63,2,9.33,2,0,2,0.5,2,1948,38.0816,-68.7076,556.3,552.2,551.4
316N20111106,  GT11,5,1,3049,6539,7,  GF-26,2,   26,2,20111113,1931,38.0821,-68.7061,4072,556.3,551.4,15.9929,36.1777,2,36.1914,3,36.362,3,186.4,3,-999,9,2.83,2,9.3,2,0,2,0.51,2,1948,38.0816,-68.7076,556.3,552.2,551.4
316N20111106,  GT11,5,1,3049,6540,6,  GF-28,2,   28,2,20111113,1931,38.0821,-68.7061,4072,673,666.8,13.2355,35.7212,2,35.7249,2,35.8934,2,165,3,-999,9,6.05,2,15.46,2,0,2,0.94,2,1945,38.0815,-68.7075,673,667.8,666.8
316N20111106,  GT11,5,1,3049,6541,5,  GF-29,2,   29,2,20111113,1931,38.0821,-68.7061,4072,673,666.8,13.2355,35.7212,2,35.7251,2,35.8936,2,165,3,-999,9,6.14,2,15.42,2,0,2,0.95,2,1945,38.0815,-68.7075,673,667.8,666.8
316N20111106,  GT11,5,1,3049,6542,4,  GF-30,2,   30,2,20111113,1931,38.0821,-68.7061,4072,809,801.3,9.9585,35.2832,2,35.2839,2,35.4503,2,139.2,3,-999,9,12.39,2,23.02,2,0,2,1.47,2,1938,38.0814,-68.7073,809,802.4,801.3
316N20111106,  GT11,5,1,3049,6543,3,  GF-31,2,   31,2,20111113,1931,38.0821,-68.7061,4072,809,801.3,9.9585,35.2832,2,35.2823,2,35.4487,2,139.2,3,-999,9,12.39,2,23,2,0,2,1.47,2,1938,38.0814,-68.7073,809,802.4,801.3
316N20111106,  GT11,5,1,3049,6544,2,  GF-33,2,   33,2,20111113,1931,38.0821,-68.7061,4072,975.2,965.6,6.3142,35.06,2,35.0629,2,35.2282,2,191.5,3,-999,9,12.88,2,20.77,2,0,2,1.39,2,1933,38.0819,-68.7063,975.2,966.7,965.6
316N20111106,  GT11,5,1,3049,6545,1,  GF-36,2,   36,2,20111113,1931,38.0821,-68.7061,4072,975.2,965.6,6.3142,35.06,2,35.0619,2,35.2273,2,191.5,3,-999,9,13.08,2,20.75,2,0,2,1.4,2,1933,38.0819,-68.7063,975.2,966.7,965.6
316N20111106,  GT11,6,1,3054,6560,24,   GF-1,2,   1,2,20111114,429,37.5683,-68.4501,4588,1975.9,1952,3.5266,34.9478,2,34.9512,2,35.116,2,265.9,3,-999,9,13.95,2,17.54,2,0,2,1.15,2,617,37.545,-68.4779,1975.9,1951.4,1952
316N20111106,  GT11,6,1,3054,6561,23,   GF-2,2,   2,2,20111114,429,37.5683,-68.4501,4588,1975.9,1952,3.5266,34.9478,2,34.95,2,35.1148,2,265.9,3,-999,9,13.95,2,17.43,2,0,2,1.14,2,617,37.545,-68.4779,1975.9,1951.4,1952
316N20111106,  GT11,6,1,3054,6562,22,   GF-3,2,   3,2,20111114,429,37.5683,-68.4501,4588,2127.7,2101.2,3.4101,34.9467,2,34.9498,2,35.1146,2,265.5,3,-999,9,15.13,2,17.55,2,0,2,1.17,2,612,37.5464,-68.4764,2127.7,2100.6,2101.2
316N20111106,  GT11,6,1,3054,6563,21,   GF-4,2,   4,2,20111114,429,37.5683,-68.4501,4588,2127.7,2101.2,3.4101,34.9467,2,34.949,2,35.1138,2,265.5,3,-999,9,15.03,2,17.54,2,0,2,1.17,2,612,37.5464,-68.4764,2127.7,2100.6,2101.2
316N20111106,  GT11,6,1,3054,6564,20,   GF-5,2,   5,2,20111114,429,37.5683,-68.4501,4588,2433.8,2401.7,3.1741,34.9472,2,34.9547,2,35.1196,2,265.1,3,-999,9,17.96,2,17.96,2,0,2,1.21,2,557,37.5495,-68.4724,2433.8,2401.2,2401.7
316N20111106,  GT11,6,1,3054,6565,19,   GF-6,2,   6,2,20111114,429,37.5683,-68.4501,4588,2433.8,2401.7,3.1741,34.9472,2,34.9508,2,35.1156,2,265.1,3,-999,9,18.54,2,17.91,2,0,2,1.22,2,557,37.5495,-68.4724,2433.8,2401.2,2401.7
316N20111106,  GT11,6,1,3054,6566,18,   GF-7,2,   7,2,20111114,429,37.5683,-68.4501,4588,2738.7,2700.7,2.9474,34.9344,2,34.9366,2,35.1014,2,265.5,3,-999,9,19.81,2,17.79,2,0,2,1.21,2,542,37.5524,-68.469,2738.7,2700.3,2700.7
316N20111106,  GT11,6,1,3054,6567,17,   GF-8,2,   8,2,20111114,429,37.5683,-68.4501,4588,2738.7,2700.7,2.9474,34.9344,2,34.9366,2,35.1014,2,265.5,3,-999,9,19.71,2,17.81,2,0,2,1.22,2,542,37.5524,-68.469,2738.7,2700.3,2700.7
316N20111106,  GT11,6,1,3054,6568,16,  GF-10,2,  10,2,20111114,429,37.5683,-68.4501,4588,3045.5,3001.1,2.6278,34.9193,2,34.9215,2,35.0862,2,264.1,3,-999,9,23.71,2,18.13,2,0,2,1.25,2,519,37.558,-68.4629,3045.5,3000.7,3001.1
316N20111106,  GT11,6,1,3054,6569,15,  GF-11,2,  11,2,20111114,429,37.5683,-68.4501,4588,3045.5,3001.1,2.6278,34.9193,2,34.9219,2,35.0866,2,264.1,3,-999,9,23.81,2,18.14,2,0,2,1.24,2,519,37.558,-68.4629,3045.5,3000.7,3001.1
316N20111106,  GT11,6,1,3054,6570,14,  GF-13,2,  13,2,20111114,429,37.5683,-68.4501,4588,3352.9,3301.7,2.417,34.9032,2,34.9056,2,35.0702,2,270,3,-999,9,24.1,2,17.79,2,0,2,1.23,2,510,37.5598,-68.4602,3352.9,3301.3,3301.7
316N20111106,  GT11,6,1,3054,6571,13,  GF-16,2,  16,2,20111114,429,37.5683,-68.4501,4588,3352.9,3301.7,2.417,34.9032,2,34.9057,2,35.0703,2,270,3,-999,9,24.01,2,17.74,2,0,2,1.22,2,510,37.5598,-68.4602,3352.9,3301.3,3301.7
316N20111106,  GT11,6,1,3054,6572,12,  GF-18,2,  18,2,20111114,429,37.5683,-68.4501,4588,3658.9,3600.5,2.2922,34.8933,2,34.8959,2,35.0605,2,267.7,3,-999,9,27.23,2,18.08,2,0,2,1.25,2,455,37.5633,-68.4563,3658.9,3600.1,3600.5
316N20111106,  GT11,6,1,3054,6573,11,  GF-19,2,  19,2,20111114,429,37.5683,-68.4501,4588,3658.9,3600.5,2.2922,34.8933,2,34.8969,2,35.0615,2,267.7,3,-999,9,27.23,2,18.09,2,0,2,1.25,2,455,37.5633,-68.4563,3658.9,3600.1,3600.5
316N20111106,  GT11,6,1,3054,6574,10,  GF-21,2,  21,2,20111114,429,37.5683,-68.4501,4588,3864.2,3800.7,2.2439,34.8881,2,34.8906,2,35.0551,2,265.8,3,-999,9,29.57,2,18.44,2,0,2,1.28,2,449,37.5642,-68.4548,3864.2,3800.3,3800.7
316N20111106,  GT11,6,1,3054,6575,9,  GF-24,2,   24,2,20111114,429,37.5683,-68.4501,4588,3864.2,3800.7,2.2439,34.8881,2,34.8908,2,35.0553,2,265.8,3,-999,9,29.67,2,18.44,2,0,2,1.28,2,449,37.5642,-68.4548,3864.2,3800.3,3800.7
316N20111106,  GT11,6,1,3054,6576,8,  GF-25,4,   25,4,20111114,429,37.5683,-68.4501,4588,4069.1,4000.4,2.2228,34.8842,2,34.8916,4,35.0561,4,264.7,3,-999,9,29.57,4,18.43,4,0,4,1.28,4,444,37.5652,-68.4535,4069.1,3999.9,4000.4
316N20111106,  GT11,6,1,3054,6577,7,  GF-26,2,   26,2,20111114,429,37.5683,-68.4501,4588,4069.1,4000.4,2.2228,34.8842,2,34.8869,2,35.0514,2,264.7,3,-999,9,31.91,2,18.76,2,0,2,1.3,2,444,37.5652,-68.4535,4069.1,3999.9,4000.4
316N20111106,  GT11,6,1,3054,6578,6,  GF-28,2,   28,2,20111114,429,37.5683,-68.4501,4588,4275.1,4201,2.2124,34.881,2,34.8841,2,35.0486,2,263.6,3,-999,9,33.38,2,18.93,2,0,2,1.32,2,439,37.5662,-68.4524,4275.1,4200.5,4201
316N20111106,  GT11,6,1,3054,6579,5,  GF-29,2,   29,2,20111114,429,37.5683,-68.4501,4588,4275.1,4201,2.2124,34.881,2,34.8843,2,35.0488,2,263.6,3,-999,9,33.18,2,18.94,2,0,2,1.32,2,439,37.5662,-68.4524,4275.1,4200.5,4201
316N20111106,  GT11,6,1,3054,6580,4,  GF-30,2,   30,2,20111114,429,37.5683,-68.4501,4588,4516.7,4436.1,2.2047,34.8766,2,34.8798,2,35.0443,2,261.8,3,-999,9,36.4,2,19.44,2,0,2,1.36,2,433,37.5674,-68.4511,4516.7,4435.5,4436.1
316N20111106,  GT11,6,1,3054,6581,3,  GF-31,2,   31,2,20111114,429,37.5683,-68.4501,4588,4516.7,4436.1,2.2047,34.8766,2,34.8798,2,35.0443,2,261.8,3,-999,9,36.4,2,19.39,2,0,2,1.37,2,433,37.5674,-68.4511,4516.7,4435.5,4436.1
316N20111106,  GT11,6,1,3054,6582,2,  GF-33,2,   33,2,20111114,429,37.5683,-68.4501,4588,4619.5,4536,2.2096,34.8757,2,34.8808,2,35.0452,2,261.9,3,-999,9,37.09,2,19.46,2,0,2,1.38,2,430,37.5681,-68.4504,4619.5,4535.3,4536
316N20111106,  GT11,6,1,3054,6583,1,  GF-36,2,   36,2,20111114,429,37.5683,-68.4501,4588,4619.5,4536,2.2096,34.8757,2,34.8792,2,35.0437,2,261.9,3,-999,9,37.38,2,19.44,2,0,2,1.38,2,430,37.5681,-68.4504,4619.5,4535.3,4536
316N20111106,  GT11,6,5,3058,6604,24,   GF-1,2,   1,2,20111115,328,37.5306,-68.4675,4599,672.6,666.6,6.8479,35.0837,2,35.0852,2,35.2507,2,190.6,3,-999,9,13.47,2,21.76,2,0,2,1.41,2,422,37.5123,-68.4843,672.6,666.3,666.6
316N20111106,  GT11,6,5,3058,6605,23,   GF-2,2,   2,2,20111115,328,37.5306,-68.4675,4599,672.6,666.6,6.8479,35.0837,2,35.0848,2,35.2503,2,190.6,3,-999,9,13.17,2,21.54,2,0,2,1.4,2,422,37.5123,-68.4843,672.6,666.3,666.6
316N20111106,  GT11,6,5,3058,6606,22,   GF-3,2,   3,2,20111115,328,37.5306,-68.4675,4599,758.2,751.2,6.0839,35.068,2,35.0699,2,35.2352,2,214.6,3,-999,9,12.49,2,20.05,2,0,2,1.32,2,416,37.5149,-68.4823,758.2,751,751.2
316N20111106,  GT11,6,5,3058,6607,21,   GF-4,2,   4,2,20111115,328,37.5306,-68.4675,4599,758.2,751.2,6.0839,35.068,2,35.0703,2,35.2356,2,214.6,3,-999,9,12.49,2,20.04,2,0,2,1.33,2,416,37.5149,-68.4823,758.2,751,751.2
316N20111106,  GT11,6,5,3058,6608,20,   GF-5,2,   5,2,20111115,328,37.5306,-68.4675,4599,860.8,852.6,5.4418,35.0472,2,35.0488,2,35.2141,2,232.1,3,-999,9,11.9,2,18.89,2,0,2,1.26,2,411,37.5168,-68.4807,860.8,852.5,852.6
316N20111106,  GT11,6,5,3058,6609,19,   GF-6,2,   6,2,20111115,328,37.5306,-68.4675,4599,860.8,852.6,5.4418,35.0472,2,35.048,2,35.2133,2,232.1,3,-999,9,11.81,2,18.87,2,0,2,1.26,2,411,37.5168,-68.4807,860.8,852.5,852.6
316N20111106,  GT11,6,5,3058,6610,18,   GF-7,2,   7,2,20111115,328,37.5306,-68.4675,4599,976.2,966.6,5.0338,35.0389,2,35.0407,2,35.206,2,244.3,3,-999,9,11.42,2,18.18,2,0,2,1.22,2,403,37.5196,-68.4785,976.2,966.5,966.6
316N20111106,  GT11,6,5,3058,6611,17,   GF-8,2,   8,2,20111115,328,37.5306,-68.4675,4599,976.2,966.6,5.0338,35.0389,2,35.0405,2,35.2058,2,244.3,3,-999,9,11.42,2,18.22,2,0,2,1.22,2,403,37.5196,-68.4785,976.2,966.5,966.6
316N20111106,  GT11,6,5,3058,6612,16,  GF-10,2,  10,2,20111115,328,37.5306,-68.4675,4599,1097.9,1086.9,4.721,35.0139,2,35.0155,2,35.1807,2,251,3,-999,9,11.22,2,17.92,2,0,2,1.2,2,357,37.5216,-68.4766,1097.9,1086.8,1086.9
316N20111106,  GT11,6,5,3058,6613,15,  GF-11,2,  11,2,20111115,328,37.5306,-68.4675,4599,1097.9,1086.9,4.721,35.0139,2,35.0175,2,35.1826,2,251,3,-999,9,11.22,2,17.88,2,0,2,1.2,2,357,37.5216,-68.4766,1097.9,1086.8,1086.9
316N20111106,  GT11,6,5,3058,6614,14,  GF-13,2,  13,2,20111115,328,37.5306,-68.4675,4599,1215.2,1202.6,4.4887,34.9966,2,34.9996,2,35.1646,2,256.1,3,-999,9,11.42,2,17.73,2,0,2,1.19,2,353,37.5229,-68.4751,1215.2,1202.6,1202.6
316N20111106,  GT11,6,5,3058,6615,13,  GF-16,2,  16,2,20111115,328,37.5306,-68.4675,4599,1215.2,1202.6,4.4887,34.9966,2,34.9992,2,35.1642,2,256.1,3,-999,9,11.32,2,17.73,2,0,2,1.19,2,353,37.5229,-68.4751,1215.2,1202.6,1202.6
316N20111106,  GT11,6,5,3058,6616,12,  GF-18,2,  18,2,20111115,328,37.5306,-68.4675,4599,1317,1303.1,4.2993,34.984,2,34.9866,2,35.1516,2,257.8,3,-999,9,11.42,2,17.67,2,0,2,1.19,2,347,37.5244,-68.4736,1317,1303,1303.1
316N20111106,  GT11,6,5,3058,6617,11,  GF-19,2,  19,2,20111115,328,37.5306,-68.4675,4599,1317,1303.1,4.2993,34.984,2,34.9868,2,35.1518,2,257.8,3,-999,9,11.42,2,17.64,2,0,2,1.18,2,347,37.5244,-68.4736,1317,1303,1303.1
316N20111106,  GT11,6,5,3058,6618,10,  GF-21,2,  21,2,20111115,328,37.5306,-68.4675,4599,1417.7,1402.4,4.1635,34.9779,2,34.9805,2,35.1455,2,259.4,3,-999,9,11.71,2,17.59,2,0,2,1.18,2,343,37.5258,-68.4722,1417.7,1402.4,1402.4
316N20111106,  GT11,6,5,3058,6619,9,  GF-24,2,   24,2,20111115,328,37.5306,-68.4675,4599,1417.7,1402.4,4.1635,34.9779,2,34.9801,2,35.1451,2,259.4,3,-999,9,11.52,2,17.58,2,0,2,1.18,2,343,37.5258,-68.4722,1417.7,1402.4,1402.4
316N20111106,  GT11,6,5,3058,6620,8,  GF-25,2,   25,2,20111115,328,37.5306,-68.4675,4599,1518.5,1501.8,4.0278,34.9711,2,34.9736,2,35.1385,2,261,3,-999,9,12,2,17.57,2,0,2,1.18,2,339,37.5269,-68.471,1518.5,1501.7,1501.8
316N20111106,  GT11,6,5,3058,6621,7,  GF-26,2,   26,2,20111115,328,37.5306,-68.4675,4599,1518.5,1501.8,4.0278,34.9711,2,34.9734,2,35.1383,2,261,3,-999,9,12,2,17.55,2,0,2,1.18,2,339,37.5269,-68.471,1518.5,1501.7,1501.8
316N20111106,  GT11,6,5,3058,6622,6,  GF-28,2,   28,2,20111115,328,37.5306,-68.4675,4599,1619.9,1601.6,3.8962,34.966,2,34.9687,2,35.1336,2,262.3,3,-999,9,12.39,2,17.54,2,0,2,1.18,2,336,37.5278,-68.4701,1619.9,1601.6,1601.6
316N20111106,  GT11,6,5,3058,6623,5,  GF-29,2,   29,2,20111115,328,37.5306,-68.4675,4599,1619.9,1601.6,3.8962,34.966,2,34.9683,2,35.1332,2,262.3,3,-999,9,12.49,2,17.47,2,0,2,1.18,2,336,37.5278,-68.4701,1619.9,1601.6,1601.6
316N20111106,  GT11,6,5,3058,6624,4,  GF-30,2,   30,2,20111115,328,37.5306,-68.4675,4599,1720.6,1700.8,3.8108,34.9677,2,34.9705,2,35.1354,2,262.7,3,-999,9,12.98,2,17.55,2,0,2,1.18,2,332,37.529,-68.4689,1720.6,1700.8,1700.8
316N20111106,  GT11,6,5,3058,6625,3,  GF-31,2,   31,2,20111115,328,37.5306,-68.4675,4599,1720.6,1700.8,3.8108,34.9677,2,34.9707,2,35.1356,2,262.7,3,-999,9,13.08,2,17.59,2,0,2,1.18,2,332,37.529,-68.4689,1720.6,1700.8,1700.8
316N20111106,  GT11,6,5,3058,6626,2,  GF-33,2,   33,2,20111115,328,37.5306,-68.4675,4599,1822.2,1800.8,3.6646,34.9551,2,34.9581,2,35.1229,2,265,3,-999,9,13.37,2,17.45,2,0,2,1.18,2,330,37.5299,-68.4682,1822.2,1800.8,1800.8
316N20111106,  GT11,6,5,3058,6627,1,  GF-36,2,   36,2,20111115,328,37.5306,-68.4675,4599,1822.2,1800.8,3.6646,34.9551,2,34.9579,2,35.1227,2,265,3,-999,9,13.37,2,17.47,2,0,2,1.18,2,330,37.5299,-68.4682,1822.2,1800.8,1800.8