BOTTLE,20161222CCHSIORJL
EXPOCODE,SECT_ID,STNNBR,CASTNO,SAMPNO,BTLNBR,BTLNBR_FLAG_W,BTLNBR_U,BTLNBR_U_FLAG_W,DATE,TIME,LATITUDE,LONGITUDE,CTDPRS,CTDTMP,CTDSAL,CTDSAL_FLAG_W,SALNTY,SALNTY_FLAG_W,CTDOXY,CTDOXY_FLAG_W,OXYGEN,OXYGEN_FLAG_W,SILCAT,SILCAT_FLAG_W,NITRAT,NITRAT_FLAG_W,NITRIT,NITRIT_FLAG_W,PHSPHT,PHSPHT_FLAG_W,CFC-11,CFC-11_FLAG_W,CFC-12,CFC-12_FLAG_W,CFC113,CFC113_FLAG_W,SF6,SF6_FLAG_W,REFTMP,REFTMP_FLAG_W,DELC14,DELC14_FLAG_W,C14ERR,BTL_DATE,BTL_TIME,BTL_LAT,BTL_LON,GEOTR_EVENT,GEOTR_SAMPNO,DEPTH,SALTREF,SALTREF_FLAG_W,SBE35,SBE35_FLAG_W
,,,,,,,,,,,,,DBAR,ITS-90,PSS-78,,PSS-78,,UMOL/KG,,UMOL/KG,,UMOL/KG,,UMOL/KG,,UMOL/KG,,UMOL/KG,,PMOL/KG,,PMOL/KG,,PMOL/KG,,FMOL/KG,,DEG C,,/MILLE,,/MILLE,,,,,,,METERS,G/KG,,ITS-90,
325020131025,       GT13,26,8,12,     NIS-12,2,     12,2,20131203,2036,-11.6706,-127.9998,4.7,26.663,36.105,2,36.1051,2,204.1,2,203.6,2,1.46,2,2.28,2,0.05,2,0.36,2,1.45135,2,0.9124,2,0.12088,2,1.155,2,26.662,2,31,2,2.5,20131203,2106,-11.6706,-127.9998,4341,9404,3987,36.2753,2,26.662,2
325020131025,       GT13,26,8,11,     NIS-11,2,     11,2,20131203,2036,-11.6706,-127.9998,21.4,26.5663,36.1035,2,36.1031,2,204,2,204.5,2,1.56,2,2.29,2,0.04,2,0.36,2,-999,9,-999,9,-999,9,-999,9,26.5661,2,-999,9,-999,20131203,2104,-11.6706,-127.9998,4341,9403,3987,36.2734,2,26.5661,2
325020131025,       GT13,26,8,10,     NIS-10,2,     10,2,20131203,2036,-11.6706,-127.9998,45.2,26.5418,36.104,2,36.1039,2,204.1,2,204,2,1.56,2,2.27,2,0.04,2,0.36,2,-999,9,-999,9,-999,9,-999,9,26.542,2,-999,9,-999,20131203,2102,-11.6706,-127.9998,4341,9402,3987,36.2741,2,26.542,2
325020131025,       GT13,26,8,9,      NIS-9,2,      9,2,20131203,2036,-11.6706,-127.9998,80,25.3461,36.143,2,36.1555,2,202.3,2,201.8,2,1.66,2,1.66,2,0.04,2,0.38,2,-999,9,-999,9,-999,9,-999,9,25.3422,2,-999,9,-999,20131203,2100,-11.6706,-127.9998,4341,9401,3987,36.3259,2,25.3422,2
325020131025,       GT13,26,8,8,      NIS-8,2,      8,2,20131203,2036,-11.6706,-127.9998,99.8,24.4612,36.2573,2,36.2568,2,193.7,2,193.4,2,1.46,2,0.68,2,0.17,2,0.41,2,-999,9,-999,9,-999,9,-999,9,24.4483,2,-999,9,-999,20131203,2058,-11.6706,-127.9998,4341,9400,3987,36.4278,2,24.4483,2
325020131025,       GT13,26,8,7,      NIS-7,2,      7,2,20131203,2036,-11.6706,-127.9998,140.3,22.2838,36.1535,2,36.1529,2,188.5,2,188.7,2,1.17,2,1.17,2,1.47,2,0.42,2,-999,9,-999,9,-999,9,-999,9,22.2821,2,-999,9,-999,20131203,2056,-11.6706,-127.9998,4341,9399,3987,36.3234,2,22.2821,2
325020131025,       GT13,26,8,6,      NIS-6,2,      6,2,20131203,2036,-11.6706,-127.9998,174.8,20.9051,35.9517,2,35.9556,2,188.7,2,189.1,2,0.98,2,2.8,2,0.05,2,0.41,2,-999,9,-999,9,-999,9,-999,9,20.8905,2,-999,9,-999,20131203,2054,-11.6706,-127.9998,4341,9398,3987,36.1252,2,20.8905,2
325020131025,       GT13,26,8,5,      NIS-5,2,      5,2,20131203,2036,-11.6706,-127.9998,200.2,19.6348,35.7064,2,35.6923,2,187.2,2,186.6,2,1.07,2,3.96,2,0.02,2,0.48,2,-999,9,-999,9,-999,9,-999,9,19.6301,2,-999,9,-999,20131203,2053,-11.6706,-127.9998,4341,9397,3987,35.8607,2,19.6301,2
325020131025,       GT13,26,8,4,      NIS-4,2,      4,2,20131203,2036,-11.6706,-127.9998,300.9,12.2895,34.712,2,34.7135,2,58.5,2,59.5,2,15.03,2,22.41,2,0,2,2.07,2,-999,9,-999,9,-999,9,-999,9,12.2665,2,-999,9,-999,20131203,2050,-11.6706,-127.9998,4341,9396,3987,34.8772,2,12.2665,2
325020131025,       GT13,26,8,3,      NIS-3,2,      3,2,20131203,2036,-11.6706,-127.9998,335.3,10.6411,34.674,2,34.6743,2,21.1,2,21.4,2,24.01,2,29.89,2,0,2,2.5,2,-999,9,-999,9,-999,9,-999,9,10.6396,2,-999,9,-999,20131203,2048,-11.6706,-127.9998,4341,9395,3987,34.8378,2,10.6396,2
325020131025,       GT13,26,8,2,     NIS-22,2,      2,2,20131203,2036,-11.6706,-127.9998,552.7,7.3914,34.5704,2,34.5707,2,89,2,89.1,2,36.22,2,34.74,2,0,2,2.36,2,-999,9,-999,9,-999,9,-999,9,7.391,2,-999,9,-999,20131203,2043,-11.6706,-127.9998,4341,9394,3987,34.7337,2,7.391,2
325020131025,       GT13,26,8,1,      NIS-1,2,      1,2,20131203,2036,-11.6706,-127.9998,857.4,5.1919,34.5111,2,34.5121,2,83.7,2,83.6,2,61.01,2,39.85,2,0,2,2.75,2,-999,9,-999,9,-999,9,-999,9,5.1929,2,-999,9,-999,20131203,2036,-11.6706,-127.9998,4341,9393,3987,34.6748,2,5.1929,2
325020131025,       GT13,26,10,12,     NIS-12,2,     12,2,20131204,422,-11.6706,-127.9998,2679.6,1.7925,34.6752,2,34.6756,2,146.9,2,147.7,2,136.16,2,35.94,2,0,2,2.58,2,-999,9,-999,9,-999,9,-999,9,1.7927,2,-999,9,-999,20131204,459,-11.6706,-127.9998,4342,9416,3986,34.8391,2,1.7927,2
325020131025,       GT13,26,10,11,     NIS-11,2,     11,2,20131204,422,-11.6706,-127.9998,2679.9,1.7927,34.6753,2,34.676,2,146.9,2,147.8,2,136.36,2,35.94,2,0,2,2.59,2,-999,9,-999,9,-999,9,-999,9,1.7929,2,-999,9,-999,20131204,459,-11.6706,-127.9998,4342,9415,3986,34.8395,2,1.7929,2
325020131025,       GT13,26,10,10,     NIS-10,2,     10,2,20131204,422,-11.6706,-127.9998,2779.5,1.7712,34.6765,2,34.6772,2,149,2,149.6,2,136.26,2,35.84,2,0,2,2.58,2,-999,9,-999,9,-999,9,-999,9,1.7713,2,-999,9,-999,20131204,455,-11.6706,-127.9998,4342,9414,3986,34.8407,2,1.7713,2
325020131025,       GT13,26,10,9,      NIS-9,2,      9,2,20131204,422,-11.6706,-127.9998,2782,1.771,34.6765,2,34.6803,3,149.2,2,149.8,2,136.06,2,35.78,2,0,2,2.58,2,-999,9,-999,9,-999,9,-999,9,1.771,2,-999,9,-999,20131204,455,-11.6706,-127.9998,4342,9413,3986,34.8439,3,1.771,2
325020131025,       GT13,26,10,8,      NIS-8,2,      8,2,20131204,422,-11.6706,-127.9998,3035.3,1.6688,34.6813,2,34.6817,2,157.2,2,157.5,2,135.38,2,35.33,2,0,2,2.54,2,-999,9,-999,9,-999,9,-999,9,1.6685,2,-999,9,-999,20131204,449,-11.6706,-127.9998,4342,9412,3986,34.8452,2,1.6685,2
325020131025,       GT13,26,10,7,      NIS-7,2,      7,2,20131204,422,-11.6706,-127.9998,3037.3,1.6682,34.6813,2,34.6815,2,157.7,2,157.4,2,135.58,2,35.36,2,0,2,2.55,2,-999,9,-999,9,-999,9,-999,9,1.6689,2,-999,9,-999,20131204,448,-11.6706,-127.9998,4342,9411,3986,34.845,2,1.6689,2
325020131025,       GT13,26,10,5,      NIS-5,2,      5,2,20131204,422,-11.6706,-127.9998,3801.5,1.5687,34.6887,2,34.689,2,164.8,2,165,2,136.45,2,34.97,2,0,2,2.52,2,-999,9,-999,9,-999,9,-999,9,1.5684,2,-999,9,-999,20131204,434,-11.6706,-127.9998,4342,9409,3986,34.8525,2,1.5684,2
325020131025,       GT13,26,10,6,      NIS-6,2,      6,2,20131204,422,-11.6706,-127.9998,3801.6,1.5687,34.6888,2,34.6888,2,164.8,2,165,2,136.45,2,34.91,2,0,2,2.52,2,-999,9,-999,9,-999,9,-999,9,1.5687,2,-999,9,-999,20131204,434,-11.6706,-127.9998,4342,9410,3986,34.8523,2,1.5687,2
325020131025,       GT13,26,10,3,      NIS-3,2,      3,2,20131204,422,-11.6706,-127.9998,3955.1,1.5595,34.6898,2,34.69,2,164.1,2,163.7,2,138.7,2,35.08,2,0,2,2.54,2,-999,9,-999,9,-999,9,-999,9,1.5594,2,-999,9,-999,20131204,429,-11.6706,-127.9998,4342,9407,3986,34.8535,2,1.5594,2
325020131025,       GT13,26,10,4,      NIS-4,2,      4,2,20131204,422,-11.6706,-127.9998,3955.6,1.5594,34.6898,2,34.6901,2,164.1,2,163.7,2,138.6,2,35.07,2,0,2,2.53,2,-999,9,-999,9,-999,9,-999,9,1.5592,2,-999,9,-999,20131204,429,-11.6706,-127.9998,4342,9408,3986,34.8537,2,1.5592,2
325020131025,       GT13,26,10,1,      NIS-1,2,      1,2,20131204,422,-11.6706,-127.9998,4022,1.5624,34.6898,2,34.6911,2,163.5,2,163.6,2,139.38,2,35.11,2,0,2,2.53,2,-999,9,-999,9,-999,9,-999,9,1.5622,2,-999,9,-999,20131204,424,-11.6706,-127.9998,4342,9405,3986,34.8547,2,1.5622,2
325020131025,       GT13,26,10,2,     NIS-22,2,      2,2,20131204,422,-11.6706,-127.9998,4022.6,1.5622,34.6899,2,34.6903,2,163.6,2,163.5,2,139.48,2,35.11,2,0,2,2.53,2,-999,9,-999,9,-999,9,-999,9,1.5619,2,-999,9,-999,20131204,425,-11.6706,-127.9998,4342,9406,3986,34.8539,2,1.5619,2
325020131025,       GT13,26,12,12,     NIS-12,2,     12,2,20131204,900,-11.6706,-127.9998,1511.1,2.9528,34.5915,2,34.5926,2,117,2,116.9,2,109.91,2,38.07,2,0,2,2.72,2,-999,9,-999,9,-999,9,-999,9,2.9529,2,-999,9,-999,20131204,929,-11.6706,-127.9998,4344,9452,3990,34.7558,2,2.9529,2
325020131025,       GT13,26,12,11,     NIS-11,2,     11,2,20131204,900,-11.6706,-127.9998,1511.2,2.9535,34.5915,2,34.5922,2,117,2,117.3,2,110.3,2,38.07,2,0,2,2.73,2,-999,9,-999,9,-999,9,-999,9,2.9528,2,-999,9,-999,20131204,929,-11.6706,-127.9998,4344,9451,3990,34.7554,2,2.9528,2
325020131025,       GT13,26,12,10,     NIS-10,2,     10,2,20131204,900,-11.6706,-127.9998,1764.3,2.4944,34.6181,2,34.6187,2,127.1,2,127.2,2,119.96,2,37.38,2,0,2,2.68,2,-999,9,-999,9,-999,9,-999,9,2.4954,2,-999,9,-999,20131204,923,-11.6706,-127.9998,4344,9450,3990,34.782,2,2.4954,2
325020131025,       GT13,26,12,9,      NIS-9,2,      9,2,20131204,900,-11.6706,-127.9998,1764.6,2.4936,34.618,2,34.6189,2,127.1,2,127,2,119.67,2,37.36,2,0,2,2.68,2,-999,9,-999,9,-999,9,-999,9,2.4955,2,-999,9,-999,20131204,923,-11.6706,-127.9998,4344,9449,3990,34.7822,2,2.4955,2
325020131025,       GT13,26,12,8,      NIS-8,2,      8,2,20131204,900,-11.6706,-127.9998,2018.6,2.1357,34.6443,2,34.6419,3,134.8,2,135.2,2,127.58,2,36.81,2,0,2,2.65,2,-999,9,-999,9,-999,9,-999,9,2.1358,2,-999,9,-999,20131204,918,-11.6706,-127.9998,4344,9448,3990,34.8052,3,2.1358,2
325020131025,       GT13,26,12,7,      NIS-7,2,      7,2,20131204,900,-11.6706,-127.9998,2019,2.1341,34.6444,2,34.6456,2,134.8,2,135,2,127.48,2,36.8,2,0,2,2.65,2,-999,9,-999,9,-999,9,-999,9,2.1354,2,-999,9,-999,20131204,917,-11.6706,-127.9998,4344,9447,3990,34.809,2,2.1354,2
325020131025,       GT13,26,12,6,      NIS-6,2,      6,2,20131204,900,-11.6706,-127.9998,2222.2,1.971,34.6583,2,34.6586,2,140.7,2,140.8,2,130.99,2,36.35,2,0,2,2.61,2,-999,9,-999,9,-999,9,-999,9,1.9705,2,-999,9,-999,20131204,912,-11.6706,-127.9998,4344,9446,3990,34.822,2,1.9705,2
325020131025,       GT13,26,12,5,      NIS-5,2,      5,2,20131204,900,-11.6706,-127.9998,2222.8,1.9698,34.6584,2,34.6595,2,140.8,2,140.9,2,130.8,2,36.38,2,0,2,2.62,2,-999,9,-999,9,-999,9,-999,9,1.9703,2,-999,9,-999,20131204,912,-11.6706,-127.9998,4344,9445,3990,34.823,2,1.9703,2
325020131025,       GT13,26,12,3,      NIS-3,2,      3,2,20131204,900,-11.6706,-127.9998,2426.4,1.8611,34.669,2,34.6694,2,144.5,2,144.5,2,134.99,2,36.07,2,0,2,2.6,2,-999,9,-999,9,-999,9,-999,9,1.8604,2,-999,9,-999,20131204,907,-11.6706,-127.9998,4344,9443,3990,34.8328,2,1.8604,2
325020131025,       GT13,26,12,4,      NIS-4,2,      4,2,20131204,900,-11.6706,-127.9998,2426.7,1.861,34.669,2,34.6703,2,144.5,2,144.6,2,134.89,2,36.08,2,0,2,2.6,2,-999,9,-999,9,-999,9,-999,9,1.8603,2,-999,9,-999,20131204,907,-11.6706,-127.9998,4344,9444,3990,34.8338,2,1.8603,2
325020131025,       GT13,26,12,2,     NIS-22,2,      2,2,20131204,900,-11.6706,-127.9998,2577.8,1.8163,34.6734,2,34.6741,2,146.1,2,145.9,2,137.72,2,36.01,2,0,2,2.6,2,-999,9,-999,9,-999,9,-999,9,1.8156,2,-999,9,-999,20131204,902,-11.6706,-127.9998,4344,9442,3990,34.8376,2,1.8156,2
325020131025,       GT13,26,12,1,      NIS-1,2,      1,2,20131204,900,-11.6706,-127.9998,2577.9,1.8165,34.6732,2,34.6746,2,146,2,146,2,137.72,2,36.04,2,0,2,2.6,2,-999,9,-999,9,-999,9,-999,9,1.8157,2,-999,9,-999,20131204,902,-11.6706,-127.9998,4344,9441,3990,34.8381,2,1.8157,2
325020131025,       GT13,26,13,11,     NIS-11,2,     11,2,20131204,1241,-11.6702,-128,250.6,15.3385,35.0165,2,35.0191,2,154.5,2,153.4,2,4,2,11.42,2,0,2,1.01,2,-999,9,-999,9,-999,9,-999,9,15.3446,2,-999,9,-999,20131204,1307,-11.6702,-128,4345,9463,3987,35.1842,2,15.3446,2
325020131025,       GT13,26,13,12,     NIS-12,2,     12,2,20131204,1241,-11.6702,-128,250.8,15.3386,35.0167,2,35.0212,2,154.4,2,153.6,2,4,2,11.39,2,0,2,1.01,2,-999,9,-999,9,-999,9,-999,9,15.3598,2,-999,9,-999,20131204,1307,-11.6702,-128,4345,9464,3987,35.1864,2,15.3598,2
325020131025,       GT13,26,13,10,     NIS-10,2,     10,2,20131204,1241,-11.6702,-128,335.6,10.8225,34.6769,2,34.6782,2,18.8,2,19.9,2,23.43,2,29.21,2,0,2,2.52,2,-999,9,-999,9,-999,9,-999,9,10.8205,2,-999,9,-999,20131204,1304,-11.6702,-128,4345,9462,3987,34.8417,2,10.8205,2
325020131025,       GT13,26,13,9,      NIS-9,2,      9,2,20131204,1241,-11.6702,-128,336.2,10.8195,34.6774,2,34.6768,2,18.7,2,20.1,2,23.43,2,29.26,2,0,2,2.52,2,-999,9,-999,9,-999,9,-999,9,10.8224,2,-999,9,-999,20131204,1304,-11.6702,-128,4345,9461,3987,34.8403,2,10.8224,2
325020131025,       GT13,26,13,7,      NIS-7,2,      7,2,20131204,1241,-11.6702,-128,552.9,7.4024,34.571,2,34.5713,2,89.2,2,89,2,35.82,2,34.72,2,0,2,2.37,2,-999,9,-999,9,-999,9,-999,9,7.4024,2,-999,9,-999,20131204,1259,-11.6702,-128,4345,9459,3987,34.7343,2,7.4024,2
325020131025,       GT13,26,13,8,      NIS-8,2,      8,2,20131204,1241,-11.6702,-128,552.9,7.4034,34.5709,2,34.5711,2,89.3,2,89.3,2,35.92,2,34.74,2,0,2,2.36,2,-999,9,-999,9,-999,9,-999,9,7.4016,2,-999,9,-999,20131204,1259,-11.6701,-128,4345,9460,3987,34.7341,2,7.4016,2
325020131025,       GT13,26,13,6,      NIS-6,2,      6,2,20131204,1241,-11.6702,-128,854.4,5.1353,34.5116,2,34.5121,2,83.5,2,83.6,2,61.7,2,39.93,2,0,2,2.77,2,-999,9,-999,9,-999,9,-999,9,5.1362,2,-999,9,-999,20131204,1253,-11.6701,-128,4345,9458,3987,34.6748,2,5.1362,2
325020131025,       GT13,26,13,5,      NIS-5,2,      5,2,20131204,1241,-11.6702,-128,854.9,5.134,34.5115,2,34.5122,2,83.5,2,83.6,2,61.89,2,39.95,2,0,2,2.78,2,-999,9,-999,9,-999,9,-999,9,5.1363,2,-999,9,-999,20131204,1253,-11.6701,-128,4345,9457,3987,34.675,2,5.1363,2
325020131025,       GT13,26,13,4,      NIS-4,2,      4,2,20131204,1241,-11.6702,-128,1005.5,4.3184,34.5259,2,34.5264,2,95.5,2,95.7,2,76.73,2,39.45,2,0,2,2.78,2,-999,9,-999,9,-999,9,-999,9,4.318,2,-999,9,-999,20131204,1249,-11.6701,-128,4345,9456,3987,34.6892,2,4.318,2
325020131025,       GT13,26,13,3,      NIS-3,2,      3,2,20131204,1241,-11.6702,-128,1006.3,4.3166,34.526,2,34.5266,2,95.7,2,95.9,2,76.83,2,39.45,2,0,2,2.78,2,-999,9,-999,9,-999,9,-999,9,4.3193,2,-999,9,-999,20131204,1249,-11.6702,-128,4345,9455,3987,34.6894,2,4.3193,2
325020131025,       GT13,26,13,2,     NIS-22,2,      2,2,20131204,1241,-11.6702,-128,1259.9,3.4883,34.5653,2,34.5668,2,106.1,2,106.1,2,98.01,2,38.8,2,0,2,2.77,2,-999,9,-999,9,-999,9,-999,9,3.4868,2,-999,9,-999,20131204,1243,-11.6701,-128,4345,9454,3987,34.7298,2,3.4868,2
325020131025,       GT13,26,13,1,      NIS-1,2,      1,2,20131204,1241,-11.6702,-128,1260.2,3.4877,34.5652,2,34.5664,2,106.1,2,106.2,2,98.49,2,38.83,2,0,2,2.78,2,-999,9,-999,9,-999,9,-999,9,3.487,2,-999,9,-999,20131204,1243,-11.6701,-128,4345,9453,3987,34.7294,2,3.487,2
325020131025,       GT13,26,15,12,     NIS-12,2,     12,2,20131204,2152,-11.6701,-128,20.3,26.6704,36.0931,2,36.093,2,204.5,2,203.6,2,1.37,2,2.38,2,0.05,2,0.38,2,-999,9,-999,9,-999,9,-999,9,26.6686,2,-999,9,-999,20131204,2208,-11.6701,-128,4347,9484,3982,36.2632,2,26.6686,2
325020131025,       GT13,26,15,11,     NIS-11,2,     11,2,20131204,2152,-11.6701,-128,20.4,26.6714,36.093,2,36.0924,2,204.4,2,203.9,2,1.37,2,2.37,2,0.05,2,0.38,2,-999,9,-999,9,-999,9,-999,9,26.6722,2,-999,9,-999,20131204,2208,-11.6701,-128,4347,9483,3982,36.2626,2,26.6722,2
325020131025,       GT13,26,15,9,      NIS-9,2,      9,2,20131204,2152,-11.6701,-128,45.7,26.5751,36.0937,2,36.0938,2,203.3,2,203.4,2,1.27,2,2.34,2,0.05,2,0.38,2,-999,9,-999,9,-999,9,-999,9,26.5754,2,-999,9,-999,20131204,2206,-11.6701,-128,4347,9481,3982,36.264,2,26.5754,2
325020131025,       GT13,26,15,10,     NIS-10,2,     10,2,20131204,2152,-11.6701,-128,46,26.5729,36.0939,2,36.0938,2,203.8,2,203.6,2,1.46,2,2.35,2,0.05,2,0.38,2,-999,9,-999,9,-999,9,-999,9,26.574,2,-999,9,-999,20131204,2206,-11.6701,-128,4347,9482,3982,36.264,2,26.574,2
325020131025,       GT13,26,15,7,      NIS-7,2,      7,2,20131204,2152,-11.6701,-128,80,25.5059,36.1481,2,36.1472,2,203.4,2,203.6,2,1.46,2,1.72,2,0.04,2,0.38,2,-999,9,-999,9,-999,9,-999,9,25.4958,2,-999,9,-999,20131204,2203,-11.6702,-128,4347,9479,3982,36.3176,2,25.4958,2
325020131025,       GT13,26,15,8,      NIS-8,2,      8,2,20131204,2152,-11.6701,-128,80.9,25.4941,36.1519,2,36.1476,2,203,2,203.6,2,1.46,2,1.72,2,0.04,2,0.39,2,-999,9,-999,9,-999,9,-999,9,25.4886,2,-999,9,-999,20131204,2204,-11.6702,-128,4347,9480,3982,36.318,2,25.4886,2
325020131025,       GT13,26,15,5,      NIS-5,2,      5,2,20131204,2152,-11.6701,-128,100.7,25.0648,36.1887,2,36.1902,2,196,2,196.1,2,1.56,2,1.38,2,0.05,2,0.42,2,-999,9,-999,9,-999,9,-999,9,25.0618,2,-999,9,-999,20131204,2200,-11.6701,-128,4347,9477,3982,36.3609,2,25.0618,2
325020131025,       GT13,26,15,6,      NIS-6,2,      6,2,20131204,2152,-11.6701,-128,101.2,25.0509,36.1903,2,36.1892,2,195.8,2,195.8,2,1.56,2,1.4,2,0.05,2,0.42,2,-999,9,-999,9,-999,9,-999,9,25.0583,2,-999,9,-999,20131204,2201,-11.6701,-128,4347,9478,3982,36.3599,2,25.0583,2
325020131025,       GT13,26,15,4,      NIS-4,2,      4,2,20131204,2152,-11.6701,-128,140.4,23.1394,36.2081,2,36.2015,2,188.7,2,189.1,2,1.17,2,0.36,2,2.28,2,0.44,2,-999,9,-999,9,-999,9,-999,9,23.1382,2,-999,9,-999,20131204,2158,-11.6701,-128,4347,9476,3982,36.3722,2,23.1382,2
325020131025,       GT13,26,15,3,      NIS-3,2,      3,2,20131204,2152,-11.6701,-128,140.4,23.1412,36.2083,2,36.1991,2,188.6,2,189,2,1.17,2,0.37,2,2.27,2,0.44,2,-999,9,-999,9,-999,9,-999,9,23.1384,2,-999,9,-999,20131204,2158,-11.6701,-128,4347,9475,3982,36.3698,2,23.1384,2
325020131025,       GT13,26,15,1,      NIS-1,2,      1,2,20131204,2152,-11.6701,-128,201.2,19.6602,35.711,2,35.7152,2,187.7,2,188.1,2,1.07,2,3.77,2,0.02,2,0.48,2,-999,9,-999,9,-999,9,-999,9,19.6575,2,-999,9,-999,20131204,2156,-11.6701,-128,4347,9473,3982,35.8836,2,19.6575,2
325020131025,       GT13,26,15,2,     NIS-22,2,      2,2,20131204,2152,-11.6701,-128,201.4,19.6595,35.7101,2,35.7152,2,187.7,2,187.9,2,1.07,2,3.75,2,0.02,2,0.48,2,-999,9,-999,9,-999,9,-999,9,19.6633,2,-999,9,-999,20131204,2156,-11.6701,-128,4347,9474,3982,35.8836,2,19.6633,2