BOTTLE,20161222CCHSIORJL
EXPOCODE,SECT_ID,STNNBR,CASTNO,SAMPNO,BTLNBR,BTLNBR_FLAG_W,BTLNBR_U,BTLNBR_U_FLAG_W,DATE,TIME,LATITUDE,LONGITUDE,CTDPRS,CTDTMP,CTDSAL,CTDSAL_FLAG_W,SALNTY,SALNTY_FLAG_W,CTDOXY,CTDOXY_FLAG_W,OXYGEN,OXYGEN_FLAG_W,SILCAT,SILCAT_FLAG_W,NITRAT,NITRAT_FLAG_W,NITRIT,NITRIT_FLAG_W,PHSPHT,PHSPHT_FLAG_W,CFC-11,CFC-11_FLAG_W,CFC-12,CFC-12_FLAG_W,CFC113,CFC113_FLAG_W,SF6,SF6_FLAG_W,REFTMP,REFTMP_FLAG_W,DELC14,DELC14_FLAG_W,C14ERR,BTL_DATE,BTL_TIME,BTL_LAT,BTL_LON,GEOTR_EVENT,GEOTR_SAMPNO,DEPTH,SALTREF,SALTREF_FLAG_W,SBE35,SBE35_FLAG_W
,,,,,,,,,,,,,DBAR,ITS-90,PSS-78,,PSS-78,,UMOL/KG,,UMOL/KG,,UMOL/KG,,UMOL/KG,,UMOL/KG,,UMOL/KG,,PMOL/KG,,PMOL/KG,,PMOL/KG,,FMOL/KG,,DEG C,,/MILLE,,/MILLE,,,,,,,METERS,G/KG,,ITS-90,
325020131025,       GT13,3,5,12,     NIS-12,4,     12,4,20131101,2341,-12.045,-77.657,2.8,16.8787,34.9759,2,-999,9,227.7,2,-999,9,-999,9,-999,9,-999,9,-999,9,-999,9,-999,9,-999,9,-999,9,16.8844,2,-999,9,-999,20131102,6,-12.045,-77.657,4048,2321,180,-999,9,16.8844,2
325020131025,       GT13,3,5,11,     NIS-11,2,     11,2,20131101,2341,-12.045,-77.657,7,16.8643,34.9781,2,34.9772,2,227.7,2,224.7,2,2.54,2,6.3,2,0.33,2,1.27,2,-999,9,-999,9,-999,9,-999,9,16.8737,2,-999,9,-999,20131102,4,-12.0451,-77.6569,4048,2320,180,35.1421,2,16.8737,2
325020131025,       GT13,3,5,10,     NIS-10,2,     10,2,20131101,2341,-12.045,-77.657,14.8,15.1448,34.972,2,34.977,2,118.5,2,224.2,3,2.54,2,6.32,2,0.33,2,1.28,2,-999,9,-999,9,-999,9,-999,9,15.2509,3,-999,9,-999,20131102,2,-12.045,-77.6569,4048,2319,180,35.1419,2,15.2509,3
325020131025,       GT13,3,5,9,      NIS-9,2,      9,2,20131101,2341,-12.045,-77.657,19.4,14.8265,34.9675,2,34.9686,2,38.8,2,39,2,13.95,2,19.87,2,0.66,2,2.59,2,-999,9,-999,9,-999,9,-999,9,14.856,2,-999,9,-999,20131102,0,-12.045,-77.6569,4048,2318,180,35.1335,2,14.856,2
325020131025,       GT13,3,5,8,      NIS-8,2,      8,2,20131101,2341,-12.045,-77.657,29.8,13.9291,34.9171,2,34.9153,2,4.5,2,4.6,2,22.64,2,14.47,2,3,2,2.66,2,-999,9,-999,9,-999,9,-999,9,13.9315,2,-999,9,-999,20131101,2359,-12.0451,-77.6569,4048,2317,180,35.08,2,13.9315,2
325020131025,       GT13,3,5,7,      NIS-7,2,      7,2,20131101,2341,-12.045,-77.657,35.3,13.7186,34.9029,2,34.9045,2,4.2,2,4,2,24.4,2,13.72,2,3.66,2,2.63,2,-999,9,-999,9,-999,9,-999,9,13.7194,2,-999,9,-999,20131101,2357,-12.045,-77.6569,4048,2316,180,35.0691,2,13.7194,2
325020131025,       GT13,3,5,6,      NIS-6,2,      6,2,20131101,2341,-12.045,-77.657,40.7,13.7029,34.908,2,34.9122,2,4,2,3,2,25.08,2,12.92,2,4.08,2,2.62,2,-999,9,-999,9,-999,9,-999,9,13.7043,2,-999,9,-999,20131101,2356,-12.045,-77.657,4048,2315,180,35.0768,2,13.7043,2
325020131025,       GT13,3,5,5,      NIS-5,2,      5,2,20131101,2341,-12.045,-77.657,51,13.7713,34.9497,2,34.9485,2,1.7,2,1.7,2,28.2,2,9.05,2,6.66,2,2.6,2,-999,9,-999,9,-999,9,-999,9,13.7709,2,-999,9,-999,20131101,2354,-12.0451,-77.657,4048,2314,180,35.1133,2,13.7709,2
325020131025,       GT13,3,5,4,      NIS-4,4,      4,4,20131101,2341,-12.045,-77.657,65,13.5838,34.9599,2,-999,9,1.8,2,-999,9,-999,9,-999,9,-999,9,-999,9,-999,9,-999,9,-999,9,-999,9,-999,9,-999,9,-999,20131101,2351,-12.045,-77.657,4048,2313,180,-999,9,-999,9
325020131025,       GT13,3,5,3,      NIS-3,2,      3,2,20131101,2341,-12.045,-77.657,90,13.3122,34.9462,2,34.9462,2,2.1,2,1.7,2,28.4,2,17.33,2,5.46,2,2.51,2,-999,9,-999,9,-999,9,-999,9,13.3112,2,-999,9,-999,20131101,2348,-12.045,-77.657,4048,2312,180,35.111,2,13.3112,2
325020131025,       GT13,3,5,2,      NIS-2,2,      2,2,20131101,2341,-12.045,-77.657,131.6,12.9211,34.9226,2,34.9228,2,2.1,2,1.9,2,31.81,2,10.86,2,9.89,2,2.56,2,-999,9,-999,9,-999,9,-999,9,12.918,2,-999,9,-999,20131101,2345,-12.045,-77.657,4048,2311,180,35.0875,2,12.918,2
325020131025,       GT13,3,5,1,      NIS-1,2,      1,2,20131101,2341,-12.045,-77.657,170.3,12.5036,34.9009,2,34.9006,2,1.9,2,1.7,2,30.94,2,22.9,2,2.51,2,2.58,2,-999,9,-999,9,-999,9,-999,9,12.5039,2,-999,9,-999,20131101,2343,-12.045,-77.657,4048,2310,180,35.0652,2,12.5039,2
325020131025,       GT13,3,7,12,     NIS-12,4,     12,4,20131102,603,-12.0451,-77.657,2.9,16.6761,34.971,2,-999,9,220.3,2,-999,9,-999,9,-999,9,-999,9,-999,9,-999,9,-999,9,-999,9,-999,9,16.6753,2,-999,9,-999,20131102,621,-12.045,-77.657,4050,2342,181,-999,9,16.6753,2
325020131025,       GT13,3,7,11,     NIS-11,2,     11,2,20131102,603,-12.0451,-77.657,2.9,16.6708,34.9709,2,34.9715,2,220.3,2,220.3,2,2.54,2,5.95,2,0.34,2,1.27,2,1.765268,2,1.102051,2,0.121823,2,0.843,2,16.674,2,8.2,2,2.5,20131102,621,-12.045,-77.657,4050,2341,181,35.1364,2,16.674,2
325020131025,       GT13,3,7,10,     NIS-10,4,     10,4,20131102,603,-12.0451,-77.657,20,14.6103,34.9731,2,-999,9,26.4,2,-999,9,-999,9,-999,9,-999,9,-999,9,-999,9,-999,9,-999,9,-999,9,14.6061,2,-999,9,-999,20131102,618,-12.0451,-77.657,4050,2340,181,-999,9,14.6061,2
325020131025,       GT13,3,7,9,      NIS-9,2,      9,2,20131102,603,-12.0451,-77.657,30,14.4024,34.956,2,34.9546,2,8.2,2,10.2,2,20.3,2,17.63,2,1.33,2,2.7,2,1.474561593,2,0.916674979,2,0.059545,2,0.527,2,14.4307,3,16.3,2,2.5,20131102,617,-12.0451,-77.657,4050,2339,181,35.1194,2,14.4307,3
325020131025,       GT13,3,7,8,      NIS-8,2,      8,2,20131102,603,-12.0451,-77.657,34.4,13.6865,34.8955,2,34.9004,2,3,2,3.5,2,23.32,2,14.63,2,3.19,2,2.63,2,1.378201705,2,0.847727515,2,0.035417,2,0.433,2,13.6888,2,12.1,2,2.5,20131102,616,-12.045,-77.6569,4050,2338,181,35.065,2,13.6888,2
325020131025,       GT13,3,7,7,      NIS-7,2,      7,2,20131102,603,-12.0451,-77.657,50.1,13.5802,34.9467,2,34.9475,2,2.2,2,1.5,2,28.69,2,12.85,2,6.38,2,2.52,2,1.115898605,2,0.678555375,2,0.017744,2,0.264,2,13.5798,2,13.1,2,2.5,20131102,614,-12.045,-77.6569,4050,2337,181,35.1123,2,13.5798,2
325020131025,       GT13,3,7,6,      NIS-6,2,      6,2,20131102,603,-12.0451,-77.657,64.8,13.3913,34.9507,2,34.9495,2,2.1,2,2.7,2,31.52,2,10.24,2,8.56,2,2.54,2,1.032505421,2,0.615831972,2,0.009375,2,0.247,2,13.3909,2,7,2,2.5,20131102,612,-12.0451,-77.657,4050,2336,181,35.1143,2,13.3909,2
325020131025,       GT13,3,7,5,      NIS-5,2,      5,2,20131102,603,-12.0451,-77.657,90.5,13.1241,34.9332,2,34.933,2,2.1,2,1.8,2,29.18,2,16.02,2,6.37,2,2.52,2,0.983653829,6,0.573558048,6,0.009688,6,0.2165,6,13.1238,2,3,2,2.5,20131102,610,-12.045,-77.6569,4050,2335,181,35.0977,2,13.1238,2
325020131025,       GT13,3,7,4,      NIS-4,4,      4,4,20131102,603,-12.0451,-77.657,90.5,13.1215,34.933,2,-999,9,2.1,2,-999,9,-999,9,-999,9,-999,9,-999,9,-999,9,-999,9,-999,9,-999,9,13.1212,2,-999,9,-999,20131102,610,-12.045,-77.657,4050,2334,181,-999,9,13.1212,2
325020131025,       GT13,3,7,3,      NIS-3,2,      3,2,20131102,603,-12.0451,-77.657,90.7,13.1209,34.9329,2,34.9326,2,2.1,2,2,2,29.08,2,16.1,2,6.33,2,2.52,2,0.978586689,2,0.566688246,2,0.010436,2,0.22,2,13.1205,2,-999,9,-999,20131102,609,-12.045,-77.657,4050,2333,181,35.0973,2,13.1205,2
325020131025,       GT13,3,7,2,      NIS-2,2,      2,2,20131102,603,-12.0451,-77.657,129.9,12.6995,34.9099,2,34.91,2,1.9,2,1.9,2,30.74,2,16.45,2,6.78,2,2.55,2,0.852576735,2,0.503936679,2,0.00881,2,0.173,2,12.6995,2,-11.4,2,2.5,20131102,607,-12.045,-77.657,4050,2332,181,35.0746,2,12.6995,2
325020131025,       GT13,3,7,1,      NIS-1,2,      1,2,20131102,603,-12.0451,-77.657,171,12.4696,34.8987,2,34.8982,2,1.6,2,1.7,2,31.81,2,22.42,2,2.6,2,2.56,2,0.804569325,2,0.465755467,2,0.011408,2,0.117,2,12.4696,2,-7.3,2,2.5,20131102,604,-12.0451,-77.657,4050,2331,181,35.0628,2,12.4696,2
325020131025,       GT13,3,25,25,       FISH,2,   25,2,20131102,722,-12.0446,-77.7099,3.5,16.6794,34.9722,2,34.986,2,-999,9,-999,9,1.76,2,5.13,2,0.25,2,1.09,2,-999,9,-999,9,-999,9,-999,9,-999,9,-999,9,-999,20131102,706,-12.0458,-77.6922,4051,2343,199,35.151,2,-999,9
325020131025,       GT13,4,2,12,     NIS-12,2,     12,2,20131102,1232,-12.0449,-77.8181,3.7,17.1424,34.9886,2,34.9895,2,232.4,2,233.1,2,2.24,2,5.76,2,0.24,2,1.17,2,-999,9,-999,9,-999,9,-999,9,17.1423,2,12.6,2,2.5,20131102,1304,-12.0448,-77.8181,4054,2379,757,35.1545,2,17.1423,2
325020131025,       GT13,4,2,11,     NIS-11,2,     11,2,20131102,1232,-12.0449,-77.8181,6.7,17.1406,34.9887,2,34.9891,2,232.2,2,231.8,2,2.24,2,5.89,2,0.25,2,1.18,2,-999,9,-999,9,-999,9,-999,9,17.1418,2,-999,9,-999,20131102,1303,-12.0448,-77.8181,4054,2378,757,35.1541,2,17.1418,2
325020131025,       GT13,4,2,10,     NIS-10,2,     10,2,20131102,1232,-12.0449,-77.8181,12.6,17.0443,34.9882,2,34.9888,2,227.7,2,227.1,2,2.44,2,6.54,2,0.28,2,1.24,2,-999,9,-999,9,-999,9,-999,9,17.0478,2,-999,9,-999,20131102,1301,-12.0449,-77.8181,4054,2377,757,35.1537,2,17.0478,2
325020131025,       GT13,4,2,9,      NIS-9,2,      9,2,20131102,1232,-12.0449,-77.8181,21.9,15.6337,34.9779,2,34.9795,2,175.2,2,175.1,2,3.32,2,11.57,2,0.54,2,1.77,2,-999,9,-999,9,-999,9,-999,9,15.6339,2,-999,9,-999,20131102,1259,-12.0448,-77.8181,4054,2376,757,35.1445,2,15.6339,2
325020131025,       GT13,4,2,8,      NIS-8,2,      8,2,20131102,1232,-12.0449,-77.8181,38,14.7394,34.9741,2,34.9677,2,25.4,2,29.4,2,15.22,2,21.22,2,0.39,2,2.62,2,-999,9,-999,9,-999,9,-999,9,14.7522,2,-999,9,-999,20131102,1257,-12.0448,-77.8181,4054,2375,757,35.1326,2,14.7522,2
325020131025,       GT13,4,2,7,      NIS-7,2,      7,2,20131102,1232,-12.0449,-77.8181,47.5,13.5473,34.8288,2,34.8363,2,15.9,2,15.4,2,19.52,2,19.8,2,0.79,2,2.52,2,-999,9,-999,9,-999,9,-999,9,13.5486,2,-999,9,-999,20131102,1256,-12.0449,-77.8181,4054,2374,757,35.0006,2,13.5486,2
325020131025,       GT13,4,2,6,      NIS-6,4,      6,4,20131102,1232,-12.0449,-77.8181,67.6,13.5665,34.9402,2,34.989,4,1.1,2,233,4,2.15,4,5.77,4,0.24,4,1.15,4,-999,9,-999,9,-999,9,-999,9,13.5669,2,-999,9,-999,20131102,1254,-12.0448,-77.8181,4054,2373,757,35.154,4,13.5669,2
325020131025,       GT13,4,2,5,      NIS-5,2,      5,2,20131102,1232,-12.0449,-77.8181,112.3,13.1668,34.9366,2,34.9342,2,1.2,2,1.6,2,32.11,2,8.62,2,10.48,2,2.55,2,-999,9,-999,9,-999,9,-999,9,13.1693,2,-999,9,-999,20131102,1251,-12.0449,-77.8181,4054,2372,757,35.0989,2,13.1693,2
325020131025,       GT13,4,2,4,      NIS-4,2,      4,2,20131102,1232,-12.0449,-77.8181,202.6,12.1799,34.8785,2,34.8776,2,1.8,2,1.7,2,28.69,2,22.56,2,4.71,2,2.53,2,-999,9,-999,9,-999,9,-999,9,12.1805,2,-999,9,-999,20131102,1248,-12.0449,-77.8181,4054,2371,757,35.0421,2,12.1805,2
325020131025,       GT13,4,2,3,      NIS-3,2,      3,2,20131102,1232,-12.0449,-77.8181,301.4,10.6942,34.7815,2,34.7808,2,2.8,2,1.6,2,34.06,2,27.02,2,3.94,2,2.69,2,-999,9,-999,9,-999,9,-999,9,10.6948,2,-999,9,-999,20131102,1245,-12.0448,-77.8181,4054,2370,757,34.9448,2,10.6948,2
325020131025,       GT13,4,2,2,      NIS-2,2,      2,2,20131102,1232,-12.0449,-77.8181,503.4,7.7029,34.6097,2,34.6095,2,4.1,2,2.7,2,48.9,2,41.58,2,0,2,3.1,2,-999,9,-999,9,-999,9,-999,9,7.7032,2,-999,9,-999,20131102,1240,-12.0448,-77.8181,4054,2369,757,34.7727,2,7.7032,2
325020131025,       GT13,4,2,1,      NIS-1,2,      1,2,20131102,1232,-12.0449,-77.8181,680.7,6.3729,34.566,2,34.5664,2,10.8,2,9.3,2,61.3,2,44.7,2,0,2,3.23,2,-999,9,-999,9,-999,9,-999,9,6.3735,2,-999,9,-999,20131102,1235,-12.0448,-77.8182,4054,2368,757,34.7294,2,6.3735,2
325020131025,       GT13,4,4,12,     NIS-12,2,     12,2,20131102,1929,-12.0448,-77.8181,19.7,15.5519,34.9788,2,34.9841,2,162.9,2,160,2,8.69,2,15.51,2,1.07,2,2.28,2,1.878543185,6,1.138568998,6,0.123521,6,1.03095,6,15.5233,2,10.9,2,2.5,20131102,2002,-12.0448,-77.8181,4057,2399,755,35.1491,2,15.5233,2
325020131025,       GT13,4,4,11,     NIS-11,2,     11,2,20131102,1929,-12.0448,-77.8181,47.9,13.9018,34.9587,2,34.9596,2,4.1,2,2,2,29.57,2,2.27,2,8.85,2,2.63,2,1.227833938,2,0.750691295,2,0.022743,2,0.40455,2,13.9018,2,16.9,2,2.5,20131102,1959,-12.0448,-77.8181,4057,2398,755,35.1244,2,13.9018,2
325020131025,       GT13,4,4,10,     NIS-10,2,     10,2,20131102,1929,-12.0448,-77.8181,64.5,13.4743,34.9006,2,34.9008,2,2,2,1.6,2,25.37,2,14.22,2,3.67,2,2.6,2,1.240456766,2,0.738843118,2,0.022747,2,0.403245,2,13.4724,2,14.2,2,2.5,20131102,1958,-12.0448,-77.8181,4057,2397,755,35.0654,2,13.4724,2
325020131025,       GT13,4,4,9,      NIS-9,2,      9,2,20131102,1929,-12.0448,-77.8181,110.6,13.1043,34.9336,2,34.9334,2,1.7,2,1.5,2,31.91,2,8.32,2,10.75,2,2.51,2,0.94862832,2,0.562708464,2,0.007535,2,0.24795,2,13.1039,2,1,2,2.5,20131102,1955,-12.0449,-77.8181,4057,2396,755,35.0982,2,13.1039,2
325020131025,       GT13,4,4,8,      NIS-8,2,      8,2,20131102,1929,-12.0448,-77.8181,140.8,12.9025,34.9214,2,34.9201,2,1.6,2,1.6,2,32.01,2,9.44,2,11.04,2,2.53,2,0.882033968,2,0.515148809,2,0.006814,2,0.236205,2,12.9048,2,6.8,2,2.5,20131102,1953,-12.0448,-77.8181,4057,2395,755,35.0847,2,12.9048,2
325020131025,       GT13,4,4,7,      NIS-7,2,      7,2,20131102,1929,-12.0448,-77.8181,201.9,12.218,34.881,2,34.8788,2,1.7,2,1.6,2,28.4,2,22.74,2,4.53,2,2.51,2,0.701782819,2,0.395689494,2,0.004239,2,0.15138,2,12.2181,2,-11.9,2,2.5,20131102,1951,-12.0449,-77.8181,4057,2394,755,35.0433,2,12.2181,2
325020131025,       GT13,4,4,6,      NIS-6,2,      6,2,20131102,1929,-12.0448,-77.8181,301.7,10.8531,34.7908,2,34.7896,2,1.8,2,1.6,2,33.28,2,24.53,2,5.62,2,2.64,2,0.36626534,2,0.19913808,2,0.00493,2,0.08613,2,10.8507,2,-41.9,2,2.5,20131102,1948,-12.0448,-77.8181,4057,2393,755,34.9536,2,10.8507,2
325020131025,       GT13,4,4,5,      NIS-5,2,      5,2,20131102,1929,-12.0448,-77.8181,403.1,9.2353,34.687,2,34.6859,2,2.1,2,1.8,2,38.94,2,33.89,2,1.44,2,2.89,2,0.157663147,2,0.080828283,2,0,2,0,2,9.2352,2,-87.9,2,2.5,20131102,1945,-12.0448,-77.8181,4057,2392,755,34.8495,2,9.2352,2
325020131025,       GT13,4,4,4,      NIS-4,2,      4,2,20131102,1929,-12.0448,-77.8181,504.1,7.9844,34.6214,2,34.621,2,2.1,2,2,2,46.17,2,40.37,2,0,2,3.06,2,0.072680872,2,0.033022231,2,0,2,0,2,7.9846,2,-107.2,2,2.5,20131102,1941,-12.0448,-77.8181,4057,2391,755,34.7843,2,7.9846,2
325020131025,       GT13,4,4,3,      NIS-3,2,      3,2,20131102,1929,-12.0448,-77.8181,604.9,7.012,34.5856,2,34.5849,2,4.6,2,4.4,2,54.86,2,43.45,2,0,2,3.18,2,0.042616935,2,0.022183778,2,0,2,0,2,7.012,2,-127.4,2,2.5,20131102,1937,-12.0448,-77.8181,4057,2390,755,34.748,2,7.012,2
325020131025,       GT13,4,4,2,      NIS-2,2,      2,2,20131102,1929,-12.0448,-77.8181,679.3,6.4239,34.5675,2,34.5677,2,8.6,2,8.9,2,60.52,2,44.44,2,0,2,3.22,2,0.02533089,2,0.01091388,2,0,2,0,2,6.4234,2,-128.9,2,2.5,20131102,1934,-12.0448,-77.8181,4057,2389,755,34.7307,2,6.4234,2
325020131025,       GT13,4,4,1,      NIS-1,2,      1,2,20131102,1929,-12.0448,-77.8181,755,6.1028,34.5583,2,34.5585,2,12.9,2,13,2,63.94,2,44.92,2,0,2,3.24,2,0.01766703,2,0.007815312,2,0,2,0,2,6.098,2,-142.8,2,2.5,20131102,1931,-12.0448,-77.8181,4057,2388,755,34.7214,2,6.098,2
325020131025,       GT13,4,4,13, NIOZ_CORER,2,    13,2,20131102,1929,-12.0448,-77.8181,771.6,-999,-999,2,-999,9,-999,9,-999,9,-999,9,-999,9,-999,9,-999,9,-999,9,-999,9,-999,9,-999,9,-999,9,-999,9,-999,20131102,1929,-12.0448,-77.8181,4057,2402,755,-999,9,-999,9
325020131025,       GT13,4,25,25,       FISH,2,   25,2,20131102,2055,-12.0453,-77.8651,3.5,17.2196,34.9903,2,34.9866,2,-999,9,-999,9,2.63,2,6.48,2,0.26,2,1.16,2,-999,9,-999,9,-999,9,-999,9,-999,9,-999,9,-999,20131102,2044,-12.0451,-77.8529,4058,2400,1092,35.1516,2,-999,9
325020131025,       GT13,5,2,12,     NIS-12,2,     12,2,20131103,751,-12.0448,-78.1669,20.2,16.9899,35.0149,2,35.0157,2,236.4,2,236.4,2,3.81,2,10.9,2,0.45,2,1.4,2,1.794310226,2,1.097199152,2,0.166396,2,1.092285,2,17.0118,2,15.3,2,2.5,20131103,818,-12.0448,-78.1669,4062,2438,2071,35.1809,2,17.0118,2
325020131025,       GT13,5,2,11,     NIS-11,2,     11,2,20131103,751,-12.0448,-78.1669,40.6,15.77,34.9838,2,34.9847,2,170.1,2,174.8,2,3.71,2,12.47,2,0.61,2,1.75,2,1.817404209,2,1.111397715,2,0.14768,2,0.99963,2,15.7695,2,23.8,2,2.5,20131103,817,-12.0448,-78.1669,4062,2437,2071,35.1497,2,15.7695,2
325020131025,       GT13,5,2,10,     NIS-10,2,     10,2,20131103,751,-12.0448,-78.1669,55,13.9632,34.9151,2,34.8985,2,3.1,2,9.1,2,20.01,2,20.27,2,1.28,2,2.53,2,1.506463989,2,0.912423947,2,0.056375,2,0.60552,2,13.964,2,35.9,2,2.5,20131103,815,-12.0448,-78.1669,4062,2436,2071,35.0631,2,13.964,2
325020131025,       GT13,5,2,9,      NIS-9,2,      9,2,20131103,751,-12.0448,-78.1669,74.1,13.6704,34.9626,2,34.9574,2,1.1,2,1.6,2,32.11,2,5.25,2,9.39,2,2.5,2,1.078197681,2,0.658737391,2,0.012322,2,0.30537,2,13.6729,2,28.5,2,2.5,20131103,813,-12.0448,-78.1669,4062,2435,2071,35.1223,2,13.6729,2
325020131025,       GT13,5,2,8,      NIS-8,2,      8,2,20131103,751,-12.0448,-78.1669,85.3,13.5564,34.9571,2,34.9592,2,1.1,2,1.7,2,31.62,2,7.29,2,9.33,2,2.49,2,1.073840056,2,0.646624311,2,0.016603,2,0.26361,2,13.5584,2,25.5,2,2.5,20131103,812,-12.0448,-78.1669,4062,2434,2071,35.1241,2,13.5584,2
325020131025,       GT13,5,2,7,      NIS-7,2,      7,2,20131103,751,-12.0448,-78.1669,118.3,13.2355,34.9409,2,34.9406,2,1.3,2,1.6,2,30.64,2,11.76,2,8.45,2,2.48,2,0.982603562,2,0.585240187,2,0.009311,2,0.24012,2,13.2365,2,15.7,2,2.5,20131103,810,-12.0448,-78.1669,4062,2433,2071,35.1053,2,13.2365,2
325020131025,       GT13,5,2,6,      NIS-6,2,      6,2,20131103,751,-12.0448,-78.1669,151.7,12.7528,34.9175,2,34.9135,2,1.4,2,2,2,26.93,2,26.3,2,1.37,2,2.44,2,0.852090248,2,0.48338403,2,0.005878,2,0.191835,2,12.752,2,5.1,2,2.5,20131103,808,-12.0448,-78.1669,4062,2432,2071,35.0781,2,12.752,2
325020131025,       GT13,5,2,5,      NIS-5,2,      5,2,20131103,751,-12.0448,-78.1669,201.6,12.2026,34.8728,2,34.8768,2,1.5,2,18.7,4,31.03,2,15.84,2,8.18,2,2.53,2,0.676113878,2,0.388175098,2,0.005055,2,0.105705,2,12.2038,2,-3,2,2.5,20131103,805,-12.0448,-78.1669,4062,2431,2071,35.0412,2,12.2038,2
325020131025,       GT13,5,2,4,      NIS-4,2,      4,2,20131103,751,-12.0448,-78.1669,265.4,11.1538,34.7994,2,34.7981,2,1.8,2,1.6,2,31.04,2,24.29,2,4.91,2,2.58,2,0.427450529,2,0.237252829,2,0.003766,2,0.08091,2,11.1633,2,-24.4,2,2.5,20131103,802,-12.0448,-78.1669,4062,2430,2071,34.9622,2,11.1633,2
325020131025,       GT13,5,2,3,      NIS-3,2,      3,2,20131103,751,-12.0448,-78.1669,330.7,10.3192,34.7535,2,34.7545,2,2,2,1.6,2,34.55,2,27.17,2,4.35,2,2.68,2,0.248058917,2,0.130872098,2,0,2,0,2,10.3163,2,-49,2,2.5,20131103,800,-12.0448,-78.1669,4062,2429,2071,34.9184,2,10.3163,2
325020131025,       GT13,5,2,2,      NIS-2,2,      2,2,20131103,751,-12.0448,-78.1669,383.8,9.3548,34.6898,2,34.6903,2,2.2,2,1.4,2,37.09,2,33.79,2,1.42,2,2.84,2,0.14304608,2,0.076220588,2,0,2,0,2,9.3555,2,-71.8,2,2.5,20131103,757,-12.0448,-78.1669,4062,2428,2071,34.8539,2,9.3555,2
325020131025,       GT13,5,2,1,      NIS-1,2,      1,2,20131103,751,-12.0448,-78.1669,502.6,7.7003,34.6053,2,34.6054,2,2.7,2,2.7,2,46.95,2,42.27,2,0,2,3.07,2,0.060965908,2,0.030836218,2,0.004249,2,0,2,7.7056,2,-97.1,2,2.5,20131103,753,-12.0448,-78.1669,4062,2427,2071,34.7686,2,7.7056,2