BOTTLE,20161222CCHSIORJL
EXPOCODE,SECT_ID,STNNBR,CASTNO,SAMPNO,BTLNBR,BTLNBR_FLAG_W,BTLNBR_U,BTLNBR_U_FLAG_W,DATE,TIME,LATITUDE,LONGITUDE,CTDPRS,CTDTMP,CTDSAL,CTDSAL_FLAG_W,SALNTY,SALNTY_FLAG_W,CTDOXY,CTDOXY_FLAG_W,OXYGEN,OXYGEN_FLAG_W,SILCAT,SILCAT_FLAG_W,NITRAT,NITRAT_FLAG_W,NITRIT,NITRIT_FLAG_W,PHSPHT,PHSPHT_FLAG_W,CFC-11,CFC-11_FLAG_W,CFC-12,CFC-12_FLAG_W,CFC113,CFC113_FLAG_W,SF6,SF6_FLAG_W,REFTMP,REFTMP_FLAG_W,DELC14,DELC14_FLAG_W,C14ERR,BTL_DATE,BTL_TIME,BTL_LAT,BTL_LON,GEOTR_EVENT,GEOTR_SAMPNO,DEPTH,SALTREF,SALTREF_FLAG_W,SBE35,SBE35_FLAG_W
,,,,,,,,,,,,,DBAR,ITS-90,PSS-78,,PSS-78,,UMOL/KG,,UMOL/KG,,UMOL/KG,,UMOL/KG,,UMOL/KG,,UMOL/KG,,PMOL/KG,,PMOL/KG,,PMOL/KG,,FMOL/KG,,DEG C,,/MILLE,,/MILLE,,,,,,,METERS,G/KG,,ITS-90,
325020131025,       GT13,21,4,12,     NIS-12,2,     12,2,20131126,854,-14.7698,-114.9999,3.8,24.5743,35.9188,2,35.9188,2,211,2,211,2,1.76,2,3.16,2,0.07,2,0.41,2,-999,9,-999,9,-999,9,-999,9,24.5745,2,-999,9,-999,20131126,930,-14.7698,-114.9999,4276,8865,3264,36.0882,2,24.5745,2
325020131025,       GT13,21,4,11,     NIS-11,2,     11,2,20131126,854,-14.7698,-114.9999,20.2,24.5812,35.9188,2,35.9192,2,211,2,210.9,2,1.85,2,3.19,2,0.07,2,0.42,2,-999,9,-999,9,-999,9,-999,9,24.5815,2,-999,9,-999,20131126,928,-14.7698,-114.9998,4276,8864,3264,36.0886,2,24.5815,2
325020131025,       GT13,21,4,10,     NIS-10,2,     10,2,20131126,854,-14.7698,-114.9999,60.6,24.1287,35.9166,2,35.9325,2,214.5,2,214.3,2,1.66,2,2.66,2,0.05,2,0.41,2,-999,9,-999,9,-999,9,-999,9,24.1107,2,-999,9,-999,20131126,926,-14.7698,-114.9999,4276,8863,3264,36.1019,2,24.1107,2
325020131025,       GT13,21,4,9,      NIS-9,2,      9,2,20131126,854,-14.7698,-114.9999,90.3,23.0469,36.1925,2,36.1915,2,207.1,2,207.6,2,1.56,2,0.64,2,0.05,2,0.36,2,-999,9,-999,9,-999,9,-999,9,23.0422,2,-999,9,-999,20131126,924,-14.7698,-114.9999,4276,8862,3264,36.3621,2,23.0422,2
325020131025,       GT13,21,4,8,      NIS-8,2,      8,2,20131126,854,-14.7698,-114.9999,125.7,22.8554,36.3262,2,36.3237,2,204.8,2,206.1,2,1.17,2,0.06,2,0.12,2,0.3,2,-999,9,-999,9,-999,9,-999,9,22.855,2,-999,9,-999,20131126,922,-14.7698,-114.9998,4276,8861,3264,36.495,2,22.855,2
325020131025,       GT13,21,4,7,      NIS-7,2,      7,2,20131126,854,-14.7698,-114.9999,151.6,21.3308,36.0065,2,36.0114,2,198.2,2,198,2,1.17,2,0.84,2,1.08,2,0.39,2,-999,9,-999,9,-999,9,-999,9,21.3215,2,-999,9,-999,20131126,921,-14.7698,-114.9999,4276,8860,3264,36.1812,2,21.3215,2
325020131025,       GT13,21,4,6,      NIS-6,2,      6,2,20131126,854,-14.7698,-114.9999,190.8,18.9343,35.5195,2,35.5155,2,188.5,2,188.3,2,1.56,2,4.98,2,0.03,2,0.6,2,-999,9,-999,9,-999,9,-999,9,18.9418,2,-999,9,-999,20131126,919,-14.7698,-114.9998,4276,8859,3264,35.683,2,18.9418,2
325020131025,       GT13,21,4,5,      NIS-5,2,      5,2,20131126,854,-14.7698,-114.9999,227.6,17.7503,35.3114,2,35.3135,2,178.1,2,178.1,2,2.24,2,7.7,2,0.02,2,0.78,2,-999,9,-999,9,-999,9,-999,9,17.7277,2,-999,9,-999,20131126,917,-14.7698,-114.9998,4276,8858,3264,35.4801,2,17.7277,2
325020131025,       GT13,21,4,4,      NIS-4,2,      4,2,20131126,854,-14.7698,-114.9999,361.8,10.4744,34.6609,2,34.6606,2,10.4,2,10.7,2,26.16,2,29.54,2,0,2,2.61,2,-999,9,-999,9,-999,9,-999,9,10.4696,2,-999,9,-999,20131126,914,-14.7698,-114.9998,4276,8857,3264,34.8241,2,10.4696,2
325020131025,       GT13,21,4,3,      NIS-3,2,      3,2,20131126,854,-14.7698,-114.9999,453.5,8.3181,34.5742,2,34.5737,2,47.4,2,47.2,2,29.77,2,35.81,2,0,2,2.51,2,-999,9,-999,9,-999,9,-999,9,8.3146,2,-999,9,-999,20131126,911,-14.7698,-114.9999,4276,8856,3264,34.7368,2,8.3146,2
325020131025,       GT13,21,4,2,     NIS-22,2,      2,2,20131126,854,-14.7698,-114.9999,1007.7,4.4268,34.5196,2,34.5204,2,99.9,2,99.2,2,73.9,2,38.78,2,0,2,2.71,2,-999,9,-999,9,-999,9,-999,9,4.427,2,-999,9,-999,20131126,901,-14.7698,-114.9998,4276,8855,3264,34.6832,2,4.427,2
325020131025,       GT13,21,4,1,      NIS-1,2,      1,2,20131126,854,-14.7698,-114.9999,1260.2,3.5805,34.5569,2,34.5567,2,102,2,102,2,94.49,2,39.14,2,0,2,2.79,2,-999,9,-999,9,-999,9,-999,9,3.5802,2,-999,9,-999,20131126,855,-14.7698,-114.9998,4276,8854,3264,34.7196,2,3.5802,2
325020131025,       GT13,21,6,12,     NIS-12,2,     12,2,20131126,1341,-14.7689,-115.0001,20.2,24.5486,35.9221,2,35.9217,2,210.9,2,211,2,1.85,2,3.17,2,0.07,2,0.42,2,1.556782308,2,0.920975403,2,0.136109,2,1.11,2,24.5503,2,-999,9,-999,20131126,1417,-14.7689,-115,4277,8877,3266,36.0911,2,24.5503,2
325020131025,       GT13,21,6,11,     NIS-11,2,     11,2,20131126,1341,-14.7689,-115.0001,60.4,23.8167,35.9478,2,35.9557,2,212.7,2,213.8,2,1.85,2,2.38,2,0.06,2,0.43,2,1.600261167,2,0.951661016,2,0.139707,2,1.134,2,23.8133,2,-999,9,-999,20131126,1414,-14.7688,-115.0001,4277,8876,3266,36.1252,2,23.8133,2
325020131025,       GT13,21,6,10,     NIS-10,2,     10,2,20131126,1341,-14.7689,-115.0001,90.3,23.1297,36.193,2,36.1934,2,207.9,2,208.3,2,1.46,2,0.69,2,0.05,2,0.37,2,1.639960471,2,0.981332137,2,0.139528,2,1.241,2,23.1295,2,-999,9,-999,20131126,1412,-14.7689,-115.0001,4277,8875,3266,36.3641,2,23.1295,2
325020131025,       GT13,21,6,9,      NIS-9,2,      9,2,20131126,1341,-14.7689,-115.0001,126.2,22.8315,36.3249,2,36.3293,2,205.3,2,205.9,2,1.07,2,0.1,2,0.11,2,0.31,2,0,4,0,4,0,4,0,4,22.8399,2,-999,9,-999,20131126,1410,-14.7689,-115,4277,8874,3266,36.5007,2,22.8399,2
325020131025,       GT13,21,6,8,      NIS-8,2,      8,2,20131126,1341,-14.7689,-115.0001,151.9,22.0937,36.1629,2,36.129,2,200.6,2,200.4,2,0.98,2,0.46,2,0.98,2,0.37,2,1.714222949,2,1.026271011,2,0.142825,2,1.164,2,22.1116,2,-999,9,-999,20131126,1408,-14.7689,-115.0001,4277,8873,3266,36.2994,2,22.1116,2
325020131025,       GT13,21,6,7,      NIS-7,2,      7,2,20131126,1341,-14.7689,-115.0001,226.3,18.0161,35.3552,2,35.356,2,180,2,180.2,2,1.85,2,7.28,2,0.02,2,0.75,2,2.023417801,2,1.179113754,2,0.071375,2,1.2,2,17.9946,3,-999,9,-999,20131126,1405,-14.7689,-115.0001,4277,8872,3266,35.5227,2,17.9946,3
325020131025,       GT13,21,6,6,      NIS-6,2,      6,2,20131126,1341,-14.7689,-115.0001,301.5,12.1734,34.6095,2,34.6144,2,86.4,2,78.7,2,13.86,2,20.77,2,0,2,1.97,2,1.865993741,2,0.949553452,2,0.030582,2,0.6,2,12.1495,2,-999,9,-999,20131126,1402,-14.7689,-115.0001,4277,8871,3266,34.7777,2,12.1495,2
325020131025,       GT13,21,6,5,      NIS-5,2,      5,2,20131126,1341,-14.7689,-115.0001,361.6,10.4515,34.6595,2,34.6615,2,10.9,2,10.8,2,25.96,2,29.79,2,0,2,2.64,2,0.716676753,2,0.328857613,2,0.004353,2,0.125,2,10.4556,2,-999,9,-999,20131126,1359,-14.7689,-115.0001,4277,8870,3266,34.825,2,10.4556,2
325020131025,       GT13,21,6,4,      NIS-4,2,      4,2,20131126,1341,-14.7689,-115.0001,452.8,8.3791,34.5744,2,34.576,2,45.2,2,44.8,2,29.38,2,36.15,2,0,2,2.55,2,0.263718955,2,0.112167356,2,0.001117,2,0.028,2,8.3876,2,-999,9,-999,20131126,1356,-14.7689,-115,4277,8869,3266,34.7391,2,8.3876,2
325020131025,       GT13,21,6,3,      NIS-3,2,      3,2,20131126,1341,-14.7689,-115.0001,502.8,7.5252,34.5525,2,34.5533,2,70.3,2,70.5,2,33.48,2,36.27,2,0,2,2.49,2,0.16072793,2,0.065688107,2,0.001849,2,0.041,2,7.5224,2,-999,9,-999,20131126,1354,-14.7689,-115.0001,4277,8868,3266,34.7162,2,7.5224,2
325020131025,       GT13,21,6,2,     NIS-22,2,      2,2,20131126,1341,-14.7689,-115.0001,754.7,5.4973,34.5004,2,34.5001,2,94.1,2,95.2,2,53.3,2,38.52,2,0,2,2.66,2,0.033848095,2,0.015170031,2,0.002409,2,0.041,2,5.4969,2,-999,9,-999,20131126,1348,-14.7689,-115.0001,4277,8867,3266,34.6628,2,5.4969,2
325020131025,       GT13,21,6,1,      NIS-1,2,      1,2,20131126,1341,-14.7689,-115.0001,1006.7,4.3952,34.5196,2,34.5207,2,100.8,2,100.3,2,74.09,2,39.12,2,0,2,2.74,2,0.019029384,2,0.00527697,2,0.006799,2,0,2,4.3947,2,-999,9,-999,20131126,1342,-14.7689,-115,4277,8866,3266,34.6835,2,4.3947,2
325020131025,       GT13,21,9,12,     NIS-12,2,     12,2,20131127,231,-14.7694,-115.0003,2527.6,1.8403,34.6731,2,34.6739,2,153.8,2,153.9,2,129.52,2,35.23,2,0,2,2.55,2,0.004955806,2,0.000902666,2,0,2,0,2,1.8403,2,-999,9,-999,20131127,302,-14.7694,-115.0003,4282,8923,3258,34.8374,2,1.8403,2
325020131025,       GT13,21,9,11,     NIS-11,2,     11,2,20131127,231,-14.7694,-115.0003,2578.9,1.8314,34.6742,2,34.6746,2,154.1,2,154.7,2,129.62,2,35.18,2,0,2,2.54,2,0.00494337,2,0.001162586,2,0.000065,2,0,2,1.8315,2,-999,9,-999,20131127,300,-14.7695,-115.0002,4282,8922,3258,34.8381,2,1.8315,2
325020131025,       GT13,21,9,10,     NIS-10,2,     10,2,20131127,231,-14.7694,-115.0003,2629.1,1.82,34.6748,2,34.6752,2,154.7,2,155.1,2,130.21,2,35.17,2,0,2,2.54,2,0.006177658,2,0.001396312,2,0,2,0,2,1.8201,2,-999,9,-999,20131127,257,-14.7694,-115.0002,4282,8921,3258,34.8387,2,1.8201,2
325020131025,       GT13,21,9,9,      NIS-9,2,      9,2,20131127,231,-14.7694,-115.0003,2726,1.7946,34.6755,2,34.6756,2,156.5,2,156.7,2,130.6,2,35.13,2,0,2,2.55,2,0.006000443,2,0.001274412,2,0,2,0,2,1.7947,2,-999,9,-999,20131127,254,-14.7694,-115.0003,4282,8920,3258,34.8391,2,1.7947,2
325020131025,       GT13,21,9,8,      NIS-8,2,      8,2,20131127,231,-14.7694,-115.0003,2832,1.7818,34.676,2,34.677,2,158.2,2,158.2,2,130.5,2,35.1,2,0,2,2.54,2,0.009018282,2,0.002393677,2,0.000073,2,0,2,1.7815,2,-999,9,-999,20131127,250,-14.7694,-115.0003,4282,8919,3258,34.8405,2,1.7815,2
325020131025,       GT13,21,9,7,      NIS-7,2,      7,2,20131127,231,-14.7694,-115.0003,2934.2,1.7691,34.6766,2,34.677,2,158.8,2,158.9,2,130.99,2,35.04,2,0,2,2.54,2,0.007146642,2,0.00159377,2,0,2,0,2,1.769,2,-999,9,-999,20131127,247,-14.7694,-115.0003,4282,8918,3258,34.8405,2,1.769,2
325020131025,       GT13,21,9,6,      NIS-6,2,      6,2,20131127,231,-14.7694,-115.0003,3036.9,1.7578,34.6772,2,34.6778,2,159.7,2,159.8,2,131.18,2,35.05,2,0,2,2.54,2,0.005180693,2,0.001285493,2,0,2,0,2,1.7575,2,-999,9,-999,20131127,244,-14.7694,-115.0002,4282,8917,3258,34.8413,2,1.7575,2
325020131025,       GT13,21,9,5,      NIS-5,2,      5,2,20131127,231,-14.7694,-115.0003,3139.7,1.7541,34.6776,2,34.678,2,160.2,2,159.8,2,130.99,2,35.01,2,0,2,2.55,2,0.004907098,2,0.001357022,2,0.000261,2,0,2,1.7539,2,-999,9,-999,20131127,240,-14.7694,-115.0003,4282,8916,3258,34.8415,2,1.7539,2
325020131025,       GT13,21,9,4,      NIS-4,2,      4,2,20131127,231,-14.7694,-115.0003,3240.7,1.755,34.6779,2,34.679,2,160.3,2,160.4,2,131.87,2,35.07,2,0,2,2.54,2,0.007858611,2,0.001058819,2,0.000451,2,0,2,1.7547,2,-999,9,-999,20131127,237,-14.7694,-115.0003,4282,8915,3258,34.8425,2,1.7547,2
325020131025,       GT13,21,9,2,     NIS-22,2,      2,2,20131127,231,-14.7694,-115.0003,3266.1,1.7554,34.678,2,34.679,2,160.6,2,160.5,2,131.77,2,35.09,2,0,2,2.54,2,0.006407727,2,0.001415453,2,0.000703,2,0,2,1.7552,2,-999,9,-999,20131127,234,-14.7694,-115.0002,4282,8913,3258,34.8425,2,1.7552,2
325020131025,       GT13,21,9,3,      NIS-3,2,      3,2,20131127,231,-14.7694,-115.0003,3267.1,1.7554,34.6779,2,34.6797,2,160.6,2,160.6,2,131.67,2,35.09,2,0,2,2.56,2,-999,9,-999,9,-999,9,-999,9,1.7551,2,-999,9,-999,20131127,234,-14.7694,-115.0003,4282,8914,3258,34.8433,2,1.7551,2
325020131025,       GT13,21,9,1,      NIS-1,2,      1,2,20131127,231,-14.7694,-115.0003,3292.2,1.7575,34.6782,2,34.6788,2,160.5,2,160.5,2,132.06,2,35.08,2,0,2,2.54,2,0.009853577,2,0.001840593,2,0.006749,2,0,2,1.7571,2,-999,9,-999,20131127,231,-14.7694,-115.0003,4282,8912,3258,34.8423,2,1.7571,2
325020131025,       GT13,21,9,13, NIOZ_CORER,2,    13,2,20131127,231,-14.7694,-115.0003,3302.4,-999,-999,2,-999,9,-999,9,-999,9,-999,9,-999,9,-999,9,-999,9,-999,9,-999,9,-999,9,-999,9,-999,9,-999,9,-999,20131127,231,-14.7694,-115.0003,4282,8924,3258,-999,9,-999,9
325020131025,       GT13,21,25,25,       FISH,2,   25,2,20131126,1137,-14.7896,-115.0523,3.5,24.5677,35.9124,2,35.9503,2,-999,9,-999,9,1.56,2,2.79,2,0.06,2,0.39,2,-999,9,-999,9,-999,9,-999,9,-999,9,-999,9,-999,20131126,1125,-14.7827,-115.0288,4278,8878,3232,36.1198,2,-999,9
325020131025,       GT13,22,2,12,     NIS-12,2,     12,2,20131127,1815,-14.3856,-117.5024,20.7,24.6852,36.0339,2,36.034,2,209.7,2,210.4,2,1.95,2,2.13,2,0.04,2,0.31,2,1.566778498,2,0.933850736,2,0.141562,2,1.142,2,24.6852,2,-999,9,-999,20131127,1850,-14.3856,-117.5024,4286,8962,3451,36.2039,2,24.6852,2
325020131025,       GT13,22,2,11,     NIS-11,2,     11,2,20131127,1815,-14.3856,-117.5024,85.6,23.6384,36.1992,2,36.2106,2,210.6,2,211,2,1.27,2,0.67,2,0.02,2,0.27,2,1.643765696,2,0.964279185,2,0.143461,2,1.078,2,23.6387,2,-999,9,-999,20131127,1846,-14.3856,-117.5024,4286,8961,3451,36.3813,2,23.6387,2
325020131025,       GT13,22,2,10,     NIS-10,2,     10,2,20131127,1815,-14.3856,-117.5024,121.1,23.1346,36.365,2,36.3659,2,203.1,2,202.9,2,1.07,2,0.19,2,0.18,2,0.26,2,1.675531828,2,0.984485561,2,0.143357,2,1.152,2,23.1334,2,-999,9,-999,20131127,1844,-14.3856,-117.5025,4286,8960,3451,36.5374,2,23.1334,2
325020131025,       GT13,22,2,9,      NIS-9,2,      9,2,20131127,1815,-14.3856,-117.5024,150,21.882,36.1539,2,36.1499,2,199.1,2,198.1,2,0.88,2,0.72,2,0.86,2,0.29,2,1.797334114,6,1.04606282,6,0.14961,6,1.15,6,21.8723,2,-999,9,-999,20131127,1842,-14.3856,-117.5024,4286,8959,3451,36.3204,2,21.8723,2
325020131025,       GT13,22,2,8,      NIS-8,2,      8,2,20131127,1815,-14.3856,-117.5024,210.6,18.822,35.5052,2,35.5062,2,191.8,2,190.4,2,1.07,2,4.67,2,0.02,2,0.51,2,2.050221541,2,1.189932501,2,0.086893,2,1.159,2,18.8281,2,-999,9,-999,20131127,1840,-14.3856,-117.5024,4286,8958,3451,35.6736,2,18.8281,2
325020131025,       GT13,22,2,7,      NIS-7,2,      7,2,20131127,1815,-14.3856,-117.5024,279.9,13.3495,34.7021,2,34.7039,2,160.6,2,160.8,2,4.59,2,12.91,2,0.01,2,1.04,2,2.419456328,2,1.311230201,2,0.044034,2,0.866,2,13.3305,3,-999,9,-999,20131127,1838,-14.3856,-117.5025,4286,8957,3451,34.8675,2,13.3305,3
325020131025,       GT13,22,2,6,      NIS-6,2,      6,2,20131127,1815,-14.3856,-117.5024,311.9,11.4825,34.5232,2,34.5281,2,119.4,2,117.8,2,10.35,2,19.54,2,0,2,1.63,2,2.181629195,2,1.118010255,2,0.036678,2,0.633,2,11.4656,2,-999,9,-999,20131127,1836,-14.3856,-117.5025,4286,8956,3451,34.6909,2,11.4656,2
325020131025,       GT13,22,2,5,      NIS-5,2,      5,2,20131127,1815,-14.3856,-117.5024,376.8,9.5725,34.578,2,34.5775,2,36.4,2,37.5,2,23.43,2,31.66,2,0,2,2.46,2,0.759463929,2,0.34634148,2,0.004932,2,0.141,2,9.5537,3,-999,9,-999,20131127,1834,-14.3856,-117.5024,4286,8955,3451,34.7406,2,9.5537,3
325020131025,       GT13,22,2,4,      NIS-4,2,      4,2,20131127,1815,-14.3856,-117.5024,452.1,8.2569,34.5632,2,34.5654,2,55.9,2,55.4,2,28.31,2,35.29,2,0,2,2.43,2,0.281913731,2,0.127617734,2,0.001429,2,0,2,8.2498,2,-999,9,-999,20131127,1831,-14.3856,-117.5024,4286,8954,3451,34.7284,2,8.2498,2
325020131025,       GT13,22,2,3,      NIS-3,2,      3,2,20131127,1815,-14.3856,-117.5024,552.4,6.9618,34.5286,2,34.5297,2,83.5,2,84.7,2,36.31,2,36.18,2,0,2,2.41,2,0.117747671,2,0.053714746,2,0.000468,2,0,2,6.9664,2,-999,9,-999,20131127,1827,-14.3856,-117.5024,4286,8953,3451,34.6925,2,6.9664,2
325020131025,       GT13,22,2,2,     NIS-22,2,      2,2,20131127,1815,-14.3856,-117.5024,754.4,5.47,34.5031,2,34.5036,2,95.3,2,97,2,53.59,2,38.02,2,0,2,2.57,2,0.035401375,2,0.016164295,2,0.000349,2,0,2,5.4704,2,-999,9,-999,20131127,1822,-14.3856,-117.5025,4286,8952,3451,34.6663,2,5.4704,2
325020131025,       GT13,22,2,1,      NIS-1,2,      1,2,20131127,1815,-14.3856,-117.5024,1007.2,4.3924,34.5199,2,34.5209,2,103.2,2,103.7,2,73.51,2,38.75,2,0,2,2.66,2,0.014137057,2,0.004725165,2,0.000814,2,0,2,4.3901,2,-999,9,-999,20131127,1817,-14.3856,-117.5025,4286,8951,3451,34.6837,2,4.3901,2
325020131025,       GT13,22,25,25,       FISH,2,   25,2,20131127,1927,-14.383,-117.5337,2.5,24.6874,36.0356,2,36.0324,2,-999,9,-999,9,1.56,2,2.15,2,0.04,2,0.36,2,-999,9,-999,9,-999,9,-999,9,-999,9,-999,9,-999,20131127,1921,-14.3842,-117.527,4288,8964,3452,36.2023,2,-999,9
325020131025,       GT13,23,1,12,     NIS-12,2,     12,2,20131128,852,-14.0033,-120.0023,1006.3,4.3256,34.5161,2,34.5168,2,117.2,2,116.5,2,73.6,2,37.39,2,0,2,2.61,2,0.023694182,2,0.009634569,2,0,2,0,2,4.326,2,-163.5,2,2.5,20131128,948,-14.0033,-120.0022,4289,8976,3440,34.6795,2,4.326,2
325020131025,       GT13,23,1,11,     NIS-11,2,     11,2,20131128,852,-14.0033,-120.0023,1260.5,3.6167,34.548,2,34.5491,2,116.2,2,116.3,2,90.39,2,38.02,2,0,2,2.69,2,0.009670259,2,0.003236322,2,0,2,0,2,3.6164,2,-172.2,2,2.5,20131128,943,-14.0033,-120.0022,4289,8975,3440,34.712,2,3.6164,2
325020131025,       GT13,23,1,10,     NIS-10,2,     10,2,20131128,852,-14.0033,-120.0023,1511.8,2.9919,34.5832,2,34.5842,2,120.3,2,120.7,2,105.91,2,37.9,2,0,2,2.72,2,0.004685568,2,0.001394464,2,0,2,0,2,2.9929,2,-193.9,2,2.5,20131128,937,-14.0033,-120.0023,4289,8974,3440,34.7473,2,2.9929,2
325020131025,       GT13,23,1,9,      NIS-9,2,      9,2,20131128,852,-14.0033,-120.0023,1766.2,2.5172,34.6147,2,34.6158,2,126.3,2,126.8,2,118.01,2,37.52,2,0,2,2.7,2,0.004469421,2,0.001189366,2,0,2,0,2,2.5174,2,-210.6,2,2.5,20131128,932,-14.0033,-120.0023,4289,8973,3440,34.779,2,2.5174,2
325020131025,       GT13,23,1,8,      NIS-8,2,      8,2,20131128,852,-14.0033,-120.0023,2019.6,2.1339,34.6429,2,34.6433,2,138.6,2,138.9,2,124.45,2,36.57,2,0,2,2.64,2,0.006706693,2,0.001557336,2,0,2,0,2,2.1345,2,-999,9,-999,20131128,927,-14.0033,-120.0023,4289,8972,3440,34.8066,2,2.1345,2
325020131025,       GT13,23,1,7,      NIS-7,2,      7,2,20131128,852,-14.0033,-120.0023,2120.7,2.042,34.6502,2,34.6507,2,143.3,2,143.8,2,125.82,2,36.19,2,0,2,2.61,2,0.00413547,2,0.000958128,2,0,2,0,2,2.0415,2,-221.3,2,2.5,20131128,924,-14.0033,-120.0023,4289,8971,3440,34.8141,2,2.0415,2
325020131025,       GT13,23,1,6,      NIS-6,2,      6,2,20131128,852,-14.0033,-120.0023,2222.2,1.9435,34.6588,2,34.6591,2,148.3,2,148.9,2,127.18,2,35.79,2,0,2,2.59,2,0.002858053,2,0.000676622,2,0,2,0,2,1.9437,2,-999,9,-999,20131128,921,-14.0033,-120.0023,4289,8970,3440,34.8226,2,1.9437,2
325020131025,       GT13,23,1,5,      NIS-5,2,      5,2,20131128,852,-14.0033,-120.0023,2324.2,1.8965,34.664,2,34.6638,2,149.5,2,149.9,2,128.94,2,35.66,2,0,2,2.58,2,0.003555664,2,0.001085812,2,0,2,0,2,1.8962,2,-217.8,2,2.5,20131128,918,-14.0033,-120.0022,4289,8969,3440,34.8273,2,1.8962,2
325020131025,       GT13,23,1,4,      NIS-4,2,      4,2,20131128,852,-14.0033,-120.0023,2374.8,1.8777,34.6661,2,34.6666,2,149.9,2,150.6,2,129.92,2,35.61,2,0,2,2.58,2,0.004299372,2,0.00080531,2,0,2,0,2,1.8777,2,-999,9,-999,20131128,916,-14.0033,-120.0023,4289,8968,3440,34.8301,2,1.8777,2
325020131025,       GT13,23,1,3,      NIS-3,2,      3,2,20131128,852,-14.0033,-120.0023,2426.1,1.8555,34.6683,2,34.6692,2,150,2,150.7,2,131.48,2,35.59,2,0,2,2.58,2,0.005057422,2,0.001082796,2,0,2,0,2,1.8554,2,-216.4,2,2.5,20131128,914,-14.0033,-120.0023,4289,8967,3440,34.8326,2,1.8554,2
325020131025,       GT13,23,1,2,     NIS-22,2,      2,2,20131128,852,-14.0033,-120.0023,2476.9,1.8449,34.6695,2,34.6701,2,150.7,2,151.1,2,131.77,2,35.61,2,0,2,2.58,2,0.004895568,2,0.000642439,2,0,2,0,2,1.8446,2,-999,9,-999,20131128,912,-14.0033,-120.0023,4289,8966,3440,34.8336,2,1.8446,2
325020131025,       GT13,23,1,1,      NIS-1,2,      1,2,20131128,852,-14.0033,-120.0023,2527.2,1.8283,34.6711,2,34.6715,2,151.5,2,151.6,2,132.36,2,35.62,2,0,2,2.58,2,0.007401231,2,0.001129043,2,0.004221,2,0,2,1.8282,2,-217.8,2,2.5,20131128,910,-14.0033,-120.0023,4289,8965,3440,34.835,2,1.8282,2