BOTTLE,20161222CCHSIORJL
EXPOCODE,SECT_ID,STNNBR,CASTNO,SAMPNO,BTLNBR,BTLNBR_FLAG_W,BTLNBR_U,BTLNBR_U_FLAG_W,DATE,TIME,LATITUDE,LONGITUDE,CTDPRS,CTDTMP,CTDSAL,CTDSAL_FLAG_W,SALNTY,SALNTY_FLAG_W,CTDOXY,CTDOXY_FLAG_W,OXYGEN,OXYGEN_FLAG_W,SILCAT,SILCAT_FLAG_W,NITRAT,NITRAT_FLAG_W,NITRIT,NITRIT_FLAG_W,PHSPHT,PHSPHT_FLAG_W,CFC-11,CFC-11_FLAG_W,CFC-12,CFC-12_FLAG_W,CFC113,CFC113_FLAG_W,SF6,SF6_FLAG_W,REFTMP,REFTMP_FLAG_W,DELC14,DELC14_FLAG_W,C14ERR,BTL_DATE,BTL_TIME,BTL_LAT,BTL_LON,GEOTR_EVENT,GEOTR_SAMPNO,DEPTH,SALTREF,SALTREF_FLAG_W,SBE35,SBE35_FLAG_W
,,,,,,,,,,,,,DBAR,ITS-90,PSS-78,,PSS-78,,UMOL/KG,,UMOL/KG,,UMOL/KG,,UMOL/KG,,UMOL/KG,,UMOL/KG,,PMOL/KG,,PMOL/KG,,PMOL/KG,,FMOL/KG,,DEG C,,/MILLE,,/MILLE,,,,,,,METERS,G/KG,,ITS-90,
325020131025,       GT13,23,4,12,     NIS-12,2,     12,2,20131128,1949,-14.0033,-120.0023,4,25.2015,35.9648,2,35.9651,2,208.5,2,208.2,2,1.95,2,2.88,2,0.05,2,0.42,2,1.493301,2,0.913221,2,0.13078,2,1.088,2,25.2009,2,-999,9,-999,20131128,2031,-14.0033,-120.0023,4297,9046,3436,36.1347,2,25.2009,2
325020131025,       GT13,23,4,11,     NIS-11,2,     11,2,20131128,1949,-14.0033,-120.0023,20.4,25.1753,35.9651,2,35.9653,2,208.5,2,209.1,2,2.05,2,2.84,2,0.05,2,0.43,2,-999,9,-999,9,-999,9,-999,9,25.1763,2,-999,9,-999,20131128,2029,-14.0033,-120.0023,4297,9045,3436,36.1349,2,25.1763,2
325020131025,       GT13,23,4,10,     NIS-10,2,     10,2,20131128,1949,-14.0033,-120.0023,50.1,24.8873,36.0804,2,36.0573,2,213.7,2,211.7,2,1.66,2,1.81,2,0.03,2,0.38,2,-999,9,-999,9,-999,9,-999,9,24.887,2,-999,9,-999,20131128,2026,-14.0033,-120.0023,4297,9044,3436,36.2273,2,24.887,2
325020131025,       GT13,23,4,9,      NIS-9,2,      9,2,20131128,1949,-14.0033,-120.0023,75.8,24.3247,36.1675,2,36.1651,2,212.4,2,212.8,2,1.17,2,0.86,2,0.02,2,0.33,2,-999,9,-999,9,-999,9,-999,9,24.326,2,-999,9,-999,20131128,2025,-14.0033,-120.0022,4297,9043,3436,36.3357,2,24.326,2
325020131025,       GT13,23,4,8,      NIS-8,2,      8,2,20131128,1949,-14.0033,-120.0023,116.8,23.6447,36.3948,2,36.3958,2,202.1,2,202.5,2,1.56,2,0.11,2,0.04,2,0.33,2,-999,9,-999,9,-999,9,-999,9,23.6438,2,-999,9,-999,20131128,2023,-14.0033,-120.0023,4297,9042,3436,36.5674,2,23.6438,2
325020131025,       GT13,23,4,7,      NIS-7,2,      7,2,20131128,1949,-14.0033,-120.0023,181.8,20.2439,35.81,2,35.8207,2,192.6,2,192.3,2,1.37,2,2.89,2,0.03,2,0.45,2,-999,9,-999,9,-999,9,-999,9,20.2566,2,-999,9,-999,20131128,2020,-14.0033,-120.0023,4297,9041,3436,35.9896,2,20.2566,2
325020131025,       GT13,23,4,6,      NIS-6,2,      6,2,20131128,1949,-14.0033,-120.0023,230.3,18.528,35.488,2,35.4873,2,191.8,2,191.6,2,1.56,2,4.43,2,0,2,0.52,2,-999,9,-999,9,-999,9,-999,9,18.5124,2,-999,9,-999,20131128,2018,-14.0033,-120.0023,4297,9040,3436,35.6546,2,18.5124,2
325020131025,       GT13,23,4,5,      NIS-5,2,      5,2,20131128,1949,-14.0033,-120.0023,290.8,12.5036,34.6477,2,34.6476,2,96,2,96,2,11.62,2,19.35,2,0,2,1.79,2,-999,9,-999,9,-999,9,-999,9,12.4857,2,-999,9,-999,20131128,2016,-14.0033,-120.0023,4297,9039,3436,34.8109,2,12.4857,2
325020131025,       GT13,23,4,4,      NIS-4,2,      4,2,20131128,1949,-14.0033,-120.0023,352.2,10.5747,34.6079,2,34.6081,2,33.7,2,34.4,2,22.26,2,27.64,2,0,2,2.46,2,-999,9,-999,9,-999,9,-999,9,10.5781,2,-999,9,-999,20131128,2013,-14.0033,-120.0023,4297,9038,3436,34.7713,2,10.5781,2
325020131025,       GT13,23,4,3,      NIS-3,2,      3,2,20131128,1949,-14.0033,-120.0023,503,7.4679,34.5356,2,34.5371,2,68.2,2,68.5,2,32.9,2,36.42,2,0,2,2.5,2,-999,9,-999,9,-999,9,-999,9,7.4627,2,-999,9,-999,20131128,2009,-14.0033,-120.0023,4297,9037,3436,34.7,2,7.4627,2
325020131025,       GT13,23,4,2,     NIS-22,2,      2,2,20131128,1949,-14.0033,-120.0023,1007.4,4.2719,34.5197,2,34.5207,2,112.8,2,112.7,2,75.17,2,37.73,2,0,2,2.66,2,-999,9,-999,9,-999,9,-999,9,4.2717,2,-999,9,-999,20131128,1959,-14.0033,-120.0023,4297,9036,3436,34.6834,2,4.2717,2
325020131025,       GT13,23,4,1,      NIS-1,2,      1,2,20131128,1949,-14.0033,-120.0023,1512.6,2.8968,34.5889,2,34.5897,2,121.4,2,121.2,2,108.45,2,37.85,2,0,2,2.73,2,-999,9,-999,9,-999,9,-999,9,2.896,2,-999,9,-999,20131128,1949,-14.0033,-120.0023,4297,9035,3436,34.7528,2,2.896,2
325020131025,       GT13,23,6,12,     NIS-12,2,     12,2,20131129,251,-14.0033,-120.0002,20.3,25.1512,35.9585,2,35.9592,2,208.2,2,208.3,2,2.34,2,2.93,2,0.05,2,0.4,2,1.495693699,2,0.958477354,2,0.135326,2,1.108,2,25.1525,2,33.1,2,2.5,20131129,324,-14.0033,-120.0002,4298,9058,3404,36.1288,2,25.1525,2
325020131025,       GT13,23,6,11,     NIS-11,2,     11,2,20131129,251,-14.0033,-120.0002,50.6,24.7547,36.1442,2,36.1452,2,212.6,2,212.6,2,1.85,2,1.17,2,0.02,2,0.3,2,1.526086468,2,0.979677179,2,0.135423,2,1.136,2,24.7542,2,38.4,2,2.5,20131129,322,-14.0033,-120.0003,4298,9057,3404,36.3156,2,24.7542,2
325020131025,       GT13,23,6,10,     NIS-10,2,     10,2,20131129,251,-14.0033,-120.0002,74.5,24.1506,36.2318,2,36.2362,2,210,2,209.7,2,1.56,2,0.67,2,0.02,2,0.3,2,1.558079232,2,0.996809602,2,0.137662,2,1.115,2,24.1082,3,39.7,2,2.5,20131129,320,-14.0032,-120.0002,4298,9056,3404,36.4071,2,24.1082,3
325020131025,       GT13,23,6,9,      NIS-9,4,      9,4,20131129,251,-14.0033,-120.0002,90.5,23.7814,36.3312,2,-999,9,203.7,2,-999,9,-999,9,-999,9,-999,9,-999,9,-999,9,-999,9,-999,9,-999,9,23.7799,2,-999,9,-999,20131129,319,-14.0033,-120.0003,4298,9055,3404,-999,9,23.7799,2
325020131025,       GT13,23,6,8,      NIS-8,2,      8,2,20131129,251,-14.0033,-120.0002,120.5,22.5318,36.2041,2,36.2041,2,192.8,2,193.3,2,1.56,2,0.4,2,1.75,2,0.39,2,1.679542448,6,1.075006422,6,0.144229,6,1.1605,6,22.5141,2,52.6,2,2.5,20131129,317,-14.0033,-120.0003,4298,9054,3404,36.3748,2,22.5141,2
325020131025,       GT13,23,6,7,      NIS-7,2,      7,2,20131129,251,-14.0033,-120.0002,180.9,19.6561,35.7184,2,35.7217,2,193.7,2,193.5,2,1.17,2,3.09,2,0.02,2,0.4,2,1.916568318,2,1.196084134,2,0.085202,2,1.18,2,19.6523,2,60.7,2,2.5,20131129,314,-14.0032,-120.0003,4298,9053,3404,35.8902,2,19.6523,2
325020131025,       GT13,23,6,6,      NIS-6,2,      6,2,20131129,251,-14.0033,-120.0002,229.6,17.2699,35.2638,2,35.2589,2,183.4,2,183.2,2,1.85,2,6.75,2,0,2,0.66,2,2.126897769,2,1.283822234,2,0.046059,2,1.121,2,17.2496,2,56.2,2,2.5,20131129,312,-14.0033,-120.0003,4298,9052,3404,35.4252,2,17.2496,2
325020131025,       GT13,23,6,5,      NIS-5,2,      5,2,20131129,251,-14.0033,-120.0002,292.4,12.7488,34.6679,2,34.6739,2,108,2,109.4,2,9.57,2,18.17,2,0,2,1.63,2,2.099711126,2,1.218556532,2,0.038248,2,0.761,2,12.7567,2,29,2,2.5,20131129,310,-14.0033,-120.0002,4298,9051,3404,34.8374,2,12.7567,2
325020131025,       GT13,23,6,4,      NIS-4,2,      4,2,20131129,251,-14.0033,-120.0002,351.1,10.7314,34.626,2,34.6266,2,28.3,2,29,2,22.55,2,27.49,2,0,2,2.47,2,0.95421107,2,0.514589841,2,0.009945,2,0.17,2,10.7279,2,-999,9,-999,20131129,308,-14.0033,-120.0002,4298,9050,3404,34.7899,2,10.7279,2
325020131025,       GT13,23,6,3,      NIS-3,2,      3,2,20131129,251,-14.0033,-120.0002,502.9,7.6324,34.5377,2,34.5387,2,66.9,2,66.6,2,31.34,2,36.12,2,0,2,2.47,2,0.183560954,2,0.074210966,2,0.003364,2,0,2,7.6317,2,-84.4,2,2.5,20131129,304,-14.0033,-120.0002,4298,9049,3404,34.7016,2,7.6317,2
325020131025,       GT13,23,6,2,     NIS-22,2,      2,2,20131129,251,-14.0033,-120.0002,754.2,5.5121,34.4982,2,34.4993,2,109.5,2,109.7,2,52.23,2,36.51,2,0,2,2.51,2,0.054438716,2,0.021731407,2,0.003441,2,0,2,5.5137,2,-134.1,2,2.5,20131129,259,-14.0033,-120.0002,4298,9048,3404,34.662,2,5.5137,2
325020131025,       GT13,23,6,1,      NIS-1,2,      1,2,20131129,251,-14.0033,-120.0002,1006.8,4.359,34.5163,2,34.5191,2,113.9,2,114,2,72.82,2,37.58,2,0,2,2.63,2,0.026463833,2,0.008141852,2,0.005625,2,0,2,4.3591,2,-168.8,2,2.5,20131129,253,-14.0033,-120.0003,4298,9047,3404,34.6819,2,4.3591,2
325020131025,       GT13,23,10,12,     NIS-12,2,     12,2,20131129,1727,-14.0033,-120.0003,2527.5,1.8213,34.6714,2,34.6725,2,151.4,2,151.7,2,132.16,2,35.78,2,0,2,2.59,2,0.000557187,2,0.002949874,2,0,-999,0,2,1.8211,2,-999,9,-999,20131129,1804,-14.0033,-120.0002,4303,9109,3400,34.836,2,1.8211,2
325020131025,       GT13,23,10,11,     NIS-11,2,     11,2,20131129,1727,-14.0033,-120.0003,2579.2,1.8144,34.6721,2,34.6721,2,151.7,2,152.3,2,132.75,2,35.8,2,0,2,2.59,2,0.002124468,2,0.002189753,2,0,2,0,2,1.8142,2,-214.3,2,2.5,20131129,1801,-14.0033,-120.0002,4303,9108,3400,34.8356,2,1.8142,2
325020131025,       GT13,23,10,10,     NIS-10,2,     10,2,20131129,1727,-14.0033,-120.0003,2629,1.8058,34.6728,2,34.6727,2,152.3,2,152.4,2,133.23,2,35.78,2,0,2,2.59,2,0.007030781,2,0.002439435,2,0,2,0,2,1.8056,2,-999,9,-999,20131129,1757,-14.0033,-120.0002,4303,9107,3400,34.8362,2,1.8056,2
325020131025,       GT13,23,10,9,      NIS-9,2,      9,2,20131129,1727,-14.0033,-120.0003,2731.6,1.7752,34.675,2,34.6748,2,154.3,2,153.9,2,133.82,2,35.74,2,0,2,2.59,2,0,2,0.002162569,2,0,2,0,2,1.7756,2,-216.6,2,2.5,20131129,1753,-14.0033,-120.0003,4303,9106,3400,34.8383,2,1.7756,2
325020131025,       GT13,23,10,8,      NIS-8,2,      8,2,20131129,1727,-14.0033,-120.0003,2833.3,1.7354,34.6772,2,34.6768,2,156.6,2,156.9,2,133.82,2,35.62,2,0,2,2.58,2,0.004596538,2,0.003239827,2,0,2,0,2,1.7356,2,-999,9,-999,20131129,1748,-14.0033,-120.0002,4303,9105,3400,34.8403,2,1.7356,2
325020131025,       GT13,23,10,7,      NIS-7,2,      7,2,20131129,1727,-14.0033,-120.0003,2935.1,1.7006,34.6791,2,34.6792,2,158.8,2,158.7,2,134.01,2,35.51,2,0,2,2.58,2,0.005201776,2,0.002078,2,0,2,0,2,1.7008,2,-217,2,2.5,20131129,1745,-14.0033,-120.0003,4303,9104,3400,34.8427,2,1.7008,2
325020131025,       GT13,23,10,6,      NIS-6,2,      6,2,20131129,1727,-14.0033,-120.0003,3036.4,1.6872,34.68,2,34.6801,2,159.5,2,159.5,2,133.43,2,35.47,2,0,2,2.57,2,0.005442031,2,0.002478699,2,0,2,0,2,1.6871,2,-999,9,-999,20131129,1742,-14.0033,-120.0003,4303,9103,3400,34.8437,2,1.6871,2
325020131025,       GT13,23,10,5,      NIS-5,2,      5,2,20131129,1727,-14.0033,-120.0003,3139.1,1.6634,34.6819,2,34.6817,2,159.8,2,160.5,2,134.6,2,35.45,2,0,2,2.57,2,0.006863114,2,0.002593472,2,0,2,0,2,1.6639,2,-217.4,2,2.5,20131129,1739,-14.0033,-120.0002,4303,9102,3400,34.8452,2,1.6639,2
325020131025,       GT13,23,10,4,      NIS-4,2,      4,2,20131129,1727,-14.0033,-120.0003,3240.3,1.6496,34.6829,2,34.6825,2,161.4,2,161.2,2,134.6,2,35.44,2,0,2,2.57,2,0.007115637,2,0.002756571,2,0,2,0,2,1.6493,2,-999,9,-999,20131129,1735,-14.0033,-120.0002,4303,9101,3400,34.846,2,1.6493,2
325020131025,       GT13,23,10,3,      NIS-3,2,      3,2,20131129,1727,-14.0033,-120.0003,3342.5,1.6482,34.6834,2,34.6833,2,161.7,2,161.6,2,134.6,2,35.4,2,0,2,2.57,2,0.003531237,2,0.002114244,2,0,2,0,2,1.648,2,-213.1,2,2.5,20131129,1732,-14.0033,-120.0002,4303,9100,3400,34.8468,2,1.648,2
325020131025,       GT13,23,10,2,     NIS-22,2,      2,2,20131129,1727,-14.0033,-120.0003,3389.9,1.6499,34.6835,2,34.6833,2,162,2,161.7,2,134.89,2,35.5,2,0,2,2.58,2,0.000565366,2,0.002724354,2,0,2,0,2,1.6496,2,-999,9,-999,20131129,1730,-14.0033,-120.0003,4303,9099,3400,34.8468,2,1.6496,2
325020131025,       GT13,23,10,1,      NIS-1,2,      1,2,20131129,1727,-14.0033,-120.0003,3437.3,1.6539,34.6835,2,34.6841,2,161.7,2,161.9,2,134.89,2,35.42,2,0,2,2.58,2,0.003613026,2,0.004384539,2,0,2,0,2,1.6537,2,-219.1,2,2.5,20131129,1728,-14.0033,-120.0002,4303,9098,3400,34.8476,2,1.6537,2
325020131025,       GT13,23,10,13, NIOZ_CORER,2,    13,2,20131129,1727,-14.0033,-120.0003,3448.9,-999,-999,2,-999,9,-999,9,-999,9,-999,9,-999,9,-999,9,-999,9,-999,9,-999,9,-999,9,-999,9,-999,9,-999,9,-999,20131129,1727,-14.0033,-120.0003,4303,9097,3400,-999,9,-999,9
325020131025,       GT13,23,25,25,       FISH,2,    25,2,20131128,2240,-14.0018,-120.0747,2.5,25.1841,35.9578,2,35.9993,2,-999,9,-999,9,3.02,2,2.55,2,0.04,2,0.38,2,-999,9,-999,9,-999,9,-999,9,-999,9,-999,9,-999,20131128,2229,-14.0024,-120.0503,4299,9059,3544,36.169,2,-999,9
325020131025,       GT13,24,2,12,     NIS-12,2,     12,2,20131130,900,-13.2707,-122.5004,21.5,25.5456,35.9345,2,35.9347,2,208.4,2,207.8,2,2.15,2,3.14,2,0.06,2,0.43,2,1.537998832,2,0.994890302,2,-99,4,1.115,2,25.5454,2,-999,9,-999,20131130,931,-13.2707,-122.5004,4309,9153,3515,36.1042,2,25.5454,2
325020131025,       GT13,24,2,11,     NIS-11,2,     11,2,20131130,900,-13.2707,-122.5004,39.8,25.5368,35.9356,2,35.9359,2,208.3,2,208.5,2,2.15,2,3.13,2,0.06,2,0.43,2,1.685975052,2,1.004437541,2,-99,4,1.096,2,25.5379,2,-999,9,-999,20131130,929,-13.2707,-122.5004,4309,9152,3515,36.1054,2,25.5379,2
325020131025,       GT13,24,2,10,     NIS-10,2,     10,2,20131130,900,-13.2707,-122.5004,54.7,24.9238,36.0254,2,36.0216,2,212,2,211.7,2,1.66,2,1.9,2,0.04,2,0.37,2,1.597643525,6,1.028355955,6,-99,4,1.1705,6,24.9247,2,-999,9,-999,20131130,928,-13.2707,-122.5004,4309,9151,3515,36.1914,2,24.9247,2
325020131025,       GT13,24,2,9,      NIS-9,2,      9,2,20131130,900,-13.2707,-122.5004,70.3,24.5974,36.086,2,36.0911,2,210.5,2,210.4,2,1.76,2,1.44,2,0.03,2,0.36,2,1.630863238,2,1.048006441,2,-99,4,1.176,2,24.5886,2,-999,9,-999,20131130,926,-13.2707,-122.5004,4309,9150,3515,36.2613,2,24.5886,2
325020131025,       GT13,24,2,8,      NIS-8,2,      8,2,20131130,900,-13.2707,-122.5004,110.6,23.7113,36.3402,2,36.3455,2,198.8,2,198.6,2,1.66,2,0.17,2,0.14,2,0.36,2,1.611175935,2,1.075671998,2,-99,4,1.225,2,23.7102,2,-999,9,-999,20131130,925,-13.2707,-122.5004,4309,9149,3515,36.5169,2,23.7102,2
325020131025,       GT13,24,2,7,      NIS-7,2,      7,2,20131130,900,-13.2707,-122.5004,180.9,20.4023,35.8156,2,35.8136,2,187.6,2,187.7,2,1.56,2,3.7,2,0.06,2,0.52,2,2.046313927,2,1.253690211,2,-99,4,1.311,2,20.4009,2,-999,9,-999,20131130,922,-13.2707,-122.5004,4309,9124,3515,35.9825,2,20.4009,2
325020131025,       GT13,24,2,6,      NIS-6,2,      6,2,20131130,900,-13.2707,-122.5004,226.3,17.9525,35.3554,2,35.354,2,173.8,2,174,2,2.54,2,8.12,2,0.02,2,0.83,2,2.039974621,2,1.304364946,2,-99,4,1.202,2,17.9208,3,-999,9,-999,20131130,921,-13.2707,-122.5004,4309,9123,3515,35.5207,2,17.9208,3
325020131025,       GT13,24,2,5,      NIS-5,2,      5,2,20131130,900,-13.2707,-122.5004,290.7,12.2922,34.6544,2,34.654,2,90.4,2,90.7,2,12.59,2,19.91,2,0,2,1.82,2,1.872870449,2,1.101278564,2,-99,4,0.621,2,12.2798,2,-999,9,-999,20131130,918,-13.2707,-122.5004,4309,9122,3515,34.8174,2,12.2798,2
325020131025,       GT13,24,2,4,      NIS-4,2,      4,2,20131130,900,-13.2707,-122.5004,351.9,10.6836,34.6787,2,34.6788,2,11.3,2,12.1,2,25.87,2,29.85,2,0,2,2.6,2,0.716452565,2,0.370570128,2,-99,4,0.069,2,10.6748,2,-999,9,-999,20131130,916,-13.2707,-122.5004,4309,9121,3515,34.8423,2,10.6748,2
325020131025,       GT13,24,2,3,      NIS-3,2,      3,2,20131130,900,-13.2707,-122.5004,502.6,7.9013,34.597,2,34.5975,2,56.2,2,57,2,36.21,2,36.64,2,0,2,2.52,2,0.143498359,2,0.077827053,2,-99,4,0,2,7.8999,2,-999,9,-999,20131130,912,-13.2707,-122.5004,4309,9120,3515,34.7607,2,7.8999,2
325020131025,       GT13,24,2,2,     NIS-22,2,      2,2,20131130,900,-13.2707,-122.5004,754.1,5.9548,34.5214,2,34.5219,2,63.2,2,62.7,2,53.2,2,40.71,2,0,2,2.81,2,0.020092806,2,0.009453648,2,-99,4,0,2,5.9541,2,-999,9,-999,20131130,907,-13.2707,-122.5004,4309,9119,3515,34.6846,2,5.9541,2
325020131025,       GT13,24,2,1,      NIS-1,2,      1,2,20131130,900,-13.2707,-122.5004,1006.2,4.6074,34.5192,2,34.5195,2,89.5,2,88.9,2,73.41,2,39.96,2,0,2,2.81,2,0.0188549,2,0.007886762,2,-99,4,0,2,4.6073,2,-999,9,-999,20131130,902,-13.2707,-122.5004,4309,9118,3515,34.6823,2,4.6073,2
325020131025,       GT13,24,25,25,       FISH,2,   25,2,20131130,1009,-13.264,-122.5297,2.8,25.5424,35.9358,2,35.9046,2,-999,9,-999,9,2.44,2,3.43,2,0.07,2,0.45,2,-999,9,-999,9,-999,9,-999,9,-999,9,-999,9,-999,20131130,1003,-13.2661,-122.5227,4310,9117,4878,36.0739,2,-999,9
325020131025,       GT13,25,2,12,     NIS-12,2,     12,2,20131201,234,-12.5424,-124.9987,1005.9,4.3988,34.5261,2,34.5259,2,90.1,2,89.7,2,78.19,2,39.96,2,0,2,2.83,2,0.009364515,2,0.004005588,2,0,2,0,2,4.4022,2,-999,9,-999,20131201,318,-12.5425,-124.9987,4317,9200,3937,34.6887,2,4.4022,2
325020131025,       GT13,25,2,11,     NIS-11,2,     11,2,20131201,234,-12.5424,-124.9987,1260,3.5545,34.5584,2,34.5585,2,103.6,2,103.7,2,95.47,2,39.16,2,0,2,2.81,2,0.007026714,2,0.002270671,2,0,2,0,2,3.5595,3,-999,9,-999,20131201,312,-12.5425,-124.9987,4317,9199,3937,34.7214,2,3.5595,3
325020131025,       GT13,25,2,10,     NIS-10,2,     10,2,20131201,234,-12.5424,-124.9987,1512.1,2.9051,34.5947,2,34.595,2,111.7,2,111.3,2,111.38,2,38.67,2,0,2,2.8,2,0.005711893,2,0.001652493,2,0,2,0,2,2.9052,2,-999,9,-999,20131201,307,-12.5424,-124.9987,4317,9198,3937,34.7581,2,2.9052,2
325020131025,       GT13,25,2,9,      NIS-9,2,      9,2,20131201,234,-12.5424,-124.9987,1763.8,2.51,34.6187,2,34.6193,2,124.5,2,124.7,2,119.77,2,37.58,2,0,2,2.72,2,0.006371352,2,0.002396316,2,0,2,0,2,2.5099,2,-999,9,-999,20131201,301,-12.5424,-124.9987,4317,9197,3937,34.7825,2,2.5099,2
325020131025,       GT13,25,2,8,      NIS-8,2,      8,2,20131201,234,-12.5424,-124.9987,2019,2.1303,34.6453,2,34.6452,2,135.5,2,135.4,2,125.62,2,36.78,2,0,2,2.66,2,0.00682601,2,0.001788191,2,0,2,0,2,2.1344,3,-999,9,-999,20131201,255,-12.5424,-124.9987,4317,9196,3937,34.8086,2,2.1344,3
325020131025,       GT13,25,2,7,      NIS-7,2,      7,2,20131201,234,-12.5424,-124.9987,2120,2.0497,34.6518,2,34.6525,2,138.7,2,138.7,2,126.89,2,36.53,2,0,2,2.65,2,0.004016143,2,0.001664555,2,0,2,0,2,2.0507,2,-999,9,-999,20131201,252,-12.5424,-124.9987,4317,9195,3937,34.8159,2,2.0507,2
325020131025,       GT13,25,2,6,      NIS-6,2,      6,2,20131201,234,-12.5424,-124.9987,2222.1,1.9669,34.6592,2,34.6591,2,142.1,2,142.3,2,128.94,2,36.27,2,0,2,2.63,2,0.005056531,2,0.001969121,2,0,2,0,2,1.9673,2,-999,9,-999,20131201,249,-12.5425,-124.9987,4317,9194,3937,34.8226,2,1.9673,2
325020131025,       GT13,25,2,5,      NIS-5,2,      5,2,20131201,234,-12.5424,-124.9987,2322.9,1.9155,34.6641,2,34.6638,2,144.2,2,144,2,130.11,2,36.13,2,0,2,2.62,2,0.007607325,2,0.002490802,2,0,2,0,2,1.915,2,-999,9,-999,20131201,246,-12.5424,-124.9987,4317,9193,3937,34.8273,2,1.915,2
325020131025,       GT13,25,2,4,      NIS-4,2,      4,2,20131201,234,-12.5424,-124.9987,2425.6,1.8701,34.6684,2,34.6676,2,145.9,2,145.9,2,131.97,2,35.99,2,0,2,2.61,2,0.006532121,2,0.001832418,2,0,2,0,2,1.8698,2,-999,9,-999,20131201,243,-12.5424,-124.9987,4317,9192,3937,34.831,2,1.8698,2
325020131025,       GT13,25,2,3,      NIS-3,2,      3,2,20131201,234,-12.5424,-124.9987,2526.2,1.8386,34.6723,2,34.6741,2,146.9,2,146.7,2,133.53,2,35.9,2,0,2,2.6,2,0.004523025,2,0.001728886,2,0,2,0,2,1.8383,2,-999,9,-999,20131201,240,-12.5424,-124.9987,4317,9191,3937,34.8376,2,1.8383,2
325020131025,       GT13,25,2,2,     NIS-22,2,      2,2,20131201,234,-12.5424,-124.9987,2577.2,1.8287,34.6733,2,34.6737,2,147.2,2,146.8,2,133.82,2,35.84,2,0,2,2.6,2,0.003345421,2,0.001233339,2,0,2,0,2,1.8285,2,-999,9,-999,20131201,238,-12.5424,-124.9988,4317,9190,3937,34.8372,2,1.8285,2
325020131025,       GT13,25,2,1,      NIS-1,2,      1,2,20131201,234,-12.5424,-124.9987,2628.8,1.8198,34.674,2,34.6737,2,147.7,2,147.6,2,134.31,2,35.82,2,0,2,2.61,2,0.009862181,2,0.002552117,2,0.016319147,4,0,2,1.8195,2,-999,9,-999,20131201,236,-12.5424,-124.9987,4317,9189,3937,34.8372,2,1.8195,2