BOTTLE,20161222CCHSIORJL
EXPOCODE,SECT_ID,STNNBR,CASTNO,SAMPNO,BTLNBR,BTLNBR_FLAG_W,BTLNBR_U,BTLNBR_U_FLAG_W,DATE,TIME,LATITUDE,LONGITUDE,CTDPRS,CTDTMP,CTDSAL,CTDSAL_FLAG_W,SALNTY,SALNTY_FLAG_W,CTDOXY,CTDOXY_FLAG_W,OXYGEN,OXYGEN_FLAG_W,SILCAT,SILCAT_FLAG_W,NITRAT,NITRAT_FLAG_W,NITRIT,NITRIT_FLAG_W,PHSPHT,PHSPHT_FLAG_W,CFC-11,CFC-11_FLAG_W,CFC-12,CFC-12_FLAG_W,CFC113,CFC113_FLAG_W,SF6,SF6_FLAG_W,REFTMP,REFTMP_FLAG_W,DELC14,DELC14_FLAG_W,C14ERR,BTL_DATE,BTL_TIME,BTL_LAT,BTL_LON,GEOTR_EVENT,GEOTR_SAMPNO,DEPTH,SALTREF,SALTREF_FLAG_W,SBE35,SBE35_FLAG_W
,,,,,,,,,,,,,DBAR,ITS-90,PSS-78,,PSS-78,,UMOL/KG,,UMOL/KG,,UMOL/KG,,UMOL/KG,,UMOL/KG,,UMOL/KG,,PMOL/KG,,PMOL/KG,,PMOL/KG,,FMOL/KG,,DEG C,,/MILLE,,/MILLE,,,,,,,METERS,G/KG,,ITS-90,
325020131025,       GT13,1,11,11,     NIS-11,2,     11,2,20131030,1146,-12.0054,-79.1955,4879.4,1.8029,34.6918,2,34.6922,2,156.5,2,156.7,2,132.16,2,34.87,2,0,2,2.52,2,-999,9,-999,9,-999,9,-999,9,1.8031,2,-999,9,-999,20131030,1211,-12.0054,-79.1955,4023,2193,5530,34.8558,2,1.8031,2
325020131025,       GT13,1,11,12,     NIS-12,2,     12,2,20131030,1146,-12.0054,-79.1955,4880.6,1.8033,34.6916,2,34.6922,2,156.6,2,155.6,2,132.65,2,34.84,2,0,2,2.53,2,-999,9,-999,9,-999,9,-999,9,1.8033,2,-999,9,-999,20131030,1212,-12.0054,-79.1955,4023,2194,5530,34.8558,2,1.8033,2
325020131025,       GT13,1,11,9,      NIS-9,2,      9,2,20131030,1146,-12.0054,-79.1955,5138.7,1.8267,34.6921,2,34.6914,2,157.1,2,153.2,3,133.43,2,35.05,2,0,2,2.55,2,-999,9,-999,9,-999,9,-999,9,1.8269,2,-999,9,-999,20131030,1205,-12.0054,-79.1955,4023,2191,5530,34.855,2,1.8269,2
325020131025,       GT13,1,11,10,     NIS-10,2,     10,2,20131030,1146,-12.0054,-79.1955,5139.7,1.8269,34.692,2,34.6941,2,157.2,2,156.7,2,132.16,2,34.85,2,0,2,2.53,2,-999,9,-999,9,-999,9,-999,9,1.827,2,-999,9,-999,20131030,1206,-12.0054,-79.1956,4023,2192,5530,34.8577,2,1.827,2
325020131025,       GT13,1,11,8,      NIS-8,2,      8,2,20131030,1146,-12.0054,-79.1955,5418.9,1.8522,34.6923,2,34.6923,2,158.3,2,158.9,2,131.38,2,34.73,2,0,2,2.52,2,-999,9,-999,9,-999,9,-999,9,1.8523,2,-999,9,-999,20131030,1159,-12.0054,-79.1955,4023,2190,5530,34.8559,2,1.8523,2
325020131025,       GT13,1,11,7,      NIS-7,2,      7,2,20131030,1146,-12.0054,-79.1955,5420,1.8524,34.6923,2,34.6933,2,158.1,2,158.7,2,131.57,2,34.76,2,0,2,2.53,2,-999,9,-999,9,-999,9,-999,9,1.8526,2,-999,9,-999,20131030,1159,-12.0054,-79.1955,4023,2189,5530,34.8569,2,1.8526,2
325020131025,       GT13,1,11,6,      NIS-6,2,      6,2,20131030,1146,-12.0054,-79.1955,5492.3,1.8621,34.6922,2,34.6929,2,158.7,2,158.6,2,131.18,2,34.77,2,0,2,2.53,2,-999,9,-999,9,-999,9,-999,9,1.8622,2,-999,9,-999,20131030,1155,-12.0054,-79.1955,4023,2188,5530,34.8565,2,1.8622,2
325020131025,       GT13,1,11,5,      NIS-5,2,      5,2,20131030,1146,-12.0054,-79.1955,5493.2,1.8622,34.6922,2,34.6923,2,158.7,2,158.7,2,131.67,2,34.74,2,0,2,2.53,2,-999,9,-999,9,-999,9,-999,9,1.8624,2,-999,9,-999,20131030,1155,-12.0054,-79.1955,4023,2187,5530,34.8559,2,1.8624,2
325020131025,       GT13,1,11,3,      NIS-3,2,      3,2,20131030,1146,-12.0054,-79.1955,5549.9,1.8698,34.6921,2,34.6915,2,158.6,2,158.5,2,131.28,2,34.7,2,0,2,2.53,2,-999,9,-999,9,-999,9,-999,9,1.8699,2,-999,9,-999,20131030,1151,-12.0054,-79.1955,4023,2185,5530,34.855,2,1.8699,2
325020131025,       GT13,1,11,4,      NIS-4,2,      4,2,20131030,1146,-12.0054,-79.1955,5550,1.87,34.6921,2,34.6925,2,158.6,2,158.5,2,131.28,2,34.77,2,0,2,2.53,2,-999,9,-999,9,-999,9,-999,9,1.87,2,-999,9,-999,20131030,1151,-12.0054,-79.1955,4023,2186,5530,34.856,2,1.87,2
325020131025,       GT13,1,11,2,      NIS-2,2,      2,2,20131030,1146,-12.0054,-79.1955,5600.3,1.8766,34.6922,2,34.6922,2,158.7,2,158.6,2,131.38,2,34.75,2,0,2,2.53,2,-999,9,-999,9,-999,9,-999,9,1.8768,2,-999,9,-999,20131030,1148,-12.0054,-79.1955,4023,2184,5530,34.8558,2,1.8768,2
325020131025,       GT13,1,11,1,      NIS-1,2,      1,2,20131030,1146,-12.0054,-79.1955,5601,1.8767,34.6922,2,34.6918,2,158.7,2,158.4,2,132.06,2,34.76,2,0,2,2.54,2,-999,9,-999,9,-999,9,-999,9,1.8769,2,-999,9,-999,20131030,1148,-12.0054,-79.1955,4023,2183,5530,34.8554,2,1.8769,2
325020131025,       GT13,1,13,11,     NIS-11,2,     11,2,20131031,324,-12.0054,-79.1955,1616.1,2.8274,34.6148,2,34.615,2,85,2,84.2,2,130.51,2,40.73,2,0,2,3.01,2,-999,9,-999,9,-999,9,-999,9,2.8272,2,-999,9,-999,20131031,424,-12.0054,-79.1955,4025,2214,5527,34.7782,2,2.8272,2
325020131025,       GT13,1,13,12,     NIS-12,2,     12,2,20131031,324,-12.0054,-79.1955,1616.2,2.8273,34.6147,2,34.615,2,85,2,83.8,2,129.63,2,40.65,2,0,2,2.99,2,-999,9,-999,9,-999,9,-999,9,2.8274,2,-999,9,-999,20131031,425,-12.0054,-79.1955,4025,2215,5527,34.7782,2,2.8274,2
325020131025,       GT13,1,13,10,     NIS-10,2,     10,2,20131031,324,-12.0054,-79.1955,2426.3,1.939,34.666,2,34.6664,2,122.6,2,123.1,2,143.48,2,37.74,2,0,2,2.74,2,-999,9,-999,9,-999,9,-999,9,1.939,2,-999,9,-999,20131031,410,-12.0054,-79.1955,4025,2213,5527,34.8298,2,1.939,2
325020131025,       GT13,1,13,9,      NIS-9,2,      9,2,20131031,324,-12.0054,-79.1955,2427.3,1.9381,34.666,2,34.667,2,122.6,2,122.7,2,143.58,2,37.72,2,0,2,2.75,2,-999,9,-999,9,-999,9,-999,9,1.9381,2,-999,9,-999,20131031,409,-12.0054,-79.1956,4025,2212,5527,34.8304,2,1.9381,2
325020131025,       GT13,1,13,8,      NIS-8,2,      8,2,20131031,324,-12.0054,-79.1955,2832.8,1.797,34.6773,2,34.6775,2,129,2,129.3,2,149.05,2,37.38,2,0,2,2.71,2,-999,9,-999,9,-999,9,-999,9,1.7972,2,-999,9,-999,20131031,401,-12.0054,-79.1956,4025,2211,5527,34.8411,2,1.7972,2
325020131025,       GT13,1,13,7,      NIS-7,2,      7,2,20131031,324,-12.0054,-79.1955,2833.2,1.797,34.6773,2,34.6771,2,129,2,129.4,2,148.95,2,37.44,2,0,2,2.71,2,-999,9,-999,9,-999,9,-999,9,1.7974,2,-999,9,-999,20131031,401,-12.0054,-79.1955,4025,2210,5527,34.8406,2,1.7974,2
325020131025,       GT13,1,13,5,      NIS-5,2,      5,2,20131031,324,-12.0054,-79.1955,3241.6,1.7893,34.6807,2,34.6808,2,132,2,131.5,2,150.22,2,37.21,2,0,2,2.7,2,-999,9,-999,9,-999,9,-999,9,1.7894,2,-999,9,-999,20131031,352,-12.0054,-79.1955,4025,2208,5527,34.8444,2,1.7894,2
325020131025,       GT13,1,13,6,      NIS-6,2,      6,2,20131031,324,-12.0054,-79.1955,3241.9,1.7892,34.6807,2,34.6806,2,132,2,132.1,2,150.31,2,37.25,2,0,2,2.7,2,-999,9,-999,9,-999,9,-999,9,1.7894,2,-999,9,-999,20131031,352,-12.0054,-79.1955,4025,2209,5527,34.8442,2,1.7894,2
325020131025,       GT13,1,13,4,      NIS-4,2,      4,2,20131031,324,-12.0054,-79.1955,3652.2,1.8014,34.6833,2,34.6845,2,135.7,2,134.5,2,148.36,2,36.9,2,0,2,2.67,2,-999,9,-999,9,-999,9,-999,9,1.8014,2,-999,9,-999,20131031,343,-12.0054,-79.1955,4025,2207,5527,34.848,2,1.8014,2
325020131025,       GT13,1,13,3,      NIS-3,2,      3,2,20131031,324,-12.0054,-79.1955,3652.6,1.8011,34.6834,2,34.6831,2,135.7,2,134.6,2,148.56,2,36.85,2,0,2,2.68,2,-999,9,-999,9,-999,9,-999,9,1.8013,2,-999,9,-999,20131031,343,-12.0054,-79.1955,4025,2206,5527,34.8466,2,1.8013,2
325020131025,       GT13,1,13,1,      NIS-1,2,      1,2,20131031,324,-12.0054,-79.1955,4468.1,1.79,34.6903,2,34.6907,2,154.8,2,154.3,2,133.53,2,35.41,2,0,2,2.56,2,-999,9,-999,9,-999,9,-999,9,1.79,2,-999,9,-999,20131031,327,-12.0054,-79.1955,4025,2204,5527,34.8543,2,1.79,2
325020131025,       GT13,1,13,2,      NIS-2,2,      2,2,20131031,324,-12.0054,-79.1955,4468.7,1.7899,34.6903,2,34.6909,2,154.8,2,154.3,2,133.43,2,35.39,2,0,2,2.56,2,-999,9,-999,9,-999,9,-999,9,1.7901,2,-999,9,-999,20131031,328,-12.0054,-79.1955,4025,2205,5527,34.8545,2,1.7901,2
325020131025,       GT13,1,15,12,     NIS-12,2,     12,2,20131031,1207,-12.0053,-79.1953,3240.1,1.7925,34.6803,2,34.6795,2,131.4,2,131.1,2,149.83,2,37.32,2,0,2,2.7,2,0.013067924,2,0.004461683,2,0,2,0,2,1.7927,2,-228.4,2,2.5,20131031,1307,-12.0053,-79.1953,4027,2251,5527,34.8431,2,1.7927,2
325020131025,       GT13,1,15,11,     NIS-11,2,     11,2,20131031,1207,-12.0053,-79.1953,3649.2,1.8046,34.683,2,34.6835,2,134.3,2,134.4,2,148.75,2,36.99,2,0,2,2.68,2,0.009763028,2,0.004078186,2,0.000933715,2,0,2,1.8047,2,-229.2,2,2.5,20131031,1259,-12.0053,-79.1953,4027,2250,5527,34.847,2,1.8047,2
325020131025,       GT13,1,15,10,     NIS-10,2,     10,2,20131031,1207,-12.0053,-79.1953,4058.2,1.7954,34.6872,2,34.6864,2,144.5,2,145.2,2,139.97,2,36.1,2,0,2,2.63,2,0.016221161,2,0.004653432,2,0.000217166,2,0,2,1.7954,2,-221.3,2,2.5,20131031,1251,-12.0053,-79.1953,4027,2249,5527,34.85,2,1.7954,2
325020131025,       GT13,1,15,9,      NIS-9,2,      9,2,20131031,1207,-12.0053,-79.1953,4468.4,1.7886,34.6902,2,34.6921,2,152.1,2,152.2,2,135.28,2,35.56,2,0,2,2.58,2,0.022255913,2,0.004657468,2,0.0000801,2,0,2,1.7888,2,-206.6,2,2.5,20131031,1243,-12.0053,-79.1953,4027,2248,5527,34.8557,2,1.7888,2
325020131025,       GT13,1,15,8,      NIS-8,2,      8,2,20131031,1207,-12.0053,-79.1953,4674,1.7918,34.6911,2,34.6913,2,155.7,2,155.6,2,132.74,2,35.1,2,0,2,2.56,2,0.022017893,2,0.005811996,2,0.001773357,2,0,2,1.7918,2,-210.9,2,2.5,20131031,1237,-12.0053,-79.1953,4027,2247,5527,34.8549,2,1.7918,2
325020131025,       GT13,1,15,7,      NIS-7,2,      7,2,20131031,1207,-12.0053,-79.1953,4879.7,1.8041,34.6917,2,34.6913,2,156.6,2,156.7,2,132.35,2,35.03,2,0,2,2.58,2,0.022671921,2,0.004318376,2,0.002434863,2,0,2,1.8042,2,-211,2,2.5,20131031,1232,-12.0053,-79.1953,4027,2246,5527,34.8549,2,1.8042,2
325020131025,       GT13,1,15,6,      NIS-6,2,      6,2,20131031,1207,-12.0053,-79.1953,5134.9,1.8264,34.6919,2,34.6917,2,157.3,2,157.1,2,132.65,2,34.89,2,0,2,2.57,2,0.015713525,2,0.002596677,2,0.000788604,2,0,2,1.8265,2,-206.2,2,2.5,20131031,1226,-12.0053,-79.1953,4027,2245,5527,34.8553,2,1.8265,2
325020131025,       GT13,1,15,5,      NIS-5,2,      5,2,20131031,1207,-12.0053,-79.1953,5237.6,1.8352,34.692,2,34.6919,2,158.4,2,158.4,2,131.38,2,34.91,2,0,2,2.58,2,0.020932059,2,0.005969431,2,0.000120092,2,0,2,1.8353,2,-207.5,2,2.5,20131031,1222,-12.0053,-79.1953,4027,2244,5527,34.8555,2,1.8353,2
325020131025,       GT13,1,15,4,      NIS-4,2,      4,2,20131031,1207,-12.0053,-79.1953,5419.9,1.8536,34.6921,2,34.6915,2,158,2,159.5,3,131.48,2,34.86,2,0,2,2.58,2,0.016649807,2,0.005244824,2,0.001370048,2,0,2,1.8535,2,-209,2,2.5,20131031,1217,-12.0053,-79.1953,4027,2243,5527,34.8551,2,1.8535,2
325020131025,       GT13,1,15,3,      NIS-3,2,      3,2,20131031,1207,-12.0053,-79.1953,5495,1.8628,34.6921,2,34.6923,2,158.3,2,158.8,2,131.38,2,34.86,2,0,2,2.58,2,0.016910997,2,0.005227668,2,0.001339025,2,0,2,1.8627,2,-999,9,-999,20131031,1214,-12.0053,-79.1953,4027,2242,5527,34.8559,2,1.8627,2
325020131025,       GT13,1,15,2,      NIS-2,2,      2,2,20131031,1207,-12.0053,-79.1953,5548.4,1.8698,34.6921,2,34.6927,2,158.2,2,158.5,2,131.38,2,34.67,2,0,2,2.57,2,0.016238012,2,0.004777563,2,0.001942487,2,0,2,1.8699,2,-208.2,2,2.5,20131031,1211,-12.0053,-79.1953,4027,2241,5527,34.8563,2,1.8699,2
325020131025,       GT13,1,15,1,      NIS-1,2,      1,2,20131031,1207,-12.0053,-79.1953,5609.2,1.8783,34.692,2,34.6923,2,158,2,158.3,2,131.48,2,34.68,2,0,2,2.57,2,0.01639599,2,0.002477591,2,0.000745571,2,0,2,1.8781,2,-206.3,2,2.5,20131031,1207,-12.0053,-79.1953,4027,2240,5527,34.8559,2,1.8781,2
325020131025,       GT13,1,25,25,       FISH,2,    25,2,20131029,1118,-11.9071,-79.2742,3,17.6171,35.1926,2,35.1594,2,-999,9,-999,9,1.66,2,8.25,2,0.6,2,0.91,2,-999,9,-999,9,-999,9,-999,9,-999,9,-999,9,-999,20131029,1054,-11.9525,-79.2417,4014,2091,5533,35.3252,2,-999,9
325020131025,       GT13,2,2,12,     NIS-12,2,     12,2,20131101,13,-12.0449,-77.3761,2.4,16.174,34.9596,2,34.9574,2,168,2,167.8,2,8.59,2,7.83,2,0.4,2,1.66,2,1.534394529,6,0.906208867,6,0.073368073,6,0.6635,6,16.1857,2,12.9,2,2.5,20131101,31,-12.0449,-77.3761,4036,2275,121,35.1222,2,16.1857,2
325020131025,       GT13,2,2,11,     NIS-11,2,     11,2,20131101,13,-12.0449,-77.3761,6.4,15.8841,34.9502,2,34.9579,2,165.9,2,166.6,2,8.98,2,8.11,2,0.45,2,1.71,2,-999,9,-999,9,-999,9,-999,9,15.9568,3,-999,9,-999,20131101,29,-12.0449,-77.3761,4036,2274,121,35.1228,2,15.9568,3
325020131025,       GT13,2,2,10,     NIS-10,2,     10,2,20131101,13,-12.0449,-77.3761,10,14.9855,34.9585,2,34.9599,2,89.6,2,86.5,2,10.25,2,13.1,2,1.23,2,2.08,2,-999,9,-999,9,-999,9,-999,9,14.9749,2,-999,9,-999,20131101,28,-12.0449,-77.3761,4036,2273,121,35.1248,2,14.9749,2
325020131025,       GT13,2,2,9,      NIS-9,2,      9,2,20131101,13,-12.0449,-77.3761,15.2,14.6099,34.9561,2,34.9579,2,60.1,2,71.1,2,11.42,2,14.2,2,1.24,2,2.18,2,-999,9,-999,9,-999,9,-999,9,14.6098,2,-999,9,-999,20131101,26,-12.0449,-77.3761,4036,2272,121,35.1228,2,14.6098,2
325020131025,       GT13,2,2,8,      NIS-8,2,      8,2,20131101,13,-12.0449,-77.3761,19.9,14.4452,34.9575,2,34.9568,2,45.4,2,48.7,2,13.76,2,15.99,2,1.05,2,2.35,2,-999,9,-999,9,-999,9,-999,9,14.4464,2,-999,9,-999,20131101,25,-12.0449,-77.3761,4036,2271,121,35.1216,2,14.4464,2
325020131025,       GT13,2,2,7,      NIS-7,2,      7,2,20131101,13,-12.0449,-77.3761,29.7,14.198,34.9563,2,34.9546,2,24.4,2,23.9,2,17.57,2,18.51,2,0.5,2,2.52,2,-999,9,-999,9,-999,9,-999,9,14.1944,2,-999,9,-999,20131101,23,-12.0449,-77.3761,4036,2270,121,35.1194,2,14.1944,2
325020131025,       GT13,2,2,6,      NIS-6,2,      6,2,20131101,13,-12.0449,-77.3761,37,14.1666,34.9542,2,34.9515,2,22.4,2,20.4,2,18.64,2,19.14,2,0.42,2,2.55,2,-999,9,-999,9,-999,9,-999,9,14.1791,2,-999,9,-999,20131101,22,-12.0449,-77.3761,4036,2269,121,35.1163,2,14.1791,2
325020131025,       GT13,2,2,5,      NIS-5,2,      5,2,20131101,13,-12.0449,-77.3761,47.9,13.6071,34.9305,2,34.9263,2,2.1,2,2.7,2,23.81,2,21.12,2,0.99,2,2.63,2,-999,9,-999,9,-999,9,-999,9,13.615,2,-999,9,-999,20131101,20,-12.0449,-77.3761,4036,2268,121,35.091,2,13.615,2
325020131025,       GT13,2,2,4,      NIS-4,2,      4,2,20131101,13,-12.0449,-77.3761,55.2,13.3158,34.9152,2,34.9187,2,1.5,2,1.8,2,25.86,2,18.77,2,3.51,2,2.57,2,-999,9,-999,9,-999,9,-999,9,13.3179,2,-999,9,-999,20131101,19,-12.0449,-77.3761,4036,2267,121,35.0833,2,13.3179,2
325020131025,       GT13,2,2,3,      NIS-3,2,      3,2,20131101,13,-12.0449,-77.3761,70.6,13.1062,34.936,2,34.9346,2,1.7,2,1.8,2,36.6,2,10.5,2,8.65,2,2.54,2,-999,9,-999,9,-999,9,-999,9,13.1066,2,-999,9,-999,20131101,17,-12.0449,-77.3761,4036,2266,121,35.0993,2,13.1066,2
325020131025,       GT13,2,2,2,      NIS-2,2,      2,2,20131101,13,-12.0449,-77.3761,91,13.0052,34.9313,2,34.9301,2,1.8,2,1.6,2,33.28,2,17.15,2,5.61,2,2.51,2,-999,9,-999,9,-999,9,-999,9,13.0062,2,-999,9,-999,20131101,15,-12.0449,-77.3761,4036,2265,121,35.0948,2,13.0062,2
325020131025,       GT13,2,2,1,      NIS-1,2,      1,2,20131101,13,-12.0449,-77.3761,111.2,12.8852,34.9223,2,34.9216,2,1.7,2,1.7,2,47.82,2,1.3,2,4.84,2,2.56,2,-999,9,-999,9,-999,9,-999,9,12.885,2,-999,9,-999,20131101,11,-12.0449,-77.3761,4036,2264,121,35.0863,2,12.885,2
325020131025,       GT13,2,5,11,     NIS-11,2,     11,2,20131101,702,-12.0449,-77.3761,19.6,14.1991,34.9557,2,34.9556,2,31.5,2,31.6,2,16.39,2,17.22,2,1.06,2,2.41,2,1.378435839,2,0.80225154,2,0.039188471,2,0.478,2,14.1995,2,6.3,2,2.5,20131101,714,-12.0449,-77.3761,4039,2291,122,35.1204,2,14.1995,2
325020131025,       GT13,2,5,12,     NIS-12,9,     12,9,20131101,702,-12.0449,-77.3761,19.8,14.2029,34.9558,2,-999,9,31.4,2,-999,9,-999,9,-999,9,-999,9,-999,9,-999,9,-999,9,-999,9,-999,9,14.2027,2,-999,9,-999,20131101,714,-12.0449,-77.3761,4039,2292,122,-999,9,14.2027,2
325020131025,       GT13,2,5,9,      NIS-9,2,      9,2,20131101,702,-12.0449,-77.3761,39.5,13.4074,34.9175,2,34.9177,2,2.1,2,1.6,2,24.89,2,19.97,2,2.04,2,2.57,2,1.220887019,2,0.701198807,2,0.01668187,2,0.342,2,13.402,2,11.1,2,2.5,20131101,712,-12.0449,-77.3761,4039,2289,122,35.0823,2,13.402,2
325020131025,       GT13,2,5,10,     NIS-10,2,     10,2,20131101,702,-12.0449,-77.3761,39.8,13.4188,34.917,2,34.9189,2,2.1,2,3.1,2,24.59,2,20.27,2,1.68,2,2.58,2,-999,9,-999,9,-999,9,-999,9,13.4189,2,-999,9,-999,20131101,712,-12.0449,-77.3761,4039,2290,122,35.0835,2,13.4189,2
325020131025,       GT13,2,5,7,      NIS-7,2,      7,2,20131101,702,-12.0449,-77.3761,55.3,13.134,34.9371,2,34.9359,2,2,2,1.7,2,35.23,2,12.92,2,7.3,2,2.49,2,1.012047721,2,0.600687768,2,0.005114545,2,0.33,2,13.134,2,5.4,2,2.5,20131101,710,-12.0449,-77.3761,4039,2287,122,35.1007,2,13.134,2
325020131025,       GT13,2,5,8,      NIS-8,2,      8,2,20131101,702,-12.0449,-77.3761,55.5,13.1347,34.937,2,34.9361,2,2,2,-999,9,34.45,2,13.82,2,6.85,2,2.47,2,-999,9,-999,9,-999,9,-999,9,13.1354,2,-999,9,-999,20131101,710,-12.0449,-77.3761,4039,2288,122,35.1009,2,13.1354,2
325020131025,       GT13,2,5,6,      NIS-6,2,      6,2,20131101,702,-12.0449,-77.3761,70.6,13.0627,34.9341,2,34.9328,2,1.9,2,2.1,2,37.08,2,10.82,2,8.36,2,2.52,2,1.011258899,2,0.597002802,2,0.005911877,2,0.198,2,13.0629,2,-3.2,2,2.5,20131101,708,-12.0449,-77.3761,4039,2286,122,35.0975,2,13.0629,2
325020131025,       GT13,2,5,5,      NIS-5,2,      5,2,20131101,702,-12.0449,-77.3761,90.1,13.0091,34.9313,2,34.9303,2,1.8,2,1.9,2,33.86,2,16.74,2,5.1,2,2.49,2,1.01245405,2,0.576041772,2,0.010247119,2,0.212,2,13.0106,2,0.2,2,2.5,20131101,705,-12.0449,-77.3761,4039,2285,122,35.095,2,13.0106,2
325020131025,       GT13,2,5,4,      NIS-4,4,      4,4,20131101,702,-12.0449,-77.3761,110.3,12.8823,34.9224,2,-999,9,1.7,2,-999,9,-999,9,-999,9,-999,9,-999,9,-999,9,-999,9,-999,9,-999,9,-999,9,-999,9,-999,20131101,702,-12.0449,-77.3761,4039,2284,122,-999,9,-999,9
325020131025,       GT13,2,5,3,      NIS-3,4,      3,4,20131101,702,-12.0449,-77.3761,110.4,12.8826,34.9224,2,-999,9,1.7,2,-999,9,-999,9,-999,9,-999,9,-999,9,-999,9,-999,9,-999,9,-999,9,-999,9,-999,9,-999,20131101,701,-12.0449,-77.3761,4039,2283,122,-999,9,-999,9
325020131025,       GT13,2,5,2,      NIS-2,4,      2,4,20131101,702,-12.0449,-77.3761,110.5,12.8825,34.9224,2,-999,9,1.7,2,-999,9,-999,9,-999,9,-999,9,-999,9,-999,9,-999,9,-999,9,-999,9,-999,9,-999,9,-999,20131101,700,-12.0449,-77.3761,4039,2282,122,-999,9,-999,9
325020131025,       GT13,2,5,1,      NIS-1,4,      1,4,20131101,702,-12.0449,-77.3761,110.9,12.8829,34.9224,2,-999,9,1.7,2,-999,9,-999,9,-999,9,-999,9,-999,9,-999,9,-999,9,-999,9,-999,9,-999,9,-999,9,-999,20131101,659,-12.0449,-77.3761,4039,2281,122,-999,9,-999,9
325020131025,       GT13,2,25,25,       FISH,2,   25,2,20131101,823,-12.0471,-77.4325,3.5,15.6638,34.9636,2,34.9593,2,-999,9,-999,9,7.32,2,7.11,2,0.41,2,1.51,2,-999,9,-999,9,-999,9,-999,9,-999,9,-999,9,-999,20131101,806,-12.047,-77.4128,4040,2293,132,35.1242,2,-999,9