BOTTLE,20161222CCHSIORJL
# Merged parameters: DELC14, DELC14_FLAG_W, C14ERR, SBE35, SBE35_FLAG_W
# Merged parameters from '325020131025.exc.csv' (R.Key submission to CCHDO on 2016-09-12)
# Merged parameters: CFC-12, CFC-12_FLAG_W, CFC-11, CFC-11_FLAG_W, CFC113, CFC113_FLAG_W, SF6, SF6_FLAG_W
# Merged parameters from 'CFC upload.txt' (submitted to CCHDO on 2016-09-08)
# Change SECT_ID from EPZT to GT13                       	
# Change GEOTRC_EVENTNO to GEOTR_EVENT				
# Change GEOTRC_SAMPNO to GEOTR_SAMPNO				
# Change BTMDEPTH to DEPTH					
# Change DEPTH units from CORR.M to METERS			
# Change CTDPRS units from DBARS to DBAR  			
# Change REFTMP units from ITS-90 to DEG C			
# This ODF bottle data is from SIOR Niskin bottles. 
#BOTTLE,20160912PRINUNIVRMK					
# 08/18/2016 Initialized README file 				
# Data source: CCHDO 						
# SHIP: Thomas G. Thompson 					
# Cruise: TGT303; GT13; GEOTRACES EPZT 				
# Region: SE Pacific ~13S 					
# EXPOCODE: 325020131025 					
# DATES: 20131025 - 20131220 					
# Chief Scientist: J.Moffett, C.German & G.Cutter		
# 37 stations multiple casts per station 			
# CTD: Who - ODF; Status - final 				
#       Includes: CTDSAL, CTDOXY, FLUORM, TURBDTY, TRANSM	
# Salinty: Who - ODF; Status - final 				
#       Notes:   						
# Nutrients: Who - ODF; Status - final 				
#       Includes: nitrate, nitrite, silicate, phopshpate	
# O2: Who - ODF; Status - final 				
#       Notes: 							
# CFC: Who - R.Fine; Status - final 				
#       Notes: includes SF6 					
#       Revised data merged 9/12/16				
# C13/C14: Who - P.Quay;W.Jenkins; Status - final 		
#       Notes: C14 data from Jenkins 8/22/16. Assigned error of 2.5o/oo to each 
# Other: Who - many other tracemetals and isotopes; Status -unknown		
#       Notes: not included in this file 					
#BOTTLE,20141030ODF								
# S-M_DEPTH IS SAUNDERS-MANTYLA DEPTH (INTEGRATED; USES DYNAMIC HEIGHT) 	
# F-M_DEPTH IS FOFONOFF-MILLARD DEPTH (NON-INTEGRATED; ALSO USED BY SBE)	
# CTDDEPTH REPORTED HERE IS NON-INTEGRATED FOFONOFF-MILLARD DEPTH		
EXPOCODE,SECT_ID,STNNBR,CASTNO,SAMPNO,BTLNBR,BTLNBR_FLAG_W,BTLNBR_U,BTLNBR_U_FLAG_W,DATE,TIME,LATITUDE,LONGITUDE,CTDPRS,CTDTMP,CTDSAL,CTDSAL_FLAG_W,SALNTY,SALNTY_FLAG_W,CTDOXY,CTDOXY_FLAG_W,OXYGEN,OXYGEN_FLAG_W,SILCAT,SILCAT_FLAG_W,NITRAT,NITRAT_FLAG_W,NITRIT,NITRIT_FLAG_W,PHSPHT,PHSPHT_FLAG_W,CFC-11,CFC-11_FLAG_W,CFC-12,CFC-12_FLAG_W,CFC113,CFC113_FLAG_W,SF6,SF6_FLAG_W,REFTMP,REFTMP_FLAG_W,DELC14,DELC14_FLAG_W,C14ERR,BTL_DATE,BTL_TIME,BTL_LAT,BTL_LON,GEOTR_EVENT,GEOTR_SAMPNO,DEPTH,SALTREF,SALTREF_FLAG_W,SBE35,SBE35_FLAG_W
,,,,,,,,,,,,,DBAR,ITS-90,PSS-78,,PSS-78,,UMOL/KG,,UMOL/KG,,UMOL/KG,,UMOL/KG,,UMOL/KG,,UMOL/KG,,PMOL/KG,,PMOL/KG,,PMOL/KG,,FMOL/KG,,DEG C,,/MILLE,,/MILLE,,,,,,,METERS,G/KG,,ITS-90,
325020131025,       GT13,1,2,12,     NIS-12,2,     12,2,20131029,153,-12.0057,-79.1952,377.5,9.9967,34.7251,2,34.7268,2,1.7,2,1.9,2,33.28,2,34.6,2,0,2,2.71,2,0.238930894,2,0.141395289,2,0.001172898,2,0.066,2,9.9986,2,-66.7,2,2.5,20131029,305,-12.0057,-79.1952,4012,2082,5525,34.8906,2,9.9986,2
325020131025,       GT13,1,2,11,     NIS-11,2,     11,2,20131029,153,-12.0057,-79.1952,453.1,8.9703,34.6631,2,34.6635,2,2.3,2,2.5,2,37.77,2,37.88,2,0,2,2.88,2,0.125647119,2,0.069457335,2,0.000793607,2,0,2,8.968,2,-89.8,2,2.5,20131029,303,-12.0057,-79.1952,4012,2081,5525,34.8269,2,8.968,2
325020131025,       GT13,1,2,10,     NIS-10,2,     10,2,20131029,153,-12.0057,-79.1952,554.6,7.5976,34.5945,2,34.5934,2,4,2,4.2,2,46.56,2,42.37,2,0,2,3.09,2,0.069236405,2,0.036080998,2,0.00111085,2,0,2,7.5906,2,-114.8,2,2.5,20131029,259,-12.0057,-79.1952,4012,2080,5525,34.7566,2,7.5906,2
325020131025,       GT13,1,2,9,      NIS-9,2,      9,2,20131029,153,-12.0057,-79.1952,680.4,6.3697,34.55,2,34.5542,2,11.2,2,11.4,2,56.23,2,44.88,2,0.04,2,3.2,2,0.058797232,2,0.033078622,2,0.000608466,2,0,2,6.3701,2,-136,2,2.5,20131029,254,-12.0058,-79.1952,4012,2079,5525,34.7171,2,6.3701,2
325020131025,       GT13,1,2,8,      NIS-8,2,      8,2,20131029,153,-12.0057,-79.1952,805.6,5.5145,34.5406,2,34.5407,2,24.1,2,24.4,2,69.02,2,45.52,2,0.01,2,3.24,2,0.018093724,2,0.006550732,2,0.0019605,2,0,2,5.517,2,-153.4,2,2.5,20131029,250,-12.0057,-79.1952,4012,2078,5525,34.7035,2,5.517,2
325020131025,       GT13,1,2,7,      NIS-7,2,      7,2,20131029,153,-12.0057,-79.1952,1006.8,4.4987,34.5483,2,34.5491,2,50.3,2,52.5,2,86.98,2,43.63,2,0,2,3.16,2,0.027385979,2,0.015085555,2,0.004673577,2,0,2,4.4992,2,-180.6,2,2.5,20131029,245,-12.0057,-79.1952,4012,2077,5525,34.712,2,4.4992,2
325020131025,       GT13,1,2,6,      NIS-6,2,      6,2,20131029,153,-12.0057,-79.1952,1211.7,3.8186,34.5664,2,34.5669,2,65.2,2,65,2,102.11,2,42.5,2,0,2,3.1,2,0.011272243,2,-99,5,0.000545417,2,0,2,3.8189,2,-201.4,2,2.5,20131029,240,-12.0057,-79.1952,4012,2076,5525,34.7299,2,3.8189,2
325020131025,       GT13,1,2,5,      NIS-5,2,      5,2,20131029,153,-12.0057,-79.1952,1618.6,2.8098,34.6154,2,34.6152,2,84.4,2,84.2,2,130.31,2,40.72,2,0,2,3,2,0.013509208,2,-99,5,0.002046566,2,0,2,2.809,2,-225.6,2,2.5,20131029,232,-12.0057,-79.1952,4012,2075,5525,34.7784,2,2.809,2
325020131025,       GT13,1,2,4,      NIS-4,2,      4,2,20131029,153,-12.0057,-79.1952,2023.4,2.2882,34.6447,2,34.6444,2,101.3,2,101.2,2,142.9,2,39.31,2,0,2,2.89,2,0.011197467,2,-99,5,0.003407608,2,0,2,2.2884,2,-234.2,2,2.5,20131029,222,-12.0057,-79.1952,4012,2074,5525,34.8078,2,2.2884,2
325020131025,       GT13,1,2,3,      NIS-3,2,      3,2,20131029,153,-12.0057,-79.1952,2428.5,1.9508,34.665,2,34.6646,2,121.6,2,122,2,143.58,2,37.7,2,0,2,2.75,2,0.0146635,2,-99,5,0.004349328,2,0,2,1.951,2,-229.5,2,2.5,20131029,214,-12.0057,-79.1952,4012,2073,5525,34.8281,2,1.951,2
325020131025,       GT13,1,2,2,      NIS-2,2,      2,2,20131029,153,-12.0057,-79.1952,2835.8,1.7998,34.6766,2,34.677,2,129,2,129.3,2,148.56,2,37.3,2,0,2,2.71,2,0.005104789,2,-99,5,0.004361338,2,0,2,1.7999,2,-235.4,2,2.5,20131029,205,-12.0057,-79.1952,4012,2072,5525,34.8405,2,1.7999,2
325020131025,       GT13,1,2,1,      NIS-1,2,      1,2,20131029,153,-12.0057,-79.1952,3241.5,1.7951,34.6797,2,34.6803,2,131,2,130.9,2,150.61,2,37.2,2,0,2,2.7,2,0.006084252,2,-99,5,0,2,0,2,1.795,2,-228.3,2,2.5,20131029,156,-12.0057,-79.1952,4012,2071,5525,34.8439,2,1.795,2
325020131025,       GT13,1,4,12,     NIS-12,2,     12,2,20131029,1413,-12.0057,-79.1952,2.6,17.624,35.1897,2,35.1905,2,240.1,2,241.1,2,2.73,2,7.54,2,0.59,2,0.98,2,2.160757189,6,1.250375839,6,0.18513368,6,1.0255,6,17.6256,2,22.4,2,2.5,20131029,1433,-12.0057,-79.1952,4015,2103,5530,35.3564,2,17.6256,2
325020131025,       GT13,1,4,11,     NIS-11,2,     11,2,20131029,1413,-12.0057,-79.1952,20.1,17.6086,35.1896,2,35.1901,2,241.8,2,241,2,2.73,2,7.53,2,0.6,2,1,2,-999,9,-999,9,-999,9,-999,9,17.6093,2,-999,9,-999,20131029,1431,-12.0057,-79.1952,4015,2102,5530,35.356,2,17.6093,2
325020131025,       GT13,1,4,10,     NIS-10,2,     10,2,20131029,1413,-12.0057,-79.1952,31.1,17.3323,35.2045,2,35.2035,2,229.7,2,232.6,2,1.66,2,7.85,2,0.64,2,1.12,2,-999,9,-999,9,-999,9,-999,9,17.3338,2,-999,9,-999,20131029,1430,-12.0057,-79.1952,4015,2101,5530,35.3695,2,17.3338,2
325020131025,       GT13,1,4,9,      NIS-9,2,      9,2,20131029,1413,-12.0057,-79.1952,45,17.23,35.2114,2,35.2072,2,226.3,2,226,2,1.66,2,7.77,2,0.6,2,1.35,2,-999,9,-999,9,-999,9,-999,9,17.232,2,-999,9,-999,20131029,1429,-12.0057,-79.1952,4015,2100,5530,35.3732,2,17.232,2
325020131025,       GT13,1,4,8,      NIS-8,2,      8,2,20131029,1413,-12.0057,-79.1952,65.1,14.899,35.0016,2,35.0079,2,33.9,2,35.9,2,16.78,2,21.19,2,0.57,2,2.51,2,-999,9,-999,9,-999,9,-999,9,14.8964,2,-999,9,-999,20131029,1427,-12.0057,-79.1952,4015,2099,5530,35.1729,2,14.8964,2
325020131025,       GT13,1,4,7,      NIS-7,2,      7,2,20131029,1413,-12.0057,-79.1952,81,14.0236,34.9678,2,34.967,2,1.7,2,1.4,2,26.25,2,11.2,2,6.43,2,2.57,2,-999,9,-999,9,-999,9,-999,9,14.0245,2,-999,9,-999,20131029,1425,-12.0057,-79.1952,4015,2098,5530,35.1319,2,14.0245,2
325020131025,       GT13,1,4,6,      NIS-6,2,      6,2,20131029,1413,-12.0057,-79.1952,100.5,13.806,34.9688,2,34.966,2,1.5,2,1.9,2,29.96,2,8.53,2,7.47,2,2.55,2,-999,9,-999,9,-999,9,-999,9,13.8068,2,-999,9,-999,20131029,1424,-12.0057,-79.1952,4015,2097,5530,35.1309,2,13.8068,2
325020131025,       GT13,1,4,5,      NIS-5,2,      5,2,20131029,1413,-12.0057,-79.1952,141.2,13.3268,34.9491,2,34.9477,2,1.4,2,1.4,2,24.98,2,26.04,2,0.83,2,2.46,2,-999,9,-999,9,-999,9,-999,9,13.3276,2,-999,9,-999,20131029,1421,-12.0057,-79.1952,4015,2096,5530,35.1125,2,13.3276,2
325020131025,       GT13,1,4,4,      NIS-4,2,      4,2,20131029,1413,-12.0057,-79.1952,181,12.8471,34.9207,2,34.921,2,1.7,2,1.9,2,28.2,2,20.5,2,4.97,2,2.49,2,-999,9,-999,9,-999,9,-999,9,12.8475,2,-999,9,-999,20131029,1419,-12.0057,-79.1952,4015,2095,5530,35.0857,2,12.8475,2
325020131025,       GT13,1,4,3,      NIS-3,2,      3,2,20131029,1413,-12.0057,-79.1952,211.2,12.5562,34.9019,2,34.9014,2,1.7,2,1.7,2,27.62,2,24.95,2,2.11,2,2.52,2,-999,9,-999,9,-999,9,-999,9,12.5567,2,-999,9,-999,20131029,1417,-12.0057,-79.1952,4015,2094,5530,35.066,2,12.5567,2
325020131025,       GT13,1,4,2,      NIS-2,2,      2,2,20131029,1413,-12.0057,-79.1952,236.9,12.3243,34.8823,2,34.8819,2,1.9,2,1.8,2,30.45,2,17.35,2,7,2,2.56,2,-999,9,-999,9,-999,9,-999,9,12.3245,2,-999,9,-999,20131029,1415,-12.0057,-79.1952,4015,2093,5530,35.0464,2,12.3245,2
325020131025,       GT13,1,4,1,      NIS-1,2,      1,2,20131029,1413,-12.0057,-79.1952,300.6,11.509,34.8345,2,34.8364,2,2.3,2,2.2,2,29.67,2,27.12,2,2.73,2,2.57,2,-999,9,-999,9,-999,9,-999,9,11.5084,2,-999,9,-999,20131029,1412,-12.0057,-79.1952,4015,2092,5530,35.0006,2,11.5084,2
325020131025,       GT13,1,6,12,     NIS-12,2,     12,2,20131029,1704,-12.0057,-79.1952,19.8,17.6297,35.1912,2,35.1919,2,241.3,2,241.7,2,2.54,2,7.43,2,0.59,2,0.92,2,2.14818321,2,1.273575885,2,0.198420848,2,1.183,2,17.6307,2,21,2,2.5,20131029,1722,-12.0057,-79.1952,4018,2143,5526,35.3578,2,17.6307,2
325020131025,       GT13,1,6,11,     NIS-11,2,     11,2,20131029,1704,-12.0057,-79.1952,28.7,17.6053,35.1912,2,35.1923,2,240.1,2,240,2,2.44,2,7.54,2,0.6,2,0.95,2,2.138721392,2,1.264375997,2,0.191765755,2,1.114,2,17.6062,2,22.2,2,2.5,20131029,1721,-12.0057,-79.1952,4018,2142,5526,35.3582,2,17.6062,2
325020131025,       GT13,1,6,10,     NIS-10,2,     10,2,20131029,1704,-12.0057,-79.1952,43.4,17.2238,35.2072,2,35.2135,2,229.7,2,229.6,2,1.56,2,7.35,2,0.63,2,1.26,2,2.157897791,2,1.297230576,2,0.194933179,2,1.123,2,17.2254,2,23.3,2,2.5,20131029,1719,-12.0057,-79.1952,4018,2141,5526,35.3795,2,17.2254,2
325020131025,       GT13,1,6,9,      NIS-9,2,      9,2,20131029,1704,-12.0057,-79.1952,64.6,16.6023,35.1177,2,35.1199,2,190,2,187.9,2,5.46,2,11.38,2,0.79,2,1.52,2,2.091138478,2,1.255191248,2,0.168293793,2,1.029,2,16.6043,2,24.4,2,2.5,20131029,1718,-12.0057,-79.1952,4018,2140,5526,35.2855,2,16.6043,2
325020131025,       GT13,1,6,8,      NIS-8,2,      8,2,20131029,1704,-12.0057,-79.1952,80.1,14.3083,34.9683,2,34.9678,2,2.1,2,2.1,2,21.86,2,17.68,2,3.5,2,2.6,2,1.455246228,2,0.844937418,2,0.039538258,2,0.444,2,14.3091,2,-999,9,-999,20131029,1717,-12.0057,-79.1952,4018,2139,5526,35.1327,2,14.3091,2
325020131025,       GT13,1,6,7,      NIS-7,2,      7,2,20131029,1704,-12.0057,-79.1952,130.8,13.3849,34.946,2,34.9448,2,1.8,2,3,2,25.37,2,22.22,2,2.4,2,2.43,2,1.095246412,2,0.636428162,2,0.014647209,2,0.2,2,13.3856,2,6.8,2,2.5,20131029,1715,-12.0057,-79.1952,4018,2138,5526,35.1096,2,13.3856,2
325020131025,       GT13,1,6,6,      NIS-6,2,      6,2,20131029,1704,-12.0057,-79.1952,181.2,12.8006,34.9176,2,34.9181,2,1.8,2,3.2,2,28.01,2,21.15,2,4.58,2,2.45,2,0.905486636,2,0.504327626,2,0.00520098,2,0.183,2,12.8013,2,-999,9,-999,20131029,1713,-12.0057,-79.1952,4018,2137,5526,35.0827,2,12.8013,2
325020131025,       GT13,1,6,5,      NIS-5,2,      5,2,20131029,1704,-12.0057,-79.1952,210.5,12.4233,34.8918,2,34.8924,2,1.9,2,1.9,2,29.08,2,21.01,2,4.68,2,2.5,2,0.791786852,2,0.443815859,2,0.005704365,2,0.149,2,12.423,2,-3.9,2,2.5,20131029,1711,-12.0057,-79.1952,4018,2136,5526,35.0569,2,12.423,2
325020131025,       GT13,1,6,4,      NIS-4,2,      4,2,20131029,1704,-12.0057,-79.1952,235.3,12.0925,34.8635,2,34.8637,2,1.9,2,2,2,31.33,2,15.86,2,8.47,2,2.55,2,0.68684957,2,0.395234882,2,0.007756936,2,0.152,2,12.0919,2,-17.4,2,2.5,20131029,1710,-12.0057,-79.1952,4018,2135,5526,35.0281,2,12.0919,2
325020131025,       GT13,1,6,3,      NIS-3,2,      3,2,20131029,1704,-12.0057,-79.1952,262.4,11.8245,34.8538,2,34.8529,2,2,2,2,2,28.5,2,27.93,2,1.4,2,2.54,2,0.619229805,2,0.355051476,2,0.004047097,2,0.098,2,11.8248,2,-23.2,2,2.5,20131029,1708,-12.0057,-79.1952,4018,2134,5526,35.0172,2,11.8248,2
325020131025,       GT13,1,6,2,      NIS-2,2,      2,2,20131029,1704,-12.0057,-79.1952,303.8,11.2316,34.8085,2,34.8089,2,2.2,2,2,2,31.82,2,21.62,2,6.89,2,2.59,2,0.469537411,2,0.281462468,2,0.004863722,2,0.098,2,11.2315,2,-35,2,2.5,20131029,1707,-12.0057,-79.1952,4018,2133,5526,34.973,2,11.2315,2
325020131025,       GT13,1,6,1,      NIS-1,2,      1,2,20131029,1704,-12.0057,-79.1952,379,9.9193,34.7143,2,34.7174,2,2.3,2,2.4,2,32.6,2,34.35,2,0,2,2.75,2,0.231693404,2,0.140298286,2,0.00641591,2,0.066,2,9.9193,2,-43.8,2,2.5,20131029,1704,-12.0057,-79.1952,4018,2132,5526,34.8811,2,9.9193,2
325020131025,       GT13,1,8,12,     NIS-12,2,     12,2,20131029,2144,-12.0057,-79.1952,19.9,17.6318,35.1927,2,35.1932,2,241.8,2,242.5,2,2.34,2,7.43,2,0.59,2,0.89,2,-999,9,-999,9,-999,9,-999,9,17.6325,2,-999,9,-999,20131029,2157,-12.0057,-79.1952,4020,2161,5526,35.3591,2,17.6325,2
325020131025,       GT13,1,8,11,     NIS-11,2,     11,2,20131029,2144,-12.0057,-79.1952,20.3,17.6321,35.1927,2,35.193,2,241.5,2,242.9,2,2.34,2,7.43,2,0.59,2,0.9,2,-999,9,-999,9,-999,9,-999,9,17.6322,2,-999,9,-999,20131029,2157,-12.0057,-79.1952,4020,2160,5526,35.3589,2,17.6322,2
325020131025,       GT13,1,8,10,     NIS-10,2,     10,2,20131029,2144,-12.0057,-79.1952,29.1,17.6192,35.1916,2,35.1922,2,240.6,2,241.2,2,2.34,2,7.46,2,0.6,2,0.92,2,-999,9,-999,9,-999,9,-999,9,17.6201,2,-999,9,-999,20131029,2156,-12.0057,-79.1952,4020,2159,5526,35.3581,2,17.6201,2
325020131025,       GT13,1,8,9,      NIS-9,2,      9,2,20131029,2144,-12.0057,-79.1952,29.4,17.6194,35.1915,2,35.1928,2,240.4,2,241,2,2.34,2,7.46,2,0.6,2,0.93,2,-999,9,-999,9,-999,9,-999,9,17.6206,2,-999,9,-999,20131029,2155,-12.0057,-79.1952,4020,2158,5526,35.3587,2,17.6206,2
325020131025,       GT13,1,8,7,      NIS-7,2,      7,2,20131029,2144,-12.0057,-79.1952,64.9,16.8936,35.1365,2,35.1379,2,226.6,2,225.6,2,3.51,2,8.77,2,0.78,2,1.25,2,-999,9,-999,9,-999,9,-999,9,16.8949,2,-999,9,-999,20131029,2153,-12.0057,-79.1952,4020,2156,5526,35.3036,2,16.8949,2
325020131025,       GT13,1,8,8,      NIS-8,2,      8,2,20131029,2144,-12.0057,-79.1952,65,16.8929,35.1363,2,35.136,2,226.6,2,225.4,2,3.51,2,8.76,2,0.78,2,1.28,2,-999,9,-999,9,-999,9,-999,9,16.8941,2,-999,9,-999,20131029,2153,-12.0057,-79.1952,4020,2157,5526,35.3016,2,16.8941,2
325020131025,       GT13,1,8,5,      NIS-5,2,      5,2,20131029,2144,-12.0057,-79.1952,80.8,15.0718,35.009,2,35.0133,2,42.5,2,49.7,2,15.32,2,21.15,2,0.64,2,2.36,2,-999,9,-999,9,-999,9,-999,9,15.0689,2,-999,9,-999,20131029,2151,-12.0057,-79.1952,4020,2154,5526,35.1784,2,15.0689,2
325020131025,       GT13,1,8,6,      NIS-6,2,      6,2,20131029,2144,-12.0057,-79.1952,81,15.0902,35.009,2,35.0141,2,50,2,51.1,2,15.32,2,21.09,2,0.65,2,2.37,2,-999,9,-999,9,-999,9,-999,9,15.076,2,-999,9,-999,20131029,2151,-12.0057,-79.1952,4020,2155,5526,35.1792,2,15.076,2
325020131025,       GT13,1,8,4,      NIS-4,2,      4,2,20131029,2144,-12.0057,-79.1952,180.5,12.9283,34.9255,2,34.9241,2,1.7,2,1.7,2,28.01,2,20.45,2,4.9,2,2.43,2,-999,9,-999,9,-999,9,-999,9,12.9292,2,-999,9,-999,20131029,2148,-12.0057,-79.1952,4020,2153,5526,35.0888,2,12.9292,2
325020131025,       GT13,1,8,3,      NIS-3,2,      3,2,20131029,2144,-12.0057,-79.1952,180.6,12.9276,34.9255,2,34.9243,2,1.7,2,1.8,2,27.91,2,20.44,2,4.9,2,2.44,2,-999,9,-999,9,-999,9,-999,9,12.9284,2,-999,9,-999,20131029,2148,-12.0057,-79.1952,4020,2152,5526,35.089,2,12.9284,2
325020131025,       GT13,1,8,2,      NIS-2,2,      2,2,20131029,2144,-12.0057,-79.1952,211.5,12.4609,34.8917,2,34.8945,2,1.9,2,2,2,30.64,2,15.68,2,7.82,2,2.51,2,-999,9,-999,9,-999,9,-999,9,12.4623,2,-999,9,-999,20131029,2145,-12.0057,-79.1952,4020,2151,5526,35.059,2,12.4623,2
325020131025,       GT13,1,8,1,      NIS-1,2,      1,2,20131029,2144,-12.0057,-79.1952,211.6,12.4609,34.8917,2,34.8912,2,1.7,2,1.8,2,30.74,2,15.74,2,7.81,2,2.52,2,-999,9,-999,9,-999,9,-999,9,12.4617,2,-999,9,-999,20131029,2145,-12.0057,-79.1952,4020,2150,5526,35.0557,2,12.4617,2
325020131025,       GT13,1,10,12,     NIS-12,2,     12,2,20131030,653,-12.0057,-79.1952,236.3,12.2393,34.8817,2,34.8821,2,1.9,2,2.2,2,27.52,2,28.14,2,0.58,2,2.52,2,-999,9,-999,9,-999,9,-999,9,12.2386,2,-999,9,-999,20131030,721,-12.0057,-79.1952,4022,2182,5528,35.0466,2,12.2386,2
325020131025,       GT13,1,10,11,     NIS-11,2,     11,2,20131030,653,-12.0057,-79.1952,237.1,12.2064,34.8788,2,34.881,2,1.9,2,2,2,27.52,2,27.99,2,0.71,2,2.53,2,-999,9,-999,9,-999,9,-999,9,12.2085,2,-999,9,-999,20131030,721,-12.0057,-79.1952,4022,2181,5528,35.0454,2,12.2085,2
325020131025,       GT13,1,10,9,      NIS-9,2,      9,2,20131030,653,-12.0057,-79.1952,302,11.4297,34.8284,2,34.8293,2,2.3,2,2.4,2,30.06,2,27.14,2,2.89,2,2.57,2,-999,9,-999,9,-999,9,-999,9,11.4305,2,-999,9,-999,20131030,718,-12.0057,-79.1952,4022,2179,5528,34.9936,2,11.4305,2
325020131025,       GT13,1,10,10,     NIS-10,2,     10,2,20131030,653,-12.0057,-79.1952,302.4,11.4361,34.8289,2,34.8291,2,2.3,2,2.4,2,30.06,2,27.28,2,2.83,2,2.58,2,-999,9,-999,9,-999,9,-999,9,11.4384,2,-999,9,-999,20131030,719,-12.0057,-79.1952,4022,2180,5528,34.9934,2,11.4384,2
325020131025,       GT13,1,10,7,      NIS-7,2,      7,2,20131030,653,-12.0057,-79.1952,452.6,8.7225,34.6508,2,34.6519,2,5,2,4.3,2,38.46,2,39.08,2,0,2,2.91,2,-999,9,-999,9,-999,9,-999,9,8.7144,2,-999,9,-999,20131030,714,-12.0057,-79.1952,4022,2177,5528,34.8153,2,8.7144,2
325020131025,       GT13,1,10,8,      NIS-8,2,      8,2,20131030,653,-12.0057,-79.1952,453,8.7295,34.6517,2,34.6521,2,4.9,2,5.2,2,38.46,2,39.11,2,0,2,2.94,2,-999,9,-999,9,-999,9,-999,9,8.7255,2,-999,9,-999,20131030,715,-12.0057,-79.1952,4022,2178,5528,34.8155,2,8.7255,2
325020131025,       GT13,1,10,5,      NIS-5,2,      5,2,20131030,653,-12.0057,-79.1952,555.4,7.4687,34.5868,2,34.5856,2,6.8,2,5.6,2,47.05,2,42.75,2,0,2,3.12,2,-999,9,-999,9,-999,9,-999,9,7.4688,2,-999,9,-999,20131030,711,-12.0057,-79.1952,4022,2175,5528,34.7487,2,7.4688,2
325020131025,       GT13,1,10,6,      NIS-6,2,      6,2,20131030,653,-12.0057,-79.1952,555.6,7.4704,34.5868,2,34.5864,2,6.8,2,5.8,2,47.05,2,42.79,2,0,2,3.12,2,-999,9,-999,9,-999,9,-999,9,7.4704,2,-999,9,-999,20131030,711,-12.0057,-79.1952,4022,2176,5528,34.7495,2,7.4704,2
325020131025,       GT13,1,10,3,      NIS-3,2,      3,2,20131030,653,-12.0057,-79.1952,807.7,5.4724,34.5462,2,34.5462,2,26.4,2,25.3,2,70.67,2,45.26,2,0,2,3.25,2,-999,9,-999,9,-999,9,-999,9,5.4742,2,-999,9,-999,20131030,704,-12.0057,-79.1952,4022,2173,5528,34.7091,2,5.4742,2
325020131025,       GT13,1,10,4,      NIS-4,2,      4,2,20131030,653,-12.0057,-79.1952,807.7,5.4782,34.5463,2,34.5458,2,26.4,2,25.3,2,70.97,2,45.26,2,0,2,3.25,2,-999,9,-999,9,-999,9,-999,9,5.4782,2,-999,9,-999,20131030,705,-12.0057,-79.1952,4022,2174,5528,34.7087,2,5.4782,2
325020131025,       GT13,1,10,2,      NIS-2,2,      2,2,20131030,653,-12.0057,-79.1952,1210,3.8741,34.5645,2,34.5666,2,63.6,2,63.7,2,100.15,2,42.43,2,0,2,3.12,2,-999,9,-999,9,-999,9,-999,9,3.8752,2,-999,9,-999,20131030,656,-12.0057,-79.1952,4022,2172,5528,34.7296,2,3.8752,2
325020131025,       GT13,1,10,1,      NIS-1,2,      1,2,20131030,653,-12.0057,-79.1952,1210.4,3.8748,34.5644,2,34.5676,2,63.7,2,64.1,2,100.35,2,42.48,2,0,2,3.12,2,-999,9,-999,9,-999,9,-999,9,3.8734,2,-999,9,-999,20131030,656,-12.0057,-79.1952,4022,2171,5528,34.7306,2,3.8734,2