BOTTLE,20161222CCHSIORJL
EXPOCODE,SECT_ID,STNNBR,CASTNO,SAMPNO,BTLNBR,BTLNBR_FLAG_W,BTLNBR_U,BTLNBR_U_FLAG_W,DATE,TIME,LATITUDE,LONGITUDE,CTDPRS,CTDTMP,CTDSAL,CTDSAL_FLAG_W,SALNTY,SALNTY_FLAG_W,CTDOXY,CTDOXY_FLAG_W,OXYGEN,OXYGEN_FLAG_W,SILCAT,SILCAT_FLAG_W,NITRAT,NITRAT_FLAG_W,NITRIT,NITRIT_FLAG_W,PHSPHT,PHSPHT_FLAG_W,CFC-11,CFC-11_FLAG_W,CFC-12,CFC-12_FLAG_W,CFC113,CFC113_FLAG_W,SF6,SF6_FLAG_W,REFTMP,REFTMP_FLAG_W,DELC14,DELC14_FLAG_W,C14ERR,BTL_DATE,BTL_TIME,BTL_LAT,BTL_LON,GEOTR_EVENT,GEOTR_SAMPNO,DEPTH,SALTREF,SALTREF_FLAG_W,SBE35,SBE35_FLAG_W
,,,,,,,,,,,,,DBAR,ITS-90,PSS-78,,PSS-78,,UMOL/KG,,UMOL/KG,,UMOL/KG,,UMOL/KG,,UMOL/KG,,UMOL/KG,,PMOL/KG,,PMOL/KG,,PMOL/KG,,FMOL/KG,,DEG C,,/MILLE,,/MILLE,,,,,,,METERS,G/KG,,ITS-90,
325020131025,       GT13,17,9,12,     NIS-12,2,     12,2,20131120,148,-14.9999,-109.1905,2526.6,1.8431,34.6716,2,34.6713,2,144.5,2,144.3,2,134.99,2,36.2,2,0,2,2.61,2,0.012696362,2,0.008528729,2,0.018555,4,0,2,1.8437,2,-999,9,-999,20131120,229,-14.9999,-109.1905,4224,8394,3707,34.8348,2,1.8437,2
325020131025,       GT13,17,9,11,     NIS-11,2,     11,2,20131120,148,-14.9999,-109.1905,2628.9,1.8203,34.6743,2,34.6733,2,144.8,2,145.1,2,136.26,2,36.2,2,0,2,2.61,2,0.00782237,2,0.004555619,2,0.022446,4,0,2,1.8205,2,-232.8,2,2.5,20131120,225,-14.9999,-109.1905,4224,8393,3707,34.8368,2,1.8205,2
325020131025,       GT13,17,9,10,     NIS-10,2,     10,2,20131120,148,-14.9999,-109.1905,2729.7,1.8062,34.6761,2,34.6764,2,144.4,2,144.3,2,138.02,2,36.23,2,0,2,2.61,2,0.008385645,2,0.003940972,2,0.027164,4,0,2,1.8063,2,-999,9,-999,20131120,222,-14.9998,-109.1905,4224,8392,3707,34.8399,2,1.8063,2
325020131025,       GT13,17,9,9,      NIS-9,2,      9,2,20131120,148,-14.9999,-109.1905,2833.8,1.7988,34.6775,2,34.6772,2,143.4,2,143.4,2,139.58,2,36.27,2,0,2,2.63,2,0.006786508,2,0.001954417,2,0.033036,4,0,2,1.7994,2,-999,9,-999,20131120,219,-14.9998,-109.1905,4224,8391,3707,34.8407,2,1.7994,2
325020131025,       GT13,17,9,8,      NIS-8,2,      8,2,20131120,148,-14.9999,-109.1905,2935.7,1.795,34.6782,2,34.6776,2,142,2,142,2,140.65,2,36.44,2,0,2,2.64,2,0.011579889,2,0.00466509,2,0.051802,4,0,2,1.7953,2,-999,9,-999,20131120,215,-14.9998,-109.1905,4224,8390,3707,34.8411,2,1.7953,2
325020131025,       GT13,17,9,7,      NIS-7,2,      7,2,20131120,148,-14.9999,-109.1905,3036.1,1.7969,34.6784,2,34.6778,2,141.1,2,140.9,2,143.38,2,36.56,2,0,2,2.65,2,0.012310433,2,0.004213144,2,0.054374,4,0,2,1.797,2,-224.6,2,2.5,20131120,212,-14.9998,-109.1905,4224,8389,3707,34.8413,2,1.797,2
325020131025,       GT13,17,9,6,      NIS-6,2,      6,2,20131120,148,-14.9999,-109.1905,3239.8,1.8077,34.6785,2,34.6785,2,139.7,2,139.6,2,145.43,2,36.72,2,0,2,2.65,2,0.012804181,2,0.007101583,2,0.061865,4,0,2,1.8079,2,-999,9,-999,20131120,207,-14.9998,-109.1905,4224,8388,3707,34.8421,2,1.8079,2
325020131025,       GT13,17,9,5,      NIS-5,2,      5,2,20131120,148,-14.9999,-109.1905,3444.2,1.8235,34.6786,2,34.6775,2,138.4,2,138.5,2,146.7,2,36.83,2,0,2,2.66,2,0.023324024,2,0.015883402,2,0.055449,4,0,2,1.8235,2,-999,9,-999,20131120,201,-14.9998,-109.1905,4224,8387,3707,34.8411,2,1.8235,2
325020131025,       GT13,17,9,4,      NIS-4,2,      4,2,20131120,148,-14.9999,-109.1905,3649.4,1.843,34.6785,2,34.6777,2,138.6,2,138.4,2,147.09,2,36.82,2,0,2,2.67,2,0.015945019,2,0.003798358,2,0.06274,4,0,2,1.8433,2,-999,9,-999,20131120,157,-14.9998,-109.1905,4224,8386,3707,34.8413,2,1.8433,2
325020131025,       GT13,17,9,3,      NIS-3,2,      3,2,20131120,148,-14.9999,-109.1905,3700.4,1.8482,34.6784,2,34.6777,2,138.9,2,138.6,2,147.09,2,36.84,2,0,2,2.66,2,0.010754625,2,0.003850583,2,0.061055,4,0,2,1.8482,2,-227.7,2,2.5,20131120,154,-14.9998,-109.1905,4224,8385,3707,34.8413,2,1.8482,2
325020131025,       GT13,17,9,2,      NIS-2,2,      2,2,20131120,148,-14.9999,-109.1905,3724.7,1.8507,34.6783,2,34.6787,2,138.7,2,139.1,2,147.39,2,36.82,2,0,2,2.67,2,0.010611539,2,0.003563346,2,0.048269,4,0,2,1.8508,2,-999,9,-999,20131120,153,-14.9999,-109.1905,4224,8384,3707,34.8422,2,1.8508,2
325020131025,       GT13,17,9,1,      NIS-1,2,      1,2,20131120,148,-14.9999,-109.1905,3737.9,1.8519,34.6783,2,34.6781,2,138.7,2,139,2,146.9,2,36.91,2,0,2,2.67,2,0.01039691,2,0.003401649,2,0.036825,4,0,2,1.852,2,-223.1,2,2.5,20131120,151,-14.9998,-109.1905,4224,8383,3707,34.8417,2,1.852,2
325020131025,       GT13,17,9,13, NIOZ_CORER,2,    13,2,20131120,148,-14.9999,-109.1905,3757.7,-999,-999,2,-999,9,-999,9,-999,9,-999,9,-999,9,-999,9,-999,9,-999,9,-999,9,-999,9,-999,9,-999,9,-999,9,-999,20131120,148,-14.9999,-109.1905,4224,8395,3707,-999,9,-999,9
325020131025,       GT13,17,25,25,       FISH,2,   25,2,20131119,1110,-14.9803,-109.2452,3.6,23.4394,35.917,2,35.9233,2,-999,9,-999,9,1.46,2,2.51,2,0.05,2,0.41,2,-999,9,-999,9,-999,9,-999,9,-999,9,-999,9,-999,20131119,1100,-14.9889,-109.223,4220,8346,3677,36.0926,2,-999,9
325020131025,       GT13,18,1,12,     NIS-12,2,     12,2,20131120,2259,-14.9835,-112.7504,2373.6,1.8726,34.667,2,34.6664,2,151.3,2,152.4,2,126.5,2,35.45,2,0,2,2.54,2,-999,9,-999,9,-999,9,-999,9,1.8726,2,-999,9,-999,20131120,2326,-14.9835,-112.7504,4230,8409,2645,34.8298,2,1.8726,2
325020131025,       GT13,18,1,11,     NIS-11,2,     11,2,20131120,2259,-14.9835,-112.7504,2374.2,1.8725,34.6669,2,34.6671,2,151.4,2,152.4,2,126.11,2,35.47,2,0,2,2.54,2,-999,9,-999,9,-999,9,-999,9,1.8724,2,-999,9,-999,20131120,2326,-14.9835,-112.7504,4230,8408,2645,34.8306,2,1.8724,2
325020131025,       GT13,18,1,9,      NIS-9,2,      9,2,20131120,2259,-14.9835,-112.7504,2424.9,1.8459,34.6724,2,34.6723,2,152.5,2,152.8,2,128.26,2,35.34,2,0,2,2.54,2,-999,9,-999,9,-999,9,-999,9,1.8456,2,-999,9,-999,20131120,2320,-14.9835,-112.7504,4230,8406,2645,34.8358,2,1.8456,2
325020131025,       GT13,18,1,10,     NIS-10,2,     10,2,20131120,2259,-14.9835,-112.7504,2425.8,1.846,34.6724,2,34.6724,2,152.6,2,152.7,2,128.06,2,35.35,2,0,2,2.53,2,-999,9,-999,9,-999,9,-999,9,1.8461,2,-999,9,-999,20131120,2321,-14.9835,-112.7504,4230,8407,2645,34.8359,2,1.8461,2
325020131025,       GT13,18,1,7,      NIS-7,2,      7,2,20131120,2259,-14.9835,-112.7504,2475.5,1.8362,34.6753,2,34.675,2,152.6,2,152.6,2,129.82,2,35.38,2,0,2,2.55,2,-999,9,-999,9,-999,9,-999,9,1.8359,2,-999,9,-999,20131120,2316,-14.9835,-112.7504,4230,8404,2645,34.8385,2,1.8359,2
325020131025,       GT13,18,1,8,      NIS-8,2,      8,2,20131120,2259,-14.9835,-112.7504,2476.1,1.8361,34.6754,2,34.6748,2,152.6,2,152.5,2,129.92,2,35.42,2,0,2,2.54,2,-999,9,-999,9,-999,9,-999,9,1.8361,2,-999,9,-999,20131120,2317,-14.9835,-112.7504,4230,8405,2645,34.8383,2,1.8361,2
325020131025,       GT13,18,1,6,      NIS-6,2,      6,2,20131120,2259,-14.9835,-112.7504,2526.9,1.8363,34.6761,2,34.6756,2,151.3,2,151.1,2,131.48,2,35.54,2,0,2,2.57,2,-999,9,-999,9,-999,9,-999,9,1.8358,2,-999,9,-999,20131120,2314,-14.9835,-112.7504,4230,8403,2645,34.8391,2,1.8358,2
325020131025,       GT13,18,1,5,      NIS-5,2,      5,2,20131120,2259,-14.9835,-112.7504,2528,1.8371,34.6762,2,34.676,2,151.4,2,150.9,2,132.16,2,35.56,2,0,2,2.58,2,-999,9,-999,9,-999,9,-999,9,1.837,2,-999,9,-999,20131120,2313,-14.9835,-112.7504,4230,8402,2645,34.8395,2,1.837,2
325020131025,       GT13,18,1,4,      NIS-4,2,      4,2,20131120,2259,-14.9835,-112.7504,2578.3,1.8361,34.6764,2,34.676,2,152.2,2,152.1,2,132.06,2,35.52,2,0,2,2.58,2,-999,9,-999,9,-999,9,-999,9,1.8358,2,-999,9,-999,20131120,2309,-14.9835,-112.7504,4230,8401,2645,34.8395,2,1.8358,2
325020131025,       GT13,18,1,3,      NIS-3,2,      3,2,20131120,2259,-14.9835,-112.7504,2578.9,1.8363,34.6763,2,34.676,2,152.2,2,151.8,2,131.38,2,35.53,2,0,2,2.58,2,-999,9,-999,9,-999,9,-999,9,1.8361,2,-999,9,-999,20131120,2308,-14.9835,-112.7504,4230,8400,2645,34.8395,2,1.8361,2
325020131025,       GT13,18,1,1,      NIS-1,2,      1,2,20131120,2259,-14.9835,-112.7504,2639.8,1.838,34.6762,2,34.6756,2,152.8,2,152.4,2,130.79,2,35.47,2,0,2,2.58,2,-999,9,-999,9,-999,9,-999,9,1.8375,2,-999,9,-999,20131120,2304,-14.9835,-112.7504,4230,8398,2645,34.8391,2,1.8375,2
325020131025,       GT13,18,1,2,     NIS-22,2,      2,2,20131120,2259,-14.9835,-112.7504,2640.8,1.8402,34.6763,2,34.676,2,152.2,2,152.1,2,130.5,2,35.49,2,0,2,2.58,2,-999,9,-999,9,-999,9,-999,9,1.8399,2,-999,9,-999,20131120,2304,-14.9835,-112.7504,4230,8399,2645,34.8395,2,1.8399,2
325020131025,       GT13,18,4,12,     NIS-12,2,     12,2,20131121,1108,-14.9835,-112.7504,19.9,24.3076,35.8389,2,35.8407,2,211.9,2,212.3,2,1.56,2,3.79,2,0.08,2,0.42,2,1.512114717,2,0.921988468,2,0.13165,2,1.1869,2,24.3081,2,32.9,2,2.5,20131121,1148,-14.9835,-112.7504,4235,8453,2644,36.0098,2,24.3081,2
325020131025,       GT13,18,4,11,     NIS-11,2,     11,2,20131121,1108,-14.9835,-112.7504,60.3,23.7697,36.148,2,36.1532,2,216.9,2,217.8,2,1.07,2,0.91,2,0.03,2,0.27,2,1.572413804,6,0.953292738,6,0.1369695,6,1.19625,6,23.7521,2,41.6,2,2.5,20131121,1145,-14.9836,-112.7504,4235,8452,2644,36.3237,2,23.7521,2
325020131025,       GT13,18,4,10,     NIS-10,2,     10,2,20131121,1108,-14.9835,-112.7504,96.3,22.4934,36.1694,2,36.1787,2,210.8,2,209.9,2,1.17,2,0.29,2,0.1,2,0.3,2,1.664901331,2,0.98560056,2,0.141329,2,1.1231,2,22.4924,2,32.3,2,2.5,20131121,1143,-14.9835,-112.7504,4235,8451,2644,36.3493,2,22.4924,2
325020131025,       GT13,18,4,9,      NIS-9,2,      9,2,20131121,1108,-14.9835,-112.7504,151.7,20.9961,35.9548,2,35.9493,2,201.7,2,201.6,2,0.78,2,0.77,2,0.68,2,0.29,2,1.78346086,2,1.068293169,2,0.143354,2,1.1792,2,20.9931,2,44.7,2,2.5,20131121,1141,-14.9835,-112.7504,4235,8450,2644,36.1188,2,20.9931,2
325020131025,       GT13,18,4,8,      NIS-8,2,      8,2,20131121,1108,-14.9835,-112.7504,203.6,18.8564,35.5266,2,35.528,2,194,2,194.1,2,1.07,2,3.73,2,0.02,2,0.43,2,1.954894279,2,1.156672902,2,0.076908,2,1.2144,2,18.8639,2,47.7,2,2.5,20131121,1139,-14.9835,-112.7504,4235,8449,2644,35.6955,2,18.8639,2
325020131025,       GT13,18,4,7,      NIS-7,2,      7,2,20131121,1108,-14.9835,-112.7504,306.2,11.9962,34.6276,2,34.6216,2,62.7,2,54.2,2,16.89,2,23.07,2,0,2,2.19,2,1.62692918,2,0.827783121,2,0.021994,2,0.4873,2,12.0418,3,10.7,2,2.5,20131121,1136,-14.9835,-112.7504,4235,8448,2644,34.7849,2,12.0418,3
325020131025,       GT13,18,4,6,      NIS-6,2,      6,2,20131121,1108,-14.9835,-112.7504,356.2,10.197,34.6399,2,34.6403,2,15.1,2,14.7,2,25.48,2,31.02,2,0,2,2.61,2,0.656412426,2,0.325011056,2,0.004169,2,0.2068,2,10.1975,2,-32.8,2,2.5,20131121,1134,-14.9835,-112.7504,4235,8447,2644,34.8036,2,10.1975,2
325020131025,       GT13,18,4,5,      NIS-5,2,      5,2,20131121,1108,-14.9835,-112.7504,400.6,9.1618,34.6072,2,34.6069,2,29.1,2,28.8,2,27.23,2,34.63,2,0,2,2.55,2,0.376783847,2,0.185620822,2,0.002291,2,0.121,2,9.1659,2,-57.1,2,2.5,20131121,1131,-14.9835,-112.7504,4235,8446,2644,34.7701,2,9.1659,2
325020131025,       GT13,18,4,4,      NIS-4,2,      4,2,20131121,1108,-14.9835,-112.7504,602.6,6.5201,34.5154,2,34.5144,2,68.3,2,68.9,2,40.9,2,39.03,2,0,2,2.63,2,0.053567532,2,0.030169756,2,0.000969,2,0,2,6.5224,2,-119,2,2.5,20131121,1126,-14.9835,-112.7504,4235,8445,2644,34.6771,2,6.5224,2
325020131025,       GT13,18,4,3,      NIS-3,2,      3,2,20131121,1108,-14.9835,-112.7504,804.6,5.2295,34.5032,2,34.5028,2,76,2,76.5,2,58.86,2,40.81,2,0,2,2.8,2,0.008158606,4,0.006874325,4,0.000593,4,0.0385,4,5.2259,2,-152.1,2,2.5,20131121,1121,-14.9835,-112.7504,4235,8444,2644,34.6655,2,5.2259,2
325020131025,       GT13,18,4,2,     NIS-22,2,      2,2,20131121,1108,-14.9835,-112.7504,1004.9,4.3376,34.5273,2,34.5269,2,73.1,2,73.3,2,78.97,2,41.97,2,0,2,2.96,2,0.003693722,2,0.001065771,2,0.000756,2,0,2,4.3373,2,-182.8,2,2.5,20131121,1115,-14.9835,-112.7504,4235,8443,2644,34.6897,2,4.3373,2
325020131025,       GT13,18,4,1,      NIS-1,2,      1,2,20131121,1108,-14.9835,-112.7504,1209.2,3.6134,34.5572,2,34.5575,2,83.5,2,83.5,2,96.35,2,41.44,2,0,2,2.96,2,0.002035625,2,0.001586614,2,0.001295,2,0,2,3.6137,2,-199.1,2,2.5,20131121,1109,-14.9835,-112.7504,4235,8442,2644,34.7205,2,3.6137,2
325020131025,       GT13,18,6,12,     NIS-12,2,     12,2,20131121,1557,-14.9839,-112.7503,4.7,24.3068,35.8296,2,35.8289,2,212,2,212.1,2,1.76,2,3.9,2,0.09,2,0.43,2,1.518731,2,0.930617,2,0.134362,2,1.1979,2,24.3125,2,30.6,2,2.5,20131121,1623,-14.9839,-112.7503,4238,8490,2642,35.9978,2,24.3125,2
325020131025,       GT13,18,6,11,     NIS-11,2,     11,2,20131121,1557,-14.9839,-112.7503,21,24.2853,35.8376,2,35.8383,2,211.7,2,212.4,2,1.76,2,3.83,2,0.09,2,0.43,2,-999,9,-999,9,-999,9,-999,9,24.287,2,-999,9,-999,20131121,1620,-14.9839,-112.7503,4238,8489,2642,36.0073,2,24.287,2
325020131025,       GT13,18,6,10,     NIS-10,2,     10,2,20131121,1557,-14.9839,-112.7503,39.8,24.0762,36.101,2,36.1002,2,213.3,2,213.5,2,1.17,2,1.77,2,0.05,2,0.32,2,-999,9,-999,9,-999,9,-999,9,24.0792,2,-999,9,-999,20131121,1619,-14.9839,-112.7503,4238,8488,2642,36.2705,2,24.0792,2
325020131025,       GT13,18,6,9,      NIS-9,2,      9,2,20131121,1557,-14.9839,-112.7503,60,23.3897,36.1723,2,36.1753,2,220.2,2,220.3,2,1.17,2,0.38,2,0.03,2,0.27,2,-999,9,-999,9,-999,9,-999,9,23.386,2,-999,9,-999,20131121,1617,-14.9839,-112.7503,4238,8487,2642,36.3459,2,23.386,2
325020131025,       GT13,18,6,8,      NIS-8,2,      8,2,20131121,1557,-14.9839,-112.7503,95.2,22.4379,36.1615,2,36.1656,2,209.3,2,209.9,2,1.17,2,0.29,2,0.12,2,0.33,2,-999,9,-999,9,-999,9,-999,9,22.4373,2,-999,9,-999,20131121,1615,-14.9839,-112.7503,4238,8486,2642,36.3362,2,22.4373,2
325020131025,       GT13,18,6,7,      NIS-7,2,      7,2,20131121,1557,-14.9839,-112.7503,120.8,22.2529,36.1719,2,36.1715,2,205.6,2,206,2,1.07,2,0.1,2,0.3,2,0.33,2,-999,9,-999,9,-999,9,-999,9,22.2526,2,-999,9,-999,20131121,1613,-14.9839,-112.7503,4238,8485,2642,36.3421,2,22.2526,2
325020131025,       GT13,18,6,6,      NIS-6,2,      6,2,20131121,1557,-14.9839,-112.7503,149.9,21.2611,36.0246,2,36.0272,2,202.3,2,202.4,2,0.88,2,0.38,2,0.78,2,0.29,2,-999,9,-999,9,-999,9,-999,9,21.2249,3,-999,9,-999,20131121,1611,-14.9839,-112.7502,4238,8484,2642,36.1971,2,21.2249,3
325020131025,       GT13,18,6,5,      NIS-5,2,      5,2,20131121,1557,-14.9839,-112.7503,200.8,19.0743,35.57,2,35.5654,2,194.4,2,194.5,2,1.07,2,3.46,2,0.04,2,0.43,2,-999,9,-999,9,-999,9,-999,9,19.0739,2,-999,9,-999,20131121,1609,-14.9839,-112.7503,4238,8483,2642,35.7331,2,19.0739,2
325020131025,       GT13,18,6,4,      NIS-4,2,      4,2,20131121,1557,-14.9839,-112.7503,305.8,12.0072,34.6268,2,34.6235,2,59.2,2,67.4,2,14.84,2,21.74,2,0,2,2.01,2,-999,9,-999,9,-999,9,-999,9,11.9592,3,-999,9,-999,20131121,1605,-14.9839,-112.7503,4238,8482,2642,34.7868,2,11.9592,3
325020131025,       GT13,18,6,3,      NIS-3,2,      3,2,20131121,1557,-14.9839,-112.7503,356.9,10.5901,34.6438,2,34.6434,2,18.4,2,17.1,2,24.4,2,29.18,2,0,2,2.52,2,-999,9,-999,9,-999,9,-999,9,10.5836,2,-999,9,-999,20131121,1603,-14.9839,-112.7503,4238,8481,2642,34.8067,2,10.5836,2
325020131025,       GT13,18,6,2,     NIS-22,2,      2,2,20131121,1557,-14.9839,-112.7503,403,9.5304,34.6162,2,34.6161,2,20.9,2,20.4,2,26.65,2,33.62,2,0,2,2.56,2,-999,9,-999,9,-999,9,-999,9,9.5345,2,-999,9,-999,20131121,1601,-14.9839,-112.7503,4238,8480,2642,34.7793,2,9.5345,2
325020131025,       GT13,18,6,1,      NIS-1,2,      1,2,20131121,1557,-14.9839,-112.7503,603.2,6.7616,34.5194,2,34.5194,2,67.2,2,67.4,2,38.36,2,38.51,2,0,2,2.56,2,-999,9,-999,9,-999,9,-999,9,6.7608,2,-999,9,-999,20131121,1556,-14.9839,-112.7503,4238,8479,2642,34.6822,2,6.7608,2
325020131025,       GT13,18,8,12,     NIS-12,2,     12,2,20131121,2326,-14.9839,-112.7503,1210.5,3.6053,34.5569,2,34.5571,2,83,2,86.2,2,96.15,2,40.83,2,0,2,2.88,2,0.00331,2,0.003366914,2,0.000042,2,0,2,3.6047,2,-203.3,2,2.5,20131122,16,-14.9839,-112.7503,4240,8510,2643,34.72,2,3.6047,2
325020131025,       GT13,18,8,11,     NIS-11,2,     11,2,20131121,2326,-14.9839,-112.7503,1411.3,3.1209,34.5828,2,34.5824,2,94.7,2,93.6,2,108.84,2,40.34,2,0,2,2.88,2,0.004934,2,0.002808939,2,0.000045,2,0,2,3.1202,2,-216.3,2,2.5,20131122,10,-14.9839,-112.7502,4240,8509,2643,34.7454,2,3.1202,2
325020131025,       GT13,18,8,10,     NIS-10,2,     10,2,20131121,2326,-14.9839,-112.7503,1613.9,2.7233,34.6065,2,34.6055,2,109.3,2,109,2,117.33,2,39.04,2,0,2,2.77,2,0.016147,2,0.009782616,2,0.001053,2,0,2,2.7235,2,-225.5,2,2.5,20131122,5,-14.9839,-112.7503,4240,8508,2643,34.7687,2,2.7235,2
325020131025,       GT13,18,8,9,      NIS-9,2,      9,2,20131121,2326,-14.9839,-112.7503,1816.2,2.4153,34.627,2,34.6269,2,116.8,2,116.3,2,126.41,2,38.45,2,0,2,2.74,2,0.006249,2,0.005120118,2,0.001301,2,0,2,2.4156,2,-999,9,-999,20131121,2359,-14.9839,-112.7503,4240,8507,2643,34.7902,2,2.4156,2
325020131025,       GT13,18,8,8,      NIS-8,2,      8,2,20131121,2326,-14.9839,-112.7503,2018.8,2.1465,34.6456,2,34.6451,2,128.7,2,128.6,2,128.65,2,37.45,2,0,2,2.67,2,0.00477,2,0.003147136,2,0.000919,2,0,2,2.1466,2,-234.1,2,2.5,20131121,2354,-14.9839,-112.7503,4240,8506,2643,34.8085,2,2.1466,2
325020131025,       GT13,18,8,7,      NIS-7,2,      7,2,20131121,2326,-14.9839,-112.7503,2222.1,1.9537,34.66,2,34.66,2,140.8,2,141.2,2,129.14,2,36.47,2,0,2,2.6,2,0.008588,2,0.004981628,2,0.000407,2,0,2,1.9539,2,-228,2,2.5,20131121,2346,-14.9839,-112.7503,4240,8505,2643,34.8235,2,1.9539,2
325020131025,       GT13,18,8,6,      NIS-6,2,      6,2,20131121,2326,-14.9839,-112.7503,2247.9,1.9338,34.6613,2,34.6624,2,142.8,2,143.8,2,128.45,2,36.18,2,0,2,2.59,2,0.003465,2,0.003710128,2,0.000915,2,0,2,1.9333,2,-225.9,2,2.5,20131121,2344,-14.9839,-112.7503,4240,8504,2643,34.8258,2,1.9333,2
325020131025,       GT13,18,8,5,      NIS-5,2,      5,2,20131121,2326,-14.9839,-112.7503,2273.5,1.9021,34.6631,2,34.663,2,147.7,2,149.5,2,126.3,2,35.75,2,0,2,2.55,2,0.017103,4,0.015632315,4,0.002502,4,0.0363,4,1.9019,2,-226,2,2.5,20131121,2342,-14.9839,-112.7502,4240,8503,2643,34.8264,2,1.9019,2
325020131025,       GT13,18,8,4,      NIS-4,2,      4,2,20131121,2326,-14.9839,-112.7503,2298.9,1.8964,34.6639,2,34.6632,2,150,2,150.4,2,126.3,2,35.72,2,0,2,2.56,2,0.007794,2,0.005147213,2,0.001273,2,0,2,1.8963,2,-999,9,-999,20131121,2341,-14.9839,-112.7503,4240,8502,2643,34.8266,2,1.8963,2
325020131025,       GT13,18,8,3,      NIS-3,2,      3,2,20131121,2326,-14.9839,-112.7503,2324.6,1.8859,34.6651,2,34.6653,2,150.4,2,151,2,126.79,2,35.66,2,0,2,2.56,2,0.003967,2,0.003184268,2,0.000589,2,0,2,1.8857,2,-222.6,2,2.5,20131121,2339,-14.9839,-112.7502,4240,8501,2643,34.8288,2,1.8857,2
325020131025,       GT13,18,8,2,     NIS-22,2,      2,2,20131121,2326,-14.9839,-112.7503,2350.5,1.8703,34.667,2,34.6665,2,151.6,2,152.4,2,126.79,2,35.54,2,0,2,2.56,2,0.003557,2,0.002193763,2,0.001462,2,0,2,1.8704,2,-221.7,2,2.5,20131121,2336,-14.9839,-112.7503,4240,8500,2643,34.83,2,1.8704,2
325020131025,       GT13,18,8,1,      NIS-1,2,      1,2,20131121,2326,-14.9839,-112.7503,2374.5,1.8575,34.6693,2,34.6693,2,152.5,2,152.9,2,127.38,2,35.48,2,0,2,2.55,2,0.004814,2,0.001264474,2,0.002605,2,0,2,1.8574,2,-224.6,2,2.5,20131121,2334,-14.9839,-112.7502,4240,8499,2643,34.8328,2,1.8574,2
325020131025,       GT13,18,8,14,  WAX_CORER,2,    14,2,20131121,2326,-14.9839,-112.7503,2668,-999,-999,2,-999,9,-999,9,-999,9,-999,9,-999,9,-999,9,-999,9,-999,9,-999,9,-999,9,-999,9,-999,9,-999,9,-999,20131121,2326,-14.9839,-112.7503,4240,8559,2643,-999,9,-999,9