BOTTLE,20161222CCHSIORJL
EXPOCODE,SECT_ID,STNNBR,CASTNO,SAMPNO,BTLNBR,BTLNBR_FLAG_W,BTLNBR_U,BTLNBR_U_FLAG_W,DATE,TIME,LATITUDE,LONGITUDE,CTDPRS,CTDTMP,CTDSAL,CTDSAL_FLAG_W,SALNTY,SALNTY_FLAG_W,CTDOXY,CTDOXY_FLAG_W,OXYGEN,OXYGEN_FLAG_W,SILCAT,SILCAT_FLAG_W,NITRAT,NITRAT_FLAG_W,NITRIT,NITRIT_FLAG_W,PHSPHT,PHSPHT_FLAG_W,CFC-11,CFC-11_FLAG_W,CFC-12,CFC-12_FLAG_W,CFC113,CFC113_FLAG_W,SF6,SF6_FLAG_W,REFTMP,REFTMP_FLAG_W,DELC14,DELC14_FLAG_W,C14ERR,BTL_DATE,BTL_TIME,BTL_LAT,BTL_LON,GEOTR_EVENT,GEOTR_SAMPNO,DEPTH,SALTREF,SALTREF_FLAG_W,SBE35,SBE35_FLAG_W
,,,,,,,,,,,,,DBAR,ITS-90,PSS-78,,PSS-78,,UMOL/KG,,UMOL/KG,,UMOL/KG,,UMOL/KG,,UMOL/KG,,UMOL/KG,,PMOL/KG,,PMOL/KG,,PMOL/KG,,FMOL/KG,,DEG C,,/MILLE,,/MILLE,,,,,,,METERS,G/KG,,ITS-90,
325020131025,       GT13,5,4,12,     NIS-12,2,     12,2,20131103,1626,-12.0448,-78.1669,2.6,17.4007,35.0233,2,35.0242,2,243.5,2,244.3,2,4.29,2,11.09,2,0.41,2,1.33,2,2.014308,2,1.205145,2,0.183462,2,1.248885,2,17.401,2,16.8,2,2.5,20131103,1655,-12.0448,-78.1669,4066,2458,2073,35.1893,2,17.401,2
325020131025,       GT13,5,4,11,     NIS-11,2,     11,2,20131103,1626,-12.0448,-78.1669,15.4,17.2917,35.0235,2,35.0248,2,243,2,243.5,2,4.29,2,11.31,2,0.42,2,1.38,2,-999,9,-999,9,-999,9,-999,9,17.2933,2,-999,9,-999,20131103,1653,-12.0448,-78.1669,4066,2457,2073,35.1899,2,17.2933,2
325020131025,       GT13,5,4,10,     NIS-10,2,     10,2,20131103,1626,-12.0448,-78.1669,25.4,16.7286,35.011,2,35.0138,2,225.7,2,229.5,2,6.15,2,12.07,2,0.55,2,1.52,2,-999,9,-999,9,-999,9,-999,9,16.7313,3,-999,9,-999,20131103,1652,-12.0448,-78.1669,4066,2456,2073,35.1789,2,16.7313,3
325020131025,       GT13,5,4,9,      NIS-9,2,      9,2,20131103,1626,-12.0448,-78.1669,40.2,15.5681,34.9788,2,34.979,2,152.5,2,148.9,2,8.69,2,16.07,2,0.91,2,1.96,2,-999,9,-999,9,-999,9,-999,9,15.5714,2,-999,9,-999,20131103,1650,-12.0448,-78.1669,4066,2455,2073,35.1439,2,15.5714,2
325020131025,       GT13,5,4,8,      NIS-8,2,      8,2,20131103,1626,-12.0448,-78.1669,55.8,14.2042,34.8432,2,34.8698,2,59.1,2,57.6,2,13.37,2,20.87,2,0.38,2,2.19,2,-999,9,-999,9,-999,9,-999,9,14.1977,2,-999,9,-999,20131103,1649,-12.0448,-78.1669,4066,2454,2073,35.0342,2,14.1977,2
325020131025,       GT13,5,4,7,      NIS-7,2,      7,2,20131103,1626,-12.0448,-78.1669,74.6,13.7873,34.9555,2,34.9585,2,1.9,2,1.7,2,30.54,2,4.89,2,8.57,2,2.53,2,-999,9,-999,9,-999,9,-999,9,13.7878,2,-999,9,-999,20131103,1647,-12.0448,-78.1669,4066,2453,2073,35.1234,2,13.7878,2
325020131025,       GT13,5,4,6,      NIS-6,2,      6,2,20131103,1626,-12.0448,-78.1669,85.8,13.6841,34.9613,2,34.9609,2,1.6,2,2.1,2,31.91,2,4.65,2,9.66,2,2.5,2,-999,9,-999,9,-999,9,-999,9,13.6864,2,-999,9,-999,20131103,1645,-12.0448,-78.1669,4066,2452,2073,35.1258,2,13.6864,2
325020131025,       GT13,5,4,5,      NIS-5,2,      5,2,20131103,1626,-12.0448,-78.1669,100.4,13.5227,34.9538,2,34.9532,2,1.6,2,1.6,2,31.33,2,7.75,2,9.45,2,2.48,2,-999,9,-999,9,-999,9,-999,9,13.5238,2,-999,9,-999,20131103,1643,-12.0448,-78.1669,4066,2451,2073,35.1181,2,13.5238,2
325020131025,       GT13,5,4,4,      NIS-4,2,      4,2,20131103,1626,-12.0448,-78.1669,120.5,13.3282,34.9466,2,34.9464,2,1.5,2,1.7,2,32.01,2,8.65,2,9.65,2,2.49,2,-999,9,-999,9,-999,9,-999,9,13.3316,2,-999,9,-999,20131103,1642,-12.0448,-78.1669,4066,2450,2073,35.1111,2,13.3316,2
325020131025,       GT13,5,4,3,      NIS-3,2,      3,2,20131103,1626,-12.0448,-78.1669,160.9,12.8227,34.917,2,34.9165,2,1.5,2,1.6,2,28.01,2,21.02,2,3.99,2,2.44,2,-999,9,-999,9,-999,9,-999,9,12.8212,2,-999,9,-999,20131103,1639,-12.0449,-78.1669,4066,2449,2073,35.0811,2,12.8212,2
325020131025,       GT13,5,4,2,      NIS-2,2,      2,2,20131103,1626,-12.0448,-78.1669,202.8,12.4018,34.8885,2,34.8896,2,1.6,2,1.4,2,29.28,2,21.15,2,4.59,2,2.47,2,-999,9,-999,9,-999,9,-999,9,12.4031,2,-999,9,-999,20131103,1637,-12.0448,-78.1669,4066,2448,2073,35.0541,2,12.4031,2
325020131025,       GT13,5,4,1,      NIS-1,2,      1,2,20131103,1626,-12.0448,-78.1669,603.4,7.126,34.5863,2,34.5875,2,3.5,2,4,2,52.91,2,43.59,2,0,2,3.15,2,-999,9,-999,9,-999,9,-999,9,7.1246,2,-999,9,-999,20131103,1628,-12.0448,-78.1669,4066,2447,2073,34.7506,2,7.1246,2
325020131025,       GT13,5,6,12,     NIS-12,2,     12,2,20131103,2004,-12.0448,-78.1669,503.2,7.8057,34.6058,2,34.6054,2,3,2,3.3,2,45.29,2,41.71,2,0,2,3.04,2,0.068736444,2,0.030318909,2,0,2,0,2,7.8072,2,-93.4,2,2.5,20131103,2051,-12.0448,-78.1669,4068,2494,2075,34.7686,2,7.8072,2
325020131025,       GT13,5,6,11,     NIS-11,2,     11,2,20131103,2004,-12.0448,-78.1669,604.9,6.9948,34.5834,2,34.5832,2,4.1,2,4.1,2,54.57,2,44.05,2,0,2,3.14,2,0.036007938,2,0.015324351,2,0,2,0,2,6.9975,2,-999,9,-999,20131103,2047,-12.0448,-78.1669,4068,2493,2075,34.7463,2,6.9975,2
325020131025,       GT13,5,6,10,     NIS-10,2,     10,2,20131103,2004,-12.0448,-78.1669,805,5.3951,34.5306,2,34.5309,2,27.9,2,27.8,2,67.75,2,45.3,2,0,2,3.22,2,0.012769115,2,0.004903672,2,0,2,0,2,5.3946,2,-155.8,2,2.5,20131103,2042,-12.0448,-78.1669,4068,2492,2075,34.6937,2,5.3946,2
325020131025,       GT13,5,6,9,      NIS-9,2,      9,2,20131103,2004,-12.0448,-78.1669,1010.5,4.2773,34.5442,2,34.5442,2,54.6,2,54.7,2,88.25,2,43.3,2,0,2,3.15,2,0.005559301,2,0.003629743,2,0,2,0,2,4.276,2,-180.2,2,2.5,20131103,2038,-12.0448,-78.1669,4068,2491,2075,34.7071,2,4.276,2
325020131025,       GT13,5,6,8,      NIS-8,2,      8,2,20131103,2004,-12.0448,-78.1669,1210.2,3.5559,34.5744,2,34.5748,2,68.8,2,68.9,2,107.08,2,42.05,2,0,2,3.09,2,0.007622186,2,0.003319053,2,0,2,0,2,3.5555,2,-199.7,2,2.5,20131103,2033,-12.0448,-78.1669,4068,2490,2075,34.7378,2,3.5555,2
325020131025,       GT13,5,6,7,      NIS-7,2,      7,2,20131103,2004,-12.0448,-78.1669,1411.5,2.8882,34.609,2,34.6107,2,82.6,2,82.3,2,126.21,2,40.8,2,0,2,3.04,2,0.012404048,2,0.006596881,2,0,2,0,2,2.8882,2,-220.6,2,2.5,20131103,2028,-12.0448,-78.1669,4068,2489,2075,34.7739,2,2.8882,2
325020131025,       GT13,5,6,6,      NIS-6,2,      6,2,20131103,2004,-12.0448,-78.1669,1613.7,2.5752,34.6276,2,34.6283,2,91.3,2,90.8,2,135.48,2,40.08,2,0,2,2.98,2,0.004428107,2,0.002023003,2,0,2,0,2,2.5751,2,-225.4,2,2.5,20131103,2023,-12.0448,-78.1669,4068,2488,2075,34.7916,2,2.5751,2
325020131025,       GT13,5,6,5,      NIS-5,2,      5,2,20131103,2004,-12.0448,-78.1669,1816.8,2.3592,34.6406,2,34.6413,2,97.1,2,97.2,2,141.34,2,39.54,2,0,2,2.93,2,0.003964318,2,0.002420164,2,0,2,0,2,2.3592,2,-232.2,2,2.5,20131103,2018,-12.0448,-78.1669,4068,2487,2075,34.8046,2,2.3592,2
325020131025,       GT13,5,6,4,      NIS-4,2,      4,2,20131103,2004,-12.0448,-78.1669,1917.5,2.2962,34.6449,2,34.6454,2,99.4,2,99.4,2,143.78,2,39.32,2,0,2,2.92,2,0.004598815,2,0.002841455,2,0,2,0,2,2.296,2,-233.8,2,2.5,20131103,2015,-12.0448,-78.1669,4068,2486,2075,34.8088,2,2.296,2
325020131025,       GT13,5,6,3,      NIS-3,2,      3,2,20131103,2004,-12.0448,-78.1669,2019,2.2449,34.6482,2,34.6484,2,101.6,2,102,2,144.27,2,39.13,2,0,2,2.9,2,0.003789497,2,0.003413567,2,0,2,0,2,2.2447,2,-229.2,2,2.5,20131103,2011,-12.0448,-78.1669,4068,2485,2075,34.8117,2,2.2447,2
325020131025,       GT13,5,6,2,      NIS-2,2,      2,2,20131103,2004,-12.0448,-78.1669,2071,2.2107,34.6502,2,34.6503,2,103.3,2,103.1,2,145.14,2,39,2,0,2,2.9,2,0.025673973,2,0.011948992,2,0,2,0,2,2.2106,2,-231.1,2,2.5,20131103,2007,-12.0448,-78.1669,4068,2484,2075,34.8137,2,2.2106,2
325020131025,       GT13,5,6,1,      NIS-1,2,      1,2,20131103,2004,-12.0448,-78.1669,2076.5,2.2081,34.6504,2,34.6507,2,103.3,2,103.2,2,145.63,2,39.01,2,0,2,2.89,2,0.008401681,2,0.003436693,2,0,2,0,2,2.2087,2,-999,9,-999,20131103,2006,-12.0448,-78.1669,4068,2483,2075,34.8141,2,2.2087,2
325020131025,       GT13,5,6,13, NIOZ_CORER,2,    13,2,20131103,2004,-12.0448,-78.1669,2095.3,-999,-999,2,-999,9,-999,9,-999,9,-999,9,-999,9,-999,9,-999,9,-999,9,-999,9,-999,9,-999,9,-999,9,-999,9,-999,20131103,2004,-12.0448,-78.1669,4068,2495,2075,-999,9,-999,9
325020131025,       GT13,5,25,25,       FISH,2,   25,2,20131103,2204,-12.0481,-78.3143,2.5,17.3699,35.0219,2,35.064,2,-999,9,-999,9,2.54,2,9.77,2,0.41,2,1.09,2,-999,9,-999,9,-999,9,-999,9,-999,9,-999,9,-999,20131103,2148,-12.0587,-78.2652,4069,2496,2231,35.2293,2,-999,9
325020131025,       GT13,6,2,12,     NIS-12,2,     12,2,20131104,1932,-12,-81.5003,19.9,18.1488,35.1362,2,35.1362,2,238.5,2,238.5,2,4,2,14.73,2,0.51,2,1.31,2,1.96204647,2,1.183259915,2,0.190832145,2,1.21626,2,18.1518,2,-999,9,-999,20131104,2005,-12,-81.5003,4076,3116,4761,35.3019,2,18.1518,2
325020131025,       GT13,6,2,11,     NIS-11,2,     11,2,20131104,1932,-12,-81.5003,50.6,17.2497,35.2255,2,35.2286,2,228.7,2,228.9,2,3.9,2,9.19,2,0.62,2,1.25,2,2.017797843,2,1.212156085,2,0.184487289,2,1.251495,2,17.251,2,-999,9,-999,20131104,2003,-12,-81.5003,4076,3115,4761,35.3948,2,17.251,2
325020131025,       GT13,6,2,10,     NIS-10,2,     10,2,20131104,1932,-12,-81.5003,80.4,14.2445,34.9114,2,34.8971,2,24.5,3,46,2,15.13,2,20.43,2,0.49,2,2.21,2,1.697530296,2,1.005654897,2,0.059178726,2,0.706005,2,14.2592,2,-999,9,-999,20131104,2001,-12,-81.5003,4076,3114,4761,35.0616,2,14.2592,2
325020131025,       GT13,6,2,9,      NIS-9,2,      9,2,20131104,1932,-12,-81.5003,95,13.6767,34.9222,2,34.9226,2,1.1,2,1.3,2,24.2,2,15.28,2,3.72,2,2.57,2,1.240702015,6,0.733538317,6,0.022714814,6,0.390195,6,13.6916,2,-999,9,-999,20131104,1959,-12,-81.5003,4076,3113,4761,35.0873,2,13.6916,2
325020131025,       GT13,6,2,8,      NIS-8,2,      8,2,20131104,1932,-12,-81.5003,125.9,12.9227,34.9059,2,34.9057,2,1.2,2,1.5,2,27.62,2,17.95,2,4.03,2,2.51,2,0.924187972,2,0.54332321,2,0.011805328,2,0.20097,2,12.916,2,-999,9,-999,20131104,1958,-12,-81.5003,4076,3112,4761,35.0703,2,12.916,2
325020131025,       GT13,6,2,7,      NIS-7,2,      7,2,20131104,1932,-12,-81.5003,150.7,12.5093,34.8921,2,34.89,2,1.1,2,1.5,2,27.52,2,23.45,2,2.26,2,2.5,2,0.782072051,2,0.446551858,2,0.00807404,2,0.1827,2,12.5019,2,-999,9,-999,20131104,1956,-12,-81.5003,4076,3111,4761,35.0545,2,12.5019,2
325020131025,       GT13,6,2,6,      NIS-6,2,      6,2,20131104,1932,-12,-81.5003,181.3,12.1224,34.8726,2,34.878,2,1.4,2,1.7,2,27.62,2,26.5,2,1.43,2,2.5,2,0.701848854,2,0.382550747,2,0.007740704,2,0.12267,2,12.1326,2,-999,9,-999,20131104,1955,-12,-81.5003,4076,3110,4761,35.0425,2,12.1326,2
325020131025,       GT13,6,2,5,      NIS-5,2,      5,2,20131104,1932,-12,-81.5003,301,10.7037,34.7812,2,34.7822,2,2.3,2,2.5,2,31.13,2,33.23,2,0.01,2,2.6,2,0.334542178,2,0.173693744,2,0.006506316,2,0.04698,2,10.7016,2,-999,9,-999,20131104,1951,-12,-81.5003,4076,3109,4761,34.9462,2,10.7016,2
325020131025,       GT13,6,2,4,      NIS-4,2,      4,2,20131104,1932,-12,-81.5003,403.4,9.5309,34.7007,2,34.6994,2,2.2,2,1.8,2,35.92,2,34.3,2,0.88,2,2.82,2,0.155255246,2,0.077146611,2,0,2,0,2,9.5402,2,-999,9,-999,20131104,1947,-12,-81.5003,4076,3108,4761,34.863,2,9.5402,2
325020131025,       GT13,6,2,3,      NIS-3,2,      3,2,20131104,1932,-12,-81.5003,603.9,7.0472,34.5692,2,34.5699,2,9,2,8.8,2,49.3,2,43.72,2,0,2,3.12,2,0.043718562,2,0.019808743,2,0,2,0,2,7.0463,2,-999,9,-999,20131104,1943,-12,-81.5003,4076,3107,4761,34.7329,2,7.0463,2
325020131025,       GT13,6,2,2,      NIS-2,2,      2,2,20131104,1932,-12,-81.5003,805.5,5.3973,34.5357,2,34.5352,2,28.3,2,28.1,2,68.53,2,45.3,2,0,2,3.22,2,0.011746928,2,0.004093264,2,0,2,0,2,5.3973,2,-999,9,-999,20131104,1938,-12,-81.5003,4076,3106,4761,34.698,2,5.3973,2
325020131025,       GT13,6,2,1,      NIS-1,2,      1,2,20131104,1932,-12,-81.5003,1007.6,4.5892,34.5441,2,34.544,2,50.2,2,49.9,2,83.36,2,43.72,2,0,2,3.16,2,0.009731347,2,0.003182309,2,0,2,0,2,4.5892,2,-999,9,-999,20131104,1934,-12,-81.5003,4076,3105,4761,34.7069,2,4.5892,2
325020131025,       GT13,6,25,25,       FISH,2,   25,2,20131104,2047,-12.0019,-81.5335,3.6,18.4654,35.1376,2,35.1396,2,-999,9,-999,9,4.2,2,14.89,2,0.5,2,1.33,2,-999,9,-999,9,-999,9,-999,9,-999,9,-999,9,-999,20131104,2040,-12.0019,-81.5253,4077,3117,4736,35.3053,2,-999,9
325020131025,       GT13,7,2,12,     NIS-12,2,     12,2,20131105,1303,-11.9999,-84,401.9,9.394,34.6913,2,34.6921,2,1.8,2,2.5,2,36.41,2,36.53,2,0.04,2,2.8,2,0.133290559,2,0.067327549,2,0,2,0,2,9.3953,2,-79.9,2,2.5,20131105,1434,-11.9999,-84,4085,3155,4546,34.8557,2,9.3953,2
325020131025,       GT13,7,2,11,     NIS-11,2,     11,2,20131105,1303,-11.9999,-84,452.2,8.6491,34.6448,2,34.6456,2,1.9,2,2.5,2,39.63,2,39.14,2,0,2,2.95,2,0.097260336,2,0.050537629,2,0,2,0,2,8.6319,2,-999,9,-999,20131105,1431,-11.9999,-84,4085,3154,4546,34.809,2,8.6319,2
325020131025,       GT13,7,2,10,     NIS-10,2,     10,2,20131105,1303,-11.9999,-84,503,7.9587,34.6052,2,34.6056,2,4.2,2,5.7,2,42.95,2,41.49,2,0,2,3.04,2,0.072899792,2,0.033987953,2,0,2,0,2,7.9567,2,-999,9,-999,20131105,1429,-11.9999,-84,4085,3153,4546,34.7688,2,7.9567,2
325020131025,       GT13,7,2,9,      NIS-9,2,      9,2,20131105,1303,-11.9999,-84,627,6.8173,34.557,2,34.5573,2,12.3,2,12.6,2,50.56,2,44.34,2,0,2,3.13,2,0.027736419,2,0.01437341,2,0,2,0,2,6.8172,2,-127.9,2,2.5,20131105,1425,-11.9999,-84,4085,3152,4546,34.7203,2,6.8172,2
325020131025,       GT13,7,2,8,      NIS-8,2,      8,2,20131105,1303,-11.9999,-84,755,5.8643,34.5396,2,34.5403,2,17.1,2,17.5,2,62.87,2,46.15,2,0,2,3.26,2,0.010997791,2,0.006184014,2,0,2,0,2,5.869,2,-144.5,2,2.5,20131105,1421,-11.9999,-84,4085,3151,4546,34.7032,2,5.869,2
325020131025,       GT13,7,2,7,      NIS-7,2,      7,2,20131105,1303,-11.9999,-84,1006.8,4.5471,34.5376,2,34.5401,2,51.8,2,51.5,2,82.88,2,43.98,2,0,2,3.17,2,0.005766521,2,0.004155513,2,0,2,0,2,4.5494,2,-999,9,-999,20131105,1416,-11.9999,-84,4085,3150,4546,34.703,2,4.5494,2
325020131025,       GT13,7,2,6,      NIS-6,2,      6,2,20131105,1303,-11.9999,-84,1260.2,3.5843,34.5719,2,34.5742,2,70.2,2,70.2,2,107.08,2,42.52,2,0,2,3.11,2,0.009105411,2,0.008338166,2,0,2,0,2,3.584,2,-206.1,2,2.5,20131105,1410,-11.9999,-84,4085,3149,4546,34.7372,2,3.584,2
325020131025,       GT13,7,2,5,      NIS-5,2,      5,2,20131105,1303,-11.9999,-84,1512.3,2.9407,34.6044,2,34.6052,2,82.9,2,82.9,2,124.75,2,41.43,2,0,2,3.06,2,0.001412607,2,0.002177272,2,0,2,0,2,2.9404,2,-999,9,-999,20131105,1403,-11.9999,-84,4085,3148,4546,34.7684,2,2.9404,2
325020131025,       GT13,7,2,4,      NIS-4,2,      4,2,20131105,1303,-11.9999,-84,1766.3,2.5115,34.6283,2,34.6291,2,95.7,2,95.9,2,135.58,2,40.24,2,0,2,2.99,2,0.002345442,2,0.002295886,2,0,2,0,2,2.5109,2,-999,9,-999,20131105,1358,-11.9999,-84,4085,3147,4546,34.7924,2,2.5109,2
325020131025,       GT13,7,2,3,      NIS-3,2,      3,2,20131105,1303,-11.9999,-84,2019.1,2.27,34.6439,2,34.645,2,103.3,2,103.6,2,142.9,2,39.56,2,0,2,2.93,2,0.001242067,2,0.003373464,2,0,2,0,2,2.2701,2,-999,9,-999,20131105,1352,-11.9999,-84,4085,3146,4546,34.8084,2,2.2701,2
325020131025,       GT13,7,2,2,      NIS-2,2,      2,2,20131105,1303,-11.9999,-84,2274.2,2.0514,34.6579,2,34.6595,2,113.2,2,113.5,2,146.31,2,38.79,2,0,2,2.86,2,0.002866309,2,0.002758279,2,0,2,0,2,2.0513,2,-999,9,-999,20131105,1346,-11.9999,-84,4085,3145,4546,34.823,2,2.0513,2
325020131025,       GT13,7,2,1,      NIS-1,2,      1,2,20131105,1303,-11.9999,-84,2527.3,1.9005,34.668,2,34.6688,2,123.1,2,123.6,2,147.49,2,38.23,2,0,2,2.81,2,0.000591754,2,0.001885762,2,0,2,0,2,1.9006,2,-238.6,2,2.5,20131105,1341,-11.9999,-84,4085,3144,4546,34.8322,2,1.9006,2
325020131025,       GT13,7,4,12,     NIS-12,2,     12,2,20131106,55,-11.9999,-84,19.6,18.9464,35.2912,2,35.2925,2,235.1,2,235.1,2,4.68,2,14.19,2,0.42,2,1,2,1.833716543,2,1.138763274,2,0.177834221,2,1.103828571,2,18.9467,2,26.3,2,2.5,20131106,118,-11.9999,-84,4087,3175,4553,35.459,2,18.9467,2
325020131025,       GT13,7,4,11,     NIS-11,2,     11,2,20131106,55,-11.9999,-84,39.7,18.4521,35.2894,2,35.29,2,227.8,2,228.5,2,4.78,2,14.18,2,0.47,2,1.12,2,1.859985905,2,1.14088928,2,0.170336715,2,1.107351429,2,18.4551,2,19.2,2,2.5,20131106,116,-11.9999,-84,4087,3174,4553,35.4564,2,18.4551,2
325020131025,       GT13,7,4,10,     NIS-10,2,     10,2,20131106,55,-11.9999,-84,59.1,17.8204,35.2766,2,35.2778,2,220.9,2,220.6,2,5.56,2,14.82,2,0.59,2,1.4,2,1.888960282,2,1.158539654,2,0.16869901,2,1.092085714,2,17.8228,2,26.2,2,2.5,20131106,115,-11.9999,-84,4087,3173,4553,35.4441,2,17.8228,2
325020131025,       GT13,7,4,9,      NIS-9,2,      9,2,20131106,55,-11.9999,-84,78.7,17.295,35.2172,2,35.2209,2,177.6,2,185.4,2,6.83,2,17.14,2,0.83,2,1.56,2,1.850075051,2,1.143634491,2,0.153404181,2,1.006362857,2,17.3092,2,25.2,2,2.5,20131106,113,-11.9999,-83.9999,4087,3172,4553,35.387,2,17.3092,2
325020131025,       GT13,7,4,8,      NIS-8,2,      8,2,20131106,55,-11.9999,-84,110,13.7806,34.9364,2,34.9355,2,1,2,1.7,2,24.4,2,18.77,2,1.99,2,2.54,2,1.199404422,2,0.730012207,2,0.022948405,2,0.37812,2,13.7806,2,-999,9,-999,20131106,112,-11.9999,-84,4087,3171,4553,35.1003,2,13.7806,2
325020131025,       GT13,7,4,7,      NIS-7,2,      7,2,20131106,55,-11.9999,-84,125.4,13.5081,34.9269,2,34.9287,2,1.1,2,1.6,2,26.74,2,15.78,2,4.65,2,2.53,2,1.086001322,2,0.649962798,2,0.014808138,2,0.278305714,2,13.5073,2,-999,9,-999,20131106,110,-11.9999,-84,4087,3170,4553,35.0934,2,13.5073,2
325020131025,       GT13,7,4,6,      NIS-6,2,      6,2,20131106,55,-11.9999,-84,151.2,13.0355,34.9234,2,34.9239,2,1.2,2,1.3,2,27.52,2,20.69,2,3.47,2,2.49,2,0.914869834,6,0.536075212,6,0.008437517,6,0.191408571,6,13.045,2,0.5,2,2.5,20131106,109,-11.9999,-84,4087,3169,4553,35.0886,2,13.045,2
325020131025,       GT13,7,4,5,      NIS-5,2,      5,2,20131106,55,-11.9999,-84,180.7,12.7907,34.918,2,34.9169,2,1.4,2,1.8,2,27.52,2,24.12,2,2.81,2,2.48,2,0.819132546,2,0.477453734,2,0.007012868,2,0.160877143,2,12.7907,2,2.9,2,2.5,20131106,107,-11.9999,-84,4087,3168,4553,35.0815,2,12.7907,2
325020131025,       GT13,7,4,4,      NIS-4,2,      4,2,20131106,55,-11.9999,-84,252.2,11.5591,34.8294,2,34.8293,2,1.4,2,1.7,2,30.06,2,23.82,2,4.27,2,2.58,2,0.508341438,2,0.282777915,2,0.005556902,2,0.1233,2,11.5604,2,-25.5,2,2.5,20131106,104,-11.9999,-84,4087,3167,4553,34.9935,2,11.5604,2
325020131025,       GT13,7,4,3,      NIS-3,2,      3,2,20131106,55,-11.9999,-84,300.5,10.9094,34.7902,2,34.7904,2,2,2,2,2,33.18,2,22.54,2,7.06,2,2.64,2,0.35301523,2,0.188659674,2,0.005246816,2,0.071631429,2,10.9081,2,-41.4,2,2.5,20131106,102,-11.9999,-84,4087,3166,4553,34.9545,2,10.9081,2
325020131025,       GT13,7,4,2,      NIS-2,2,      2,2,20131106,55,-11.9999,-84,352.1,10.0764,34.7351,2,34.7347,2,2.2,2,2,2,34.16,2,32.6,2,1.05,2,2.75,2,0.207014286,2,0.112367717,2,0,2,0,2,10.0847,2,-999,9,-999,20131106,59,-11.9999,-83.9999,4087,3165,4553,34.8985,2,10.0847,2
325020131025,       GT13,7,4,1,      NIS-1,2,      1,2,20131106,55,-11.9999,-84,403.2,9.258,34.6829,2,34.6842,2,2.6,2,2.3,2,36.5,2,36.91,2,0.02,2,2.84,2,0.125930617,2,0.064212422,2,0,2,0,2,9.2697,2,-999,9,-999,20131106,57,-11.9999,-83.9999,4087,3164,4553,34.8478,2,9.2697,2