BOTTLE,20161222CCHSIORJL
EXPOCODE,SECT_ID,STNNBR,CASTNO,SAMPNO,BTLNBR,BTLNBR_FLAG_W,BTLNBR_U,BTLNBR_U_FLAG_W,DATE,TIME,LATITUDE,LONGITUDE,CTDPRS,CTDTMP,CTDSAL,CTDSAL_FLAG_W,SALNTY,SALNTY_FLAG_W,CTDOXY,CTDOXY_FLAG_W,OXYGEN,OXYGEN_FLAG_W,SILCAT,SILCAT_FLAG_W,NITRAT,NITRAT_FLAG_W,NITRIT,NITRIT_FLAG_W,PHSPHT,PHSPHT_FLAG_W,CFC-11,CFC-11_FLAG_W,CFC-12,CFC-12_FLAG_W,CFC113,CFC113_FLAG_W,SF6,SF6_FLAG_W,REFTMP,REFTMP_FLAG_W,DELC14,DELC14_FLAG_W,C14ERR,BTL_DATE,BTL_TIME,BTL_LAT,BTL_LON,GEOTR_EVENT,GEOTR_SAMPNO,DEPTH,SALTREF,SALTREF_FLAG_W,SBE35,SBE35_FLAG_W
,,,,,,,,,,,,,DBAR,ITS-90,PSS-78,,PSS-78,,UMOL/KG,,UMOL/KG,,UMOL/KG,,UMOL/KG,,UMOL/KG,,UMOL/KG,,PMOL/KG,,PMOL/KG,,PMOL/KG,,FMOL/KG,,DEG C,,/MILLE,,/MILLE,,,,,,,METERS,G/KG,,ITS-90,
325020131025,       GT13,18,10,11,     NIS-11,2,     11,2,20131122,427,-14.984,-112.7502,1613.6,2.7156,34.6068,2,34.6069,2,108.2,2,108.6,2,118.5,2,39.03,2,0,2,2.82,2,-999,9,-999,9,-999,9,-999,9,2.7151,2,-999,9,-999,20131122,459,-14.9839,-112.7502,4241,8521,2643,34.77,2,2.7151,2
325020131025,       GT13,18,10,12,     NIS-12,2,     12,2,20131122,427,-14.984,-112.7502,1613.6,2.7162,34.6068,2,34.6071,2,108.2,2,108.5,2,118.5,2,39.08,2,0,2,2.82,2,-999,9,-999,9,-999,9,-999,9,2.7166,2,-999,9,-999,20131122,459,-14.9839,-112.7502,4241,8522,2643,34.7702,2,2.7166,2
325020131025,       GT13,18,10,9,      NIS-9,2,      9,2,20131122,427,-14.984,-112.7502,1817,2.4114,34.6271,2,34.6286,2,115.8,2,116.4,2,125.92,2,38.5,2,0,2,2.78,2,-999,9,-999,9,-999,9,-999,9,2.4109,2,-999,9,-999,20131122,454,-14.9839,-112.7503,4241,8519,2643,34.7919,2,2.4109,2
325020131025,       GT13,18,10,10,     NIS-10,2,     10,2,20131122,427,-14.984,-112.7502,1817.3,2.4112,34.627,2,34.6275,2,115.8,2,116.5,2,125.63,2,38.41,2,0,2,2.78,2,-999,9,-999,9,-999,9,-999,9,2.4114,2,-999,9,-999,20131122,454,-14.9839,-112.7503,4241,8520,2643,34.7907,2,2.4114,2
325020131025,       GT13,18,10,8,      NIS-8,2,      8,2,20131122,427,-14.984,-112.7502,2018.5,2.1548,34.6449,2,34.6451,2,127.5,2,128.6,2,129.72,2,37.57,2,0,2,2.72,2,-999,9,-999,9,-999,9,-999,9,2.1546,2,-999,9,-999,20131122,449,-14.9839,-112.7502,4241,8518,2643,34.8085,2,2.1546,2
325020131025,       GT13,18,10,7,      NIS-7,2,      7,2,20131122,427,-14.984,-112.7502,2019.1,2.1546,34.645,2,34.6453,2,127.5,2,128.2,2,129.63,2,37.47,2,0,2,2.72,2,-999,9,-999,9,-999,9,-999,9,2.1548,2,-999,9,-999,20131122,448,-14.9839,-112.7502,4241,8517,2643,34.8087,2,2.1548,2
325020131025,       GT13,18,10,3,      NIS-3,2,      3,2,20131122,427,-14.984,-112.7502,2221.8,1.9423,34.6606,2,34.6606,2,142.4,2,143.2,2,130.01,2,36.33,2,0,2,2.63,2,-999,9,-999,9,-999,9,-999,9,1.9427,2,-999,9,-999,20131122,438,-14.9839,-112.7503,4241,8513,2643,34.8241,2,1.9427,2
325020131025,       GT13,18,10,4,      NIS-4,2,      4,2,20131122,427,-14.984,-112.7502,2222.5,1.9437,34.6605,2,34.6604,2,142.4,2,142.4,2,130.11,2,36.39,2,0,2,2.63,2,-999,9,-999,9,-999,9,-999,9,1.9434,2,-999,9,-999,20131122,438,-14.9839,-112.7502,4241,8514,2643,34.8239,2,1.9434,2
325020131025,       GT13,18,10,6,      NIS-6,2,      6,2,20131122,427,-14.984,-112.7502,2223,1.9444,34.6604,2,34.6604,2,142.4,2,142.6,2,130.21,2,36.34,2,0,2,2.63,2,-999,9,-999,9,-999,9,-999,9,1.944,2,-999,9,-999,20131122,439,-14.9839,-112.7502,4241,8516,2643,34.8239,2,1.944,2
325020131025,       GT13,18,10,5,      NIS-5,2,      5,2,20131122,427,-14.984,-112.7502,2223.3,1.9442,34.6604,2,34.6604,2,142.4,2,142.5,2,130.21,2,36.43,2,0,2,2.63,2,-999,9,-999,9,-999,9,-999,9,1.9441,2,-999,9,-999,20131122,439,-14.9839,-112.7502,4241,8515,2643,34.8239,2,1.9441,2
325020131025,       GT13,18,10,1,      NIS-1,2,      1,2,20131122,427,-14.984,-112.7502,2323.6,1.8774,34.6659,2,34.6665,2,150.9,2,151.9,2,127.38,2,35.62,2,0,2,2.57,2,-999,9,-999,9,-999,9,-999,9,1.8773,2,-999,9,-999,20131122,434,-14.9839,-112.7502,4241,8511,2643,34.83,2,1.8773,2
325020131025,       GT13,18,10,2,     NIS-22,2,      2,2,20131122,427,-14.984,-112.7502,2324,1.8773,34.6659,2,34.6653,2,150.9,2,151.9,2,127.38,2,35.61,2,0,2,2.56,2,-999,9,-999,9,-999,9,-999,9,1.877,2,-999,9,-999,20131122,434,-14.9839,-112.7502,4241,8512,2643,34.8288,2,1.877,2
325020131025,       GT13,18,11,12,     NIS-12,2,     12,2,20131122,823,-14.9836,-112.75,402.3,9.3321,34.6078,2,34.6096,2,23,2,24,2,27.04,2,34.32,2,0,2,2.63,2,-999,9,-999,9,-999,9,-999,9,9.3089,3,-999,9,-999,20131122,848,-14.9836,-112.75,4243,8558,2638,34.7728,2,9.3089,3
325020131025,       GT13,18,11,11,     NIS-11,2,     11,2,20131122,823,-14.9836,-112.75,402.9,9.3108,34.6076,2,34.6102,2,22.9,2,23.9,2,27.04,2,34.28,2,0,2,2.62,2,-999,9,-999,9,-999,9,-999,9,9.3248,2,-999,9,-999,20131122,847,-14.9836,-112.75,4243,8557,2638,34.7734,2,9.3248,2
325020131025,       GT13,18,11,8,      NIS-8,2,      8,2,20131122,823,-14.9836,-112.75,602.9,6.4915,34.513,2,34.5125,2,68.4,2,69.5,2,41.78,2,39.1,2,0,2,2.66,2,-999,9,-999,9,-999,9,-999,9,6.4904,2,-999,9,-999,20131122,842,-14.9836,-112.75,4243,8554,2638,34.6753,2,6.4904,2
325020131025,       GT13,18,11,7,      NIS-7,2,      7,2,20131122,823,-14.9836,-112.75,603,6.4901,34.513,2,34.5127,2,68.5,2,69.3,2,41.49,2,39.11,2,0,2,2.66,2,-999,9,-999,9,-999,9,-999,9,6.492,2,-999,9,-999,20131122,842,-14.9836,-112.75,4243,8553,2638,34.6755,2,6.492,2
325020131025,       GT13,18,11,9,      NIS-9,2,      9,2,20131122,823,-14.9836,-112.75,603.4,6.487,34.5128,2,34.5123,2,68.5,2,69.5,2,41.49,2,39.06,2,0,2,2.66,2,-999,9,-999,9,-999,9,-999,9,6.488,2,-999,9,-999,20131122,843,-14.9836,-112.75,4243,8555,2638,34.6751,2,6.488,2
325020131025,       GT13,18,11,10,     NIS-10,2,     10,2,20131122,823,-14.9836,-112.75,603.6,6.4848,34.5128,2,34.5127,2,68.5,2,69.4,2,41.49,2,39.16,2,0,2,2.67,2,-999,9,-999,9,-999,9,-999,9,6.4844,2,-999,9,-999,20131122,843,-14.9836,-112.75,4243,8556,2638,34.6755,2,6.4844,2
325020131025,       GT13,18,11,6,      NIS-6,2,      6,2,20131122,823,-14.9836,-112.75,1006.9,4.3591,34.5244,2,34.5241,2,80.6,2,80.1,2,77.8,2,41.23,2,0,2,2.91,2,-999,9,-999,9,-999,9,-999,9,4.3573,2,-999,9,-999,20131122,834,-14.9836,-112.75,4243,8552,2638,34.6869,2,4.3573,2
325020131025,       GT13,18,11,5,      NIS-5,2,      5,2,20131122,823,-14.9836,-112.75,1006.9,4.3587,34.5245,2,34.5247,2,81.1,2,80.1,2,77.7,2,41.24,2,0,2,2.91,2,-999,9,-999,9,-999,9,-999,9,4.3591,2,-999,9,-999,20131122,834,-14.9836,-112.75,4243,8551,2638,34.6875,2,4.3591,2
325020131025,       GT13,18,11,3,      NIS-3,2,      3,2,20131122,823,-14.9836,-112.75,1208.6,3.6477,34.5552,2,34.5553,2,83.8,2,83.8,2,96.35,2,41.21,2,0,2,2.96,2,-999,9,-999,9,-999,9,-999,9,3.6469,2,-999,9,-999,20131122,829,-14.9836,-112.75,4243,8549,2638,34.7182,2,3.6469,2
325020131025,       GT13,18,11,4,      NIS-4,2,      4,2,20131122,823,-14.9836,-112.75,1208.8,3.6471,34.5553,2,34.5551,2,83.8,2,84.4,2,96.05,2,41.18,2,0,2,2.96,2,-999,9,-999,9,-999,9,-999,9,3.6474,2,-999,9,-999,20131122,830,-14.9836,-112.75,4243,8550,2638,34.718,2,3.6474,2
325020131025,       GT13,18,11,2,     NIS-22,2,      2,2,20131122,823,-14.9836,-112.75,1410.8,3.1446,34.5815,2,34.5816,2,93,2,93.6,2,108.94,2,40.39,2,0,2,2.92,2,-999,9,-999,9,-999,9,-999,9,3.1442,2,-999,9,-999,20131122,825,-14.9835,-112.75,4243,8548,2638,34.7446,2,3.1442,2
325020131025,       GT13,18,11,1,      NIS-1,2,      1,2,20131122,823,-14.9836,-112.75,1410.9,3.1444,34.5815,2,34.5816,2,93.1,2,93.5,2,109.13,2,40.3,2,0,2,2.92,2,-999,9,-999,9,-999,9,-999,9,3.1441,2,-999,9,-999,20131122,825,-14.9836,-112.75,4243,8547,2638,34.7446,2,3.1441,2
325020131025,       GT13,18,13,12,     NIS-12,2,     12,2,20131122,1801,-14.9836,-112.75,20,24.3029,35.8,2,35.7988,2,212.3,2,212.7,2,1.85,2,4.84,2,0.08,2,0.48,2,-999,9,-999,9,-999,9,-999,9,24.3035,2,-999,9,-999,20131122,1819,-14.9836,-112.75,4245,8580,2645,35.9676,2,24.3035,2
325020131025,       GT13,18,13,11,     NIS-11,2,     11,2,20131122,1801,-14.9836,-112.75,20.3,24.3031,35.8,2,35.7996,2,212.3,2,213.8,2,1.85,2,4.19,2,0.08,2,0.48,2,-999,9,-999,9,-999,9,-999,9,24.3034,2,-999,9,-999,20131122,1819,-14.9836,-112.75,4245,8579,2645,35.9684,2,24.3034,2
325020131025,       GT13,18,13,9,      NIS-9,2,      9,2,20131122,1801,-14.9836,-112.75,60.3,23.8654,36.1819,2,36.1652,2,216.6,2,215,2,0.97,2,1.24,2,0.03,2,0.31,2,-999,9,-999,9,-999,9,-999,9,23.7903,3,-999,9,-999,20131122,1816,-14.9836,-112.75,4245,8577,2645,36.3357,2,23.7903,3
325020131025,       GT13,18,13,10,     NIS-10,2,     10,2,20131122,1801,-14.9836,-112.75,60.6,23.8499,36.1822,2,36.1699,2,216.3,2,215.1,2,1.07,2,1.24,2,0.03,2,0.32,2,-999,9,-999,9,-999,9,-999,9,23.83,3,-999,9,-999,20131122,1817,-14.9836,-112.7501,4245,8578,2645,36.3405,2,23.83,3
325020131025,       GT13,18,13,8,      NIS-8,2,      8,2,20131122,1801,-14.9836,-112.75,95.2,22.6335,36.2015,2,36.2167,2,210.3,2,211.1,2,1.07,2,0.29,2,0.07,2,0.32,2,-999,9,-999,9,-999,9,-999,9,22.6529,3,-999,9,-999,20131122,1814,-14.9836,-112.75,4245,8576,2645,36.3875,2,22.6529,3
325020131025,       GT13,18,13,7,      NIS-7,2,      7,2,20131122,1801,-14.9836,-112.75,95.5,22.6854,36.2154,2,36.2141,2,210.2,2,211,2,1.07,2,0.29,2,0.07,2,0.32,2,-999,9,-999,9,-999,9,-999,9,22.6721,2,-999,9,-999,20131122,1814,-14.9836,-112.75,4245,8575,2645,36.3849,2,22.6721,2
325020131025,       GT13,18,13,6,      NIS-6,2,      6,2,20131122,1801,-14.9836,-112.75,150.4,21.8868,36.1418,2,36.1353,2,202.5,2,203.1,2,0.78,2,0.23,2,0.72,2,0.31,2,-999,9,-999,9,-999,9,-999,9,21.8826,2,-999,9,-999,20131122,1811,-14.9835,-112.75,4245,8574,2645,36.3057,2,21.8826,2
325020131025,       GT13,18,13,5,      NIS-5,2,      5,2,20131122,1801,-14.9836,-112.75,150.9,21.8637,36.1394,2,36.132,2,202.7,2,202.7,2,0.78,2,0.21,2,0.73,2,0.31,2,-999,9,-999,9,-999,9,-999,9,21.8671,2,-999,9,-999,20131122,1811,-14.9835,-112.75,4245,8573,2645,36.3024,2,21.8671,2
325020131025,       GT13,18,13,4,      NIS-4,2,      4,2,20131122,1801,-14.9836,-112.75,200.9,18.8411,35.5246,2,35.5348,2,194.2,2,194.1,2,0.98,2,3.76,2,0.02,2,0.46,2,-999,9,-999,9,-999,9,-999,9,18.8408,2,-999,9,-999,20131122,1809,-14.9836,-112.75,4245,8572,2645,35.7023,2,18.8408,2
325020131025,       GT13,18,13,3,      NIS-3,2,      3,2,20131122,1801,-14.9836,-112.75,201,18.838,35.524,2,35.5324,2,194.2,2,193.9,2,0.98,2,3.75,2,0.02,2,0.46,2,-999,9,-999,9,-999,9,-999,9,18.8352,2,-999,9,-999,20131122,1808,-14.9836,-112.75,4245,8571,2645,35.7,2,18.8352,2
325020131025,       GT13,18,13,1,      NIS-1,2,      1,2,20131122,1801,-14.9836,-112.75,356.9,10.4902,34.6476,2,34.6466,2,15.8,2,15.5,2,24.99,2,29.61,2,0,2,2.58,2,-999,9,-999,9,-999,9,-999,9,10.4904,2,-999,9,-999,20131122,1804,-14.9835,-112.7501,4245,8569,2645,34.81,2,10.4904,2
325020131025,       GT13,18,13,2,     NIS-22,2,      2,2,20131122,1801,-14.9836,-112.75,357.8,10.4792,34.6478,2,34.6462,2,15.4,2,15.1,2,24.89,2,29.49,2,0,2,2.6,2,-999,9,-999,9,-999,9,-999,9,10.49,2,-999,9,-999,20131122,1804,-14.9836,-112.75,4245,8570,2645,34.8096,2,10.49,2
325020131025,       GT13,18,17,12,     NIS-12,2,     12,2,20131123,57,-14.9836,-112.75,2374.4,1.8674,34.6675,2,34.6672,2,152.7,2,152.6,2,127.38,2,35.33,2,0,2,2.53,2,0.015898,4,0.080211831,4,0.014927,4,0.2134,4,1.8671,2,-222.9,2,2.5,20131123,125,-14.9836,-112.75,4250,8624,2644,34.8307,2,1.8671,2
325020131025,       GT13,18,17,11,     NIS-11,2,     11,2,20131123,57,-14.9836,-112.75,2400.6,1.8536,34.6705,2,34.6699,2,153.1,2,153,2,128.35,2,35.24,2,0,2,2.53,2,0.01111,2,0.010722943,2,0,2,0,2,1.8541,2,-222,2,2.5,20131123,122,-14.9836,-112.75,4250,8623,2644,34.8334,2,1.8541,2
325020131025,       GT13,18,17,10,     NIS-10,2,     10,2,20131123,57,-14.9836,-112.75,2425.9,1.8472,34.672,2,34.6719,2,153.1,2,152.8,2,129.23,2,35.26,2,0,2,2.53,2,0.005216,2,0.002063301,2,0.003311,2,0,2,1.847,2,-999,9,-999,20131123,120,-14.9836,-112.75,4250,8622,2644,34.8354,2,1.847,2
325020131025,       GT13,18,17,9,      NIS-9,2,      9,2,20131123,57,-14.9836,-112.75,2451.1,1.8476,34.6731,2,34.6723,2,153,2,152.7,2,129.82,2,35.27,2,0,2,2.54,2,0.009943,2,0.005030802,2,0.005751,2,0,2,1.8478,2,-227.3,2,2.5,20131123,118,-14.9836,-112.7501,4250,8621,2644,34.8358,2,1.8478,2
325020131025,       GT13,18,17,8,      NIS-8,2,      8,2,20131123,57,-14.9836,-112.75,2475.9,1.8448,34.6744,2,34.6735,2,153.6,2,153.3,2,130.31,2,35.18,2,0,2,2.53,2,0.006502,2,0.003550564,2,0.002706,2,0,2,1.8447,2,-217.8,2,2.5,20131123,116,-14.9836,-112.75,4250,8620,2644,34.837,2,1.8447,2
325020131025,       GT13,18,17,7,      NIS-7,2,      7,2,20131123,57,-14.9836,-112.75,2500.2,1.8399,34.6755,2,34.6747,2,152.3,2,151.8,2,131.77,2,35.3,2,0,2,2.55,2,0.007009,2,0.003867686,2,0.005148,2,0,2,1.8398,2,-222,2,2.5,20131123,115,-14.9836,-112.75,4250,8619,2644,34.8382,2,1.8398,2
325020131025,       GT13,18,17,6,      NIS-6,2,      6,2,20131123,57,-14.9836,-112.75,2526,1.8394,34.6758,2,34.6745,2,151.7,2,151.5,2,132.16,2,35.34,2,0,2,2.56,2,0.003895,2,0.001805388,2,0.001965,2,0,2,1.8391,2,-219.9,2,2.5,20131123,112,-14.9836,-112.75,4250,8618,2644,34.838,2,1.8391,2
325020131025,       GT13,18,17,5,      NIS-5,2,      5,2,20131123,57,-14.9836,-112.75,2552.3,1.8393,34.6762,2,34.6752,2,151.4,2,151.7,2,132.26,2,35.37,2,0,2,2.56,2,0.004108,2,0.000328161,2,0.005857,2,0,2,1.8392,2,-221.1,2,2.5,20131123,108,-14.9836,-112.75,4250,8617,2644,34.8388,2,1.8392,2
325020131025,       GT13,18,17,4,      NIS-4,2,      4,2,20131123,57,-14.9836,-112.75,2577.3,1.837,34.6762,2,34.675,2,151.9,2,151.7,2,132.26,2,35.31,2,0,2,2.57,2,0.006234,2,0.002725645,2,0.007635,2,0,2,1.8368,2,-221.2,2,2.5,20131123,106,-14.9836,-112.75,4250,8616,2644,34.8386,2,1.8368,2
325020131025,       GT13,18,17,3,      NIS-3,2,      3,2,20131123,57,-14.9836,-112.75,2604.2,1.8373,34.6761,2,34.6752,2,152.2,2,152.3,2,132.45,2,35.29,2,0,2,2.57,2,0.007763,2,0.00413162,2,0.015312,2,0,2,1.8372,2,-218.7,2,2.5,20131123,103,-14.9836,-112.75,4250,8615,2644,34.8388,2,1.8372,2
325020131025,       GT13,18,17,2,     NIS-22,2,      2,2,20131123,57,-14.9836,-112.75,2639.6,1.8375,34.6761,2,34.6752,2,153.1,2,152.7,2,132.06,2,35.28,2,0,2,2.57,2,0.003859,2,0.000413463,2,0.002408,2,0,2,1.8372,2,-225.8,2,2.5,20131123,101,-14.9836,-112.75,4250,8614,2644,34.8388,2,1.8372,2
325020131025,       GT13,18,17,1,      NIS-1,2,      1,2,20131123,57,-14.9836,-112.75,2653.1,1.8283,34.6761,2,34.6751,2,153.5,2,153.7,2,131.67,2,35.22,2,0,2,2.57,2,0.011085,2,0.003410067,2,0.027021,2,0,2,1.828,2,-222.8,2,2.5,20131123,59,-14.9836,-112.75,4250,8613,2644,34.8386,2,1.828,2
325020131025,       GT13,18,17,14,  WAX_CORER,2,    14,2,20131123,57,-14.9836,-112.75,2667.7,-999,-999,2,-999,9,-999,9,-999,9,-999,9,-999,9,-999,9,-999,9,-999,9,-999,9,-999,9,-999,9,-999,9,-999,9,-999,20131123,57,-14.9836,-112.75,4250,8612,2644,-999,9,-999,9
325020131025,       GT13,18,25,25,       FISH,2,    25,2,20131121,1411,-14.9136,-112.7786,3.4,24.2941,35.8256,2,35.7972,2,-999,9,-999,9,1.76,2,4.08,2,0.08,2,0.43,2,-999,9,-999,9,-999,9,-999,9,-999,9,-999,9,-999,20131121,1351,-14.9496,-112.7568,4237,8478,2972,35.966,2,-999,9
325020131025,       GT13,19,1,12,     NIS-12,2,     12,2,20131123,1820,-14.9807,-113.0417,1006.2,4.3386,34.5257,2,34.5252,2,73.2,2,73.6,2,78.68,2,41.74,2,0,2,2.95,2,-999,9,-999,9,-999,9,-999,9,4.3405,2,-999,9,-999,20131123,1901,-14.9807,-113.0417,4253,8664,2145,34.688,2,4.3405,2
325020131025,       GT13,19,1,11,     NIS-11,2,     11,2,20131123,1820,-14.9807,-113.0417,1258.5,3.5209,34.5615,2,34.5607,2,83.8,2,83.5,2,99.37,2,40.98,2,0,2,2.96,2,-999,9,-999,9,-999,9,-999,9,3.5209,2,-999,9,-999,20131123,1855,-14.9807,-113.0417,4253,8663,2145,34.7236,2,3.5209,2
325020131025,       GT13,19,1,10,     NIS-10,2,     10,2,20131123,1820,-14.9807,-113.0417,1512.1,2.8947,34.5961,2,34.5962,2,100.4,2,100.4,2,114.4,2,39.59,2,0,2,2.87,2,-999,9,-999,9,-999,9,-999,9,2.8933,2,-999,9,-999,20131123,1849,-14.9807,-113.0417,4253,8662,2145,34.7593,2,2.8933,2
325020131025,       GT13,19,1,9,      NIS-9,2,      9,2,20131123,1820,-14.9807,-113.0417,1614,2.7406,34.6058,2,34.6056,2,105.1,2,105,2,117.82,2,39.17,2,0,2,2.85,2,-999,9,-999,9,-999,9,-999,9,2.7413,2,-999,9,-999,20131123,1847,-14.9807,-113.0417,4253,8661,2145,34.7688,2,2.7413,2
325020131025,       GT13,19,1,8,      NIS-8,2,      8,2,20131123,1820,-14.9807,-113.0417,1717.6,2.5426,34.6183,2,34.6185,2,111.8,2,112,2,122.01,2,38.67,2,0,2,2.8,2,-999,9,-999,9,-999,9,-999,9,2.5426,2,-999,9,-999,20131123,1844,-14.9807,-113.0417,4253,8660,2145,34.7818,2,2.5426,2
325020131025,       GT13,19,1,7,      NIS-7,2,      7,2,20131123,1820,-14.9807,-113.0417,1817.8,2.3602,34.6302,2,34.6303,2,118.5,2,118.9,2,125.14,2,38.08,2,0,2,2.76,2,-999,9,-999,9,-999,9,-999,9,2.3605,2,-999,9,-999,20131123,1841,-14.9807,-113.0417,4253,8659,2145,34.7936,2,2.3605,2
325020131025,       GT13,19,1,6,      NIS-6,2,      6,2,20131123,1820,-14.9807,-113.0417,1920,2.295,34.6348,2,34.6348,2,121.4,2,122,2,126.21,2,37.78,2,0,2,2.74,2,-999,9,-999,9,-999,9,-999,9,2.2945,2,-999,9,-999,20131123,1837,-14.9807,-113.0417,4253,8658,2145,34.7981,2,2.2945,2
325020131025,       GT13,19,1,5,      NIS-5,2,      5,2,20131123,1820,-14.9807,-113.0417,2020.7,2.2577,34.6378,2,34.6374,2,124.4,2,125,2,126.6,2,37.59,2,0,2,2.73,2,-999,9,-999,9,-999,9,-999,9,2.2575,2,-999,9,-999,20131123,1833,-14.9807,-113.0417,4253,8657,2145,34.8007,2,2.2575,2
325020131025,       GT13,19,1,4,      NIS-4,2,      4,2,20131123,1820,-14.9807,-113.0417,2070.3,2.2558,34.6381,2,34.6379,2,124.9,2,125.2,2,126.8,2,37.6,2,0,2,2.72,2,-999,9,-999,9,-999,9,-999,9,2.2554,2,-999,9,-999,20131123,1830,-14.9807,-113.0417,4253,8656,2145,34.8013,2,2.2554,2
325020131025,       GT13,19,1,3,      NIS-3,2,      3,2,20131123,1820,-14.9807,-113.0417,2121.1,2.255,34.6385,2,34.6391,2,125.3,2,125.6,2,126.7,2,37.62,2,0,2,2.72,2,-999,9,-999,9,-999,9,-999,9,2.2548,2,-999,9,-999,20131123,1827,-14.9807,-113.0417,4253,8655,2145,34.8025,2,2.2548,2
325020131025,       GT13,19,1,2,     NIS-22,2,      2,2,20131123,1820,-14.9807,-113.0417,2171.2,2.2564,34.6388,2,34.6385,2,125.8,2,125.6,2,127.28,2,37.64,2,0,2,2.72,2,-999,9,-999,9,-999,9,-999,9,2.2561,2,-999,9,-999,20131123,1823,-14.9807,-113.0417,4253,8654,2145,34.8019,2,2.2561,2
325020131025,       GT13,19,1,1,      NIS-1,2,      1,2,20131123,1820,-14.9807,-113.0417,2226.3,2.2578,34.6389,2,34.6385,2,126,2,125.9,2,127.97,2,37.71,2,0,2,2.72,2,-999,9,-999,9,-999,9,-999,9,2.2575,2,-999,9,-999,20131123,1820,-14.9807,-113.0417,4253,8653,2145,34.8019,2,2.2575,2