BOTTLE,20161222CCHSIORJL
EXPOCODE,SECT_ID,STNNBR,CASTNO,SAMPNO,BTLNBR,BTLNBR_FLAG_W,BTLNBR_U,BTLNBR_U_FLAG_W,DATE,TIME,LATITUDE,LONGITUDE,CTDPRS,CTDTMP,CTDSAL,CTDSAL_FLAG_W,SALNTY,SALNTY_FLAG_W,CTDOXY,CTDOXY_FLAG_W,OXYGEN,OXYGEN_FLAG_W,SILCAT,SILCAT_FLAG_W,NITRAT,NITRAT_FLAG_W,NITRIT,NITRIT_FLAG_W,PHSPHT,PHSPHT_FLAG_W,CFC-11,CFC-11_FLAG_W,CFC-12,CFC-12_FLAG_W,CFC113,CFC113_FLAG_W,SF6,SF6_FLAG_W,REFTMP,REFTMP_FLAG_W,DELC14,DELC14_FLAG_W,C14ERR,BTL_DATE,BTL_TIME,BTL_LAT,BTL_LON,GEOTR_EVENT,GEOTR_SAMPNO,DEPTH,SALTREF,SALTREF_FLAG_W,SBE35,SBE35_FLAG_W
,,,,,,,,,,,,,DBAR,ITS-90,PSS-78,,PSS-78,,UMOL/KG,,UMOL/KG,,UMOL/KG,,UMOL/KG,,UMOL/KG,,UMOL/KG,,PMOL/KG,,PMOL/KG,,PMOL/KG,,FMOL/KG,,DEG C,,/MILLE,,/MILLE,,,,,,,METERS,G/KG,,ITS-90,
325020131025,       GT13,36,11,11,     NIS-11,2,     11,2,20131217,1435,-10.5003,-152.0006,602.8,6.7707,34.5498,2,34.5501,2,95.6,2,96.3,2,42.37,2,35.36,2,0,2,2.4,2,-999,9,-999,9,-999,9,-999,9,6.7724,2,-999,9,-999,20131217,1510,-10.5003,-152.0006,4470,10414,5147,34.713,2,6.7724,2
325020131025,       GT13,36,11,12,     NIS-12,2,     12,2,20131217,1435,-10.5003,-152.0006,603.4,6.7819,34.5501,2,34.5495,2,95.5,2,95.8,2,42.37,2,35.41,2,0,2,2.4,2,-999,9,-999,9,-999,9,-999,9,6.7825,2,-999,9,-999,20131217,1510,-10.5003,-152.0006,4470,10415,5147,34.7124,2,6.7825,2
325020131025,       GT13,36,11,10,     NIS-10,2,     10,2,20131217,1435,-10.5003,-152.0006,1005.5,4.606,34.524,2,34.5246,2,106.5,2,107.1,2,72.24,2,37.78,2,0,2,2.62,2,-999,9,-999,9,-999,9,-999,9,4.6057,2,-999,9,-999,20131217,1502,-10.5003,-152.0006,4470,10413,5147,34.6874,2,4.6057,2
325020131025,       GT13,36,11,9,      NIS-9,2,      9,2,20131217,1435,-10.5003,-152.0006,1006.8,4.6053,34.5239,2,34.5236,2,106.5,2,106.8,2,72.43,2,37.81,2,0,2,2.62,2,-999,9,-999,9,-999,9,-999,9,4.6057,2,-999,9,-999,20131217,1501,-10.5003,-152.0006,4470,10412,5147,34.6864,2,4.6057,2
325020131025,       GT13,36,11,7,      NIS-7,2,      7,2,20131217,1435,-10.5003,-152.0006,1259.3,3.4992,34.5603,2,34.5603,2,118.2,2,119,2,95.57,2,37.5,2,0,2,2.64,2,-999,9,-999,9,-999,9,-999,9,3.4923,2,-999,9,-999,20131217,1455,-10.5003,-152.0006,4470,10410,5147,34.7232,2,3.4923,2
325020131025,       GT13,36,11,8,      NIS-8,2,      8,2,20131217,1435,-10.5003,-152.0006,1259.9,3.496,34.5608,2,34.5597,2,118.2,2,118.9,2,95.47,2,37.46,2,0,2,2.63,2,-999,9,-999,9,-999,9,-999,9,3.4977,2,-999,9,-999,20131217,1456,-10.5003,-152.0006,4470,10411,5147,34.7227,2,3.4977,2
325020131025,       GT13,36,11,6,      NIS-6,2,      6,2,20131217,1435,-10.5003,-152.0006,1512.5,2.8832,34.592,2,34.5899,2,127.1,2,127.2,2,109.82,2,37.05,2,0,2,2.62,2,-999,9,-999,9,-999,9,-999,9,2.8809,2,-999,9,-999,20131217,1450,-10.5003,-152.0006,4470,10409,5147,34.753,2,2.8809,2
325020131025,       GT13,36,11,5,      NIS-5,2,      5,2,20131217,1435,-10.5003,-152.0006,1512.8,2.8819,34.592,2,34.5913,2,127.1,2,127.1,2,109.91,2,37.08,2,0,2,2.62,2,-999,9,-999,9,-999,9,-999,9,2.8827,2,-999,9,-999,20131217,1450,-10.5003,-152.0006,4470,10408,5147,34.7544,2,2.8827,2
325020131025,       GT13,36,11,3,      NIS-3,2,      3,2,20131217,1435,-10.5003,-152.0006,1764.6,2.4338,34.618,2,34.6176,2,137.5,2,137.3,2,118.5,2,36.47,2,0,2,2.58,2,-999,9,-999,9,-999,9,-999,9,2.4337,2,-999,9,-999,20131217,1444,-10.5003,-152.0006,4470,10406,5147,34.7808,2,2.4337,2
325020131025,       GT13,36,11,4,      NIS-4,2,      4,2,20131217,1435,-10.5003,-152.0006,1765,2.4339,34.618,2,34.6178,2,137.5,2,137.3,2,118.5,2,36.47,2,0,2,2.58,2,-999,9,-999,9,-999,9,-999,9,2.4336,2,-999,9,-999,20131217,1444,-10.5003,-152.0006,4470,10407,5147,34.781,2,2.4336,2
325020131025,       GT13,36,11,2,     NIS-22,2,      2,2,20131217,1435,-10.5003,-152.0006,2121,2.0681,34.6469,2,34.6464,2,141.8,2,142.1,2,129.72,2,36.28,2,0,2,2.57,2,-999,9,-999,9,-999,9,-999,9,2.068,2,-999,9,-999,20131217,1437,-10.5003,-152.0006,4470,10405,5147,34.8098,2,2.068,2
325020131025,       GT13,36,11,1,      NIS-1,2,      1,2,20131217,1435,-10.5003,-152.0006,2121.5,2.0682,34.6469,2,34.6466,2,141.8,2,141.3,2,129.53,2,36.3,2,0,2,2.58,2,-999,9,-999,9,-999,9,-999,9,2.0682,2,-999,9,-999,20131217,1437,-10.5003,-152.0006,4470,10404,5147,34.81,2,2.0682,2
325020131025,       GT13,36,13,11,     NIS-11,2,     11,2,20131217,2331,-10.5003,-152.0006,29.7,29.1949,35.2862,2,35.2847,2,197.2,2,197.6,2,1.07,2,0.59,2,0.02,2,0.23,2,-999,9,-999,9,-999,9,-999,9,29.1957,2,-999,9,-999,20131217,2346,-10.5003,-152.0006,4472,10434,5139,35.4511,2,29.1957,2
325020131025,       GT13,36,13,12,     NIS-12,2,     12,2,20131217,2331,-10.5003,-152.0006,30,29.1951,35.2864,2,35.2851,2,197.1,2,196.9,2,1.17,2,0.6,2,0.02,2,0.24,2,-999,9,-999,9,-999,9,-999,9,29.1952,2,-999,9,-999,20131217,2346,-10.5003,-152.0006,4472,10435,5139,35.4515,2,29.1952,2
325020131025,       GT13,36,13,9,      NIS-9,2,      9,2,20131217,2331,-10.5003,-152.0006,44.5,29.1857,35.2853,2,35.2851,2,196.8,2,196.6,2,0.98,2,0.57,2,0.02,2,0.22,2,-999,9,-999,9,-999,9,-999,9,29.1865,2,-999,9,-999,20131217,2345,-10.5003,-152.0006,4472,10432,5139,35.4515,2,29.1865,2
325020131025,       GT13,36,13,10,     NIS-10,2,     10,2,20131217,2331,-10.5003,-152.0006,44.8,29.187,35.2852,2,35.2857,2,197.1,2,196.7,2,1.07,2,0.59,2,0.02,2,0.22,2,-999,9,-999,9,-999,9,-999,9,29.1867,2,-999,9,-999,20131217,2345,-10.5003,-152.0006,4472,10433,5139,35.4521,2,29.1867,2
325020131025,       GT13,36,13,8,      NIS-8,2,      8,2,20131217,2331,-10.5003,-152.0006,74.6,28.1158,35.6926,2,35.6514,2,186.1,2,187.1,2,1.27,2,1.1,2,0.2,2,0.32,2,-999,9,-999,9,-999,9,-999,9,28.1385,2,-999,9,-999,20131217,2343,-10.5003,-152.0006,4472,10431,5139,35.8195,2,28.1385,2
325020131025,       GT13,36,13,7,      NIS-7,2,      7,2,20131217,2331,-10.5003,-152.0006,75,28.1163,35.6926,2,35.6531,2,186.5,2,186.9,2,1.37,2,1.1,2,0.2,2,0.31,2,-999,9,-999,9,-999,9,-999,9,28.1951,3,-999,9,-999,20131217,2343,-10.5003,-152.0006,4472,10430,5139,35.8212,2,28.1951,3
325020131025,       GT13,36,13,6,      NIS-6,2,      6,2,20131217,2331,-10.5003,-152.0006,130,24.0101,36.2422,2,36.2459,2,160.7,2,162.2,2,1.17,2,4.59,2,0.52,2,0.54,2,-999,9,-999,9,-999,9,-999,9,23.992,3,-999,9,-999,20131217,2341,-10.5003,-152.0006,4472,10429,5139,36.4168,2,23.992,3
325020131025,       GT13,36,13,5,      NIS-5,2,      5,2,20131217,2331,-10.5003,-152.0006,131.3,23.8866,36.2212,2,36.236,2,161.5,2,165.7,2,1.27,2,4.9,2,0.43,2,0.56,2,-999,9,-999,9,-999,9,-999,9,23.9315,3,-999,9,-999,20131217,2341,-10.5003,-152.0006,4472,10428,5139,36.4069,2,23.9315,3
325020131025,       GT13,36,13,4,      NIS-4,2,      4,2,20131217,2331,-10.5003,-152.0006,300.3,12.7351,34.8355,2,34.834,2,86.2,2,86.1,2,13.18,2,21.74,2,0,2,1.75,2,-999,9,-999,9,-999,9,-999,9,12.7332,2,-999,9,-999,20131217,2337,-10.5003,-152.0006,4472,10427,5139,34.9983,2,12.7332,2
325020131025,       GT13,36,13,3,      NIS-3,2,      3,2,20131217,2331,-10.5003,-152.0006,300.4,12.728,34.8351,2,34.8342,2,86,2,86.1,2,13.27,2,21.73,2,0,2,1.74,2,-999,9,-999,9,-999,9,-999,9,12.7244,2,-999,9,-999,20131217,2337,-10.5003,-152.0006,4472,10426,5139,34.9985,2,12.7244,2
325020131025,       GT13,36,13,1,      NIS-1,2,      1,2,20131217,2331,-10.5003,-152.0006,452.2,8.4926,34.6299,2,34.6287,2,92.6,2,93,2,30.06,2,31.76,2,0,2,2.16,2,-999,9,-999,9,-999,9,-999,9,8.493,2,-999,9,-999,20131217,2332,-10.5003,-152.0006,4472,10424,5139,34.792,2,8.493,2
325020131025,       GT13,36,13,2,     NIS-22,2,      2,2,20131217,2331,-10.5003,-152.0006,452.4,8.5003,34.6302,2,34.6291,2,92.5,2,92.8,2,29.77,2,31.71,2,0,2,2.17,2,-999,9,-999,9,-999,9,-999,9,8.4933,2,-999,9,-999,20131217,2333,-10.5003,-152.0006,4472,10425,5139,34.7924,2,8.4933,2
325020131025,       GT13,36,15,12,     NIS-12,2,     12,2,20131218,345,-10.5003,-152.0006,2730.2,1.7895,34.6719,2,34.6703,2,147.9,2,147.8,2,135.38,2,35.81,2,0,2,2.56,2,0.003754753,2,0.0014286,2,-99,5,0,2,1.7897,2,-999,9,-999,20131218,449,-10.5003,-152.0006,4474,10454,5147,34.8338,2,1.7897,2
325020131025,       GT13,36,15,11,     NIS-11,2,     11,2,20131218,345,-10.5003,-152.0006,2832.2,1.7616,34.6742,2,34.6727,2,148.4,2,148.2,2,136.55,2,35.71,2,0,2,2.56,2,0.007156166,2,0.001690996,2,-99,5,0,2,1.7619,2,-228.4,2,2.5,20131218,446,-10.5003,-152.0006,4474,10453,5147,34.8362,2,1.7619,2
325020131025,       GT13,36,15,10,     NIS-10,2,     10,2,20131218,345,-10.5003,-152.0006,2933,1.7287,34.6766,2,34.6739,2,150.5,2,151.4,2,136.55,2,35.47,2,0,2,2.55,2,0.00605146,2,0.00242088,2,-99,5,0,2,1.7294,2,-999,9,-999,20131218,443,-10.5003,-152.0006,4474,10452,5147,34.8374,2,1.7294,2
325020131025,       GT13,36,15,9,      NIS-9,2,      9,2,20131218,345,-10.5003,-152.0006,3034.9,1.7037,34.6782,2,34.6766,2,152.3,2,151.7,2,137.63,2,35.49,2,0,2,2.55,2,0.004136152,2,0.001316001,2,-99,5,0,2,1.7039,2,-229.1,2,2.5,20131218,440,-10.5003,-152.0006,4474,10451,5147,34.8401,2,1.7039,2
325020131025,       GT13,36,15,8,      NIS-8,2,      8,2,20131218,345,-10.5003,-152.0006,3289.5,1.628,34.6829,2,34.6811,2,158.7,2,158,2,136.94,2,35.18,2,0,2,2.51,2,0.006184482,2,0.002679254,2,-99,5,0,2,1.6282,2,-999,9,-999,20131218,435,-10.5003,-152.0005,4474,10450,5147,34.8447,2,1.6282,2
325020131025,       GT13,36,15,7,      NIS-7,2,      7,2,20131218,345,-10.5003,-152.0006,3545.4,1.5536,34.6872,2,34.686,2,165.4,2,165.3,2,135.28,2,34.66,2,0,2,2.48,2,0.004596533,2,0.001537178,2,-99,5,0,2,1.555,2,-217.4,2,2.5,20131218,429,-10.5003,-152.0006,4474,10449,5147,34.8496,2,1.555,2
325020131025,       GT13,36,15,6,      NIS-6,2,      6,2,20131218,345,-10.5003,-152.0006,4055.8,1.4115,34.6961,2,34.6949,2,177.2,2,176.6,2,132.45,2,33.9,2,0,2,2.42,2,0.006358035,2,0.002498291,2,-99,5,0,2,1.4119,2,-999,9,-999,20131218,418,-10.5003,-152.0006,4474,10448,5147,34.8585,2,1.4119,2
325020131025,       GT13,36,15,5,      NIS-5,2,      5,2,20131218,345,-10.5003,-152.0006,4571,1.3325,34.7023,2,34.7011,2,187.7,2,187.9,2,128.45,2,33.09,2,0,2,2.36,2,0.008474955,2,0.003063297,2,-99,5,0,2,1.3329,2,-195,2,2.5,20131218,407,-10.5003,-152.0006,4474,10447,5147,34.8648,2,1.3329,2
325020131025,       GT13,36,15,4,      NIS-4,2,      4,2,20131218,345,-10.5003,-152.0006,4823.5,1.3118,34.7046,2,34.7029,2,192,2,192.3,2,126.2,2,32.73,2,0,2,2.33,2,0.011094864,2,0.004884989,2,-99,5,0,2,1.3119,2,-999,9,-999,20131218,400,-10.5003,-152.0006,4474,10446,5147,34.8665,2,1.3119,2
325020131025,       GT13,36,15,3,      NIS-3,2,      3,2,20131218,345,-10.5003,-152.0006,5083.8,1.3131,34.7057,2,34.7054,2,194.1,2,194.2,2,125.81,2,32.46,2,0,2,2.31,2,0.012011468,2,0.004982508,2,-99,5,0,2,1.313,2,-180,2,2.5,20131218,354,-10.5003,-152.0006,4474,10445,5147,34.8691,2,1.313,2
325020131025,       GT13,36,15,2,     NIS-22,2,      2,2,20131218,345,-10.5003,-152.0006,5186.5,1.32,34.706,2,34.7052,2,194.7,2,194.8,2,124.93,2,32.43,2,0,2,2.31,2,0.011689306,2,0.006036114,2,-99,5,0,2,1.3202,2,-999,9,-999,20131218,349,-10.5003,-152.0006,4474,10444,5147,34.8689,2,1.3202,2
325020131025,       GT13,36,15,1,      NIS-1,2,      1,2,20131218,345,-10.5003,-152.0006,5212.5,1.3212,34.7061,2,34.7052,2,194.6,2,194.9,2,124.93,2,32.5,2,0,2,2.31,2,0.013290766,2,0.007739174,2,-99,5,0,2,1.3213,2,-176.7,2,2.5,20131218,347,-10.5003,-152.0006,4474,10443,5147,34.8689,2,1.3213,2
325020131025,       GT13,36,15,13, NIOZ_CORER,2,    13,2,20131218,345,-10.5003,-152.0006,5225.5,-999,-999,2,-999,9,-999,9,-999,9,-999,9,-999,9,-999,9,-999,9,-999,9,-999,9,-999,9,-999,9,-999,9,-999,9,-999,20131218,345,-10.5003,-152.0006,4474,10442,5147,-999,9,-999,9
325020131025,       GT13,36,25,25,       FISH,2,    25,2,20131216,1901,-10.5184,-152.079,2.4,29.0327,35.1992,2,35.2751,2,-999,9,-999,9,1.56,2,0.52,2,0.02,2,0.22,2,-999,9,-999,9,-999,9,-999,9,-999,9,-999,9,-999,20131216,1842,-10.5101,-152.0385,4464,10339,5162,35.4414,2,-999,9
325020131025,       GT13,37,1,12,     NIS-12,9,     12,9,20131220,654,-17.5734,-148.8159,1338,3.0724,34.5555,2,-999,9,144,2,-999,9,-999,9,-999,9,-999,9,-999,9,-999,9,-999,9,-999,9,-999,9,-999,9,-999,9,-999,20131220,722,-17.5734,-148.8159,4476,-999,1486,-999,9,-999,9
325020131025,       GT13,37,1,11,     NIS-11,9,     11,9,20131220,654,-17.5734,-148.8159,1362.7,3.0311,34.559,2,-999,9,144.1,2,-999,9,-999,9,-999,9,-999,9,-999,9,-999,9,-999,9,-999,9,-999,9,-999,9,-999,9,-999,20131220,718,-17.5734,-148.8159,4476,-999,1486,-999,9,-999,9
325020131025,       GT13,37,1,10,     NIS-10,9,     10,9,20131220,654,-17.5734,-148.8159,1386.6,2.9575,34.5645,2,-999,9,144.5,2,-999,9,-999,9,-999,9,-999,9,-999,9,-999,9,-999,9,-999,9,-999,9,-999,9,-999,9,-999,20131220,716,-17.5734,-148.8159,4476,-999,1486,-999,9,-999,9
325020131025,       GT13,37,1,9,      NIS-9,9,      9,9,20131220,654,-17.5734,-148.8159,1401.2,2.9264,34.5682,2,-999,9,144.7,2,-999,9,-999,9,-999,9,-999,9,-999,9,-999,9,-999,9,-999,9,-999,9,-999,9,-999,9,-999,20131220,713,-17.5734,-148.8159,4476,-999,1486,-999,9,-999,9
325020131025,       GT13,37,1,8,      NIS-8,9,      8,9,20131220,654,-17.5734,-148.8159,1412.6,2.875,34.5739,2,-999,9,144.9,2,-999,9,-999,9,-999,9,-999,9,-999,9,-999,9,-999,9,-999,9,-999,9,-999,9,-999,9,-999,20131220,711,-17.5734,-148.8159,4476,-999,1486,-999,9,-999,9
325020131025,       GT13,37,1,7,      NIS-7,9,      7,9,20131220,654,-17.5734,-148.8159,1421.6,2.8483,34.5746,2,-999,9,145.1,2,-999,9,-999,9,-999,9,-999,9,-999,9,-999,9,-999,9,-999,9,-999,9,-999,9,-999,9,-999,20131220,710,-17.5734,-148.8159,4476,-999,1486,-999,9,-999,9
325020131025,       GT13,37,1,6,      NIS-6,9,      6,9,20131220,654,-17.5734,-148.8159,1438.2,2.8349,34.5756,2,-999,9,145.3,2,-999,9,-999,9,-999,9,-999,9,-999,9,-999,9,-999,9,-999,9,-999,9,-999,9,-999,9,-999,20131220,707,-17.5734,-148.8159,4476,-999,1486,-999,9,-999,9
325020131025,       GT13,37,1,5,      NIS-5,9,      5,9,20131220,654,-17.5734,-148.8159,1467.6,2.8029,34.5776,2,-999,9,145.5,2,-999,9,-999,9,-999,9,-999,9,-999,9,-999,9,-999,9,-999,9,-999,9,-999,9,-999,9,-999,20131220,704,-17.5734,-148.8159,4476,-999,1486,-999,9,-999,9
325020131025,       GT13,37,1,4,      NIS-4,9,      4,9,20131220,654,-17.5734,-148.8159,1472.4,2.7993,34.5777,2,-999,9,145.6,2,-999,9,-999,9,-999,9,-999,9,-999,9,-999,9,-999,9,-999,9,-999,9,-999,9,-999,9,-999,20131220,703,-17.5734,-148.8159,4476,-999,1486,-999,9,-999,9
325020131025,       GT13,37,1,3,      NIS-3,9,      3,9,20131220,654,-17.5734,-148.8159,1487,2.7143,34.5832,2,-999,9,146,2,-999,9,-999,9,-999,9,-999,9,-999,9,-999,9,-999,9,-999,9,-999,9,-999,9,-999,9,-999,20131220,701,-17.5734,-148.8159,4476,-999,1486,-999,9,-999,9
325020131025,       GT13,37,1,2,     NIS-22,9,      2,9,20131220,654,-17.5734,-148.8159,1512.2,2.6742,34.5871,2,-999,9,146,2,-999,9,-999,9,-999,9,-999,9,-999,9,-999,9,-999,9,-999,9,-999,9,-999,9,-999,9,-999,20131220,657,-17.5734,-148.8159,4476,-999,1486,-999,9,-999,9
325020131025,       GT13,37,1,1,      NIS-1,9,      1,9,20131220,654,-17.5734,-148.8159,1524.3,2.6741,34.5871,2,-999,9,145.9,2,-999,9,-999,9,-999,9,-999,9,-999,9,-999,9,-999,9,-999,9,-999,9,-999,9,-999,9,-999,20131220,655,-17.5734,-148.8159,4476,-999,1486,-999,9,-999,9