BOTTLE,20161222CCHSIORJL
EXPOCODE,SECT_ID,STNNBR,CASTNO,SAMPNO,BTLNBR,BTLNBR_FLAG_W,BTLNBR_U,BTLNBR_U_FLAG_W,DATE,TIME,LATITUDE,LONGITUDE,CTDPRS,CTDTMP,CTDSAL,CTDSAL_FLAG_W,SALNTY,SALNTY_FLAG_W,CTDOXY,CTDOXY_FLAG_W,OXYGEN,OXYGEN_FLAG_W,SILCAT,SILCAT_FLAG_W,NITRAT,NITRAT_FLAG_W,NITRIT,NITRIT_FLAG_W,PHSPHT,PHSPHT_FLAG_W,CFC-11,CFC-11_FLAG_W,CFC-12,CFC-12_FLAG_W,CFC113,CFC113_FLAG_W,SF6,SF6_FLAG_W,REFTMP,REFTMP_FLAG_W,DELC14,DELC14_FLAG_W,C14ERR,BTL_DATE,BTL_TIME,BTL_LAT,BTL_LON,GEOTR_EVENT,GEOTR_SAMPNO,DEPTH,SALTREF,SALTREF_FLAG_W,SBE35,SBE35_FLAG_W
,,,,,,,,,,,,,DBAR,ITS-90,PSS-78,,PSS-78,,UMOL/KG,,UMOL/KG,,UMOL/KG,,UMOL/KG,,UMOL/KG,,UMOL/KG,,PMOL/KG,,PMOL/KG,,PMOL/KG,,FMOL/KG,,DEG C,,/MILLE,,/MILLE,,,,,,,METERS,G/KG,,ITS-90,
325020131025,       GT13,30,11,12,     NIS-12,2,     12,2,20131209,2248,-11.5805,-136.981,2577.7,1.8208,34.6721,2,34.6715,2,145.7,2,145.9,2,136.75,2,36.22,2,0,2,2.56,2,0.002613861,2,0.002553682,2,-99,5,0,2,1.8223,2,-239.4,2,2.5,20131209,2329,-11.5804,-136.981,4399,9879,4100,34.835,2,1.8223,2
325020131025,       GT13,30,11,11,     NIS-11,2,     11,2,20131209,2248,-11.5805,-136.981,2628,1.8097,34.6731,2,34.6735,2,146.3,2,146.6,2,136.94,2,36.17,2,0,2,2.57,2,0.003225,2,0.00027509,2,-99,5,0,2,1.8099,2,-225.2,2,2.5,20131209,2327,-11.5805,-136.981,4399,9878,4100,34.837,2,1.8099,2
325020131025,       GT13,30,11,10,     NIS-10,2,     10,2,20131209,2248,-11.5805,-136.981,2677.4,1.7946,34.6739,2,34.6741,2,146.8,2,147.2,2,137.53,2,36.15,2,0,2,2.57,2,0,2,0.001437141,2,-99,5,0,2,1.7946,2,-229,2,2.5,20131209,2325,-11.5805,-136.981,4399,9877,4100,34.8376,2,1.7946,2
325020131025,       GT13,30,11,9,      NIS-9,2,      9,2,20131209,2248,-11.5805,-136.981,2730.2,1.7772,34.6752,2,34.6748,2,148.1,2,147.9,2,137.92,2,36.12,2,0,2,2.57,2,0.002032659,2,0.00064727,2,-99,5,0,2,1.777,2,-229.1,2,2.5,20131209,2323,-11.5805,-136.981,4399,9876,4100,34.8383,2,1.777,2
325020131025,       GT13,30,11,8,      NIS-8,2,      8,2,20131209,2248,-11.5805,-136.981,2830.9,1.7567,34.6765,2,34.6762,2,149.8,2,149.7,2,138.02,2,36.09,2,0,2,2.57,2,0.006164045,2,0,2,-99,5,0,2,1.7568,2,-229.6,2,2.5,20131209,2321,-11.5805,-136.981,4399,9875,4100,34.8397,2,1.7568,2
325020131025,       GT13,30,11,7,      NIS-7,2,      7,2,20131209,2248,-11.5805,-136.981,2932.4,1.724,34.6784,2,34.6786,2,151.6,2,151.7,2,138.11,2,35.94,2,0,2,2.56,2,0.006336444,2,0.0014513,2,-99,5,0,2,1.7243,2,-223.8,2,2.5,20131209,2318,-11.5804,-136.981,4399,9874,4100,34.8421,2,1.7243,2
325020131025,       GT13,30,11,6,      NIS-6,2,      6,2,20131209,2248,-11.5805,-136.981,3035.5,1.6816,34.6805,2,34.6807,2,154.1,2,154.2,2,138.11,2,35.79,2,0,2,2.56,2,0.009728682,2,0.000978996,2,-99,5,0,2,1.6815,2,-218.2,2,2.5,20131209,2316,-11.5805,-136.981,4399,9873,4100,34.8443,2,1.6815,2
325020131025,       GT13,30,11,5,      NIS-5,2,      5,2,20131209,2248,-11.5805,-136.981,3290.2,1.5974,34.6852,2,34.6856,2,159.7,2,159.7,2,138.31,2,35.44,2,0,2,2.53,2,0.005748016,2,0.001877083,2,-99,5,0,2,1.5972,2,-213.8,2,2.5,20131209,2310,-11.5804,-136.981,4399,9872,4100,34.8492,2,1.5972,2
325020131025,       GT13,30,11,4,      NIS-4,2,      4,2,20131209,2248,-11.5805,-136.981,3546.8,1.5545,34.688,2,34.6886,2,163.2,2,163,2,138.02,2,35.29,2,0,2,2.52,2,0.005613813,2,0.001546368,2,-99,5,0,2,1.5547,2,-216.1,2,2.5,20131209,2305,-11.5804,-136.981,4399,9871,4100,34.8521,2,1.5547,2
325020131025,       GT13,30,11,3,      NIS-3,2,      3,2,20131209,2248,-11.5805,-136.981,3800.9,1.517,34.6909,2,34.6917,2,167.7,2,168.4,2,135.87,2,34.92,2,0,2,2.5,2,0.003677161,2,0,2,-99,5,0,2,1.5168,2,-207.4,2,2.5,20131209,2300,-11.5805,-136.981,4399,9870,4100,34.8553,2,1.5168,2
325020131025,       GT13,30,11,2,     NIS-22,2,      2,2,20131209,2248,-11.5805,-136.981,3954.7,1.5209,34.6914,2,34.6915,2,168.7,2,168.8,2,136.36,2,34.89,2,0,2,2.5,2,0.00342424,2,0,2,-99,5,0,2,1.5206,2,-210.8,2,2.5,20131209,2256,-11.5805,-136.981,4399,9869,4100,34.8551,2,1.5206,2
325020131025,       GT13,30,11,1,      NIS-1,2,      1,2,20131209,2248,-11.5805,-136.981,4109.6,1.5234,34.6919,2,34.6917,2,169.8,2,169.9,2,135.77,2,34.86,2,0,2,2.49,2,0.004721879,2,0.00010417,2,-99,5,0,2,1.5233,2,-205.9,2,2.5,20131209,2252,-11.5805,-136.981,4399,9868,4100,34.8553,2,1.5233,2
325020131025,       GT13,30,11,13, NIOZ_CORER,2,    13,2,20131209,2248,-11.5805,-136.981,4156.7,-999,-999,2,-999,9,-999,9,-999,9,-999,9,-999,9,-999,9,-999,9,-999,9,-999,9,-999,9,-999,9,-999,9,-999,9,-999,20131209,2248,-11.5805,-136.981,4399,9867,4100,-999,9,-999,9
325020131025,       GT13,30,25,25,       FISH,2,    25,2,20131209,137,-11.606,-137.0465,3.5,27.7034,35.8989,2,35.9073,2,-999,9,-999,9,1.76,2,2.57,2,0.05,2,0.36,2,-999,9,-999,9,-999,9,-999,9,-999,9,-999,9,-999,20131209,126,-11.5977,-137.0228,4394,9802,4142,36.0766,2,-999,9
325020131025,       GT13,31,2,12,     NIS-12,2,     12,2,20131210,1630,-11.3054,-140.0006,30.2,28.0575,35.7627,2,35.7619,2,199.8,2,199,2,1.66,2,1.49,2,0.05,2,0.31,2,1.344507959,2,0.845492914,2,-99,5,1.082,2,28.0572,2,-999,9,-999,20131210,1706,-11.3054,-140.0006,4405,9917,3879,35.9306,2,28.0572,2
325020131025,       GT13,31,2,11,     NIS-11,2,     11,2,20131210,1630,-11.3054,-140.0006,49.9,28.0297,35.7656,2,35.7661,2,198.2,2,198.6,2,1.56,2,1.52,2,0.06,2,0.32,2,1.345398195,2,0.854130236,2,-99,5,1.152,2,28.0351,2,-999,9,-999,20131210,1704,-11.3054,-140.0006,4405,9916,3879,35.9347,2,28.0351,2
325020131025,       GT13,31,2,10,     NIS-10,2,     10,2,20131210,1630,-11.3054,-140.0006,74.2,27.0284,36.0017,2,35.9724,2,183.4,2,184.4,2,2.15,2,1.75,2,0.64,2,0.43,2,1.403339104,2,0.881719969,2,-99,5,1.087,2,27.0333,2,-999,9,-999,20131210,1703,-11.3054,-140.0006,4405,9915,3879,36.1421,2,27.0333,2
325020131025,       GT13,31,2,9,      NIS-9,2,      9,2,20131210,1630,-11.3054,-140.0006,120.4,24.6495,36.198,2,36.1963,2,171.8,2,172.1,2,1.66,2,1.16,2,3.22,2,0.52,2,1.54188571,2,0.976754753,2,-99,5,1.119,2,24.6642,2,-999,9,-999,20131210,1700,-11.3054,-140.0006,4405,9914,3879,36.367,2,24.6642,2
325020131025,       GT13,31,2,8,      NIS-8,2,      8,2,20131210,1630,-11.3054,-140.0006,144.9,23.3788,36.2652,2,36.2643,2,176.5,2,176.4,2,1.27,2,1.71,2,1.92,2,0.48,2,1.574970401,2,1.036847323,2,-99,5,1.159,2,23.3873,2,-999,9,-999,20131210,1658,-11.3054,-140.0006,4405,9913,3879,36.4353,2,23.3873,2
325020131025,       GT13,31,2,7,      NIS-7,2,      7,2,20131210,1630,-11.3054,-140.0006,200.5,20.4047,35.8468,2,35.8493,2,179,2,178.7,2,1.07,2,4.53,2,0.02,2,0.55,2,1.859751216,6,1.161241527,6,-99,5,1.1605,6,20.4167,2,-999,9,-999,20131210,1655,-11.3054,-140.0006,4405,9912,3879,36.0184,2,20.4167,2
325020131025,       GT13,31,2,6,      NIS-6,2,      6,2,20131210,1630,-11.3054,-140.0006,266.2,15.9134,35.1195,2,35.1258,2,149.8,2,150,2,4,2,11.16,2,0,2,1.01,2,2.071454003,2,1.243643053,2,-99,5,0.968,2,15.9538,3,-999,9,-999,20131210,1652,-11.3054,-140.0006,4405,9911,3879,35.2914,2,15.9538,3
325020131025,       GT13,31,2,5,      NIS-5,2,      5,2,20131210,1630,-11.3054,-140.0006,332.6,11.3134,34.6842,2,34.6835,2,25.9,2,25.2,2,21.57,2,27.36,2,0,2,2.47,2,0.960002593,2,0.552341135,2,-99,5,0.245,2,11.3237,2,-999,9,-999,20131210,1649,-11.3054,-140.0006,4405,9910,3879,34.847,2,11.3237,2
325020131025,       GT13,31,2,4,      NIS-4,2,      4,2,20131210,1630,-11.3054,-140.0006,442.4,8.4625,34.6246,2,34.625,2,81.1,2,80.9,2,30.26,2,32.97,2,0,2,2.29,2,0.313314433,2,0.187648371,2,-99,5,0.069,2,8.4614,2,-999,9,-999,20131210,1646,-11.3054,-140.0006,4405,9909,3879,34.7883,2,8.4614,2
325020131025,       GT13,31,2,3,      NIS-3,2,      3,2,20131210,1630,-11.3054,-140.0006,662.1,6.4056,34.5422,2,34.544,2,66.9,2,66.9,2,48.22,2,39.46,2,0,2,2.72,2,0.044234379,2,0.032225059,2,-99,5,0,2,6.4058,2,-999,9,-999,20131210,1640,-11.3054,-140.0006,4405,9908,3879,34.7069,2,6.4058,2
325020131025,       GT13,31,2,2,     NIS-22,2,      2,2,20131210,1630,-11.3054,-140.0006,824,5.2464,34.5182,2,34.5181,2,76.3,2,76.2,2,62.28,2,40.65,2,0,2,2.84,2,0.010879512,2,0.012614066,2,-99,5,0,2,5.2465,2,-999,9,-999,20131210,1636,-11.3054,-140.0006,4405,9907,3879,34.6809,2,5.2465,2
325020131025,       GT13,31,2,1,      NIS-1,2,      1,2,20131210,1630,-11.3054,-140.0006,1006.6,4.4681,34.5321,2,34.5324,2,89.3,2,89,2,77.51,2,40.09,2,0,2,2.83,2,0.01321897,2,0.011199933,2,-99,5,0,2,4.4672,2,-999,9,-999,20131210,1631,-11.3054,-140.0006,4405,9906,3879,34.6953,2,4.4672,2
325020131025,       GT13,31,25,25,       FISH,2,   25,2,20131210,1749,-11.3096,-139.9689,3.5,28.0472,35.7641,2,35.7637,2,-999,9,-999,9,1.85,2,1.47,2,0.05,2,0.31,2,-999,9,-999,9,-999,9,-999,9,-999,9,-999,9,-999,20131210,1743,-11.3087,-139.9758,4408,9923,3742,35.9324,2,-999,9
325020131025,       GT13,32,2,12,     NIS-12,2,     12,2,20131211,1716,-11.0305,-142.9497,1513,2.988,34.5897,2,34.5903,2,119.1,2,120.2,2,109.72,2,37.67,2,0,2,2.68,2,0.004358548,2,0.001723168,2,-99,5,0,2,2.988,2,-208.4,2,2.5,20131211,1756,-11.0305,-142.9497,4414,9962,4954,34.7534,2,2.988,2
325020131025,       GT13,32,2,11,     NIS-11,2,     11,2,20131211,1716,-11.0305,-142.9497,1765.1,2.5074,34.6171,2,34.6176,2,128.1,2,129.3,2,120.06,2,37.08,2,0,2,2.66,2,0.005215916,2,0.001828729,2,-99,5,0,2,2.5081,2,-218.2,2,2.5,20131211,1750,-11.0305,-142.9497,4414,9961,4954,34.7808,2,2.5081,2
325020131025,       GT13,32,2,10,     NIS-10,2,     10,2,20131211,1716,-11.0305,-142.9497,2019,2.2095,34.6391,2,34.6407,2,133.1,2,134,2,127.87,2,36.75,2,0,2,2.64,2,0.006863102,2,0.003022078,2,-99,5,0,2,2.2092,2,-223.2,2,2.5,20131211,1744,-11.0305,-142.9497,4414,9960,4954,34.804,2,2.2092,2
325020131025,       GT13,32,2,9,      NIS-9,2,      9,2,20131211,1716,-11.0305,-142.9497,2119.9,2.0738,34.6493,2,34.6501,2,136.6,2,137.5,2,130.7,2,36.5,2,0,2,2.62,2,0.003747478,2,0,2,-99,5,0,2,2.0738,2,-221,2,2.5,20131211,1740,-11.0305,-142.9497,4414,9959,4954,34.8135,2,2.0738,2
325020131025,       GT13,32,2,8,      NIS-8,2,      8,2,20131211,1716,-11.0305,-142.9497,2221.3,2.0229,34.6541,2,34.6544,2,137.7,2,138.4,2,132.65,2,36.47,2,0,2,2.62,2,0.008180851,2,0.002733543,2,-99,5,0,2,2.023,2,-232.5,2,2.5,20131211,1736,-11.0305,-142.9497,4414,9958,4954,34.8179,2,2.023,2
325020131025,       GT13,32,2,7,      NIS-7,2,      7,2,20131211,1716,-11.0305,-142.9497,2322.4,1.9462,34.6608,2,34.6615,2,139.5,2,140,2,135.19,2,36.37,2,0,2,2.61,2,0.004755536,2,0.002294206,2,-99,5,0,2,1.9461,2,-228.6,2,2.5,20131211,1733,-11.0305,-142.9497,4414,9957,4954,34.8249,2,1.9461,2
325020131025,       GT13,32,2,6,      NIS-6,2,      6,2,20131211,1716,-11.0305,-142.9497,2424.8,1.8861,34.666,2,34.6662,2,141.6,2,141.9,2,137.14,2,36.26,2,0,2,2.6,2,0.003736047,2,0.001166204,2,-99,5,0,2,1.8859,2,-229.9,2,2.5,20131211,1730,-11.0305,-142.9497,4414,9956,4954,34.8297,2,1.8859,2
325020131025,       GT13,32,2,5,      NIS-5,2,      5,2,20131211,1716,-11.0305,-142.9497,2526.6,1.841,34.67,2,34.6703,2,143.5,2,143.9,2,138.11,2,36.16,2,0,2,2.59,2,0.005082894,2,0.001623638,2,-99,5,0,2,1.8407,2,-232.8,2,2.5,20131211,1727,-11.0305,-142.9497,4414,9955,4954,34.8338,2,1.8407,2
325020131025,       GT13,32,2,4,      NIS-4,2,      4,2,20131211,1716,-11.0305,-142.9497,2577.8,1.8314,34.6708,2,34.6709,2,144.4,2,144.2,2,138.41,2,36.13,2,0,2,2.59,2,0.005613943,2,0.001114932,2,-99,5,0,2,1.8315,2,-229.4,2,2.5,20131211,1725,-11.0305,-142.9497,4414,9954,4954,34.8344,2,1.8315,2
325020131025,       GT13,32,2,3,      NIS-3,2,      3,2,20131211,1716,-11.0305,-142.9497,2629.1,1.8077,34.6724,2,34.6733,2,145.7,2,145.2,2,138.7,2,36.04,2,0,2,2.59,2,0.004676554,2,0.00158443,2,-99,5,0,2,1.8078,2,-230,2,2.5,20131211,1723,-11.0305,-142.9497,4414,9953,4954,34.8368,2,1.8078,2
325020131025,       GT13,32,2,2,     NIS-22,2,      2,2,20131211,1716,-11.0305,-142.9497,2679.3,1.7898,34.6737,2,34.6739,2,146.7,2,146.3,2,138.99,2,35.96,2,0,2,2.58,2,0.004958186,2,0.000931958,2,-99,5,0,2,1.7896,2,-229.5,2,2.5,20131211,1720,-11.0305,-142.9497,4414,9952,4954,34.8374,2,1.7896,2
325020131025,       GT13,32,2,1,      NIS-1,2,      1,2,20131211,1716,-11.0305,-142.9497,2729.2,1.7673,34.675,2,34.6758,2,148.6,2,147.9,2,138.7,2,35.86,2,0,2,2.58,2,0.016013559,2,0.004765353,2,-99,5,0,2,1.7667,2,-999,9,-999,20131211,1718,-11.0305,-142.9497,4414,9951,4954,34.8393,2,1.7667,2
325020131025,       GT13,32,4,12,     NIS-12,2,     12,2,20131212,142,-11.0305,-142.9497,3,28.32,35.6827,2,35.6819,2,199.8,2,199.3,2,2.24,2,2.14,2,0.06,2,0.34,2,1.281913,2,0.847268664,2,-99,5,1.122,2,28.3213,2,38.4,2,2.5,20131212,227,-11.0305,-142.9497,4421,10034,4951,35.8502,2,28.3213,2
325020131025,       GT13,32,4,11,     NIS-11,2,     11,2,20131212,142,-11.0305,-142.9497,29.8,28.2526,35.6789,2,35.6788,2,199.9,2,199.5,2,1.66,2,2.14,2,0.06,2,0.34,2,-999,9,-999,9,-999,9,-999,9,28.2522,2,-999,9,-999,20131212,225,-11.0305,-142.9497,4421,10033,4951,35.847,2,28.2522,2
325020131025,       GT13,32,4,10,     NIS-10,2,     10,2,20131212,142,-11.0305,-142.9497,60.9,28.23,35.6782,2,35.6784,2,198.8,2,198.8,2,1.46,2,2.14,2,0.06,2,0.34,2,-999,9,-999,9,-999,9,-999,9,28.231,2,-999,9,-999,20131212,224,-11.0305,-142.9497,4421,10032,4951,35.8466,2,28.231,2
325020131025,       GT13,32,4,9,      NIS-9,2,      9,2,20131212,142,-11.0305,-142.9497,95.9,27.4637,35.8215,2,35.8286,2,183.6,2,183.2,2,2.24,2,2.29,2,0.68,2,0.44,2,-999,9,-999,9,-999,9,-999,9,27.465,2,-999,9,-999,20131212,222,-11.0305,-142.9497,4421,10031,4951,35.9975,2,27.465,2
325020131025,       GT13,32,4,8,      NIS-8,2,      8,2,20131212,142,-11.0305,-142.9497,131,25.7971,35.9892,2,35.9673,2,159.2,2,159.6,2,2.05,2,6.33,2,0.19,2,0.61,2,-999,9,-999,9,-999,9,-999,9,25.7905,2,-999,9,-999,20131212,220,-11.0305,-142.9497,4421,10030,4951,36.1369,2,25.7905,2
325020131025,       GT13,32,4,7,      NIS-7,2,      7,2,20131212,142,-11.0305,-142.9497,165.7,23.7154,36.1118,2,36.1118,2,159,2,159.4,2,1.76,2,6.25,2,0.04,2,0.61,2,-999,9,-999,9,-999,9,-999,9,23.7262,2,-999,9,-999,20131212,217,-11.0305,-142.9497,4421,10029,4951,36.2821,2,23.7262,2
325020131025,       GT13,32,4,6,      NIS-6,2,      6,2,20131212,142,-11.0305,-142.9497,201,20.3664,35.8003,2,35.8032,2,159.9,2,160.7,2,2.05,2,7.28,2,0.03,2,0.7,2,-999,9,-999,9,-999,9,-999,9,20.3478,2,-999,9,-999,20131212,215,-11.0305,-142.9497,4421,10028,4951,35.972,2,20.3478,2
325020131025,       GT13,32,4,5,      NIS-5,2,      5,2,20131212,142,-11.0305,-142.9497,336.1,10.5243,34.6767,2,34.6756,2,66.7,2,66.1,2,21.08,2,28.05,2,0,2,2.15,2,-999,9,-999,9,-999,9,-999,9,10.5198,2,-999,9,-999,20131212,211,-11.0305,-142.9497,4421,10027,4951,34.8391,2,10.5198,2
325020131025,       GT13,32,4,4,      NIS-4,2,      4,2,20131212,142,-11.0305,-142.9497,452.2,8.2203,34.6179,2,34.6191,2,103.1,2,103.9,2,30.65,2,31.35,2,0,2,2.13,2,-999,9,-999,9,-999,9,-999,9,8.2224,2,-999,9,-999,20131212,208,-11.0305,-142.9497,4421,10026,4951,34.7824,2,8.2224,2
325020131025,       GT13,32,4,3,      NIS-3,2,      3,2,20131212,142,-11.0305,-142.9497,854.3,5.2343,34.5223,2,34.524,2,87,2,86.5,2,63.65,2,39.38,2,0,2,2.72,2,-999,9,-999,9,-999,9,-999,9,5.234,2,-999,9,-999,20131212,159,-11.0305,-142.9497,4421,10025,4951,34.6868,2,5.234,2
325020131025,       GT13,32,4,2,     NIS-22,2,      2,2,20131212,142,-11.0305,-142.9497,1005.6,4.5522,34.5292,2,34.5295,2,95.4,2,95,2,76.04,2,39.22,2,0,2,2.73,2,-999,9,-999,9,-999,9,-999,9,4.5517,2,-999,9,-999,20131212,155,-11.0305,-142.9497,4421,10024,4951,34.6923,2,4.5517,2
325020131025,       GT13,32,4,1,      NIS-1,2,      1,2,20131212,142,-11.0305,-142.9497,1766,2.5518,34.6143,2,34.6144,2,128.8,2,129.5,2,119.87,2,37.12,2,0,2,2.65,2,-999,9,-999,9,-999,9,-999,9,2.5516,2,-999,9,-999,20131212,142,-11.0305,-142.9497,4421,10023,4951,34.7776,2,2.5516,2
325020131025,       GT13,32,6,12,     NIS-12,2,     12,2,20131212,655,-11.0306,-142.9501,30.3,28.2576,35.691,2,35.691,2,199.1,2,198.5,2,1.66,2,2.33,2,0.06,2,0.35,2,1.285342473,2,0.844529089,2,-99,5,1.136,2,28.2573,2,36,2,2.5,20131212,742,-11.0306,-142.9502,4420,10022,4956,35.8593,2,28.2573,2
325020131025,       GT13,32,6,11,     NIS-11,2,     11,2,20131212,655,-11.0306,-142.9501,54.9,28.2468,35.69,2,35.69,2,199.8,2,199,2,1.46,2,2.35,2,0.07,2,0.36,2,1.273343475,2,0.839221854,2,-99,5,1.116,2,28.2463,2,28.9,2,2.5,20131212,740,-11.0306,-142.9501,4420,10021,4956,35.8583,2,28.2463,2
325020131025,       GT13,32,6,10,     NIS-10,2,     10,2,20131212,655,-11.0306,-142.9501,91.6,27.7453,35.695,2,35.6908,2,192.8,2,193.4,2,1.95,2,2.6,2,0.33,2,0.43,2,1.271981559,6,0.859450977,6,-99,5,1.123,6,27.7544,2,24.9,2,2.5,20131212,737,-11.0307,-142.9501,4420,10020,4956,35.8591,2,27.7544,2
325020131025,       GT13,32,6,9,      NIS-9,2,      9,2,20131212,655,-11.0306,-142.9501,125.6,26.7564,35.9482,2,35.9531,2,169,2,169.5,2,2.24,2,3.48,2,1.37,2,0.53,2,1.302116751,2,0.879077897,2,-99,5,1.124,2,26.7381,2,31.8,2,2.5,20131212,734,-11.0306,-142.9501,4420,10019,4956,36.1226,2,26.7381,2
325020131025,       GT13,32,6,8,      NIS-8,2,      8,2,20131212,655,-11.0306,-142.9501,200.8,20.4051,35.807,2,35.8248,2,162.2,2,162.2,2,2.15,2,7.01,2,0.03,2,0.7,2,1.742210593,2,1.118255376,2,-99,5,1.173,2,20.4221,2,41.9,2,2.5,20131212,731,-11.0306,-142.9501,4420,10018,4956,35.9938,2,20.4221,2
325020131025,       GT13,32,6,7,      NIS-7,2,      7,2,20131212,655,-11.0306,-142.9501,337.5,10.6841,34.6618,2,34.6609,2,58.6,2,58.4,2,20.3,2,27.56,2,0,2,2.21,2,0.909904584,2,0.520128202,2,-99,5,0.268,2,10.6846,2,-20.1,2,2.5,20131212,728,-11.0306,-142.9502,4420,10017,4956,34.8244,2,10.6846,2
325020131025,       GT13,32,6,6,      NIS-6,2,      6,2,20131212,655,-11.0306,-142.9501,453.2,8.6636,34.6413,2,34.6415,2,103,2,103.1,2,28.31,2,30.33,2,0,2,2.09,2,0.489933433,2,0.272324831,2,-99,5,0.068,2,8.6639,2,-60.9,2,2.5,20131212,724,-11.0306,-142.9501,4420,10016,4956,34.8048,2,8.6639,2
325020131025,       GT13,32,6,5,      NIS-5,2,      5,2,20131212,655,-11.0306,-142.9501,604.7,6.9069,34.5589,2,34.5618,2,81.7,2,80.6,2,42.95,2,36.74,2,0,2,2.51,2,0.13027008,2,0.076192361,2,-99,5,0,2,6.9095,2,-108.4,2,2.5,20131212,719,-11.0306,-142.9501,4420,10015,4956,34.7248,2,6.9095,2
325020131025,       GT13,32,6,4,      NIS-4,2,      4,2,20131212,655,-11.0306,-142.9501,856.4,5.2548,34.5254,2,34.5262,2,78.3,2,78.3,2,64.53,2,40.2,2,0,2,2.78,2,0.017412368,2,0.007602447,2,-99,5,0,2,5.2548,2,-999,9,-999,20131212,713,-11.0306,-142.9501,4420,10014,4956,34.689,2,5.2548,2
325020131025,       GT13,32,6,3,      NIS-3,2,      3,2,20131212,655,-11.0306,-142.9501,1007.5,4.521,34.5297,2,34.5313,2,94.8,2,95.8,2,76.14,2,39.16,2,0,2,2.73,2,0.010416244,2,0.003991234,2,-99,5,0,2,4.5206,2,-999,9,-999,20131212,708,-11.0306,-142.9501,4420,10013,4956,34.6941,2,4.5206,2
325020131025,       GT13,32,6,2,     NIS-22,2,      2,2,20131212,655,-11.0306,-142.9501,1259,3.6342,34.5566,2,34.5572,2,113.8,2,113.9,2,93.81,2,37.96,2,0,2,2.68,2,0.007051204,2,0,2,-99,5,0,2,3.6336,2,-190.7,2,2.5,20131212,702,-11.0306,-142.9501,4420,10012,4956,34.7201,2,3.6336,2
325020131025,       GT13,32,6,1,      NIS-1,2,      1,2,20131212,655,-11.0306,-142.9501,1511.7,3.0118,34.5876,2,34.5881,2,120.4,2,120.3,2,108.55,2,37.69,2,0,2,2.68,2,0.00742221,2,0,2,-99,5,0,2,3.0115,2,-206.8,2,2.5,20131212,656,-11.0306,-142.9502,4420,10011,4956,34.7512,2,3.0115,2