BOTTLE,20161222CCHSIORJL
EXPOCODE,SECT_ID,STNNBR,CASTNO,SAMPNO,BTLNBR,BTLNBR_FLAG_W,BTLNBR_U,BTLNBR_U_FLAG_W,DATE,TIME,LATITUDE,LONGITUDE,CTDPRS,CTDTMP,CTDSAL,CTDSAL_FLAG_W,SALNTY,SALNTY_FLAG_W,CTDOXY,CTDOXY_FLAG_W,OXYGEN,OXYGEN_FLAG_W,SILCAT,SILCAT_FLAG_W,NITRAT,NITRAT_FLAG_W,NITRIT,NITRIT_FLAG_W,PHSPHT,PHSPHT_FLAG_W,CFC-11,CFC-11_FLAG_W,CFC-12,CFC-12_FLAG_W,CFC113,CFC113_FLAG_W,SF6,SF6_FLAG_W,REFTMP,REFTMP_FLAG_W,DELC14,DELC14_FLAG_W,C14ERR,BTL_DATE,BTL_TIME,BTL_LAT,BTL_LON,GEOTR_EVENT,GEOTR_SAMPNO,DEPTH,SALTREF,SALTREF_FLAG_W,SBE35,SBE35_FLAG_W
,,,,,,,,,,,,,DBAR,ITS-90,PSS-78,,PSS-78,,UMOL/KG,,UMOL/KG,,UMOL/KG,,UMOL/KG,,UMOL/KG,,UMOL/KG,,PMOL/KG,,PMOL/KG,,PMOL/KG,,FMOL/KG,,DEG C,,/MILLE,,/MILLE,,,,,,,METERS,G/KG,,ITS-90,
325020131025,       GT13,9,6,12,     NIS-12,2,     12,2,20131108,2239,-12.0002,-89.0011,20.8,19.0691,35.3615,2,35.3593,2,233.9,2,234,2,5.37,2,14,2,0.45,2,1.13,2,1.845332735,2,1.139383138,2,0.165638,2,1.214955,2,19.0662,2,28.8,2,2.5,20131108,2259,-12.0002,-89.0011,4116,3403,4137,35.526,2,19.0662,2
325020131025,       GT13,9,6,11,     NIS-11,2,     11,2,20131108,2239,-12.0002,-89.0011,40.1,19.0299,35.3627,2,35.3609,2,233.3,2,233.5,2,5.37,2,13.94,2,0.45,2,1.14,2,1.844433592,2,1.132473865,2,0.16376,2,1.188855,2,19.0308,2,-999,9,-999,20131108,2258,-12.0002,-89.0011,4116,3402,4137,35.5276,2,19.0308,2
325020131025,       GT13,9,6,10,     NIS-10,2,     10,2,20131108,2239,-12.0002,-89.0011,60,18.1665,35.3135,2,35.3136,2,227.9,2,227.9,2,4.59,2,12.46,2,0.51,2,1.2,2,1.895170795,6,1.163397589,6,0.167273,6,1.15623,6,18.176,2,28.7,2,2.5,20131108,2256,-12.0002,-89.0011,4116,3401,4137,35.4801,2,18.176,2
325020131025,       GT13,9,6,9,      NIS-9,2,      9,2,20131108,2239,-12.0002,-89.0011,100.3,16.0802,35.0623,2,35.055,2,124.5,2,124.5,2,8.1,2,18.92,2,0.1,2,1.7,2,1.861232013,2,1.134374217,2,0.114563,2,0.95787,2,16.19,3,31.3,2,2.5,20131108,2254,-12.0002,-89.0011,4116,3400,4137,35.2203,2,16.19,3
325020131025,       GT13,9,6,8,      NIS-8,2,      8,2,20131108,2239,-12.0002,-89.0011,120.4,13.9021,34.8674,2,34.868,2,11.7,2,11.9,2,17.76,2,23.29,2,0.09,2,2.47,2,1.507674188,2,0.902761673,2,0.048718,2,0.49851,2,13.9001,2,19.7,2,2.5,20131108,2252,-12.0002,-89.0011,4116,3399,4137,35.0324,2,13.9001,2
325020131025,       GT13,9,6,7,      NIS-7,2,      7,2,20131108,2239,-12.0002,-89.0011,134.7,13.3453,34.8965,2,34.8947,2,0.9,2,1.8,2,26.94,2,10.74,2,4.91,2,2.61,2,1.091570828,2,0.664948087,2,0.017854,2,0.280575,2,13.3305,2,15.3,2,2.5,20131108,2251,-12.0002,-89.0011,4116,3398,4137,35.0592,2,13.3305,2
325020131025,       GT13,9,6,6,      NIS-6,2,      6,2,20131108,2239,-12.0002,-89.0011,156.3,12.9459,34.8834,2,34.8815,2,1.1,2,1.9,2,27.91,2,13.58,2,4.84,2,2.58,2,0.921627667,2,0.554534528,2,0.012166,2,0.261,2,12.9452,2,6.2,2,2.5,20131108,2249,-12.0002,-89.0011,4116,3397,4137,35.046,2,12.9452,2
325020131025,       GT13,9,6,5,      NIS-5,2,      5,2,20131108,2239,-12.0002,-89.0011,175.8,12.6317,34.8811,2,34.8782,2,1.2,2,2.1,2,29.18,2,14.66,2,5.05,2,2.58,2,0.80051013,2,0.474108098,2,0.008451,2,0.1827,2,12.6533,2,-999,9,-999,20131108,2248,-12.0002,-89.0011,4116,3396,4137,35.0427,2,12.6533,2
325020131025,       GT13,9,6,4,      NIS-4,2,      4,2,20131108,2239,-12.0002,-89.0011,200.7,12.1976,34.8585,2,34.8554,2,1.4,2,1.8,2,29.38,2,17.73,2,4.81,2,2.58,2,0.667908694,2,0.379777613,2,0.006705,2,0.090045,2,12.198,2,-999,9,-999,20131108,2246,-12.0002,-89.0011,4116,3395,4137,35.0198,2,12.198,2
325020131025,       GT13,9,6,3,      NIS-3,2,      3,2,20131108,2239,-12.0002,-89.0011,250.6,11.4114,34.8166,2,34.8162,2,1.7,2,1.9,2,28.79,2,28.76,2,0.61,2,2.56,2,0.471597884,2,0.253308144,2,0.004755,2,0.08352,2,11.4124,2,-29.3,2,2.5,20131108,2244,-12.0002,-89.0011,4116,3394,4137,34.9803,2,11.4124,2
325020131025,       GT13,9,6,2,      NIS-2,2,      2,2,20131108,2239,-12.0002,-89.0011,301.8,10.7597,34.7741,2,34.773,2,2.2,2,2,2,30.45,2,31.79,2,0.1,2,2.62,2,0.338011819,2,0.1799439,2,0.0066,2,0.066555,2,10.7683,2,-43.6,2,2.5,20131108,2242,-12.0002,-89.0011,4116,3393,4137,34.9369,2,10.7683,2
325020131025,       GT13,9,6,1,      NIS-1,2,      1,2,20131108,2239,-12.0002,-89.0011,352.7,10.1011,34.7333,2,34.7317,2,3.1,2,2.8,2,32.31,2,34.55,2,0,2,2.66,2,0.226704518,2,0.117521015,2,0.00251,2,0.04698,2,10.1065,2,-65,2,2.5,20131108,2241,-12.0002,-89.0011,4116,3392,4137,34.8955,2,10.1065,2
325020131025,       GT13,9,10,12,     NIS-12,2,     12,2,20131109,1357,-12.0003,-89.0011,2273.5,2.0258,34.6606,2,34.658,2,115.3,2,116,2,143.48,2,38.42,2,0,2,2.83,2,0.005017897,2,0.002572366,2,0,2,0,2,2.0261,2,-999,9,-999,20131109,1451,-12.0002,-89.0011,4121,3454,4138,34.8214,2,2.0261,2
325020131025,       GT13,9,10,11,     NIS-11,2,     11,2,20131109,1357,-12.0003,-89.0011,2528,1.8823,34.6705,2,34.6684,2,126.7,2,127.5,2,143.78,2,37.62,2,0,2,2.76,2,0.029447188,2,0.017283242,2,0,2,0,2,1.8828,2,-236.8,2,2.5,20131109,1445,-12.0003,-89.0011,4121,3453,4138,34.8318,2,1.8828,2
325020131025,       GT13,9,10,10,     NIS-10,2,     10,2,20131109,1357,-12.0003,-89.0011,2781.9,1.8166,34.6765,2,34.6741,2,133,2,133,2,143.78,2,37.2,2,0,2,2.72,2,0.014869331,2,0.008678843,2,0,2,0,2,1.8169,2,-999,9,-999,20131109,1439,-12.0003,-89.0011,4121,3452,4138,34.8376,2,1.8169,2
325020131025,       GT13,9,10,9,      NIS-9,2,      9,2,20131109,1357,-12.0003,-89.0011,3036.4,1.7841,34.6814,2,34.6792,2,140.2,2,140.3,2,140.65,2,36.67,2,0,2,2.67,2,0.017747001,2,0.013093213,2,0,2,0,2,1.7842,2,-230.4,2,2.5,20131109,1433,-12.0002,-89.0011,4121,3451,4138,34.8427,2,1.7842,2
325020131025,       GT13,9,10,8,      NIS-8,2,      8,2,20131109,1357,-12.0003,-89.0011,3293.8,1.7688,34.6856,2,34.6831,2,144.9,2,144.9,2,138.11,2,36.27,2,0,2,2.64,2,0.013578809,2,0.005118576,2,0,2,0,2,1.7691,2,-999,9,-999,20131109,1427,-12.0002,-89.0011,4121,3450,4138,34.8466,2,1.7691,2
325020131025,       GT13,9,10,7,      NIS-7,2,      7,2,20131109,1357,-12.0003,-89.0011,3548.2,1.7705,34.688,2,34.6858,2,145.7,2,145.4,2,137.82,2,36.23,2,0,2,2.64,2,0.041077339,2,0.024706586,2,0,2,0,2,1.7709,2,-218.2,2,2.5,20131109,1421,-12.0003,-89.0011,4121,3449,4138,34.8494,2,1.7709,2
325020131025,       GT13,9,10,6,      NIS-6,2,      6,2,20131109,1357,-12.0003,-89.0011,3803.1,1.7881,34.6886,2,34.686,2,145.2,2,145.4,2,138.02,2,36.23,2,0,2,2.64,2,0.008836937,2,0.004505916,2,0,2,0,2,1.7882,2,-999,9,-999,20131109,1415,-12.0003,-89.0011,4121,3448,4138,34.8496,2,1.7882,2
325020131025,       GT13,9,10,5,      NIS-5,2,      5,2,20131109,1357,-12.0003,-89.0011,4057.9,1.8135,34.689,2,34.6864,2,144.9,2,144.7,2,138.11,2,36.3,2,0,2,2.63,2,0.014634504,2,0.007861964,2,0,2,0,2,1.8137,2,-219.2,2,2.5,20131109,1409,-12.0002,-89.0011,4121,3447,4138,34.85,2,1.8137,2
325020131025,       GT13,9,10,4,      NIS-4,2,      4,2,20131109,1357,-12.0003,-89.0011,4109,1.8196,34.6889,2,34.6862,2,144.7,2,144.8,2,138.21,2,36.29,2,0,2,2.64,2,0.007694727,2,0.003529081,2,0,2,0,2,1.8195,2,-999,9,-999,20131109,1406,-12.0002,-89.0011,4121,3446,4138,34.8498,2,1.8195,2
325020131025,       GT13,9,10,3,      NIS-3,2,      3,2,20131109,1357,-12.0003,-89.0011,4135.7,1.8227,34.6889,2,34.6864,2,144.6,2,144.8,2,138.21,2,36.24,2,0,2,2.63,2,0.011046172,2,0.00764366,2,0,2,0,2,1.8228,2,-216.4,2,2.5,20131109,1403,-12.0002,-89.0011,4121,3445,4138,34.85,2,1.8228,2
325020131025,       GT13,9,10,2,      NIS-2,2,      2,2,20131109,1357,-12.0003,-89.0011,4159.8,1.8256,34.6888,2,34.6866,2,144.8,2,144.7,2,138.41,2,36.29,2,0,2,2.64,2,0.004557511,2,0.003446588,2,0,2,0,2,1.826,2,-999,9,-999,20131109,1400,-12.0003,-89.0011,4121,3444,4138,34.8502,2,1.826,2
325020131025,       GT13,9,10,1,      NIS-1,2,      1,2,20131109,1357,-12.0003,-89.0011,4171.3,1.8269,34.6889,2,34.6872,2,144.7,2,145,2,138.11,2,36.29,2,0,2,2.63,2,0.004744962,2,0.003385222,2,0,2,0,2,1.8269,2,-218,2,2.5,20131109,1359,-12.0002,-89.0011,4121,3443,4138,34.8508,2,1.8269,2
325020131025,       GT13,9,10,13, NIOZ_CORER,2,    13,2,20131109,1357,-12.0003,-89.0011,4195,-999,-999,2,-999,9,-999,9,-999,9,-999,9,-999,9,-999,9,-999,9,-999,9,-999,9,-999,9,-999,9,-999,9,-999,9,-999,20131109,1357,-12.0003,-89.0011,4121,3455,4138,-999,9,-999,9
325020131025,       GT13,9,25,25,       FISH,2,    25,2,20131108,2042,-11.9497,-89.0574,3.6,19.2614,35.3579,2,35.3715,2,-999,9,-999,9,5.37,2,13.81,2,0.46,2,1.14,2,-999,9,-999,9,-999,9,-999,9,-999,9,-999,9,-999,20131108,2031,-11.9682,-89.0385,4117,3404,3943,35.5383,2,-999,9
325020131025,       GT13,10,2,12,     NIS-12,2,     12,2,20131110,526,-12.0001,-91.5003,20.8,19.9885,35.5452,2,35.5434,2,230.1,2,230,2,2.63,2,8.02,2,0.41,2,0.87,2,1.771306272,6,1.091174044,6,0.1574985,6,1.1007675,6,19.9906,2,-999,9,-999,20131110,600,-12.0001,-91.5002,4128,3492,3860,35.711,2,19.9906,2
325020131025,       GT13,10,2,11,     NIS-11,2,     11,2,20131110,526,-12.0001,-91.5003,70.2,19.7443,35.5656,2,35.5651,2,226.8,2,226.7,2,2.34,2,6.3,2,0.4,2,0.8,2,1.807975998,2,1.087256198,2,0.156074,2,1.105335,2,19.7531,2,-999,9,-999,20131110,557,-12.0001,-91.5002,4128,3491,3860,35.7328,2,19.7531,2
325020131025,       GT13,10,2,10,     NIS-10,2,     10,2,20131110,526,-12.0001,-91.5003,131.8,13.8742,34.7658,2,34.7659,2,94.1,2,93.7,2,9.66,2,19.36,2,0.02,2,1.83,2,1.92454311,2,1.131805462,2,0.067847,2,0.76473,2,13.8571,3,-999,9,-999,20131110,555,-12.0001,-91.5003,4128,3490,3860,34.9298,2,13.8571,3
325020131025,       GT13,10,2,9,      NIS-9,2,      9,2,20131110,526,-12.0001,-91.5003,167.2,12.5573,34.8471,2,34.8468,2,1,2,1.5,2,25.96,2,19.23,2,1.98,2,2.61,2,0.873882363,2,0.522820519,2,0.010449,2,0.246645,2,12.586,3,-999,9,-999,20131110,552,-12.0001,-91.5002,4128,3489,3860,35.0111,2,12.586,3
325020131025,       GT13,10,2,8,      NIS-8,2,      8,2,20131110,526,-12.0001,-91.5003,201.4,11.8839,34.8362,2,34.833,2,1.2,2,1.4,2,27.33,2,27.14,2,0.03,2,2.56,2,0.605586415,2,0.34286038,2,0.006964,2,0.17226,2,11.8832,2,-999,9,-999,20131110,551,-12.0001,-91.5002,4128,3488,3860,34.9973,2,11.8832,2
325020131025,       GT13,10,2,7,      NIS-7,2,      7,2,20131110,526,-12.0001,-91.5003,252.1,11.0814,34.7928,2,34.7914,2,2.8,2,3.5,2,28.69,2,31.4,2,0,2,2.57,2,0.423046943,2,0.232549497,2,0.004904,2,0.0522,2,11.1136,3,-999,9,-999,20131110,549,-12.0001,-91.5002,4128,3487,3860,34.9555,2,11.1136,3
325020131025,       GT13,10,2,6,      NIS-6,2,      6,2,20131110,526,-12.0001,-91.5003,302.6,10.3381,34.7565,2,34.7541,2,5.1,2,5.7,2,31.72,2,34.51,2,0,2,2.61,2,0.260306979,2,0.141334465,2,0.003646,2,0.10179,2,10.3388,2,-999,9,-999,20131110,547,-12.0001,-91.5002,4128,3486,3860,34.918,2,10.3388,2
325020131025,       GT13,10,2,5,      NIS-5,2,      5,2,20131110,526,-12.0001,-91.5003,401.2,9.1612,34.6835,2,34.6815,2,9.1,2,8.9,2,35.72,2,37.83,2,0,2,2.73,2,0.111941001,2,0.060784513,2,0.002928,2,0,2,9.155,2,-999,9,-999,20131110,544,-12,-91.5002,4128,3485,3860,34.845,2,9.155,2
325020131025,       GT13,10,2,4,      NIS-4,2,      4,2,20131110,526,-12.0001,-91.5003,503.2,8.007,34.6122,2,34.6107,2,20.8,2,21,2,39.14,2,40.09,2,0,2,2.82,2,0.060665879,2,0.029660241,2,0.002809,2,0,2,8.0112,2,-999,9,-999,20131110,541,-12.0001,-91.5003,4128,3484,3860,34.7739,2,8.0112,2
325020131025,       GT13,10,2,3,      NIS-3,2,      3,2,20131110,526,-12.0001,-91.5003,604.7,6.9279,34.5632,2,34.562,2,21.7,2,21.6,2,47.15,2,42.98,2,0,2,3.01,2,0.020481931,2,0.011247068,2,0,2,0,2,6.9197,2,-999,9,-999,20131110,538,-12.0001,-91.5002,4128,3483,3860,34.725,2,6.9197,2
325020131025,       GT13,10,2,2,      NIS-2,2,      2,2,20131110,526,-12.0001,-91.5003,805,5.3762,34.53,2,34.5297,2,40.1,2,40,2,65.7,2,44.28,2,0,2,3.11,2,0.006349101,2,0.003063995,2,0,2,0,2,5.3752,2,-999,9,-999,20131110,533,-12.0001,-91.5002,4128,3482,3860,34.6925,2,5.3752,2
325020131025,       GT13,10,2,1,      NIS-1,2,      1,2,20131110,526,-12.0001,-91.5003,1006.8,4.4614,34.536,2,34.535,2,67,2,66.8,2,80.83,2,42.35,2,0,2,3.04,2,0.005902704,2,0.002519263,2,0,2,0,2,4.4613,2,-999,9,-999,20131110,528,-12.0001,-91.5002,4128,3481,3860,34.6978,2,4.4613,2
325020131025,       GT13,10,25,25,       FISH,2,   25,2,20131110,643,-12.003,-91.5482,3.5,19.9881,35.5466,2,35.5473,2,-999,9,-999,9,2.44,2,7.86,2,0.41,2,0.86,2,-999,9,-999,9,-999,9,-999,9,-999,9,-999,9,-999,20131110,636,-12.0035,-91.5357,4130,3494,3892,35.715,2,-999,9
325020131025,       GT13,11,2,12,     NIS-12,2,     12,2,20131110,2212,-12.0005,-94.0008,321.8,10.1009,34.7267,2,34.7259,2,5.5,2,5.9,2,31.43,2,34.41,2,0,2,2.62,2,0.249103893,2,0.128145001,2,0.002797,2,0.037845,2,10.1141,2,-60.8,2,2.5,20131110,2257,-12.0005,-94.0008,4135,3531,3660,34.8896,2,10.1141,2
325020131025,       GT13,11,2,11,     NIS-11,2,     11,2,20131110,2212,-12.0005,-94.0008,351.6,9.6547,34.703,2,34.6996,2,6.8,2,7.2,2,33.09,2,36.11,2,0,2,2.67,2,0.214412739,2,0.104484445,2,0.004103,2,0.06003,2,9.6574,2,-70.3,2,2.5,20131110,2255,-12.0005,-94.0008,4135,3530,3660,34.8632,2,9.6574,2
325020131025,       GT13,11,2,10,     NIS-10,2,     10,2,20131110,2212,-12.0005,-94.0008,402.7,8.7636,34.6489,2,34.6493,2,11.9,2,12,2,35.82,2,38.58,2,0,2,2.76,2,0.10736991,2,0.051881626,2,0.002929,2,0.01827,2,8.7717,2,-999,9,-999,20131110,2252,-12.0005,-94.0008,4135,3529,3660,34.8127,2,8.7717,2
325020131025,       GT13,11,2,9,      NIS-9,2,      9,2,20131110,2212,-12.0005,-94.0008,503.1,7.5029,34.5786,2,34.5805,2,27.3,2,28.3,2,40.61,2,40.71,2,0,2,2.84,2,0.058590666,2,0.035215735,2,0,2,0,2,7.5057,2,-108.5,2,2.5,20131110,2249,-12.0005,-94.0008,4135,3528,3660,34.7435,2,7.5057,2
325020131025,       GT13,11,2,8,      NIS-8,2,      8,2,20131110,2212,-12.0005,-94.0008,604.4,6.5434,34.5433,2,34.5434,2,36,2,36.4,2,48.52,2,42.42,2,0,2,2.96,2,0.024369115,2,0.016492885,2,0,2,0,2,6.5459,2,-124.7,2,2.5,20131110,2246,-12.0005,-94.0008,4135,3527,3660,34.7063,2,6.5459,2
325020131025,       GT13,11,2,7,      NIS-7,2,      7,2,20131110,2212,-12.0005,-94.0008,704.4,5.8209,34.5283,2,34.5271,2,36.2,2,35.7,2,58.18,2,44.06,2,0,2,3.08,2,0.010382533,2,0.007619297,2,0,2,0,2,5.8197,2,-143.9,2,2.5,20131110,2242,-12.0005,-94.0008,4135,3526,3660,34.69,2,5.8197,2
325020131025,       GT13,11,2,6,      NIS-6,2,      6,2,20131110,2212,-12.0005,-94.0008,806.4,5.262,34.5259,2,34.5248,2,44.3,2,43.9,2,66.58,2,44.07,2,0,2,3.11,2,0.004431494,2,0.002465333,2,0,2,0,2,5.2654,2,-155.9,2,2.5,20131110,2239,-12.0005,-94.0008,4135,3525,3660,34.6876,2,5.2654,2
325020131025,       GT13,11,2,5,      NIS-5,2,      5,2,20131110,2212,-12.0005,-94.0008,906.2,4.7347,34.531,2,34.5299,2,57.4,2,57.3,2,75.75,2,43.23,2,0,2,3.08,2,0.007091211,2,0.00422959,2,0,2,0,2,4.7338,2,-999,9,-999,20131110,2236,-12.0005,-94.0008,4135,3524,3660,34.6927,2,4.7338,2
325020131025,       GT13,11,2,4,      NIS-4,2,      4,2,20131110,2212,-12.0005,-94.0008,1006.5,4.2754,34.5425,2,34.5415,2,69.2,2,69.5,2,85.51,2,42.17,2,0,2,3.06,2,0.004112615,2,0.003455087,2,0,2,0,2,4.2724,2,-185.1,2,2.5,20131110,2233,-12.0004,-94.0008,4135,3523,3660,34.7043,2,4.2724,2
325020131025,       GT13,11,2,3,      NIS-3,2,      3,2,20131110,2212,-12.0005,-94.0008,1260.1,3.5124,34.5721,2,34.5711,2,79.4,2,79.9,2,104.84,2,41.39,2,0,2,3.05,2,0.002539753,2,0.002588046,2,0,2,0,2,3.5124,2,-205.6,2,2.5,20131110,2227,-12.0005,-94.0008,4135,3522,3660,34.7341,2,3.5124,2
325020131025,       GT13,11,2,2,      NIS-2,2,      2,2,20131110,2212,-12.0005,-94.0008,1514.8,2.9254,34.6015,2,34.6007,2,91.2,2,91.7,2,119.97,2,40.44,2,0,2,3,2,0.005369675,2,0.003029613,2,0,2,0,2,2.925,2,-224.7,2,2.5,20131110,2222,-12.0005,-94.0008,4135,3521,3660,34.7638,2,2.925,2
325020131025,       GT13,11,2,1,      NIS-1,2,      1,2,20131110,2212,-12.0005,-94.0008,1768.3,2.5609,34.6223,2,34.6223,2,105.4,2,105.2,2,128.36,2,39.31,2,0,2,2.92,2,0.00225471,2,0.001395111,2,0,2,0,2,2.5601,2,-233.8,2,2.5,20131110,2215,-12.0005,-94.0008,4135,3520,3660,34.7855,2,2.5601,2
325020131025,       GT13,11,4,12,     NIS-12,2,     12,2,20131111,641,-12.0005,-94.0008,20.5,20.9595,35.4695,2,35.4688,2,225.5,2,225.5,2,3.41,2,9.38,2,0.34,2,0.87,2,1.657771441,2,1.042727139,2,0.150256,2,1.110555,2,20.9596,2,28.9,2,2.5,20131111,704,-12.0005,-94.0008,4141,3579,3660,35.636,2,20.9596,2
325020131025,       GT13,11,4,11,     NIS-11,2,     11,2,20131111,641,-12.0005,-94.0008,40,20.9604,35.4763,2,35.4762,2,226.3,2,225.7,2,3.32,2,9.19,2,0.33,2,0.86,2,1.648857186,6,1.029637539,6,0.148718,6,1.053135,6,20.9596,2,25,2,2.5,20131111,703,-12.0004,-94.0008,4141,3578,3660,35.6435,2,20.9596,2
325020131025,       GT13,11,4,10,     NIS-10,2,     10,2,20131111,641,-12.0005,-94.0008,76.3,19.9344,35.5561,2,35.557,2,218.9,2,219,2,2.73,2,6.83,2,0.42,2,0.83,2,1.720995591,2,1.075227085,2,0.150604,2,1.092285,2,19.9397,2,25.4,2,2.5,20131111,701,-12.0004,-94.0008,4141,3577,3660,35.7246,2,19.9397,2
325020131025,       GT13,11,4,9,      NIS-9,2,      9,2,20131111,641,-12.0005,-94.0008,111.4,16.9015,35.1585,2,35.1443,2,162.5,2,161,2,3.61,2,11.62,2,0.08,2,1.13,2,1.902187506,2,1.167487462,2,0.115905,2,1.05444,2,16.6225,3,25.5,2,2.5,20131111,659,-12.0005,-94.0008,4141,3576,3660,35.31,2,16.6225,3
325020131025,       GT13,11,4,8,      NIS-8,2,      8,2,20131111,641,-12.0005,-94.0008,130.6,15.4076,34.9652,2,34.9627,2,120.1,2,123.2,2,6.44,2,16.62,2,0.03,2,1.5,2,1.90196911,2,1.157579862,2,0.089722,2,0.95787,2,15.4101,2,33.2,2,2.5,20131111,657,-12.0004,-94.0008,4141,3575,3660,35.1275,2,15.4101,2
325020131025,       GT13,11,4,7,      NIS-7,2,      7,2,20131111,641,-12.0005,-94.0008,155.4,13.8589,34.7978,2,34.7955,2,65.2,2,65.9,2,12.49,2,21.07,2,0.02,2,2.05,2,1.75453427,2,1.051571558,2,0.051765,2,0.724275,2,13.8412,2,24.4,2,2.5,20131111,656,-12.0005,-94.0008,4141,3574,3660,34.9596,2,13.8412,2
325020131025,       GT13,11,4,6,      NIS-6,2,      6,2,20131111,641,-12.0005,-94.0008,181.4,13.0285,34.8015,2,34.803,2,8.6,2,8.2,2,22.45,2,20.49,2,0.02,2,2.61,2,1.276963384,2,0.743254082,2,0.025456,2,0.39672,2,13.0287,2,13.3,2,2.5,20131111,654,-12.0005,-94.0008,4141,3573,3660,34.9671,2,13.0287,2
325020131025,       GT13,11,4,5,      NIS-5,2,      5,2,20131111,641,-12.0005,-94.0008,200.7,12.6293,34.8212,2,34.8209,2,1.4,2,1.6,2,25.86,2,19.5,2,0.2,2,2.66,2,1.029924514,2,0.564314776,2,0.014375,2,0.241425,2,12.6253,2,2.3,2,2.5,20131111,652,-12.0004,-94.0008,4141,3572,3660,34.9851,2,12.6253,2
325020131025,       GT13,11,4,4,      NIS-4,2,      4,2,20131111,641,-12.0005,-94.0008,219.5,12.357,34.8363,2,34.8354,2,1.6,2,1.8,2,28.6,2,15.89,2,3.26,2,2.65,2,0.805042089,2,0.470500364,2,0.009598,2,0.228375,2,12.36,2,-7.6,2,2.5,20131111,650,-12.0003,-94.0008,4141,3571,3660,34.9997,2,12.36,2
325020131025,       GT13,11,4,3,      NIS-3,2,      3,2,20131111,641,-12.0005,-94.0008,237.2,11.9089,34.8039,2,34.8034,2,1.7,2,1.7,2,27.33,2,22.54,2,1.07,2,2.64,2,0.686344287,2,0.394781153,2,0.007302,2,0.15399,2,11.9129,2,-12.8,2,2.5,20131111,649,-12.0004,-94.0008,4141,3570,3660,34.9675,2,11.9129,2
325020131025,       GT13,11,4,2,      NIS-2,2,      2,2,20131111,641,-12.0005,-94.0008,260.6,11.4467,34.7653,2,34.7643,2,2,2,3,2,27.13,2,26.54,2,0,2,2.65,2,0.622579785,2,0.346224859,2,0.006192,2,0.10701,2,11.4453,2,-24.5,2,2.5,20131111,646,-12.0004,-94.0008,4141,3569,3660,34.9283,2,11.4453,2
325020131025,       GT13,11,4,1,      NIS-1,2,      1,2,20131111,641,-12.0005,-94.0008,321,10.4657,34.7453,2,34.7445,2,3.9,2,3.9,2,30.35,2,33.1,2,0,2,2.65,2,0.312765861,2,0.166037297,2,0.003424,2,0.053505,2,10.4761,2,-53,2,2.5,20131111,644,-12.0004,-94.0008,4141,3568,3660,34.9083,2,10.4761,2