BOTTLE,20161222CCHSIORJL
EXPOCODE,SECT_ID,STNNBR,CASTNO,SAMPNO,BTLNBR,BTLNBR_FLAG_W,BTLNBR_U,BTLNBR_U_FLAG_W,DATE,TIME,LATITUDE,LONGITUDE,CTDPRS,CTDTMP,CTDSAL,CTDSAL_FLAG_W,SALNTY,SALNTY_FLAG_W,CTDOXY,CTDOXY_FLAG_W,OXYGEN,OXYGEN_FLAG_W,SILCAT,SILCAT_FLAG_W,NITRAT,NITRAT_FLAG_W,NITRIT,NITRIT_FLAG_W,PHSPHT,PHSPHT_FLAG_W,CFC-11,CFC-11_FLAG_W,CFC-12,CFC-12_FLAG_W,CFC113,CFC113_FLAG_W,SF6,SF6_FLAG_W,REFTMP,REFTMP_FLAG_W,DELC14,DELC14_FLAG_W,C14ERR,BTL_DATE,BTL_TIME,BTL_LAT,BTL_LON,GEOTR_EVENT,GEOTR_SAMPNO,DEPTH,SALTREF,SALTREF_FLAG_W,SBE35,SBE35_FLAG_W
,,,,,,,,,,,,,DBAR,ITS-90,PSS-78,,PSS-78,,UMOL/KG,,UMOL/KG,,UMOL/KG,,UMOL/KG,,UMOL/KG,,UMOL/KG,,PMOL/KG,,PMOL/KG,,PMOL/KG,,FMOL/KG,,DEG C,,/MILLE,,/MILLE,,,,,,,METERS,G/KG,,ITS-90,
325020131025,       GT13,36,2,12,     NIS-12,2,     12,2,20131216,554,-10.5004,-151.9996,1006.6,4.626,34.5234,2,34.5228,2,107.2,2,108.3,2,71.94,2,37.71,2,0,2,2.64,2,0.018083714,2,0.010962322,2,-99,5,0,2,4.6253,2,-163.7,2,2.5,20131216,639,-10.5004,-151.9996,4458,10286,5141,34.6856,2,4.6253,2
325020131025,       GT13,36,2,11,     NIS-11,2,     11,2,20131216,554,-10.5004,-151.9996,1259.7,3.709,34.555,2,34.5542,2,114,2,114.9,2,92.15,2,37.7,2,0,2,2.67,2,0.006245797,2,0.003908796,2,-99,5,0,2,3.7036,2,-188.8,2,2.5,20131216,634,-10.5004,-151.9996,4458,10285,5141,34.7171,2,3.7036,2
325020131025,       GT13,36,2,10,     NIS-10,2,     10,2,20131216,554,-10.5004,-151.9996,1511.7,2.993,34.5874,2,34.5879,2,124.4,2,125,2,107.47,2,37.22,2,0,2,2.66,2,0.005381154,2,0.002597821,2,-99,5,0,2,2.9936,2,-208.2,2,2.5,20131216,628,-10.5004,-151.9996,4458,10284,5141,34.751,2,2.9936,2
325020131025,       GT13,36,2,9,      NIS-9,2,      9,2,20131216,554,-10.5004,-151.9996,1765.1,2.432,34.6189,2,34.6176,2,136.2,2,136.7,2,118.99,2,36.52,2,0,2,2.61,2,0.004656808,2,0.002808944,2,-99,5,0,2,2.4325,2,-214.2,2,2.5,20131216,622,-10.5004,-151.9996,4458,10283,5141,34.7808,2,2.4325,2
325020131025,       GT13,36,2,8,      NIS-8,2,      8,2,20131216,554,-10.5004,-151.9996,2018.1,2.122,34.6424,2,34.6425,2,140.2,2,140.7,2,127.48,2,36.36,2,0,2,2.6,2,0.009568229,2,0.003820325,2,-99,5,0,2,2.1219,2,-222.3,2,2.5,20131216,617,-10.5004,-151.9996,4458,10282,5141,34.8058,2,2.1219,2
325020131025,       GT13,36,2,7,      NIS-7,2,      7,2,20131216,554,-10.5004,-151.9996,2119.7,2.0585,34.6479,2,34.6474,2,141.4,2,141.5,2,129.33,2,36.35,2,0,2,2.6,2,0.005822829,2,0.002942656,2,-99,5,0,2,2.0582,2,-224.1,2,2.5,20131216,614,-10.5004,-151.9996,4458,10281,5141,34.8107,2,2.0582,2
325020131025,       GT13,36,2,6,      NIS-6,2,      6,2,20131216,554,-10.5004,-151.9996,2221.9,1.9937,34.6538,2,34.6533,2,142.3,2,142.3,2,131.87,2,36.34,2,0,2,2.61,2,0.004432334,2,0.001444686,2,-99,5,0,2,1.9936,2,-224.5,2,2.5,20131216,610,-10.5004,-151.9996,4458,10280,5141,34.8167,2,1.9936,2
325020131025,       GT13,36,2,5,      NIS-5,2,      5,2,20131216,554,-10.5004,-151.9996,2323.8,1.9184,34.6599,2,34.6589,2,144,2,143.7,2,133.82,2,36.28,2,0,2,2.59,2,0.003862833,2,0.001851852,2,-99,5,0,2,1.918,2,-228.1,2,2.5,20131216,607,-10.5004,-151.9996,4458,10279,5141,34.8224,2,1.918,2
325020131025,       GT13,36,2,4,      NIS-4,2,      4,2,20131216,554,-10.5004,-151.9996,2425.7,1.8756,34.664,2,34.6633,2,144.8,2,144.5,2,135.48,2,36.27,2,0,2,2.6,2,0.002867247,2,0.001434633,2,-99,5,0,2,1.8754,2,-227.1,2,2.5,20131216,605,-10.5004,-151.9996,4458,10278,5141,34.8267,2,1.8754,2
325020131025,       GT13,36,2,3,      NIS-3,2,      3,2,20131216,554,-10.5004,-151.9996,2526.5,1.8295,34.6678,2,34.6678,2,148.2,2,148.1,2,135.09,2,36.01,2,0,2,2.57,2,0.002897385,2,0.001352194,2,-99,5,0,2,1.8289,2,-225.8,2,2.5,20131216,602,-10.5004,-151.9996,4458,10277,5141,34.8313,2,1.8289,2
325020131025,       GT13,36,2,2,     NIS-22,2,      2,2,20131216,554,-10.5004,-151.9996,2629.1,1.7931,34.6709,2,34.6703,2,149.8,2,149.2,2,136.36,2,35.93,2,0,2,2.57,2,0.002360101,2,0.00083645,2,-99,5,0,2,1.7927,2,-225.2,2,2.5,20131216,559,-10.5004,-151.9996,4458,10276,5141,34.8338,2,1.7927,2
325020131025,       GT13,36,2,1,      NIS-1,2,      1,2,20131216,554,-10.5004,-151.9996,2730.9,1.7668,34.6731,2,34.6727,2,149.2,2,148,2,138.7,2,35.95,2,0,2,2.57,2,0.002499358,2,0.0011089,2,-99,5,0,2,1.7666,2,-223.2,2,2.5,20131216,555,-10.5004,-151.9996,4458,10275,5141,34.8362,2,1.7666,2
325020131025,       GT13,36,4,12,     NIS-12,2,     12,2,20131216,1616,-10.5004,-151.9996,30.2,29.046,35.2063,2,35.2056,2,197.1,2,196.7,2,1.66,2,0.34,2,0.02,2,0.21,2,1.230459478,2,0.819390345,2,-99,5,1.047,2,29.0452,2,35.9,2,2.5,20131216,1648,-10.5004,-151.9996,4461,10306,5136,35.3716,2,29.0452,2
325020131025,       GT13,36,4,11,     NIS-11,2,     11,2,20131216,1616,-10.5004,-151.9996,44.6,29.0465,35.2064,2,35.2047,2,197.1,2,196.3,2,1.46,2,0.33,2,0.02,2,0.2,2,1.240424694,2,0.816343134,2,-99,5,1.062,2,29.047,2,41.5,2,2.5,20131216,1646,-10.5004,-151.9996,4461,10305,5136,35.3707,2,29.047,2
325020131025,       GT13,36,4,10,     NIS-10,2,     10,2,20131216,1616,-10.5004,-151.9996,74.9,28.0461,35.7101,2,35.6561,2,182.6,2,185.7,2,1.76,2,1.06,2,0.21,2,0.32,2,1.316435319,2,0.869294849,2,-99,5,1.034,2,28.022,3,48,2,2.5,20131216,1645,-10.5004,-151.9995,4461,10304,5136,35.8242,2,28.022,3
325020131025,       GT13,36,4,9,      NIS-9,2,      9,2,20131216,1616,-10.5004,-151.9996,100,26.7031,36.0615,2,36.0613,2,194.4,2,193.6,2,1.56,2,0.14,2,0.13,2,0.26,2,1.37946591,2,0.881661643,2,-99,5,1.049,2,26.7122,2,45.8,2,2.5,20131216,1643,-10.5004,-151.9996,4461,10303,5136,36.2313,2,26.7122,2
325020131025,       GT13,36,4,8,      NIS-8,2,      8,2,20131216,1616,-10.5004,-151.9996,129.5,25.337,36.2029,2,36.1979,2,175.1,2,178.4,2,1.66,2,1.27,2,1.09,2,0.37,2,1.405963264,2,0.951790746,2,-99,5,1.114,2,25.3138,3,49.3,2,2.5,20131216,1641,-10.5004,-151.9996,4461,10302,5136,36.3686,2,25.3138,3
325020131025,       GT13,36,4,7,      NIS-7,2,      7,2,20131216,1616,-10.5004,-151.9996,199.8,21.0774,35.9584,2,35.9596,2,164,2,163.6,2,1.66,2,5.79,2,0.02,2,0.59,2,1.740527553,6,1.136389353,6,-99,5,1.101,6,21.0838,2,55.3,2,2.5,20131216,1639,-10.5004,-151.9996,4461,10301,5136,36.1292,2,21.0838,2
325020131025,       GT13,36,4,6,      NIS-6,2,      6,2,20131216,1616,-10.5004,-151.9996,301,14.3412,34.985,2,34.9939,2,105,2,104.1,2,9.27,2,17.6,2,0,2,1.49,2,1.74255354,2,1.037865685,2,-99,5,0.68,2,14.4052,3,30.6,2,2.5,20131216,1636,-10.5005,-151.9996,4461,10300,5136,35.1589,2,14.4052,3
325020131025,       GT13,36,4,5,      NIS-5,2,      5,2,20131216,1616,-10.5004,-151.9996,351.4,10.7509,34.7053,2,34.7051,2,75.2,2,75.6,2,20.11,2,26.98,2,0,2,2.07,2,0.917363168,2,0.52479503,2,-99,5,0.243,2,10.751,2,-15,2,2.5,20131216,1634,-10.5004,-151.9995,4461,10299,5136,34.8687,2,10.751,2
325020131025,       GT13,36,4,4,      NIS-4,2,      4,2,20131216,1616,-10.5004,-151.9996,452,8.375,34.6243,2,34.6238,2,93.6,2,93.7,2,30.75,2,31.97,2,0,2,2.23,2,0.377716929,2,0.222850617,2,-99,5,0.02,2,8.3721,2,-67.8,2,2.5,20131216,1632,-10.5004,-151.9996,4461,10298,5136,34.7871,2,8.3721,2
325020131025,       GT13,36,4,3,      NIS-3,2,      3,2,20131216,1616,-10.5004,-151.9996,602.4,6.7948,34.552,2,34.5521,2,94.9,2,95.5,2,42.76,2,35.44,2,0,2,2.45,2,0.164120015,2,0.097247378,2,-99,5,0,2,6.7946,2,-105.3,2,2.5,20131216,1628,-10.5004,-151.9996,4461,10297,5136,34.715,2,6.7946,2
325020131025,       GT13,36,4,2,     NIS-22,2,      2,2,20131216,1616,-10.5004,-151.9996,805.1,5.4488,34.5203,2,34.5197,2,97,2,97.3,2,59.35,2,37.88,2,0,2,2.66,2,0.042557678,2,0.02498191,2,-99,5,0,2,5.4488,2,-143.2,2,2.5,20131216,1623,-10.5004,-151.9996,4461,10296,5136,34.6825,2,5.4488,2
325020131025,       GT13,36,4,1,      NIS-1,2,      1,2,20131216,1616,-10.5004,-151.9996,1006.6,4.4711,34.5241,2,34.5242,2,111.7,2,111.9,2,74.97,2,37.61,2,0,2,2.66,2,0.018703097,2,0.010109786,2,-99,5,0,2,4.4683,2,-168.1,2,2.5,20131216,1619,-10.5004,-151.9995,4461,10295,5136,34.687,2,4.4683,2
325020131025,       GT13,36,6,12,     NIS-12,2,     12,2,20131216,2058,-10.5002,-152.0004,3.5,29.0929,35.2318,2,35.2296,2,196.5,2,196.7,2,1.37,2,0.37,2,0.02,2,0.2,2,1.225953358,2,0.807919317,2,-99,5,1.021,2,29.0929,2,43,2,2.5,20131216,2129,-10.5002,-152.0004,4466,10363,5147,35.3958,2,29.0929,2
325020131025,       GT13,36,6,11,     NIS-11,2,     11,2,20131216,2058,-10.5002,-152.0004,29.4,29.0687,35.2413,2,35.2397,2,196.7,2,196.8,2,1.37,2,0.39,2,0.02,2,0.2,2,-999,9,-999,9,-999,9,-999,9,29.0684,2,-999,9,-999,20131216,2127,-10.5002,-152.0004,4466,10362,5147,35.4058,2,29.0684,2
325020131025,       GT13,36,6,10,     NIS-10,2,     10,2,20131216,2058,-10.5002,-152.0004,45.4,29.0674,35.2463,2,35.2448,2,197,2,196.4,2,1.56,2,0.41,2,0.02,2,0.2,2,-999,9,-999,9,-999,9,-999,9,29.067,2,-999,9,-999,20131216,2126,-10.5002,-152.0004,4466,10361,5147,35.411,2,29.067,2
325020131025,       GT13,36,6,9,      NIS-9,2,      9,2,20131216,2058,-10.5002,-152.0004,75.1,28.224,35.6191,2,35.6338,2,188.3,2,187.4,2,1.56,2,0.94,2,0.18,2,0.3,2,-999,9,-999,9,-999,9,-999,9,28.2295,2,-999,9,-999,20131216,2124,-10.5002,-152.0004,4466,10360,5147,35.8018,2,28.2295,2
325020131025,       GT13,36,6,8,      NIS-8,2,      8,2,20131216,2058,-10.5002,-152.0004,99.9,26.6228,36.0675,2,36.0652,2,192.3,2,192.6,2,1.46,2,0.16,2,0.14,2,0.26,2,-999,9,-999,9,-999,9,-999,9,26.6247,2,-999,9,-999,20131216,2123,-10.5002,-152.0004,4466,10359,5147,36.2353,2,26.6247,2
325020131025,       GT13,36,6,7,      NIS-7,2,      7,2,20131216,2058,-10.5002,-152.0004,130.6,25.2494,36.2167,2,36.2135,2,171.4,2,172.4,2,1.27,2,2.1,2,1.34,2,0.44,2,-999,9,-999,9,-999,9,-999,9,25.2515,2,-999,9,-999,20131216,2121,-10.5002,-152.0004,4466,10358,5147,36.3843,2,25.2515,2
325020131025,       GT13,36,6,6,      NIS-6,2,      6,2,20131216,2058,-10.5002,-152.0004,200.6,20.0986,35.7863,2,35.788,2,158.4,2,158.1,2,1.85,2,7.21,2,0,2,0.68,2,-999,9,-999,9,-999,9,-999,9,20.1018,2,-999,9,-999,20131216,2119,-10.5002,-152.0004,4466,10357,5147,35.9567,2,20.1018,2
325020131025,       GT13,36,6,5,      NIS-5,2,      5,2,20131216,2058,-10.5002,-152.0004,300.8,13.6269,34.9154,2,34.9224,2,92.1,2,94.7,2,10.73,2,19.48,2,0,2,1.57,2,-999,9,-999,9,-999,9,-999,9,13.5354,3,-999,9,-999,20131216,2116,-10.5002,-152.0004,4466,10356,5147,35.0871,2,13.5354,3
325020131025,       GT13,36,6,4,      NIS-4,2,      4,2,20131216,2058,-10.5002,-152.0004,452.6,8.1524,34.6136,2,34.6125,2,94.6,2,94.8,2,31.92,2,32.64,2,0,2,2.17,2,-999,9,-999,9,-999,9,-999,9,8.1548,2,-999,9,-999,20131216,2111,-10.5002,-152.0004,4466,10355,5147,34.7757,2,8.1548,2
325020131025,       GT13,36,6,3,      NIS-3,2,      3,2,20131216,2058,-10.5002,-152.0004,602.6,6.8636,34.5537,2,34.5544,2,95.9,2,95.9,2,41.78,2,35.48,2,0,2,2.35,2,-999,9,-999,9,-999,9,-999,9,6.8635,2,-999,9,-999,20131216,2108,-10.5002,-152.0004,4466,10354,5147,34.7173,2,6.8635,2
325020131025,       GT13,36,6,2,     NIS-22,2,      2,2,20131216,2058,-10.5002,-152.0004,804.9,5.6076,34.5215,2,34.5193,2,96.9,2,97.1,2,56.62,2,37.82,2,0,2,2.55,2,-999,9,-999,9,-999,9,-999,9,5.607,2,-999,9,-999,20131216,2103,-10.5002,-152.0004,4466,10353,5147,34.6821,2,5.607,2
325020131025,       GT13,36,6,1,      NIS-1,2,      1,2,20131216,2058,-10.5002,-152.0004,1007.4,4.6795,34.5241,2,34.5232,2,104.4,2,104.5,2,71.75,2,38.34,2,0,2,2.61,2,-999,9,-999,9,-999,9,-999,9,4.6778,2,-999,9,-999,20131216,2058,-10.5002,-152.0004,4466,10352,5147,34.686,2,4.6778,2
325020131025,       GT13,36,8,12,     NIS-12,2,     12,2,20131217,531,-10.5002,-152.0004,3036.4,1.6786,34.6792,2,34.6776,2,152.9,2,152.6,2,140.36,2,36.09,2,0,2,2.51,2,-999,9,-999,9,-999,9,-999,9,1.6787,2,-999,9,-999,20131217,616,-10.5002,-152.0004,4465,10351,5148,34.8411,2,1.6787,2
325020131025,       GT13,36,8,11,     NIS-11,2,     11,2,20131217,531,-10.5002,-152.0004,3037.1,1.6786,34.6792,2,34.6778,2,152.9,2,152.6,2,139.77,2,36.09,2,0,2,2.51,2,-999,9,-999,9,-999,9,-999,9,1.6787,2,-999,9,-999,20131217,616,-10.5002,-152.0004,4465,10350,5148,34.8413,2,1.6787,2
325020131025,       GT13,36,8,10,     NIS-10,2,     10,2,20131217,531,-10.5002,-152.0004,3546.8,1.522,34.6883,2,34.6866,2,166.7,2,166.3,2,136.75,2,35.16,2,0,2,2.44,2,-999,9,-999,9,-999,9,-999,9,1.522,2,-999,9,-999,20131217,606,-10.5002,-152.0004,4465,10349,5148,34.8502,2,1.522,2
325020131025,       GT13,36,8,9,      NIS-9,2,      9,2,20131217,531,-10.5002,-152.0004,3547.2,1.522,34.6883,2,34.6864,2,166.7,2,166.5,2,136.84,2,35.19,2,0,2,2.44,2,-999,9,-999,9,-999,9,-999,9,1.522,2,-999,9,-999,20131217,606,-10.5002,-152.0004,4465,10348,5148,34.85,2,1.522,2
325020131025,       GT13,36,8,7,      NIS-7,2,      7,2,20131217,531,-10.5002,-152.0004,4056.8,1.3966,34.6966,2,34.6954,2,178.1,2,177.6,2,134.11,2,34.49,2,0,2,2.38,2,-999,9,-999,9,-999,9,-999,9,1.3969,2,-999,9,-999,20131217,556,-10.5002,-152.0004,4465,10346,5148,34.859,2,1.3969,2
325020131025,       GT13,36,8,8,      NIS-8,2,      8,2,20131217,531,-10.5002,-152.0004,4057.7,1.397,34.6966,2,34.6953,2,178.1,2,177.3,2,134.5,2,34.46,2,0,2,2.38,2,-999,9,-999,9,-999,9,-999,9,1.3973,2,-999,9,-999,20131217,556,-10.5002,-152.0004,4465,10347,5148,34.8589,2,1.3973,2
325020131025,       GT13,36,8,5,      NIS-5,2,      5,2,20131217,531,-10.5002,-152.0004,4826.6,1.3079,34.7046,2,34.7035,2,192.2,2,192.3,2,128.45,2,33.48,2,0,2,2.3,2,-999,9,-999,9,-999,9,-999,9,1.308,2,-999,9,-999,20131217,541,-10.5002,-152.0004,4465,10344,5148,34.8671,2,1.308,2
325020131025,       GT13,36,8,6,      NIS-6,2,      6,2,20131217,531,-10.5002,-152.0004,4826.7,1.3079,34.7046,2,34.7039,2,192.2,2,191.8,2,128.35,2,33.44,2,0,2,2.32,2,-999,9,-999,9,-999,9,-999,9,1.3078,2,-999,9,-999,20131217,541,-10.5002,-152.0004,4465,10345,5148,34.8675,2,1.3078,2
325020131025,       GT13,36,8,3,      NIS-3,2,      3,2,20131217,531,-10.5002,-152.0004,5186.3,1.3193,34.7059,2,34.7051,2,194.8,2,194.8,2,127.28,2,33.33,2,0,2,2.3,2,-999,9,-999,9,-999,9,-999,9,1.3192,2,-999,9,-999,20131217,532,-10.5002,-152.0004,4465,10342,5148,34.8687,2,1.3192,2
325020131025,       GT13,36,8,4,      NIS-4,2,      4,2,20131217,531,-10.5002,-152.0004,5186.9,1.3194,34.7059,2,34.7052,2,194.8,2,195,2,127.28,2,33.29,2,0,2,2.29,2,-999,9,-999,9,-999,9,-999,9,1.3192,2,-999,9,-999,20131217,533,-10.5002,-152.0004,4465,10343,5148,34.8689,2,1.3192,2
325020131025,       GT13,36,8,2,     NIS-22,2,      2,2,20131217,531,-10.5002,-152.0004,5212.5,1.3207,34.706,2,34.7051,2,194.6,2,195.1,2,127.28,2,33.32,2,0,2,2.3,2,-999,9,-999,9,-999,9,-999,9,1.3206,2,-999,9,-999,20131217,530,-10.5002,-152.0004,4465,10341,5148,34.8687,2,1.3206,2
325020131025,       GT13,36,8,1,      NIS-1,2,      1,2,20131217,531,-10.5002,-152.0004,5212.8,1.3208,34.7059,2,34.7051,2,194.7,2,195.3,2,127.18,2,33.34,2,0,2,2.3,2,-999,9,-999,9,-999,9,-999,9,1.3207,2,-999,9,-999,20131217,530,-10.5002,-152.0004,4465,10340,5148,34.8687,2,1.3207,2
325020131025,       GT13,36,10,11,     NIS-11,2,     11,2,20131217,1033,-10.5002,-152.0004,2322.7,1.9239,34.6594,2,34.6582,2,142.9,2,143.1,2,134.41,2,36.1,2,0,2,2.55,2,-999,9,-999,9,-999,9,-999,9,1.9237,2,-999,9,-999,20131217,1050,-10.5002,-152.0004,4469,10402,5142,34.8216,2,1.9237,2
325020131025,       GT13,36,10,12,     NIS-12,2,     12,2,20131217,1033,-10.5002,-152.0004,2324.1,1.9241,34.6593,2,34.6591,2,142.9,2,143.3,2,134.21,2,36.03,2,0,2,2.53,2,-999,9,-999,9,-999,9,-999,9,1.924,2,-999,9,-999,20131217,1050,-10.5002,-152.0004,4469,10403,5142,34.8226,2,1.924,2
325020131025,       GT13,36,10,10,     NIS-10,2,     10,2,20131217,1033,-10.5002,-152.0004,2424.6,1.8793,34.6634,2,34.6629,2,143.8,2,144,2,135.68,2,36.09,2,0,2,2.54,2,-999,9,-999,9,-999,9,-999,9,1.8788,2,-999,9,-999,20131217,1047,-10.5002,-152.0004,4469,10401,5142,34.8263,2,1.8788,2
325020131025,       GT13,36,10,9,      NIS-9,2,      9,2,20131217,1033,-10.5002,-152.0004,2424.9,1.8791,34.6634,2,34.6633,2,143.8,2,144.1,2,136.26,2,36.09,2,0,2,2.54,2,-999,9,-999,9,-999,9,-999,9,1.8788,2,-999,9,-999,20131217,1047,-10.5002,-152.0004,4469,10400,5142,34.8267,2,1.8788,2
325020131025,       GT13,36,10,7,      NIS-7,2,      7,2,20131217,1033,-10.5002,-152.0004,2525.6,1.834,34.6672,2,34.6666,2,147,2,147.2,2,136.16,2,35.9,2,0,2,2.52,2,-999,9,-999,9,-999,9,-999,9,1.8337,2,-999,9,-999,20131217,1044,-10.5002,-152.0004,4469,10398,5142,34.8301,2,1.8337,2
325020131025,       GT13,36,10,8,      NIS-8,2,      8,2,20131217,1033,-10.5002,-152.0004,2526.3,1.8339,34.6673,2,34.667,2,147,2,147.5,2,135.97,2,35.85,2,0,2,2.52,2,-999,9,-999,9,-999,9,-999,9,1.8336,2,-999,9,-999,20131217,1044,-10.5002,-152.0004,4469,10399,5142,34.8305,2,1.8336,2
325020131025,       GT13,36,10,5,      NIS-5,2,      5,2,20131217,1033,-10.5002,-152.0004,2628.7,1.8014,34.6702,2,34.6697,2,146.4,2,146.8,2,138.11,2,35.95,2,0,2,2.54,2,-999,9,-999,9,-999,9,-999,9,1.801,2,-999,9,-999,20131217,1041,-10.5002,-152.0004,4469,10396,5142,34.8332,2,1.801,2
325020131025,       GT13,36,10,6,      NIS-6,2,      6,2,20131217,1033,-10.5002,-152.0004,2629.3,1.8009,34.6703,2,34.6697,2,146.3,2,146.5,2,138.7,2,35.98,2,0,2,2.54,2,-999,9,-999,9,-999,9,-999,9,1.8016,2,-999,9,-999,20131217,1041,-10.5002,-152.0004,4469,10397,5142,34.8332,2,1.8016,2
325020131025,       GT13,36,10,4,      NIS-4,2,      4,2,20131217,1033,-10.5002,-152.0004,2729.6,1.7682,34.6728,2,34.6715,2,147.8,2,147.5,2,138.21,2,35.86,2,0,2,2.53,2,-999,9,-999,9,-999,9,-999,9,1.768,2,-999,9,-999,20131217,1038,-10.5002,-152.0004,4469,10395,5142,34.835,2,1.768,2
325020131025,       GT13,36,10,3,      NIS-3,2,      3,2,20131217,1033,-10.5002,-152.0004,2730.3,1.7682,34.6729,2,34.6711,2,147.8,2,147.7,2,138.51,2,35.84,2,0,2,2.54,2,-999,9,-999,9,-999,9,-999,9,1.768,2,-999,9,-999,20131217,1037,-10.5002,-152.0004,4469,10394,5142,34.8346,2,1.768,2
325020131025,       GT13,36,10,1,      NIS-1,2,      1,2,20131217,1033,-10.5002,-152.0004,2831.1,1.7364,34.6752,2,34.6723,2,150.8,2,150.5,2,138.7,2,35.7,2,0,2,2.55,2,-999,9,-999,9,-999,9,-999,9,1.7359,2,-999,9,-999,20131217,1034,-10.5002,-152.0004,4469,10392,5142,34.8358,2,1.7359,2
325020131025,       GT13,36,10,2,     NIS-22,2,      2,2,20131217,1033,-10.5002,-152.0004,2831.8,1.7362,34.6753,2,34.6739,2,150.8,2,150.7,2,137.82,2,35.68,2,0,2,2.52,2,-999,9,-999,9,-999,9,-999,9,1.7358,2,-999,9,-999,20131217,1034,-10.5002,-152.0004,4469,10393,5142,34.8374,2,1.7358,2