BOTTLE,20161222CCHSIORJL
EXPOCODE,SECT_ID,STNNBR,CASTNO,SAMPNO,BTLNBR,BTLNBR_FLAG_W,BTLNBR_U,BTLNBR_U_FLAG_W,DATE,TIME,LATITUDE,LONGITUDE,CTDPRS,CTDTMP,CTDSAL,CTDSAL_FLAG_W,SALNTY,SALNTY_FLAG_W,CTDOXY,CTDOXY_FLAG_W,OXYGEN,OXYGEN_FLAG_W,SILCAT,SILCAT_FLAG_W,NITRAT,NITRAT_FLAG_W,NITRIT,NITRIT_FLAG_W,PHSPHT,PHSPHT_FLAG_W,CFC-11,CFC-11_FLAG_W,CFC-12,CFC-12_FLAG_W,CFC113,CFC113_FLAG_W,SF6,SF6_FLAG_W,REFTMP,REFTMP_FLAG_W,DELC14,DELC14_FLAG_W,C14ERR,BTL_DATE,BTL_TIME,BTL_LAT,BTL_LON,GEOTR_EVENT,GEOTR_SAMPNO,DEPTH,SALTREF,SALTREF_FLAG_W,SBE35,SBE35_FLAG_W
,,,,,,,,,,,,,DBAR,ITS-90,PSS-78,,PSS-78,,UMOL/KG,,UMOL/KG,,UMOL/KG,,UMOL/KG,,UMOL/KG,,UMOL/KG,,PMOL/KG,,PMOL/KG,,PMOL/KG,,FMOL/KG,,DEG C,,/MILLE,,/MILLE,,,,,,,METERS,G/KG,,ITS-90,
325020131025,       GT13,28,9,12,     NIS-12,2,     12,2,20131207,1005,-11.6251,-132.5003,2578.4,1.8241,34.6729,2,34.6737,2,146.4,2,145.7,2,137.24,2,36.1,2,0,2,2.59,2,0.005991772,2,0.001861504,2,0,2,-0.942,4,1.8241,2,-999,9,-999,20131207,1048,-11.6251,-132.5002,4373,9663,4038,34.8372,2,1.8241,2
325020131025,       GT13,28,9,11,     NIS-11,2,     11,2,20131207,1005,-11.6251,-132.5003,2629.7,1.8119,34.6738,2,34.6754,2,147,2,146.7,2,137.33,2,36.03,2,0,2,2.58,2,0.007743322,2,0.002067218,2,0,2,3.771,4,1.812,2,-999,9,-999,20131207,1044,-11.6251,-132.5002,4373,9662,4038,34.8389,2,1.812,2
325020131025,       GT13,28,9,10,     NIS-10,2,     10,2,20131207,1005,-11.6251,-132.5003,2679.9,1.8029,34.6745,2,34.675,2,147.5,2,147.4,2,137.92,2,36.03,2,0,2,2.58,2,0.005618624,2,0.000841005,2,0,2,7.474,4,1.8027,2,-999,9,-999,20131207,1042,-11.6251,-132.5002,4373,9661,4038,34.8385,2,1.8027,2
325020131025,       GT13,28,9,9,      NIS-9,2,      9,2,20131207,1005,-11.6251,-132.5003,2730.9,1.7869,34.6753,2,34.6762,2,148.4,2,148.5,2,137.63,2,35.99,2,0,2,2.58,2,0.005339273,2,0.001135457,2,0,2,8.666,4,1.7866,2,-999,9,-999,20131207,1040,-11.6251,-132.5002,4373,9660,4038,34.8397,2,1.7866,2
325020131025,       GT13,28,9,8,      NIS-8,2,      8,2,20131207,1005,-11.6251,-132.5003,2831.8,1.7477,34.6773,2,34.678,2,151.4,2,151.9,2,137.72,2,35.87,2,0,2,2.57,2,0.00759651,2,0.001220163,2,0,2,8.531,4,1.7479,2,-999,9,-999,20131207,1037,-11.6251,-132.5002,4373,9659,4038,34.8415,2,1.7479,2
325020131025,       GT13,28,9,7,      NIS-7,2,      7,2,20131207,1005,-11.6251,-132.5003,2934.1,1.7147,34.6789,2,34.6795,2,154.2,2,153.9,2,137.14,2,35.73,2,0,2,2.56,2,0.005745046,2,0.001104197,2,0,2,0.761,4,1.7149,2,-999,9,-999,20131207,1035,-11.6251,-132.5002,4373,9658,4038,34.8431,2,1.7149,2
325020131025,       GT13,28,9,6,      NIS-6,2,      6,2,20131207,1005,-11.6251,-132.5003,3035.8,1.6815,34.6804,2,34.6807,2,156.4,2,156.3,2,137.53,2,35.59,2,0,2,2.56,2,0.006433228,2,0.001523691,2,0,2,8.186,4,1.6814,2,-999,9,-999,20131207,1032,-11.6251,-132.5002,4373,9657,4038,34.8443,2,1.6814,2
325020131025,       GT13,28,9,5,      NIS-5,2,      5,2,20131207,1005,-11.6251,-132.5003,3290.3,1.5979,34.6849,2,34.6868,2,161.8,2,161.3,2,137.33,2,35.24,2,0,2,2.54,2,0.006317001,2,0.001125373,2,0,2,8.803,4,1.5978,2,-999,9,-999,20131207,1026,-11.6251,-132.5002,4373,9656,4038,34.8504,2,1.5978,2
325020131025,       GT13,28,9,4,      NIS-4,2,      4,2,20131207,1005,-11.6251,-132.5003,3546.4,1.5676,34.6874,2,34.6884,2,164.6,2,164.1,2,137.04,2,35.08,2,0,2,2.52,2,0.007309003,2,0.000980164,2,0,2,9.602,4,1.5674,2,-999,9,-999,20131207,1021,-11.6251,-132.5002,4373,9655,4038,34.852,2,1.5674,2
325020131025,       GT13,28,9,3,      NIS-3,2,      3,2,20131207,1005,-11.6251,-132.5003,3852,1.5582,34.6895,2,34.6917,2,166.1,2,166.5,2,136.84,2,34.96,2,0,2,2.51,2,0.005755241,2,0.000931761,2,0,2,10.933,4,1.5579,2,-999,9,-999,20131207,1015,-11.6251,-132.5002,4373,9654,4038,34.8553,2,1.5579,2
325020131025,       GT13,28,9,2,     NIS-22,2,      2,2,20131207,1005,-11.6251,-132.5003,3954.8,1.558,34.6899,2,34.6907,2,167,2,166.8,2,137.14,2,34.92,2,0,2,2.51,2,0.006034592,2,0.000561678,2,0.00208493,2,10.913,4,1.5577,2,-999,9,-999,20131207,1012,-11.6251,-132.5002,4373,9653,4038,34.8543,2,1.5577,2
325020131025,       GT13,28,9,1,      NIS-1,2,      1,2,20131207,1005,-11.6251,-132.5003,4072.6,1.5608,34.6902,2,34.6923,2,167.2,2,167.7,2,136.94,2,35.03,2,0,2,2.51,2,0.010457308,2,0.002120663,2,0.008326587,2,11,4,1.5606,2,-999,9,-999,20131207,1007,-11.6251,-132.5002,4373,9652,4038,34.8559,2,1.5606,2
325020131025,       GT13,28,9,13, NIOZ_CORER,2,    13,2,20131207,1005,-11.6251,-132.5003,4088.1,-999,-999,2,-999,9,-999,9,-999,9,-999,9,-999,9,-999,9,-999,9,-999,9,-999,9,-999,9,-999,9,-999,9,-999,9,-999,20131207,1005,-11.6251,-132.5003,4373,9651,4038,-999,9,-999,9
325020131025,       GT13,28,25,25,       FISH,2,   25,2,20131206,1926,-11.6399,-132.5626,3.5,27.2511,36.0007,2,36.0029,2,-999,9,-999,9,1.66,2,2.37,2,0.05,2,0.36,2,-999,9,-999,9,-999,9,-999,9,-999,9,-999,9,-999,20131206,1915,-11.6347,-132.5368,4372,9650,4170,36.1727,2,-999,9
325020131025,       GT13,29,2,12,     NIS-12,2,     12,2,20131208,130,-11.6,-135.0003,30.8,27.3749,35.8361,2,35.8359,2,202.1,2,202,2,1.76,2,3.41,2,0.07,2,0.42,2,1.363536884,6,0.880988134,6,0.11711567,6,1.032,6,27.3747,2,-999,9,-999,20131208,204,-11.6001,-135.0003,4382,9731,4282,36.0049,2,27.3747,2
325020131025,       GT13,29,2,11,     NIS-11,2,     11,2,20131208,130,-11.6,-135.0003,40.3,27.3666,35.8364,2,35.8365,2,201.7,2,202,2,1.76,2,3.4,2,0.07,2,0.42,2,1.352322575,2,0.882844092,2,0.127177678,2,1.05,2,27.3655,2,-999,9,-999,20131208,203,-11.6001,-135.0003,4382,9730,4282,36.0055,2,27.3655,2
325020131025,       GT13,29,2,10,     NIS-10,2,     10,2,20131208,130,-11.6,-135.0003,65.1,27.3166,35.8624,2,35.8554,2,202.4,2,201.8,2,1.76,2,3.31,2,0.07,2,0.42,2,1.356539347,2,0.890675317,2,0.12531801,2,1.011,2,27.3162,2,-999,9,-999,20131208,201,-11.6001,-135.0003,4382,9729,4282,36.0245,2,27.3162,2
325020131025,       GT13,29,2,9,      NIS-9,2,      9,2,20131208,130,-11.6,-135.0003,74.8,26.6938,35.8328,2,35.8406,2,201.7,2,201.4,2,1.56,2,3.5,2,0.07,2,0.46,2,1.370911647,2,0.943395416,2,0.12812317,2,1.022,2,26.6978,2,-999,9,-999,20131208,159,-11.6001,-135.0003,4382,9728,4282,36.0096,2,26.6978,2
325020131025,       GT13,29,2,8,      NIS-8,2,      8,2,20131208,130,-11.6,-135.0003,94.2,26.4813,36.0249,2,36.0293,2,198.6,2,199.1,2,1.37,2,2.12,2,0.05,2,0.39,2,1.394780858,2,0.923726597,2,0.129878793,2,0.953,2,26.4918,2,-999,9,-999,20131208,158,-11.6,-135.0003,4382,9727,4282,36.1992,2,26.4918,2
325020131025,       GT13,29,2,7,      NIS-7,2,      7,2,20131208,130,-11.6,-135.0003,149.6,23.9343,36.2017,2,36.2102,2,180.8,2,180.7,2,1.36,2,0.52,2,2.65,2,0.48,2,1.572708032,2,1.036832643,2,0.13474868,2,1.063,2,23.9815,3,-999,9,-999,20131208,156,-11.6001,-135.0003,4382,9726,4282,36.3809,2,23.9815,3
325020131025,       GT13,29,2,6,      NIS-6,2,      6,2,20131208,130,-11.6,-135.0003,231.6,17.8595,35.3912,2,35.3996,2,160.4,2,161.4,2,2.63,2,8.71,2,0.02,2,0.84,2,1.964979953,2,1.286452695,2,0.029915306,2,0.994,2,17.8878,3,-999,9,-999,20131208,153,-11.6,-135.0003,4382,9725,4282,35.5666,2,17.8878,3
325020131025,       GT13,29,2,5,      NIS-5,2,      5,2,20131208,130,-11.6,-135.0003,327.4,12.0407,34.7566,2,34.7602,2,44.5,2,45.1,2,17.76,2,25.38,2,0,2,2.19,2,1.215901445,2,0.443553297,2,0.013726797,2,0.259,2,12.0676,3,-999,9,-999,20131208,150,-11.6001,-135.0003,4382,9724,4282,34.9241,2,12.0676,3
325020131025,       GT13,29,2,4,      NIS-4,2,      4,2,20131208,130,-11.6,-135.0003,451.4,8.8937,34.6487,2,34.6499,2,73.6,2,71.9,2,28.99,2,32.8,2,0,2,2.29,2,0.371748803,2,0.081795262,2,0.006799255,2,0.063,2,8.8936,2,-999,9,-999,20131208,146,-11.6,-135.0003,4382,9723,4282,34.8133,2,8.8936,2
325020131025,       GT13,29,2,3,      NIS-3,2,      3,2,20131208,130,-11.6,-135.0003,628.5,6.7881,34.5571,2,34.5577,2,57.4,2,56.4,2,45.59,2,39.85,2,0,2,2.73,2,0.040457967,2,0.020454362,2,0.001161661,2,1.945,4,6.788,2,-999,9,-999,20131208,142,-11.6,-135.0003,4382,9722,4282,34.7207,2,6.788,2
325020131025,       GT13,29,2,2,     NIS-22,2,      2,2,20131208,130,-11.6,-135.0003,870.2,5.233,34.5203,2,34.5209,2,76.1,2,76.6,2,63.35,2,40.87,2,0,2,2.84,2,0.014756662,2,0.005709554,2,0.001748553,2,1.439,4,5.2295,2,-999,9,-999,20131208,137,-11.6,-135.0003,4382,9721,4282,34.6837,2,5.2295,2
325020131025,       GT13,29,2,1,      NIS-1,2,      1,2,20131208,130,-11.6,-135.0003,1005.9,4.5833,34.526,2,34.526,2,88.8,2,88.9,2,74.48,2,40.27,2,0,2,2.83,2,0.008989187,2,0.000890416,2,0.001935429,2,0.24,4,4.5834,2,-999,9,-999,20131208,133,-11.6001,-135.0004,4382,9720,4282,34.6888,2,4.5834,2
325020131025,       GT13,29,25,25,       FISH,2,   25,2,20131208,246,-11.6025,-135.0381,3.1,27.4297,35.8384,2,35.8466,2,-999,9,-999,9,1.76,2,3.41,2,0.07,2,0.42,2,-999,9,-999,9,-999,9,-999,9,-999,9,-999,9,-999,20131208,241,-11.6027,-135.0305,4381,9719,4154,36.0156,2,-999,9
325020131025,       GT13,30,2,12,     NIS-12,2,     12,2,20131208,1400,-11.5803,-136.9805,1006.6,4.4602,34.5331,2,34.5375,2,85.2,2,85.3,2,77.8,2,40.37,2,0,2,2.84,2,0.005746983,2,0.001608061,2,-99,5,0,2,4.4566,2,-170.9,2,2.5,20131208,1517,-11.5803,-136.9804,4389,9769,4110,34.7004,2,4.4566,2
325020131025,       GT13,30,2,11,     NIS-11,2,     11,2,20131208,1400,-11.5803,-136.9805,1259.8,3.6274,34.5614,2,34.5622,2,100.9,2,101.3,2,95.86,2,39.22,2,0,2,2.8,2,0.004452441,2,0,2,-99,5,0,2,3.6272,2,-201.5,2,2.5,20131208,1511,-11.5803,-136.9805,4389,9768,4110,34.7252,2,3.6272,2
325020131025,       GT13,30,2,10,     NIS-10,2,     10,2,20131208,1400,-11.5803,-136.9805,1512.4,3.0028,34.59,2,34.5917,2,113.8,2,115,2,109.33,2,38.23,2,0,2,2.74,2,0.007821967,2,0.004743275,2,-99,5,0,2,3.003,2,-211.1,2,2.5,20131208,1505,-11.5803,-136.9805,4389,9767,4110,34.7548,2,3.003,2
325020131025,       GT13,30,2,9,      NIS-9,2,      9,2,20131208,1400,-11.5803,-136.9805,1764.7,2.6332,34.612,2,34.6129,2,120.6,2,121.8,2,118.89,2,37.7,2,0,2,2.72,2,0.004978929,2,0.00106395,2,-99,5,0,2,2.6329,2,-230.4,2,2.5,20131208,1458,-11.5803,-136.9805,4389,9766,4110,34.7761,2,2.6329,2
325020131025,       GT13,30,2,8,      NIS-8,2,      8,2,20131208,1400,-11.5803,-136.9805,2019.2,2.2078,34.6368,2,34.6374,2,136.7,2,137.8,2,124.16,2,36.69,2,0,2,2.64,2,0.006228049,2,0.001202506,2,-99,5,0,2,2.2076,2,-999,9,-999,20131208,1451,-11.5803,-136.9805,4389,9765,4110,34.8007,2,2.2076,2
325020131025,       GT13,30,2,7,      NIS-7,2,      7,2,20131208,1400,-11.5803,-136.9805,2119.6,2.0806,34.6481,2,34.6486,2,138.3,2,138.7,2,127.77,2,36.56,2,0,2,2.63,2,0.003855754,2,0.001349153,2,-99,5,0,2,2.0816,2,-229.4,2,2.5,20131208,1447,-11.5803,-136.9805,4389,9764,4110,34.8119,2,2.0816,2
325020131025,       GT13,30,2,6,      NIS-6,2,      6,2,20131208,1400,-11.5803,-136.9805,2222,1.9936,34.6558,2,34.6562,2,140,2,140.7,2,130.6,2,36.4,2,0,2,2.63,2,0.004091125,2,0.011454654,2,-99,5,0,2,1.994,2,-999,9,-999,20131208,1444,-11.5803,-136.9805,4389,9763,4110,34.8196,2,1.994,2
325020131025,       GT13,30,2,5,      NIS-5,2,      5,2,20131208,1400,-11.5803,-136.9805,2324.7,1.9279,34.6618,2,34.6629,2,141.8,2,142.5,2,132.45,2,36.26,2,0,2,2.62,2,0.000422223,2,0.001305665,2,-99,5,0,2,1.9279,2,-231.8,2,2.5,20131208,1441,-11.5803,-136.9805,4389,9762,4110,34.8263,2,1.9279,2
325020131025,       GT13,30,2,4,      NIS-4,2,      4,2,20131208,1400,-11.5803,-136.9805,2425.3,1.8834,34.6663,2,34.6664,2,142.7,2,143,2,134.6,2,36.23,2,0,2,2.61,2,0.002961756,2,0.001586823,2,-99,5,0,2,1.8832,2,-999,9,-999,20131208,1438,-11.5803,-136.9805,4389,9761,4110,34.8299,2,1.8832,2
325020131025,       GT13,30,2,3,      NIS-3,2,      3,2,20131208,1400,-11.5803,-136.9805,2474.9,1.8653,34.6681,2,34.6699,2,143.4,2,143.8,2,134.89,2,36.12,2,0,2,2.61,2,0.003415981,2,0,2,-99,5,0,2,1.8653,2,-234.6,2,2.5,20131208,1434,-11.5803,-136.9805,4389,9760,4110,34.8334,2,1.8653,2
325020131025,       GT13,30,2,2,     NIS-22,2,      2,2,20131208,1400,-11.5803,-136.9805,2527.2,1.8424,34.6704,2,34.6707,2,144.6,2,144.7,2,135.97,2,36.12,2,0,2,2.61,2,0.004006474,2,0,2,-99,5,0,2,1.8428,2,-999,9,-999,20131208,1431,-11.5803,-136.9805,4389,9759,4110,34.8342,2,1.8428,2
325020131025,       GT13,30,2,1,      NIS-1,2,      1,2,20131208,1400,-11.5803,-136.9805,2577.2,1.8277,34.6716,2,34.6717,2,145.8,2,146,2,136.36,2,36.12,2,0,2,2.61,2,0.009516022,2,1.539636619,4,-99,5,0,2,1.8277,2,-228.8,2,2.5,20131208,1427,-11.5803,-136.9805,4389,9758,4110,34.8352,2,1.8277,2
325020131025,       GT13,30,4,12,     NIS-12,2,     12,2,20131208,2248,-11.5803,-136.9805,5.2,27.7012,35.9081,2,35.9085,2,201,2,200.5,2,1.66,2,2.55,2,0.05,2,0.38,2,1.416479626,6,0.842643252,6,-99,5,1.089,6,27.7013,2,39.9,2,2.5,20131208,2328,-11.5803,-136.9804,4392,9789,4100,36.0778,2,27.7013,2
325020131025,       GT13,30,4,11,     NIS-11,2,     11,2,20131208,2248,-11.5803,-136.9805,31.1,27.5204,35.9008,2,35.901,2,201.3,2,201.6,2,1.66,2,2.58,2,0.05,2,0.38,2,-999,9,-999,9,-999,9,-999,9,27.5201,2,-999,9,-999,20131208,2326,-11.5803,-136.9805,4392,9788,4100,36.0703,2,27.5201,2
325020131025,       GT13,30,4,10,     NIS-10,2,     10,2,20131208,2248,-11.5803,-136.9805,60.4,27.5081,35.9013,2,35.9004,2,200.4,2,200.6,2,1.56,2,2.58,2,0.05,2,0.37,2,-999,9,-999,9,-999,9,-999,9,27.5069,2,-999,9,-999,20131208,2324,-11.5803,-136.9805,4392,9787,4100,36.0697,2,27.5069,2
325020131025,       GT13,30,4,9,      NIS-9,2,      9,2,20131208,2248,-11.5803,-136.9805,85.7,26.5444,35.9323,2,35.9335,2,194.1,2,194.1,2,1.66,2,2.78,2,0.07,2,0.46,2,-999,9,-999,9,-999,9,-999,9,26.5446,2,-999,9,-999,20131208,2322,-11.5803,-136.9805,4392,9786,4100,36.103,2,26.5446,2
325020131025,       GT13,30,4,8,      NIS-8,2,      8,2,20131208,2248,-11.5803,-136.9805,110.5,25.665,36.1388,2,36.1276,2,186.5,2,185.9,2,1.46,2,1.46,2,0.48,2,0.47,2,-999,9,-999,9,-999,9,-999,9,25.66,2,-999,9,-999,20131208,2320,-11.5803,-136.9805,4392,9785,4100,36.298,2,25.66,2
325020131025,       GT13,30,4,7,      NIS-7,2,      7,2,20131208,2248,-11.5803,-136.9805,155.1,23.3312,36.1799,2,36.1811,2,176.8,2,177.6,2,1.27,2,1.54,2,2.39,2,0.51,2,-999,9,-999,9,-999,9,-999,9,23.3331,2,-999,9,-999,20131208,2319,-11.5803,-136.9805,4392,9784,4100,36.3517,2,23.3331,2
325020131025,       GT13,30,4,6,      NIS-6,2,      6,2,20131208,2248,-11.5803,-136.9805,200.5,19.9276,35.728,2,35.729,2,174.7,2,175,2,1.37,2,5.67,2,0.03,2,0.63,2,-999,9,-999,9,-999,9,-999,9,19.9084,2,-999,9,-999,20131208,2317,-11.5803,-136.9804,4392,9783,4100,35.8975,2,19.9084,2
325020131025,       GT13,30,4,5,      NIS-5,2,      5,2,20131208,2248,-11.5803,-136.9805,280.7,14.7106,34.9727,2,34.9847,2,118,2,119.4,2,6.64,2,15.12,2,0,2,1.39,2,-999,9,-999,9,-999,9,-999,9,14.7881,3,-999,9,-999,20131208,2314,-11.5803,-136.9805,4392,9782,4100,35.1496,2,14.7881,3
325020131025,       GT13,30,4,4,      NIS-4,2,      4,2,20131208,2248,-11.5803,-136.9805,361.7,10.6942,34.7205,2,34.7206,2,51.7,2,52,2,22.16,2,29.23,2,0,2,2.24,2,-999,9,-999,9,-999,9,-999,9,10.6895,2,-999,9,-999,20131208,2312,-11.5803,-136.9805,4392,9781,4100,34.8843,2,10.6895,2
325020131025,       GT13,30,4,3,      NIS-3,2,      3,2,20131208,2248,-11.5803,-136.9805,462.4,8.395,34.6295,2,34.6315,2,86.1,2,87.2,2,30.45,2,32.66,2,0,2,2.25,2,-999,9,-999,9,-999,9,-999,9,8.3883,2,-999,9,-999,20131208,2309,-11.5803,-136.9804,4392,9780,4100,34.7948,2,8.3883,2
325020131025,       GT13,30,4,2,     NIS-22,2,      2,2,20131208,2248,-11.5803,-136.9805,714.7,6.3774,34.5446,2,34.5452,2,58.1,2,59.7,2,49.2,2,40.22,2,0,2,2.76,2,-999,9,-999,9,-999,9,-999,9,6.378,2,-999,9,-999,20131208,2303,-11.5803,-136.9805,4392,9779,4100,34.7081,2,6.378,2
325020131025,       GT13,30,4,1,      NIS-1,2,      1,2,20131208,2248,-11.5803,-136.9805,1512.8,2.9341,34.5944,2,34.5952,2,115.3,2,115.6,2,111.67,2,38.25,2,0,2,2.75,2,-999,9,-999,9,-999,9,-999,9,2.9325,2,-999,9,-999,20131208,2248,-11.5803,-136.9805,4392,9778,4100,34.7583,2,2.9325,2
325020131025,       GT13,30,6,12,     NIS-12,2,     12,2,20131209,345,-11.5805,-136.981,30.9,27.5652,35.903,2,35.9026,2,201.2,2,200.8,2,1.76,2,2.51,2,0.05,2,0.36,2,1.399699612,2,0.835727578,2,-99,5,1.072,2,27.5679,2,29.2,2,2.5,20131209,417,-11.5805,-136.981,4393,9801,4101,36.0719,2,27.5679,2
325020131025,       GT13,30,6,11,     NIS-11,2,     11,2,20131209,345,-11.5805,-136.981,60.4,27.5081,35.9019,2,35.9018,2,200.9,2,200.6,2,1.66,2,2.53,2,0.05,2,0.36,2,1.377562319,2,0.84946487,2,-99,5,1.094,2,27.5066,2,-999,9,-999,20131209,414,-11.5804,-136.981,4393,9800,4101,36.0711,2,27.5066,2
325020131025,       GT13,30,6,10,     NIS-10,2,     10,2,20131209,345,-11.5805,-136.981,85.3,26.6628,35.8706,2,35.8799,2,196.3,2,196.1,2,1.76,2,3.12,2,0.07,2,0.47,2,1.465434281,2,0.865145994,2,-99,5,1.086,2,26.6657,2,41.2,2,2.5,20131209,413,-11.5805,-136.981,4393,9799,4101,36.0491,2,26.6657,2
325020131025,       GT13,30,6,9,      NIS-9,2,      9,2,20131209,345,-11.5805,-136.981,110.4,26.0759,36.0546,2,36.0577,2,189.1,2,189.1,2,1.66,2,1.96,2,0.12,2,0.45,2,1.516240422,2,0.878250175,2,-99,5,1.119,2,26.0791,2,31.5,2,2.5,20131209,411,-11.5804,-136.981,4393,9798,4101,36.2277,2,26.0791,2
325020131025,       GT13,30,6,8,      NIS-8,2,      8,2,20131209,345,-11.5805,-136.981,155.6,23.3231,36.1814,2,36.1829,2,176.9,2,177.6,2,1.27,2,1.45,2,2.43,2,0.5,2,1.697407179,2,1.001820066,2,-99,5,1.099,2,23.3234,2,44.1,2,2.5,20131209,409,-11.5805,-136.981,4393,9797,4101,36.3535,2,23.3234,2
325020131025,       GT13,30,6,7,      NIS-7,2,      7,2,20131209,345,-11.5805,-136.981,200.6,20.2673,35.8065,2,35.8024,2,175.7,2,175.8,2,1.37,2,5.2,2,0.03,2,0.59,2,1.938602916,2,1.107234036,2,-99,5,1.09,2,20.2547,2,56,2,2.5,20131209,407,-11.5804,-136.981,4393,9796,4101,35.9712,2,20.2547,2
325020131025,       GT13,30,6,6,      NIS-6,2,      6,2,20131209,345,-11.5805,-136.981,281.2,14.3496,34.9325,2,34.9326,2,109.1,2,109.2,2,8.1,2,16.42,2,0,2,1.47,2,2.017460569,2,3.78115147,4,-99,5,0.837,2,14.3432,2,43.1,2,2.5,20131209,405,-11.5805,-136.981,4393,9795,4101,35.0973,2,14.3432,2
325020131025,       GT13,30,6,5,      NIS-5,2,      5,2,20131209,345,-11.5805,-136.981,362,11.0784,34.7387,2,34.7374,2,44.1,2,44,2,21.57,2,28.57,2,0,2,2.25,2,0.884647269,2,0.461705705,2,-99,5,0.181,2,11.0891,2,-16.1,2,2.5,20131209,402,-11.5805,-136.981,4393,9794,4101,34.9012,2,11.0891,2
325020131025,       GT13,30,6,4,      NIS-4,2,      4,2,20131209,345,-11.5805,-136.981,462.2,8.4263,34.6306,2,34.6342,2,84.8,2,84.1,2,30.75,2,32.74,2,0,2,2.25,2,0.372319246,2,0.207834317,2,-99,5,0.048,2,8.4339,2,-74.1,2,2.5,20131209,359,-11.5805,-136.981,4393,9793,4101,34.7975,2,8.4339,2
325020131025,       GT13,30,6,3,      NIS-3,2,      3,2,20131209,345,-11.5805,-136.981,712.9,6.2364,34.54,2,34.5416,2,60.2,2,60.6,2,50.66,2,40.32,2,0,2,2.77,2,0.028494383,2,0.035862797,2,-99,5,0,2,6.2387,2,-135.2,2,2.5,20131209,354,-11.5805,-136.981,4393,9792,4101,34.7045,2,6.2387,2
325020131025,       GT13,30,6,2,     NIS-22,2,      2,2,20131209,345,-11.5805,-136.981,869.1,5.1724,34.5209,2,34.5213,2,72.5,2,72.4,2,64.23,2,40.97,2,0,2,2.84,2,0.007466846,2,0.005435044,2,-99,5,0,2,5.1725,2,-154.2,2,2.5,20131209,350,-11.5805,-136.981,4393,9791,4101,34.684,2,5.1725,2
325020131025,       GT13,30,6,1,      NIS-1,2,      1,2,20131209,345,-11.5805,-136.981,1006,4.5513,34.5305,2,34.532,2,83.5,2,83.8,2,75.95,2,40.41,2,0,2,2.83,2,0.010925153,2,0.006813527,2,-99,5,0.215,2,4.5513,2,-999,9,-999,20131209,346,-11.5805,-136.981,4393,9790,4101,34.6949,2,4.5513,2