BOTTLE,20161222CCHSIORJL
EXPOCODE,SECT_ID,STNNBR,CASTNO,SAMPNO,BTLNBR,BTLNBR_FLAG_W,BTLNBR_U,BTLNBR_U_FLAG_W,DATE,TIME,LATITUDE,LONGITUDE,CTDPRS,CTDTMP,CTDSAL,CTDSAL_FLAG_W,SALNTY,SALNTY_FLAG_W,CTDOXY,CTDOXY_FLAG_W,OXYGEN,OXYGEN_FLAG_W,SILCAT,SILCAT_FLAG_W,NITRAT,NITRAT_FLAG_W,NITRIT,NITRIT_FLAG_W,PHSPHT,PHSPHT_FLAG_W,CFC-11,CFC-11_FLAG_W,CFC-12,CFC-12_FLAG_W,CFC113,CFC113_FLAG_W,SF6,SF6_FLAG_W,REFTMP,REFTMP_FLAG_W,DELC14,DELC14_FLAG_W,C14ERR,BTL_DATE,BTL_TIME,BTL_LAT,BTL_LON,GEOTR_EVENT,GEOTR_SAMPNO,DEPTH,SALTREF,SALTREF_FLAG_W,SBE35,SBE35_FLAG_W
,,,,,,,,,,,,,DBAR,ITS-90,PSS-78,,PSS-78,,UMOL/KG,,UMOL/KG,,UMOL/KG,,UMOL/KG,,UMOL/KG,,UMOL/KG,,PMOL/KG,,PMOL/KG,,PMOL/KG,,FMOL/KG,,DEG C,,/MILLE,,/MILLE,,,,,,,METERS,G/KG,,ITS-90,
325020131025,       GT13,7,6,12,     NIS-12,2,     12,2,20131106,549,-11.9999,-84.0006,1.8,18.911,35.294,2,35.2946,2,233.7,2,234,2,4.78,2,14.28,2,0.42,2,1,2,1.924359712,2,1.1174429,2,0.170461982,2,1.114397143,2,18.9126,2,29.1,2,2.5,20131106,627,-11.9999,-84.0006,4090,3188,4573,35.461,2,18.9126,2
325020131025,       GT13,7,6,11,     NIS-11,2,     11,2,20131106,549,-11.9999,-84.0006,19.5,18.9164,35.2939,2,35.2942,2,233.7,2,233.8,2,4.78,2,14.27,2,0.43,2,1.01,2,-999,9,-999,9,-999,9,-999,9,18.9178,2,-999,9,-999,20131106,625,-11.9999,-84.0006,4090,3187,4573,35.4606,2,18.9178,2
325020131025,       GT13,7,6,10,     NIS-10,2,     10,2,20131106,549,-11.9999,-84.0006,40.3,18.8942,35.2906,2,35.2923,2,233.5,2,233.5,2,4.68,2,14.26,2,0.42,2,1.01,2,-999,9,-999,9,-999,9,-999,9,18.8964,2,-999,9,-999,20131106,623,-11.9999,-84.0006,4090,3186,4573,35.4587,2,18.8964,2
325020131025,       GT13,7,6,9,      NIS-9,2,      9,2,20131106,549,-11.9999,-84.0006,60.3,18.3135,35.2892,2,35.2899,2,226.3,2,226.1,2,4.68,2,14.21,2,0.47,2,1.13,2,-999,9,-999,9,-999,9,-999,9,18.3051,2,-999,9,-999,20131106,621,-11.9999,-84.0006,4090,3185,4573,35.4563,2,18.3051,2
325020131025,       GT13,7,6,8,      NIS-8,2,      8,2,20131106,549,-11.9999,-84.0006,80,17.3585,35.2159,2,35.2232,2,188.7,2,192.6,2,5.95,2,15.76,2,1.3,2,1.47,2,-999,9,-999,9,-999,9,-999,9,17.3866,2,-999,9,-999,20131106,619,-11.9999,-84.0006,4090,3184,4573,35.3893,2,17.3866,2
325020131025,       GT13,7,6,7,      NIS-7,2,      7,2,20131106,549,-11.9999,-84.0006,109.9,13.7432,34.9421,2,34.9406,2,1.1,2,1.5,2,25.08,2,17.9,2,3.2,2,2.52,2,-999,9,-999,9,-999,9,-999,9,13.746,2,-999,9,-999,20131106,618,-11.9999,-84.0006,4090,3183,4573,35.1053,2,13.746,2
325020131025,       GT13,7,6,6,      NIS-6,2,      6,2,20131106,549,-11.9999,-84.0006,124.4,13.4847,34.9338,2,34.9357,2,1.1,2,1.8,2,26.35,2,17.9,2,4.01,2,2.49,2,-999,9,-999,9,-999,9,-999,9,13.4873,2,-999,9,-999,20131106,616,-11.9999,-84.0006,4090,3182,4573,35.1004,2,13.4873,2
325020131025,       GT13,7,6,5,      NIS-5,2,      5,2,20131106,549,-11.9999,-84.0006,151.3,12.9927,34.9238,2,34.9239,2,1.3,2,1.8,2,27.72,2,21.21,2,3.75,2,2.48,2,-999,9,-999,9,-999,9,-999,9,12.9881,2,-999,9,-999,20131106,615,-11.9999,-84.0006,4090,3181,4573,35.0886,2,12.9881,2
325020131025,       GT13,7,6,4,      NIS-4,2,      4,2,20131106,549,-11.9999,-84.0006,249.4,11.7047,34.835,2,34.8344,2,1.6,2,1.6,2,29.86,2,22.66,2,4.36,2,2.57,2,-999,9,-999,9,-999,9,-999,9,11.7051,2,-999,9,-999,20131106,612,-11.9999,-84.0006,4090,3180,4573,34.9986,2,11.7051,2
325020131025,       GT13,7,6,3,      NIS-3,2,      3,2,20131106,549,-11.9999,-84.0006,503.6,8.102,34.6133,2,34.6136,2,3.7,2,3.7,2,42.27,2,40.96,2,0,2,3.04,2,-999,9,-999,9,-999,9,-999,9,8.1014,2,-999,9,-999,20131106,606,-11.9999,-84.0006,4090,3179,4573,34.7768,2,8.1014,2
325020131025,       GT13,7,6,2,      NIS-2,2,      2,2,20131106,549,-11.9999,-84.0006,753.9,5.9042,34.5409,2,34.5412,2,17.2,2,16.3,2,62.57,2,45.83,2,0,2,3.26,2,-999,9,-999,9,-999,9,-999,9,5.9027,2,-999,9,-999,20131106,601,-11.9999,-84.0006,4090,3178,4573,34.7041,2,5.9027,2
325020131025,       GT13,7,6,1,      NIS-1,2,      1,2,20131106,549,-11.9999,-84.0006,1260.2,3.6719,34.5683,2,34.5688,2,68.3,2,68.6,2,104.16,2,42.34,2,0,2,3.11,2,-999,9,-999,9,-999,9,-999,9,3.6727,2,-999,9,-999,20131106,549,-11.9999,-84.0006,4090,3177,4573,34.7319,2,3.6727,2
325020131025,       GT13,7,10,10,     NIS-10,2,     10,2,20131106,2007,-11.9999,-84.0006,3616.3,1.7789,34.6853,2,34.6861,2,145.1,2,-999,9,139.48,2,36.17,2,0,2,2.65,2,-999,9,-999,9,-999,9,-999,9,-999,9,-999,9,-999,20131106,2030,-11.9999,-84.0006,4094,3230,4565,34.8497,2,-999,9
325020131025,       GT13,7,10,7,      NIS-7,2,      7,2,20131106,2007,-11.9999,-84.0006,4248.9,1.7963,34.6887,2,34.6895,2,150.7,2,-999,9,136.16,2,35.76,2,0,2,2.63,2,-999,9,-999,9,-999,9,-999,9,-999,9,-999,9,-999,20131106,2017,-11.9999,-84.0006,4094,3229,4565,34.853,2,-999,9
325020131025,       GT13,7,10,4,      NIS-4,2,      4,2,20131106,2007,-11.9999,-84.0006,4504.6,1.8222,34.689,2,34.69,2,150.7,2,-999,9,136.16,2,35.88,2,0,2,2.63,2,-999,9,-999,9,-999,9,-999,9,-999,9,-999,9,-999,20131106,2011,-11.9999,-84.0006,4094,3228,4565,34.8536,2,-999,9
325020131025,       GT13,7,10,1,      NIS-1,2,      1,2,20131106,2007,-11.9999,-84.0006,4540.4,1.8269,34.6889,2,34.69,2,150.7,2,-999,9,136.26,2,36.15,2,0,2,2.63,2,-999,9,-999,9,-999,9,-999,9,-999,9,-999,9,-999,20131106,2009,-11.9999,-84.0006,4094,3227,4565,34.8536,2,-999,9
325020131025,       GT13,7,12,12,     NIS-12,4,     12,4,20131107,138,-11.9999,-84.0006,2527.8,1.9071,34.6677,2,-999,9,124.1,2,-999,9,-999,9,-999,9,-999,9,-999,9,-999,9,-999,9,-999,9,-999,9,1.9075,2,-999,9,-999,20131107,235,-11.9999,-84.0006,4096,3266,4576,-999,9,1.9075,2
325020131025,       GT13,7,12,11,     NIS-11,2,     11,2,20131107,138,-11.9999,-84.0006,2782.4,1.8232,34.6742,2,34.6743,2,129.5,2,129.1,2,148.85,2,37.41,2,0,2,2.72,2,0.007815058,2,0.004130383,2,0,2,0,2,1.8232,2,-999,9,-999,20131107,230,-11.9999,-84.0006,4096,3265,4576,34.8378,2,1.8232,2
325020131025,       GT13,7,12,10,     NIS-10,2,     10,2,20131107,138,-11.9999,-84.0006,3036.6,1.7975,34.6777,2,34.6782,2,132.1,2,131.7,2,149.92,2,37.23,2,0,2,2.72,2,0.002942333,2,0.00226975,2,0,2,0,2,1.7977,2,-999,9,-999,20131107,223,-11.9999,-84.0006,4096,3264,4576,34.8417,2,1.7977,2
325020131025,       GT13,7,12,9,      NIS-9,2,      9,2,20131107,138,-11.9999,-84.0006,3290.4,1.7924,34.6805,2,34.6812,2,137.3,2,136.8,2,147.09,2,36.79,2,0,2,2.69,2,0.006428134,2,0.004069065,2,0,2,0,2,1.7926,2,-999,9,-999,20131107,218,-11.9999,-84.0006,4096,3263,4576,34.8447,2,1.7926,2
325020131025,       GT13,7,12,8,      NIS-8,2,      8,2,20131107,138,-11.9999,-84.0006,3545.9,1.7799,34.6846,2,34.6855,2,145.1,2,144.6,2,140.55,2,36.13,2,0,2,2.64,2,0.006800036,2,0.003606671,2,0,2,0,2,1.7801,2,-999,9,-999,20131107,211,-11.9999,-84.0006,4096,3262,4576,34.849,2,1.7801,2
325020131025,       GT13,7,12,7,      NIS-7,2,      7,2,20131107,138,-11.9999,-84.0006,3675.2,1.7816,34.6855,2,34.6857,2,145.7,2,145.3,2,139.77,2,36.06,2,0,2,2.64,2,0.005606254,2,0.003281991,2,0,2,0,2,1.7818,2,-218.4,2,2.5,20131107,207,-11.9999,-84.0006,4096,3261,4576,34.8492,2,1.7818,2
325020131025,       GT13,7,12,6,      NIS-6,2,      6,2,20131107,138,-11.9999,-84.0006,3803.8,1.7707,34.6872,2,34.6874,2,148.1,2,148.2,2,137.72,2,35.89,2,0,2,2.62,2,0.006983931,2,0.003741369,2,0,2,0,2,1.7709,2,-999,9,-999,20131107,204,-11.9999,-84.0006,4096,3260,4576,34.851,2,1.7709,2
325020131025,       GT13,7,12,5,      NIS-5,2,      5,2,20131107,138,-11.9999,-84.0006,4058.3,1.7837,34.6882,2,34.6886,2,148.9,2,148.9,2,137.23,2,35.78,2,0,2,2.61,2,0.008893777,2,0.003065872,2,0,2,0,2,1.7839,2,-999,9,-999,20131107,157,-11.9999,-84.0006,4096,3259,4576,34.8522,2,1.7839,2
325020131025,       GT13,7,12,4,      NIS-4,2,      4,2,20131107,138,-11.9999,-84.0006,4313.8,1.8014,34.6889,2,34.689,2,149.2,2,150.3,2,136.55,2,35.71,2,0,2,2.6,2,0.014262712,2,0.004234924,2,0,2,0,2,1.802,2,-999,9,-999,20131107,151,-11.9999,-84.0006,4096,3258,4576,34.8526,2,1.802,2
325020131025,       GT13,7,12,3,      NIS-3,2,      3,2,20131107,138,-11.9999,-84.0006,4440.9,1.8147,34.6889,2,34.6896,2,150,2,150.2,2,137.33,2,35.69,2,0,2,2.61,2,0.011778578,2,0.002749233,2,0,2,0,2,1.8148,2,-219.1,2,2.5,20131107,147,-11.9999,-84.0006,4096,3257,4576,34.8532,2,1.8148,2
325020131025,       GT13,7,12,2,      NIS-2,2,      2,2,20131107,138,-11.9999,-84.0006,4571.4,1.8304,34.6887,2,34.6892,2,150,2,150.1,2,137.14,2,35.7,2,0,2,2.6,2,0.011758031,2,0.002623582,2,0,2,0,2,1.8305,2,-999,9,-999,20131107,142,-11.9999,-84.0006,4096,3256,4576,34.8528,2,1.8305,2
325020131025,       GT13,7,12,1,      NIS-1,2,      1,2,20131107,138,-11.9999,-84.0006,4622,1.8361,34.6887,2,34.6904,2,150.1,2,150.1,2,136.65,2,35.64,2,0,2,2.6,2,0.032298885,2,0.013976354,2,0,2,0,2,1.8362,2,-214.1,2,2.5,20131107,140,-11.9999,-84.0006,4096,3255,4576,34.854,2,1.8362,2
325020131025,       GT13,7,12,13, NIOZ_CORER,2,    13,2,20131107,138,-11.9999,-84.0006,4638.1,-999,-999,2,-999,9,-999,9,-999,9,-999,9,-999,9,-999,9,-999,9,-999,9,-999,9,-999,9,-999,9,-999,9,-999,9,-999,20131107,138,-11.9999,-84.0006,4096,3267,4576,-999,9,-999,9
325020131025,       GT13,7,25,25,       FISH,2,    25,2,20131106,336,-11.9759,-84.027,3.5,18.9237,35.2898,2,35.2971,2,-999,9,-999,9,4.88,2,14.22,2,0.43,2,1.01,2,-999,9,-999,9,-999,9,-999,9,-999,9,-999,9,-999,20131106,325,-11.9855,-84.0171,4089,3176,4462,35.4636,2,-999,9
325020131025,       GT13,8,2,12,     NIS-12,2,     12,2,20131107,1709,-11.9998,-86.5002,20.4,18.987,35.3971,2,35.3969,2,235.5,2,235.1,2,4.29,2,12.25,2,0.39,2,1.08,2,1.850839975,2,1.143319134,2,0.17035,2,1.147095,2,19.0115,2,-999,9,-999,20131107,1747,-11.9998,-86.5002,4103,3308,4173,35.5638,2,19.0115,2
325020131025,       GT13,8,2,11,     NIS-11,2,     11,2,20131107,1709,-11.9998,-86.5002,51.5,18.0959,35.3125,2,35.3132,2,232.6,2,232.8,2,4.2,2,12.55,2,0.51,2,1.21,2,1.91538074,2,1.168807755,2,0.163112,2,1.1223,2,18.0953,2,-999,9,-999,20131107,1745,-11.9998,-86.5002,4103,3307,4173,35.4798,2,18.0953,2
325020131025,       GT13,8,2,10,     NIS-10,2,     10,2,20131107,1709,-11.9998,-86.5002,100.5,16.1898,35.0738,2,35.0713,2,155.7,2,155.7,2,6.05,2,15.93,2,0.18,2,1.47,2,1.907387853,2,1.153990684,2,0.122748,2,1.102725,2,16.1671,3,-999,9,-999,20131107,1743,-11.9998,-86.5002,4103,3306,4173,35.2367,2,16.1671,3
325020131025,       GT13,8,2,9,      NIS-9,2,      9,2,20131107,1709,-11.9998,-86.5002,126.4,13.5462,34.8242,2,34.8222,2,16.7,2,19.2,2,17.66,2,23.26,2,0.08,2,2.43,2,1.533001835,6,0.915487931,6,0.0436495,6,0.5526675,6,13.5487,2,-999,9,-999,20131107,1741,-11.9998,-86.5002,4103,3305,4173,34.9864,2,13.5487,2
325020131025,       GT13,8,2,8,      NIS-8,2,      8,2,20131107,1709,-11.9998,-86.5002,161.1,12.7337,34.8886,2,34.8857,2,1.5,2,1.7,2,29.77,2,13.06,2,5.79,2,2.59,2,0.819558979,2,0.492009637,2,0.008207,2,0.19314,2,12.7345,2,-999,9,-999,20131107,1738,-11.9998,-86.5002,4103,3304,4173,35.0502,2,12.7345,2
325020131025,       GT13,8,2,7,      NIS-7,2,      7,2,20131107,1709,-11.9998,-86.5002,226.7,11.5664,34.8442,2,34.8403,2,2.6,2,3.4,2,28.69,2,31.96,2,0,2,2.49,2,0.531242059,2,0.293188537,2,0.004212,2,0.0783,2,11.5663,2,-999,9,-999,20131107,1735,-11.9998,-86.5002,4103,3303,4173,35.0046,2,11.5663,2
325020131025,       GT13,8,2,6,      NIS-6,2,      6,2,20131107,1709,-11.9998,-86.5002,282,10.8156,34.7928,2,34.7912,2,2.1,2,2.3,2,32.01,2,32.37,2,0.03,2,2.61,2,0.333516338,2,0.185650371,2,0.003327,2,0.04176,2,10.8286,2,-999,9,-999,20131107,1733,-11.9998,-86.5002,4103,3302,4173,34.9553,2,10.8286,2
325020131025,       GT13,8,2,5,      NIS-5,2,      5,2,20131107,1709,-11.9998,-86.5002,328.1,10.2246,34.7516,2,34.7508,2,3.5,2,3.6,2,33.18,2,34.6,2,0,2,2.64,2,0.232886195,2,0.122958661,2,0,2,0,2,10.2226,2,-999,9,-999,20131107,1730,-11.9998,-86.5002,4103,3301,4173,34.9147,2,10.2226,2
325020131025,       GT13,8,2,4,      NIS-4,2,      4,2,20131107,1709,-11.9998,-86.5002,452.8,8.7303,34.6543,2,34.6527,2,9.7,2,10.1,2,37.29,2,39.03,2,0,2,2.8,2,0.086734657,2,0.04639625,2,0,2,0,2,8.7231,2,-999,9,-999,20131107,1727,-11.9998,-86.5002,4103,3300,4173,34.8161,2,8.7231,2
325020131025,       GT13,8,2,3,      NIS-3,2,      3,2,20131107,1709,-11.9998,-86.5002,628.8,6.708,34.5463,2,34.5456,2,25.5,2,25.7,2,47.44,2,43.25,2,0,2,3.02,2,0.038479014,2,0.018369226,2,0,2,0,2,6.7087,2,-999,9,-999,20131107,1721,-11.9998,-86.5002,4103,3299,4173,34.7085,2,6.7087,2
325020131025,       GT13,8,2,2,      NIS-2,2,      2,2,20131107,1709,-11.9998,-86.5002,805.3,5.5725,34.5379,2,34.5373,2,26.7,2,25.4,2,65.6,2,45.47,2,0,2,3.21,2,0.007514548,2,0.002813966,2,0,2,0,2,5.57,2,-999,9,-999,20131107,1717,-11.9998,-86.5002,4103,3298,4173,34.7002,2,5.57,2
325020131025,       GT13,8,2,1,      NIS-1,2,      1,2,20131107,1709,-11.9998,-86.5002,1006.6,4.4548,34.5449,2,34.5446,2,53.5,2,53.4,2,85.02,2,43.71,2,0,2,3.15,2,0.005044674,2,0.003186078,2,0,2,0,2,4.4539,2,-999,9,-999,20131107,1712,-11.9998,-86.5002,4103,3297,4173,34.7075,2,4.4539,2
325020131025,       GT13,8,25,25,       FISH,2,   25,2,20131107,1818,-12.0008,-86.524,3.6,19.018,35.398,2,35.3894,2,-999,9,-999,9,4.29,2,12.28,2,0.39,2,1.08,2,-999,9,-999,9,-999,9,-999,9,-999,9,-999,9,-999,20131107,1818,-12.0008,-86.524,4105,3310,4221,35.5563,2,-999,9
325020131025,       GT13,9,2,12,     NIS-12,2,     12,2,20131108,1048,-11.9993,-89.0015,352.8,9.8757,34.7141,2,34.7137,2,3.4,2,3.8,2,32.5,2,35.18,2,0,2,2.7,2,0.209728947,2,0.106879447,2,0,2,0.03915,2,9.8851,2,-67.7,2,2.5,20131108,1137,-11.9993,-89.0015,4112,3347,4130,34.8774,2,9.8851,2
325020131025,       GT13,9,2,11,     NIS-11,2,     11,2,20131108,1048,-11.9993,-89.0015,402.4,9.1172,34.6708,2,34.6709,2,3.3,2,3.7,2,35.82,2,37.76,2,0,2,2.82,2,0.137001366,2,0.071335122,2,0,2,0.035235,2,9.1256,2,-999,9,-999,20131108,1135,-11.9993,-89.0015,4112,3346,4130,34.8344,2,9.1256,2
325020131025,       GT13,9,2,10,     NIS-10,2,     10,2,20131108,1048,-11.9993,-89.0015,452.1,8.5089,34.6352,2,34.6338,2,7,2,6.9,2,38.26,2,39.72,2,0,2,2.89,2,0.098058075,2,0.048651622,2,0,2,0,2,8.4975,2,-95,2,2.5,20131108,1133,-11.9993,-89.0015,4112,3345,4130,34.7972,2,8.4975,2
325020131025,       GT13,9,2,9,      NIS-9,2,      9,2,20131108,1048,-11.9993,-89.0015,502.9,7.7151,34.5937,2,34.5926,2,12.1,2,11.8,2,42.36,2,41.77,2,0,2,2.98,2,0.062291138,2,0.029847294,2,0,2,0,2,7.7109,2,-105.7,2,2.5,20131108,1131,-11.9993,-89.0015,4112,3344,4130,34.7558,2,7.7109,2
325020131025,       GT13,9,2,8,      NIS-8,2,      8,2,20131108,1048,-11.9993,-89.0015,630.3,6.6699,34.5472,2,34.547,2,21,2,20,2,49.2,2,43.75,2,0,2,3.08,2,0.030402978,2,0.012411138,2,0,2,0,2,6.6701,2,-125.1,2,2.5,20131108,1127,-11.9993,-89.0015,4112,3343,4130,34.7099,2,6.6701,2
325020131025,       GT13,9,2,7,      NIS-7,2,      7,2,20131108,1048,-11.9993,-89.0015,756.2,5.5868,34.5233,2,34.5222,2,38.9,2,39.1,2,60.23,2,44.19,2,0,2,3.1,2,0.012321245,2,0.006147724,2,0,2,0,2,5.5846,2,-143.5,2,2.5,20131108,1124,-11.9993,-89.0015,4112,3342,4130,34.685,2,5.5846,2
325020131025,       GT13,9,2,6,      NIS-6,2,      6,2,20131108,1048,-11.9993,-89.0015,1006.2,4.4529,34.5401,2,34.5395,2,57,2,56.6,2,83.27,2,43.35,2,0,2,3.13,2,0.014842553,2,0.006708071,2,0,2,0,2,4.4531,2,-179,2,2.5,20131108,1117,-11.9993,-89.0015,4112,3341,4130,34.7024,2,4.4531,2
325020131025,       GT13,9,2,5,      NIS-5,2,      5,2,20131108,1048,-11.9993,-89.0015,1259.8,3.5604,34.5709,2,34.5705,2,75.1,2,75.3,2,103.86,2,41.86,2,0,2,3.07,2,0.014228705,2,0.009608396,2,0,2,0,2,3.5567,2,-205.3,2,2.5,20131108,1112,-11.9993,-89.0015,4112,3340,4130,34.7335,2,3.5567,2
325020131025,       GT13,9,2,4,      NIS-4,2,      4,2,20131108,1048,-11.9993,-89.0015,1514.1,2.9964,34.5976,2,34.5975,2,87.1,2,87.3,2,117.72,2,40.78,2,0,2,3.02,2,0.014635534,2,0.006932411,2,0,2,0,2,2.9957,2,-227.1,2,2.5,20131108,1106,-11.9993,-89.0015,4112,3339,4130,34.7607,2,2.9957,2
325020131025,       GT13,9,2,3,      NIS-3,2,      3,2,20131108,1048,-11.9993,-89.0015,1766.1,2.5425,34.6254,2,34.6254,2,98.8,2,99.2,2,130.21,2,39.71,2,0,2,2.96,2,0.019754366,2,0.009732135,2,0,2,0,2,2.5413,2,-230.8,2,2.5,20131108,1101,-11.9993,-89.0015,4112,3338,4130,34.7887,2,2.5413,2
325020131025,       GT13,9,2,2,      NIS-2,2,      2,2,20131108,1048,-11.9993,-89.0015,2019.8,2.2663,34.6443,2,34.644,2,106.2,2,106.2,2,138.8,2,39.03,2,0,2,2.91,2,0.008258108,2,0.002731316,2,0,2,0,2,2.2662,2,-999,9,-999,20131108,1055,-11.9993,-89.0015,4112,3337,4130,34.8074,2,2.2662,2
325020131025,       GT13,9,2,1,      NIS-1,2,      1,2,20131108,1048,-11.9993,-89.0015,2272.6,2.049,34.6589,2,34.658,2,115.8,2,115.3,2,143.09,2,38.93,2,0,2,2.85,2,0.011148136,2,0.004132687,2,0,2,0,2,2.0487,2,-236,2,2.5,20131108,1050,-11.9993,-89.0015,4112,3336,4130,34.8214,2,2.0487,2
325020131025,       GT13,9,4,12,     NIS-12,2,     12,2,20131108,1829,-11.9999,-89.0022,3.8,19.2277,35.3636,2,35.3636,2,233.1,2,233.2,2,5.27,2,14.01,2,0.45,2,1.15,2,1.84658,2,1.132329,2,0.166514,2,1.18755,2,19.2316,2,28.4,2,2.5,20131108,1901,-11.9999,-89.0022,4114,3367,4127,35.5304,2,19.2316,2
325020131025,       GT13,9,4,11,     NIS-11,2,     11,2,20131108,1829,-11.9999,-89.0022,20,19.0488,35.3641,2,35.3636,2,233.7,2,234,2,5.37,2,14.02,2,0.45,2,1.17,2,-999,9,-999,9,-999,9,-999,9,19.0502,2,-999,9,-999,20131108,1859,-11.9999,-89.0022,4114,3366,4127,35.5304,2,19.0502,2
325020131025,       GT13,9,4,10,     NIS-10,2,     10,2,20131108,1829,-11.9999,-89.0022,40.4,19.0227,35.3642,2,35.3628,2,233.4,2,232.8,2,5.37,2,13.88,2,0.45,2,1.17,2,-999,9,-999,9,-999,9,-999,9,19.0261,2,-999,9,-999,20131108,1857,-11.9999,-89.0022,4114,3365,4127,35.5296,2,19.0261,2
325020131025,       GT13,9,4,9,      NIS-9,2,      9,2,20131108,1829,-11.9999,-89.0022,60.4,17.8836,35.2831,2,35.2865,2,226.5,2,228,2,4.39,2,13.15,2,0.52,2,1.24,2,-999,9,-999,9,-999,9,-999,9,17.882,2,-999,9,-999,20131108,1855,-11.9999,-89.0022,4114,3364,4127,35.4529,2,17.882,2
325020131025,       GT13,9,4,8,      NIS-8,2,      8,2,20131108,1829,-11.9999,-89.0022,100.6,14.8551,34.9267,2,34.9124,2,56.4,2,54.6,2,12.49,2,21.3,2,0.06,2,2.15,2,-999,9,-999,9,-999,9,-999,9,14.7466,3,-999,9,-999,20131108,1853,-11.9999,-89.0022,4114,3363,4127,35.077,2,14.7466,3
325020131025,       GT13,9,4,7,      NIS-7,2,      7,2,20131108,1829,-11.9999,-89.0022,120.6,13.5496,34.8784,2,34.8733,2,0.6,2,1.8,2,21.86,2,19.85,2,0.67,2,2.62,2,-999,9,-999,9,-999,9,-999,9,13.5435,2,-999,9,-999,20131108,1852,-11.9999,-89.0022,4114,3362,4127,35.0377,2,13.5435,2
325020131025,       GT13,9,4,6,      NIS-6,2,      6,2,20131108,1829,-11.9999,-89.0022,135.2,13.2491,34.8958,2,34.8931,2,0.7,2,1.6,2,27.72,2,10.33,2,5.48,2,2.63,2,-999,9,-999,9,-999,9,-999,9,13.2628,2,-999,9,-999,20131108,1850,-11.9999,-89.0022,4114,3361,4127,35.0577,2,13.2628,2
325020131025,       GT13,9,4,5,      NIS-5,2,      5,2,20131108,1829,-11.9999,-89.0022,157.2,12.8388,34.8854,2,34.8833,2,1,2,1.7,2,28.59,2,13.12,2,5.21,2,2.62,2,-999,9,-999,9,-999,9,-999,9,12.8323,2,-999,9,-999,20131108,1849,-11.9999,-89.0022,4114,3360,4127,35.0478,2,12.8323,2
325020131025,       GT13,9,4,4,      NIS-4,2,      4,2,20131108,1829,-11.9999,-89.0022,250.8,11.4448,34.819,2,34.8171,2,1.8,2,1.5,2,28.69,2,28.48,2,0.75,2,2.59,2,-999,9,-999,9,-999,9,-999,9,11.4378,2,-999,9,-999,20131108,1846,-11.9999,-89.0022,4114,3359,4127,34.9813,2,11.4378,2
325020131025,       GT13,9,4,3,      NIS-3,2,      3,2,20131108,1829,-11.9999,-89.0022,402.4,9.1971,34.6759,2,34.6752,2,4.1,2,3.3,2,35.63,2,37.5,2,0,2,2.83,2,-999,9,-999,9,-999,9,-999,9,9.1993,2,-999,9,-999,20131108,1842,-11.9999,-89.0022,4114,3358,4127,34.8387,2,9.1993,2
325020131025,       GT13,9,4,2,      NIS-2,2,      2,2,20131108,1829,-11.9999,-89.0022,630.4,6.626,34.546,2,34.5483,2,21.4,2,20.7,2,49.49,2,43.77,2,0,2,3.09,2,-999,9,-999,9,-999,9,-999,9,6.6271,2,-999,9,-999,20131108,1837,-11.9999,-89.0022,4114,3357,4127,34.7112,2,6.6271,2
325020131025,       GT13,9,4,1,      NIS-1,2,      1,2,20131108,1829,-11.9999,-89.0022,1007.9,4.4245,34.5408,2,34.543,2,56.9,2,57.5,2,83.95,2,43.32,2,0,2,3.13,2,-999,9,-999,9,-999,9,-999,9,4.4256,2,-999,9,-999,20131108,1829,-11.9999,-89.0022,4114,3356,4127,34.7059,2,4.4256,2