BOTTLE,20161222CCHSIORJL
EXPOCODE,SECT_ID,STNNBR,CASTNO,SAMPNO,BTLNBR,BTLNBR_FLAG_W,BTLNBR_U,BTLNBR_U_FLAG_W,DATE,TIME,LATITUDE,LONGITUDE,CTDPRS,CTDTMP,CTDSAL,CTDSAL_FLAG_W,SALNTY,SALNTY_FLAG_W,CTDOXY,CTDOXY_FLAG_W,OXYGEN,OXYGEN_FLAG_W,SILCAT,SILCAT_FLAG_W,NITRAT,NITRAT_FLAG_W,NITRIT,NITRIT_FLAG_W,PHSPHT,PHSPHT_FLAG_W,CFC-11,CFC-11_FLAG_W,CFC-12,CFC-12_FLAG_W,CFC113,CFC113_FLAG_W,SF6,SF6_FLAG_W,REFTMP,REFTMP_FLAG_W,DELC14,DELC14_FLAG_W,C14ERR,BTL_DATE,BTL_TIME,BTL_LAT,BTL_LON,GEOTR_EVENT,GEOTR_SAMPNO,DEPTH,SALTREF,SALTREF_FLAG_W,SBE35,SBE35_FLAG_W
,,,,,,,,,,,,,DBAR,ITS-90,PSS-78,,PSS-78,,UMOL/KG,,UMOL/KG,,UMOL/KG,,UMOL/KG,,UMOL/KG,,UMOL/KG,,PMOL/KG,,PMOL/KG,,PMOL/KG,,FMOL/KG,,DEG C,,/MILLE,,/MILLE,,,,,,,METERS,G/KG,,ITS-90,
325020131025,       GT13,11,15,12,     NIS-12,2,     12,2,20131112,1502,-11.9997,-94,1766.2,2.5124,34.6267,2,34.626,2,103.4,2,103,2,132.17,2,39.41,2,0,2,2.87,2,0.00990926,2,0.004416141,2,0,2,0,2,2.5124,2,-999,9,-999,20131112,1555,-11.9997,-94.0001,4153,3700,3664,34.7893,2,2.5124,2
325020131025,       GT13,11,15,11,     NIS-11,2,     11,2,20131112,1502,-11.9997,-94,2019.5,2.2304,34.6444,2,34.6439,2,114.2,2,114.1,2,138.12,2,38.53,2,0,2,2.8,2,0.006501444,2,0.00164086,2,0,2,0,2,2.2316,2,-999,9,-999,20131112,1550,-11.9997,-94,4153,3699,3664,34.8072,2,2.2316,2
325020131025,       GT13,11,15,10,     NIS-10,2,     10,2,20131112,1502,-11.9997,-94,2273.5,1.9913,34.6613,2,34.6611,2,125,2,125.3,2,141.43,2,37.66,2,0,2,2.74,2,0.012532142,2,0.006672829,2,0.000446,2,0,2,1.9917,2,-999,9,-999,20131112,1544,-11.9997,-94,4153,3698,3664,34.8246,2,1.9917,2
325020131025,       GT13,11,15,9,      NIS-9,2,      9,2,20131112,1502,-11.9997,-94,2527.7,1.8299,34.6736,2,34.6729,2,142.7,2,142.6,2,136.75,2,36.29,2,0,2,2.63,2,0.005209305,2,0.000928808,2,0,2,0,2,1.8302,2,-233.3,2,2.5,20131112,1538,-11.9997,-94,4153,3697,3664,34.8364,2,1.8302,2
325020131025,       GT13,11,15,8,      NIS-8,2,      8,2,20131112,1502,-11.9997,-94,2782.3,1.783,34.6798,2,34.679,2,145.8,2,145.9,2,138.6,2,36.15,2,0,2,2.62,2,0.015308364,2,0.006469241,2,0,2,0,2,1.7827,2,-999,9,-999,20131112,1532,-11.9997,-94,4153,3696,3664,34.8425,2,1.7827,2
325020131025,       GT13,11,15,7,      NIS-7,2,      7,2,20131112,1502,-11.9997,-94,3036.5,1.776,34.6822,2,34.6812,2,143.8,2,143.9,2,141.73,2,36.35,2,0,2,2.64,2,0.007934056,2,0.002066268,2,0,2,0,2,1.7758,2,-228.6,2,2.5,20131112,1526,-11.9997,-94,4153,3695,3664,34.8447,2,1.7758,2
325020131025,       GT13,11,15,6,      NIS-6,2,      6,2,20131112,1502,-11.9997,-94,3291.4,1.79,34.684,2,34.6839,2,143.8,2,143.6,2,141.33,2,36.35,2,0,2,2.63,2,0.01009906,2,0.003510629,2,0,2,0,2,1.7901,2,-999,9,-999,20131112,1519,-11.9997,-94,4153,3694,3664,34.8475,2,1.7901,2
325020131025,       GT13,11,15,5,      NIS-5,2,      5,2,20131112,1502,-11.9997,-94,3417.5,1.7924,34.6854,2,34.6845,2,142.3,2,143.1,2,141.72,2,36.38,2,0,2,2.64,2,0.008870187,2,0.003254372,2,0,2,0,2,1.7924,2,-999,9,-999,20131112,1515,-11.9997,-94.0001,4153,3693,3664,34.8481,2,1.7924,2
325020131025,       GT13,11,15,4,      NIS-4,2,      4,2,20131112,1502,-11.9997,-94,3547,1.7979,34.6861,2,34.6857,2,142.4,2,142.4,2,142.21,2,36.44,2,0,2,2.64,2,0.007068698,2,0.002364053,2,0,2,0,2,1.7977,2,-999,9,-999,20131112,1511,-11.9997,-94,4153,3692,3664,34.8492,2,1.7977,2
325020131025,       GT13,11,15,3,      NIS-3,2,      3,2,20131112,1502,-11.9997,-94,3648.4,1.8036,34.6867,2,34.6863,2,142.1,2,142,2,142.51,2,36.4,2,0,2,2.64,2,0.007110519,2,0.001698594,2,0,2,0,2,1.8035,2,-223.2,2,2.5,20131112,1508,-11.9997,-94,4153,3691,3664,34.8498,2,1.8035,2
325020131025,       GT13,11,15,2,      NIS-2,2,      2,2,20131112,1502,-11.9997,-94,3674.7,1.8061,34.6866,2,34.6861,2,142.1,2,142.2,2,142.41,2,36.41,2,0,2,2.64,2,0.007905104,2,0.00175025,2,0,2,0,2,1.8059,2,-999,9,-999,20131112,1506,-11.9997,-94,4153,3690,3664,34.8496,2,1.8059,2
325020131025,       GT13,11,15,1,      NIS-1,2,      1,2,20131112,1502,-11.9997,-94,3694,1.8082,34.6867,2,34.6861,2,142.2,2,142.2,2,142.7,2,36.49,2,0,2,2.64,2,0.011203544,2,0.002405581,2,0,2,0,2,1.8084,2,-224.7,2,2.5,20131112,1504,-11.9997,-94,4153,3689,3664,34.8496,2,1.8084,2
325020131025,       GT13,11,15,13, NIOZ_CORER,2,    13,2,20131112,1502,-11.9997,-94,3709.5,-999,-999,2,-999,9,-999,9,-999,9,-999,9,-999,9,-999,9,-999,9,-999,9,-999,9,-999,9,-999,9,-999,9,-999,9,-999,20131112,1502,-11.9997,-94,4153,3688,3664,-999,9,-999,9
325020131025,       GT13,11,25,25,       FISH,2,    25,2,20131111,857,-11.9415,-94.0564,3,20.9625,35.4623,2,35.4585,2,-999,9,-999,9,3.32,2,9.52,2,0.33,2,0.84,2,-999,9,-999,9,-999,9,-999,9,-999,9,-999,9,-999,20131111,839,-11.9693,-94.0272,4142,3580,3648,35.6257,2,-999,9
325020131025,       GT13,12,2,12,     NIS-12,2,     12,2,20131113,718,-13.0016,-96.4989,24.1,21.4293,35.5707,2,35.5704,2,223.1,2,222.7,2,2.93,2,6.45,2,0.2,2,0.66,2,1.587115469,2,0.980778069,2,0.141206,2,1.172,2,21.4313,2,-999,9,-999,20131113,749,-13.0016,-96.4989,4159,3737,3797,35.7381,2,21.4313,2
325020131025,       GT13,12,2,11,     NIS-11,2,     11,2,20131113,718,-13.0016,-96.4989,50.7,20.3551,35.7051,2,35.6934,2,213.7,2,213.4,2,1.66,2,2.04,2,0.34,2,0.55,2,1.673547666,2,1.031287895,2,0.135909,2,1.174,2,20.3584,2,-999,9,-999,20131113,747,-13.0016,-96.4989,4159,3736,3797,35.8617,2,20.3584,2
325020131025,       GT13,12,2,10,     NIS-10,2,     10,2,20131113,718,-13.0016,-96.4989,121.2,19.9162,35.7599,2,35.7586,2,213.4,2,214.1,2,1.27,2,1.53,2,0.53,2,0.5,2,1.697132079,2,1.035296596,2,0.139118,2,1.149,2,19.9186,2,-999,9,-999,20131113,745,-13.0016,-96.4989,4159,3735,3797,35.9272,2,19.9186,2
325020131025,       GT13,12,2,9,      NIS-9,2,      9,2,20131113,718,-13.0016,-96.4989,160.7,16.8809,35.1718,2,35.1478,2,163.7,2,162.6,2,3.42,2,10.86,2,0.06,2,1.05,2,-99,5,-99,5,-99,5,-99,5,16.8678,2,-999,9,-999,20131113,743,-13.0015,-96.4989,4159,3734,3797,35.3136,2,16.8678,2
325020131025,       GT13,12,2,8,      NIS-8,2,      8,2,20131113,718,-13.0016,-96.4989,210.6,12.8778,34.8312,2,34.8299,2,3.1,2,3,2,23.33,2,22.16,2,0,2,2.6,2,1.004084826,6,0.614424191,6,0.0189725,6,0.309,6,12.8849,2,-999,9,-999,20131113,741,-13.0016,-96.4989,4159,3733,3797,34.9942,2,12.8849,2
325020131025,       GT13,12,2,7,      NIS-7,2,      7,2,20131113,718,-13.0016,-96.4989,231.2,12.3351,34.8271,2,34.8274,2,1.7,2,1.7,2,26.25,2,22.3,2,0.27,2,2.59,2,0.757353813,2,0.459533313,2,0.014628,2,0.205,2,12.3426,2,-999,9,-999,20131113,740,-13.0015,-96.4989,4159,3732,3797,34.9916,2,12.3426,2
325020131025,       GT13,12,2,6,      NIS-6,2,      6,2,20131113,718,-13.0016,-96.4989,246.5,11.9077,34.8175,2,34.8172,2,1.9,2,1.8,2,26.74,2,26.05,2,0,2,2.58,2,0.59424845,2,0.359013225,2,0.006978,2,0.13,2,11.915,2,-999,9,-999,20131113,738,-13.0016,-96.4989,4159,3731,3797,34.9813,2,11.915,2
325020131025,       GT13,12,2,5,      NIS-5,2,      5,2,20131113,718,-13.0016,-96.4989,302.3,10.8698,34.7689,2,34.7673,2,7.5,2,7.8,2,28.11,2,32.12,2,0,2,2.55,2,0.377546434,2,0.219411355,2,0.002776,2,0.064,2,10.8826,2,-999,9,-999,20131113,736,-13.0016,-96.4989,4159,3730,3797,34.9312,2,10.8826,2
325020131025,       GT13,12,2,4,      NIS-4,2,      4,2,20131113,718,-13.0016,-96.4989,401.8,9.0723,34.6688,2,34.6676,2,19.2,2,19.6,2,33.67,2,37.19,2,0,2,2.64,2,0.131667857,2,0.078771772,2,0.002022,2,0.041,2,9.072,2,-999,9,-999,20131113,734,-13.0015,-96.4989,4159,3729,3797,34.8311,2,9.072,2
325020131025,       GT13,12,2,3,      NIS-3,2,      3,2,20131113,718,-13.0016,-96.4989,504.3,7.6483,34.5877,2,34.5856,2,26,2,26.3,2,40.22,2,40.55,2,0,2,2.82,2,0.052331614,2,0.02958701,2,0,2,0,2,7.6497,2,-999,9,-999,20131113,731,-13.0015,-96.4989,4159,3728,3797,34.7487,2,7.6497,2
325020131025,       GT13,12,2,2,      NIS-2,2,      2,2,20131113,718,-13.0016,-96.4989,756.9,5.5669,34.52,2,34.5199,2,41.4,2,41.5,2,60.23,2,44.01,2,0,2,3.07,2,0.009991514,2,0.004596602,2,0,2,0,2,5.5673,2,-999,9,-999,20131113,726,-13.0016,-96.4989,4159,3727,3797,34.6827,2,5.5673,2
325020131025,       GT13,12,2,1,      NIS-1,2,      1,2,20131113,718,-13.0016,-96.4989,1008.2,4.3165,34.5367,2,34.536,2,62.8,2,62.3,2,84.05,2,43.3,2,0,2,3.06,2,0.004663265,2,0.000172614,2,0,2,0,2,4.3159,2,-999,9,-999,20131113,720,-13.0016,-96.4989,4159,3726,3797,34.6989,2,4.3159,2
325020131025,       GT13,12,25,25,       FISH,2,   25,2,20131113,828,-13.0139,-96.5238,3,21.4398,35.572,2,35.5757,2,-999,9,-999,9,2.93,2,6.34,2,0.2,2,0.67,2,-999,9,-999,9,-999,9,-999,9,-999,9,-999,9,-999,20131113,821,-13.0107,-96.5165,4161,3739,4005,35.7435,2,-999,9
325020131025,       GT13,13,2,12,     NIS-12,2,     12,2,20131114,57,-14,-99.0008,604.1,7.1171,34.5573,2,34.5561,2,32.2,2,32.4,2,42.66,2,41.29,2,0,2,2.83,2,0.036652201,2,0.022898015,2,0,2,0,2,7.119,2,-112.3,2,2.5,20131114,150,-14,-99.0008,4168,3780,3848,34.719,2,7.119,2
325020131025,       GT13,13,2,11,     NIS-11,2,     11,2,20131114,57,-14,-99.0008,705.9,6.1153,34.5243,2,34.5237,2,35.2,2,35.1,2,52.62,2,43.44,2,0,2,3.01,2,0.010669391,2,0.004420357,2,0,2,0,2,6.1156,2,-131.3,2,2.5,20131114,147,-14,-99.0008,4168,3779,3848,34.6865,2,6.1156,2
325020131025,       GT13,13,2,10,     NIS-10,2,     10,2,20131114,57,-14,-99.0008,805.7,5.5099,34.5171,2,34.5173,2,42.6,2,42.1,2,60.52,2,43.87,2,0,2,3.05,2,0.011570675,2,0.007381123,2,0,2,0,2,5.5151,2,-149.7,2,2.5,20131114,143,-14,-99.0008,4168,3778,3848,34.68,2,5.5151,2
325020131025,       GT13,13,2,9,      NIS-9,2,      9,2,20131114,57,-14,-99.0008,906.1,5.0262,34.5232,2,34.5222,2,45,2,44.1,2,70.48,2,44.23,2,0,2,3.1,2,0.007949784,2,0.002245679,2,0,2,0,2,5.0265,2,-159,2,2.5,20131114,140,-14,-99.0008,4168,3777,3848,34.6849,2,5.0265,2
325020131025,       GT13,13,2,8,      NIS-8,2,      8,2,20131114,57,-14,-99.0008,1006.6,4.5749,34.5304,2,34.5294,2,56.1,2,55.9,2,78.88,2,43.38,2,0,2,3.07,2,0.008765981,2,0.003148414,2,0,2,0,2,4.5743,2,-172.8,2,2.5,20131114,137,-14,-99.0008,4168,3776,3848,34.6922,2,4.5743,2
325020131025,       GT13,13,2,7,      NIS-7,2,      7,2,20131114,57,-14,-99.0008,1209.4,3.8019,34.5555,2,34.5553,2,73.7,2,74.1,2,96.05,2,41.93,2,0,2,3.03,2,0.005646153,2,0.002584458,2,0,2,0,2,3.8017,2,-198.4,2,2.5,20131114,132,-14,-99.0008,4168,3775,3848,34.7182,2,3.8017,2
325020131025,       GT13,13,2,6,      NIS-6,2,      6,2,20131114,57,-14,-99.0008,1411.6,3.2516,34.5819,2,34.5823,2,83.6,2,83.7,2,110.5,2,41.12,2,0,2,3,2,0.004791089,2,0.001908929,2,0,2,0,2,3.2508,2,-210.8,2,2.5,20131114,127,-14,-99.0008,4168,3774,3848,34.7454,2,3.2508,2
325020131025,       GT13,13,2,5,      NIS-5,2,      5,2,20131114,57,-14,-99.0008,1614.6,2.8411,34.6042,2,34.6047,2,96.4,2,97.1,2,120.45,2,40,2,0,2,2.92,2,0.003420256,2,0.001073138,2,0,2,0,2,2.8418,2,-999,9,-999,20131114,121,-14,-99.0008,4168,3773,3848,34.7679,2,2.8418,2
325020131025,       GT13,13,2,4,      NIS-4,2,      4,2,20131114,57,-14,-99.0008,1817.3,2.5381,34.622,2,34.6216,2,108,2,108.8,2,126.21,2,39.01,2,0,2,2.84,2,0.006705004,2,0.002981053,2,0,2,0,2,2.5373,2,-224.8,2,2.5,20131114,116,-14,-99.0008,4168,3772,3848,34.7848,2,2.5373,2
325020131025,       GT13,13,2,3,      NIS-3,2,      3,2,20131114,57,-14,-99.0008,2018.9,2.258,34.6405,2,34.6398,2,118.7,2,119,2,131.77,2,38.15,2,0,2,2.77,2,0.011589583,4,0.008547578,4,0.002066,4,0.044,4,2.2574,2,-999,9,-999,20131114,110,-14,-99.0008,4168,3771,3848,34.8032,2,2.2574,2
325020131025,       GT13,13,2,2,      NIS-2,2,      2,2,20131114,57,-14,-99.0008,2222.7,2.0486,34.6547,2,34.662,3,131.2,2,131.8,2,132.06,2,37.08,2,0,2,2.69,2,0.00312403,2,0.001289186,2,0,2,0,2,2.0486,2,-999,9,-999,20131114,106,-14,-99.0008,4168,3770,3848,34.8254,3,2.0486,2
325020131025,       GT13,13,2,1,      NIS-1,2,      1,2,20131114,57,-14,-99.0008,2425.7,1.9001,34.6664,2,34.671,3,144.4,2,144.5,2,131.48,2,36.11,2,0,2,2.61,2,0.002736415,2,0.001059952,2,0,2,0,2,1.9001,2,-999,9,-999,20131114,100,-14,-99.0008,4168,3769,3848,34.8345,3,1.9001,2
325020131025,       GT13,13,4,12,     NIS-12,2,     12,2,20131114,831,-14,-99.0008,2.9,21.2857,35.7481,2,35.7477,2,223.7,2,223.6,2,1.56,2,3.09,2,0.1,2,0.5,2,-999,9,-999,9,-999,9,-999,9,21.2859,2,29.4,2,2.5,20131114,907,-14,-99.0008,4173,3837,3850,35.9163,2,21.2859,2
325020131025,       GT13,13,4,11,     NIS-11,2,     11,2,20131114,831,-14,-99.0008,19.9,21.2941,35.7475,2,35.7469,2,223.8,2,223.6,2,1.56,2,3.31,2,0.1,2,0.5,2,-999,9,-999,9,-999,9,-999,9,21.2936,2,-999,9,-999,20131114,905,-14,-99.0008,4173,3836,3850,35.9155,2,21.2936,2
325020131025,       GT13,13,4,10,     NIS-10,2,     10,2,20131114,831,-14,-99.0008,40,21.2587,35.749,2,35.7542,2,223.6,2,223.7,2,1.56,2,2.84,2,0.1,2,0.49,2,-999,9,-999,9,-999,9,-999,9,21.2597,2,-999,9,-999,20131114,903,-14,-99.0008,4173,3835,3850,35.9228,2,21.2597,2
325020131025,       GT13,13,4,9,      NIS-9,2,      9,2,20131114,831,-14,-99.0008,60.2,21.1707,35.7965,2,35.7966,2,223.3,2,223.2,2,1.37,2,1.94,2,0.07,2,0.45,2,-999,9,-999,9,-999,9,-999,9,21.1706,2,-999,9,-999,20131114,901,-14,-99.0008,4173,3834,3850,35.9654,2,21.1706,2
325020131025,       GT13,13,4,8,      NIS-8,2,      8,2,20131114,831,-14,-99.0008,85.9,20.5347,35.7673,2,35.7678,2,214.2,2,214.6,2,1.46,2,1.91,2,0.26,2,0.52,2,-999,9,-999,9,-999,9,-999,9,20.5342,2,-999,9,-999,20131114,859,-14,-99.0008,4173,3833,3850,35.9365,2,20.5342,2
325020131025,       GT13,13,4,7,      NIS-7,2,      7,2,20131114,831,-14,-99.0008,110.7,20.0786,35.7663,2,35.7601,2,212.8,2,212.1,2,1.37,2,1.73,2,0.47,2,0.53,2,-999,9,-999,9,-999,9,-999,9,20.0783,2,-999,9,-999,20131114,858,-14,-99.0008,4173,3832,3850,35.9287,2,20.0783,2
325020131025,       GT13,13,4,6,      NIS-6,2,      6,2,20131114,831,-14,-99.0008,146.5,17.5293,35.2586,2,35.2595,2,168.1,2,168.8,2,2.93,2,9.7,2,0.1,2,0.98,2,-999,9,-999,9,-999,9,-999,9,17.4868,3,-999,9,-999,20131114,856,-14,-99.0008,4173,3831,3850,35.4257,2,17.4868,3
325020131025,       GT13,13,4,5,      NIS-5,2,      5,2,20131114,831,-14,-99.0008,201.4,13.3591,34.8015,2,34.7921,2,22.3,2,27.8,2,17.27,2,22.74,2,0.02,2,2.37,2,-999,9,-999,9,-999,9,-999,9,13.3621,2,-999,9,-999,20131114,853,-14,-99.0008,4173,3830,3850,34.9562,2,13.3621,2
325020131025,       GT13,13,4,4,      NIS-4,2,      4,2,20131114,831,-14,-99.0008,252,12.125,34.8342,2,34.832,2,1.8,2,1.4,2,28.69,2,19.91,2,2.42,2,2.6,2,-999,9,-999,9,-999,9,-999,9,12.1198,2,-999,9,-999,20131114,851,-14,-99.0008,4173,3829,3850,34.9962,2,12.1198,2
325020131025,       GT13,13,4,3,      NIS-3,2,      3,2,20131114,831,-14,-99.0008,326.8,10.8781,34.7662,2,34.7629,2,2.5,2,2.8,2,29.38,2,31.22,2,0,2,2.62,2,-999,9,-999,9,-999,9,-999,9,10.873,2,-999,9,-999,20131114,849,-14,-99.0008,4173,3828,3850,34.9268,2,10.873,2
325020131025,       GT13,13,4,2,      NIS-2,2,      2,2,20131114,831,-14,-99.0008,604,7.2178,34.5615,2,34.5612,2,31.6,2,31.4,2,42.17,2,41.17,2,0,2,2.86,2,-999,9,-999,9,-999,9,-999,9,7.2173,2,-999,9,-999,20131114,843,-14,-99.0008,4173,3827,3850,34.7242,2,7.2173,2
325020131025,       GT13,13,4,1,      NIS-1,2,      1,2,20131114,831,-14,-99.0008,1208.2,3.7314,34.5583,2,34.5585,2,75.4,2,75.6,2,98.3,2,41.77,2,0,2,3.04,2,-999,9,-999,9,-999,9,-999,9,3.7309,2,-999,9,-999,20131114,831,-14,-99.0008,4173,3826,3850,34.7214,2,3.7309,2
325020131025,       GT13,13,6,12,     NIS-12,2,     12,2,20131114,1254,-14.0002,-99.0001,19.6,21.2613,35.7441,2,35.7432,2,223.7,2,223.6,2,1.56,2,3.08,2,0.1,2,0.51,2,1.50643044,2,0.951501034,2,0.142218,2,0.941,2,21.2617,2,24.6,2,2.5,20131114,1324,-14.0002,-99.0001,4172,3825,3849,35.9118,2,21.2617,2
325020131025,       GT13,13,6,11,     NIS-11,2,     11,2,20131114,1254,-14.0002,-99.0001,40.4,21.2638,35.7449,2,35.7442,2,223.7,2,224.2,2,1.56,2,3.02,2,0.1,2,0.51,2,1.508353452,2,0.951055929,2,0.14304,2,0.975,2,21.2642,2,36.7,2,2.5,20131114,1322,-14.0002,-99.0001,4172,3824,3849,35.9127,2,21.2642,2
325020131025,       GT13,13,6,10,     NIS-10,2,     10,2,20131114,1254,-14.0002,-99.0001,60,21.1784,35.7974,2,35.7968,2,223.5,2,224.1,2,1.37,2,1.94,2,0.07,2,0.44,2,1.515292009,2,0.957829959,2,0.141351,2,0.967,2,21.1763,2,25.9,2,2.5,20131114,1320,-14.0002,-99.0001,4172,3823,3849,35.9656,2,21.1763,2
325020131025,       GT13,13,6,9,      NIS-9,2,      9,2,20131114,1254,-14.0002,-99.0001,109.9,20.3175,35.8062,2,35.7848,2,214.6,2,213.9,2,1.37,2,1.45,2,0.35,2,0.51,2,1.580916676,6,0.997776842,6,0.1450655,6,0.9685,6,20.306,2,26.3,2,2.5,20131114,1318,-14.0002,-99.0001,4172,3822,3849,35.9536,2,20.306,2
325020131025,       GT13,13,6,8,      NIS-8,2,      8,2,20131114,1254,-14.0002,-99.0001,146.2,17.1542,35.1988,2,35.2216,2,166.6,2,171.3,2,2.73,2,9.47,2,0.07,2,0.96,2,1.796201828,2,1.165649604,2,0.112566,2,1.044,2,17.2276,3,38,2,2.5,20131114,1316,-14.0002,-99.0001,4172,3821,3849,35.3876,2,17.2276,3
325020131025,       GT13,13,6,7,      NIS-7,2,      7,2,20131114,1254,-14.0002,-99.0001,201.1,13.1047,34.8076,2,34.8034,2,10.2,2,11.8,2,20.2,2,22.35,2,0.02,2,2.53,2,1.267764427,2,0.766191826,2,0.032155,2,0.391,2,13.1052,2,19.9,2,2.5,20131114,1313,-14.0002,-99.0001,4172,3820,3849,34.9675,2,13.1052,2
325020131025,       GT13,13,6,6,      NIS-6,2,      6,2,20131114,1254,-14.0002,-99.0001,251.3,11.9926,34.8263,2,34.8248,2,2.4,2,2,2,28.5,2,21.08,2,2.13,2,2.61,2,0.618047334,2,0.359435539,2,0.004392,2,0.144,2,11.9882,2,-13.2,2,2.5,20131114,1310,-14.0002,-99.0001,4172,3819,3849,34.989,2,11.9882,2
325020131025,       GT13,13,6,5,      NIS-5,2,      5,2,20131114,1254,-14.0002,-99.0001,276,11.6381,34.8036,2,34.8043,2,2.6,2,1.8,2,28.4,2,24.43,2,1.23,2,2.62,2,0.539445611,2,0.316108674,2,0.002836,2,0.11,2,11.6417,2,-22.4,2,2.5,20131114,1308,-14.0002,-99.0001,4172,3818,3849,34.9685,2,11.6417,2
325020131025,       GT13,13,6,4,      NIS-4,2,      4,2,20131114,1254,-14.0002,-99.0001,326.6,10.7385,34.7561,2,34.7551,2,3.9,2,3.7,2,29.48,2,31.86,2,0,2,2.62,2,0.352166019,2,0.195668189,2,0.000983,2,0.039,2,10.7346,2,-43.1,2,2.5,20131114,1306,-14.0002,-99.0001,4172,3817,3849,34.919,2,10.7346,2
325020131025,       GT13,13,6,3,      NIS-3,2,      3,2,20131114,1254,-14.0002,-99.0001,402.4,9.5439,34.6946,2,34.6934,2,12.2,2,11.8,2,32.99,2,36.33,2,0,2,2.66,2,0.182788871,2,0.108283,2,0.000614,2,0.043,2,9.5416,2,-72.9,2,2.5,20131114,1303,-14.0002,-99.0001,4172,3816,3849,34.857,2,9.5416,2
325020131025,       GT13,13,6,2,      NIS-2,2,      2,2,20131114,1254,-14.0002,-99.0001,502.9,8.3761,34.6301,2,34.6297,2,22.3,2,22.7,2,37.29,2,39.09,2,0,2,2.74,2,0.085916018,2,0.056638808,2,0.000126,2,0,2,8.3774,2,-93.7,2,2.5,20131114,1300,-14.0002,-99.0001,4172,3815,3849,34.793,2,8.3774,2
325020131025,       GT13,13,6,1,      NIS-1,2,      1,2,20131114,1254,-14.0002,-99.0001,604.7,7.3737,34.5687,2,34.5679,2,30.4,2,30.8,2,41.1,2,40.96,2,0,2,2.84,2,0.053059613,2,0.028503776,2,0,2,0,2,7.3735,2,-109.1,2,2.5,20131114,1257,-14.0002,-99.0001,4172,3814,3849,34.7309,2,7.3735,2