BOTTLE,20161222CCHSIORJL
EXPOCODE,SECT_ID,STNNBR,CASTNO,SAMPNO,BTLNBR,BTLNBR_FLAG_W,BTLNBR_U,BTLNBR_U_FLAG_W,DATE,TIME,LATITUDE,LONGITUDE,CTDPRS,CTDTMP,CTDSAL,CTDSAL_FLAG_W,SALNTY,SALNTY_FLAG_W,CTDOXY,CTDOXY_FLAG_W,OXYGEN,OXYGEN_FLAG_W,SILCAT,SILCAT_FLAG_W,NITRAT,NITRAT_FLAG_W,NITRIT,NITRIT_FLAG_W,PHSPHT,PHSPHT_FLAG_W,CFC-11,CFC-11_FLAG_W,CFC-12,CFC-12_FLAG_W,CFC113,CFC113_FLAG_W,SF6,SF6_FLAG_W,REFTMP,REFTMP_FLAG_W,DELC14,DELC14_FLAG_W,C14ERR,BTL_DATE,BTL_TIME,BTL_LAT,BTL_LON,GEOTR_EVENT,GEOTR_SAMPNO,DEPTH,SALTREF,SALTREF_FLAG_W,SBE35,SBE35_FLAG_W
,,,,,,,,,,,,,DBAR,ITS-90,PSS-78,,PSS-78,,UMOL/KG,,UMOL/KG,,UMOL/KG,,UMOL/KG,,UMOL/KG,,UMOL/KG,,PMOL/KG,,PMOL/KG,,PMOL/KG,,FMOL/KG,,DEG C,,/MILLE,,/MILLE,,,,,,,METERS,G/KG,,ITS-90,
325020131025,       GT13,15,10,12,     NIS-12,2,     12,2,20131117,1602,-16.0006,-104.0012,2528.2,1.8605,34.6701,2,34.6691,2,146.6,2,146.5,2,132.45,2,36.04,2,0,2,2.6,2,0.005278597,2,0.00392221,2,0,2,0,2,1.8603,2,-999,9,-999,20131117,1645,-16.0006,-104.0012,4201,8214,3938,34.8325,2,1.8603,2
325020131025,       GT13,15,10,11,     NIS-11,2,     11,2,20131117,1602,-16.0006,-104.0012,2629.4,1.8411,34.6729,2,34.6716,2,146.9,2,147,2,134.02,2,36.02,2,0,2,2.6,2,0.004911496,2,0.001096251,2,0,2,0,2,1.8279,3,-226.4,2,2.5,20131117,1642,-16.0006,-104.0012,4201,8213,3938,34.8351,2,1.8279,3
325020131025,       GT13,15,10,10,     NIS-10,2,     10,2,20131117,1602,-16.0006,-104.0012,2729.6,1.8277,34.6749,2,34.6736,2,146.8,2,146.5,2,135.19,2,36.07,2,0,2,2.61,2,0.005524676,2,0.001145442,2,0,2,0,2,1.8279,2,-999,9,-999,20131117,1639,-16.0006,-104.0012,4201,8212,3938,34.8371,2,1.8279,2
325020131025,       GT13,15,10,9,      NIS-9,2,      9,2,20131117,1602,-16.0006,-104.0012,2832.1,1.8172,34.6765,2,34.6752,2,145.9,2,145.5,2,137.14,2,36.14,2,0,2,2.62,2,0.011434608,2,0.003974412,2,0,2,0,2,1.8172,2,-226.5,2,2.5,20131117,1635,-16.0006,-104.0012,4201,8211,3938,34.8387,2,1.8172,2
325020131025,       GT13,15,10,8,      NIS-8,2,      8,2,20131117,1602,-16.0006,-104.0012,3037.5,1.8063,34.6785,2,34.6771,2,143.7,2,144.3,2,140.75,2,36.38,2,0,2,2.64,2,0.009237041,2,0.002883181,2,0,2,0,2,1.8067,2,-999,9,-999,20131117,1630,-16.0006,-104.0012,4201,8210,3938,34.8407,2,1.8067,2
325020131025,       GT13,15,10,7,      NIS-7,2,      7,2,20131117,1602,-16.0006,-104.0012,3292.7,1.8081,34.6792,2,34.6775,2,141.5,2,141.5,2,144.36,2,36.6,2,0,2,2.65,2,0.006107601,2,0.002031879,2,0,2,0,2,1.8083,2,-231.8,2,2.5,20131117,1624,-16.0006,-104.0012,4201,8209,3938,34.841,2,1.8083,2
325020131025,       GT13,15,10,6,      NIS-6,2,      6,2,20131117,1602,-16.0006,-104.0012,3547.7,1.8133,34.6791,2,34.6778,2,139.3,2,138.7,2,147.68,2,36.83,2,0,2,2.67,2,0.004607931,2,0.001647388,2,0,2,0,2,1.8135,2,-999,9,-999,20131117,1618,-16.0006,-104.0012,4201,8208,3938,34.8413,2,1.8135,2
325020131025,       GT13,15,10,5,      NIS-5,2,      5,2,20131117,1602,-16.0006,-104.0012,3802.4,1.8297,34.6788,2,34.6789,2,137.5,2,137.7,2,149.63,2,37.02,2,0,2,2.68,2,0.004442534,2,0.002294899,2,0,2,0,2,1.8298,2,-234.9,2,2.5,20131117,1612,-16.0006,-104.0012,4201,8207,3938,34.8425,2,1.8298,2
325020131025,       GT13,15,10,4,      NIS-4,2,      4,2,20131117,1602,-16.0006,-104.0012,3854.1,1.8347,34.6787,2,34.6772,2,137.5,2,137.4,2,149.53,2,36.95,2,0,2,2.68,2,0.007231093,2,0.002842021,2,0,2,0,2,1.8347,2,-999,9,-999,20131117,1610,-16.0006,-104.0012,4201,8206,3938,34.8407,2,1.8347,2
325020131025,       GT13,15,10,3,      NIS-3,2,      3,2,20131117,1602,-16.0006,-104.0012,3905.3,1.8394,34.6786,2,34.6776,2,137.2,2,137.1,2,150.31,2,37.02,2,0,2,2.68,2,0.004604905,2,0.001231777,2,0,2,0,2,1.8394,2,-229.6,2,2.5,20131117,1607,-16.0006,-104.0012,4201,8205,3938,34.8411,2,1.8394,2
325020131025,       GT13,15,10,2,      NIS-2,2,      2,2,20131117,1602,-16.0006,-104.0012,3956.1,1.8439,34.6787,2,34.6788,2,137.2,2,137.3,2,150.22,2,36.98,2,0,2,2.68,2,0.005946238,2,0.00258904,2,0,2,0,2,1.8439,2,-999,9,-999,20131117,1603,-16.0006,-104.0012,4201,8204,3938,34.8423,2,1.8439,2
325020131025,       GT13,15,10,1,      NIS-1,2,      1,2,20131117,1602,-16.0006,-104.0012,3981.3,1.8471,34.6786,2,34.6788,2,137.2,2,137.7,2,150.9,2,36.99,2,0,2,2.69,2,0.007208906,2,0.002318993,2,0.004757,2,0,2,1.847,2,-232.8,2,2.5,20131117,1601,-16.0006,-104.0012,4201,8203,3938,34.8423,2,1.847,2
325020131025,       GT13,15,10,13, NIOZ_CORER,4,    13,4,20131117,1602,-16.0006,-104.0012,3993.4,-999,-999,2,-999,9,-999,9,-999,9,-999,9,-999,9,-999,9,-999,9,-999,9,-999,9,-999,9,-999,9,-999,9,-999,9,-999,20131117,1600,-16.0006,-104.0012,4201,8215,3938,-999,9,-999,9
325020131025,       GT13,15,25,25,       FISH,2,    25,2,20131116,2301,-15.9916,-104.0728,3.4,22.4738,35.9587,2,35.9663,2,-999,9,-999,9,1.07,2,0.87,2,0.03,2,0.3,2,-999,9,-999,9,-999,9,-999,9,-999,9,-999,9,-999,20131116,2250,-15.9959,-104.0464,4197,4010,4079,36.1359,2,-999,9
325020131025,       GT13,16,2,12,     NIS-12,2,     12,2,20131118,721,-15.4318,-106.5018,21.7,22.7224,35.858,2,35.8572,2,217.9,2,218.4,2,1.07,2,1.9,2,0.05,2,0.38,2,1.653226,2,1.019618,2,0.146387,2,1.226,2,22.7231,2,-999,9,-999,20131118,752,-15.4318,-106.5018,4207,8252,3844,36.0263,2,22.7231,2
325020131025,       GT13,16,2,11,     NIS-11,2,     11,2,20131118,721,-15.4318,-106.5018,60.4,22.3963,36.1119,2,36.1002,2,220,2,220.3,2,1.07,2,0.36,2,0.02,2,0.32,2,1.695559844,2,1.026660597,2,0.150666,2,1.174,2,22.4068,2,-999,9,-999,20131118,749,-15.4318,-106.5018,4207,8251,3844,36.2704,2,22.4068,2
325020131025,       GT13,16,2,10,     NIS-10,2,     10,2,20131118,721,-15.4318,-106.5018,91.8,22.0503,36.133,2,36.1322,2,216.6,2,216.1,2,1.07,2,0.2,2,0.03,2,0.33,2,1.687400995,2,1.029570545,2,0.150683,2,1.131,2,22.0549,2,-999,9,-999,20131118,747,-15.4317,-106.5018,4207,8250,3844,36.3025,2,22.0549,2
325020131025,       GT13,16,2,9,      NIS-9,2,      9,2,20131118,721,-15.4318,-106.5018,126,21.7067,36.1103,2,36.1144,2,210.7,2,210,2,0.98,2,0.14,2,0.19,2,0.35,2,1.705888309,6,1.051078921,6,0.149777,6,1.143,6,21.6934,2,-999,9,-999,20131118,746,-15.4318,-106.5018,4207,8249,3844,36.2847,2,21.6934,2
325020131025,       GT13,16,2,8,      NIS-8,2,      8,2,20131118,721,-15.4318,-106.5018,171.4,19.4086,35.62,2,35.6163,2,202.7,2,202.7,2,0.98,2,2.29,2,0.16,2,0.42,2,1.904622892,2,1.161455337,2,0.145759,2,1.176,2,19.4326,3,-999,9,-999,20131118,744,-15.4318,-106.5018,4207,8248,3844,35.7843,2,19.4326,3
325020131025,       GT13,16,2,7,      NIS-7,2,      7,2,20131118,721,-15.4318,-106.5018,251.1,14.2144,34.8157,2,34.8156,2,123.4,2,124.7,2,6.93,2,16.51,2,0.02,2,1.44,2,2.144275295,2,1.266555336,2,0.059141,2,0.955,2,14.2001,2,-999,9,-999,20131118,741,-15.4317,-106.5018,4207,8247,3844,34.9798,2,14.2001,2
325020131025,       GT13,16,2,6,      NIS-6,2,      6,2,20131118,721,-15.4318,-106.5018,296.2,11.3048,34.5617,2,34.5611,2,65.8,2,67.6,2,16.4,2,23.32,2,0,2,2.13,2,1.689330555,2,0.927510205,2,0.024224,2,0.43,2,11.2961,2,-999,9,-999,20131118,740,-15.4318,-106.5018,4207,8246,3844,34.7241,2,11.2961,2
325020131025,       GT13,16,2,5,      NIS-5,2,      5,2,20131118,721,-15.4318,-106.5018,351.6,10.0652,34.6386,2,34.6375,2,13.5,2,13.1,2,26.26,2,31.9,2,0,2,2.63,2,0.608377704,2,0.307849162,2,0.004052,2,0.113,2,10.0676,2,-999,9,-999,20131118,738,-15.4318,-106.5018,4207,8245,3844,34.8008,2,10.0676,2
325020131025,       GT13,16,2,4,      NIS-4,2,      4,2,20131118,721,-15.4318,-106.5018,402.5,8.7887,34.5931,2,34.59,2,20.6,2,20.2,2,29.67,2,37.04,2,0,2,2.66,2,0.320269534,2,0.16274291,2,0.003278,2,0.076,2,8.8006,2,-999,9,-999,20131118,736,-15.4318,-106.5018,4207,8244,3844,34.7531,2,8.8006,2
325020131025,       GT13,16,2,3,      NIS-3,2,      3,2,20131118,721,-15.4318,-106.5018,603.3,6.2859,34.507,2,34.507,2,58.9,2,59.5,2,44.03,2,40.98,2,0,2,2.75,2,0.039739826,2,0.021341964,2,0,2,0,2,6.2816,2,-999,9,-999,20131118,731,-15.4318,-106.5018,4207,8243,3844,34.6698,2,6.2816,2
325020131025,       GT13,16,2,2,      NIS-2,2,      2,2,20131118,721,-15.4318,-106.5018,806.3,5.302,34.5076,2,34.5074,2,65.7,2,65.6,2,59.65,2,42.15,2,0,2,2.87,2,0.011666496,2,0.005011465,2,0,2,0,2,5.3023,2,-999,9,-999,20131118,727,-15.4318,-106.5018,4207,8242,3844,34.6702,2,5.3023,2
325020131025,       GT13,16,2,1,      NIS-1,2,      1,2,20131118,721,-15.4318,-106.5018,1008.2,4.4054,34.5244,2,34.5235,2,78.2,2,77.4,2,77.22,2,41.61,2,0,2,2.9,2,0.013903976,2,0.004121588,2,0,2,0,2,4.4049,2,-999,9,-999,20131118,722,-15.4318,-106.5018,4207,8241,3844,34.6863,2,4.4049,2
325020131025,       GT13,16,25,25,       FISH,2,   25,2,20131118,831,-15.4276,-106.5321,3.5,22.7212,35.8591,2,35.8584,2,-999,9,-999,9,1.17,2,1.95,2,0.05,2,0.38,2,-999,9,-999,9,-999,9,-999,9,-999,9,-999,9,-999,20131118,824,-15.429,-106.5243,4206,8240,4210,36.0275,2,-999,9
325020131025,       GT13,17,2,12,     NIS-12,2,     12,2,20131119,55,-14.9997,-109.1895,603.6,6.6177,34.5145,2,34.514,2,63.8,2,63.6,2,40.32,2,39.64,2,0,2,2.63,2,0.065898151,2,0.031262632,2,0.008932,4,0,2,6.618,2,-112.1,2,2.5,20131119,142,-14.9997,-109.1895,4214,8289,3710,34.6768,2,6.618,2
325020131025,       GT13,17,2,11,     NIS-11,2,     11,2,20131119,55,-14.9997,-109.1895,754,5.6658,34.5029,2,34.5029,2,69.7,2,69.5,2,52.62,2,41.08,2,0,2,2.77,2,0.015966179,2,0.007260266,2,0.010684,4,0,2,5.6639,2,-140,2,2.5,20131119,138,-14.9997,-109.1895,4214,8288,3710,34.6656,2,5.6639,2
325020131025,       GT13,17,2,10,     NIS-10,2,     10,2,20131119,55,-14.9997,-109.1895,1006,4.3679,34.5246,2,34.524,2,82.3,2,82.3,2,77.7,2,41.24,2,0,2,2.86,2,0.011559736,2,0.005179305,2,0.011545,4,0,2,4.3673,2,-176.7,2,2.5,20131119,132,-14.9997,-109.1895,4214,8287,3710,34.6868,2,4.3673,2
325020131025,       GT13,17,2,9,      NIS-9,2,      9,2,20131119,55,-14.9997,-109.1895,1258.9,3.5044,34.5613,2,34.5605,2,95.5,2,95.3,2,98.1,2,40.35,2,0,2,2.84,2,0.007184529,2,0.003791327,2,0.010554,4,0,2,3.5057,2,-211.8,2,2.5,20131119,126,-14.9997,-109.1895,4214,8286,3710,34.7235,2,3.5057,2
325020131025,       GT13,17,2,8,      NIS-8,2,      8,2,20131119,55,-14.9997,-109.1895,1511.5,2.9361,34.5936,2,34.5929,2,104,2,103.6,2,113.23,2,39.81,2,0,2,2.82,2,0.011897298,2,0.003805388,2,0.016884,4,0,2,2.9375,2,-218.6,2,2.5,20131119,121,-14.9997,-109.1895,4214,8285,3710,34.756,2,2.9375,2
325020131025,       GT13,17,2,7,      NIS-7,2,      7,2,20131119,55,-14.9997,-109.1895,1765.4,2.5528,34.6179,2,34.6184,2,115.3,2,115.2,2,122.01,2,38.89,2,0,2,2.77,2,0.008874354,2,0.00310236,2,0.012929,4,0,2,2.5534,2,-229.7,2,2.5,20131119,116,-14.9997,-109.1895,4214,8284,3710,34.7816,2,2.5534,2
325020131025,       GT13,17,2,6,      NIS-6,2,      6,2,20131119,55,-14.9997,-109.1895,2020.8,2.1967,34.6418,2,34.6411,2,127.7,2,127.5,2,127.97,2,37.88,2,0,2,2.7,2,0.008391691,2,0.002959746,2,0.015694,4,0,2,2.1973,2,-999,9,-999,20131119,110,-14.9997,-109.1895,4214,8283,3710,34.8045,2,2.1973,2
325020131025,       GT13,17,2,5,      NIS-5,2,      5,2,20131119,55,-14.9997,-109.1895,2120,2.087,34.65,2,34.649,2,133.2,2,133.4,2,129.33,2,37.43,2,0,2,2.66,2,0.00831914,2,0.002870361,2,0.017006,4,0,2,2.0868,2,-232.5,2,2.5,20131119,107,-14.9997,-109.1895,4214,8282,3710,34.8123,2,2.0868,2
325020131025,       GT13,17,2,4,      NIS-4,2,      4,2,20131119,55,-14.9997,-109.1895,2223.4,1.9966,34.6576,2,34.6568,2,137,2,137.1,2,130.99,2,37.15,2,0,2,2.64,2,0.012296326,2,0.004172971,2,0.021935,4,0,2,1.9967,2,-999,9,-999,20131119,104,-14.9997,-109.1895,4214,8281,3710,34.8202,2,1.9967,2
325020131025,       GT13,17,2,3,      NIS-3,2,      3,2,20131119,55,-14.9997,-109.1895,2323.5,1.9192,34.6641,2,34.6637,2,140.9,2,140.9,2,132.16,2,36.83,2,0,2,2.62,2,0.008652672,2,0.005191357,2,0.047588,4,0,2,1.9185,2,-228.6,2,2.5,20131119,101,-14.9997,-109.1895,4214,8280,3710,34.8271,2,1.9185,2
325020131025,       GT13,17,2,2,      NIS-2,2,      2,2,20131119,55,-14.9997,-109.1895,2426.4,1.868,34.6688,2,34.6688,2,143.9,2,143.7,2,133.53,2,36.61,2,0,2,2.62,2,0.009734885,2,0.00512708,2,0.047198,4,0,2,1.8675,2,-999,9,-999,20131119,58,-14.9997,-109.1895,4214,8279,3710,34.8322,2,1.8675,2
325020131025,       GT13,17,2,1,      NIS-1,2,      1,2,20131119,55,-14.9997,-109.1895,2527.6,1.8343,34.6724,2,34.6713,2,144.9,2,144.6,2,135.19,2,36.59,2,0,2,2.61,2,0.014382157,2,0.005492654,2,0.067013,4,0,2,1.8343,2,-238.4,2,2.5,20131119,55,-14.9997,-109.1895,4214,8278,3710,34.8348,2,1.8343,2
325020131025,       GT13,17,4,12,     NIS-12,2,     12,2,20131119,837,-14.9997,-109.1895,4.2,23.4499,35.9195,2,35.9186,2,215.3,2,215.3,2,1.56,2,2.55,2,0.05,2,0.39,2,-999,9,-999,9,-999,9,-999,9,23.4504,2,27.7,2,2.5,20131119,913,-14.9997,-109.1895,4217,8309,3708,36.088,2,23.4504,2
325020131025,       GT13,17,4,11,     NIS-11,2,     11,2,20131119,837,-14.9997,-109.1895,20.5,23.4574,35.9193,2,35.9188,2,215.9,2,215.4,2,1.56,2,2.59,2,0.05,2,0.4,2,-999,9,-999,9,-999,9,-999,9,23.4577,2,-999,9,-999,20131119,911,-14.9997,-109.1895,4217,8308,3708,36.0882,2,23.4577,2
325020131025,       GT13,17,4,10,     NIS-10,2,     10,2,20131119,837,-14.9997,-109.1895,50.1,23.3164,35.9927,2,36.0356,2,217.4,2,218.2,2,1.37,2,1.53,2,0.04,2,0.35,2,-999,9,-999,9,-999,9,-999,9,23.3039,2,-999,9,-999,20131119,909,-14.9997,-109.1895,4217,8307,3708,36.2056,2,23.3039,2
325020131025,       GT13,17,4,9,      NIS-9,2,      9,2,20131119,837,-14.9997,-109.1895,79.4,22.1971,36.1664,2,36.1658,2,215.9,2,215.5,2,1.07,2,0.09,2,0.06,2,0.31,2,-999,9,-999,9,-999,9,-999,9,22.1993,2,-999,9,-999,20131119,907,-14.9997,-109.1895,4217,8306,3708,36.3363,2,22.1993,2
325020131025,       GT13,17,4,8,      NIS-8,2,      8,2,20131119,837,-14.9997,-109.1895,124.9,21.4248,36.0245,2,36.0258,2,206.1,2,206.8,2,1.07,2,0.39,2,0.67,2,0.38,2,-999,9,-999,9,-999,9,-999,9,21.4099,2,-999,9,-999,20131119,905,-14.9997,-109.1895,4217,8305,3708,36.1957,2,21.4099,2
325020131025,       GT13,17,4,7,      NIS-7,2,      7,2,20131119,837,-14.9997,-109.1895,139.3,20.8712,35.9063,2,35.9101,2,202.6,2,202.1,2,1.07,2,0.95,2,0.93,2,0.41,2,-999,9,-999,9,-999,9,-999,9,20.8594,2,-999,9,-999,20131119,903,-14.9997,-109.1895,4217,8304,3708,36.0795,2,20.8594,2
325020131025,       GT13,17,4,6,      NIS-6,2,      6,2,20131119,837,-14.9997,-109.1895,175,19.3023,35.5959,2,35.596,2,200,2,200.5,2,0.98,2,2.69,2,0.09,2,0.43,2,-999,9,-999,9,-999,9,-999,9,19.2889,2,-999,9,-999,20131119,902,-14.9997,-109.1895,4217,8303,3708,35.7639,2,19.2889,2
325020131025,       GT13,17,4,5,      NIS-5,2,      5,2,20131119,837,-14.9997,-109.1895,210.8,17.4563,35.2501,2,35.2566,2,191.4,2,190.5,2,1.56,2,5.81,2,0.02,2,0.61,2,-999,9,-999,9,-999,9,-999,9,17.437,2,-999,9,-999,20131119,900,-14.9997,-109.1895,4217,8302,3708,35.4229,2,17.437,2
325020131025,       GT13,17,4,4,      NIS-4,2,      4,2,20131119,837,-14.9997,-109.1895,251.1,14.1212,34.7502,2,34.7508,2,171.6,2,171.6,2,3.61,2,11.55,2,0,2,0.98,2,-999,9,-999,9,-999,9,-999,9,14.0167,3,-999,9,-999,20131119,858,-14.9997,-109.1895,4217,8301,3708,34.9147,2,14.0167,3
325020131025,       GT13,17,4,3,      NIS-3,2,      3,2,20131119,837,-14.9997,-109.1895,351.6,9.9419,34.6326,2,34.6319,2,13.1,2,13.2,2,26.84,2,32.32,2,0,2,2.65,2,-999,9,-999,9,-999,9,-999,9,9.9407,2,-999,9,-999,20131119,855,-14.9997,-109.1895,4217,8300,3708,34.7952,2,9.9407,2
325020131025,       GT13,17,4,2,      NIS-2,2,      2,2,20131119,837,-14.9997,-109.1895,504,7.5758,34.5528,2,34.5531,2,48.5,2,49.2,2,34.65,2,38.35,2,0,2,2.6,2,-999,9,-999,9,-999,9,-999,9,7.5744,2,-999,9,-999,20131119,851,-14.9997,-109.1895,4217,8299,3708,34.716,2,7.5744,2
325020131025,       GT13,17,4,1,      NIS-1,2,      1,2,20131119,837,-14.9997,-109.1895,1259.2,3.5425,34.5603,2,34.5629,2,94.9,2,94.9,2,97.52,2,40.12,2,0,2,2.86,2,-999,9,-999,9,-999,9,-999,9,3.5427,2,-999,9,-999,20131119,837,-14.9997,-109.1895,4217,8298,3708,34.7258,2,3.5427,2
325020131025,       GT13,17,6,12,     NIS-12,2,     12,2,20131119,1301,-14.9998,-109.1905,20.8,23.429,35.9244,2,35.9232,2,215.6,2,215.4,2,1.56,2,2.74,2,0.05,2,0.41,2,1.54788205,2,0.956664871,2,0.140439,4,1.1495,2,23.4294,2,30.4,2,2.5,20131119,1329,-14.9998,-109.1905,4219,8345,3708,36.0926,2,23.4294,2
325020131025,       GT13,17,6,11,     NIS-11,2,     11,2,20131119,1301,-14.9998,-109.1905,50.1,23.3633,35.9787,2,35.9812,2,217.3,2,217,2,1.37,2,2.23,2,0.04,2,0.39,2,1.556093372,2,0.961500697,2,0.143603,4,1.2254,2,23.3572,2,22.5,2,2.5,20131119,1326,-14.9998,-109.1905,4219,8344,3708,36.1509,2,23.3572,2
325020131025,       GT13,17,6,10,     NIS-10,2,     10,2,20131119,1301,-14.9998,-109.1905,80.8,22.3106,36.1769,2,36.1737,2,218.9,2,218.8,2,1.07,2,0.19,2,0.04,2,0.3,2,1.64235407,2,0.990725553,2,0.133303,4,1.1352,2,22.285,3,35.5,2,2.5,20131119,1324,-14.9998,-109.1905,4219,8343,3708,36.3443,2,22.285,3
325020131025,       GT13,17,6,9,      NIS-9,2,      9,2,20131119,1301,-14.9998,-109.1905,125.3,21.5665,36.0525,2,36.0519,2,208.5,2,207,2,1.07,2,0.42,2,0.51,2,0.38,2,1.699117893,2,1.009655073,2,0.132468,4,1.2034,2,21.5544,2,29,2,2.5,20131119,1322,-14.9998,-109.1905,4219,8342,3708,36.2219,2,21.5544,2
325020131025,       GT13,17,6,8,      NIS-8,2,      8,2,20131119,1301,-14.9998,-109.1905,175.7,18.6879,35.4611,2,35.4629,2,194.3,2,194.4,2,1.17,2,4.25,2,0.04,2,0.54,2,1.964104074,2,1.155620673,2,0.110837,4,1.2826,2,18.6414,3,42.1,2,2.5,20131119,1320,-14.9998,-109.1905,4219,8341,3708,35.6302,2,18.6414,3
325020131025,       GT13,17,6,7,      NIS-7,2,      7,2,20131119,1301,-14.9998,-109.1905,250.8,13.536,34.6771,2,34.6796,2,165.1,2,168.2,2,4.1,2,12.49,2,0,2,1.04,2,2.348730294,2,1.321980099,2,0.056305,4,1.0604,2,13.5214,2,32,2,2.5,20131119,1317,-14.9998,-109.1905,4219,8340,3708,34.8432,2,13.5214,2
325020131025,       GT13,17,6,6,      NIS-6,2,      6,2,20131119,1301,-14.9998,-109.1905,300.7,11.2674,34.6016,2,34.6008,2,42.4,2,44.1,2,19.52,2,25.02,2,0,2,2.33,2,1.423271284,2,0.72609191,2,0.025202,4,0.3333,2,11.2646,2,-1.5,2,2.5,20131119,1314,-14.9998,-109.1905,4219,8339,3708,34.7639,2,11.2646,2
325020131025,       GT13,17,6,5,      NIS-5,2,      5,2,20131119,1301,-14.9998,-109.1905,351.6,10.0807,34.6378,2,34.6367,2,13.1,2,13,2,26.45,2,31.88,2,0,2,2.64,2,0.612625681,2,0.307942151,2,0.004752,4,0.1221,2,10.0868,2,-43.7,2,2.5,20131119,1311,-14.9999,-109.1905,4219,8338,3708,34.8,2,10.0868,2
325020131025,       GT13,17,6,4,      NIS-4,2,      4,2,20131119,1301,-14.9998,-109.1905,387.7,9.4133,34.6177,2,34.6165,2,15.3,2,15,2,28.21,2,34.92,2,0,2,2.66,2,0.410313178,2,0.202956029,2,0.009652,4,0,2,9.4151,2,-999,9,-999,20131119,1310,-14.9998,-109.1905,4219,8337,3708,34.7797,2,9.4151,2
325020131025,       GT13,17,6,3,      NIS-3,2,      3,2,20131119,1301,-14.9998,-109.1905,451.9,8.28,34.5803,2,34.5798,2,36.2,2,35.7,2,31.33,2,37.44,2,0,2,2.62,2,0.213878284,2,0.109183197,2,0.005433,4,0,2,8.2768,2,-88.5,2,2.5,20131119,1307,-14.9998,-109.1905,4219,8336,3708,34.7428,2,8.2768,2
325020131025,       GT13,17,6,2,      NIS-2,2,      2,2,20131119,1301,-14.9998,-109.1905,503.6,7.581,34.5535,2,34.5535,2,49.9,2,49.9,2,34.56,2,38.34,2,0,2,2.61,2,0.139269018,2,0.071499914,2,0.007147,4,0,2,7.5791,2,-105.1,2,2.5,20131119,1305,-14.9998,-109.1906,4219,8335,3708,34.7164,2,7.5791,2
325020131025,       GT13,17,6,1,      NIS-1,2,      1,2,20131119,1301,-14.9998,-109.1905,603.8,6.6852,34.5164,2,34.5166,2,63.3,2,63.3,2,39.83,2,39.22,2,0,2,2.66,2,0.069191144,2,0.032157486,2,0.016577,4,0,2,6.6852,2,-999,9,-999,20131119,1302,-14.9998,-109.1905,4219,8334,3708,34.6794,2,6.6852,2