BOTTLE,20161222CCHSIORJL
EXPOCODE,SECT_ID,STNNBR,CASTNO,SAMPNO,BTLNBR,BTLNBR_FLAG_W,BTLNBR_U,BTLNBR_U_FLAG_W,DATE,TIME,LATITUDE,LONGITUDE,CTDPRS,CTDTMP,CTDSAL,CTDSAL_FLAG_W,SALNTY,SALNTY_FLAG_W,CTDOXY,CTDOXY_FLAG_W,OXYGEN,OXYGEN_FLAG_W,SILCAT,SILCAT_FLAG_W,NITRAT,NITRAT_FLAG_W,NITRIT,NITRIT_FLAG_W,PHSPHT,PHSPHT_FLAG_W,CFC-11,CFC-11_FLAG_W,CFC-12,CFC-12_FLAG_W,CFC113,CFC113_FLAG_W,SF6,SF6_FLAG_W,REFTMP,REFTMP_FLAG_W,DELC14,DELC14_FLAG_W,C14ERR,BTL_DATE,BTL_TIME,BTL_LAT,BTL_LON,GEOTR_EVENT,GEOTR_SAMPNO,DEPTH,SALTREF,SALTREF_FLAG_W,SBE35,SBE35_FLAG_W
,,,,,,,,,,,,,DBAR,ITS-90,PSS-78,,PSS-78,,UMOL/KG,,UMOL/KG,,UMOL/KG,,UMOL/KG,,UMOL/KG,,UMOL/KG,,PMOL/KG,,PMOL/KG,,PMOL/KG,,FMOL/KG,,DEG C,,/MILLE,,/MILLE,,,,,,,METERS,G/KG,,ITS-90,
325020131025,       GT13,26,17,12,     NIS-12,2,     12,2,20131205,213,-11.6701,-128.0001,2628.3,1.8068,34.6743,2,34.6744,2,146.8,2,146.6,2,137.72,2,35.97,2,0,2,2.58,2,0.004044098,2,0.001769496,2,0,2,0,2,1.8068,2,-234.3,2,2.5,20131205,255,-11.6701,-128,4348,9497,3982,34.8379,2,1.8068,2
325020131025,       GT13,26,17,11,     NIS-11,2,     11,2,20131205,213,-11.6701,-128.0001,2678.3,1.7965,34.675,2,34.675,2,147.6,2,148,2,138.41,2,35.94,2,0,2,2.58,2,0.004194257,2,0.00106009,2,0,2,0,2,1.7966,2,-234.4,2,2.5,20131205,253,-11.6702,-127.9999,4348,9496,3982,34.8385,2,1.7966,2
325020131025,       GT13,26,17,10,     NIS-10,2,     10,2,20131205,213,-11.6701,-128.0001,2729.9,1.7818,34.6758,2,34.6763,2,148.5,2,149,2,137.72,2,35.89,2,0,2,2.58,2,0.004055334,2,0.001963427,2,0,2,0,2,1.7818,2,-230.3,2,2.5,20131205,250,-11.6701,-128,4348,9495,3982,34.8398,2,1.7818,2
325020131025,       GT13,26,17,9,      NIS-9,2,      9,2,20131205,213,-11.6701,-128.0001,2780.3,1.767,34.6767,2,34.6767,2,149.7,2,150,2,138.21,2,35.79,2,0,2,2.58,2,0.004591619,2,0.002368372,2,0,2,0,2,1.7672,2,-219.5,2,2.5,20131205,248,-11.6701,-128,4348,9494,3982,34.8402,2,1.7672,2
325020131025,       GT13,26,17,8,      NIS-8,2,      8,2,20131205,213,-11.6701,-128.0001,2831.6,1.7426,34.6777,2,34.6781,2,151.9,2,152.3,2,136.85,2,35.68,2,0,2,2.57,2,0.005818434,2,0.002616563,2,0,2,0,2,1.7428,2,-999,9,-999,20131205,245,-11.6701,-128,4348,9493,3982,34.8416,2,1.7428,2
325020131025,       GT13,26,17,7,      NIS-7,2,      7,2,20131205,213,-11.6701,-128.0001,2932.8,1.711,34.6793,2,34.6797,2,154.9,2,154.5,2,136.55,2,35.55,2,0,2,2.56,2,0.004579361,2,0.002475888,2,0,2,0,2,1.7113,2,-220,2,2.5,20131205,242,-11.6701,-128,4348,9492,3982,34.8432,2,1.7113,2
325020131025,       GT13,26,17,6,      NIS-6,2,      6,2,20131205,213,-11.6701,-128.0001,3035.8,1.6788,34.6808,2,34.6811,2,157.2,2,157,2,136.55,2,35.43,2,0,2,2.55,2,0.002599704,2,0.001253016,2,0,2,0,2,1.6788,2,-999,9,-999,20131205,239,-11.6701,-128,4348,9491,3982,34.8446,2,1.6788,2
325020131025,       GT13,26,17,5,      NIS-5,2,      5,2,20131205,213,-11.6701,-128.0001,3289.5,1.6121,34.6845,2,34.6846,2,161.2,2,160.9,2,136.45,2,35.01,2,0,2,2.54,2,0.00969705,2,0.003788189,2,0,2,0,2,1.6123,2,-215.5,2,2.5,20131205,233,-11.6701,-128,4348,9490,3982,34.8481,2,1.6123,2
325020131025,       GT13,26,17,4,      NIS-4,2,      4,2,20131205,213,-11.6701,-128.0001,3546.7,1.5674,34.6873,2,34.687,2,165.1,2,164.8,2,136.26,2,34.86,2,0,2,2.52,2,0.005698919,2,0.001580589,2,0,2,0,2,1.5673,2,-999,9,-999,20131205,228,-11.6701,-128,4348,9489,3982,34.8505,2,1.5673,2
325020131025,       GT13,26,17,3,      NIS-3,2,      3,2,20131205,213,-11.6701,-128.0001,3803,1.5713,34.6886,2,34.6891,2,164.8,2,165.2,2,136.84,2,35,2,0,2,2.52,2,0.013519483,2,0.001608724,2,0,2,0,2,1.5712,2,-209.6,2,2.5,20131205,222,-11.6702,-128,4348,9488,3982,34.8527,2,1.5712,2
325020131025,       GT13,26,17,2,     NIS-22,2,      2,2,20131205,213,-11.6701,-128.0001,3955.6,1.5651,34.6896,2,34.6905,2,164.2,2,164,2,139.48,2,35.11,2,0,2,2.52,2,0.00695025,2,0.000874197,2,0,2,0,2,1.565,2,-999,9,-999,20131205,218,-11.6701,-128,4348,9487,3982,34.8541,2,1.565,2
325020131025,       GT13,26,17,1,      NIS-1,2,      1,2,20131205,213,-11.6701,-128.0001,4022.7,1.5625,34.6899,2,34.6905,2,163.7,2,163.7,2,140.55,2,35.17,2,0,2,2.53,2,0.005031883,2,0.001885051,2,0,2,0,2,1.5623,2,-211.3,2,2.5,20131205,214,-11.6701,-128,4348,9486,3982,34.8541,2,1.5623,2
325020131025,       GT13,26,17,13, NIOZ_CORER,2,    13,2,20131205,213,-11.6701,-128.0001,4038.7,-999,-999,2,-999,9,-999,9,-999,9,-999,9,-999,9,-999,9,-999,9,-999,9,-999,9,-999,9,-999,9,-999,9,-999,9,-999,20131205,213,-11.6701,-128.0001,4348,9485,3982,-999,9,-999,9
325020131025,       GT13,26,25,25,       FISH,2,    25,2,20131203,1824,-11.7142,-128.0782,3,26.5741,36.1043,2,36.0478,2,-999,9,-999,9,1.46,2,2.62,2,0.05,2,0.37,2,-999,9,-999,9,-999,9,-999,9,-999,9,-999,9,-999,20131203,1808,-11.6967,-128.0432,4339,9338,4008,36.2177,2,-999,9
325020131025,       GT13,27,2,12,     NIS-12,2,     12,2,20131205,1507,-11.6501,-130.0011,19.7,26.9147,35.8419,2,35.8417,2,203.5,2,203.4,2,1.37,2,3.92,2,0.08,2,0.44,2,1.430634046,2,0.931331752,2,0.131553382,2,1.223,2,26.9145,2,-999,9,-999,20131205,1537,-11.6501,-130.0011,4356,9545,4148,36.0107,2,26.9145,2
325020131025,       GT13,27,2,11,     NIS-11,2,     11,2,20131205,1507,-11.6501,-130.0011,44.9,26.9116,35.8471,2,35.8508,2,203.5,2,204.1,2,1.27,2,3.85,2,0.08,2,0.44,2,1.420662214,2,0.916885389,2,0.128697279,2,1.214,2,26.9144,2,-999,9,-999,20131205,1535,-11.6501,-130.0011,4356,9544,4148,36.0198,2,26.9144,2
325020131025,       GT13,27,2,10,     NIS-10,2,     10,2,20131205,1507,-11.6501,-130.0011,64.7,26.5459,35.9695,2,35.9704,2,204.7,2,204.4,2,0.98,2,2.86,2,0.05,2,0.39,2,1.455453304,2,0.932575725,2,0.141078833,2,1.215,2,26.5458,2,-999,9,-999,20131205,1534,-11.6501,-130.0011,4356,9543,4148,36.14,2,26.5458,2
325020131025,       GT13,27,2,9,      NIS-9,2,      9,2,20131205,1507,-11.6501,-130.0011,100,25.6779,36.2466,2,36.2415,2,197,2,196.7,2,1.07,2,1.05,2,0.04,2,0.36,2,1.499234058,6,0.950262648,6,0.134707762,6,1.222,6,25.6829,2,-999,9,-999,20131205,1532,-11.6501,-130.0011,4356,9542,4148,36.4124,2,25.6829,2
325020131025,       GT13,27,2,8,      NIS-8,2,      8,2,20131205,1507,-11.6501,-130.0011,140.3,22.9185,36.088,2,36.09,2,183.4,2,184.3,2,0.98,2,0.67,2,2.85,2,0.51,2,1.703543735,2,1.099739355,2,0.147568399,2,1.326,2,22.9252,2,-999,9,-999,20131205,1531,-11.6501,-130.0011,4356,9541,4148,36.2602,2,22.9252,2
325020131025,       GT13,27,2,7,      NIS-7,2,      7,2,20131205,1507,-11.6501,-130.0011,201.1,19.6713,35.7087,2,35.6852,2,186,2,185.3,2,0.78,2,4.41,2,0.03,2,0.52,2,1.930414655,2,1.23558461,2,0.054639829,4,1.458,2,19.6617,2,-999,9,-999,20131205,1529,-11.6501,-130.0011,4356,9540,4148,35.8534,2,19.6617,2
325020131025,       GT13,27,2,6,      NIS-6,2,      6,2,20131205,1507,-11.6501,-130.0011,250.8,15.3777,35.0429,2,35.0435,2,136.2,2,135.5,2,4.98,2,13.27,2,0.02,2,1.19,2,2.057635697,2,1.264854147,2,0.029827688,4,1.526,2,15.3664,2,-999,9,-999,20131205,1527,-11.6501,-130.0011,4356,9539,4148,35.2088,2,15.3664,2
325020131025,       GT13,27,2,5,      NIS-5,2,      5,2,20131205,1507,-11.6501,-130.0011,299.7,11.9134,34.7487,2,34.7491,2,27.6,2,28.2,2,19.13,2,26.92,2,0,2,2.34,2,1.115420174,2,0.61719343,2,0.007954391,4,1.31,2,11.9051,2,-999,9,-999,20131205,1525,-11.6501,-130.0011,4356,9538,4148,34.913,2,11.9051,2
325020131025,       GT13,27,2,4,      NIS-4,2,      4,2,20131205,1507,-11.6501,-130.0011,426.6,9.0871,34.667,2,34.6685,2,73.4,2,74.5,2,27.62,2,32.46,2,0,2,2.25,2,0.402387213,2,0.227939442,2,0.0000296,4,0.642,2,9.0918,2,-999,9,-999,20131205,1521,-11.6501,-130.0011,4356,9537,4148,34.8319,2,9.0918,2
325020131025,       GT13,27,2,3,      NIS-3,2,      3,2,20131205,1507,-11.6501,-130.0011,603,7.1841,34.5767,2,34.5776,2,53,2,53,2,42.17,2,39.5,2,0,2,2.69,2,0.060999581,2,0.038650579,2,0.0000296,4,0.633,2,7.1843,2,-999,9,-999,20131205,1517,-11.6501,-130.001,4356,9536,4148,34.7407,2,7.1843,2
325020131025,       GT13,27,2,2,     NIS-22,2,      2,2,20131205,1507,-11.6501,-130.0011,879.3,5.1097,34.5145,2,34.5149,2,82.3,2,82.9,2,62.77,2,40.74,2,0,2,2.82,2,0.011536762,2,0.005709414,2,0.001286064,2,0.297,2,5.1083,2,-999,9,-999,20131205,1511,-11.6501,-130.0011,4356,9535,4148,34.6777,2,5.1083,2
325020131025,       GT13,27,2,1,      NIS-1,2,      1,2,20131205,1507,-11.6501,-130.0011,1007.2,4.4536,34.5285,2,34.5294,2,88.9,2,88.5,2,76.14,2,40.76,2,0,2,2.85,2,0.01269718,2,0.00378216,2,0.00809025,2,0.297,2,4.4531,2,-999,9,-999,20131205,1508,-11.6501,-130.001,4356,9534,4148,34.6922,2,4.4531,2
325020131025,       GT13,27,25,25,       FISH,2,   25,2,20131205,1617,-11.6517,-130.0386,3,26.9085,35.8433,2,35.8426,2,-999,9,-999,9,1.46,2,3.89,2,0.08,2,0.44,2,-999,9,-999,9,-999,9,-999,9,-999,9,-999,9,-999,20131205,1610,-11.6518,-130.0292,4357,9546,4165,36.0116,2,-999,9
325020131025,       GT13,28,2,12,     NIS-12,2,     12,2,20131206,804,-11.625,-132.5007,863.8,5.2925,34.5235,2,34.5241,2,65.3,2,66.7,2,63.55,2,41.4,2,0,2,2.88,2,0.005616585,2,0.002596627,2,0,2,6.167,4,5.2962,2,-999,9,-999,20131206,849,-11.625,-132.5007,4362,9583,4027,34.6869,2,5.2962,2
325020131025,       GT13,28,2,11,     NIS-11,2,     11,2,20131206,804,-11.625,-132.5007,1206.6,3.6922,34.5575,2,34.558,2,102.6,2,103.1,2,94.1,2,38.87,2,0,2,2.78,2,0.004260611,2,0.001810076,2,0,2,4.784,4,3.6939,2,-999,9,-999,20131206,841,-11.625,-132.5007,4362,9582,4027,34.721,2,3.6939,2
325020131025,       GT13,28,2,10,     NIS-10,2,     10,2,20131206,804,-11.625,-132.5007,1511.9,2.954,34.5904,2,34.5915,2,117.9,2,118.4,2,109.23,2,37.85,2,0,2,2.74,2,0.00447981,2,0.002382846,2,0,2,4.582,4,2.9552,2,-999,9,-999,20131206,835,-11.625,-132.5007,4362,9581,4027,34.7547,2,2.9552,2
325020131025,       GT13,28,2,9,      NIS-9,2,      9,2,20131206,804,-11.625,-132.5007,1764.2,2.5233,34.6157,2,34.6163,2,126.8,2,126.9,2,118.7,2,37.34,2,0,2,2.69,2,0.004077096,2,0.001692093,2,0,2,4.27,4,2.5228,2,-999,9,-999,20131206,829,-11.625,-132.5007,4362,9580,4027,34.7795,2,2.5228,2
325020131025,       GT13,28,2,8,      NIS-8,2,      8,2,20131206,804,-11.625,-132.5007,2018.8,2.139,34.6435,2,34.6445,2,136.5,2,136.3,2,126.7,2,36.64,2,0,2,2.65,2,0.007299827,2,0.002333435,2,0,2,4.252,4,2.1392,2,-999,9,-999,20131206,824,-11.625,-132.5007,4362,9579,4027,34.8079,2,2.1392,2
325020131025,       GT13,28,2,7,      NIS-7,2,      7,2,20131206,804,-11.625,-132.5007,2119.9,2.0438,34.6517,2,34.6528,2,138.4,2,138.6,2,129.82,2,36.5,2,0,2,2.64,2,0.005067059,2,0.00215394,2,0,2,4.1,4,2.0434,2,-999,9,-999,20131206,821,-11.625,-132.5007,4362,9578,4027,34.8162,2,2.0434,2
325020131025,       GT13,28,2,6,      NIS-6,2,      6,2,20131206,804,-11.625,-132.5007,2221.2,1.9718,34.6583,2,34.659,2,140.4,2,140.1,2,131.87,2,36.32,2,0,2,2.63,2,0.00473979,2,0.001555959,2,0,2,3.758,4,1.9721,2,-999,9,-999,20131206,818,-11.625,-132.5007,4362,9577,4027,34.8225,2,1.9721,2
325020131025,       GT13,28,2,5,      NIS-5,2,      5,2,20131206,804,-11.625,-132.5007,2321.5,1.9091,34.6642,2,34.6649,2,142.8,2,143,2,133.33,2,36.13,2,0,2,2.62,2,0.003608113,2,0.001707219,2,0,2,3.444,4,1.9092,2,-999,9,-999,20131206,815,-11.6251,-132.5007,4362,9576,4027,34.8284,2,1.9092,2
325020131025,       GT13,28,2,4,      NIS-4,2,      4,2,20131206,804,-11.625,-132.5007,2424.4,1.8678,34.6684,2,34.6687,2,144.4,2,144.1,2,134.6,2,36.03,2,0,2,2.61,2,0.005543179,2,0.002163015,2,0,2,3.159,4,1.8675,2,-999,9,-999,20131206,812,-11.625,-132.5007,4362,9575,4027,34.8321,2,1.8675,2
325020131025,       GT13,28,2,3,      NIS-3,2,      3,2,20131206,804,-11.625,-132.5007,2475.7,1.8478,34.6704,2,34.6724,2,145.4,2,145,2,135.19,2,35.91,2,0,2,2.6,2,0.004853977,2,0.002537131,2,0,2,3.443,4,1.8475,2,-999,9,-999,20131206,809,-11.625,-132.5008,4362,9574,4027,34.8359,2,1.8475,2
325020131025,       GT13,28,2,2,     NIS-22,2,      2,2,20131206,804,-11.625,-132.5007,2527.8,1.8299,34.672,2,34.673,2,145.9,2,145.6,2,136.26,2,35.93,2,0,2,2.6,2,0.003470477,2,0,2,0,2,9.49,4,1.8297,2,-999,9,-999,20131206,807,-11.625,-132.5007,4362,9573,4027,34.8365,2,1.8297,2
325020131025,       GT13,28,2,1,      NIS-1,2,      1,2,20131206,804,-11.625,-132.5007,2579.6,1.8149,34.6732,2,34.6744,2,146.6,2,146.5,2,136.85,2,35.91,2,0,2,2.61,2,0.009682466,2,0,2,0.009267027,4,8.557,4,1.8145,2,-999,9,-999,20131206,805,-11.625,-132.5007,4362,9572,4027,34.8379,2,1.8145,2
325020131025,       GT13,28,4,12,     NIS-12,2,     12,2,20131206,1625,-11.6253,-132.5011,4,27.2491,36.0076,2,36.0076,2,200.6,2,200.9,2,1.46,2,2.34,2,0.05,2,0.38,2,1.399539,2,0.873468,2,0.121432,2,2.659,4,27.2493,2,33.3,2,2.5,20131206,1708,-11.6253,-132.5011,4367,9610,4039,36.1774,2,27.2493,2
325020131025,       GT13,28,4,11,     NIS-11,2,     11,2,20131206,1625,-11.6253,-132.5011,19.5,27.2492,36.0074,2,36.0082,2,200.9,2,201,2,1.27,2,2.33,2,0.05,2,0.38,2,-999,9,-999,9,-999,9,-999,9,27.249,2,-999,9,-999,20131206,1706,-11.6253,-132.5011,4367,9609,4039,36.178,2,27.249,2
325020131025,       GT13,28,4,10,     NIS-10,2,     10,2,20131206,1625,-11.6253,-132.5011,60.7,27.2521,36.0069,2,36.0072,2,201.2,2,201.1,2,1.27,2,2.33,2,0.05,2,0.36,2,-999,9,-999,9,-999,9,-999,9,27.2527,2,-999,9,-999,20131206,1704,-11.6253,-132.5011,4367,9608,4039,36.177,2,27.2527,2
325020131025,       GT13,28,4,9,      NIS-9,2,      9,2,20131206,1625,-11.6253,-132.5011,74.7,26.3904,36.022,2,36.0224,2,203.7,2,203.5,2,1.17,2,2.21,2,0.05,2,0.39,2,-999,9,-999,9,-999,9,-999,9,26.3835,2,-999,9,-999,20131206,1703,-11.6253,-132.5011,4367,9607,4039,36.1923,2,26.3835,2
325020131025,       GT13,28,4,8,      NIS-8,2,      8,2,20131206,1625,-11.6253,-132.5011,101.2,25.6341,36.1938,2,36.2011,2,195,2,194.9,2,1.27,2,1.35,2,0.05,2,0.4,2,-999,9,-999,9,-999,9,-999,9,25.6344,2,-999,9,-999,20131206,1701,-11.6253,-132.5011,4367,9606,4039,36.3718,2,25.6344,2
325020131025,       GT13,28,4,7,      NIS-7,2,      7,2,20131206,1625,-11.6253,-132.5011,121.2,25.0639,36.2931,2,36.2956,2,189.5,2,189.5,2,1.07,2,0.61,2,0.13,2,0.4,2,-999,9,-999,9,-999,9,-999,9,25.0534,3,-999,9,-999,20131206,1659,-11.6253,-132.5011,4367,9605,4039,36.4667,2,25.0534,3
325020131025,       GT13,28,4,6,      NIS-6,2,      6,2,20131206,1625,-11.6253,-132.5011,150.5,22.9,36.1762,2,36.1656,2,182,2,181.8,2,0.97,2,1.08,2,2.32,2,0.48,2,-999,9,-999,9,-999,9,-999,9,22.8613,3,-999,9,-999,20131206,1657,-11.6253,-132.5011,4367,9604,4039,36.3361,2,22.8613,3
325020131025,       GT13,28,4,5,      NIS-5,2,      5,2,20131206,1625,-11.6253,-132.5011,222.1,18.55,35.4951,2,35.5011,2,173.2,2,172.4,2,1.56,2,7.15,2,0.02,2,0.72,2,-999,9,-999,9,-999,9,-999,9,18.5897,3,-999,9,-999,20131206,1655,-11.6253,-132.5011,4367,9603,4039,35.6685,2,18.5897,3
325020131025,       GT13,28,4,4,      NIS-4,2,      4,2,20131206,1625,-11.6253,-132.5011,341.4,11.1283,34.7061,2,34.7067,2,28.4,2,28.8,2,21.86,2,28.4,2,0,2,2.4,2,-999,9,-999,9,-999,9,-999,9,11.128,2,-999,9,-999,20131206,1651,-11.6253,-132.5011,4367,9602,4039,34.8703,2,11.128,2
325020131025,       GT13,28,4,3,      NIS-3,2,      3,2,20131206,1625,-11.6253,-132.5011,441.6,8.8737,34.6569,2,34.6584,2,77.7,2,78.2,2,28.99,2,32.21,2,0,2,2.25,2,-999,9,-999,9,-999,9,-999,9,8.8734,2,-999,9,-999,20131206,1648,-11.6253,-132.5011,4367,9601,4039,34.8218,2,8.8734,2
325020131025,       GT13,28,4,2,     NIS-22,2,      2,2,20131206,1625,-11.6253,-132.5011,612.9,6.9698,34.569,2,34.5678,2,54.1,2,54.8,2,44.51,2,39.26,2,0,2,2.7,2,-999,9,-999,9,-999,9,-999,9,6.9769,2,-999,9,-999,20131206,1643,-11.6253,-132.5011,4367,9600,4039,34.7308,2,6.9769,2
325020131025,       GT13,28,4,1,      NIS-1,2,      1,2,20131206,1625,-11.6253,-132.5011,1512.7,3.0398,34.587,2,34.588,2,116.5,2,115.8,2,108.55,2,38,2,0,2,2.74,2,-999,9,-999,9,-999,9,-999,9,3.0369,2,-999,9,-999,20131206,1626,-11.6253,-132.5011,4367,9599,4039,34.7511,2,3.0369,2
325020131025,       GT13,28,6,12,     NIS-12,2,     12,2,20131206,2101,-11.6251,-132.5003,20.9,27.2756,36.0067,2,36.0076,2,201.3,2,201.5,2,1.66,2,2.52,2,0.05,2,0.36,2,1.352032519,6,0.876185131,6,0.130604579,6,3.031,4,27.2781,2,-999,9,-999,20131206,2130,-11.6251,-132.5003,4369,9646,4041,36.1774,2,27.2781,2
325020131025,       GT13,28,6,11,     NIS-11,2,     11,2,20131206,2101,-11.6251,-132.5003,39.5,27.2632,36.0062,2,36.007,2,201.4,2,201.6,2,1.76,2,2.47,2,0.05,2,0.36,2,1.363781061,2,0.89374085,2,0.133645607,2,3.09,4,27.2629,2,-999,9,-999,20131206,2129,-11.6251,-132.5002,4369,9645,4041,36.1768,2,27.2629,2
325020131025,       GT13,28,6,10,     NIS-10,2,     10,2,20131206,2101,-11.6251,-132.5003,59.5,27.2322,36.005,2,36.0107,2,202,2,201.8,2,1.66,2,2.46,2,0.05,2,0.37,2,1.376014389,2,0.901824175,2,0.136049741,2,3.202,4,27.2126,2,-999,9,-999,20131206,2127,-11.6251,-132.5002,4369,9644,4041,36.1805,2,27.2126,2
325020131025,       GT13,28,6,9,      NIS-9,2,      9,2,20131206,2101,-11.6251,-132.5003,75.7,26.1691,36.0789,2,36.0778,2,200.3,2,200,2,1.56,2,2.22,2,0.04,2,0.4,2,1.39445257,2,0.929939342,2,0.144934935,2,3.745,4,26.1705,2,-999,9,-999,20131206,2126,-11.6251,-132.5003,4369,9643,4041,36.248,2,26.1705,2
325020131025,       GT13,28,6,8,      NIS-8,2,      8,2,20131206,2101,-11.6251,-132.5003,120.5,24.3408,36.254,2,36.2538,2,186.1,2,185.7,2,1.36,2,0.56,2,1.18,2,0.45,2,1.586289177,2,1.007445884,2,0.148043137,2,3.159,4,24.3257,2,-999,9,-999,20131206,2124,-11.6251,-132.5002,4369,9642,4041,36.4248,2,24.3257,2
325020131025,       GT13,28,6,7,      NIS-7,2,      7,2,20131206,2101,-11.6251,-132.5003,150.4,21.7558,36.028,2,36.0198,2,179.5,2,179.4,2,1.46,2,3.66,2,0.53,2,0.54,2,1.763252896,2,1.121819487,2,0.15087355,2,3.459,4,21.8066,3,-999,9,-999,20131206,2123,-11.6251,-132.5003,4369,9641,4041,36.1897,2,21.8066,3
325020131025,       GT13,28,6,6,      NIS-6,2,      6,2,20131206,2101,-11.6251,-132.5003,220.4,18.0099,35.4059,2,35.4068,2,167.2,2,166.7,2,2.34,2,8.19,2,0,2,0.8,2,2.040936899,2,1.237902326,2,0.032395201,2,4.973,4,17.9963,2,-999,9,-999,20131206,2121,-11.6251,-132.5002,4369,9640,4041,35.5737,2,17.9963,2
325020131025,       GT13,28,6,5,      NIS-5,2,      5,2,20131206,2101,-11.6251,-132.5003,269.9,14.0361,34.9047,2,34.911,2,95.8,2,96.7,2,9.27,2,18.01,2,0,2,1.61,2,1.913055343,2,1.065724277,2,0.029809241,2,9.091,4,14.035,2,-999,9,-999,20131206,2119,-11.6251,-132.5003,4369,9639,4041,35.0757,2,14.035,2
325020131025,       GT13,28,6,4,      NIS-4,2,      4,2,20131206,2101,-11.6251,-132.5003,341.1,10.5596,34.7076,2,34.7035,2,38.4,2,38.7,2,24.21,2,30.33,2,0,2,2.37,2,0.677430091,2,0.330326244,2,0.004587047,2,11.216,4,10.5599,2,-999,9,-999,20131206,2116,-11.6251,-132.5002,4369,9638,4041,34.8672,2,10.5599,2
325020131025,       GT13,28,6,3,      NIS-3,2,      3,2,20131206,2101,-11.6251,-132.5003,441.6,8.8414,34.6531,2,34.6547,2,77.3,2,77.8,2,29.77,2,32.6,2,0,2,2.25,2,0.382300928,2,0.192487201,2,0.003776915,2,10.735,4,8.8433,2,-999,9,-999,20131206,2114,-11.6251,-132.5003,4369,9637,4041,34.8181,2,8.8433,2
325020131025,       GT13,28,6,2,     NIS-22,2,      2,2,20131206,2101,-11.6251,-132.5003,614.2,6.9454,34.5681,2,34.5686,2,55.4,2,54.8,2,45.29,2,39.75,2,0,2,2.71,2,0.052389515,2,0.027352818,2,0,2,9.638,4,6.9474,2,-999,9,-999,20131206,2110,-11.6251,-132.5003,4369,9636,4041,34.7316,2,6.9474,2
325020131025,       GT13,28,6,1,      NIS-1,2,      1,2,20131206,2101,-11.6251,-132.5003,866.9,5.2864,34.5255,2,34.5278,2,65.9,2,65.9,2,64.62,2,41.75,2,0,2,2.89,2,0.010298262,2,0.004230233,2,0.002889001,2,7.673,4,5.2868,2,-999,9,-999,20131206,2104,-11.6251,-132.5002,4369,9635,4041,34.6906,2,5.2868,2