BOTTLE,20161222CCHSIORJL
EXPOCODE,SECT_ID,STNNBR,CASTNO,SAMPNO,BTLNBR,BTLNBR_FLAG_W,BTLNBR_U,BTLNBR_U_FLAG_W,DATE,TIME,LATITUDE,LONGITUDE,CTDPRS,CTDTMP,CTDSAL,CTDSAL_FLAG_W,SALNTY,SALNTY_FLAG_W,CTDOXY,CTDOXY_FLAG_W,OXYGEN,OXYGEN_FLAG_W,SILCAT,SILCAT_FLAG_W,NITRAT,NITRAT_FLAG_W,NITRIT,NITRIT_FLAG_W,PHSPHT,PHSPHT_FLAG_W,CFC-11,CFC-11_FLAG_W,CFC-12,CFC-12_FLAG_W,CFC113,CFC113_FLAG_W,SF6,SF6_FLAG_W,REFTMP,REFTMP_FLAG_W,DELC14,DELC14_FLAG_W,C14ERR,BTL_DATE,BTL_TIME,BTL_LAT,BTL_LON,GEOTR_EVENT,GEOTR_SAMPNO,DEPTH,SALTREF,SALTREF_FLAG_W,SBE35,SBE35_FLAG_W
,,,,,,,,,,,,,DBAR,ITS-90,PSS-78,,PSS-78,,UMOL/KG,,UMOL/KG,,UMOL/KG,,UMOL/KG,,UMOL/KG,,UMOL/KG,,PMOL/KG,,PMOL/KG,,PMOL/KG,,FMOL/KG,,DEG C,,/MILLE,,/MILLE,,,,,,,METERS,G/KG,,ITS-90,
325020131025,       GT13,13,10,12,     NIS-12,2,     12,2,20131115,340,-14.0002,-99.0001,2426.4,1.906,34.6657,2,34.6647,2,144.6,2,144.3,2,130.5,2,36.05,2,0,2,2.63,2,0.004581382,2,0.00334783,2,0,2,0,2,1.9066,2,-999,9,-999,20131115,429,-14.0002,-99.0001,4178,3889,3848,34.8282,2,1.9066,2
325020131025,       GT13,13,10,11,     NIS-11,2,     11,2,20131115,340,-14.0002,-99.0001,2629.1,1.8286,34.6744,2,34.6733,2,147.7,2,147.5,2,132.65,2,35.77,2,0,2,2.61,2,0.014663847,4,0.011748551,4,0.000805,4,0.029,4,1.8287,2,-220.4,2,2.5,20131115,424,-14.0002,-99.0001,4178,3888,3848,34.8368,2,1.8287,2
325020131025,       GT13,13,10,10,     NIS-10,2,     10,2,20131115,340,-14.0002,-99.0001,2831.8,1.7989,34.6788,2,34.6776,2,146.8,2,146.3,2,135.87,2,35.87,2,0,2,2.62,2,0.003740253,2,0.002084858,2,0,2,0,2,1.7989,2,-999,9,-999,20131115,419,-14.0002,-99.0001,4178,3887,3848,34.8412,2,1.7989,2
325020131025,       GT13,13,10,9,      NIS-9,2,      9,2,20131115,340,-14.0002,-99.0001,3036.4,1.7935,34.6808,2,34.6808,2,145.1,2,144.7,2,138.41,2,36.02,2,0,2,2.64,2,0.004739534,2,0.002830383,2,0,2,0,2,1.7936,2,-221.3,2,2.5,20131115,414,-14.0002,-99.0001,4178,3886,3848,34.8443,2,1.7936,2
325020131025,       GT13,13,10,8,      NIS-8,2,      8,2,20131115,340,-14.0002,-99.0001,3241.4,1.8009,34.6812,2,34.6806,2,143.2,2,143.3,2,140.65,2,36.2,2,0,2,2.65,2,0.007250832,2,0.00246164,2,0,2,0,2,1.8008,2,-999,9,-999,20131115,407,-14.0002,-99.0001,4178,3885,3848,34.8441,2,1.8008,2
325020131025,       GT13,13,10,7,      NIS-7,2,      7,2,20131115,340,-14.0002,-99.0001,3444.8,1.8108,34.6807,2,34.6796,2,141.6,2,141.1,2,143.38,2,36.46,2,0,2,2.66,2,0.006344227,2,0.002625414,2,0,2,0,2,1.8108,2,-225.6,2,2.5,20131115,402,-14.0003,-99.0001,4178,3884,3848,34.8431,2,1.8108,2
325020131025,       GT13,13,10,6,      NIS-6,2,      6,2,20131115,340,-14.0002,-99.0001,3649.8,1.8241,34.6799,2,34.6794,2,138.5,2,138.9,2,146.22,2,36.7,2,0,2,2.68,2,0.005843579,2,0.003559832,2,0,2,0,2,1.8241,2,-999,9,-999,20131115,357,-14.0002,-99.0001,4178,3883,3848,34.8429,2,1.8241,2
325020131025,       GT13,13,10,5,      NIS-5,2,      5,2,20131115,340,-14.0002,-99.0001,3751.3,1.8331,34.6798,2,34.6837,3,138.5,2,139.1,2,146.8,2,36.73,2,0,2,2.68,2,0.004646859,2,0.002566134,2,0,2,0,2,1.8331,2,-226.3,2,2.5,20131115,352,-14.0002,-99.0001,4178,3882,3848,34.8472,3,1.8331,2
325020131025,       GT13,13,10,4,      NIS-4,2,      4,2,20131115,340,-14.0002,-99.0001,3802.1,1.8374,34.6797,2,34.6788,2,138.7,2,138.5,2,147.29,2,36.76,2,0,2,2.68,2,0.00608534,2,0.0038914,2,0,2,0,2,1.8373,2,-999,9,-999,20131115,349,-14.0002,-99.0001,4178,3881,3848,34.8423,2,1.8373,2
325020131025,       GT13,13,10,3,      NIS-3,2,      3,2,20131115,340,-14.0002,-99.0001,3854.1,1.841,34.6795,2,34.678,2,138.5,2,138.3,2,147.78,2,36.78,2,0,2,2.68,2,0.006248529,2,0.002848469,2,0,2,0,2,1.8409,2,-230.9,2,2.5,20131115,345,-14.0002,-99.0001,4178,3880,3848,34.8415,2,1.8409,2
325020131025,       GT13,13,10,2,      NIS-2,2,      2,2,20131115,340,-14.0002,-99.0001,3865,1.8422,34.6794,2,34.6813,2,138.4,2,138.3,2,147.48,2,36.73,2,0,2,2.68,2,0.003693915,2,0.002553072,2,0,2,0,2,1.8421,2,-999,9,-999,20131115,342,-14.0002,-99.0001,4178,3879,3848,34.8449,2,1.8421,2
325020131025,       GT13,13,10,1,      NIS-1,2,      1,2,20131115,340,-14.0002,-99.0001,3889.9,1.8431,34.6794,2,34.6819,2,138.2,2,138,2,148.46,2,36.83,2,0,2,2.68,2,0.028920728,4,0.008540382,4,0.003262,4,0.049,4,1.8431,2,-230.5,2,2.5,20131115,340,-14.0002,-99.0001,4178,3878,3848,34.8455,2,1.8431,2
325020131025,       GT13,13,10,13, NIOZ_CORER,2,    13,2,20131115,340,-14.0002,-99.0001,3900.9,-999,-999,2,-999,9,-999,9,-999,9,-999,9,-999,9,-999,9,-999,9,-999,9,-999,9,-999,9,-999,9,-999,9,-999,9,-999,20131115,339,-14.0002,-99.0001,4178,3877,3848,-999,9,-999,9
325020131025,       GT13,13,25,25,       FISH,2,    25,2,20131114,1049,-13.9601,-99.0493,3.5,21.2919,35.7425,2,35.7444,2,-999,9,-999,9,1.76,2,3.25,2,0.1,2,0.5,2,-999,9,-999,9,-999,9,-999,9,-999,9,-999,9,-999,20131114,1038,-13.9777,-99.0298,4174,3838,3683,35.913,2,-999,9
325020131025,       GT13,14,2,12,     NIS-12,2,     12,2,20131115,1919,-15,-101.5005,21.1,21.8836,35.8113,2,35.8111,2,221.6,2,221.8,2,1.27,2,1.47,2,0.05,2,0.38,2,1.705739251,6,1.057237915,6,0.1556655,6,1.1855,6,21.8837,2,-999,9,-999,20131115,1952,-15,-101.5006,4184,3927,4078,35.98,2,21.8837,2
325020131025,       GT13,14,2,11,     NIS-11,2,     11,2,20131115,1919,-15,-101.5005,69.9,21.8234,35.8483,2,35.8624,2,221.4,2,221,2,1.27,2,1.24,2,0.04,2,0.39,2,1.697889654,2,1.052760546,2,0.153862,2,1.161,2,21.8277,2,-999,9,-999,20131115,1949,-15,-101.5006,4184,3926,4078,36.0315,2,21.8277,2
325020131025,       GT13,14,2,10,     NIS-10,2,     10,2,20131115,1919,-15,-101.5005,96.4,21.4257,35.8746,2,35.8829,2,219,2,218.5,2,1.27,2,1.16,2,0.08,2,0.41,2,1.716754267,2,1.058945612,2,0.155327,2,1.101,2,21.5177,3,-999,9,-999,20131115,1948,-15,-101.5005,4184,3925,4078,36.0521,2,21.5177,3
325020131025,       GT13,14,2,9,      NIS-9,2,      9,2,20131115,1919,-15,-101.5005,125.7,20.3164,35.7512,2,35.75,2,205.4,2,204.3,2,1.37,2,1.94,2,0.77,2,0.54,2,1.816383914,2,1.122992518,2,0.156349,2,1.205,2,20.3155,2,-999,9,-999,20131115,1946,-15,-101.5006,4184,3924,4078,35.9186,2,20.3155,2
325020131025,       GT13,14,2,8,      NIS-8,2,      8,2,20131115,1919,-15,-101.5005,201,14.9739,34.873,2,34.8712,2,138,2,138.5,2,5.56,2,14.95,2,0.02,2,1.35,2,2.140696928,2,1.307816404,2,0.070472,2,1.002,2,14.9985,3,-999,9,-999,20131115,1943,-15,-101.5006,4184,3923,4078,35.0357,2,14.9985,3
325020131025,       GT13,14,2,7,      NIS-7,2,      7,2,20131115,1919,-15,-101.5005,276.6,11.2696,34.6247,2,34.6306,2,36.9,2,34.2,2,21.08,2,25.67,2,0,2,2.43,2,1.218246482,2,0.679715459,2,0.01184,2,0.263,2,11.2761,2,-999,9,-999,20131115,1940,-15,-101.5005,4184,3922,4078,34.7939,2,11.2761,2
325020131025,       GT13,14,2,6,      NIS-6,2,      6,2,20131115,1919,-15,-101.5005,321.9,10.2825,34.658,2,34.6555,2,14.2,2,13.8,2,26.16,2,31.26,2,0,2,2.63,2,0.58941163,2,0.327203904,2,0.003421,2,0.072,2,10.2826,2,-999,9,-999,20131115,1938,-15,-101.5006,4184,3921,4078,34.8189,2,10.2826,2
325020131025,       GT13,14,2,5,      NIS-5,2,      5,2,20131115,1919,-15,-101.5005,351.1,9.7583,34.642,2,34.641,2,18.8,2,19,2,27.43,2,33.39,2,0,2,2.62,2,0.430255373,2,0.242680706,2,0.001964,2,0.058,2,9.7458,2,-999,9,-999,20131115,1937,-15,-101.5005,4184,3920,4078,34.8043,2,9.7458,2
325020131025,       GT13,14,2,4,      NIS-4,2,      4,2,20131115,1919,-15,-101.5005,401.9,8.9174,34.6212,2,34.6196,2,33.1,2,33.3,2,29.87,2,35.59,2,0,2,2.58,2,0.256571219,2,0.13841531,2,0,2,0,2,8.9162,2,-999,9,-999,20131115,1935,-15,-101.5006,4184,3919,4078,34.7828,2,8.9162,2
325020131025,       GT13,14,2,3,      NIS-3,2,      3,2,20131115,1919,-15,-101.5005,503.7,7.8846,34.594,2,34.5931,2,45.7,2,46.4,2,36.12,2,37.77,2,0,2,2.61,2,0.103976435,2,0.057664008,2,0,2,0,2,7.8844,2,-999,9,-999,20131115,1932,-15,-101.5006,4184,3918,4078,34.7562,2,7.8844,2
325020131025,       GT13,14,2,2,      NIS-2,2,      2,2,20131115,1919,-15,-101.5005,755.4,5.8216,34.5153,2,34.5153,2,54.9,2,56.1,2,53.79,2,41.78,2,0,2,2.92,2,0.012501545,2,0.006038447,2,0,2,0,2,5.8208,2,-999,9,-999,20131115,1926,-15,-101.5006,4184,3917,4078,34.678,2,5.8208,2
325020131025,       GT13,14,2,1,      NIS-1,2,      1,2,20131115,1919,-15,-101.5005,1006.8,4.5348,34.527,2,34.5272,2,61.1,2,61.4,2,78.68,2,42.9,2,0,2,3.07,2,0.006497016,2,0.004752026,2,0,2,0,2,4.5328,2,-999,9,-999,20131115,1920,-15,-101.5006,4184,3916,4078,34.69,2,4.5328,2
325020131025,       GT13,14,25,25,       FISH,2,   25,2,20131115,2030,-15.0091,-101.5306,2.5,21.9342,35.8132,2,35.8212,2,-999,9,-999,9,1.27,2,1.44,2,0.04,2,0.37,2,-999,9,-999,9,-999,9,-999,9,-999,9,-999,9,-999,20131115,2023,-15.0068,-101.5226,4183,3915,3963,35.9901,2,-999,9
325020131025,       GT13,15,2,12,     NIS-12,2,     12,2,20131116,1300,-16.0004,-104.001,503.3,7.5853,34.5428,2,34.5416,2,43.6,2,43,2,33.58,2,38.96,2,0,2,2.67,2,0.19046014,2,0.094192263,2,0.00245,2,0.036,2,7.5859,2,-95.6,2,2.5,20131116,1349,-16.0004,-104.001,4191,3965,3933,34.7045,2,7.5859,2
325020131025,       GT13,15,2,11,     NIS-11,2,     11,2,20131116,1300,-16.0004,-104.001,627.9,6.4951,34.5207,2,34.5234,2,61.3,2,60.9,2,43.24,2,39.95,2,0,2,2.72,2,0.035477741,2,0.020293696,2,0,2,0,2,6.4993,2,-128.6,2,2.5,20131116,1345,-16.0004,-104.001,4191,3964,3933,34.6862,2,6.4993,2
325020131025,       GT13,15,2,10,     NIS-10,2,     10,2,20131116,1300,-16.0004,-104.001,755.1,5.632,34.5031,2,34.501,2,59.6,2,59.1,2,53.89,2,41.96,2,0,2,2.91,2,0.017590618,2,0.011620061,2,0,2,0,2,5.6308,2,-143.4,2,2.5,20131116,1342,-16.0004,-104.001,4191,3963,3933,34.6637,2,5.6308,2
325020131025,       GT13,15,2,9,      NIS-9,2,      9,2,20131116,1300,-16.0004,-104.001,1006.3,4.4391,34.524,2,34.5238,2,69.4,2,69,2,77.22,2,42.21,2,0,2,3,2,0.004290247,2,0.003786684,2,0,2,0,2,4.4407,2,-999,9,-999,20131116,1337,-16.0004,-104.001,4191,3962,3933,34.6866,2,4.4407,2
325020131025,       GT13,15,2,8,      NIS-8,2,      8,2,20131116,1300,-16.0004,-104.001,1260.4,3.5708,34.5597,2,34.5585,2,82.4,2,82.5,2,98.49,2,41.26,2,0,2,3,2,0.010940432,2,0.006467078,2,0,2,0,2,3.5731,2,-201.6,2,2.5,20131116,1332,-16.0004,-104.001,4191,3961,3933,34.7214,2,3.5731,2
325020131025,       GT13,15,2,7,      NIS-7,2,      7,2,20131116,1300,-16.0004,-104.001,1513.3,2.9884,34.5915,2,34.5901,2,95.5,2,95.3,2,113.13,2,40.16,2,0,2,2.94,2,0.003150619,2,0.002522783,2,0,2,0,2,2.9877,2,-999,9,-999,20131116,1326,-16.0004,-104.001,4191,3960,3933,34.7532,2,2.9877,2
325020131025,       GT13,15,2,6,      NIS-6,2,      6,2,20131116,1300,-16.0004,-104.001,1764.9,2.5744,34.6176,2,34.6167,2,108.6,2,108.6,2,122.89,2,39.05,2,0,2,2.86,2,0.009014158,2,0.00872383,2,0,2,0,2,2.5744,2,-999,9,-999,20131116,1321,-16.0004,-104.001,4191,3959,3933,34.78,2,2.5744,2
325020131025,       GT13,15,2,5,      NIS-5,2,      5,2,20131116,1300,-16.0004,-104.001,2020.1,2.2318,34.6407,2,34.6415,2,123.6,2,123.9,2,128.75,2,37.83,2,0,2,2.76,2,0.009591032,4,0.009723707,4,0.001393,4,0.035,4,2.2323,2,-231.2,2,2.5,20131116,1315,-16.0004,-104.001,4191,3958,3933,34.8048,2,2.2323,2
325020131025,       GT13,15,2,4,      NIS-4,2,      4,2,20131116,1300,-16.0004,-104.001,2223.2,2.0366,34.6548,2,34.6538,2,135.3,2,135.4,2,130.11,2,36.94,2,0,2,2.7,2,0.009489171,2,0.006271319,2,0,2,0,2,2.0371,2,-999,9,-999,20131116,1311,-16.0004,-104.001,4191,3957,3933,34.8172,2,2.0371,2
325020131025,       GT13,15,2,3,      NIS-3,2,      3,2,20131116,1300,-16.0004,-104.001,2324.2,1.9627,34.6608,2,34.6654,3,140.2,2,140.3,2,130.99,2,36.54,2,0,2,2.66,2,0.003434013,2,0.001743762,2,0,2,0,2,1.9621,2,-226.4,2,2.5,20131116,1308,-16.0004,-104.001,4191,3956,3933,34.8289,3,1.9621,2
325020131025,       GT13,15,2,2,      NIS-2,2,      2,2,20131116,1300,-16.0004,-104.001,2426.1,1.8988,34.6663,2,34.6678,2,144.7,2,144.5,2,132.06,2,36.21,2,0,2,2.65,2,0.009303603,2,0.008396561,2,0,2,0,2,1.8973,2,-999,9,-999,20131116,1306,-16.0004,-104.001,4191,3955,3933,34.8312,2,1.8973,2
325020131025,       GT13,15,2,1,      NIS-1,2,      1,2,20131116,1300,-16.0004,-104.001,2526.9,1.8683,34.6695,2,34.669,2,146.6,2,146.6,2,132.65,2,36.11,2,0,2,2.62,2,0.003594368,2,0.001706618,2,0,2,0,2,1.8678,2,-225.5,2,2.5,20131116,1302,-16.0004,-104.001,4191,3954,3933,34.8324,2,1.8678,2
325020131025,       GT13,15,4,12,     NIS-12,2,     12,2,20131116,2042,-16.0004,-104.001,3.1,22.4896,35.9632,2,35.9627,2,218.3,2,219.1,2,1.07,2,0.85,2,0.03,2,0.3,2,1.671264,2,1.020669,2,0.155901,2,1.155,2,22.4894,2,34.7,2,2.5,20131116,2113,-16.0004,-104.001,4193,3985,3939,36.1323,2,22.4894,2
325020131025,       GT13,15,4,11,     NIS-11,2,     11,2,20131116,2042,-16.0004,-104.001,20.8,22.4,35.9604,2,35.9599,2,218.6,2,218.9,2,1.07,2,0.83,2,0.03,2,0.31,2,-999,9,-999,9,-999,9,-999,9,22.3892,2,-999,9,-999,20131116,2111,-16.0004,-104.001,4193,3984,3939,36.1295,2,22.3892,2
325020131025,       GT13,15,4,10,     NIS-10,2,     10,2,20131116,2042,-16.0004,-104.001,49.5,22.3278,35.9584,2,35.9575,2,218.8,2,218.7,2,1.07,2,0.81,2,0.03,2,0.31,2,-999,9,-999,9,-999,9,-999,9,22.3291,2,-999,9,-999,20131116,2109,-16.0004,-104.001,4193,3983,3939,36.1271,2,22.3291,2
325020131025,       GT13,15,4,9,      NIS-9,2,      9,2,20131116,2042,-16.0004,-104.001,75.6,22.2767,35.9736,2,35.9911,2,219.1,2,218.8,2,1.17,2,0.7,2,0.03,2,0.31,2,-999,9,-999,9,-999,9,-999,9,22.2773,2,-999,9,-999,20131116,2107,-16.0004,-104.001,4193,3982,3939,36.1608,2,22.2773,2
325020131025,       GT13,15,4,8,      NIS-8,2,      8,2,20131116,2042,-16.0004,-104.001,90.5,21.9489,36.033,2,36.0284,2,218.9,2,218.3,2,1.17,2,0.7,2,0.05,2,0.33,2,-999,9,-999,9,-999,9,-999,9,21.9509,2,-999,9,-999,20131116,2106,-16.0004,-104.001,4193,3981,3939,36.1983,2,21.9509,2
325020131025,       GT13,15,4,7,      NIS-7,2,      7,2,20131116,2042,-16.0004,-104.001,105,21.6367,35.9804,2,35.9702,2,215.2,2,214.4,2,1.17,2,0.96,2,0.16,2,0.38,2,-999,9,-999,9,-999,9,-999,9,21.6366,2,-999,9,-999,20131116,2105,-16.0004,-104.001,4193,3980,3939,36.1398,2,21.6366,2
325020131025,       GT13,15,4,6,      NIS-6,2,      6,2,20131116,2042,-16.0004,-104.001,150.2,20.443,35.7782,2,35.7798,2,202.8,2,203.2,2,1.07,2,1.33,2,1.23,2,0.45,2,-999,9,-999,9,-999,9,-999,9,20.4293,2,-999,9,-999,20131116,2103,-16.0004,-104.001,4193,3979,3939,35.9485,2,20.4293,2
325020131025,       GT13,15,4,5,      NIS-5,2,      5,2,20131116,2042,-16.0004,-104.001,185.4,18.5808,35.4124,2,35.4096,2,195.1,2,195.3,2,1.27,2,4.31,2,0.06,2,0.57,2,-999,9,-999,9,-999,9,-999,9,18.5767,2,-999,9,-999,20131116,2101,-16.0004,-104.001,4193,3978,3939,35.5766,2,18.5767,2
325020131025,       GT13,15,4,4,      NIS-4,2,      4,2,20131116,2042,-16.0004,-104.001,225.4,15.9774,34.9865,2,34.9901,2,172.4,2,173.2,2,2.73,2,9.91,2,0.02,2,0.92,2,-999,9,-999,9,-999,9,-999,9,15.9766,2,-999,9,-999,20131116,2059,-16.0004,-104.001,4193,3977,3939,35.1551,2,15.9766,2
325020131025,       GT13,15,4,3,      NIS-3,2,      3,2,20131116,2042,-16.0004,-104.001,330.2,10.5244,34.597,2,34.5951,2,35.1,2,35.1,2,21.96,2,27.65,2,0,2,2.48,2,-999,9,-999,9,-999,9,-999,9,10.5263,2,-999,9,-999,20131116,2056,-16.0004,-104.001,4193,3976,3939,34.7583,2,10.5263,2
325020131025,       GT13,15,4,2,      NIS-2,2,      2,2,20131116,2042,-16.0004,-104.001,412.4,8.7672,34.5826,2,34.583,2,25.3,2,24.8,2,28.7,2,36.28,2,0,2,2.66,2,-999,9,-999,9,-999,9,-999,9,8.7706,2,-999,9,-999,20131116,2054,-16.0004,-104.001,4193,3975,3939,34.7461,2,8.7706,2
325020131025,       GT13,15,4,1,      NIS-1,2,      1,2,20131116,2042,-16.0004,-104.001,1006.3,4.4293,34.5242,2,34.5253,2,69.7,2,69.7,2,77.7,2,42.22,2,0,2,2.99,2,-999,9,-999,9,-999,9,-999,9,4.4276,2,-999,9,-999,20131116,2042,-16.0004,-104.001,4193,3974,3939,34.6881,2,4.4276,2
325020131025,       GT13,15,6,12,     NIS-12,2,     12,2,20131117,105,-16.0006,-104.0012,20.1,22.4281,35.9646,2,35.964,2,218.4,2,218.6,2,1.17,2,0.86,2,0.03,2,0.24,2,1.691701672,2,1.076309766,2,0.161762,2,1.208,2,22.4289,2,29.9,2,2.5,20131117,129,-16.0006,-104.0012,4196,8164,3937,36.1336,2,22.4289,2
325020131025,       GT13,15,6,11,     NIS-11,2,     11,2,20131117,105,-16.0006,-104.0012,50.6,22.3335,35.9586,2,35.9577,2,219.1,2,219,2,1.17,2,0.84,2,0.03,2,0.25,2,1.694686893,2,1.031771052,2,0.164541,2,1.19,2,22.3331,2,-999,9,-999,20131117,127,-16.0006,-104.0012,4196,8163,3937,36.1273,2,22.3331,2
325020131025,       GT13,15,6,10,     NIS-10,2,     10,2,20131117,105,-16.0006,-104.0012,75.8,22.2912,35.9697,2,35.9682,2,219.3,2,219,2,1.17,2,0.81,2,0.03,2,0.25,2,1.706240506,2,1.061100788,2,0.16543,2,1.173,2,22.3055,2,35.4,2,2.5,20131117,125,-16.0006,-104.0012,4196,8162,3937,36.1378,2,22.3055,2
325020131025,       GT13,15,6,9,      NIS-9,2,      9,2,20131117,105,-16.0006,-104.0012,105,21.7625,35.9951,2,35.9942,2,217.7,2,217.1,2,1.37,2,0.96,2,0.08,2,0.29,2,1.736787589,2,1.057773887,2,0.154696,2,1.191,2,21.7528,2,32.2,2,2.5,20131117,123,-16.0006,-104.0012,4196,8161,3937,36.164,2,21.7528,2
325020131025,       GT13,15,6,8,      NIS-8,2,      8,2,20131117,105,-16.0006,-104.0012,149.9,20.2497,35.7418,2,35.7378,2,202.2,2,202.7,2,1.17,2,1.68,2,1.1,2,0.4,2,1.886201945,2,1.156178485,2,0.158374,2,1.225,2,20.2453,2,-999,9,-999,20131117,121,-16.0006,-104.0012,4196,8160,3937,35.9063,2,20.2453,2
325020131025,       GT13,15,6,7,      NIS-7,2,      7,2,20131117,105,-16.0006,-104.0012,184.7,18.3978,35.3777,2,35.3694,2,192.1,2,192.9,2,1.46,2,4.93,2,0.04,2,0.54,2,2.058311547,6,1.241019988,6,0.1382395,6,1.185,6,18.379,3,36.9,2,2.5,20131117,119,-16.0006,-104.0012,4196,8159,3937,35.5362,2,18.379,3
325020131025,       GT13,15,6,6,      NIS-6,2,      6,2,20131117,105,-16.0006,-104.0012,226.3,15.9743,34.982,2,34.9661,2,172.7,2,171.6,2,3.03,2,10.3,2,0.02,2,0.89,2,2.2426777,2,1.332213121,2,0.084791,2,1.163,2,15.9809,2,37.5,2,2.5,20131117,117,-16.0006,-104.0012,4196,8158,3937,35.131,2,15.9809,2
325020131025,       GT13,15,6,5,      NIS-5,2,      5,2,20131117,105,-16.0006,-104.0012,276.4,12.2019,34.5776,2,34.5753,2,93.5,2,94.9,2,12.1,2,20.04,2,0,2,1.8,2,2.081125797,2,1.149892108,2,0.044197,2,0.699,2,12.1706,3,26.1,2,2.5,20131117,115,-16.0006,-104.0012,4196,8157,3937,34.7383,2,12.1706,3
325020131025,       GT13,15,6,4,      NIS-4,2,      4,2,20131117,105,-16.0006,-104.0012,331.3,10.4183,34.6081,2,34.6063,2,28.4,2,28.5,2,23.13,2,28.69,2,0,2,2.49,2,1.014554663,2,0.530752177,2,0.009477,2,0.191,2,10.4302,2,-23,2,2.5,20131117,112,-16.0006,-104.0012,4196,8156,3937,34.7695,2,10.4302,2
325020131025,       GT13,15,6,3,      NIS-3,2,      3,2,20131117,105,-16.0006,-104.0012,361.4,9.6751,34.6107,2,34.6092,2,19.8,2,19.4,2,26.26,2,32.99,2,0,2,2.59,2,0.594925343,2,0.310552275,2,0.004689,2,0.067,2,9.6759,2,-51.2,2,2.5,20131117,111,-16.0006,-104.0012,4196,8155,3937,34.7724,2,9.6759,2
325020131025,       GT13,15,6,2,      NIS-2,2,      2,2,20131117,105,-16.0006,-104.0012,410.9,8.7272,34.5848,2,34.5835,2,23.5,2,23.3,2,29.48,2,36.85,2,0,2,2.66,2,0.360059029,2,0.182784812,2,0.003037,2,0.025,2,8.7281,2,-71.4,2,2.5,20131117,109,-16.0006,-104.0012,4196,8154,3937,34.7466,2,8.7281,2
325020131025,       GT13,15,6,1,      NIS-1,2,      1,2,20131117,105,-16.0006,-104.0012,502.9,7.6086,34.5412,2,34.5414,2,44,2,42.7,2,33.58,2,39.06,2,0,2,2.66,2,0.203913806,2,0.109561864,2,0.002551,2,0.064,2,7.6037,2,-89.2,2,2.5,20131117,107,-16.0006,-104.0011,4196,8153,3937,34.7042,2,7.6037,2