BOTTLE,20161222CCHSIORJL
EXPOCODE,SECT_ID,STNNBR,CASTNO,SAMPNO,BTLNBR,BTLNBR_FLAG_W,BTLNBR_U,BTLNBR_U_FLAG_W,DATE,TIME,LATITUDE,LONGITUDE,CTDPRS,CTDTMP,CTDSAL,CTDSAL_FLAG_W,SALNTY,SALNTY_FLAG_W,CTDOXY,CTDOXY_FLAG_W,OXYGEN,OXYGEN_FLAG_W,SILCAT,SILCAT_FLAG_W,NITRAT,NITRAT_FLAG_W,NITRIT,NITRIT_FLAG_W,PHSPHT,PHSPHT_FLAG_W,CFC-11,CFC-11_FLAG_W,CFC-12,CFC-12_FLAG_W,CFC113,CFC113_FLAG_W,SF6,SF6_FLAG_W,REFTMP,REFTMP_FLAG_W,DELC14,DELC14_FLAG_W,C14ERR,BTL_DATE,BTL_TIME,BTL_LAT,BTL_LON,GEOTR_EVENT,GEOTR_SAMPNO,DEPTH,SALTREF,SALTREF_FLAG_W,SBE35,SBE35_FLAG_W
,,,,,,,,,,,,,DBAR,ITS-90,PSS-78,,PSS-78,,UMOL/KG,,UMOL/KG,,UMOL/KG,,UMOL/KG,,UMOL/KG,,UMOL/KG,,PMOL/KG,,PMOL/KG,,PMOL/KG,,FMOL/KG,,DEG C,,/MILLE,,/MILLE,,,,,,,METERS,G/KG,,ITS-90,
325020131025,       GT13,25,4,12,     NIS-12,2,     12,2,20131201,1024,-12.5424,-124.9988,4.5,26.2881,36.035,2,36.0345,2,204.5,2,204.1,2,1.07,2,2.42,2,0.05,2,0.36,2,-999,9,-999,9,-999,9,-999,9,26.289,2,-999,9,-999,20131201,1101,-12.5424,-124.9987,4320,9236,3920,36.2045,2,26.289,2
325020131025,       GT13,25,4,11,     NIS-11,2,     11,2,20131201,1024,-12.5424,-124.9988,20,26.2996,36.0347,2,36.0365,2,204.3,2,204.1,2,0.98,2,2.42,2,0.05,2,0.37,2,-999,9,-999,9,-999,9,-999,9,26.3005,2,-999,9,-999,20131201,1058,-12.5424,-124.9987,4320,9235,3920,36.2064,2,26.3005,2
325020131025,       GT13,25,4,10,     NIS-10,2,     10,2,20131201,1024,-12.5424,-124.9988,40,26.2859,36.0349,2,36.0349,2,204.3,2,204.3,2,1.07,2,2.38,2,0.05,2,0.36,2,-999,9,-999,9,-999,9,-999,9,26.2848,2,-999,9,-999,20131201,1057,-12.5424,-124.9987,4320,9234,3920,36.2049,2,26.2848,2
325020131025,       GT13,25,4,9,      NIS-9,2,      9,2,20131201,1024,-12.5424,-124.9988,60.5,26.1739,36.024,2,36.0229,2,204.6,2,204.8,2,1.07,2,2.35,2,0.05,2,0.36,2,-999,9,-999,9,-999,9,-999,9,26.176,2,-999,9,-999,20131201,1055,-12.5424,-124.9987,4320,9233,3920,36.1928,2,26.176,2
325020131025,       GT13,25,4,8,      NIS-8,2,      8,2,20131201,1024,-12.5424,-124.9988,85.8,25.4002,36.02,2,36.0194,2,206.5,2,206.7,2,1.27,2,2.2,2,0.04,2,0.38,2,-999,9,-999,9,-999,9,-999,9,25.3997,2,-999,9,-999,20131201,1053,-12.5424,-124.9987,4320,9232,3920,36.1892,2,25.3997,2
325020131025,       GT13,25,4,7,      NIS-7,2,      7,2,20131201,1024,-12.5424,-124.9988,114.9,22.9907,36.016,2,36.0117,2,187.5,2,187.3,2,1.37,2,1.23,2,1.06,2,0.55,2,-999,9,-999,9,-999,9,-999,9,22.9826,2,-999,9,-999,20131201,1051,-12.5424,-124.9987,4320,9231,3920,36.1815,2,22.9826,2
325020131025,       GT13,25,4,6,      NIS-6,2,      6,2,20131201,1024,-12.5424,-124.9988,150.5,20.3601,35.7677,2,35.7629,2,179.9,2,177.7,2,1.27,2,5.17,2,0.56,2,0.63,2,-999,9,-999,9,-999,9,-999,9,20.3217,3,-999,9,-999,20131201,1049,-12.5424,-124.9987,4320,9230,3920,35.9315,2,20.3217,3
325020131025,       GT13,25,4,5,      NIS-5,2,      5,2,20131201,1024,-12.5424,-124.9988,200.6,17.6313,35.3199,2,35.3238,2,165.2,2,164.9,2,2.44,2,9.27,2,0.02,2,0.88,2,-999,9,-999,9,-999,9,-999,9,17.6313,2,-999,9,-999,20131201,1047,-12.5424,-124.9987,4320,9229,3920,35.4904,2,17.6313,2
325020131025,       GT13,25,4,4,      NIS-4,2,      4,2,20131201,1024,-12.5424,-124.9988,351.8,9.9299,34.6071,2,34.6073,2,34.4,2,35.2,2,23.04,2,31.08,2,0,2,2.48,2,-999,9,-999,9,-999,9,-999,9,9.9308,2,-999,9,-999,20131201,1044,-12.5425,-124.9987,4320,9228,3920,34.7705,2,9.9308,2
325020131025,       GT13,25,4,3,      NIS-3,2,      3,2,20131201,1024,-12.5424,-124.9988,502.8,7.5718,34.5786,2,34.5802,2,71.6,2,72,2,35.04,2,35.98,2,0,2,2.47,2,-999,9,-999,9,-999,9,-999,9,7.5824,2,-999,9,-999,20131201,1040,-12.5424,-124.9987,4320,9227,3920,34.7433,2,7.5824,2
325020131025,       GT13,25,4,2,     NIS-22,2,      2,2,20131201,1024,-12.5424,-124.9988,754.7,5.7015,34.5129,2,34.5138,2,82.2,2,82.1,2,52.32,2,39.2,2,0,2,2.69,2,-999,9,-999,9,-999,9,-999,9,5.6983,2,-999,9,-999,20131201,1034,-12.5424,-124.9987,4320,9226,3920,34.6765,2,5.6983,2
325020131025,       GT13,25,4,1,      NIS-1,2,      1,2,20131201,1024,-12.5424,-124.9988,1259.5,3.4735,34.5623,2,34.5622,2,104.3,2,104.3,2,95.47,2,39.2,2,0,2,2.8,2,-999,9,-999,9,-999,9,-999,9,3.4701,2,-999,9,-999,20131201,1024,-12.5424,-124.9988,4320,9225,3920,34.7252,2,3.4701,2
325020131025,       GT13,25,6,12,     NIS-12,2,     12,2,20131201,1454,-12.5422,-124.9995,20.4,26.2974,36.0385,2,36.0387,2,203.8,2,204.1,2,1.17,2,2.43,2,0.05,2,0.37,2,1.456113,2,0.946163,2,0.146709,2,1.153,2,26.2964,2,-999,9,-999,20131201,1526,-12.5422,-124.9995,4321,9248,3929,36.2086,2,26.2964,2
325020131025,       GT13,25,6,11,     NIS-11,2,     11,2,20131201,1454,-12.5422,-124.9995,29.7,26.2977,36.0384,2,36.0387,2,204.3,2,204.2,2,1.07,2,2.41,2,0.05,2,0.36,2,1.51359136,2,0.945957946,2,0.147278043,2,1.152,2,26.298,2,-999,9,-999,20131201,1525,-12.5422,-124.9995,4321,9247,3929,36.2086,2,26.298,2
325020131025,       GT13,25,6,10,     NIS-10,2,     10,2,20131201,1454,-12.5422,-124.9995,39.6,26.2905,36.0381,2,36.0391,2,204.1,2,204,2,1.07,2,2.4,2,0.05,2,0.36,2,1.464948105,2,0.935258956,2,0.144319437,2,1.141,2,26.2924,2,-999,9,-999,20131201,1523,-12.5422,-124.9995,4321,9246,3929,36.209,2,26.2924,2
325020131025,       GT13,25,6,9,      NIS-9,2,      9,2,20131201,1454,-12.5422,-124.9995,60.4,26.2215,36.0314,2,36.029,2,203.8,2,203.9,2,1.17,2,2.35,2,0.05,2,0.36,2,1.521503838,2,0.929148551,2,0.147205222,2,1.157,2,26.2183,2,-999,9,-999,20131201,1522,-12.5422,-124.9994,4321,9245,3929,36.1989,2,26.2183,2
325020131025,       GT13,25,6,8,      NIS-8,2,      8,2,20131201,1454,-12.5422,-124.9995,84.8,25.4142,36.0176,2,36.0201,2,206.1,2,206.9,2,1.27,2,2.21,2,0.04,2,0.37,2,1.518116433,6,0.983826077,6,0.145678585,6,1.211,6,25.416,2,-999,9,-999,20131201,1520,-12.5422,-124.9995,4321,9244,3929,36.19,2,25.416,2
325020131025,       GT13,25,6,7,      NIS-7,2,      7,2,20131201,1454,-12.5422,-124.9995,150.9,21.135,35.8543,2,35.8567,2,178.3,2,178.4,2,1.46,2,3.6,2,1.89,2,0.62,2,1.786967621,2,1.184676891,2,0.161143128,2,1.205,2,21.141,2,-999,9,-999,20131201,1518,-12.5422,-124.9995,4321,9243,3929,36.0258,2,21.141,2
325020131025,       GT13,25,6,6,      NIS-6,2,      6,2,20131201,1454,-12.5422,-124.9995,201.3,18.0323,35.3811,2,35.3819,2,168.9,2,167.9,2,2.05,2,8.63,2,0.02,2,0.84,2,2.061559375,2,1.301703373,2,0.072426555,2,1.222,2,18.0295,2,-999,9,-999,20131201,1516,-12.5422,-124.9995,4321,9242,3929,35.5487,2,18.0295,2
325020131025,       GT13,25,6,5,      NIS-5,2,      5,2,20131201,1454,-12.5422,-124.9995,301.6,11.1972,34.6121,2,34.613,2,65.2,2,65.3,2,16.11,2,24.49,2,0,2,2.13,2,1.523982951,2,0.812127095,2,0.016481434,2,0.427,2,11.1979,2,-999,9,-999,20131201,1513,-12.5422,-124.9995,4321,9241,3929,34.7762,2,11.1979,2
325020131025,       GT13,25,6,4,      NIS-4,2,      4,2,20131201,1454,-12.5422,-124.9995,351.4,9.785,34.6128,2,34.613,2,32.8,2,33.6,2,23.82,2,32,2,0,2,2.5,2,0.626195765,2,0.324682774,2,0.004555463,2,0.165,2,9.7837,2,-999,9,-999,20131201,1511,-12.5422,-124.9995,4321,9240,3929,34.7762,2,9.7837,2
325020131025,       GT13,25,6,3,      NIS-3,2,      3,2,20131201,1454,-12.5422,-124.9995,504,7.6212,34.5816,2,34.5836,2,69,2,68.8,2,35.24,2,36.43,2,0,2,2.48,2,0.144582176,2,0.078302452,2,0,2,0.032,2,7.6199,2,-999,9,-999,20131201,1507,-12.5422,-124.9995,4321,9239,3929,34.7466,2,7.6199,2
325020131025,       GT13,25,6,2,     NIS-22,2,      2,2,20131201,1454,-12.5422,-124.9995,755.9,5.4869,34.5085,2,34.5098,2,87.2,2,88,2,54.37,2,39.11,2,0,2,2.69,2,0.024400988,2,0.01333353,2,0,2,0,2,5.4848,2,-999,9,-999,20131201,1502,-12.5422,-124.9995,4321,9238,3929,34.6725,2,5.4848,2
325020131025,       GT13,25,6,1,      NIS-1,2,      1,2,20131201,1454,-12.5422,-124.9995,1007.5,4.3126,34.5282,2,34.5294,2,90.1,2,90.2,2,77.22,2,40.27,2,0,2,2.84,2,0.009602084,2,0.004463943,2,0,2,0,2,4.3103,2,-999,9,-999,20131201,1456,-12.5422,-124.9995,4321,9237,3929,34.6923,2,4.3103,2
325020131025,       GT13,25,9,12,     NIS-12,2,     12,2,20131202,432,-12.5422,-124.9994,2629,1.8274,34.6736,2,34.6735,2,147.7,2,147.1,2,135.38,2,36.08,2,0,2,2.57,2,-999,9,-999,9,-999,9,-999,9,1.8276,2,-999,9,-999,20131202,522,-12.5421,-124.9995,4327,9299,3923,34.837,2,1.8276,2
325020131025,       GT13,25,9,11,     NIS-11,2,     11,2,20131202,432,-12.5422,-124.9994,2679,1.8142,34.6747,2,34.6745,2,148.2,2,148.3,2,135.87,2,36.08,2,0,2,2.57,2,-999,9,-999,9,-999,9,-999,9,1.8146,2,-999,9,-999,20131202,520,-12.5422,-124.9995,4327,9298,3923,34.838,2,1.8146,2
325020131025,       GT13,25,9,10,     NIS-10,2,     10,2,20131202,432,-12.5422,-124.9994,2731.1,1.8016,34.6754,2,34.6754,2,149.1,2,148.9,2,136.26,2,36.03,2,0,2,2.58,2,-999,9,-999,9,-999,9,-999,9,1.8018,2,-999,9,-999,20131202,517,-12.5422,-124.9995,4327,9297,3923,34.839,2,1.8018,2
325020131025,       GT13,25,9,9,      NIS-9,2,      9,2,20131202,432,-12.5422,-124.9994,2782.7,1.7939,34.6759,2,34.6754,2,149.9,2,149.7,2,136.16,2,36.03,2,0,2,2.58,2,-999,9,-999,9,-999,9,-999,9,1.7937,2,-999,9,-999,20131202,514,-12.5422,-124.9994,4327,9296,3923,34.8389,2,1.7937,2
325020131025,       GT13,25,9,8,      NIS-8,2,      8,2,20131202,432,-12.5422,-124.9994,2832.1,1.784,34.6763,2,34.679,3,150.8,2,150.8,2,136.06,2,35.98,2,0,2,2.57,2,-999,9,-999,9,-999,9,-999,9,1.7838,2,-999,9,-999,20131202,512,-12.5422,-124.9995,4327,9295,3923,34.8425,3,1.7838,2
325020131025,       GT13,25,9,7,      NIS-7,2,      7,2,20131202,432,-12.5422,-124.9994,2934.1,1.7517,34.6778,2,34.6772,2,153.5,2,153.4,2,135.67,2,35.83,2,0,2,2.56,2,-999,9,-999,9,-999,9,-999,9,1.7518,2,-999,9,-999,20131202,508,-12.5422,-124.9995,4327,9294,3923,34.8407,2,1.7518,2
325020131025,       GT13,25,9,6,      NIS-6,2,      6,2,20131202,432,-12.5422,-124.9994,3034.7,1.7335,34.6789,2,34.6784,2,155.2,2,155.2,2,135.38,2,35.7,2,0,2,2.54,2,-999,9,-999,9,-999,9,-999,9,1.7335,2,-999,9,-999,20131202,505,-12.5422,-124.9994,4327,9293,3923,34.8419,2,1.7335,2
325020131025,       GT13,25,9,5,      NIS-5,2,      5,2,20131202,432,-12.5422,-124.9994,3288.7,1.6622,34.6827,2,34.6831,2,159.5,2,159.5,2,135.58,2,35.5,2,0,2,2.53,2,-999,9,-999,9,-999,9,-999,9,1.662,2,-999,9,-999,20131202,458,-12.5422,-124.9994,4327,9292,3923,34.8466,2,1.662,2
325020131025,       GT13,25,9,4,      NIS-4,2,      4,2,20131202,432,-12.5422,-124.9994,3548.7,1.6022,34.6861,2,34.6862,2,163.2,2,162.9,2,136.26,2,35.3,2,0,2,2.51,2,-999,9,-999,9,-999,9,-999,9,1.6017,2,-999,9,-999,20131202,452,-12.5422,-124.9995,4327,9291,3923,34.8498,2,1.6017,2
325020131025,       GT13,25,9,3,      NIS-3,2,      3,2,20131202,432,-12.5422,-124.9994,3801.4,1.6045,34.6874,2,34.6886,2,164.1,2,164.1,2,136.26,2,35.27,2,0,2,2.5,2,-999,9,-999,9,-999,9,-999,9,1.6045,2,-999,9,-999,20131202,443,-12.5422,-124.9995,4327,9290,3923,34.8522,2,1.6045,2
325020131025,       GT13,25,9,2,     NIS-22,2,      2,2,20131202,432,-12.5422,-124.9994,3955.8,1.614,34.6876,2,34.687,2,164.2,2,164.7,2,136.36,2,35.27,2,0,2,2.49,2,-999,9,-999,9,-999,9,-999,9,1.6138,2,-999,9,-999,20131202,438,-12.5422,-124.9995,4327,9289,3923,34.8506,2,1.6138,2
325020131025,       GT13,25,9,1,      NIS-1,2,      1,2,20131202,432,-12.5422,-124.9994,3981.7,1.6128,34.6877,2,34.6878,2,164.1,2,164.4,2,136.36,2,35.31,2,0,2,2.5,2,-999,9,-999,9,-999,9,-999,9,1.6125,2,-999,9,-999,20131202,435,-12.5422,-124.9995,4327,9288,3923,34.8514,2,1.6125,2
325020131025,       GT13,25,9,13, NIOZ_CORER,2,    13,2,20131202,432,-12.5422,-124.9994,4007.9,-999,-999,2,-999,9,-999,9,-999,9,-999,9,-999,9,-999,9,-999,9,-999,9,-999,9,-999,9,-999,9,-999,9,-999,9,-999,20131202,432,-12.5422,-124.9994,4327,9300,3923,-999,9,-999,9
325020131025,       GT13,25,25,25,       FISH,2,   25,2,20131201,1308,-12.5798,-125.0562,3,26.285,36.0287,2,36.0457,2,-999,9,-999,9,1.37,2,2.29,2,0.05,2,0.36,2,-999,9,-999,9,-999,9,-999,9,-999,9,-999,9,-999,20131201,1255,-12.5654,-125.0308,4322,9249,4015,36.2157,2,-999,9
325020131025,       GT13,26,2,12,     NIS-12,2,     12,2,20131203,333,-11.6704,-128.0007,1005.8,4.4098,34.5233,2,34.5242,2,94.4,2,95,2,75.95,2,39.34,2,0,2,2.8,2,0.010478353,2,0.005073477,2,0,2,0,2,4.4092,2,-173.8,2,2.5,20131203,422,-11.6704,-128.0007,4331,9337,3988,34.687,2,4.4092,2
325020131025,       GT13,26,2,11,     NIS-11,2,     11,2,20131203,333,-11.6704,-128.0007,1258.8,3.4908,34.5655,2,34.5656,2,105.9,2,106.6,2,98.59,2,38.68,2,0,2,2.8,2,0.006280262,2,0.003122139,2,0,2,0,2,3.4908,2,-200.2,2,2.5,20131203,416,-11.6703,-128.0007,4331,9336,3988,34.7286,2,3.4908,2
325020131025,       GT13,26,2,10,     NIS-10,2,     10,2,20131203,333,-11.6704,-128.0007,1511.6,2.9304,34.5928,2,34.5931,2,117.2,2,117.8,2,110.89,2,37.91,2,0,2,2.76,2,0.007827573,2,0.003019543,2,0,2,0,2,2.9309,2,-213.4,2,2.5,20131203,409,-11.6703,-128.0007,4331,9335,3988,34.7562,2,2.9309,2
325020131025,       GT13,26,2,9,      NIS-9,2,      9,2,20131203,333,-11.6704,-128.0007,1765.5,2.4792,34.6191,2,34.6203,2,127.6,2,127.8,2,120.65,2,37.22,2,0,2,2.72,2,0.006505251,2,0.002876714,2,0,2,0,2,2.4785,2,-220.8,2,2.5,20131203,403,-11.6704,-128.0007,4331,9334,3988,34.7836,2,2.4785,2
325020131025,       GT13,26,2,8,      NIS-8,2,      8,2,20131203,333,-11.6704,-128.0007,2019.3,2.1513,34.6434,2,34.6454,2,134.2,2,134.7,2,127.58,2,36.69,2,0,2,2.68,2,0.009392269,2,0.004434766,2,0,2,0,2,2.1517,2,-999,9,-999,20131203,358,-11.6704,-128.0007,4331,9333,3988,34.8088,2,2.1517,2
325020131025,       GT13,26,2,7,      NIS-7,2,      7,2,20131203,333,-11.6704,-128.0007,2120.3,2.0345,34.6529,2,34.6531,2,138.3,2,138.2,2,129.23,2,36.46,2,0,2,2.66,2,0.005394623,2,0.002758024,2,0,2,0,2,2.0339,2,-240,2,2.5,20131203,354,-11.6703,-128.0007,4331,9332,3988,34.8165,2,2.0339,2
325020131025,       GT13,26,2,6,      NIS-6,2,      6,2,20131203,333,-11.6704,-128.0007,2221.9,1.9461,34.6607,2,34.6609,2,141.5,2,141.6,2,132.26,2,36.21,2,0,2,2.65,2,0.004721701,2,0.001649584,2,0,2,0,2,1.9442,2,-230.7,2,2.5,20131203,351,-11.6703,-128.0007,4331,9331,3988,34.8244,2,1.9442,2
325020131025,       GT13,26,2,5,      NIS-5,2,      5,2,20131203,333,-11.6704,-128.0007,2323.8,1.8842,34.6666,2,34.6668,2,143.9,2,143.9,2,134.02,2,36.02,2,0,2,2.63,2,0.005341444,2,0.001827618,2,0,2,0,2,1.884,2,-229.6,2,2.5,20131203,348,-11.6703,-128.0007,4331,9330,3988,34.8303,2,1.884,2
325020131025,       GT13,26,2,4,      NIS-4,2,      4,2,20131203,333,-11.6704,-128.0007,2424.5,1.8494,34.6705,2,34.6703,2,145,2,145.3,2,135.48,2,35.91,2,0,2,2.62,2,0.004844423,2,0.001603315,2,0,2,0,2,1.8497,2,-233.7,2,2.5,20131203,344,-11.6703,-128.0007,4331,9329,3988,34.8338,2,1.8497,2
325020131025,       GT13,26,2,3,      NIS-3,2,      3,2,20131203,333,-11.6704,-128.0007,2524.9,1.8279,34.6727,2,34.6735,2,145.7,2,146,2,136.16,2,35.89,2,0,2,2.62,2,0.004849536,2,0.002332552,2,0,2,0,2,1.8275,2,-234.7,2,2.5,20131203,341,-11.6703,-128.0007,4331,9328,3988,34.837,2,1.8275,2
325020131025,       GT13,26,2,2,     NIS-22,2,      2,2,20131203,333,-11.6704,-128.0007,2577.3,1.8164,34.6737,2,34.6733,2,146.2,2,146.1,2,136.85,2,35.83,2,0,2,2.62,2,0.008651851,2,0.004340216,2,0,2,0,2,1.8161,2,-234.7,2,2.5,20131203,339,-11.6704,-128.0007,4331,9327,3988,34.8368,2,1.8161,2
325020131025,       GT13,26,2,1,      NIS-1,2,      1,2,20131203,333,-11.6704,-128.0007,2629,1.8079,34.6744,2,34.6749,2,146.9,2,146.6,2,137.43,2,35.83,2,0,2,2.62,2,0.019596544,2,0.006977539,2,0,2,0,2,1.8078,2,-232,2,2.5,20131203,337,-11.6704,-128.0007,4331,9326,3988,34.8384,2,1.8078,2
325020131025,       GT13,26,7,12,     NIS-12,2,     12,2,20131203,1703,-11.6704,-128.0007,20.6,26.5717,36.1036,2,36.1035,2,203.5,2,203.5,2,1.27,2,2.32,2,0.04,2,0.36,2,1.472426358,2,0.933975352,2,0.133902,2,1.158,2,26.5726,2,34.2,2,2.5,20131203,1737,-11.6704,-128.0007,4338,9360,3984,36.2738,2,26.5726,2
325020131025,       GT13,26,7,11,     NIS-11,2,     11,2,20131203,1703,-11.6704,-128.0007,45.2,26.5252,36.1088,2,36.1086,2,204,2,203.8,2,1.27,2,2.22,2,0.04,2,0.35,2,1.506674801,2,0.940282999,2,0.146364,2,1.191,2,26.5324,2,32.7,2,2.5,20131203,1735,-11.6703,-128.0007,4338,9359,3984,36.2789,2,26.5324,2
325020131025,       GT13,26,7,10,     NIS-10,2,     10,2,20131203,1703,-11.6704,-128.0007,80.7,25.0047,36.1878,2,36.1823,2,199.4,2,199.6,2,1.46,2,1.51,2,0.04,2,0.39,2,1.529504029,2,0.994660932,2,0.144673,2,1.211,2,25.0175,2,35.8,2,2.5,20131203,1734,-11.6704,-128.0007,4338,9358,3984,36.3529,2,25.0175,2
325020131025,       GT13,26,7,9,      NIS-9,2,      9,2,20131203,1703,-11.6704,-128.0007,100.1,24.4324,36.254,2,36.2532,2,193.5,2,193.8,2,1.27,2,0.8,2,0.1,2,0.4,2,1.612711106,2,1.017530805,2,0.149919,2,1.186,2,24.4176,2,26.4,2,2.5,20131203,1732,-11.6704,-128.0007,4338,9357,3984,36.4242,2,24.4176,2
325020131025,       GT13,26,7,8,      NIS-8,2,      8,2,20131203,1703,-11.6704,-128.0007,141.2,22.2713,36.1539,2,36.1533,2,188.4,2,188.8,2,0.88,2,1.19,2,1.45,2,0.41,2,1.762821739,2,1.116633587,2,0.150826,2,1.148,2,22.2705,2,47.7,2,2.5,20131203,1730,-11.6703,-128.0007,4338,9356,3984,36.3238,2,22.2705,2
325020131025,       GT13,26,7,7,      NIS-7,2,      7,2,20131203,1703,-11.6704,-128.0007,201.4,19.5921,35.6953,2,35.7085,2,188,2,187.7,2,0.98,2,3.75,2,0.02,2,0.46,2,1.944011537,2,1.254548868,2,0.037198,2,1.219,2,19.5842,2,54.2,2,2.5,20131203,1728,-11.6704,-128.0007,4338,9355,3984,35.8769,2,19.5842,2
325020131025,       GT13,26,7,6,      NIS-6,2,      6,2,20131203,1703,-11.6704,-128.0007,252.1,14.783,34.9572,2,34.9574,2,138.4,2,138.2,2,5.37,2,13.28,2,0,2,1.19,2,2.094922925,2,1.303145211,2,0.030828,2,1.038,2,14.7706,2,48.9,2,2.5,20131203,1725,-11.6704,-128.0007,4338,9354,3984,35.1222,2,14.7706,2
325020131025,       GT13,26,7,5,      NIS-5,2,      5,2,20131203,1703,-11.6704,-128.0007,301.1,11.3478,34.6796,2,34.6793,2,23,2,24.3,2,20.89,2,26.75,2,0,2,2.46,2,1.073127086,2,0.595425393,2,0.006595,2,0.449,2,11.3395,2,-8.3,2,2.5,20131203,1722,-11.6704,-128.0007,4338,9353,3984,34.8429,2,11.3395,2
325020131025,       GT13,26,7,4,      NIS-4,2,      4,2,20131203,1703,-11.6704,-128.0007,336.8,10.465,34.673,2,34.6723,2,22.6,2,23.6,2,23.91,2,30.48,2,0,2,2.51,2,0.655035093,2,0.3608636,2,0.000041,2,0.586,2,10.4604,2,-32.1,2,2.5,20131203,1720,-11.6704,-128.0007,4338,9352,3984,34.8358,2,10.4604,2
325020131025,       GT13,26,7,3,      NIS-3,2,      3,2,20131203,1703,-11.6704,-128.0007,553.4,7.3937,34.5706,2,34.5726,2,88.9,2,89.1,2,35.53,2,34.61,2,0,2,2.37,2,0.191092383,2,0.107203849,2,0.000041,2,0,2,7.3956,2,-999,9,-999,20131203,1715,-11.6704,-128.0007,4338,9351,3984,34.7357,2,7.3956,2
325020131025,       GT13,26,7,2,     NIS-22,2,      2,2,20131203,1703,-11.6704,-128.0007,854.7,5.1974,34.5115,2,34.5113,2,83.2,2,82.8,2,60.23,2,39.86,2,0,2,2.79,2,0.012272129,2,0.007574005,2,0.00004,2,0,2,5.1965,2,-149.8,2,2.5,20131203,1708,-11.6704,-128.0007,4338,9350,3984,34.674,2,5.1965,2
325020131025,       GT13,26,7,1,      NIS-1,2,      1,2,20131203,1703,-11.6704,-128.0007,1006.8,4.3981,34.5236,2,34.5244,2,95.3,2,95.5,2,75.07,2,39.7,2,0,2,2.79,2,0.014664171,2,0.007400999,2,0.005633,2,0,2,4.3964,2,-175.2,2,2.5,20131203,1704,-11.6704,-128.0007,4338,9349,3984,34.6872,2,4.3964,2