BOTTLE,20161222CCHSIORJL
EXPOCODE,SECT_ID,STNNBR,CASTNO,SAMPNO,BTLNBR,BTLNBR_FLAG_W,BTLNBR_U,BTLNBR_U_FLAG_W,DATE,TIME,LATITUDE,LONGITUDE,CTDPRS,CTDTMP,CTDSAL,CTDSAL_FLAG_W,SALNTY,SALNTY_FLAG_W,CTDOXY,CTDOXY_FLAG_W,OXYGEN,OXYGEN_FLAG_W,SILCAT,SILCAT_FLAG_W,NITRAT,NITRAT_FLAG_W,NITRIT,NITRIT_FLAG_W,PHSPHT,PHSPHT_FLAG_W,CFC-11,CFC-11_FLAG_W,CFC-12,CFC-12_FLAG_W,CFC113,CFC113_FLAG_W,SF6,SF6_FLAG_W,REFTMP,REFTMP_FLAG_W,DELC14,DELC14_FLAG_W,C14ERR,BTL_DATE,BTL_TIME,BTL_LAT,BTL_LON,GEOTR_EVENT,GEOTR_SAMPNO,DEPTH,SALTREF,SALTREF_FLAG_W,SBE35,SBE35_FLAG_W
,,,,,,,,,,,,,DBAR,ITS-90,PSS-78,,PSS-78,,UMOL/KG,,UMOL/KG,,UMOL/KG,,UMOL/KG,,UMOL/KG,,UMOL/KG,,PMOL/KG,,PMOL/KG,,PMOL/KG,,FMOL/KG,,DEG C,,/MILLE,,/MILLE,,,,,,,METERS,G/KG,,ITS-90,
325020131025,       GT13,20,2,12,     NIS-12,2,     12,2,20131124,137,-15.0003,-113.5023,1006.8,4.3289,34.5256,2,34.5255,2,82.7,2,82.8,2,78.39,2,40.69,2,0,2,2.83,2,0.01089097,2,0.009586196,2,0.000323517,2,0,2,4.3293,2,-999,9,-999,20131124,228,-15.0003,-113.5023,4256,8677,3182,34.6883,2,4.3293,2
325020131025,       GT13,20,2,11,     NIS-11,2,     11,2,20131124,137,-15.0003,-113.5023,1259.3,3.4752,34.5631,2,34.563,2,89.6,2,90,2,99.76,2,40.46,2,0,2,2.87,2,0.010867744,2,0.009034227,2,0.001530402,2,0,2,3.4753,2,-999,9,-999,20131124,222,-15.0003,-113.5023,4256,8676,3182,34.726,2,3.4753,2
325020131025,       GT13,20,2,10,     NIS-10,2,     10,2,20131124,137,-15.0003,-113.5023,1512.1,2.8754,34.5971,2,34.5975,2,103.6,2,103.8,2,114.5,2,39.35,2,0,2,2.82,2,0.010375959,2,0.007752655,2,0,2,0,2,2.8766,2,-999,9,-999,20131124,216,-15.0003,-113.5023,4256,8675,3182,34.7606,2,2.8766,2
325020131025,       GT13,20,2,9,      NIS-9,2,      9,2,20131124,137,-15.0003,-113.5023,1765.4,2.4418,34.6243,2,34.624,2,117,2,117.2,2,124.06,2,38.29,2,0,2,2.73,2,0.008020036,2,0.004608439,2,0.000162809,2,0,2,2.4434,2,-999,9,-999,20131124,210,-15.0003,-113.5023,4256,8674,3182,34.7872,2,2.4434,2
325020131025,       GT13,20,2,8,      NIS-8,2,      8,2,20131124,137,-15.0003,-113.5023,2019.3,2.1079,34.6474,2,34.6469,2,132,2,133,2,128.75,2,37.07,2,0,2,2.65,2,0.010794027,2,0.005476536,2,0.000820346,2,0,2,2.1077,2,-999,9,-999,20131124,205,-15.0003,-113.5023,4256,8673,3182,34.8103,2,2.1077,2
325020131025,       GT13,20,2,7,      NIS-7,2,      7,2,20131124,137,-15.0003,-113.5023,2120.4,1.9968,34.6553,2,34.656,2,139.7,2,140.3,2,128.45,2,36.49,2,0,2,2.6,2,0.021893022,4,0.023984557,4,0.002867535,4,0.615,4,1.9966,2,-999,9,-999,20131124,201,-15.0003,-113.5023,4256,8672,3182,34.8194,2,1.9966,2
325020131025,       GT13,20,2,6,      NIS-6,2,      6,2,20131124,137,-15.0003,-113.5023,2223,1.917,34.6614,2,34.6615,2,148.8,2,149.3,2,126.7,2,35.71,2,0,2,2.54,2,0.0102568,2,0.009967556,2,0.00047057,2,0,2,1.9174,2,-999,9,-999,20131124,158,-15.0003,-113.5023,4256,8671,3182,34.8249,2,1.9174,2
325020131025,       GT13,20,2,5,      NIS-5,2,      5,2,20131124,137,-15.0003,-113.5023,2272.3,1.8912,34.6641,2,34.6638,2,150.7,2,151.5,2,126.7,2,35.56,2,0,2,2.51,2,0.01396488,2,0.01192253,2,0.00080459,2,0,2,1.8912,2,-999,9,-999,20131124,155,-15.0003,-113.5023,4256,8670,3182,34.8273,2,1.8912,2
325020131025,       GT13,20,2,4,      NIS-4,2,      4,2,20131124,137,-15.0003,-113.5023,2324,1.8723,34.6668,2,34.6666,2,152.2,2,152.9,2,127.18,2,35.39,2,0,2,2.5,2,0.025675829,4,0.028914142,4,0.002599688,4,0.379,4,1.8723,2,-999,9,-999,20131124,153,-15.0003,-113.5023,4256,8669,3182,34.83,2,1.8723,2
325020131025,       GT13,20,2,3,      NIS-3,2,      3,2,20131124,137,-15.0003,-113.5023,2374.5,1.8655,34.6685,2,34.6693,2,152.5,2,153.5,2,127.77,2,35.33,2,0,2,2.49,2,0.010330517,2,0.005727431,2,0.000961097,2,0,2,1.8654,2,-999,9,-999,20131124,151,-15.0003,-113.5023,4256,8668,3182,34.8328,2,1.8654,2
325020131025,       GT13,20,2,2,     NIS-22,2,      2,2,20131124,137,-15.0003,-113.5023,2428.1,1.8509,34.6716,2,34.6717,2,153.1,2,153.8,2,129.33,2,35.29,2,0,2,2.49,2,0.019075608,2,0.005977322,2,0.002767749,2,0,2,1.8507,2,-999,9,-999,20131124,148,-15.0003,-113.5023,4256,8667,3182,34.8352,2,1.8507,2
325020131025,       GT13,20,2,1,      NIS-1,2,      1,2,20131124,137,-15.0003,-113.5023,2478.4,1.8464,34.6732,2,34.6738,2,152.9,2,153.6,2,130.31,2,35.27,2,0,2,2.48,2,0.009672111,2,0.003569734,2,0.005354833,2,0,2,1.8463,2,-999,9,-999,20131124,145,-15.0003,-113.5023,4256,8666,3182,34.8373,2,1.8463,2
325020131025,       GT13,20,4,12,     NIS-12,2,     12,2,20131124,1133,-15.0003,-113.5023,3.4,24.2266,35.99,2,35.9893,2,211.6,2,211.9,2,2.05,2,3.15,2,0.06,2,0.43,2,-999,9,-999,9,-999,9,-999,9,24.2248,2,-999,9,-999,20131124,1207,-15.0003,-113.5023,4259,8721,3180,36.159,2,24.2248,2
325020131025,       GT13,20,4,11,     NIS-11,2,     11,2,20131124,1133,-15.0003,-113.5023,20.1,24.2338,35.9899,2,35.9901,2,211.7,2,212.3,2,1.85,2,2.8,2,0.06,2,0.42,2,-999,9,-999,9,-999,9,-999,9,24.2389,2,-999,9,-999,20131124,1205,-15.0003,-113.5023,4259,8720,3180,36.1598,2,24.2389,2
325020131025,       GT13,20,4,10,     NIS-10,2,     10,2,20131124,1133,-15.0003,-113.5023,49.4,24.1301,36.0655,2,36.0677,2,214.2,2,213.9,2,1.56,2,2.16,2,0.04,2,0.38,2,-999,9,-999,9,-999,9,-999,9,24.1301,2,-999,9,-999,20131124,1203,-15.0003,-113.5023,4259,8719,3180,36.2378,2,24.1301,2
325020131025,       GT13,20,4,9,      NIS-9,2,      9,2,20131124,1133,-15.0003,-113.5023,84,23.6046,36.4501,2,36.4471,2,213.4,2,213.4,2,1.46,2,0,2,0,2,0.24,2,-999,9,-999,9,-999,9,-999,9,23.6049,2,-999,9,-999,20131124,1201,-15.0003,-113.5023,4259,8718,3180,36.619,2,23.6049,2
325020131025,       GT13,20,4,8,      NIS-8,2,      8,2,20131124,1133,-15.0003,-113.5023,92.1,23.5763,36.4918,2,36.4902,2,211.9,2,212,2,1.46,2,0,2,0,2,0.23,2,-999,9,-999,9,-999,9,-999,9,23.578,2,-999,9,-999,20131124,1159,-15.0003,-113.5023,4259,8717,3180,36.6623,2,23.578,2
325020131025,       GT13,20,4,7,      NIS-7,2,      7,2,20131124,1133,-15.0003,-113.5023,151.4,21.5362,36.0991,2,36.0975,2,201.1,2,201.2,2,1.17,2,0.46,2,0.65,2,0.32,2,-999,9,-999,9,-999,9,-999,9,21.5478,2,-999,9,-999,20131124,1156,-15.0003,-113.5023,4259,8716,3180,36.2677,2,21.5478,2
325020131025,       GT13,20,4,6,      NIS-6,2,      6,2,20131124,1133,-15.0003,-113.5023,225.7,17.8688,35.3345,2,35.3327,2,190.3,2,190.3,2,1.66,2,5.38,2,0.02,2,0.6,2,-999,9,-999,9,-999,9,-999,9,17.8593,2,-999,9,-999,20131124,1153,-15.0003,-113.5023,4259,8715,3180,35.4993,2,17.8593,2
325020131025,       GT13,20,4,5,      NIS-5,2,      5,2,20131124,1133,-15.0003,-113.5023,277,13.9839,34.7738,2,34.7741,2,152.9,2,152.9,2,5.27,2,13.14,2,0,2,1.16,2,-999,9,-999,9,-999,9,-999,9,13.979,2,-999,9,-999,20131124,1151,-15.0003,-113.5023,4259,8714,3180,34.9381,2,13.979,2
325020131025,       GT13,20,4,4,      NIS-4,2,      4,2,20131124,1133,-15.0003,-113.5023,326.8,11.2917,34.5698,2,34.5694,2,65.2,2,66.3,2,16.5,2,23.28,2,0,2,2.17,2,-999,9,-999,9,-999,9,-999,9,11.2829,2,-999,9,-999,20131124,1148,-15.0003,-113.5023,4259,8713,3180,34.7324,2,11.2829,2
325020131025,       GT13,20,4,3,      NIS-3,2,      3,2,20131124,1133,-15.0003,-113.5023,503.2,7.4902,34.5186,2,34.5183,2,66.2,2,66.9,2,30.55,2,36.72,2,0,2,2.53,2,-999,9,-999,9,-999,9,-999,9,7.4898,2,-999,9,-999,20131124,1144,-15.0003,-113.5022,4259,8712,3180,34.681,2,7.4898,2
325020131025,       GT13,20,4,2,     NIS-22,2,      2,2,20131124,1133,-15.0003,-113.5023,754.4,5.4844,34.5005,2,34.5,2,78.7,2,78.2,2,54.47,2,40.07,2,0,2,2.78,2,-999,9,-999,9,-999,9,-999,9,5.4845,2,-999,9,-999,20131124,1138,-15.0003,-113.5023,4259,8711,3180,34.6627,2,5.4845,2
325020131025,       GT13,20,4,1,      NIS-1,2,      1,2,20131124,1133,-15.0003,-113.5023,1007.1,4.2803,34.5273,2,34.5273,2,83.9,2,83.9,2,79.17,2,40.81,2,0,2,2.9,2,-999,9,-999,9,-999,9,-999,9,4.2773,2,-999,9,-999,20131124,1132,-15.0003,-113.5023,4259,8710,3180,34.6901,2,4.2773,2
325020131025,       GT13,20,6,12,     NIS-12,2,     12,2,20131124,1611,-15.0001,-113.5003,20.1,24.2247,35.9751,2,35.9756,2,211.5,2,211.8,2,1.66,2,2.82,2,0.06,2,0.42,2,1.52992,2,0.92824,2,0.134125,2,1.095,2,24.226,2,-999,9,-999,20131124,1647,-15.0001,-113.5003,4260,8733,3176,36.1453,2,24.226,2
325020131025,       GT13,20,6,11,     NIS-11,2,     11,2,20131124,1611,-15.0001,-113.5003,49,24.1338,36.0755,2,36.0741,2,214,2,214.1,2,1.37,2,1.97,2,0.04,2,0.37,2,1.527644504,2,0.920718804,2,0.142903211,2,1.187,2,24.1332,2,-999,9,-999,20131124,1645,-15.0001,-113.5003,4260,8732,3176,36.2442,2,24.1332,2
325020131025,       GT13,20,6,10,     NIS-10,2,     10,2,20131124,1611,-15.0001,-113.5003,84.9,23.7058,36.4326,2,36.434,2,214.5,2,214.6,2,1.17,2,0,2,0,2,0.24,2,1.547297264,2,0.937533541,2,0.131413122,2,1.089,2,23.7073,2,-999,9,-999,20131124,1643,-15.0001,-113.5003,4260,8731,3176,36.6058,2,23.7073,2
325020131025,       GT13,20,6,9,      NIS-9,2,      9,2,20131124,1611,-15.0001,-113.5003,96.6,23.5766,36.4749,2,36.4781,2,212.6,2,212.1,2,1.27,2,0,2,0,2,0.24,2,1.550776829,2,0.936057756,2,0.131447259,2,1.161,2,23.5804,2,-999,9,-999,20131124,1641,-15.0001,-113.5003,4260,8730,3176,36.6501,2,23.5804,2
325020131025,       GT13,20,6,8,      NIS-8,2,      8,2,20131124,1611,-15.0001,-113.5003,150.9,22.4766,36.3175,2,36.324,2,205.5,2,205.9,2,1.07,2,0,2,0.21,2,0.26,2,1.640834241,2,0.986164329,2,0.136996518,2,1.142,2,22.4776,2,-999,9,-999,20131124,1638,-15.0001,-113.5003,4260,8729,3176,36.4953,2,22.4776,2
325020131025,       GT13,20,6,7,      NIS-7,2,      7,2,20131124,1611,-15.0001,-113.5003,225.5,18.3258,35.4218,2,35.4225,2,192,2,192.7,2,1.37,2,4.48,2,0.02,2,0.55,2,1.98703252,2,1.178285947,2,0.068020844,2,1.195,2,18.3074,2,-999,9,-999,20131124,1636,-15.0001,-113.5003,4260,8728,3176,35.5896,2,18.3074,2
325020131025,       GT13,20,6,6,      NIS-6,2,      6,2,20131124,1611,-15.0001,-113.5003,276.1,13.9871,34.7734,2,34.7606,2,152.1,2,149.5,2,5.47,2,13.55,2,0,2,1.2,2,2.230528085,2,1.208602168,2,0.042744456,2,0.943,2,13.9868,2,-999,9,-999,20131124,1633,-15.0001,-113.5003,4260,8727,3176,34.9246,2,13.9868,2
325020131025,       GT13,20,6,5,      NIS-5,2,      5,2,20131124,1611,-15.0001,-113.5003,327.1,11.2901,34.57,2,34.5682,2,65.5,2,66.8,2,16.59,2,23.13,2,0,2,2.15,2,1.644631533,2,0.807576254,2,0.020212074,2,0.427,2,11.289,2,-999,9,-999,20131124,1631,-15.0001,-113.5003,4260,8726,3176,34.7312,2,11.289,2
325020131025,       GT13,20,6,4,      NIS-4,2,      4,2,20131124,1611,-15.0001,-113.5003,400.7,9.2295,34.5565,2,34.5558,2,38.4,2,38.2,2,24.4,2,32.69,2,0,2,2.54,2,0.727927406,2,0.326181649,2,0.004506075,2,0.114,2,9.236,2,-999,9,-999,20131124,1628,-15.0001,-113.5003,4260,8725,3176,34.7188,2,9.236,2
325020131025,       GT13,20,6,3,      NIS-3,2,      3,2,20131124,1611,-15.0001,-113.5003,496.6,7.577,34.5181,2,34.518,2,64.9,2,65.3,2,29.97,2,36.52,2,0,2,2.52,2,0.331224013,2,0.145555728,2,0.004391616,2,0.064,2,7.5765,2,-999,9,-999,20131124,1625,-15.0001,-113.5003,4260,8724,3176,34.6807,2,7.5765,2
325020131025,       GT13,20,6,2,     NIS-22,2,      2,2,20131124,1611,-15.0001,-113.5003,753.8,5.4984,34.5006,2,34.5001,2,79,2,78.6,2,54.47,2,39.99,2,0,2,2.76,2,0.015823592,2,0.005408208,2,0,2,0,2,5.4991,2,-999,9,-999,20131124,1619,-15.0001,-113.5003,4260,8723,3176,34.6628,2,5.4991,2
325020131025,       GT13,20,6,1,      NIS-1,2,      1,2,20131124,1611,-15.0001,-113.5003,1007.7,4.3044,34.5265,2,34.5266,2,82.2,2,82.5,2,79.17,2,41.34,2,0,2,2.89,2,0.011686981,2,0.002631968,2,0.003775143,2,0,2,4.3031,2,-999,9,-999,20131124,1613,-15.0001,-113.5003,4260,8722,3176,34.6894,2,4.3031,2
325020131025,       GT13,20,9,12,     NIS-12,2,     12,2,20131125,416,-15.0001,-113.5003,2476.9,1.8475,34.6733,2,34.6729,2,153.6,2,153.4,2,129.72,2,35.02,2,0,2,2.49,2,0.006008009,2,0.001342534,2,0.0000482,2,0,2,1.8474,2,-999,9,-999,20131125,445,-15.0001,-113.5003,4264,8779,3176,34.8364,2,1.8474,2
325020131025,       GT13,20,9,11,     NIS-11,2,     11,2,20131125,416,-15.0001,-113.5003,2527.9,1.8451,34.6742,2,34.6737,2,153.6,2,153.3,2,129.92,2,35.12,2,0,2,2.5,2,0.007515409,2,0.002003782,2,0,2,0,2,1.8452,2,-999,9,-999,20131125,443,-15.0001,-113.5003,4264,8778,3176,34.8372,2,1.8452,2
325020131025,       GT13,20,9,10,     NIS-10,2,     10,2,20131125,416,-15.0001,-113.5003,2578.5,1.8421,34.6748,2,34.6743,2,153.6,2,153.3,2,130.6,2,35.14,2,0,2,2.51,2,0.007542144,2,0.002258262,2,0,2,0,2,1.8421,2,-999,9,-999,20131125,441,-15.0001,-113.5003,4264,8777,3176,34.8378,2,1.8421,2
325020131025,       GT13,20,9,9,      NIS-9,2,      9,2,20131125,416,-15.0001,-113.5003,2629.3,1.8341,34.6757,2,34.6752,2,153.7,2,153.4,2,130.99,2,35.15,2,0,2,2.52,2,0.006301058,2,0.001630077,2,0,2,0,2,1.8341,2,-999,9,-999,20131125,439,-15.0001,-113.5003,4264,8776,3176,34.8387,2,1.8341,2
325020131025,       GT13,20,9,8,      NIS-8,2,      8,2,20131125,416,-15.0001,-113.5003,2680.5,1.833,34.6758,2,34.6752,2,154.2,2,154.5,2,130.7,2,35.14,2,0,2,2.52,2,0.015226185,2,0.00674974,2,0.000692779,2,0,2,1.8329,2,-999,9,-999,20131125,437,-15.0001,-113.5003,4264,8775,3176,34.8387,2,1.8329,2
325020131025,       GT13,20,9,7,      NIS-7,2,      7,2,20131125,416,-15.0001,-113.5003,2731.5,1.832,34.6758,2,34.6758,2,154.8,2,154.5,2,130.79,2,35.14,2,0,2,2.52,2,0.019136583,2,0.008472992,2,0.00101708,2,0,2,1.8325,2,-999,9,-999,20131125,435,-15.0001,-113.5003,4264,8774,3176,34.8393,2,1.8325,2
325020131025,       GT13,20,9,6,      NIS-6,2,      6,2,20131125,416,-15.0001,-113.5003,2781.1,1.8246,34.676,2,34.6758,2,155.9,2,155.3,2,130.5,2,35.11,2,0,2,2.52,2,0.008238263,2,0.002751193,2,0,2,0,2,1.8245,2,-999,9,-999,20131125,433,-15.0001,-113.5003,4264,8773,3176,34.8394,2,1.8245,2
325020131025,       GT13,20,9,5,      NIS-5,2,      5,2,20131125,416,-15.0001,-113.5003,2833.5,1.8247,34.676,2,34.6752,2,155.7,2,155.9,2,130.6,2,35.12,2,0,2,2.52,2,0.01088701,2,0.002741174,2,0,2,0,2,1.8245,2,-999,9,-999,20131125,430,-15.0001,-113.5003,4264,8772,3176,34.8388,2,1.8245,2
325020131025,       GT13,20,9,4,      NIS-4,2,      4,2,20131125,416,-15.0001,-113.5003,2934.9,1.8177,34.6759,2,34.6749,2,156.8,2,157,2,130.7,2,35.06,2,0,2,2.52,2,0.020743723,4,0.012315244,4,0.000699807,2,0.116,4,1.8173,2,-999,9,-999,20131125,427,-15.0001,-113.5003,4264,8771,3176,34.8384,2,1.8173,2
325020131025,       GT13,20,9,3,      NIS-3,2,      3,2,20131125,416,-15.0001,-113.5003,3036.7,1.8178,34.6759,2,34.6756,2,157.9,2,157.5,2,130.79,2,35.05,2,0,2,2.52,2,0.006222911,2,0.001343536,2,0,2,0,2,1.8176,2,-999,9,-999,20131125,424,-15.0001,-113.5003,4264,8770,3176,34.8392,2,1.8176,2
325020131025,       GT13,20,9,2,     NIS-22,2,      2,2,20131125,416,-15.0001,-113.5003,3138.6,1.8276,34.6758,2,34.676,2,158.2,2,158.3,2,130.6,2,35.06,2,0,2,2.51,2,0.010309139,2,0.003732044,2,0.001201821,2,0,2,1.8273,2,-999,9,-999,20131125,421,-15.0001,-113.5003,4264,8769,3176,34.8396,2,1.8273,2
325020131025,       GT13,20,9,1,      NIS-1,2,      1,2,20131125,416,-15.0001,-113.5003,3199.5,1.8325,34.676,2,34.6754,2,158.3,2,158.4,2,130.99,2,35.06,2,0,2,2.51,2,0.019743245,2,0.004522536,2,0.007124578,2,0,2,1.8322,2,-999,9,-999,20131125,419,-15.0001,-113.5003,4264,8768,3176,34.839,2,1.8322,2
325020131025,       GT13,20,9,13, NIOZ_CORER,2,    13,2,20131125,416,-15.0001,-113.5003,3214.6,-999,-999,2,-999,9,-999,9,-999,9,-999,9,-999,9,-999,9,-999,9,-999,9,-999,9,-999,9,-999,9,-999,9,-999,9,-999,20131125,416,-15.0001,-113.5003,4264,8767,3176,-999,9,-999,9
325020131025,       GT13,20,25,25,       FISH,2,   25,2,20131124,1410,-15.027,-113.5728,3.5,24.22,35.9777,2,36.016,2,-999,9,-999,9,1.85,2,2.42,2,0.05,2,0.4,2,-999,9,-999,9,-999,9,-999,9,-999,9,-999,9,-999,20131124,1359,-15.0186,-113.5481,4261,8734,3139,36.1859,2,-999,9
325020131025,       GT13,21,2,12,     NIS-12,2,     12,2,20131126,59,-14.7698,-114.9998,1006.8,4.3089,34.522,2,34.5218,2,101.9,2,102.7,2,74.87,2,38.67,2,0,2,2.71,2,0.013929526,2,0.004148638,2,0,2,0,2,4.3073,2,-999,9,-999,20131126,145,-14.7698,-114.9998,4270,8817,3264,34.6846,2,4.3073,2
325020131025,       GT13,21,2,11,     NIS-11,2,     11,2,20131126,59,-14.7698,-114.9998,1258.7,3.5472,34.5581,2,34.5581,2,102.5,2,102.6,2,94.3,2,39.19,2,0,2,2.79,2,0.007377747,2,0.001370118,2,0.000235,2,0,2,3.549,2,-999,9,-999,20131126,140,-14.7698,-114.9998,4270,8816,3264,34.721,2,3.549,2
325020131025,       GT13,21,2,10,     NIS-10,2,     10,2,20131126,59,-14.7698,-114.9998,1510.7,2.9624,34.5899,2,34.5904,2,110.8,2,111.2,2,109.13,2,38.64,2,0,2,2.77,2,0.010689909,2,0.003836331,2,0,2,0,2,2.9633,2,-999,9,-999,20131126,134,-14.7698,-114.9999,4270,8815,3264,34.7535,2,2.9633,2
325020131025,       GT13,21,2,9,      NIS-9,2,      9,2,20131126,59,-14.7698,-114.9998,1765.5,2.5305,34.6183,2,34.6189,2,120.4,2,120.2,2,120.45,2,37.95,2,0,2,2.72,2,0.012071358,2,0.005830055,2,0,2,0,2,2.532,2,-999,9,-999,20131126,127,-14.7698,-114.9998,4270,8814,3264,34.7821,2,2.532,2
325020131025,       GT13,21,2,8,      NIS-8,2,      8,2,20131126,59,-14.7698,-114.9998,2019.4,2.1481,34.6397,2,34.6407,2,140.5,2,141.2,2,121.52,2,36.35,2,0,2,2.6,2,0.008390257,2,0.001321761,2,0,2,0,2,2.1476,2,-999,9,-999,20131126,121,-14.7698,-114.9998,4270,8813,3264,34.804,2,2.1476,2
325020131025,       GT13,21,2,7,      NIS-7,2,      7,2,20131126,59,-14.7698,-114.9998,2122.6,2.0263,34.6497,2,34.6503,2,147.4,2,147.7,2,122.79,2,35.79,2,0,2,2.56,2,0.006072987,2,0.000536965,2,0,2,0,2,2.0268,2,-999,9,-999,20131126,118,-14.7698,-114.9998,4270,8812,3264,34.8137,2,2.0268,2
325020131025,       GT13,21,2,6,      NIS-6,2,      6,2,20131126,59,-14.7698,-114.9998,2222.3,1.9415,34.6589,2,34.6589,2,150.6,2,150.8,2,124.84,2,35.54,2,0,2,2.54,2,0.008520836,2,0.00196753,2,0,2,0,2,1.9415,2,-999,9,-999,20131126,115,-14.7698,-114.9998,4270,8811,3264,34.8224,2,1.9415,2
325020131025,       GT13,21,2,5,      NIS-5,2,      5,2,20131126,59,-14.7698,-114.9998,2323.9,1.8833,34.6658,2,34.6654,2,153.9,2,154.4,2,126.11,2,35.3,2,0,2,2.5,2,0.008485601,2,0.002738222,2,0,2,0,2,1.8831,2,-999,9,-999,20131126,111,-14.7698,-114.9998,4270,8810,3264,34.8289,2,1.8831,2
325020131025,       GT13,21,2,4,      NIS-4,2,      4,2,20131126,59,-14.7698,-114.9998,2375.4,1.869,34.6683,2,34.6683,2,153.9,2,153.8,2,127.67,2,35.3,2,0,2,2.51,2,0.006291656,2,0.00075961,2,0,2,0,2,1.8687,2,-999,9,-999,20131126,108,-14.7698,-114.9999,4270,8809,3264,34.8318,2,1.8687,2
325020131025,       GT13,21,2,3,      NIS-3,2,      3,2,20131126,59,-14.7698,-114.9998,2425.6,1.8613,34.6702,2,34.6723,2,154.1,2,154,2,128.55,2,35.27,2,0,2,2.5,2,0.005897845,2,0.000958075,2,0.000342,2,0,2,1.8609,2,-999,9,-999,20131126,105,-14.7698,-114.9998,4270,8808,3264,34.8358,2,1.8609,2
325020131025,       GT13,21,2,2,     NIS-22,2,      2,2,20131126,59,-14.7698,-114.9998,2476.3,1.8584,34.6712,2,34.6719,2,154.2,2,154.3,2,129.13,2,35.26,2,0,2,2.5,2,0.013061068,2,0.00536764,2,0.002052,2,0,2,1.8583,2,-999,9,-999,20131126,103,-14.7698,-114.9999,4270,8807,3264,34.8354,2,1.8583,2
325020131025,       GT13,21,2,1,      NIS-1,2,      1,2,20131126,59,-14.7698,-114.9998,2527.2,1.8474,34.6728,2,34.6731,2,154.3,2,154.3,2,130.11,2,35.27,2,0,2,2.51,2,0.008925011,2,0.000864383,2,0.003046,2,0,2,1.8473,2,-999,9,-999,20131126,101,-14.7698,-114.9998,4270,8806,3264,34.8366,2,1.8473,2