BOTTLE,20161222CCHSIORJL
EXPOCODE,SECT_ID,STNNBR,CASTNO,SAMPNO,BTLNBR,BTLNBR_FLAG_W,BTLNBR_U,BTLNBR_U_FLAG_W,DATE,TIME,LATITUDE,LONGITUDE,CTDPRS,CTDTMP,CTDSAL,CTDSAL_FLAG_W,SALNTY,SALNTY_FLAG_W,CTDOXY,CTDOXY_FLAG_W,OXYGEN,OXYGEN_FLAG_W,SILCAT,SILCAT_FLAG_W,NITRAT,NITRAT_FLAG_W,NITRIT,NITRIT_FLAG_W,PHSPHT,PHSPHT_FLAG_W,CFC-11,CFC-11_FLAG_W,CFC-12,CFC-12_FLAG_W,CFC113,CFC113_FLAG_W,SF6,SF6_FLAG_W,REFTMP,REFTMP_FLAG_W,DELC14,DELC14_FLAG_W,C14ERR,BTL_DATE,BTL_TIME,BTL_LAT,BTL_LON,GEOTR_EVENT,GEOTR_SAMPNO,DEPTH,SALTREF,SALTREF_FLAG_W,SBE35,SBE35_FLAG_W
,,,,,,,,,,,,,DBAR,ITS-90,PSS-78,,PSS-78,,UMOL/KG,,UMOL/KG,,UMOL/KG,,UMOL/KG,,UMOL/KG,,UMOL/KG,,PMOL/KG,,PMOL/KG,,PMOL/KG,,FMOL/KG,,DEG C,,/MILLE,,/MILLE,,,,,,,METERS,G/KG,,ITS-90,
325020131025,       GT13,11,6,12,     NIS-12,2,     12,2,20131111,1040,-11.9999,-94.0001,8.4,20.9402,35.4634,2,35.4624,2,224.7,2,225.7,2,3.32,2,9.42,2,0.34,2,0.85,2,-999,9,-999,9,-999,9,-999,9,20.9411,2,-999,9,-999,20131111,1103,-11.9999,-94.0001,4143,3592,3662,35.6296,2,20.9411,2
325020131025,       GT13,11,6,11,     NIS-11,2,     11,2,20131111,1040,-11.9999,-94.0001,19.3,20.9427,35.4637,2,35.4628,2,225.3,2,225.7,2,3.32,2,9.42,2,0.34,2,0.85,2,-999,9,-999,9,-999,9,-999,9,20.9432,2,-999,9,-999,20131111,1101,-11.9999,-94.0001,4143,3591,3662,35.63,2,20.9432,2
325020131025,       GT13,11,6,10,     NIS-10,2,     10,2,20131111,1040,-11.9999,-94.0001,40.6,20.9496,35.4648,2,35.4656,2,225.2,2,225.3,2,3.32,2,9.36,2,0.34,2,0.85,2,-999,9,-999,9,-999,9,-999,9,20.9502,2,-999,9,-999,20131111,1059,-11.9999,-94.0001,4143,3590,3662,35.6328,2,20.9502,2
325020131025,       GT13,11,6,9,      NIS-9,2,      9,2,20131111,1040,-11.9999,-94.0001,60.3,20.5764,35.564,2,35.563,2,226.3,2,225.9,2,2.54,2,6.65,2,0.29,2,0.84,2,-999,9,-999,9,-999,9,-999,9,20.5758,2,-999,9,-999,20131111,1058,-11.9999,-94.0001,4143,3589,3662,35.7307,2,20.5758,2
325020131025,       GT13,11,6,8,      NIS-8,2,      8,2,20131111,1040,-11.9999,-94.0001,75.2,20.1101,35.5673,2,35.5684,2,222.6,2,222.8,2,2.54,2,6.49,2,0.36,2,0.76,2,-999,9,-999,9,-999,9,-999,9,20.1036,2,-999,9,-999,20131111,1056,-11.9999,-94.0001,4143,3588,3662,35.7361,2,20.1036,2
325020131025,       GT13,11,6,7,      NIS-7,2,      7,2,20131111,1040,-11.9999,-94.0001,90.2,19.9706,35.5603,2,35.5599,2,218.6,2,218.4,2,2.63,2,6.65,2,0.42,2,0.79,2,-999,9,-999,9,-999,9,-999,9,19.9713,2,-999,9,-999,20131111,1054,-11.9999,-94.0001,4143,3587,3662,35.7276,2,19.9713,2
325020131025,       GT13,11,6,6,      NIS-6,2,      6,2,20131111,1040,-11.9999,-94.0001,110,19.8477,35.5378,2,35.5359,2,217.4,2,217.3,2,2.93,2,7.43,2,0.5,2,0.85,2,-999,9,-999,9,-999,9,-999,9,19.8477,2,-999,9,-999,20131111,1052,-11.9999,-94.0001,4143,3586,3662,35.7034,2,19.8477,2
325020131025,       GT13,11,6,5,      NIS-5,2,      5,2,20131111,1040,-11.9999,-94.0001,129.7,18.1252,35.3439,2,35.349,2,179.4,2,181.7,2,2.54,2,8.07,2,0.49,2,0.9,2,-999,9,-999,9,-999,9,-999,9,18.0297,3,-999,9,-999,20131111,1050,-11.9999,-94.0001,4143,3585,3662,35.5157,2,18.0297,3
325020131025,       GT13,11,6,4,      NIS-4,2,      4,2,20131111,1040,-11.9999,-94.0001,156.2,14.5367,34.8588,2,34.8737,2,103,2,104.6,2,8.2,2,18.44,2,0.03,2,1.67,2,-999,9,-999,9,-999,9,-999,9,14.6167,3,-999,9,-999,20131111,1048,-11.9999,-94.0001,4143,3584,3662,35.0381,2,14.6167,3
325020131025,       GT13,11,6,3,      NIS-3,2,      3,2,20131111,1040,-11.9999,-94.0001,180.6,13.144,34.7926,2,34.7965,2,14.4,2,16.3,2,20.3,2,21.15,2,0.02,2,2.51,2,-999,9,-999,9,-999,9,-999,9,13.136,2,-999,9,-999,20131111,1046,-11.9999,-94.0001,4143,3583,3662,34.9606,2,13.136,2
325020131025,       GT13,11,6,2,      NIS-2,2,      2,2,20131111,1040,-11.9999,-94.0001,202.6,12.6105,34.8229,2,34.8216,2,1.3,2,1.6,2,26.25,2,18.85,2,0.63,2,2.64,2,-999,9,-999,9,-999,9,-999,9,12.6134,2,-999,9,-999,20131111,1044,-11.9999,-94.0001,4143,3582,3662,34.9858,2,12.6134,2
325020131025,       GT13,11,6,1,      NIS-1,2,      1,2,20131111,1040,-11.9999,-94.0001,321.8,10.116,34.7277,2,34.731,2,6,2,6,2,31.62,2,35.95,2,0,2,2.65,2,-999,9,-999,9,-999,9,-999,9,10.1106,2,-999,9,-999,20131111,1040,-11.9999,-94.0001,4143,3581,3662,34.8947,2,10.1106,2
325020131025,       GT13,11,8,11,     NIS-11,2,     11,2,20131111,1753,-11.9999,-94.0001,2528.3,1.8335,34.6732,2,34.6731,2,141.9,2,142.9,2,136.36,2,36.4,2,0,2,2.64,2,-999,9,-999,9,-999,9,-999,9,1.8337,2,-999,9,-999,20131111,1824,-11.9999,-94.0001,4145,3611,3663,34.8366,2,1.8337,2
325020131025,       GT13,11,8,12,     NIS-12,2,     12,2,20131111,1753,-11.9999,-94.0001,2528.7,1.8339,34.6731,2,34.6751,2,141.6,2,142.8,2,136.75,2,36.49,2,0,2,2.63,2,-999,9,-999,9,-999,9,-999,9,1.8339,2,-999,9,-999,20131111,1825,-11.9999,-94.0001,4145,3612,3663,34.8386,2,1.8339,2
325020131025,       GT13,11,8,9,      NIS-9,2,      9,2,20131111,1753,-11.9999,-94.0001,2781.7,1.7784,34.6802,2,34.679,2,144.4,2,144.9,2,138.6,2,36.26,2,0,2,2.62,2,-999,9,-999,9,-999,9,-999,9,1.7784,2,-999,9,-999,20131111,1818,-11.9999,-94.0001,4145,3609,3663,34.8426,2,1.7784,2
325020131025,       GT13,11,8,10,     NIS-10,2,     10,2,20131111,1753,-11.9999,-94.0001,2782.6,1.7784,34.6802,2,34.6794,2,144.4,2,145.2,2,138.99,2,36.14,2,0,2,2.63,2,-999,9,-999,9,-999,9,-999,9,1.7785,2,-999,9,-999,20131111,1818,-11.9999,-94.0001,4145,3610,3663,34.843,2,1.7785,2
325020131025,       GT13,11,8,8,      NIS-8,2,      8,2,20131111,1753,-11.9999,-94.0001,3035.1,1.7752,34.6825,2,34.6816,2,143.2,2,144.1,2,140.75,2,36.3,2,0,2,2.64,2,-999,9,-999,9,-999,9,-999,9,1.7753,2,-999,9,-999,20131111,1812,-11.9999,-94.0001,4145,3608,3663,34.8451,2,1.7753,2
325020131025,       GT13,11,8,7,      NIS-7,2,      7,2,20131111,1753,-11.9999,-94.0001,3036.2,1.7752,34.6825,2,34.6814,2,143.6,2,144.1,2,140.65,2,36.35,2,0,2,2.64,2,-999,9,-999,9,-999,9,-999,9,1.7754,2,-999,9,-999,20131111,1812,-11.9999,-94.0001,4145,3607,3663,34.8449,2,1.7754,2
325020131025,       GT13,11,8,6,      NIS-6,2,      6,2,20131111,1753,-11.9999,-94.0001,3546.3,1.7979,34.6862,2,34.6889,2,142.6,2,142.1,2,141.92,2,36.51,2,0,2,2.64,2,-999,9,-999,9,-999,9,-999,9,1.7979,2,-999,9,-999,20131111,1802,-11.9999,-94.0001,4145,3606,3663,34.8524,2,1.7979,2
325020131025,       GT13,11,8,5,      NIS-5,2,      5,2,20131111,1753,-11.9999,-94.0001,3546.9,1.7979,34.6861,2,34.6863,2,142.6,2,142.6,2,142.21,2,36.52,2,0,2,2.65,2,-999,9,-999,9,-999,9,-999,9,1.798,2,-999,9,-999,20131111,1802,-11.9999,-94.0001,4145,3605,3663,34.8499,2,1.798,2
325020131025,       GT13,11,8,3,      NIS-3,2,      3,2,20131111,1753,-11.9999,-94.0001,3648.5,1.8055,34.6865,2,34.6857,2,142.5,2,142.1,2,142.6,2,36.6,2,0,2,2.65,2,-999,9,-999,9,-999,9,-999,9,1.8054,2,-999,9,-999,20131111,1758,-11.9999,-94.0001,4145,3603,3663,34.8493,2,1.8054,2
325020131025,       GT13,11,8,4,      NIS-4,2,      4,2,20131111,1753,-11.9999,-94.0001,3648.6,1.8053,34.6865,2,34.6861,2,142.5,2,142.1,2,142.51,2,36.53,2,0,2,2.65,2,-999,9,-999,9,-999,9,-999,9,1.8054,2,-999,9,-999,20131111,1758,-11.9999,-94.0001,4145,3604,3663,34.8497,2,1.8054,2
325020131025,       GT13,11,8,2,      NIS-2,2,      2,2,20131111,1753,-11.9999,-94.0001,3674,1.8063,34.6866,2,34.6893,2,142.3,2,142.1,2,142.41,2,36.59,2,0,2,2.65,2,-999,9,-999,9,-999,9,-999,9,1.8062,2,-999,9,-999,20131111,1755,-11.9999,-94.0001,4145,3602,3663,34.8529,2,1.8062,2
325020131025,       GT13,11,8,1,      NIS-1,2,      1,2,20131111,1753,-11.9999,-94.0001,3674.8,1.8062,34.6867,2,34.6885,2,142.5,2,142,2,142.6,2,36.53,2,0,2,2.64,2,-999,9,-999,9,-999,9,-999,9,1.8062,2,-999,9,-999,20131111,1755,-11.9999,-94.0001,4145,3601,3663,34.8521,2,1.8062,2
325020131025,       GT13,11,10,11,     NIS-11,2,     11,2,20131111,2158,-11.9999,-94.0001,1007.2,4.3299,34.5423,2,34.5413,2,67.8,2,67.8,2,85.61,2,42.29,2,0,2,3.03,2,-999,9,-999,9,-999,9,-999,9,4.3301,2,-999,9,-999,20131111,2230,-11.9999,-94.0001,4148,3648,3660,34.7041,2,4.3301,2
325020131025,       GT13,11,10,12,     NIS-12,2,     12,2,20131111,2158,-11.9999,-94.0001,1007.3,4.3301,34.5423,2,34.5411,2,67.8,2,67.9,2,85.51,2,42.29,2,0,2,3.01,2,-999,9,-999,9,-999,9,-999,9,4.3299,2,-999,9,-999,20131111,2230,-11.9999,-94.0001,4148,3649,3660,34.7039,2,4.3299,2
325020131025,       GT13,11,10,10,     NIS-10,2,     10,2,20131111,2158,-11.9999,-94.0001,1259.7,3.5635,34.57,2,34.5725,2,78.9,2,79.1,2,104.15,2,41.48,2,0,2,3.03,2,-999,9,-999,9,-999,9,-999,9,3.5633,2,-999,9,-999,20131111,2224,-11.9999,-94.0001,4148,3647,3660,34.7355,2,3.5633,2
325020131025,       GT13,11,10,9,      NIS-9,2,      9,2,20131111,2158,-11.9999,-94.0001,1259.8,3.5629,34.5701,2,34.5691,2,78.9,2,79,2,104.25,2,41.47,2,0,2,3.03,2,-999,9,-999,9,-999,9,-999,9,3.5627,2,-999,9,-999,20131111,2224,-11.9999,-94.0001,4148,3646,3660,34.7321,2,3.5627,2
325020131025,       GT13,11,10,8,      NIS-8,2,      8,2,20131111,2158,-11.9999,-94.0001,1512.7,2.9224,34.6029,2,34.6023,2,89.1,2,89.6,2,121.82,2,40.64,2,0,2,3,2,-999,9,-999,9,-999,9,-999,9,2.9226,2,-999,9,-999,20131111,2218,-11.9999,-94.0001,4148,3645,3660,34.7654,2,2.9226,2
325020131025,       GT13,11,10,7,      NIS-7,2,      7,2,20131111,2158,-11.9999,-94.0001,1513.2,2.9212,34.6029,2,34.6046,2,89.1,2,89.5,2,121.82,2,40.68,2,0,2,3,2,-999,9,-999,9,-999,9,-999,9,2.9219,2,-999,9,-999,20131111,2218,-11.9999,-94.0001,4148,3644,3660,34.7678,2,2.9219,2
325020131025,       GT13,11,10,6,      NIS-6,2,      6,2,20131111,2158,-11.9999,-94.0001,1765.2,2.5529,34.6245,2,34.6243,2,100.7,2,101.2,2,131.58,2,39.64,2,0,2,2.93,2,-999,9,-999,9,-999,9,-999,9,2.551,2,-999,9,-999,20131111,2212,-11.9999,-94.0001,4148,3643,3660,34.7875,2,2.551,2
325020131025,       GT13,11,10,5,      NIS-5,2,      5,2,20131111,2158,-11.9999,-94.0001,1765.8,2.5522,34.6245,2,34.6264,2,100.7,2,101.3,2,131.87,2,39.68,2,0,2,2.92,2,-999,9,-999,9,-999,9,-999,9,2.5513,2,-999,9,-999,20131111,2212,-11.9999,-94.0001,4148,3642,3660,34.7897,2,2.5513,2
325020131025,       GT13,11,10,3,      NIS-3,2,      3,2,20131111,2158,-11.9999,-94.0001,2018.9,2.2552,34.6429,2,34.6423,2,112.5,2,113.5,2,138.02,2,38.74,2,0,2,2.85,2,-999,9,-999,9,-999,9,-999,9,2.2551,2,-999,9,-999,20131111,2206,-11.9999,-94.0001,4148,3640,3660,34.8057,2,2.2551,2
325020131025,       GT13,11,10,4,      NIS-4,2,      4,2,20131111,2158,-11.9999,-94.0001,2019.2,2.2552,34.6429,2,34.6421,2,112.5,2,112.9,2,138.12,2,38.74,2,0,2,2.85,2,-999,9,-999,9,-999,9,-999,9,2.2552,2,-999,9,-999,20131111,2207,-11.9999,-94.0001,4148,3641,3660,34.8055,2,2.2552,2
325020131025,       GT13,11,10,2,      NIS-2,2,      2,2,20131111,2158,-11.9999,-94.0001,2273.1,2.0143,34.6598,2,34.6588,2,123.6,2,123.5,2,141.73,2,37.93,2,0,2,2.78,2,-999,9,-999,9,-999,9,-999,9,2.0141,2,-999,9,-999,20131111,2201,-11.9999,-94.0001,4148,3639,3660,34.8222,2,2.0141,2
325020131025,       GT13,11,10,1,      NIS-1,2,      1,2,20131111,2158,-11.9999,-94.0001,2274.1,2.0142,34.6598,2,34.6598,2,123.6,2,123.6,2,141.53,2,37.9,2,0,2,2.78,2,-999,9,-999,9,-999,9,-999,9,2.014,2,-999,9,-999,20131111,2200,-11.9999,-94.0001,4148,3638,3660,34.8232,2,2.014,2
325020131025,       GT13,11,11,12,     NIS-12,2,     12,2,20131112,135,-11.9997,-94.0001,219.5,12.0326,34.822,2,34.8205,2,1.7,2,1.6,2,28.6,2,19.95,2,2.51,2,2.63,2,-999,9,-999,9,-999,9,-999,9,12.0321,2,-999,9,-999,20131112,156,-11.9997,-94,4149,3661,3661,34.9847,2,12.0321,2
325020131025,       GT13,11,11,11,     NIS-11,2,     11,2,20131112,135,-11.9997,-94.0001,219.6,12.0326,34.8219,2,34.8207,2,1.7,2,3.2,2,28.5,2,20.09,2,2.47,2,2.63,2,-999,9,-999,9,-999,9,-999,9,12.0325,2,-999,9,-999,20131112,156,-11.9997,-94,4149,3660,3661,34.9849,2,12.0325,2
325020131025,       GT13,11,11,9,      NIS-9,2,      9,2,20131112,135,-11.9997,-94.0001,261.3,11.2311,34.7883,2,34.784,2,1.7,2,2,2,28.6,2,29.77,2,0,2,2.61,2,-999,9,-999,9,-999,9,-999,9,11.2316,2,-999,9,-999,20131112,154,-11.9997,-94,4149,3658,3661,34.948,2,11.2316,2
325020131025,       GT13,11,11,10,     NIS-10,2,     10,2,20131112,135,-11.9997,-94.0001,261.9,11.2312,34.7886,2,34.7851,2,1.7,2,2.1,2,28.69,2,29.83,2,0,2,2.61,2,-999,9,-999,9,-999,9,-999,9,11.2305,2,-999,9,-999,20131112,154,-11.9997,-94,4149,3659,3661,34.9492,2,11.2305,2
325020131025,       GT13,11,11,7,      NIS-7,2,      7,2,20131112,135,-11.9997,-94.0001,321.7,10.1296,34.728,2,34.7276,2,4.6,2,4.9,2,31.62,2,34.36,2,0,2,2.65,2,-999,9,-999,9,-999,9,-999,9,10.133,2,-999,9,-999,20131112,152,-11.9997,-94,4149,3656,3661,34.8914,2,10.133,2
325020131025,       GT13,11,11,8,      NIS-8,2,      8,2,20131112,135,-11.9997,-94.0001,322,10.1247,34.7278,2,34.7272,2,4.6,2,5.4,2,31.62,2,34.4,2,0,2,2.67,2,-999,9,-999,9,-999,9,-999,9,10.1362,2,-999,9,-999,20131112,152,-11.9997,-94,4149,3657,3661,34.891,2,10.1362,2
325020131025,       GT13,11,11,6,      NIS-6,2,      6,2,20131112,135,-11.9997,-94.0001,401.6,8.9795,34.6602,2,34.6589,2,10.9,2,11.3,2,35.24,2,38.08,2,0,2,2.76,2,-999,9,-999,9,-999,9,-999,9,8.9789,2,-999,9,-999,20131112,148,-11.9997,-94,4149,3655,3661,34.8224,2,8.9789,2
325020131025,       GT13,11,11,5,      NIS-5,2,      5,2,20131112,135,-11.9997,-94.0001,402.6,8.9767,34.6598,2,34.6621,2,10.9,2,11.2,2,35.14,2,38.1,2,0,2,2.75,2,-999,9,-999,9,-999,9,-999,9,8.9784,2,-999,9,-999,20131112,148,-11.9997,-94.0001,4149,3654,3661,34.8255,2,8.9784,2
325020131025,       GT13,11,11,3,      NIS-3,2,      3,2,20131112,135,-11.9997,-94.0001,604.5,6.571,34.5448,2,34.5424,2,35.9,2,35.6,2,49,2,42.54,2,0,2,2.95,2,-999,9,-999,9,-999,9,-999,9,6.5703,2,-999,9,-999,20131112,142,-11.9997,-94.0001,4149,3652,3661,34.7053,2,6.5703,2
325020131025,       GT13,11,11,4,      NIS-4,2,      4,2,20131112,135,-11.9997,-94.0001,604.9,6.5709,34.5445,2,34.5446,2,35.8,2,35.1,2,48.81,2,42.53,2,0,2,2.96,2,-999,9,-999,9,-999,9,-999,9,6.5717,2,-999,9,-999,20131112,142,-11.9997,-94.0001,4149,3653,3661,34.7075,2,6.5717,2
325020131025,       GT13,11,11,2,      NIS-2,2,      2,2,20131112,135,-11.9997,-94.0001,804.8,5.1805,34.526,2,34.5248,2,45,2,45.1,2,68.92,2,44.12,2,0,2,3.1,2,-999,9,-999,9,-999,9,-999,9,5.1748,2,-999,9,-999,20131112,137,-11.9997,-94,4149,3651,3661,34.6876,2,5.1748,2
325020131025,       GT13,11,11,1,      NIS-1,2,      1,2,20131112,135,-11.9997,-94.0001,805,5.179,34.5261,2,34.5266,2,45,2,45.2,2,68.92,2,44.11,2,0,2,3.1,2,-999,9,-999,9,-999,9,-999,9,5.1738,2,-999,9,-999,20131112,137,-11.9997,-94,4149,3650,3661,34.6894,2,5.1738,2
325020131025,       GT13,11,13,12,     NIS-12,2,     12,2,20131112,1117,-11.9997,-94,20.1,20.9166,35.4584,2,35.4581,2,224.6,2,225.4,2,3.51,2,9.54,2,0.33,2,0.86,2,-999,9,-999,9,-999,9,-999,9,20.9168,2,-999,9,-999,20131112,1133,-11.9997,-94,4151,3681,3662,35.6253,2,20.9168,2
325020131025,       GT13,11,13,11,     NIS-11,2,     11,2,20131112,1117,-11.9997,-94,20.7,20.9167,35.4583,2,35.4583,2,225,2,225.3,2,3.41,2,9.49,2,0.33,2,0.86,2,-999,9,-999,9,-999,9,-999,9,20.9166,2,-999,9,-999,20131112,1133,-11.9997,-94.0001,4151,3680,3662,35.6255,2,20.9166,2
325020131025,       GT13,11,13,10,     NIS-10,4,     10,4,20131112,1117,-11.9997,-94,40.2,20.9235,35.4581,2,-999,9,225.9,2,-999,9,-999,9,-999,9,-999,9,-999,9,-999,9,-999,9,-999,9,-999,9,20.9229,2,-999,9,-999,20131112,1131,-11.9997,-94.0001,4151,3679,3662,-999,9,20.9229,2
325020131025,       GT13,11,13,9,      NIS-9,2,      9,2,20131112,1117,-11.9997,-94,40.2,20.9238,35.4579,2,35.4585,2,226,2,225.5,2,3.41,2,9.45,2,0.33,2,0.86,2,-999,9,-999,9,-999,9,-999,9,20.9241,2,-999,9,-999,20131112,1131,-11.9997,-94.0001,4151,3678,3662,35.6257,2,20.9241,2
325020131025,       GT13,11,13,7,      NIS-7,2,      7,2,20131112,1117,-11.9997,-94,74.8,20.1643,35.5974,2,35.5968,2,220.9,2,221.2,2,2.34,2,5.51,2,0.31,2,0.71,2,-999,9,-999,9,-999,9,-999,9,20.1675,2,-999,9,-999,20131112,1128,-11.9997,-94,4151,3676,3662,35.7646,2,20.1675,2
325020131025,       GT13,11,13,8,      NIS-8,2,      8,2,20131112,1117,-11.9997,-94,75.3,20.1658,35.5974,2,35.5968,2,220.9,2,221,2,2.34,2,5.52,2,0.31,2,0.72,2,-999,9,-999,9,-999,9,-999,9,20.1661,2,-999,9,-999,20131112,1128,-11.9997,-94,4151,3677,3662,35.7646,2,20.1661,2
325020131025,       GT13,11,13,5,      NIS-5,2,      5,2,20131112,1117,-11.9997,-94,110.3,19.7855,35.5271,2,35.5237,2,217.1,2,217.9,2,3.02,2,7.83,2,0.54,2,0.89,2,-999,9,-999,9,-999,9,-999,9,19.7926,2,-999,9,-999,20131112,1125,-11.9998,-94,4151,3674,3662,35.6912,2,19.7926,2
325020131025,       GT13,11,13,6,      NIS-6,2,      6,2,20131112,1117,-11.9997,-94,110.9,19.7976,35.5283,2,35.5257,2,217.8,2,217.4,2,3.02,2,7.81,2,0.54,2,0.89,2,-999,9,-999,9,-999,9,-999,9,19.7979,2,-999,9,-999,20131112,1125,-11.9998,-94,4151,3675,3662,35.6932,2,19.7979,2
325020131025,       GT13,11,13,3,      NIS-3,2,      3,2,20131112,1117,-11.9997,-94,129.6,16.9907,35.1532,2,35.1504,2,155.5,2,158.8,2,3.61,2,12,2,0.2,2,1.14,2,-999,9,-999,9,-999,9,-999,9,16.9926,2,-999,9,-999,20131112,1123,-11.9997,-94.0001,4151,3672,3662,35.3161,2,16.9926,2
325020131025,       GT13,11,13,4,      NIS-4,2,      4,2,20131112,1117,-11.9997,-94,129.7,16.9477,35.1445,2,35.1323,2,155.6,2,155.7,2,3.81,2,12.4,2,0.17,2,1.17,2,-999,9,-999,9,-999,9,-999,9,16.9699,2,-999,9,-999,20131112,1123,-11.9997,-94,4151,3673,3662,35.2979,2,16.9699,2
325020131025,       GT13,11,13,2,      NIS-2,2,      2,2,20131112,1117,-11.9997,-94,180.8,12.9016,34.8124,2,34.806,2,4.8,2,7.5,2,22.64,2,20.47,2,0.07,2,2.61,2,-999,9,-999,9,-999,9,-999,9,12.9283,2,-999,9,-999,20131112,1120,-11.9997,-94,4151,3671,3662,34.9701,2,12.9283,2
325020131025,       GT13,11,13,1,      NIS-1,2,      1,2,20131112,1117,-11.9997,-94,181.3,12.8954,34.8121,2,34.8071,2,5.6,2,7,2,22.64,2,20.5,2,0.06,2,2.6,2,-999,9,-999,9,-999,9,-999,9,12.9092,2,-999,9,-999,20131112,1120,-11.9998,-94,4151,3670,3662,34.9713,2,12.9092,2