BOTTLE,20161222CCHSIORJL
EXPOCODE,SECT_ID,STNNBR,CASTNO,SAMPNO,BTLNBR,BTLNBR_FLAG_W,BTLNBR_U,BTLNBR_U_FLAG_W,DATE,TIME,LATITUDE,LONGITUDE,CTDPRS,CTDTMP,CTDSAL,CTDSAL_FLAG_W,SALNTY,SALNTY_FLAG_W,CTDOXY,CTDOXY_FLAG_W,OXYGEN,OXYGEN_FLAG_W,SILCAT,SILCAT_FLAG_W,NITRAT,NITRAT_FLAG_W,NITRIT,NITRIT_FLAG_W,PHSPHT,PHSPHT_FLAG_W,CFC-11,CFC-11_FLAG_W,CFC-12,CFC-12_FLAG_W,CFC113,CFC113_FLAG_W,SF6,SF6_FLAG_W,REFTMP,REFTMP_FLAG_W,DELC14,DELC14_FLAG_W,C14ERR,BTL_DATE,BTL_TIME,BTL_LAT,BTL_LON,GEOTR_EVENT,GEOTR_SAMPNO,DEPTH,SALTREF,SALTREF_FLAG_W,SBE35,SBE35_FLAG_W
,,,,,,,,,,,,,DBAR,ITS-90,PSS-78,,PSS-78,,UMOL/KG,,UMOL/KG,,UMOL/KG,,UMOL/KG,,UMOL/KG,,UMOL/KG,,PMOL/KG,,PMOL/KG,,PMOL/KG,,FMOL/KG,,DEG C,,/MILLE,,/MILLE,,,,,,,METERS,G/KG,,ITS-90,
325020131025,       GT13,32,10,12,     NIS-12,2,     12,2,20131212,2317,-11.0306,-142.9501,2729.8,1.8058,34.6733,2,34.6734,2,146.4,2,146,2,139.87,2,36.05,2,0,2,2.6,2,0.003763067,2,0.001025456,2,-99,5,0,2,1.806,2,-224.3,2,2.5,20131213,12,-11.0307,-142.9502,4425,10078,4954,34.8369,2,1.806,2
325020131025,       GT13,32,10,11,     NIS-11,2,     11,2,20131212,2317,-11.0306,-142.9501,2831.5,1.764,34.6759,2,34.6754,2,148.9,2,148.4,2,139.97,2,35.89,2,0,2,2.59,2,0.004692142,2,0.002117264,2,-99,5,0,2,1.7641,2,-218.5,2,2.5,20131213,10,-11.0306,-142.9501,4425,10077,4954,34.8389,2,1.7641,2
325020131025,       GT13,32,10,10,     NIS-10,2,     10,2,20131212,2317,-11.0306,-142.9501,2934.4,1.7343,34.6777,2,34.6768,2,150.3,2,149.6,2,140.36,2,35.8,2,0,2,2.59,2,0.003611339,2,0.00151305,2,-99,5,0,2,1.7344,2,-999,9,-999,20131213,7,-11.0306,-142.9502,4425,10076,4954,34.8403,2,1.7344,2
325020131025,       GT13,32,10,9,      NIS-9,2,      9,2,20131212,2317,-11.0306,-142.9501,3035.7,1.6957,34.6797,2,34.6791,2,151.8,2,151.7,2,140.75,2,35.64,2,0,2,2.58,2,0.005534961,2,0.001679938,2,-99,5,0,2,1.6958,2,-999,9,-999,20131213,4,-11.0307,-142.9502,4425,10075,4954,34.8426,2,1.6958,2
325020131025,       GT13,32,10,8,      NIS-8,2,      8,2,20131212,2317,-11.0306,-142.9501,3290.5,1.626,34.6837,2,34.6838,2,157.3,2,157.3,2,139.68,2,35.33,2,0,2,2.56,2,0.009346872,2,0.003009009,2,-99,5,0,2,1.6262,2,-225.2,2,2.5,20131212,2359,-11.0306,-142.9502,4425,10074,4954,34.8474,2,1.6262,2
325020131025,       GT13,32,10,7,      NIS-7,2,      7,2,20131212,2317,-11.0306,-142.9501,3545.1,1.5457,34.688,2,34.6874,2,163.7,2,163.8,2,138.6,2,34.95,2,0,2,2.51,2,0.004667201,2,0.001285841,2,-99,5,0,2,1.5457,2,-214,2,2.5,20131212,2353,-11.0307,-142.9501,4425,10073,4954,34.8509,2,1.5457,2
325020131025,       GT13,32,10,6,      NIS-6,2,      6,2,20131212,2317,-11.0306,-142.9501,3801.4,1.4802,34.6921,2,34.6917,2,169.3,2,169.5,2,137.53,2,34.54,2,0,2,2.48,2,0.004800223,2,0.00093598,2,-99,5,0,2,1.4792,2,-205.5,2,2.5,20131212,2347,-11.0307,-142.9502,4425,10072,4954,34.8553,2,1.4792,2
325020131025,       GT13,32,10,5,      NIS-5,2,      5,2,20131212,2317,-11.0306,-142.9501,4057.9,1.4171,34.696,2,34.6958,2,177,2,177.2,2,133.72,2,33.98,2,0,2,2.44,2,0.007382719,2,0.002180601,2,-99,5,0,2,1.4171,2,-197.7,2,2.5,20131212,2342,-11.0306,-142.9502,4425,10071,4954,34.8594,2,1.4171,2
325020131025,       GT13,32,10,4,      NIS-4,2,      4,2,20131212,2317,-11.0306,-142.9501,4568.6,1.3793,34.7004,2,34.6999,2,184.2,2,183.8,2,131.47,2,33.5,2,0,2,2.4,2,0.007710078,2,0.00196043,2,-99,5,0,2,1.3793,2,-999,9,-999,20131212,2332,-11.0306,-142.9501,4425,10070,4954,34.8636,2,1.3793,2
325020131025,       GT13,32,10,3,      NIS-3,2,      3,2,20131212,2317,-11.0306,-142.9501,4825.9,1.3893,34.7012,2,34.7017,2,184.4,2,184.1,2,131.18,2,33.48,2,0,2,2.4,2,0.009198262,2,0.00367656,2,-99,5,0,2,1.3895,2,-185.1,2,2.5,20131212,2327,-11.0306,-142.9501,4425,10069,4954,34.8653,2,1.3895,2
325020131025,       GT13,32,10,2,     NIS-22,2,      2,2,20131212,2317,-11.0306,-142.9501,4955.8,1.4008,34.7013,2,34.7011,2,185,2,184.9,2,131.77,2,33.48,2,0,2,2.39,2,0.00632374,2,0.001623638,2,-99,5,0,2,1.4009,2,-189,2,2.5,20131212,2323,-11.0306,-142.9501,4425,10068,4954,34.8648,2,1.4009,2
325020131025,       GT13,32,10,1,      NIS-1,2,      1,2,20131212,2317,-11.0306,-142.9501,5014.1,1.4073,34.7012,2,34.7009,2,184.7,2,185.3,2,132.16,2,33.47,2,0,2,2.4,2,0.009062122,2,0.002523425,2,-99,5,0,2,1.4073,2,-186.5,2,2.5,20131212,2320,-11.0306,-142.9502,4425,10067,4954,34.8646,2,1.4073,2
325020131025,       GT13,32,10,13, NIOZ_CORER,2,    13,2,20131212,2317,-11.0306,-142.9501,5029.3,-999,-999,2,-999,9,-999,9,-999,9,-999,9,-999,9,-999,9,-999,9,-999,9,-999,9,-999,9,-999,9,-999,9,-999,9,-999,20131212,2317,-11.0306,-142.9501,4425,10066,4954,-999,9,-999,9
325020131025,       GT13,32,25,25,       FISH,2,    25,2,20131212,438,-11.0725,-143.0028,3.1,28.2951,35.6773,2,35.6869,2,-999,9,-999,9,1.37,2,2.34,2,0.06,2,0.36,2,-999,9,-999,9,-999,9,-999,9,-999,9,-999,9,-999,20131212,426,-11.0564,-142.9805,4422,10035,4961,35.8551,2,-999,9
325020131025,       GT13,33,2,12,     NIS-12,2,     12,2,20131213,1320,-10.9112,-144.9993,30.2,28.4102,35.4284,2,35.4273,2,196.6,2,196.5,2,1.76,2,0.47,2,0.02,2,0.24,2,1.261873967,6,0.836313883,6,-99,5,1.0755,6,28.41,2,-999,9,-999,20131213,1352,-10.9112,-144.9993,4431,10119,4194,35.5943,2,28.41,2
325020131025,       GT13,33,2,11,     NIS-11,2,     11,2,20131213,1320,-10.9112,-144.9993,50.9,28.3836,35.5011,2,35.5029,2,197.4,2,197.1,2,1.66,2,0.36,2,0.02,2,0.23,2,1.272335418,2,0.85707182,2,-99,5,1.112,2,28.3808,2,-999,9,-999,20131213,1351,-10.9112,-144.9992,4431,10118,4194,35.6703,2,28.3808,2
325020131025,       GT13,33,2,10,     NIS-10,2,     10,2,20131213,1320,-10.9112,-144.9993,90,27.3466,36.0781,2,36.0772,2,203.9,2,203.9,2,1.85,2,0.22,2,0.03,2,0.26,2,1.359644597,2,0.892420885,2,-99,5,1.119,2,27.3374,2,-999,9,-999,20131213,1348,-10.9113,-144.9992,4431,10117,4194,36.2473,2,27.3374,2
325020131025,       GT13,33,2,9,      NIS-9,2,      9,2,20131213,1320,-10.9112,-144.9993,140,24.9311,36.3258,2,36.3269,2,183.6,2,184.4,2,1.56,2,0.32,2,1.48,2,0.36,2,1.485160181,2,0.964177647,2,-99,5,1.076,2,24.9228,2,-999,9,-999,20131213,1346,-10.9113,-144.9992,4431,10116,4194,36.4982,2,24.9228,2
325020131025,       GT13,33,2,8,      NIS-8,2,      8,2,20131213,1320,-10.9112,-144.9993,200.7,20.9942,35.9781,2,35.9678,2,174.5,2,174.9,2,1.27,2,4.27,2,0.02,2,0.49,2,1.774840467,2,1.147339108,2,-99,5,1.134,2,20.9964,2,-999,9,-999,20131213,1344,-10.9113,-144.9992,4431,10115,4194,36.1374,2,20.9964,2
325020131025,       GT13,33,2,7,      NIS-7,2,      7,2,20131213,1320,-10.9112,-144.9993,250.4,17.5949,35.3821,2,35.3781,2,155.1,2,154.3,2,3.32,2,9.42,2,0.02,2,0.91,2,1.957871426,2,1.245383728,2,-99,5,1.036,2,17.5702,3,-999,9,-999,20131213,1342,-10.9112,-144.9992,4431,10114,4194,35.5449,2,17.5702,3
325020131025,       GT13,33,2,6,      NIS-6,2,      6,2,20131213,1320,-10.9112,-144.9993,300.5,12.448,34.7621,2,34.7637,2,84,2,84,2,12.98,2,21.57,2,0,2,1.85,2,1.554795105,2,0.901185515,2,-99,5,0.517,2,12.4381,2,-999,9,-999,20131213,1340,-10.9113,-144.9992,4431,10113,4194,34.9276,2,12.4381,2
325020131025,       GT13,33,2,5,      NIS-5,2,      5,2,20131213,1320,-10.9112,-144.9993,349.9,10.1353,34.6859,2,34.6871,2,75.6,2,75.2,2,22.35,2,28.62,2,0,2,2.16,2,0.744395113,2,0.409206071,2,-99,5,0.139,2,10.1369,2,-999,9,-999,20131213,1338,-10.9113,-144.9992,4431,10112,4194,34.8507,2,10.1369,2
325020131025,       GT13,33,2,4,      NIS-4,2,      4,2,20131213,1320,-10.9112,-144.9993,451.2,8.2441,34.6192,2,34.6189,2,95.5,2,95.2,2,31.04,2,32.08,2,0,2,2.25,2,0.366078546,2,0.208678216,2,-99,5,0.068,2,8.2417,2,-999,9,-999,20131213,1335,-10.9113,-144.9992,4431,10111,4194,34.7821,2,8.2417,2
325020131025,       GT13,33,2,3,      NIS-3,2,      3,2,20131213,1320,-10.9112,-144.9993,602.4,6.8859,34.561,2,34.5616,2,77,2,77.9,2,43.73,2,37.05,2,0,2,2.6,2,0.122171328,2,0.071242024,2,-99,5,0,2,6.885,2,-999,9,-999,20131213,1332,-10.9113,-144.9992,4431,10110,4194,34.7246,2,6.885,2
325020131025,       GT13,33,2,2,     NIS-22,2,      2,2,20131213,1320,-10.9112,-144.9993,804.8,5.5745,34.5282,2,34.5282,2,74.5,2,74.6,2,59.94,2,40.02,2,0,2,2.82,2,0.021998509,2,0.012318537,2,-99,5,0,2,5.5755,2,-999,9,-999,20131213,1327,-10.9112,-144.9992,4431,10109,4194,34.6911,2,5.5755,2
325020131025,       GT13,33,2,1,      NIS-1,2,      1,2,20131213,1320,-10.9112,-144.9993,1007.2,4.3587,34.5289,2,34.529,2,103.1,2,103.3,2,77.51,2,38.52,2,0,2,2.75,2,0.013125527,2,0.004153095,2,-99,5,0,2,4.3579,2,-999,9,-999,20131213,1322,-10.9113,-144.9992,4431,10108,4194,34.6919,2,4.3579,2
325020131025,       GT13,33,25,25,       FISH,2,   25,2,20131213,1431,-10.9134,-145.0261,3,28.3976,35.4297,2,35.4215,2,-999,9,-999,9,1.95,2,0.48,2,0.02,2,0.24,2,-999,9,-999,9,-999,9,-999,9,-999,9,-999,9,-999,20131213,1425,-10.9135,-145.0198,4433,10121,4425,35.5885,2,-999,9
325020131025,       GT13,34,2,12,     NIS-12,2,     12,2,20131214,541,-10.7655,-147.5003,30.6,28.442,35.3689,2,35.3676,2,196.8,2,196.7,2,1.56,2,1.52,2,0.04,2,0.29,2,1.261177161,2,0.858655244,2,-99,5,1.082,2,28.4411,2,28.7,2,2.5,20131214,623,-10.7655,-147.5003,4437,10158,4865,35.5343,2,28.4411,2
325020131025,       GT13,34,2,11,     NIS-11,2,     11,2,20131214,541,-10.7655,-147.5003,44.3,28.6872,35.5479,2,35.5105,2,196.4,2,196.3,2,1.66,2,2.08,2,0.06,2,0.34,2,1.280752175,2,0.851952584,2,-99,5,1.037,2,28.6989,2,-999,9,-999,20131214,622,-10.7655,-147.5003,4437,10157,4865,35.6779,2,28.6989,2
325020131025,       GT13,34,2,10,     NIS-10,2,     10,2,20131214,541,-10.7655,-147.5003,75.7,28.4131,35.6614,2,35.6575,2,196,2,195.4,2,1.66,2,2.97,2,0.09,2,0.41,2,1.267129894,2,0.850476732,2,-99,5,1.068,2,28.3993,2,27.5,2,2.5,20131214,620,-10.7655,-147.5003,4437,10156,4865,35.8256,2,28.3993,2
325020131025,       GT13,34,2,9,      NIS-9,2,      9,2,20131214,541,-10.7655,-147.5003,130.1,26.4368,35.8459,2,35.8438,2,163.8,2,164.1,2,1.95,2,4.83,2,1.79,2,0.62,2,1.372750899,6,0.917667201,6,-99,5,1.07,6,26.4194,2,27.5,2,2.5,20131214,617,-10.7655,-147.5003,4437,10155,4865,36.0128,2,26.4194,2
325020131025,       GT13,34,2,8,      NIS-8,2,      8,2,20131214,541,-10.7655,-147.5003,150.5,25.1039,36.0369,2,36.0374,2,154.1,2,155.1,2,1.76,2,6.32,2,0.57,2,0.66,2,1.46266284,2,0.968373973,2,-99,5,1.081,2,25.0989,2,37.4,2,2.5,20131214,616,-10.7655,-147.5003,4437,10154,4865,36.2073,2,25.0989,2
325020131025,       GT13,34,2,7,      NIS-7,2,      7,2,20131214,541,-10.7655,-147.5003,225.7,19.656,35.719,2,35.7066,2,158.2,2,158.2,2,2.15,2,7.69,2,0.02,2,0.75,2,1.786768797,2,1.146485567,2,-99,5,1.112,2,19.6625,2,42.5,2,2.5,20131214,613,-10.7655,-147.5003,4437,10153,4865,35.8749,2,19.6625,2
325020131025,       GT13,34,2,6,      NIS-6,2,      6,2,20131214,541,-10.7655,-147.5003,300.8,12.0679,34.7535,2,34.7535,2,77.3,2,77.5,2,14.84,2,23.32,2,0,2,1.89,2,1.338849522,2,0.79674185,2,-99,5,0.479,2,12.0415,3,1,2,2.5,20131214,611,-10.7655,-147.5003,4437,10152,4865,34.9174,2,12.0415,3
325020131025,       GT13,34,2,5,      NIS-5,2,      5,2,20131214,541,-10.7655,-147.5003,351.4,10.0775,34.6724,2,34.6743,2,88.5,2,88.6,2,21.38,2,27.59,2,0,2,2.02,2,0.806887381,2,0.459972158,2,-99,5,0.182,2,10.0892,2,-38.2,2,2.5,20131214,609,-10.7655,-147.5004,4437,10151,4865,34.8378,2,10.0892,2
325020131025,       GT13,34,2,4,      NIS-4,2,      4,2,20131214,541,-10.7655,-147.5003,501.3,7.6449,34.571,2,34.5713,2,117.7,2,117.8,2,31.82,2,31.31,2,0,2,2.13,2,0.412896045,2,0.228574067,2,-99,5,0.035,2,7.6419,2,-76.1,2,2.5,20131214,605,-10.7655,-147.5003,4437,10150,4865,34.7343,2,7.6419,2
325020131025,       GT13,34,2,3,      NIS-3,2,      3,2,20131214,541,-10.7655,-147.5003,753.5,5.7756,34.5159,2,34.5191,2,105.8,2,106.5,2,52.23,2,36.34,2,0,2,2.49,2,0.09635987,2,0.058507272,2,-99,5,0,2,5.7732,2,-133.4,2,2.5,20131214,559,-10.7655,-147.5003,4437,10149,4865,34.6819,2,5.7732,2
325020131025,       GT13,34,2,2,     NIS-22,2,      2,2,20131214,541,-10.7655,-147.5003,1007.5,4.4695,34.5249,2,34.5252,2,105.4,2,105.1,2,74.97,2,38.33,2,0,2,2.66,2,0.011631109,2,0.006496563,2,-99,5,0,2,4.469,2,-168.8,2,2.5,20131214,552,-10.7655,-147.5003,4437,10148,4865,34.688,2,4.469,2
325020131025,       GT13,34,2,1,      NIS-1,2,      1,2,20131214,541,-10.7655,-147.5003,1512.5,2.9215,34.5888,2,34.5889,2,126,2,126,2,109.23,2,37.41,2,0,2,2.64,2,0.011566676,2,0.003431255,2,-99,5,0,2,2.9212,2,-214.1,2,2.5,20131214,543,-10.7655,-147.5004,4437,10147,4865,34.752,2,2.9212,2
325020131025,       GT13,34,6,12,     NIS-12,2,     12,2,20131214,2042,-10.7644,-147.5008,2018.2,2.1849,34.6368,2,34.6366,2,142.1,2,142.3,2,123.77,2,36.17,2,0,2,2.56,2,0.004552885,2,0.001745285,2,-99,5,0,2,2.1854,2,-999,9,-999,20131214,2150,-10.7644,-147.5008,4443,10204,4857,34.7999,2,2.1854,2
325020131025,       GT13,34,6,11,     NIS-11,2,     11,2,20131214,2042,-10.7644,-147.5008,2119.7,2.0911,34.6449,2,34.6442,2,142.3,2,143.1,2,126.7,2,36.14,2,0,2,2.56,2,0.005388429,2,0.002270077,2,-99,5,0,2,2.0908,2,-226.8,2,2.5,20131214,2144,-10.7644,-147.5008,4443,10203,4857,34.8076,2,2.0908,2
325020131025,       GT13,34,6,10,     NIS-10,2,     10,2,20131214,2042,-10.7644,-147.5008,2222.5,2.0051,34.6524,2,34.6525,2,143.8,2,143.3,2,129.23,2,36.05,2,0,2,2.56,2,0.004312822,2,0.001861906,2,-99,5,0,2,2.0055,2,-999,9,-999,20131214,2141,-10.7645,-147.5008,4443,10202,4857,34.8159,2,2.0055,2
325020131025,       GT13,34,6,9,      NIS-9,2,      9,2,20131214,2042,-10.7644,-147.5008,2323.3,1.9438,34.6582,2,34.6578,2,145.7,2,144.5,2,130.99,2,36.03,2,0,2,2.56,2,0.005052756,2,0.002821008,2,-99,5,0,2,1.944,2,-229.4,2,2.5,20131214,2138,-10.7644,-147.5008,4443,10201,4857,34.8212,2,1.944,2
325020131025,       GT13,34,6,8,      NIS-8,2,      8,2,20131214,2042,-10.7644,-147.5008,2425.1,1.9008,34.6637,2,34.6627,2,144.1,2,142.6,2,134.6,2,36.18,2,0,2,2.57,2,0.006046264,2,0.001699039,2,-99,5,0,2,1.9008,2,-999,9,-999,20131214,2135,-10.7644,-147.5008,4443,10200,4857,34.8261,2,1.9008,2
325020131025,       GT13,34,6,7,      NIS-7,2,      7,2,20131214,2042,-10.7644,-147.5008,2525.9,1.8511,34.6682,2,34.668,2,143.2,2,143.7,2,136.07,2,36.09,2,0,2,2.57,2,0.00408419,2,0.001272771,2,-99,5,0,2,1.8508,2,-232.5,2,2.5,20131214,2132,-10.7645,-147.5008,4443,10199,4857,34.8314,2,1.8508,2
325020131025,       GT13,34,6,6,      NIS-6,2,      6,2,20131214,2042,-10.7644,-147.5008,2628.7,1.8133,34.6714,2,34.6711,2,144.1,2,147,3,137.53,2,36,2,0,2,2.56,2,0.003585358,2,0.001274782,2,-99,5,0,2,1.8135,2,-999,9,-999,20131214,2130,-10.7645,-147.5008,4443,10198,4857,34.8346,2,1.8135,2
325020131025,       GT13,34,6,5,      NIS-5,2,      5,2,20131214,2042,-10.7644,-147.5008,2731,1.7667,34.6747,2,34.6748,2,146.5,2,146.4,2,138.6,2,35.92,2,0,2,2.55,2,0.003963639,2,0.002369607,2,-99,5,0,2,1.7669,2,-231,2,2.5,20131214,2127,-10.7645,-147.5008,4443,10197,4857,34.8383,2,1.7669,2
325020131025,       GT13,34,6,4,      NIS-4,2,      4,2,20131214,2042,-10.7644,-147.5008,2832.6,1.7398,34.6762,2,34.6758,2,148.9,2,149.4,2,138.7,2,35.8,2,0,2,2.54,2,0.004439608,2,0.001749307,2,-99,5,0,2,1.7399,2,-999,9,-999,20131214,2124,-10.7644,-147.5008,4443,10196,4857,34.8393,2,1.7399,2
325020131025,       GT13,34,6,3,      NIS-3,2,      3,2,20131214,2042,-10.7644,-147.5008,2933.9,1.7042,34.6787,2,34.6795,2,150.7,2,150.8,2,139.38,2,35.6,2,0,2,2.54,2,0.004218251,2,0.001776451,2,-99,5,0,2,1.7043,2,-228.3,2,2.5,20131214,2120,-10.7645,-147.5008,4443,10195,4857,34.8431,2,1.7043,2
325020131025,       GT13,34,6,2,     NIS-22,2,      2,2,20131214,2042,-10.7644,-147.5008,3036.3,1.6678,34.6806,2,34.6795,2,152.9,2,153,2,139.68,2,35.59,2,0,2,2.53,2,0.003261117,2,0.000905819,2,-99,5,0,2,1.6677,2,-999,9,-999,20131214,2116,-10.7645,-147.5008,4443,10194,4857,34.8431,2,1.6677,2
325020131025,       GT13,34,6,1,      NIS-1,2,      1,2,20131214,2042,-10.7644,-147.5008,4927.1,1.3727,34.7024,2,34.7019,2,188.1,2,188.4,2,127.86,2,33.07,2,0,2,2.33,2,0.009204497,2,0.003260346,2,-99,5,0,2,1.3726,2,-187.2,2,2.5,20131214,2044,-10.7644,-147.5008,4443,10193,4857,34.8656,2,1.3726,2
325020131025,       GT13,34,6,13, NIOZ_CORER,2,    13,2,20131214,2042,-10.7644,-147.5008,4937.8,-999,-999,2,-999,9,-999,9,-999,9,-999,9,-999,9,-999,9,-999,9,-999,9,-999,9,-999,9,-999,9,-999,9,-999,9,-999,20131214,2042,-10.7644,-147.5008,4443,10192,4857,-999,9,-999,9
325020131025,       GT13,34,25,25,       FISH,2,   25,2,20131214,2312,-10.7591,-147.5365,3.1,28.4135,35.4152,2,35.4028,2,-999,9,-999,9,2.54,2,1.55,2,0.04,2,0.29,2,-999,9,-999,9,-999,9,-999,9,-999,9,-999,9,-999,20131214,2301,-10.7616,-147.525,4445,10210,5237,35.5697,2,-999,9
325020131025,       GT13,35,2,12,     NIS-12,2,     12,2,20131215,1321,-10.25,-149.997,29.9,28.5003,35.347,2,35.3489,2,196.9,2,-999,5,1.76,2,1.47,2,0.04,2,0.28,2,1.257095049,2,0.825168084,2,-99,5,1.101,2,28.4999,2,-999,9,-999,20131215,1356,-10.25,-149.997,4450,10247,4874,35.5155,2,28.4999,2
325020131025,       GT13,35,2,11,     NIS-11,2,     11,2,20131215,1321,-10.25,-149.997,45.5,28.5206,35.3517,2,35.3526,2,196.5,2,196.2,2,1.95,2,1.47,2,0.04,2,0.29,2,1.246471998,2,0.819898046,2,-99,5,1.1,2,28.5187,2,-999,9,-999,20131215,1354,-10.25,-149.997,4450,10246,4874,35.5193,2,28.5187,2
325020131025,       GT13,35,2,10,     NIS-10,2,     10,2,20131215,1321,-10.25,-149.997,64.8,28.5737,35.413,2,35.3835,2,195.6,2,195.7,2,2.24,2,1.52,2,0.05,2,0.3,2,1.248636722,2,0.823882243,2,-99,5,1.06,2,28.5592,2,-999,9,-999,20131215,1353,-10.25,-149.997,4450,10245,4874,35.5503,2,28.5592,2
325020131025,       GT13,35,2,9,      NIS-9,2,      9,2,20131215,1321,-10.25,-149.997,106,27.302,35.9047,2,35.8969,2,177.3,2,177.1,2,1.85,2,1.65,2,0.5,2,0.41,2,1.335680897,2,0.876958622,2,-99,5,1.077,2,27.2996,2,-999,9,-999,20131215,1351,-10.2499,-149.997,4450,10244,4874,36.0661,2,27.2996,2
325020131025,       GT13,35,2,8,      NIS-8,2,      8,2,20131215,1321,-10.25,-149.997,151.1,23.2878,36.2237,2,36.2228,2,161.2,2,161.1,2,1.56,2,5.46,2,0.1,2,0.58,2,1.582995763,6,1.031041378,6,-99,5,1.109,6,23.3223,3,-999,9,-999,20131215,1348,-10.25,-149.997,4450,10243,4874,36.3936,2,23.3223,3
325020131025,       GT13,35,2,7,      NIS-7,2,      7,2,20131215,1321,-10.25,-149.997,200.4,20.3039,35.8295,2,35.8296,2,164.1,2,163.5,2,2.05,2,6.65,2,0.02,2,0.67,2,1.770152482,2,1.13964417,2,-99,5,1.152,2,20.2907,2,-999,9,-999,20131215,1346,-10.25,-149.997,4450,10242,4874,35.9985,2,20.2907,2
325020131025,       GT13,35,2,6,      NIS-6,2,      6,2,20131215,1321,-10.25,-149.997,280.3,14.3391,34.9923,2,34.9951,2,91.2,2,94.4,2,10.05,2,18.45,2,0,2,1.57,2,1.657502617,2,0.992342491,2,-99,5,0.69,2,14.3185,2,-999,9,-999,20131215,1343,-10.25,-149.997,4450,10241,4874,35.1601,2,14.3185,2
325020131025,       GT13,35,2,5,      NIS-5,2,      5,2,20131215,1321,-10.25,-149.997,321.3,11.4039,34.756,2,34.7586,2,72.2,2,72.4,2,18.15,2,25.76,2,0,2,1.99,2,1.040568534,2,0.602648227,2,-99,5,0.288,2,11.3571,3,-999,9,-999,20131215,1340,-10.25,-149.997,4450,10240,4874,34.9225,2,11.3571,3
325020131025,       GT13,35,2,4,      NIS-4,2,      4,2,20131215,1321,-10.25,-149.997,361.7,9.7374,34.6911,2,34.6911,2,87.5,2,87.1,2,23.91,2,28.93,2,0,2,2.08,2,0.65836627,2,0.381867624,2,-99,5,0.123,2,9.733,2,-999,9,-999,20131215,1338,-10.25,-149.997,4450,10239,4874,34.8547,2,9.733,2
325020131025,       GT13,35,2,3,      NIS-3,2,      3,2,20131215,1321,-10.25,-149.997,467.2,7.8014,34.5959,2,34.5966,2,98.7,2,98.4,2,33.87,2,32.92,2,0,2,2.25,2,0.314659318,2,0.181461417,2,-99,5,0.064,2,7.8014,2,-999,9,-999,20131215,1334,-10.25,-149.997,4450,10238,4874,34.7597,2,7.8014,2
325020131025,       GT13,35,2,2,     NIS-22,2,      2,2,20131215,1321,-10.25,-149.997,755,5.7369,34.5252,2,34.5248,2,97.7,2,97.6,2,55.25,2,37.28,2,0,2,2.59,2,0.065226493,2,0.038949219,2,-99,5,0,2,5.7307,2,-999,9,-999,20131215,1328,-10.25,-149.997,4450,10237,4874,34.6876,2,5.7307,2
325020131025,       GT13,35,2,1,      NIS-1,2,      1,2,20131215,1321,-10.25,-149.997,1007.6,4.4393,34.5314,2,34.5313,2,105.2,2,105.5,2,77.02,2,38.16,2,0,2,2.68,2,0.013169175,2,0.00664636,2,-99,5,0,2,4.4389,2,-999,9,-999,20131215,1323,-10.25,-149.997,4450,10236,4874,34.6941,2,4.4389,2
325020131025,       GT13,35,25,25,       FISH,2,   25,2,20131215,1435,-10.224,-150.0163,3.1,28.4961,35.3467,2,35.3935,2,-999,9,-999,9,2.34,2,1.6,2,0.04,2,0.29,2,-999,9,-999,9,-999,9,-999,9,-999,9,-999,9,-999,20131215,1428,-10.2294,-150.0105,4452,10249,4764,35.5604,2,-999,9