BOTTLE,20130610PRINUNIVRMK
EXPOCODE,SECT_ID,STNNBR,CASTNO,SAMPNO,BTLNBR,BTLNBR_FLAG_W,DATE,TIME,LATITUDE,LONGITUDE,DEPTH,CTDPRS,CTDTMP,CTDSAL,CTDSAL_FLAG_W,SALNTY,SALNTY_FLAG_W,CTDOXY,CTDOXY_FLAG_W,OXYGEN,OXYGEN_FLAG_W,SILCAT,SILCAT_FLAG_W,NITRAT,NITRAT_FLAG_W,PHSPHT,PHSPHT_FLAG_W,CFC-11,CFC-11_FLAG_W,CFC-12,CFC-12_FLAG_W,CFC113,CFC113_FLAG_W,CCL4,CCL4_FLAG_W,MCHFRM,MCHFRM_FLAG_W,TCARBN,TCARBN_FLAG_W,ALKALI,ALKALI_FLAG_W,THETA,BTL_DATE,BTL_TIME
,,,,,,,,,,,METERS,DBAR,ITS-90,PSS-78,,PSS-78,,UMOL/KG,,UMOL/KG,,UMOL/KG,,UMOL/KG,,UMOL/KG,,PMOL/KG,,PMOL/KG,,PMOL/KG,,PMOL/KG,,PMOL/KG,,UMOL/KG,,UMOL/KG,,DEG C,,
  18HU20000520, AR07W,    26,  1, 229254,      1,2,20000524,2257, 55.1108, -54.1352, 2918,    937.1,   3.4832,  34.8420,2,  34.8538,2,    279.5,2,    287.0,2,     8.99,6,    15.05,6,     1.13,6,    4.066,2,    2.328,2,    0.309,2,    3.398,2,    6.955,2,   2159.6,2,   2315.5,2,   3.4159, 20000524,     2257
  18HU20000520, AR07W,    26,  1, 229255,      2,2,20000524,2257, 55.1108, -54.1352, 2918,    859.6,   3.5090,  34.8414,2,  34.8528,6,    279.7,2,    284.7,2,     8.87,6,    14.90,6,     1.14,6,    4.025,2,    2.423,2,    0.303,2,    3.378,2,    6.628,2,   2158.2,2,   -999.0,9,   3.4477, 20000524,     2259
  18HU20000520, AR07W,    26,  1, 229256,      3,2,20000524,2257, 55.1108, -54.1352, 2918,    789.8,   3.5231,  34.8333,2,  34.8446,2,    282.4,2,    287.3,2,     8.63,6,    14.58,6,     1.12,6,    4.180,2,    2.376,2,    0.312,2,    3.560,2,    6.262,2,   2156.9,2,   2314.6,2,   3.4671, 20000524,     2300
  18HU20000520, AR07W,    26,  1, 229257,      4,2,20000524,2257, 55.1108, -54.1352, 2918,    698.6,   3.5827,  34.8338,2,  34.8450,2,    282.9,2,    287.5,2,     8.39,6,    14.76,6,     1.09,6,    4.152,2,    2.459,2,    0.323,2,    3.552,2,    6.412,2,   2156.5,2,   2318.0,3,   3.5333, 20000524,     2302
  18HU20000520, AR07W,    26,  1, 229258,      5,2,20000524,2257, 55.1108, -54.1352, 2918,    589.3,   3.6455,  34.8298,2,  34.8407,2,    282.8,2,    287.3,6,     8.22,6,    14.43,6,     1.10,6,    4.203,2,    2.365,2,    0.314,2,    3.559,2,    6.154,2,   2152.3,2,   2318.0,2,   3.6040, 20000524,     2305
  18HU20000520, AR07W,    26,  1, 229259,      6,2,20000524,2257, 55.1108, -54.1352, 2918,    467.9,   3.7512,  34.8303,2,  34.8416,2,    280.6,2,    284.8,2,     8.38,6,    14.76,6,     1.10,6,    4.112,2,    2.295,2,    0.308,2,    3.416,2,    5.912,2,   2153.0,2,   2327.8,2,   3.7183, 20000524,     2307
  18HU20000520, AR07W,    26,  1, 229260,      7,2,20000524,2257, 55.1108, -54.1352, 2918,    361.4,   3.8543,  34.8311,2,  34.8418,2,    280.7,2,    284.2,2,     8.39,6,    14.52,6,     1.11,6,    4.236,2,    2.421,6,    0.315,2,    3.460,6,    5.936,2,   2152.4,2,   2305.7,2,   3.8289, 20000524,     2309
  18HU20000520, AR07W,    26,  1, 229261,      8,2,20000524,2257, 55.1108, -54.1352, 2918,    260.1,   3.7200,  34.7788,2,  34.7889,2,    290.5,2,    293.9,2,     8.21,6,    14.17,6,     1.09,6,    4.427,2,    2.645,2,    0.339,2,    3.888,2,    5.909,2,   2147.2,2,   2310.7,2,   3.7022, 20000524,     2313
  18HU20000520, AR07W,    26,  1, 229262,      9,2,20000524,2257, 55.1108, -54.1352, 2918,    170.2,   3.5718,  34.7191,2,  34.7292,2,    303.4,2,    307.2,2,     7.89,6,    12.78,6,     1.05,6,    4.982,3,    2.993,3,    0.365,2,    4.493,3,    5.660,2,   2141.1,2,   2318.6,2,   3.5605, 20000524,     2314
  18HU20000520, AR07W,    26,  1, 229263,     10,2,20000524,2257, 55.1108, -54.1352, 2918,     99.4,   3.6544,  34.6932,2,  34.7034,2,    299.3,2,    302.2,2,     8.01,6,    13.09,6,     1.05,6,    4.690,2,    2.822,2,    0.335,2,    4.221,2,    5.675,2,   2146.0,2,   2311.6,2,   3.6478, 20000524,     2316
  18HU20000520, AR07W,    26,  1, 229264,     11,2,20000524,2257, 55.1108, -54.1352, 2918,     79.1,   3.6826,  34.6746,2,  34.6883,2,    298.5,2,    301.8,2,     8.03,6,    13.15,6,     1.05,6, -999.000,9, -999.000,9, -999.000,9, -999.000,9, -999.000,9,   -999.0,9,   -999.0,9,   3.6773, 20000524,     2317
  18HU20000520, AR07W,    26,  1, 229265,     12,2,20000524,2257, 55.1108, -54.1352, 2918,     60.3,   3.5603,  34.6329,2,  34.6464,2,    304.5,2,    306.8,2,     7.63,6,    12.43,6,     1.01,6, -999.000,9, -999.000,9, -999.000,9, -999.000,9, -999.000,9,   -999.0,9,   -999.0,9,   3.5564, 20000524,     2318
  18HU20000520, AR07W,    26,  1, 229266,     13,2,20000524,2257, 55.1108, -54.1352, 2918,     47.7,   3.4315,  34.5840,2,  34.5932,2,    310.8,2,    314.3,2,     7.86,6,    11.62,6,     0.99,6,    4.979,2,    3.008,2,    0.376,2,    4.610,2,    5.919,2,   2136.4,2,   2307.2,2,   3.4284, 20000524,     2319
  18HU20000520, AR07W,    26,  1, 229267,     14,2,20000524,2257, 55.1108, -54.1352, 2918,     38.3,   3.4039,  34.5711,2,  34.5814,2,    314.6,2,    317.9,2,     7.86,6,    11.22,6,     0.98,6, -999.000,9, -999.000,9, -999.000,9, -999.000,9, -999.000,9,   -999.0,9,   -999.0,9,   3.4015, 20000524,     2320
  18HU20000520, AR07W,    26,  1, 229268,     15,2,20000524,2257, 55.1108, -54.1352, 2918,     29.6,   3.2268,  34.5013,2,  34.5258,2,    318.2,2,    320.8,2,     7.82,6,    10.86,6,     0.99,6, -999.000,9, -999.000,9, -999.000,9, -999.000,9, -999.000,9,   -999.0,9,   -999.0,9,   3.2250, 20000524,     2321
  18HU20000520, AR07W,    26,  1, 229269,     16,2,20000524,2257, 55.1108, -54.1352, 2918,     19.1,   2.6031,  34.1696,2,  34.1219,2,    323.9,2,    329.2,2,     8.02,6,     9.48,6,     0.95,6, -999.000,9, -999.000,9, -999.000,9, -999.000,9, -999.000,9,   -999.0,9,   -999.0,9,   2.6020, 20000524,     2321
  18HU20000520, AR07W,    26,  1, 229270,     17,2,20000524,2257, 55.1108, -54.1352, 2918,      8.9,   1.8251,  33.8865,2,  33.8977,2,    328.8,2,    335.1,2,     8.16,6,     8.67,6,     0.93,6,    5.871,2,    3.500,2,    0.427,2,    5.726,2,    6.816,2,   2115.3,2,   2281.0,2,   1.8247, 20000524,     2322
  18HU20000520, AR07W,    26,  1, 229271,     18,2,20000524,2257, 55.1108, -54.1352, 2918,      2.5,   1.7935,  33.8774,2,  33.8870,2,    329.1,2,    334.8,2,     8.09,6,     8.72,6,     0.95,6, -999.000,9, -999.000,9, -999.000,9, -999.000,9, -999.000,9,   -999.0,9,   -999.0,9,   1.7934, 20000524,     2323
  18HU20000520, AR07W,    36,  1, 229272,      1,2,20000526,0137, 56.8405, -53.9782,  925,   1001.1,   3.1655,  34.8132,2,-999.0000,9,    285.2,2,   -999.0,9,  -999.00,9,  -999.00,9,  -999.00,9, -999.000,9, -999.000,9, -999.000,9, -999.000,9, -999.000,9,   -999.0,9,   -999.0,9,   3.0957, 20000526,      137
  18HU20000520, AR07W,    36,  1, 229273,      2,2,20000526,0137, 56.8405, -53.9782,  925,   1001.2,   3.1664,  34.8133,2,-999.0000,9,    285.1,2,   -999.0,9,  -999.00,9,  -999.00,9,  -999.00,9, -999.000,9, -999.000,9, -999.000,9, -999.000,9, -999.000,9,   -999.0,9,   -999.0,9,   3.0966, 20000526,      137
  18HU20000520, AR07W,    36,  1, 229274,      3,2,20000526,0137, 56.8405, -53.9782,  925,   1001.6,   3.1694,  34.8138,2,-999.0000,9,    285.1,2,   -999.0,9,  -999.00,9,  -999.00,9,  -999.00,9, -999.000,9, -999.000,9, -999.000,9, -999.000,9, -999.000,9,   -999.0,9,   -999.0,9,   3.0995, 20000526,      137
  18HU20000520, AR07W,    36,  1, 229275,      4,2,20000526,0137, 56.8405, -53.9782,  925,   1001.7,   3.1696,  34.8138,2,-999.0000,9,    285.0,2,   -999.0,9,  -999.00,9,  -999.00,9,  -999.00,9, -999.000,9, -999.000,9, -999.000,9, -999.000,9, -999.000,9,   -999.0,9,   -999.0,9,   3.0997, 20000526,      138
  18HU20000520, AR07W,    36,  1, 229276,      5,2,20000526,0137, 56.8405, -53.9782,  925,   1002.0,   3.1677,  34.8135,2,-999.0000,9,    284.9,2,   -999.0,9,  -999.00,9,  -999.00,9,  -999.00,9, -999.000,9, -999.000,9, -999.000,9, -999.000,9, -999.000,9,   -999.0,9,   -999.0,9,   3.0978, 20000526,      138
  18HU20000520, AR07W,    39,  1, 229277,      1,2,20000526,0755, 56.1095, -53.1213, 3261,   3378.4,   1.4231,  34.8495,2,-999.0000,9,    280.9,2,   -999.0,9,  -999.00,9,  -999.00,9,  -999.00,9, -999.000,9, -999.000,9, -999.000,9, -999.000,9, -999.000,9,   -999.0,9,   -999.0,9,   1.1702, 20000526,      755
  18HU20000520, AR07W,    39,  1, 229278,      2,2,20000526,0755, 56.1095, -53.1213, 3261,   3300.0,   1.5010,  34.8513,2,  34.8621,2,    278.5,2,    297.0,2,     9.78,6,    13.94,6,     0.99,6,    3.427,2,    1.712,2,    0.259,2,    3.188,2,    5.871,2,   2157.4,4,   2290.5,2,   1.2540, 20000526,      757
  18HU20000520, AR07W,    39,  1, 229279,      3,2,20000526,0755, 56.1095, -53.1213, 3261,   3219.5,   1.6829,  34.8552,2,  34.8662,2,    276.4,2,    295.7,2,     9.62,6,    14.11,6,     0.99,6,    3.310,2,    1.693,2,    0.266,2,    3.011,2,    5.779,2,   2153.1,4,   -999.0,9,   1.4396, 20000526,      759
  18HU20000520, AR07W,    39,  1, 229280,      4,2,20000526,0755, 56.1095, -53.1213, 3261,   3120.3,   2.0864,  34.8703,2,  34.8814,2,    270.4,2,    288.0,2,    11.22,6,    14.84,6,     1.02,6,    2.715,2,    1.314,2,    0.213,2,    2.624,2,    4.887,2,   2154.8,4,   2299.1,2,   1.8437, 20000526,      801
  18HU20000520, AR07W,    39,  1, 229281,      5,2,20000526,0755, 56.1095, -53.1213, 3261,   3000.0,   2.3025,  34.8797,2,  34.8908,2,    267.8,2,    283.9,2,    11.87,6,    15.35,6,     1.03,6,    2.437,2,    1.232,2,    0.134,2,    2.331,2,    3.742,2,   2155.4,4,   -999.0,9,   2.0670, 20000526,      803
  18HU20000520, AR07W,    39,  1, 229282,      6,2,20000526,0755, 56.1095, -53.1213, 3261,   2859.3,   2.4978,  34.8810,2,  34.8925,6,    266.9,2,    283.1,2,    11.36,6,    15.36,6,     1.04,6,    2.554,2,    1.290,2,    0.204,2,    2.439,2,    4.035,2,   2159.1,4,   2290.0,2,   2.2723, 20000526,      806
  18HU20000520, AR07W,    39,  1, 229283,      7,2,20000526,0755, 56.1095, -53.1213, 3261,   2700.1,   2.7072,  34.8907,2,  34.9020,2,    264.9,2,    283.3,2,    11.84,6,    15.77,6,     1.06,6,    2.408,2,    1.029,2,    0.148,2,    2.201,2,    3.548,2,   2152.3,4,   2286.5,2,   2.4932, 20000526,      809
  18HU20000520, AR07W,    39,  1, 229284,      8,2,20000526,0755, 56.1095, -53.1213, 3261,   2521.1,   2.8601,  34.8834,2,  34.8920,6,    266.5,2,    281.9,2,    11.09,6,    15.81,6,     1.07,6,    2.532,2,    1.237,2,    0.160,2,    2.355,2,    4.235,2,   2151.8,4,   2301.8,2,   2.6609, 20000526,      812
  18HU20000520, AR07W,    39,  1, 229285,      9,2,20000526,0755, 56.1095, -53.1213, 3261,   2321.8,   3.0174,  34.8838,2,  34.8951,2,    266.6,2,    281.3,2,    10.86,6,    16.22,6,     1.09,6,    2.468,2,    1.134,2,    0.186,2,    2.441,2,    5.323,2,   2154.4,4,   2295.5,3,   2.8346, 20000526,      816
  18HU20000520, AR07W,    39,  1, 229286,     10,2,20000526,0755, 56.1095, -53.1213, 3261,   2100.2,   3.0364,  34.8657,2,  34.8762,2,    271.8,2,    286.7,2,    10.36,6,    16.37,6,     1.10,6,    3.011,2,    1.458,6,    0.213,6,    2.781,2,    6.310,2,   2143.8,4,   -999.0,9,   2.8743, 20000526,      820
  18HU20000520, AR07W,    39,  1, 229287,     11,2,20000526,0755, 56.1095, -53.1213, 3261,   1879.3,   3.0030,  34.8471,2,  34.8582,2,    275.6,2,    290.4,2,     9.85,6,    16.38,6,     1.11,6,    3.282,2,    1.605,2,    0.277,3,    3.077,2,    7.745,2,   2150.3,4,   2287.5,2,   2.8615, 20000526,      824
  18HU20000520, AR07W,    39,  1, 229288,     12,2,20000526,0755, 56.1095, -53.1213, 3261,   1639.7,   3.0822,  34.8500,2,  34.8613,2,    275.3,2,    289.8,2,     9.84,6,    16.44,6,     1.11,6,    3.326,2,    1.587,2,    0.250,2,    3.104,2,    7.816,2,   2151.9,4,   2299.9,2,   2.9607, 20000526,      828
  18HU20000520, AR07W,    39,  1, 229289,     13,2,20000526,0755, 56.1095, -53.1213, 3261,   1400.2,   3.1962,  34.8540,2,  34.8648,2,    273.2,2,    285.1,6,     9.81,6,    16.52,6,     1.11,6,    3.304,2,    1.661,2,    0.268,2,    3.034,2,    7.288,2,   2128.5,4,   2299.7,2,   3.0938, 20000526,      831
  18HU20000520, AR07W,    39,  1, 229290,     14,2,20000526,0755, 56.1095, -53.1213, 3261,   1181.1,   3.3025,  34.8552,2,  34.8656,2,    272.7,2,    284.2,2,     9.60,6,    16.33,6,     1.11,6,    3.480,2,    0.076,4,    0.140,3,    3.023,2,    7.012,2,   2149.5,4,   2300.0,2,   3.2171, 20000526,      835
  18HU20000520, AR07W,    39,  1, 229291,     15,2,20000526,0755, 56.1095, -53.1213, 3261,    959.0,   3.2024,  34.8244,2,  34.8347,2,    281.8,2,    292.8,2,     8.71,6,    15.69,6,     1.08,6,    4.031,2,    2.021,2,    0.332,2,    3.635,2,    5.907,2,   2149.7,4,   2288.2,2,   3.1355, 20000526,      839
  18HU20000520, AR07W,    39,  1, 229292,     16,2,20000526,0755, 56.1095, -53.1213, 3261,    760.3,   3.1374,  34.8100,2,  33.1975,4,    288.1,2,    298.9,2,     8.31,6,    15.36,6,     1.06,6,    4.276,2,    2.121,2,    0.375,2,    3.968,2,    5.839,2,   2146.3,4,   2279.7,2,   3.0860, 20000526,      842
  18HU20000520, AR07W,    39,  1, 229293,     17,2,20000526,0755, 56.1095, -53.1213, 3261,    579.8,   3.1157,  34.8027,2,  34.8051,2,    288.9,2,    299.6,2,     8.06,6,    15.03,6,     1.06,6,    4.331,2,    2.370,3,    0.371,2,    3.912,2,    5.254,3,   2143.8,4,   2288.5,2,   3.0774, 20000526,      845
  18HU20000520, AR07W,    39,  1, 229294,     18,2,20000526,0755, 56.1095, -53.1213, 3261,    430.9,   3.1651,  34.8052,2,  34.8157,2,    289.1,2,    299.3,2,     8.11,6,    15.38,6,     1.05,6,    4.379,2,    2.224,2,    0.366,2,    4.073,2,    5.671,2,   2148.3,4,   2295.1,2,   3.1370, 20000526,      848
  18HU20000520, AR07W,    39,  1, 229295,     19,2,20000526,0755, 56.1095, -53.1213, 3261,    309.1,   3.1571,  34.8007,2,  34.8102,2,    292.1,2,   -999.0,9,     8.04,6,    15.12,6,     1.06,6,    4.405,2,    2.234,2,    0.384,2,    4.063,2,    5.167,2,   2148.4,4,   2275.7,2,   3.1373, 20000526,      850
  18HU20000520, AR07W,    39,  1, 229296,     20,2,20000526,0755, 56.1095, -53.1213, 3261,    200.0,   3.1482,  34.7914,2,  34.8015,2,    295.3,2,    303.4,2,     8.21,6,    15.14,6,     1.05,6,    4.578,2,    2.354,2,    0.342,2,    4.246,2,    4.854,2,   2148.6,4,   2288.5,2,   3.1355, 20000526,      852
  18HU20000520, AR07W,    39,  1, 229297,     21,2,20000526,0755, 56.1095, -53.1213, 3261,    119.4,   3.1767,  34.7575,2,  34.7677,2,    306.3,2,    314.3,2,     7.82,6,    13.86,6,     1.01,6,    4.699,2,    2.504,2,    0.380,2,    4.632,2,    4.107,2,   2141.9,4,   2292.1,2,   3.1692, 20000526,      853
  18HU20000520, AR07W,    39,  1, 229298,     22,2,20000526,0755, 56.1095, -53.1213, 3261,     60.5,   3.3824,  34.6958,2,  34.7062,2,    314.8,2,    322.4,2,     7.37,6,    12.30,6,     0.92,6,    4.945,2,    2.632,2,    0.494,2,    4.924,2,    3.847,2,   2135.7,4,   2285.7,2,   3.3785, 20000526,      855
  18HU20000520, AR07W,    39,  1, 229299,     23,2,20000526,0755, 56.1095, -53.1213, 3261,     29.7,   3.4471,  34.6931,2,  34.7030,2,    316.9,2,    324.3,2,     7.28,6,    12.19,6,     0.89,6,   -0.003,4,   -0.129,4,    0.095,4,    4.549,2,    4.059,2,   2134.3,4,   2294.0,2,   3.4452, 20000526,      856
  18HU20000520, AR07W,    39,  1, 229300,     24,2,20000526,0755, 56.1095, -53.1213, 3261,      4.6,   3.4451,  34.6935,2,  34.7030,2,    317.7,2,    324.2,2,     7.29,6,    12.35,6,     0.89,6,    4.890,2,    2.516,2,    0.421,2,    4.944,2,    3.759,2,   2134.8,4,   2278.4,2,   3.4448, 20000526,      858