BOTTLE,20130610PRINUNIVRMK
EXPOCODE,SECT_ID,STNNBR,CASTNO,SAMPNO,BTLNBR,BTLNBR_FLAG_W,DATE,TIME,LATITUDE,LONGITUDE,DEPTH,CTDPRS,CTDTMP,CTDSAL,CTDSAL_FLAG_W,SALNTY,SALNTY_FLAG_W,CTDOXY,CTDOXY_FLAG_W,OXYGEN,OXYGEN_FLAG_W,SILCAT,SILCAT_FLAG_W,NITRAT,NITRAT_FLAG_W,PHSPHT,PHSPHT_FLAG_W,CFC-11,CFC-11_FLAG_W,CFC-12,CFC-12_FLAG_W,CFC113,CFC113_FLAG_W,CCL4,CCL4_FLAG_W,MCHFRM,MCHFRM_FLAG_W,TCARBN,TCARBN_FLAG_W,ALKALI,ALKALI_FLAG_W,THETA,BTL_DATE,BTL_TIME
,,,,,,,,,,,METERS,DBAR,ITS-90,PSS-78,,PSS-78,,UMOL/KG,,UMOL/KG,,UMOL/KG,,UMOL/KG,,UMOL/KG,,PMOL/KG,,PMOL/KG,,PMOL/KG,,PMOL/KG,,PMOL/KG,,UMOL/KG,,UMOL/KG,,DEG C,,
  18HU20000520, AR07W,    85,  1, 229500,      1,2,20000531,1427, 59.0678, -49.9410, 3020,   3505.8,   1.3247,  34.8506,2,  34.8621,2,    281.8,2,    308.0,2,     9.82,6,    13.50,6,     0.95,6,    3.634,2,    2.067,2,    0.238,2,    3.511,2,    7.245,2,   2170.0,3,   2309.5,2,   1.0613, 20000531,     1427
  18HU20000520, AR07W,    85,  1, 229501,      2,2,20000531,1427, 59.0678, -49.9410, 3020,   3449.8,   1.3983,  34.8505,2,  34.8622,2,    280.4,2,    300.9,2,     9.68,6,    13.52,6,     0.96,6,    3.483,2,    1.945,2,    0.215,2,    3.413,2,    7.365,2,   2163.4,3,   2295.7,2,   1.1387, 20000531,     1429
  18HU20000520, AR07W,    85,  1, 229502,      3,2,20000531,1427, 59.0678, -49.9410, 3020,   3368.7,   1.6244,  34.8558,2,  34.8671,2,    277.2,2,    297.2,2,     9.63,6,    13.73,6,     1.00,6,    3.291,2,    1.856,2,    0.197,2,    3.244,2,    7.295,2,   2159.0,2,   2299.3,2,   1.3675, 20000531,     1431
  18HU20000520, AR07W,    85,  1, 229503,      4,2,20000531,1427, 59.0678, -49.9410, 3020,   3269.2,   1.9467,  34.8688,2,  34.8797,2,    271.0,2,    289.8,2,    11.58,6,    14.40,6,     1.02,6,    2.796,2,    1.591,2,    0.174,2,    2.798,2,    6.711,2,   2158.3,2,   2299.4,2,   1.6921, 20000531,     1433
  18HU20000520, AR07W,    85,  1, 229504,      5,2,20000531,1427, 59.0678, -49.9410, 3020,   3149.5,   2.2046,  34.8748,2,  34.8861,2,    267.8,2,    288.5,2,    12.19,6,    14.88,6,     1.03,6,    2.519,2,    1.389,2,    0.166,2,    2.509,2,    6.070,2,   2155.7,2,   2314.4,2,   1.9562, 20000531,     1436
  18HU20000520, AR07W,    85,  1, 229505,      6,2,20000531,1427, 59.0678, -49.9410, 3020,   3019.4,   2.4532,  34.8912,2,  34.9031,6,    263.6,2,    280.6,2,    13.62,6,    15.40,6,     1.07,6,    1.995,2,    1.125,2,    0.115,2,    2.019,2,    5.135,2,   2156.9,2,   2301.3,2,   2.2125, 20000531,     1439
  18HU20000520, AR07W,    85,  1, 229506,      7,2,20000531,1427, 59.0678, -49.9410, 3020,   2859.0,   2.6301,  34.8975,2,  34.9097,2,    261.6,2,    279.0,2,    13.10,6,    15.53,6,     1.09,6,    2.070,6,    1.086,2,    0.101,6,    2.077,6,    5.137,2,   2158.2,2,   2303.9,2,   2.4018, 20000531,     1442
  18HU20000520, AR07W,    85,  1, 229507,      8,2,20000531,1427, 59.0678, -49.9410, 3020,   2659.7,   2.7836,  34.8900,2,  34.9020,2,    264.8,2,    281.0,2,    11.63,6,    15.32,6,     1.08,6,    2.247,2,    1.246,2,    0.101,2,    2.317,2,    5.578,2,   2152.3,2,   2299.0,2,   2.5721, 20000531,     1445
  18HU20000520, AR07W,    85,  1, 229508,      9,2,20000531,1427, 59.0678, -49.9410, 3020,   2441.6,   2.9596,  34.8836,2,  34.8962,2,    267.0,2,    282.0,2,    10.94,6,    15.30,6,     1.06,6,    2.410,2,    1.328,2,    0.121,2,    2.395,2,    6.271,2,   2157.8,2,   2300.7,2,   2.7662, 20000531,     1451
  18HU20000520, AR07W,    85,  1, 229509,     10,2,20000531,1427, 59.0678, -49.9410, 3020,   2209.8,   3.0345,  34.8693,2,  34.8811,6,    268.8,2,    285.4,2,    10.48,6,    15.67,6,     1.08,6,    2.717,2,    1.507,2,    0.140,2,    2.714,2,    7.175,2,   2153.7,2,   2290.9,2,   2.8622, 20000531,     1455
  18HU20000520, AR07W,    85,  1, 229510,     11,2,20000531,1427, 59.0678, -49.9410, 3020,   1970.1,   3.0170,  34.8481,2,  34.8601,2,    276.2,2,    291.0,6,     9.92,6,    16.06,6,     1.11,6,    3.271,2,    1.784,2,    0.176,2,    3.336,2,    8.401,2,   2151.5,2,   2303.1,2,   2.8671, 20000531,     1501
  18HU20000520, AR07W,    85,  1, 229511,     12,2,20000531,1427, 59.0678, -49.9410, 3020,   1731.3,   3.1049,  34.8500,2,  34.8625,2,    275.2,2,    289.1,2,     9.92,6,    16.16,6,     1.12,6,    3.320,2,    1.847,2,    0.228,2,    3.310,2,    8.546,2,   2153.6,2,   2296.9,2,   2.9752, 20000531,     1506
  18HU20000520, AR07W,    85,  1, 229512,     13,2,20000531,1427, 59.0678, -49.9410, 3020,   1502.0,   3.2208,  34.8540,2,  34.8664,2,    273.2,2,    285.7,6,     9.89,6,    16.53,6,     1.13,6,    3.342,2,    1.817,2,    0.218,2,    3.644,2,    8.323,2,   2155.6,2,   2307.2,2,   3.1095, 20000531,     1511
  18HU20000520, AR07W,    85,  1, 229513,     14,2,20000531,1427, 59.0678, -49.9410, 3020,   1282.1,   3.3283,  34.8542,2,  34.8664,2,    272.9,2,    284.5,2,     9.92,6,    16.42,6,     1.14,6,    3.451,2,    1.947,2,    0.243,2,    3.434,2,    8.105,2,   2155.3,2,   2295.4,2,   3.2344, 20000531,     1516
  18HU20000520, AR07W,    85,  1, 229514,     15,2,20000531,1427, 59.0678, -49.9410, 3020,   1071.3,   3.2690,  34.8282,2,  34.8410,2,    280.6,2,   -999.0,9,     9.11,6,    15.83,6,     1.10,6,    4.024,2,    2.299,2,    0.269,2,    3.944,2,    7.350,2,   2153.6,2,   2294.3,2,   3.1928, 20000531,     1521
  18HU20000520, AR07W,    85,  1, 229515,     16,2,20000531,1427, 59.0678, -49.9410, 3020,    871.1,   3.1601,  34.8068,2,  34.8191,2,    286.4,2,    297.9,2,     8.59,6,    15.11,6,     1.06,6,    4.224,2,    2.441,2,    0.302,2,    4.204,2,    6.896,2,   2154.8,2,   2305.6,2,   3.1003, 20000531,     1526
  18HU20000520, AR07W,    85,  1, 229516,     17,2,20000531,1427, 59.0678, -49.9410, 3020,    680.5,   3.2256,  34.8128,2,  34.8250,2,    287.4,2,    298.0,2,     8.38,6,    15.00,6,     1.06,6,    4.218,2,    2.457,2,    0.317,2,    4.253,2,    6.802,2,   2151.6,2,   2301.1,2,   3.1795, 20000531,     1531
  18HU20000520, AR07W,    85,  1, 229517,     18,2,20000531,1427, 59.0678, -49.9410, 3020,    510.8,   3.4907,  34.8445,2,  34.8570,2,    289.6,2,    299.3,2,     8.38,6,    14.88,6,     1.06,6,    4.236,2,    2.512,2,    0.306,2,    4.349,2,    6.263,2,   2150.1,2,   2302.6,2,   3.4557, 20000531,     1535
  18HU20000520, AR07W,    85,  1, 229518,     19,2,20000531,1427, 59.0678, -49.9410, 3020,    361.0,   3.7066,  34.8642,2,  34.8758,2,    287.4,2,    295.4,2,     8.33,6,    14.97,6,     1.06,6,    4.032,2,    2.399,2,    0.265,2,    4.026,2,    6.025,2,   2149.7,2,   2310.9,2,   3.6816, 20000531,     1540
  18HU20000520, AR07W,    85,  1, 229519,     20,2,20000531,1427, 59.0678, -49.9410, 3020,    240.0,   3.7203,  34.8516,2,  34.8636,2,    287.4,2,    295.5,2,     8.10,6,    14.77,6,     1.07,6,    4.131,2,    2.469,2,    0.304,2,    4.045,2,    6.012,2,   2150.5,2,   2297.6,2,   3.7039, 20000531,     1543
  18HU20000520, AR07W,    85,  1, 229520,     21,2,20000531,1427, 59.0678, -49.9410, 3020,    139.5,   4.1826,  34.8941,2,  34.9080,2,    284.8,2,   -999.0,9,     8.03,6,    14.86,6,     1.08,6,    3.993,2,    2.416,2,    0.260,2,    4.010,2,    5.623,2,   -999.0,9,   2289.7,2,   4.1727, 20000531,     1546
  18HU20000520, AR07W,    85,  1, 229521,     22,2,20000531,1427, 59.0678, -49.9410, 3020,     68.8,   3.4556,  34.7304,2,  34.7416,2,    306.7,2,    314.9,2,     7.13,6,    10.28,6,     0.92,6,    4.789,2,    2.771,2,    0.344,2,    5.266,2,    5.517,2,   2130.9,2,   2300.0,2,   3.4512, 20000531,     1548
  18HU20000520, AR07W,    85,  1, 229522,     23,2,20000531,1427, 59.0678, -49.9410, 3020,     34.0,   3.0100,  34.4328,2,  34.4642,2,    316.9,2,    327.5,2,     5.90,6,     6.68,6,     0.67,6,    5.048,2,    2.856,2,    0.331,2,    5.736,2,    5.872,2,   2095.9,2,   2276.8,2,   3.0080, 20000531,     1549
  18HU20000520, AR07W,    85,  1, 229523,     24,2,20000531,1427, 59.0678, -49.9410, 3020,      2.3,   3.3212,  34.3234,2,  34.3353,2,    338.6,2,    347.0,2,     4.90,6,     3.92,6,     0.47,6,    5.162,2,    3.070,2,    0.335,2,    6.057,2,    5.768,2,   2064.8,2,   2279.8,2,   3.3211, 20000531,     1550
  18HU20000520, AR07W,    87,  1, 229524,      1,2,20000531,1735, 59.0788, -49.8953, 2834,     99.9,   3.7515,  34.8111,2,-999.0000,9,    293.2,2,   -999.0,9,     7.61,6,    13.35,6,     0.99,6, -999.000,9, -999.000,9, -999.000,9, -999.000,9, -999.000,9,   -999.0,9,   -999.0,9,   3.7448, 20000531,     1735
  18HU20000520, AR07W,    87,  1, 229525,      2,2,20000531,1735, 59.0788, -49.8953, 2834,     79.9,   3.6162,  34.7783,2,-999.0000,9,    298.7,2,   -999.0,9,     7.30,6,    11.83,6,     0.95,6, -999.000,9, -999.000,9, -999.000,9, -999.000,9, -999.000,9,   -999.0,9,   -999.0,9,   3.6109, 20000531,     1736
  18HU20000520, AR07W,    87,  1, 229526,      3,2,20000531,1735, 59.0788, -49.8953, 2834,     59.9,   3.4773,  34.7170,2,-999.0000,9,    307.3,2,   -999.0,9,     6.94,6,    10.23,6,     0.89,6, -999.000,9, -999.000,9, -999.000,9, -999.000,9, -999.000,9,   -999.0,9,   -999.0,9,   3.4734, 20000531,     1737
  18HU20000520, AR07W,    87,  1, 229527,      4,2,20000531,1735, 59.0788, -49.8953, 2834,     49.7,   3.4794,  34.7073,2,-999.0000,9,    307.5,2,   -999.0,9,     6.98,6,     9.98,6,     0.90,6, -999.000,9, -999.000,9, -999.000,9, -999.000,9, -999.000,9,   -999.0,9,   -999.0,9,   3.4762, 20000531,     1738
  18HU20000520, AR07W,    87,  1, 229528,      5,2,20000531,1735, 59.0788, -49.8953, 2834,     39.9,   3.3682,  34.6455,2,-999.0000,9,    308.9,2,   -999.0,9,     6.79,6,     9.10,6,     0.84,6, -999.000,9, -999.000,9, -999.000,9, -999.000,9, -999.000,9,   -999.0,9,   -999.0,9,   3.3657, 20000531,     1739
  18HU20000520, AR07W,    87,  1, 229529,      6,2,20000531,1735, 59.0788, -49.8953, 2834,     39.8,   3.3581,  34.6405,2,-999.0000,9,    309.2,2,   -999.0,9,  -999.00,9,  -999.00,9,  -999.00,9, -999.000,9, -999.000,9, -999.000,9, -999.000,9, -999.000,9,   -999.0,9,   -999.0,9,   3.3556, 20000531,     1739
  18HU20000520, AR07W,    87,  1, 229530,      7,2,20000531,1735, 59.0788, -49.8953, 2834,     30.3,   3.0843,  34.5032,2,-999.0000,9,    316.1,2,   -999.0,9,     6.30,6,     7.61,6,     0.75,6, -999.000,9, -999.000,9, -999.000,9, -999.000,9, -999.000,9,   -999.0,9,   -999.0,9,   3.0825, 20000531,     1740
  18HU20000520, AR07W,    87,  1, 229531,      8,2,20000531,1735, 59.0788, -49.8953, 2834,     19.6,   3.2222,  34.3237,2,-999.0000,9,    336.3,2,   -999.0,9,     5.14,6,     5.03,6,     0.56,6, -999.000,9, -999.000,9, -999.000,9, -999.000,9, -999.000,9,   -999.0,9,   -999.0,9,   3.2210, 20000531,     1741
  18HU20000520, AR07W,    87,  1, 229532,      9,2,20000531,1735, 59.0788, -49.8953, 2834,     19.7,   3.1970,  34.3307,2,-999.0000,9,    336.6,2,   -999.0,9,  -999.00,9,  -999.00,9,  -999.00,9, -999.000,9, -999.000,9, -999.000,9, -999.000,9, -999.000,9,   -999.0,9,   -999.0,9,   3.1958, 20000531,     1741
  18HU20000520, AR07W,    87,  1, 229533,     10,2,20000531,1735, 59.0788, -49.8953, 2834,      9.7,   3.2832,  34.3202,2,-999.0000,9,    340.3,2,   -999.0,9,     4.83,6,     3.88,6,     0.47,6, -999.000,9, -999.000,9, -999.000,9, -999.000,9, -999.000,9,   -999.0,9,   -999.0,9,   3.2826, 20000531,     1742
  18HU20000520, AR07W,    87,  1, 229534,     11,2,20000531,1735, 59.0788, -49.8953, 2834,      9.9,   3.3292,  34.3211,2,-999.0000,9,    340.3,2,   -999.0,9,  -999.00,9,  -999.00,9,  -999.00,9, -999.000,9, -999.000,9, -999.000,9, -999.000,9, -999.000,9,   -999.0,9,   -999.0,9,   3.3286, 20000531,     1742
  18HU20000520, AR07W,    87,  1, 229535,     12,2,20000531,1735, 59.0788, -49.8953, 2834,      9.7,   3.3317,  34.3215,2,-999.0000,9,    340.4,2,   -999.0,9,  -999.00,9,  -999.00,9,  -999.00,9, -999.000,9, -999.000,9, -999.000,9, -999.000,9, -999.000,9,   -999.0,9,   -999.0,9,   3.3311, 20000531,     1742
  18HU20000520, AR07W,    87,  1, 229536,     13,2,20000531,1735, 59.0788, -49.8953, 2834,     10.0,   3.2742,  34.3217,2,-999.0000,9,    340.9,2,   -999.0,9,  -999.00,9,  -999.00,9,  -999.00,9, -999.000,9, -999.000,9, -999.000,9, -999.000,9, -999.000,9,   -999.0,9,   -999.0,9,   3.2736, 20000531,     1743
  18HU20000520, AR07W,    87,  1, 229537,     14,2,20000531,1735, 59.0788, -49.8953, 2834,     10.0,   3.2317,  34.3217,2,-999.0000,9,    340.8,2,   -999.0,9,  -999.00,9,  -999.00,9,  -999.00,9, -999.000,9, -999.000,9, -999.000,9, -999.000,9, -999.000,9,   -999.0,9,   -999.0,9,   3.2311, 20000531,     1743
  18HU20000520, AR07W,    87,  1, 229538,     15,2,20000531,1735, 59.0788, -49.8953, 2834,      2.5,   3.2696,  34.3211,2,-999.0000,9,    341.0,2,   -999.0,9,     4.79,6,     3.84,6,     0.46,6, -999.000,9, -999.000,9, -999.000,9, -999.000,9, -999.000,9,   -999.0,9,   -999.0,9,   3.2694, 20000531,     1744