BOTTLE,20130610PRINUNIVRMK
EXPOCODE,SECT_ID,STNNBR,CASTNO,SAMPNO,BTLNBR,BTLNBR_FLAG_W,DATE,TIME,LATITUDE,LONGITUDE,DEPTH,CTDPRS,CTDTMP,CTDSAL,CTDSAL_FLAG_W,SALNTY,SALNTY_FLAG_W,CTDOXY,CTDOXY_FLAG_W,OXYGEN,OXYGEN_FLAG_W,SILCAT,SILCAT_FLAG_W,NITRAT,NITRAT_FLAG_W,PHSPHT,PHSPHT_FLAG_W,CFC-11,CFC-11_FLAG_W,CFC-12,CFC-12_FLAG_W,CFC113,CFC113_FLAG_W,CCL4,CCL4_FLAG_W,MCHFRM,MCHFRM_FLAG_W,TCARBN,TCARBN_FLAG_W,ALKALI,ALKALI_FLAG_W,THETA,BTL_DATE,BTL_TIME
,,,,,,,,,,,METERS,DBAR,ITS-90,PSS-78,,PSS-78,,UMOL/KG,,UMOL/KG,,UMOL/KG,,UMOL/KG,,UMOL/KG,,PMOL/KG,,PMOL/KG,,PMOL/KG,,PMOL/KG,,PMOL/KG,,UMOL/KG,,UMOL/KG,,DEG C,,
  18HU20000520, AR07W,    98,  1, 229635,      1,2,20000601,1544, 60.0365, -48.8865, 3391,     99.4,   3.8886,  34.7695,2,-999.0000,9,    295.6,2,   -999.0,9,     7.39,6,    10.46,6,     0.83,6, -999.000,9, -999.000,9, -999.000,9, -999.000,9, -999.000,9,   -999.0,9,   -999.0,9,   3.8818, 20000601,     1544
  18HU20000520, AR07W,    98,  1, 229636,      2,2,20000601,1544, 60.0365, -48.8865, 3391,     80.8,   3.5615,  34.6303,2,-999.0000,9,    299.9,2,   -999.0,9,     7.25,6,     8.78,6,     0.79,6, -999.000,9, -999.000,9, -999.000,9, -999.000,9, -999.000,9,   -999.0,9,   -999.0,9,   3.5562, 20000601,     1545
  18HU20000520, AR07W,    98,  1, 229637,      3,2,20000601,1544, 60.0365, -48.8865, 3391,     60.6,   3.0232,  34.3804,2,-999.0000,9,    312.3,2,   -999.0,9,     6.75,6,     6.74,6,     0.69,6, -999.000,9, -999.000,9, -999.000,9, -999.000,9, -999.000,9,   -999.0,9,   -999.0,9,   3.0195, 20000601,     1546
  18HU20000520, AR07W,    98,  1, 229638,      4,2,20000601,1544, 60.0365, -48.8865, 3391,     49.7,   2.6310,  34.2247,2,-999.0000,9,    318.0,2,   -999.0,9,     6.59,6,     6.24,6,     0.67,6, -999.000,9, -999.000,9, -999.000,9, -999.000,9, -999.000,9,   -999.0,9,   -999.0,9,   2.6282, 20000601,     1547
  18HU20000520, AR07W,    98,  1, 229639,      5,2,20000601,1544, 60.0365, -48.8865, 3391,     39.6,   2.0227,  34.0109,2,-999.0000,9,    326.3,2,   -999.0,9,     6.36,6,     5.85,6,     0.65,6, -999.000,9, -999.000,9, -999.000,9, -999.000,9, -999.000,9,   -999.0,9,   -999.0,9,   2.0207, 20000601,     1547
  18HU20000520, AR07W,    98,  1, 229640,      6,2,20000601,1544, 60.0365, -48.8865, 3391,     40.0,   1.9729,  33.9889,2,-999.0000,9,    327.5,2,   -999.0,9,  -999.00,9,  -999.00,9,  -999.00,9, -999.000,9, -999.000,9, -999.000,9, -999.000,9, -999.000,9,   -999.0,9,   -999.0,9,   1.9709, 20000601,     1547
  18HU20000520, AR07W,    98,  1, 229641,      7,2,20000601,1544, 60.0365, -48.8865, 3391,     30.0,   1.3820,  33.6878,2,-999.0000,9,    350.8,2,   -999.0,9,     5.75,6,     3.41,6,     0.50,6, -999.000,9, -999.000,9, -999.000,9, -999.000,9, -999.000,9,   -999.0,9,   -999.0,9,   1.3806, 20000601,     1548
  18HU20000520, AR07W,    98,  1, 229642,      8,2,20000601,1544, 60.0365, -48.8865, 3391,     18.0,   0.6233,  33.3059,2,-999.0000,9,    394.0,2,   -999.0,9,     4.54,6,     0.55,6,     0.28,6, -999.000,9, -999.000,9, -999.000,9, -999.000,9, -999.000,9,   -999.0,9,   -999.0,9,   0.6226, 20000601,     1549
  18HU20000520, AR07W,    98,  1, 229643,      9,2,20000601,1544, 60.0365, -48.8865, 3391,     18.7,   0.5621,  33.2401,2,-999.0000,9,    408.6,2,   -999.0,9,  -999.00,9,  -999.00,9,  -999.00,9, -999.000,9, -999.000,9, -999.000,9, -999.000,9, -999.000,9,   -999.0,9,   -999.0,9,   0.5614, 20000601,     1549
  18HU20000520, AR07W,    98,  1, 229644,     10,2,20000601,1544, 60.0365, -48.8865, 3391,     10.1,   0.4934,  33.1557,2,-999.0000,9,    417.5,2,   -999.0,9,     3.96,6,     0.98,6,     0.22,6, -999.000,9, -999.000,9, -999.000,9, -999.000,9, -999.000,9,   -999.0,9,   -999.0,9,   0.4930, 20000601,     1550
  18HU20000520, AR07W,    98,  1, 229645,     11,2,20000601,1544, 60.0365, -48.8865, 3391,     10.1,   0.4937,  33.1546,2,-999.0000,9,    417.4,2,   -999.0,9,  -999.00,9,  -999.00,9,  -999.00,9, -999.000,9, -999.000,9, -999.000,9, -999.000,9, -999.000,9,   -999.0,9,   -999.0,9,   0.4933, 20000601,     1550
  18HU20000520, AR07W,    98,  1, 229646,     12,2,20000601,1544, 60.0365, -48.8865, 3391,      9.9,   0.4982,  33.1574,2,-999.0000,9,    417.7,2,   -999.0,9,  -999.00,9,  -999.00,9,  -999.00,9, -999.000,9, -999.000,9, -999.000,9, -999.000,9, -999.000,9,   -999.0,9,   -999.0,9,   0.4978, 20000601,     1550
  18HU20000520, AR07W,    98,  1, 229647,     13,2,20000601,1544, 60.0365, -48.8865, 3391,     10.1,   0.4919,  33.1547,2,-999.0000,9,    417.8,2,   -999.0,9,  -999.00,9,  -999.00,9,  -999.00,9, -999.000,9, -999.000,9, -999.000,9, -999.000,9, -999.000,9,   -999.0,9,   -999.0,9,   0.4915, 20000601,     1551
  18HU20000520, AR07W,    98,  1, 229648,     14,2,20000601,1544, 60.0365, -48.8865, 3391,     10.4,   0.4864,  33.1488,2,-999.0000,9,    418.0,2,   -999.0,9,  -999.00,9,  -999.00,9,  -999.00,9, -999.000,9, -999.000,9, -999.000,9, -999.000,9, -999.000,9,   -999.0,9,   -999.0,9,   0.4860, 20000601,     1551
  18HU20000520, AR07W,    98,  1, 229649,     15,2,20000601,1544, 60.0365, -48.8865, 3391,      3.8,   0.4906,  33.1551,2,-999.0000,9,    420.0,2,   -999.0,9,     3.94,6,     0.00,6,     0.22,6, -999.000,9, -999.000,9, -999.000,9, -999.000,9, -999.000,9,   -999.0,9,   -999.0,9,   0.4905, 20000601,     1552
  18HU20000520, AR07W,   101,  1, 229650,      1,2,20000601,2212, 59.5300, -49.5143, 3400,   3430.3,   1.3571,  34.8582,2,  34.8705,2,    282.9,2,    300.1,2,     8.73,6,    12.57,6,     0.85,6,    3.886,2,    2.071,2,    0.196,2,    3.841,2,    7.028,2,   2154.3,2,   2302.1,2,   1.1005, 20000601,     2212
  18HU20000520, AR07W,   101,  1, 229651,      2,2,20000601,2212, 59.5300, -49.5143, 3400,   3367.1,   1.4507,  34.8565,2,  34.8693,2,    280.8,2,    298.2,2,     9.26,6,    12.36,6,     0.86,6,    3.554,2,    1.779,2,    0.190,2,    3.499,2,    6.463,2,   2154.5,2,   2301.5,2,   1.1981, 20000601,     2214
  18HU20000520, AR07W,   101,  1, 229652,      3,2,20000601,2212, 59.5300, -49.5143, 3400,   3300.2,   1.6960,  34.8577,2,  34.8700,2,    279.1,2,    295.9,2,     9.25,6,    12.54,6,     0.87,6,    3.708,2,    1.826,2,    0.224,2,    3.728,2,    6.905,3,   2154.4,2,   -999.0,9,   1.4442, 20000601,     2215
  18HU20000520, AR07W,   101,  1, 229653,      4,2,20000601,2212, 59.5300, -49.5143, 3400,   3194.8,   2.0272,  34.8657,2,  34.8781,2,    274.1,2,    289.4,2,    10.56,6,    13.05,6,     0.93,6,    3.078,2,    1.521,2,    0.190,2,    3.042,2,    5.645,2,   2156.2,2,   2300.7,2,   1.7783, 20000601,     2217
  18HU20000520, AR07W,   101,  1, 229654,      5,2,20000601,2212, 59.5300, -49.5143, 3400,   3067.1,   2.2682,  34.8771,2,  34.8883,2,    268.6,2,    283.4,2,    12.15,6,    13.67,6,     0.95,6,    2.546,2,    1.464,2,    0.085,2,    2.670,2,    4.924,2,   2156.4,2,   2302.9,2,   2.0267, 20000601,     2219
  18HU20000520, AR07W,   101,  1, 229655,      6,2,20000601,2212, 59.5300, -49.5143, 3400,   2925.7,   2.4991,  34.8879,2,  34.8996,6,    265.6,2,    280.0,2,    12.73,6,    14.31,6,     0.98,6,    2.222,2,    1.212,3,    0.077,2,    2.371,2,    4.111,2,   2156.6,2,   2305.5,2,   2.2669, 20000601,     2222
  18HU20000520, AR07W,   101,  1, 229656,      7,2,20000601,2212, 59.5300, -49.5143, 3400,   2779.6,   2.6881,  34.8912,2,  34.9033,2,    264.9,2,    278.4,2,    12.24,6,    14.60,6,     1.00,6,    2.249,2,    1.288,2,    0.051,2,    2.381,2,    4.332,2,   2156.2,2,   2307.8,2,   2.4666, 20000601,     2224
  18HU20000520, AR07W,   101,  1, 229657,      8,2,20000601,2212, 59.5300, -49.5143, 3400,   2607.4,   2.8137,  34.8858,2,  34.8980,2,    263.6,2,    280.6,2,    11.48,6,    14.49,6,     0.96,6,    2.456,2,    1.256,2,    0.089,2,    2.563,2,    4.884,2,   2157.3,2,   2299.2,3,   2.6068, 20000601,     2227
  18HU20000520, AR07W,   101,  1, 229658,      9,2,20000601,2212, 59.5300, -49.5143, 3400,   2407.8,   2.9400,  34.8793,2,  34.8915,6,    267.2,2,    282.7,2,    11.02,6,    14.41,6,     0.98,6, -999.000,9, -999.000,9, -999.000,9, -999.000,9, -999.000,9,   2153.6,2,   2299.0,2,   2.7503, 20000601,     2230
  18HU20000520, AR07W,   101,  1, 229659,     10,2,20000601,2212, 59.5300, -49.5143, 3400,   2179.4,   3.0281,  34.8660,2,  34.8783,2,    271.5,2,    285.9,2,    10.60,6,    14.62,6,     1.00,6,    2.926,2,    1.451,2,    0.128,2,    2.952,2,    6.989,2,   2156.6,2,   2290.0,2,   2.8587, 20000601,     2234
  18HU20000520, AR07W,   101,  1, 229660,     11,2,20000601,2212, 59.5300, -49.5143, 3400,   1909.0,   3.0057,  34.8461,2,  34.8581,2,    276.7,2,    289.2,2,    10.34,6,    14.91,6,     1.02,6,    3.488,2,    1.942,3,    0.174,2,    3.517,2,    9.561,2,   2155.3,2,   2291.5,2,   2.8615, 20000601,     2238
  18HU20000520, AR07W,   101,  1, 229661,     12,2,20000601,2212, 59.5300, -49.5143, 3400,   1699.6,   3.0938,  34.8509,2,  34.8627,2,    275.6,2,    286.7,2,    10.10,6,    15.11,6,     1.02,6,    3.588,2,    1.725,2,    0.186,2,    3.595,2,    9.786,2,   2154.7,2,   2296.7,2,   2.9670, 20000601,     2242
  18HU20000520, AR07W,   101,  1, 229662,     13,2,20000601,2212, 59.5300, -49.5143, 3400,   1500.3,   3.1882,  34.8535,2,  34.8651,2,    274.4,2,    284.3,6,    10.10,6,    15.22,6,     1.02,6,    3.501,2,    1.724,2,    0.201,2,    3.520,2,    9.086,2,   2157.5,2,   2287.7,2,   3.0774, 20000601,     2246
  18HU20000520, AR07W,   101,  1, 229663,     14,2,20000601,2212, 59.5300, -49.5143, 3400,   1297.4,   3.3124,  34.8574,2,  34.8692,2,    272.2,2,    282.4,2,    10.01,6,    15.33,6,     1.03,6,    3.288,3,    1.615,3,    0.162,3,    3.154,3,    7.250,3,   2157.3,2,   2300.0,2,   3.2174, 20000601,     2249
  18HU20000520, AR07W,   101,  1, 229664,     15,2,20000601,2212, 59.5300, -49.5143, 3400,   1073.7,   3.3021,  34.8377,2,  34.8487,2,    278.1,2,    287.9,2,     9.40,6,    14.62,6,     1.01,6,    3.978,2,    1.980,2,    0.244,2,    3.918,2,    7.299,2,   2156.6,2,   2287.1,2,   3.2254, 20000601,     2253
  18HU20000520, AR07W,   101,  1, 229665,     16,2,20000601,2212, 59.5300, -49.5143, 3400,    833.5,   3.2024,  34.8150,2,  34.8265,2,    285.6,2,    294.3,2,     8.53,6,    14.08,6,     0.96,6,    4.127,2,    2.115,2,    0.280,2,    4.090,2,    6.049,3,   2154.1,2,   2292.0,2,   3.1451, 20000601,     2259
  18HU20000520, AR07W,   101,  1, 229666,     17,2,20000601,2212, 59.5300, -49.5143, 3400,    680.4,   3.2103,  34.8111,2,  34.8196,2,    286.8,2,    295.6,2,     8.41,6,    13.74,6,     0.96,6,    4.288,6,    2.238,6,    0.289,6,    4.160,2,    6.156,6,   2151.4,2,   2289.3,2,   3.1643, 20000601,     2302
  18HU20000520, AR07W,   101,  1, 229667,     18,2,20000601,2212, 59.5300, -49.5143, 3400,    510.3,   3.4666,  34.8335,2,  34.8445,2,    286.2,2,    293.5,2,     8.49,6,    13.69,6,     0.96,6,    4.487,2,    2.198,2,    0.277,2,    4.198,2,    5.743,2,   2152.3,2,   2294.6,2,   3.4317, 20000601,     2305
  18HU20000520, AR07W,   101,  1, 229668,     19,2,20000601,2212, 59.5300, -49.5143, 3400,    359.3,   3.6814,  34.8480,2,  34.8585,2,    285.5,2,    291.7,2,     8.41,6,    13.47,6,     0.97,6,    4.073,2,    2.094,3,    0.272,2,    3.954,2,    4.860,3,   2152.7,2,   2300.6,2,   3.6567, 20000601,     2308
  18HU20000520, AR07W,   101,  1, 229669,     20,2,20000601,2212, 59.5300, -49.5143, 3400,    237.4,   3.8056,  34.8514,2,  34.8612,2,    286.0,2,    291.4,2,     8.33,6,    13.41,6,     0.97,6,    4.108,2,    2.230,2,    0.277,2,    4.002,2,    4.680,2,   2148.3,2,   2300.4,2,   3.7892, 20000601,     2310
  18HU20000520, AR07W,   101,  1, 229670,     21,2,20000601,2212, 59.5300, -49.5143, 3400,    137.9,   3.8201,  34.8304,2,  34.8398,2,    286.8,2,    291.2,2,     7.88,6,    13.58,6,     0.98,6,    4.302,2,    2.243,2,    0.296,2,    4.182,2,    4.797,2,   2146.2,2,   2295.2,2,   3.8107, 20000601,     2312
  18HU20000520, AR07W,   101,  1, 229671,     22,2,20000601,2212, 59.5300, -49.5143, 3400,     71.5,   3.3761,  34.7290,2,  34.7351,2,    301.2,2,    307.5,2,     6.96,6,     9.98,6,     0.86,6,    4.518,2,    2.348,2,    0.302,2,    4.580,2,    4.212,2,   2129.4,2,   2286.6,2,   3.3715, 20000601,     2313
  18HU20000520, AR07W,   101,  1, 229672,     23,2,20000601,2212, 59.5300, -49.5143, 3400,     32.9,   2.9796,  34.4852,2,  34.4920,2,    324.1,2,    329.4,2,     5.48,6,     5.68,6,     0.60,6,    5.071,2,    2.549,2,    0.381,2,    5.366,2,    4.385,2,   2094.5,2,   2277.0,2,   2.9776, 20000601,     2314
  18HU20000520, AR07W,   101,  1, 229673,     24,2,20000601,2212, 59.5300, -49.5143, 3400,      3.2,   1.4843,  33.3829,2,  33.3914,2,    362.0,2,    380.9,2,     3.58,6,     1.06,6,     0.23,6,    5.916,2,   -0.004,4,    0.471,2,    6.663,2,    5.544,2,   1974.1,2,   2199.8,2,   1.4842, 20000601,     2315
  18HU20000520, AR07W,   103,  1, 229674,      1,2,20000602,1602, 57.8782, -51.2427, 3161,    100.8,   3.2331,  34.7730,2,-999.0000,9,    309.3,2,   -999.0,9,     8.01,6,    13.17,3,     1.02,6, -999.000,9, -999.000,9, -999.000,9, -999.000,9, -999.000,9,   -999.0,9,   -999.0,9,   3.2267, 20000602,     1602
  18HU20000520, AR07W,   103,  1, 229675,      2,2,20000602,1602, 57.8782, -51.2427, 3161,     79.6,   3.3326,  34.7759,2,-999.0000,9,    307.2,2,   -999.0,9,     8.04,6,    12.90,3,     1.04,6, -999.000,9, -999.000,9, -999.000,9, -999.000,9, -999.000,9,   -999.0,9,   -999.0,9,   3.3275, 20000602,     1603
  18HU20000520, AR07W,   103,  1, 229676,      3,2,20000602,1602, 57.8782, -51.2427, 3161,     59.5,   3.4131,  34.7674,2,-999.0000,9,    309.4,2,   -999.0,9,     7.93,6,    13.10,3,     1.04,6, -999.000,9, -999.000,9, -999.000,9, -999.000,9, -999.000,9,   -999.0,9,   -999.0,9,   3.4093, 20000602,     1604
  18HU20000520, AR07W,   103,  1, 229677,      4,2,20000602,1602, 57.8782, -51.2427, 3161,     49.1,   3.4809,  34.7639,2,-999.0000,9,    311.9,2,   -999.0,9,     7.81,6,    12.68,3,     1.01,6, -999.000,9, -999.000,9, -999.000,9, -999.000,9, -999.000,9,   -999.0,9,   -999.0,9,   3.4777, 20000602,     1605
  18HU20000520, AR07W,   103,  1, 229678,      5,2,20000602,1602, 57.8782, -51.2427, 3161,     38.0,   3.6528,  34.7607,2,-999.0000,9,    315.8,2,   -999.0,9,     7.70,6,    12.28,3,     0.97,6, -999.000,9, -999.000,9, -999.000,9, -999.000,9, -999.000,9,   -999.0,9,   -999.0,9,   3.6503, 20000602,     1606
  18HU20000520, AR07W,   103,  1, 229679,      6,2,20000602,1602, 57.8782, -51.2427, 3161,     39.8,   3.6571,  34.7610,2,-999.0000,9,    316.2,2,   -999.0,9,  -999.00,9,  -999.00,9,  -999.00,9, -999.000,9, -999.000,9, -999.000,9, -999.000,9, -999.000,9,   -999.0,9,   -999.0,9,   3.6545, 20000602,     1606
  18HU20000520, AR07W,   103,  1, 229680,      7,2,20000602,1602, 57.8782, -51.2427, 3161,     30.0,   3.6358,  34.7225,2,-999.0000,9,    316.8,2,   -999.0,9,     7.72,6,    11.79,3,     0.95,6, -999.000,9, -999.000,9, -999.000,9, -999.000,9, -999.000,9,   -999.0,9,   -999.0,9,   3.6338, 20000602,     1607
  18HU20000520, AR07W,   103,  1, 229681,      8,2,20000602,1602, 57.8782, -51.2427, 3161,     20.9,   3.6371,  34.7135,2,-999.0000,9,    317.2,2,   -999.0,9,     7.74,6,    12.00,3,     0.96,6, -999.000,9, -999.000,9, -999.000,9, -999.000,9, -999.000,9,   -999.0,9,   -999.0,9,   3.6357, 20000602,     1608
  18HU20000520, AR07W,   103,  1, 229682,      9,2,20000602,1602, 57.8782, -51.2427, 3161,     20.1,   3.6376,  34.7136,2,-999.0000,9,    317.2,2,   -999.0,9,  -999.00,9,  -999.00,9,  -999.00,9, -999.000,9, -999.000,9, -999.000,9, -999.000,9, -999.000,9,   -999.0,9,   -999.0,9,   3.6363, 20000602,     1609
  18HU20000520, AR07W,   103,  1, 229683,     10,2,20000602,1602, 57.8782, -51.2427, 3161,      9.7,   3.6403,  34.7133,2,-999.0000,9,    317.3,2,   -999.0,9,     7.64,6,    11.51,3,     0.95,6, -999.000,9, -999.000,9, -999.000,9, -999.000,9, -999.000,9,   -999.0,9,   -999.0,9,   3.6397, 20000602,     1609
  18HU20000520, AR07W,   103,  1, 229684,     11,2,20000602,1602, 57.8782, -51.2427, 3161,      8.4,   3.6402,  34.7134,2,-999.0000,9,    317.2,2,   -999.0,9,  -999.00,9,  -999.00,9,  -999.00,9, -999.000,9, -999.000,9, -999.000,9, -999.000,9, -999.000,9,   -999.0,9,   -999.0,9,   3.6396, 20000602,     1610
  18HU20000520, AR07W,   103,  1, 229685,     12,2,20000602,1602, 57.8782, -51.2427, 3161,      9.7,   3.6392,  34.7135,2,-999.0000,9,    317.3,2,   -999.0,9,  -999.00,9,  -999.00,9,  -999.00,9, -999.000,9, -999.000,9, -999.000,9, -999.000,9, -999.000,9,   -999.0,9,   -999.0,9,   3.6386, 20000602,     1610
  18HU20000520, AR07W,   103,  1, 229686,     13,2,20000602,1602, 57.8782, -51.2427, 3161,      9.5,   3.6407,  34.7134,2,-999.0000,9,    317.2,2,   -999.0,9,  -999.00,9,  -999.00,9,  -999.00,9, -999.000,9, -999.000,9, -999.000,9, -999.000,9, -999.000,9,   -999.0,9,   -999.0,9,   3.6401, 20000602,     1610
  18HU20000520, AR07W,   103,  1, 229687,     14,2,20000602,1602, 57.8782, -51.2427, 3161,      9.3,   3.6400,  34.7134,2,-999.0000,9,    317.4,2,   -999.0,9,  -999.00,9,  -999.00,9,  -999.00,9, -999.000,9, -999.000,9, -999.000,9, -999.000,9, -999.000,9,   -999.0,9,   -999.0,9,   3.6394, 20000602,     1610
  18HU20000520, AR07W,   103,  1, 229688,     15,2,20000602,1602, 57.8782, -51.2427, 3161,      3.5,   3.6329,  34.7133,2,-999.0000,9,    317.3,2,   -999.0,9,     7.66,6,    11.54,3,     0.92,6, -999.000,9, -999.000,9, -999.000,9, -999.000,9, -999.000,9,   -999.0,9,   -999.0,9,   3.6327, 20000602,     1611