BOTTLE,20130610PRINUNIVRMK
EXPOCODE,SECT_ID,STNNBR,CASTNO,SAMPNO,BTLNBR,BTLNBR_FLAG_W,DATE,TIME,LATITUDE,LONGITUDE,DEPTH,CTDPRS,CTDTMP,CTDSAL,CTDSAL_FLAG_W,SALNTY,SALNTY_FLAG_W,CTDOXY,CTDOXY_FLAG_W,OXYGEN,OXYGEN_FLAG_W,SILCAT,SILCAT_FLAG_W,NITRAT,NITRAT_FLAG_W,PHSPHT,PHSPHT_FLAG_W,CFC-11,CFC-11_FLAG_W,CFC-12,CFC-12_FLAG_W,CFC113,CFC113_FLAG_W,CCL4,CCL4_FLAG_W,MCHFRM,MCHFRM_FLAG_W,TCARBN,TCARBN_FLAG_W,ALKALI,ALKALI_FLAG_W,THETA,BTL_DATE,BTL_TIME
,,,,,,,,,,,METERS,DBAR,ITS-90,PSS-78,,PSS-78,,UMOL/KG,,UMOL/KG,,UMOL/KG,,UMOL/KG,,UMOL/KG,,PMOL/KG,,PMOL/KG,,PMOL/KG,,PMOL/KG,,PMOL/KG,,UMOL/KG,,UMOL/KG,,DEG C,,
  18HU20000520, AR07W,   129,  1, 229793,      1,2,20000604,1716, 55.4662, -53.6857, 3501,    100.2,   4.1431,  34.7640,2,-999.0000,9,    281.7,2,   -999.0,9,     8.56,6,    14.60,3,     1.13,3, -999.000,9, -999.000,9, -999.000,9, -999.000,9, -999.000,9,   -999.0,9,   -999.0,9,   4.1360, 20000604,     1716
  18HU20000520, AR07W,   129,  1, 229794,      2,2,20000604,1716, 55.4662, -53.6857, 3501,     79.7,   3.8928,  34.7091,2,-999.0000,9,    287.7,2,   -999.0,9,     8.30,6,    13.86,3,     1.09,3, -999.000,9, -999.000,9, -999.000,9, -999.000,9, -999.000,9,   -999.0,9,   -999.0,9,   3.8874, 20000604,     1717
  18HU20000520, AR07W,   129,  1, 229795,      3,2,20000604,1716, 55.4662, -53.6857, 3501,     60.8,   3.7952,  34.6630,2,-999.0000,9,    284.3,2,   -999.0,9,     8.35,6,    13.82,3,     1.09,3, -999.000,9, -999.000,9, -999.000,9, -999.000,9, -999.000,9,   -999.0,9,   -999.0,9,   3.7911, 20000604,     1718
  18HU20000520, AR07W,   129,  1, 229796,      4,2,20000604,1716, 55.4662, -53.6857, 3501,     49.4,   3.7240,  34.6439,2,-999.0000,9,    284.5,2,   -999.0,9,     8.32,6,    13.70,3,     1.09,3, -999.000,9, -999.000,9, -999.000,9, -999.000,9, -999.000,9,   -999.0,9,   -999.0,9,   3.7207, 20000604,     1719
  18HU20000520, AR07W,   129,  1, 229797,      5,2,20000604,1716, 55.4662, -53.6857, 3501,     39.5,   3.5081,  34.5953,2,-999.0000,9,    286.3,2,   -999.0,9,     8.37,6,    13.42,3,     1.14,3, -999.000,9, -999.000,9, -999.000,9, -999.000,9, -999.000,9,   -999.0,9,   -999.0,9,   3.5056, 20000604,     1719
  18HU20000520, AR07W,   129,  1, 229798,      6,2,20000604,1716, 55.4662, -53.6857, 3501,     39.5,   3.4987,  34.5937,2,-999.0000,9,    286.5,2,   -999.0,9,  -999.00,9,  -999.00,9,  -999.00,9, -999.000,9, -999.000,9, -999.000,9, -999.000,9, -999.000,9,   -999.0,9,   -999.0,9,   3.4962, 20000604,     1719
  18HU20000520, AR07W,   129,  1, 229799,      7,2,20000604,1716, 55.4662, -53.6857, 3501,     30.5,   3.1631,  34.5177,2,-999.0000,9,    290.2,2,   -999.0,9,     8.16,6,    13.03,3,     1.07,3, -999.000,9, -999.000,9, -999.000,9, -999.000,9, -999.000,9,   -999.0,9,   -999.0,9,   3.1612, 20000604,     1720
  18HU20000520, AR07W,   129,  1, 229800,      8,2,20000604,1716, 55.4662, -53.6857, 3501,     19.2,   2.3704,  34.2862,2,-999.0000,9,    299.0,2,   -999.0,9,     8.12,6,    11.63,3,     1.02,3, -999.000,9, -999.000,9, -999.000,9, -999.000,9, -999.000,9,   -999.0,9,   -999.0,9,   2.3694, 20000604,     1721
  18HU20000520, AR07W,   129,  1, 229801,      9,2,20000604,1716, 55.4662, -53.6857, 3501,     19.9,   2.3560,  34.2775,2,-999.0000,9,    304.0,2,   -999.0,9,  -999.00,9,  -999.00,9,  -999.00,9, -999.000,9, -999.000,9, -999.000,9, -999.000,9, -999.000,9,   -999.0,9,   -999.0,9,   2.3549, 20000604,     1721
  18HU20000520, AR07W,   129,  1, 229802,     10,2,20000604,1716, 55.4662, -53.6857, 3501,      8.8,   2.4991,  33.8093,2,-999.0000,9,    327.8,2,   -999.0,9,     8.16,6,     9.07,3,     0.94,3, -999.000,9, -999.000,9, -999.000,9, -999.000,9, -999.000,9,   -999.0,9,   -999.0,9,   2.4986, 20000604,     1722
  18HU20000520, AR07W,   129,  1, 229803,     11,2,20000604,1716, 55.4662, -53.6857, 3501,      8.9,   2.4715,  33.8186,2,-999.0000,9,    327.7,2,   -999.0,9,  -999.00,9,  -999.00,9,  -999.00,9, -999.000,9, -999.000,9, -999.000,9, -999.000,9, -999.000,9,   -999.0,9,   -999.0,9,   2.4710, 20000604,     1722
  18HU20000520, AR07W,   129,  1, 229804,     12,2,20000604,1716, 55.4662, -53.6857, 3501,      8.8,   2.4882,  33.7793,2,-999.0000,9,    328.5,2,   -999.0,9,  -999.00,9,  -999.00,9,  -999.00,9, -999.000,9, -999.000,9, -999.000,9, -999.000,9, -999.000,9,   -999.0,9,   -999.0,9,   2.4877, 20000604,     1722
  18HU20000520, AR07W,   129,  1, 229805,     13,2,20000604,1716, 55.4662, -53.6857, 3501,      8.9,   2.5069,  33.7678,2,-999.0000,9,    329.0,2,   -999.0,9,  -999.00,9,  -999.00,9,  -999.00,9, -999.000,9, -999.000,9, -999.000,9, -999.000,9, -999.000,9,   -999.0,9,   -999.0,9,   2.5064, 20000604,     1723
  18HU20000520, AR07W,   129,  1, 229806,     14,2,20000604,1716, 55.4662, -53.6857, 3501,      9.1,   2.5542,  33.7503,2,-999.0000,9,    330.1,2,   -999.0,9,  -999.00,9,  -999.00,9,  -999.00,9, -999.000,9, -999.000,9, -999.000,9, -999.000,9, -999.000,9,   -999.0,9,   -999.0,9,   2.5537, 20000604,     1723
  18HU20000520, AR07W,   129,  1, 229807,     15,2,20000604,1716, 55.4662, -53.6857, 3501,      3.4,   2.5783,  33.7508,2,-999.0000,9,    329.9,2,   -999.0,9,     8.07,6,     8.36,3,     0.91,3, -999.000,9, -999.000,9, -999.000,9, -999.000,9, -999.000,9,   -999.0,9,   -999.0,9,   2.5781, 20000604,     1724
  18HU20000520, AR07W,   134,  1, 229808,      1,2,20000604,2131, 55.2592, -53.9748, 3047,   2065.5,   2.9376,  34.8693,2,  34.8815,2,    272.6,2,    288.8,2,    10.60,6,    15.19,3,     1.14,3,    3.114,2,    1.580,2,    0.145,2,    3.704,3,    7.884,2,   2157.2,2,   2294.7,2,   2.7802, 20000604,     2131
  18HU20000520, AR07W,   134,  1, 229809,      2,2,20000604,2131, 55.2592, -53.9748, 3047,   1972.8,   2.9480,  34.8680,2,  34.8812,6,    272.7,2,    284.9,2,    10.52,6,    15.46,3,     1.14,3,    2.961,2,    1.742,2,    0.185,2,    2.991,2,    7.099,2,   2157.0,2,   2294.7,2,   2.7989, 20000604,     2133
  18HU20000520, AR07W,   134,  1, 229810,      3,2,20000604,2131, 55.2592, -53.9748, 3047,   1898.1,   2.9664,  34.8675,2,  34.8802,2,    273.3,2,    284.8,2,    10.60,6,    15.76,3,     1.15,3,    3.109,2,    1.682,2,    0.170,2,    3.236,2,    7.363,2,   2157.7,2,   2303.8,2,   2.8237, 20000604,     2135
  18HU20000520, AR07W,   134,  1, 229811,      4,2,20000604,2131, 55.2592, -53.9748, 3047,   1809.1,   3.0094,  34.8601,2,  34.8726,2,    275.2,2,    287.4,2,    10.37,6,    16.07,3,     1.16,3,    3.338,2,    1.769,2,    0.156,2,    3.467,2,    8.633,2,   2155.9,2,   2297.6,2,   2.8740, 20000604,     2137
  18HU20000520, AR07W,   134,  1, 229812,      5,2,20000604,2131, 55.2592, -53.9748, 3047,   1692.9,   3.0202,  34.8534,2,  34.8667,2,    277.0,2,    288.8,6,    10.22,6,    16.06,3,     1.15,3,    3.530,2,    1.776,2,    0.198,2,    3.762,3,    9.500,2,   2154.8,2,   2295.9,2,   2.8949, 20000604,     2140
  18HU20000520, AR07W,   134,  1, 229813,      6,2,20000604,2131, 55.2592, -53.9748, 3047,   1550.6,   3.0593,  34.8532,2,  34.8663,6,    276.7,2,    288.2,2,    10.19,6,    15.90,3,     1.15,3, -999.000,9, -999.000,9, -999.000,9, -999.000,9, -999.000,9,   2154.9,2,   2297.3,2,   2.9458, 20000604,     2142
  18HU20000520, AR07W,   134,  1, 229814,      7,2,20000604,2131, 55.2592, -53.9748, 3047,   1391.6,   3.1593,  34.8578,2,  34.8697,2,    275.3,2,    286.2,2,    10.14,6,    15.73,3,     1.17,3,    3.535,2,    1.792,2,    0.210,2,    3.591,2,    9.181,2,   2158.6,2,   2296.6,2,   3.0580, 20000604,     2145
  18HU20000520, AR07W,   134,  1, 229815,      8,2,20000604,2131, 55.2592, -53.9748, 3047,   1208.9,   3.2953,  34.8620,2,  34.8742,2,    272.9,2,    283.4,2,    10.14,6,    16.31,3,     1.16,3,    3.605,2,    1.821,6,    0.217,6,    3.629,6,    8.429,2,   2156.5,2,   2298.5,2,   3.2077, 20000604,     2149
  18HU20000520, AR07W,   134,  1, 229816,      9,2,20000604,2131, 55.2592, -53.9748, 3047,   1027.9,   3.3076,  34.8443,2,  34.8566,2,    278.4,2,    287.6,2,     9.41,6,    16.06,3,     1.12,3,    3.977,2,    2.023,2,    0.234,2,    3.802,2,    7.973,2,   2157.4,2,   2298.1,2,   3.2345, 20000604,     2152
  18HU20000520, AR07W,   134,  1, 229817,     10,2,20000604,2131, 55.2592, -53.9748, 3047,    848.6,   3.3585,  34.8421,2,  34.8538,2,    279.5,2,    288.6,2,     9.30,6,    15.64,3,     1.33,3,    4.161,2,    2.122,2,    0.289,2,    4.066,2,    7.470,2,   2156.2,2,   2301.7,2,   3.2990, 20000604,     2155
  18HU20000520, AR07W,   134,  1, 229818,     11,2,20000604,2131, 55.2592, -53.9748, 3047,    666.4,   3.4165,  34.8403,2,  34.8516,2,    280.6,2,    289.9,2,     9.07,6,    15.00,3,     1.13,3,    4.259,2,    2.467,3,   -0.029,4,    4.040,2,    7.340,2,   2156.8,2,   2293.2,2,   3.3704, 20000604,     2158
  18HU20000520, AR07W,   134,  1, 229819,     12,2,20000604,2131, 55.2592, -53.9748, 3047,    512.4,   3.4808,  34.8321,2,  34.8433,2,    284.3,2,    293.1,2,     8.65,6,    15.05,3,     1.09,3,    4.384,2,    2.464,2,    0.307,2,    4.207,2,    6.386,2,   2152.2,2,   2300.5,2,   3.4457, 20000604,     2201
  18HU20000520, AR07W,   134,  1, 229820,     13,2,20000604,2131, 55.2592, -53.9748, 3047,    379.0,   3.4788,  34.8196,2,  34.8308,2,    288.1,2,    295.7,2,     8.45,6,    15.03,3,     1.09,3,    4.483,2,    2.589,2,    0.351,3,    4.473,3,    6.018,2,   2150.8,2,   2294.2,2,   3.4533, 20000604,     2204
  18HU20000520, AR07W,   134,  1, 229821,     14,2,20000604,2131, 55.2592, -53.9748, 3047,    249.0,   3.5266,  34.8168,2,  34.8276,2,    288.4,2,    295.4,2,     8.27,6,    14.45,3,     1.16,3,    4.483,2,    2.561,2,    0.304,2,    4.312,2,    5.799,2,   2151.9,2,   2294.8,2,   3.5100, 20000604,     2207
  18HU20000520, AR07W,   134,  1, 229822,     15,2,20000604,2131, 55.2592, -53.9748, 3047,    150.7,   3.5587,  34.7884,2,  34.7988,2,    294.6,2,    301.5,2,     8.15,6,    13.84,3,     1.07,3,    4.635,2,    2.655,2,    0.345,2,    4.634,2,    5.536,2,   2149.0,2,   2291.6,2,   3.5487, 20000604,     2208
  18HU20000520, AR07W,   134,  1, 229823,     16,2,20000604,2131, 55.2592, -53.9748, 3047,     99.9,   3.5719,  34.7607,2,  34.7736,2,    299.2,2,    305.4,2,     8.18,6,    14.03,3,     1.05,3,    4.789,2,    2.816,2,    0.370,2,    4.879,2,    5.220,2,   2147.5,2,   2291.7,2,   3.5653, 20000604,     2210
  18HU20000520, AR07W,   134,  1, 229824,     17,2,20000604,2131, 55.2592, -53.9748, 3047,     79.4,   3.5409,  34.7384,2,-999.0000,9,    303.2,2,   -999.0,9,     8.13,6,    13.59,3,     0.99,3, -999.000,9, -999.000,9, -999.000,9, -999.000,9, -999.000,9,   -999.0,9,   -999.0,9,   3.5357, 20000604,     2211
  18HU20000520, AR07W,   134,  1, 229825,     18,2,20000604,2131, 55.2592, -53.9748, 3047,     59.0,   3.5887,  34.7233,2,-999.0000,9,    307.3,2,   -999.0,9,     8.10,6,    13.66,3,     1.02,3, -999.000,9, -999.000,9, -999.000,9, -999.000,9, -999.000,9,   -999.0,9,   -999.0,9,   3.5848, 20000604,     2212
  18HU20000520, AR07W,   134,  1, 229826,     19,2,20000604,2131, 55.2592, -53.9748, 3047,     49.0,   3.5771,  34.6971,2,  34.7075,2,    309.1,2,    316.4,2,     8.01,6,    13.35,3,     0.99,3,    5.014,2,    2.850,2,    0.379,2,    5.162,2,    4.978,2,   2137.0,2,   2291.6,2,   3.5739, 20000604,     2213
  18HU20000520, AR07W,   134,  1, 229827,     20,2,20000604,2131, 55.2592, -53.9748, 3047,     40.1,   3.5868,  34.5883,2,-999.0000,9,    313.6,2,   -999.0,9,     7.93,6,    12.94,3,     0.93,3, -999.000,9, -999.000,9, -999.000,9, -999.000,9, -999.000,9,   -999.0,9,   -999.0,9,   3.5842, 20000604,     2214
  18HU20000520, AR07W,   134,  1, 229828,     21,2,20000604,2131, 55.2592, -53.9748, 3047,     28.9,   3.3201,  34.3344,2,-999.0000,9,    324.1,2,   -999.0,9,     7.80,6,    10.98,3,     0.91,3, -999.000,9, -999.000,9, -999.000,9, -999.000,9, -999.000,9,   -999.0,9,   -999.0,9,   3.3183, 20000604,     2214
  18HU20000520, AR07W,   134,  1, 229829,     22,2,20000604,2131, 55.2592, -53.9748, 3047,     19.1,   3.0370,  33.9734,2,  33.9954,2,    327.9,2,    336.1,2,     7.95,6,     9.35,3,     0.92,3,    5.553,2,    3.019,2,    0.489,2,    5.977,2,    5.668,2,   2103.6,2,   2263.3,2,   3.0359, 20000604,     2215
  18HU20000520, AR07W,   134,  1, 229830,     23,2,20000604,2131, 55.2592, -53.9748, 3047,      8.6,   2.8521,  33.7651,2,-999.0000,9,    334.9,2,   -999.0,9,     8.28,6,     8.84,3,     0.88,3, -999.000,9, -999.000,9, -999.000,9, -999.000,9, -999.000,9,   -999.0,9,   -999.0,9,   2.8516, 20000604,     2216
  18HU20000520, AR07W,   134,  1, 229831,     24,2,20000604,2131, 55.2592, -53.9748, 3047,      3.5,   2.8517,  33.7614,2,  33.7741,2,    330.5,2,    337.5,2,     8.30,6,     8.32,3,     0.90,3,    5.737,2,    3.010,2,    0.541,2,    6.328,2,    5.784,2,   2102.3,2,   2250.1,2,   2.8515, 20000604,     2216
  18HU20000520, AR07W,   136,  1, 229832,      1,2,20000605,0039, 54.9710, -54.2225, 3444,    400.5,   3.8064,  34.8144,2,  34.8258,6,    287.3,2,    292.2,2,     8.47,6,    14.35,3,     1.08,3,    4.308,2,    2.479,2,    0.342,2,    4.296,2,    6.601,2,   2153.4,2,   2302.1,2,   3.7783, 20000605,       39
  18HU20000520, AR07W,   136,  1, 229833,      2,2,20000605,0039, 54.9710, -54.2225, 3444,    350.2,   3.9191,  34.8146,2,  34.8247,2,    288.1,2,    292.1,2,     8.60,6,    14.38,3,     1.06,3,    4.243,2,    2.495,2,    0.344,2,    4.249,2,    6.529,2,   2153.3,2,   2298.6,2,   3.8944, 20000605,       40
  18HU20000520, AR07W,   136,  1, 229834,      3,2,20000605,0039, 54.9710, -54.2225, 3444,    301.9,   3.7747,  34.7857,2,  34.7972,2,    293.5,2,    300.5,2,     8.24,6,    13.81,3,     1.03,3,    4.425,3,    2.638,3,    0.379,3,    4.616,3,    6.452,2,   2149.1,2,   2294.5,2,   3.7538, 20000605,       42
  18HU20000520, AR07W,   136,  1, 229835,      4,2,20000605,0039, 54.9710, -54.2225, 3444,    252.9,   4.1939,  34.8049,2,  34.8098,2,    286.1,2,    290.7,2,     8.24,6,    14.80,3,     1.05,3,    4.274,2,    2.460,2,    0.338,2,    4.271,2,    6.453,2,   2149.6,2,   2296.4,2,   4.1757, 20000605,       43
  18HU20000520, AR07W,   136,  1, 229836,      5,2,20000605,0039, 54.9710, -54.2225, 3444,    203.9,   4.1146,  34.7437,2,  34.7518,2,    280.6,2,    285.5,6,     8.18,6,    14.24,3,     1.07,3,    4.197,2,    2.550,2,    0.349,2,    4.005,2,    6.555,2,   2148.0,2,   2291.6,2,   4.1001, 20000605,       45
  18HU20000520, AR07W,   136,  1, 229837,      6,2,20000605,0039, 54.9710, -54.2225, 3444,    159.9,   3.0612,  34.4881,2,  34.4972,2,    292.2,2,    302.2,2,     8.01,6,    12.91,3,     1.04,3,    4.697,2,    2.717,2,    0.381,2,    4.703,2,    6.631,2,   2137.9,2,   2278.1,2,   3.0513, 20000605,       46
  18HU20000520, AR07W,   136,  1, 229838,      7,2,20000605,0039, 54.9710, -54.2225, 3444,    127.0,   1.3881,  34.0677,2,  34.0715,2,    306.3,2,    315.0,2,     8.45,6,    10.81,3,     0.95,3,    5.212,2,    2.977,2,    0.392,2,    5.442,2,    7.616,2,   2126.6,2,   2261.5,2,   1.3821, 20000605,       48
  18HU20000520, AR07W,   136,  1, 229839,      8,2,20000605,0039, 54.9710, -54.2225, 3444,    101.2,  -0.5146,  33.6281,2,  33.6293,2,    308.0,2,    321.4,2,     9.16,6,     9.82,3,     0.97,3,    5.620,2,    3.020,2,    0.412,2,    5.894,2,    8.470,2,   2122.7,2,   2251.4,2,  -0.5176, 20000605,       49
  18HU20000520, AR07W,   136,  1, 229840,      9,2,20000605,0039, 54.9710, -54.2225, 3444,     79.5,  -0.9898,  33.4856,2,-999.0000,9,    308.2,2,   -999.0,9,     9.45,6,    10.68,3,     0.98,3, -999.000,9, -999.000,9, -999.000,9, -999.000,9, -999.000,9,   -999.0,9,   -999.0,9,  -0.9918, 20000605,       50
  18HU20000520, AR07W,   136,  1, 229841,     10,2,20000605,0039, 54.9710, -54.2225, 3444,     59.7,  -1.3151,  33.2950,2,-999.0000,9,    308.5,2,   -999.0,9,    10.26,6,    10.79,3,     1.05,3, -999.000,9, -999.000,9, -999.000,9, -999.000,9, -999.000,9,   -999.0,9,   -999.0,9,  -1.3164, 20000605,       51
  18HU20000520, AR07W,   136,  1, 229842,     11,2,20000605,0039, 54.9710, -54.2225, 3444,     49.4,  -1.1850,  33.1866,2,  33.1918,2,    308.3,2,    322.7,2,    10.64,6,     9.64,3,     1.06,3,    5.854,2,    3.117,2,    0.420,2,    5.785,2,    9.275,2,   2127.5,2,   2241.4,2,  -1.1861, 20000605,       52
  18HU20000520, AR07W,   136,  1, 229843,     12,2,20000605,0039, 54.9710, -54.2225, 3444,     39.1,  -1.1734,  33.1084,2,-999.0000,9,    308.2,2,   -999.0,9,    10.78,6,     8.54,3,     1.09,3, -999.000,9, -999.000,9, -999.000,9, -999.000,9, -999.000,9,   -999.0,9,   -999.0,9,  -1.1743, 20000605,       52
  18HU20000520, AR07W,   136,  1, 229844,     13,2,20000605,0039, 54.9710, -54.2225, 3444,     29.1,  -1.0001,  32.8960,2,-999.0000,9,    320.7,2,   -999.0,9,    10.50,6,     7.82,3,     1.08,3, -999.000,9, -999.000,9, -999.000,9, -999.000,9, -999.000,9,   -999.0,9,   -999.0,9,  -1.0008, 20000605,       53
  18HU20000520, AR07W,   136,  1, 229845,     14,2,20000605,0039, 54.9710, -54.2225, 3444,     19.4,  -0.8136,  32.2858,2,-999.0000,9,    339.9,2,   -999.0,9,     8.88,6,     5.70,3,     0.96,3, -999.000,9, -999.000,9, -999.000,9, -999.000,9, -999.000,9,   -999.0,9,   -999.0,9,  -0.8141, 20000605,       54
  18HU20000520, AR07W,   136,  1, 229846,     15,2,20000605,0039, 54.9710, -54.2225, 3444,      9.0,  -0.5275,  32.0109,2,  32.0157,2,    344.9,2,    358.7,2,     8.40,6,     5.31,3,     0.91,3,    6.440,2,    3.698,2,    0.483,2,    7.813,2,    8.418,2,   2048.8,2,   2177.2,2,  -0.5277, 20000605,       55
  18HU20000520, AR07W,   136,  1, 229847,     16,2,20000605,0039, 54.9710, -54.2225, 3444,      3.5,  -0.1463,  31.9383,2,-999.0000,9,    344.1,2,   -999.0,9,     8.31,6,     5.30,3,     0.90,3, -999.000,9, -999.000,9, -999.000,9, -999.000,9, -999.000,9,   -999.0,9,   -999.0,9,  -0.1464, 20000605,       55