BOTTLE,20130610PRINUNIVRMK
EXPOCODE,SECT_ID,STNNBR,CASTNO,SAMPNO,BTLNBR,BTLNBR_FLAG_W,DATE,TIME,LATITUDE,LONGITUDE,DEPTH,CTDPRS,CTDTMP,CTDSAL,CTDSAL_FLAG_W,SALNTY,SALNTY_FLAG_W,CTDOXY,CTDOXY_FLAG_W,OXYGEN,OXYGEN_FLAG_W,SILCAT,SILCAT_FLAG_W,NITRAT,NITRAT_FLAG_W,PHSPHT,PHSPHT_FLAG_W,CFC-11,CFC-11_FLAG_W,CFC-12,CFC-12_FLAG_W,CFC113,CFC113_FLAG_W,CCL4,CCL4_FLAG_W,MCHFRM,MCHFRM_FLAG_W,TCARBN,TCARBN_FLAG_W,ALKALI,ALKALI_FLAG_W,THETA,BTL_DATE,BTL_TIME
,,,,,,,,,,,METERS,DBAR,ITS-90,PSS-78,,PSS-78,,UMOL/KG,,UMOL/KG,,UMOL/KG,,UMOL/KG,,UMOL/KG,,PMOL/KG,,PMOL/KG,,PMOL/KG,,PMOL/KG,,PMOL/KG,,UMOL/KG,,UMOL/KG,,DEG C,,
  18HU20000520, AR07W,   105,  1, 229689,      1,2,20000602,1755, 57.8845, -51.2318, 2786,   3617.0,   1.4510,  34.8503,2,  34.8618,2,    280.5,2,    299.3,2,    10.02,6,    13.14,3,     1.01,6,    3.494,2,    2.007,2,    0.300,2,    3.459,2,    7.253,2,   2158.9,2,   2301.5,2,   1.1730, 20000602,     1755
  18HU20000520, AR07W,   105,  1, 229690,      2,2,20000602,1755, 57.8845, -51.2318, 2786,   3593.1,   1.4755,  34.8499,2,  34.8621,2,    279.2,2,    298.4,2,    10.08,6,    13.19,3,     1.02,6,    3.493,2,    1.949,2,    0.227,2,    3.481,2,    7.795,2,   2157.2,2,   2296.6,2,   1.1993, 20000602,     1757
  18HU20000520, AR07W,   105,  1, 229691,      3,2,20000602,1755, 57.8845, -51.2318, 2786,   3492.8,   1.6755,  34.8550,2,  34.8664,2,    276.3,2,    295.6,2,     9.97,6,    13.56,3,     1.03,6,    3.255,2,    1.810,2,    0.264,2,    3.277,2,    7.500,2,   2156.7,2,   2306.3,2,   1.4046, 20000602,     1759
  18HU20000520, AR07W,   105,  1, 229692,      4,2,20000602,1755, 57.8845, -51.2318, 2786,   3381.2,   2.0127,  34.8662,2,  34.8772,2,    272.5,2,    289.9,2,    10.83,6,    14.31,3,     1.06,6, -999.000,9, -999.000,9, -999.000,9, -999.000,9, -999.000,9,   2158.2,2,   2307.1,2,   1.7450, 20000602,     1802
  18HU20000520, AR07W,   105,  1, 229693,      5,2,20000602,1755, 57.8845, -51.2318, 2786,   3250.7,   2.2963,  34.8784,2,  34.8895,2,    266.8,2,    284.4,2,    12.07,6,    14.93,3,     1.09,6,    2.424,2,    1.324,2,    0.181,2,    2.461,2,    6.322,2,   2159.1,2,   2304.8,2,   2.0353, 20000602,     1805
  18HU20000520, AR07W,   105,  1, 229694,      6,2,20000602,1755, 57.8845, -51.2318, 2786,   3084.0,   2.5864,  34.8876,2,  34.9000,6,    265.9,2,    281.7,2,    12.11,6,    14.96,3,     1.10,6,    2.199,2,    1.248,2,    0.165,2,    2.299,2,    5.592,2,   2156.6,2,   2284.3,3,   2.3361, 20000602,     1808
  18HU20000520, AR07W,   105,  1, 229695,      7,2,20000602,1755, 57.8845, -51.2318, 2786,   2939.2,   2.7268,  34.8893,2,  34.9011,2,    264.5,2,    280.2,2,    11.73,6,    15.20,3,     1.10,6,    2.208,2,    1.197,2,    0.138,2,    2.284,2,    5.615,2,   2157.5,2,   2311.6,2,   2.4883, 20000602,     1811
  18HU20000520, AR07W,   105,  1, 229696,      8,2,20000602,1755, 57.8845, -51.2318, 2786,   2739.5,   2.8830,  34.8918,2,  34.9034,2,    262.6,2,    279.2,2,    11.70,6,    15.68,3,     1.06,6,    2.138,2,    1.177,2,    0.091,2,    2.155,2,    5.792,2,   2158.0,2,   2300.7,2,   2.6616, 20000602,     1815
  18HU20000520, AR07W,   105,  1, 229697,      9,2,20000602,1755, 57.8845, -51.2318, 2786,   2517.5,   2.9804,  34.8795,2,  34.8918,2,    267.3,2,    283.9,2,    11.03,6,    15.50,3,     1.11,6,    2.479,2,    1.381,2,    0.200,2,    2.591,2,    6.577,2,   2155.3,2,   2308.4,2,   2.7793, 20000602,     1818
  18HU20000520, AR07W,   105,  1, 229698,     10,2,20000602,1755, 57.8845, -51.2318, 2786,   2290.6,   3.0418,  34.8629,2,  34.8750,2,    271.4,2,    287.6,2,    10.44,6,    15.77,3,     1.13,6,    2.908,2,    1.583,2,    0.192,2,    3.009,2,    8.069,2,   2156.0,2,   2304.3,2,   2.8616, 20000602,     1822
  18HU20000520, AR07W,   105,  1, 229699,     11,2,20000602,1755, 57.8845, -51.2318, 2786,   2040.5,   3.0674,  34.8495,2,  34.8618,6,    275.7,2,    289.1,2,    10.14,6,    16.23,3,     1.15,6,    3.266,2,    1.791,2,    0.238,2,    3.263,2,    9.015,2,   2156.1,2,   2300.9,2,   2.9104, 20000602,     1826
  18HU20000520, AR07W,   105,  1, 229700,     12,2,20000602,1755, 57.8845, -51.2318, 2786,   1789.6,   3.1552,  34.8510,2,  34.8634,2,    273.7,2,    286.8,2,    10.05,6,    16.62,3,     1.16,6,    3.323,2,    1.799,2,    0.247,2,    3.357,2,    8.799,2,   2156.7,2,   2293.4,2,   3.0196, 20000602,     1830
  18HU20000520, AR07W,   105,  1, 229701,     13,2,20000602,1755, 57.8845, -51.2318, 2786,   1550.6,   3.2765,  34.8564,2,  34.8690,2,    271.5,2,    285.4,6,    10.01,6,    16.65,3,     1.16,6,    3.374,2,    1.797,2,    0.259,2,    3.247,2,    8.994,2,   2158.5,2,   2315.8,2,   3.1604, 20000602,     1834
  18HU20000520, AR07W,   105,  1, 229702,     14,2,20000602,1755, 57.8845, -51.2318, 2786,   1299.8,   3.2665,  34.8351,2,  34.8465,2,    277.9,2,    291.8,2,     9.14,6,    15.87,3,     1.12,6,    3.815,2,    2.221,2,    0.270,2,    3.787,2,    7.922,2,   2156.8,2,   2296.3,2,   3.1718, 20000602,     1838
  18HU20000520, AR07W,   105,  1, 229703,     15,2,20000602,1755, 57.8845, -51.2318, 2786,   1070.0,   3.1933,  34.8180,2,  34.8303,2,    283.9,2,    295.2,2,     8.79,6,    15.43,3,     1.13,6,    4.072,2,    2.390,2,    0.298,2,    4.196,2,    7.796,2,   2151.2,2,   2407.7,3,   3.1178, 20000602,     1842
  18HU20000520, AR07W,   105,  1, 229704,     16,2,20000602,1755, 57.8845, -51.2318, 2786,    870.7,   3.1554,  34.8104,2,  34.8228,2,    285.3,2,    298.8,2,     8.82,6,    14.55,6,     1.47,3,    4.272,2,    2.511,2,    0.352,2,    4.308,2,    7.614,2,   2152.5,2,   2293.1,2,   3.0956, 20000602,     1845
  18HU20000520, AR07W,   105,  1, 229705,     17,2,20000602,1755, 57.8845, -51.2318, 2786,    680.0,   3.1545,  34.8067,2,  34.8188,2,    287.8,2,    297.6,2,     8.79,6,    14.80,6,     1.33,3,    4.297,2,    2.444,2,    0.371,2,    4.417,2,    7.274,2,   2153.6,2,   2297.9,2,   3.1088, 20000602,     1849
  18HU20000520, AR07W,   105,  1, 229706,     18,2,20000602,1755, 57.8845, -51.2318, 2786,    510.1,   3.1748,  34.8055,2,  34.8175,2,    288.9,2,    298.2,2,     8.85,6,    14.39,6,     1.15,6,    4.308,2,    2.448,2,    0.339,2,    4.376,2,    7.350,2,   2152.8,2,   2294.0,2,   3.1412, 20000602,     1852
  18HU20000520, AR07W,   105,  1, 229707,     19,2,20000602,1755, 57.8845, -51.2318, 2786,    359.6,   3.2182,  34.8039,2,  34.8163,2,    290.5,2,    299.5,2,     8.59,6,    14.39,6,     1.12,2,    4.311,2,    2.502,2,    0.342,2,    4.480,2,    7.161,2,   2153.8,2,   2296.9,2,   3.1948, 20000602,     1854
  18HU20000520, AR07W,   105,  1, 229708,     20,2,20000602,1755, 57.8845, -51.2318, 2786,    239.1,   3.3591,  34.8113,2,  34.8233,2,    290.3,2,    298.1,2,     8.53,6,    14.47,6,     1.15,6,    4.305,2,    2.508,2,    0.334,2,    4.429,2,    6.736,2,   2152.7,2,   2290.7,2,   3.3435, 20000602,     1856
  18HU20000520, AR07W,   105,  1, 229709,     21,2,20000602,1755, 57.8845, -51.2318, 2786,    139.0,   3.3081,  34.7892,2,  34.8020,2,    301.8,2,    309.5,2,     8.29,6,    12.88,6,     1.08,6,    4.737,6,    2.770,6,    0.362,6,    5.213,6,    6.490,6,   2146.2,2,   2297.6,2,   3.2992, 20000602,     1858
  18HU20000520, AR07W,   105,  1, 229710,     22,2,20000602,1755, 57.8845, -51.2318, 2786,     70.7,   3.3132,  34.7759,2,  34.7878,2,    307.8,2,    315.7,2,     8.13,6,    12.48,6,     1.07,6,    4.841,2,    2.845,2,    0.404,2,    5.383,2,    6.439,2,   2144.9,2,   2303.3,2,   3.3087, 20000602,     1900
  18HU20000520, AR07W,   105,  1, 229711,     23,2,20000602,1755, 57.8845, -51.2318, 2786,     34.3,   3.5810,  34.7172,2,  34.7291,2,    314.7,2,    321.4,2,     7.94,6,    11.44,6,     0.97,6,    4.989,2,    2.927,2,    0.424,2,    5.658,2,    6.486,2,   2134.5,2,   2302.7,2,   3.5788, 20000602,     1901
  18HU20000520, AR07W,   105,  1, 229712,     24,2,20000602,1755, 57.8845, -51.2318, 2786,      5.3,   3.6308,  34.7129,2,  34.7249,2,    316.7,2,    326.5,2,     7.86,6,    11.14,6,     0.92,6,    4.968,2,    2.977,2,    0.417,2,    7.070,2,    5.716,2,   2133.5,2,   2295.8,2,   3.6305, 20000602,     1903
  18HU20000520, AR07W,   110,  1, 229713,      1,2,20000603,0141, 57.2468, -51.8998, 2770,   3602.5,   1.3660,  34.8518,2,  34.8635,2,    281.0,2,    299.9,2,     9.88,6,    12.65,6,     0.99,6,    3.954,2,    2.066,2,    0.229,2,    4.009,2,    7.898,2,   2158.1,2,   2298.1,2,   1.0917, 20000603,      141
  18HU20000520, AR07W,   110,  1, 229714,      2,2,20000603,0141, 57.2468, -51.8998, 2770,   3529.7,   1.4837,  34.8527,2,  34.8654,2,    278.3,2,    299.8,2,     9.95,6,    12.68,6,     1.00,6,    3.730,2,    1.959,2,    0.217,2,    3.761,2,    7.795,2,   2158.0,2,   2300.3,2,   1.2138, 20000603,      143
  18HU20000520, AR07W,   110,  1, 229715,      3,2,20000603,0141, 57.2468, -51.8998, 2770,   3432.2,   1.7884,  34.8607,2,  34.8741,2,    274.2,2,    292.3,2,    10.37,6,    13.30,6,     1.01,6,    3.433,2,    1.816,2,    0.197,2,    3.573,2,    7.708,2,   2157.2,2,   2307.8,2,   1.5209, 20000603,      145
  18HU20000520, AR07W,   110,  1, 229716,      4,2,20000603,0141, 57.2468, -51.8998, 2770,   3309.3,   2.1376,  34.8744,2,  34.8877,2,    268.7,2,    285.9,2,    12.24,6,    13.92,6,     1.07,6,    2.776,2,    1.468,2,    0.138,2,    3.027,2,    6.212,2,   2158.3,2,   2301.0,2,   1.8743, 20000603,      148
  18HU20000520, AR07W,   110,  1, 229717,      5,2,20000603,0141, 57.2468, -51.8998, 2770,   3177.7,   2.3679,  34.8829,2,  34.8963,2,    265.7,2,    282.4,2,    12.71,6,    14.61,6,     1.09,6,    2.438,2,    1.364,2,    0.096,2,    2.721,2,    5.301,2,   2160.8,2,   2303.1,2,   2.1128, 20000603,      150
  18HU20000520, AR07W,   110,  1, 229718,      6,2,20000603,0141, 57.2468, -51.8998, 2770,   3041.3,   2.5872,  34.8903,2,  34.9025,6,    264.0,2,    279.7,2,    12.63,6,    14.84,6,     1.12,6,    2.382,2,    1.286,2,    0.096,2,    2.646,2,    5.112,2,   2158.1,2,   2306.3,2,   2.3413, 20000603,      153
  18HU20000520, AR07W,   110,  1, 229719,      7,2,20000603,0141, 57.2468, -51.8998, 2770,   2880.2,   2.7431,  34.8927,2,  34.9059,2,    263.3,2,    279.0,2,    12.39,6,    15.07,6,     1.17,6,    2.371,2,    1.318,2,    0.066,2,    2.640,2,    5.072,2,   2158.1,2,   2305.9,2,   2.5103, 20000603,      156
  18HU20000520, AR07W,   110,  1, 229720,      8,2,20000603,0141, 57.2468, -51.8998, 2770,   2688.4,   2.9046,  34.8915,2,  34.9046,2,    263.6,2,    279.4,2,    11.95,6,    15.51,6,     1.09,6,    2.378,2,    1.274,2,    0.097,2,    2.640,2,    5.396,2,   2157.6,2,   2305.5,2,   2.6879, 20000603,      159
  18HU20000520, AR07W,   110,  1, 229721,      9,2,20000603,0141, 57.2468, -51.8998, 2770,   2447.2,   3.0392,  34.8831,2,  34.8965,2,    267.4,2,    283.7,2,    11.51,6,    15.34,6,     1.16,6,    2.571,2,    1.393,2,    0.091,2,    2.804,2,    6.344,2,   2156.4,2,   2306.9,2,   2.8439, 20000603,      205
  18HU20000520, AR07W,   110,  1, 229722,     10,2,20000603,0141, 57.2468, -51.8998, 2770,   2216.6,   3.0525,  34.8633,2,  34.8764,2,    272.4,2,    286.0,2,    10.85,6,    15.92,6,     1.13,6,    3.027,2,    1.608,6,    0.152,2,    2.900,2,    8.197,6,   2156.2,2,   2280.2,3,   2.8792, 20000603,      208
  18HU20000520, AR07W,   110,  1, 229723,     11,2,20000603,0141, 57.2468, -51.8998, 2770,   2000.3,   3.0331,  34.8486,2,  34.8617,6,    277.7,2,    289.4,2,    10.44,6,    16.14,6,     1.14,6,    3.424,2,    1.932,3,    0.248,3,    3.312,2,    9.490,2,   2155.1,2,   2320.6,3,   2.8803, 20000603,      212
  18HU20000520, AR07W,   110,  1, 229724,     12,2,20000603,0141, 57.2468, -51.8998, 2770,   1763.3,   3.0991,  34.8498,2,  34.8631,2,    277.1,2,    288.2,2,    10.27,6,    16.11,6,     1.18,6,    3.682,3,    1.935,2,    0.185,2,    3.677,2,   10.283,3,   2154.8,2,   2308.8,2,   2.9666, 20000603,      216
  18HU20000520, AR07W,   110,  1, 229725,     13,2,20000603,0141, 57.2468, -51.8998, 2770,   1532.2,   3.2047,  34.8527,2,  34.8662,2,    267.9,2,    285.1,6,    10.34,6,    16.20,6,     1.17,6,    3.560,2,    1.941,2,    0.229,2,    3.588,2,    9.174,2,   2156.0,2,   2312.9,2,   3.0910, 20000603,      219
  18HU20000520, AR07W,   110,  1, 229726,     14,2,20000603,0141, 57.2468, -51.8998, 2770,   1290.7,   3.3487,  34.8568,2,  34.8700,2,    272.0,2,    282.5,2,    10.29,6,    16.02,6,     1.15,6,    3.650,2,    1.964,2,    0.252,2,    3.538,2,    9.495,3,   2157.5,2,   2311.3,2,   3.2539, 20000603,      224
  18HU20000520, AR07W,   110,  1, 229727,     15,2,20000603,0141, 57.2468, -51.8998, 2770,   1070.3,   3.1821,  34.8153,2,  34.8281,2,    283.8,2,    294.8,2,     9.00,6,    14.57,6,     1.10,6,    4.577,3,    2.559,3,    0.406,4,    4.621,3,    7.824,2,   2153.8,2,   2315.1,2,   3.1067, 20000603,      228
  18HU20000520, AR07W,   110,  1, 229728,     16,2,20000603,0141, 57.2468, -51.8998, 2770,    868.5,   3.1461,  34.8054,2,  34.8180,2,    285.3,2,    296.9,2,     8.73,6,    14.66,6,     1.04,6,    4.529,2,    2.506,2,    0.317,2,    4.546,2,    7.198,2,   2153.6,2,   2301.0,2,   3.0866, 20000603,      231
  18HU20000520, AR07W,   110,  1, 229729,     17,2,20000603,0141, 57.2468, -51.8998, 2770,    680.5,   3.0815,  34.7957,2,  34.8080,2,    290.6,2,    299.8,2,     8.49,6,    14.86,6,     1.04,6,    4.597,2,    2.527,2,    0.310,2,    4.603,2,    7.070,2,   2151.7,2,   2301.2,2,   3.0362, 20000603,      234
  18HU20000520, AR07W,   110,  1, 229730,     18,2,20000603,0141, 57.2468, -51.8998, 2770,    508.2,   3.1800,  34.8060,2,  34.8178,2,    289.9,2,    299.1,2,     8.59,6,    14.54,6,     1.06,6,    4.714,2,    2.630,2,    0.336,2,    4.840,3,    7.071,2,   2152.3,2,   2304.4,2,   3.1465, 20000603,      237
  18HU20000520, AR07W,   110,  1, 229731,     19,2,20000603,0141, 57.2468, -51.8998, 2770,    360.8,   3.2024,  34.8032,2,  34.8153,2,    288.8,2,    297.1,2,     8.72,6,    14.83,6,     1.07,6,    4.693,2,    2.600,2,    0.350,2,    4.724,2,    7.080,2,   2152.9,2,   2309.3,2,   3.1789, 20000603,      240
  18HU20000520, AR07W,   110,  1, 229732,     20,2,20000603,0141, 57.2468, -51.8998, 2770,    240.1,   3.1726,  34.7873,2,  34.8001,2,    290.3,2,    297.1,2,     8.65,6,    14.85,6,     1.07,6,    4.735,2,    2.690,2,    0.415,2,    4.681,2,    6.873,2,   2152.5,2,   2302.7,2,   3.1573, 20000603,      242
  18HU20000520, AR07W,   110,  1, 229733,     21,2,20000603,0141, 57.2468, -51.8998, 2770,    139.3,   3.6526,  34.8224,2,  34.8351,2,    281.6,2,    289.3,2,     8.69,6,    14.62,6,     1.16,6,    4.392,2,    2.453,2,    0.322,2,    4.337,2,    6.342,2,   2152.9,2,   2297.1,2,   3.6433, 20000603,      244
  18HU20000520, AR07W,   110,  1, 229734,     22,2,20000603,0141, 57.2468, -51.8998, 2770,     69.9,   3.2556,  34.7350,2,  34.7535,2,    300.9,2,    306.3,2,     8.34,6,    13.56,6,     1.01,6,    5.030,2,    2.728,2,    0.519,2,    5.101,2,    5.404,2,   2145.5,2,   2292.8,2,   3.2512, 20000603,      245
  18HU20000520, AR07W,   110,  1, 229735,     23,2,20000603,0141, 57.2468, -51.8998, 2770,     33.7,   3.6388,  34.7202,2,  34.7329,2,    316.2,2,    322.7,2,     7.40,6,    11.52,6,     0.95,6,    5.334,2,    2.883,2,    0.469,2,    6.009,2,    5.162,2,   2131.7,2,   2297.3,2,   3.6366, 20000603,      246
  18HU20000520, AR07W,   110,  1, 229736,     24,2,20000603,0141, 57.2468, -51.8998, 2770,      1.4,   3.6376,  34.7113,2,  34.7313,2,    317.2,2,    327.3,2,     7.25,6,    11.23,6,     0.88,6,    5.446,2,    2.983,2,    0.436,2,    6.759,2,    5.346,2,   2131.7,2,   2295.8,2,   3.6375, 20000603,      247