BOTTLE,20130610PRINUNIVRMK
EXPOCODE,SECT_ID,STNNBR,CASTNO,SAMPNO,BTLNBR,BTLNBR_FLAG_W,DATE,TIME,LATITUDE,LONGITUDE,DEPTH,CTDPRS,CTDTMP,CTDSAL,CTDSAL_FLAG_W,SALNTY,SALNTY_FLAG_W,CTDOXY,CTDOXY_FLAG_W,OXYGEN,OXYGEN_FLAG_W,SILCAT,SILCAT_FLAG_W,NITRAT,NITRAT_FLAG_W,PHSPHT,PHSPHT_FLAG_W,CFC-11,CFC-11_FLAG_W,CFC-12,CFC-12_FLAG_W,CFC113,CFC113_FLAG_W,CCL4,CCL4_FLAG_W,MCHFRM,MCHFRM_FLAG_W,TCARBN,TCARBN_FLAG_W,ALKALI,ALKALI_FLAG_W,THETA,BTL_DATE,BTL_TIME
,,,,,,,,,,,METERS,DBAR,ITS-90,PSS-78,,PSS-78,,UMOL/KG,,UMOL/KG,,UMOL/KG,,UMOL/KG,,UMOL/KG,,PMOL/KG,,PMOL/KG,,PMOL/KG,,PMOL/KG,,PMOL/KG,,UMOL/KG,,UMOL/KG,,DEG C,,
  18HU20000520, AR07W,    90,  1, 229539,      1,2,20000531,2249, 59.7543, -49.1583, 3420,   3255.2,   1.3585,  34.8552,2,-999.0000,9,    282.8,2,   -999.0,9,  -999.00,9,  -999.00,9,  -999.00,9, -999.000,9, -999.000,9, -999.000,9, -999.000,9, -999.000,9,   -999.0,9,   -999.0,9,   1.1193, 20000531,     2249
  18HU20000520, AR07W,    90,  1, 229540,      2,2,20000531,2249, 59.7543, -49.1583, 3420,   3199.3,   1.3535,  34.8552,2,  34.8684,2,    282.5,2,    301.7,2,     8.95,6,    12.96,6,     0.96,6,    3.816,2,    1.951,2,    0.227,2,    3.661,2,    6.829,2,   2156.0,2,   2301.9,2,   1.1198, 20000531,     2251
  18HU20000520, AR07W,    90,  1, 229541,      3,2,20000531,2249, 59.7543, -49.1583, 3420,   3119.1,   1.5323,  34.8555,2,  34.8685,2,    280.0,2,    298.4,2,     9.34,6,    13.41,6,     0.98,6,    3.616,2,    1.864,2,    0.205,2,    3.468,2,    6.634,2,   2157.5,2,   2304.0,2,   1.3023, 20000531,     2253
  18HU20000520, AR07W,    90,  1, 229542,      4,2,20000531,2249, 59.7543, -49.1583, 3420,   3019.0,   1.8346,  34.8601,2,  34.8734,2,    277.5,2,    295.1,2,     9.81,6,    14.07,6,     1.05,6,    3.475,2,    1.841,2,    0.187,2,    3.414,2,    6.352,2,   2156.7,2,   2300.0,2,   1.6076, 20000531,     2255
  18HU20000520, AR07W,    90,  1, 229543,      5,2,20000531,2249, 59.7543, -49.1583, 3420,   2899.6,   2.1387,  34.8701,2,  34.8826,2,    272.0,2,    289.2,2,    11.09,6,    14.56,6,     1.05,6,    2.929,2,    1.590,2,    0.152,2,    2.940,2,    5.358,2,   2155.8,2,   2306.3,2,   1.9168, 20000531,     2257
  18HU20000520, AR07W,    90,  1, 229544,      6,2,20000531,2249, 59.7543, -49.1583, 3420,   2768.8,   2.3835,  34.8825,2,  34.8951,6,    268.1,2,    284.6,2,    12.10,6,    15.27,6,     1.07,6,    2.494,2,    1.334,2,    0.121,2,    2.567,2,    4.228,3,   2157.6,2,   2307.2,2,   2.1693, 20000531,     2259
  18HU20000520, AR07W,    90,  1, 229545,      7,2,20000531,2249, 59.7543, -49.1583, 3420,   2619.0,   2.5683,  34.8838,2,  34.8968,6,    268.5,2,    285.9,2,    11.39,6,    15.44,6,     1.08,6,    2.561,2,    1.343,2,    0.094,2,    2.620,2,    4.433,2,   2156.4,2,   2309.4,2,   2.3651, 20000531,     2302
  18HU20000520, AR07W,    90,  1, 229546,      8,2,20000531,2249, 59.7543, -49.1583, 3420,   2459.5,   2.7924,  34.8919,2,  34.9054,2,    265.4,2,    280.1,2,    11.69,6,    15.84,6,     1.12,6,    2.275,3,    1.198,2,    0.060,2,    2.372,2,    4.238,2,   2156.2,2,   2303.9,2,   2.6003, 20000531,     2305
  18HU20000520, AR07W,    90,  1, 229547,      9,2,20000531,2249, 59.7543, -49.1583, 3420,   2255.0,   2.9219,  34.8798,2,  34.8930,2,    268.7,2,    283.0,2,    10.68,6,    15.85,6,     1.09,6,    2.737,2,    1.408,2,    0.119,2,    2.747,2,    5.720,2,   2155.0,2,   2302.8,2,   2.7471, 20000531,     2309
  18HU20000520, AR07W,    90,  1, 229548,     10,2,20000531,2249, 59.7543, -49.1583, 3420,   2059.7,   2.9959,  34.8735,2,  34.8868,2,    271.0,2,    284.2,2,    10.53,6,    16.01,6,     1.12,6,    2.744,3,    1.426,2,    0.131,2,    2.747,2,    6.095,2,   2157.2,2,   2304.3,2,   2.8381, 20000531,     2313
  18HU20000520, AR07W,    90,  1, 229549,     11,2,20000531,2249, 59.7543, -49.1583, 3420,   1850.2,   2.9918,  34.8521,2,  34.8648,2,    273.2,2,    289.7,2,    10.08,6,    16.10,6,     1.14,6,    3.310,2,    1.728,3,    0.179,2,    3.266,2,    8.496,2,   2153.7,2,   2304.8,3,   2.8531, 20000531,     2316
  18HU20000520, AR07W,    90,  1, 229550,     12,2,20000531,2249, 59.7543, -49.1583, 3420,   1640.9,   3.0779,  34.8533,2,  34.8665,2,    275.4,2,    288.8,2,    10.12,6,    16.42,6,     1.13,6,    3.487,2,    1.894,3,    0.151,2,    3.375,2,    9.039,2,   2154.8,2,   2296.9,2,   2.9564, 20000531,     2320
  18HU20000520, AR07W,    90,  1, 229551,     13,2,20000531,2249, 59.7543, -49.1583, 3420,   1429.1,   3.2020,  34.8579,2,  34.8708,2,    273.2,2,    285.6,6,    10.20,6,    16.16,6,     1.15,6,    3.620,2,    1.743,2,    0.400,4,    3.386,2,    9.190,2,   2156.0,2,   2299.8,2,   3.0971, 20000531,     2324
  18HU20000520, AR07W,    90,  1, 229552,     14,2,20000531,2249, 59.7543, -49.1583, 3420,   1229.4,   3.3585,  34.8632,2,  34.8755,2,    271.3,2,    281.9,2,     9.94,6,    15.96,6,     1.13,6,    3.553,3,    1.874,2,    0.199,2,    3.289,2,    7.983,2,   2157.4,2,   2312.1,2,   3.2686, 20000531,     2327
  18HU20000520, AR07W,    90,  1, 229553,     15,2,20000531,2249, 59.7543, -49.1583, 3420,   1029.6,   3.4350,  34.8563,2,  34.8676,2,    274.2,2,    285.4,2,     9.45,6,    15.64,6,     1.14,6,    3.880,2,    1.891,2,    0.212,2,    3.562,2,    7.349,2,   2155.8,2,   2306.4,2,   3.3607, 20000531,     2331
  18HU20000520, AR07W,    90,  1, 229554,     16,2,20000531,2249, 59.7543, -49.1583, 3420,    839.0,   3.4296,  34.8424,2,  34.8554,2,    279.5,2,    289.8,2,     8.95,6,    15.24,6,     1.12,6,    4.152,6,    2.047,6,    0.249,6,    3.798,6,    6.829,6,   2155.8,2,   2301.9,2,   3.3704, 20000531,     2334
  18HU20000520, AR07W,    90,  1, 229555,     17,2,20000531,2249, 59.7543, -49.1583, 3420,    659.9,   3.4558,  34.8359,2,  34.8479,2,    284.7,2,    294.3,2,     8.44,6,    14.92,6,     1.07,6,    4.318,2,    2.148,2,    0.262,2,    3.981,2,    6.008,2,   2153.5,2,   2308.7,2,   3.4100, 20000531,     2337
  18HU20000520, AR07W,    90,  1, 229556,     18,2,20000531,2249, 59.7543, -49.1583, 3420,    479.9,   3.6666,  34.8515,2,  34.8624,2,    284.9,2,    293.7,2,     8.32,6,    14.78,6,     1.07,6,    4.296,2,    2.274,2,    0.283,2,    3.978,2,    5.320,2,   2151.8,2,   2307.2,2,   3.6331, 20000531,     2340
  18HU20000520, AR07W,    90,  1, 229557,     19,2,20000531,2249, 59.7543, -49.1583, 3420,    329.8,   3.8136,  34.8558,2,  34.8679,2,    285.1,2,    292.5,2,     8.15,6,    14.74,6,     1.09,6,    4.406,2,    2.207,2,    0.286,2,    4.109,2,    5.253,2,   2149.6,2,   2307.7,2,   3.7906, 20000531,     2343
  18HU20000520, AR07W,    90,  1, 229558,     20,2,20000531,2249, 59.7543, -49.1583, 3420,    210.1,   3.9634,  34.8535,2,  34.8652,2,    285.7,2,    292.7,2,     8.00,6,    14.83,6,     1.10,6,    4.312,2,    2.300,2,    0.359,3,    3.942,2,    4.678,2,   2148.0,2,   2293.4,2,   3.9487, 20000531,     2345
  18HU20000520, AR07W,    90,  1, 229559,     21,2,20000531,2249, 59.7543, -49.1583, 3420,    109.9,   3.7592,  34.7864,2,  34.7959,2,    287.7,2,    294.8,2,     7.73,6,    14.49,6,     1.09,6,    4.567,2,    2.587,2,    0.296,2,    4.288,2,    4.737,2,   2147.5,2,   2295.8,2,   3.7518, 20000531,     2347
  18HU20000520, AR07W,    90,  1, 229560,     22,2,20000531,2249, 59.7543, -49.1583, 3420,     47.7,   2.4232,  34.1972,2,  34.2121,2,    326.8,2,    339.2,2,     5.89,6,     5.30,6,     0.75,6,    5.215,2,    2.614,2,    0.337,2,    5.221,2,    4.655,2,   2084.0,2,   2264.7,2,   2.4206, 20000531,     2349
  18HU20000520, AR07W,    90,  1, 229561,     23,2,20000531,2249, 59.7543, -49.1583, 3420,     24.4,   2.1740,  33.9542,2,  33.9771,2,    367.8,2,    374.7,2,     4.34,6,     1.88,6,     0.40,6,    5.540,2,    2.875,2,    0.386,2,    5.674,2,    5.103,2,   2038.6,2,   2252.6,2,   2.1727, 20000531,     2350
  18HU20000520, AR07W,    90,  1, 229562,     24,2,20000531,2249, 59.7543, -49.1583, 3420,      3.7,   2.4892,  33.8761,2,  33.8876,2,    359.8,2,    370.7,2,     4.62,6,     1.19,6,     0.37,6, -999.000,9, -999.000,9, -999.000,9, -999.000,9, -999.000,9,   2027.6,2,   2239.0,2,   2.4890, 20000531,     2351
  18HU20000520, AR07W,    93,  1, 229563,      1,2,20000601,0337, 60.1748, -48.6622, 2892,   2882.1,   1.7309,  34.8617,2,  34.8735,2,    282.4,2,    298.4,2,     8.92,6,    13.11,6,     1.00,6,    3.474,2,    1.928,2,    0.290,2,    3.557,2,    6.761,2,   2152.3,2,   2286.2,2,   1.5193, 20000601,      337
  18HU20000520, AR07W,    93,  1, 229564,      2,2,20000601,0337, 60.1748, -48.6622, 2892,   2818.1,   1.7194,  34.8618,2,  34.8738,6,    279.5,2,    298.0,2,     8.95,6,    13.26,6,     1.01,6,    3.433,2,    1.919,2,    0.254,2,    3.510,2,    6.854,2,   2152.9,2,   2287.5,2,   1.5142, 20000601,      339
  18HU20000520, AR07W,    93,  1, 229565,      3,2,20000601,0337, 60.1748, -48.6622, 2892,   2749.4,   1.8974,  34.8632,2,-999.0000,9,    276.3,2,   -999.0,9,  -999.00,9,  -999.00,9,  -999.00,9, -999.000,9, -999.000,9, -999.000,9, -999.000,9, -999.000,9,   -999.0,9,   -999.0,9,   1.6950, 20000601,      340
  18HU20000520, AR07W,    93,  1, 229566,      4,2,20000601,0337, 60.1748, -48.6622, 2892,   2638.8,   2.1161,  34.8700,2,  34.8825,2,    282.7,2,    291.5,2,    10.23,6,    14.03,6,     1.07,6,    2.988,2,    1.678,2,    0.194,2,    2.954,2,    6.258,2,   -999.0,9,   2283.9,2,   1.9197, 20000601,      343
  18HU20000520, AR07W,    93,  1, 229567,      5,2,20000601,0337, 60.1748, -48.6622, 2892,   2524.1,   2.2400,  34.8731,2,  34.8851,6,    276.3,2,    289.8,2,    10.37,6,    14.29,6,     1.07,6,    2.883,2,    1.628,2,    0.160,2,    2.899,2,    6.222,2,   -999.0,9,   2279.7,2,   2.0521, 20000601,      346
  18HU20000520, AR07W,    93,  1, 229568,      6,2,20000601,0337, 60.1748, -48.6622, 2892,   2399.8,   2.4920,  34.8787,2,-999.0000,9,    267.3,2,   -999.0,9,  -999.00,9,  -999.00,9,  -999.00,9, -999.000,9, -999.000,9, -999.000,9, -999.000,9, -999.000,9,   -999.0,9,   -999.0,9,   2.3111, 20000601,      348
  18HU20000520, AR07W,    93,  1, 229569,      7,2,20000601,0337, 60.1748, -48.6622, 2892,   2240.4,   2.6053,  34.8802,2,-999.0000,9,    276.1,2,   -999.0,9,  -999.00,9,  -999.00,9,  -999.00,9, -999.000,9, -999.000,9, -999.000,9, -999.000,9, -999.000,9,   -999.0,9,   -999.0,9,   2.4372, 20000601,      351
  18HU20000520, AR07W,    93,  1, 229570,      8,2,20000601,0337, 60.1748, -48.6622, 2892,   2059.8,   2.7332,  34.8807,2,-999.0000,9,    271.5,2,   -999.0,9,  -999.00,9,  -999.00,9,  -999.00,9, -999.000,9, -999.000,9, -999.000,9, -999.000,9, -999.000,9,   -999.0,9,   -999.0,9,   2.5794, 20000601,      354
  18HU20000520, AR07W,    93,  1, 229571,      9,2,20000601,0337, 60.1748, -48.6622, 2892,   1899.2,   2.9167,  34.8827,2,  34.8955,2,    268.5,2,    282.1,2,    10.93,6,    15.57,6,     1.12,6,    2.616,2,    1.457,2,    0.160,2,    2.671,2,    6.126,2,   2154.8,2,   2297.4,2,   2.7746, 20000601,      357
  18HU20000520, AR07W,    93,  1, 229572,     10,2,20000601,0337, 60.1748, -48.6622, 2892,   1680.0,   2.9947,  34.8624,2,  34.8745,2,    273.8,2,    287.3,2,    10.29,6,    15.53,6,     1.16,6,    3.024,2,    1.661,2,    0.222,2,    3.015,2,    7.875,2,   2151.4,2,   2289.9,2,   2.8708, 20000601,      401
  18HU20000520, AR07W,    93,  1, 229573,     11,2,20000601,0337, 60.1748, -48.6622, 2892,   1479.7,   3.0145,  34.8519,2,-999.0000,9,    276.6,2,   -999.0,9,  -999.00,9,  -999.00,9,  -999.00,9, -999.000,9, -999.000,9, -999.000,9, -999.000,9, -999.000,9,   -999.0,9,   -999.0,9,   2.9075, 20000601,      404
  18HU20000520, AR07W,    93,  1, 229574,     12,2,20000601,0337, 60.1748, -48.6622, 2892,   1279.9,   3.1211,  34.8545,2,  34.8666,2,    272.9,2,    289.1,2,    10.11,6,    15.69,6,     1.18,6,    3.308,2,    1.854,2,    0.195,6,    3.144,2,    8.238,2,   2150.1,2,   2293.5,2,   3.0294, 20000601,      408
  18HU20000520, AR07W,    93,  1, 229575,     13,2,20000601,0337, 60.1748, -48.6622, 2892,   1080.7,   3.3325,  34.8621,2,-999.0000,9,    271.9,2,   -999.0,9,  -999.00,9,  -999.00,9,  -999.00,9, -999.000,9, -999.000,9, -999.000,9, -999.000,9, -999.000,9,   -999.0,9,   -999.0,9,   3.2550, 20000601,      411
  18HU20000520, AR07W,    93,  1, 229576,     14,2,20000601,0337, 60.1748, -48.6622, 2892,    889.3,   3.4712,  34.8589,2,-999.0000,9,    276.1,2,   -999.0,9,  -999.00,9,  -999.00,9,  -999.00,9, -999.000,9, -999.000,9, -999.000,9, -999.000,9, -999.000,9,   -999.0,9,   -999.0,9,   3.4078, 20000601,      414
  18HU20000520, AR07W,    93,  1, 229577,     15,2,20000601,0337, 60.1748, -48.6622, 2892,    720.3,   3.5659,  34.8562,2,  34.8684,2,    286.3,2,    294.7,2,     8.66,6,    14.81,6,     1.13,6,    4.084,2,    2.430,2,    0.281,2,    4.000,2,    6.486,2,   2152.4,2,   2292.7,2,   3.5149, 20000601,      418
  18HU20000520, AR07W,    93,  1, 229578,     16,2,20000601,0337, 60.1748, -48.6622, 2892,    581.0,   3.6889,  34.8699,2,  34.8821,2,    289.6,2,    296.8,2,     8.45,6,    15.15,6,     1.12,6,    4.125,2,    2.525,3,    0.319,2,    4.133,2,    6.272,2,   -999.0,9,   2290.2,2,   3.6478, 20000601,      420
  18HU20000520, AR07W,    93,  1, 229579,     17,2,20000601,0337, 60.1748, -48.6622, 2892,    460.3,   3.7544,  34.8717,2,  34.8837,2,    286.1,2,    295.0,2,     8.46,6,    15.00,6,     1.12,6,    3.982,2,    2.418,2,    0.245,2,    4.032,2,    6.315,2,   -999.0,9,   2294.7,3,   3.7220, 20000601,      423
  18HU20000520, AR07W,    93,  1, 229580,     18,2,20000601,0337, 60.1748, -48.6622, 2892,    340.1,   3.9256,  34.8823,2,-999.0000,9,    284.7,2,   -999.0,9,  -999.00,9,  -999.00,9,  -999.00,9, -999.000,9, -999.000,9, -999.000,9, -999.000,9, -999.000,9,   -999.0,9,   -999.0,9,   3.9016, 20000601,      425
  18HU20000520, AR07W,    93,  1, 229581,     19,2,20000601,0337, 60.1748, -48.6622, 2892,    240.3,   4.1279,  34.8877,2,  34.8984,2,    286.6,2,    291.7,2,     8.14,6,    14.62,6,     1.13,6,    3.944,2,    2.408,2,    0.285,2,    3.831,2,    5.652,2,   2148.3,2,   2293.4,2,   4.1107, 20000601,      427
  18HU20000520, AR07W,    93,  1, 229582,     20,2,20000601,0337, 60.1748, -48.6622, 2892,    140.1,   3.9076,  34.7991,2,  34.8009,2,    292.0,2,    301.2,2,     7.68,6,    11.57,6,     1.04,6,    4.405,2,    2.687,2,    0.274,2,    4.616,2,    5.869,2,   2139.5,2,   2290.5,2,   3.8980, 20000601,      429
  18HU20000520, AR07W,    93,  1, 229583,     21,2,20000601,0337, 60.1748, -48.6622, 2892,     79.9,   2.6690,  34.2420,2,  34.2643,2,    317.6,2,    325.9,2,     6.06,6,     5.13,6,     0.65,6,    5.045,2,    2.975,2,    0.257,2,    5.788,2,    6.023,2,   2081.0,2,   2266.0,2,   2.6644, 20000601,      431
  18HU20000520, AR07W,    93,  1, 229584,     22,2,20000601,0337, 60.1748, -48.6622, 2892,     39.5,   2.5126,  34.0688,2,  34.0810,2,    341.1,2,    351.9,2,     5.44,6,     2.86,6,     0.47,6,    5.349,2,    3.101,2,    0.335,2,    6.377,2,    5.959,2,   2045.0,2,   2268.5,2,   2.5104, 20000601,      432
  18HU20000520, AR07W,    93,  1, 229585,     23,2,20000601,0337, 60.1748, -48.6622, 2892,     19.6,   1.9256,  33.7576,2,-999.0000,9,    381.4,2,   -999.0,9,  -999.00,9,  -999.00,9,  -999.00,9, -999.000,9, -999.000,9, -999.000,9, -999.000,9, -999.000,9,   -999.0,9,   -999.0,9,   1.9246, 20000601,      433
  18HU20000520, AR07W,    93,  1, 229586,     24,2,20000601,0337, 60.1748, -48.6622, 2892,      2.4,   0.9423,  33.3456,2,  34.0812,4,    426.6,2,    443.2,2,     4.05,6,    -0.03,3,     0.25,6,    5.943,2,    3.302,2,    0.339,2,    6.579,2,    7.016,2,   1952.3,2,   2219.2,2,   0.9422, 20000601,      434