BOTTLE,20130610PRINUNIVRMK
EXPOCODE,SECT_ID,STNNBR,CASTNO,SAMPNO,BTLNBR,BTLNBR_FLAG_W,DATE,TIME,LATITUDE,LONGITUDE,DEPTH,CTDPRS,CTDTMP,CTDSAL,CTDSAL_FLAG_W,SALNTY,SALNTY_FLAG_W,CTDOXY,CTDOXY_FLAG_W,OXYGEN,OXYGEN_FLAG_W,SILCAT,SILCAT_FLAG_W,NITRAT,NITRAT_FLAG_W,PHSPHT,PHSPHT_FLAG_W,CFC-11,CFC-11_FLAG_W,CFC-12,CFC-12_FLAG_W,CFC113,CFC113_FLAG_W,CCL4,CCL4_FLAG_W,MCHFRM,MCHFRM_FLAG_W,TCARBN,TCARBN_FLAG_W,ALKALI,ALKALI_FLAG_W,THETA,BTL_DATE,BTL_TIME
,,,,,,,,,,,METERS,DBAR,ITS-90,PSS-78,,PSS-78,,UMOL/KG,,UMOL/KG,,UMOL/KG,,UMOL/KG,,UMOL/KG,,PMOL/KG,,PMOL/KG,,PMOL/KG,,PMOL/KG,,PMOL/KG,,UMOL/KG,,UMOL/KG,,DEG C,,
  18HU20000520, AR07W,   112,  1, 229737,      1,2,20000603,0641, 56.8873, -52.3053, 2970,   3563.5,   1.4633,  34.8495,2,  34.8631,2,    280.6,2,    297.2,2,    10.56,6,    13.36,6,     0.99,6,    3.484,2,    1.956,2,    0.254,2,    3.477,2,    7.544,2,   2158.1,2,   2302.3,2,   1.1905, 20000603,      641
  18HU20000520, AR07W,   112,  1, 229738,      2,2,20000603,0641, 56.8873, -52.3053, 2970,   3501.8,   1.5148,  34.8503,2,  34.8633,2,    277.5,2,    297.5,2,    10.52,6,    13.65,6,     1.02,6,    3.459,2,    1.866,2,    0.309,2,    3.483,2,    7.758,2,   2156.8,2,   2301.8,2,   1.2470, 20000603,      643
  18HU20000520, AR07W,   112,  1, 229739,      3,2,20000603,0641, 56.8873, -52.3053, 2970,   3408.3,   1.6864,  34.8554,2,  34.8686,2,    274.8,2,    294.4,2,    10.29,6,    13.81,6,     1.02,6,    3.271,2,    1.841,2,    0.447,4,    3.228,2,    7.821,2,   2156.2,2,   2292.0,2,   1.4239, 20000603,      645
  18HU20000520, AR07W,   112,  1, 229740,      4,2,20000603,0641, 56.8873, -52.3053, 2970,   3299.5,   2.0519,  34.8704,2,  34.8837,2,    271.2,2,    287.2,2,    11.66,6,    14.56,6,     1.07,6,    2.723,2,    1.479,2,    0.281,3,    2.864,2,    6.886,2,   2155.9,2,   2293.6,2,   1.7917, 20000603,      647
  18HU20000520, AR07W,   112,  1, 229741,      5,2,20000603,0641, 56.8873, -52.3053, 2970,   3179.1,   2.3131,  34.8804,2,  34.8938,2,    267.2,2,    283.6,2,    12.65,6,    14.69,6,     1.06,6,    2.366,2,    1.264,2,    0.172,2,    2.525,2,    6.275,2,   2156.9,2,   2299.3,2,   2.0591, 20000603,      650
  18HU20000520, AR07W,   112,  1, 229742,      6,2,20000603,0641, 56.8873, -52.3053, 2970,   3020.7,   2.5730,  34.8903,2,  34.9029,6,    265.3,2,    280.1,2,    12.82,6,    15.02,6,     1.12,6,    2.095,2,    1.131,2,    0.192,2,    2.153,2,    5.835,2,   2152.3,2,   2300.9,2,   2.3295, 20000603,      653
  18HU20000520, AR07W,   112,  1, 229743,      7,2,20000603,0641, 56.8873, -52.3053, 2970,   2881.0,   2.7453,  34.8966,2,  34.9103,2,    262.7,2,    278.4,2,    12.72,6,    15.07,6,     1.13,6,    2.045,2,    1.137,2,    0.216,3,    2.112,2,    5.475,2,   2155.2,2,   2285.7,3,   2.5123, 20000603,      655
  18HU20000520, AR07W,   112,  1, 229744,      8,2,20000603,0641, 56.8873, -52.3053, 2970,   2687.9,   2.9052,  34.8963,2,  34.9095,2,    263.2,2,    279.0,2,    12.45,6,    15.81,6,     1.12,6,    2.054,2,    1.106,2,    0.159,2,    2.106,2,    5.571,2,   2154.1,2,   2307.7,2,   2.6885, 20000603,      658
  18HU20000520, AR07W,   112,  1, 229745,      9,2,20000603,0641, 56.8873, -52.3053, 2970,   2479.6,   2.9613,  34.8774,2,  34.8908,2,    267.5,2,    282.6,2,    11.15,6,    15.91,6,     1.13,6,    2.591,2,    1.439,3,    0.343,3,    2.623,2,    7.045,2,   2151.1,2,   2292.7,2,   2.7642, 20000603,      702
  18HU20000520, AR07W,   112,  1, 229746,     10,2,20000603,0641, 56.8873, -52.3053, 2970,   2252.6,   3.0500,  34.8688,2,  34.8818,2,    269.9,2,    284.0,2,    10.94,6,    16.39,6,     1.16,6,    2.720,2,    1.393,2,    0.204,2,    2.844,2,    7.671,2,   2154.0,2,   2297.9,2,   2.8733, 20000603,      706
  18HU20000520, AR07W,   112,  1, 229747,     11,2,20000603,0641, 56.8873, -52.3053, 2970,   1914.8,   3.0375,  34.8495,2,  34.8633,6,    276.1,2,    289.1,2,    10.55,6,    16.29,6,     1.16,6,    3.197,6,    1.702,2,    0.195,6,    3.221,2,   10.042,2,   2153.8,2,   2300.4,2,   2.8924, 20000603,      712
  18HU20000520, AR07W,   112,  1, 229748,     12,2,20000603,0641, 56.8873, -52.3053, 2970,   1690.4,   3.1150,  34.8524,2,  34.8662,2,    274.4,2,    287.4,2,    10.50,6,    16.29,6,     1.17,6,    3.013,3,    1.897,2,    2.098,4,    2.976,2,    9.250,2,   2153.5,2,   2306.1,2,   2.9887, 20000603,      716
  18HU20000520, AR07W,   112,  1, 229749,     13,2,20000603,0641, 56.8873, -52.3053, 2970,   1419.8,   3.2766,  34.8632,2,  34.8766,2,    271.0,2,    282.6,6,    10.68,6,    16.68,6,     1.17,6,    3.091,3,    1.673,3,    0.293,2,    3.056,2,    8.413,2,   2155.4,2,   2303.2,2,   3.1717, 20000603,      721
  18HU20000520, AR07W,   112,  1, 229750,     14,2,20000603,0641, 56.8873, -52.3053, 2970,   1199.3,   3.3845,  34.8627,2,  34.8760,2,    270.2,2,    281.1,2,    10.40,6,    16.51,6,     1.18,6,    3.268,3,    1.805,3,    0.316,2,    3.234,2,    8.435,2,   2155.6,2,   2301.5,2,   3.2969, 20000603,      725
  18HU20000520, AR07W,   112,  1, 229751,     15,2,20000603,0641, 56.8873, -52.3053, 2970,   1009.5,   3.4430,  34.8582,2,  34.8713,2,    270.8,2,    280.6,2,    10.09,6,    15.94,6,     1.16,6,    3.290,3,    2.245,2,    1.283,4,    3.127,3,    8.218,2,   2158.1,2,   2302.7,2,   3.3703, 20000603,      728
  18HU20000520, AR07W,   112,  1, 229752,     16,2,20000603,0641, 56.8873, -52.3053, 2970,    785.1,   3.2268,  34.8160,2,  34.8713,2,    283.3,2,    294.6,2,     9.06,6,    15.44,6,     1.09,6,    4.354,3,    2.512,2,    0.423,2,    4.488,2,    7.406,2,   2154.3,2,   2303.1,2,   3.1729, 20000603,      732
  18HU20000520, AR07W,   112,  1, 229753,     17,2,20000603,0641, 56.8873, -52.3053, 2970,    609.0,   3.2116,  34.8097,2,  34.8141,2,    286.0,2,    293.4,2,     8.80,6,    15.18,6,     1.12,6,    4.153,2,    2.488,2,    0.298,2,    4.218,2,    7.464,2,   2152.0,2,   2302.3,2,   3.1708, 20000603,      736
  18HU20000520, AR07W,   112,  1, 229754,     18,2,20000603,0641, 56.8873, -52.3053, 2970,    470.0,   3.3093,  34.8162,2,  34.8285,2,    282.4,2,    291.2,2,     8.93,6,    15.41,6,     1.12,6,    3.985,2,    2.345,3,    0.659,4,    3.903,2,    7.733,3,   2155.8,2,   2289.5,2,   3.2779, 20000603,      739
  18HU20000520, AR07W,   112,  1, 229755,     19,2,20000603,0641, 56.8873, -52.3053, 2970,    361.3,   3.1943,  34.7912,2,  34.8039,2,    288.2,2,    296.0,2,     8.71,6,    15.23,6,     1.12,6, -999.000,9, -999.000,9, -999.000,9, -999.000,9, -999.000,9,   2151.4,2,   2283.3,2,   3.1708, 20000603,      741
  18HU20000520, AR07W,   112,  1, 229756,     20,2,20000603,0641, 56.8873, -52.3053, 2970,    250.1,   3.3032,  34.7883,2,  34.7999,2,    287.6,2,    294.9,2,     8.78,6,    15.44,6,     1.12,6,    4.314,2,    2.486,2,    0.411,2,    4.409,2,    7.079,2,   2149.3,2,   2301.7,2,   3.2870, 20000603,      743
  18HU20000520, AR07W,   112,  1, 229757,     21,2,20000603,0641, 56.8873, -52.3053, 2970,    140.2,   3.1822,  34.7282,2,  34.7406,2,    300.6,2,    307.8,2,     8.43,6,    14.34,6,     1.07,6,    4.715,2,    2.732,2,    0.682,4,    5.034,2,    7.054,2,   2141.0,2,   2305.6,2,   3.1734, 20000603,      745
  18HU20000520, AR07W,   112,  1, 229758,     22,2,20000603,0641, 56.8873, -52.3053, 2970,     69.2,   3.6544,  34.6632,2,  34.6771,2,    313.1,2,    319.7,2,     6.98,6,    11.58,6,     0.97,6,    4.963,2,    2.863,2,    0.436,2,    5.702,2,    6.444,2,   2130.0,2,   2294.9,2,   3.6498, 20000603,      747
  18HU20000520, AR07W,   112,  1, 229759,     23,2,20000603,0641, 56.8873, -52.3053, 2970,     34.4,   3.7960,  34.6207,2,  34.6327,2,    319.5,2,    325.6,2,     8.35,3,    14.22,6,     1.11,3,    5.019,2,    2.948,2,    0.432,2,    5.872,2,    6.066,2,   2122.7,2,   2286.1,2,   3.7937, 20000603,      748
  18HU20000520, AR07W,   112,  1, 229760,     24,2,20000603,0641, 56.8873, -52.3053, 2970,      3.1,   3.7928,  34.6211,2,  34.6337,2,    320.4,2,    327.4,2,     4.83,6,    10.10,6,     0.82,6,    5.024,2,    2.969,2,    0.347,2,    5.836,2,    5.796,2,   2119.3,2,   2284.1,2,   3.7926, 20000603,      749
  18HU20000520, AR07W,   119,  1, 229761,      1,2,20000603,2016, 56.5383, -52.6340, 2916,    100.0,   3.4743,  34.7332,2,-999.0000,9,    313.0,2,   -999.0,9,     7.97,6,    12.50,6,     1.00,6, -999.000,9, -999.000,9, -999.000,9, -999.000,9, -999.000,9,   -999.0,9,   -999.0,9,   3.4678, 20000603,     2016
  18HU20000520, AR07W,   119,  1, 229762,      2,2,20000603,2016, 56.5383, -52.6340, 2916,     80.3,   3.5284,  34.7280,2,-999.0000,9,    314.2,2,   -999.0,9,     7.85,6,    11.94,6,     0.98,6, -999.000,9, -999.000,9, -999.000,9, -999.000,9, -999.000,9,   -999.0,9,   -999.0,9,   3.5232, 20000603,     2017
  18HU20000520, AR07W,   119,  1, 229763,      3,2,20000603,2016, 56.5383, -52.6340, 2916,     60.4,   3.5529,  34.7026,2,-999.0000,9,    310.0,2,   -999.0,9,     7.53,6,    11.90,6,     0.99,6, -999.000,9, -999.000,9, -999.000,9, -999.000,9, -999.000,9,   -999.0,9,   -999.0,9,   3.5490, 20000603,     2018
  18HU20000520, AR07W,   119,  1, 229764,      4,2,20000603,2016, 56.5383, -52.6340, 2916,     49.3,   3.7398,  34.6916,2,-999.0000,9,    317.9,2,   -999.0,9,     6.75,6,    10.98,6,     0.91,6, -999.000,9, -999.000,9, -999.000,9, -999.000,9, -999.000,9,   -999.0,9,   -999.0,9,   3.7365, 20000603,     2018
  18HU20000520, AR07W,   119,  1, 229765,      5,2,20000603,2016, 56.5383, -52.6340, 2916,     39.0,   3.8091,  34.6709,2,-999.0000,9,    320.3,2,   -999.0,9,     6.60,6,    10.73,6,     0.89,6, -999.000,9, -999.000,9, -999.000,9, -999.000,9, -999.000,9,   -999.0,9,   -999.0,9,   3.8065, 20000603,     2019
  18HU20000520, AR07W,   119,  1, 229766,      6,2,20000603,2016, 56.5383, -52.6340, 2916,     39.9,   3.8097,  34.6708,2,-999.0000,9,    320.3,2,   -999.0,9,  -999.00,9,  -999.00,9,  -999.00,9, -999.000,9, -999.000,9, -999.000,9, -999.000,9, -999.000,9,   -999.0,9,   -999.0,9,   3.8070, 20000603,     2019
  18HU20000520, AR07W,   119,  1, 229767,      7,2,20000603,2016, 56.5383, -52.6340, 2916,     29.5,   3.8488,  34.6616,2,-999.0000,9,    318.9,2,   -999.0,9,     6.58,6,    10.62,6,     0.89,6, -999.000,9, -999.000,9, -999.000,9, -999.000,9, -999.000,9,   2125.6,2,   2298.8,3,   3.8468, 20000603,     2020
  18HU20000520, AR07W,   119,  1, 229768,      8,2,20000603,2016, 56.5383, -52.6340, 2916,     25.1,   3.8775,  34.6592,2,-999.0000,9,    323.1,2,   -999.0,9,     6.49,6,    10.09,6,     0.87,6, -999.000,9, -999.000,9, -999.000,9, -999.000,9, -999.000,9,   2123.6,2,   2296.5,2,   3.8758, 20000603,     2021
  18HU20000520, AR07W,   119,  1, 229769,      9,2,20000603,2016, 56.5383, -52.6340, 2916,     19.7,   3.9160,  34.6563,2,-999.0000,9,    326.7,2,   -999.0,9,     6.51,6,    10.43,6,     0.88,6, -999.000,9, -999.000,9, -999.000,9, -999.000,9, -999.000,9,   2123.8,2,   2294.2,2,   3.9147, 20000603,     2021
  18HU20000520, AR07W,   119,  1, 229770,     10,2,20000603,2016, 56.5383, -52.6340, 2916,     20.1,   3.9167,  34.6564,2,-999.0000,9,    323.0,2,   -999.0,9,  -999.00,9,  -999.00,9,  -999.00,9, -999.000,9, -999.000,9, -999.000,9, -999.000,9, -999.000,9,   -999.0,9,   -999.0,9,   3.9153, 20000603,     2021
  18HU20000520, AR07W,   119,  1, 229771,     11,2,20000603,2016, 56.5383, -52.6340, 2916,     14.8,   3.9035,  34.6578,2,-999.0000,9,    325.2,2,   -999.0,9,     6.45,6,    10.43,6,     0.87,6, -999.000,9, -999.000,9, -999.000,9, -999.000,9, -999.000,9,   2123.0,2,   2292.9,3,   3.9025, 20000603,     2023
  18HU20000520, AR07W,   119,  1, 229772,     12,2,20000603,2016, 56.5383, -52.6340, 2916,      9.6,   3.9096,  34.6571,2,-999.0000,9,    324.6,2,   -999.0,9,     6.52,6,    10.72,6,     0.89,6, -999.000,9, -999.000,9, -999.000,9, -999.000,9, -999.000,9,   2124.4,2,   2287.8,3,   3.9090, 20000603,     2023
  18HU20000520, AR07W,   119,  1, 229773,     13,2,20000603,2016, 56.5383, -52.6340, 2916,      9.8,   3.9106,  34.6572,2,-999.0000,9,    323.3,2,   -999.0,9,  -999.00,9,  -999.00,9,  -999.00,9, -999.000,9, -999.000,9, -999.000,9, -999.000,9, -999.000,9,   -999.0,9,   -999.0,9,   3.9099, 20000603,     2023
  18HU20000520, AR07W,   119,  1, 229774,     14,2,20000603,2016, 56.5383, -52.6340, 2916,      9.5,   3.9097,  34.6574,2,-999.0000,9,    323.6,2,   -999.0,9,  -999.00,9,  -999.00,9,  -999.00,9, -999.000,9, -999.000,9, -999.000,9, -999.000,9, -999.000,9,   -999.0,9,   -999.0,9,   3.9091, 20000603,     2023
  18HU20000520, AR07W,   119,  1, 229775,     15,2,20000603,2016, 56.5383, -52.6340, 2916,      9.8,   3.9070,  34.6576,2,-999.0000,9,    323.6,2,   -999.0,9,  -999.00,9,  -999.00,9,  -999.00,9, -999.000,9, -999.000,9, -999.000,9, -999.000,9, -999.000,9,   -999.0,9,   -999.0,9,   3.9063, 20000603,     2024
  18HU20000520, AR07W,   119,  1, 229776,     16,2,20000603,2016, 56.5383, -52.6340, 2916,      9.6,   3.9109,  34.6572,2,-999.0000,9,    323.7,2,   -999.0,9,  -999.00,9,  -999.00,9,  -999.00,9, -999.000,9, -999.000,9, -999.000,9, -999.000,9, -999.000,9,   -999.0,9,   -999.0,9,   3.9103, 20000603,     2024
  18HU20000520, AR07W,   119,  1, 229777,     17,2,20000603,2016, 56.5383, -52.6340, 2916,      5.3,   3.9084,  34.6578,2,-999.0000,9,    323.4,2,   -999.0,9,     6.48,6,    10.09,6,     0.88,6, -999.000,9, -999.000,9, -999.000,9, -999.000,9, -999.000,9,   2123.5,2,   2282.9,2,   3.9080, 20000603,     2024
  18HU20000520, AR07W,   123,  1, 229778,      1,2,20000604,0125, 56.6785, -53.1643, 3424,     60.5,   3.5659,  34.6932,2,-999.0000,9,    314.5,2,   -999.0,9,     7.47,6,    11.72,6,     0.98,6, -999.000,9, -999.000,9, -999.000,9, -999.000,9, -999.000,9,   -999.0,9,   -999.0,9,   3.5619, 20000604,      125
  18HU20000520, AR07W,   123,  1, 229779,      2,2,20000604,0125, 56.6785, -53.1643, 3424,     29.6,   3.7743,  34.6728,2,-999.0000,9,    318.1,2,   -999.0,9,     7.21,6,    10.82,6,     0.92,6, -999.000,9, -999.000,9, -999.000,9, -999.000,9, -999.000,9,   -999.0,9,   -999.0,9,   3.7723, 20000604,      126
  18HU20000520, AR07W,   123,  1, 229780,      3,2,20000604,0125, 56.6785, -53.1643, 3424,      3.5,   3.7781,  34.6724,2,-999.0000,9,    318.2,2,   -999.0,9,     7.15,6,    11.00,6,     0.92,6, -999.000,9, -999.000,9, -999.000,9, -999.000,9, -999.000,9,   -999.0,9,   -999.0,9,   3.7779, 20000604,      127
  18HU20000520, AR07W,   124,  1, 229781,      1,2,20000604,0252, 56.6023, -52.9987, 3501,   2003.8,   3.0163,  34.8475,2,  34.8599,2,    278.4,2,    291.4,2,    10.38,6,    15.66,6,     1.18,6,    3.320,2,    1.836,2,    0.218,2,    4.135,4,    9.467,2,   2155.7,2,   2308.4,2,   2.8634, 20000604,      252
  18HU20000520, AR07W,   124,  1, 229782,      2,2,20000604,0252, 56.6023, -52.9987, 3501,   1744.5,   3.0997,  34.8501,2,  34.8631,2,    276.5,2,    289.2,2,    10.38,6,    15.53,6,     1.18,6,    3.213,2,    1.742,2,    0.206,2,    3.345,3,    9.135,2,   2157.3,2,   2312.2,2,   2.9689, 20000604,      259
  18HU20000520, AR07W,   124,  1, 229783,      3,2,20000604,0252, 56.6023, -52.9987, 3501,   1499.1,   3.2054,  34.8542,2,  34.8668,2,    273.7,2,    286.4,2,    10.35,6,    16.01,6,     1.21,6,    3.227,2,    1.814,2,    0.261,2,    3.175,3,    8.782,2,   2156.7,2,   2297.9,2,   3.0945, 20000604,      306
  18HU20000520, AR07W,   124,  1, 229784,      4,2,20000604,0252, 56.6023, -52.9987, 3501,   1248.9,   3.3438,  34.8571,2,  34.8698,2,    273.1,2,    286.6,2,    10.22,6,    15.73,6,     1.21,6,    3.304,2,    1.855,2,    0.225,2,    3.238,2,    8.475,2,   2158.0,2,   2292.9,2,   3.2525, 20000604,      312
  18HU20000520, AR07W,   124,  1, 229785,      5,2,20000604,0252, 56.6023, -52.9987, 3501,   1005.0,   3.2557,  34.8289,2,  34.8408,2,    280.7,2,    292.4,2,     9.17,6,    15.43,6,     1.16,6,    3.896,2,    2.231,3,    0.289,2,    3.950,2,    8.074,2,   2153.6,2,   2290.4,2,   3.1848, 20000604,      317
  18HU20000520, AR07W,   124,  1, 229786,      6,2,20000604,0252, 56.6023, -52.9987, 3501,    743.9,   3.1366,  34.8055,2,  34.8172,2,    288.8,2,    302.0,2,     8.51,6,    14.90,6,     1.17,6,    4.271,2,    2.433,2,    0.350,2,    4.396,2,    7.503,2,   2152.0,2,   2301.6,2,   3.0864, 20000604,      324
  18HU20000520, AR07W,   124,  1, 229787,      7,2,20000604,0252, 56.6023, -52.9987, 3501,    499.5,   3.1621,  34.8040,2,  34.8163,2,    289.6,2,    299.9,2,     8.62,6,    14.57,6,     1.16,6,    4.344,2,    2.469,2,    0.355,2,    4.449,2,    7.227,2,   2153.5,2,   2305.6,2,   3.1292, 20000604,      329
  18HU20000520, AR07W,   124,  1, 229788,      8,2,20000604,0252, 56.6023, -52.9987, 3501,    330.5,   3.2986,  34.8134,2,  34.8245,2,    291.8,2,    301.1,2,     8.41,6,    14.36,6,     1.16,6,    4.300,2,    2.599,2,    0.330,2,    4.518,2,    7.035,2,   2152.3,2,   2291.5,2,   3.2769, 20000604,      333
  18HU20000520, AR07W,   124,  1, 229789,      9,2,20000604,0252, 56.6023, -52.9987, 3501,    202.3,   3.4846,  34.8276,2,  34.8393,2,    286.0,2,    293.8,2,     8.63,6,    14.42,6,     1.17,6,    4.050,3,    2.279,3,    0.298,2,    4.160,2,    7.047,2,   2152.7,2,   2293.5,2,   3.4712, 20000604,      338
  18HU20000520, AR07W,   124,  1, 229790,     10,2,20000604,0252, 56.6023, -52.9987, 3501,     69.9,   3.6078,  34.6821,2,  34.6934,2,    317.8,2,    323.8,2,     7.03,6,    10.87,6,     0.99,6,    4.886,2,    2.865,2,    0.330,2,    5.746,2,    6.110,2,   2133.3,2,   2298.5,2,   3.6032, 20000604,      341
  18HU20000520, AR07W,   124,  1, 229791,     11,2,20000604,0252, 56.6023, -52.9987, 3501,     20.1,   3.8393,  34.6479,2,  34.6600,2,    322.4,2,    330.4,2,     6.09,6,     9.71,6,     0.89,6,    4.906,2,    2.948,2,    0.406,2,    5.840,2,    6.263,2,   2124.8,2,   2301.3,2,   3.8380, 20000604,      344
  18HU20000520, AR07W,   124,  1, 229792,     12,2,20000604,0252, 56.6023, -52.9987, 3501,      3.4,   3.8423,  34.6468,2,  34.6590,2,    322.9,2,    334.1,2,     6.08,6,     9.95,6,     0.90,6,    5.016,2,    2.893,2,    0.410,2,    6.031,2,    6.215,2,   2123.7,2,   2295.6,2,   3.8421, 20000604,      346