BOTTLE,20130610PRINUNIVRMK
EXPOCODE,SECT_ID,STNNBR,CASTNO,SAMPNO,BTLNBR,BTLNBR_FLAG_W,DATE,TIME,LATITUDE,LONGITUDE,DEPTH,CTDPRS,CTDTMP,CTDSAL,CTDSAL_FLAG_W,SALNTY,SALNTY_FLAG_W,CTDOXY,CTDOXY_FLAG_W,OXYGEN,OXYGEN_FLAG_W,SILCAT,SILCAT_FLAG_W,NITRAT,NITRAT_FLAG_W,PHSPHT,PHSPHT_FLAG_W,CFC-11,CFC-11_FLAG_W,CFC-12,CFC-12_FLAG_W,CFC113,CFC113_FLAG_W,CCL4,CCL4_FLAG_W,MCHFRM,MCHFRM_FLAG_W,TCARBN,TCARBN_FLAG_W,ALKALI,ALKALI_FLAG_W,THETA,BTL_DATE,BTL_TIME
,,,,,,,,,,,METERS,DBAR,ITS-90,PSS-78,,PSS-78,,UMOL/KG,,UMOL/KG,,UMOL/KG,,UMOL/KG,,UMOL/KG,,PMOL/KG,,PMOL/KG,,PMOL/KG,,PMOL/KG,,PMOL/KG,,UMOL/KG,,UMOL/KG,,DEG C,,
  18HU20000520, AR07W,   138,  1, 229848,      1,2,20000605,0745, 54.4507, -52.9558, 3409,   1579.3,   3.2099,  34.8593,2,  34.8716,6,    273.5,2,    284.1,2,    10.42,6,    16.57,6,     1.20,6,    3.301,2,    1.882,2,    0.215,2,    3.345,2,    8.560,2,   2157.8,3,   2302.4,2,   3.0921, 20000605,      745
  18HU20000520, AR07W,   138,  1, 229849,      2,2,20000605,0745, 54.4507, -52.9558, 3409,   1488.4,   3.2134,  34.8598,2,  34.8717,2,    278.4,2,    284.3,2,    10.33,6,    16.59,6,     1.20,6,    3.340,2,    1.870,2,    0.235,2,    3.299,2,    8.729,2,   2156.4,3,   2283.1,2,   3.1033, 20000605,      748
  18HU20000520, AR07W,   138,  1, 229850,      3,2,20000605,0745, 54.4507, -52.9558, 3409,   1397.4,   3.2947,  34.8612,2,  34.8733,2,    272.9,2,    283.4,2,    10.18,6,    16.69,6,     1.21,6,    3.345,2,    1.896,2,    0.233,2,    3.400,2,    8.551,2,   2157.1,3,   2282.6,2,   3.1915, 20000605,      750
  18HU20000520, AR07W,   138,  1, 229851,      4,2,20000605,0745, 54.4507, -52.9558, 3409,   1258.8,   3.3570,  34.8582,2,  34.8703,2,    273.2,2,    283.4,2,     9.99,6,    16.62,6,     1.20,6,    3.453,2,    2.012,2,    0.227,2,    3.442,2,    8.090,2,   2157.6,3,   2286.5,2,   3.2647, 20000605,      753
  18HU20000520, AR07W,   138,  1, 229852,      5,2,20000605,0745, 54.4507, -52.9558, 3409,   1100.2,   3.3565,  34.8460,2,  34.8580,2,    277.1,2,    287.2,6,  -999.00,9,  -999.00,9,  -999.00,9,    3.758,2,    2.189,2,    0.270,2,    4.020,3,    7.777,2,   2155.8,3,   2287.8,2,   3.2772, 20000605,      756
  18HU20000520, AR07W,   138,  1, 229853,      6,2,20000605,0745, 54.4507, -52.9558, 3409,    902.3,   3.3948,  34.8401,2,  34.8536,2,    279.5,2,    289.8,2,     9.30,6,    16.11,6,     1.18,6,    3.806,2,    2.199,2,    0.270,2,    3.879,2,    7.294,2,   2155.2,3,   2279.3,2,   3.3309, 20000605,      759
  18HU20000520, AR07W,   138,  1, 229854,      7,2,20000605,0745, 54.4507, -52.9558, 3409,    720.5,   3.3879,  34.8312,2,  34.8428,2,    282.5,2,    291.9,2,     8.95,6,    15.85,6,     1.18,6,    4.093,2,    2.440,2,    0.321,2,    4.434,3,    7.511,3,   2153.8,3,   2295.7,2,   3.3379, 20000605,      803
  18HU20000520, AR07W,   138,  1, 229855,      8,2,20000605,0745, 54.4507, -52.9558, 3409,    562.4,   3.4998,  34.8286,2,  34.8405,2,    284.0,2,    293.0,2,     8.65,6,    15.60,6,     1.16,6,    4.133,2,    2.400,2,    0.341,2,    4.200,2,    6.770,2,   2152.3,3,   2299.4,2,   3.4610, 20000605,      806
  18HU20000520, AR07W,   138,  1, 229856,      9,2,20000605,0745, 54.4507, -52.9558, 3409,    401.7,   3.6848,  34.8298,2,  34.8410,2,    282.0,2,    289.7,2,     8.70,6,    15.55,6,     1.14,6,    4.039,2,    2.377,2,    0.323,2,    4.038,2,    6.611,2,   2152.1,3,   2287.6,2,   3.6570, 20000605,      809
  18HU20000520, AR07W,   138,  1, 229857,     10,2,20000605,0745, 54.4507, -52.9558, 3409,    251.0,   3.8477,  34.8229,2,  34.8342,2,    282.9,2,    289.9,2,     8.65,6,    15.31,6,     1.15,6,    4.024,6,    2.424,6,    0.287,2,    4.154,2,    6.550,2,   2151.1,3,   2284.9,2,   3.8303, 20000605,      812
  18HU20000520, AR07W,   138,  1, 229858,     11,2,20000605,0745, 54.4507, -52.9558, 3409,    120.8,   3.9347,  34.7757,2,  34.7830,2,    302.3,2,    292.4,2,     8.58,6,    14.46,6,     1.10,6,    4.227,2,    2.494,2,    0.320,2,    4.273,2,    6.280,2,   2146.8,3,   2287.3,2,   3.9264, 20000605,      815
  18HU20000520, AR07W,   138,  1, 229859,     12,2,20000605,0745, 54.4507, -52.9558, 3409,     60.8,   3.4935,  34.5454,2,  34.5535,2,    329.8,2,    307.5,2,     8.38,6,    12.50,6,     1.02,6,    4.661,2,    2.737,2,    0.376,2,    4.878,2,    6.338,2,   2133.6,3,   2271.4,3,   3.4896, 20000605,      817
  18HU20000520, AR07W,   138,  1, 229860,     13,2,20000605,0745, 54.4507, -52.9558, 3409,     50.5,   3.4500,  34.4973,2,-999.0000,9,    308.9,2,   -999.0,9,     8.10,6,    11.92,6,     1.00,6, -999.000,9, -999.000,9, -999.000,9, -999.000,9, -999.000,9,   -999.0,9,   -999.0,9,   3.4468, 20000605,      818
  18HU20000520, AR07W,   138,  1, 229861,     14,2,20000605,0745, 54.4507, -52.9558, 3409,     40.6,   3.4015,  34.3859,2,-999.0000,9,    316.2,2,   -999.0,9,     8.23,6,    10.90,6,     0.96,6, -999.000,9, -999.000,9, -999.000,9, -999.000,9, -999.000,9,   -999.0,9,   -999.0,9,   3.3989, 20000605,      819
  18HU20000520, AR07W,   138,  1, 229862,     15,2,20000605,0745, 54.4507, -52.9558, 3409,     29.2,   3.0881,  34.0929,2,-999.0000,9,    326.3,2,   -999.0,9,     8.34,6,     9.96,6,     0.91,6, -999.000,9, -999.000,9, -999.000,9, -999.000,9, -999.000,9,   -999.0,9,   -999.0,9,   3.0863, 20000605,      820
  18HU20000520, AR07W,   138,  1, 229863,     16,2,20000605,0745, 54.4507, -52.9558, 3409,     18.9,   3.1149,  33.9721,2,-999.0000,9,    327.3,2,   -999.0,9,     8.33,6,     9.23,6,     0.90,6, -999.000,9, -999.000,9, -999.000,9, -999.000,9, -999.000,9,   -999.0,9,   -999.0,9,   3.1138, 20000605,      821
  18HU20000520, AR07W,   138,  1, 229864,     17,2,20000605,0745, 54.4507, -52.9558, 3409,      9.6,   3.2493,  33.9227,2,  33.9338,2,    324.8,2,    331.1,2,     8.29,6,     9.19,6,     0.92,6, -999.000,9, -999.000,9, -999.000,9, -999.000,9, -999.000,9,   2106.8,3,   2265.2,2,   3.2487, 20000605,      822
  18HU20000520, AR07W,   138,  1, 229865,     18,2,20000605,0745, 54.4507, -52.9558, 3409,      3.4,   3.2493,  33.9227,2,-999.0000,9,    324.8,2,   -999.0,9,     8.41,6,     9.39,6,     0.92,6, -999.000,9, -999.000,9, -999.000,9, -999.000,9, -999.000,9,   -999.0,9,   -999.0,9,   3.2491, 20000605,      822
  18HU20000520, AR07W,   140,  1, 229866,      1,2,20000605,1139, 54.0450, -53.4958, 3335,    215.5,   2.9554,  34.4749,2,  34.4855,6,    286.9,2,    293.9,2,     8.92,6,    13.73,6,     1.06,6,    4.827,2,    2.688,2,    0.422,2,    4.735,2,    6.130,2,   2141.4,3,   2285.4,2,   2.9422, 20000605,     1139
  18HU20000520, AR07W,   140,  1, 229867,      2,2,20000605,1139, 54.0450, -53.4958, 3335,    161.2,   0.4943,  33.8676,2,  33.8805,2,    301.9,2,    313.4,2,     9.33,6,    11.14,6,     1.01,6,    5.639,2,    2.979,2,    0.517,2,    5.830,2,    7.965,2,   2124.5,3,   2251.5,2,   0.4880, 20000605,     1142
  18HU20000520, AR07W,   140,  1, 229868,      3,2,20000605,1139, 54.0450, -53.4958, 3335,    130.4,  -0.6627,  33.4813,2,  33.4832,2,    308.4,2,    322.1,6,     9.88,6,     9.72,6,     1.02,6,    5.886,2,    2.946,2,    0.507,2,    6.094,2,    8.714,2,   2124.6,3,   2237.6,2,  -0.6664, 20000605,     1143
  18HU20000520, AR07W,   140,  1, 229869,      4,2,20000605,1139, 54.0450, -53.4958, 3335,     99.5,  -1.1079,  33.2609,2,  33.2887,2,    309.4,2,    323.3,2,    10.47,6,     9.32,6,     1.04,6,    6.289,2,    3.227,2,    0.550,2,    6.416,2,    9.505,2,   2125.1,3,   2232.6,3,  -1.1103, 20000605,     1144
  18HU20000520, AR07W,   140,  1, 229870,      5,2,20000605,1139, 54.0450, -53.4958, 3335,     80.7,  -1.4103,  32.9971,2,-999.0000,9,    314.8,2,   -999.0,9,  -999.00,9,  -999.00,9,  -999.00,9, -999.000,9, -999.000,9, -999.000,9, -999.000,9, -999.000,9,   -999.0,9,   -999.0,9,  -1.4120, 20000605,     1146
  18HU20000520, AR07W,   140,  1, 229871,      6,2,20000605,1139, 54.0450, -53.4958, 3335,     59.7,  -1.5093,  32.8490,2,-999.0000,9,    319.4,2,   -999.0,9,  -999.00,9,  -999.00,9,  -999.00,9, -999.000,9, -999.000,9, -999.000,9, -999.000,9, -999.000,9,   -999.0,9,   -999.0,9,  -1.5104, 20000605,     1146
  18HU20000520, AR07W,   140,  1, 229872,      7,2,20000605,1139, 54.0450, -53.4958, 3335,     50.4,  -1.5111,  32.7797,2,  34.7494,4,    317.8,2,    337.7,2,    10.31,6,     7.45,6,     1.04,6,    6.670,2,    3.413,2,    0.601,2,    6.833,2,    9.241,2,   2123.1,3,   2227.5,2,  -1.5121, 20000605,     1147
  18HU20000520, AR07W,   140,  1, 229873,      8,2,20000605,1139, 54.0450, -53.4958, 3335,     39.8,  -1.4339,  32.6910,2,-999.0000,9,    324.7,2,   -999.0,9,  -999.00,9,  -999.00,9,  -999.00,9, -999.000,9, -999.000,9, -999.000,9, -999.000,9, -999.000,9,   -999.0,9,   -999.0,9,  -1.4347, 20000605,     1148
  18HU20000520, AR07W,   140,  1, 229874,      9,2,20000605,1139, 54.0450, -53.4958, 3335,     29.8,  -0.9396,  32.5430,2,-999.0000,9,    330.1,2,   -999.0,9,  -999.00,9,  -999.00,9,  -999.00,9, -999.000,9, -999.000,9, -999.000,9, -999.000,9, -999.000,9,   -999.0,9,   -999.0,9,  -0.9403, 20000605,     1149
  18HU20000520, AR07W,   140,  1, 229875,     10,2,20000605,1139, 54.0450, -53.4958, 3335,     19.0,  -0.8347,  32.3443,2,-999.0000,9,    344.1,2,   -999.0,9,  -999.00,9,  -999.00,9,  -999.00,9, -999.000,9, -999.000,9, -999.000,9, -999.000,9, -999.000,9,   -999.0,9,   -999.0,9,  -0.8352, 20000605,     1150
  18HU20000520, AR07W,   140,  1, 229876,     11,2,20000605,1139, 54.0450, -53.4958, 3335,     10.0,   0.0952,  32.1927,2,-999.0000,9,    346.6,2,   -999.0,9,  -999.00,9,  -999.00,9,  -999.00,9, -999.000,9, -999.000,9, -999.000,9, -999.000,9, -999.000,9,   -999.0,9,   -999.0,9,   0.0949, 20000605,     1150
  18HU20000520, AR07W,   140,  1, 229877,     12,2,20000605,1139, 54.0450, -53.4958, 3335,      3.0,   0.1160,  32.1993,2,  32.2109,2,    346.7,2,    359.9,2,     8.93,6,     5.10,6,     0.92,6,    6.894,6,    3.605,6,    0.652,6,    7.866,6,    8.178,6,   2085.2,3,   2179.3,2,   0.1159, 20000605,     1151
  18HU20000520, AR07W,   142,  1, 229878,      1,2,20000605,1446, 53.6815, -54.0460, 3380,    101.3,  -1.2088,  33.2966,2,-999.0000,9,    307.7,2,   -999.0,9,    10.29,6,     8.92,6,     1.05,6, -999.000,9, -999.000,9, -999.000,9, -999.000,9, -999.000,9,   -999.0,9,   -999.0,9,  -1.2111, 20000605,     1446
  18HU20000520, AR07W,   142,  1, 229879,      2,2,20000605,1446, 53.6815, -54.0460, 3380,     79.9,  -1.3355,  33.1764,2,-999.0000,9,    309.7,2,   -999.0,9,    10.44,6,     8.77,6,     1.02,6, -999.000,9, -999.000,9, -999.000,9, -999.000,9, -999.000,9,   -999.0,9,   -999.0,9,  -1.3372, 20000605,     1447
  18HU20000520, AR07W,   142,  1, 229880,      3,2,20000605,1446, 53.6815, -54.0460, 3380,     60.4,  -1.3144,  33.0540,2,-999.0000,9,    317.0,2,   -999.0,9,    10.10,6,     7.95,6,     0.99,6, -999.000,9, -999.000,9, -999.000,9, -999.000,9, -999.000,9,   -999.0,9,   -999.0,9,  -1.3157, 20000605,     1448
  18HU20000520, AR07W,   142,  1, 229881,      4,2,20000605,1446, 53.6815, -54.0460, 3380,     49.8,  -1.3775,  32.9624,2,-999.0000,9,    319.9,2,   -999.0,9,    10.56,6,     7.82,6,     1.01,6, -999.000,9, -999.000,9, -999.000,9, -999.000,9, -999.000,9,   -999.0,9,   -999.0,9,  -1.3785, 20000605,     1448
  18HU20000520, AR07W,   142,  1, 229882,      5,2,20000605,1446, 53.6815, -54.0460, 3380,     39.5,  -0.8583,  32.7622,2,-999.0000,9,    332.1,2,   -999.0,9,     9.78,6,     6.46,6,     0.98,6, -999.000,9, -999.000,9, -999.000,9, -999.000,9, -999.000,9,   -999.0,9,   -999.0,9,  -0.8593, 20000605,     1449
  18HU20000520, AR07W,   142,  1, 229883,      6,2,20000605,1446, 53.6815, -54.0460, 3380,     39.6,  -0.9528,  32.7703,2,-999.0000,9,    333.1,2,   -999.0,9,  -999.00,9,  -999.00,9,  -999.00,9, -999.000,9, -999.000,9, -999.000,9, -999.000,9, -999.000,9,   -999.0,9,   -999.0,9,  -0.9537, 20000605,     1449
  18HU20000520, AR07W,   142,  1, 229884,      7,2,20000605,1446, 53.6815, -54.0460, 3380,     30.0,  -0.0286,  32.6662,2,-999.0000,9,    344.8,2,   -999.0,9,     9.42,6,     5.67,6,     0.91,6, -999.000,9, -999.000,9, -999.000,9, -999.000,9, -999.000,9,   -999.0,9,   -999.0,9,  -0.0295, 20000605,     1450
  18HU20000520, AR07W,   142,  1, 229885,      8,2,20000605,1446, 53.6815, -54.0460, 3380,     19.4,   0.6301,  32.6159,2,-999.0000,9,    350.4,2,   -999.0,9,     9.46,6,     5.20,6,     0.89,6, -999.000,9, -999.000,9, -999.000,9, -999.000,9, -999.000,9,   -999.0,9,   -999.0,9,   0.6294, 20000605,     1451
  18HU20000520, AR07W,   142,  1, 229886,      9,2,20000605,1446, 53.6815, -54.0460, 3380,     19.7,   0.5980,  32.6173,2,-999.0000,9,    350.9,2,   -999.0,9,  -999.00,9,  -999.00,9,  -999.00,9, -999.000,9, -999.000,9, -999.000,9, -999.000,9, -999.000,9,   -999.0,9,   -999.0,9,   0.5973, 20000605,     1451
  18HU20000520, AR07W,   142,  1, 229887,     10,2,20000605,1446, 53.6815, -54.0460, 3380,      9.6,   1.4128,  32.6095,2,-999.0000,9,    346.8,2,   -999.0,9,     9.23,6,     5.22,6,     0.89,6, -999.000,9, -999.000,9, -999.000,9, -999.000,9, -999.000,9,   -999.0,9,   -999.0,9,   1.4124, 20000605,     1452
  18HU20000520, AR07W,   142,  1, 229888,     11,2,20000605,1446, 53.6815, -54.0460, 3380,      9.8,   1.3975,  32.6108,2,-999.0000,9,    347.1,2,   -999.0,9,  -999.00,9,  -999.00,9,  -999.00,9, -999.000,9, -999.000,9, -999.000,9, -999.000,9, -999.000,9,   -999.0,9,   -999.0,9,   1.3971, 20000605,     1452
  18HU20000520, AR07W,   142,  1, 229889,     12,2,20000605,1446, 53.6815, -54.0460, 3380,      9.8,   1.3958,  32.6132,2,-999.0000,9,    347.0,2,   -999.0,9,  -999.00,9,  -999.00,9,  -999.00,9, -999.000,9, -999.000,9, -999.000,9, -999.000,9, -999.000,9,   -999.0,9,   -999.0,9,   1.3954, 20000605,     1452
  18HU20000520, AR07W,   142,  1, 229890,     13,2,20000605,1446, 53.6815, -54.0460, 3380,      9.5,   1.4102,  32.6120,2,-999.0000,9,    346.8,2,   -999.0,9,  -999.00,9,  -999.00,9,  -999.00,9, -999.000,9, -999.000,9, -999.000,9, -999.000,9, -999.000,9,   -999.0,9,   -999.0,9,   1.4098, 20000605,     1452
  18HU20000520, AR07W,   142,  1, 229891,     14,2,20000605,1446, 53.6815, -54.0460, 3380,      9.5,   1.3968,  32.6136,2,-999.0000,9,    347.1,2,   -999.0,9,  -999.00,9,  -999.00,9,  -999.00,9, -999.000,9, -999.000,9, -999.000,9, -999.000,9, -999.000,9,   -999.0,9,   -999.0,9,   1.3964, 20000605,     1452
  18HU20000520, AR07W,   142,  1, 229892,     15,2,20000605,1446, 53.6815, -54.0460, 3380,      3.0,   1.5063,  32.6125,2,-999.0000,9,    346.7,2,   -999.0,9,     9.65,6,     4.91,6,     0.89,6, -999.000,9, -999.000,9, -999.000,9, -999.000,9, -999.000,9,   -999.0,9,   -999.0,9,   1.5062, 20000605,     1453
  18HU20000520, AR07W,   145,  1, 229893,      1,2,20000605,1627, 53.6812, -54.0085, 2749,    177.7,   2.2709,  34.3638,2,  34.3741,2,    286.1,2,    296.1,2,    10.42,6,    13.18,6,     1.07,6,    5.081,2,    2.708,2,    0.413,2,    4.986,2,    6.595,2,   2136.5,3,   2276.3,2,   2.2611, 20000605,     1627
  18HU20000520, AR07W,   145,  1, 229894,      2,2,20000605,1627, 53.6812, -54.0085, 2749,    150.3,   0.3386,  33.8570,2,  33.9007,2,    300.6,2,    312.8,2,     9.46,6,    11.11,6,     1.00,6,    5.662,2,    2.928,2,    0.451,2,    5.479,2,    7.806,2,   2119.3,3,   2244.8,2,   0.3329, 20000605,     1628
  18HU20000520, AR07W,   145,  1, 229895,      3,2,20000605,1627, 53.6812, -54.0085, 2749,    124.4,  -0.8432,  33.4935,2,  33.5138,6,    303.7,2,    319.7,2,     9.87,6,     9.74,6,     1.01,6,    5.736,6,    3.064,6,    0.437,2,    6.028,6,    8.428,6,   2121.0,3,   2239.2,2,  -0.8465, 20000605,     1629
  18HU20000520, AR07W,   145,  1, 229896,      4,2,20000605,1627, 53.6812, -54.0085, 2749,     98.1,  -1.1688,  33.3079,2,  33.3225,2,    307.0,2,    323.9,6,    10.25,6,     9.17,6,     1.03,6,    5.893,2,    2.873,2,    0.924,4,    5.505,2,    9.233,2,   2118.9,3,   2241.6,2,  -1.1711, 20000605,     1630
  18HU20000520, AR07W,   145,  1, 229897,      5,2,20000605,1627, 53.6812, -54.0085, 2749,     49.9,  -1.4017,  32.9566,2,  33.0219,2,    318.9,2,    335.7,2,    10.16,6,     7.96,6,     1.02,6,    6.471,2,    3.383,2,    0.535,2,    6.496,2,    8.806,2,   2119.8,3,   2243.2,2,  -1.4027, 20000605,     1632
  18HU20000520, AR07W,   145,  1, 229898,      6,2,20000605,1627, 53.6812, -54.0085, 2749,      9.7,   1.2992,  32.6134,2,  32.6280,2,    347.2,2,    362.9,2,     9.22,6,     5.35,6,     0.91,6,    6.383,2,    3.236,2,    1.216,4,    6.892,2,    7.921,2,   2095.4,3,   2218.2,2,   1.2988, 20000605,     1633