BOTTLE,20130610PRINUNIVRMK
EXPOCODE,SECT_ID,STNNBR,CASTNO,SAMPNO,BTLNBR,BTLNBR_FLAG_W,DATE,TIME,LATITUDE,LONGITUDE,DEPTH,CTDPRS,CTDTMP,CTDSAL,CTDSAL_FLAG_W,SALNTY,SALNTY_FLAG_W,CTDOXY,CTDOXY_FLAG_W,OXYGEN,OXYGEN_FLAG_W,SILCAT,SILCAT_FLAG_W,NITRAT,NITRAT_FLAG_W,PHSPHT,PHSPHT_FLAG_W,CFC-11,CFC-11_FLAG_W,CFC-12,CFC-12_FLAG_W,CFC113,CFC113_FLAG_W,CCL4,CCL4_FLAG_W,MCHFRM,MCHFRM_FLAG_W,TCARBN,TCARBN_FLAG_W,ALKALI,ALKALI_FLAG_W,THETA,BTL_DATE,BTL_TIME
,,,,,,,,,,,METERS,DBAR,ITS-90,PSS-78,,PSS-78,,UMOL/KG,,UMOL/KG,,UMOL/KG,,UMOL/KG,,UMOL/KG,,PMOL/KG,,PMOL/KG,,PMOL/KG,,PMOL/KG,,PMOL/KG,,UMOL/KG,,UMOL/KG,,DEG C,,
  18HU20000520, AR07W,    45,  1, 229341,      1,2,20000526,1911, 55.5975, -53.6568, 3293,   2917.9,   1.5505,  34.8521,2,  34.8648,2,    279.8,2,    294.9,2,    10.10,6,    13.59,6,     1.00,6,    3.646,2,    1.749,2,    0.220,2,    3.403,2,    7.077,2,   2154.7,2,   -999.0,9,   1.3394, 20000526,     1911
  18HU20000520, AR07W,    45,  1, 229342,      2,2,20000526,1911, 55.5975, -53.6568, 3293,   2877.9,   1.5455,  34.8524,2,  34.8644,2,    279.5,2,    294.6,2,    10.03,6,    13.65,6,     1.01,6,    3.541,2,    1.740,2,    0.240,2,    3.484,2,    6.749,2,   2158.4,2,   2299.4,2,   1.3383, 20000526,     1913
  18HU20000520, AR07W,    45,  1, 229343,      3,2,20000526,1911, 55.5975, -53.6568, 3293,   2809.2,   1.7210,  34.8558,2,  34.8812,2,    277.4,2,    293.2,2,     9.89,6,    13.93,6,     1.01,6,    3.368,6,    1.627,6,    0.239,6,    3.328,6,    6.526,6,   2156.6,2,   2301.1,2,   1.5165, 20000526,     1914
  18HU20000520, AR07W,    45,  1, 229344,      4,2,20000526,1911, 55.5975, -53.6568, 3293,   2688.0,   2.0923,  34.8684,2,  34.8692,2,    272.4,2,    285.7,2,    10.81,6,    14.52,6,     1.04,6,    2.931,2,    1.420,2,    0.174,2,    2.961,2,    5.910,2,   2157.0,2,   2304.4,2,   1.8918, 20000526,     1916
  18HU20000520, AR07W,    45,  1, 229345,      5,2,20000526,1911, 55.5975, -53.6568, 3293,   2555.3,   2.4205,  34.8824,2,  34.8954,6,    267.7,2,    282.5,2,    11.67,6,    15.15,6,     1.08,6,    2.547,2,    1.188,2,    0.144,2,    2.565,2,    4.967,2,   2157.3,2,   2289.7,2,   2.2262, 20000526,     1919
  18HU20000520, AR07W,    45,  1, 229346,      6,2,20000526,1911, 55.5975, -53.6568, 3293,   2424.3,   2.5680,  34.8837,2,  34.8967,6,    267.8,2,    282.6,2,    11.51,6,    15.35,6,     1.09,6,    2.523,2,    1.156,2,    0.177,2,    2.605,2,    4.708,2,   2157.3,2,   2307.4,2,   2.3834, 20000526,     1921
  18HU20000520, AR07W,    45,  1, 229347,      7,2,20000526,1911, 55.5975, -53.6568, 3293,   2285.8,   2.7284,  34.8796,2,  34.8924,2,    268.6,2,    285.3,2,    10.76,6,    15.45,6,     1.10,6,    2.668,2,    1.275,2,    0.989,4,    2.603,2,    5.930,2,   2155.4,2,   2302.5,2,   2.5539, 20000526,     1923
  18HU20000520, AR07W,    45,  1, 229348,      8,2,20000526,1911, 55.5975, -53.6568, 3293,   2154.7,   2.8556,  34.8792,2,  34.8916,2,    269.2,2,    285.2,2,    10.75,6,    15.64,6,     1.11,6,    2.682,2,    1.258,2,    0.175,2,    2.696,2,    6.060,2,   2157.1,2,   2300.4,2,   2.6912, 20000526,     1926
  18HU20000520, AR07W,    45,  1, 229349,      9,2,20000526,1911, 55.5975, -53.6568, 3293,   1988.5,   2.9400,  34.8715,2,  34.8837,2,    270.6,2,    286.0,2,    10.48,6,    15.80,6,     1.11,6,    3.060,2,    1.412,2,    0.177,2,    3.051,2,    6.923,2,   2156.0,2,   2304.5,3,   2.7895, 20000526,     1929
  18HU20000520, AR07W,    45,  1, 229350,     10,2,20000526,1911, 55.5975, -53.6568, 3293,   1810.9,   2.9981,  34.8606,2,  34.8735,2,    274.0,2,    288.7,2,    10.07,6,    16.07,6,     1.13,6,    3.163,2,    1.690,3,    0.441,4,    3.027,2,    8.148,2,   2156.6,2,   2307.2,2,   2.8627, 20000526,     1932
  18HU20000520, AR07W,    45,  1, 229351,     11,2,20000526,1911, 55.5975, -53.6568, 3293,   1631.7,   3.0220,  34.8497,2,  34.8633,2,    276.6,2,    292.2,6,     9.84,6,    16.23,6,     1.12,6,    3.475,2,    1.705,3,    0.228,2,    3.555,3,    8.791,2,   2156.2,2,   2302.5,2,   2.9020, 20000526,     1936
  18HU20000520, AR07W,    45,  1, 229352,     12,2,20000526,1911, 55.5975, -53.6568, 3293,   1434.0,   3.1261,  34.8545,2,  34.8682,2,    274.8,2,    289.7,2,     9.84,6,    16.40,6,     1.13,6,    3.476,2,    1.640,2,    0.207,2,    3.357,2,    8.613,2,   2153.9,2,   2306.2,2,   3.0216, 20000526,     1940
  18HU20000520, AR07W,    45,  1, 229353,     13,2,20000526,1911, 55.5975, -53.6568, 3293,   1230.3,   3.2606,  34.8598,2,  34.8739,2,    272.4,2,    287.8,2,     9.72,6,    16.47,6,     1.14,6,    3.481,2,    1.695,2,    0.253,2,    3.371,2,    8.083,2,   2156.9,2,   2281.7,3,   3.1716, 20000526,     1944
  18HU20000520, AR07W,    45,  1, 229354,     14,2,20000526,1911, 55.5975, -53.6568, 3293,   1029.1,   3.2959,  34.8433,2,  34.8566,2,    276.7,2,    291.7,2,     9.14,6,    16.13,6,     1.12,6,    3.909,2,    1.930,2,    0.304,2,    3.867,2,    7.496,2,   2156.5,2,   2304.3,2,   3.2228, 20000526,     1947
  18HU20000520, AR07W,    45,  1, 229355,     15,2,20000526,1911, 55.5975, -53.6568, 3293,    849.6,   3.2169,  34.8245,2,  34.8375,2,    283.5,2,    275.5,3,     8.69,6,    15.59,6,     1.10,6,    4.296,3,    2.124,2,    0.322,2,    4.115,2,    6.836,2,   2154.7,2,   2305.0,2,   3.1583, 20000526,     1951
  18HU20000520, AR07W,    45,  1, 229356,     16,2,20000526,1911, 55.5975, -53.6568, 3293,    672.0,   3.2628,  34.8252,2,  34.8387,2,    284.2,2,    297.9,2,     8.52,6,    15.59,6,     1.09,6,    4.204,2,    2.085,2,    0.326,2,    4.079,2,    6.307,2,   2153.9,2,   2296.0,2,   3.2171, 20000526,     1954
  18HU20000520, AR07W,    45,  1, 229357,     17,2,20000526,1911, 55.5975, -53.6568, 3293,    511.9,   3.2642,  34.8191,2,  34.8326,2,    286.8,2,    300.1,2,     8.21,6,    15.36,6,     1.10,6,    4.341,2,    2.204,2,    0.506,4,    4.322,2,    6.046,2,   2155.5,2,   2301.3,2,   3.2300, 20000526,     1957
  18HU20000520, AR07W,    45,  1, 229358,     18,2,20000526,1911, 55.5975, -53.6568, 3293,    372.4,   3.4481,  34.8324,2,  34.8444,2,    284.1,2,    291.5,2,     8.26,6,    15.56,6,     1.09,6,    4.230,2,    2.105,2,    0.345,2,    4.026,2,    5.859,2,   2153.4,2,   2297.8,2,   3.4231, 20000526,     2000
  18HU20000520, AR07W,    45,  1, 229359,     19,2,20000526,1911, 55.5975, -53.6568, 3293,    247.5,   3.4196,  34.8102,2,  34.8218,2,    288.8,2,    298.9,2,     8.16,6,    15.16,6,     1.08,6,    4.383,2,    2.183,2,    0.354,2,    4.267,2,    5.590,2,   2150.0,2,   2298.4,2,   3.4033, 20000526,     2002
  18HU20000520, AR07W,    45,  1, 229360,     20,2,20000526,1911, 55.5975, -53.6568, 3293,    150.2,   3.4544,  34.7734,2,  34.7836,2,    295.5,2,    306.0,2,     8.00,6,    14.43,6,     1.04,6,    4.590,2,    2.373,2,    0.387,2,    4.766,2,    5.346,2,   2145.0,2,   2303.0,2,   3.4446, 20000526,     2004
  18HU20000520, AR07W,    45,  1, 229361,     21,2,20000526,1911, 55.5975, -53.6568, 3293,    101.1,   3.4161,  34.7246,2,  34.7345,2,    309.8,2,    320.4,2,     7.59,6,    13.18,6,     0.99,6,    5.010,2,    2.474,2,    0.407,2,    5.122,2,    4.762,2,   2136.7,2,   2290.4,2,   3.4096, 20000526,     2006
  18HU20000520, AR07W,    45,  1, 229362,     22,2,20000526,1911, 55.5975, -53.6568, 3293,     50.0,   3.5941,  34.7048,2,  34.7148,2,    312.7,2,    320.8,2,     7.74,6,    12.69,6,     0.96,6,    5.074,2,    2.535,2,    0.418,2,    5.318,2,    4.863,2,   2132.8,2,   2297.2,2,   3.5908, 20000526,     2007
  18HU20000520, AR07W,    45,  1, 229363,     23,2,20000526,1911, 55.5975, -53.6568, 3293,     19.8,   3.6042,  34.7043,2,  34.7158,2,    313.0,2,    324.1,2,     7.59,6,    12.76,6,     0.97,6,    5.076,2,    2.603,2,    0.572,3,    5.235,2,    5.318,2,   2136.0,2,   2298.4,2,   3.6029, 20000526,     2008
  18HU20000520, AR07W,    45,  1, 229364,     24,2,20000526,1911, 55.5975, -53.6568, 3293,      5.2,   3.6062,  34.7051,2,  34.7164,2,    313.3,2,    325.7,2,     7.65,6,    12.79,6,     0.97,6,    5.027,2,    2.563,2,    0.431,2,    5.465,2,    4.561,2,   2134.1,2,   2296.7,2,   3.6059, 20000526,     2009
  18HU20000520, AR07W,    48,  1, 229365,      1,2,20000527,1244, 57.1175, -55.2933, 2860,   3080.0,   1.3823,  34.8489,2,-999.0000,9,    281.3,2,   -999.0,9,  -999.00,9,  -999.00,9,  -999.00,9, -999.000,9, -999.000,9, -999.000,9, -999.000,9, -999.000,9,   -999.0,9,   -999.0,9,   1.1596, 20000527,     1244
  18HU20000520, AR07W,    48,  1, 229366,      2,2,20000527,1244, 57.1175, -55.2933, 2860,   2940.5,   1.6329,  34.8540,2,  34.8662,2,    278.4,2,   -999.0,9,  -999.00,9,  -999.00,9,  -999.00,9, -999.000,9, -999.000,9, -999.000,9, -999.000,9, -999.000,9,   -999.0,9,   -999.0,9,   1.4179, 20000527,     1247
  18HU20000520, AR07W,    48,  1, 229367,      3,2,20000527,1244, 57.1175, -55.2933, 2860,   2860.8,   2.0004,  34.8645,2,  34.8764,2,    273.8,2,   -999.0,9,  -999.00,9,  -999.00,9,  -999.00,9, -999.000,9, -999.000,9, -999.000,9, -999.000,9, -999.000,9,   -999.0,9,   -999.0,9,   1.7852, 20000527,     1249
  18HU20000520, AR07W,    48,  1, 229368,      4,2,20000527,1244, 57.1175, -55.2933, 2860,   2759.3,   2.2701,  34.8746,2,  34.8869,2,    270.1,2,   -999.0,9,  -999.00,9,  -999.00,9,  -999.00,9, -999.000,9, -999.000,9, -999.000,9, -999.000,9, -999.000,9,   -999.0,9,   -999.0,9,   2.0591, 20000527,     1251
  18HU20000520, AR07W,    48,  1, 229369,      5,2,20000527,1244, 57.1175, -55.2933, 2860,   2640.3,   2.4779,  34.8816,2,  34.8936,2,    268.3,2,   -999.0,9,  -999.00,9,  -999.00,9,  -999.00,9, -999.000,9, -999.000,9, -999.000,9, -999.000,9, -999.000,9,   -999.0,9,   -999.0,9,   2.2743, 20000527,     1253
  18HU20000520, AR07W,    48,  1, 229370,      6,2,20000527,1244, 57.1175, -55.2933, 2860,   2500.8,   2.6065,  34.8821,2,  34.8945,2,    267.9,2,   -999.0,9,  -999.00,9,  -999.00,9,  -999.00,9, -999.000,9, -999.000,9, -999.000,9, -999.000,9, -999.000,9,   -999.0,9,   -999.0,9,   2.4139, 20000527,     1256
  18HU20000520, AR07W,    48,  1, 229371,      7,2,20000527,1244, 57.1175, -55.2933, 2860,   2340.2,   2.7867,  34.8816,2,  34.8939,2,    267.8,2,   -999.0,9,  -999.00,9,  -999.00,9,  -999.00,9, -999.000,9, -999.000,9, -999.000,9, -999.000,9, -999.000,9,   -999.0,9,   -999.0,9,   2.6061, 20000527,     1259
  18HU20000520, AR07W,    48,  1, 229372,      8,2,20000527,1244, 57.1175, -55.2933, 2860,   2160.2,   2.9293,  34.8765,2,  34.8896,2,    268.9,2,   -999.0,9,  -999.00,9,  -999.00,9,  -999.00,9, -999.000,9, -999.000,9, -999.000,9, -999.000,9, -999.000,9,   -999.0,9,   -999.0,9,   2.7632, 20000527,     1302
  18HU20000520, AR07W,    48,  1, 229373,      9,2,20000527,1244, 57.1175, -55.2933, 2860,   1980.3,   2.9955,  34.8676,2,  34.8804,2,    271.5,2,   -999.0,9,  -999.00,9,  -999.00,9,  -999.00,9, -999.000,9, -999.000,9, -999.000,9, -999.000,9, -999.000,9,   -999.0,9,   -999.0,9,   2.8450, 20000527,     1306
  18HU20000520, AR07W,    48,  1, 229374,     10,2,20000527,1244, 57.1175, -55.2933, 2860,   1779.4,   3.0146,  34.8543,2,  34.8669,6,    275.0,2,   -999.0,9,  -999.00,9,  -999.00,9,  -999.00,9, -999.000,9, -999.000,9, -999.000,9, -999.000,9, -999.000,9,   -999.0,9,   -999.0,9,   2.8819, 20000527,     1309
  18HU20000520, AR07W,    48,  1, 229375,     11,2,20000527,1244, 57.1175, -55.2933, 2860,   1578.9,   3.0992,  34.8545,2,  34.8670,2,    275.0,2,   -999.0,9,  -999.00,9,  -999.00,9,  -999.00,9, -999.000,9, -999.000,9, -999.000,9, -999.000,9, -999.000,9,   -999.0,9,   -999.0,9,   2.9828, 20000527,     1313
  18HU20000520, AR07W,    48,  1, 229376,     12,2,20000527,1244, 57.1175, -55.2933, 2860,   1377.7,   3.2248,  34.8615,2,  34.8743,2,    272.5,2,   -999.0,9,  -999.00,9,  -999.00,9,  -999.00,9, -999.000,9, -999.000,9, -999.000,9, -999.000,9, -999.000,9,   -999.0,9,   -999.0,9,   3.1240, 20000527,     1316
  18HU20000520, AR07W,    48,  1, 229377,     13,2,20000527,1244, 57.1175, -55.2933, 2860,   1180.9,   3.3733,  34.8659,2,  34.8780,2,    270.8,2,   -999.0,9,  -999.00,9,  -999.00,9,  -999.00,9, -999.000,9, -999.000,9, -999.000,9, -999.000,9, -999.000,9,   -999.0,9,   -999.0,9,   3.2873, 20000527,     1320
  18HU20000520, AR07W,    48,  1, 229378,     14,2,20000527,1244, 57.1175, -55.2933, 2860,    981.4,   3.2860,  34.8326,2,  34.8446,2,    280.5,2,   -999.0,9,  -999.00,9,  -999.00,9,  -999.00,9, -999.000,9, -999.000,9, -999.000,9, -999.000,9, -999.000,9,   -999.0,9,   -999.0,9,   3.2167, 20000527,     1323
  18HU20000520, AR07W,    48,  1, 229379,     15,2,20000527,1244, 57.1175, -55.2933, 2860,    799.2,   3.4044,  34.8381,2,  34.8501,2,    279.8,2,   -999.0,9,  -999.00,9,  -999.00,9,  -999.00,9, -999.000,9, -999.000,9, -999.000,9, -999.000,9, -999.000,9,   -999.0,9,   -999.0,9,   3.3484, 20000527,     1326
  18HU20000520, AR07W,    48,  1, 229380,     16,2,20000527,1244, 57.1175, -55.2933, 2860,    642.4,   3.3349,  34.8186,2,  34.8399,2,    286.7,2,   -999.0,9,  -999.00,9,  -999.00,9,  -999.00,9, -999.000,9, -999.000,9, -999.000,9, -999.000,9, -999.000,9,   -999.0,9,   -999.0,9,   3.2910, 20000527,     1330
  18HU20000520, AR07W,    48,  1, 229381,     17,2,20000527,1244, 57.1175, -55.2933, 2860,    500.9,   3.5128,  34.8315,2,-999.0000,9,    283.0,2,   -999.0,9,  -999.00,9,  -999.00,9,  -999.00,9, -999.000,9, -999.000,9, -999.000,9, -999.000,9, -999.000,9,   -999.0,9,   -999.0,9,   3.4784, 20000527,     1333
  18HU20000520, AR07W,    48,  1, 229382,     18,2,20000527,1244, 57.1175, -55.2933, 2860,    377.8,   3.6192,  34.8344,2,-999.0000,9,    284.4,2,   -999.0,9,  -999.00,9,  -999.00,9,  -999.00,9, -999.000,9, -999.000,9, -999.000,9, -999.000,9, -999.000,9,   -999.0,9,   -999.0,9,   3.5933, 20000527,     1335
  18HU20000520, AR07W,    48,  1, 229383,     19,2,20000527,1244, 57.1175, -55.2933, 2860,    259.8,   3.4415,  34.7970,2,-999.0000,9,    300.4,2,   -999.0,9,  -999.00,9,  -999.00,9,  -999.00,9, -999.000,9, -999.000,9, -999.000,9, -999.000,9, -999.000,9,   -999.0,9,   -999.0,9,   3.4243, 20000527,     1337
  18HU20000520, AR07W,    48,  1, 229384,     20,2,20000527,1244, 57.1175, -55.2933, 2860,    160.2,   3.4713,  34.7869,2,-999.0000,9,    297.1,2,   -999.0,9,  -999.00,9,  -999.00,9,  -999.00,9, -999.000,9, -999.000,9, -999.000,9, -999.000,9, -999.000,9,   -999.0,9,   -999.0,9,   3.4608, 20000527,     1339
  18HU20000520, AR07W,    48,  1, 229385,     21,2,20000527,1244, 57.1175, -55.2933, 2860,    102.3,   3.5707,  34.7718,2,-999.0000,9,    306.1,2,   -999.0,9,  -999.00,9,  -999.00,9,  -999.00,9, -999.000,9, -999.000,9, -999.000,9, -999.000,9, -999.000,9,   -999.0,9,   -999.0,9,   3.5640, 20000527,     1341
  18HU20000520, AR07W,    48,  1, 229386,     22,2,20000527,1244, 57.1175, -55.2933, 2860,     49.4,   3.5950,  34.7716,2,-999.0000,9,    307.7,2,    314.5,2,     7.45,6,    12.22,6,     0.89,6, -999.000,9, -999.000,9, -999.000,9, -999.000,9, -999.000,9,   -999.0,9,   -999.0,9,   3.5918, 20000527,     1342
  18HU20000520, AR07W,    48,  1, 229387,     23,2,20000527,1244, 57.1175, -55.2933, 2860,     20.2,   3.6017,  34.7670,2,-999.0000,9,    308.2,2,   -999.0,9,     7.41,6,    11.93,6,     0.88,6, -999.000,9, -999.000,9, -999.000,9, -999.000,9, -999.000,9,   -999.0,9,   -999.0,9,   3.6004, 20000527,     1343
  18HU20000520, AR07W,    48,  1, 229388,     24,2,20000527,1244, 57.1175, -55.2933, 2860,      8.7,   3.6017,  34.7678,2,-999.0000,9,    308.0,2,   -999.0,9,     7.27,6,    12.10,6,     0.88,6, -999.000,9, -999.000,9, -999.000,9, -999.000,9, -999.000,9,   -999.0,9,   -999.0,9,   3.6011, 20000527,     1344