BOTTLE,20130610PRINUNIVRMK
EXPOCODE,SECT_ID,STNNBR,CASTNO,SAMPNO,BTLNBR,BTLNBR_FLAG_W,DATE,TIME,LATITUDE,LONGITUDE,DEPTH,CTDPRS,CTDTMP,CTDSAL,CTDSAL_FLAG_W,SALNTY,SALNTY_FLAG_W,CTDOXY,CTDOXY_FLAG_W,OXYGEN,OXYGEN_FLAG_W,SILCAT,SILCAT_FLAG_W,NITRAT,NITRAT_FLAG_W,PHSPHT,PHSPHT_FLAG_W,CFC-11,CFC-11_FLAG_W,CFC-12,CFC-12_FLAG_W,CFC113,CFC113_FLAG_W,CCL4,CCL4_FLAG_W,MCHFRM,MCHFRM_FLAG_W,TCARBN,TCARBN_FLAG_W,ALKALI,ALKALI_FLAG_W,THETA,BTL_DATE,BTL_TIME
,,,,,,,,,,,METERS,DBAR,ITS-90,PSS-78,,PSS-78,,UMOL/KG,,UMOL/KG,,UMOL/KG,,UMOL/KG,,UMOL/KG,,PMOL/KG,,PMOL/KG,,PMOL/KG,,PMOL/KG,,PMOL/KG,,UMOL/KG,,UMOL/KG,,DEG C,,
  18HU20000520, AR07W,   147,  1, 229899,      1,2,20000605,1924, 53.3177, -54.6200, 2018,    323.2,   2.3959,  34.3855,2,  34.3831,2,    287.7,2,    299.7,2,     9.75,6,    13.08,6,     1.08,6,    4.710,2,    2.839,2,    0.386,2,    4.923,2,    7.260,2,   2135.6,3,   2271.2,2,   2.3773, 20000605,     1924
  18HU20000520, AR07W,   147,  1, 229900,      2,2,20000605,1924, 53.3177, -54.6200, 2018,    259.5,   0.4459,  33.8747,2,  33.8979,2,    299.7,2,    313.1,2,     9.46,6,    11.14,6,     1.04,6,    5.349,2,    3.057,2,    0.412,2,    5.795,2,    8.060,2,   2126.1,3,   2260.0,2,   0.4356, 20000605,     1925
  18HU20000520, AR07W,   147,  1, 229901,      3,2,20000605,1924, 53.3177, -54.6200, 2018,    200.1,  -0.4149,  33.6218,2,  33.6404,6,    305.0,2,    322.5,2,     9.29,6,     9.84,6,     1.01,6,    5.719,2,    3.135,2,    0.478,2,    6.290,2,    8.486,2,   2117.4,3,   2232.3,3,  -0.4212, 20000605,     1927
  18HU20000520, AR07W,   147,  1, 229902,      4,2,20000605,1924, 53.3177, -54.6200, 2018,    139.1,  -1.1540,  33.2711,2,  33.2996,2,    305.6,2,    322.7,6,    10.08,6,     8.74,6,     1.03,6,    5.892,2,    3.245,2,    0.486,2,    6.266,2,    9.423,2,   2124.9,3,   2244.7,2,  -1.1573, 20000605,     1929
  18HU20000520, AR07W,   147,  1, 229903,      5,2,20000605,1924, 53.3177, -54.6200, 2018,     99.2,  -1.1235,  33.0873,2,  33.1050,2,    311.6,2,    329.1,2,    10.44,6,     8.23,6,     1.04,6,    6.086,2,    3.331,2,    0.482,2,    6.591,2,    9.567,2,   2115.2,3,   2239.4,2,  -1.1258, 20000605,     1930
  18HU20000520, AR07W,   147,  1, 229904,      6,2,20000605,1924, 53.3177, -54.6200, 2018,     79.7,  -1.2882,  33.0166,2,-999.0000,9,    309.0,2,   -999.0,9,    10.70,6,     8.05,6,     1.05,6, -999.000,9, -999.000,9, -999.000,9, -999.000,9, -999.000,9,   -999.0,9,   -999.0,9,  -1.2899, 20000605,     1931
  18HU20000520, AR07W,   147,  1, 229905,      7,2,20000605,1924, 53.3177, -54.6200, 2018,     59.8,  -1.2485,  32.9093,2,-999.0000,9,    314.3,2,   -999.0,9,    10.26,6,     7.65,6,     1.04,6, -999.000,9, -999.000,9, -999.000,9, -999.000,9, -999.000,9,   -999.0,9,   -999.0,9,  -1.2498, 20000605,     1932
  18HU20000520, AR07W,   147,  1, 229906,      8,2,20000605,1924, 53.3177, -54.6200, 2018,     49.8,  -0.6376,  32.8201,2,  34.7933,4,    324.2,2,    349.7,2,     9.76,6,     6.87,6,     0.99,6,    6.744,6,    3.586,6,    0.531,6,    7.756,6,    8.829,6,   2112.4,3,   2236.9,2,  -0.6389, 20000605,     1932
  18HU20000520, AR07W,   147,  1, 229907,      9,2,20000605,1924, 53.3177, -54.6200, 2018,     39.7,  -0.1409,  32.7756,2,-999.0000,9,    337.5,2,   -999.0,9,     9.72,6,     6.43,6,     0.99,6, -999.000,9, -999.000,9, -999.000,9, -999.000,9, -999.000,9,   -999.0,9,   -999.0,9,  -0.1421, 20000605,     1933
  18HU20000520, AR07W,   147,  1, 229908,     10,2,20000605,1924, 53.3177, -54.6200, 2018,     29.6,  -0.0479,  32.7648,2,-999.0000,9,    339.9,2,   -999.0,9,     9.36,6,     6.22,6,     0.98,6, -999.000,9, -999.000,9, -999.000,9, -999.000,9, -999.000,9,   -999.0,9,   -999.0,9,  -0.0488, 20000605,     1934
  18HU20000520, AR07W,   147,  1, 229909,     11,2,20000605,1924, 53.3177, -54.6200, 2018,     19.3,   0.1785,  32.7327,2,-999.0000,9,    342.8,2,   -999.0,9,     9.26,6,     5.94,6,     0.95,6, -999.000,9, -999.000,9, -999.000,9, -999.000,9, -999.000,9,   -999.0,9,   -999.0,9,   0.1779, 20000605,     1934
  18HU20000520, AR07W,   147,  1, 229910,     12,2,20000605,1924, 53.3177, -54.6200, 2018,      9.5,   0.7198,  32.7220,2,  32.7144,2,    344.4,2,    356.6,2,     9.14,6,     5.67,6,     0.96,6,    6.687,2,    4.135,2,    0.516,2,    8.742,2,    8.284,2,   2102.9,3,   -999.0,9,   0.7194, 20000605,     1935
  18HU20000520, AR07W,   148,  1, 229911,      1,2,20000606,1539, 49.8530, -58.5388,  185,    100.5,   1.3161,  32.7078,2,-999.0000,9,    266.1,2,   -999.0,9,    10.58,6,    10.43,6,     1.18,6, -999.000,9, -999.000,9, -999.000,9, -999.000,9, -999.000,9,   -999.0,9,   -999.0,9,   1.3117, 20000606,     1539
  18HU20000520, AR07W,   148,  1, 229912,      2,2,20000606,1539, 49.8530, -58.5388,  185,     79.8,   0.2282,  32.2852,2,-999.0000,9,    295.6,2,   -999.0,9,     8.91,6,     9.41,6,     1.08,6, -999.000,9, -999.000,9, -999.000,9, -999.000,9, -999.000,9,   -999.0,9,   -999.0,9,   0.2255, 20000606,     1539
  18HU20000520, AR07W,   148,  1, 229913,      3,2,20000606,1539, 49.8530, -58.5388,  185,     59.9,  -0.3785,  31.9227,2,-999.0000,9,    323.3,2,   -999.0,9,     6.70,6,     6.49,6,     0.99,6, -999.000,9, -999.000,9, -999.000,9, -999.000,9, -999.000,9,   -999.0,9,   -999.0,9,  -0.3801, 20000606,     1540
  18HU20000520, AR07W,   148,  1, 229914,      4,2,20000606,1539, 49.8530, -58.5388,  185,     49.7,   0.0802,  31.7472,2,-999.0000,9,    333.0,2,   -999.0,9,     4.98,6,     4.89,6,     0.94,6, -999.000,9, -999.000,9, -999.000,9, -999.000,9, -999.000,9,   -999.0,9,   -999.0,9,   0.0787, 20000606,     1541
  18HU20000520, AR07W,   148,  1, 229915,      5,2,20000606,1539, 49.8530, -58.5388,  185,     39.8,   0.6109,  31.6795,2,-999.0000,9,    336.3,2,   -999.0,9,     3.64,6,     3.90,6,     0.89,6, -999.000,9, -999.000,9, -999.000,9, -999.000,9, -999.000,9,   -999.0,9,   -999.0,9,   0.6095, 20000606,     1541
  18HU20000520, AR07W,   148,  1, 229916,      6,2,20000606,1539, 49.8530, -58.5388,  185,     39.9,   0.6033,  31.6838,2,-999.0000,9,    336.8,2,   -999.0,9,  -999.00,9,  -999.00,9,  -999.00,9, -999.000,9, -999.000,9, -999.000,9, -999.000,9, -999.000,9,   -999.0,9,   -999.0,9,   0.6019, 20000606,     1542
  18HU20000520, AR07W,   148,  1, 229917,      7,2,20000606,1539, 49.8530, -58.5388,  185,     29.5,   2.1264,  31.5540,2,-999.0000,9,    339.8,2,   -999.0,9,     1.44,6,     1.60,6,     0.73,6, -999.000,9, -999.000,9, -999.000,9, -999.000,9, -999.000,9,   -999.0,9,   -999.0,9,   2.1250, 20000606,     1542
  18HU20000520, AR07W,   148,  1, 229918,      8,2,20000606,1539, 49.8530, -58.5388,  185,     19.1,   4.1409,  31.4672,2,-999.0000,9,    337.3,2,   -999.0,9,     0.33,6,     0.10,3,     0.50,6, -999.000,9, -999.000,9, -999.000,9, -999.000,9, -999.000,9,   -999.0,9,   -999.0,9,   4.1397, 20000606,     1543
  18HU20000520, AR07W,   148,  1, 229919,      9,2,20000606,1539, 49.8530, -58.5388,  185,     19.2,   4.1497,  31.4737,2,-999.0000,9,    336.2,2,   -999.0,9,  -999.00,9,  -999.00,9,  -999.00,9, -999.000,9, -999.000,9, -999.000,9, -999.000,9, -999.000,9,   -999.0,9,   -999.0,9,   4.1485, 20000606,     1543
  18HU20000520, AR07W,   148,  1, 229920,     10,2,20000606,1539, 49.8530, -58.5388,  185,      9.2,   4.5039,  31.4455,2,-999.0000,9,    335.7,2,   -999.0,9,     0.27,6,     0.01,3,     0.47,6, -999.000,9, -999.000,9, -999.000,9, -999.000,9, -999.000,9,   -999.0,9,   -999.0,9,   4.5033, 20000606,     1544
  18HU20000520, AR07W,   148,  1, 229921,     11,2,20000606,1539, 49.8530, -58.5388,  185,      9.2,   4.4630,  31.4509,2,-999.0000,9,    335.9,2,   -999.0,9,  -999.00,9,  -999.00,9,  -999.00,9, -999.000,9, -999.000,9, -999.000,9, -999.000,9, -999.000,9,   -999.0,9,   -999.0,9,   4.4624, 20000606,     1544
  18HU20000520, AR07W,   148,  1, 229922,     12,2,20000606,1539, 49.8530, -58.5388,  185,      9.1,   4.3698,  31.4567,2,-999.0000,9,    336.0,2,   -999.0,9,  -999.00,9,  -999.00,9,  -999.00,9, -999.000,9, -999.000,9, -999.000,9, -999.000,9, -999.000,9,   -999.0,9,   -999.0,9,   4.3692, 20000606,     1544
  18HU20000520, AR07W,   148,  1, 229923,     13,2,20000606,1539, 49.8530, -58.5388,  185,      9.2,   4.3564,  31.4579,2,-999.0000,9,    336.4,2,   -999.0,9,  -999.00,9,  -999.00,9,  -999.00,9, -999.000,9, -999.000,9, -999.000,9, -999.000,9, -999.000,9,   -999.0,9,   -999.0,9,   4.3558, 20000606,     1544
  18HU20000520, AR07W,   148,  1, 229924,     14,2,20000606,1539, 49.8530, -58.5388,  185,      9.2,   4.4279,  31.4515,2,-999.0000,9,    336.0,2,   -999.0,9,  -999.00,9,  -999.00,9,  -999.00,9, -999.000,9, -999.000,9, -999.000,9, -999.000,9, -999.000,9,   -999.0,9,   -999.0,9,   4.4273, 20000606,     1545
  18HU20000520, AR07W,   148,  1, 229925,     15,2,20000606,1539, 49.8530, -58.5388,  185,      2.5,   4.5368,  31.4448,2,-999.0000,9,    335.7,2,   -999.0,9,     0.25,6,     0.07,3,     0.46,6, -999.000,9, -999.000,9, -999.000,9, -999.000,9, -999.000,9,   -999.0,9,   -999.0,9,   4.5366, 20000606,     1545
  18HU20000520, AR07W,   153,  1, 229926,      1,2,20000608,0419, 44.2638, -63.3170, 1560,    150.4,   8.9236,  34.4442,2,-999.0000,9,    154.7,2,   -999.0,9,  -999.00,9,  -999.00,9,  -999.00,9, -999.000,9, -999.000,9, -999.000,9, -999.000,9, -999.000,9,   -999.0,9,   -999.0,9,   8.9075, 20000608,      419
  18HU20000520, AR07W,   153,  1, 229927,      2,2,20000608,0419, 44.2638, -63.3170, 1560,    124.8,   7.4537,  33.8752,2,-999.0000,9,    181.1,2,   -999.0,9,  -999.00,9,  -999.00,9,  -999.00,9, -999.000,9, -999.000,9, -999.000,9, -999.000,9, -999.000,9,   -999.0,9,   -999.0,9,   7.4419, 20000608,      420
  18HU20000520, AR07W,   153,  1, 229928,      3,2,20000608,0419, 44.2638, -63.3170, 1560,     99.5,   5.6813,  33.1922,2,-999.0000,9,    231.6,2,   -999.0,9,  -999.00,9,  -999.00,9,  -999.00,9, -999.000,9, -999.000,9, -999.000,9, -999.000,9, -999.000,9,   -999.0,9,   -999.0,9,   5.6734, 20000608,      421
  18HU20000520, AR07W,   153,  1, 229929,      4,2,20000608,0419, 44.2638, -63.3170, 1560,     79.1,   4.0144,  32.5879,2,-999.0000,9,    251.1,2,   -999.0,9,  -999.00,9,  -999.00,9,  -999.00,9, -999.000,9, -999.000,9, -999.000,9, -999.000,9, -999.000,9,   -999.0,9,   -999.0,9,   4.0092, 20000608,      422
  18HU20000520, AR07W,   153,  1, 229930,      5,2,20000608,0419, 44.2638, -63.3170, 1560,     59.1,   3.6071,  32.2765,2,-999.0000,9,    266.9,2,   -999.0,9,  -999.00,9,  -999.00,9,  -999.00,9, -999.000,9, -999.000,9, -999.000,9, -999.000,9, -999.000,9,   -999.0,9,   -999.0,9,   3.6035, 20000608,      423
  18HU20000520, AR07W,   153,  1, 229931,      6,2,20000608,0419, 44.2638, -63.3170, 1560,     49.9,   3.6356,  32.1325,2,-999.0000,9,    276.7,2,   -999.0,9,  -999.00,9,  -999.00,9,  -999.00,9, -999.000,9, -999.000,9, -999.000,9, -999.000,9, -999.000,9,   -999.0,9,   -999.0,9,   3.6325, 20000608,      424
  18HU20000520, AR07W,   153,  1, 229932,      7,2,20000608,0419, 44.2638, -63.3170, 1560,     39.2,   7.5905,  32.3811,2,-999.0000,9,    300.3,2,   -999.0,9,  -999.00,9,  -999.00,9,  -999.00,9, -999.000,9, -999.000,9, -999.000,9, -999.000,9, -999.000,9,   -999.0,9,   -999.0,9,   7.5869, 20000608,      424
  18HU20000520, AR07W,   153,  1, 229933,      8,2,20000608,0419, 44.2638, -63.3170, 1560,     29.4,   8.1400,  32.1632,2,-999.0000,9,    300.6,2,   -999.0,9,  -999.00,9,  -999.00,9,  -999.00,9, -999.000,9, -999.000,9, -999.000,9, -999.000,9, -999.000,9,   -999.0,9,   -999.0,9,   8.1372, 20000608,      425
  18HU20000520, AR07W,   153,  1, 229934,      9,2,20000608,0419, 44.2638, -63.3170, 1560,     19.3,   8.0950,  31.8322,2,-999.0000,9,    302.6,2,   -999.0,9,  -999.00,9,  -999.00,9,  -999.00,9, -999.000,9, -999.000,9, -999.000,9, -999.000,9, -999.000,9,   -999.0,9,   -999.0,9,   8.0931, 20000608,      425
  18HU20000520, AR07W,   153,  1, 229935,     10,2,20000608,0419, 44.2638, -63.3170, 1560,     10.9,   8.1224,  31.8484,2,-999.0000,9,    302.8,2,   -999.0,9,  -999.00,9,  -999.00,9,  -999.00,9, -999.000,9, -999.000,9, -999.000,9, -999.000,9, -999.000,9,   -999.0,9,   -999.0,9,   8.1214, 20000608,      426
  18HU20000520, AR07W,   153,  1, 229936,     11,2,20000608,0419, 44.2638, -63.3170, 1560,      4.3,   8.1057,  31.8356,2,-999.0000,9,    303.2,2,   -999.0,9,  -999.00,9,  -999.00,9,  -999.00,9, -999.000,9, -999.000,9, -999.000,9, -999.000,9, -999.000,9,   -999.0,9,   -999.0,9,   8.1053, 20000608,      427