BOTTLE,20120405PRINUNIVRMK
EXPOCODE,SECT_ID,LINE,STNNBR,CASTNO,SAMPNO,BTLNBR,BTLNBR_FLAG_W,DATE,TIME,LATITUDE,LONGITUDE,DEPTH,CTDPRS,CTDTMP,CTDSAL,CTDSAL_FLAG_W,SALNTY,SALNTY_FLAG_W,CTDOXY,CTDOXY_FLAG_W,OXYGEN,OXYGEN_FLAG_W,SILCAT,SILCAT_FLAG_W,NITRAT,NITRAT_FLAG_W,NITRIT,NITRIT_FLAG_W,PHSPHT,PHSPHT_FLAG_W,TCARBN,TCARBN_FLAG_W,ALKALI,ALKALI_FLAG_W,THETA
,,,,,,,,,,,,METERS,DBAR,ITS-90,PSS-78,,PSS-78,,UMOL/KG,,UMOL/KG,,UMOL/KG,,UMOL/KG,,UMOL/KG,,UMOL/KG,,UMOL/KG,,UMOL/KG,,DEG C
  32WC20070511,NACPWC,        2,    13,  1, 130101,      1,3,   70517,1603, 49.3700,-127.1000,  157,    143.3,   6.4000,   33.9000,2,  33.9000,6,     96.5,2,     96.4,2,    56.39,6,    33.12,6,     0.10,6,     2.38,6,   2239.4,6,   2271.0,6,   6.3875
  32WC20070511,NACPWC,        2,    13,  1, 130102,      2,2,   70517,1605, 49.3700,-127.1000,  157,    130.5,   6.4000,   33.8600,2,-999.0000,9,    125.8,2,    127.0,2,    48.75,2,    30.24,2,     0.04,2,     2.16,2,   2217.8,2,   2258.7,2,   6.3887
  32WC20070511,NACPWC,        2,    13,  1, 130103,      3,2,   70517,1607, 49.3700,-127.1000,  157,    110.6,   6.4000,   33.7500,2,-999.0000,9,    157.4,2,    165.2,2,    41.54,2,    27.03,2,     0.03,2,     1.93,2,   2188.6,2,   2250.4,2,   6.3904
  32WC20070511,NACPWC,        2,    13,  1, 130104,      4,2,   70517,1608, 49.3700,-127.1000,  157,     90.3,   7.1000,   33.5700,2,-999.0000,9,    161.5,2,    159.5,2,    37.20,2,    25.43,2,     0.03,2,     1.93,2,   2176.3,2,   2236.1,2,   7.0917
  32WC20070511,NACPWC,        2,    13,  1, 130105,      5,2,   70517,1610, 49.3700,-127.1000,  157,     70.8,   7.3000,   33.1000,2,-999.0000,9,    211.0,2,    201.8,2,    28.09,2,    19.81,2,     0.04,2,     1.64,2,   2121.5,2,   2207.5,2,   7.2935
  32WC20070511,NACPWC,        2,    13,  1, 130106,      6,2,   70517,1612, 49.3700,-127.1000,  157,     59.9,   7.2000,   32.5300,2,-999.0000,9,    276.4,2,    279.2,2,    15.25,2,    11.61,2,     0.08,2,     1.18,2,   2048.5,2,   2179.4,2,   7.1946
  32WC20070511,NACPWC,        2,    13,  1, 130107,      7,2,   70517,1613, 49.3700,-127.1000,  157,     50.2,   7.5000,   32.3900,2,-999.0000,9,    292.8,2,    293.7,6,    14.00,6,     9.11,6,     0.32,6,     1.06,6,   2030.5,2,   2171.4,2,   7.4954
  32WC20070511,NACPWC,        2,    13,  1, 130108,      8,2,   70517,1614, 49.3700,-127.1000,  157,     40.3,   8.3000,   32.2400,2,-999.0000,9,    305.6,2,    302.2,2,    11.67,2,     6.54,2,     0.14,2,     0.91,2,   2005.4,2,   2164.5,2,   8.2960
  32WC20070511,NACPWC,        2,    13,  1, 130109,      9,2,   70517,1616, 49.3700,-127.1000,  157,     30.7,   8.3000,   31.8800,2,-999.0000,9,    279.8,2,    268.9,2,    18.85,6,    10.14,6,     0.21,6,     1.12,6,   2014.6,2,   2147.3,2,   8.2970
  32WC20070511,NACPWC,        2,    13,  1, 130110,     10,2,   70517,1617, 49.3700,-127.1000,  157,     25.2,   8.9000,   31.4400,2,-999.0000,9,    293.5,2,    292.1,2,    14.51,2,     6.41,2,     0.19,2,     0.87,2,   1977.0,2,   2126.9,2,   8.8974
  32WC20070511,NACPWC,        2,    13,  1, 130111,     11,2,   70517,1618, 49.3700,-127.1000,  157,     20.7,   9.0000,   31.4300,2,-999.0000,9,    293.4,2,    294.9,2,    13.51,2,     5.60,2,     0.18,2,     0.82,2,   1969.7,2,   2124.3,2,   8.9979
  32WC20070511,NACPWC,        2,    13,  1, 130112,     12,2,   70517,1620, 49.3700,-127.1000,  157,     14.6,   9.4000,   31.2200,2,-999.0000,9,    326.4,2,    320.2,2,     9.61,2,     2.68,2,     0.12,2,     0.56,2,   1941.9,2,   2119.0,2,   9.3985
  32WC20070511,NACPWC,        2,    13,  1, 130113,     13,2,   70517,1621, 49.3700,-127.1000,  157,      9.7,   9.8000,   31.1800,2,  31.1800,2,    357.3,2,    356.5,2,     3.22,2,     0.25,2,     0.04,2,     0.40,2,   1903.6,2,   2118.6,2,   9.7990
  32WC20070511,NACPWC,        2,    13,  1, 130114,     14,2,   70517,1622, 49.3700,-127.1000,  157,      5.0,  10.7000,   31.0900,2,-999.0000,9,    384.9,2,    391.3,2,     0.03,2,     0.03,2,     0.01,2,     0.22,2,   1853.5,2,   2114.2,2,  10.6994
  32WC20070511,NACPWC,        2,    14,  1, 140101,      1,4,   70517,1751, 49.4400,-126.9700,  129,    117.1,   6.1000,   33.9600,2,-999.0000,9,     78.2,2,   -999.0,9,  -999.00,9,  -999.00,9,  -999.00,9,  -999.00,9,   -999.0,9,   -999.0,9,   6.0901
  32WC20070511,NACPWC,        2,    14,  1, 140102,      2,2,   70517,1751, 49.4400,-126.9700,  129,    117.1,   6.1000,   33.9600,2,  33.9500,6,     78.2,2,     75.8,2,    62.94,6,    35.13,6,     0.09,6,     2.54,6,   2250.8,6,   2276.0,2,   6.0901
  32WC20070511,NACPWC,        2,    14,  1, 140103,      3,2,   70517,1753, 49.4400,-126.9700,  129,    110.4,   6.3000,   33.9400,2,-999.0000,9,     78.1,2,     77.0,2,    61.65,6,    35.09,6,     0.11,6,     2.52,6,   2252.2,2,   2270.8,2,   6.2905
  32WC20070511,NACPWC,        2,    14,  1, 140104,      4,2,   70517,1755, 49.4400,-126.9700,  129,     90.4,   6.5000,   33.9300,2,-999.0000,9,     89.7,2,     86.8,2,    57.56,2,    33.76,2,     0.14,2,     2.44,2,   2234.8,3,   2265.9,2,   6.4921
  32WC20070511,NACPWC,        2,    14,  1, 140105,      5,2,   70517,1757, 49.4400,-126.9700,  129,     70.1,   6.7000,   33.7300,2,-999.0000,9,    142.6,2,    136.6,2,    44.02,2,    29.82,2,     0.10,2,     2.09,2,   2188.5,2,   2248.6,2,   6.6938
  32WC20070511,NACPWC,        2,    14,  1, 140106,      6,2,   70517,1758, 49.4400,-126.9700,  129,     60.9,   6.9000,   33.6500,2,-999.0000,9,    152.9,2,    149.7,2,    40.56,2,    27.52,2,     0.09,2,     2.01,2,   2173.5,2,   2241.8,2,   6.8945
  32WC20070511,NACPWC,        2,    14,  1, 140107,      7,2,   70517,1759, 49.4400,-126.9700,  129,     50.2,   7.1000,   33.3100,2,-999.0000,9,    176.3,2,    176.0,2,    34.74,2,    23.70,2,     0.13,2,     1.83,2,   2137.7,2,   2222.1,2,   7.0954
  32WC20070511,NACPWC,        2,    14,  1, 140108,      8,2,   70517,1801, 49.4400,-126.9700,  129,     39.8,   7.3000,   32.9500,2,-999.0000,9,    220.9,2,    217.7,2,    26.08,2,    18.49,2,     0.16,2,     1.55,2,   2094.6,2,   2203.7,2,   7.2964
  32WC20070511,NACPWC,        2,    14,  1, 140109,      9,2,   70517,1802, 49.4400,-126.9700,  129,     30.6,   7.8000,   32.5800,2,-999.0000,9,    246.8,2,    244.0,2,    21.26,2,    13.86,2,     0.20,2,     1.33,2,   2054.8,2,   2184.8,2,   7.7971
  32WC20070511,NACPWC,        2,    14,  1, 140110,     10,2,   70517,1804, 49.4400,-126.9700,  129,     25.8,   8.0000,   32.4000,2,-999.0000,9,    259.0,2,    261.7,2,    17.97,2,    10.83,2,     0.21,2,     1.18,2,   2030.9,2,   2172.8,2,   7.9975
  32WC20070511,NACPWC,        2,    14,  1, 140111,     11,2,   70517,1805, 49.4400,-126.9700,  129,     20.3,   8.6000,   31.9300,2,-999.0000,9,    277.9,2,    286.7,2,    12.53,2,     6.54,2,     0.20,2,     0.89,2,   1985.1,2,   2148.9,2,   8.5980
  32WC20070511,NACPWC,        2,    14,  1, 140112,     12,2,   70517,1806, 49.4400,-126.9700,  129,     14.8,   9.6000,   31.3900,2,-999.0000,9,    348.4,2,   -999.0,9,  -999.00,9,  -999.00,9,  -999.00,9,  -999.00,9,   -999.0,9,   -999.0,9,   9.5984
  32WC20070511,NACPWC,        2,    14,  1, 140113,     13,2,   70517,1806, 49.4400,-126.9700,  129,     14.8,   9.6000,   31.3600,2,-999.0000,9,    348.7,2,    368.6,2,     2.13,2,     0.26,2,     0.03,2,     0.19,2,   1884.0,2,   2121.5,2,   9.5984
  32WC20070511,NACPWC,        2,    14,  1, 140114,     14,2,   70517,1807, 49.4400,-126.9700,  129,     10.3,  10.7000,   30.8200,2,-999.0000,9,    378.3,2,   -999.0,9,  -999.00,9,  -999.00,9,  -999.00,9,  -999.00,9,   -999.0,9,   -999.0,9,  10.6988
  32WC20070511,NACPWC,        2,    14,  1, 140115,     15,2,   70517,1807, 49.4400,-126.9700,  129,     10.3,  10.7000,   30.8300,2,  30.8300,2,    377.3,2,    370.1,2,     0.39,2,     0.03,2,     0.01,2,     0.07,2,   1817.8,2,   2106.7,2,  10.6988
  32WC20070511,NACPWC,        2,    14,  1, 140116,     16,2,   70517,1809, 49.4400,-126.9700,  129,      4.5,  11.1000,   30.6400,2,-999.0000,9,    383.7,2,   -999.0,9,  -999.00,9,  -999.00,9,  -999.00,9,  -999.00,9,   -999.0,9,   -999.0,9,  11.0995
  32WC20070511,NACPWC,        2,    14,  1, 140117,     17,2,   70517,1809, 49.4400,-126.9700,  129,      4.6,  11.1000,   30.6400,2,-999.0000,9,    383.6,2,    385.1,6,     0.18,2,     0.04,2,     0.01,2,     0.08,2,   1781.2,2,   2095.0,2,  11.0995
  32WC20070511,NACPWC,        2,    15,  1, 150101,      1,2,   70517,1946, 49.4800,-126.8400,   88,     71.7,   7.4000,   33.5900,2,  33.5600,2,    133.3,2,    130.1,2,    43.92,6,    28.20,6,     0.19,6,     2.12,6,   2192.1,6,   2236.6,6,   7.3933
  32WC20070511,NACPWC,        2,    15,  1, 150102,      2,2,   70517,1948, 49.4800,-126.8400,   88,     59.4,   7.5000,   33.3500,2,-999.0000,9,    172.1,2,    157.8,2,    37.04,2,    24.43,2,     0.16,2,     1.90,2,   2156.5,2,   2219.7,2,   7.4944
  32WC20070511,NACPWC,        2,    15,  1, 150103,      3,2,   70517,1949, 49.4800,-126.8400,   88,     50.1,   7.6000,   32.6800,2,-999.0000,9,    237.9,2,    241.6,2,    20.55,2,    15.47,2,     0.23,2,     1.35,2,   2072.7,2,   2186.1,2,   7.5953
  32WC20070511,NACPWC,        2,    15,  1, 150104,      4,2,   70517,1950, 49.4800,-126.8400,   88,     41.2,   7.7000,   32.4700,2,-999.0000,9,    265.3,2,    264.9,2,    16.33,2,    12.24,2,     0.25,2,     1.19,2,   2047.0,2,   2176.9,2,   7.6961
  32WC20070511,NACPWC,        2,    15,  1, 150105,      5,2,   70517,1951, 49.4800,-126.8400,   88,     30.3,   8.1000,   32.3300,2,-999.0000,9,    271.9,2,    269.9,2,    15.24,2,    10.31,2,     0.24,2,     1.11,2,   2032.9,2,   2169.0,2,   8.0971
  32WC20070511,NACPWC,        2,    15,  1, 150106,      6,2,   70517,1952, 49.4800,-126.8400,   88,     25.2,   8.5000,   32.1100,2,-999.0000,9,    276.4,2,    271.5,2,    15.68,2,     9.33,2,     0.26,2,     1.05,2,   2021.3,2,   2159.0,2,   8.4975
  32WC20070511,NACPWC,        2,    15,  1, 150107,      7,2,   70517,1953, 49.4800,-126.8400,   88,     19.7,   8.6000,   32.0200,2,-999.0000,9,    275.0,2,    276.6,2,    15.46,2,     8.71,2,     0.27,2,     0.99,2,   2010.6,2,   2155.3,2,   8.5980
  32WC20070511,NACPWC,        2,    15,  1, 150108,      8,2,   70517,1954, 49.4800,-126.8400,   88,     15.5,   8.8000,   31.9100,2,-999.0000,9,    284.1,2,    280.9,2,  -999.00,9,  -999.00,9,  -999.00,9,  -999.00,9,   2001.8,2,   2148.7,2,   8.7984
  32WC20070511,NACPWC,        2,    15,  1, 150109,      9,2,   70517,1954, 49.4800,-126.8400,   88,     15.5,   8.8000,   31.9100,2,-999.0000,9,    284.0,2,   -999.0,9,    15.01,2,     7.73,2,     0.26,2,     0.93,2,   -999.0,9,   -999.0,9,   8.7984
  32WC20070511,NACPWC,        2,    15,  1, 150110,     10,2,   70517,1955, 49.4800,-126.8400,   88,      8.9,  10.6000,   31.1100,2,-999.0000,9,    393.3,2,    373.3,6,     1.83,2,     0.14,2,     0.03,2,     0.18,2,   1856.3,2,   2125.8,2,  10.5990
  32WC20070511,NACPWC,        2,    15,  1, 150111,     11,2,   70517,1956, 49.4800,-126.8400,   88,      9.0,  10.6000,   31.1000,2,-999.0000,9,    393.8,2,   -999.0,9,  -999.00,9,  -999.00,9,  -999.00,9,  -999.00,9,   -999.0,9,   -999.0,9,  10.5990
  32WC20070511,NACPWC,        2,    15,  1, 150112,     12,2,   70517,1956, 49.4800,-126.8400,   88,      5.6,  11.3000,   30.9700,2,-999.0000,9,    397.4,2,   -999.0,9,     0.30,2,     0.01,2,     0.02,2,     0.15,2,   1805.2,2,   2117.7,2,  11.2993
  32WC20070511,NACPWC,        2,    15,  1, 150113,     13,2,   70517,1957, 49.4800,-126.8400,   88,      5.5,  11.2000,   30.9800,2,  30.9700,2,    397.3,2,   -999.0,9,  -999.00,9,  -999.00,9,  -999.00,9,  -999.00,9,   -999.0,9,   -999.0,9,  11.1994
  32WC20070511,NACPWC,        2,    16,  1, 160101,      1,2,   70517,2121, 49.5300,-126.7000,   52,     40.6,   8.4000,   32.2100,2,  32.1700,2,    231.7,2,    232.0,2,    23.86,6,    13.35,6,     0.25,6,     1.39,6,   2053.5,2,   2162.1,6,   8.3960
  32WC20070511,NACPWC,        2,    16,  1, 160102,      2,2,   70517,2121, 49.5300,-126.7000,   52,     40.6,   8.4000,   32.2200,2,-999.0000,9,    232.3,2,   -999.0,9,  -999.00,9,  -999.00,9,  -999.00,9,  -999.00,9,   -999.0,9,   -999.0,9,   8.3960
  32WC20070511,NACPWC,        2,    16,  1, 160103,      3,2,   70517,2122, 49.5300,-126.7000,   52,     35.4,   8.6000,   32.0800,2,-999.0000,9,    225.9,2,    225.4,6,    26.33,6,    14.13,6,     0.23,6,     1.45,6,   2054.2,2,   2163.0,4,   8.5965
  32WC20070511,NACPWC,        2,    16,  1, 160104,      4,2,   70517,2123, 49.5300,-126.7000,   52,     30.9,   8.8000,   31.8400,2,-999.0000,9,    239.9,2,    235.8,2,    23.71,2,    12.23,2,     0.25,2,     1.35,2,   2039.9,6,   2148.3,2,   8.7969
  32WC20070511,NACPWC,        2,    16,  1, 160105,      5,2,   70517,2124, 49.5300,-126.7000,   52,     24.5,   9.0000,   31.6700,2,-999.0000,9,    251.9,2,    249.3,2,    20.14,2,    10.23,2,     0.24,2,     1.17,2,   2020.5,2,   2140.6,2,   8.9975
  32WC20070511,NACPWC,        2,    16,  1, 160106,      6,2,   70517,2125, 49.5300,-126.7000,   52,     20.1,   9.1000,   31.5900,2,-999.0000,9,    261.4,2,    257.8,2,    17.52,2,     8.85,2,     0.24,2,     1.15,2,   2010.9,2,   2138.6,2,   9.0979
  32WC20070511,NACPWC,        2,    16,  1, 160107,      7,2,   70517,2125, 49.5300,-126.7000,   52,     20.0,   9.0000,   31.6100,2,-999.0000,9,    258.6,2,   -999.0,9,  -999.00,9,  -999.00,9,  -999.00,9,  -999.00,9,   -999.0,9,   -999.0,9,   8.9980
  32WC20070511,NACPWC,        2,    16,  1, 160108,      8,2,   70517,2126, 49.5300,-126.7000,   52,     15.0,   9.2000,   31.4900,2,-999.0000,9,    275.6,2,    268.3,2,    15.06,2,     7.45,2,     0.23,2,     0.98,2,   1999.6,2,   2134.0,2,   9.1984
  32WC20070511,NACPWC,        2,    16,  1, 160109,      9,2,   70517,2126, 49.5300,-126.7000,   52,     15.0,   9.2000,   31.4900,2,-999.0000,9,    275.6,2,   -999.0,9,  -999.00,9,  -999.00,9,  -999.00,9,  -999.00,9,   -999.0,9,   -999.0,9,   9.1984
  32WC20070511,NACPWC,        2,    16,  1, 160110,     10,2,   70517,2127, 49.5300,-126.7000,   52,      9.7,   9.5000,   31.3000,2,-999.0000,9,    295.4,2,    299.7,2,     8.04,2,     3.39,2,     0.20,2,     0.75,2,   1962.0,2,   2130.2,2,   9.4990
  32WC20070511,NACPWC,        2,    16,  1, 160111,     11,2,   70517,2127, 49.5300,-126.7000,   52,      9.8,   9.6000,   31.2600,2,-999.0000,9,    310.7,2,   -999.0,9,  -999.00,9,  -999.00,9,  -999.00,9,  -999.00,9,   -999.0,9,   -999.0,9,   9.5990
  32WC20070511,NACPWC,        2,    16,  1, 160112,     12,2,   70517,2128, 49.5300,-126.7000,   52,      5.0,  10.9000,   30.8600,2,-999.0000,9,    468.3,2,    417.7,2,     0.94,2,     0.20,2,     0.03,2,     0.13,2,   1811.8,2,   2111.6,2,  10.8994
  32WC20070511,NACPWC,        2,    16,  1, 160113,     13,2,   70517,2129, 49.5300,-126.7000,   52,      4.9,  11.0000,   30.8100,2,  30.8400,2,    467.7,2,   -999.0,9,  -999.00,9,  -999.00,9,  -999.00,9,  -999.00,9,   -999.0,9,   -999.0,9,  10.9994