BOTTLE,20120405PRINUNIVRMK
EXPOCODE,SECT_ID,LINE,STNNBR,CASTNO,SAMPNO,BTLNBR,BTLNBR_FLAG_W,DATE,TIME,LATITUDE,LONGITUDE,DEPTH,CTDPRS,CTDTMP,CTDSAL,CTDSAL_FLAG_W,SALNTY,SALNTY_FLAG_W,CTDOXY,CTDOXY_FLAG_W,OXYGEN,OXYGEN_FLAG_W,SILCAT,SILCAT_FLAG_W,NITRAT,NITRAT_FLAG_W,NITRIT,NITRIT_FLAG_W,PHSPHT,PHSPHT_FLAG_W,TCARBN,TCARBN_FLAG_W,ALKALI,ALKALI_FLAG_W,THETA
,,,,,,,,,,,,METERS,DBAR,ITS-90,PSS-78,,PSS-78,,UMOL/KG,,UMOL/KG,,UMOL/KG,,UMOL/KG,,UMOL/KG,,UMOL/KG,,UMOL/KG,,UMOL/KG,,DEG C
  32WC20070511,NACPWC,        6,    47,  1, 470101,      1,2,   70525,1616, 39.8600,-125.2700, 3013,   3001.9,   1.6000,   34.6600,2,  34.6700,6,    110.5,2,    110.9,2,   175.27,6,    38.29,6,     0.01,6,     2.75,6,   2364.5,6,   2428.8,6,   1.3809
  32WC20070511,NACPWC,        6,    47,  1, 470102,      2,2,   70525,1632, 39.8600,-125.2700, 3013,   2500.3,   1.8000,   34.6400,2,-999.0000,9,     91.6,2,     91.8,2,   175.30,2,    39.34,2,     0.01,2,     2.84,2,   2375.6,6,   2421.1,2,   1.6234
  32WC20070511,NACPWC,        6,    47,  1, 470103,      3,2,   70525,1701, 39.8600,-125.2700, 3013,   1501.6,   2.7000,   34.5400,2,-999.0000,9,     37.1,2,     37.8,2,   156.25,2,    42.34,2,     0.01,2,     3.10,2,   2385.4,2,   2393.0,2,   2.5956
  32WC20070511,NACPWC,        6,    47,  1, 470104,      4,2,   70525,1722, 39.8600,-125.2700, 3013,    800.7,   4.0000,   34.3200,2,-999.0000,9,      8.8,2,      9.0,2,   120.30,2,    42.98,2,     0.01,2,     3.19,2,   2364.1,2,   2345.6,2,   3.9409
  32WC20070511,NACPWC,        6,    47,  1, 470105,      5,2,   70525,1732, 39.8600,-125.2700, 3013,    499.9,   5.3000,   34.1700,2,-999.0000,9,     27.4,2,     28.0,2,    86.18,6,    40.14,6,     0.01,6,     2.98,6,   2315.6,2,   2306.4,2,   5.2593
  32WC20070511,NACPWC,        6,    47,  1, 470106,      6,2,   70525,1737, 39.8600,-125.2700, 3013,    349.8,   6.1000,   34.0800,2,-999.0000,9,     48.4,2,     48.0,2,    69.31,2,    37.69,2,     0.02,2,     2.76,2,   2283.8,2,   2283.4,2,   6.0698
  32WC20070511,NACPWC,        6,    47,  1, 470107,      7,2,   70525,1740, 39.8600,-125.2700, 3013,    301.3,   6.4000,   34.0700,2,-999.0000,9,     56.2,2,     57.1,2,    63.88,2,    35.90,2,     0.02,2,     2.66,2,   2271.4,2,   2280.8,2,   6.3734
  32WC20070511,NACPWC,        6,    47,  1, 470108,      8,2,   70525,1743, 39.8600,-125.2700, 3013,    249.3,   6.8000,   34.0300,2,-999.0000,9,     67.6,2,     67.4,2,    56.32,2,    34.56,2,     0.02,2,     2.53,2,   2261.1,2,   -999.0,9,   6.7773
  32WC20070511,NACPWC,        6,    47,  1, 470109,      9,4,   70525,1743, 39.8600,-125.2700, 3013,    249.5,   6.8000,   34.0300,2,-999.0000,9,     67.6,2,   -999.0,9,    56.36,2,    34.98,2,     0.01,2,     2.53,2,   -999.0,9,   2271.8,2,   6.7773
  32WC20070511,NACPWC,        6,    47,  1, 470110,     10,2,   70525,1747, 39.8600,-125.2700, 3013,    174.0,   7.8000,   33.9300,2,-999.0000,9,    101.6,2,    105.5,2,    41.96,6,    30.05,6,     0.03,6,     2.20,6,   2214.0,2,   2254.7,2,   7.7830
  32WC20070511,NACPWC,        6,    47,  1, 470111,     11,4,   70525,1748, 39.8600,-125.2700, 3013,    151.0,   8.2000,   33.8700,2,-999.0000,9,    116.8,2,    117.0,2,    37.83,2,    28.30,2,     0.02,2,     2.10,2,   2203.3,2,   2247.1,2,   8.1848
  32WC20070511,NACPWC,        6,    47,  1, 470112,     12,2,   70525,1750, 39.8600,-125.2700, 3013,    131.1,   8.5000,   33.7700,2,-999.0000,9,    124.9,2,    124.7,2,    35.16,2,    27.19,2,     0.01,2,     2.04,2,   2190.6,2,   2241.4,2,   8.4865
  32WC20070511,NACPWC,        6,    47,  1, 470113,     13,2,   70525,1752, 39.8600,-125.2700, 3013,    109.0,   9.1000,   33.5500,2,-999.0000,9,    148.5,2,    152.4,2,    28.32,2,    24.48,2,     0.02,2,     1.82,2,   2161.3,2,   2226.2,2,   9.0884
  32WC20070511,NACPWC,        6,    47,  1, 470114,     14,2,   70525,1753, 39.8600,-125.2700, 3013,     90.4,   9.4000,   33.2500,2,-999.0000,9,    184.7,2,    188.2,2,    22.64,6,    19.31,6,     0.02,6,     1.56,6,   2122.7,2,   2212.3,2,   9.3902
  32WC20070511,NACPWC,        6,    47,  1, 470115,     15,2,   70525,1755, 39.8600,-125.2700, 3013,     70.8,   9.9000,   32.8900,2,-999.0000,9,    233.3,2,    234.2,2,    14.34,2,    12.40,2,     0.03,2,     1.14,2,   2065.4,2,   2192.9,2,   9.8921
  32WC20070511,NACPWC,        6,    47,  1, 470116,     16,2,   70525,1756, 39.8600,-125.2700, 3013,     59.6,  10.1000,   32.6900,2,-999.0000,9,    252.6,2,    256.3,2,    10.88,2,     8.83,2,     0.04,2,     0.92,2,   2035.6,2,   2184.7,2,  10.0933
  32WC20070511,NACPWC,        6,    47,  1, 470117,     17,2,   70525,1758, 39.8600,-125.2700, 3013,     50.1,  11.6000,   32.5700,2,-999.0000,9,    279.5,2,    277.3,2,     7.57,2,     2.28,2,     0.20,2,     0.55,2,   2002.4,2,   -999.0,5,  11.5938
  32WC20070511,NACPWC,        6,    47,  1, 470118,     18,2,   70525,1759, 39.8600,-125.2700, 3013,     40.2,  11.8000,   32.5200,2,-999.0000,9,    288.0,2,    285.9,2,     7.28,2,     1.11,2,     0.07,2,     0.45,2,   1989.2,2,   2202.6,2,  11.7950
  32WC20070511,NACPWC,        6,    47,  1, 470119,     19,2,   70525,1800, 39.8600,-125.2700, 3013,     30.3,  11.9000,   32.5100,2,-999.0000,9,    287.4,2,    289.1,2,     6.91,2,     0.55,2,     0.05,2,     0.40,2,   1985.6,2,   2141.0,4,  11.8962
  32WC20070511,NACPWC,        6,    47,  1, 470120,     20,2,   70525,1801, 39.8600,-125.2700, 3013,     25.5,  12.0000,   32.5100,2,-999.0000,9,    286.8,2,    286.8,2,     6.59,2,     0.54,2,     0.05,2,     0.40,2,   1984.8,2,   2185.7,2,  11.9968
  32WC20070511,NACPWC,        6,    47,  1, 470121,     21,2,   70525,1802, 39.8600,-125.2700, 3013,     20.2,  12.0000,   32.5000,2,-999.0000,9,    286.4,2,    287.3,6,     6.46,2,     0.43,2,     0.05,2,     0.40,2,   1983.7,2,   2185.1,2,  11.9975
  32WC20070511,NACPWC,        6,    47,  1, 470122,     22,2,   70525,1803, 39.8600,-125.2700, 3013,     14.4,  12.2000,   32.4800,2,-999.0000,9,    285.3,2,   -999.0,9,     6.39,2,     0.35,2,     0.04,2,     0.37,2,   1982.4,2,   2186.6,2,  12.1982
  32WC20070511,NACPWC,        6,    47,  1, 470123,     23,2,   70525,1805, 39.8600,-125.2700, 3013,      9.6,  12.3000,   32.4800,2,-999.0000,9,    285.1,2,    284.3,2,     6.21,2,     0.03,2,     0.02,2,     0.33,2,   1980.1,2,   2183.3,2,  12.2988
  32WC20070511,NACPWC,        6,    47,  1, 470124,     24,2,   70525,1806, 39.8600,-125.2700, 3013,      4.7,  12.4000,   32.4700,2,  32.4700,2,    285.0,2,    284.8,2,     6.26,2,     0.00,2,     0.02,2,     0.32,2,   1979.7,2,   2183.2,2,  12.3994
  32WC20070511,NACPWC,        6,    48,  1, 480101,      1,2,   70525,0901, 39.6900,-125.6400, 3569,   3550.2,   1.5000,   34.6800,2,  34.6800,6,    122.3,2,    121.6,2,   179.98,6,    36.71,6,     0.01,6,     2.68,6,   2360.1,6,   2434.5,6,   1.2287
  32WC20070511,NACPWC,        6,    48,  1, 480102,      2,2,   70525,0928, 39.6900,-125.6400, 3569,   2500.5,   1.8000,   34.6400,2,-999.0000,9,     91.4,2,     95.8,2,   176.74,2,    39.05,2,     0.01,2,     2.82,2,   2370.2,2,   2423.4,2,   1.6234
  32WC20070511,NACPWC,        6,    48,  1, 480103,      3,2,   70525,0941, 39.6900,-125.6400, 3569,   1999.1,   2.0000,   34.6000,2,-999.0000,9,     65.5,2,     66.1,2,   176.58,2,    40.65,2,     0.01,2,     2.93,2,   2383.0,6,   2413.5,2,   1.8637
  32WC20070511,NACPWC,        6,    48,  1, 480104,      4,2,   70525,0954, 39.6900,-125.6400, 3569,   1500.3,   2.7000,   34.5400,2,-999.0000,9,     36.9,2,     37.4,2,   155.67,2,    42.39,2,     0.01,2,     3.08,2,   2382.7,2,   2395.1,2,   2.5957
  32WC20070511,NACPWC,        6,    48,  1, 480105,      5,2,   70525,1012, 39.6900,-125.6400, 3569,    798.7,   4.1000,   34.3200,2,-999.0000,9,      9.2,2,     10.3,2,   117.38,6,    42.86,6,     0.01,6,     3.17,6,   2357.9,2,   2347.5,2,   4.0404
  32WC20070511,NACPWC,        6,    48,  1, 480106,      6,2,   70525,1020, 39.6900,-125.6400, 3569,    500.8,   5.3000,   34.1300,2,-999.0000,9,     32.0,2,     30.9,2,    83.42,2,    39.35,2,     0.01,2,     2.92,2,   2309.4,2,   2303.0,2,   5.2592
  32WC20070511,NACPWC,        6,    48,  1, 480107,      7,2,   70525,1025, 39.6900,-125.6400, 3569,    343.2,   6.5000,   34.0600,2,-999.0000,9,     58.9,2,     58.9,2,    61.54,2,    35.61,2,     0.01,2,     2.60,2,   2268.9,2,   2279.4,2,   6.4693
  32WC20070511,NACPWC,        6,    48,  1, 480108,      8,2,   70525,1030, 39.6900,-125.6400, 3569,    251.5,   7.3000,   34.0100,2,-999.0000,9,     79.7,2,     79.1,2,    48.69,2,    32.54,2,     0.02,2,     2.37,2,   2240.0,2,   2263.7,2,   7.2762
  32WC20070511,NACPWC,        6,    48,  1, 480109,      9,2,   70525,1033, 39.6900,-125.6400, 3569,    199.8,   8.1000,   33.9300,2,-999.0000,9,    104.2,2,    104.6,2,    38.71,2,    28.78,2,     0.01,2,     2.13,2,   2211.0,2,   2249.1,2,   8.0799
  32WC20070511,NACPWC,        6,    48,  1, 480110,     10,2,   70525,1035, 39.6900,-125.6400, 3569,    175.4,   8.4000,   33.8700,2,-999.0000,9,    112.5,2,    112.2,2,    35.80,2,    27.85,2,     0.02,2,     2.06,2,   2203.5,2,   2247.5,2,   8.3820
  32WC20070511,NACPWC,        6,    48,  1, 480111,     11,2,   70525,1036, 39.6900,-125.6400, 3569,    150.5,   8.5000,   33.7000,2,-999.0000,9,    147.9,2,    147.1,2,    29.82,2,    24.54,2,     0.02,2,     1.82,2,   2171.4,2,   2236.4,2,   8.4845
  32WC20070511,NACPWC,        6,    48,  1, 480112,     12,4,   70525,1038, 39.6900,-125.6400, 3569,    129.9,   8.8000,   33.4100,2,-999.0000,9,    185.2,2,    185.9,2,    22.17,2,    19.68,2,     0.02,2,     1.52,2,   2128.6,2,   2220.4,2,   8.7864
  32WC20070511,NACPWC,        6,    48,  1, 480113,     13,2,   70525,1040, 39.6900,-125.6400, 3569,    110.0,   9.4000,   33.1100,2,-999.0000,9,    213.8,2,    215.4,2,    16.06,2,    14.91,2,     0.03,2,     1.26,2,   2090.6,2,   2205.8,2,   9.3881
  32WC20070511,NACPWC,        6,    48,  1, 480114,     14,2,   70525,1041, 39.6900,-125.6400, 3569,     91.7,   9.8000,   32.9100,2,-999.0000,9,    239.5,2,    239.8,2,    11.56,2,    10.58,2,     0.04,2,     1.00,2,   2059.7,2,   2195.0,2,   9.7898
  32WC20070511,NACPWC,        6,    48,  1, 480115,     15,2,   70525,1043, 39.6900,-125.6400, 3569,     70.5,  10.6000,   32.6900,2,-999.0000,9,    264.5,2,    269.1,2,     6.77,2,     4.90,2,     0.28,2,     0.69,2,   2024.4,2,   2186.2,2,  10.5918
  32WC20070511,NACPWC,        6,    48,  1, 480116,     16,2,   70525,1045, 39.6900,-125.6400, 3569,     61.2,  10.9000,   32.6600,2,-999.0000,9,    268.2,2,    275.8,2,     5.37,2,     3.25,2,     0.25,2,     0.61,2,   2016.2,2,   2185.6,2,  10.8927
  32WC20070511,NACPWC,        6,    48,  1, 480117,     17,2,   70525,1046, 39.6900,-125.6400, 3569,     48.9,  11.2000,   32.6500,2,-999.0000,9,    272.0,2,    277.6,2,     4.90,2,     2.54,2,     0.18,2,     0.56,2,   2014.0,2,   2185.8,2,  11.1941
  32WC20070511,NACPWC,        6,    48,  1, 480118,     18,2,   70525,1047, 39.6900,-125.6400, 3569,     40.5,  11.8000,   32.6600,2,-999.0000,9,    273.3,2,    277.3,2,     4.33,2,     1.35,2,     0.09,2,     0.47,2,   2003.6,2,   2187.6,2,  11.7949
  32WC20070511,NACPWC,        6,    48,  1, 480119,     19,2,   70525,1049, 39.6900,-125.6400, 3569,     30.1,  12.6000,   32.6200,2,-999.0000,9,    276.4,2,    277.6,2,     3.96,2,     0.07,2,     0.02,2,     0.33,2,   1990.4,2,   2188.0,2,  12.5961
  32WC20070511,NACPWC,        6,    48,  1, 480120,     20,2,   70525,1050, 39.6900,-125.6400, 3569,     25.5,  12.7000,   32.6100,2,-999.0000,9,    277.3,2,    277.9,2,     4.04,2,     0.05,2,     0.02,2,     0.32,2,   1986.2,2,   2187.7,2,  12.6967
  32WC20070511,NACPWC,        6,    48,  1, 480121,     21,2,   70525,1051, 39.6900,-125.6400, 3569,     20.2,  12.8000,   32.6000,2,-999.0000,9,    279.4,2,    279.9,2,     4.10,2,     0.02,2,     0.01,2,     0.31,2,   1983.3,2,   2187.3,2,  12.7973
  32WC20070511,NACPWC,        6,    48,  1, 480122,     22,2,   70525,1052, 39.6900,-125.6400, 3569,     15.0,  12.9000,   32.5800,2,-999.0000,9,    279.2,2,    279.5,6,     4.23,2,     0.03,2,     0.01,2,     0.31,2,   1980.9,2,   2186.8,2,  12.8980
  32WC20070511,NACPWC,        6,    48,  1, 480123,     23,2,   70525,1053, 39.6900,-125.6400, 3569,     10.1,  12.9000,   32.5800,2,-999.0000,9,    279.0,2,    277.4,2,     4.01,2,     0.01,2,     0.01,2,     0.31,2,   1980.3,2,   2185.7,2,  12.8987
  32WC20070511,NACPWC,        6,    48,  1, 480124,     24,2,   70525,1054, 39.6900,-125.6400, 3569,      4.3,  12.9000,   32.5900,2,  32.5800,2,    278.7,2,    277.2,2,     3.87,2,     0.01,2,     0.01,2,     0.31,2,   1979.6,2,   2186.3,2,  12.8994
  32WC20070511,NACPWC,        6,    49,  1, 490101,      1,2,   70525,0142, 39.3600,-126.3900, 4094,   4084.1,   1.5000,   34.6900,2,  34.6900,6,    141.8,2,    140.7,2,   168.72,2,    35.78,2,     0.01,2,     2.58,2,   2344.7,6,   2428.9,6,   1.1718
  32WC20070511,NACPWC,        6,    49,  1, 490102,      2,2,   70525,0155, 39.3600,-126.3900, 4094,   3499.7,   1.5000,   34.6800,2,-999.0000,9,    123.1,2,    122.4,2,   178.16,2,    36.85,2,     0.01,2,     2.70,2,   2355.5,2,   2431.5,2,   1.2338
  32WC20070511,NACPWC,        6,    49,  1, 490103,      3,2,   70525,0216, 39.3600,-126.3900, 4094,   2500.6,   1.8000,   34.6400,2,-999.0000,9,     90.7,2,     90.9,2,   177.74,2,    39.13,2,     0.01,2,     2.85,2,   2373.7,6,   2424.4,2,   1.6234
  32WC20070511,NACPWC,        6,    49,  1, 490104,      4,2,   70525,0236, 39.3600,-126.3900, 4094,   1500.0,   2.7000,   34.5400,2,-999.0000,9,     36.3,2,     38.1,2,   156.26,2,    42.34,2,     0.01,2,     3.10,2,   2379.9,2,   2395.8,2,   2.5957
  32WC20070511,NACPWC,        6,    49,  1, 490105,      5,2,   70525,0251, 39.3600,-126.3900, 4094,    799.7,   4.1000,   34.3100,2,-999.0000,9,      9.4,2,     10.1,2,   116.13,6,    42.74,6,     0.01,6,     3.18,6,   2297.8,3,   2344.6,2,   4.0403
  32WC20070511,NACPWC,        6,    49,  1, 490106,      6,2,   70525,0259, 39.3600,-126.3900, 4094,    499.8,   5.2000,   34.0900,2,-999.0000,9,     38.8,2,     37.4,2,    82.28,2,    39.74,2,     0.01,2,     2.91,2,   2296.5,2,   2299.1,2,   5.1597
  32WC20070511,NACPWC,        6,    49,  1, 490107,      7,2,   70525,0306, 39.3600,-126.3900, 4094,    349.3,   6.3000,   33.9900,2,-999.0000,9,     85.6,2,     82.4,2,    59.46,2,    34.54,2,     0.02,2,     2.49,2,   2247.3,2,   2275.4,2,   6.2693
  32WC20070511,NACPWC,        6,    49,  1, 490108,      8,2,   70525,0310, 39.3600,-126.3900, 4094,    250.0,   7.5000,   33.9200,2,-999.0000,9,    155.8,2,    143.4,2,    38.59,2,    26.45,2,     0.01,2,     1.94,2,   2186.9,2,   2255.1,2,   7.4760
  32WC20070511,NACPWC,        6,    49,  1, 490109,      9,2,   70525,0312, 39.3600,-126.3900, 4094,    200.1,   8.0000,   33.8200,2,-999.0000,9,    158.4,2,    158.5,2,    31.44,2,    24.18,2,     0.02,2,     1.80,2,   2165.5,2,   2243.9,2,   7.9801
  32WC20070511,NACPWC,        6,    49,  1, 490110,     10,2,   70525,0314, 39.3600,-126.3900, 4094,    174.5,   8.6000,   33.6400,2,-999.0000,9,    169.9,2,    173.3,6,    24.98,2,    21.43,2,     0.02,2,     1.65,2,   2143.4,2,   2231.5,2,   8.5819
  32WC20070511,NACPWC,        6,    49,  1, 490111,     11,2,   70525,0316, 39.3600,-126.3900, 4094,    150.1,   9.2000,   33.4000,2,-999.0000,9,    190.5,2,    213.2,2,    19.43,2,    17.95,2,     0.02,2,     1.47,2,   2116.9,2,   2217.7,2,   9.1839
  32WC20070511,NACPWC,        6,    49,  1, 490112,     12,2,   70525,0318, 39.3600,-126.3900, 4094,    129.8,   9.7000,   33.0800,2,-999.0000,9,    235.3,2,    231.9,2,    10.61,2,    10.65,2,     0.02,2,     1.03,2,   2067.0,2,   2201.1,2,   9.6856
  32WC20070511,NACPWC,        6,    49,  1, 490113,     13,2,   70525,0320, 39.3600,-126.3900, 4094,    110.5,  10.2000,   32.8000,2,-999.0000,9,    258.0,2,    256.5,2,     6.15,2,     6.09,2,     0.04,2,     0.79,2,   2033.1,2,   2188.8,2,  10.1874
  32WC20070511,NACPWC,        6,    49,  1, 490114,     14,2,   70525,0323, 39.3600,-126.3900, 4094,     90.1,  11.1000,   32.7700,2,-999.0000,9,    263.1,2,    260.8,2,     4.08,2,     3.60,2,     0.23,2,     0.62,2,   2020.6,2,   2188.2,2,  11.0892
  32WC20070511,NACPWC,        6,    49,  1, 490115,     15,2,   70525,0325, 39.3600,-126.3900, 4094,     69.7,  11.4000,   32.7400,2,-999.0000,9,    267.5,2,    267.7,2,     3.20,2,     1.79,2,     0.60,2,     0.52,2,   2009.5,2,   2186.4,2,  11.3915
  32WC20070511,NACPWC,        6,    49,  1, 490116,     16,2,   70525,0326, 39.3600,-126.3900, 4094,     59.9,  11.6000,   32.7000,2,-999.0000,9,    280.3,2,    280.8,2,     2.46,2,     0.44,2,     0.10,2,     0.44,2,   1997.7,2,   2171.9,2,  11.5926
  32WC20070511,NACPWC,        6,    49,  1, 490117,     17,2,   70525,0327, 39.3600,-126.3900, 4094,     49.5,  12.3000,   32.7300,2,-999.0000,9,    278.0,2,    280.5,2,     1.90,2,     0.01,2,     0.01,2,     0.38,2,   1989.8,2,   2188.4,2,  12.2936
  32WC20070511,NACPWC,        6,    49,  1, 490118,     18,2,   70525,0328, 39.3600,-126.3900, 4094,     40.8,  13.4000,   32.7700,2,-999.0000,9,    272.9,2,    271.0,2,     2.01,2,     0.02,2,     0.01,2,     0.34,2,   1990.3,2,   2191.5,2,  13.3944
  32WC20070511,NACPWC,        6,    49,  1, 490119,     19,2,   70525,0329, 39.3600,-126.3900, 4094,     30.4,  13.4000,   32.7500,2,-999.0000,9,    274.5,2,    271.3,2,     2.20,2,     0.01,2,     0.01,2,     0.34,2,   1987.9,2,   2190.3,2,  13.3958
  32WC20070511,NACPWC,        6,    49,  1, 490120,     20,2,   70525,0330, 39.3600,-126.3900, 4094,     25.2,  13.4000,   32.7200,2,-999.0000,9,    276.9,2,    272.4,6,     2.45,2,     0.01,2,     0.01,2,     0.33,2,   1985.6,2,   2190.1,2,  13.3966
  32WC20070511,NACPWC,        6,    49,  1, 490121,     21,2,   70525,0331, 39.3600,-126.3900, 4094,     20.3,  13.4000,   32.7000,2,-999.0000,9,    276.7,2,    273.0,2,     2.53,2,     0.02,2,     0.01,2,     0.33,2,   1984.8,2,   2188.1,2,  13.3972
  32WC20070511,NACPWC,        6,    49,  1, 490122,     22,2,   70525,0331, 39.3600,-126.3900, 4094,     14.7,  13.4000,   32.7000,2,-999.0000,9,    276.5,2,    273.1,2,     2.54,2,     0.00,2,     0.01,2,     0.32,2,   1984.0,2,   2189.5,2,  13.3980
  32WC20070511,NACPWC,        6,    49,  1, 490123,     23,2,   70525,0333, 39.3600,-126.3900, 4094,      9.8,  13.7000,   32.6700,2,  32.6700,2,    275.6,2,    272.5,2,     2.81,2,     0.00,2,     0.01,2,     0.32,2,   1980.6,2,   2186.1,2,  13.6986
  32WC20070511,NACPWC,        6,    49,  1, 490124,     24,2,   70525,0334, 39.3600,-126.3900, 4094,      4.6,  13.7000,   32.6700,2,-999.0000,9,    275.4,2,    272.0,2,     2.93,2,     0.02,2,     0.01,2,     0.32,2,   1981.8,2,   2188.5,2,  13.6994