BOTTLE,20120405PRINUNIVRMK
EXPOCODE,SECT_ID,LINE,STNNBR,CASTNO,SAMPNO,BTLNBR,BTLNBR_FLAG_W,DATE,TIME,LATITUDE,LONGITUDE,DEPTH,CTDPRS,CTDTMP,CTDSAL,CTDSAL_FLAG_W,SALNTY,SALNTY_FLAG_W,CTDOXY,CTDOXY_FLAG_W,OXYGEN,OXYGEN_FLAG_W,SILCAT,SILCAT_FLAG_W,NITRAT,NITRAT_FLAG_W,NITRIT,NITRIT_FLAG_W,PHSPHT,PHSPHT_FLAG_W,TCARBN,TCARBN_FLAG_W,ALKALI,ALKALI_FLAG_W,THETA
,,,,,,,,,,,,METERS,DBAR,ITS-90,PSS-78,,PSS-78,,UMOL/KG,,UMOL/KG,,UMOL/KG,,UMOL/KG,,UMOL/KG,,UMOL/KG,,UMOL/KG,,UMOL/KG,,DEG C
  32WC20070511,NACPWC,        3,    23,  1, 230101,      1,2,   70518,1555, 47.3400,-124.7400,  131,    119.6,   7.1000,   33.9600,2,  33.9500,2,     85.4,2,     85.1,2,    49.70,2,    34.61,2,     0.04,2,     2.25,2,   2232.0,6,   2260.9,6,   7.0890
  32WC20070511,NACPWC,        3,    23,  1, 230102,      2,2,   70518,1558, 47.3400,-124.7400,  131,     90.2,   7.6000,   33.7700,2,-999.0000,9,    119.4,2,    117.7,2,    40.94,6,    29.20,6,     0.06,6,     2.00,6,   2196.1,2,   2244.0,2,   7.5914
  32WC20070511,NACPWC,        3,    23,  1, 230103,      3,2,   70518,1559, 47.3400,-124.7400,  131,     70.3,   7.7000,   33.6500,2,-999.0000,9,    134.7,2,    135.1,2,    36.51,2,    27.72,2,     0.06,2,     1.92,2,   2182.5,2,   2236.2,2,   7.6932
  32WC20070511,NACPWC,        3,    23,  1, 230104,      4,2,   70518,1601, 47.3400,-124.7400,  131,     60.0,   7.8000,   33.4100,2,-999.0000,9,    162.8,2,    164.3,2,    31.74,2,    24.15,2,     0.06,2,     1.75,2,   2149.9,2,   2221.0,2,   7.7942
  32WC20070511,NACPWC,        3,    23,  1, 230105,      5,2,   70518,1602, 47.3400,-124.7400,  131,     50.2,   8.0000,   33.0800,2,-999.0000,9,    197.8,2,    198.1,2,    25.44,2,    19.16,2,     0.05,2,     1.52,2,   2113.9,2,   2204.0,2,   7.9951
  32WC20070511,NACPWC,        3,    23,  1, 230106,      6,2,   70518,1604, 47.3400,-124.7400,  131,     39.9,   8.0000,   32.6300,2,-999.0000,9,    233.5,2,    229.7,2,    22.13,2,    15.76,2,     0.05,2,     1.33,2,   2076.9,2,   2181.3,2,   7.9961
  32WC20070511,NACPWC,        3,    23,  1, 230107,      7,2,   70518,1605, 47.3400,-124.7400,  131,     30.1,   8.4000,   32.2900,2,-999.0000,9,    246.4,2,    254.1,6,    18.57,2,    11.94,2,     0.21,2,     1.12,2,   2044.2,2,   2163.8,2,   8.3970
  32WC20070511,NACPWC,        3,    23,  1, 230108,      8,2,   70518,1606, 47.3400,-124.7400,  131,     25.5,   8.7000,   32.1000,2,-999.0000,9,    251.0,2,    253.6,2,    19.95,2,    10.92,2,     0.23,2,     1.11,2,   2035.8,2,   2165.9,2,   8.6974
  32WC20070511,NACPWC,        3,    23,  1, 230109,      9,2,   70518,1608, 47.3400,-124.7400,  131,     20.5,   9.0000,   31.9600,2,-999.0000,9,    261.3,2,    265.2,2,    17.87,2,     8.37,2,     0.21,2,     0.96,2,   2012.2,2,   2158.6,2,   8.9979
  32WC20070511,NACPWC,        3,    23,  1, 230110,     10,2,   70518,1609, 47.3400,-124.7400,  131,     15.2,   9.8000,   31.5000,2,-999.0000,9,    303.2,2,   -999.0,9,  -999.00,9,  -999.00,9,  -999.00,9,  -999.00,9,   1996.3,2,   -999.0,9,   9.7984
  32WC20070511,NACPWC,        3,    23,  1, 230111,     11,2,   70518,1609, 47.3400,-124.7400,  131,     15.2,   9.8000,   31.5100,2,-999.0000,9,    302.7,2,    311.5,2,    19.43,2,     8.72,2,     0.16,2,     0.82,2,   -999.0,9,   2151.8,2,   9.7984
  32WC20070511,NACPWC,        3,    23,  1, 230112,     12,2,   70518,1610, 47.3400,-124.7400,  131,     10.6,  10.4000,   31.3200,2,-999.0000,9,    347.2,2,   -999.0,9,  -999.00,9,  -999.00,9,  -999.00,9,  -999.00,9,   -999.0,9,   -999.0,9,  10.3988
  32WC20070511,NACPWC,        3,    23,  1, 230113,     13,2,   70518,1610, 47.3400,-124.7400,  131,     10.6,  10.4000,   31.3700,2,  31.2900,2,    344.9,2,    396.4,2,    13.87,2,     2.44,2,     0.10,2,     0.34,2,   1938.5,2,   2152.4,2,  10.3988
  32WC20070511,NACPWC,        3,    23,  1, 230114,     14,2,   70518,1612, 47.3400,-124.7400,  131,      4.9,  10.4000,   31.2600,2,-999.0000,9,    359.3,2,   -999.0,9,  -999.00,9,  -999.00,9,  -999.00,9,  -999.00,9,   -999.0,9,   -999.0,9,  10.3994
  32WC20070511,NACPWC,        3,    23,  1, 230115,     15,2,   70518,1612, 47.3400,-124.7400,  131,      4.9,  10.4000,   31.2700,2,-999.0000,9,    359.2,2,    361.2,2,    14.41,2,     2.08,2,     0.10,2,     0.32,2,   1930.7,2,   2149.8,2,  10.3994
  32WC20070511,NACPWC,        3,    24,  1, 240101,      1,2,   70518,1746, 47.4200,-124.5600,   55,     40.1,   7.8000,   33.0800,2,  33.0600,2,    133.3,2,    134.3,2,    44.31,6,    26.72,2,     0.20,6,     2.05,6,   2175.6,6,   2217.9,2,   7.7962
  32WC20070511,NACPWC,        3,    24,  1, 240102,      2,2,   70518,1748, 47.4200,-124.5600,   55,     29.9,   8.1000,   32.8900,2,-999.0000,9,    147.8,2,    150.9,2,    44.60,2,    26.44,2,     0.25,2,     1.99,2,   2162.4,2,   2211.8,2,   8.0971
  32WC20070511,NACPWC,        3,    24,  1, 240103,      3,2,   70518,1750, 47.4200,-124.5600,   55,     25.0,   8.6000,   32.6700,2,-999.0000,9,    206.3,2,    214.5,2,    39.93,2,    20.62,2,     0.20,2,     1.64,2,   2114.7,2,   2203.4,2,   8.5975
  32WC20070511,NACPWC,        3,    24,  1, 240104,      4,2,   70518,1751, 47.4200,-124.5600,   55,     19.9,   8.9000,   32.4800,2,-999.0000,9,    258.7,2,    240.5,2,    37.28,2,    17.49,2,     0.19,2,     1.54,2,   2092.8,2,   2196.4,2,   8.8979
  32WC20070511,NACPWC,        3,    24,  1, 240105,      5,2,   70518,1752, 47.4200,-124.5600,   55,     15.2,   9.7000,   32.2900,2,-999.0000,9,    285.9,2,    288.5,6,    33.98,2,    13.07,2,     0.17,2,     1.07,2,   2054.8,2,   2192.5,2,   9.6983
  32WC20070511,NACPWC,        3,    24,  1, 240106,      6,2,   70518,1753, 47.4200,-124.5600,   55,     10.3,   9.5000,   32.0400,2,  32.0100,2,    257.9,2,    253.9,2,    42.34,2,    18.96,2,     0.19,2,     1.56,2,   2072.6,2,   2176.5,2,   9.4989
  32WC20070511,NACPWC,        3,    24,  1, 240107,      7,2,   70518,1754, 47.4200,-124.5600,   55,      5.0,   9.8000,   31.8100,2,-999.0000,9,    263.5,2,    269.0,2,    41.70,2,    18.14,2,     0.20,2,     1.50,2,   2055.7,2,   2165.0,2,   9.7995
  32WC20070511,NACPWC,        4,    25,  1, 250101,      1,4,   70521,2332, 44.6500,-124.1600,   53,     10.4,  10.9000,   32.6600,2,-999.0000,9,    369.8,2,   -999.0,9,  -999.00,9,  -999.00,9,  -999.00,9,  -999.00,9,   -999.0,9,   -999.0,9,  10.8988
  32WC20070511,NACPWC,        4,    25,  1, 250102,      2,2,   70521,2334, 44.6500,-124.1600,   53,     41.6,   8.0000,   33.8000,2,  33.8000,2,     89.0,2,     87.7,2,    48.06,6,    30.66,6,     0.25,6,     2.34,6,   2224.4,2,   2249.6,6,   7.9959
  32WC20070511,NACPWC,        4,    25,  1, 250103,      3,2,   70521,2335, 44.6500,-124.1600,   53,     30.3,   8.5000,   33.6000,2,-999.0000,9,    226.2,2,    149.2,2,    40.50,2,    27.30,2,     0.25,2,     2.13,2,   2190.1,2,   2239.6,6,   8.4969
  32WC20070511,NACPWC,        4,    25,  1, 250104,      4,2,   70521,2336, 44.6500,-124.1600,   53,     24.5,   9.7000,   33.4500,2,-999.0000,9,    271.5,2,    297.6,2,     9.24,2,     8.54,2,     0.11,2,     0.92,2,   2069.6,2,   2240.5,6,   9.6973
  32WC20070511,NACPWC,        4,    25,  1, 250105,      5,2,   70521,2337, 44.6500,-124.1600,   53,     19.7,   9.8000,   33.4200,2,-999.0000,9,    312.7,2,    323.5,6,     7.17,2,     4.18,2,     0.06,2,     0.87,2,   2041.6,2,   2252.0,6,   9.7978
  32WC20070511,NACPWC,        4,    25,  1, 250106,      6,2,   70521,2339, 44.6500,-124.1600,   53,     14.9,  10.2000,   33.2500,2,-999.0000,9,    328.7,2,    343.4,2,     5.45,2,     1.43,2,     0.02,2,     0.26,2,   2014.0,2,   2244.0,6,  10.1983
  32WC20070511,NACPWC,        4,    25,  1, 250107,      7,2,   70521,2340, 44.6500,-124.1600,   53,      9.6,  11.0000,   32.5400,2,-999.0000,9,    371.7,2,    387.0,2,     0.01,2,     0.48,2,     0.01,2,     0.02,2,   1875.0,2,   2200.6,2,  10.9989
  32WC20070511,NACPWC,        4,    25,  1, 250108,      8,2,   70521,2341, 44.6500,-124.1600,   53,      4.1,  11.2000,   32.4000,2,  32.3900,2,    375.3,2,   -999.0,9,     0.02,2,     0.48,2,     0.01,2,     0.04,2,   1877.9,2,   2201.6,2,  11.1995
  32WC20070511,NACPWC,        4,    26,  1, 260101,      1,2,   70522,0101, 44.6500,-124.3400,   84,     75.4,   7.2000,   33.9700,2,  33.9800,2,     60.7,2,     61.4,2,  -999.00,9,  -999.00,9,  -999.00,9,  -999.00,9,   2254.6,2,   2253.4,6,   7.1930
  32WC20070511,NACPWC,        4,    26,  1, 260102,      2,2,   70522,0102, 44.6500,-124.3400,   84,     60.7,   8.1000,   33.6800,2,-999.0000,9,    103.2,2,    101.8,2,  -999.00,9,  -999.00,9,  -999.00,9,  -999.00,9,   2211.3,2,   -999.0,9,   8.0940
  32WC20070511,NACPWC,        4,    26,  1, 260103,      3,3,   70522,0104, 44.6500,-124.3400,   84,     49.1,   8.4000,   33.3600,2,-999.0000,9,    145.2,2,    147.5,2,  -999.00,9,  -999.00,9,  -999.00,9,  -999.00,9,   2157.1,2,   2218.0,2,   8.3951
  32WC20070511,NACPWC,        4,    26,  1, 260104,      4,2,   70522,0105, 44.6500,-124.3400,   84,     40.9,   8.2000,   33.0900,2,-999.0000,9,    168.7,2,    170.9,2,  -999.00,9,  -999.00,9,  -999.00,9,  -999.00,9,   2135.8,2,   2204.5,2,   8.1960
  32WC20070511,NACPWC,        4,    26,  1, 260105,      5,2,   70522,0106, 44.6500,-124.3400,   84,     30.5,   8.1000,   32.5200,2,-999.0000,9,    243.2,2,    248.3,2,  -999.00,9,  -999.00,9,  -999.00,9,  -999.00,9,   2056.8,2,   2174.4,2,   8.0970
  32WC20070511,NACPWC,        4,    26,  1, 260106,      6,2,   70522,0106, 44.6500,-124.3400,   84,     24.9,   8.2000,   32.4000,2,-999.0000,9,    258.0,2,    260.4,2,  -999.00,9,  -999.00,9,  -999.00,9,  -999.00,9,   2042.9,2,   2166.7,2,   8.1976
  32WC20070511,NACPWC,        4,    26,  1, 260107,      7,2,   70522,0107, 44.6500,-124.3400,   84,     20.5,   8.4000,   32.3000,2,-999.0000,9,    258.1,2,    265.4,2,  -999.00,9,  -999.00,9,  -999.00,9,  -999.00,9,   2033.1,2,   2162.4,2,   8.3980
  32WC20070511,NACPWC,        4,    26,  1, 260108,      8,2,   70522,0108, 44.6500,-124.3400,   84,     14.6,   9.1000,   32.0500,2,-999.0000,9,    256.8,2,   -999.0,9,  -999.00,9,  -999.00,9,  -999.00,9,  -999.00,9,   -999.0,9,   -999.0,9,   9.0985
  32WC20070511,NACPWC,        4,    26,  1, 260109,      9,2,   70522,0108, 44.6500,-124.3400,   84,     14.6,   9.1000,   32.0800,2,-999.0000,9,    251.0,2,    254.5,2,  -999.00,9,  -999.00,9,  -999.00,9,  -999.00,9,   2039.0,2,   2163.8,2,   9.0985
  32WC20070511,NACPWC,        4,    26,  1, 260110,     10,2,   70522,0109, 44.6500,-124.3400,   84,     10.0,  11.9000,   30.2000,2,-999.0000,9,    295.1,2,   -999.0,9,  -999.00,9,  -999.00,9,  -999.00,9,  -999.00,9,   -999.0,9,   -999.0,9,  11.8988
  32WC20070511,NACPWC,        4,    26,  1, 260111,     11,2,   70522,0110, 44.6500,-124.3400,   84,      9.8,  11.9000,   30.2300,2,-999.0000,9,    295.1,2,    302.7,6,  -999.00,9,  -999.00,9,  -999.00,9,  -999.00,9,   1864.3,2,   2098.9,2,  11.8988
  32WC20070511,NACPWC,        4,    26,  1, 260112,     12,2,   70522,0110, 44.6500,-124.3400,   84,      3.9,  12.1000,   30.1700,2,-999.0000,9,    295.1,2,   -999.0,9,  -999.00,9,  -999.00,9,  -999.00,9,  -999.00,9,   -999.0,9,   -999.0,9,  12.0995
  32WC20070511,NACPWC,        4,    26,  1, 260113,     13,2,   70522,0111, 44.6500,-124.3400,   84,      3.8,  12.1000,   30.1700,2,  30.1600,2,    295.1,2,    300.2,2,  -999.00,9,  -999.00,9,  -999.00,9,  -999.00,9,   1860.3,2,   2089.4,2,  12.0995
  32WC20070511,NACPWC,        4,    27,  1, 270101,      1,2,   70521,1355, 44.6500,-124.5700,  170,    157.4,   7.1000,   33.9800,2,-999.0000,2,     65.9,2,     64.2,2,    56.48,6,    34.18,6,     0.14,6,     2.53,6,   2249.8,6,   2264.4,2,   7.0854
  32WC20070511,NACPWC,        4,    27,  1, 270102,      2,2,   70521,1357, 44.6500,-124.5700,  170,    129.6,   7.4000,   33.9500,2,-999.0000,9,     72.0,2,     68.8,2,    53.40,6,    33.81,6,     0.17,6,     2.44,6,   2245.1,2,   2259.8,2,   7.3877
  32WC20070511,NACPWC,        4,    27,  1, 270103,      3,2,   70521,1358, 44.6500,-124.5700,  170,    109.2,   8.0000,   33.7400,2,-999.0000,9,     95.3,2,     94.1,2,    43.12,2,    30.47,2,     0.04,2,     2.25,2,   2208.7,2,   2240.6,2,   7.9892
  32WC20070511,NACPWC,        4,    27,  1, 270104,      4,2,   70521,1400, 44.6500,-124.5700,  170,     90.2,   8.4000,   33.2800,2,-999.0000,9,    162.6,2,    160.5,2,    30.67,2,    23.74,2,     0.05,2,     1.82,2,   2146.5,2,   2213.5,2,   8.3909
  32WC20070511,NACPWC,        4,    27,  1, 270105,      5,2,   70521,1402, 44.6500,-124.5700,  170,     70.2,   8.8000,   32.6900,2,-999.0000,9,    246.9,2,    250.6,6,    13.96,6,    12.24,6,     0.07,6,     1.09,6,   2049.5,2,   2162.1,3,   8.7928
  32WC20070511,NACPWC,        4,    27,  1, 270106,      6,2,   70521,1404, 44.6500,-124.5700,  170,     60.0,   8.9000,   32.5200,2,-999.0000,9,    269.1,2,    270.0,2,    11.64,2,     9.61,2,     0.12,2,     0.98,2,   2029.4,2,   2169.6,2,   8.8938
  32WC20070511,NACPWC,        4,    27,  1, 270107,      7,2,   70521,1405, 44.6500,-124.5700,  170,     50.6,   9.0000,   32.4400,2,-999.0000,9,    284.7,2,    284.5,2,     9.72,2,     6.68,2,     0.24,2,     0.87,2,   2016.2,2,   2170.8,2,   8.9947
  32WC20070511,NACPWC,        4,    27,  1, 270108,      8,2,   70521,1406, 44.6500,-124.5700,  170,     40.2,   9.5000,   32.3900,2,-999.0000,9,    289.1,2,    285.5,2,     9.75,2,     5.68,2,     0.15,2,     0.80,2,   2004.2,2,   2170.4,2,   9.4957
  32WC20070511,NACPWC,        4,    27,  1, 270109,      9,2,   70521,1407, 44.6500,-124.5700,  170,     30.8,  10.1000,   32.3300,2,-999.0000,9,    291.4,2,    290.1,2,     8.93,2,     3.77,2,     0.07,2,     0.67,2,   1991.6,2,   2157.9,2,  10.0966
  32WC20070511,NACPWC,        4,    27,  1, 270110,     10,2,   70521,1408, 44.6500,-124.5700,  170,     24.8,  10.1000,   31.7100,2,-999.0000,9,    305.9,2,    288.4,2,     8.98,2,     2.41,2,     0.07,2,     0.55,2,   1958.7,2,   2139.0,2,  10.0972
  32WC20070511,NACPWC,        4,    27,  1, 270111,     11,2,   70521,1409, 44.6500,-124.5700,  170,     19.7,  11.3000,   30.2900,2,-999.0000,9,    307.5,2,    311.9,2,     1.42,2,     0.59,2,     0.01,2,     0.15,2,   1868.0,2,   2103.8,2,  11.2977
  32WC20070511,NACPWC,        4,    27,  1, 270112,     12,2,   70521,1410, 44.6500,-124.5700,  170,     15.5,  11.4000,   30.1400,2,-999.0000,9,    307.9,2,   -999.0,9,     1.75,2,     0.49,2,     0.01,2,     0.12,2,   -999.0,9,   -999.0,9,  11.3982
  32WC20070511,NACPWC,        4,    27,  1, 270113,     13,2,   70521,1411, 44.6500,-124.5700,  170,     15.4,  11.4000,   30.1500,2,-999.0000,9,    307.8,2,    308.5,2,  -999.00,9,  -999.00,9,  -999.00,9,  -999.00,9,   1862.0,2,   2099.5,2,  11.3982
  32WC20070511,NACPWC,        4,    27,  1, 270114,     14,2,   70521,1412, 44.6500,-124.5700,  170,      9.7,  11.6000,   29.8800,2,-999.0000,9,    302.5,2,   -999.0,9,  -999.00,9,  -999.00,9,  -999.00,9,  -999.00,9,   -999.0,9,   -999.0,9,  11.5988
  32WC20070511,NACPWC,        4,    27,  1, 270115,     15,2,   70521,1412, 44.6500,-124.5700,  170,      9.6,  11.6000,   29.9200,2,-999.0000,9,    303.4,2,    303.8,2,     1.71,2,     0.49,2,     0.01,2,     0.08,2,   1856.4,2,   2093.2,2,  11.5989
  32WC20070511,NACPWC,        4,    27,  1, 270116,     16,2,   70521,1413, 44.6500,-124.5700,  170,      6.1,  11.7000,   29.7200,2,-999.0000,9,    302.3,2,   -999.0,9,  -999.00,9,  -999.00,9,  -999.00,9,  -999.00,9,   -999.0,9,   -999.0,9,  11.6993
  32WC20070511,NACPWC,        4,    27,  1, 270117,     17,2,   70521,1413, 44.6500,-124.5700,  170,      5.8,  11.7000,   29.7200,2,-999.0000,2,    302.3,2,    297.3,2,     1.60,2,     0.47,2,     0.01,2,     0.05,2,   1851.3,6,   2094.4,2,  11.6993