BOTTLE,20120405PRINUNIVRMK
EXPOCODE,SECT_ID,LINE,STNNBR,CASTNO,SAMPNO,BTLNBR,BTLNBR_FLAG_W,DATE,TIME,LATITUDE,LONGITUDE,DEPTH,CTDPRS,CTDTMP,CTDSAL,CTDSAL_FLAG_W,SALNTY,SALNTY_FLAG_W,CTDOXY,CTDOXY_FLAG_W,OXYGEN,OXYGEN_FLAG_W,SILCAT,SILCAT_FLAG_W,NITRAT,NITRAT_FLAG_W,NITRIT,NITRIT_FLAG_W,PHSPHT,PHSPHT_FLAG_W,TCARBN,TCARBN_FLAG_W,ALKALI,ALKALI_FLAG_W,THETA
,,,,,,,,,,,,METERS,DBAR,ITS-90,PSS-78,,PSS-78,,UMOL/KG,,UMOL/KG,,UMOL/KG,,UMOL/KG,,UMOL/KG,,UMOL/KG,,UMOL/KG,,UMOL/KG,,DEG C
  32WC20070511,NACPWC,       11,    89,  1, 890101,      1,2,   70606,1732, 31.0200,-118.1200, 1751,   1734.0,   2.5000,   34.6000,2,  34.6000,2,     61.8,2,     62.9,2,   153.89,6,    41.27,6,     0.03,6,     2.89,6,   2375.9,6,   2410.1,2,   2.3788
  32WC20070511,NACPWC,       11,    89,  1, 890102,      2,2,   70606,1741, 31.0200,-118.1200, 1751,   1500.8,   2.8000,   34.5800,2,-999.0000,9,     49.7,2,     51.6,2,   147.17,2,    41.97,2,     0.03,2,     2.96,2,   2375.0,6,   2403.3,2,   2.6944
  32WC20070511,NACPWC,       11,    89,  1, 890103,      3,2,   70606,1756, 31.0200,-118.1200, 1751,    999.3,   4.1000,   34.4800,2,-999.0000,9,     20.8,2,     21.6,2,   117.82,6,    42.55,6,     0.03,6,     3.07,6,   2362.5,2,   2367.4,2,   4.0237
  32WC20070511,NACPWC,       11,    89,  1, 890104,      4,2,   70606,1803, 31.0200,-118.1200, 1751,    801.5,   4.9000,   34.4200,2,-999.0000,9,     11.8,2,     12.5,2,   101.75,2,    42.27,2,     0.03,2,     3.08,2,   2349.2,2,   2345.7,2,   4.8351
  32WC20070511,NACPWC,       11,    89,  1, 890105,      5,2,   70606,1814, 31.0200,-118.1200, 1751,    500.3,   6.6000,   34.3500,2,-999.0000,9,     12.8,2,     14.2,2,    72.17,2,    37.44,2,     0.03,2,     2.89,2,   2311.6,2,   2311.9,2,   6.5541
  32WC20070511,NACPWC,       11,    89,  1, 890106,      6,2,   70606,1819, 31.0200,-118.1200, 1751,    351.5,   7.4000,   34.3100,2,-999.0000,9,     24.4,2,     24.3,2,    60.43,2,    34.85,2,     0.04,2,     2.71,2,   2293.8,2,   2299.6,2,   7.3660
  32WC20070511,NACPWC,       11,    89,  1, 890107,      7,2,   70606,1822, 31.0200,-118.1200, 1751,    300.3,   8.0000,   34.2800,2,-999.0000,9,     38.4,2,     38.9,2,    52.32,2,    32.63,2,     0.04,2,     2.54,2,   2273.3,2,   2288.6,2,   7.9697
  32WC20070511,NACPWC,       11,    89,  1, 890108,      8,2,   70606,1825, 31.0200,-118.1200, 1751,    252.1,   8.4000,   34.2100,2,-999.0000,9,     64.4,2,     66.4,2,    44.43,2,    30.42,2,     0.04,2,     2.27,2,   2243.9,2,   2277.3,2,   8.3739
  32WC20070511,NACPWC,       11,    89,  1, 890109,      9,2,   70606,1827, 31.0200,-118.1200, 1751,    198.7,   8.8000,   34.0600,2,-999.0000,9,    109.5,2,    108.2,2,    34.09,2,    26.79,2,     0.04,2,     1.90,2,   2199.7,2,   2259.4,2,   8.7790
  32WC20070511,NACPWC,       11,    89,  1, 890110,     10,2,   70606,1829, 31.0200,-118.1200, 1751,    176.6,   9.1000,   34.0000,2,-999.0000,9,    117.0,2,    118.1,2,    30.76,2,    25.46,2,     0.04,2,     1.82,2,   2187.8,2,   2254.8,2,   9.0810
  32WC20070511,NACPWC,       11,    89,  1, 890111,     11,2,   70606,1831, 31.0200,-118.1200, 1751,    150.8,   9.5000,   33.8900,2,-999.0000,9,    136.8,2,    133.5,2,    25.95,2,    23.30,2,     0.04,2,     1.64,2,   2168.0,2,   2246.4,2,   9.4833
  32WC20070511,NACPWC,       11,    89,  1, 890112,     12,2,   70606,1833, 31.0200,-118.1200, 1751,    129.7,  10.3000,   33.7400,2,-999.0000,9,    151.6,2,    149.2,2,    20.01,2,    19.77,2,     0.04,2,     1.43,2,   2142.6,2,   2235.7,2,  10.2850
  32WC20070511,NACPWC,       11,    89,  1, 890113,     13,2,   70606,1835, 31.0200,-118.1200, 1751,    111.3,  11.1000,   33.6500,2,-999.0000,9,    168.7,2,    169.2,2,    15.38,2,    16.08,2,     0.05,2,     1.19,2,   2119.0,2,   2238.2,2,  11.0865
  32WC20070511,NACPWC,       11,    89,  1, 890114,     14,2,   70606,1836, 31.0200,-118.1200, 1751,     89.9,  11.7000,   33.5900,2,-999.0000,9,    191.3,2,    189.5,2,    11.87,2,    12.71,2,     0.07,2,     0.96,2,   2094.7,2,   2232.1,2,  11.6887
  32WC20070511,NACPWC,       11,    89,  1, 890115,     15,2,   70606,1838, 31.0200,-118.1200, 1751,     70.4,  13.1000,   33.5200,2,-999.0000,9,    222.8,2,    229.8,2,     6.13,6,     5.82,6,     0.20,6,     0.59,6,   2056.0,2,   2227.3,2,  13.0905
  32WC20070511,NACPWC,       11,    89,  1, 890116,     16,2,   70606,1839, 31.0200,-118.1200, 1751,     59.3,  14.1000,   33.5200,2,-999.0000,9,    249.1,2,    253.0,2,     3.56,2,     1.52,2,     0.12,2,     0.30,2,   2029.9,2,   2230.4,2,  14.0915
  32WC20070511,NACPWC,       11,    89,  1, 890117,     17,2,   70606,1841, 31.0200,-118.1200, 1751,     50.4,  14.7000,   33.5300,2,-999.0000,9,    261.9,2,    263.0,2,     2.87,2,     0.27,2,     0.03,2,     0.21,2,   2018.1,2,   2234.3,2,  14.6926
  32WC20070511,NACPWC,       11,    89,  1, 890118,     18,2,   70606,1842, 31.0200,-118.1200, 1751,     40.4,  15.9000,   33.5900,2,-999.0000,9,    251.7,2,    252.1,2,     2.22,2,     0.27,2,     0.03,2,     0.17,2,   2018.0,2,   2240.5,2,  15.8937
  32WC20070511,NACPWC,       11,    89,  1, 890119,     19,2,   70606,1844, 31.0200,-118.1200, 1751,     31.0,  16.0000,   33.6000,2,-999.0000,9,    251.6,2,    250.9,2,     2.12,2,     0.26,2,     0.03,2,     0.17,2,   2017.0,2,   2234.1,2,  15.9952
  32WC20070511,NACPWC,       11,    89,  1, 890120,     20,2,   70606,1845, 31.0200,-118.1200, 1751,     25.1,  16.0000,   33.6000,2,-999.0000,9,    251.5,2,    250.3,6,     2.10,2,     0.28,2,     0.03,2,     0.18,2,   2017.6,2,   2239.5,2,  15.9961
  32WC20070511,NACPWC,       11,    89,  1, 890121,     21,2,   70606,1847, 31.0200,-118.1200, 1751,     18.7,  16.0000,   33.6000,2,-999.0000,9,    251.2,2,    250.4,2,     2.09,2,     0.27,2,     0.03,2,     0.18,2,   2018.3,2,   2238.5,2,  15.9971
  32WC20070511,NACPWC,       11,    89,  1, 890122,     22,2,   70606,1848, 31.0200,-118.1200, 1751,     15.3,  16.0000,   33.6000,2,-999.0000,9,    251.1,2,    250.1,2,     2.07,2,     0.27,2,     0.03,2,     0.18,2,   2016.9,2,   2242.0,2,  15.9976
  32WC20070511,NACPWC,       11,    89,  1, 890123,     23,2,   70606,1849, 31.0200,-118.1200, 1751,     10.1,  16.0000,   33.6000,2,  33.6000,2,    250.9,2,    250.0,2,     2.07,2,     0.27,2,     0.03,2,     0.18,2,   2019.2,2,   2239.2,2,  15.9984
  32WC20070511,NACPWC,       11,    89,  1, 890124,     24,2,   70606,1850, 31.0200,-118.1200, 1751,      6.1,  16.0000,   33.6000,2,-999.0000,9,    250.8,2,    250.0,2,     2.08,2,     0.30,2,     0.00,2,     0.18,2,   2018.4,2,   2237.8,2,  15.9990
  32WC20070511,NACPWC,       11,    90,  1, 900101,      1,2,   70606,2325, 31.1900,-117.7900, 1733,   1744.0,   2.6000,   34.5900,2,  34.5900,2,     57.2,2,     57.6,2,   153.30,6,    41.26,6,     0.02,6,     2.90,6,   2377.9,6,   2406.2,6,   2.4766
  32WC20070511,NACPWC,       11,    90,  1, 900102,      2,2,   70606,2333, 31.1900,-117.7900, 1733,   1500.7,   2.8000,   34.5800,2,-999.0000,9,     51.2,2,     51.7,2,   148.82,2,    41.91,2,     0.03,2,     2.95,2,   2375.4,6,   2403.5,2,   2.6944
  32WC20070511,NACPWC,       11,    90,  1, 900103,      3,2,   70606,2346, 31.1900,-117.7900, 1733,   1000.5,   4.0000,   34.4900,2,-999.0000,9,     21.8,2,     22.7,2,   119.34,6,    42.66,6,     0.03,6,     3.04,6,   2361.6,2,   2370.7,2,   3.9243
  32WC20070511,NACPWC,       11,    90,  1, 900104,      4,2,   70606,2352, 31.1900,-117.7900, 1733,    800.2,   4.6000,   34.4400,2,-999.0000,9,     13.8,2,     15.3,2,   106.59,2,    42.30,2,     0.03,2,     3.06,2,   2348.7,2,   2352.7,2,   4.5370
  32WC20070511,NACPWC,       11,    90,  1, 900105,      5,2,   70606,0001, 31.1900,-117.7900, 1733,    501.1,   6.3000,   34.3400,2,-999.0000,9,     12.8,2,     12.7,2,    76.35,2,    38.14,2,     0.03,2,     2.89,2,   2316.6,2,   2314.0,2,   6.2552
  32WC20070511,NACPWC,       11,    90,  1, 900106,      6,2,   70606,0006, 31.1900,-117.7900, 1733,    349.5,   7.4000,   34.2900,2,-999.0000,9,     30.0,2,     28.6,2,    59.51,2,    34.21,2,     0.03,2,     2.65,2,   2285.2,2,   2299.5,2,   7.3662
  32WC20070511,NACPWC,       11,    90,  1, 900107,      7,2,   70606,0008, 31.1900,-117.7900, 1733,    299.9,   7.8000,   34.2400,2,-999.0000,9,     48.8,2,     48.7,2,    52.15,2,    32.25,2,     0.03,2,     2.45,2,   2263.2,2,   2285.6,2,   7.7702
  32WC20070511,NACPWC,       11,    90,  1, 900108,      8,2,   70606,0010, 31.1900,-117.7900, 1733,    250.0,   8.0000,   34.1500,2,-999.0000,9,     74.8,2,     76.4,6,    46.08,2,    30.87,2,     0.04,2,     2.21,2,   2236.3,2,   2274.0,2,   7.9749
  32WC20070511,NACPWC,       11,    90,  1, 900109,      9,2,   70606,0012, 31.1900,-117.7900, 1733,    199.2,   9.2000,   34.1900,2,-999.0000,9,     74.3,2,     73.7,2,    38.10,2,    28.02,2,     0.03,2,     2.20,2,   2227.1,2,   2266.6,2,   9.1783
  32WC20070511,NACPWC,       11,    90,  1, 900110,     10,2,   70606,0014, 31.1900,-117.7900, 1733,    174.8,   9.0000,   34.1000,2,-999.0000,9,     96.4,2,     95.9,2,    35.37,2,    27.34,2,     0.04,2,     2.04,2,   2204.6,2,   2263.3,2,   8.9813
  32WC20070511,NACPWC,       11,    90,  1, 900111,     11,2,   70606,0015, 31.1900,-117.7900, 1733,    149.1,   9.2000,   33.9700,2,-999.0000,9,    120.6,2,    121.8,2,    29.63,2,    24.76,2,     0.04,2,     1.81,2,   2180.7,2,   2253.1,2,   9.1838
  32WC20070511,NACPWC,       11,    90,  1, 900112,     12,2,   70606,0017, 31.1900,-117.7900, 1733,    130.4,   9.5000,   33.8700,2,-999.0000,9,    132.1,2,    134.9,2,    25.60,2,    22.71,2,     0.04,2,     1.67,2,   2164.8,2,   2247.4,2,   9.4856
  32WC20070511,NACPWC,       11,    90,  1, 900113,     13,2,   70606,0018, 31.1900,-117.7900, 1733,    111.8,  10.2000,   33.8400,2,-999.0000,9,    118.2,2,    121.6,2,    24.05,2,    22.38,2,     0.04,2,     1.72,2,   2169.6,2,   2243.1,2,  10.1871
  32WC20070511,NACPWC,       11,    90,  1, 900114,     14,2,   70606,0020, 31.1900,-117.7900, 1733,     89.6,  11.3000,   33.6300,2,-999.0000,9,    185.7,2,    180.8,2,    14.31,2,    15.58,2,     0.04,2,     1.19,2,   2112.3,2,   2234.5,2,  11.2890
  32WC20070511,NACPWC,       11,    90,  1, 900115,     15,2,   70606,0021, 31.1900,-117.7900, 1733,     69.9,  12.3000,   33.5800,2,-999.0000,9,    225.1,2,    223.9,2,     8.43,2,    10.39,2,     0.23,2,     0.87,2,   2082.3,2,   2233.5,2,  12.2909
  32WC20070511,NACPWC,       11,    90,  1, 900116,     16,2,   70606,0022, 31.1900,-117.7900, 1733,     58.4,  12.6000,   33.5200,2,-999.0000,9,    231.3,2,    219.6,2,     7.42,2,     7.93,2,     0.17,2,     0.73,2,   2062.8,2,   2227.7,2,  12.5923
  32WC20070511,NACPWC,       11,    90,  1, 900117,     17,2,   70606,0023, 31.1900,-117.7900, 1733,     51.3,  13.3000,   33.5200,2,-999.0000,9,    242.6,2,    243.3,2,     5.14,6,     4.09,6,     0.39,6,     0.52,6,   2043.3,2,   2233.9,2,  13.2930
  32WC20070511,NACPWC,       11,    90,  1, 900118,     18,2,   70606,0024, 31.1900,-117.7900, 1733,     40.6,  14.0000,   33.5100,2,-999.0000,9,    258.5,2,    257.9,6,     3.79,2,     1.55,2,     0.14,2,     0.34,2,   2029.6,2,   2228.2,2,  13.9942
  32WC20070511,NACPWC,       11,    90,  1, 900119,     19,2,   70606,0025, 31.1900,-117.7900, 1733,     29.5,  15.5000,   33.6000,2,-999.0000,9,    259.2,2,    258.2,2,     2.77,2,     0.00,2,     0.03,2,     0.20,2,   2017.7,2,   2238.6,2,  15.4955
  32WC20070511,NACPWC,       11,    90,  1, 900120,     20,2,   70606,0026, 31.1900,-117.7900, 1733,     25.3,  15.7000,   33.6100,2,-999.0000,9,    258.5,2,    258.3,2,     2.74,2,     0.00,2,     0.03,2,     0.19,2,   2015.8,2,   2238.6,2,  15.6961
  32WC20070511,NACPWC,       11,    90,  1, 900121,     21,2,   70606,0027, 31.1900,-117.7900, 1733,     19.4,  15.7000,   33.6200,2,-999.0000,9,    258.3,2,    258.2,2,     2.76,2,     0.00,2,     0.04,2,     0.18,2,   2014.9,2,   2239.8,2,  15.6970
  32WC20070511,NACPWC,       11,    90,  1, 900122,     22,2,   70606,0028, 31.1900,-117.7900, 1733,     15.0,  15.8000,   33.6200,2,-999.0000,9,    258.0,2,    258.9,2,     2.79,2,     0.00,2,     0.03,2,     0.17,2,   2016.9,2,   2236.0,2,  15.7977
  32WC20070511,NACPWC,       11,    90,  1, 900123,     23,2,   70606,0028, 31.1900,-117.7900, 1733,     10.4,  15.8000,   33.6200,2,  33.6200,2,    257.8,2,    258.2,2,     2.69,2,     0.00,2,     0.04,2,     0.17,2,   2019.0,2,   2239.5,2,  15.7984
  32WC20070511,NACPWC,       11,    90,  1, 900124,     24,2,   70606,0029, 31.1900,-117.7900, 1733,      4.9,  15.8000,   33.6200,2,-999.0000,9,    257.6,2,    258.0,2,     2.72,2,     0.00,2,     0.04,2,     0.16,2,   2016.8,2,   2237.4,2,  15.7992
  32WC20070511,NACPWC,       11,    91,  1, 910101,      1,2,   70607,0526, 31.3500,-117.4500, 1906,   1899.7,   2.4000,   34.6100,2,  34.6100,2,     65.8,2,     65.5,2,   157.44,6,    40.54,6,     0.03,6,     2.83,6,   2379.7,6,   2415.5,2,   2.2662
  32WC20070511,NACPWC,       11,    91,  1, 910102,      2,2,   70607,0540, 31.3500,-117.4500, 1906,   1500.6,   3.0000,   34.5700,2,-999.0000,9,     46.1,2,     46.4,2,   145.34,2,    41.48,2,     0.03,2,     2.94,2,   2376.2,6,   2397.7,6,   2.8921
  32WC20070511,NACPWC,       11,    91,  1, 910103,      3,2,   70607,0555, 31.3500,-117.4500, 1906,   1000.2,   4.0000,   34.4900,2,-999.0000,9,     22.2,2,     22.4,2,   120.09,6,    42.28,6,     0.03,6,     3.01,6,   2365.0,2,   2370.8,2,   3.9243
  32WC20070511,NACPWC,       11,    91,  1, 910104,      4,2,   70607,0601, 31.3500,-117.4500, 1906,    800.5,   4.6000,   34.4400,2,-999.0000,9,     14.1,2,     14.7,2,   107.91,2,    42.08,2,     0.03,2,     3.02,2,   2354.3,2,   2357.6,2,   4.5370
  32WC20070511,NACPWC,       11,    91,  1, 910105,      5,2,   70607,0609, 31.3500,-117.4500, 1906,    502.0,   6.2000,   34.3400,2,-999.0000,9,     12.0,2,     12.8,2,    78.78,2,    38.38,2,     0.03,2,     2.88,2,   2320.9,2,   2330.7,2,   6.1555
  32WC20070511,NACPWC,       11,    91,  1, 910106,      6,2,   70607,0614, 31.3500,-117.4500, 1906,    349.5,   7.5000,   34.3000,2,-999.0000,9,     27.3,2,     27.3,2,    58.58,2,    33.96,2,     0.04,2,     2.62,2,   2288.4,2,   2295.8,2,   7.4660
  32WC20070511,NACPWC,       11,    91,  1, 910107,      7,2,   70607,0616, 31.3500,-117.4500, 1906,    301.2,   7.7000,   34.2600,2,-999.0000,9,     40.8,2,     41.2,2,    54.81,2,    33.06,2,     0.04,2,     2.50,2,   2274.6,2,   2290.6,2,   7.6703
  32WC20070511,NACPWC,       11,    91,  1, 910108,      8,2,   70607,0618, 31.3500,-117.4500, 1906,    250.4,   8.4000,   34.2800,2,-999.0000,9,     41.3,2,     42.7,2,    49.15,2,    31.23,2,     0.06,2,     2.43,2,   2264.6,2,   2285.4,2,   8.3741
  32WC20070511,NACPWC,       11,    91,  1, 910109,      9,2,   70607,0621, 31.3500,-117.4500, 1906,    200.8,   9.1000,   34.2600,2,-999.0000,9,     62.3,2,     58.6,2,    41.32,2,    28.76,2,     0.08,2,     2.23,2,   2243.6,2,   2279.3,2,   9.0782
  32WC20070511,NACPWC,       11,    91,  1, 910110,     10,2,   70607,0622, 31.3500,-117.4500, 1906,    175.3,   8.9000,   34.1500,2,-999.0000,9,     84.3,2,     84.2,2,    37.92,2,    28.02,2,     0.11,2,     2.04,2,   2222.6,2,   2252.8,2,   8.8813
  32WC20070511,NACPWC,       11,    91,  1, 910111,     11,2,   70607,0624, 31.3500,-117.4500, 1906,    149.7,   9.1000,   34.1100,2,-999.0000,9,     93.0,2,     93.2,2,    35.33,2,    27.08,2,     0.12,2,     1.95,2,   2210.1,2,   2266.9,2,   9.0839
  32WC20070511,NACPWC,       11,    91,  1, 910112,     12,2,   70607,0625, 31.3500,-117.4500, 1906,    130.7,   9.2000,   34.0600,2,-999.0000,9,    103.1,2,    103.0,2,    33.07,2,    26.08,2,     0.15,2,     1.86,2,   2197.5,2,   2257.3,2,   9.1858
  32WC20070511,NACPWC,       11,    91,  1, 910113,     13,2,   70607,0627, 31.3500,-117.4500, 1906,    109.6,   9.5000,   34.0200,2,-999.0000,9,    102.5,2,    101.1,2,    31.40,2,    25.58,2,     0.05,2,     1.84,2,   2200.1,2,   2257.7,2,   9.4879
  32WC20070511,NACPWC,       11,    91,  1, 910114,     14,2,   70607,0628, 31.3500,-117.4500, 1906,     90.5,   9.8000,   33.9300,2,-999.0000,9,    116.1,2,    115.6,2,    27.87,2,    24.06,2,     0.06,2,     1.74,2,   2185.3,2,   2249.7,2,   9.7898
  32WC20070511,NACPWC,       11,    91,  1, 910115,     15,2,   70607,0630, 31.3500,-117.4500, 1906,     69.8,  10.1000,   33.9100,2,-999.0000,9,    120.1,2,    118.4,2,    26.91,2,    23.67,2,     0.06,2,     1.72,2,   2179.8,2,   2245.3,2,  10.0920
  32WC20070511,NACPWC,       11,    91,  1, 910116,     16,2,   70607,0631, 31.3500,-117.4500, 1906,     62.4,  10.2000,   33.8600,2,-999.0000,9,    126.6,2,    126.4,2,    25.58,2,    22.81,2,     0.07,2,     1.65,2,   2171.8,2,   2243.7,2,  10.1928
  32WC20070511,NACPWC,       11,    91,  1, 910117,     17,2,   70607,0632, 31.3500,-117.4500, 1906,     50.2,  10.4000,   33.8300,2,-999.0000,9,    129.4,2,    131.2,2,    24.01,2,    21.90,2,     0.20,2,     1.60,2,   2167.4,2,   2243.5,2,  10.3942
  32WC20070511,NACPWC,       11,    91,  1, 910118,     18,2,   70607,0633, 31.3500,-117.4500, 1906,     40.4,  10.9000,   33.7800,2,-999.0000,9,    150.0,2,    145.1,2,    20.92,6,    19.19,6,     0.33,6,     1.49,6,   2149.8,2,   2240.4,2,  10.8952
  32WC20070511,NACPWC,       11,    91,  1, 910119,     19,2,   70607,0634, 31.3500,-117.4500, 1906,     29.5,  11.4000,   33.6800,2,-999.0000,9,    156.2,2,    166.3,2,    16.07,2,    14.75,2,     0.56,2,     1.10,2,   2128.7,2,   2233.6,2,  11.3964
  32WC20070511,NACPWC,       11,    91,  1, 910120,     20,2,   70607,0635, 31.3500,-117.4500, 1906,     24.9,  12.7000,   33.7300,2,-999.0000,9,    235.5,2,    194.8,2,    15.19,2,     3.99,2,     0.34,2,     0.43,2,   2107.6,2,   2250.4,2,  12.6967
  32WC20070511,NACPWC,       11,    91,  1, 910121,     21,2,   70607,0636, 31.3500,-117.4500, 1906,     20.9,  13.7000,   33.7700,2,-999.0000,9,    251.5,2,    273.7,2,    13.40,2,     0.54,2,     0.11,2,     0.13,2,   2023.8,2,   2260.3,2,  13.6971
  32WC20070511,NACPWC,       11,    91,  1, 910122,     22,2,   70607,0637, 31.3500,-117.4500, 1906,     14.8,  15.4000,   33.7900,2,-999.0000,9,    288.3,2,    290.8,2,    11.46,2,     0.00,2,     0.04,2,     0.02,2,   1933.6,2,   2259.7,2,  15.3978
  32WC20070511,NACPWC,       11,    91,  1, 910123,     23,2,   70607,0638, 31.3500,-117.4500, 1906,     10.9,  15.4000,   33.7900,2,  33.7900,2,    290.1,2,    290.8,2,    11.37,2,     0.00,2,     0.04,2,     0.02,2,   1929.3,2,   2260.1,2,  15.3983
  32WC20070511,NACPWC,       11,    91,  1, 910124,     24,2,   70607,0638, 31.3500,-117.4500, 1906,      6.0,  15.4000,   33.7900,2,-999.0000,9,    289.4,2,    290.3,2,    11.36,2,     0.00,2,     0.04,2,     0.03,2,   1931.8,2,   2270.8,2,  15.3991