BOTTLE,20120405PRINUNIVRMK
EXPOCODE,SECT_ID,LINE,STNNBR,CASTNO,SAMPNO,BTLNBR,BTLNBR_FLAG_W,DATE,TIME,LATITUDE,LONGITUDE,DEPTH,CTDPRS,CTDTMP,CTDSAL,CTDSAL_FLAG_W,SALNTY,SALNTY_FLAG_W,CTDOXY,CTDOXY_FLAG_W,OXYGEN,OXYGEN_FLAG_W,SILCAT,SILCAT_FLAG_W,NITRAT,NITRAT_FLAG_W,NITRIT,NITRIT_FLAG_W,PHSPHT,PHSPHT_FLAG_W,TCARBN,TCARBN_FLAG_W,ALKALI,ALKALI_FLAG_W,THETA
,,,,,,,,,,,,METERS,DBAR,ITS-90,PSS-78,,PSS-78,,UMOL/KG,,UMOL/KG,,UMOL/KG,,UMOL/KG,,UMOL/KG,,UMOL/KG,,UMOL/KG,,UMOL/KG,,DEG C
  32WC20070511,NACPWC,       12,   103,  1,1030101,      1,2,   70610,0741, 27.2200,-116.5200, 3747,    349.7,   8.7000,   34.3900,2,  34.3900,2,     23.1,2,     23.7,2,    50.39,6,    30.22,6,     0.00,6,     2.70,6,   2277.5,6,   2293.4,6,   8.6627
  32WC20070511,NACPWC,       12,   103,  1,1030102,      2,2,   70610,0743, 27.2200,-116.5200, 3747,    299.9,   9.2000,   34.3800,2,-999.0000,9,     34.7,2,     34.5,2,    44.42,2,    28.70,2,     0.00,2,     2.55,2,   2262.5,6,   2285.6,2,   9.1670
  32WC20070511,NACPWC,       12,   103,  1,1030103,      3,2,   70610,0746, 27.2200,-116.5200, 3747,    249.8,   9.7000,   34.3400,2,-999.0000,9,     51.8,2,     54.0,2,    38.56,2,    26.85,2,     0.00,2,     2.36,2,   2240.1,6,   2279.0,2,   9.6717
  32WC20070511,NACPWC,       12,   103,  1,1030104,      4,2,   70610,0748, 27.2200,-116.5200, 3747,    200.3,  10.3000,   34.2900,2,-999.0000,9,     68.8,2,     67.3,2,    33.63,2,    25.27,2,     0.01,2,     2.22,2,   2224.5,6,   2270.6,2,  10.2765
  32WC20070511,NACPWC,       12,   103,  1,1030105,      5,2,   70610,0750, 27.2200,-116.5200, 3747,    150.1,  10.3000,   33.8200,2,-999.0000,9,    142.5,2,    139.9,2,    22.59,2,    19.71,2,     0.01,2,     1.63,2,   2153.9,2,   2239.6,2,  10.2825
  32WC20070511,NACPWC,       12,   103,  1,1030106,      6,2,   70610,0752, 27.2200,-116.5200, 3747,     99.4,  14.2000,   33.6100,2,-999.0000,9,    227.2,2,    225.2,2,     5.59,2,     3.22,2,     0.14,2,     0.50,2,   2041.6,2,   2219.0,2,  14.1857
  32WC20070511,NACPWC,       12,   103,  1,1030107,      7,2,   70610,0754, 27.2200,-116.5200, 3747,     70.2,  16.5000,   33.8000,2,-999.0000,9,    245.5,2,    260.0,2,     2.84,2,     0.03,2,     0.00,2,     0.26,2,   2020.7,2,   2246.4,2,  16.4888
  32WC20070511,NACPWC,       12,   103,  1,1030108,      8,2,   70610,0755, 27.2200,-116.5200, 3747,     49.8,  17.7000,   33.8100,2,-999.0000,9,    240.4,2,    240.8,6,     2.58,2,     0.02,2,     0.00,2,     0.25,2,   2021.2,2,   2247.1,2,  17.6916
  32WC20070511,NACPWC,       12,   103,  1,1030109,      9,2,   70610,0757, 27.2200,-116.5200, 3747,     30.0,  17.7000,   33.8100,2,-999.0000,9,    239.7,2,    240.5,2,     2.47,2,     0.02,2,     0.00,2,     0.25,2,   2021.6,2,   2250.9,2,  17.6950
  32WC20070511,NACPWC,       12,   103,  1,1030110,     10,2,   70610,0758, 27.2200,-116.5200, 3747,     20.0,  17.7000,   33.8100,2,-999.0000,9,    239.2,2,    240.4,2,     2.43,2,     0.02,2,     0.00,2,     0.24,2,   2018.7,2,   2248.8,2,  17.6966
  32WC20070511,NACPWC,       12,   103,  1,1030111,     11,2,   70610,0759, 27.2200,-116.5200, 3747,      9.8,  17.7000,   33.8100,2,  33.8100,2,    239.1,2,    240.4,2,     2.56,2,     0.02,2,     0.00,2,     0.24,2,   2017.8,2,   2250.0,2,  17.6984
  32WC20070511,NACPWC,       12,   103,  1,1030112,     12,2,   70610,0801, 27.2200,-116.5200, 3747,      5.0,  17.7000,   33.8100,2,-999.0000,9,    238.7,2,    240.4,2,     2.45,2,     0.01,2,     0.00,2,     0.20,2,   2020.4,2,   2250.2,2,  17.6992
  32WC20070511,NACPWC,       13,   104,  1,1040101,      1,2,   70611,0154, 26.0900,-112.8200,   87,     78.4,  11.8000,   34.4300,2,  34.4300,2,      9.1,2,     10.6,2,    44.24,2,    23.00,2,     0.58,2,     2.76,2,   2268.7,6,   2288.1,6,  11.7900
  32WC20070511,NACPWC,       13,   104,  1,1040102,      2,2,   70611,0155, 26.0900,-112.8200,   87,     66.4,  12.0000,   34.4000,2,-999.0000,9,     15.3,2,     12.4,2,    42.64,2,    23.23,2,     0.31,2,     2.69,2,   2263.6,2,   2285.1,2,  11.9914
  32WC20070511,NACPWC,       13,   104,  1,1040103,      3,2,   70611,0156, 26.0900,-112.8200,   87,     60.0,  11.9000,   34.3500,2,-999.0000,9,     31.3,2,     30.4,2,    33.50,2,    24.65,2,     0.32,2,     2.46,2,   2243.7,2,   2278.3,2,  11.8923
  32WC20070511,NACPWC,       13,   104,  1,1040104,      4,2,   70611,0157, 26.0900,-112.8200,   87,     49.7,  12.0000,   34.2800,2,-999.0000,9,     33.1,2,     33.3,2,    34.10,2,    24.76,2,     0.16,2,     2.46,2,   2234.7,2,   2270.0,2,  11.9936
  32WC20070511,NACPWC,       13,   104,  1,1040105,      5,2,   70611,0158, 26.0900,-112.8200,   87,     39.5,  12.0000,   34.1700,2,-999.0000,9,     37.2,2,     39.5,2,    31.57,2,    24.45,2,     0.26,2,     2.36,2,   2229.6,2,   2269.4,2,  11.9949
  32WC20070511,NACPWC,       13,   104,  1,1040106,      6,2,   70611,0159, 26.0900,-112.8200,   87,     30.2,  13.4000,   34.1900,2,-999.0000,9,     81.3,2,     61.2,2,    32.33,6,    19.83,6,     0.86,6,     2.36,6,   2230.7,2,   2269.0,2,  13.3958
  32WC20070511,NACPWC,       13,   104,  1,1040107,      7,2,   70611,0200, 26.0900,-112.8200,   87,     25.0,  14.4000,   34.1400,2,-999.0000,9,    131.8,2,    154.0,2,    26.23,2,    16.02,2,     0.71,2,     1.95,2,   2183.5,2,   2268.7,2,  14.3964
  32WC20070511,NACPWC,       13,   104,  1,1040108,      8,2,   70611,0201, 26.0900,-112.8200,   87,     19.7,  14.9000,   34.1200,2,-999.0000,9,    210.8,2,    205.6,2,    21.58,2,    11.37,2,     0.27,2,     1.57,2,   2144.5,2,   2273.5,2,  14.8971
  32WC20070511,NACPWC,       13,   104,  1,1040109,      9,2,   70611,0202, 26.0900,-112.8200,   87,     14.9,  15.4000,   34.1100,2,-999.0000,9,    230.1,2,    230.2,6,    18.43,2,     8.51,2,     0.24,2,     1.33,2,   2122.2,2,   2274.0,2,  15.3977
  32WC20070511,NACPWC,       13,   104,  1,1040110,     10,2,   70611,0203, 26.0900,-112.8200,   87,      9.4,  15.9000,   34.1300,2,  34.1200,2,    271.7,2,    266.0,2,    15.87,2,     6.49,2,     0.25,2,     1.17,2,   2094.7,2,   2276.4,2,  15.8985
  32WC20070511,NACPWC,       13,   104,  1,1040111,     11,2,   70611,0204, 26.0900,-112.8200,   87,      4.5,  16.1000,   34.1300,2,-999.0000,9,    279.2,2,    281.8,2,    13.71,2,     5.03,2,     0.26,2,     1.04,2,   2084.6,2,   2281.7,2,  16.0993
  32WC20070511,NACPWC,       13,   104,  1,1040112,     12,2,   70611,0205, 26.0900,-112.8200,   87,      4.6,  16.1000,   34.1300,2,-999.0000,9,    280.2,2,   -999.0,9,    13.69,2,     5.04,2,     0.26,2,     1.02,2,   -999.0,9,   -999.0,9,  16.0993
  32WC20070511,NACPWC,       13,   105,  1,1050101,      1,2,   70611,0440, 25.9200,-113.1400,  194,    184.2,  11.3000,   34.6200,2,  34.6200,2,      3.5,2,      7.0,2,    43.54,6,    22.60,6,     0.12,6,     2.77,6,   2285.0,6,   2300.8,6,  11.2770
  32WC20070511,NACPWC,       13,   105,  1,1050102,      2,2,   70611,0442, 25.9200,-113.1400,  194,    174.6,  11.3000,   34.6200,2,-999.0000,9,      3.5,2,      3.2,2,    43.50,2,    22.65,2,     0.12,2,     2.76,2,   2283.9,6,   2302.6,2,  11.2782
  32WC20070511,NACPWC,       13,   105,  1,1050103,      3,2,   70611,0444, 25.9200,-113.1400,  194,    150.0,  11.3000,   34.6200,2,-999.0000,9,      4.8,2,      3.4,2,    43.40,2,    22.75,2,     0.12,2,     2.76,2,   2285.8,2,   2299.8,2,  11.2813
  32WC20070511,NACPWC,       13,   105,  1,1050104,      4,2,   70611,0445, 25.9200,-113.1400,  194,    129.4,  11.5000,   34.6100,2,-999.0000,9,      7.1,2,      7.5,2,    39.78,2,    24.46,2,     0.04,2,     2.69,2,   2278.0,2,   2297.2,2,  11.4837
  32WC20070511,NACPWC,       13,   105,  1,1050105,      5,2,   70611,0447, 25.9200,-113.1400,  194,    110.1,  11.8000,   34.6000,2,-999.0000,9,      8.7,2,      9.9,2,    38.25,2,    24.19,2,     0.04,2,     2.65,2,   2274.2,2,   2295.8,2,  11.7859
  32WC20070511,NACPWC,       13,   105,  1,1050106,      6,2,   70611,0448, 25.9200,-113.1400,  194,     90.3,  12.1000,   34.5600,2,-999.0000,9,      7.6,2,      9.9,2,    37.57,2,    23.48,2,     0.08,2,     2.64,2,   2271.2,2,   2291.8,2,  12.0883
  32WC20070511,NACPWC,       13,   105,  1,1050107,      7,2,   70611,0450, 25.9200,-113.1400,  194,     70.0,  11.8000,   34.2600,2,-999.0000,9,     55.4,2,     53.1,2,    29.07,2,    23.62,2,     0.31,2,     2.25,2,   2227.2,2,   2267.7,2,  11.7911
  32WC20070511,NACPWC,       13,   105,  1,1050108,      8,2,   70611,0451, 25.9200,-113.1400,  194,     60.0,  11.7000,   34.1100,2,-999.0000,9,     73.8,2,     70.7,2,    24.83,2,    22.67,2,     0.31,2,     2.08,2,   2208.8,2,   2264.4,2,  11.6924
  32WC20070511,NACPWC,       13,   105,  1,1050109,      9,2,   70611,0452, 25.9200,-113.1400,  194,     51.1,  11.7000,   34.0000,2,-999.0000,9,     86.9,2,   -999.0,9,    19.87,2,    21.08,2,     0.39,2,     1.91,2,   2191.0,2,   2249.0,2,  11.6936
  32WC20070511,NACPWC,       13,   105,  1,1050110,     10,2,   70611,0454, 25.9200,-113.1400,  194,     40.4,  12.0000,   33.8300,2,-999.0000,9,    122.6,2,    122.3,6,    17.59,2,    17.89,2,     0.41,2,     1.67,2,   2162.4,2,   2239.9,2,  11.9948
  32WC20070511,NACPWC,       13,   105,  1,1050111,     11,2,   70611,0455, 25.9200,-113.1400,  194,     30.6,  12.5000,   33.7000,2,-999.0000,9,    183.3,2,    190.4,2,     9.07,2,     9.87,2,     0.25,2,     1.07,2,   2094.9,2,   2236.0,2,  12.4960
  32WC20070511,NACPWC,       13,   105,  1,1050112,     12,2,   70611,0456, 25.9200,-113.1400,  194,     24.7,  13.7000,   33.7100,2,-999.0000,9,    221.4,2,    215.9,2,     6.20,2,     6.37,2,     0.22,2,     0.81,2,   2074.0,2,   2241.6,2,  13.6965
  32WC20070511,NACPWC,       13,   105,  1,1050113,     13,2,   70611,0457, 25.9200,-113.1400,  194,     20.1,  14.0000,   33.7000,2,-999.0000,9,    237.0,2,    239.2,2,     3.50,2,     3.85,2,     0.19,2,     0.63,2,   -999.0,9,   -999.0,9,  13.9971
  32WC20070511,NACPWC,       13,   105,  1,1050114,     14,2,   70611,0457, 25.9200,-113.1400,  194,     20.2,  14.2000,   33.7000,2,-999.0000,9,    257.9,2,    237.7,2,     3.61,2,     4.04,2,     0.18,2,     0.61,2,   2059.6,2,   2242.0,2,  14.1971
  32WC20070511,NACPWC,       13,   105,  1,1050115,     15,2,   70611,0458, 25.9200,-113.1400,  194,     14.7,  14.6000,   33.7000,2,-999.0000,9,    272.0,2,    260.4,6,     2.02,2,     1.77,2,     0.12,2,     0.45,2,   2041.2,2,   2244.5,2,  14.5979
  32WC20070511,NACPWC,       13,   105,  1,1050116,     16,2,   70611,0459, 25.9200,-113.1400,  194,     10.2,  14.9000,   33.7000,2,-999.0000,9,    276.1,2,   -999.0,9,     1.27,2,     0.67,2,     0.06,2,     0.37,2,   -999.0,9,   -999.0,9,  14.8985
  32WC20070511,NACPWC,       13,   105,  1,1050117,     17,2,   70611,0459, 25.9200,-113.1400,  194,     10.2,  14.8000,   33.7000,2,-999.0000,9,    274.0,2,    276.7,2,     0.99,2,     0.37,2,     0.03,2,     0.33,2,   2020.8,2,   2243.0,2,  14.7985
  32WC20070511,NACPWC,       13,   105,  1,1050118,     18,2,   70611,0500, 25.9200,-113.1400,  194,      4.8,  15.0000,   33.6900,2,  33.7000,2,    277.6,2,    277.8,2,     0.81,2,     0.21,2,     0.02,2,     0.31,2,   2017.1,6,   2244.5,2,  14.9993
  32WC20070511,NACPWC,       13,   105,  1,1050119,     19,2,   70611,0500, 25.9200,-113.1400,  194,      4.9,  15.1000,   33.7000,2,-999.0000,9,    278.2,2,   -999.0,9,     0.91,2,     0.18,2,     0.03,2,     0.33,2,   -999.0,9,   -999.0,9,  15.0993
  32WC20070511,NACPWC,       13,   106,  1,1060101,      1,2,   70611,0849, 25.7500,-113.4600,  873,    857.1,   5.0000,   34.4700,2,  34.4700,2,      9.8,2,     10.4,2,   100.89,6,    41.08,6,     0.05,6,     3.24,6,   2350.7,6,   2349.2,6,   4.9295
  32WC20070511,NACPWC,       13,   106,  1,1060102,      2,2,   70611,0853, 25.7500,-113.4600,  873,    700.4,   6.0000,   34.4400,2,-999.0000,9,      6.0,2,      6.9,2,    85.90,2,    38.77,2,     0.02,2,     3.18,2,   2334.1,6,   2333.4,2,   5.9379
  32WC20070511,NACPWC,       13,   106,  1,1060103,      3,2,   70611,0856, 25.7500,-113.4600,  873,    599.9,   6.5000,   34.4300,2,-999.0000,9,      5.8,2,      6.6,2,    77.47,6,    37.31,6,     0.01,6,     3.11,6,   2324.8,2,   2318.4,2,   6.4450
  32WC20070511,NACPWC,       13,   106,  1,1060104,      4,2,   70611,0900, 25.7500,-113.4600,  873,    501.0,   7.5000,   34.4400,2,-999.0000,9,      7.1,2,      8.5,2,    66.12,2,    34.35,2,     0.02,2,     3.01,2,   2309.2,2,   2309.7,2,   7.4506
  32WC20070511,NACPWC,       13,   106,  1,1060105,      5,2,   70611,0903, 25.7500,-113.4600,  873,    400.5,   8.8000,   34.5000,2,-999.0000,9,      6.8,2,      7.4,2,    54.95,2,    30.40,2,     0.03,2,     2.89,2,   2297.9,2,   2303.9,2,   8.7568
  32WC20070511,NACPWC,       13,   106,  1,1060106,      6,2,   70611,0906, 25.7500,-113.4600,  873,    349.7,   9.4000,   34.5300,2,-999.0000,9,      7.0,2,      7.1,2,    50.35,2,    28.67,2,     0.02,2,     2.85,2,   2291.3,2,   2304.5,2,   9.3609
  32WC20070511,NACPWC,       13,   106,  1,1060107,      7,2,   70611,0908, 25.7500,-113.4600,  873,    300.3,   9.9000,   34.5400,2,-999.0000,9,      8.3,2,      9.3,2,    46.92,2,    27.47,2,     0.05,2,     2.78,2,   2286.1,2,   2301.8,2,   9.8654
  32WC20070511,NACPWC,       13,   106,  1,1060108,      8,2,   70611,0911, 25.7500,-113.4600,  873,    250.7,  10.7000,   34.5900,2,-999.0000,9,      6.2,2,      7.7,2,    44.83,2,    24.42,2,     0.03,2,     2.77,2,   2285.8,2,   2300.5,2,  10.6697
  32WC20070511,NACPWC,       13,   106,  1,1060109,      9,2,   70611,0913, 25.7500,-113.4600,  873,    199.7,  11.0000,   34.6000,2,-999.0000,9,      6.5,2,      6.7,2,    43.58,2,    23.71,2,     0.03,2,     2.75,2,   2280.8,2,   2299.8,2,  10.9755
  32WC20070511,NACPWC,       13,   106,  1,1060110,     10,2,   70611,0915, 25.7500,-113.4600,  873,    174.0,  11.2000,   34.5800,2,-999.0000,9,     11.4,2,     11.8,2,    40.43,2,    24.73,2,     0.05,2,     2.68,2,   2274.4,2,   2293.5,2,  11.1784
  32WC20070511,NACPWC,       13,   106,  1,1060111,     11,2,   70611,0917, 25.7500,-113.4600,  873,    150.2,  11.4000,   34.5600,2,-999.0000,9,     14.1,2,     14.8,2,    38.70,2,    24.98,2,     0.06,2,     2.64,2,   2269.1,2,   2293.9,2,  11.3812
  32WC20070511,NACPWC,       13,   106,  1,1060112,     12,2,   70611,0918, 25.7500,-113.4600,  873,    129.3,  11.6000,   34.5700,2,-999.0000,9,     12.7,2,     11.6,2,    39.60,2,    24.08,2,     0.07,2,     2.67,2,   2272.6,2,   2294.5,2,  11.5836
  32WC20070511,NACPWC,       13,   106,  1,1060113,     13,2,   70611,0920, 25.7500,-113.4600,  873,    110.0,  11.7000,   34.5100,2,-999.0000,9,     15.7,2,     14.0,2,    40.03,2,    23.35,2,     0.15,2,     2.65,2,   2266.4,2,   2291.2,2,  11.6860
  32WC20070511,NACPWC,       13,   106,  1,1060114,     14,2,   70611,0922, 25.7500,-113.4600,  873,     90.0,  11.7000,   34.4400,2,-999.0000,9,     17.1,2,     17.0,2,    40.21,2,    24.24,2,     0.17,2,     2.62,2,   2262.3,2,   2283.5,2,  11.6886
  32WC20070511,NACPWC,       13,   106,  1,1060115,     15,2,   70611,0924, 25.7500,-113.4600,  873,     70.0,  11.6000,   34.2000,2,-999.0000,9,     48.2,2,     48.7,2,    33.26,2,    24.32,2,     0.14,2,     2.30,2,   2226.9,2,   2265.4,2,  11.5912
  32WC20070511,NACPWC,       13,   106,  1,1060116,     16,2,   70611,0925, 25.7500,-113.4600,  873,     60.0,  11.4000,   34.0800,2,-999.0000,9,     70.5,2,     68.9,2,    30.90,2,    23.03,2,     0.27,2,     2.15,2,   2208.4,2,   2256.5,2,  11.3926
  32WC20070511,NACPWC,       13,   106,  1,1060117,     17,2,   70611,0926, 25.7500,-113.4600,  873,     49.5,  11.9000,   33.9500,2,-999.0000,9,     98.1,2,    109.7,2,    22.01,6,    18.94,6,     0.64,6,     1.88,6,   2180.1,2,   2248.8,2,  11.8937
  32WC20070511,NACPWC,       13,   106,  1,1060118,     18,2,   70611,0927, 25.7500,-113.4600,  873,     39.2,  13.9000,   33.7500,2,-999.0000,9,    230.9,2,    224.3,6,     5.94,2,     5.20,2,     0.33,2,     0.79,2,   2074.5,2,   2246.8,2,  13.8945
  32WC20070511,NACPWC,       13,   106,  1,1060119,     19,2,   70611,0929, 25.7500,-113.4600,  873,     29.8,  14.6000,   33.7000,2,-999.0000,9,    241.9,2,    279.7,2,     2.13,2,     1.68,2,     0.11,2,     0.49,2,   2040.9,2,   2245.6,2,  14.5956
  32WC20070511,NACPWC,       13,   106,  1,1060120,     20,2,   70611,0930, 25.7500,-113.4600,  873,     25.3,  15.0000,   33.6900,2,-999.0000,9,    254.8,2,    258.7,2,     1.51,2,     0.84,2,     0.08,2,     0.42,2,   2032.4,2,   2246.0,2,  14.9962
  32WC20070511,NACPWC,       13,   106,  1,1060121,     21,2,   70611,0931, 25.7500,-113.4600,  873,     19.9,  15.4000,   33.6900,2,-999.0000,9,    263.7,2,    266.3,2,     1.11,2,     0.27,2,     0.04,2,     0.32,2,   2019.9,2,   2243.4,2,  15.3970
  32WC20070511,NACPWC,       13,   106,  1,1060122,     22,2,   70611,0932, 25.7500,-113.4600,  873,     14.3,  15.7000,   33.6900,2,-999.0000,9,    268.2,2,    268.7,2,     0.98,2,     0.22,2,     0.02,2,     0.32,2,   2015.8,2,   2244.6,2,  15.6978
  32WC20070511,NACPWC,       13,   106,  1,1060123,     23,2,   70611,0933, 25.7500,-113.4600,  873,     10.0,  15.8000,   33.6900,2,-999.0000,9,    269.3,2,    268.1,2,     1.04,2,     0.20,2,     0.02,2,     0.27,2,   2014.9,2,   2244.1,2,  15.7985
  32WC20070511,NACPWC,       13,   106,  1,1060124,     24,2,   70611,0934, 25.7500,-113.4600,  873,      5.5,  15.8000,   33.6900,2,  33.6900,2,    269.1,2,    267.7,2,     1.08,2,     0.21,2,     0.02,2,     0.29,2,   2014.4,2,   2244.4,2,  15.7992