BOTTLE,20120405PRINUNIVRMK
EXPOCODE,SECT_ID,LINE,STNNBR,CASTNO,SAMPNO,BTLNBR,BTLNBR_FLAG_W,DATE,TIME,LATITUDE,LONGITUDE,DEPTH,CTDPRS,CTDTMP,CTDSAL,CTDSAL_FLAG_W,SALNTY,SALNTY_FLAG_W,CTDOXY,CTDOXY_FLAG_W,OXYGEN,OXYGEN_FLAG_W,SILCAT,SILCAT_FLAG_W,NITRAT,NITRAT_FLAG_W,NITRIT,NITRIT_FLAG_W,PHSPHT,PHSPHT_FLAG_W,TCARBN,TCARBN_FLAG_W,ALKALI,ALKALI_FLAG_W,THETA
,,,,,,,,,,,,METERS,DBAR,ITS-90,PSS-78,,PSS-78,,UMOL/KG,,UMOL/KG,,UMOL/KG,,UMOL/KG,,UMOL/KG,,UMOL/KG,,UMOL/KG,,UMOL/KG,,DEG C
  32WC20070511,NACPWC,       12,    95,  1, 950101,      1,2,   70608,1644, 28.3900,-114.2300,   54,     44.4,  10.6000,   33.8100,2,-999.0000,9,     96.3,2,    101.3,2,    23.83,6,    23.67,6,     0.07,6,     1.91,6,   2184.2,6,   2233.0,6,  10.5948
  32WC20070511,NACPWC,       12,    95,  1, 950102,      2,2,   70608,1646, 28.3900,-114.2300,   54,     39.5,  11.2000,   33.8100,2,-999.0000,9,    103.6,2,    104.4,2,    22.46,2,    22.52,2,     0.09,2,     1.88,2,   2180.4,2,   2236.5,2,  11.1952
  32WC20070511,NACPWC,       12,    95,  1, 950103,      3,2,   70608,1647, 28.3900,-114.2300,   54,     29.8,  11.8000,   33.7400,2,-999.0000,9,    149.4,2,    149.9,2,    16.91,2,    17.69,2,     0.67,2,     1.62,2,   2153.3,2,   2234.8,2,  11.7962
  32WC20070511,NACPWC,       12,    95,  1, 950104,      4,2,   70608,1648, 28.3900,-114.2300,   54,     24.6,  12.1000,   33.7300,2,-999.0000,9,    161.5,2,    167.2,2,    15.12,6,    14.81,6,     0.77,6,     1.49,6,   2139.1,2,   2236.4,2,  12.0968
  32WC20070511,NACPWC,       12,    95,  1, 950105,      5,2,   70608,1649, 28.3900,-114.2300,   54,     19.9,  13.4000,   33.6900,2,-999.0000,9,    224.0,2,    227.2,6,     3.44,2,     7.50,2,     0.37,2,     0.72,2,   2080.4,2,   2242.4,2,  13.3973
  32WC20070511,NACPWC,       12,    95,  1, 950106,      6,2,   70608,1650, 28.3900,-114.2300,   54,     14.6,  14.2000,   33.7200,2,-999.0000,9,    240.7,2,    244.6,2,     2.13,2,     5.64,2,     0.32,2,     0.61,2,   2065.2,2,   2244.7,2,  14.1979
  32WC20070511,NACPWC,       12,    95,  1, 950107,      7,2,   70608,1651, 28.3900,-114.2300,   54,     10.0,  15.0000,   33.7300,2,-999.0000,9,    254.1,2,    255.6,2,     1.57,2,     3.61,2,     0.23,2,     0.48,2,   2049.3,2,   2246.5,2,  14.9985
  32WC20070511,NACPWC,       12,    95,  1, 950108,      8,2,   70608,1653, 28.3900,-114.2300,   54,      5.1,  15.8000,   33.7500,2,  33.7500,2,    258.4,2,    259.8,2,     1.81,2,     2.71,2,     0.20,2,     0.45,2,   2044.1,6,   2247.4,2,  15.7992
  32WC20070511,NACPWC,       12,    96,  1, 960101,      1,2,   70608,1904, 28.2200,-114.5700,   97,     87.5,  10.5000,   34.0000,2,  34.0000,2,     62.4,2,     59.6,2,    34.90,6,    24.91,6,     0.08,6,     2.21,6,   2223.2,6,   2252.6,6,  10.4897
  32WC20070511,NACPWC,       12,    96,  1, 960102,      2,2,   70608,1905, 28.2200,-114.5700,   97,     70.0,  10.9000,   33.9000,2,-999.0000,9,     85.1,2,     83.4,2,    28.14,6,    23.69,6,     0.05,6,     2.01,6,   2201.5,2,   2243.4,2,  10.8916
  32WC20070511,NACPWC,       12,    96,  1, 960103,      3,2,   70608,1906, 28.2200,-114.5700,   97,     60.0,  11.4000,   33.8300,2,-999.0000,9,    115.9,2,    120.3,2,    21.78,2,    21.23,2,     0.05,2,     1.80,2,   2174.5,2,   2236.7,2,  11.3926
  32WC20070511,NACPWC,       12,    96,  1, 960104,      4,2,   70608,1907, 28.2200,-114.5700,   97,     50.4,  12.1000,   33.7300,2,-999.0000,9,    158.0,2,    170.7,2,    15.54,6,    16.97,6,     0.90,6,     1.49,6,   2144.5,2,   2234.0,2,  12.0935
  32WC20070511,NACPWC,       12,    96,  1, 960105,      5,2,   70608,1909, 28.2200,-114.5700,   97,     40.1,  13.1000,   33.6500,2,-999.0000,9,    203.4,2,    199.9,2,     8.55,2,     8.35,2,     0.68,2,     0.97,2,   2089.1,2,   2233.9,2,  13.0946
  32WC20070511,NACPWC,       12,    96,  1, 960106,      6,2,   70608,1910, 28.2200,-114.5700,   97,     29.7,  14.9000,   33.6900,2,-999.0000,9,    238.0,2,    238.2,6,     4.64,2,     2.34,2,     0.20,2,     0.53,2,   2045.5,2,   2243.9,2,  14.8956
  32WC20070511,NACPWC,       12,    96,  1, 960107,      7,2,   70608,1910, 28.2200,-114.5700,   97,     25.5,  15.9000,   33.7200,2,-999.0000,9,    254.6,2,    258.5,2,     0.57,2,     0.21,2,     0.02,2,     0.25,2,   2019.2,2,   2247.8,2,  15.8960
  32WC20070511,NACPWC,       12,    96,  1, 960108,      8,2,   70608,1911, 28.2200,-114.5700,   97,     20.1,  16.1000,   33.7300,2,-999.0000,9,    260.4,2,    260.1,2,     0.43,2,     0.11,2,     0.01,2,     0.25,2,   2018.1,2,   2248.5,2,  16.0969
  32WC20070511,NACPWC,       12,    96,  1, 960109,      9,2,   70608,1912, 28.2200,-114.5700,   97,     14.6,  16.1000,   33.7300,2,-999.0000,9,    260.2,2,    260.5,2,     0.44,2,     0.08,2,     0.01,2,     0.25,2,   2015.9,2,   2247.4,2,  16.0977
  32WC20070511,NACPWC,       12,    96,  1, 960110,     10,2,   70608,1913, 28.2200,-114.5700,   97,      9.8,  16.2000,   33.7400,2,  33.7400,2,    260.1,2,    259.7,2,     0.45,2,     0.09,2,     0.01,2,     0.25,2,   2016.9,2,   2246.7,2,  16.1985
  32WC20070511,NACPWC,       12,    96,  1, 960111,     11,2,   70608,1913, 28.2200,-114.5700,   97,      5.0,  16.2000,   33.7400,2,-999.0000,9,    259.9,2,    259.6,2,     0.51,2,     0.09,2,     0.01,2,     0.25,2,   2016.9,6,   2249.9,2,  16.1992
  32WC20070511,NACPWC,       12,    97,  1, 970101,      1,2,   70608,2231, 28.0500,-114.8900,   82,     75.8,  10.7000,   33.8900,2,  33.8800,2,     80.5,2,     81.6,2,    28.14,6,    24.18,6,     0.07,6,     2.05,6,   2202.0,6,   2237.4,6,  10.6910
  32WC20070511,NACPWC,       12,    97,  1, 970102,      2,2,   70608,2232, 28.0500,-114.8900,   82,     70.6,  11.2000,   33.8200,2,-999.0000,9,    105.0,2,    106.3,2,    23.04,6,    22.11,6,     0.04,6,     1.87,6,   2180.7,2,   2233.0,2,  11.1914
  32WC20070511,NACPWC,       12,    97,  1, 970103,      3,2,   70608,2233, 28.0500,-114.8900,   82,     59.8,  11.7000,   33.7600,2,-999.0000,9,    131.5,2,    131.7,2,    18.21,2,    19.73,2,     0.10,2,     1.69,2,   2161.0,2,   2230.5,2,  11.6925
  32WC20070511,NACPWC,       12,    97,  1, 970104,      4,2,   70608,2235, 28.0500,-114.8900,   82,     49.9,  12.3000,   33.7500,2,-999.0000,9,    150.9,2,    150.1,2,    17.60,6,    17.13,6,     0.56,6,     1.63,6,   2153.5,2,   2236.5,2,  12.2935
  32WC20070511,NACPWC,       12,    97,  1, 970105,      5,2,   70608,2236, 28.0500,-114.8900,   82,     40.3,  13.8000,   33.6500,2,-999.0000,9,    218.7,2,    222.9,2,     6.34,2,     5.46,2,     0.43,2,     0.79,2,   2070.2,2,   2237.5,2,  13.7943
  32WC20070511,NACPWC,       12,    97,  1, 970106,      6,2,   70608,2237, 28.0500,-114.8900,   82,     30.5,  14.9000,   33.7000,2,-999.0000,9,    247.3,2,    248.5,2,     3.08,2,     1.87,2,     0.15,2,     0.47,2,   2038.1,2,   2244.2,2,  14.8955
  32WC20070511,NACPWC,       12,    97,  1, 970107,      7,2,   70608,2238, 28.0500,-114.8900,   82,     24.7,  15.6000,   33.7300,2,-999.0000,9,    256.6,2,    256.8,2,     1.38,2,     0.38,2,     0.03,2,     0.30,2,   2021.5,2,   2249.4,2,  15.5962
  32WC20070511,NACPWC,       12,    97,  1, 970108,      8,2,   70608,2239, 28.0500,-114.8900,   82,     20.0,  15.8000,   33.7300,2,-999.0000,9,    263.2,2,    261.2,6,     1.18,2,     0.11,2,     0.01,2,     0.25,2,   2017.3,2,   2248.7,2,  15.7969
  32WC20070511,NACPWC,       12,    97,  1, 970109,      9,2,   70608,2239, 28.0500,-114.8900,   82,     14.2,  15.9000,   33.7300,2,-999.0000,9,    265.4,2,    263.4,2,     1.34,2,     0.08,2,     0.01,2,     0.26,2,   2015.3,2,   2249.1,2,  15.8978
  32WC20070511,NACPWC,       12,    97,  1, 970110,     10,2,   70608,2240, 28.0500,-114.8900,   82,     10.2,  16.1000,   33.7300,2,  33.7300,2,    263.8,2,    262.5,2,     1.22,2,     0.08,2,     0.01,2,     0.25,2,   2014.9,2,   2243.8,2,  16.0984
  32WC20070511,NACPWC,       12,    97,  1, 970111,     11,4,   70608,2241, 28.0500,-114.8900,   82,      5.0,  16.2000,   33.7300,2,-999.0000,9,    262.3,2,    260.5,2,     1.08,2,     0.07,2,     0.00,2,     0.24,2,   2015.8,2,   2249.0,2,  16.1992
  32WC20070511,NACPWC,       12,    98,  1, 980101,      1,2,   70609,0346, 27.8500,-115.2900,  101,     92.0,  10.7000,   34.2700,2,  34.2600,2,     58.9,2,     58.5,2,    32.70,6,    25.01,6,     0.10,6,     2.24,6,   2228.5,6,   2269.2,6,  10.6890
  32WC20070511,NACPWC,       12,    98,  1, 980102,      2,2,   70609,0348, 27.8500,-115.2900,  101,     71.5,  10.6000,   34.1600,2,-999.0000,9,     79.5,2,     79.0,2,    30.12,6,    24.18,6,     0.03,6,     2.09,6,   2210.2,2,   2260.2,2,  10.5915
  32WC20070511,NACPWC,       12,    98,  1, 980103,      3,2,   70609,0349, 27.8500,-115.2900,  101,     60.2,  10.6000,   34.1300,2,-999.0000,9,     84.3,2,     84.8,2,    28.93,2,    23.69,2,     0.04,2,     2.05,2,   2205.3,2,   2260.4,2,  10.5929
  32WC20070511,NACPWC,       12,    98,  1, 980104,      4,2,   70609,0351, 27.8500,-115.2900,  101,     50.5,  10.7000,   34.0800,2,-999.0000,9,     90.3,2,     91.1,2,    27.86,2,    23.09,2,     0.03,2,     1.99,2,   2199.5,2,   2255.0,2,  10.6940
  32WC20070511,NACPWC,       12,    98,  1, 980105,      5,2,   70609,0352, 27.8500,-115.2900,  101,     40.2,  11.1000,   34.0400,2,-999.0000,9,     89.7,2,     93.0,2,    26.47,2,    22.34,2,     0.04,2,     1.96,2,   2196.3,2,   2249.2,2,  11.0951
  32WC20070511,NACPWC,       12,    98,  1, 980106,      6,2,   70609,0353, 27.8500,-115.2900,  101,     30.0,  11.8000,   33.9800,2,-999.0000,9,    112.6,2,    114.0,2,    23.47,2,    19.50,2,     0.17,2,     1.77,2,   2173.3,2,   2252.4,2,  11.7962
  32WC20070511,NACPWC,       12,    98,  1, 980107,      7,2,   70609,0354, 27.8500,-115.2900,  101,     25.4,  12.1000,   33.9600,2,-999.0000,9,    132.7,2,    124.6,2,    22.20,2,    18.11,2,     0.22,2,     1.68,2,   2165.0,2,   2251.1,2,  12.0967
  32WC20070511,NACPWC,       12,    98,  1, 980108,      8,2,   70609,0355, 27.8500,-115.2900,  101,     19.9,  13.0000,   33.8900,2,-999.0000,9,    150.3,2,    146.9,6,    18.97,2,    14.76,2,     0.30,2,     1.48,2,   2142.3,2,   2251.3,2,  12.9973
  32WC20070511,NACPWC,       12,    98,  1, 980109,      9,2,   70609,0356, 27.8500,-115.2900,  101,     14.7,  14.9000,   33.8600,2,-999.0000,9,    200.3,2,   -999.0,9,    12.53,2,     7.82,2,     0.19,2,     0.97,2,   -999.0,9,   -999.0,9,  14.8978
  32WC20070511,NACPWC,       12,    98,  1, 980110,     10,2,   70609,0356, 27.8500,-115.2900,  101,     14.8,  14.6000,   33.8700,2,-999.0000,9,    184.3,2,    197.9,2,    13.09,2,     8.33,2,     0.20,2,     1.01,2,   2091.0,2,   2252.1,2,  14.5978
  32WC20070511,NACPWC,       12,    98,  1, 980111,     11,2,   70609,0357, 27.8500,-115.2900,  101,     10.4,  15.4000,   33.8700,2,-999.0000,9,    212.7,2,   -999.0,9,    10.74,2,     6.27,2,     0.16,2,     0.86,2,   -999.0,9,   -999.0,9,  15.3984
  32WC20070511,NACPWC,       12,    98,  1, 980112,     12,2,   70609,0357, 27.8500,-115.2900,  101,     10.5,  15.6000,   33.8700,2,-999.0000,9,    214.8,2,    218.3,2,    10.24,2,     5.83,2,     0.15,2,     0.82,2,   2071.0,2,   2255.9,2,  15.5984
  32WC20070511,NACPWC,       12,    98,  1, 980113,     13,2,   70609,0358, 27.8500,-115.2900,  101,      4.7,  15.9000,   33.8600,2,-999.0000,9,    224.7,2,   -999.0,9,     9.13,2,     4.91,2,     0.13,2,     0.75,2,   -999.0,9,   -999.0,9,  15.8993
  32WC20070511,NACPWC,       12,    98,  1, 980114,     14,2,   70609,0358, 27.8500,-115.2900,  101,      5.0,  15.8000,   33.8700,2,  33.8600,2,    222.9,2,    225.1,2,     9.05,2,     5.02,2,     0.14,2,     0.74,2,   2062.9,6,   2254.4,2,  15.7992
  32WC20070511,NACPWC,       12,    99,  1, 990101,      1,2,   70609,0643, 27.7900,-115.4100,  297,    295.0,   9.3000,   34.4800,2,  34.4800,2,     13.6,2,     13.9,2,    47.67,6,    29.00,6,     0.02,6,     2.73,6,   2284.8,6,   2297.2,6,   9.2673
  32WC20070511,NACPWC,       12,    99,  1, 990102,      2,2,   70609,0644, 27.7900,-115.4100,  297,    273.5,   9.8000,   34.5000,2,-999.0000,9,     14.9,2,     15.3,2,    44.43,6,    27.88,6,     0.01,6,     2.66,6,   2278.3,2,   2292.5,2,   9.7687
  32WC20070511,NACPWC,       12,    99,  1, 990103,      3,2,   70609,0646, 27.7900,-115.4100,  297,    251.3,   9.9000,   34.5000,2,-999.0000,9,     15.4,2,     15.6,2,    43.79,2,    27.75,2,     0.02,2,     2.64,2,   2277.3,2,   2296.5,2,   9.8711
  32WC20070511,NACPWC,       12,    99,  1, 990104,      4,2,   70609,0647, 27.7900,-115.4100,  297,    224.2,  10.1000,   34.5000,2,-999.0000,9,     20.3,2,     20.7,6,    42.04,2,    27.36,2,     0.01,2,     2.62,2,   2272.0,2,   2317.1,2,  10.0739
  32WC20070511,NACPWC,       12,    99,  1, 990105,      5,2,   70609,0649, 27.7900,-115.4100,  297,    199.9,  10.3000,   34.4600,2,-999.0000,9,     27.0,2,     28.4,2,    39.51,2,    26.91,2,     0.01,2,     2.53,2,   2256.9,2,   2287.4,2,  10.2765
  32WC20070511,NACPWC,       12,    99,  1, 990106,      6,2,   70609,0650, 27.7900,-115.4100,  297,    174.7,  10.4000,   34.4800,2,-999.0000,9,     26.3,2,     29.2,2,    39.17,2,    26.66,2,     0.01,2,     2.53,2,   2264.1,6,   2286.9,2,  10.3794
  32WC20070511,NACPWC,       12,    99,  1, 990107,      7,2,   70609,0652, 27.7900,-115.4100,  297,    149.9,  10.5000,   34.4700,2,-999.0000,9,     30.7,2,     30.7,2,    37.98,2,    26.47,2,     0.01,2,     2.48,2,   2258.8,2,   2282.6,2,  10.4822
  32WC20070511,NACPWC,       12,    99,  1, 990108,      8,2,   70609,0653, 27.7900,-115.4100,  297,    130.2,  10.6000,   34.3500,2,-999.0000,9,     55.7,2,     53.0,2,    34.11,2,    25.64,2,     0.02,2,     2.31,2,   2236.8,2,   2274.7,2,  10.5845
  32WC20070511,NACPWC,       12,    99,  1, 990109,      9,2,   70609,0655, 27.7900,-115.4100,  297,    110.5,  10.8000,   34.2100,2,-999.0000,9,     78.9,2,     72.2,2,    30.84,2,    24.32,2,     0.02,2,     2.15,2,   2213.2,2,   2264.9,2,  10.7867
  32WC20070511,NACPWC,       12,    99,  1, 990110,     10,2,   70609,0656, 27.7900,-115.4100,  297,     89.4,  10.7000,   33.9900,2,-999.0000,9,    103.5,2,    106.4,2,    25.85,2,    22.09,2,     0.02,2,     1.89,2,   2185.2,2,   2249.0,2,  10.6894
  32WC20070511,NACPWC,       12,    99,  1, 990111,     11,2,   70609,0657, 27.7900,-115.4100,  297,     70.3,  11.4000,   33.9100,2,-999.0000,9,    115.2,2,    121.6,2,    21.77,2,    19.29,2,     0.06,2,     1.70,2,   2163.3,2,   2243.7,2,  11.3913
  32WC20070511,NACPWC,       12,    99,  1, 990112,     12,2,   70609,0658, 27.7900,-115.4100,  297,     57.6,  11.5000,   33.6300,2,-999.0000,9,    171.6,2,    167.0,2,    14.88,2,    14.58,2,     0.04,2,     1.27,2,   2114.0,6,   2226.0,2,  11.4928
  32WC20070511,NACPWC,       12,    99,  1, 990113,     13,2,   70609,0700, 27.7900,-115.4100,  297,     49.3,  12.1000,   33.5700,2,-999.0000,9,    184.0,2,    185.2,2,    11.87,2,    11.68,2,     0.06,2,     1.06,2,   2091.5,2,   2225.9,2,  12.0937
  32WC20070511,NACPWC,       12,    99,  1, 990114,     14,2,   70609,0701, 27.7900,-115.4100,  297,     39.4,  13.0000,   33.5500,2,-999.0000,9,    198.3,2,    206.6,2,     8.11,2,     7.47,2,     0.20,2,     0.81,2,   2067.5,2,   2228.2,2,  12.9947
  32WC20070511,NACPWC,       12,    99,  1, 990115,     15,2,   70609,0702, 27.7900,-115.4100,  297,     30.2,  15.0000,   33.6300,2,-999.0000,9,    249.0,2,    252.3,6,     3.51,2,     1.26,2,     0.09,2,     0.42,2,   2031.8,2,   2239.7,2,  14.9955
  32WC20070511,NACPWC,       12,    99,  1, 990116,     16,2,   70609,0702, 27.7900,-115.4100,  297,     24.9,  15.6000,   33.6600,2,-999.0000,9,    260.2,2,    261.7,2,     2.61,2,     0.09,2,     0.01,2,     0.30,2,   2015.2,2,   2242.3,2,  15.5962
  32WC20070511,NACPWC,       12,    99,  1, 990117,     17,2,   70609,0703, 27.7900,-115.4100,  297,     19.5,  16.2000,   33.7100,2,-999.0000,9,    258.1,2,    259.5,2,     3.13,2,     0.09,2,     0.01,2,     0.30,2,   2016.4,2,   2246.1,2,  16.1969
  32WC20070511,NACPWC,       12,    99,  1, 990118,     18,2,   70609,0704, 27.7900,-115.4100,  297,     15.3,  16.2000,   33.7100,2,-999.0000,9,    257.9,2,    259.3,2,     3.23,2,     0.07,2,     0.01,2,     0.29,2,   2015.5,2,   2245.1,2,  16.1976
  32WC20070511,NACPWC,       12,    99,  1, 990119,     19,2,   70609,0705, 27.7900,-115.4100,  297,      9.9,  16.2000,   33.7100,2,  33.7200,2,    257.7,2,    258.3,2,     3.33,2,     0.07,2,     0.01,2,     0.29,2,   2015.0,2,   2245.6,2,  16.1984
  32WC20070511,NACPWC,       12,    99,  1, 990120,     20,2,   70609,0705, 27.7900,-115.4100,  297,      4.4,  16.2000,   33.7100,2,-999.0000,9,    257.4,2,    258.6,2,     3.37,2,     0.09,2,     0.01,2,     0.29,2,   2014.8,6,   2245.3,2,  16.1993