BOTTLE,20120405PRINUNIVRMK
EXPOCODE,SECT_ID,LINE,STNNBR,CASTNO,SAMPNO,BTLNBR,BTLNBR_FLAG_W,DATE,TIME,LATITUDE,LONGITUDE,DEPTH,CTDPRS,CTDTMP,CTDSAL,CTDSAL_FLAG_W,SALNTY,SALNTY_FLAG_W,CTDOXY,CTDOXY_FLAG_W,OXYGEN,OXYGEN_FLAG_W,SILCAT,SILCAT_FLAG_W,NITRAT,NITRAT_FLAG_W,NITRIT,NITRIT_FLAG_W,PHSPHT,PHSPHT_FLAG_W,TCARBN,TCARBN_FLAG_W,ALKALI,ALKALI_FLAG_W,THETA
,,,,,,,,,,,,METERS,DBAR,ITS-90,PSS-78,,PSS-78,,UMOL/KG,,UMOL/KG,,UMOL/KG,,UMOL/KG,,UMOL/KG,,UMOL/KG,,UMOL/KG,,UMOL/KG,,DEG C
  32WC20070511,NACPWC,        1,     3,  1,  30101,      1,2,   70514,2002, 51.3100,-131.5400, 2358,   2345.1,   1.7000,   34.6300,2,  34.6300,6,     80.6,2,     80.8,2,   182.71,6,    40.20,6,     0.00,6,     2.82,6,   -999.0,9,   2422.4,2,   1.5390
  32WC20070511,NACPWC,        1,     3,  1,  30102,      2,2,   70514,2012, 51.3100,-131.5400, 2358,   1999.3,   1.9000,   34.5900,2,-999.0000,9,     57.9,2,     58.3,2,   180.22,2,    41.75,2,     0.00,2,     2.91,2,   -999.0,9,   2413.7,2,   1.7653
  32WC20070511,NACPWC,        1,     3,  1,  30103,      3,2,   70514,2024, 51.3100,-131.5400, 2358,   1499.2,   2.3000,   34.5200,2,-999.0000,9,     28.5,2,     28.6,2,   170.94,6,    43.47,6,     0.00,6,  -999.00,4,   -999.0,9,   2399.2,2,   2.2004
  32WC20070511,NACPWC,        1,     3,  1,  30104,      4,2,   70514,2041, 51.3100,-131.5400, 2358,    800.0,   3.6000,   34.2900,2,-999.0000,9,     11.3,2,     11.5,2,   130.68,2,    43.92,2,     0.00,2,     3.10,2,   -999.0,9,   2350.7,2,   3.5435
  32WC20070511,NACPWC,        1,     3,  1,  30105,      5,2,   70514,2049, 51.3100,-131.5400, 2358,    499.7,   4.4000,   34.1000,2,-999.0000,9,     30.2,2,     31.2,2,    99.50,2,    41.85,2,     0.00,2,     2.95,2,   -999.0,9,   2312.6,2,   4.3629
  32WC20070511,NACPWC,        1,     3,  1,  30106,      6,2,   70514,2054, 51.3100,-131.5400, 2358,    349.6,   4.8000,   33.9500,2,-999.0000,9,     61.3,2,     61.4,2,    81.06,2,    39.22,2,     0.01,2,     2.72,2,   -999.0,9,   2287.4,2,   4.7734
  32WC20070511,NACPWC,        1,     3,  1,  30107,      7,2,   70514,2056, 51.3100,-131.5400, 2358,    301.0,   4.9000,   33.8900,2,-999.0000,9,     83.5,2,     85.0,2,    73.06,2,    36.88,2,     0.01,2,     2.56,2,   -999.0,9,   2280.8,2,   4.8770
  32WC20070511,NACPWC,        1,     3,  1,  30108,      8,2,   70514,2058, 51.3100,-131.5400, 2358,    250.4,   5.2000,   33.8300,2,-999.0000,9,    123.3,2,    121.2,2,    61.81,2,    33.03,2,     0.01,2,     2.31,2,   -999.0,9,   2269.2,6,   5.1804
  32WC20070511,NACPWC,        1,     3,  1,  30109,      9,2,   70514,2101, 51.3100,-131.5400, 2358,    200.1,   5.8000,   33.8000,2,-999.0000,9,    149.6,2,    145.6,2,    51.82,2,    29.74,2,     0.01,2,     2.10,2,   2200.3,2,   2260.4,2,   5.7835
  32WC20070511,NACPWC,        1,     3,  1,  30110,     10,2,   70514,2102, 51.3100,-131.5400, 2358,    174.9,   5.8000,   33.7500,2,-999.0000,9,    163.1,2,    159.0,2,    47.84,2,    28.25,2,     0.01,2,     2.02,2,   -999.0,9,   2255.7,2,   5.7856
  32WC20070511,NACPWC,        1,     3,  1,  30111,     11,2,   70514,2104, 51.3100,-131.5400, 2358,    150.0,   6.1000,   33.7000,2,-999.0000,9,    160.8,2,    161.9,2,    43.85,2,    27.57,2,     0.01,2,     1.98,2,   2184.3,2,   2248.7,2,   6.0873
  32WC20070511,NACPWC,        1,     3,  1,  30112,     12,2,   70514,2105, 51.3100,-131.5400, 2358,    130.0,   6.4000,   33.5800,2,-999.0000,9,    171.8,2,    170.1,6,    40.60,2,    26.21,2,     0.01,2,     1.91,2,   -999.0,9,   2243.2,2,   6.3888
  32WC20070511,NACPWC,        1,     3,  1,  30113,     13,2,   70514,2107, 51.3100,-131.5400, 2358,    110.6,   6.9000,   33.3200,2,-999.0000,9,    181.0,2,    182.5,2,    34.66,2,    23.61,2,     0.02,2,     1.81,2,   2144.8,2,   2223.9,2,   6.8901
  32WC20070511,NACPWC,        1,     3,  1,  30114,     14,2,   70514,2108, 51.3100,-131.5400, 2358,     90.4,   6.8000,   32.9200,2,-999.0000,9,    230.5,2,    236.2,2,    26.65,2,    19.16,2,     0.02,2,     1.57,2,   -999.0,9,   2204.2,2,   6.7920
  32WC20070511,NACPWC,        1,     3,  1,  30115,     15,2,   70514,2110, 51.3100,-131.5400, 2358,     69.6,   6.9000,   32.5200,2,-999.0000,9,    273.0,2,    279.0,2,    17.31,2,    12.84,2,     0.18,2,     1.23,2,   2042.4,2,   2179.2,2,   6.8939
  32WC20070511,NACPWC,        1,     3,  1,  30116,     16,2,   70514,2111, 51.3100,-131.5400, 2358,     60.0,   7.0000,   32.4600,2,-999.0000,9,    293.9,2,    294.1,2,    14.48,2,    10.69,2,     0.17,2,     1.13,2,   -999.0,9,   2178.7,2,   6.9947
  32WC20070511,NACPWC,        1,     3,  1,  30117,     17,2,   70514,2113, 51.3100,-131.5400, 2358,     50.6,   7.0000,   32.4300,2,-999.0000,9,    296.8,2,    290.6,2,    14.65,2,    10.71,2,     0.23,2,     1.12,2,   2029.1,2,   2175.8,2,   6.9955
  32WC20070511,NACPWC,        1,     3,  1,  30118,     18,2,   70514,2114, 51.3100,-131.5400, 2358,     39.8,   7.3000,   32.3700,2,-999.0000,9,    295.2,2,    295.4,2,    14.56,2,     9.80,2,     0.19,2,     1.08,2,   -999.0,9,   2173.7,2,   7.2964
  32WC20070511,NACPWC,        1,     3,  1,  30119,     19,2,   70514,2115, 51.3100,-131.5400, 2358,     30.0,   7.7000,   32.3400,2,-999.0000,9,    302.0,2,    303.4,2,    14.20,2,     8.72,2,     0.12,2,     1.01,2,   2008.9,2,   2170.6,2,   7.6972
  32WC20070511,NACPWC,        1,     3,  1,  30120,     20,2,   70514,2116, 51.3100,-131.5400, 2358,     24.4,   8.1000,   32.2700,2,-999.0000,9,    306.2,2,    308.8,2,    14.49,2,     7.81,2,     0.11,2,     0.96,2,   -999.0,9,   2168.2,2,   8.0976
  32WC20070511,NACPWC,        1,     3,  1,  30121,     21,2,   70514,2117, 51.3100,-131.5400, 2358,     20.5,   8.2000,   32.2400,2,-999.0000,9,    309.9,2,    313.4,2,    15.13,2,     7.45,2,     0.11,2,     0.94,2,   1994.2,2,   2167.0,2,   8.1980
  32WC20070511,NACPWC,        1,     3,  1,  30122,     22,2,   70514,2119, 51.3100,-131.5400, 2358,     15.0,   8.4000,   32.1700,2,-999.0000,9,    314.7,2,    316.3,2,    15.67,2,     6.90,2,     0.10,2,     0.92,2,   1985.6,2,   2165.5,2,   8.3985
  32WC20070511,NACPWC,        1,     3,  1,  30123,     23,2,   70514,2120, 51.3100,-131.5400, 2358,     10.6,   8.8000,   32.1400,2,  32.1400,6,    317.6,2,    314.7,2,    15.60,2,     6.43,2,     0.09,2,     0.90,2,   1981.7,2,   2162.2,2,   8.7989
  32WC20070511,NACPWC,        1,     3,  1,  30124,     24,2,   70514,2121, 51.3100,-131.5400, 2358,      5.3,   9.3000,   32.1300,2,-999.0000,9,    315.2,2,    311.2,2,    15.76,2,     6.26,2,     0.09,2,     0.88,2,   1982.1,2,   2161.7,2,   9.2994
  32WC20070511,NACPWC,        1,     4,  1,  40101,      1,2,   70515,0137, 51.6000,-130.8800, 2028,   2017.5,   1.9000,   34.6000,2,  34.6000,6,     62.5,2,     62.3,2,   181.13,2,    41.18,2,     0.00,2,     2.90,2,   -999.0,9,   2413.2,6,   1.7637
  32WC20070511,NACPWC,        1,     4,  1,  40102,      2,2,   70515,0149, 51.6000,-130.8800, 2028,   1500.2,   2.3000,   34.5200,2,-999.0000,9,     31.8,2,     31.7,2,   170.14,2,    43.25,2,     0.00,2,     3.03,2,   -999.0,9,   2397.0,2,   2.2004
  32WC20070511,NACPWC,        1,     4,  1,  40103,      3,2,   70515,0200, 51.6000,-130.8800, 2028,   1000.0,   3.2000,   34.3800,2,-999.0000,9,     12.5,2,     12.6,6,   145.38,2,    44.02,2,     0.00,2,     3.11,2,   -999.0,9,   2371.1,2,   3.1307
  32WC20070511,NACPWC,        1,     4,  1,  40104,      4,2,   70515,0206, 51.6000,-130.8800, 2028,    800.3,   3.6000,   34.3200,2,-999.0000,9,     10.2,2,     10.7,2,   130.58,6,    43.59,6,     0.00,6,     3.12,6,   -999.0,9,   2351.6,2,   3.5434
  32WC20070511,NACPWC,        1,     4,  1,  40105,      5,2,   70515,0213, 51.6000,-130.8800, 2028,    500.1,   4.5000,   34.1100,2,-999.0000,9,     29.0,2,     28.4,2,   100.10,2,    41.93,2,     0.01,2,     2.95,2,   -999.0,9,   2310.9,2,   4.4624
  32WC20070511,NACPWC,        1,     4,  1,  40106,      6,2,   70515,0217, 51.6000,-130.8800, 2028,    349.7,   5.0000,   34.0100,2,-999.0000,9,     50.5,2,     49.7,2,    83.38,2,    39.81,2,     0.00,2,     2.78,2,   -999.0,9,   2294.2,2,   4.9728
  32WC20070511,NACPWC,        1,     4,  1,  40107,      7,2,   70515,0220, 51.6000,-130.8800, 2028,    300.1,   5.1000,   33.9800,2,-999.0000,9,     62.1,2,     61.6,2,    77.55,2,    38.49,2,     0.00,2,     2.69,2,   -999.0,9,   2285.9,2,   5.0766
  32WC20070511,NACPWC,        1,     4,  1,  40108,      8,2,   70515,0222, 51.6000,-130.8800, 2028,    249.4,   5.5000,   33.9300,2,-999.0000,9,     83.6,2,     81.7,2,    67.89,2,    36.00,2,     0.00,2,     2.52,2,   -999.0,9,   2277.1,6,   5.4799
  32WC20070511,NACPWC,        1,     4,  1,  40109,      9,2,   70515,0225, 51.6000,-130.8800, 2028,    199.7,   5.8000,   33.8800,2,-999.0000,9,    107.0,2,    104.5,2,    60.60,2,    33.35,2,     0.01,2,     2.35,2,   2236.4,2,   2268.6,2,   5.7835
  32WC20070511,NACPWC,        1,     4,  1,  40110,     10,2,   70515,0227, 51.6000,-130.8800, 2028,    174.7,   5.9000,   33.8500,2,-999.0000,9,    124.1,2,    125.3,2,    55.22,2,    31.52,2,     0.01,2,     2.22,2,   -999.0,9,   2264.3,2,   5.8855
  32WC20070511,NACPWC,        1,     4,  1,  40111,     11,2,   70515,0228, 51.6000,-130.8800, 2028,    151.1,   6.1000,   33.8200,2,-999.0000,9,    136.2,2,    137.4,2,    50.13,2,    29.76,2,     0.02,2,     2.11,2,   2208.4,2,   2258.7,2,   6.0872
  32WC20070511,NACPWC,        1,     4,  1,  40112,     12,2,   70515,0230, 51.6000,-130.8800, 2028,    129.5,   6.4000,   33.8000,2,-999.0000,9,    131.2,2,    134.3,6,    48.32,2,    29.47,2,     0.02,2,     2.11,2,   -999.0,9,   2257.7,2,   6.3888
  32WC20070511,NACPWC,        1,     4,  1,  40113,     13,2,   70515,0232, 51.6000,-130.8800, 2028,    110.4,   6.6000,   33.4000,2,-999.0000,9,    162.2,2,    163.0,2,    42.39,2,    26.01,2,     0.06,2,     1.95,2,   2168.4,2,   2232.3,2,   6.5903
  32WC20070511,NACPWC,        1,     4,  1,  40114,     14,2,   70515,0234, 51.6000,-130.8800, 2028,     90.4,   7.2000,   32.7700,2,-999.0000,9,    221.6,2,    220.3,2,    30.54,2,    18.83,2,     0.12,2,     1.56,2,   -999.0,9,   2197.0,2,   7.1918
  32WC20070511,NACPWC,        1,     4,  1,  40115,     15,2,   70515,0236, 51.6000,-130.8800, 2028,     68.5,   7.7000,   32.2000,2,-999.0000,9,    280.3,2,    267.6,2,    23.40,2,    13.46,2,     0.14,2,     1.26,2,   2042.7,6,   -999.0,9,   7.6936
  32WC20070511,NACPWC,        1,     4,  1,  40116,     16,2,   70515,0237, 51.6000,-130.8800, 2028,     60.7,   7.7000,   32.1600,2,-999.0000,9,    280.0,2,    270.9,2,    22.76,2,    12.93,2,     0.15,2,     1.24,2,   -999.0,9,   2163.3,2,   7.6943
  32WC20070511,NACPWC,        1,     4,  1,  40117,     17,2,   70515,0238, 51.6000,-130.8800, 2028,     50.2,   7.8000,   32.1300,2,-999.0000,9,    279.4,2,    273.7,2,    22.30,2,    12.56,2,     0.15,2,     1.20,2,   2030.9,2,   2161.3,4,   7.7953
  32WC20070511,NACPWC,        1,     4,  1,  40118,     18,2,   70515,0240, 51.6000,-130.8800, 2028,     40.7,   7.9000,   32.0800,2,-999.0000,9,    279.7,2,    279.0,2,    21.00,2,    11.74,2,     0.16,2,     1.16,2,   -999.0,9,   2159.6,2,   7.8961
  32WC20070511,NACPWC,        1,     4,  1,  40119,     19,2,   70515,0241, 51.6000,-130.8800, 2028,     30.5,   8.0000,   32.0300,2,-999.0000,9,    283.8,2,    284.4,2,    19.89,2,    10.76,2,     0.17,2,     1.10,2,   2018.1,2,   2155.9,2,   7.9971
  32WC20070511,NACPWC,        1,     4,  1,  40120,     20,2,   70515,0242, 51.6000,-130.8800, 2028,     25.1,   8.1000,   31.9300,2,-999.0000,9,    291.0,2,    289.6,2,    20.45,2,    10.50,2,     0.17,2,     1.07,2,   -999.0,9,   2152.1,2,   8.0976
  32WC20070511,NACPWC,        1,     4,  1,  40121,     21,2,   70515,0243, 51.6000,-130.8800, 2028,     20.1,   8.1000,   31.9200,2,-999.0000,9,    293.0,2,    291.0,2,    20.16,2,    10.34,2,     0.17,2,     1.06,2,   2007.6,2,   2149.3,2,   8.0981
  32WC20070511,NACPWC,        1,     4,  1,  40122,     22,2,   70515,0244, 51.6000,-130.8800, 2028,     15.8,   8.1000,   31.9000,2,-999.0000,9,    293.8,2,    291.5,2,    20.05,2,    10.39,2,     0.17,2,     1.06,2,   2005.8,2,   2149.1,2,   8.0985
  32WC20070511,NACPWC,        1,     4,  1,  40123,     23,2,   70515,0245, 51.6000,-130.8800, 2028,     10.5,   8.4000,   31.7400,2,  31.7300,6,    304.9,2,    299.9,2,    19.02,2,     9.38,2,     0.17,2,     0.98,2,   1990.8,2,   2139.6,2,   8.3990
  32WC20070511,NACPWC,        1,     4,  1,  40124,     24,2,   70515,0246, 51.6000,-130.8800, 2028,      5.5,   9.0000,   31.5300,2,-999.0000,9,    321.0,2,    319.2,2,    18.37,2,     7.35,2,     0.17,2,     0.84,2,   1965.4,2,   2132.7,2,   8.9994
  32WC20070511,NACPWC,        1,     5,  1,  50101,      1,2,   70515,0505, 51.7100,-130.6300,  928,    907.4,   3.3000,   34.3600,2,  34.3600,6,     16.5,2,     17.5,2,   139.28,6,    43.50,6,     0.01,6,     3.09,6,   -999.0,9,   -999.0,9,   3.2371
  32WC20070511,NACPWC,        1,     5,  1,  50102,      2,2,   70515,0513, 51.7100,-130.6300,  928,    598.8,   3.9000,   34.2400,2,-999.0000,9,     19.0,2,     19.1,2,   119.24,2,    42.92,2,     0.00,2,     3.05,2,   -999.0,9,   -999.0,9,   3.8572
  32WC20070511,NACPWC,        1,     5,  1,  50103,      3,2,   70515,0517, 51.7100,-130.6300,  928,    500.8,   4.3000,   34.1700,2,-999.0000,9,     25.5,2,     25.2,2,   106.82,2,    42.30,2,     0.01,2,     2.98,2,   -999.0,9,   -999.0,9,   4.2631
  32WC20070511,NACPWC,        1,     5,  1,  50104,      4,2,   70515,0520, 51.7100,-130.6300,  928,    400.4,   4.6000,   34.0800,2,-999.0000,9,     36.7,2,     35.7,2,    94.81,2,    41.30,2,     0.00,2,     2.91,2,   -999.0,9,   -999.0,9,   4.5699
  32WC20070511,NACPWC,        1,     5,  1,  50105,      5,2,   70515,0524, 51.7100,-130.6300,  928,    300.6,   5.1000,   33.9900,2,-999.0000,9,     61.4,2,     61.6,2,    78.97,2,    38.31,2,     0.01,2,     2.69,2,   -999.0,9,   -999.0,9,   5.0765
  32WC20070511,NACPWC,        1,     5,  1,  50106,      6,2,   70515,0526, 51.7100,-130.6300,  928,    274.7,   5.2000,   33.9800,2,-999.0000,9,     61.8,2,     62.4,2,    78.35,2,    38.02,2,     0.00,2,     2.68,2,   -999.0,9,   -999.0,9,   5.1784
  32WC20070511,NACPWC,        1,     5,  1,  50107,      7,2,   70515,0528, 51.7100,-130.6300,  928,    249.8,   5.2000,   33.9800,2,-999.0000,9,     63.5,2,     64.3,2,    77.65,6,    37.82,6,     0.01,6,     2.67,6,   -999.0,9,   -999.0,9,   5.1804
  32WC20070511,NACPWC,        1,     5,  1,  50108,      8,2,   70515,0530, 51.7100,-130.6300,  928,    224.3,   5.3000,   33.9500,2,-999.0000,9,     69.7,2,     69.6,2,    75.04,2,    37.07,2,     0.01,2,     2.61,2,   -999.0,9,   -999.0,9,   5.2823
  32WC20070511,NACPWC,        1,     5,  1,  50109,      9,2,   70515,0531, 51.7100,-130.6300,  928,    201.1,   5.4000,   33.9300,2,-999.0000,9,     74.7,2,     74.0,2,    72.63,2,    36.66,2,     0.01,2,     2.58,2,   -999.0,9,   -999.0,9,   5.3840
  32WC20070511,NACPWC,        1,     5,  1,  50110,     10,4,   70515,0533, 51.7100,-130.6300,  928,    175.4,   5.5000,   33.9000,2,-999.0000,9,     83.6,2,   -999.0,9,  -999.00,9,  -999.00,9,  -999.00,9,  -999.00,9,   -999.0,9,   -999.0,9,   5.4859
  32WC20070511,NACPWC,        1,     5,  1,  50111,     11,2,   70515,0535, 51.7100,-130.6300,  928,    150.3,   5.7000,   33.8600,2,-999.0000,9,     90.8,2,     90.8,2,    66.09,2,    34.52,2,     0.02,2,     2.45,2,   -999.0,9,   -999.0,9,   5.6877
  32WC20070511,NACPWC,        1,     5,  1,  50112,     12,2,   70515,0536, 51.7100,-130.6300,  928,    130.0,   5.9000,   33.7700,2,-999.0000,9,    105.2,2,    105.3,6,    61.44,2,    32.73,2,     0.04,2,     2.35,2,   -999.0,9,   -999.0,9,   5.8892
  32WC20070511,NACPWC,        1,     5,  1,  50113,     13,2,   70515,0538, 51.7100,-130.6300,  928,    111.4,   6.0000,   33.7100,2,-999.0000,9,    117.7,2,    113.4,2,    58.98,2,    31.65,2,     0.05,2,     2.28,2,   -999.0,9,   -999.0,9,   5.9907
  32WC20070511,NACPWC,        1,     5,  1,  50114,     14,2,   70515,0539, 51.7100,-130.6300,  928,     90.2,   6.4000,   33.4800,2,-999.0000,9,    143.3,2,    142.0,2,    50.50,2,    28.26,2,     0.07,2,     2.09,2,   -999.0,9,   -999.0,9,   6.3923
  32WC20070511,NACPWC,        1,     5,  1,  50115,     15,2,   70515,0541, 51.7100,-130.6300,  928,     70.0,   7.2000,   32.7700,2,-999.0000,9,    234.8,2,    234.1,2,    26.05,2,    17.27,2,     0.11,2,     1.46,2,   -999.0,9,   -999.0,9,   7.1936
  32WC20070511,NACPWC,        1,     5,  1,  50116,     16,2,   70515,0544, 51.7100,-130.6300,  928,     60.9,   7.3000,   32.6200,2,-999.0000,9,    247.5,2,    253.0,2,    21.42,2,    14.70,2,     0.14,2,     1.32,2,   -999.0,9,   -999.0,9,   7.2944
  32WC20070511,NACPWC,        1,     5,  1,  50117,     17,2,   70515,0545, 51.7100,-130.6300,  928,     50.5,   7.6000,   32.4300,2,-999.0000,9,    280.5,2,    273.5,2,    18.46,2,    12.00,2,     0.17,2,     1.16,2,   -999.0,9,   -999.0,9,   7.5953
  32WC20070511,NACPWC,        1,     5,  1,  50118,     18,2,   70515,0547, 51.7100,-130.6300,  928,     40.3,   7.6000,   32.4100,2,-999.0000,9,    287.2,2,    275.0,2,    18.22,2,    11.83,2,     0.16,2,     1.15,2,   -999.0,9,   -999.0,9,   7.5962
  32WC20070511,NACPWC,        1,     5,  1,  50119,     19,2,   70515,0548, 51.7100,-130.6300,  928,     30.5,   7.9000,   32.3100,2,-999.0000,9,    294.8,2,    295.4,2,    13.84,2,     8.72,2,     0.16,2,     0.97,2,   -999.0,9,   -999.0,9,   7.8971
  32WC20070511,NACPWC,        1,     5,  1,  50120,     20,2,   70515,0550, 51.7100,-130.6300,  928,     25.3,   8.1000,   32.2700,2,-999.0000,9,    298.9,2,    299.2,2,    13.53,2,     8.12,2,     0.15,2,     0.92,2,   -999.0,9,   -999.0,9,   8.0976
  32WC20070511,NACPWC,        1,     5,  1,  50121,     21,2,   70515,0551, 51.7100,-130.6300,  928,     20.2,   8.3000,   32.2100,2,-999.0000,9,    302.6,2,    303.6,2,    13.28,2,     7.19,2,     0.13,2,     0.87,2,   -999.0,9,   -999.0,9,   8.2980
  32WC20070511,NACPWC,        1,     5,  1,  50122,     22,2,   70515,0552, 51.7100,-130.6300,  928,     15.5,   8.6000,   32.1600,2,-999.0000,9,    307.4,2,    306.2,2,    13.00,2,     6.83,2,     0.12,2,     0.84,2,   -999.0,9,   -999.0,9,   8.5984
  32WC20070511,NACPWC,        1,     5,  1,  50123,     23,2,   70515,0553, 51.7100,-130.6300,  928,     10.1,   8.8000,   32.1200,2,  32.1000,6,    309.0,2,    308.0,2,    13.15,2,     6.11,2,     0.12,2,     0.79,2,   -999.0,9,   -999.0,9,   8.7990
  32WC20070511,NACPWC,        1,     5,  1,  50124,     24,2,   70515,0555, 51.7100,-130.6300,  928,      5.4,   9.1000,   32.0700,2,-999.0000,9,    309.7,2,    308.5,2,    13.03,2,     6.03,2,     0.12,2,     0.78,2,   -999.0,9,   -999.0,9,   9.0994