BOTTLE,20120405PRINUNIVRMK
EXPOCODE,SECT_ID,LINE,STNNBR,CASTNO,SAMPNO,BTLNBR,BTLNBR_FLAG_W,DATE,TIME,LATITUDE,LONGITUDE,DEPTH,CTDPRS,CTDTMP,CTDSAL,CTDSAL_FLAG_W,SALNTY,SALNTY_FLAG_W,CTDOXY,CTDOXY_FLAG_W,OXYGEN,OXYGEN_FLAG_W,SILCAT,SILCAT_FLAG_W,NITRAT,NITRAT_FLAG_W,NITRIT,NITRIT_FLAG_W,PHSPHT,PHSPHT_FLAG_W,TCARBN,TCARBN_FLAG_W,ALKALI,ALKALI_FLAG_W,THETA
,,,,,,,,,,,,METERS,DBAR,ITS-90,PSS-78,,PSS-78,,UMOL/KG,,UMOL/KG,,UMOL/KG,,UMOL/KG,,UMOL/KG,,UMOL/KG,,UMOL/KG,,UMOL/KG,,DEG C
  32WC20070511,NACPWC,       10,    83,  1, 830101,      1,2,   70604,1905, 33.8400,-118.4600,   81,     71.4,   9.7000,   34.0100,2,  34.0000,2,     81.0,2,     80.9,2,    32.33,6,    25.79,6,     0.15,6,     2.12,6,   2209.3,6,   2255.4,6,   9.6920
  32WC20070511,NACPWC,       10,    83,  1, 830102,      2,2,   70604,1907, 33.8400,-118.4600,   81,     61.4,   9.9000,   33.9600,2,-999.0000,9,     85.8,2,     85.5,2,    30.01,2,    25.48,2,     0.17,2,     2.06,2,   2200.7,2,   2250.9,2,   9.8931
  32WC20070511,NACPWC,       10,    83,  1, 830103,      3,2,   70604,1908, 33.8400,-118.4600,   81,     49.7,  10.3000,   33.8500,2,-999.0000,9,     92.7,2,     93.2,2,    27.16,2,    23.43,2,     0.43,2,     2.00,2,   2197.7,2,   2249.4,2,  10.2942
  32WC20070511,NACPWC,       10,    83,  1, 830104,      4,2,   70604,1909, 33.8400,-118.4600,   81,     40.8,  10.6000,   33.7800,2,-999.0000,9,    107.1,2,    106.4,2,    23.76,2,    21.54,2,     0.50,2,     1.88,2,   2189.0,2,   2249.8,2,  10.5952
  32WC20070511,NACPWC,       10,    83,  1, 830105,      5,2,   70604,1911, 33.8400,-118.4600,   81,     30.2,  11.2000,   33.7300,2,-999.0000,9,    120.9,2,    121.5,2,    20.33,6,    18.24,6,     0.58,6,     1.68,6,   2177.6,2,   2253.0,2,  11.1963
  32WC20070511,NACPWC,       10,    83,  1, 830106,      6,2,   70604,1912, 33.8400,-118.4600,   81,     25.0,  11.9000,   33.7200,2,-999.0000,9,    157.7,2,    146.0,2,    16.41,2,    12.95,2,     0.49,2,     1.29,2,   2154.6,2,   2240.9,2,  11.8968
  32WC20070511,NACPWC,       10,    83,  1, 830107,      7,2,   70604,1913, 33.8400,-118.4600,   81,     19.8,  12.8000,   33.7200,2,-999.0000,9,    201.1,2,    210.5,2,    11.66,2,     4.59,2,     0.23,2,     0.67,2,   2092.0,2,   2257.6,2,  12.7974
  32WC20070511,NACPWC,       10,    83,  1, 830108,      8,2,   70604,1914, 33.8400,-118.4600,   81,     15.0,  14.3000,   33.7500,2,-999.0000,9,    225.1,2,    225.5,2,     9.30,2,     2.83,2,     0.14,2,     0.40,2,   2063.1,2,   2258.6,2,  14.2978
  32WC20070511,NACPWC,       10,    83,  1, 830109,      9,2,   70604,1914, 33.8400,-118.4600,   81,     14.9,  14.3000,   33.7500,2,-999.0000,9,    225.0,2,   -999.0,9,  -999.00,9,  -999.00,9,  -999.00,9,  -999.00,9,   -999.0,9,   -999.0,9,  14.2979
  32WC20070511,NACPWC,       10,    83,  1, 830110,     10,2,   70604,1915, 33.8400,-118.4600,   81,      9.9,  15.6000,   33.7800,2,-999.0000,9,    310.1,2,    269.2,2,     6.73,2,     0.91,2,     0.06,2,     0.18,2,   2003.2,2,   2262.1,2,  15.5985
  32WC20070511,NACPWC,       10,    83,  1, 830111,     11,2,   70604,1915, 33.8400,-118.4600,   81,      9.9,  15.6000,   33.7800,2,-999.0000,9,    310.1,2,   -999.0,9,  -999.00,9,  -999.00,9,  -999.00,9,  -999.00,9,   -999.0,9,   -999.0,9,  15.5985
  32WC20070511,NACPWC,       10,    83,  1, 830112,     12,2,   70604,1916, 33.8400,-118.4600,   81,      4.9,  16.3000,   33.7900,2,  33.7900,2,    311.6,2,    309.0,2,     4.32,2,     0.17,2,     0.01,2,     0.07,2,   1942.4,2,   2261.7,2,  16.2992
  32WC20070511,NACPWC,       10,    83,  1, 830113,     13,2,   70604,1916, 33.8400,-118.4600,   81,      4.9,  16.4000,   33.7900,2,-999.0000,9,    313.7,2,   -999.0,9,  -999.00,9,  -999.00,9,  -999.00,9,  -999.00,9,   -999.0,9,   -999.0,9,  16.3992
  32WC20070511,NACPWC,       10,    84,  1, 840101,      1,2,   70604,2247, 33.9300,-118.7200,  492,    482.3,   7.0000,   34.3000,2,  34.2900,2,     19.8,2,     20.4,2,    67.42,6,    35.76,6,     0.03,6,     2.88,6,   2298.3,6,   2309.5,2,   6.9544
  32WC20070511,NACPWC,       10,    84,  1, 840102,      2,4,   70604,2248, 33.9300,-118.7200,  492,    450.1,   7.0000,   34.3000,2,-999.0000,9,     20.5,2,   -999.0,9,  -999.00,9,  -999.00,9,  -999.00,9,  -999.00,9,   -999.0,9,   -999.0,9,   6.9575
  32WC20070511,NACPWC,       10,    84,  1, 840103,      3,4,   70604,2249, 33.9300,-118.7200,  492,    425.2,   7.2000,   34.2900,2,-999.0000,9,     22.8,2,     22.6,2,    64.35,2,    35.36,2,     0.03,2,     2.84,2,   2291.2,2,   2299.8,2,   7.1593
  32WC20070511,NACPWC,       10,    84,  1, 840104,      4,2,   70604,2251, 33.9300,-118.7200,  492,    399.7,   7.3000,   34.2900,2,-999.0000,9,     24.9,2,     25.5,2,    62.21,2,    34.73,2,     0.03,2,     2.80,2,   2289.0,6,   2299.8,2,   7.2615
  32WC20070511,NACPWC,       10,    84,  1, 840105,      5,2,   70604,2253, 33.9300,-118.7200,  492,    350.0,   7.6000,   34.2700,2,-999.0000,9,     32.3,2,     31.9,2,    57.14,2,    33.60,2,     0.02,2,     2.68,2,   2273.7,2,   2294.6,2,   7.5657
  32WC20070511,NACPWC,       10,    84,  1, 840106,      6,2,   70604,2254, 33.9300,-118.7200,  492,    300.6,   8.2000,   34.2600,2,-999.0000,9,     42.8,2,     42.4,2,    50.19,6,    31.98,6,     0.02,6,     2.56,6,   2256.5,2,   2285.9,2,   8.1693
  32WC20070511,NACPWC,       10,    84,  1, 840107,      7,2,   70604,2256, 33.9300,-118.7200,  492,    249.8,   8.5000,   34.2500,2,-999.0000,9,     47.4,2,     49.2,2,    46.79,2,    30.82,2,     0.01,2,     2.48,2,   2250.6,2,   2283.2,2,   8.4740
  32WC20070511,NACPWC,       10,    84,  1, 840108,      8,2,   70604,2258, 33.9300,-118.7200,  492,    225.2,   8.7000,   34.2600,2,-999.0000,9,     49.7,2,     49.0,2,    45.19,2,    30.34,2,     0.01,2,     2.46,2,   2251.3,2,   2280.0,2,   8.6762
  32WC20070511,NACPWC,       10,    84,  1, 840109,      9,2,   70604,2259, 33.9300,-118.7200,  492,    200.2,   8.9000,   34.2400,2,-999.0000,9,     54.4,2,     53.9,2,    42.69,2,    29.86,2,     0.02,2,     2.39,2,   2244.1,2,   2277.1,2,   8.8786
  32WC20070511,NACPWC,       10,    84,  1, 840110,     10,2,   70604,2300, 33.9300,-118.7200,  492,    175.2,   9.1000,   34.2300,2,-999.0000,9,     56.8,2,     57.9,2,    41.25,2,    29.35,2,     0.01,2,     2.36,2,   2240.3,2,   2277.2,2,   9.0811
  32WC20070511,NACPWC,       10,    84,  1, 840111,     11,2,   70604,2301, 33.9300,-118.7200,  492,    150.1,   9.3000,   34.1800,2,-999.0000,9,     64.0,2,     64.2,6,    37.87,2,    28.46,2,     0.01,2,     2.27,2,   2228.8,2,   2267.1,2,   9.2836
  32WC20070511,NACPWC,       10,    84,  1, 840112,     12,2,   70604,2302, 33.9300,-118.7200,  492,    129.6,   9.4000,   34.1500,2,-999.0000,9,     71.7,2,     75.0,2,    35.97,2,    27.59,2,     0.01,2,     2.20,2,   2224.4,2,   2276.4,2,   9.3857
  32WC20070511,NACPWC,       10,    84,  1, 840113,     13,2,   70604,2303, 33.9300,-118.7200,  492,    109.6,   9.6000,   34.0800,2,-999.0000,9,     81.1,2,     81.0,2,    33.15,2,    26.68,2,     0.01,2,     2.11,2,   2215.6,2,   2255.9,2,   9.5878
  32WC20070511,NACPWC,       10,    84,  1, 840114,     14,2,   70604,2304, 33.9300,-118.7200,  492,     90.7,   9.6000,   34.0400,2,-999.0000,9,     87.6,2,     85.9,2,    32.07,2,    26.37,2,     0.02,2,     2.07,2,   2207.3,2,   2257.2,2,   9.5899
  32WC20070511,NACPWC,       10,    84,  1, 840115,     15,2,   70604,2305, 33.9300,-118.7200,  492,     70.2,   9.9000,   33.9700,2,-999.0000,9,     87.0,2,     87.0,2,    29.98,2,    25.42,2,     0.01,2,     2.03,2,   2200.9,2,   2250.3,2,   9.8921
  32WC20070511,NACPWC,       10,    84,  1, 840116,     16,2,   70604,2307, 33.9300,-118.7200,  492,     59.8,  10.1000,   33.9100,2,-999.0000,9,     88.5,2,     88.2,2,    28.48,2,    25.18,2,     0.02,2,     1.99,2,   2200.9,2,   2249.1,2,  10.0932
  32WC20070511,NACPWC,       10,    84,  1, 840117,     17,2,   70604,2308, 33.9300,-118.7200,  492,     49.8,  10.2000,   33.9000,2,-999.0000,9,     86.7,2,     88.9,2,    27.95,2,    25.07,2,     0.02,2,     1.98,2,   2199.1,2,   2245.3,2,  10.1943
  32WC20070511,NACPWC,       10,    84,  1, 840118,     18,2,   70604,2309, 33.9300,-118.7200,  492,     39.2,  10.3000,   33.8700,2,-999.0000,9,     89.8,2,     87.7,2,    27.01,2,    24.77,2,     0.05,2,     1.96,2,   2197.4,2,   2249.8,2,  10.2955
  32WC20070511,NACPWC,       10,    84,  1, 840119,     19,2,   70604,2309, 33.9300,-118.7200,  492,     29.4,  10.5000,   33.8100,2,-999.0000,9,    101.2,2,    100.0,2,    24.50,2,    22.92,2,     0.40,2,     1.87,2,   2194.6,2,   2244.5,2,  10.4966
  32WC20070511,NACPWC,       10,    84,  1, 840120,     20,2,   70604,2310, 33.9300,-118.7200,  492,     24.8,  10.6000,   33.7900,2,-999.0000,9,     98.2,2,    107.1,2,    23.33,2,    21.68,2,     0.47,2,     1.82,2,   2190.9,2,   2247.4,2,  10.5971
  32WC20070511,NACPWC,       10,    84,  1, 840121,     21,2,   70604,2311, 33.9300,-118.7200,  492,     20.0,  11.8000,   33.7000,2,-999.0000,9,    157.8,2,    156.5,6,    14.64,2,    12.29,2,     0.47,2,     1.10,2,   2101.5,3,   2242.8,2,  11.7975
  32WC20070511,NACPWC,       10,    84,  1, 840122,     22,2,   70604,2311, 33.9300,-118.7200,  492,     14.7,  14.5000,   33.7500,2,-999.0000,9,    279.9,2,    225.0,2,     8.13,2,     4.48,2,     0.21,2,     0.52,2,   2071.6,2,   2248.3,2,  14.4979
  32WC20070511,NACPWC,       10,    84,  1, 840123,     23,2,   70604,2312, 33.9300,-118.7200,  492,     10.1,  15.4000,   33.7700,2,-999.0000,9,    284.4,2,    292.7,2,     3.78,2,     0.19,2,     0.02,2,     0.15,2,   1987.3,3,   2255.2,2,  15.3985
  32WC20070511,NACPWC,       10,    84,  1, 840124,     24,2,   70604,2313, 33.9300,-118.7200,  492,      5.1,  16.2000,   33.8000,2,  33.7900,2,    281.0,2,    284.6,2,     3.68,2,     0.05,2,     0.01,2,     0.11,2,   1994.9,2,   2255.9,2,  16.1992
  32WC20070511,NACPWC,       10,    85,  1, 850101,      1,2,   70605,0222, 33.7900,-118.8500,  908,    896.4,   5.1000,   34.4100,2,  34.4100,2,      5.8,2,      6.2,2,   109.89,6,    35.90,6,     0.01,6,     3.27,6,   2353.9,6,   -999.0,9,   5.0254
  32WC20070511,NACPWC,       10,    85,  1, 850102,      2,2,   70605,0225, 33.7900,-118.8500,  908,    800.1,   5.2000,   34.4000,2,-999.0000,9,      4.5,2,      4.8,2,   108.50,2,    34.27,2,     0.00,2,     3.28,2,   2353.8,6,   2353.2,2,   5.1334
  32WC20070511,NACPWC,       10,    85,  1, 850103,      3,2,   70605,0230, 33.7900,-118.8500,  908,    599.6,   5.8000,   34.3600,2,-999.0000,9,      8.2,2,      8.6,2,    89.87,6,    38.23,6,     0.01,6,     3.11,6,   2328.3,2,   2327.7,2,   5.7482
  32WC20070511,NACPWC,       10,    85,  1, 850104,      4,2,   70605,0233, 33.7900,-118.8500,  908,    499.6,   6.4000,   34.3100,2,-999.0000,9,     15.3,2,     16.1,2,    75.25,2,    37.76,2,     0.01,2,     2.98,2,   2304.7,2,   2311.8,2,   6.3550
  32WC20070511,NACPWC,       10,    85,  1, 850105,      5,2,   70605,0236, 33.7900,-118.8500,  908,    400.1,   7.2000,   34.2800,2,-999.0000,9,     26.3,2,     27.4,2,    62.08,2,    35.36,2,     0.01,2,     2.80,2,   2284.4,2,   2296.5,2,   7.1618
  32WC20070511,NACPWC,       10,    85,  1, 850106,      6,2,   70605,0238, 33.7900,-118.8500,  908,    350.0,   7.6000,   34.2700,2,-999.0000,9,     33.3,2,     32.5,2,    56.91,2,    33.95,2,     0.01,2,     2.70,2,   2273.3,2,   2297.6,2,   7.5657
  32WC20070511,NACPWC,       10,    85,  1, 850107,      7,2,   70605,0240, 33.7900,-118.8500,  908,    299.7,   8.1000,   34.2700,2,-999.0000,9,     36.3,2,     38.9,2,    51.95,2,    32.38,2,     0.01,2,     2.60,2,   2266.4,2,   2285.6,2,   8.0696
  32WC20070511,NACPWC,       10,    85,  1, 850108,      8,2,   70605,0243, 33.7900,-118.8500,  908,    249.6,   8.3000,   34.2400,2,-999.0000,9,     52.7,2,     53.6,2,    46.71,2,    31.09,2,     0.01,2,     2.46,2,   2248.6,2,   2277.5,2,   8.2744
  32WC20070511,NACPWC,       10,    85,  1, 850109,      9,2,   70605,0244, 33.7900,-118.8500,  908,    224.9,   8.4000,   34.1800,2,-999.0000,9,     64.3,2,     64.9,2,    43.78,2,    30.11,2,     0.01,2,     2.34,2,   2240.1,2,   2273.6,2,   8.3768
  32WC20070511,NACPWC,       10,    85,  1, 850110,     10,2,   70605,0246, 33.7900,-118.8500,  908,    200.1,   8.9000,   34.2100,2,-999.0000,9,     69.3,2,     63.5,2,    41.47,2,    29.29,2,     0.01,2,     2.32,2,   2236.4,2,   2273.6,2,   8.8786
  32WC20070511,NACPWC,       10,    85,  1, 850111,     11,2,   70605,0247, 33.7900,-118.8500,  908,    174.8,   9.2000,   34.2300,2,-999.0000,9,     56.9,2,     61.5,2,    39.98,2,    28.94,2,     0.01,2,     2.31,2,   2237.7,2,   2270.4,2,   9.1810
  32WC20070511,NACPWC,       10,    85,  1, 850112,     12,2,   70605,0249, 33.7900,-118.8500,  908,    149.6,   9.2000,   34.1900,2,-999.0000,9,     69.1,2,     69.8,6,    38.05,2,    28.25,2,     0.02,2,     2.24,2,   2228.7,2,   2269.7,2,   9.1837
  32WC20070511,NACPWC,       10,    85,  1, 850113,     13,2,   70605,0250, 33.7900,-118.8500,  908,    130.0,   9.1000,   34.1000,2,-999.0000,9,     91.4,2,     90.0,2,    35.34,2,    27.11,2,     0.01,2,     2.08,2,   2215.2,2,   2260.6,2,   9.0860
  32WC20070511,NACPWC,       10,    85,  1, 850114,     14,2,   70605,0252, 33.7900,-118.8500,  908,     90.0,   9.6000,   33.9600,2,-999.0000,9,    117.7,2,    112.5,2,    29.16,2,    24.83,2,     0.01,2,     1.89,2,   2189.7,2,   2253.1,2,   9.5900
  32WC20070511,NACPWC,       10,    85,  1, 850115,     15,2,   70605,0253, 33.7900,-118.8500,  908,     69.9,   9.9000,   33.8700,2,-999.0000,9,    112.4,2,    118.8,2,    25.99,2,    23.51,2,     0.01,2,     1.80,2,   2178.7,2,   2246.4,2,   9.8921
  32WC20070511,NACPWC,       10,    85,  1, 850116,     16,2,   70605,0254, 33.7900,-118.8500,  908,     60.0,  10.4000,   33.8200,2,-999.0000,9,    110.6,2,    112.1,2,    24.51,2,    23.11,2,     0.02,2,     1.80,2,   2179.8,2,   2244.4,2,  10.3930
  32WC20070511,NACPWC,       10,    85,  1, 850117,     17,2,   70605,0255, 33.7900,-118.8500,  908,     49.8,  10.5000,   33.8000,2,-999.0000,9,    111.7,2,    113.0,2,    23.11,2,    22.56,2,     0.03,2,     1.78,2,   2178.1,2,   2244.3,2,  10.4942
  32WC20070511,NACPWC,       10,    85,  1, 850118,     18,2,   70605,0256, 33.7900,-118.8500,  908,     39.8,  10.9000,   33.7400,2,-999.0000,9,    118.7,2,    118.6,2,    20.66,2,    21.34,2,     0.07,2,     1.68,2,   2164.1,2,   2245.9,2,  10.8952
  32WC20070511,NACPWC,       10,    85,  1, 850119,     19,2,   70605,0257, 33.7900,-118.8500,  908,     29.8,  11.7000,   33.6500,2,-999.0000,9,    165.1,2,    162.3,2,    14.63,6,    15.02,6,     0.43,6,     1.23,6,   2122.0,2,   2234.9,2,  11.6963
  32WC20070511,NACPWC,       10,    85,  1, 850120,     20,2,   70605,0258, 33.7900,-118.8500,  908,     24.9,  12.5000,   33.6400,2,-999.0000,9,    199.6,2,    201.4,2,    11.07,2,     9.39,2,     0.44,2,     0.87,2,   2090.8,2,   2246.1,2,  12.4967
  32WC20070511,NACPWC,       10,    85,  1, 850121,     21,2,   70605,0259, 33.7900,-118.8500,  908,     19.9,  13.1000,   33.6200,2,-999.0000,9,    288.2,2,    261.1,2,     8.11,2,     2.53,2,     0.27,2,     0.44,2,   2042.2,2,   2239.6,2,  13.0973
  32WC20070511,NACPWC,       10,    85,  1, 850122,     22,2,   70605,0300, 33.7900,-118.8500,  908,     14.6,  16.1000,   33.6800,2,-999.0000,9,    292.1,2,    290.5,2,     4.52,2,     0.36,2,     0.05,2,     0.23,2,   1995.8,2,   2247.2,2,  16.0977
  32WC20070511,NACPWC,       10,    85,  1, 850123,     23,2,   70605,0300, 33.7900,-118.8500,  908,     10.2,  17.1000,   33.7000,2,-999.0000,9,    268.6,2,    267.1,2,     2.88,2,     0.00,2,     0.00,2,     0.15,2,   1996.3,2,   2246.8,2,  17.0983
  32WC20070511,NACPWC,       10,    85,  1, 850124,     24,2,   70605,0301, 33.7900,-118.8500,  908,      5.1,  17.3000,   33.7100,2,  33.7100,2,    265.1,2,    294.9,2,     2.81,2,     0.00,2,     0.00,2,     0.15,2,   2000.1,2,   2247.0,2,  17.2992