BOTTLE,20120405PRINUNIVRMK
EXPOCODE,SECT_ID,LINE,STNNBR,CASTNO,SAMPNO,BTLNBR,BTLNBR_FLAG_W,DATE,TIME,LATITUDE,LONGITUDE,DEPTH,CTDPRS,CTDTMP,CTDSAL,CTDSAL_FLAG_W,SALNTY,SALNTY_FLAG_W,CTDOXY,CTDOXY_FLAG_W,OXYGEN,OXYGEN_FLAG_W,SILCAT,SILCAT_FLAG_W,NITRAT,NITRAT_FLAG_W,NITRIT,NITRIT_FLAG_W,PHSPHT,PHSPHT_FLAG_W,TCARBN,TCARBN_FLAG_W,ALKALI,ALKALI_FLAG_W,THETA
,,,,,,,,,,,,METERS,DBAR,ITS-90,PSS-78,,PSS-78,,UMOL/KG,,UMOL/KG,,UMOL/KG,,UMOL/KG,,UMOL/KG,,UMOL/KG,,UMOL/KG,,UMOL/KG,,DEG C
  32WC20070511,NACPWC,       13,   107,  1,1070101,      1,2,   70611,1426, 25.5900,-113.7800, 2998,   3000.2,   1.7000,   34.6700,2,  34.6700,2,    112.9,2,    113.2,2,   166.56,6,    37.99,6,     0.01,6,     2.77,6,   2360.8,6,   2427.3,6,   1.4788
  32WC20070511,NACPWC,       13,   107,  1,1070102,      2,2,   70611,1438, 25.5900,-113.7800, 2998,   2499.7,   1.9000,   34.6600,2,-999.0000,9,    100.6,2,    100.9,2,   164.58,2,    38.32,2,     0.01,2,     2.80,2,   2365.8,6,   2425.1,2,   1.7215
  32WC20070511,NACPWC,       13,   107,  1,1070103,      3,2,   70611,1500, 25.5900,-113.7800, 2998,   1499.7,   3.1000,   34.5900,2,-999.0000,9,     40.7,2,     41.1,2,   140.08,2,    41.78,2,     0.01,2,     3.15,2,   2378.6,2,   2393.6,2,   2.9910
  32WC20070511,NACPWC,       13,   107,  1,1070104,      4,2,   70611,1516, 25.5900,-113.7800, 2998,    800.0,   5.2000,   34.4700,2,-999.0000,9,      7.2,2,      8.5,2,    95.95,6,    41.10,6,     0.02,6,     3.24,6,   2347.2,2,   2344.4,2,   5.1333
  32WC20070511,NACPWC,       13,   107,  1,1070105,      5,2,   70611,1524, 25.5900,-113.7800, 2998,    500.3,   7.4000,   34.4400,2,-999.0000,9,      7.4,2,      7.3,6,    66.30,2,    34.64,2,     0.02,2,     3.02,2,   2311.7,2,   2312.9,2,   7.3510
  32WC20070511,NACPWC,       13,   107,  1,1070106,      6,2,   70611,1529, 25.5900,-113.7800, 2998,    350.2,   9.2000,   34.5200,2,-999.0000,9,      8.4,2,      7.1,2,    50.22,2,    29.14,2,     0.02,2,     2.82,2,   2294.6,2,   2302.2,2,   9.1613
  32WC20070511,NACPWC,       13,   107,  1,1070107,      7,2,   70611,1531, 25.5900,-113.7800, 2998,    300.0,  10.0000,   34.5800,2,-999.0000,9,      6.1,2,      5.8,2,    45.80,2,    27.02,2,     0.02,2,     2.78,2,   2288.1,2,   2300.3,2,   9.9652
  32WC20070511,NACPWC,       13,   107,  1,1070108,      8,2,   70611,1534, 25.5900,-113.7800, 2998,    250.1,  10.7000,   34.5900,2,-999.0000,9,     11.8,2,      8.5,2,    41.01,2,    26.19,2,     0.02,2,     2.69,2,   2277.8,2,   2296.1,2,  10.6698
  32WC20070511,NACPWC,       13,   107,  1,1070109,      9,2,   70611,1536, 25.5900,-113.7800, 2998,    200.3,  11.2000,   34.5500,2,-999.0000,9,     20.3,2,     19.4,2,    36.72,2,    26.05,2,     0.02,2,     2.55,2,   2264.8,2,   2289.4,2,  11.1751
  32WC20070511,NACPWC,       13,   107,  1,1070110,     10,2,   70611,1538, 25.5900,-113.7800, 2998,    174.5,  11.4000,   34.5000,2,-999.0000,9,     28.6,2,     27.6,2,    34.93,2,    25.78,2,     0.03,2,     2.49,2,   2254.4,2,   2285.0,2,  11.3781
  32WC20070511,NACPWC,       13,   107,  1,1070111,     11,2,   70611,1540, 25.5900,-113.7800, 2998,    149.2,  11.8000,   34.4500,2,-999.0000,9,     28.3,2,     31.0,2,    33.02,2,    24.91,2,     0.05,2,     2.41,2,   2247.8,2,   2286.0,2,  11.7809
  32WC20070511,NACPWC,       13,   107,  1,1070112,     12,2,   70611,1542, 25.5900,-113.7800, 2998,    129.8,  11.8000,   34.2200,2,-999.0000,9,     68.9,2,     59.6,2,    28.62,2,    23.26,2,     0.13,2,     2.16,2,   2217.7,2,   2266.0,2,  11.7834
  32WC20070511,NACPWC,       13,   107,  1,1070113,     13,2,   70611,1544, 25.5900,-113.7800, 2998,    109.7,  11.8000,   33.8100,2,-999.0000,9,    124.3,2,    122.5,2,    19.91,2,    18.56,2,     0.27,2,     1.62,2,   2153.7,2,   2237.6,2,  11.7861
  32WC20070511,NACPWC,       13,   107,  1,1070114,     14,2,   70611,1545, 25.5900,-113.7800, 2998,     90.5,  13.5000,   33.7400,2,-999.0000,9,    156.6,2,    163.5,2,    11.78,2,    11.97,2,     0.06,2,     1.14,2,   2105.4,2,   2232.9,2,  13.4874
  32WC20070511,NACPWC,       13,   107,  1,1070115,     15,2,   70611,1547, 25.5900,-113.7800, 2998,     69.7,  15.0000,   33.6300,2,-999.0000,9,    226.3,2,    228.7,2,     4.36,2,     2.27,2,     0.13,2,     0.47,2,   2038.0,2,   2234.3,2,  14.9896
  32WC20070511,NACPWC,       13,   107,  1,1070116,     16,2,   70611,1549, 25.5900,-113.7800, 2998,     60.0,  15.8000,   33.6500,2,-999.0000,9,    246.1,2,    248.3,2,     2.74,2,     0.31,2,     0.03,2,     0.32,2,   2020.4,2,   2236.9,2,  15.7907
  32WC20070511,NACPWC,       13,   107,  1,1070117,     17,2,   70611,1550, 25.5900,-113.7800, 2998,     49.8,  16.1000,   33.6500,2,-999.0000,9,    251.3,2,    252.0,2,     2.54,2,     0.19,2,     0.02,2,     0.37,2,   2013.6,2,   2240.7,2,  16.0922
  32WC20070511,NACPWC,       13,   107,  1,1070118,     18,2,   70611,1551, 25.5900,-113.7800, 2998,     40.2,  16.3000,   33.6500,2,-999.0000,9,    250.5,2,    252.1,2,     2.55,2,     0.19,2,     0.02,2,     0.26,2,   2013.5,2,   2237.5,2,  16.2936
  32WC20070511,NACPWC,       13,   107,  1,1070119,     19,2,   70611,1553, 25.5900,-113.7800, 2998,     30.2,  16.6000,   33.6500,2,-999.0000,9,    249.3,2,    248.8,6,     2.84,2,     0.20,2,     0.01,2,     0.26,2,   2013.0,2,   2238.2,2,  16.5952
  32WC20070511,NACPWC,       13,   107,  1,1070120,     20,2,   70611,1554, 25.5900,-113.7800, 2998,     25.4,  16.6000,   33.6500,2,-999.0000,9,    249.1,2,    249.0,2,     2.83,2,     0.18,2,     0.01,2,     0.26,2,   2013.2,2,   2238.6,2,  16.5959
  32WC20070511,NACPWC,       13,   107,  1,1070121,     21,2,   70611,1555, 25.5900,-113.7800, 2998,     20.1,  16.6000,   33.6500,2,-999.0000,9,    248.9,2,    249.1,2,     2.82,2,     0.20,2,     0.01,2,     0.26,2,   2013.1,2,   2238.1,2,  16.5968
  32WC20070511,NACPWC,       13,   107,  1,1070122,     22,2,   70611,1556, 25.5900,-113.7800, 2998,     14.8,  16.6000,   33.6500,2,-999.0000,9,    248.7,2,    248.7,2,     2.84,2,     0.19,2,     0.01,2,     0.26,2,   2013.2,2,   2237.7,2,  16.5976
  32WC20070511,NACPWC,       13,   107,  1,1070123,     23,2,   70611,1557, 25.5900,-113.7800, 2998,     10.2,  16.6000,   33.6500,2,  33.6500,2,    248.5,2,    248.7,2,     2.83,2,     0.20,2,     0.01,2,     0.27,2,   2013.2,2,   2237.5,2,  16.5984
  32WC20070511,NACPWC,       13,   107,  1,1070124,     24,2,   70611,1558, 25.5900,-113.7800, 2998,      5.5,  16.6000,   33.6500,2,-999.0000,9,    248.2,2,    249.0,2,     2.84,2,     0.20,2,     0.01,2,     0.27,2,   2013.4,2,   2238.8,2,  16.5991
  32WC20070511,NACPWC,       13,   108,  1,1080101,      1,2,   70611,2108, 25.4200,-114.0900, 3287,   3309.9,   1.6000,   34.6800,2,  34.6800,2,    119.9,2,    119.6,2,   171.43,2,    37.87,2,     0.00,2,     2.63,2,   2358.8,6,   2429.4,6,   1.3506
  32WC20070511,NACPWC,       13,   108,  1,1080102,      2,2,   70611,2126, 25.4200,-114.0900, 3287,   2500.0,   1.9000,   34.6600,2,-999.0000,9,     99.2,2,     99.2,2,   163.74,2,    38.84,2,     0.00,2,     2.75,2,   2366.7,6,   2425.6,2,   1.7215
  32WC20070511,NACPWC,       13,   108,  1,1080103,      3,2,   70611,2148, 25.4200,-114.0900, 3287,   1499.1,   3.1000,   34.5900,2,-999.0000,9,     42.3,2,     42.7,2,   141.25,2,    42.50,2,     0.00,2,     3.11,2,   2372.6,2,   2395.7,2,   2.9910
  32WC20070511,NACPWC,       13,   108,  1,1080104,      4,2,   70611,2203, 25.4200,-114.0900, 3287,    799.8,   5.1000,   34.4700,2,-999.0000,9,      8.6,2,      9.2,2,    97.42,6,    43.03,6,     0.00,6,     3.18,6,   2345.7,2,   2344.9,2,   5.0339
  32WC20070511,NACPWC,       13,   108,  1,1080105,      5,2,   70611,2210, 25.4200,-114.0900, 3287,    500.3,   7.0000,   34.4100,2,-999.0000,9,      7.9,2,      8.0,2,    69.45,2,    36.12,2,     0.00,2,     2.96,2,   2311.5,2,   2311.8,2,   6.9526
  32WC20070511,NACPWC,       13,   108,  1,1080106,      6,2,   70611,2215, 25.4200,-114.0900, 3287,    349.2,   8.6000,   34.4400,2,-999.0000,9,     16.7,2,     16.0,2,    52.77,2,    31.16,2,     0.00,2,     2.74,2,   2286.2,2,   2297.4,2,   8.5630
  32WC20070511,NACPWC,       13,   108,  1,1080107,      7,2,   70611,2217, 25.4200,-114.0900, 3287,    299.1,   9.1000,   34.4200,2,-999.0000,9,     25.1,2,     25.4,2,    47.33,2,    29.69,2,     0.01,2,     2.61,2,   2273.4,2,   2291.6,2,   9.0673
  32WC20070511,NACPWC,       13,   108,  1,1080108,      8,2,   70611,2219, 25.4200,-114.0900, 3287,    249.9,  10.0000,   34.4500,2,-999.0000,9,     28.4,2,     27.7,6,    41.61,2,    27.66,2,     0.01,2,     2.52,2,   2263.5,2,   2289.6,2,   9.9711
  32WC20070511,NACPWC,       13,   108,  1,1080109,      9,2,   70611,2222, 25.4200,-114.0900, 3287,    199.8,  10.9000,   34.4200,2,-999.0000,9,     43.4,2,     40.4,2,    35.12,2,    26.32,2,     0.01,2,     2.36,2,   2244.0,2,   2280.9,2,  10.8757
  32WC20070511,NACPWC,       13,   108,  1,1080110,     10,2,   70611,2223, 25.4200,-114.0900, 3287,    174.2,  11.3000,   34.3800,2,-999.0000,9,     44.0,2,     44.6,2,    33.31,2,    25.46,2,     0.01,2,     2.30,2,   2237.9,2,   2275.8,2,  11.2783
  32WC20070511,NACPWC,       13,   108,  1,1080111,     11,2,   70611,2225, 25.4200,-114.0900, 3287,    149.9,  10.8000,   34.0700,2,-999.0000,9,     89.8,2,     91.6,2,    28.06,2,    23.17,2,     0.01,2,     1.93,2,   2194.3,2,   2254.4,2,  10.7820
  32WC20070511,NACPWC,       13,   108,  1,1080112,     12,2,   70611,2226, 25.4200,-114.0900, 3287,    130.6,  11.4000,   34.0000,2,-999.0000,9,     78.8,2,     83.4,2,    27.87,6,    22.73,6,     0.40,6,     1.93,6,   2194.6,2,   2246.8,2,  11.3838
  32WC20070511,NACPWC,       13,   108,  1,1080113,     13,2,   70611,2228, 25.4200,-114.0900, 3287,    110.1,  12.3000,   33.6900,2,-999.0000,9,    152.5,2,    154.3,2,    15.36,2,    14.07,2,     0.08,2,     1.20,2,   2119.8,2,   2230.3,2,  12.2856
  32WC20070511,NACPWC,       13,   108,  1,1080114,     14,2,   70611,2229, 25.4200,-114.0900, 3287,     89.7,  14.1000,   33.6400,2,-999.0000,9,    200.8,2,    197.4,2,     9.10,2,     6.73,2,     0.10,2,     0.71,2,   2075.8,2,   2230.5,2,  14.0872
  32WC20070511,NACPWC,       13,   108,  1,1080115,     15,2,   70611,2231, 25.4200,-114.0900, 3287,     69.6,  15.8000,   33.6700,2,-999.0000,9,    242.8,2,    240.0,2,     4.44,2,     0.52,2,     0.08,2,     0.43,2,   2031.4,2,   2239.2,2,  15.7892
  32WC20070511,NACPWC,       13,   108,  1,1080116,     16,2,   70611,2232, 25.4200,-114.0900, 3287,     59.9,  16.4000,   33.6700,2,-999.0000,9,    250.5,2,    250.6,2,     3.23,2,     0.07,2,     0.01,2,     0.28,2,   2019.4,2,   2239.0,2,  16.3905
  32WC20070511,NACPWC,       13,   108,  1,1080117,     17,2,   70611,2233, 25.4200,-114.0900, 3287,     49.6,  16.5000,   33.6700,2,-999.0000,9,    250.7,2,    250.8,2,     3.46,2,     0.07,2,     0.00,2,     0.26,2,   2016.9,2,   2239.8,2,  16.4921
  32WC20070511,NACPWC,       13,   108,  1,1080118,     18,2,   70611,2234, 25.4200,-114.0900, 3287,     40.0,  16.8000,   33.6800,2,-999.0000,9,    248.4,2,    248.9,6,     3.53,2,     0.08,2,     0.00,2,     0.26,2,   2016.1,2,   2239.1,2,  16.7935
  32WC20070511,NACPWC,       13,   108,  1,1080119,     19,2,   70611,2235, 25.4200,-114.0900, 3287,     29.9,  16.9000,   33.6800,2,-999.0000,9,    248.1,2,    248.1,2,     3.58,2,     0.08,2,     0.00,2,     0.25,2,   2016.6,2,   2241.4,2,  16.8952
  32WC20070511,NACPWC,       13,   108,  1,1080120,     20,2,   70611,2236, 25.4200,-114.0900, 3287,     24.5,  17.1000,   33.6900,2,-999.0000,9,    246.8,2,    247.4,2,     3.55,2,     0.08,2,     0.00,2,     0.24,2,   2017.3,2,   2239.0,2,  17.0960
  32WC20070511,NACPWC,       13,   108,  1,1080121,     21,2,   70611,2237, 25.4200,-114.0900, 3287,     20.5,  17.1000,   33.7000,2,-999.0000,9,    246.6,2,    246.8,2,     3.56,2,     0.09,2,     0.00,2,     0.24,2,   2018.8,2,   2239.4,2,  17.0966
  32WC20070511,NACPWC,       13,   108,  1,1080122,     22,2,   70611,2238, 25.4200,-114.0900, 3287,     14.5,  17.1000,   33.7000,2,-999.0000,9,    246.3,2,    246.4,2,     3.58,2,     0.09,2,     0.00,2,     0.24,2,   2018.5,2,   2241.6,2,  17.0976
  32WC20070511,NACPWC,       13,   108,  1,1080123,     23,2,   70611,2244, 25.4200,-114.0900, 3287,     10.1,  17.3000,   33.7100,2,-999.0000,9,    244.5,2,    245.5,2,     3.55,2,     0.10,2,     0.00,2,     0.23,2,   2016.0,2,   2243.0,2,  17.2983
  32WC20070511,NACPWC,       13,   108,  1,1080124,     24,2,   70611,2245, 25.4200,-114.0900, 3287,      5.2,  17.6000,   33.7300,2,  33.7200,2,    242.8,2,    243.9,2,     3.55,2,     0.10,2,     0.00,2,     0.22,2,   2017.7,2,   2240.8,2,  17.5991
  32WC20070511,NACPWC,       13,   109,  1,1090101,      1,2,   70612,0334, 25.2500,-114.4100, 3521,    109.6,  13.6000,   34.0100,2,-999.0000,9,     99.3,2,    105.6,6,    18.63,6,    17.60,6,     0.03,6,     1.67,6,   2167.7,6,   2252.6,2,  13.5847
  32WC20070511,NACPWC,       13,   109,  1,1090102,      2,2,   70612,0337, 25.2500,-114.4100, 3521,     89.8,  15.2000,   33.9000,2,-999.0000,9,    171.2,2,    173.2,2,     9.93,2,     8.21,2,     0.05,2,     0.98,2,   2100.6,2,   2245.8,2,  15.1864
  32WC20070511,NACPWC,       13,   109,  1,1090103,      3,2,   70612,0338, 25.2500,-114.4100, 3521,     69.7,  17.2000,   34.0200,2,-999.0000,9,    228.2,2,    223.2,2,     4.83,2,     0.87,2,     0.12,2,     0.44,2,   2048.2,2,   2261.2,2,  17.1885
  32WC20070511,NACPWC,       13,   109,  1,1090104,      4,2,   70612,0339, 25.2500,-114.4100, 3521,     59.7,  17.0000,   33.8200,2,-999.0000,9,    244.0,2,    242.4,2,     3.74,2,     0.14,2,     0.01,2,     0.27,2,   2027.5,2,   2248.3,2,  16.9903
  32WC20070511,NACPWC,       13,   109,  1,1090105,      5,2,   70612,0340, 25.2500,-114.4100, 3521,     50.1,  17.4000,   33.8400,2,-999.0000,9,    246.4,2,    245.6,2,     3.49,2,     0.12,2,     0.00,2,     0.24,2,   2022.2,2,   2251.5,2,  17.3917
  32WC20070511,NACPWC,       13,   109,  1,1090106,      6,2,   70612,0342, 25.2500,-114.4100, 3521,     39.5,  17.8000,   33.7400,2,-999.0000,9,    243.4,2,    242.4,2,     3.46,2,     0.12,2,     0.00,2,     0.20,2,   2020.7,2,   2243.8,2,  17.7933
  32WC20070511,NACPWC,       13,   109,  1,1090107,      7,2,   70612,0343, 25.2500,-114.4100, 3521,     29.6,  17.9000,   33.7500,2,-999.0000,9,    242.1,2,    241.8,2,     3.46,2,     0.12,2,     0.00,2,     0.20,2,   2018.3,2,   2248.5,2,  17.8950
  32WC20070511,NACPWC,       13,   109,  1,1090108,      8,2,   70612,0344, 25.2500,-114.4100, 3521,     25.0,  18.0000,   33.7600,2,-999.0000,9,    241.0,2,    241.4,2,     3.42,2,     0.12,2,     0.00,2,     0.20,2,   2017.6,2,   2244.3,2,  17.9958
  32WC20070511,NACPWC,       13,   109,  1,1090109,      9,2,   70612,0345, 25.2500,-114.4100, 3521,     20.1,  18.0000,   33.7600,2,-999.0000,9,    240.6,2,    240.2,2,     3.43,2,     0.12,2,     0.00,2,     0.21,2,   2018.8,2,   2244.6,2,  17.9966
  32WC20070511,NACPWC,       13,   109,  1,1090110,     10,2,   70612,0346, 25.2500,-114.4100, 3521,     15.1,  18.0000,   33.7600,2,  33.7600,2,    240.6,2,    240.5,2,     3.45,2,     0.11,2,     0.00,2,     0.20,2,   2018.0,2,   2243.8,2,  17.9974
  32WC20070511,NACPWC,       13,   109,  1,1090111,     11,2,   70612,0347, 25.2500,-114.4100, 3521,     10.1,  18.3000,   33.7700,2,-999.0000,9,    239.6,2,    240.4,2,     3.39,2,     0.11,2,     0.00,2,     0.21,2,   2017.3,2,   2247.2,2,  18.2983
  32WC20070511,NACPWC,       13,   109,  1,1090112,     12,2,   70612,0348, 25.2500,-114.4100, 3521,      4.8,  18.6000,   33.7900,2,-999.0000,9,    238.4,2,    239.3,2,     3.39,2,     0.09,2,     0.00,2,     0.21,2,   2018.6,2,   2245.2,2,  18.5992
  32WC20070511,NACPWC,       13,   109,  2,1090201,      1,2,   70612,0543, 25.2500,-114.4100, 3521,   2999.9,   1.7000,   34.6700,2,  34.6700,2,    115.0,2,    114.9,2,   170.86,6,    38.28,6,     0.00,6,     2.74,6,   2363.2,6,   2434.4,6,   1.4788
  32WC20070511,NACPWC,       13,   109,  2,1090202,      2,4,   70612,0558, 25.2500,-114.4100, 3521,   2500.5,   1.9000,   34.6600,2,-999.0000,9,    101.3,2,   -999.0,9,  -999.00,9,  -999.00,9,  -999.00,9,  -999.00,9,   -999.0,9,   -999.0,9,   1.7215
  32WC20070511,NACPWC,       13,   109,  2,1090203,      3,2,   70612,0623, 25.2500,-114.4100, 3521,   1500.0,   3.1000,   34.5900,2,-999.0000,9,     42.3,2,     42.2,2,   142.31,2,    42.93,2,     0.00,2,     3.19,2,   2379.5,2,   2398.4,2,   2.9910
  32WC20070511,NACPWC,       13,   109,  2,1090204,      4,2,   70612,0636, 25.2500,-114.4100, 3521,    799.4,   5.4000,   34.4800,2,-999.0000,9,      6.6,2,      7.8,2,    94.04,6,    42.73,6,     0.00,6,     3.21,6,   2346.8,2,   2345.6,2,   5.3321
  32WC20070511,NACPWC,       13,   109,  2,1090205,      5,2,   70612,0642, 25.2500,-114.4100, 3521,    499.7,   7.5000,   34.4500,2,-999.0000,9,      6.5,2,      7.2,2,    67.23,2,    35.02,2,     0.00,2,     3.05,2,   2311.5,2,   2313.1,2,   7.4507
  32WC20070511,NACPWC,       13,   109,  2,1090206,      6,2,   70612,0646, 25.2500,-114.4100, 3521,    349.6,   9.6000,   34.5500,2,-999.0000,9,      5.3,2,      6.7,2,    48.69,2,    28.63,2,     0.00,2,     2.80,2,   2290.5,2,   2304.4,2,   9.5604
  32WC20070511,NACPWC,       13,   109,  2,1090207,      7,2,   70612,0648, 25.2500,-114.4100, 3521,    300.2,  10.3000,   34.5900,2,-999.0000,9,     11.8,2,      6.6,6,    44.28,2,    26.94,2,     0.01,2,     2.76,2,   2279.9,2,   2301.8,2,  10.2645
  32WC20070511,NACPWC,       13,   109,  2,1090208,      8,4,   70612,0650, 25.2500,-114.4100, 3521,    249.8,  10.8000,   34.5500,2,-999.0000,9,     17.9,2,   -999.0,9,  -999.00,9,  -999.00,9,  -999.00,9,  -999.00,9,   -999.0,9,   -999.0,9,  10.7696
  32WC20070511,NACPWC,       13,   109,  2,1090209,      9,2,   70612,0652, 25.2500,-114.4100, 3521,    199.6,  11.3000,   34.4400,2,-999.0000,9,     37.1,2,     39.3,2,    34.75,2,    25.75,2,     0.01,2,     2.41,2,   2241.4,2,   2281.3,2,  11.2751
  32WC20070511,NACPWC,       13,   109,  2,1090210,     10,2,   70612,0654, 25.2500,-114.4100, 3521,    174.7,  11.4000,   34.3300,2,-999.0000,9,     41.8,2,     54.7,2,    31.74,2,    24.77,2,     0.01,2,     2.27,2,   2226.2,2,   2274.4,2,  11.3781
  32WC20070511,NACPWC,       13,   109,  2,1090211,     11,2,   70612,0655, 25.2500,-114.4100, 3521,    150.3,  12.3000,   34.3300,2,-999.0000,9,     49.7,2,     58.6,2,    28.75,2,    23.93,2,     0.01,2,     2.20,2,   2221.7,2,   2266.9,2,  12.2802
  32WC20070511,NACPWC,       13,   109,  2,1090212,     12,2,   70612,0657, 25.2500,-114.4100, 3521,    130.0,  12.9000,   34.1800,2,-999.0000,9,     82.4,2,     72.2,2,    24.00,2,    21.68,2,     0.02,2,     2.02,2,   2197.7,2,   2263.0,2,  12.8824