BOTTLE,20120405PRINUNIVRMK
EXPOCODE,SECT_ID,LINE,STNNBR,CASTNO,SAMPNO,BTLNBR,BTLNBR_FLAG_W,DATE,TIME,LATITUDE,LONGITUDE,DEPTH,CTDPRS,CTDTMP,CTDSAL,CTDSAL_FLAG_W,SALNTY,SALNTY_FLAG_W,CTDOXY,CTDOXY_FLAG_W,OXYGEN,OXYGEN_FLAG_W,SILCAT,SILCAT_FLAG_W,NITRAT,NITRAT_FLAG_W,NITRIT,NITRIT_FLAG_W,PHSPHT,PHSPHT_FLAG_W,TCARBN,TCARBN_FLAG_W,ALKALI,ALKALI_FLAG_W,THETA
,,,,,,,,,,,,METERS,DBAR,ITS-90,PSS-78,,PSS-78,,UMOL/KG,,UMOL/KG,,UMOL/KG,,UMOL/KG,,UMOL/KG,,UMOL/KG,,UMOL/KG,,UMOL/KG,,DEG C
  32WC20070511,NACPWC,        7,    50,  1, 500101,      1,2,   70527,0606, 37.6300,-125.0700, 4171,   4199.0,   1.5000,   34.6900,2,  34.6900,6,    142.5,2,    141.8,2,   168.06,6,    35.48,6,     0.00,6,     2.52,6,   2344.4,6,   2427.1,6,   1.1591
  32WC20070511,NACPWC,        7,    50,  1, 500102,      2,2,   70527,0624, 37.6300,-125.0700, 4171,   3500.1,   1.5000,   34.6800,2,-999.0000,9,    123.3,2,    123.9,2,   176.37,2,    38.35,2,     0.00,2,     2.65,2,   2358.5,6,   2427.5,2,   1.2338
  32WC20070511,NACPWC,        7,    50,  1, 500103,      3,2,   70527,0648, 37.6300,-125.0700, 4171,   2500.0,   1.8000,   34.6500,2,-999.0000,9,     93.2,2,     93.6,2,   175.52,2,    39.72,2,     0.00,2,     2.81,2,   2373.0,2,   2422.1,2,   1.6234
  32WC20070511,NACPWC,        7,    50,  1, 500104,      4,2,   70527,0710, 37.6300,-125.0700, 4171,   1499.1,   2.7000,   34.5500,2,-999.0000,9,     40.2,2,     41.1,2,   154.29,2,    42.61,2,     0.00,2,     3.08,2,   2383.5,2,   2397.9,2,   2.5957
  32WC20070511,NACPWC,        7,    50,  1, 500105,      5,2,   70527,0727, 37.6300,-125.0700, 4171,    801.4,   4.2000,   34.3300,2,-999.0000,9,      9.1,2,      9.1,2,   113.88,6,    43.46,6,     0.01,6,     3.17,6,   2357.4,2,   2344.8,2,   4.1395
  32WC20070511,NACPWC,        7,    50,  1, 500106,      6,2,   70527,0735, 37.6300,-125.0700, 4171,    499.6,   5.5000,   34.1100,2,-999.0000,9,     38.8,2,     38.7,2,    77.99,2,    39.77,2,     0.00,2,     2.83,2,   2299.4,2,   2295.0,2,   5.4586
  32WC20070511,NACPWC,        7,    50,  1, 500107,      7,2,   70527,0739, 37.6300,-125.0700, 4171,    349.2,   7.0000,   34.0700,2,-999.0000,9,     67.2,2,     67.2,2,    55.39,2,    34.33,2,     0.01,2,     2.48,2,   2255.9,2,   2275.6,2,   6.9674
  32WC20070511,NACPWC,        7,    50,  1, 500108,      8,2,   70527,0743, 37.6300,-125.0700, 4171,    250.6,   8.2000,   34.0300,2,-999.0000,9,     99.0,2,    100.3,2,    39.52,2,    28.75,2,     0.01,2,     2.10,2,   2213.7,2,   2258.6,2,   8.1745
  32WC20070511,NACPWC,        7,    50,  1, 500109,      9,2,   70527,0745, 37.6300,-125.0700, 4171,    200.3,   8.8000,   33.9400,2,-999.0000,9,    118.8,2,    116.0,2,    31.98,2,    25.65,2,     0.01,2,     1.93,2,   2191.1,2,   2248.0,2,   8.7788
  32WC20070511,NACPWC,        7,    50,  1, 500110,     10,2,   70527,0747, 37.6300,-125.0700, 4171,    172.7,   9.2000,   33.7900,2,-999.0000,9,    131.9,2,    134.8,6,    26.70,6,    23.17,6,     0.02,6,     1.75,6,   2168.2,2,   2240.3,2,   9.1813
  32WC20070511,NACPWC,        7,    50,  1, 500111,     11,2,   70527,0749, 37.6300,-125.0700, 4171,    149.7,   9.6000,   33.5000,2,-999.0000,9,    181.9,2,    172.4,2,    21.77,2,    19.69,2,     0.01,2,     1.56,2,   2134.2,2,   2222.3,2,   9.5834
  32WC20070511,NACPWC,        7,    50,  1, 500112,     12,2,   70527,0750, 37.6300,-125.0700, 4171,    129.9,  10.4000,   33.0800,2,-999.0000,9,    231.2,2,    231.9,2,    12.48,2,    10.99,2,     0.02,2,     1.05,2,   2068.0,2,   2202.3,2,  10.3850
  32WC20070511,NACPWC,        7,    50,  1, 500113,     13,2,   70527,0752, 37.6300,-125.0700, 4171,    109.6,  10.8000,   32.7500,2,-999.0000,9,    257.6,2,    259.2,2,     7.60,2,     5.53,2,     0.05,2,     0.73,2,   2031.3,2,   2183.1,2,  10.7871
  32WC20070511,NACPWC,        7,    50,  1, 500114,     14,2,   70527,0754, 37.6300,-125.0700, 4171,     90.1,  12.0000,   32.7500,2,-999.0000,9,    268.1,2,    265.2,2,     5.82,2,     2.10,2,     0.24,2,     0.52,2,   2013.9,2,   2195.4,2,  11.9886
  32WC20070511,NACPWC,        7,    50,  1, 500115,     15,2,   70527,0755, 37.6300,-125.0700, 4171,     70.3,  12.5000,   32.6500,2,-999.0000,9,    271.7,2,    271.7,6,     4.59,2,     0.99,2,     0.05,2,     0.41,2,   1998.5,2,   2189.1,2,  12.4908
  32WC20070511,NACPWC,        7,    50,  1, 500116,     16,2,   70527,0757, 37.6300,-125.0700, 4171,     59.4,  12.9000,   32.6900,2,-999.0000,9,    270.5,2,    269.6,2,     3.52,2,     0.69,2,     0.02,2,     0.37,2,   1996.6,2,   2190.2,2,  12.8921
  32WC20070511,NACPWC,        7,    50,  1, 500117,     17,2,   70527,0758, 37.6300,-125.0700, 4171,     49.9,  13.1000,   32.7100,2,-999.0000,9,    270.6,2,    269.8,2,     3.15,2,     0.57,2,     0.01,2,     0.34,2,   1993.0,2,   2189.4,2,  13.0933
  32WC20070511,NACPWC,        7,    50,  1, 500118,     18,2,   70527,0759, 37.6300,-125.0700, 4171,     40.2,  13.2000,   32.7100,2,-999.0000,9,    270.7,2,    271.5,2,     3.15,2,     0.55,2,     0.00,2,     0.32,2,   1991.8,2,   2189.9,2,  13.1946
  32WC20070511,NACPWC,        7,    50,  1, 500119,     19,2,   70527,0801, 37.6300,-125.0700, 4171,     30.0,  13.2000,   32.7100,2,-999.0000,9,    270.3,2,    271.2,2,     3.15,2,     0.55,2,     0.00,2,     0.32,2,   1991.6,2,   2190.7,2,  13.1959
  32WC20070511,NACPWC,        7,    50,  1, 500120,     20,2,   70527,0802, 37.6300,-125.0700, 4171,     25.8,  13.2000,   32.7100,2,-999.0000,9,    270.0,2,    271.3,2,     3.15,2,     0.56,2,     0.00,2,     0.31,2,   1992.4,2,   2188.8,2,  13.1965
  32WC20070511,NACPWC,        7,    50,  1, 500121,     21,2,   70527,0803, 37.6300,-125.0700, 4171,     19.8,  13.2000,   32.7100,2,-999.0000,9,    269.9,2,    271.6,2,     3.10,2,     0.55,2,     0.00,2,     0.34,2,   1993.0,2,   2183.5,2,  13.1973
  32WC20070511,NACPWC,        7,    50,  1, 500122,     22,2,   70527,0804, 37.6300,-125.0700, 4171,     14.2,  13.2000,   32.7100,2,-999.0000,9,    269.6,2,    271.7,2,     3.02,2,     0.55,2,     0.00,2,     0.31,2,   1994.6,2,   2189.7,2,  13.1981
  32WC20070511,NACPWC,        7,    50,  1, 500123,     23,2,   70527,0805, 37.6300,-125.0700, 4171,      9.3,  13.2000,   32.7100,2,  32.7100,2,    269.5,2,    272.1,2,     3.01,2,     0.55,2,     0.00,2,     0.31,2,   1991.8,2,   2191.0,2,  13.1987
  32WC20070511,NACPWC,        7,    50,  1, 500124,     24,2,   70527,0806, 37.6300,-125.0700, 4171,      5.0,  13.2000,   32.7100,2,-999.0000,9,    269.4,2,    271.4,2,     2.99,2,     0.55,2,     0.00,2,     0.30,2,   1989.1,2,   2190.0,2,  13.1993
  32WC20070511,NACPWC,        7,    51,  1, 510101,      1,2,   70527,1433, 37.9700,-124.3500, 3859,   3889.9,   1.5000,   34.6900,2,  34.6900,6,    132.1,2,    145.1,2,   176.87,6,    36.53,6,     0.01,6,     2.60,6,   2354.9,6,   2431.7,6,   1.1929
  32WC20070511,NACPWC,        7,    51,  1, 510102,      2,2,   70527,1454, 37.9700,-124.3500, 3859,   2998.8,   1.6000,   34.6700,2,-999.0000,9,    111.9,2,    112.1,2,   174.86,2,    38.15,2,     0.00,2,     2.69,2,   2363.9,6,   2426.6,2,   1.3811
  32WC20070511,NACPWC,        7,    51,  1, 510103,      3,2,   70527,1517, 37.9700,-124.3500, 3859,   2000.9,   2.0000,   34.6100,2,-999.0000,9,     71.0,2,     71.4,2,   174.82,2,    38.27,2,     0.00,2,     2.67,2,   2378.6,2,   2413.4,2,   1.8635
  32WC20070511,NACPWC,        7,    51,  1, 510104,      4,2,   70527,1529, 37.9700,-124.3500, 3859,   1501.2,   2.7000,   34.5500,2,-999.0000,9,     39.5,2,     40.3,2,   154.85,2,    43.39,2,     0.00,2,     3.04,2,   2379.5,2,   2394.2,2,   2.5956
  32WC20070511,NACPWC,        7,    51,  1, 510105,      5,2,   70527,1546, 37.9700,-124.3500, 3859,    801.0,   4.2000,   34.3500,2,-999.0000,9,      9.5,2,     10.1,2,   154.97,2,    43.85,2,     0.00,2,     3.05,2,   2357.0,2,   2338.8,2,   4.1396
  32WC20070511,NACPWC,        7,    51,  1, 510106,      6,2,   70527,1554, 37.9700,-124.3500, 3859,    499.7,   5.2000,   34.1200,2,-999.0000,9,     33.3,2,     32.6,2,    84.42,6,    40.17,6,     0.01,6,     2.93,6,   2308.3,2,   2301.3,2,   5.1597
  32WC20070511,NACPWC,        7,    51,  1, 510107,      7,2,   70527,1559, 37.9700,-124.3500, 3859,    351.0,   6.2000,   34.0300,2,-999.0000,9,     65.9,2,     64.6,2,    63.32,2,    35.85,2,     0.01,2,     2.57,2,   2265.8,2,   2278.0,2,   6.1694
  32WC20070511,NACPWC,        7,    51,  1, 510108,      8,2,   70527,1602, 37.9700,-124.3500, 3859,    250.9,   7.5000,   33.9800,2,-999.0000,9,    108.9,2,    107.9,2,    43.33,2,    29.52,2,     0.01,2,     2.12,2,   2215.3,2,   2256.5,2,   7.4758
  32WC20070511,NACPWC,        7,    51,  1, 510109,      9,2,   70527,1605, 37.9700,-124.3500, 3859,    201.0,   8.1000,   33.9100,2,-999.0000,9,    128.0,2,    129.2,2,    35.50,2,    27.02,2,     0.01,2,     1.92,2,   2190.9,2,   2245.7,2,   8.0798
  32WC20070511,NACPWC,        7,    51,  1, 510110,     10,2,   70527,1606, 37.9700,-124.3500, 3859,    173.9,   8.4000,   33.7800,2,-999.0000,9,    141.8,2,    140.7,2,    31.64,2,    25.66,2,     0.02,2,     1.84,2,   2175.1,2,   2237.6,2,   8.3822
  32WC20070511,NACPWC,        7,    51,  1, 510111,     11,2,   70527,1608, 37.9700,-124.3500, 3859,    152.1,   8.7000,   33.6200,2,-999.0000,9,    157.9,2,    164.3,2,    26.17,2,    21.82,2,     0.02,2,     1.67,2,   2150.6,2,   2227.7,2,   8.6842
  32WC20070511,NACPWC,        7,    51,  1, 510112,     12,2,   70527,1610, 37.9700,-124.3500, 3859,    129.7,   9.0000,   33.3800,2,-999.0000,9,    187.3,2,    188.6,6,    21.25,2,    18.46,2,     0.03,2,     1.46,2,   2122.8,2,   2217.9,2,   8.9863
  32WC20070511,NACPWC,        7,    51,  1, 510113,     13,2,   70527,1611, 37.9700,-124.3500, 3859,    110.4,   9.9000,   33.1600,2,-999.0000,9,    219.1,2,    225.1,2,    21.23,2,    15.75,2,     0.23,2,     1.35,2,   2103.8,2,   2220.4,2,   9.8876
  32WC20070511,NACPWC,        7,    51,  1, 510114,     14,2,   70527,1613, 37.9700,-124.3500, 3859,     91.2,  10.0000,   32.8800,2,-999.0000,9,    237.8,2,    248.1,2,     9.92,2,     8.85,2,     0.04,2,     0.91,2,   2048.6,2,   2189.1,2,   9.9898
  32WC20070511,NACPWC,        7,    51,  1, 510115,     15,2,   70527,1614, 37.9700,-124.3500, 3859,     70.4,  11.1000,   32.7100,2,-999.0000,9,    266.5,2,    271.0,2,     6.03,2,     3.02,2,     0.45,2,     0.57,2,   2015.9,2,   2196.6,2,  11.0915
  32WC20070511,NACPWC,        7,    51,  1, 510116,     16,2,   70527,1616, 37.9700,-124.3500, 3859,     60.2,  11.4000,   32.6800,2,-999.0000,9,    269.9,2,    272.5,2,     8.67,2,     3.81,2,     0.23,2,     0.58,2,   2018.3,2,   2177.4,2,  11.3926
  32WC20070511,NACPWC,        7,    51,  1, 510117,     17,2,   70527,1617, 37.9700,-124.3500, 3859,     49.8,  11.5000,   32.6600,2,-999.0000,9,    269.4,2,    274.1,2,     8.90,2,     3.77,2,     0.19,2,     0.57,2,   2016.6,2,   2190.8,2,  11.4939
  32WC20070511,NACPWC,        7,    51,  1, 510118,     18,2,   70527,1618, 37.9700,-124.3500, 3859,     41.5,  11.8000,   32.6300,2,-999.0000,9,    271.4,2,    275.7,2,     7.53,2,     2.66,2,     0.16,2,     0.48,2,   2008.0,2,   2186.9,2,  11.7948
  32WC20070511,NACPWC,        7,    51,  1, 510119,     19,2,   70527,1620, 37.9700,-124.3500, 3859,     29.4,  12.1000,   32.6200,2,-999.0000,9,    274.9,2,    278.7,2,     6.38,2,     1.73,2,     0.11,2,     0.40,2,   1997.2,2,   2186.5,2,  12.0963
  32WC20070511,NACPWC,        7,    51,  1, 510120,     20,2,   70527,1621, 37.9700,-124.3500, 3859,     25.7,  12.1000,   32.6200,2,-999.0000,9,    274.9,2,    277.4,6,     6.35,2,     1.72,2,     0.10,2,     0.40,2,   1999.4,2,   2187.2,2,  12.0967
  32WC20070511,NACPWC,        7,    51,  1, 510121,     21,2,   70527,1622, 37.9700,-124.3500, 3859,     19.7,  12.1000,   32.6200,2,-999.0000,9,    274.7,2,    276.4,2,     6.27,2,     1.65,2,     0.10,2,     0.39,2,   1999.5,2,   2185.1,2,  12.0975
  32WC20070511,NACPWC,        7,    51,  1, 510122,     22,2,   70527,1623, 37.9700,-124.3500, 3859,     13.9,  12.1000,   32.6200,2,-999.0000,9,    274.4,2,    276.7,2,     6.31,2,     1.64,2,     0.09,2,     0.39,2,   1998.7,2,   2187.2,2,  12.0982
  32WC20070511,NACPWC,        7,    51,  1, 510123,     23,2,   70527,1624, 37.9700,-124.3500, 3859,      9.7,  12.1000,   32.6200,2,  32.6200,2,    274.3,2,    278.7,2,     6.30,2,     1.65,2,     0.09,2,     0.39,2,   1997.3,2,   2187.1,2,  12.0988
  32WC20070511,NACPWC,        7,    51,  1, 510124,     24,2,   70527,1625, 37.9700,-124.3500, 3859,      4.4,  12.1000,   32.6200,2,-999.0000,9,    274.1,2,    293.6,2,     6.33,2,     1.69,2,     0.09,2,     0.39,2,   2000.4,2,   2188.8,2,  12.0994
  32WC20070511,NACPWC,        7,    52,  1, 520101,      1,2,   70527,2011, 38.1400,-123.9800, 3605,    400.2,   6.0000,   34.1200,2,  34.1200,2,     41.3,2,     40.8,2,    72.15,6,    38.05,6,     0.01,6,     2.77,6,   2291.8,6,   2295.6,2,   5.9656
  32WC20070511,NACPWC,        7,    52,  1, 520102,      2,2,   70527,2014, 38.1400,-123.9800, 3605,    353.4,   6.3000,   34.0800,2,-999.0000,9,     53.2,2,     52.6,2,    65.49,6,    36.75,6,     0.01,6,     2.64,6,   2276.1,2,   2282.6,2,   6.2689
  32WC20070511,NACPWC,        7,    52,  1, 520103,      3,2,   70527,2017, 38.1400,-123.9800, 3605,    276.0,   6.8000,   34.0200,2,-999.0000,9,     81.8,2,     81.4,2,    55.06,2,    34.10,2,     0.01,2,     2.38,2,   2244.6,2,   2267.7,2,   6.7748
  32WC20070511,NACPWC,        7,    52,  1, 520104,      4,2,   70527,2019, 38.1400,-123.9800, 3605,    251.6,   7.2000,   34.0200,2,-999.0000,9,     83.4,2,     86.6,2,    50.51,2,    32.52,2,     0.01,2,     2.32,2,   2239.3,2,   2268.0,2,   7.1763
  32WC20070511,NACPWC,        7,    52,  1, 520105,      5,2,   70527,2021, 38.1400,-123.9800, 3605,    225.2,   7.6000,   34.0300,2,-999.0000,9,     92.6,2,     90.8,2,    46.55,2,    30.91,2,     0.03,2,     2.24,2,   2231.5,2,   2259.5,2,   7.5782
  32WC20070511,NACPWC,        7,    52,  1, 520106,      6,2,   70527,2023, 38.1400,-123.9800, 3605,    200.4,   7.8000,   33.9800,2,-999.0000,9,    106.5,2,    106.5,2,    41.17,6,    28.95,6,     0.03,6,     2.09,6,   2215.2,2,   2253.0,2,   7.7803
  32WC20070511,NACPWC,        7,    52,  1, 520107,      7,2,   70527,2025, 38.1400,-123.9800, 3605,    176.9,   8.1000,   33.9400,2,-999.0000,9,    120.9,2,    121.5,2,    37.28,2,    27.97,2,     0.05,2,     2.00,2,   2201.1,2,   2246.8,2,   8.0823
  32WC20070511,NACPWC,        7,    52,  1, 520108,      8,2,   70527,2027, 38.1400,-123.9800, 3605,    150.2,   8.3000,   33.8900,2,-999.0000,9,    129.3,2,    127.2,2,    34.55,2,    26.92,2,     0.04,2,     1.94,2,   2191.9,2,   2243.2,2,   8.2848
  32WC20070511,NACPWC,        7,    52,  1, 520109,      9,2,   70527,2028, 38.1400,-123.9800, 3605,    130.6,   8.5000,   33.8500,2,-999.0000,9,    139.4,2,    139.0,2,    32.73,2,    25.74,2,     0.03,2,     1.89,2,   2184.9,2,   2240.8,2,   8.4866
  32WC20070511,NACPWC,        7,    52,  1, 520110,     10,2,   70527,2029, 38.1400,-123.9800, 3605,    110.8,   8.9000,   33.7300,2,-999.0000,9,    151.6,2,    155.5,2,    28.62,2,    23.93,2,     0.03,2,     1.78,2,   2169.4,2,   2234.7,2,   8.8883
  32WC20070511,NACPWC,        7,    52,  1, 520111,     11,2,   70527,2030, 38.1400,-123.9800, 3605,     88.9,   9.3000,   33.6700,2,-999.0000,9,    190.3,2,    191.1,6,    27.90,6,    21.95,6,     0.16,6,     1.70,6,   2159.6,2,   2233.4,2,   9.2904
  32WC20070511,NACPWC,        7,    52,  1, 520112,     12,2,   70527,2032, 38.1400,-123.9800, 3605,     71.5,   9.5000,   33.6100,2,-999.0000,9,    215.1,2,    211.8,2,    26.99,2,    21.26,2,     0.24,2,     1.64,2,   2149.9,2,   2232.6,2,   9.4922
  32WC20070511,NACPWC,        7,    52,  1, 520113,     13,2,   70527,2033, 38.1400,-123.9800, 3605,     59.9,   9.7000,   33.5500,2,-999.0000,9,    231.5,2,    228.0,2,    25.76,2,    19.40,2,     0.25,2,     1.55,2,   2135.6,2,   2229.8,2,   9.6934
  32WC20070511,NACPWC,        7,    52,  1, 520114,     14,2,   70527,2034, 38.1400,-123.9800, 3605,     50.9,   9.9000,   33.5000,2,-999.0000,9,    213.8,2,    233.5,2,    24.80,2,    18.48,2,     0.25,2,     1.50,2,   2128.9,2,   2226.1,2,   9.8943
  32WC20070511,NACPWC,        7,    52,  1, 520115,     15,2,   70527,2035, 38.1400,-123.9800, 3605,     40.1,   9.5000,   33.3300,2,-999.0000,9,    209.8,2,    209.6,2,    21.81,2,    17.84,2,     0.19,2,     1.45,2,   2120.5,2,   2212.7,2,   9.4956
  32WC20070511,NACPWC,        7,    52,  1, 520116,     16,2,   70527,2036, 38.1400,-123.9800, 3605,     29.6,  10.4000,   33.3400,2,-999.0000,9,    254.4,2,    254.6,2,    21.46,2,    15.06,2,     0.21,2,     1.29,2,   2099.7,2,   2218.4,2,  10.3966
  32WC20070511,NACPWC,        7,    52,  1, 520117,     17,2,   70527,2037, 38.1400,-123.9800, 3605,     24.9,  10.4000,   33.3400,2,-999.0000,9,    256.5,2,    256.9,2,    21.46,2,    15.38,2,     0.19,2,     1.28,2,   2098.5,2,   2219.1,2,  10.3971
  32WC20070511,NACPWC,        7,    52,  1, 520118,     18,4,   70527,2038, 38.1400,-123.9800, 3605,     22.3,  10.5000,   33.3500,2,-999.0000,9,    260.1,2,    262.2,2,    21.45,2,    15.00,2,     0.18,2,     1.27,2,   2094.2,2,   2219.0,2,  10.4974
  32WC20070511,NACPWC,        7,    52,  1, 520119,     19,2,   70527,2039, 38.1400,-123.9800, 3605,     15.8,  10.6000,   33.3500,2,-999.0000,9,    262.1,2,    262.6,2,    21.42,2,    14.76,2,     0.17,2,     1.27,2,   2094.8,2,   2218.6,2,  10.5982
  32WC20070511,NACPWC,        7,    52,  1, 520120,     20,2,   70527,2039, 38.1400,-123.9800, 3605,     15.6,  10.6000,   33.3500,2,-999.0000,9,    262.1,2,    262.1,2,    21.40,2,    14.73,2,     0.17,2,     1.27,2,   -999.0,9,   -999.0,9,  10.5982
  32WC20070511,NACPWC,        7,    52,  1, 520121,     21,2,   70527,2040, 38.1400,-123.9800, 3605,     10.6,  10.5000,   33.3500,2,-999.0000,9,    260.3,2,    261.8,6,    21.40,2,    14.67,2,     0.17,2,     1.26,2,   2094.1,2,   2219.2,6,  10.4988
  32WC20070511,NACPWC,        7,    52,  1, 520122,     22,2,   70527,2040, 38.1400,-123.9800, 3605,     10.6,  10.6000,   33.3500,2,-999.0000,9,    261.7,2,    262.2,2,    21.40,2,    14.58,2,     0.17,2,     1.27,2,   -999.0,9,   -999.0,9,  10.5988
  32WC20070511,NACPWC,        7,    52,  1, 520123,     23,2,   70527,2041, 38.1400,-123.9800, 3605,     10.3,  10.6000,   33.3500,2,  33.3500,2,    262.4,2,    262.3,2,    21.43,2,    15.02,2,     0.17,2,     1.26,2,   2096.5,2,   -999.0,9,  10.5988
  32WC20070511,NACPWC,        7,    52,  1, 520124,     24,2,   70527,2041, 38.1400,-123.9800, 3605,      9.9,  10.6000,   33.3500,2,-999.0000,9,    262.4,2,    262.2,2,    21.40,2,    14.92,2,     0.18,2,     1.26,2,   -999.0,9,   -999.0,9,  10.5988