BOTTLE,20120405PRINUNIVRMK
EXPOCODE,SECT_ID,LINE,STNNBR,CASTNO,SAMPNO,BTLNBR,BTLNBR_FLAG_W,DATE,TIME,LATITUDE,LONGITUDE,DEPTH,CTDPRS,CTDTMP,CTDSAL,CTDSAL_FLAG_W,SALNTY,SALNTY_FLAG_W,CTDOXY,CTDOXY_FLAG_W,OXYGEN,OXYGEN_FLAG_W,SILCAT,SILCAT_FLAG_W,NITRAT,NITRAT_FLAG_W,NITRIT,NITRIT_FLAG_W,PHSPHT,PHSPHT_FLAG_W,TCARBN,TCARBN_FLAG_W,ALKALI,ALKALI_FLAG_W,THETA
,,,,,,,,,,,,METERS,DBAR,ITS-90,PSS-78,,PSS-78,,UMOL/KG,,UMOL/KG,,UMOL/KG,,UMOL/KG,,UMOL/KG,,UMOL/KG,,UMOL/KG,,UMOL/KG,,DEG C
  32WC20070511,NACPWC,       11,    86,  1, 860101,      1,2,   70605,2207, 30.3500,-119.4600, 3850,   3864.1,   1.6000,   34.6800,2,  34.6800,2,    128.0,2,    126.5,2,   171.33,2,    37.46,2,     0.01,2,     2.62,2,   2353.0,6,   2431.9,6,   1.2930
  32WC20070511,NACPWC,       11,    86,  1, 860102,      2,2,   70605,2234, 30.3500,-119.4600, 3850,   2500.6,   1.8000,   34.6600,2,-999.0000,9,    103.6,2,    103.9,2,   166.87,2,    38.84,2,     0.01,2,     2.76,2,   2365.8,6,   2427.7,2,   1.6233
  32WC20070511,NACPWC,       11,    86,  1, 860103,      3,2,   70605,2254, 30.3500,-119.4600, 3850,   1500.1,   2.8000,   34.5700,2,-999.0000,9,     49.7,2,     51.0,2,   148.92,2,    42.14,2,     0.01,2,     3.05,2,   2374.1,2,   2400.8,2,   2.6945
  32WC20070511,NACPWC,       11,    86,  1, 860104,      4,2,   70605,2307, 30.3500,-119.4600, 3850,    800.1,   4.5000,   34.4300,2,-999.0000,9,     14.4,2,     15.7,2,   107.88,6,    42.69,6,     0.00,6,     3.16,6,   2350.4,2,   2353.3,2,   4.4377
  32WC20070511,NACPWC,       11,    86,  1, 860105,      5,2,   70605,2314, 30.3500,-119.4600, 3850,    501.7,   5.6000,   34.2400,2,-999.0000,9,     19.6,2,     19.3,2,    84.18,2,    40.03,2,     0.01,2,     3.00,2,   2316.3,2,   2316.0,2,   5.5579
  32WC20070511,NACPWC,       11,    86,  1, 860106,      6,2,   70605,2316, 30.3500,-119.4600, 3850,    400.2,   6.0000,   34.1200,2,-999.0000,9,     44.2,2,     42.3,2,    71.92,2,    37.83,2,     0.01,2,     2.79,2,   2285.9,2,   2291.5,2,   5.9656
  32WC20070511,NACPWC,       11,    86,  1, 860107,      7,2,   70605,2319, 30.3500,-119.4600, 3850,    300.1,   7.1000,   34.0700,2,-999.0000,9,     80.7,2,     80.9,2,    52.85,2,    32.94,2,     0.01,2,     2.38,2,   2237.5,2,   2276.4,2,   7.0719
  32WC20070511,NACPWC,       11,    86,  1, 860108,      8,2,   70605,2321, 30.3500,-119.4600, 3850,    249.3,   7.7000,   34.0300,2,-999.0000,9,    110.3,2,    109.4,2,    43.19,2,    29.23,2,     0.01,2,     2.10,2,   2210.2,2,   2249.4,2,   7.6756
  32WC20070511,NACPWC,       11,    86,  1, 860109,      9,2,   70605,2322, 30.3500,-119.4600, 3850,    199.9,   8.4000,   34.0000,2,-999.0000,9,    132.8,2,    136.1,2,    33.73,2,    25.42,2,     0.02,2,     1.83,2,   2178.6,2,   2242.1,6,   8.3795
  32WC20070511,NACPWC,       11,    86,  1, 860110,     10,2,   70605,2323, 30.3500,-119.4600, 3850,    175.2,   8.8000,   33.9500,2,-999.0000,9,    156.3,2,    156.4,6,    28.53,2,    22.95,2,     0.02,2,     1.66,2,   2160.8,2,   2249.9,2,   8.7815
  32WC20070511,NACPWC,       11,    86,  1, 860111,     11,2,   70605,2324, 30.3500,-119.4600, 3850,    149.3,   9.4000,   33.8800,2,-999.0000,9,    132.6,2,    129.1,2,    27.63,2,    23.97,2,     0.03,2,     1.81,2,   2174.3,2,   2246.9,2,   9.3836
  32WC20070511,NACPWC,       11,    86,  1, 860112,     12,2,   70605,2325, 30.3500,-119.4600, 3850,    129.8,  10.0000,   33.8100,2,-999.0000,9,    147.1,2,    151.5,2,    24.11,2,    22.33,2,     0.06,2,     1.71,2,   2162.8,2,   -999.0,9,   9.9852
  32WC20070511,NACPWC,       11,    86,  1, 860113,     13,2,   70605,2326, 30.3500,-119.4600, 3850,    109.5,  10.5000,   33.6700,2,-999.0000,9,    164.2,2,    161.2,2,    19.33,2,    19.18,2,     0.04,2,     1.50,2,   2139.3,2,   2230.3,2,  10.4872
  32WC20070511,NACPWC,       11,    86,  1, 860114,     14,2,   70605,2327, 30.3500,-119.4600, 3850,     90.2,  11.3000,   33.6500,2,-999.0000,9,    196.2,2,    197.0,2,    14.66,2,    15.74,2,     0.23,2,     1.28,2,   2114.2,2,   2229.6,2,  11.2889
  32WC20070511,NACPWC,       11,    86,  1, 860115,     15,2,   70605,2328, 30.3500,-119.4600, 3850,     69.8,  12.0000,   33.6400,2,-999.0000,9,    234.3,2,    230.4,2,    10.57,2,    11.73,2,     0.32,2,     1.09,2,   2095.0,2,   2240.6,2,  11.9911
  32WC20070511,NACPWC,       11,    86,  1, 860116,     16,2,   70605,2329, 30.3500,-119.4600, 3850,     59.4,  12.2000,   33.6300,2,-999.0000,9,    236.3,2,    235.7,2,     9.65,2,    10.88,2,     0.36,2,     1.02,2,   2084.4,2,   2237.3,2,  12.1923
  32WC20070511,NACPWC,       11,    86,  1, 860117,     17,2,   70605,2330, 30.3500,-119.4600, 3850,     50.8,  12.2000,   33.5800,2,-999.0000,9,    243.2,2,    240.8,2,     8.90,6,    10.20,6,     0.38,6,     0.94,6,   2080.0,2,   2236.0,2,  12.1934
  32WC20070511,NACPWC,       11,    86,  1, 860118,     18,2,   70605,2331, 30.3500,-119.4600, 3850,     39.3,  12.4000,   33.4900,2,-999.0000,9,    254.6,2,    249.0,2,     6.11,2,     7.94,2,     0.33,2,     0.83,2,   2065.2,2,   2227.8,2,  12.3949
  32WC20070511,NACPWC,       11,    86,  1, 860119,     19,2,   70605,2332, 30.3500,-119.4600, 3850,     29.9,  13.3000,   33.5100,2,-999.0000,9,    271.0,2,    279.2,2,     2.25,2,     4.71,2,     0.20,2,     0.60,2,   2037.6,2,   2230.2,2,  13.2959
  32WC20070511,NACPWC,       11,    86,  1, 860120,     20,2,   70605,2333, 30.3500,-119.4600, 3850,     25.3,  13.7000,   33.4900,2,-999.0000,9,    272.0,2,    274.8,6,     2.46,2,     3.96,2,     0.17,2,     0.54,2,   2034.1,2,   2224.7,2,  13.6965
  32WC20070511,NACPWC,       11,    86,  1, 860121,     21,2,   70605,2333, 30.3500,-119.4600, 3850,     18.9,  14.9000,   33.5600,2,-999.0000,9,    264.0,2,    263.7,2,     3.12,2,     2.47,2,     0.11,2,     0.45,2,   2031.1,2,   2239.8,2,  14.8972
  32WC20070511,NACPWC,       11,    86,  1, 860122,     22,2,   70605,2334, 30.3500,-119.4600, 3850,     15.3,  15.1000,   33.5600,2,-999.0000,9,    265.6,2,    263.1,2,     3.08,2,     2.48,2,     0.10,2,     0.44,2,   2029.4,2,   2232.9,2,  15.0977
  32WC20070511,NACPWC,       11,    86,  1, 860123,     23,2,   70605,2335, 30.3500,-119.4600, 3850,      9.4,  15.1000,   33.5600,2,  33.5600,2,    265.4,2,    262.7,2,     3.09,2,     2.46,2,     0.10,2,     0.44,2,   2030.1,2,   2232.8,2,  15.0986
  32WC20070511,NACPWC,       11,    86,  1, 860124,     24,2,   70605,2336, 30.3500,-119.4600, 3850,      4.4,  15.1000,   33.5600,2,-999.0000,9,    265.2,2,    262.2,2,     3.05,2,     2.46,2,     0.10,2,     0.44,2,   2029.8,2,   2234.8,2,  15.0993
  32WC20070511,NACPWC,       11,    87,  1, 870101,      1,2,   70606,0500, 30.6900,-118.7900, 2808,   2606.6,   1.8000,   34.6600,2,  34.6600,2,    105.8,2,    106.6,2,   166.92,6,    38.81,6,     0.01,6,     2.75,6,   2365.1,6,   2420.8,6,   1.6137
  32WC20070511,NACPWC,       11,    87,  1, 870102,      2,2,   70606,0518, 30.6900,-118.7900, 2808,   2000.7,   2.1000,   34.6300,2,-999.0000,9,     81.9,2,     86.5,2,   160.91,2,    40.28,2,     0.01,2,     2.88,2,   2371.4,6,   2413.2,2,   1.9620
  32WC20070511,NACPWC,       11,    87,  1, 870103,      3,2,   70606,0532, 30.6900,-118.7900, 2808,   1499.8,   2.8000,   34.5800,2,-999.0000,9,     50.1,2,     50.8,2,   147.00,2,    42.05,2,     0.01,2,     3.05,2,   2378.3,2,   2399.4,2,   2.6945
  32WC20070511,NACPWC,       11,    87,  1, 870104,      4,2,   70606,0550, 30.6900,-118.7900, 2808,    800.7,   4.8000,   34.4300,2,-999.0000,9,     12.3,2,     13.1,2,   101.94,6,    42.40,6,     0.01,6,     3.17,6,   2347.2,2,   2346.2,2,   4.7358
  32WC20070511,NACPWC,       11,    87,  1, 870105,      5,2,   70606,0558, 30.6900,-118.7900, 2808,    500.5,   6.0000,   34.2600,2,-999.0000,9,     19.9,2,     20.0,2,    77.77,2,    38.73,2,     0.01,2,     2.98,2,   2314.4,2,   2310.4,2,   5.9565
  32WC20070511,NACPWC,       11,    87,  1, 870106,      6,2,   70606,0603, 30.6900,-118.7900, 2808,    350.3,   7.4000,   34.2200,2,-999.0000,9,     39.4,2,     39.6,2,    57.04,2,    34.25,2,     0.01,2,     2.68,2,   2276.3,2,   2284.6,2,   7.3662
  32WC20070511,NACPWC,       11,    87,  1, 870107,      7,2,   70606,0605, 30.6900,-118.7900, 2808,    300.8,   7.5000,   34.1400,2,-999.0000,9,     60.5,2,     63.4,2,    51.22,2,    32.63,2,     0.01,2,     2.47,2,   2255.6,2,   2279.0,2,   7.4709
  32WC20070511,NACPWC,       11,    87,  1, 870108,      8,2,   70606,0608, 30.6900,-118.7900, 2808,    251.0,   7.9000,   34.0600,2,-999.0000,9,    102.7,2,    101.5,2,    41.67,2,    29.20,2,     0.01,2,     2.13,2,   2216.3,2,   2262.3,2,   7.8750
  32WC20070511,NACPWC,       11,    87,  1, 870109,      9,2,   70606,0610, 30.6900,-118.7900, 2808,    200.6,   8.5000,   33.9900,2,-999.0000,9,    135.6,2,    135.9,2,    32.73,2,    25.27,2,     0.01,2,     1.82,2,   2181.9,2,   2254.4,2,   8.4792
  32WC20070511,NACPWC,       11,    87,  1, 870110,     10,2,   70606,0612, 30.6900,-118.7900, 2808,    177.0,   8.9000,   33.9300,2,-999.0000,9,    165.4,2,    165.4,2,    25.84,2,    21.72,2,     0.01,2,     1.56,2,   2151.5,2,   2244.4,2,   8.8812
  32WC20070511,NACPWC,       11,    87,  1, 870111,     11,2,   70606,0614, 30.6900,-118.7900, 2808,    150.1,   9.4000,   33.8200,2,-999.0000,9,    171.3,2,    172.4,2,    21.03,2,    19.68,2,     0.02,2,     1.45,2,   2137.1,2,   2238.4,2,   9.3835
  32WC20070511,NACPWC,       11,    87,  1, 870112,     12,2,   70606,0616, 30.6900,-118.7900, 2808,    129.9,   9.8000,   33.7100,2,-999.0000,9,    167.5,2,    167.4,2,    19.25,2,    19.18,2,     0.02,2,     1.43,2,   2131.8,2,   2227.5,2,   9.7854
  32WC20070511,NACPWC,       11,    87,  1, 870113,     13,2,   70606,0617, 30.6900,-118.7900, 2808,    110.7,  11.0000,   33.5900,2,-999.0000,9,    184.7,2,    185.6,2,    13.48,2,    14.89,2,     0.02,2,     1.19,2,   2108.2,2,   2226.6,2,  10.9866
  32WC20070511,NACPWC,       11,    87,  1, 870114,     14,2,   70606,0619, 30.6900,-118.7900, 2808,     89.9,  12.2000,   33.5200,2,-999.0000,9,    224.6,2,    218.5,2,     8.25,2,     9.52,2,     0.03,2,     0.84,2,   2075.6,2,   2221.9,2,  12.1884
  32WC20070511,NACPWC,       11,    87,  1, 870115,     15,2,   70606,0621, 30.6900,-118.7900, 2808,     70.3,  13.5000,   33.5100,2,-999.0000,9,    254.2,2,    253.6,2,     4.23,6,     4.17,6,     0.28,6,     0.56,6,   2046.9,2,   2227.4,2,  13.4903
  32WC20070511,NACPWC,       11,    87,  1, 870116,     16,4,   70606,0622, 30.6900,-118.7900, 2808,     51.4,  14.0000,   33.4600,2,-999.0000,9,    261.8,2,    260.6,2,     3.30,2,     1.74,2,     0.18,2,     0.39,2,   2028.7,2,   2225.9,2,  13.9927
  32WC20070511,NACPWC,       11,    87,  1, 870117,     17,2,   70606,0623, 30.6900,-118.7900, 2808,     51.3,  14.0000,   33.4700,2,-999.0000,9,    261.6,2,    260.8,2,     3.29,2,     1.68,2,     0.18,2,     0.39,2,   2027.8,2,   2227.4,2,  13.9927
  32WC20070511,NACPWC,       11,    87,  1, 870118,     18,2,   70606,0624, 30.6900,-118.7900, 2808,     39.8,  14.8000,   33.5000,2,-999.0000,9,    263.5,2,    263.0,2,     2.90,2,     0.53,2,     0.07,2,     0.31,2,   2020.4,2,   2226.8,2,  14.7941
  32WC20070511,NACPWC,       11,    87,  1, 870119,     19,2,   70606,0625, 30.6900,-118.7900, 2808,     30.9,  15.8000,   33.5900,2,-999.0000,9,    253.3,2,    253.8,2,     2.43,2,     0.00,2,     0.01,2,     0.25,2,   2017.9,2,   2235.8,2,  15.7952
  32WC20070511,NACPWC,       11,    87,  1, 870120,     20,2,   70606,0625, 30.6900,-118.7900, 2808,     25.2,  15.9000,   33.6000,2,-999.0000,9,    252.5,2,    251.9,2,     2.45,2,     0.00,2,     0.01,2,     0.24,2,   2018.3,2,   2242.7,2,  15.8961
  32WC20070511,NACPWC,       11,    87,  1, 870121,     21,2,   70606,0626, 30.6900,-118.7900, 2808,     20.0,  15.9000,   33.6000,2,-999.0000,9,    252.3,2,    251.6,2,     2.49,2,     0.00,2,     0.01,2,     0.24,2,   2017.7,2,   2233.4,2,  15.8969
  32WC20070511,NACPWC,       11,    87,  1, 870122,     22,2,   70606,0627, 30.6900,-118.7900, 2808,     14.4,  15.9000,   33.6000,2,-999.0000,9,    252.2,2,    251.2,2,     2.52,2,     0.00,2,     0.01,2,     0.25,2,   2017.4,2,   2233.3,2,  15.8978
  32WC20070511,NACPWC,       11,    87,  1, 870123,     23,2,   70606,0628, 30.6900,-118.7900, 2808,      9.4,  15.9000,   33.6000,2,  33.6000,2,    252.3,2,    251.6,2,     2.56,2,     0.01,2,     0.01,2,     0.25,2,   2017.4,2,   2237.0,2,  15.8985
  32WC20070511,NACPWC,       11,    87,  1, 870124,     24,2,   70606,0629, 30.6900,-118.7900, 2808,      5.2,  15.9000,   33.6000,2,-999.0000,9,    252.0,2,    251.6,2,     2.59,2,     0.00,2,     0.01,2,     0.25,2,   2017.8,2,   2234.5,2,  15.8992
  32WC20070511,NACPWC,       11,    88,  1, 880101,      1,2,   70606,1113, 30.8500,-118.4500, 2372,   2358.7,   2.0000,   34.6500,2,  34.6500,6,     93.1,2,     94.3,2,   164.14,2,    39.41,2,     0.03,2,     2.80,2,   2365.7,6,   2420.3,6,   1.8324
  32WC20070511,NACPWC,       11,    88,  1, 880102,      2,2,   70606,1133, 30.8500,-118.4500, 2372,   1500.6,   2.8000,   34.5800,2,-999.0000,9,     49.9,2,     51.8,2,   147.13,2,    41.86,2,     0.03,2,     3.04,2,   2370.9,6,   2381.5,2,   2.6944
  32WC20070511,NACPWC,       11,    88,  1, 880103,      3,2,   70606,1145, 30.8500,-118.4500, 2372,    999.5,   4.0000,   34.4900,2,-999.0000,9,     22.9,2,     24.0,2,   120.92,2,    42.47,2,     0.03,2,     3.13,2,   2362.4,2,   2362.8,2,   3.9244
  32WC20070511,NACPWC,       11,    88,  1, 880104,      4,2,   70606,1151, 30.8500,-118.4500, 2372,    799.6,   4.8000,   34.4300,2,-999.0000,9,     12.6,2,     13.0,2,   103.76,6,    42.00,6,     0.03,6,     3.15,6,   2347.0,2,   2350.5,2,   4.7359
  32WC20070511,NACPWC,       11,    88,  1, 880105,      5,2,   70606,1159, 30.8500,-118.4500, 2372,    501.8,   6.4000,   34.3200,2,-999.0000,9,     15.0,2,     15.4,2,    74.20,6,    37.59,6,     0.03,6,     2.97,6,   2307.6,2,   2318.8,2,   6.3548
  32WC20070511,NACPWC,       11,    88,  1, 880106,      6,2,   70606,1204, 30.8500,-118.4500, 2372,    350.7,   7.8000,   34.2800,2,-999.0000,9,     34.1,2,     34.3,2,    54.99,2,    33.06,2,     0.04,2,     2.65,2,   2271.9,2,   2290.5,2,   7.7651
  32WC20070511,NACPWC,       11,    88,  1, 880107,      7,2,   70606,1206, 30.8500,-118.4500, 2372,    299.5,   8.3000,   34.2700,2,-999.0000,9,     45.5,2,     43.9,2,    49.23,2,    31.51,2,     0.04,2,     2.54,2,   2259.8,2,   2285.0,2,   8.2691
  32WC20070511,NACPWC,       11,    88,  1, 880108,      8,2,   70606,1208, 30.8500,-118.4500, 2372,    250.3,   8.4000,   34.1800,2,-999.0000,9,     78.9,2,     71.3,2,    43.27,2,    29.66,2,     0.04,2,     2.29,2,   2233.7,2,   2269.2,2,   8.3741
  32WC20070511,NACPWC,       11,    88,  1, 880109,      9,2,   70606,1210, 30.8500,-118.4500, 2372,    201.2,   9.0000,   34.0800,2,-999.0000,9,    103.1,2,     71.7,2,    43.26,2,    29.77,2,     0.04,2,     2.31,2,   2231.1,2,   2270.0,2,   8.9784
  32WC20070511,NACPWC,       11,    88,  1, 880110,     10,2,   70606,1212, 30.8500,-118.4500, 2372,    173.5,   9.3000,   33.9800,2,-999.0000,9,    119.0,2,    102.2,2,    34.58,2,    26.74,2,     0.04,2,     2.00,2,   2201.3,2,   2252.6,2,   9.2810
  32WC20070511,NACPWC,       11,    88,  1, 880111,     11,2,   70606,1213, 30.8500,-118.4500, 2372,    151.7,   9.5000,   33.8700,2,-999.0000,9,    136.5,2,    117.9,2,    29.93,2,    24.94,2,     0.04,2,     1.87,2,   2183.9,2,   2246.1,2,   9.4832
  32WC20070511,NACPWC,       11,    88,  1, 880112,     12,2,   70606,1214, 30.8500,-118.4500, 2372,    129.1,   9.8000,   33.7800,2,-999.0000,9,    153.5,2,    146.7,2,    22.62,2,    21.16,2,     0.04,2,     1.58,2,   2144.9,2,   2233.9,2,   9.7855
  32WC20070511,NACPWC,       11,    88,  1, 880113,     13,2,   70606,1216, 30.8500,-118.4500, 2372,    108.7,  10.6000,   33.6300,2,-999.0000,9,    172.8,2,    172.2,2,    16.34,2,    16.75,2,     0.05,2,     1.29,2,   2114.4,2,   2223.9,2,  10.5872
  32WC20070511,NACPWC,       11,    88,  1, 880114,     14,2,   70606,1217, 30.8500,-118.4500, 2372,     90.1,  11.7000,   33.5800,2,-999.0000,9,    191.8,2,    189.3,2,    11.87,2,    12.38,2,     0.08,2,     1.05,2,   2091.1,2,   2223.5,2,  11.6887
  32WC20070511,NACPWC,       11,    88,  1, 880115,     15,2,   70606,1219, 30.8500,-118.4500, 2372,     70.8,  12.9000,   33.5300,2,-999.0000,9,    228.6,2,    229.4,2,     6.39,2,     5.97,2,     0.29,2,     0.67,2,   2053.1,2,   2224.8,2,  12.8905
  32WC20070511,NACPWC,       11,    88,  1, 880116,     16,2,   70606,1221, 30.8500,-118.4500, 2372,     60.6,  13.6000,   33.5100,2,-999.0000,9,    246.3,2,    244.4,2,     4.75,6,     2.99,6,     0.32,6,     0.50,6,   2035.1,2,   2224.3,2,  13.5916
  32WC20070511,NACPWC,       11,    88,  1, 880117,     17,2,   70606,1222, 30.8500,-118.4500, 2372,     49.6,  13.8000,   33.5000,2,-999.0000,9,    254.0,2,    251.5,2,     3.79,2,     1.87,2,     0.17,2,     0.41,2,   2027.4,2,   2219.8,2,  13.7930
  32WC20070511,NACPWC,       11,    88,  1, 880118,     18,2,   70606,1223, 30.8500,-118.4500, 2372,     39.8,  14.8000,   33.5200,2,-999.0000,9,    260.7,2,    260.2,2,     2.75,2,     0.30,2,     0.04,2,     0.28,2,   2011.7,2,   2227.7,2,  14.7941
  32WC20070511,NACPWC,       11,    88,  1, 880119,     19,2,   70606,1225, 30.8500,-118.4500, 2372,     28.9,  16.0000,   33.6000,2,-999.0000,9,    251.0,2,    249.7,6,     2.25,2,     0.26,2,     0.03,2,     0.23,2,   2014.3,2,   2240.3,2,  15.9955
  32WC20070511,NACPWC,       11,    88,  1, 880120,     20,2,   70606,1226, 30.8500,-118.4500, 2372,     25.7,  16.0000,   33.6000,2,-999.0000,9,    250.7,2,    249.3,2,     2.21,2,     0.26,2,     0.03,2,     0.19,2,   2014.8,2,   2237.2,2,  15.9960
  32WC20070511,NACPWC,       11,    88,  1, 880121,     21,2,   70606,1227, 30.8500,-118.4500, 2372,     18.9,  16.0000,   33.6000,2,-999.0000,9,    250.4,2,    249.5,2,     2.04,2,     0.27,2,     0.03,2,     0.19,2,   2016.8,2,   2234.9,2,  15.9971
  32WC20070511,NACPWC,       11,    88,  1, 880122,     22,2,   70606,1228, 30.8500,-118.4500, 2372,     14.5,  16.0000,   33.6000,2,-999.0000,9,    250.2,2,    248.9,2,     3.08,2,     0.00,4,     0.00,4,     0.18,2,   2015.7,2,   2233.3,2,  15.9977
  32WC20070511,NACPWC,       11,    88,  1, 880123,     23,2,   70606,1229, 30.8500,-118.4500, 2372,      8.9,  16.0000,   33.6000,2,  33.6000,2,    250.1,2,    249.4,2,     5.31,2,  -999.00,4,     0.00,4,  -999.00,4,   2015.0,2,   2232.2,2,  15.9986
  32WC20070511,NACPWC,       11,    88,  1, 880124,     24,2,   70606,1230, 30.8500,-118.4500, 2372,      3.6,  16.0000,   33.6000,2,-999.0000,9,    249.8,2,    249.2,2,     2.47,6,     0.00,4,     0.27,2,     0.23,2,   2014.6,2,   2234.1,2,  15.9994