BOTTLE,20120405PRINUNIVRMK
EXPOCODE,SECT_ID,LINE,STNNBR,CASTNO,SAMPNO,BTLNBR,BTLNBR_FLAG_W,DATE,TIME,LATITUDE,LONGITUDE,DEPTH,CTDPRS,CTDTMP,CTDSAL,CTDSAL_FLAG_W,SALNTY,SALNTY_FLAG_W,CTDOXY,CTDOXY_FLAG_W,OXYGEN,OXYGEN_FLAG_W,SILCAT,SILCAT_FLAG_W,NITRAT,NITRAT_FLAG_W,NITRIT,NITRIT_FLAG_W,PHSPHT,PHSPHT_FLAG_W,TCARBN,TCARBN_FLAG_W,ALKALI,ALKALI_FLAG_W,THETA
,,,,,,,,,,,,METERS,DBAR,ITS-90,PSS-78,,PSS-78,,UMOL/KG,,UMOL/KG,,UMOL/KG,,UMOL/KG,,UMOL/KG,,UMOL/KG,,UMOL/KG,,UMOL/KG,,DEG C
  32WC20070511,NACPWC,        5,    37,  1, 370101,      1,2,   70523,2124, 41.8400,-125.0800, 1277,   1267.4,   3.1000,   34.5000,2,  34.5000,2,     26.8,2,     27.9,2,   147.41,6,    43.14,6,     0.00,6,     3.10,6,   2380.9,6,   2384.6,6,   3.0103
  32WC20070511,NACPWC,        5,    37,  1, 370102,      2,2,   70523,2136, 41.8400,-125.0800, 1277,    800.1,   4.1000,   34.3500,2,-999.0000,9,      9.6,2,     11.7,2,   119.44,6,    43.29,6,     0.00,6,     3.15,6,   2362.2,2,   2349.4,2,   4.0402
  32WC20070511,NACPWC,        5,    37,  1, 370103,      3,2,   70523,2141, 41.8400,-125.0800, 1277,    599.7,   4.8000,   34.2200,2,-999.0000,9,     15.9,2,     18.4,2,    99.72,2,    41.99,2,     0.00,2,     3.04,2,   2335.7,6,   2323.2,2,   4.7530
  32WC20070511,NACPWC,        5,    37,  1, 370104,      4,2,   70523,2145, 41.8400,-125.0800, 1277,    499.5,   5.3000,   34.1700,2,-999.0000,9,     24.8,2,     25.2,2,    86.91,2,    40.70,2,     0.00,2,     2.95,2,   2316.4,2,   2307.9,2,   5.2593
  32WC20070511,NACPWC,        5,    37,  1, 370105,      5,2,   70523,2148, 41.8400,-125.0800, 1277,    399.5,   5.6000,   34.0800,2,-999.0000,9,     44.2,2,     44.1,2,    76.34,2,    39.12,2,     0.01,2,     2.77,2,   2293.4,2,   2295.9,2,   5.5669
  32WC20070511,NACPWC,        5,    37,  1, 370106,      6,2,   70523,2150, 41.8400,-125.0800, 1277,    349.2,   6.2000,   34.0800,2,-999.0000,9,     49.9,2,     49.2,2,    68.30,2,    37.47,2,     0.01,2,     2.69,2,   2279.4,2,   2285.9,2,   6.1696
  32WC20070511,NACPWC,        5,    37,  1, 370107,      7,2,   70523,2153, 41.8400,-125.0800, 1277,    301.5,   6.4000,   34.0400,2,-999.0000,9,     61.4,2,     63.2,2,    62.91,2,    36.17,2,     0.01,2,     2.56,2,   2266.0,2,   2277.5,2,   6.3734
  32WC20070511,NACPWC,        5,    37,  1, 370108,      8,2,   70523,2155, 41.8400,-125.0800, 1277,    249.7,   6.9000,   34.0200,2,-999.0000,9,     72.1,2,     72.0,2,    55.09,2,    34.35,2,     0.02,2,     2.43,2,   2250.5,2,   2271.5,2,   6.8771
  32WC20070511,NACPWC,        5,    37,  1, 370109,      9,2,   70523,2157, 41.8400,-125.0800, 1277,    198.2,   7.6000,   33.9600,2,-999.0000,9,     88.1,2,     90.0,2,    45.40,2,    31.70,2,     0.01,2,     2.25,2,   2226.6,2,   2259.3,2,   7.5808
  32WC20070511,NACPWC,        5,    37,  1, 370110,     10,2,   70523,2158, 41.8400,-125.0800, 1277,    175.2,   7.8000,   33.9000,2,-999.0000,9,    113.1,2,    114.9,6,    39.93,2,    29.20,2,     0.01,2,     2.06,2,   2204.7,2,   2253.3,2,   7.7828
  32WC20070511,NACPWC,        5,    37,  1, 370111,     11,2,   70523,2200, 41.8400,-125.0800, 1277,    150.6,   8.2000,   33.8400,2,-999.0000,9,    119.9,2,    114.1,2,    37.68,2,    28.59,2,     0.01,2,     2.05,2,   2200.4,2,   2245.0,2,   8.1848
  32WC20070511,NACPWC,        5,    37,  1, 370112,     12,2,   70523,2201, 41.8400,-125.0800, 1277,    130.8,   8.3000,   33.6700,2,-999.0000,9,    141.2,2,    142.0,2,    32.24,2,    26.22,2,     0.02,2,     1.87,2,   2175.3,2,   2233.0,2,   8.2868
  32WC20070511,NACPWC,        5,    37,  1, 370113,     13,2,   70523,2203, 41.8400,-125.0800, 1277,    110.9,   8.8000,   33.4300,2,-999.0000,9,    173.6,2,    172.3,2,    25.36,2,    22.13,2,     0.03,2,     1.63,2,   2140.1,2,   2220.6,2,   8.7884
  32WC20070511,NACPWC,        5,    37,  1, 370114,     14,2,   70523,2204, 41.8400,-125.0800, 1277,     89.3,   9.6000,   32.9900,2,-999.0000,9,    220.8,2,    219.7,2,    16.82,2,    15.01,2,     0.07,2,     1.24,2,   2085.0,2,   2200.2,2,   9.5902
  32WC20070511,NACPWC,        5,    37,  1, 370115,     15,2,   70523,2206, 41.8400,-125.0800, 1277,     68.6,   9.9000,   32.7700,2,-999.0000,9,    251.3,2,    251.1,2,    11.95,2,     9.94,2,     0.16,2,     0.94,2,   2047.8,2,   2188.6,2,   9.8924
  32WC20070511,NACPWC,        5,    37,  1, 370116,     16,2,   70523,2206, 41.8400,-125.0800, 1277,     60.4,  10.0000,   32.6900,2,-999.0000,9,    261.2,2,    262.9,2,    10.28,2,     7.66,2,     0.29,2,     0.85,2,   2035.0,2,   2185.2,2,   9.9932
  32WC20070511,NACPWC,        5,    37,  1, 370117,     17,2,   70523,2208, 41.8400,-125.0800, 1277,     49.7,  10.1000,   32.6100,2,-999.0000,9,    271.2,2,    273.0,2,     8.89,2,     5.53,2,     0.22,2,     0.77,2,   2024.8,2,   2170.8,2,  10.0944
  32WC20070511,NACPWC,        5,    37,  1, 370118,     18,2,   70523,2209, 41.8400,-125.0800, 1277,     39.8,  10.3000,   32.5300,2,-999.0000,9,    275.1,2,    276.7,2,     8.40,2,     4.60,2,     0.16,2,     0.71,2,   2016.5,2,   2166.7,2,  10.2955
  32WC20070511,NACPWC,        5,    37,  1, 370119,     19,2,   70523,2210, 41.8400,-125.0800, 1277,     30.7,  10.6000,   32.4000,2,-999.0000,9,    276.5,2,    282.6,2,     5.93,2,     2.49,2,     0.11,2,     0.57,2,   1999.2,2,   2175.2,2,  10.5964
  32WC20070511,NACPWC,        5,    37,  1, 370120,     20,2,   70523,2211, 41.8400,-125.0800, 1277,     25.4,  11.2000,   32.1500,2,-999.0000,9,    287.2,2,    288.7,6,     4.25,2,     1.04,2,     0.05,2,     0.40,2,   1975.1,2,   2169.9,2,  11.1970
  32WC20070511,NACPWC,        5,    37,  1, 370121,     21,2,   70523,2212, 41.8400,-125.0800, 1277,     20.0,  11.2000,   32.0900,2,-999.0000,9,    290.7,2,    290.8,2,     4.22,2,     0.91,2,     0.05,2,     0.36,2,   1970.2,2,   2166.2,2,  11.1976
  32WC20070511,NACPWC,        5,    37,  1, 370122,     22,2,   70523,2213, 41.8400,-125.0800, 1277,     14.8,  11.3000,   32.0800,2,-999.0000,9,    291.1,2,    291.6,2,     4.25,2,     0.67,2,     0.04,2,     0.34,2,   1967.5,2,   2164.2,2,  11.2982
  32WC20070511,NACPWC,        5,    37,  1, 370123,     23,2,   70523,2214, 41.8400,-125.0800, 1277,      9.9,  11.6000,   32.0800,2,  32.0800,2,    290.4,2,    290.0,2,     4.33,2,     0.55,2,     0.03,2,     0.33,2,   1968.5,2,   2163.8,2,  11.5988
  32WC20070511,NACPWC,        5,    37,  1, 370124,     24,2,   70523,2215, 41.8400,-125.0800, 1277,      5.4,  11.6000,   32.0800,2,-999.0000,9,    290.3,2,    289.4,2,     4.23,2,     0.56,2,     0.03,2,     0.32,2,   1968.3,2,   2162.5,2,  11.5993
  32WC20070511,NACPWC,        5,    38,  1, 380101,      1,2,   70524,0052, 41.8700,-124.8600,  792,    774.0,   4.3000,   34.3300,2,  34.3300,2,     11.1,2,     11.2,2,   116.84,6,    42.23,6,     0.03,6,     3.12,6,   2353.6,6,   2343.0,6,   4.2412
  32WC20070511,NACPWC,        5,    38,  1, 380102,      2,2,   70524,0057, 41.8700,-124.8600,  792,    600.5,   4.7000,   34.2500,2,-999.0000,9,     14.7,2,     15.7,2,   103.04,2,    41.59,2,     0.00,2,     3.02,2,   2340.2,2,   2326.0,2,   4.6534
  32WC20070511,NACPWC,        5,    38,  1, 380103,      3,2,   70524,0100, 41.8700,-124.8600,  792,    500.9,   5.1000,   34.2000,2,-999.0000,9,     22.0,2,     22.3,2,    92.75,2,    40.62,2,     0.00,2,     2.94,2,   2323.5,6,   2313.6,2,   5.0599
  32WC20070511,NACPWC,        5,    38,  1, 380104,      4,2,   70524,0104, 41.8700,-124.8600,  792,    400.2,   5.7000,   34.1300,2,-999.0000,9,     36.3,2,     37.3,2,    78.75,2,    38.71,2,     0.01,2,     2.79,2,   2298.7,2,   2296.2,2,   5.6665
  32WC20070511,NACPWC,        5,    38,  1, 380105,      5,2,   70524,0107, 41.8700,-124.8600,  792,    300.3,   6.4000,   34.0800,2,-999.0000,9,     51.7,2,     51.3,2,    65.87,2,    36.54,2,     0.01,2,     2.60,2,   2274.5,2,   2281.2,2,   6.3735
  32WC20070511,NACPWC,        5,    38,  1, 380106,      6,2,   70524,0108, 41.8700,-124.8600,  792,    275.1,   6.6000,   34.0700,2,-999.0000,9,     56.4,2,     55.6,2,    62.16,2,    35.61,2,     0.02,2,     2.57,2,   2267.2,2,   2276.9,2,   6.5753
  32WC20070511,NACPWC,        5,    38,  1, 380107,      7,2,   70524,0110, 41.8700,-124.8600,  792,    250.2,   6.8000,   34.0600,2,-999.0000,9,     61.9,2,     63.2,2,    58.46,2,    34.72,2,     0.02,2,     2.50,2,   2259.8,2,   2273.6,2,   6.7772
  32WC20070511,NACPWC,        5,    38,  1, 380108,      8,2,   70524,0111, 41.8700,-124.8600,  792,    224.1,   6.9000,   34.0400,2,-999.0000,9,     68.0,2,     67.0,2,    55.99,2,    33.87,2,     0.02,2,     2.44,2,   2251.4,2,   2269.8,2,   6.8795
  32WC20070511,NACPWC,        5,    38,  1, 380109,      9,2,   70524,0113, 41.8700,-124.8600,  792,    199.9,   7.2000,   34.0100,2,-999.0000,9,     74.9,2,     72.4,2,    52.31,2,    33.22,2,     0.06,2,     2.38,2,   2247.4,2,   2265.9,2,   7.1813
  32WC20070511,NACPWC,        5,    38,  1, 380110,     10,2,   70524,0114, 41.8700,-124.8600,  792,    174.3,   7.4000,   33.9700,2,-999.0000,9,     91.9,2,     92.8,6,    46.94,2,    31.41,2,     0.02,2,     2.23,2,   2227.4,2,   2243.7,4,   7.3834
  32WC20070511,NACPWC,        5,    38,  1, 380111,     11,2,   70524,0115, 41.8700,-124.8600,  792,    150.4,   7.7000,   33.9300,2,-999.0000,9,     96.1,2,     93.4,2,    44.49,2,    30.59,2,     0.02,2,     2.20,2,   2222.6,2,   2252.0,2,   7.6854
  32WC20070511,NACPWC,        5,    38,  1, 380112,     12,2,   70524,0117, 41.8700,-124.8600,  792,    130.9,   7.8000,   33.8800,2,-999.0000,9,    110.6,2,    110.5,2,    40.39,2,    29.10,2,     0.03,2,     2.08,2,   2207.4,2,   2248.5,2,   7.7872
  32WC20070511,NACPWC,        5,    38,  1, 380113,     13,2,   70524,0118, 41.8700,-124.8600,  792,    111.2,   8.0000,   33.8100,2,-999.0000,9,    108.6,2,    108.8,2,    40.31,2,    28.81,2,     0.03,2,     2.09,2,   2208.1,2,   2243.9,2,   7.9890
  32WC20070511,NACPWC,        5,    38,  1, 380114,     14,2,   70524,0119, 41.8700,-124.8600,  792,     90.0,   8.7000,   33.4000,2,-999.0000,9,    157.3,2,    147.6,2,    34.85,2,    24.32,2,     0.16,2,     1.90,2,   2168.4,2,   2221.9,2,   8.6907
  32WC20070511,NACPWC,        5,    38,  1, 380115,     15,2,   70524,0121, 41.8700,-124.8600,  792,     69.5,   9.1000,   33.2600,2,-999.0000,9,    200.9,2,    202.1,2,    30.47,2,    19.99,2,     0.17,2,     1.65,2,   2136.7,2,   2217.7,2,   9.0926
  32WC20070511,NACPWC,        5,    38,  1, 380116,     16,2,   70524,0122, 41.8700,-124.8600,  792,     60.3,   9.0000,   33.1200,2,-999.0000,9,    202.7,2,    216.5,2,    27.06,2,    18.78,2,     0.17,2,     1.57,2,   2123.4,2,   2213.2,2,   8.9937
  32WC20070511,NACPWC,        5,    38,  1, 380117,     17,2,   70524,0123, 41.8700,-124.8600,  792,     50.5,   9.4000,   33.0400,2,-999.0000,9,    234.1,2,    239.2,2,    23.27,2,    15.43,2,     0.15,2,     1.37,2,   2093.2,2,   2208.5,2,   9.3946
  32WC20070511,NACPWC,        5,    38,  1, 380118,     18,2,   70524,0124, 41.8700,-124.8600,  792,     39.9,   9.4000,   32.7100,2,-999.0000,9,    259.1,2,    255.4,2,    14.28,2,    10.76,2,     0.16,2,     1.03,2,   2048.4,2,   2182.7,2,   9.3957
  32WC20070511,NACPWC,        5,    38,  1, 380119,     19,2,   70524,0125, 41.8700,-124.8600,  792,     29.7,   9.9000,   32.5100,2,-999.0000,9,    280.2,2,    278.7,2,     8.67,2,     5.63,2,     0.23,2,     0.73,2,   2016.3,2,   2178.2,2,   9.8967
  32WC20070511,NACPWC,        5,    38,  1, 380120,     20,2,   70524,0125, 41.8700,-124.8600,  792,     25.0,  10.3000,   32.4700,2,-999.0000,9,    286.1,2,    281.7,6,     8.33,2,     4.71,2,     0.23,2,     0.67,2,   2011.7,2,   2177.7,2,  10.2972
  32WC20070511,NACPWC,        5,    38,  1, 380121,     21,2,   70524,0126, 41.8700,-124.8600,  792,     19.0,  10.5000,   32.3900,2,-999.0000,9,    291.1,2,    288.4,2,     7.17,2,     3.58,2,     0.17,2,     0.56,2,   1996.8,2,   2175.2,2,  10.4978
  32WC20070511,NACPWC,        5,    38,  1, 380122,     22,2,   70524,0127, 41.8700,-124.8600,  792,     15.2,  10.6000,   32.3600,2,-999.0000,9,    290.9,2,    289.1,2,     7.00,2,     3.42,2,     0.16,2,     0.56,2,   1995.6,2,   2174.0,2,  10.5982
  32WC20070511,NACPWC,        5,    38,  1, 380123,     23,2,   70524,0128, 41.8700,-124.8600,  792,     10.0,  11.0000,   32.2800,2,  32.2800,2,    291.3,2,    291.9,2,     6.42,2,     2.65,2,     0.12,2,     0.47,2,   1982.7,2,   2171.2,2,  10.9988
  32WC20070511,NACPWC,        5,    38,  1, 380124,     24,2,   70524,0128, 41.8700,-124.8600,  792,      4.0,  11.1000,   32.2800,2,-999.0000,9,    291.1,2,    290.6,2,     6.41,2,     2.57,2,     0.11,2,     0.45,2,   1984.9,2,   2169.5,2,  11.0995
  32WC20070511,NACPWC,        5,    39,  1, 390101,      1,2,   70524,0354, 41.9200,-124.6400,  601,    584.4,   5.0000,   34.2200,2,  34.2100,2,     19.5,2,     19.5,2,    96.21,6,    40.39,6,     0.02,6,     2.99,6,   2325.0,6,   2308.7,6,   4.9534
  32WC20070511,NACPWC,        5,    39,  1, 390102,      2,2,   70524,0357, 41.9200,-124.6400,  601,    501.2,   5.1000,   34.2000,2,-999.0000,9,     22.1,2,     21.4,2,    93.43,2,    40.31,2,     0.01,2,     2.97,2,   2326.0,2,   2316.8,6,   5.0599
  32WC20070511,NACPWC,        5,    39,  1, 390103,      3,2,   70524,0401, 41.9200,-124.6400,  601,    400.0,   5.8000,   34.1200,2,-999.0000,9,     38.2,2,     38.0,2,    76.82,2,    38.20,2,     0.01,2,     2.79,2,   2288.8,6,   2295.4,6,   5.7662
  32WC20070511,NACPWC,        5,    39,  1, 390104,      4,2,   70524,0404, 41.9200,-124.6400,  601,    349.5,   6.1000,   34.1000,2,-999.0000,9,     45.0,2,     44.8,2,    71.58,2,    36.92,2,     0.02,2,     2.71,2,   2286.3,2,   2304.8,6,   6.0698
  32WC20070511,NACPWC,        5,    39,  1, 390105,      5,2,   70524,0406, 41.9200,-124.6400,  601,    300.1,   6.2000,   34.0900,2,-999.0000,9,     48.6,2,     48.6,2,    69.00,2,    36.66,2,     0.03,2,     2.67,2,   2282.2,2,   2283.4,6,   6.1739
  32WC20070511,NACPWC,        5,    39,  1, 390106,      6,2,   70524,0408, 41.9200,-124.6400,  601,    274.7,   6.3000,   34.0900,2,-999.0000,9,     50.6,2,     50.1,2,    67.56,2,    36.50,2,     0.03,2,     2.65,2,   2278.5,2,   2285.6,2,   6.2760
  32WC20070511,NACPWC,        5,    39,  1, 390107,      7,2,   70524,0410, 41.9200,-124.6400,  601,    250.3,   6.5000,   34.0800,2,-999.0000,9,     53.5,2,     53.6,2,    65.08,2,    35.85,2,     0.06,2,     2.61,2,   2274.7,2,   -999.0,9,   6.4778
  32WC20070511,NACPWC,        5,    39,  1, 390108,      8,2,   70524,0412, 41.9200,-124.6400,  601,    224.2,   6.6000,   34.0700,2,-999.0000,9,     54.6,2,     54.7,2,    63.35,2,    35.56,2,     0.15,2,     2.60,2,   2270.2,2,   2281.3,2,   6.5800
  32WC20070511,NACPWC,        5,    39,  1, 390109,      9,2,   70524,0413, 41.9200,-124.6400,  601,    199.7,   6.7000,   34.0600,2,-999.0000,9,     55.7,2,     55.1,2,    61.67,2,    35.07,2,     0.19,2,     2.58,2,   2262.9,2,   2279.3,2,   6.6820
  32WC20070511,NACPWC,        5,    39,  1, 390110,     10,2,   70524,0415, 41.9200,-124.6400,  601,    175.2,   7.0000,   34.0500,2,-999.0000,9,     56.0,2,     58.7,2,    57.56,2,    34.28,2,     0.33,2,     2.53,2,   2256.9,2,   2274.8,2,   6.9839
  32WC20070511,NACPWC,        5,    39,  1, 390111,     11,2,   70524,0417, 41.9200,-124.6400,  601,    150.2,   7.1000,   34.0300,2,-999.0000,9,     56.1,2,     55.3,2,    55.95,6,    33.55,6,     0.28,6,     2.55,6,   2258.8,2,   2272.8,2,   7.0861
  32WC20070511,NACPWC,        5,    39,  1, 390112,     12,2,   70524,0419, 41.9200,-124.6400,  601,    129.7,   7.4000,   33.9900,2,-999.0000,9,     74.9,2,     70.4,2,    51.80,2,    32.38,2,     0.22,2,     2.43,2,   2244.7,2,   2261.0,2,   7.3877
  32WC20070511,NACPWC,        5,    39,  1, 390113,     13,2,   70524,0420, 41.9200,-124.6400,  601,    110.7,   7.6000,   33.9500,2,-999.0000,9,     95.3,2,     92.4,2,    48.85,2,    31.52,2,     0.23,2,     2.34,2,   2230.9,2,   2260.0,2,   7.5894
  32WC20070511,NACPWC,        5,    39,  1, 390114,     14,2,   70524,0422, 41.9200,-124.6400,  601,     89.6,   8.0000,   33.8500,2,-999.0000,9,    128.3,2,    126.7,2,    45.65,2,    30.00,2,     0.23,2,     2.23,2,   2213.0,2,   2252.5,2,   7.9911
  32WC20070511,NACPWC,        5,    39,  1, 390115,     15,2,   70524,0423, 41.9200,-124.6400,  601,     70.2,   8.3000,   33.7800,2,-999.0000,9,    135.5,2,    134.6,2,    43.68,2,    28.84,2,     0.23,2,     2.18,2,   2207.4,2,   2249.1,2,   8.2929
  32WC20070511,NACPWC,        5,    39,  1, 390116,     16,2,   70524,0424, 41.9200,-124.6400,  601,     60.0,   8.5000,   33.7300,2,-999.0000,9,    146.3,2,    149.8,2,    41.47,2,    27.54,2,     0.22,2,     2.09,2,   2194.3,2,   2247.5,2,   8.4939
  32WC20070511,NACPWC,        5,    39,  1, 390117,     17,2,   70524,0425, 41.9200,-124.6400,  601,     50.0,   8.7000,   33.6900,2,-999.0000,9,    183.6,2,    177.3,2,    39.81,2,    25.74,2,     0.19,2,     1.97,2,   2180.2,2,   2247.8,2,   8.6948
  32WC20070511,NACPWC,        5,    39,  1, 390118,     18,2,   70524,0426, 41.9200,-124.6400,  601,     40.0,   8.8000,   33.6900,2,-999.0000,9,    197.2,2,    199.0,2,    38.60,2,    24.37,2,     0.15,2,     1.87,2,   2167.6,2,   2247.7,2,   8.7958
  32WC20070511,NACPWC,        5,    39,  1, 390119,     19,2,   70524,0428, 41.9200,-124.6400,  601,     29.6,   9.1000,   33.5900,2,-999.0000,9,    202.5,2,    202.2,2,    36.80,2,    22.98,2,     0.15,2,     1.78,2,   2155.6,2,   2241.2,2,   9.0969
  32WC20070511,NACPWC,        5,    39,  1, 390120,     20,2,   70524,0429, 41.9200,-124.6400,  601,     25.0,   9.2000,   33.5200,2,-999.0000,9,    208.3,2,    209.7,6,    35.12,2,    22.01,2,     0.15,2,     1.72,2,   2148.5,2,   2234.6,2,   9.1973
  32WC20070511,NACPWC,        5,    39,  1, 390121,     21,2,   70524,0429, 41.9200,-124.6400,  601,     20.3,   9.2000,   33.4500,2,-999.0000,9,    216.3,2,    230.9,2,    33.23,2,    20.79,2,     0.16,2,     1.66,2,   2140.3,2,   2230.4,2,   9.1978
  32WC20070511,NACPWC,        5,    39,  1, 390122,     22,2,   70524,0430, 41.9200,-124.6400,  601,     15.3,   9.3000,   33.3700,2,-999.0000,9,    222.9,2,    218.1,2,    31.62,2,    20.10,2,     0.17,2,     1.63,2,   2132.4,2,   2225.1,2,   9.2984
  32WC20070511,NACPWC,        5,    39,  1, 390123,     23,2,   70524,0431, 41.9200,-124.6400,  601,     10.3,   9.3000,   33.3300,2,  33.3200,2,    224.5,2,    218.3,2,    30.63,2,    19.84,2,     0.17,2,     1.60,2,   2130.7,2,   2226.8,4,   9.2989
  32WC20070511,NACPWC,        5,    39,  1, 390124,     24,2,   70524,0432, 41.9200,-124.6400,  601,      5.1,   9.3000,   33.3200,2,-999.0000,9,    224.3,2,   -999.0,9,    30.70,2,    19.90,2,     0.17,2,     1.59,2,   2130.0,2,   2222.7,2,   9.2995