BOTTLE,20120405PRINUNIVRMK
EXPOCODE,SECT_ID,LINE,STNNBR,CASTNO,SAMPNO,BTLNBR,BTLNBR_FLAG_W,DATE,TIME,LATITUDE,LONGITUDE,DEPTH,CTDPRS,CTDTMP,CTDSAL,CTDSAL_FLAG_W,SALNTY,SALNTY_FLAG_W,CTDOXY,CTDOXY_FLAG_W,OXYGEN,OXYGEN_FLAG_W,SILCAT,SILCAT_FLAG_W,NITRAT,NITRAT_FLAG_W,NITRIT,NITRIT_FLAG_W,PHSPHT,PHSPHT_FLAG_W,TCARBN,TCARBN_FLAG_W,ALKALI,ALKALI_FLAG_W,THETA
,,,,,,,,,,,,METERS,DBAR,ITS-90,PSS-78,,PSS-78,,UMOL/KG,,UMOL/KG,,UMOL/KG,,UMOL/KG,,UMOL/KG,,UMOL/KG,,UMOL/KG,,UMOL/KG,,DEG C
  32WC20070511,NACPWC,       11,    92,  1, 920101,      1,2,   70607,1055, 31.5200,-117.1100, 1233,   1230.1,   3.4000,   34.5300,2,  34.5300,2,     32.4,2,     33.2,2,   134.11,2,    41.45,2,     0.01,2,     3.11,2,   2369.9,6,   2386.2,6,   3.3104
  32WC20070511,NACPWC,       11,    92,  1, 920102,      2,2,   70607,1101, 31.5200,-117.1100, 1233,    999.5,   4.0000,   34.4900,2,-999.0000,9,     22.7,2,     23.0,2,   120.73,2,    42.22,2,     0.01,2,     3.13,2,   2358.3,6,   2370.6,2,   3.9244
  32WC20070511,NACPWC,       11,    92,  1, 920103,      3,2,   70607,1107, 31.5200,-117.1100, 1233,    800.8,   4.8000,   34.4300,2,-999.0000,9,     12.3,2,     12.5,2,   103.48,6,    41.93,6,     0.00,6,     3.11,6,   2346.0,2,   2352.0,2,   4.7358
  32WC20070511,NACPWC,       11,    92,  1, 920104,      4,2,   70607,1115, 31.5200,-117.1100, 1233,    499.8,   6.4000,   34.3400,2,-999.0000,9,     12.6,2,     12.3,2,    75.87,2,    37.71,2,     0.01,2,     2.97,2,   2307.5,2,   2315.7,2,   6.3549
  32WC20070511,NACPWC,       11,    92,  1, 920105,      5,2,   70607,1118, 31.5200,-117.1100, 1233,    401.2,   7.1000,   34.3100,2,-999.0000,9,     22.7,2,     22.5,2,    64.42,2,    35.27,2,     0.01,2,     2.81,2,   2291.8,2,   2301.1,2,   7.0620
  32WC20070511,NACPWC,       11,    92,  1, 920106,      6,2,   70607,1121, 31.5200,-117.1100, 1233,    350.1,   7.4000,   34.2800,2,-999.0000,9,     33.2,2,     32.8,2,    58.77,2,    33.93,2,     0.01,2,     2.70,2,   2279.7,2,   2296.6,2,   7.3662
  32WC20070511,NACPWC,       11,    92,  1, 920107,      7,2,   70607,1123, 31.5200,-117.1100, 1233,    301.1,   7.9000,   34.2500,2,-999.0000,9,     45.9,2,     43.6,2,    52.74,2,    32.36,2,     0.01,2,     2.57,2,   2263.2,2,   2303.5,2,   7.8699
  32WC20070511,NACPWC,       11,    92,  1, 920108,      8,2,   70607,1126, 31.5200,-117.1100, 1233,    250.0,   8.4000,   34.2300,2,-999.0000,9,     60.1,2,     58.1,2,    45.95,2,    30.39,2,     0.01,2,     2.40,2,   2246.6,2,   2288.8,6,   8.3741
  32WC20070511,NACPWC,       11,    92,  1, 920109,      9,2,   70607,1128, 31.5200,-117.1100, 1233,    201.8,   8.8000,   34.1500,2,-999.0000,9,     85.9,2,     83.7,2,    38.77,2,    28.08,2,     0.01,2,     2.16,2,   2218.7,2,   2271.1,2,   8.7786
  32WC20070511,NACPWC,       11,    92,  1, 920110,     10,2,   70607,1130, 31.5200,-117.1100, 1233,    175.4,   9.2000,   34.1400,2,-999.0000,9,     84.2,2,     84.3,2,    36.50,2,    27.44,2,     0.01,2,     2.13,2,   2213.4,2,   2270.0,2,   9.1809
  32WC20070511,NACPWC,       11,    92,  1, 920111,     11,2,   70607,1131, 31.5200,-117.1100, 1233,    149.8,   9.5000,   34.1000,2,-999.0000,9,     90.5,2,     94.7,2,    33.48,2,    26.34,2,     0.01,2,     2.06,2,   2205.2,2,   2262.1,2,   9.4834
  32WC20070511,NACPWC,       11,    92,  1, 920112,     12,2,   70607,1132, 31.5200,-117.1100, 1233,    129.8,   9.4000,   33.9600,2,-999.0000,9,    118.1,2,    118.8,2,    29.25,2,    24.48,2,     0.01,2,     1.86,2,   2180.4,2,   2256.4,2,   9.3858
  32WC20070511,NACPWC,       11,    92,  1, 920113,     13,2,   70607,1134, 31.5200,-117.1100, 1233,    110.1,   9.4000,   33.8500,2,-999.0000,9,    150.9,2,    152.2,2,    24.78,2,    21.80,2,     0.02,2,     1.60,2,   2152.6,2,   2243.8,2,   9.3880
  32WC20070511,NACPWC,       11,    92,  1, 920114,     14,2,   70607,1135, 31.5200,-117.1100, 1233,     90.1,   9.6000,   33.8200,2,-999.0000,9,    151.0,2,    151.5,2,    23.57,2,    21.13,2,     0.02,2,     1.58,2,   2148.0,2,   2240.6,2,   9.5900
  32WC20070511,NACPWC,       11,    92,  1, 920115,     15,2,   70607,1137, 31.5200,-117.1100, 1233,     70.5,  10.3000,   33.6500,2,-999.0000,9,    183.3,2,    181.6,2,    16.50,2,    16.54,2,     0.02,2,     1.24,2,   2107.7,2,   2228.5,2,  10.2919
  32WC20070511,NACPWC,       11,    92,  1, 920116,     16,2,   70607,1138, 31.5200,-117.1100, 1233,     60.4,  11.0000,   33.5800,2,-999.0000,9,    188.3,2,    189.7,2,    13.87,2,    14.53,2,     0.03,2,     1.12,2,   2097.4,2,   2228.8,2,  10.9927
  32WC20070511,NACPWC,       11,    92,  1, 920117,     17,2,   70607,1140, 31.5200,-117.1100, 1233,     49.5,  12.3000,   33.5500,2,-999.0000,9,    222.4,2,    216.7,2,     8.94,2,     9.68,2,     0.14,2,     0.86,2,   2071.2,2,   2225.5,2,  12.2936
  32WC20070511,NACPWC,       11,    92,  1, 920118,     18,2,   70607,1141, 31.5200,-117.1100, 1233,     38.7,  13.2000,   33.5600,2,-999.0000,9,    240.5,2,    240.9,6,     7.02,6,     5.46,6,     0.22,6,     0.61,6,   2052.2,2,   2233.4,2,  13.1947
  32WC20070511,NACPWC,       11,    92,  1, 920119,     19,2,   70607,1142, 31.5200,-117.1100, 1233,     29.9,  14.2000,   33.5700,2,-999.0000,9,    266.3,2,    267.6,2,     4.22,2,     1.96,2,     0.07,2,     0.39,2,   2025.9,2,   2235.7,2,  14.1957
  32WC20070511,NACPWC,       11,    92,  1, 920120,     20,2,   70607,1143, 31.5200,-117.1100, 1233,     24.7,  15.9000,   33.6300,2,-999.0000,9,    254.5,2,    253.3,2,     2.86,2,     0.58,2,     0.01,2,     0.24,2,   2009.8,2,   2239.8,2,  15.8962
  32WC20070511,NACPWC,       11,    92,  1, 920121,     21,2,   70607,1144, 31.5200,-117.1100, 1233,     20.5,  16.1000,   33.6400,2,-999.0000,9,    252.1,2,    251.5,2,     2.72,2,     0.55,2,     0.01,2,     0.24,2,   2012.9,2,   2239.8,2,  16.0968
  32WC20070511,NACPWC,       11,    92,  1, 920122,     22,2,   70607,1145, 31.5200,-117.1100, 1233,     13.9,  16.1000,   33.6400,2,-999.0000,9,    251.8,2,    251.5,2,     2.69,2,     0.51,2,     0.01,2,     0.22,2,   2013.6,2,   2243.2,2,  16.0978
  32WC20070511,NACPWC,       11,    92,  1, 920123,     23,2,   70607,1146, 31.5200,-117.1100, 1233,      9.2,  16.1000,   33.6400,2,  33.6400,2,    251.6,2,    251.6,2,     2.65,2,     0.51,2,     0.01,2,     0.22,2,   2012.8,2,   2238.1,2,  16.0986
  32WC20070511,NACPWC,       11,    92,  1, 920124,     24,2,   70607,1147, 31.5200,-117.1100, 1233,      5.2,  16.1000,   33.6400,2,-999.0000,9,    251.8,2,    251.3,2,     2.64,2,     0.50,2,     0.01,2,     0.22,2,   2012.4,2,   2238.9,2,  16.0992
  32WC20070511,NACPWC,       11,    93,  1, 930101,      1,2,   70607,1608, 31.6200,-116.9100, 1146,   1135.0,   3.9000,   34.5000,2,  34.5000,2,     24.4,2,     24.8,2,   123.92,6,    41.77,6,     0.01,6,     3.12,6,   2366.5,6,   2372.0,2,   3.8138
  32WC20070511,NACPWC,       11,    93,  1, 930102,      2,2,   70607,1618, 31.6200,-116.9100, 1146,    800.1,   5.0000,   34.4200,2,-999.0000,9,     11.2,2,     12.0,2,   100.63,6,    41.35,6,     0.01,6,     3.13,6,   2343.2,6,   2343.7,2,   4.9346
  32WC20070511,NACPWC,       11,    93,  1, 930103,      3,2,   70607,1624, 31.6200,-116.9100, 1146,    601.7,   6.1000,   34.3600,2,-999.0000,9,      9.8,2,     10.1,2,    80.53,2,    38.19,2,     0.01,2,     3.03,2,   2325.2,2,   2319.3,2,   6.0467
  32WC20070511,NACPWC,       11,    93,  1, 930104,      4,2,   70607,1628, 31.6200,-116.9100, 1146,    500.1,   6.7000,   34.3500,2,-999.0000,9,     13.2,2,     13.9,2,    72.00,2,    36.49,2,     0.01,2,     2.94,2,   2310.5,2,   2307.6,2,   6.6538
  32WC20070511,NACPWC,       11,    93,  1, 930105,      5,2,   70607,1632, 31.6200,-116.9100, 1146,    399.3,   7.5000,   34.3000,2,-999.0000,9,     27.5,2,     27.7,2,    60.07,2,    33.75,2,     0.01,2,     2.74,2,   2287.6,2,   2292.3,2,   7.4610
  32WC20070511,NACPWC,       11,    93,  1, 930106,      6,2,   70607,1635, 31.6200,-116.9100, 1146,    351.2,   8.0000,   34.3200,2,-999.0000,9,     29.8,2,     29.2,2,    55.20,2,    32.17,2,     0.02,2,     2.68,2,   2283.0,2,   2289.4,2,   7.9645
  32WC20070511,NACPWC,       11,    93,  1, 930107,      7,2,   70607,1637, 31.6200,-116.9100, 1146,    300.5,   8.3000,   34.3200,2,-999.0000,9,     33.3,2,     32.9,2,    52.27,2,    31.50,2,     0.02,2,     2.60,2,   2275.2,2,   2287.9,2,   8.2690
  32WC20070511,NACPWC,       11,    93,  1, 930108,      8,2,   70607,1640, 31.6200,-116.9100, 1146,    248.4,   8.6000,   34.2900,2,-999.0000,9,     43.5,2,     44.9,2,    46.70,2,    29.96,2,     0.01,2,     2.47,2,   2258.4,2,   2285.1,2,   8.5739
  32WC20070511,NACPWC,       11,    93,  1, 930109,      9,2,   70607,1642, 31.6200,-116.9100, 1146,    200.2,   9.2000,   34.3200,2,-999.0000,9,     46.8,2,     46.3,2,    42.93,2,    28.66,2,     0.01,2,     2.41,2,   2252.3,2,   2280.7,2,   9.1781
  32WC20070511,NACPWC,       11,    93,  1, 930110,     10,2,   70607,1644, 31.6200,-116.9100, 1146,    176.2,   9.3000,   34.3100,2,-999.0000,9,     49.3,2,     49.1,2,    41.44,2,    28.16,2,     0.02,2,     2.38,2,   2249.4,2,   2279.4,2,   9.2807
  32WC20070511,NACPWC,       11,    93,  1, 930111,     11,2,   70607,1646, 31.6200,-116.9100, 1146,    150.3,   9.4000,   34.2200,2,-999.0000,9,     69.7,2,     69.5,6,    37.18,2,    27.20,2,     0.02,2,     2.21,2,   2228.7,2,   2271.2,2,   9.3834
  32WC20070511,NACPWC,       11,    93,  1, 930112,     12,2,   70607,1648, 31.6200,-116.9100, 1146,    129.5,   9.9000,   34.2100,2,-999.0000,9,     77.4,2,     73.7,2,    34.55,2,    26.30,2,     0.02,2,     2.14,2,   2222.3,2,   2266.1,2,   9.8853
  32WC20070511,NACPWC,       11,    93,  1, 930113,     13,2,   70607,1650, 31.6200,-116.9100, 1146,    109.5,  10.0000,   34.1100,2,-999.0000,9,    102.0,2,     87.6,2,    31.16,2,    25.04,2,     0.02,2,     2.02,2,   2205.5,2,   2258.5,2,   9.9875
  32WC20070511,NACPWC,       11,    93,  1, 930114,     14,2,   70607,1652, 31.6200,-116.9100, 1146,     91.4,   9.6000,   33.9000,2,-999.0000,9,    123.7,2,    125.8,2,    26.88,2,    22.99,2,     0.03,2,     1.74,2,   2172.3,2,   2244.6,2,   9.5899
  32WC20070511,NACPWC,       11,    93,  1, 930115,     15,2,   70607,1654, 31.6200,-116.9100, 1146,     69.8,  10.3000,   33.7200,2,-999.0000,9,    155.9,2,    151.2,2,    19.78,2,    18.91,2,     0.02,2,     1.47,2,   2139.7,2,   2230.8,2,  10.2919
  32WC20070511,NACPWC,       11,    93,  1, 930116,     16,2,   70607,1656, 31.6200,-116.9100, 1146,     60.5,  10.7000,   33.6100,2,-999.0000,9,    181.8,2,    184.4,2,    14.36,2,    14.81,2,     0.04,2,     1.14,2,   2104.6,2,   2222.7,2,  10.6928
  32WC20070511,NACPWC,       11,    93,  1, 930117,     17,2,   70607,1657, 31.6200,-116.9100, 1146,     50.2,  11.4000,   33.5700,2,-999.0000,9,    189.5,2,    188.1,2,    12.53,2,    13.18,2,     0.15,2,     1.06,2,   2099.4,2,   2223.2,2,  11.3938
  32WC20070511,NACPWC,       11,    93,  1, 930118,     18,2,   70607,1658, 31.6200,-116.9100, 1146,     39.6,  11.8000,   33.5600,2,-999.0000,9,    195.5,2,    200.6,2,    10.97,6,    11.04,6,     0.22,6,     0.96,6,   2086.8,2,   2226.0,2,  11.7950
  32WC20070511,NACPWC,       11,    93,  1, 930119,     19,2,   70607,1659, 31.6200,-116.9100, 1146,     28.7,  13.0000,   33.5400,2,-999.0000,9,    243.9,2,    239.3,2,     6.12,2,     5.70,2,     0.22,2,     0.60,2,   2053.2,2,   2225.0,2,  12.9961
  32WC20070511,NACPWC,       11,    93,  1, 930120,     20,2,   70607,1701, 31.6200,-116.9100, 1146,     25.0,  13.9000,   33.5600,2,-999.0000,9,    258.7,2,    266.0,2,     4.48,2,     2.22,2,     0.09,2,     0.38,2,   2031.6,2,   2230.7,2,  13.8965
  32WC20070511,NACPWC,       11,    93,  1, 930121,     21,2,   70607,1702, 31.6200,-116.9100, 1146,     19.8,  15.5000,   33.6100,2,-999.0000,9,    257.4,2,    261.0,6,     2.95,2,     0.45,2,     0.01,2,     0.23,2,   2017.6,2,   2233.5,2,  15.4970
  32WC20070511,NACPWC,       11,    93,  1, 930122,     22,2,   70607,1703, 31.6200,-116.9100, 1146,     15.3,  15.9000,   33.6300,2,-999.0000,9,    256.0,2,    258.0,2,     2.84,2,     0.46,2,     0.01,2,     0.22,2,   2013.1,2,   2238.2,2,  15.8976
  32WC20070511,NACPWC,       11,    93,  1, 930123,     23,2,   70607,1704, 31.6200,-116.9100, 1146,      9.5,  15.9000,   33.6400,2,  33.6400,2,    258.0,2,    257.2,2,     2.85,2,     0.46,2,     0.01,2,     0.21,2,   2009.7,2,   2236.1,2,  15.8985
  32WC20070511,NACPWC,       11,    93,  1, 930124,     24,2,   70607,1706, 31.6200,-116.9100, 1146,      5.0,  16.1000,   33.6500,2,-999.0000,9,    258.0,2,    256.8,2,     2.83,2,     0.48,2,     0.01,2,     0.21,2,   2007.7,2,   2239.8,2,  16.0992
  32WC20070511,NACPWC,       11,    94,  1, 940101,      1,2,   70607,1951, 31.6900,-116.7700,  406,    395.8,   7.7000,   34.3100,2,  34.3000,2,     25.1,2,     25.1,2,    59.40,6,    32.80,6,     0.15,6,     2.74,6,   2287.1,6,   2299.4,2,   7.6607
  32WC20070511,NACPWC,       11,    94,  1, 940102,      2,2,   70607,1954, 31.6900,-116.7700,  406,    349.2,   8.0000,   34.3000,2,-999.0000,9,     29.1,2,     34.6,2,    51.89,2,    30.99,2,     0.14,2,     2.58,2,   2270.1,6,   2287.1,2,   7.9647
  32WC20070511,NACPWC,       11,    94,  1, 940103,      3,2,   70607,1956, 31.6900,-116.7700,  406,    300.7,   8.5000,   34.3000,2,-999.0000,9,     36.1,2,     35.8,2,    50.38,2,    30.44,2,     0.13,2,     2.58,2,   2273.8,2,   2287.0,2,   8.4685
  32WC20070511,NACPWC,       11,    94,  1, 940104,      4,2,   70607,1958, 31.6900,-116.7700,  406,    250.0,   8.9000,   34.2900,2,-999.0000,9,     45.5,2,     41.7,6,    46.37,2,    29.55,2,     0.12,2,     2.48,2,   2260.0,2,   2281.2,2,   8.8732
  32WC20070511,NACPWC,       11,    94,  1, 940105,      5,2,   70607,2000, 31.6900,-116.7700,  406,    225.0,   9.0000,   34.2800,2,-999.0000,9,     50.2,2,     48.9,2,    43.84,2,    29.00,2,     0.07,2,     2.42,2,   2250.8,2,   2278.3,2,   8.9757
  32WC20070511,NACPWC,       11,    94,  1, 940106,      6,2,   70607,2001, 31.6900,-116.7700,  406,    200.4,   9.2000,   34.2600,2,-999.0000,9,     49.3,2,     49.3,2,    42.17,2,    28.52,2,     0.03,2,     2.38,2,   2248.3,2,   2275.5,2,   9.1781
  32WC20070511,NACPWC,       11,    94,  1, 940107,      7,2,   70607,2003, 31.6900,-116.7700,  406,    174.6,   9.3000,   34.2400,2,-999.0000,9,     54.0,2,     53.9,2,    40.55,2,    28.24,2,     0.07,2,     2.33,2,   2243.3,2,   2272.4,2,   9.2809
  32WC20070511,NACPWC,       11,    94,  1, 940108,      8,2,   70607,2005, 31.6900,-116.7700,  406,    150.0,   9.4000,   34.2100,2,-999.0000,9,     55.5,2,     55.4,2,    38.43,2,    27.86,2,     0.05,2,     2.28,2,   2238.8,2,   2266.9,2,   9.3835
  32WC20070511,NACPWC,       11,    94,  1, 940109,      9,2,   70607,2007, 31.6900,-116.7700,  406,    130.7,   9.5000,   34.1500,2,-999.0000,9,     70.0,2,     70.0,2,    35.96,2,    26.87,2,     0.02,2,     2.18,2,   2222.7,2,   2262.8,2,   9.4855
  32WC20070511,NACPWC,       11,    94,  1, 940110,     10,2,   70607,2008, 31.6900,-116.7700,  406,    109.2,   9.5000,   34.0800,2,-999.0000,9,     81.6,2,     80.8,2,    34.35,2,    26.29,2,     0.03,2,     2.10,2,   2211.7,2,   2256.8,2,   9.4879
  32WC20070511,NACPWC,       11,    94,  1, 940111,     11,2,   70607,2009, 31.6900,-116.7700,  406,     90.9,   9.7000,   34.0000,2,-999.0000,9,     84.8,2,     87.2,2,    31.99,2,    25.65,2,     0.02,2,     2.02,2,   2203.6,2,   2251.3,2,   9.6898
  32WC20070511,NACPWC,       11,    94,  1, 940112,     12,2,   70607,2011, 31.6900,-116.7700,  406,     70.4,  10.0000,   33.9300,2,-999.0000,9,    102.5,2,    101.6,2,    29.50,2,    24.10,2,     0.09,2,     1.93,2,   2189.9,2,   2247.6,2,   9.9920
  32WC20070511,NACPWC,       11,    94,  1, 940113,     13,2,   70607,2012, 31.6900,-116.7700,  406,     60.1,  10.1000,   33.9200,2,-999.0000,9,    106.4,2,     98.3,2,    29.00,2,    24.53,2,     0.09,2,     1.94,2,   2195.0,2,   2242.5,2,  10.0931
  32WC20070511,NACPWC,       11,    94,  1, 940114,     14,2,   70607,2013, 31.6900,-116.7700,  406,     49.7,  10.1000,   33.8500,2,-999.0000,9,    123.2,2,    120.8,2,    25.82,2,    22.53,2,     0.09,2,     1.77,2,   2174.2,2,   2239.9,2,  10.0943
  32WC20070511,NACPWC,       11,    94,  1, 940115,     15,2,   70607,2013, 31.6900,-116.7700,  406,     40.0,  10.5000,   33.8200,2,-999.0000,9,    126.7,2,    125.0,2,    24.45,2,    20.88,2,     0.34,2,     1.69,2,   2170.4,2,   2240.5,2,  10.4953
  32WC20070511,NACPWC,       11,    94,  1, 940116,     16,2,   70607,2014, 31.6900,-116.7700,  406,     29.6,  11.3000,   33.7700,2,-999.0000,9,    137.8,2,    142.8,2,    21.52,2,    12.94,2,     0.33,2,     1.22,2,   2155.8,2,   2242.8,2,  11.2964
  32WC20070511,NACPWC,       11,    94,  1, 940117,     17,2,   70607,2015, 31.6900,-116.7700,  406,     25.1,  11.7000,   33.6900,2,-999.0000,9,    173.3,2,    171.4,6,    16.46,6,    10.09,6,     0.47,6,     0.99,6,   2132.8,2,   2238.9,2,  11.6968
  32WC20070511,NACPWC,       11,    94,  1, 940118,     18,2,   70607,2016, 31.6900,-116.7700,  406,     20.0,  12.1000,   33.6500,2,-999.0000,9,    181.6,2,    177.1,2,    13.34,2,     1.29,2,     0.10,2,     0.43,2,   2141.4,2,   2242.6,2,  12.0974
  32WC20070511,NACPWC,       11,    94,  1, 940119,     19,2,   70607,2017, 31.6900,-116.7700,  406,     14.9,  13.2000,   33.6900,2,-999.0000,9,    273.4,2,   -999.0,9,    12.13,2,     0.16,2,     0.05,2,     0.23,2,   2093.7,6,   -999.0,9,  13.1980
  32WC20070511,NACPWC,       11,    94,  1, 940120,     20,2,   70607,2017, 31.6900,-116.7700,  406,     14.9,  13.2000,   33.6900,2,-999.0000,9,    257.7,2,    212.6,2,    12.26,2,     0.16,2,     0.05,2,     0.24,2,   -999.0,9,   2246.0,2,  13.1980
  32WC20070511,NACPWC,       11,    94,  1, 940121,     21,2,   70607,2018, 31.6900,-116.7700,  406,      9.9,  14.6000,   33.7200,2,-999.0000,9,    317.4,2,   -999.0,9,  -999.00,9,  -999.00,9,  -999.00,9,  -999.00,9,   -999.0,9,   -999.0,9,  14.5986
  32WC20070511,NACPWC,       11,    94,  1, 940122,     22,2,   70607,2019, 31.6900,-116.7700,  406,      9.9,  14.5000,   33.7200,2,-999.0000,9,    313.8,2,    315.3,2,    12.80,2,     0.03,2,     0.02,2,     0.19,2,   1961.7,6,   2252.2,2,  14.4986
  32WC20070511,NACPWC,       11,    94,  1, 940123,     23,2,   70607,2019, 31.6900,-116.7700,  406,      4.6,  14.9000,   33.7200,2,  33.7200,2,    322.0,2,   -999.0,9,  -999.00,9,  -999.00,9,  -999.00,9,  -999.00,9,   -999.0,9,   -999.0,9,  14.8993
  32WC20070511,NACPWC,       11,    94,  1, 940124,     24,2,   70607,2019, 31.6900,-116.7700,  406,      4.6,  14.9000,   33.7200,2,-999.0000,9,    322.3,2,    325.3,2,    12.81,2,     0.00,2,     0.02,2,     0.18,2,   1949.4,6,   2253.3,2,  14.8993