BOTTLE,20120405PRINUNIVRMK
EXPOCODE,SECT_ID,LINE,STNNBR,CASTNO,SAMPNO,BTLNBR,BTLNBR_FLAG_W,DATE,TIME,LATITUDE,LONGITUDE,DEPTH,CTDPRS,CTDTMP,CTDSAL,CTDSAL_FLAG_W,SALNTY,SALNTY_FLAG_W,CTDOXY,CTDOXY_FLAG_W,OXYGEN,OXYGEN_FLAG_W,SILCAT,SILCAT_FLAG_W,NITRAT,NITRAT_FLAG_W,NITRIT,NITRIT_FLAG_W,PHSPHT,PHSPHT_FLAG_W,TCARBN,TCARBN_FLAG_W,ALKALI,ALKALI_FLAG_W,THETA
,,,,,,,,,,,,METERS,DBAR,ITS-90,PSS-78,,PSS-78,,UMOL/KG,,UMOL/KG,,UMOL/KG,,UMOL/KG,,UMOL/KG,,UMOL/KG,,UMOL/KG,,UMOL/KG,,DEG C
  32WC20070511,NACPWC,       12,   100,  1,1000101,      1,2,   70609,1022, 27.7200,-115.5400, 2301,   2270.2,   1.9000,   34.6500,2,  34.6500,2,     94.8,2,     99.4,2,   163.74,6,    38.38,6,     0.00,6,     2.80,6,   2371.5,6,   2422.9,6,   1.7420
  32WC20070511,NACPWC,       12,   100,  1,1000102,      2,2,   70609,1041, 27.7200,-115.5400, 2301,   1499.5,   3.1000,   34.5800,2,-999.0000,9,     42.3,2,     42.7,2,   141.85,2,    41.73,2,     0.00,2,     3.12,2,   2378.7,2,   2391.9,2,   2.9910
  32WC20070511,NACPWC,       12,   100,  1,1000103,      3,2,   70609,1056, 27.7200,-115.5400, 2301,    798.9,   5.3000,   34.4700,2,-999.0000,9,      7.8,2,      8.5,2,    95.65,6,    40.84,6,     0.00,6,     3.19,6,   2346.3,2,   2344.2,2,   5.2328
  32WC20070511,NACPWC,       12,   100,  1,1000104,      4,2,   70609,1103, 27.7200,-115.5400, 2301,    500.8,   6.8000,   34.3900,2,-999.0000,9,      9.1,2,     10.5,2,    71.84,2,    35.96,2,     0.00,2,     2.98,2,   2314.7,2,   2312.4,2,   6.7533
  32WC20070511,NACPWC,       12,   100,  1,1000105,      5,2,   70609,1106, 27.7200,-115.5400, 2301,    401.4,   7.8000,   34.3900,2,-999.0000,9,     14.5,2,     14.4,2,    59.98,2,    33.18,2,     0.01,2,     2.85,2,   2298.6,2,   2300.3,2,   7.7598
  32WC20070511,NACPWC,       12,   100,  1,1000106,      6,2,   70609,1108, 27.7200,-115.5400, 2301,    348.9,   8.5000,   34.4200,2,-999.0000,9,     15.7,2,     16.2,2,    53.33,2,    31.14,2,     0.01,2,     2.76,2,   2291.0,2,   2296.0,2,   8.4633
  32WC20070511,NACPWC,       12,   100,  1,1000107,      7,2,   70609,1110, 27.7200,-115.5400, 2301,    300.2,   9.0000,   34.4400,2,-999.0000,9,     17.9,2,     17.8,2,    48.84,2,    29.68,2,     0.01,2,     2.70,2,   2284.3,2,   2296.5,2,   8.9674
  32WC20070511,NACPWC,       12,   100,  1,1000108,      8,2,   70609,1112, 27.7200,-115.5400, 2301,    250.1,   9.4000,   34.4100,2,-999.0000,9,     25.3,2,     32.9,2,    43.47,2,    28.37,2,     0.01,2,     2.54,2,   2265.8,2,   2286.9,2,   9.3722
  32WC20070511,NACPWC,       12,   100,  1,1000109,      9,2,   70609,1114, 27.7200,-115.5400, 2301,    201.4,   9.2000,   34.2100,2,-999.0000,9,     77.6,2,     75.7,2,    37.84,2,    27.02,2,     0.01,2,     2.20,2,   2227.9,2,   2269.9,2,   9.1780
  32WC20070511,NACPWC,       12,   100,  1,1000110,     10,2,   70609,1116, 27.7200,-115.5400, 2301,    175.1,   9.7000,   34.2200,2,-999.0000,9,     76.4,2,     76.0,2,    35.46,2,    26.16,2,     0.01,2,     2.19,2,   2225.3,2,   2268.7,2,   9.6803
  32WC20070511,NACPWC,       12,   100,  1,1000111,     11,2,   70609,1117, 27.7200,-115.5400, 2301,    150.8,  10.1000,   34.1900,2,-999.0000,9,     83.8,2,     82.9,2,    32.40,2,    25.04,2,     0.01,2,     2.09,2,   2214.7,6,   2267.6,2,  10.0826
  32WC20070511,NACPWC,       12,   100,  1,1000112,     12,2,   70609,1120, 27.7200,-115.5400, 2301,    130.5,  10.3000,   34.1100,2,-999.0000,9,     94.4,2,     92.7,2,    29.49,2,    23.73,2,     0.01,2,     1.99,2,   2201.5,2,   2259.7,2,  10.2848
  32WC20070511,NACPWC,       12,   100,  1,1000113,     13,2,   70609,1122, 27.7200,-115.5400, 2301,    109.4,  10.4000,   33.9400,2,-999.0000,9,    118.9,2,    119.8,2,    24.95,2,    21.33,2,     0.01,2,     1.77,2,   2175.3,2,   2248.6,2,  10.3872
  32WC20070511,NACPWC,       12,   100,  1,1000114,     14,2,   70609,1123, 27.7200,-115.5400, 2301,     91.2,  10.6000,   33.7100,2,-999.0000,9,    154.8,2,    154.6,2,    18.78,2,    17.60,2,     0.02,2,     1.44,2,   2135.4,2,   2230.3,2,  10.5892
  32WC20070511,NACPWC,       12,   100,  1,1000115,     15,2,   70609,1125, 27.7200,-115.5400, 2301,     70.0,  12.0000,   33.6400,2,-999.0000,9,    161.9,2,     95.9,2,    14.17,2,    14.16,2,     0.03,2,     1.24,2,   2118.3,2,   2229.1,2,  11.9910
  32WC20070511,NACPWC,       12,   100,  1,1000116,     16,2,   70609,1126, 27.7200,-115.5400, 2301,     60.0,  12.6000,   33.5800,2,-999.0000,9,    189.7,2,    190.1,2,    10.55,2,    10.78,2,     0.04,2,     1.00,2,   2093.8,2,   2225.2,2,  12.5921
  32WC20070511,NACPWC,       12,   100,  1,1000117,     17,2,   70609,1128, 27.7200,-115.5400, 2301,     49.0,  13.3000,   33.6000,2,-999.0000,9,    208.3,2,    215.3,2,     7.75,6,     6.55,6,     0.47,6,     0.79,6,   2073.2,2,   2235.0,2,  13.2933
  32WC20070511,NACPWC,       12,   100,  1,1000118,     18,2,   70609,1129, 27.7200,-115.5400, 2301,     39.4,  14.1000,   33.6300,2,-999.0000,9,    233.3,2,    231.7,2,     5.95,2,     4.19,2,     0.30,2,     0.62,2,   2055.3,2,   2237.2,2,  14.0944
  32WC20070511,NACPWC,       12,   100,  1,1000119,     19,2,   70609,1130, 27.7200,-115.5400, 2301,     29.3,  14.3000,   33.6300,2,-999.0000,9,    236.1,2,    235.9,2,     5.31,2,     3.33,2,     0.27,2,     0.57,2,   2049.3,2,   2238.2,2,  14.2958
  32WC20070511,NACPWC,       12,   100,  1,1000120,     20,2,   70609,1131, 27.7200,-115.5400, 2301,     24.8,  14.3000,   33.6200,2,-999.0000,9,    238.6,2,    241.6,6,     4.53,2,     2.47,2,     0.22,2,     0.51,2,   2044.7,2,   2237.0,2,  14.2964
  32WC20070511,NACPWC,       12,   100,  1,1000121,     21,2,   70609,1133, 27.7200,-115.5400, 2301,     20.0,  15.0000,   33.6300,2,-999.0000,9,    261.0,2,    276.2,2,     0.95,2,     0.08,2,     0.01,2,     0.22,2,   2004.4,2,   2240.2,2,  14.9970
  32WC20070511,NACPWC,       12,   100,  1,1000122,     22,2,   70609,1134, 27.7200,-115.5400, 2301,     15.0,  15.3000,   33.6300,2,-999.0000,9,    270.8,2,    272.7,2,     1.16,2,     0.08,2,     0.01,2,     0.23,2,   2005.2,2,   2244.4,2,  15.2977
  32WC20070511,NACPWC,       12,   100,  1,1000123,     23,2,   70609,1135, 27.7200,-115.5400, 2301,      9.8,  15.5000,   33.6400,2,  33.6400,2,    274.1,2,    269.5,2,     1.25,2,     0.06,2,     0.01,2,     0.23,2,   2004.5,2,   2240.5,2,  15.4985
  32WC20070511,NACPWC,       12,   100,  1,1000124,     24,2,   70609,1136, 27.7200,-115.5400, 2301,      4.9,  15.5000,   33.6400,2,-999.0000,9,    273.9,2,    268.8,2,     1.24,2,     0.07,2,     0.01,2,     0.27,2,   2005.3,2,   2236.1,2,  15.4993
  32WC20070511,NACPWC,       12,   101,  1,1010101,      1,2,   70609,1652, 27.5500,-115.8700, 3779,   3780.1,   1.6000,   34.6800,2,  34.6800,6,    123.5,2,    122.7,2,   171.92,2,    36.75,2,     0.00,2,     2.61,2,   2357.7,6,   2433.7,6,   1.3020
  32WC20070511,NACPWC,       12,   101,  1,1010102,      2,2,   70609,1715, 27.5500,-115.8700, 3779,   2999.6,   1.7000,   34.6700,2,-999.0000,9,    115.1,2,    115.0,2,   168.94,2,    37.24,2,     0.00,2,     2.64,2,   2360.1,6,   2429.0,2,   1.4788
  32WC20070511,NACPWC,       12,   101,  1,1010103,      3,2,   70609,1743, 27.5500,-115.8700, 3779,   2000.9,   2.2000,   34.6300,2,-999.0000,9,     78.5,2,     79.0,2,   159.29,2,    39.24,2,     0.00,2,     2.86,2,   2374.2,2,   2414.7,2,   2.0604
  32WC20070511,NACPWC,       12,   101,  1,1010104,      4,2,   70609,1755, 27.5500,-115.8700, 3779,   1501.4,   3.0000,   34.5900,2,-999.0000,9,     46.3,2,     47.0,2,   144.57,6,    41.25,6,     0.00,6,     3.07,6,   2378.0,2,   2396.9,2,   2.8920
  32WC20070511,NACPWC,       12,   101,  1,1010105,      5,2,   70609,1812, 27.5500,-115.8700, 3779,    800.1,   5.0000,   34.4400,2,-999.0000,9,     10.6,2,     11.4,2,   100.32,2,    40.82,2,     0.00,2,     3.12,2,   2348.1,2,   2344.7,2,   4.9346
  32WC20070511,NACPWC,       12,   101,  1,1010106,      6,2,   70609,1821, 27.5500,-115.8700, 3779,    500.6,   6.6000,   34.3400,2,-999.0000,9,     13.0,2,     14.1,2,    73.46,2,    36.59,2,     0.00,2,     2.92,2,   2308.1,2,   2308.0,2,   6.5541
  32WC20070511,NACPWC,       12,   101,  1,1010107,      7,2,   70609,1825, 27.5500,-115.8700, 3779,    351.3,   7.7000,   34.2300,2,-999.0000,9,     46.6,2,     47.8,2,    54.47,2,    31.97,2,     0.00,2,     2.55,2,   2268.2,2,   2284.6,2,   7.6653
  32WC20070511,NACPWC,       12,   101,  1,1010108,      8,2,   70609,1831, 27.5500,-115.8700, 3779,    249.8,   9.3000,   34.2800,2,-999.0000,9,     61.8,2,     61.4,2,    40.62,2,    27.52,2,     0.01,2,     2.29,2,   2237.9,2,   2274.6,2,   9.2725
  32WC20070511,NACPWC,       12,   101,  1,1010109,      9,2,   70609,1833, 27.5500,-115.8700, 3779,    200.7,   9.7000,   34.1800,2,-999.0000,9,     89.0,2,     88.9,2,    33.93,2,    25.17,2,     0.01,2,     2.05,2,   2208.5,2,   2265.1,2,   9.6774
  32WC20070511,NACPWC,       12,   101,  1,1010110,     10,2,   70609,1835, 27.5500,-115.8700, 3779,    175.1,  10.2000,   34.1300,2,-999.0000,9,     91.0,2,     88.6,2,    31.39,2,    24.22,2,     0.01,2,     2.02,2,   2206.3,2,   2259.1,2,  10.1797
  32WC20070511,NACPWC,       12,   101,  1,1010111,     11,2,   70609,1837, 27.5500,-115.8700, 3779,    149.9,  10.1000,   33.9100,2,-999.0000,9,    126.4,2,    128.4,2,    25.47,2,    21.37,2,     0.01,2,     1.70,2,   2166.6,2,   2242.5,2,  10.0828
  32WC20070511,NACPWC,       12,   101,  1,1010112,     12,2,   70609,1839, 27.5500,-115.8700, 3779,    130.3,  10.8000,   33.7300,2,-999.0000,9,    149.1,2,    150.2,2,    19.55,2,    17.83,2,     0.01,2,     1.46,2,   2136.3,2,   2231.9,2,  10.7844
  32WC20070511,NACPWC,       12,   101,  1,1010113,     13,2,   70609,1841, 27.5500,-115.8700, 3779,    110.1,  11.7000,   33.6400,2,-999.0000,9,    164.0,2,    159.9,2,    15.57,2,    14.87,2,     0.02,2,     1.36,2,   2118.1,2,   2225.7,2,  11.6861
  32WC20070511,NACPWC,       12,   101,  1,1010114,     14,2,   70609,1842, 27.5500,-115.8700, 3779,     90.2,  12.5000,   33.5900,2,-999.0000,9,    167.8,2,    176.5,2,    11.81,2,    11.35,2,     0.03,2,     1.13,2,   2096.7,2,   2224.0,2,  12.4881
  32WC20070511,NACPWC,       12,   101,  1,1010115,     15,2,   70609,1844, 27.5500,-115.8700, 3779,     70.9,  14.1000,   33.6000,2,-999.0000,9,    212.2,2,    218.2,2,     6.20,2,     4.06,2,     0.09,2,     0.64,2,   2047.0,2,   2226.7,2,  14.0899
  32WC20070511,NACPWC,       12,   101,  1,1010116,     16,2,   70609,1846, 27.5500,-115.8700, 3779,     59.5,  15.2000,   33.6400,2,-999.0000,9,    234.7,2,    235.2,6,     4.14,2,     0.94,2,     0.14,2,     0.46,2,   2032.4,2,   2235.7,2,  15.1910
  32WC20070511,NACPWC,       12,   101,  1,1010117,     17,2,   70609,1847, 27.5500,-115.8700, 3779,     49.3,  15.6000,   33.5400,2,-999.0000,9,    251.4,2,    252.3,2,     3.21,2,     0.04,2,     0.00,2,     0.33,2,   2011.7,2,   2230.5,2,  15.5925
  32WC20070511,NACPWC,       12,   101,  1,1010118,     18,2,   70609,1848, 27.5500,-115.8700, 3779,     40.4,  16.7000,   33.7000,2,-999.0000,9,    250.0,2,    247.9,2,     2.85,2,     0.03,2,     0.00,2,     0.31,2,   2018.3,2,   2239.2,2,  16.6935
  32WC20070511,NACPWC,       12,   101,  1,1010119,     19,2,   70609,1850, 27.5500,-115.8700, 3779,     29.4,  17.3000,   33.7200,2,-999.0000,9,    243.2,2,    243.9,2,     2.88,2,     0.03,2,     0.00,2,     0.29,2,   2018.8,2,   2244.1,2,  17.2952
  32WC20070511,NACPWC,       12,   101,  1,1010120,     20,2,   70609,1851, 27.5500,-115.8700, 3779,     24.8,  17.3000,   33.7300,2,-999.0000,9,    242.6,2,    243.7,2,     2.85,2,     0.02,2,     0.00,2,     0.28,2,   2019.7,2,   2244.7,2,  17.2959
  32WC20070511,NACPWC,       12,   101,  1,1010121,     21,2,   70609,1852, 27.5500,-115.8700, 3779,     20.0,  17.4000,   33.7300,2,-999.0000,9,    243.3,2,    242.7,2,     2.84,2,     0.02,2,     0.00,2,     0.28,2,   2019.3,2,   2246.2,2,  17.3967
  32WC20070511,NACPWC,       12,   101,  1,1010122,     22,2,   70609,1854, 27.5500,-115.8700, 3779,     15.6,  17.4000,   33.7300,2,-999.0000,9,    243.2,2,    243.1,2,     2.85,2,     0.02,2,     0.00,2,     0.27,2,   2020.0,2,   2245.6,2,  17.3974
  32WC20070511,NACPWC,       12,   101,  1,1010123,     23,2,   70609,1855, 27.5500,-115.8700, 3779,     10.4,  17.4000,   33.7300,2,  33.7300,2,    243.0,2,    243.1,2,     2.87,2,     0.02,2,     0.00,2,     0.27,2,   2017.6,2,   2254.9,2,  17.3983
  32WC20070511,NACPWC,       12,   101,  1,1010124,     24,2,   70609,1857, 27.5500,-115.8700, 3779,      5.7,  17.4000,   33.7200,2,-999.0000,9,    242.8,2,    242.8,2,     2.87,2,     0.03,2,     0.00,2,     0.27,2,   2021.2,2,   2246.2,2,  17.3991
  32WC20070511,NACPWC,       12,   102,  1,1020101,      1,2,   70609,2348, 27.3900,-116.1900, 3681,   3736.9,   1.6000,   34.6800,2,  34.6800,6,    127.5,2,    127.1,2,   170.69,6,    36.39,6,     0.00,6,     2.65,6,   2353.0,6,   2428.2,6,   1.3066
  32WC20070511,NACPWC,       12,   102,  1,1020102,      2,2,   70609,0004, 27.3900,-116.1900, 3681,   3000.6,   1.7000,   34.6700,2,-999.0000,9,    116.2,2,    116.2,2,   169.40,2,    37.06,2,     0.00,2,     2.70,2,   2359.1,6,   2426.4,2,   1.4787
  32WC20070511,NACPWC,       12,   102,  1,1020103,      3,2,   70609,0025, 27.3900,-116.1900, 3681,   1999.8,   2.2000,   34.6400,2,-999.0000,9,     80.2,2,     81.1,2,   159.44,2,    39.11,2,     0.00,2,     2.90,2,   2372.9,2,   2422.2,2,   2.0605
  32WC20070511,NACPWC,       12,   102,  1,1020104,      4,2,   70609,0036, 27.3900,-116.1900, 3681,   1500.4,   2.9000,   34.5800,2,-999.0000,9,     47.0,2,     47.9,2,   145.04,2,    40.95,2,     0.00,2,     3.09,2,   2376.6,2,   2397.6,2,   2.7933
  32WC20070511,NACPWC,       12,   102,  1,1020105,      5,2,   70609,0049, 27.3900,-116.1900, 3681,    800.5,   4.8000,   34.4600,2,-999.0000,9,     11.9,2,     12.1,2,   102.67,6,    41.11,6,     0.00,6,     3.16,6,   2348.5,2,   2348.8,2,   4.7357
  32WC20070511,NACPWC,       12,   102,  1,1020106,      6,2,   70609,0056, 27.3900,-116.1900, 3681,    499.8,   6.6000,   34.3400,2,-999.0000,9,     14.8,2,     13.3,2,    72.38,2,    36.19,2,     0.00,2,     2.98,2,   2309.7,2,   2311.9,2,   6.5542
  32WC20070511,NACPWC,       12,   102,  1,1020107,      7,2,   70609,0100, 27.3900,-116.1900, 3681,    351.6,   8.2000,   34.3400,2,-999.0000,9,     30.4,2,     29.8,2,    52.86,2,    31.04,2,     0.00,2,     2.70,2,   2278.5,2,   2293.3,2,   8.1639
  32WC20070511,NACPWC,       12,   102,  1,1020108,      8,2,   70609,0103, 27.3900,-116.1900, 3681,    249.8,   9.1000,   34.2600,2,-999.0000,9,     69.2,2,     65.6,2,    40.48,2,    27.46,2,     0.00,2,     2.31,2,   2235.2,2,   2273.9,2,   9.0729
  32WC20070511,NACPWC,       12,   102,  1,1020109,      9,2,   70609,0105, 27.3900,-116.1900, 3681,    201.3,   9.8000,   34.1900,2,-999.0000,9,     88.5,2,     88.3,2,    33.01,2,    24.84,2,     0.00,2,     2.05,2,   2208.7,2,   2265.7,2,   9.7772
  32WC20070511,NACPWC,       12,   102,  1,1020110,     10,2,   70609,0106, 27.3900,-116.1900, 3681,    174.9,   9.9000,   34.0200,2,-999.0000,9,    117.0,2,    115.7,2,    28.23,2,    22.72,2,     0.01,2,     1.84,2,   2182.0,2,   2252.2,2,   9.8801
  32WC20070511,NACPWC,       12,   102,  1,1020111,     11,2,   70609,0107, 27.3900,-116.1900, 3681,    150.1,  10.5000,   33.8600,2,-999.0000,9,    127.6,2,    129.5,6,    22.99,2,    20.20,2,     0.01,2,     1.67,2,   2159.4,2,   2245.2,2,  10.4823
  32WC20070511,NACPWC,       12,   102,  1,1020112,     12,2,   70609,0109, 27.3900,-116.1900, 3681,    130.6,  11.2000,   33.7300,2,-999.0000,9,    149.3,2,    146.0,2,    18.46,2,    17.27,2,     0.01,2,     1.47,2,   2135.7,2,   2232.6,2,  11.1840
  32WC20070511,NACPWC,       12,   102,  1,1020113,     13,2,   70609,0110, 27.3900,-116.1900, 3681,    109.4,  12.3000,   33.6000,2,-999.0000,9,    171.9,2,    177.3,2,    11.84,2,    11.85,2,     0.03,2,     1.06,2,   2095.8,2,   2225.3,2,  12.2858
  32WC20070511,NACPWC,       12,   102,  1,1020114,     14,2,   70609,0111, 27.3900,-116.1900, 3681,     90.3,  13.5000,   33.5200,2,-999.0000,9,    229.8,2,    221.2,2,     6.37,2,     5.06,2,     0.04,2,     0.61,2,   2051.4,2,   2212.1,2,  13.4875
  32WC20070511,NACPWC,       12,   102,  1,1020115,     15,2,   70609,0112, 27.3900,-116.1900, 3681,     70.1,  14.4000,   33.4800,2,-999.0000,9,    251.1,2,    249.6,2,     3.75,2,     0.63,2,     0.14,2,     0.35,2,   2023.7,2,   2228.6,2,  14.3899
  32WC20070511,NACPWC,       12,   102,  1,1020116,     16,2,   70609,0113, 27.3900,-116.1900, 3681,     59.2,  16.0000,   33.6800,2,-999.0000,9,    247.7,2,    245.7,2,     2.87,2,     0.01,2,     0.00,2,     0.29,2,   2020.4,2,   2239.0,2,  15.9908
  32WC20070511,NACPWC,       12,   102,  1,1020117,     17,2,   70609,0114, 27.3900,-116.1900, 3681,     50.5,  16.2000,   33.6700,2,-999.0000,9,    247.9,2,    248.3,2,     2.66,2,     0.01,2,     0.00,2,     0.26,2,   2017.8,2,   2241.8,2,  16.1921
  32WC20070511,NACPWC,       12,   102,  1,1020118,     18,2,   70609,0115, 27.3900,-116.1900, 3681,     39.7,  16.6000,   33.6500,2,-999.0000,9,    249.5,2,    249.7,2,     2.63,2,     0.01,2,     0.00,2,     0.24,2,   2015.5,2,   2239.4,2,  16.5936
  32WC20070511,NACPWC,       12,   102,  1,1020119,     19,2,   70609,0117, 27.3900,-116.1900, 3681,     29.4,  17.4000,   33.7300,2,-999.0000,9,    244.2,2,    243.4,2,     2.69,2,     0.00,2,     0.00,2,     0.24,2,   2016.0,2,   2244.2,2,  17.3951
  32WC20070511,NACPWC,       12,   102,  1,1020120,     20,2,   70609,0118, 27.3900,-116.1900, 3681,     23.9,  17.4000,   33.7300,2,-999.0000,9,    244.2,2,    243.3,2,     2.70,2,     0.00,2,     0.00,2,     0.25,2,   2018.6,2,   2242.5,2,  17.3960
  32WC20070511,NACPWC,       12,   102,  1,1020121,     21,2,   70609,0120, 27.3900,-116.1900, 3681,     20.5,  17.4000,   33.7000,2,-999.0000,9,    244.5,2,    243.8,2,     2.77,2,     0.02,2,     0.00,2,     0.25,2,   2017.0,2,   2243.3,2,  17.3966
  32WC20070511,NACPWC,       12,   102,  1,1020122,     22,2,   70609,0121, 27.3900,-116.1900, 3681,     14.9,  17.4000,   33.7000,2,-999.0000,9,    244.3,2,    243.6,2,     2.77,2,     0.03,2,     0.00,2,     0.25,2,   2017.9,2,   2241.3,2,  17.3975
  32WC20070511,NACPWC,       12,   102,  1,1020123,     23,2,   70609,0121, 27.3900,-116.1900, 3681,     10.2,  17.4000,   33.7000,2,  33.7000,2,    244.1,2,    243.9,2,     2.82,2,     0.03,2,     0.00,2,     0.25,2,   2016.5,2,   2241.8,2,  17.3983
  32WC20070511,NACPWC,       12,   102,  1,1020124,     24,2,   70609,0122, 27.3900,-116.1900, 3681,      4.9,  17.4000,   33.6900,2,-999.0000,9,    244.1,2,    244.2,2,     2.85,2,     0.04,2,     0.00,2,     0.26,2,   2018.7,2,   2241.9,2,  17.3992