BOTTLE,20120405PRINUNIVRMK
EXPOCODE,SECT_ID,LINE,STNNBR,CASTNO,SAMPNO,BTLNBR,BTLNBR_FLAG_W,DATE,TIME,LATITUDE,LONGITUDE,DEPTH,CTDPRS,CTDTMP,CTDSAL,CTDSAL_FLAG_W,SALNTY,SALNTY_FLAG_W,CTDOXY,CTDOXY_FLAG_W,OXYGEN,OXYGEN_FLAG_W,SILCAT,SILCAT_FLAG_W,NITRAT,NITRAT_FLAG_W,NITRIT,NITRIT_FLAG_W,PHSPHT,PHSPHT_FLAG_W,TCARBN,TCARBN_FLAG_W,ALKALI,ALKALI_FLAG_W,THETA
,,,,,,,,,,,,METERS,DBAR,ITS-90,PSS-78,,PSS-78,,UMOL/KG,,UMOL/KG,,UMOL/KG,,UMOL/KG,,UMOL/KG,,UMOL/KG,,UMOL/KG,,UMOL/KG,,DEG C
  32WC20070511,NACPWC,       10,    80,  1, 800101,      1,2,   70604,0455, 33.4400,-119.2900, 1558,   1584.4,   4.2000,   34.4800,2,  34.4700,2,     14.2,2,     14.4,2,   125.24,6,    39.80,6,     0.00,6,     3.17,6,   2369.8,2,   2377.4,2,   4.0709
  32WC20070511,NACPWC,       10,    80,  1, 800102,      2,2,   70604,0514, 33.4400,-119.2900, 1558,    800.5,   4.8000,   34.4300,2,-999.0000,9,      9.8,2,     10.0,2,   111.08,2,    39.25,2,     0.00,2,     3.17,2,   2353.0,6,   2351.8,2,   4.7358
  32WC20070511,NACPWC,       10,    80,  1, 800103,      3,2,   70604,0520, 33.4400,-119.2900, 1558,    599.9,   5.7000,   34.3600,2,-999.0000,9,      8.8,2,      9.1,2,    90.53,6,    37.58,6,     0.00,6,     3.02,6,   2334.8,2,   2328.0,2,   5.6487
  32WC20070511,NACPWC,       10,    80,  1, 800104,      4,2,   70604,0524, 33.4400,-119.2900, 1558,    499.7,   6.4000,   34.3300,2,-999.0000,9,     12.5,2,     14.1,2,    77.75,2,    36.38,2,     0.00,2,     2.94,2,   2316.2,2,   2311.3,2,   6.3550
  32WC20070511,NACPWC,       10,    80,  1, 800105,      5,2,   70604,0528, 33.4400,-119.2900, 1558,    400.0,   6.9000,   34.3100,2,-999.0000,9,     18.4,2,     19.1,2,    68.38,2,    34.99,2,     0.00,2,     2.82,2,   2303.5,2,   2304.1,2,   6.8627
  32WC20070511,NACPWC,       10,    80,  1, 800106,      6,2,   70604,0530, 33.4400,-119.2900, 1558,    350.3,   7.1000,   34.3000,2,-999.0000,9,     20.6,2,     20.3,2,    65.65,2,    34.60,2,     0.01,2,     2.79,2,   2297.9,2,   2303.4,2,   7.0669
  32WC20070511,NACPWC,       10,    80,  1, 800107,      7,2,   70604,0533, 33.4400,-119.2900, 1558,    299.7,   7.5000,   34.2800,2,-999.0000,9,     26.9,2,     27.7,2,    59.85,2,    33.24,2,     0.01,2,     2.69,2,   2288.2,2,   2288.8,2,   7.4709
  32WC20070511,NACPWC,       10,    80,  1, 800108,      8,2,   70604,0535, 33.4400,-119.2900, 1558,    249.9,   7.8000,   34.2600,2,-999.0000,9,     34.4,2,     33.9,2,    54.78,2,    32.31,2,     0.01,2,     2.59,2,   2271.6,2,   2285.4,2,   7.7753
  32WC20070511,NACPWC,       10,    80,  1, 800109,      9,2,   70604,0537, 33.4400,-119.2900, 1558,    200.3,   8.3000,   34.2400,2,-999.0000,9,     44.1,2,     43.8,2,    47.91,2,    30.86,2,     0.05,2,     2.47,2,   2263.9,2,   2279.2,2,   8.2795
  32WC20070511,NACPWC,       10,    80,  1, 800110,     10,2,   70604,0539, 33.4400,-119.2900, 1558,    175.2,   8.6000,   34.1900,2,-999.0000,9,     56.2,2,     55.6,2,    44.64,2,    30.04,2,     0.16,2,     2.36,2,   2247.1,2,   2275.7,2,   8.5817
  32WC20070511,NACPWC,       10,    80,  1, 800111,     11,2,   70604,0540, 33.4400,-119.2900, 1558,    150.5,   8.7000,   34.1700,2,-999.0000,9,     62.2,2,     61.7,2,    42.99,2,    29.46,2,     0.08,2,     2.30,2,   2243.6,2,   2271.4,2,   8.6842
  32WC20070511,NACPWC,       10,    80,  1, 800112,     12,2,   70604,0542, 33.4400,-119.2900, 1558,    129.7,   8.7000,   34.1500,2,-999.0000,9,     67.6,2,     66.7,2,    41.56,2,    28.77,2,     0.05,2,     2.25,2,   2238.0,2,   2267.0,2,   8.6864
  32WC20070511,NACPWC,       10,    80,  1, 800113,     13,2,   70604,0543, 33.4400,-119.2900, 1558,    110.4,   9.0000,   34.1200,2,-999.0000,9,     73.8,2,     73.5,2,    38.94,2,    28.26,2,     0.05,2,     2.16,2,   2225.2,2,   2264.7,2,   8.9882
  32WC20070511,NACPWC,       10,    80,  1, 800114,     14,2,   70604,0545, 33.4400,-119.2900, 1558,     90.0,   9.1000,   34.0800,2,-999.0000,9,     81.3,2,     82.3,2,    36.56,2,    27.58,2,     0.07,2,     2.11,2,   2216.2,2,   2258.1,2,   9.0903
  32WC20070511,NACPWC,       10,    80,  1, 800115,     15,2,   70604,0546, 33.4400,-119.2900, 1558,     70.1,   9.7000,   33.9800,2,-999.0000,9,    107.4,2,    113.2,2,    30.68,2,    24.42,2,     0.22,2,     1.87,2,   2192.1,2,   2252.7,2,   9.6922
  32WC20070511,NACPWC,       10,    80,  1, 800116,     16,2,   70604,0547, 33.4400,-119.2900, 1558,     60.1,   9.9000,   33.9600,2,-999.0000,9,    119.9,2,    116.5,2,    29.10,2,    23.75,2,     0.29,2,     1.82,2,   2186.1,2,   2250.1,2,   9.8932
  32WC20070511,NACPWC,       10,    80,  1, 800117,     17,2,   70604,0548, 33.4400,-119.2900, 1558,     49.9,  10.6000,   33.9000,2,-999.0000,9,    147.0,2,    139.3,2,    25.55,2,    21.29,2,     0.46,2,     1.66,2,   2169.1,2,   2248.0,2,  10.5941
  32WC20070511,NACPWC,       10,    80,  1, 800118,     18,2,   70604,0549, 33.4400,-119.2900, 1558,     40.0,  11.2000,   33.8700,2,-999.0000,9,    162.5,2,    165.6,2,    20.97,2,    17.85,2,     0.58,2,     1.43,2,   2144.1,2,   2245.5,2,  11.1951
  32WC20070511,NACPWC,       10,    80,  1, 800119,     19,2,   70604,0550, 33.4400,-119.2900, 1558,     30.6,  12.6000,   33.8000,2,-999.0000,9,    225.5,2,    226.0,2,    12.88,2,    11.41,2,     0.30,2,     0.95,2,   2095.0,2,   2231.0,3,  12.5960
  32WC20070511,NACPWC,       10,    80,  1, 800120,     20,2,   70604,0551, 33.4400,-119.2900, 1558,     24.9,  13.1000,   33.7800,2,-999.0000,9,    238.6,2,    238.8,2,    10.54,2,     9.44,2,     0.24,2,     0.82,2,   2082.0,2,   2244.1,2,  13.0966
  32WC20070511,NACPWC,       10,    80,  1, 800121,     21,2,   70604,0552, 33.4400,-119.2900, 1558,     20.2,  13.4000,   33.7800,2,-999.0000,9,    246.4,2,    246.4,2,     8.91,2,     7.86,2,     0.21,2,     0.71,2,   2070.2,2,   2245.1,2,  13.3972
  32WC20070511,NACPWC,       10,    80,  1, 800122,     22,2,   70604,0553, 33.4400,-119.2900, 1558,     15.1,  15.0000,   33.7000,2,-999.0000,9,    258.1,2,    258.0,2,     5.37,2,     2.95,2,     0.10,2,     0.35,2,   2033.8,2,   2246.2,2,  14.9978
  32WC20070511,NACPWC,       10,    80,  1, 800123,     23,2,   70604,0554, 33.4400,-119.2900, 1558,     10.5,  15.2000,   33.7000,2,-999.0000,9,    258.0,2,    258.6,2,     4.65,2,     2.04,2,     0.07,2,     0.29,2,   2027.1,2,   2243.0,2,  15.1984
  32WC20070511,NACPWC,       10,    80,  1, 800124,     24,2,   70604,0554, 33.4400,-119.2900, 1558,      5.2,  15.2000,   33.7000,2,  33.7000,2,    257.8,2,    258.5,2,     4.55,2,     2.03,2,     0.07,2,     0.27,2,   2024.1,2,   2244.8,2,  15.1992
  32WC20070511,NACPWC,       10,    81,  1, 810101,      1,2,   70604,1148, 33.6400,-118.8700,  897,    884.0,   5.1000,   34.4100,2,  34.4100,2,      7.9,2,      8.1,2,   107.08,2,    38.26,2,     0.01,2,     3.18,2,   2353.5,6,   2348.9,6,   5.0265
  32WC20070511,NACPWC,       10,    81,  1, 810102,      2,2,   70604,1153, 33.6400,-118.8700,  897,    700.2,   5.3000,   34.3900,2,-999.0000,9,      5.1,2,      5.0,2,   105.01,2,    35.81,2,     0.00,2,     3.19,2,   2353.6,2,   2345.6,2,   5.2417
  32WC20070511,NACPWC,       10,    81,  1, 810103,      3,2,   70604,1156, 33.6400,-118.8700,  897,    600.2,   5.6000,   34.3700,2,-999.0000,9,      7.3,2,      7.4,2,    93.77,6,    38.29,6,     0.01,6,     3.12,6,   2338.8,2,   2333.3,2,   5.5491
  32WC20070511,NACPWC,       10,    81,  1, 810104,      4,2,   70604,1159, 33.6400,-118.8700,  897,    501.0,   6.2000,   34.3400,2,-999.0000,9,     11.1,2,     11.5,2,    80.23,2,    37.75,2,     0.00,2,     3.01,2,   2320.9,2,   2315.1,2,   6.1556
  32WC20070511,NACPWC,       10,    81,  1, 810105,      5,2,   70604,1202, 33.6400,-118.8700,  897,    400.2,   7.0000,   34.3000,2,-999.0000,9,     20.9,2,     21.2,2,    66.41,2,    35.78,2,     0.00,2,     2.83,2,   2298.4,2,   2300.8,2,   6.9624
  32WC20070511,NACPWC,       10,    81,  1, 810106,      6,2,   70604,1204, 33.6400,-118.8700,  897,    349.3,   7.4000,   34.2800,2,-999.0000,9,     26.8,2,     26.2,2,    61.18,2,    34.69,2,     0.00,2,     2.76,2,   2291.2,2,   2299.4,2,   7.3662
  32WC20070511,NACPWC,       10,    81,  1, 810107,      7,2,   70604,1206, 33.6400,-118.8700,  897,    300.2,   7.8000,   34.2700,2,-999.0000,9,     34.7,2,     34.8,2,    55.13,2,    33.20,2,     0.01,2,     2.65,2,   2277.7,2,   2288.2,2,   7.7702
  32WC20070511,NACPWC,       10,    81,  1, 810108,      8,2,   70604,1209, 33.6400,-118.8700,  897,    250.5,   8.3000,   34.2500,2,-999.0000,9,     45.3,2,     43.5,2,    49.07,2,    31.58,2,     0.04,2,     2.53,2,   2264.2,2,   2284.5,2,   8.2743
  32WC20070511,NACPWC,       10,    81,  1, 810109,      9,2,   70604,1211, 33.6400,-118.8700,  897,    200.2,   8.7000,   34.2000,2,-999.0000,9,     61.8,2,     62.8,2,    42.20,2,    29.90,2,     0.04,2,     2.32,2,   2240.7,2,   2271.9,2,   8.6789
  32WC20070511,NACPWC,       10,    81,  1, 810110,     10,2,   70604,1213, 33.6400,-118.8700,  897,    175.3,   9.0000,   34.2000,2,-999.0000,9,     71.6,2,     65.7,2,    39.73,2,    29.14,2,     0.04,2,     2.29,2,   2235.5,2,   2271.6,2,   8.9812
  32WC20070511,NACPWC,       10,    81,  1, 810111,     11,2,   70604,1214, 33.6400,-118.8700,  897,    150.4,   9.2000,   34.1800,2,-999.0000,9,     65.0,2,     65.8,2,    37.95,2,    28.71,2,     0.04,2,     2.27,2,   2231.5,2,   2268.7,2,   9.1837
  32WC20070511,NACPWC,       10,    81,  1, 810112,     12,2,   70604,1216, 33.6400,-118.8700,  897,    130.5,   9.4000,   34.1400,2,-999.0000,9,     78.6,2,     74.0,2,    35.68,2,    27.96,2,     0.05,2,     2.19,2,   2225.8,2,   2264.9,2,   9.3856
  32WC20070511,NACPWC,       10,    81,  1, 810113,     13,2,   70604,1217, 33.6400,-118.8700,  897,    110.1,   9.6000,   34.0900,2,-999.0000,9,     81.4,2,     78.8,2,    33.66,2,    27.38,2,     0.03,2,     2.15,2,   2218.4,2,   2262.3,2,   9.5878
  32WC20070511,NACPWC,       10,    81,  1, 810114,     14,2,   70604,1218, 33.6400,-118.8700,  897,     90.0,   9.8000,   34.0300,2,-999.0000,9,     88.4,2,     84.2,2,    31.33,2,    26.42,2,     0.03,2,     2.09,2,   2209.3,2,   2255.8,2,   9.7899
  32WC20070511,NACPWC,       10,    81,  1, 810115,     15,2,   70604,1220, 33.6400,-118.8700,  897,     69.9,  10.0000,   33.9700,2,-999.0000,9,     86.4,2,     84.9,2,    29.65,2,    26.22,2,     0.02,2,     2.06,2,   2205.7,2,   2249.3,2,   9.9920
  32WC20070511,NACPWC,       10,    81,  1, 810116,     16,2,   70604,1221, 33.6400,-118.8700,  897,     60.2,  10.0000,   33.9200,2,-999.0000,9,     91.3,2,     95.6,2,    27.86,2,    25.18,2,     0.02,2,     1.98,2,   2192.5,2,   2239.7,2,   9.9932
  32WC20070511,NACPWC,       10,    81,  1, 810117,     17,2,   70604,1222, 33.6400,-118.8700,  897,     50.7,  10.3000,   33.8100,2,-999.0000,9,    116.6,2,    115.7,2,    24.17,2,    23.09,2,     0.07,2,     1.80,2,   2174.8,2,   2240.9,2,  10.2941
  32WC20070511,NACPWC,       10,    81,  1, 810118,     18,2,   70604,1224, 33.6400,-118.8700,  897,     40.5,  10.6000,   33.7300,2,-999.0000,9,    141.8,2,    135.6,2,    20.49,2,    20.34,2,     0.11,2,     1.60,2,   2153.8,2,   2234.3,2,  10.5952
  32WC20070511,NACPWC,       10,    81,  1, 810119,     19,2,   70604,1225, 33.6400,-118.8700,  897,     30.1,  11.4000,   33.7500,2,-999.0000,9,    153.6,2,    161.1,2,    14.27,2,    15.26,2,     0.50,2,     1.36,2,   2137.2,2,   2243.0,2,  11.3963
  32WC20070511,NACPWC,       10,    81,  1, 810120,     20,2,   70604,1226, 33.6400,-118.8700,  897,     24.1,  11.9000,   33.7700,2,-999.0000,9,    184.8,2,    181.8,2,    11.70,2,    12.50,2,     0.48,2,     1.18,2,   2124.2,2,   2248.3,2,  11.8969
  32WC20070511,NACPWC,       10,    81,  1, 810121,     21,2,   70604,1227, 33.6400,-118.8700,  897,     20.7,  12.7000,   33.7500,2,-999.0000,9,    188.5,2,    199.5,2,     8.55,2,     1.00,2,     0.14,2,     0.29,2,   2125.2,2,   2254.8,2,  12.6973
  32WC20070511,NACPWC,       10,    81,  1, 810122,     22,2,   70604,1228, 33.6400,-118.8700,  897,     15.1,  14.4000,   33.7500,2,-999.0000,9,    310.9,2,    377.4,2,     5.16,2,     0.07,2,     0.01,2,     0.13,2,   1943.3,2,   2257.8,2,  14.3978
  32WC20070511,NACPWC,       10,    81,  1, 810123,     23,4,   70604,1229, 33.6400,-118.8700,  897,     10.1,  16.9000,   33.7400,2,  33.7400,2,    285.1,2,    284.8,2,     2.92,2,     0.03,2,     0.00,2,     0.18,2,   1975.0,2,   2250.7,2,  16.8984
  32WC20070511,NACPWC,       10,    81,  1, 810124,     24,2,   70604,1230, 33.6400,-118.8700,  897,      5.0,  17.1000,   33.7300,2,-999.0000,9,    271.5,2,    267.6,2,     3.14,2,     0.05,2,     0.00,2,     0.19,2,   1992.2,2,   2254.5,6,  17.0992
  32WC20070511,NACPWC,       10,    82,  1, 820101,      1,2,   70604,1554, 33.7800,-118.5800,  769,    750.0,   5.2000,   34.4000,2,  34.4000,2,      4.2,2,      4.6,2,   108.42,6,    33.96,6,     0.07,6,     3.25,6,   2359.0,6,   2354.5,6,   5.1378
  32WC20070511,NACPWC,       10,    82,  1, 820102,      2,2,   70604,1600, 33.7800,-118.5800,  769,    599.3,   5.7000,   34.3600,2,-999.0000,9,      7.3,2,      7.8,2,    92.07,2,    37.45,2,     0.00,2,     3.13,2,   2336.2,2,   2334.8,2,   5.6487
  32WC20070511,NACPWC,       10,    82,  1, 820103,      3,2,   70604,1604, 33.7800,-118.5800,  769,    500.0,   6.4000,   34.3100,2,-999.0000,9,     15.5,2,     16.0,2,    74.25,2,    37.53,2,     0.00,2,     2.94,2,   2311.3,2,   2312.0,2,   6.3549
  32WC20070511,NACPWC,       10,    82,  1, 820104,      4,2,   70604,1607, 33.7800,-118.5800,  769,    400.1,   7.3000,   34.2800,2,-999.0000,9,     27.1,2,     27.4,2,    61.45,2,    34.67,2,     0.01,2,     2.76,2,   2289.7,2,   2296.1,2,   7.2615
  32WC20070511,NACPWC,       10,    82,  1, 820105,      5,2,   70604,1610, 33.7800,-118.5800,  769,    350.2,   7.6000,   34.2800,2,-999.0000,9,     33.1,2,     33.1,2,    56.67,6,    33.58,6,     0.01,6,     2.68,6,   2279.6,2,   2294.1,2,   7.5656
  32WC20070511,NACPWC,       10,    82,  1, 820106,      6,2,   70604,1613, 33.7800,-118.5800,  769,    299.5,   8.2000,   34.2800,2,-999.0000,9,     40.3,2,     39.8,2,    50.46,2,    31.66,2,     0.00,2,     2.57,2,   2266.7,2,   2290.6,2,   8.1694
  32WC20070511,NACPWC,       10,    82,  1, 820107,      7,2,   70604,1616, 33.7800,-118.5800,  769,    249.6,   8.6000,   34.2800,2,-999.0000,9,     47.9,2,     44.9,2,    46.38,2,    30.58,2,     0.01,2,     2.48,2,   2258.7,2,   2286.3,2,   8.5738
  32WC20070511,NACPWC,       10,    82,  1, 820108,      8,2,   70604,1617, 33.7800,-118.5800,  769,    224.2,   8.7000,   34.2500,2,-999.0000,9,     56.6,2,     55.5,2,    43.96,2,    29.96,2,     0.02,2,     2.39,2,   2248.3,2,   2280.7,2,   8.6763
  32WC20070511,NACPWC,       10,    82,  1, 820109,      9,2,   70604,1619, 33.7800,-118.5800,  769,    200.6,   8.7000,   34.2000,2,-999.0000,9,     70.6,2,     67.0,2,    41.72,2,    29.24,2,     0.01,2,     2.28,2,   2235.2,2,   2275.9,2,   8.6789
  32WC20070511,NACPWC,       10,    82,  1, 820110,     10,2,   70604,1622, 33.7800,-118.5800,  769,    174.7,   9.2000,   34.2400,2,-999.0000,9,     64.5,2,     57.6,2,    39.80,2,    29.02,2,     0.01,2,     2.31,2,   2241.3,2,   2282.4,2,   9.1810
  32WC20070511,NACPWC,       10,    82,  1, 820111,     11,2,   70604,1624, 33.7800,-118.5800,  769,    136.5,   8.9000,   34.0600,2,-999.0000,9,    104.1,2,    103.2,2,    34.52,2,    26.65,2,     0.03,2,     1.99,2,   2205.4,2,   2260.9,2,   8.8855
  32WC20070511,NACPWC,       10,    82,  1, 820112,     12,2,   70604,1626, 33.7800,-118.5800,  769,    120.1,   9.4000,   34.0100,2,-999.0000,9,    112.5,2,    105.0,2,    31.24,2,    25.65,2,     0.04,2,     1.93,2,   2197.6,2,   2256.7,2,   9.3868
  32WC20070511,NACPWC,       10,    82,  1, 820113,     13,2,   70604,1627, 33.7800,-118.5800,  769,    109.9,   9.7000,   34.0300,2,-999.0000,9,     85.8,2,     85.1,2,    31.77,2,    26.22,2,     0.04,2,     2.04,2,   2209.5,2,   2257.0,2,   9.6877
  32WC20070511,NACPWC,       10,    82,  1, 820114,     14,2,   70604,1629, 33.7800,-118.5800,  769,     90.1,   9.9000,   33.9800,2,-999.0000,9,    107.6,2,     87.2,2,    30.45,2,    25.75,2,     0.03,2,     2.01,2,   2204.0,2,   2253.8,2,   9.8898
  32WC20070511,NACPWC,       10,    82,  1, 820115,     15,2,   70604,1630, 33.7800,-118.5800,  769,     69.7,  10.1000,   33.9200,2,-999.0000,9,     96.5,2,     93.3,6,    28.10,2,    24.92,2,     0.02,2,     1.94,2,   2194.8,2,   2246.9,2,  10.0920
  32WC20070511,NACPWC,       10,    82,  1, 820116,     16,2,   70604,1632, 33.7800,-118.5800,  769,     60.1,  10.3000,   33.8700,2,-999.0000,9,     97.7,2,     96.6,2,    26.56,2,    24.16,2,     0.02,2,     1.88,2,   2188.9,2,   2246.8,2,  10.2930
  32WC20070511,NACPWC,       10,    82,  1, 820117,     17,2,   70604,1633, 33.7800,-118.5800,  769,     49.9,  10.6000,   33.8000,2,-999.0000,9,    108.2,2,    104.8,2,    24.07,2,    22.62,2,     0.25,2,     1.83,2,   2181.4,2,   2245.6,2,  10.5941
  32WC20070511,NACPWC,       10,    82,  1, 820118,     18,2,   70604,1634, 33.7800,-118.5800,  769,     39.8,  10.9000,   33.7500,2,-999.0000,9,    112.7,2,    109.9,2,    21.84,2,    20.94,2,     0.51,2,     1.76,2,   2181.5,2,   2250.3,2,  10.8952
  32WC20070511,NACPWC,       10,    82,  1, 820119,     19,2,   70604,1636, 33.7800,-118.5800,  769,     29.7,  11.2000,   33.7200,2,-999.0000,9,    123.4,2,    125.7,2,    19.00,6,    17.89,6,     0.60,6,     1.59,6,   2172.6,2,   2252.3,2,  11.1964
  32WC20070511,NACPWC,       10,    82,  1, 820120,     20,2,   70604,1637, 33.7800,-118.5800,  769,     24.7,  11.7000,   33.6800,2,-999.0000,9,    147.6,2,    145.4,2,    17.42,2,    13.93,2,     0.48,2,     1.41,2,   2162.4,2,   2256.3,2,  11.6969
  32WC20070511,NACPWC,       10,    82,  1, 820121,     21,2,   70604,1638, 33.7800,-118.5800,  769,     19.7,  12.7000,   33.7200,2,-999.0000,9,    169.2,2,    185.8,2,    12.33,2,     5.60,2,     0.26,2,     0.67,2,   2116.5,2,   2260.0,2,  12.6974
  32WC20070511,NACPWC,       10,    82,  1, 820122,     22,2,   70604,1639, 33.7800,-118.5800,  769,     14.3,  15.4000,   33.7500,2,-999.0000,9,    289.4,2,    271.8,2,     7.46,2,     0.74,2,     0.05,2,     0.14,2,   2007.2,2,   2264.7,2,  15.3978
  32WC20070511,NACPWC,       10,    82,  1, 820123,     23,4,   70604,1640, 33.7800,-118.5800,  769,      9.6,  16.1000,   33.7800,2,-999.0000,9,    305.2,2,    314.9,2,     4.91,2,     0.02,2,     0.00,2,     0.05,2,   1943.9,2,   2260.6,2,  16.0985
  32WC20070511,NACPWC,       10,    82,  1, 820124,     24,2,   70604,1641, 33.7800,-118.5800,  769,      5.0,  16.5000,   33.7800,2,  33.7900,2,    318.7,2,    322.3,2,     3.86,2,     0.05,2,     0.01,2,     0.07,2,   1917.1,2,   2266.3,2,  16.4992