BOTTLE,20120405PRINUNIVRMK
EXPOCODE,SECT_ID,LINE,STNNBR,CASTNO,SAMPNO,BTLNBR,BTLNBR_FLAG_W,DATE,TIME,LATITUDE,LONGITUDE,DEPTH,CTDPRS,CTDTMP,CTDSAL,CTDSAL_FLAG_W,SALNTY,SALNTY_FLAG_W,CTDOXY,CTDOXY_FLAG_W,OXYGEN,OXYGEN_FLAG_W,SILCAT,SILCAT_FLAG_W,NITRAT,NITRAT_FLAG_W,NITRIT,NITRIT_FLAG_W,PHSPHT,PHSPHT_FLAG_W,TCARBN,TCARBN_FLAG_W,ALKALI,ALKALI_FLAG_W,THETA
,,,,,,,,,,,,METERS,DBAR,ITS-90,PSS-78,,PSS-78,,UMOL/KG,,UMOL/KG,,UMOL/KG,,UMOL/KG,,UMOL/KG,,UMOL/KG,,UMOL/KG,,UMOL/KG,,DEG C
  32WC20070511,NACPWC,        9,    72,  1, 720101,      1,2,   70602,0320, 35.0000,-120.8100,  106,     95.6,   9.7000,   34.0100,2,  34.0100,2,    108.0,2,    110.6,2,    34.06,6,    24.77,6,     0.40,6,     2.03,6,   2210.7,6,   2259.7,6,   9.6893
  32WC20070511,NACPWC,        9,    72,  1, 720102,      2,2,   70602,0321, 35.0000,-120.8100,  106,     91.0,   9.7000,   34.0100,2,-999.0000,9,    108.3,2,    109.3,2,    33.93,2,    24.85,2,     0.40,2,     2.02,2,   2208.3,2,   2249.9,4,   9.6898
  32WC20070511,NACPWC,        9,    72,  1, 720103,      3,2,   70602,0322, 35.0000,-120.8100,  106,     69.7,   9.7000,   34.0000,2,-999.0000,9,    105.2,2,    107.1,2,    32.66,2,    24.97,2,     0.45,2,     2.01,2,   2210.9,2,   2256.0,2,   9.6922
  32WC20070511,NACPWC,        9,    72,  1, 720104,      4,2,   70602,0323, 35.0000,-120.8100,  106,     60.6,   9.8000,   33.9900,2,-999.0000,9,    119.5,2,    117.8,2,    31.51,2,    24.08,2,     0.43,2,     1.96,2,   2203.8,2,   2261.3,2,   9.7932
  32WC20070511,NACPWC,        9,    72,  1, 720105,      5,2,   70602,0324, 35.0000,-120.8100,  106,     50.0,  10.0000,   33.9800,2,-999.0000,9,    134.8,2,    136.6,2,    29.79,2,    22.44,2,     0.40,2,     1.87,2,   2194.0,2,   2268.2,2,   9.9943
  32WC20070511,NACPWC,        9,    72,  1, 720106,      6,2,   70602,0325, 35.0000,-120.8100,  106,     40.1,  10.1000,   33.9700,2,-999.0000,9,    148.7,2,    152.9,2,    27.33,2,    20.82,2,     0.37,2,     1.73,2,   2179.4,2,   2260.3,2,  10.0954
  32WC20070511,NACPWC,        9,    72,  1, 720107,      7,2,   70602,0326, 35.0000,-120.8100,  106,     30.2,  10.4000,   33.9500,2,-999.0000,9,    170.2,2,    185.2,2,    22.65,2,    18.12,2,     0.33,2,     1.51,2,   2160.3,2,   2262.9,2,  10.3965
  32WC20070511,NACPWC,        9,    72,  1, 720108,      8,2,   70602,0326, 35.0000,-120.8100,  106,     24.4,  10.5000,   33.9400,2,-999.0000,9,    234.2,2,    191.9,2,    21.41,2,    17.64,2,     0.32,2,     1.41,2,   2156.4,2,   2264.0,2,  10.4971
  32WC20070511,NACPWC,        9,    72,  1, 720109,      9,2,   70602,0327, 35.0000,-120.8100,  106,     20.8,  10.6000,   33.9400,2,-999.0000,9,    234.1,2,    203.0,2,    19.72,2,    17.12,2,     0.31,2,     1.32,2,   2146.6,2,   2264.4,2,  10.5975
  32WC20070511,NACPWC,        9,    72,  1, 720110,     10,2,   70602,0328, 35.0000,-120.8100,  106,     14.9,  11.0000,   33.9000,2,-999.0000,9,    234.2,2,    226.6,2,    15.96,2,    15.24,2,     0.29,2,     1.13,2,   2131.2,2,   2263.5,2,  10.9982
  32WC20070511,NACPWC,        9,    72,  1, 720111,     11,2,   70602,0329, 35.0000,-120.8100,  106,      9.7,  11.3000,   33.8800,2,  33.8900,2,    258.2,2,    270.6,2,    10.24,2,    12.44,2,     0.27,2,     0.81,2,   2099.9,2,   2262.0,2,  11.2988
  32WC20070511,NACPWC,        9,    72,  1, 720112,     12,2,   70602,0329, 35.0000,-120.8100,  106,      5.2,  11.4000,   33.8700,2,-999.0000,9,    271.6,2,    280.3,2,     9.06,2,    12.07,2,     0.26,2,     0.71,2,   2092.3,2,   2260.3,2,  11.3994
  32WC20070511,NACPWC,        9,    73,  1, 730101,      1,2,   70602,0600, 35.0400,-120.7400,   58,     48.1,  10.4000,   33.9600,2,  33.9600,2,    186.8,2,    190.2,2,    23.21,6,    17.58,6,     0.31,6,     1.52,6,   2162.8,2,   2264.5,2,  10.3944
  32WC20070511,NACPWC,        9,    73,  1, 730102,      2,2,   70602,0601, 35.0400,-120.7400,   58,     40.2,  10.8000,   33.9400,2,-999.0000,9,    225.5,2,    219.4,2,    18.44,2,    14.86,2,     0.28,2,     1.15,2,   2137.3,2,   2263.1,2,  10.7952
  32WC20070511,NACPWC,        9,    73,  1, 730103,      3,2,   70602,0602, 35.0400,-120.7400,   58,     30.0,  11.0000,   33.9400,2,-999.0000,9,    245.5,2,    252.8,2,    14.50,2,    12.60,2,     0.24,2,     0.87,2,   2111.7,2,   2265.3,2,  10.9964
  32WC20070511,NACPWC,        9,    73,  1, 730104,      4,2,   70602,0604, 35.0400,-120.7400,   58,     25.1,  11.0000,   33.9400,2,-999.0000,9,    249.8,2,    254.6,2,    14.37,2,    12.26,2,     0.23,2,     0.85,2,   2109.0,2,   2270.7,2,  10.9970
  32WC20070511,NACPWC,        9,    73,  1, 730105,      5,2,   70602,0604, 35.0400,-120.7400,   58,     25.1,  11.0000,   33.9400,2,-999.0000,9,    248.9,2,    254.0,2,    14.23,2,    12.22,2,     0.23,2,     0.96,2,   -999.0,9,   -999.0,9,  10.9970
  32WC20070511,NACPWC,        9,    73,  1, 730106,      6,2,   70602,0605, 35.0400,-120.7400,   58,     20.0,  11.0000,   33.9300,2,-999.0000,9,    252.9,2,    255.6,2,    13.37,2,    11.76,2,     0.22,2,     0.82,2,   2105.9,2,   2268.1,2,  10.9976
  32WC20070511,NACPWC,        9,    73,  1, 730107,      7,2,   70602,0606, 35.0400,-120.7400,   58,     14.8,  11.1000,   33.9300,2,-999.0000,9,    263.1,2,    256.8,2,    13.21,2,    11.66,2,     0.22,2,     0.80,2,   2104.7,2,   2267.7,2,  11.0982
  32WC20070511,NACPWC,        9,    73,  1, 730108,      8,2,   70602,0606, 35.0400,-120.7400,   58,     10.2,  11.4000,   33.9400,2,-999.0000,9,    274.7,2,    266.9,2,    12.22,2,    10.62,2,     0.20,2,     0.70,2,   2093.6,2,   2268.6,2,  11.3987
  32WC20070511,NACPWC,        9,    73,  1, 730109,      9,2,   70602,0607, 35.0400,-120.7400,   58,     10.3,  11.3000,   33.9400,2,-999.0000,9,    274.4,2,   -999.0,9,    11.80,2,     9.94,2,     0.19,2,     0.66,2,   -999.0,9,   -999.0,9,  11.2987
  32WC20070511,NACPWC,        9,    73,  1, 730110,     10,2,   70602,0607, 35.0400,-120.7400,   58,      4.9,  11.4000,   33.9400,2,-999.0000,9,    280.0,2,    278.2,2,    11.50,2,     9.42,2,     0.19,2,     0.66,2,   2081.4,2,   2270.5,2,  11.3994
  32WC20070511,NACPWC,        9,    73,  1, 730111,     11,2,   70602,0607, 35.0400,-120.7400,   58,      4.9,  11.4000,   33.9400,2,-999.0000,9,    279.4,2,   -999.0,9,    11.22,2,     9.07,2,     0.19,2,     0.63,2,   -999.0,9,   -999.0,9,  11.3994
  32WC20070511,NACPWC,        9,    74,  1, 740101,      1,2,   70602,0731, 35.0600,-120.6900,   36,     24.3,  10.3000,   33.9700,2,  33.9600,2,    186.6,2,    193.3,2,    23.56,6,    17.40,6,     0.29,6,     1.67,6,   2165.3,6,   2267.4,6,  10.2972
  32WC20070511,NACPWC,        9,    74,  1, 740102,      2,2,   70602,0732, 35.0600,-120.6900,   36,     19.6,  11.0000,   33.9400,2,-999.0000,9,    245.9,2,    234.4,2,    15.45,2,    13.57,2,     0.26,2,     1.14,2,   2126.3,2,   2269.5,2,  10.9976
  32WC20070511,NACPWC,        9,    74,  1, 740103,      3,2,   70602,0734, 35.0600,-120.6900,   36,     15.4,  11.6000,   33.9100,2,-999.0000,9,    291.6,2,    295.9,2,     5.72,2,     7.62,2,     0.23,2,     0.49,2,   2073.6,2,   2278.7,2,  11.5981
  32WC20070511,NACPWC,        9,    74,  1, 740104,      4,2,   70602,0735, 35.0600,-120.6900,   36,     10.6,  11.8000,   33.9100,2,-999.0000,9,    301.3,2,    303.8,2,     4.48,2,     6.63,2,     0.22,2,     0.40,2,   2060.1,2,   2269.1,2,  11.7987
  32WC20070511,NACPWC,        9,    74,  1, 740105,      5,2,   70602,0736, 35.0600,-120.6900,   36,      5.2,  11.9000,   33.9100,2,-999.0000,9,    301.0,2,    304.9,2,     4.36,2,     6.52,2,     0.22,2,     0.39,2,   2057.7,2,   2276.1,2,  11.8993
  32WC20070511,NACPWC,       10,    75,  1, 750101,      1,2,   70603,0017, 32.6000,-120.9900, 3801,   3828.0,   1.6000,   34.6800,2,  34.6800,2,    129.2,2,    128.7,2,   172.55,2,    36.69,2,     0.00,2,     2.59,2,   2353.9,6,   2432.7,6,   1.2969
  32WC20070511,NACPWC,       10,    75,  1, 750102,      2,2,   70603,0045, 32.6000,-120.9900, 3801,   2500.3,   1.8000,   34.6600,2,-999.0000,9,    101.7,2,    102.1,2,   166.67,2,    38.44,2,     0.00,2,     2.73,2,   2366.1,6,   2423.9,2,   1.6234
  32WC20070511,NACPWC,       10,    75,  1, 750103,      3,2,   70603,0105, 32.6000,-120.9900, 3801,   1500.2,   2.9000,   34.5600,2,-999.0000,9,     45.6,2,     46.6,2,   146.98,2,    41.36,2,     0.00,2,     3.03,2,   2372.6,2,   2398.9,2,   2.7933
  32WC20070511,NACPWC,       10,    75,  1, 750104,      4,2,   70603,0119, 32.6000,-120.9900, 3801,    800.5,   4.6000,   34.4200,2,-999.0000,9,     13.6,2,     15.2,2,   106.32,6,    41.90,6,     0.00,6,     3.12,6,   2350.3,2,   2349.3,2,   4.5370
  32WC20070511,NACPWC,       10,    75,  1, 750105,      5,2,   70603,0126, 32.6000,-120.9900, 3801,    500.4,   5.9000,   34.2400,2,-999.0000,9,     20.6,2,     21.7,2,    79.00,2,    38.59,2,     0.00,2,     2.92,2,   2311.7,2,   2309.4,2,   5.8569
  32WC20070511,NACPWC,       10,    75,  1, 750106,      6,2,   70603,0130, 32.6000,-120.9900, 3801,    350.8,   7.2000,   34.1600,2,-999.0000,9,     54.3,2,     50.6,2,    56.30,2,    33.75,2,     0.01,2,     2.54,2,   2267.6,2,   2283.0,2,   7.1667
  32WC20070511,NACPWC,       10,    75,  1, 750107,      7,2,   70603,0133, 32.6000,-120.9900, 3801,    300.2,   7.7000,   34.1200,2,-999.0000,9,     71.4,2,     71.1,2,    48.22,2,    31.46,2,     0.01,2,     2.36,2,   2243.6,2,   2273.7,2,   7.6705
  32WC20070511,NACPWC,       10,    75,  1, 750108,      8,2,   70603,0135, 32.6000,-120.9900, 3801,    248.8,   8.3000,   34.0800,2,-999.0000,9,     91.9,2,     95.0,2,    39.89,2,    28.92,2,     0.01,2,     2.14,2,   2220.4,2,   2264.0,2,   8.2745
  32WC20070511,NACPWC,       10,    75,  1, 750109,      9,2,   70603,0136, 32.6000,-120.9900, 3801,    200.1,   8.9000,   33.9500,2,-999.0000,9,    127.8,2,    127.3,2,    30.11,2,    24.71,2,     0.01,2,     1.83,2,   2183.2,2,   2255.4,2,   8.8787
  32WC20070511,NACPWC,       10,    75,  1, 750110,     10,2,   70603,0138, 32.6000,-120.9900, 3801,    174.8,   9.2000,   33.8800,2,-999.0000,9,    137.1,2,    135.8,6,    26.62,2,    23.27,2,     0.01,2,     1.74,2,   2169.6,2,   2245.9,2,   9.1811
  32WC20070511,NACPWC,       10,    75,  1, 750111,     11,2,   70603,0139, 32.6000,-120.9900, 3801,    150.8,   9.6000,   33.7900,2,-999.0000,9,    142.0,2,    141.4,2,    23.31,2,    21.81,2,     0.01,2,     1.66,2,   2157.0,2,   2236.3,2,   9.5833
  32WC20070511,NACPWC,       10,    75,  1, 750112,     12,2,   70603,0141, 32.6000,-120.9900, 3801,    129.6,  10.2000,   33.6500,2,-999.0000,9,    155.0,2,    152.1,2,    19.68,2,    19.85,2,     0.02,2,     1.53,2,   2140.4,2,   2230.0,2,  10.1851
  32WC20070511,NACPWC,       10,    75,  1, 750113,     13,2,   70603,0142, 32.6000,-120.9900, 3801,    111.1,  11.0000,   33.5600,2,-999.0000,9,    179.0,2,    178.8,2,    14.18,2,    15.13,2,     0.04,2,     1.24,2,   2116.0,2,   2225.7,2,  10.9866
  32WC20070511,NACPWC,       10,    75,  1, 750114,     14,2,   70603,0143, 32.6000,-120.9900, 3801,     90.4,  12.4000,   33.4900,2,-999.0000,9,    221.3,2,    221.5,2,     7.69,2,     8.33,2,     0.16,2,     0.82,2,   2073.2,2,   2225.0,2,  12.3882
  32WC20070511,NACPWC,       10,    75,  1, 750115,     15,2,   70603,0145, 32.6000,-120.9900, 3801,     69.9,  13.9000,   33.4900,2,-999.0000,9,    249.5,2,    249.5,2,     3.49,2,     2.34,2,     0.22,2,     0.47,2,   2038.8,2,   2226.4,2,  13.8901
  32WC20070511,NACPWC,       10,    75,  1, 750116,     16,2,   70603,0146, 32.6000,-120.9900, 3801,     60.6,  14.5000,   33.5000,2,-999.0000,9,    255.0,2,    256.0,2,     2.87,2,     0.93,2,     0.08,2,     0.36,2,   2025.6,2,   2227.0,2,  14.4912
  32WC20070511,NACPWC,       10,    75,  1, 750117,     17,2,   70603,0147, 32.6000,-120.9900, 3801,     49.9,  15.2000,   33.5100,2,-999.0000,9,    258.2,2,    256.3,2,     2.35,2,     0.04,2,     0.01,2,     0.28,2,   2018.1,2,   2231.2,2,  15.1925
  32WC20070511,NACPWC,       10,    75,  1, 750118,     18,2,   70603,0148, 32.6000,-120.9900, 3801,     40.5,  15.2000,   33.5200,2,-999.0000,9,    257.6,2,    255.9,2,     2.13,2,     0.01,2,     0.01,2,     0.27,2,   2018.0,2,   2222.4,2,  15.1939
  32WC20070511,NACPWC,       10,    75,  1, 750119,     19,2,   70603,0149, 32.6000,-120.9900, 3801,     30.1,  15.2000,   33.5100,2,-999.0000,9,    257.1,2,    256.1,2,     2.06,2,     0.01,2,     0.01,2,     0.26,2,   2016.5,2,   2232.1,2,  15.1955
  32WC20070511,NACPWC,       10,    75,  1, 750120,     20,2,   70603,0149, 32.6000,-120.9900, 3801,     24.6,  15.2000,   33.5100,2,-999.0000,9,    257.7,2,    256.2,6,     2.03,2,     0.00,2,     0.01,2,     0.26,2,   2017.5,2,   2227.9,2,  15.1963
  32WC20070511,NACPWC,       10,    75,  1, 750121,     21,2,   70603,0150, 32.6000,-120.9900, 3801,     18.9,  15.3000,   33.5100,2,-999.0000,9,    257.9,2,    255.9,2,     2.09,2,     0.01,2,     0.01,2,     0.26,2,   2018.0,2,   2232.0,2,  15.2971
  32WC20070511,NACPWC,       10,    75,  1, 750122,     22,2,   70603,0151, 32.6000,-120.9900, 3801,     14.4,  15.3000,   33.5200,2,-999.0000,9,    257.7,2,    255.9,2,     2.10,2,     0.00,2,     0.01,2,     0.25,2,   2015.2,2,   2232.4,2,  15.2978
  32WC20070511,NACPWC,       10,    75,  1, 750123,     23,2,   70603,0152, 32.6000,-120.9900, 3801,      9.6,  15.3000,   33.5200,2,  33.5200,2,    257.6,2,    256.1,2,     2.15,2,     0.01,2,     0.01,2,     0.25,2,   2018.6,2,   2210.8,2,  15.2986
  32WC20070511,NACPWC,       10,    75,  1, 750124,     24,2,   70603,0153, 32.6000,-120.9900, 3801,      5.0,  15.3000,   33.5200,2,-999.0000,9,    257.4,2,    255.8,2,     2.40,2,     0.01,2,     0.01,2,     0.25,2,   2018.3,2,   2217.1,2,  15.2992
  32WC20070511,NACPWC,       10,    76,  1, 760101,      1,2,   70603,0625, 32.7700,-120.6500, 3809,   3842.9,   1.6000,   34.6800,2,  34.6800,6,    129.1,2,    128.1,2,   173.11,6,    36.11,6,     0.00,6,     2.59,6,   2350.7,6,   2428.5,6,   1.2953
  32WC20070511,NACPWC,       10,    76,  1, 760102,      2,2,   70603,0659, 32.7700,-120.6500, 3809,   2500.2,   1.9000,   34.6500,2,-999.0000,9,     98.9,2,     98.7,2,   167.10,2,    37.95,2,     0.00,2,     2.75,2,   2364.2,6,   -999.0,9,   1.7215
  32WC20070511,NACPWC,       10,    76,  1, 760103,      3,2,   70603,0721, 32.7700,-120.6500, 3809,   1499.7,   2.9000,   34.5600,2,-999.0000,9,     45.6,2,     46.3,2,   146.94,2,    40.83,2,     0.00,2,     3.02,2,   2374.8,2,   2393.9,2,   2.7934
  32WC20070511,NACPWC,       10,    76,  1, 760104,      4,2,   70603,0736, 32.7700,-120.6500, 3809,    799.5,   4.6000,   34.4300,2,-999.0000,9,     13.7,2,     14.7,2,   107.00,6,    41.47,6,     0.00,6,     3.10,6,   2351.4,2,   -999.0,9,   4.5371
  32WC20070511,NACPWC,       10,    76,  1, 760105,      5,2,   70603,0743, 32.7700,-120.6500, 3809,    499.5,   5.9000,   34.2900,2,-999.0000,9,     16.1,2,     16.0,2,    80.76,2,    37.98,2,     0.00,2,     2.97,2,   2318.2,2,   2310.8,2,   5.8569
  32WC20070511,NACPWC,       10,    76,  1, 760106,      6,2,   70603,0748, 32.7700,-120.6500, 3809,    350.0,   6.9000,   34.1900,2,-999.0000,9,     42.0,2,     40.8,2,    62.59,2,    34.59,2,     0.00,2,     2.65,2,   2279.9,2,   2288.9,2,   6.8676
  32WC20070511,NACPWC,       10,    76,  1, 760107,      7,2,   70603,0750, 32.7700,-120.6500, 3809,    300.0,   7.2000,   34.1500,2,-999.0000,9,     55.9,2,     55.3,2,    56.13,2,    33.05,2,     0.01,2,     2.51,2,   2263.9,2,   2279.6,2,   7.1716
  32WC20070511,NACPWC,       10,    76,  1, 760108,      8,2,   70603,0752, 32.7700,-120.6500, 3809,    250.4,   7.7000,   34.1200,2,-999.0000,9,     70.0,2,     70.3,2,    48.60,2,    31.06,2,     0.01,2,     2.35,2,   2245.4,2,   2269.9,2,   7.6755
  32WC20070511,NACPWC,       10,    76,  1, 760109,      9,2,   70603,0755, 32.7700,-120.6500, 3809,    199.7,   8.5000,   34.0500,2,-999.0000,9,    101.6,2,    100.3,2,    38.29,2,    27.62,2,     0.01,2,     2.03,2,   2209.7,2,   2258.6,2,   8.4793
  32WC20070511,NACPWC,       10,    76,  1, 760110,     10,2,   70603,0757, 32.7700,-120.6500, 3809,    175.0,   8.7000,   34.0100,2,-999.0000,9,    110.0,2,    108.8,2,    34.39,2,    26.42,2,     0.01,2,     1.93,2,   2198.5,2,   2257.4,2,   8.6817
  32WC20070511,NACPWC,       10,    76,  1, 760111,     11,2,   70603,0758, 32.7700,-120.6500, 3809,    149.5,   9.1000,   33.9200,2,-999.0000,9,    122.5,2,    123.7,2,    29.50,2,    24.27,2,     0.01,2,     1.80,2,   2179.2,2,   2215.1,2,   9.0839
  32WC20070511,NACPWC,       10,    76,  1, 760112,     12,2,   70603,0800, 32.7700,-120.6500, 3809,    129.7,   9.4000,   33.8200,2,-999.0000,9,    147.7,2,    142.7,2,    25.00,2,    22.08,2,     0.02,2,     1.63,2,   2157.1,2,   2236.7,2,   9.3858
  32WC20070511,NACPWC,       10,    76,  1, 760113,     13,2,   70603,0802, 32.7700,-120.6500, 3809,    109.3,  10.3000,   33.6900,2,-999.0000,9,    158.6,2,    165.1,2,    19.38,2,    18.71,2,     0.02,2,     1.44,2,   2135.3,2,   2227.7,2,  10.2873
  32WC20070511,NACPWC,       10,    76,  1, 760114,     14,2,   70603,0803, 32.7700,-120.6500, 3809,     90.2,  11.3000,   33.6000,2,-999.0000,9,    196.5,2,    199.2,2,    14.09,2,    14.51,2,     0.10,2,     1.17,2,   2100.5,2,   2226.2,2,  11.2889
  32WC20070511,NACPWC,       10,    76,  1, 760115,     15,2,   70603,0805, 32.7700,-120.6500, 3809,     70.1,  11.7000,   33.5700,2,-999.0000,9,    217.7,2,    214.2,2,    12.09,2,    12.70,2,     0.16,2,     1.06,2,   2092.0,2,   2224.4,2,  11.6912
  32WC20070511,NACPWC,       10,    76,  1, 760116,     16,2,   70603,0806, 32.7700,-120.6500, 3809,     59.7,  12.1000,   33.5300,2,-999.0000,9,    222.2,2,    225.1,2,     9.90,2,    10.25,2,     0.15,2,     0.90,2,   2076.2,2,   2224.6,2,  12.0923
  32WC20070511,NACPWC,       10,    76,  1, 760117,     17,2,   70603,0807, 32.7700,-120.6500, 3809,     50.4,  12.5000,   33.4800,2,-999.0000,9,    226.0,2,    237.8,2,     7.65,2,     7.43,2,     0.36,2,     0.74,2,   2062.1,2,   2221.5,2,  12.4934
  32WC20070511,NACPWC,       10,    76,  1, 760118,     18,2,   70603,0809, 32.7700,-120.6500, 3809,     40.0,  13.3000,   33.4800,2,-999.0000,9,    253.3,2,    248.6,2,     5.86,2,     5.08,2,     0.31,2,     0.60,2,   2047.4,2,   2225.8,2,  13.2945
  32WC20070511,NACPWC,       10,    76,  1, 760119,     19,2,   70603,0810, 32.7700,-120.6500, 3809,     29.7,  13.2000,   33.2800,2,-999.0000,9,    253.9,2,    270.1,2,     4.73,2,     3.43,2,     0.21,2,     0.48,2,   2027.8,2,   2214.9,2,  13.1960
  32WC20070511,NACPWC,       10,    76,  1, 760120,     20,2,   70603,0811, 32.7700,-120.6500, 3809,     25.3,  13.4000,   33.2500,2,-999.0000,9,    268.3,2,    276.1,2,     4.15,2,     3.19,2,     0.16,2,     0.45,2,   2021.6,2,   2217.4,2,  13.3965
  32WC20070511,NACPWC,       10,    76,  1, 760121,     21,2,   70603,0812, 32.7700,-120.6500, 3809,     19.9,  13.5000,   33.2400,2,-999.0000,9,    268.9,2,    277.2,2,     3.80,2,     2.99,2,     0.14,2,     0.44,2,   2019.1,2,   2213.6,2,  13.4973
  32WC20070511,NACPWC,       10,    76,  1, 760122,     22,2,   70603,0813, 32.7700,-120.6500, 3809,     14.8,  13.6000,   33.2400,2,-999.0000,9,    271.1,2,    276.3,2,     3.56,2,     2.40,2,     0.12,2,     0.40,2,   2014.8,2,   2233.6,2,  13.5979
  32WC20070511,NACPWC,       10,    76,  1, 760123,     23,2,   70603,0814, 32.7700,-120.6500, 3809,      9.6,  13.9000,   33.2300,2,  33.2300,2,    271.8,2,    274.3,2,     3.16,2,     1.24,2,     0.07,2,     0.34,2,   2009.0,2,   2217.8,2,  13.8987
  32WC20070511,NACPWC,       10,    76,  1, 760124,     24,2,   70603,0816, 32.7700,-120.6500, 3809,      4.8,  13.9000,   33.2300,2,-999.0000,9,    271.6,2,    274.8,2,     3.09,2,     1.22,2,     0.07,2,     0.34,2,   2011.2,2,   2216.6,2,  13.8993