BOTTLE,20120405PRINUNIVRMK
EXPOCODE,SECT_ID,LINE,STNNBR,CASTNO,SAMPNO,BTLNBR,BTLNBR_FLAG_W,DATE,TIME,LATITUDE,LONGITUDE,DEPTH,CTDPRS,CTDTMP,CTDSAL,CTDSAL_FLAG_W,SALNTY,SALNTY_FLAG_W,CTDOXY,CTDOXY_FLAG_W,OXYGEN,OXYGEN_FLAG_W,SILCAT,SILCAT_FLAG_W,NITRAT,NITRAT_FLAG_W,NITRIT,NITRIT_FLAG_W,PHSPHT,PHSPHT_FLAG_W,TCARBN,TCARBN_FLAG_W,ALKALI,ALKALI_FLAG_W,THETA
,,,,,,,,,,,,METERS,DBAR,ITS-90,PSS-78,,PSS-78,,UMOL/KG,,UMOL/KG,,UMOL/KG,,UMOL/KG,,UMOL/KG,,UMOL/KG,,UMOL/KG,,UMOL/KG,,DEG C
  32WC20070511,NACPWC,       10,    77,  1, 770101,      1,2,   70603,1256, 32.9400,-120.3100,  795,    779.8,   4.5000,   34.4300,2,  34.4300,6,     14.9,2,     15.3,2,   111.76,6,    40.77,6,     0.00,6,     3.11,6,   2352.4,6,   2347.3,6,   4.4394
  32WC20070511,NACPWC,       10,    77,  1, 770102,      2,2,   70603,1259, 32.9400,-120.3100,  795,    699.8,   4.8000,   34.4000,2,-999.0000,9,     12.4,2,     12.6,2,   104.31,6,    40.88,6,     0.01,6,     3.10,6,   2347.8,6,   2341.4,2,   4.7444
  32WC20070511,NACPWC,       10,    77,  1, 770103,      3,2,   70603,1302, 32.9400,-120.3100,  795,    601.1,   5.2000,   34.3600,2,-999.0000,9,     11.6,2,     12.1,2,    96.20,2,    39.80,2,     0.00,2,     3.08,2,   2338.8,2,   2325.4,2,   5.1509
  32WC20070511,NACPWC,       10,    77,  1, 770104,      4,2,   70603,1305, 32.9400,-120.3100,  795,    499.9,   5.8000,   34.3100,2,-999.0000,9,     14.0,2,     14.5,2,    83.28,2,    38.20,2,     0.00,2,     3.00,2,   2319.8,2,   2312.6,2,   5.7572
  32WC20070511,NACPWC,       10,    77,  1, 770105,      5,2,   70603,1308, 32.9400,-120.3100,  795,    400.1,   6.5000,   34.2500,2,-999.0000,9,     24.3,2,     24.7,2,    71.12,2,    36.10,2,     0.00,2,     2.84,2,   2300.6,2,   2302.1,2,   6.4640
  32WC20070511,NACPWC,       10,    77,  1, 770106,      6,2,   70603,1310, 32.9400,-120.3100,  795,    350.0,   6.8000,   34.2300,2,-999.0000,9,     31.4,2,     31.3,2,    66.12,2,    35.23,2,     0.01,2,     2.76,2,   2290.2,2,   2293.1,2,   6.7678
  32WC20070511,NACPWC,       10,    77,  1, 770107,      7,2,   70603,1312, 32.9400,-120.3100,  795,    299.9,   6.9000,   34.1300,2,-999.0000,9,     54.7,2,     53.0,2,    59.63,2,    34.08,2,     0.01,2,     2.58,2,   2267.4,2,   2282.2,2,   6.8723
  32WC20070511,NACPWC,       10,    77,  1, 770108,      8,2,   70603,1314, 32.9400,-120.3100,  795,    249.9,   7.6000,   34.1500,2,-999.0000,9,     61.1,2,     58.4,2,    52.52,2,    32.31,2,     0.01,2,     2.47,2,   2257.4,2,   2278.1,2,   7.5757
  32WC20070511,NACPWC,       10,    77,  1, 770109,      9,2,   70603,1316, 32.9400,-120.3100,  795,    200.8,   8.2000,   34.1500,2,-999.0000,9,     71.2,2,     68.8,2,    45.51,2,    30.20,2,     0.02,2,     2.32,2,   2240.5,2,   2261.6,2,   8.1796
  32WC20070511,NACPWC,       10,    77,  1, 770110,     10,2,   70603,1318, 32.9400,-120.3100,  795,    174.1,   8.7000,   34.1300,2,-999.0000,9,     81.2,2,     77.5,2,    40.38,2,    28.46,2,     0.02,2,     2.21,2,   2229.4,2,   2264.9,2,   8.6817
  32WC20070511,NACPWC,       10,    77,  1, 770111,     11,2,   70603,1319, 32.9400,-120.3100,  795,    150.2,   8.6000,   34.0300,2,-999.0000,9,    111.7,2,    111.8,2,    35.25,2,    26.32,2,     0.02,2,     1.94,2,   2201.2,2,   2226.4,4,   8.5844
  32WC20070511,NACPWC,       10,    77,  1, 770112,     12,2,   70603,1321, 32.9400,-120.3100,  795,    130.4,   8.9000,   33.9800,2,-999.0000,9,    122.7,2,    122.0,2,    31.91,2,    24.97,2,     0.01,2,     1.86,2,   2185.6,2,   2251.6,2,   8.8862
  32WC20070511,NACPWC,       10,    77,  1, 770113,     13,2,   70603,1322, 32.9400,-120.3100,  795,    110.4,   9.1000,   33.9400,2,-999.0000,9,    117.7,2,    116.3,2,    30.59,2,    24.94,2,     0.01,2,     1.88,2,   2188.9,2,   2246.1,2,   9.0882
  32WC20070511,NACPWC,       10,    77,  1, 770114,     14,2,   70603,1324, 32.9400,-120.3100,  795,     90.1,  10.1000,   33.8600,2,-999.0000,9,    123.2,2,    125.4,2,    25.23,2,    22.48,2,     0.06,2,     1.76,2,   2173.3,2,   2237.7,2,  10.0897
  32WC20070511,NACPWC,       10,    77,  1, 770115,     15,2,   70603,1325, 32.9400,-120.3100,  795,     70.0,  10.4000,   33.6200,2,-999.0000,9,    170.2,2,    173.9,2,    19.41,2,    18.55,2,     0.19,2,     1.47,2,   2136.9,2,   2231.8,2,  10.3919
  32WC20070511,NACPWC,       10,    77,  1, 770116,     16,2,   70603,1327, 32.9400,-120.3100,  795,     60.1,  11.4000,   33.5800,2,-999.0000,9,    215.8,2,    225.5,2,    12.61,2,    13.82,2,     0.29,2,     1.21,2,   2104.7,2,   2228.8,2,  11.3926
  32WC20070511,NACPWC,       10,    77,  1, 770117,     17,2,   70603,1328, 32.9400,-120.3100,  795,     50.0,  11.7000,   33.5000,2,-999.0000,9,    230.3,2,    233.2,2,    10.30,2,    11.68,2,     0.28,2,     1.04,2,   2087.2,2,   2229.6,2,  11.6937
  32WC20070511,NACPWC,       10,    77,  1, 770118,     18,2,   70603,1329, 32.9400,-120.3100,  795,     39.7,  11.8000,   33.3600,2,-999.0000,9,    239.1,2,    235.4,6,     9.14,2,     9.56,2,     0.12,2,     0.89,2,   2070.9,2,   2221.7,2,  11.7950
  32WC20070511,NACPWC,       10,    77,  1, 770119,     19,2,   70603,1330, 32.9400,-120.3100,  795,     29.1,  11.9000,   33.3500,2,-999.0000,9,    243.7,2,    244.3,2,     7.98,2,     8.30,2,     0.26,2,     0.81,2,   2063.1,2,   2217.3,2,  11.8963
  32WC20070511,NACPWC,       10,    77,  1, 770120,     20,2,   70603,1331, 32.9400,-120.3100,  795,     24.4,  12.1000,   33.3000,2,-999.0000,9,    245.3,2,    246.2,2,     7.14,2,     7.18,2,     0.22,2,     0.74,2,   2056.3,2,   2216.0,2,  12.0969
  32WC20070511,NACPWC,       10,    77,  1, 770121,     21,2,   70603,1332, 32.9400,-120.3100,  795,     19.7,  12.1000,   33.2800,2,-999.0000,9,    245.0,2,    248.1,2,     6.80,2,     6.70,2,     0.19,2,     0.71,2,   2051.9,2,   2219.4,2,  12.0975
  32WC20070511,NACPWC,       10,    77,  1, 770122,     22,2,   70603,1333, 32.9400,-120.3100,  795,     15.3,  12.6000,   33.3100,2,-999.0000,9,    256.5,2,    260.6,2,     5.74,2,     5.77,2,     0.17,2,     0.64,2,   2043.1,2,   2221.1,2,  12.5980
  32WC20070511,NACPWC,       10,    77,  1, 770123,     23,2,   70603,1334, 32.9400,-120.3100,  795,     10.0,  13.1000,   33.3700,2,  33.3200,9,    260.2,2,    272.7,2,     4.58,2,     4.79,2,     0.16,2,     0.54,2,   2032.8,2,   2222.2,2,  13.0986
  32WC20070511,NACPWC,       10,    77,  1, 770124,     24,2,   70603,1335, 32.9400,-120.3100,  795,      4.6,  13.0000,   33.3200,2,-999.0000,2,    267.6,2,    270.9,2,     4.76,2,     4.50,2,     0.15,2,     0.55,2,   2032.8,2,   2220.4,2,  12.9994
  32WC20070511,NACPWC,       10,    78,  1, 780101,      1,2,   70603,1804, 33.1000,-119.9700, 1098,   1088.1,   3.9000,   34.4900,2,  34.4800,2,     21.7,2,     22.2,2,   127.72,2,    41.28,2,     0.02,2,     3.15,2,   2366.8,6,   2372.1,6,   3.8178
  32WC20070511,NACPWC,       10,    78,  1, 780102,      2,2,   70603,1814, 33.1000,-119.9700, 1098,    799.6,   4.6000,   34.4300,2,-999.0000,9,     13.9,2,     14.1,2,   107.64,2,    41.25,6,     0.00,6,     3.09,6,   2350.0,6,   2348.6,2,   4.5371
  32WC20070511,NACPWC,       10,    78,  1, 780103,      3,2,   70603,1820, 33.1000,-119.9700, 1098,    600.0,   5.5000,   34.3500,2,-999.0000,9,     11.5,2,     11.5,2,    90.53,2,    39.67,2,     0.00,2,     3.08,2,   2332.8,2,   2324.9,2,   5.4496
  32WC20070511,NACPWC,       10,    78,  1, 780104,      4,2,   70603,1824, 33.1000,-119.9700, 1098,    500.3,   5.9000,   34.3100,2,-999.0000,9,     14.7,2,     15.6,2,    82.63,2,    38.44,2,     0.00,2,     3.00,2,   2320.3,2,   2318.9,2,   5.8568
  32WC20070511,NACPWC,       10,    78,  1, 780105,      5,2,   70603,1828, 33.1000,-119.9700, 1098,    399.7,   6.7000,   34.2500,2,-999.0000,9,     27.4,2,     27.7,2,    68.35,2,    35.95,2,     0.00,2,     2.81,2,   2297.5,2,   2300.4,2,   6.6634
  32WC20070511,NACPWC,       10,    78,  1, 780106,      6,2,   70603,1831, 33.1000,-119.9700, 1098,    350.1,   7.1000,   34.2400,2,-999.0000,9,     36.0,2,     32.3,2,    62.62,2,    34.52,2,     0.00,2,     2.73,2,   2287.2,2,   2295.0,2,   7.0670
  32WC20070511,NACPWC,       10,    78,  1, 780107,      7,2,   70603,1834, 33.1000,-119.9700, 1098,    300.0,   7.3000,   34.2100,2,-999.0000,9,     43.0,2,     43.1,2,    57.76,2,    33.40,2,     0.01,2,     2.64,2,   2276.0,2,   2286.0,2,   7.2714
  32WC20070511,NACPWC,       10,    78,  1, 780108,      8,2,   70603,1837, 33.1000,-119.9700, 1098,    249.7,   7.9000,   34.2200,2,-999.0000,9,     46.9,2,     46.7,2,    51.82,2,    31.89,2,     0.01,2,     2.52,2,   2263.9,2,   2282.9,2,   7.8751
  32WC20070511,NACPWC,       10,    78,  1, 780109,      9,2,   70603,1839, 33.1000,-119.9700, 1098,    199.9,   8.3000,   34.1900,2,-999.0000,9,     55.5,2,     56.5,2,    46.69,2,    30.50,2,     0.01,2,     2.43,2,   2249.7,2,   2285.2,2,   8.2796
  32WC20070511,NACPWC,       10,    78,  1, 780110,     10,2,   70603,1841, 33.1000,-119.9700, 1098,    175.0,   8.6000,   34.1500,2,-999.0000,9,     69.5,2,     68.9,2,    42.28,2,    29.52,2,     0.01,2,     2.31,2,   2234.7,2,   2271.7,2,   8.5817
  32WC20070511,NACPWC,       10,    78,  1, 780111,     11,2,   70603,1843, 33.1000,-119.9700, 1098,    149.5,   8.6000,   34.1200,2,-999.0000,9,     81.0,2,     80.8,2,    40.03,2,    28.60,2,     0.01,2,     2.20,2,   2225.8,2,   2266.6,2,   8.5844
  32WC20070511,NACPWC,       10,    78,  1, 780112,     12,2,   70603,1845, 33.1000,-119.9700, 1098,    130.4,   8.7000,   34.0700,2,-999.0000,9,     94.4,2,     98.6,2,    37.37,2,    27.52,2,     0.01,2,     2.10,2,   2211.7,2,   2261.2,2,   8.6864
  32WC20070511,NACPWC,       10,    78,  1, 780113,     13,2,   70603,1846, 33.1000,-119.9700, 1098,    110.7,   9.0000,   34.0000,2,-999.0000,9,    111.5,2,    109.9,2,    32.75,2,    25.85,2,     0.01,2,     1.95,2,   2193.0,2,   2255.0,2,   8.9882
  32WC20070511,NACPWC,       10,    78,  1, 780114,     14,2,   70603,1848, 33.1000,-119.9700, 1098,     90.6,   9.3000,   33.9600,2,-999.0000,9,    113.2,2,    113.4,2,    30.55,2,    25.17,2,     0.01,2,     1.92,2,   2187.6,2,   2253.0,2,   9.2902
  32WC20070511,NACPWC,       10,    78,  1, 780115,     15,2,   70603,1850, 33.1000,-119.9700, 1098,     70.4,   9.8000,   33.8600,2,-999.0000,9,    132.0,2,    130.5,2,    26.03,2,    22.78,2,     0.09,2,     1.77,2,   2169.9,2,   2243.9,2,   9.7921
  32WC20070511,NACPWC,       10,    78,  1, 780116,     16,2,   70603,1851, 33.1000,-119.9700, 1098,     59.8,  10.6000,   33.8200,2,-999.0000,9,    172.2,2,    158.9,2,    22.14,2,    19.77,2,     0.38,2,     1.61,2,   2152.8,2,   2244.1,2,  10.5929
  32WC20070511,NACPWC,       10,    78,  1, 780117,     17,2,   70603,1852, 33.1000,-119.9700, 1098,     50.4,  11.2000,   33.8000,2,-999.0000,9,    190.3,2,    190.9,2,    17.86,2,    16.24,2,     0.32,2,     1.39,2,   2132.9,2,   2245.9,2,  11.1938
  32WC20070511,NACPWC,       10,    78,  1, 780118,     18,2,   70603,1853, 33.1000,-119.9700, 1098,     40.0,  11.8000,   33.7300,2,-999.0000,9,    229.6,2,    225.3,2,    12.25,2,    12.94,2,     0.24,2,     1.16,2,   2105.2,2,   2243.5,2,  11.7949
  32WC20070511,NACPWC,       10,    78,  1, 780119,     19,2,   70603,1855, 33.1000,-119.9700, 1098,     29.8,  12.6000,   33.6800,2,-999.0000,9,    256.4,2,    256.6,2,     7.47,2,     9.26,2,     0.21,2,     0.89,2,   2075.5,2,   2240.9,2,  12.5961
  32WC20070511,NACPWC,       10,    78,  1, 780120,     20,2,   70603,1856, 33.1000,-119.9700, 1098,     24.7,  13.1000,   33.7200,2,-999.0000,9,    260.8,2,    260.6,2,     8.21,2,     8.85,2,     0.20,2,     0.85,2,   2071.4,2,   2244.1,2,  13.0966
  32WC20070511,NACPWC,       10,    78,  1, 780121,     21,2,   70603,1857, 33.1000,-119.9700, 1098,     20.0,  13.3000,   33.7300,2,-999.0000,9,    262.2,2,    262.1,2,     8.75,2,     8.54,2,     0.20,2,     0.81,2,   2070.5,2,   2242.7,2,  13.2973
  32WC20070511,NACPWC,       10,    78,  1, 780122,     22,2,   70603,1858, 33.1000,-119.9700, 1098,     14.9,  13.3000,   33.7300,2,-999.0000,9,    262.1,2,    262.6,2,     8.73,6,     8.52,6,     0.20,6,     0.77,6,   2068.7,2,   2244.3,2,  13.2980
  32WC20070511,NACPWC,       10,    78,  1, 780123,     23,2,   70603,1859, 33.1000,-119.9700, 1098,      9.5,  13.3000,   33.7300,2,  33.7300,2,    262.2,2,    262.3,2,     8.75,6,     8.47,2,     0.20,2,     0.76,6,   2068.9,2,   2242.2,2,  13.2987
  32WC20070511,NACPWC,       10,    78,  1, 780124,     24,2,   70603,1900, 33.1000,-119.9700, 1098,      5.5,  13.3000,   33.7300,2,-999.0000,9,    262.2,2,    262.3,2,     8.77,6,     8.48,2,     0.20,2,     0.76,6,   2071.2,2,   2245.0,2,  13.2992
  32WC20070511,NACPWC,       10,    79,  1, 790101,      1,2,   70603,2245, 33.2000,-119.7600,  675,    666.1,   5.3000,   34.3800,2,  34.3700,2,     12.9,2,     12.8,2,    95.70,6,    39.63,6,     0.01,6,     3.04,6,   2334.5,6,   2337.3,6,   5.2447
  32WC20070511,NACPWC,       10,    79,  1, 790102,      2,2,   70603,2247, 33.2000,-119.7600,  675,    599.9,   6.1000,   34.3300,2,-999.0000,9,     16.2,2,     15.9,2,    81.42,2,    37.31,2,     0.02,2,     2.95,2,   2317.7,6,   -999.0,9,   6.0469
  32WC20070511,NACPWC,       10,    79,  1, 790103,      3,2,   70603,2250, 33.2000,-119.7600,  675,    499.5,   6.7000,   34.3100,2,-999.0000,9,     17.7,2,     17.6,2,    72.11,2,    35.70,2,     0.01,2,     2.88,2,   2305.4,2,   2310.0,2,   6.6538
  32WC20070511,NACPWC,       10,    79,  1, 790104,      4,2,   70603,2252, 33.2000,-119.7600,  675,    450.2,   7.0000,   34.3000,2,-999.0000,9,     19.7,2,     20.0,2,    66.80,2,    34.69,2,     0.01,2,     2.83,2,   2299.5,2,   2309.2,2,   6.9575
  32WC20070511,NACPWC,       10,    79,  1, 790105,      5,2,   70603,2253, 33.2000,-119.7600,  675,    401.2,   7.1000,   34.3000,2,-999.0000,9,     21.7,2,     22.5,2,    65.04,2,    34.43,2,     0.01,2,     2.80,2,   2295.3,2,   2286.1,2,   7.0620
  32WC20070511,NACPWC,       10,    79,  1, 790106,      6,2,   70603,2255, 33.2000,-119.7600,  675,    350.2,   7.4000,   34.2800,2,-999.0000,9,     26.5,2,     25.9,2,    61.05,2,    33.60,2,     0.03,2,     2.73,2,   2284.1,2,   2295.0,2,   7.3662
  32WC20070511,NACPWC,       10,    79,  1, 790107,      7,2,   70603,2257, 33.2000,-119.7600,  675,    299.7,   7.7000,   34.2700,2,-999.0000,9,     32.0,2,     33.2,2,    56.53,2,    32.57,2,     0.05,2,     2.66,2,   2278.1,2,   2289.6,2,   7.6705
  32WC20070511,NACPWC,       10,    79,  1, 790108,      8,2,   70603,2259, 33.2000,-119.7600,  675,    250.3,   8.0000,   34.2300,2,-999.0000,9,     45.0,2,     44.0,6,    51.23,2,    31.59,2,     0.03,2,     2.52,2,   2263.4,2,   2284.2,2,   7.9749
  32WC20070511,NACPWC,       10,    79,  1, 790109,      9,2,   70603,2300, 33.2000,-119.7600,  675,    199.8,   8.3000,   34.2000,2,-999.0000,9,     56.6,2,     56.5,2,    45.95,2,    30.25,2,     0.02,2,     2.39,2,   2249.9,2,   2273.8,2,   8.2796
  32WC20070511,NACPWC,       10,    79,  1, 790110,     10,2,   70603,2302, 33.2000,-119.7600,  675,    174.7,   8.4000,   34.1600,2,-999.0000,9,     66.0,2,     65.3,2,    43.51,2,    29.69,2,     0.02,2,     2.30,2,   2241.6,2,   2234.2,4,   8.3820
  32WC20070511,NACPWC,       10,    79,  1, 790111,     11,2,   70603,2303, 33.2000,-119.7600,  675,    150.9,   8.5000,   34.1400,2,-999.0000,9,     70.0,2,     69.6,2,    42.34,2,    29.36,2,     0.02,2,     2.26,2,   2238.1,2,   2268.7,2,   8.4844
  32WC20070511,NACPWC,       10,    79,  1, 790112,     12,2,   70603,2304, 33.2000,-119.7600,  675,    129.9,   8.7000,   34.1200,2,-999.0000,9,     77.5,2,     74.8,2,    40.21,2,    28.68,2,     0.02,2,     2.21,2,   2230.8,2,   2267.9,2,   8.6864
  32WC20070511,NACPWC,       10,    79,  1, 790113,     13,2,   70603,2305, 33.2000,-119.7600,  675,    109.5,   8.9000,   34.0700,2,-999.0000,9,     88.2,2,     88.0,2,    36.13,2,    27.28,2,     0.02,2,     2.07,2,   2215.0,2,   2258.9,2,   8.8884
  32WC20070511,NACPWC,       10,    79,  1, 790114,     14,2,   70603,2306, 33.2000,-119.7600,  675,     90.4,   9.2000,   33.9700,2,-999.0000,9,    109.0,2,    110.7,2,    31.30,2,    25.16,2,     0.03,2,     1.90,2,   2193.5,2,   2229.1,4,   9.1902
  32WC20070511,NACPWC,       10,    79,  1, 790115,     15,2,   70603,2308, 33.2000,-119.7600,  675,     70.0,   9.9000,   33.8300,2,-999.0000,9,    137.0,2,    137.8,2,    24.68,6,    22.31,6,     0.24,6,     1.67,6,   2170.4,2,   2240.0,2,   9.8921
  32WC20070511,NACPWC,       10,    79,  1, 790116,     16,2,   70603,2308, 33.2000,-119.7600,  675,     59.9,  10.5000,   33.8100,2,-999.0000,9,    169.1,2,    164.3,2,    21.06,6,    19.78,2,     0.44,2,     1.52,6,   2152.7,2,   2245.2,2,  10.4930
  32WC20070511,NACPWC,       10,    79,  1, 790117,     17,2,   70603,2310, 33.2000,-119.7600,  675,     49.4,  10.8000,   33.8000,2,-999.0000,9,    177.2,2,    181.1,2,    18.82,6,    18.10,2,     0.45,2,     1.43,6,   2144.7,2,   2238.3,2,  10.7941
  32WC20070511,NACPWC,       10,    79,  1, 790118,     18,2,   70603,2310, 33.2000,-119.7600,  675,     39.7,  12.5000,   33.7800,2,-999.0000,9,    233.1,2,    227.2,2,    11.95,6,    11.99,2,     0.28,2,     1.02,6,   2102.0,2,   2242.5,2,  12.4948
  32WC20070511,NACPWC,       10,    79,  1, 790119,     19,2,   70603,2311, 33.2000,-119.7600,  675,     29.2,  13.0000,   33.7800,2,-999.0000,9,    245.1,2,    245.0,2,     9.98,6,     9.56,2,     0.21,2,     0.83,6,   2085.2,2,   2248.2,2,  12.9961
  32WC20070511,NACPWC,       10,    79,  1, 790120,     20,2,   70603,2312, 33.2000,-119.7600,  675,     24.8,  13.2000,   33.7900,2,-999.0000,9,    248.3,2,    246.6,2,    10.34,6,     9.30,2,     0.20,2,     0.81,6,   2082.0,2,   2244.3,2,  13.1966
  32WC20070511,NACPWC,       10,    79,  1, 790121,     21,2,   70603,2313, 33.2000,-119.7600,  675,     19.5,  13.4000,   33.8000,2,-999.0000,9,    250.1,2,    249.8,2,    10.78,6,     8.68,2,     0.19,2,     0.76,6,   2077.7,2,   2240.8,2,  13.3973
  32WC20070511,NACPWC,       10,    79,  1, 790122,     22,2,   70603,2314, 33.2000,-119.7600,  675,     14.7,  13.5000,   33.8100,2,-999.0000,9,    251.7,2,    249.1,2,    11.10,6,     8.56,2,     0.18,2,     0.75,6,   2078.1,2,   2249.7,2,  13.4980
  32WC20070511,NACPWC,       10,    79,  1, 790123,     23,2,   70603,2314, 33.2000,-119.7600,  675,     10.0,  13.6000,   33.8200,2,  33.8200,2,    251.5,2,    250.5,2,    11.38,6,     8.58,2,     0.18,2,     0.75,6,   2076.8,2,   2250.5,2,  13.5986
  32WC20070511,NACPWC,       10,    79,  1, 790124,     24,2,   70603,2315, 33.2000,-119.7600,  675,      4.8,  13.6000,   33.8200,2,-999.0000,9,    251.3,2,    278.7,2,    11.35,6,     8.64,2,     0.18,2,     0.76,6,   2077.1,2,   2249.6,2,  13.5993