BOTTLE,20120405PRINUNIVRMK
EXPOCODE,SECT_ID,LINE,STNNBR,CASTNO,SAMPNO,BTLNBR,BTLNBR_FLAG_W,DATE,TIME,LATITUDE,LONGITUDE,DEPTH,CTDPRS,CTDTMP,CTDSAL,CTDSAL_FLAG_W,SALNTY,SALNTY_FLAG_W,CTDOXY,CTDOXY_FLAG_W,OXYGEN,OXYGEN_FLAG_W,SILCAT,SILCAT_FLAG_W,NITRAT,NITRAT_FLAG_W,NITRIT,NITRIT_FLAG_W,PHSPHT,PHSPHT_FLAG_W,TCARBN,TCARBN_FLAG_W,ALKALI,ALKALI_FLAG_W,THETA
,,,,,,,,,,,,METERS,DBAR,ITS-90,PSS-78,,PSS-78,,UMOL/KG,,UMOL/KG,,UMOL/KG,,UMOL/KG,,UMOL/KG,,UMOL/KG,,UMOL/KG,,UMOL/KG,,DEG C
  32WC20070511,NACPWC,       13,   110,  1,1100101,      1,2,   70612,0925, 25.0900,-114.7300, 3735,    109.5,  12.8000,   33.6300,2,-999.0000,9,    178.8,2,    181.6,2,    11.71,6,    10.61,6,     0.05,6,     1.08,6,   2096.7,2,   2230.9,6,  12.7853
  32WC20070511,NACPWC,       13,   110,  1,1100102,      2,2,   70612,0927, 25.0900,-114.7300, 3735,     90.4,  14.4000,   33.6000,2,-999.0000,9,    220.4,2,    221.2,6,     5.96,2,     3.54,2,     0.13,2,     0.60,2,   2054.0,2,   2229.4,2,  14.3869
  32WC20070511,NACPWC,       13,   110,  1,1100103,      3,2,   70612,0929, 25.0900,-114.7300, 3735,     69.9,  16.1000,   33.6800,2,-999.0000,9,    245.7,2,    245.4,2,     3.31,2,     0.40,2,     0.03,2,     0.34,2,   2029.9,2,   2241.1,2,  16.0890
  32WC20070511,NACPWC,       13,   110,  1,1100104,      4,2,   70612,0930, 25.0900,-114.7300, 3735,     60.2,  16.5000,   33.6900,2,-999.0000,9,    248.8,2,    248.0,2,     2.99,2,     0.62,2,     0.00,2,     0.28,2,   2024.1,2,   2240.1,2,  16.4904
  32WC20070511,NACPWC,       13,   110,  1,1100105,      5,2,   70612,0931, 25.0900,-114.7300, 3735,     49.8,  16.7000,   33.6800,2,-999.0000,9,    250.7,2,    250.3,2,     2.86,2,     0.67,2,     0.00,2,     0.25,2,   2019.2,2,   2239.5,2,  16.6920
  32WC20070511,NACPWC,       13,   110,  1,1100106,      6,2,   70612,0932, 25.0900,-114.7300, 3735,     39.8,  17.7000,   33.7200,2,-999.0000,9,    243.0,2,    243.4,2,     2.91,2,     0.73,2,     0.00,2,     0.23,2,   2016.5,2,   2241.9,2,  17.6933
  32WC20070511,NACPWC,       13,   110,  1,1100107,      7,2,   70612,0933, 25.0900,-114.7300, 3735,     30.4,  17.8000,   33.7300,2,-999.0000,9,    241.2,2,    241.7,2,     2.74,2,     0.76,2,     0.00,2,     0.22,2,   2016.5,2,   2242.6,2,  17.7949
  32WC20070511,NACPWC,       13,   110,  1,1100108,      8,2,   70612,0934, 25.0900,-114.7300, 3735,     24.8,  17.8000,   33.7300,2,-999.0000,9,    240.8,2,    241.4,2,     2.80,2,     0.79,2,     0.00,2,     0.22,2,   2016.9,2,   2243.7,2,  17.7958
  32WC20070511,NACPWC,       13,   110,  1,1100109,      9,2,   70612,0936, 25.0900,-114.7300, 3735,     20.0,  17.9000,   33.7300,2,-999.0000,9,    240.6,2,    241.0,2,     2.78,2,     0.83,2,     0.00,2,     0.21,2,   2015.3,2,   2228.7,2,  17.8966
  32WC20070511,NACPWC,       13,   110,  1,1100110,     10,2,   70612,0937, 25.0900,-114.7300, 3735,     14.8,  18.1000,   33.7400,2,-999.0000,9,    240.1,2,    240.4,2,     2.80,2,     0.86,2,     0.00,2,     0.20,2,   2017.7,2,   2243.1,2,  18.0975
  32WC20070511,NACPWC,       13,   110,  1,1100111,     11,2,   70612,0938, 25.0900,-114.7300, 3735,      9.7,  18.1000,   33.7400,2,  33.7400,2,    240.2,2,    240.1,2,     2.82,2,     0.87,2,     0.00,2,     0.20,2,   2019.0,2,   2245.9,2,  18.0983
  32WC20070511,NACPWC,       13,   110,  1,1100112,     12,2,   70612,0939, 25.0900,-114.7300, 3735,      4.9,  18.1000,   33.7500,2,-999.0000,9,    239.8,2,    239.7,2,     2.89,2,     0.89,2,     0.00,2,     0.21,2,   2020.3,6,   2245.2,2,  18.0992
  32WC20070511,NACPWC,       13,   110,  2,1100201,      1,2,   70612,1122, 25.0900,-114.7300, 3735,   3000.3,   1.7000,   34.6700,2,  34.6700,2,     99.4,2,    115.3,2,   170.80,6,    38.23,6,     0.00,6,     2.72,6,   2360.2,6,   2429.2,6,   1.4788
  32WC20070511,NACPWC,       13,   110,  2,1100202,      2,2,   70612,1132, 25.0900,-114.7300, 3735,   2500.3,   1.9000,   34.6600,2,-999.0000,9,     92.9,2,    101.5,2,   165.72,2,    39.31,2,     0.00,2,     2.83,2,   2366.0,2,   2413.5,2,   1.7215
  32WC20070511,NACPWC,       13,   110,  2,1100203,      3,2,   70612,1141, 25.0900,-114.7300, 3735,   2000.2,   2.3000,   34.6300,2,-999.0000,9,     78.2,2,     78.0,2,   158.89,2,    40.73,2,     0.00,2,     2.98,2,   2372.0,2,   2415.4,2,   2.1590
  32WC20070511,NACPWC,       13,   110,  2,1100204,      4,2,   70612,1151, 25.0900,-114.7300, 3735,   1499.7,   3.1000,   34.5900,2,-999.0000,9,     43.2,2,     43.6,2,   142.96,2,    43.03,2,     0.00,2,     3.20,2,   2377.2,2,   2396.5,2,   2.9910
  32WC20070511,NACPWC,       13,   110,  2,1100205,      5,2,   70612,1203, 25.0900,-114.7300, 3735,    799.7,   5.3000,   34.4800,2,-999.0000,9,      7.2,2,      7.5,2,    95.18,6,    42.91,6,     0.01,6,     3.21,6,   2342.8,2,   2343.2,2,   5.2327
  32WC20070511,NACPWC,       13,   110,  2,1100206,      6,2,   70612,1209, 25.0900,-114.7300, 3735,    499.6,   7.7000,   34.5000,2,-999.0000,9,      3.6,2,      3.4,2,    66.44,2,    34.03,2,     0.00,2,     3.05,2,   2312.6,2,   2317.0,2,   7.6499
  32WC20070511,NACPWC,       13,   110,  2,1100207,      7,2,   70612,1213, 25.0900,-114.7300, 3735,    350.7,   9.5000,   34.5300,2,-999.0000,9,      8.4,2,      8.7,2,    47.81,2,    28.90,2,     0.00,2,     2.78,2,   2286.6,2,   2310.1,2,   9.4605
  32WC20070511,NACPWC,       13,   110,  2,1100208,      8,2,   70612,1216, 25.0900,-114.7300, 3735,    249.0,  11.2000,   34.6300,2,-999.0000,9,     10.1,2,      9.6,2,    39.68,2,    26.04,2,     0.01,2,     2.68,2,   2274.5,2,   2298.9,2,  11.1690
  32WC20070511,NACPWC,       13,   110,  2,1100209,      9,2,   70612,1218, 25.0900,-114.7300, 3735,    199.8,  11.7000,   34.6300,2,-999.0000,9,     12.5,2,     10.9,2,    37.67,2,    25.86,2,     0.01,2,     2.63,2,   2268.3,2,   2294.7,2,  11.6745
  32WC20070511,NACPWC,       13,   110,  2,1100210,     10,2,   70612,1220, 25.0900,-114.7300, 3735,    175.0,  12.1000,   34.6000,2,-999.0000,9,     21.5,2,     17.3,6,    35.17,2,    25.68,2,     0.01,2,     2.56,2,   2258.1,2,   2292.0,2,  12.0772
  32WC20070511,NACPWC,       13,   110,  2,1100211,     11,2,   70612,1221, 25.0900,-114.7300, 3735,    150.1,  12.0000,   34.3800,2,-999.0000,9,     44.9,2,     43.2,2,    30.99,2,    24.70,2,     0.01,2,     2.33,2,   2233.4,2,   2276.3,2,  11.9806
  32WC20070511,NACPWC,       13,   110,  2,1100212,     12,2,   70612,1223, 25.0900,-114.7300, 3735,    128.8,  12.2000,   34.0600,2,-999.0000,9,     88.9,2,     86.5,2,    24.17,2,    21.61,2,     0.02,2,     1.95,2,   2188.5,2,   2253.4,2,  12.1832
  32WC20070511,NACPWC,       13,   111,  1,1110101,      1,2,   70612,1423, 24.9200,-115.0500, 3927,    110.4,  12.6000,   33.8900,2,-999.0000,9,    118.4,2,    119.2,2,    17.76,6,    18.05,6,     0.03,6,     1.56,6,   2154.2,2,   2244.3,6,  12.5853
  32WC20070511,NACPWC,       13,   111,  1,1110102,      2,2,   70612,1425, 24.9200,-115.0500, 3927,     90.4,  13.9000,   33.8700,2,-999.0000,9,    134.4,2,    141.7,2,    12.37,2,    13.64,2,     0.12,2,     1.25,2,   2127.1,2,   -999.0,9,  13.8872
  32WC20070511,NACPWC,       13,   111,  1,1110103,      3,2,   70612,1426, 24.9200,-115.0500, 3927,     70.5,  14.6000,   33.6200,2,-999.0000,9,    218.9,2,    221.9,2,     5.72,6,     3.75,2,     0.54,6,     0.51,6,   2051.7,2,   2233.6,2,  14.5897
  32WC20070511,NACPWC,       13,   111,  1,1110104,      4,2,   70612,1428, 24.9200,-115.0500, 3927,     60.3,  16.4000,   33.8500,2,-999.0000,9,    234.9,2,    236.8,2,     3.19,2,     1.08,2,     0.08,2,     0.34,2,   2037.6,2,   2253.0,2,  16.3904
  32WC20070511,NACPWC,       13,   111,  1,1110105,      5,2,   70612,1429, 24.9200,-115.0500, 3927,     49.9,  17.4000,   33.9400,2,-999.0000,9,    241.8,2,    241.2,2,     2.61,2,     0.79,2,     0.01,2,     0.30,2,   2029.2,2,   -999.0,9,  17.3917
  32WC20070511,NACPWC,       13,   111,  1,1110106,      6,2,   70612,1430, 24.9200,-115.0500, 3927,     41.0,  17.4000,   33.7500,2,-999.0000,9,    245.3,2,    244.8,2,     2.76,2,     0.75,2,     0.00,2,     0.23,2,   2017.8,2,   2251.8,6,  17.3932
  32WC20070511,NACPWC,       13,   111,  1,1110107,      7,2,   70612,1431, 24.9200,-115.0500, 3927,     30.4,  17.5000,   33.7400,2,-999.0000,9,    243.7,2,    243.6,2,     2.96,2,     0.78,2,     0.00,2,     0.22,2,   2017.1,2,   2245.0,2,  17.4949
  32WC20070511,NACPWC,       13,   111,  1,1110108,      8,2,   70612,1432, 24.9200,-115.0500, 3927,     24.7,  17.6000,   33.7400,2,-999.0000,9,    243.1,2,    242.0,2,     2.97,2,     0.87,2,     0.00,2,     0.21,2,   2018.5,2,   2243.2,2,  17.5959
  32WC20070511,NACPWC,       13,   111,  1,1110109,      9,2,   70612,1433, 24.9200,-115.0500, 3927,     19.6,  17.8000,   33.7400,2,-999.0000,9,    241.9,2,    241.3,6,     3.00,2,     0.87,2,     0.00,2,     0.21,2,   2018.7,2,   2244.0,2,  17.7967
  32WC20070511,NACPWC,       13,   111,  1,1110110,     10,2,   70612,1434, 24.9200,-115.0500, 3927,     13.9,  17.8000,   33.7400,2,-999.0000,9,    241.7,2,    240.8,2,     2.97,2,     0.89,2,     0.00,2,     0.21,2,   2019.9,2,   2246.5,2,  17.7977
  32WC20070511,NACPWC,       13,   111,  1,1110111,     11,2,   70612,1435, 24.9200,-115.0500, 3927,     10.0,  17.8000,   33.7400,2,  33.7500,2,    241.6,2,    240.7,2,     2.90,2,     0.88,2,     0.00,2,     0.21,2,   2017.9,2,   2245.1,2,  17.7983
  32WC20070511,NACPWC,       13,   111,  1,1110112,     12,2,   70612,1436, 24.9200,-115.0500, 3927,      4.4,  17.8000,   33.7400,2,-999.0000,9,    241.4,2,    240.8,2,     2.85,2,     0.92,2,     0.00,2,     0.21,2,   2019.2,2,   2245.8,2,  17.7993
  32WC20070511,NACPWC,       13,   111,  2,1110201,      1,2,   70612,1626, 24.9200,-115.0500, 3927,   2999.8,   1.7000,   34.6700,2,  34.6700,2,    116.0,2,    115.9,2,   167.91,6,    39.73,6,     0.00,6,     2.67,6,   2361.3,2,   2405.2,6,   1.4788
  32WC20070511,NACPWC,       13,   111,  2,1110202,      2,2,   70612,1639, 24.9200,-115.0500, 3927,   2499.9,   1.8000,   34.6600,2,-999.0000,9,    102.3,2,    102.3,2,   163.51,2,    40.92,2,     0.00,2,     2.75,2,   2366.3,2,   2426.0,2,   1.6234
  32WC20070511,NACPWC,       13,   111,  2,1110203,      3,2,   70612,1649, 24.9200,-115.0500, 3927,   2001.0,   2.2000,   34.6400,2,-999.0000,9,     79.7,2,     79.7,2,   157.86,2,    42.41,2,     0.00,2,     2.90,2,   2372.3,2,   2415.6,2,   2.0604
  32WC20070511,NACPWC,       13,   111,  2,1110204,      4,2,   70612,1700, 24.9200,-115.0500, 3927,   1499.5,   3.1000,   34.5900,2,-999.0000,9,     43.4,2,     43.3,2,   141.61,2,    44.73,2,     0.00,2,     3.09,2,   2373.1,2,   2396.2,2,   2.9910
  32WC20070511,NACPWC,       13,   111,  2,1110205,      5,2,   70612,1715, 24.9200,-115.0500, 3927,    799.4,   5.3000,   34.4800,2,-999.0000,9,      7.8,2,      7.5,2,    95.13,6,    43.94,6,     0.01,6,     3.18,6,   2343.7,2,   2343.8,2,   5.2328
  32WC20070511,NACPWC,       13,   111,  2,1110206,      6,2,   70612,1721, 24.9200,-115.0500, 3927,    500.7,   7.5000,   34.5000,2,-999.0000,9,      3.1,2,      2.7,2,    67.42,2,    36.53,2,     0.00,2,     3.02,2,   2313.7,2,   2288.8,2,   7.4506
  32WC20070511,NACPWC,       13,   111,  2,1110207,      7,2,   70612,1726, 24.9200,-115.0500, 3927,    349.9,   9.5000,   34.5700,2,-999.0000,9,      4.6,2,      3.7,2,    48.34,2,    29.97,2,     0.01,2,     2.80,2,   2289.2,2,   2304.7,2,   9.4606
  32WC20070511,NACPWC,       13,   111,  2,1110208,      8,2,   70612,1730, 24.9200,-115.0500, 3927,    251.4,  10.9000,   34.5900,2,-999.0000,9,     11.7,2,     11.4,2,    38.84,2,    27.66,2,     0.01,2,     2.61,2,   2269.8,2,   2297.0,2,  10.8692
  32WC20070511,NACPWC,       13,   111,  2,1110209,      9,2,   70612,1732, 24.9200,-115.0500, 3927,    201.2,  11.2000,   34.4900,2,-999.0000,9,     31.2,2,     31.6,2,    34.26,2,    27.34,2,     0.01,2,     2.40,2,   2246.9,2,   2283.1,2,  11.1750
  32WC20070511,NACPWC,       13,   111,  2,1110210,     10,2,   70612,1734, 24.9200,-115.0500, 3927,    175.6,  11.5000,   34.4600,2,-999.0000,9,     36.9,2,     35.1,2,    32.31,2,    26.46,2,     0.01,2,     2.35,2,   2241.9,2,   2281.8,2,  11.4779
  32WC20070511,NACPWC,       13,   111,  2,1110211,     11,2,   70612,1736, 24.9200,-115.0500, 3927,    150.6,  12.3000,   34.3900,2,-999.0000,9,     48.6,2,     42.7,2,    29.08,2,    25.29,2,     0.01,2,     2.26,2,   2229.2,2,   2276.4,2,  12.2802
  32WC20070511,NACPWC,       13,   111,  2,1110212,     12,2,   70612,1737, 24.9200,-115.0500, 3927,    130.4,  12.3000,   34.2400,2,-999.0000,9,     77.4,2,     63.5,2,    25.76,2,    23.98,2,     0.02,2,     2.10,2,   2208.0,2,   2265.5,2,  12.2829