BOTTLE,20141031SIOCCHAMB
EXPOCODE,SECT_ID,STNNBR,CASTNO,SAMPNO,BTLNBR,BTLNBR_FLAG_W,DATE,TIME,LATITUDE,LONGITUDE,DEPTH,CTDPRS,CTDTMP,CTDSAL,CTDSAL_FLAG_W,SALNTY,SALNTY_FLAG_W,CTDOXY,CTDOXY_FLAG_W,OXYGEN,OXYGEN_FLAG_W,SILCAT,SILCAT_FLAG_W,PHSPHT,PHSPHT_FLAG_W,REVPRS,CTDRAW,THETA,NO2+NO3,NO2+NO3_FLAG_W,REVTMP
,,,,,,,,,,,METERS,DBAR,ITS-90,PSS-78,,PSS-78,,UMOL/KG,,UMOL/KG,,UMOL/KG,,UMOL/KG,,DBAR,DBAR,ITS-90,UMOL/KG,,DEG C
33KB20101002,       PRS2,       2,         15,         22,       8022,2,20101005,       0256,  22.751167,-157.9866667,       4742,     5.1,  26.0262,  35.2605,2,-999.0000,5,    207.8,1,  -999.0,9, -999.00,9, -999.00,9,  -999.0,       6,    26.0250, -999.00,9,     -999.0
33KB20101002,       PRS2,       2,         15,         21,       8021,2,20101005,       0256,  22.751167,-157.9866667,       4742,     4.8,  26.0266,  35.2610,2,  35.2617,2,    207.7,1,  -999.0,9, -999.00,9, -999.00,9,  -999.0,       5,    26.0255, -999.00,9,     -999.0
33KB20101002,       PRS2,       2,         15,         20,       8020,2,20101005,       0256,  22.751167,-157.9866667,       4742,    14.8,  26.0325,  35.2620,2,  35.2615,2,    207.6,1,  -999.0,9, -999.00,9, -999.00,9,  -999.0,      15,    26.0292, -999.00,9,     -999.0
33KB20101002,       PRS2,       2,         15,         19,       8019,2,20101005,       0256,  22.751167,-157.9866667,       4742,    24.8,  26.0365,  35.2616,2,-999.0000,5,    207.5,1,  -999.0,9, -999.00,9, -999.00,9,  -999.0,      25,    26.0309, -999.00,9,     -999.0
33KB20101002,       PRS2,       2,         15,         18,       8018,2,20101005,       0256,  22.751167,-157.9866667,       4742,    24.7,  26.0369,  35.2616,2,  35.2668,2,    207.4,1,  -999.0,9, -999.00,9, -999.00,9,  -999.0,      25,    26.0314, -999.00,9,     -999.0
33KB20101002,       PRS2,       2,         15,         17,       8017,2,20101005,       0256,  22.751167,-157.9866667,       4742,    35.0,  26.0194,  35.2612,2,  35.2607,2,    207.9,1,  -999.0,9, -999.00,9, -999.00,9,  -999.0,      35,    26.0116, -999.00,9,     -999.0
33KB20101002,       PRS2,       2,         15,         16,       8016,2,20101005,       0256,  22.751167,-157.9866667,       4742,    35.0,  26.0185,  35.2611,2,  35.2603,2,    207.9,1,  -999.0,9, -999.00,9, -999.00,9,  -999.0,      35,    26.0106, -999.00,9,     -999.0
33KB20101002,       PRS2,       2,         15,         15,       8015,2,20101005,       0256,  22.751167,-157.9866667,       4742,    46.4,  26.0009,  35.2609,2,-999.0000,5,    207.8,1,  -999.0,9, -999.00,9, -999.00,9,  -999.0,      47,    25.9905, -999.00,9,     -999.0
33KB20101002,       PRS2,       2,         15,         14,       8014,2,20101005,       0256,  22.751167,-157.9866667,       4742,    46.3,  26.0061,  35.2610,2,  35.2607,2,    207.7,1,  -999.0,9, -999.00,9, -999.00,9,  -999.0,      46,    25.9957, -999.00,9,     -999.0
33KB20101002,       PRS2,       2,         15,         13,       8025,2,20101005,       0256,  22.751167,-157.9866667,       4742,    61.0,  25.9769,  35.2595,2,  35.2595,2,    208.1,1,  -999.0,9, -999.00,9, -999.00,9,  -999.0,      62,    25.9633, -999.00,9,     -999.0
33KB20101002,       PRS2,       2,         15,         12,       8012,2,20101005,       0256,  22.751167,-157.9866667,       4742,    75.6,  25.7793,  35.2533,2,-999.0000,5,    209.0,1,  -999.0,9, -999.00,9, -999.00,9,  -999.0,      75,    25.7625, -999.00,9,     -999.0
33KB20101002,       PRS2,       2,         15,         11,       8011,2,20101005,       0256,  22.751167,-157.9866667,       4742,    75.6,  25.7806,  35.2532,2,  35.2536,2,    209.0,1,  -999.0,9, -999.00,9, -999.00,9,  -999.0,      76,    25.7639, -999.00,9,     -999.0
33KB20101002,       PRS2,       2,         15,         10,       8010,2,20101005,       0256,  22.751167,-157.9866667,       4742,   100.0,  24.2252,  35.1919,2,-999.0000,5,    217.6,1,  -999.0,9, -999.00,9, -999.00,9,  -999.0,     100,    24.2040, -999.00,9,     -999.0
33KB20101002,       PRS2,       2,         15,          9,       8009,2,20101005,       0256,  22.751167,-157.9866667,       4742,    99.9,  24.2327,  35.1920,2,  35.1945,2,    217.4,1,  -999.0,9, -999.00,9, -999.00,9,  -999.0,      99,    24.2115, -999.00,9,     -999.0
33KB20101002,       PRS2,       2,         15,          8,       8008,2,20101005,       0256,  22.751167,-157.9866667,       4742,   126.4,  23.3168,  35.3067,2,-999.0000,5,    214.8,1,  -999.0,9, -999.00,9, -999.00,9,  -999.0,     127,    23.2907, -999.00,9,     -999.0
33KB20101002,       PRS2,       2,         15,          7,       8026,2,20101005,       0256,  22.751167,-157.9866667,       4742,   126.6,  23.3161,  35.3060,2,  35.3143,2,    214.7,1,  -999.0,9, -999.00,9, -999.00,9,  -999.0,     126,    23.2900, -999.00,9,     -999.0
33KB20101002,       PRS2,       2,         15,          6,       8006,2,20101005,       0256,  22.751167,-157.9866667,       4742,   149.2,  22.0402,  35.3281,2,-999.0000,5,    205.5,1,  -999.0,9, -999.00,9, -999.00,9,  -999.0,     150,    22.0106, -999.00,9,     -999.0
33KB20101002,       PRS2,       2,         15,          5,       8005,2,20101005,       0256,  22.751167,-157.9866667,       4742,   149.2,  22.0389,  35.3279,2,  35.3273,2,    205.4,1,  -999.0,9, -999.00,9, -999.00,9,  -999.0,     150,    22.0093, -999.00,9,     -999.0
33KB20101002,       PRS2,       2,         15,          4,       8004,2,20101005,       0256,  22.751167,-157.9866667,       4742,   175.3,  20.9905,  35.2939,2,-999.0000,5,    199.8,1,  -999.0,9, -999.00,9, -999.00,9,  -999.0,     176,    20.9569, -999.00,9,     -999.0
33KB20101002,       PRS2,       2,         15,          3,       8003,2,20101005,       0256,  22.751167,-157.9866667,       4742,   175.2,  20.9924,  35.2934,2,  35.2970,2,    199.5,1,  -999.0,9, -999.00,9, -999.00,9,  -999.0,     175,    20.9588, -999.00,9,     -999.0
33KB20101002,       PRS2,       2,         15,          2,       8002,2,20101005,       0256,  22.751167,-157.9866667,       4742,   550.9,   6.5197,  34.1147,2,  34.1168,2,     73.4,1,  -999.0,9, -999.00,9, -999.00,9,  -999.0,     550,     6.4695, -999.00,9,     -999.0
33KB20101002,       PRS2,       2,         15,          1,       8001,2,20101005,       0256,  22.751167,-157.9866667,       4742,  1019.4,   3.9366,  34.4652,2,  34.4654,2,     43.0,1,  -999.0,9, -999.00,9, -999.00,9,  -999.0,    1020,     3.8599, -999.00,9,     -999.0
33KB20101002,       PRS2,       2,         16,         23,       8023,2,20101005,       0551,  22.749833,-157.9996667,       4747,     6.9,  25.9979,  35.2659,2,-999.0000,5,    207.5,1,  -999.0,9, -999.00,9, -999.00,9,  -999.0,       6,    25.9964, -999.00,9,     -999.0
33KB20101002,       PRS2,       2,         16,         22,       8022,2,20101005,       0551,  22.749833,-157.9996667,       4747,     6.9,  25.9979,  35.2659,2,  35.2666,2,    207.6,1,  -999.0,9, -999.00,9, -999.00,9,  -999.0,       6,    25.9963, -999.00,9,     -999.0
33KB20101002,       PRS2,       2,         16,         21,       8021,2,20101005,       0551,  22.749833,-157.9996667,       4747,    25.3,  26.0061,  35.2660,2,-999.0000,5,    207.6,1,  -999.0,9, -999.00,9, -999.00,9,  -999.0,      26,    26.0004, -999.00,9,     -999.0
33KB20101002,       PRS2,       2,         16,         20,       8020,2,20101005,       0551,  22.749833,-157.9996667,       4747,    25.3,  26.0066,  35.2661,2,-999.0000,5,    207.7,1,  -999.0,9, -999.00,9, -999.00,9,  -999.0,      24,    26.0009, -999.00,9,     -999.0
33KB20101002,       PRS2,       2,         16,         19,       8019,2,20101005,       0551,  22.749833,-157.9996667,       4747,    25.7,  26.0067,  35.2659,2,  35.2660,2,    207.7,1,  -999.0,9, -999.00,9, -999.00,9,  -999.0,      25,    26.0010, -999.00,9,     -999.0
33KB20101002,       PRS2,       2,         16,         18,       8018,2,20101005,       0551,  22.749833,-157.9996667,       4747,    45.6,  25.9976,  35.2650,2,-999.0000,5,    207.6,1,  -999.0,9, -999.00,9, -999.00,9,  -999.0,      46,    25.9874, -999.00,9,     -999.0
33KB20101002,       PRS2,       2,         16,         17,       8017,2,20101005,       0551,  22.749833,-157.9996667,       4747,    46.1,  26.0128,  35.2654,2,  35.2682,2,    207.6,1,  -999.0,9, -999.00,9, -999.00,9,  -999.0,      47,    26.0025, -999.00,9,     -999.0
33KB20101002,       PRS2,       2,         16,         16,       8016,2,20101005,       0551,  22.749833,-157.9996667,       4747,    61.2,  25.7617,  35.2578,2,  35.2572,2,    208.8,1,  -999.0,9, -999.00,9, -999.00,9,  -999.0,      62,    25.7481, -999.00,9,     -999.0
33KB20101002,       PRS2,       2,         16,         15,       8015,2,20101005,       0551,  22.749833,-157.9996667,       4747,    74.5,  25.4880,  35.2455,2,-999.0000,5,    210.4,1,  -999.0,9, -999.00,9, -999.00,9,  -999.0,      74,    25.4716, -999.00,9,     -999.0
33KB20101002,       PRS2,       2,         16,         14,       8014,2,20101005,       0551,  22.749833,-157.9996667,       4747,    74.6,  25.4840,  35.2453,2,  35.2450,2,    210.6,1,  -999.0,9, -999.00,9, -999.00,9,  -999.0,      74,    25.4676, -999.00,9,     -999.0
33KB20101002,       PRS2,       2,         16,         13,       8025,2,20101005,       0551,  22.749833,-157.9996667,       4747,    85.6,  24.3996,  35.2129,2,  35.2136,2,    217.6,1,  -999.0,9, -999.00,9, -999.00,9,  -999.0,      85,    24.3814, -999.00,9,     -999.0
33KB20101002,       PRS2,       2,         16,         12,       8012,2,20101005,       0551,  22.749833,-157.9996667,       4747,    99.8,  23.8167,  35.2145,2,-999.0000,5,    215.1,1,  -999.0,9, -999.00,9, -999.00,9,  -999.0,     100,    23.7957, -999.00,9,     -999.0
33KB20101002,       PRS2,       2,         16,         11,       8011,2,20101005,       0551,  22.749833,-157.9996667,       4747,    99.9,  23.8164,  35.2147,2,  35.2182,2,    215.0,1,  -999.0,9, -999.00,9, -999.00,9,  -999.0,     100,    23.7954, -999.00,9,     -999.0
33KB20101002,       PRS2,       2,         16,         10,       8010,2,20101005,       0551,  22.749833,-157.9996667,       4747,   116.0,  23.1647,  35.3220,2,  35.3187,2,    214.2,1,  -999.0,9, -999.00,9, -999.00,9,  -999.0,     115,    23.1409, -999.00,9,     -999.0
33KB20101002,       PRS2,       2,         16,          9,       8009,2,20101005,       0551,  22.749833,-157.9996667,       4747,   125.6,  22.6083,  35.3326,2,-999.0000,5,    208.1,1,  -999.0,9, -999.00,9, -999.00,9,  -999.0,     126,    22.5829, -999.00,9,     -999.0
33KB20101002,       PRS2,       2,         16,          8,       8008,2,20101005,       0551,  22.749833,-157.9996667,       4747,   125.6,  22.6079,  35.3319,2,  35.3315,2,    208.2,1,  -999.0,9, -999.00,9, -999.00,9,  -999.0,     126,    22.5825, -999.00,9,     -999.0
33KB20101002,       PRS2,       2,         16,          7,       8026,2,20101005,       0551,  22.749833,-157.9996667,       4747,   135.6,  22.1206,  35.3281,2,  35.3263,2,    204.1,1,  -999.0,9, -999.00,9, -999.00,9,  -999.0,     136,    22.0936, -999.00,9,     -999.0
33KB20101002,       PRS2,       2,         16,          6,       8006,2,20101005,       0551,  22.749833,-157.9996667,       4747,   150.6,  21.3815,  35.2860,2,-999.0000,5,    200.8,1,  -999.0,9, -999.00,9, -999.00,9,  -999.0,     150,    21.3523, -999.00,9,     -999.0
33KB20101002,       PRS2,       2,         16,          5,       8005,2,20101005,       0551,  22.749833,-157.9996667,       4747,   150.7,  21.3772,  35.2858,2,  35.2869,2,    201.0,1,  -999.0,9, -999.00,9, -999.00,9,  -999.0,     150,    21.3479, -999.00,9,     -999.0
33KB20101002,       PRS2,       2,         16,          4,       8004,2,20101005,       0551,  22.749833,-157.9996667,       4747,   175.8,  20.2704,  35.2351,2,-999.0000,5,    196.7,1,  -999.0,9, -999.00,9, -999.00,9,  -999.0,     175,    20.2376, -999.00,9,     -999.0
33KB20101002,       PRS2,       2,         16,          3,       8003,2,20101005,       0551,  22.749833,-157.9996667,       4747,   175.6,  20.2726,  35.2351,2,  35.2398,2,    196.7,1,  -999.0,9, -999.00,9, -999.00,9,  -999.0,     175,    20.2398, -999.00,9,     -999.0
33KB20101002,       PRS2,       2,         16,          2,       8002,2,20101005,       0551,  22.749833,-157.9996667,       4747,   480.4,   7.6544,  34.0903,2,  34.0891,2,    111.0,1,  -999.0,9, -999.00,9, -999.00,9,  -999.0,     480,     7.6068, -999.00,9,     -999.0
33KB20101002,       PRS2,       2,         16,          1,       8001,2,20101005,       0551,  22.749833,-157.9996667,       4747,  1019.9,   3.8830,  34.4748,2,  34.4750,2,     44.5,1,  -999.0,9, -999.00,9, -999.00,9,  -999.0,    1021,     3.8066, -999.00,9,     -999.0
33KB20101002,       PRS2,       2,         17,         19,       8019,2,20101005,       0907,  22.750167,-157.9998333,       4746,     5.4,  25.9666,  35.2661,2,  35.2654,2,    207.8,2,   206.8,2, -999.00,9, -999.00,9,  -999.0,       5,    25.9654, -999.00,9,     -999.0
33KB20101002,       PRS2,       2,         17,         18,       8018,2,20101005,       0907,  22.750167,-157.9998333,       4746,    95.4,  23.4571,  35.2495,2,  35.2651,4,    214.2,3,   213.0,2, -999.00,9, -999.00,9,  -999.0,      95,    23.4373, -999.00,9,     -999.0
33KB20101002,       PRS2,       2,         17,         17,       8017,2,20101005,       0907,  22.750167,-157.9998333,       4746,   500.6,   7.7672,  34.0932,2,  34.0931,2,    111.6,2,   112.4,2, -999.00,9, -999.00,9,  -999.0,     501,     7.7171, -999.00,9,     -999.0
33KB20101002,       PRS2,       2,         17,         16,       8016,2,20101005,       0907,  22.750167,-157.9998333,       4746,   820.3,   4.5954,  34.3689,2,  34.3678,2,     35.7,2,    35.6,2, -999.00,9, -999.00,9,  -999.0,     820,     4.5309, -999.00,9,     -999.0
33KB20101002,       PRS2,       2,         17,         15,       8015,2,20101005,       0907,  22.750167,-157.9998333,       4746,  1000.3,   3.8901,  34.4733,2,-999.0000,5,     44.1,2,  -999.0,5, -999.00,9, -999.00,9,  -999.0,    1000,     3.8153, -999.00,9,     -999.0
33KB20101002,       PRS2,       2,         17,         14,       8014,2,20101005,       0907,  22.750167,-157.9998333,       4746,  2000.3,   2.0921,  34.6211,2,-999.0000,5,     88.9,2,  -999.0,5, -999.00,9, -999.00,9,  -999.0,    2000,     1.9543, -999.00,9,     -999.0
33KB20101002,       PRS2,       2,         17,         13,       8025,2,20101005,       0907,  22.750167,-157.9998333,       4746,  2000.4,   2.0918,  34.6213,2,  34.6191,2,     88.9,2,    89.5,2, -999.00,9, -999.00,9,  -999.0,    2001,     1.9539, -999.00,9,     -999.0
33KB20101002,       PRS2,       2,         17,         12,       8012,2,20101005,       0907,  22.750167,-157.9998333,       4746,  2999.7,   1.5469,  34.6693,2,-999.0000,5,    122.6,2,  -999.0,5, -999.00,9, -999.00,9,  -999.0,    3000,     1.3292, -999.00,9,     -999.0
33KB20101002,       PRS2,       2,         17,         11,       8011,2,20101005,       0907,  22.750167,-157.9998333,       4746,  2999.9,   1.5468,  34.6693,2,  34.6675,2,    122.7,2,   123.4,2, -999.00,9, -999.00,9,  -999.0,    3000,     1.3290, -999.00,9,     -999.0
33KB20101002,       PRS2,       2,         17,         10,       8010,2,20101005,       0907,  22.750167,-157.9998333,       4746,  4001.6,   1.4596,  34.6869,2,-999.0000,5,    146.7,2,  -999.0,5, -999.00,9, -999.00,9,  -999.0,    4003,     1.1416, -999.00,9,     -999.0
33KB20101002,       PRS2,       2,         17,          9,       8009,2,20101005,       0907,  22.750167,-157.9998333,       4746,  4002.0,   1.4595,  34.6870,2,-999.0000,5,    146.8,2,  -999.0,5, -999.00,9, -999.00,9,  -999.0,    4004,     1.1416, -999.00,9,     -999.0
33KB20101002,       PRS2,       2,         17,          8,       8008,2,20101005,       0907,  22.750167,-157.9998333,       4746,  4001.8,   1.4594,  34.6870,2,-999.0000,5,    146.8,2,  -999.0,5, -999.00,9, -999.00,9,  -999.0,    4003,     1.1414, -999.00,9,     -999.0
33KB20101002,       PRS2,       2,         17,          7,       8026,2,20101005,       0907,  22.750167,-157.9998333,       4746,  4001.4,   1.4594,  34.6871,2,-999.0000,5,    146.8,2,  -999.0,5, -999.00,9, -999.00,9,  -999.0,    4003,     1.1415, -999.00,9,     -999.0
33KB20101002,       PRS2,       2,         17,          6,       8006,2,20101005,       0907,  22.750167,-157.9998333,       4746,  4001.4,   1.4594,  34.6870,2,-999.0000,5,    146.8,2,  -999.0,5, -999.00,9, -999.00,9,  -999.0,    4000,     1.1415, -999.00,9,     -999.0
33KB20101002,       PRS2,       2,         17,          5,       8005,2,20101005,       0907,  22.750167,-157.9998333,       4746,  4001.3,   1.4595,  34.6869,2,-999.0000,5,    146.8,2,  -999.0,5, -999.00,9, -999.00,9,  -999.0,    4001,     1.1416, -999.00,9,     -999.0
33KB20101002,       PRS2,       2,         17,          4,       8004,2,20101005,       0907,  22.750167,-157.9998333,       4746,  4001.7,   1.4599,  34.6868,2,  34.6855,2,    146.8,2,   147.2,2, -999.00,9, -999.00,9,  -999.0,    4002,     1.1419, -999.00,9,     -999.0
33KB20101002,       PRS2,       2,         17,          3,       8003,2,20101005,       0907,  22.750167,-157.9998333,       4746,  4751.3,   1.4911,  34.6910,2,-999.0000,5,    154.8,2,  -999.0,5, -999.00,9, -999.00,9,  -999.0,    4753,     1.0870, -999.00,9,     -999.0
33KB20101002,       PRS2,       2,         17,          2,       8002,2,20101005,       0907,  22.750167,-157.9998333,       4746,  4803.0,   1.4966,  34.6909,2,-999.0000,5,    154.8,2,  -999.0,5, -999.00,9, -999.00,9,  -999.0,    4802,     1.0862, -999.00,9,     -999.0
33KB20101002,       PRS2,       2,         17,          1,       8001,2,20101005,       0907,  22.750167,-157.9998333,       4746,  4803.1,   1.4967,  34.6909,2,  34.6914,2,    154.8,2,   156.2,2, -999.00,9, -999.00,9,  -999.0,    4804,     1.0862, -999.00,9,     -999.0