BOTTLE,20141031SIOCCHAMB
EXPOCODE,SECT_ID,STNNBR,CASTNO,SAMPNO,BTLNBR,BTLNBR_FLAG_W,DATE,TIME,LATITUDE,LONGITUDE,DEPTH,CTDPRS,CTDTMP,CTDSAL,CTDSAL_FLAG_W,SALNTY,SALNTY_FLAG_W,CTDOXY,CTDOXY_FLAG_W,OXYGEN,OXYGEN_FLAG_W,SILCAT,SILCAT_FLAG_W,PHSPHT,PHSPHT_FLAG_W,REVPRS,CTDRAW,THETA,NO2+NO3,NO2+NO3_FLAG_W,REVTMP
,,,,,,,,,,,METERS,DBAR,ITS-90,PSS-78,,PSS-78,,UMOL/KG,,UMOL/KG,,UMOL/KG,,UMOL/KG,,DBAR,DBAR,ITS-90,UMOL/KG,,DEG C
33KB20101002,       PRS2,       6,          1,         13,       8025,2,20101006,       0633,  21.846667,-158.3631667,       2446,     5.7,  26.1114,  35.2739,2,  35.2725,2,    205.1,1,  -999.0,9, -999.00,9, -999.00,9,  -999.0,       6,    26.1101, -999.00,9,     -999.0
33KB20101002,       PRS2,       6,          1,         12,       8012,2,20101006,       0633,  21.846667,-158.3631667,       2446,    26.6,  26.1094,  35.2741,2,  35.2747,2,    205.1,1,  -999.0,9, -999.00,9, -999.00,9,  -999.0,      26,    26.1035, -999.00,9,     -999.0
33KB20101002,       PRS2,       6,          1,         11,       8011,2,20101006,       0633,  21.846667,-158.3631667,       2446,    46.2,  26.0250,  35.2771,2,  35.2765,2,    205.8,1,  -999.0,9, -999.00,9, -999.00,9,  -999.0,      46,    26.0147, -999.00,9,     -999.0
33KB20101002,       PRS2,       6,          1,         10,       8010,2,20101006,       0633,  21.846667,-158.3631667,       2446,    75.9,  23.6264,  35.2230,2,  35.2205,2,    212.3,1,  -999.0,9, -999.00,9, -999.00,9,  -999.0,      76,    23.6106, -999.00,9,     -999.0
33KB20101002,       PRS2,       6,          1,          9,       8009,2,20101006,       0633,  21.846667,-158.3631667,       2446,   100.1,  22.4773,  35.3133,2,  35.3149,2,    204.8,1,  -999.0,9, -999.00,9, -999.00,9,  -999.0,     101,    22.4572, -999.00,9,     -999.0
33KB20101002,       PRS2,       6,          1,          8,       8008,2,20101006,       0633,  21.846667,-158.3631667,       2446,   126.7,  21.5521,  35.3529,2,  35.3494,2,    203.4,1,  -999.0,9, -999.00,9, -999.00,9,  -999.0,     126,    21.5274, -999.00,9,     -999.0
33KB20101002,       PRS2,       6,          1,          7,       8026,2,20101006,       0633,  21.846667,-158.3631667,       2446,   150.5,  21.0328,  35.3212,2,  35.3212,2,    202.4,1,  -999.0,9, -999.00,9, -999.00,9,  -999.0,     150,    21.0039, -999.00,9,     -999.0
33KB20101002,       PRS2,       6,          1,          6,       8006,2,20101006,       0633,  21.846667,-158.3631667,       2446,   174.7,  20.1489,  35.2681,2,  35.2674,2,    203.8,1,  -999.0,9, -999.00,9, -999.00,9,  -999.0,     174,    20.1164, -999.00,9,     -999.0
33KB20101002,       PRS2,       6,          1,          5,       8005,2,20101006,       0633,  21.846667,-158.3631667,       2446,   499.8,   7.2731,  34.0589,2,  34.0588,2,    117.1,1,  -999.0,9, -999.00,9, -999.00,9,  -999.0,     500,     7.2250, -999.00,9,     -999.0
33KB20101002,       PRS2,       6,          1,          4,       8004,2,20101006,       0633,  21.846667,-158.3631667,       2446,  1000.9,   4.3417,  34.4747,2,  34.4742,2,     41.1,1,  -999.0,9, -999.00,9, -999.00,9,  -999.0,    1002,     4.2634, -999.00,9,     -999.0
33KB20101002,       PRS2,       6,          1,          3,       8003,2,20101006,       0633,  21.846667,-158.3631667,       2446,  1499.9,   2.9469,  34.5655,2,  34.5641,2,     65.8,1,  -999.0,9, -999.00,9, -999.00,9,  -999.0,    1499,     2.8397, -999.00,9,     -999.0
33KB20101002,       PRS2,       6,          1,          2,       8002,2,20101006,       0633,  21.846667,-158.3631667,       2446,  2000.5,   2.2412,  34.6131,2,  34.6123,2,     86.4,1,  -999.0,9, -999.00,9, -999.00,9,  -999.0,    2002,     2.1011, -999.00,9,     -999.0
33KB20101002,       PRS2,       6,          1,          1,       8001,2,20101006,       0633,  21.846667,-158.3631667,       2446,  2447.9,   1.8245,  34.6459,2,  34.6453,2,    106.1,1,  -999.0,9, -999.00,9, -999.00,9,  -999.0,    2449,     1.6522, -999.00,9,     -999.0
33KB20101002,       PRS2,      50,          1,         24,       8024,2,20101005,       1946,  22.744333,-157.9236667,       4723,     5.6,  26.2888,  35.2708,2,-999.0000,9,    205.3,1,  -999.0,9, -999.00,9, -999.00,9,  -999.0,       7,    26.2876, -999.00,9,     -999.0
33KB20101002,       PRS2,      50,          1,         23,       8023,2,20101005,       1946,  22.744333,-157.9236667,       4723,    25.7,  26.2798,  35.2707,2,-999.0000,9,    205.2,1,  -999.0,9, -999.00,9, -999.00,9,  -999.0,      26,    26.2740, -999.00,9,     -999.0
33KB20101002,       PRS2,      50,          1,         22,       8022,2,20101005,       1946,  22.744333,-157.9236667,       4723,    45.4,  26.0854,  35.2447,2,-999.0000,9,    205.4,1,  -999.0,9, -999.00,9, -999.00,9,  -999.0,      46,    26.0752, -999.00,9,     -999.0
33KB20101002,       PRS2,      50,          1,         21,       8021,2,20101005,       1946,  22.744333,-157.9236667,       4723,    45.4,  26.0854,  35.2447,2,-999.0000,9,    205.4,1,  -999.0,9, -999.00,9, -999.00,9,  -999.0,      46,    26.0752, -999.00,9,     -999.0
33KB20101002,       PRS2,      50,          1,         20,       8020,2,20101005,       1946,  22.744333,-157.9236667,       4723,    45.5,  26.1165,  35.2498,2,-999.0000,9,    205.5,1,  -999.0,9, -999.00,9, -999.00,9,  -999.0,      46,    26.1063, -999.00,9,     -999.0
33KB20101002,       PRS2,      50,          1,         19,       8019,2,20101005,       1946,  22.744333,-157.9236667,       4723,    45.4,  26.1217,  35.2504,2,-999.0000,9,    205.6,1,  -999.0,9, -999.00,9, -999.00,9,  -999.0,      45,    26.1115, -999.00,9,     -999.0
33KB20101002,       PRS2,      50,          1,         18,       8018,2,20101005,       1946,  22.744333,-157.9236667,       4723,    45.4,  26.1098,  35.2483,2,-999.0000,9,    205.7,1,  -999.0,9, -999.00,9, -999.00,9,  -999.0,      46,    26.0997, -999.00,9,     -999.0
33KB20101002,       PRS2,      50,          1,         17,       8017,2,20101005,       1946,  22.744333,-157.9236667,       4723,    75.7,  24.6686,  35.2498,2,-999.0000,9,    215.3,1,  -999.0,9, -999.00,9, -999.00,9,  -999.0,      76,    24.6523, -999.00,9,     -999.0
33KB20101002,       PRS2,      50,          1,         16,       8016,2,20101005,       1946,  22.744333,-157.9236667,       4723,    99.0,  23.2792,  35.2493,2,-999.0000,9,    210.6,1,  -999.0,9, -999.00,9, -999.00,9,  -999.0,      98,    23.2588, -999.00,9,     -999.0
33KB20101002,       PRS2,      50,          1,         15,       8015,2,20101005,       1946,  22.744333,-157.9236667,       4723,   125.7,  22.1691,  35.3140,2,-999.0000,9,    202.9,1,  -999.0,9, -999.00,9, -999.00,9,  -999.0,     126,    22.1441, -999.00,9,     -999.0
33KB20101002,       PRS2,      50,          1,         14,       8014,2,20101005,       1946,  22.744333,-157.9236667,       4723,   176.3,  19.9684,  35.2042,2,-999.0000,9,    200.9,1,  -999.0,9, -999.00,9, -999.00,9,  -999.0,     178,    19.9358, -999.00,9,     -999.0
33KB20101002,       PRS2,      50,          1,         13,       8025,2,20101005,       1946,  22.744333,-157.9236667,       4723,   175.5,  19.9741,  35.2047,2,-999.0000,9,    201.0,1,  -999.0,9, -999.00,9, -999.00,9,  -999.0,     175,    19.9416, -999.00,9,     -999.0
33KB20101002,       PRS2,      50,          1,         12,       8012,2,20101005,       1946,  22.744333,-157.9236667,       4723,   176.2,  19.9702,  35.2047,2,-999.0000,9,    201.0,1,  -999.0,9, -999.00,9, -999.00,9,  -999.0,     177,    19.9376, -999.00,9,     -999.0
33KB20101002,       PRS2,      50,          1,         11,       8011,2,20101005,       1946,  22.744333,-157.9236667,       4723,   176.0,  19.9702,  35.2047,2,-999.0000,9,    201.1,1,  -999.0,9, -999.00,9, -999.00,9,  -999.0,     176,    19.9376, -999.00,9,     -999.0
33KB20101002,       PRS2,      50,          1,         10,       8010,2,20101005,       1946,  22.744333,-157.9236667,       4723,   176.3,  19.9676,  35.2040,2,-999.0000,9,    201.2,1,  -999.0,9, -999.00,9, -999.00,9,  -999.0,     176,    19.9350, -999.00,9,     -999.0
33KB20101002,       PRS2,      50,          1,          9,       8009,2,20101005,       1946,  22.744333,-157.9236667,       4723,   176.4,  19.9669,  35.2044,2,-999.0000,9,    201.3,1,  -999.0,9, -999.00,9, -999.00,9,  -999.0,     178,    19.9343, -999.00,9,     -999.0
33KB20101002,       PRS2,      50,          1,          8,       8008,2,20101005,       1946,  22.744333,-157.9236667,       4723,   176.4,  19.9684,  35.2049,2,-999.0000,9,    201.5,1,  -999.0,9, -999.00,9, -999.00,9,  -999.0,     178,    19.9358, -999.00,9,     -999.0
33KB20101002,       PRS2,      50,          1,          7,       8026,2,20101005,       1946,  22.744333,-157.9236667,       4723,   176.1,  19.9762,  35.2044,2,-999.0000,9,    201.8,1,  -999.0,9, -999.00,9, -999.00,9,  -999.0,     176,    19.9437, -999.00,9,     -999.0
33KB20101002,       PRS2,      50,          1,          6,       8006,2,20101005,       1946,  22.744333,-157.9236667,       4723,   176.0,  19.9804,  35.2060,2,-999.0000,9,    202.2,1,  -999.0,9, -999.00,9, -999.00,9,  -999.0,     176,    19.9478, -999.00,9,     -999.0
33KB20101002,       PRS2,      50,          1,          5,       8005,2,20101005,       1946,  22.744333,-157.9236667,       4723,   176.3,  19.9705,  35.2050,2,-999.0000,9,    202.8,1,  -999.0,9, -999.00,9, -999.00,9,  -999.0,     177,    19.9379, -999.00,9,     -999.0
33KB20101002,       PRS2,      50,          1,          4,       8004,2,20101005,       1946,  22.744333,-157.9236667,       4723,   176.4,  19.9705,  35.2049,2,-999.0000,9,    203.3,1,  -999.0,9, -999.00,9, -999.00,9,  -999.0,     177,    19.9379, -999.00,9,     -999.0
33KB20101002,       PRS2,      50,          1,          3,       8003,2,20101005,       1946,  22.744333,-157.9236667,       4723,   176.4,  19.9686,  35.2049,2,-999.0000,9,    203.9,1,  -999.0,9, -999.00,9, -999.00,9,  -999.0,     177,    19.9360, -999.00,9,     -999.0
33KB20101002,       PRS2,      50,          1,          2,       8002,2,20101005,       1946,  22.744333,-157.9236667,       4723,   176.4,  19.9678,  35.2050,2,-999.0000,9,    204.4,1,  -999.0,9, -999.00,9, -999.00,9,  -999.0,     178,    19.9352, -999.00,9,     -999.0
33KB20101002,       PRS2,      50,          1,          1,       8001,2,20101005,       1946,  22.744333,-157.9236667,       4723,   176.0,  19.9651,  35.2041,2,-999.0000,9,    204.9,1,  -999.0,9, -999.00,9, -999.00,9,  -999.0,     177,    19.9325, -999.00,9,     -999.0