BOTTLE,20141031SIOCCHAMB
EXPOCODE,SECT_ID,STNNBR,CASTNO,SAMPNO,BTLNBR,BTLNBR_FLAG_W,DATE,TIME,LATITUDE,LONGITUDE,DEPTH,CTDPRS,CTDTMP,CTDSAL,CTDSAL_FLAG_W,SALNTY,SALNTY_FLAG_W,CTDOXY,CTDOXY_FLAG_W,OXYGEN,OXYGEN_FLAG_W,SILCAT,SILCAT_FLAG_W,PHSPHT,PHSPHT_FLAG_W,REVPRS,CTDRAW,THETA,NO2+NO3,NO2+NO3_FLAG_W,REVTMP
,,,,,,,,,,,METERS,DBAR,ITS-90,PSS-78,,PSS-78,,UMOL/KG,,UMOL/KG,,UMOL/KG,,UMOL/KG,,DBAR,DBAR,ITS-90,UMOL/KG,,DEG C
33KB20101002,       PRS2,       2,          6,         18,       8018,2,20101003,       2344,  22.757667,-157.9780000,       4733,     5.7,  26.1074,  35.2971,2,-999.0000,5,    207.2,1,  -999.0,9, -999.00,9, -999.00,9,  -999.0,       5,    26.1061, -999.00,9,     -999.0
33KB20101002,       PRS2,       2,          6,         17,       8017,2,20101003,       2344,  22.757667,-157.9780000,       4733,     5.8,  26.1062,  35.2972,2,-999.0000,5,    207.1,1,  -999.0,9, -999.00,9, -999.00,9,  -999.0,       6,    26.1049, -999.00,9,     -999.0
33KB20101002,       PRS2,       2,          6,         16,       8016,2,20101003,       2344,  22.757667,-157.9780000,       4733,     5.8,  26.1063,  35.2972,2,-999.0000,5,    207.1,1,  -999.0,9, -999.00,9, -999.00,9,  -999.0,       6,    26.1050, -999.00,9,     -999.0
33KB20101002,       PRS2,       2,          6,         15,       8015,2,20101003,       2344,  22.757667,-157.9780000,       4733,     5.8,  26.1087,  35.2974,2,-999.0000,5,    207.1,1,  -999.0,9, -999.00,9, -999.00,9,  -999.0,       6,    26.1075, -999.00,9,     -999.0
33KB20101002,       PRS2,       2,          6,         14,       8014,2,20101003,       2344,  22.757667,-157.9780000,       4733,     5.8,  26.1099,  35.2973,2,  35.2972,2,    207.0,1,  -999.0,9, -999.00,9, -999.00,9,  -999.0,       5,    26.1086, -999.00,9,     -999.0
33KB20101002,       PRS2,       2,          6,         13,       8025,2,20101003,       2344,  22.757667,-157.9780000,       4733,    26.3,  26.0765,  35.2954,2,  35.2950,2,    207.4,1,  -999.0,9, -999.00,9, -999.00,9,  -999.0,      27,    26.0706, -999.00,9,     -999.0
33KB20101002,       PRS2,       2,          6,         12,       8012,2,20101003,       2344,  22.757667,-157.9780000,       4733,    45.5,  26.0342,  35.2907,2,  35.2913,2,    207.3,1,  -999.0,9, -999.00,9, -999.00,9,  -999.0,      46,    26.0241, -999.00,9,     -999.0
33KB20101002,       PRS2,       2,          6,         11,       8011,2,20101003,       2344,  22.757667,-157.9780000,       4733,    75.3,  25.7512,  35.2482,2,  35.2493,2,    208.6,1,  -999.0,9, -999.00,9, -999.00,9,  -999.0,      76,    25.7345, -999.00,9,     -999.0
33KB20101002,       PRS2,       2,          6,         10,       8010,2,20101003,       2344,  22.757667,-157.9780000,       4733,   100.7,  24.1386,  35.2283,2,  35.2223,2,    218.6,1,  -999.0,9, -999.00,9, -999.00,9,  -999.0,     102,    24.1173, -999.00,9,     -999.0
33KB20101002,       PRS2,       2,          6,          9,       8009,2,20101003,       2344,  22.757667,-157.9780000,       4733,   125.7,  22.8515,  35.2883,2,  35.2881,2,    206.1,1,  -999.0,9, -999.00,9, -999.00,9,  -999.0,     126,    22.8259, -999.00,9,     -999.0
33KB20101002,       PRS2,       2,          6,          8,       8008,2,20101003,       2344,  22.757667,-157.9780000,       4733,   150.4,  21.7689,  35.2777,2,  35.2794,2,    204.2,1,  -999.0,9, -999.00,9, -999.00,9,  -999.0,     150,    21.7393, -999.00,9,     -999.0
33KB20101002,       PRS2,       2,          6,          7,       8026,2,20101003,       2344,  22.757667,-157.9780000,       4733,   175.2,  20.6509,  35.2713,2,  35.2745,2,    201.1,1,  -999.0,9, -999.00,9, -999.00,9,  -999.0,     175,    20.6177, -999.00,9,     -999.0
33KB20101002,       PRS2,       2,          6,          6,       8006,2,20101003,       2344,  22.757667,-157.9780000,       4733,   199.7,  20.2580,  35.2644,2,  35.2609,2,    203.4,1,  -999.0,9, -999.00,9, -999.00,9,  -999.0,     199,    20.2207, -999.00,9,     -999.0
33KB20101002,       PRS2,       2,          6,          5,       8005,2,20101003,       2344,  22.757667,-157.9780000,       4733,   250.5,  18.4950,  35.0030,2,  35.0136,2,    198.0,1,  -999.0,9, -999.00,9, -999.00,9,  -999.0,     251,    18.4511, -999.00,9,     -999.0
33KB20101002,       PRS2,       2,          6,          4,       8004,2,20101003,       2344,  22.757667,-157.9780000,       4733,   350.6,  12.0663,  34.1799,2,  34.1762,2,    177.3,1,  -999.0,9, -999.00,9, -999.00,9,  -999.0,     349,    12.0205, -999.00,9,     -999.0
33KB20101002,       PRS2,       2,          6,          3,       8003,2,20101003,       2344,  22.757667,-157.9780000,       4733,   350.6,  12.0450,  34.1790,2,  34.1764,2,    177.7,1,  -999.0,9, -999.00,9, -999.00,9,  -999.0,     351,    11.9992, -999.00,9,     -999.0
33KB20101002,       PRS2,       2,          6,          2,       8002,2,20101003,       2344,  22.757667,-157.9780000,       4733,   499.6,   7.2870,  34.1158,2,  34.1152,2,     87.7,1,  -999.0,9, -999.00,9, -999.00,9,  -999.0,     499,     7.2388, -999.00,9,     -999.0
33KB20101002,       PRS2,       2,          6,          1,       8001,2,20101003,       2344,  22.757667,-157.9780000,       4733,  1019.9,   3.9039,  34.4750,2,  34.4758,2,     46.0,1,  -999.0,9, -999.00,9, -999.00,9,  -999.0,    1020,     3.8274, -999.00,9,     -999.0
33KB20101002,       PRS2,       2,          7,         21,       8021,2,20101004,       0246,  22.671667,-157.9673333,       4749,     5.5,  26.1236,  35.3034,2,-999.0000,5,    206.8,2,   206.7,2, -999.00,9, -999.00,9,  -999.0,       5,    26.1223, -999.00,9,     -999.0
33KB20101002,       PRS2,       2,          7,         20,       8020,2,20101004,       0246,  22.671667,-157.9673333,       4749,     5.5,  26.1238,  35.3033,2,  35.3035,2,    206.9,2,  -999.0,5, -999.00,9, -999.00,9,  -999.0,       5,    26.1225, -999.00,9,     -999.0
33KB20101002,       PRS2,       2,          7,         19,       8019,2,20101004,       0246,  22.671667,-157.9673333,       4749,    25.3,  26.0998,  35.3006,2,  35.3031,2,    207.2,2,  -999.0,5, -999.00,9, -999.00,9,  -999.0,      26,    26.0942, -999.00,9,     -999.0
33KB20101002,       PRS2,       2,          7,         18,       8018,2,20101004,       0246,  22.671667,-157.9673333,       4749,    43.9,  26.0327,  35.2941,2,-999.0000,5,    207.5,2,   206.8,2, -999.00,9, -999.00,9,  -999.0,      44,    26.0229, -999.00,9,     -999.0
33KB20101002,       PRS2,       2,          7,         17,       8017,2,20101004,       0246,  22.671667,-157.9673333,       4749,    43.8,  26.0330,  35.2943,2,  35.2942,2,    207.5,2,  -999.0,5, -999.00,9, -999.00,9,  -999.0,      44,    26.0232, -999.00,9,     -999.0
33KB20101002,       PRS2,       2,          7,         16,       8016,2,20101004,       0246,  22.671667,-157.9673333,       4749,    75.5,  25.4207,  35.2389,2,  35.2398,2,    210.3,2,  -999.0,5, -999.00,9, -999.00,9,  -999.0,      75,    25.4041, -999.00,9,     -999.0
33KB20101002,       PRS2,       2,          7,         15,       8015,2,20101004,       0246,  22.671667,-157.9673333,       4749,   101.1,  23.4699,  35.2315,2,-999.0000,5,    211.2,2,   211.6,2, -999.00,9, -999.00,9,  -999.0,     101,    23.4490, -999.00,9,     -999.0
33KB20101002,       PRS2,       2,          7,         14,       8014,2,20101004,       0246,  22.671667,-157.9673333,       4749,   100.9,  23.4690,  35.2315,2,  35.2390,2,    210.9,2,  -999.0,5, -999.00,9, -999.00,9,  -999.0,     102,    23.4481, -999.00,9,     -999.0
33KB20101002,       PRS2,       2,          7,         13,       8025,2,20101004,       0246,  22.671667,-157.9673333,       4749,   124.9,  22.7912,  35.2904,2,  35.2924,2,    208.3,2,  -999.0,5, -999.00,9, -999.00,9,  -999.0,     124,    22.7659, -999.00,9,     -999.0
33KB20101002,       PRS2,       2,          7,         12,       8012,2,20101004,       0246,  22.671667,-157.9673333,       4749,   149.1,  21.9138,  35.3418,2,  35.3459,2,    205.2,2,  -999.0,5, -999.00,9, -999.00,9,  -999.0,     149,    21.8843, -999.00,9,     -999.0
33KB20101002,       PRS2,       2,          7,         11,       8011,2,20101004,       0246,  22.671667,-157.9673333,       4749,   173.8,  21.1103,  35.3513,2,  35.3520,2,    204.8,2,  -999.0,5, -999.00,9, -999.00,9,  -999.0,     174,    21.0768, -999.00,9,     -999.0
33KB20101002,       PRS2,       2,          7,         10,       8010,2,20101004,       0246,  22.671667,-157.9673333,       4749,   200.9,  20.0834,  35.2592,2,-999.0000,5,    203.1,2,   203.5,2, -999.00,9, -999.00,9,  -999.0,     201,    20.0460, -999.00,9,     -999.0
33KB20101002,       PRS2,       2,          7,          9,       8009,2,20101004,       0246,  22.671667,-157.9673333,       4749,   200.8,  20.0802,  35.2585,2,  35.2509,2,    203.1,2,  -999.0,5, -999.00,9, -999.00,9,  -999.0,     201,    20.0429, -999.00,9,     -999.0
33KB20101002,       PRS2,       2,          7,          8,       8008,2,20101004,       0246,  22.671667,-157.9673333,       4749,   249.4,  17.2641,  34.7897,2,  34.7921,2,    192.6,2,  -999.0,5, -999.00,9, -999.00,9,  -999.0,     249,    17.2225, -999.00,9,     -999.0
33KB20101002,       PRS2,       2,          7,          7,       8026,2,20101004,       0246,  22.671667,-157.9673333,       4749,   350.8,  11.8958,  34.1673,2,  34.1703,2,    177.3,2,  -999.0,5, -999.00,9, -999.00,9,  -999.0,     351,    11.8504, -999.00,9,     -999.0
33KB20101002,       PRS2,       2,          7,          6,       8006,2,20101004,       0246,  22.671667,-157.9673333,       4749,   350.9,  11.8974,  34.1660,2,  34.1695,2,    177.3,2,  -999.0,5, -999.00,9, -999.00,9,  -999.0,     351,    11.8520, -999.00,9,     -999.0
33KB20101002,       PRS2,       2,          7,          5,       8005,2,20101004,       0246,  22.671667,-157.9673333,       4749,   350.8,  11.8996,  34.1657,2,-999.0000,5,    177.3,2,   178.7,2, -999.00,9, -999.00,9,  -999.0,     350,    11.8542, -999.00,9,     -999.0
33KB20101002,       PRS2,       2,          7,          4,       8004,2,20101004,       0246,  22.671667,-157.9673333,       4749,   499.3,   7.5303,  34.1024,2,-999.0000,5,    103.0,2,   101.3,2, -999.00,9, -999.00,9,  -999.0,     500,     7.4812, -999.00,9,     -999.0
33KB20101002,       PRS2,       2,          7,          3,       8003,2,20101004,       0246,  22.671667,-157.9673333,       4749,   520.0,   7.1781,  34.1064,2,  34.1056,2,     86.8,2,  -999.0,5, -999.00,9, -999.00,9,  -999.0,     520,     7.1283, -999.00,9,     -999.0
33KB20101002,       PRS2,       2,          7,          2,       8002,2,20101004,       0246,  22.671667,-157.9673333,       4749,  1018.9,   3.9617,  34.4670,2,-999.0000,5,     45.0,2,    45.7,2, -999.00,9, -999.00,9,  -999.0,    1019,     3.8848, -999.00,9,     -999.0
33KB20101002,       PRS2,       2,          7,          1,       8001,2,20101004,       0246,  22.671667,-157.9673333,       4749,  1018.7,   3.9618,  34.4671,2,  34.4681,2,     45.1,2,  -999.0,5, -999.00,9, -999.00,9,  -999.0,    1019,     3.8849, -999.00,9,     -999.0
33KB20101002,       PRS2,       2,          8,         24,       8024,2,20101004,       0552,  22.674000,-157.9716667,       4753,     7.5,  26.0345,  35.2876,2,  35.2887,2,    207.4,2,  -999.0,5, -999.00,5, -999.00,5,  -999.0,       7,    26.0328, -999.00,5,     -999.0
33KB20101002,       PRS2,       2,          8,         23,       8023,2,20101004,       0552,  22.674000,-157.9716667,       4753,     7.5,  26.0351,  35.2881,2,  35.2891,2,    207.3,2,   206.7,2,    1.10,2,    0.07,2,  -999.0,       7,    26.0334,    0.04,2,     -999.0
33KB20101002,       PRS2,       2,          8,         22,       8022,2,20101004,       0552,  22.674000,-157.9716667,       4753,    16.1,  26.0411,  35.2878,2,  35.2877,2,    207.3,2,  -999.0,5,    1.06,2,    0.07,2,  -999.0,      16,    26.0375,    0.03,2,     -999.0
33KB20101002,       PRS2,       2,          8,         21,       8021,2,20101004,       0552,  22.674000,-157.9716667,       4753,    25.9,  26.0488,  35.2892,2,  35.2897,2,    207.2,2,  -999.0,5, -999.00,5, -999.00,5,  -999.0,      26,    26.0430, -999.00,5,     -999.0
33KB20101002,       PRS2,       2,          8,         20,       8020,2,20101004,       0552,  22.674000,-157.9716667,       4753,    25.8,  26.0488,  35.2896,2,  35.2909,2,    207.2,2,  -999.0,5, -999.00,5, -999.00,5,  -999.0,      26,    26.0430, -999.00,5,     -999.0
33KB20101002,       PRS2,       2,          8,         19,       8019,2,20101004,       0552,  22.674000,-157.9716667,       4753,    26.0,  26.0491,  35.2896,2,  35.2905,2,    207.1,2,   206.6,2,    1.07,2,    0.07,2,  -999.0,      26,    26.0432,    0.04,2,     -999.0
33KB20101002,       PRS2,       2,          8,         18,       8018,2,20101004,       0552,  22.674000,-157.9716667,       4753,    35.0,  26.0435,  35.2877,2,  35.2877,2,    207.1,2,  -999.0,5,    1.07,2,    0.07,2,  -999.0,      36,    26.0357,    0.03,2,     -999.0
33KB20101002,       PRS2,       2,          8,         17,       8017,2,20101004,       0552,  22.674000,-157.9716667,       4753,    45.9,  25.9552,  35.2757,2,  35.2765,2,    208.0,2,   207.2,2,    1.06,2,    0.07,2,  -999.0,      46,    25.9449,    0.04,2,     -999.0
33KB20101002,       PRS2,       2,          8,         16,       8016,2,20101004,       0552,  22.674000,-157.9716667,       4753,    61.1,  25.6446,  35.2472,2,  35.2454,2,    208.5,2,  -999.0,5,    1.04,2,    0.07,2,  -999.0,      61,    25.6311,    0.04,2,     -999.0
33KB20101002,       PRS2,       2,          8,         15,       8015,2,20101004,       0552,  22.674000,-157.9716667,       4753,    75.3,  24.1432,  35.2273,2,  35.2274,2,    217.2,2,   217.1,2,    1.16,2,    0.07,2,  -999.0,      75,    24.1272,    0.04,2,     -999.0
33KB20101002,       PRS2,       2,          8,         14,       8014,2,20101004,       0552,  22.674000,-157.9716667,       4753,    84.7,  23.6669,  35.2211,2,  35.2197,2,    213.9,2,   213.6,2, -999.00,5, -999.00,5,  -999.0,      85,    23.6492, -999.00,5,     -999.0
33KB20101002,       PRS2,       2,          8,         13,       8025,2,20101004,       0552,  22.674000,-157.9716667,       4753,    90.2,  23.4584,  35.2415,2,  35.2477,2,    212.1,2,  -999.0,5, -999.00,5, -999.00,5,  -999.0,      90,    23.4397, -999.00,5,     -999.0
33KB20101002,       PRS2,       2,          8,         12,       8012,2,20101004,       0552,  22.674000,-157.9716667,       4753,   100.6,  22.9945,  35.2851,2,  35.2859,2,    209.5,2,   209.7,2,    1.26,2,    0.10,2,  -999.0,     102,    22.9739,    0.09,2,     -999.0
33KB20101002,       PRS2,       2,          8,         11,       8011,2,20101004,       0552,  22.674000,-157.9716667,       4753,   110.2,  22.7634,  35.2920,2,  35.2922,2,    208.6,2,  -999.0,5, -999.00,5, -999.00,5,  -999.0,     111,    22.7410, -999.00,5,     -999.0
33KB20101002,       PRS2,       2,          8,         10,       8010,2,20101004,       0552,  22.674000,-157.9716667,       4753,   115.8,  22.4984,  35.3050,2,  35.3023,2,    206.6,2,   207.0,2, -999.00,5, -999.00,5,  -999.0,     116,    22.4751, -999.00,5,     -999.0
33KB20101002,       PRS2,       2,          8,          9,       8009,2,20101004,       0552,  22.674000,-157.9716667,       4753,   125.5,  22.2448,  35.3209,2,  35.3187,2,    204.7,2,   206.0,2,    1.36,2,    0.11,2,  -999.0,     125,    22.2197,    0.39,2,     -999.0
33KB20101002,       PRS2,       2,          8,          8,       8008,2,20101004,       0552,  22.674000,-157.9716667,       4753,   130.7,  21.8791,  35.3276,2,  35.3283,2,    204.8,2,  -999.0,5, -999.00,5, -999.00,5,  -999.0,     131,    21.8533, -999.00,5,     -999.0
33KB20101002,       PRS2,       2,          8,          7,       8026,2,20101004,       0552,  22.674000,-157.9716667,       4753,   150.4,  21.2582,  35.2944,2,  35.2972,2,    203.3,2,   203.2,2,    1.60,2,    0.13,2,  -999.0,     151,    21.2291,    0.86,2,     -999.0
33KB20101002,       PRS2,       2,          8,          6,       8006,2,20101004,       0552,  22.674000,-157.9716667,       4753,   165.2,  20.7242,  35.2775,2,  35.2844,2,    201.3,2,   202.0,2, -999.00,5, -999.00,5,  -999.0,     165,    20.6928, -999.00,5,     -999.0
33KB20101002,       PRS2,       2,          8,          5,       8005,2,20101004,       0552,  22.674000,-157.9716667,       4753,   174.9,  20.4662,  35.2930,2,  35.2919,2,    202.4,2,   202.4,2,    1.73,2,    0.13,2,  -999.0,     174,    20.4333,    1.12,2,     -999.0
33KB20101002,       PRS2,       2,          8,          4,       8004,2,20101004,       0552,  22.674000,-157.9716667,       4753,   199.8,  19.6408,  35.2124,2,  35.2018,2,    205.1,2,   205.1,2,    2.15,2,    0.14,2,  -999.0,     200,    19.6043,    1.46,2,     -999.0
33KB20101002,       PRS2,       2,          8,          3,       8003,2,20101004,       0552,  22.674000,-157.9716667,       4753,   510.8,   7.4727,  34.1034,2,  34.1052,2,    102.0,2,    97.3,3, -999.00,5, -999.00,5,  -999.0,     510,     7.4226, -999.00,5,     -999.0
33KB20101002,       PRS2,       2,          8,          2,       8002,2,20101004,       0552,  22.674000,-157.9716667,       4753,   800.5,   4.6936,  34.3640,2,  34.3656,2,     37.1,2,    36.9,2, -999.00,5, -999.00,5,  -999.0,     801,     4.6301, -999.00,5,     -999.0
33KB20101002,       PRS2,       2,          8,          1,       8001,2,20101004,       0552,  22.674000,-157.9716667,       4753,  1018.8,   3.8278,  34.4843,2,  34.4860,2,     47.9,2,    48.1,2, -999.00,5, -999.00,5,  -999.0,    1019,     3.7519, -999.00,5,     -999.0