BOTTLE,20141031SIOCCHAMB
EXPOCODE,SECT_ID,STNNBR,CASTNO,SAMPNO,BTLNBR,BTLNBR_FLAG_W,DATE,TIME,LATITUDE,LONGITUDE,DEPTH,CTDPRS,CTDTMP,CTDSAL,CTDSAL_FLAG_W,SALNTY,SALNTY_FLAG_W,CTDOXY,CTDOXY_FLAG_W,OXYGEN,OXYGEN_FLAG_W,SILCAT,SILCAT_FLAG_W,PHSPHT,PHSPHT_FLAG_W,REVPRS,CTDRAW,THETA,NO2+NO3,NO2+NO3_FLAG_W,REVTMP
,,,,,,,,,,,METERS,DBAR,ITS-90,PSS-78,,PSS-78,,UMOL/KG,,UMOL/KG,,UMOL/KG,,UMOL/KG,,DBAR,DBAR,ITS-90,UMOL/KG,,DEG C
33KB20101002,       PRS2,       2,          3,         24,       8024,2,20101003,       1307,  22.732833,-157.9706667,       4744,     5.9,  26.0386,  35.2948,2,-999.0000,9,    209.2,1,  -999.0,9, -999.00,9, -999.00,9,  -999.0,       6,    26.0373, -999.00,9,     -999.0
33KB20101002,       PRS2,       2,          3,         23,       8023,2,20101003,       1307,  22.732833,-157.9706667,       4744,     5.8,  26.0384,  35.2947,2,-999.0000,9,    209.1,1,  -999.0,9, -999.00,9, -999.00,9,  -999.0,       6,    26.0371, -999.00,9,     -999.0
33KB20101002,       PRS2,       2,          3,         22,       8022,2,20101003,       1307,  22.732833,-157.9706667,       4744,     5.9,  26.0384,  35.2947,2,-999.0000,9,    209.0,1,  -999.0,9, -999.00,9, -999.00,9,  -999.0,       6,    26.0371, -999.00,9,     -999.0
33KB20101002,       PRS2,       2,          3,         21,       8021,2,20101003,       1307,  22.732833,-157.9706667,       4744,     6.0,  26.0381,  35.2947,2,-999.0000,9,    208.9,1,  -999.0,9, -999.00,9, -999.00,9,  -999.0,       6,    26.0367, -999.00,9,     -999.0
33KB20101002,       PRS2,       2,          3,         20,       8020,2,20101003,       1307,  22.732833,-157.9706667,       4744,     5.7,  26.0376,  35.2948,2,-999.0000,9,    208.8,1,  -999.0,9, -999.00,9, -999.00,9,  -999.0,       6,    26.0363, -999.00,9,     -999.0
33KB20101002,       PRS2,       2,          3,         19,       8019,2,20101003,       1307,  22.732833,-157.9706667,       4744,     5.7,  26.0373,  35.2947,2,-999.0000,9,    209.0,1,  -999.0,9, -999.00,9, -999.00,9,  -999.0,       5,    26.0361, -999.00,9,     -999.0
33KB20101002,       PRS2,       2,          3,         18,       8018,2,20101003,       1307,  22.732833,-157.9706667,       4744,     5.6,  26.0373,  35.2947,2,-999.0000,9,    209.0,1,  -999.0,9, -999.00,9, -999.00,9,  -999.0,       5,    26.0361, -999.00,9,     -999.0
33KB20101002,       PRS2,       2,          3,         17,       8017,2,20101003,       1307,  22.732833,-157.9706667,       4744,     5.8,  26.0374,  35.2948,2,-999.0000,9,    209.0,1,  -999.0,9, -999.00,9, -999.00,9,  -999.0,       7,    26.0362, -999.00,9,     -999.0
33KB20101002,       PRS2,       2,          3,         16,       8016,2,20101003,       1307,  22.732833,-157.9706667,       4744,    25.5,  26.0428,  35.2941,2,-999.0000,9,    209.0,1,  -999.0,9, -999.00,9, -999.00,9,  -999.0,      25,    26.0371, -999.00,9,     -999.0
33KB20101002,       PRS2,       2,          3,         15,       8015,2,20101003,       1307,  22.732833,-157.9706667,       4744,    25.5,  26.0431,  35.2941,2,-999.0000,9,    209.0,1,  -999.0,9, -999.00,9, -999.00,9,  -999.0,      26,    26.0374, -999.00,9,     -999.0
33KB20101002,       PRS2,       2,          3,         14,       8014,2,20101003,       1307,  22.732833,-157.9706667,       4744,    25.5,  26.0437,  35.2942,2,-999.0000,9,    209.1,1,  -999.0,9, -999.00,9, -999.00,9,  -999.0,      25,    26.0380, -999.00,9,     -999.0
33KB20101002,       PRS2,       2,          3,         13,       8025,2,20101003,       1307,  22.732833,-157.9706667,       4744,    25.5,  26.0440,  35.2943,2,-999.0000,9,    209.2,1,  -999.0,9, -999.00,9, -999.00,9,  -999.0,      25,    26.0383, -999.00,9,     -999.0
33KB20101002,       PRS2,       2,          3,         12,       8012,2,20101003,       1307,  22.732833,-157.9706667,       4744,    25.5,  26.0446,  35.2943,2,-999.0000,9,    209.2,1,  -999.0,9, -999.00,9, -999.00,9,  -999.0,      25,    26.0389, -999.00,9,     -999.0
33KB20101002,       PRS2,       2,          3,         11,       8011,2,20101003,       1307,  22.732833,-157.9706667,       4744,    25.7,  26.0446,  35.2943,2,-999.0000,9,    209.2,1,  -999.0,9, -999.00,9, -999.00,9,  -999.0,      25,    26.0388, -999.00,9,     -999.0
33KB20101002,       PRS2,       2,          3,         10,       8010,2,20101003,       1307,  22.732833,-157.9706667,       4744,    45.6,  25.9515,  35.2774,2,-999.0000,9,    210.1,1,  -999.0,9, -999.00,9, -999.00,9,  -999.0,      45,    25.9414, -999.00,9,     -999.0
33KB20101002,       PRS2,       2,          3,          9,       8009,2,20101003,       1307,  22.732833,-157.9706667,       4744,    45.5,  25.9471,  35.2768,2,-999.0000,9,    210.1,1,  -999.0,9, -999.00,9, -999.00,9,  -999.0,      44,    25.9370, -999.00,9,     -999.0
33KB20101002,       PRS2,       2,          3,          8,       8008,2,20101003,       1307,  22.732833,-157.9706667,       4744,    45.6,  25.9342,  35.2747,2,-999.0000,9,    210.3,1,  -999.0,9, -999.00,9, -999.00,9,  -999.0,      45,    25.9240, -999.00,9,     -999.0
33KB20101002,       PRS2,       2,          3,          7,       8026,2,20101003,       1307,  22.732833,-157.9706667,       4744,    45.5,  25.9224,  35.2733,2,-999.0000,9,    210.7,1,  -999.0,9, -999.00,9, -999.00,9,  -999.0,      45,    25.9123, -999.00,9,     -999.0
33KB20101002,       PRS2,       2,          3,          6,       8006,2,20101003,       1307,  22.732833,-157.9706667,       4744,    45.5,  25.8980,  35.2685,2,-999.0000,9,    210.7,1,  -999.0,9, -999.00,9, -999.00,9,  -999.0,      45,    25.8879, -999.00,9,     -999.0
33KB20101002,       PRS2,       2,          3,          5,       8005,2,20101003,       1307,  22.732833,-157.9706667,       4744,    76.0,  25.5692,  35.2474,2,-999.0000,9,    211.9,1,  -999.0,9, -999.00,9, -999.00,9,  -999.0,      75,    25.5524, -999.00,9,     -999.0
33KB20101002,       PRS2,       2,          3,          4,       8004,2,20101003,       1307,  22.732833,-157.9706667,       4744,    75.6,  25.5699,  35.2477,2,-999.0000,9,    212.0,1,  -999.0,9, -999.00,9, -999.00,9,  -999.0,      75,    25.5533, -999.00,9,     -999.0
33KB20101002,       PRS2,       2,          3,          3,       8003,2,20101003,       1307,  22.732833,-157.9706667,       4744,    75.6,  25.5630,  35.2478,2,-999.0000,9,    212.1,1,  -999.0,9, -999.00,9, -999.00,9,  -999.0,      76,    25.5463, -999.00,9,     -999.0
33KB20101002,       PRS2,       2,          3,          2,       8002,2,20101003,       1307,  22.732833,-157.9706667,       4744,    75.5,  25.5546,  35.2474,2,-999.0000,9,    212.3,1,  -999.0,9, -999.00,9, -999.00,9,  -999.0,      77,    25.5379, -999.00,9,     -999.0
33KB20101002,       PRS2,       2,          3,          1,       8001,2,20101003,       1307,  22.732833,-157.9706667,       4744,    75.4,  25.5411,  35.2470,2,-999.0000,9,    212.5,1,  -999.0,9, -999.00,9, -999.00,9,  -999.0,      78,    25.5245, -999.00,9,     -999.0
33KB20101002,       PRS2,       2,          4,         24,       8024,2,20101003,       1505,  22.750333,-157.9991667,       4746,     7.6,  26.0268,  35.2943,2,  35.2938,2,    209.1,2,   206.1,3,    1.07,2,    0.09,2,  -999.0,       7,    26.0251,    0.02,2,     -999.0
33KB20101002,       PRS2,       2,          4,         23,       8023,2,20101003,       1505,  22.750333,-157.9991667,       4746,   500.2,   7.3568,  34.1161,2,  34.1148,2,     90.9,2,    91.6,2,   47.76,2,    2.36,3,  -999.0,     500,     7.3083,   30.38,2,     -999.0
33KB20101002,       PRS2,       2,          4,         22,       8022,2,20101003,       1505,  22.750333,-157.9991667,       4746,   749.6,   4.9211,  34.3282,2,  34.3270,2,     37.3,2,    36.9,2,   90.62,2,    2.93,2,  -999.0,     751,     4.8607,   40.01,2,     -999.0
33KB20101002,       PRS2,       2,          4,         21,       8021,2,20101003,       1505,  22.750333,-157.9991667,       4746,   999.7,   3.9429,  34.4694,2,  34.4679,2,     45.9,2,    45.6,2,  110.20,2,    2.98,2,  -999.0,    1000,     3.8677,   40.93,2,     -999.0
33KB20101002,       PRS2,       2,          4,         20,       8020,2,20101003,       1505,  22.750333,-157.9991667,       4746,  1199.4,   3.4057,  34.5311,2,  34.5298,2,     56.9,2,    56.6,2,  121.19,2,    2.96,2,  -999.0,    1200,     3.3186,   40.90,2,     -999.0
33KB20101002,       PRS2,       2,          4,         19,       8019,2,20101003,       1505,  22.750333,-157.9991667,       4746,  1399.7,   2.9369,  34.5670,2,  34.5659,2,     65.6,2,    65.5,2,  131.70,2,    2.93,2,  -999.0,    1400,     2.8381,   40.58,2,     -999.0
33KB20101002,       PRS2,       2,          4,         18,       8018,2,20101003,       1505,  22.750333,-157.9991667,       4746,  1600.0,   2.5639,  34.5874,2,  34.5875,2,     75.2,2,    75.2,2,  140.43,2,    2.89,2,  -999.0,    1600,     2.4529,   40.15,2,     -999.0
33KB20101002,       PRS2,       2,          4,         17,       8017,2,20101003,       1505,  22.750333,-157.9991667,       4746,  1801.2,   2.3083,  34.6062,2,  34.6052,2,     83.0,2,    82.4,2,  145.73,2,    2.84,2,  -999.0,    1801,     2.1841,   39.67,2,     -999.0
33KB20101002,       PRS2,       2,          4,         16,       8016,2,20101003,       1505,  22.750333,-157.9991667,       4746,  2000.4,   2.0469,  34.6227,2,  34.6219,2,     90.2,2,    90.3,2,  152.67,2,    2.81,2,  -999.0,    2000,     1.9098,   39.33,2,     -999.0
33KB20101002,       PRS2,       2,          4,         15,       8015,2,20101003,       1505,  22.750333,-157.9991667,       4746,  2200.1,   1.8988,  34.6355,2,  34.6346,2,     97.7,2,    97.2,2,  155.62,2,    2.78,2,  -999.0,    2199,     1.7469,   38.95,2,     -999.0
33KB20101002,       PRS2,       2,          4,         14,       8014,2,20101003,       1505,  22.750333,-157.9991667,       4746,  2401.1,   1.7756,  34.6452,2,  34.6445,2,    103.7,2,   103.2,2,  158.52,2,    2.75,2,  -999.0,    2402,     1.6084,   38.58,2,     -999.0
33KB20101002,       PRS2,       2,          4,         13,       8025,2,20101003,       1505,  22.750333,-157.9991667,       4746,  2600.5,   1.6820,  34.6532,2,  34.6523,2,    110.0,2,   109.4,2,  160.55,2,    2.73,2,  -999.0,    2600,     1.4986,   38.18,2,     -999.0
33KB20101002,       PRS2,       2,          4,         12,       8012,2,20101003,       1505,  22.750333,-157.9991667,       4746,  2800.0,   1.6012,  34.6618,2,  34.6618,2,    117.7,2,   116.9,2,  159.95,2,    2.66,2,  -999.0,    2801,     1.4011,   37.65,2,     -999.0
33KB20101002,       PRS2,       2,          4,         11,       8011,2,20101003,       1505,  22.750333,-157.9991667,       4746,  2998.6,   1.5418,  34.6697,2,  34.6694,2,    124.3,2,   123.8,2,  160.31,2,    2.64,2,  -999.0,    2998,     1.3243,   37.27,2,     -999.0
33KB20101002,       PRS2,       2,          4,         10,       8010,2,20101003,       1505,  22.750333,-157.9991667,       4746,  3200.0,   1.5095,  34.6749,2,  34.6743,2,    130.3,2,   129.8,2,  159.41,2,    2.60,2,  -999.0,    3201,     1.2732,   37.02,2,     -999.0
33KB20101002,       PRS2,       2,          4,          9,       8009,2,20101003,       1505,  22.750333,-157.9991667,       4746,  3400.0,   1.4793,  34.6792,2,  34.6785,2,    136.3,2,   135.7,2,  157.59,2,    2.56,2,  -999.0,    3400,     1.2238,   36.47,2,     -999.0
33KB20101002,       PRS2,       2,          4,          8,       8008,2,20101003,       1505,  22.750333,-157.9991667,       4746,  3599.6,   1.4627,  34.6822,2,  34.6818,2,    140.9,2,   140.7,2,  155.92,2,    2.54,2,  -999.0,    3599,     1.1873,   36.30,2,     -999.0
33KB20101002,       PRS2,       2,          4,          7,       8026,2,20101003,       1505,  22.750333,-157.9991667,       4746,  3799.5,   1.4539,  34.6851,2,  34.6850,2,    145.5,2,   144.5,2,  153.38,2,    2.52,2,  -999.0,    3799,     1.1578,   35.86,2,     -999.0
33KB20101002,       PRS2,       2,          4,          6,       8006,2,20101003,       1505,  22.750333,-157.9991667,       4746,  4000.5,   1.4527,  34.6869,2,  34.6865,2,    148.4,2,   148.2,2,  151.44,2,    2.49,2,  -999.0,    4000,     1.1350,   35.68,2,     -999.0
33KB20101002,       PRS2,       2,          4,          5,       8005,2,20101003,       1505,  22.750333,-157.9991667,       4746,  4200.1,   1.4536,  34.6886,2,  34.6889,2,    151.6,2,   150.9,2,  149.59,2,    2.47,2,  -999.0,    4202,     1.1140,   35.52,2,     -999.0
33KB20101002,       PRS2,       2,          4,          4,       8004,2,20101003,       1505,  22.750333,-157.9991667,       4746,  4400.7,   1.4620,  34.6897,2,  34.6899,2,    153.8,2,   153.5,2,  147.89,2,    2.45,2,  -999.0,    4400,     1.0996,   35.27,2,     -999.0
33KB20101002,       PRS2,       2,          4,          3,       8003,2,20101003,       1505,  22.750333,-157.9991667,       4746,  4498.3,   1.4704,  34.6902,2,  34.6899,2,    154.4,2,   154.4,2,  147.46,2,    2.45,2,  -999.0,    4500,     1.0965,   35.28,2,     -999.0
33KB20101002,       PRS2,       2,          4,          2,       8002,2,20101003,       1505,  22.750333,-157.9991667,       4746,  4597.9,   1.4762,  34.6905,2,  34.6895,2,    155.0,2,   155.4,2,  147.24,2,    2.43,2,  -999.0,    4599,     1.0906,   35.19,2,     -999.0
33KB20101002,       PRS2,       2,          4,          1,       8001,2,20101003,       1505,  22.750333,-157.9991667,       4746,  4809.3,   1.4948,  34.6908,2,  34.6918,2,    155.3,2,   156.2,2,  145.05,2,    2.42,2,  -999.0,    4808,     1.0837,   35.08,2,     -999.0
33KB20101002,       PRS2,       2,          5,         24,       8024,2,20101003,       2049,  22.750000,-157.9998333,       4746,    75.0,  25.6428,  35.2455,2,  35.2450,2,    208.4,2,   208.8,2,    0.96,2,    0.06,2,  -999.0,      75,    25.6262,    0.01,2,     -999.0
33KB20101002,       PRS2,       2,          5,         23,       8023,2,20101003,       2049,  22.750000,-157.9998333,       4746,    80.6,  25.4781,  35.2365,2,  35.2345,2,    209.6,2,   210.7,2,    0.99,2,    0.06,2,  -999.0,      81,    25.4603,    0.01,2,     -999.0
33KB20101002,       PRS2,       2,          5,         22,       8022,2,20101003,       2049,  22.750000,-157.9998333,       4746,    95.0,  24.4381,  35.2154,2,  35.2178,2,    216.8,2,   217.3,2,    1.04,2,    0.06,2,  -999.0,      95,    24.4178,    0.02,2,     -999.0
33KB20101002,       PRS2,       2,          5,         21,       8021,2,20101003,       2049,  22.750000,-157.9998333,       4746,   134.1,  22.7159,  35.2932,2,  35.2921,2,    207.3,2,   207.4,2,    1.18,2,    0.09,2,  -999.0,     135,    22.6888,    0.20,2,     -999.0
33KB20101002,       PRS2,       2,          5,         20,       8020,2,20101003,       2049,  22.750000,-157.9998333,       4746,   184.3,  20.3103,  35.2540,2,  35.2534,2,    201.6,2,   201.0,2,    1.88,2,    0.14,2,  -999.0,     184,    20.2758,    1.37,2,     -999.0
33KB20101002,       PRS2,       2,          5,         19,       8019,2,20101003,       2049,  22.750000,-157.9998333,       4746,   205.6,  19.5728,  35.1982,2,  35.1839,2,    204.8,2,   204.7,2,    2.17,2,    0.14,2,  -999.0,     205,    19.5353,    1.49,2,     -999.0
33KB20101002,       PRS2,       2,          5,         18,       8018,2,20101003,       2049,  22.750000,-157.9998333,       4746,   263.6,  16.3610,  34.6606,2,  34.6464,2,    193.5,2,   194.4,2,    4.68,2,    0.41,2,  -999.0,     264,    16.3186,    5.21,2,     -999.0
33KB20101002,       PRS2,       2,          5,         17,       8017,2,20101003,       2049,  22.750000,-157.9998333,       4746,   303.1,  13.8952,  34.3495,2,  34.3692,3,    189.6,3,   190.0,2,    7.44,2,    0.64,2,  -999.0,     301,    13.8518,    8.39,2,     -999.0
33KB20101002,       PRS2,       2,          5,         16,       8016,2,20101003,       2049,  22.750000,-157.9998333,       4746,   342.3,  11.7167,  34.1590,2,  34.1607,2,    175.3,2,   176.1,2,   13.79,2,    1.06,2,  -999.0,     342,    11.6728,   14.07,2,     -999.0
33KB20101002,       PRS2,       2,          5,         15,       8015,2,20101003,       2049,  22.750000,-157.9998333,       4746,   382.0,  10.6414,  34.1228,2,  34.1236,2,    168.0,2,   167.6,2,   18.97,2,    1.30,2,  -999.0,     383,    10.5954,   17.38,2,     -999.0
33KB20101002,       PRS2,       2,          5,         14,       8014,2,20101003,       2049,  22.750000,-157.9998333,       4746,   434.3,   9.1038,  34.1141,2,  34.1132,2,    142.2,2,   141.4,2,   28.89,2,    1.68,2,  -999.0,     436,     9.0562,   22.90,2,     -999.0
33KB20101002,       PRS2,       2,          5,         13,       8025,2,20101003,       2049,  22.750000,-157.9998333,       4746,   495.7,   7.4258,  34.1128,2,  34.1127,2,     93.1,2,    93.0,2,   47.10,2,    2.26,2,  -999.0,     495,     7.3775,   30.54,2,     -999.0
33KB20101002,       PRS2,       2,          5,         12,       8012,2,20101003,       2049,  22.750000,-157.9998333,       4746,   510.2,   7.2326,  34.1142,2,  34.1156,2,     87.5,2,    87.9,2,   49.77,2,    2.31,2,  -999.0,     510,     7.1835,   31.42,2,     -999.0
33KB20101002,       PRS2,       2,          5,         11,       8011,2,20101003,       2049,  22.750000,-157.9998333,       4746,   528.0,   6.8432,  34.1097,2,  34.1095,2,     81.3,2,    79.9,2,   54.36,2,    2.41,2,  -999.0,     527,     6.7939,   32.82,2,     -999.0
33KB20101002,       PRS2,       2,          5,         10,       8010,2,20101003,       2049,  22.750000,-157.9998333,       4746,   582.9,   6.3013,  34.1345,2,  34.1360,2,     65.1,2,    64.4,2,   63.07,2,    2.59,2,  -999.0,     583,     6.2491,   35.42,2,     -999.0
33KB20101002,       PRS2,       2,          5,          9,       8009,2,20101003,       2049,  22.750000,-157.9998333,       4746,   635.2,   5.8750,  34.1889,2,  34.1899,2,     51.2,2,    50.4,2,   71.67,2,    2.74,2,  -999.0,     635,     5.8199,   37.32,2,     -999.0
33KB20101002,       PRS2,       2,          5,          8,       8008,2,20101003,       2049,  22.750000,-157.9998333,       4746,   702.0,   5.2332,  34.2354,2,  34.2364,2,     37.7,2,    37.5,2,   83.62,2,    2.91,2,  -999.0,     702,     5.1753,   39.86,2,     -999.0
33KB20101002,       PRS2,       2,          5,          7,       8026,2,20101003,       2049,  22.750000,-157.9998333,       4746,   763.2,   4.9112,  34.3289,2,  34.3372,3,     36.6,3,    36.2,2,   91.37,2,    2.93,2,  -999.0,     763,     4.8496,   40.32,2,     -999.0
33KB20101002,       PRS2,       2,          5,          6,       8006,2,20101003,       2049,  22.750000,-157.9998333,       4746,   807.2,   4.6389,  34.3720,2,  34.3723,2,     37.5,2,    37.7,2,   97.32,2,    2.98,2,  -999.0,     807,     4.5752,   40.95,2,     -999.0
33KB20101002,       PRS2,       2,          5,          5,       8005,2,20101003,       2049,  22.750000,-157.9998333,       4746,   849.9,   4.5462,  34.3940,2,  34.3959,2,     36.9,2,    38.0,2,   99.04,2,    2.98,2,  -999.0,     850,     4.4794,   40.98,2,     -999.0
33KB20101002,       PRS2,       2,          5,          4,       8004,2,20101003,       2049,  22.750000,-157.9998333,       4746,   887.9,   4.3295,  34.4115,2,  34.4141,2,     38.0,2,    39.0,2,  103.64,2,    2.99,2,  -999.0,     887,     4.2609,   41.29,2,     -999.0
33KB20101002,       PRS2,       2,          5,          3,       8003,2,20101003,       2049,  22.750000,-157.9998333,       4746,   924.6,   4.1738,  34.4310,2,  34.4359,2,     38.2,2,    40.2,2,  106.58,2,    3.01,2,  -999.0,     924,     4.1032,   41.50,2,     -999.0
33KB20101002,       PRS2,       2,          5,          2,       8002,2,20101003,       2049,  22.750000,-157.9998333,       4746,   996.0,   3.9753,  34.4635,2,  34.4638,2,     44.4,2,    44.8,2,  110.57,2,    3.00,2,  -999.0,     996,     3.9002,   41.46,2,     -999.0
33KB20101002,       PRS2,       2,          5,          1,       8001,2,20101003,       2049,  22.750000,-157.9998333,       4746,  1020.4,   3.9077,  34.4729,2,  34.4748,2,     45.9,2,    46.4,2,  111.92,2,    2.98,2,  -999.0,    1020,     3.8311,   41.14,2,     -999.0