BOTTLE,20141031SIOCCHAMB
EXPOCODE,SECT_ID,STNNBR,CASTNO,SAMPNO,BTLNBR,BTLNBR_FLAG_W,DATE,TIME,LATITUDE,LONGITUDE,DEPTH,CTDPRS,CTDTMP,CTDSAL,CTDSAL_FLAG_W,SALNTY,SALNTY_FLAG_W,CTDOXY,CTDOXY_FLAG_W,OXYGEN,OXYGEN_FLAG_W,SILCAT,SILCAT_FLAG_W,PHSPHT,PHSPHT_FLAG_W,REVPRS,CTDRAW,THETA,NO2+NO3,NO2+NO3_FLAG_W,REVTMP
,,,,,,,,,,,METERS,DBAR,ITS-90,PSS-78,,PSS-78,,UMOL/KG,,UMOL/KG,,UMOL/KG,,UMOL/KG,,DBAR,DBAR,ITS-90,UMOL/KG,,DEG C
33KB20101002,       PRS2,       2,         12,         21,       8021,2,20101004,       1748,  22.749833,-157.9998333,       4746,     5.7,  25.9623,  35.2570,2,-999.0000,5,    207.1,1,  -999.0,9, -999.00,9, -999.00,9,  -999.0,       5,    25.9610, -999.00,9,     -999.0
33KB20101002,       PRS2,       2,         12,         20,       8020,2,20101004,       1748,  22.749833,-157.9998333,       4746,     5.9,  25.9625,  35.2568,2,-999.0000,5,    207.0,1,  -999.0,9, -999.00,9, -999.00,9,  -999.0,       6,    25.9611, -999.00,9,     -999.0
33KB20101002,       PRS2,       2,         12,         19,       8019,2,20101004,       1748,  22.749833,-157.9998333,       4746,     5.8,  25.9623,  35.2568,2,-999.0000,5,    207.0,1,  -999.0,9, -999.00,9, -999.00,9,  -999.0,       6,    25.9610, -999.00,9,     -999.0
33KB20101002,       PRS2,       2,         12,         18,       8018,2,20101004,       1748,  22.749833,-157.9998333,       4746,     5.9,  25.9621,  35.2568,2,-999.0000,5,    206.9,1,  -999.0,9, -999.00,9, -999.00,9,  -999.0,       5,    25.9608, -999.00,9,     -999.0
33KB20101002,       PRS2,       2,         12,         17,       8017,2,20101004,       1748,  22.749833,-157.9998333,       4746,     5.7,  25.9619,  35.2569,2,  35.2562,2,    206.9,1,  -999.0,9, -999.00,9, -999.00,9,  -999.0,       6,    25.9606, -999.00,9,     -999.0
33KB20101002,       PRS2,       2,         12,         16,       8016,2,20101004,       1748,  22.749833,-157.9998333,       4746,    25.2,  25.9660,  35.2561,2,-999.0000,5,    206.9,1,  -999.0,9, -999.00,9, -999.00,9,  -999.0,      25,    25.9604, -999.00,9,     -999.0
33KB20101002,       PRS2,       2,         12,         15,       8015,2,20101004,       1748,  22.749833,-157.9998333,       4746,    25.1,  25.9660,  35.2562,2,  35.2562,2,    206.9,1,  -999.0,9, -999.00,9, -999.00,9,  -999.0,      25,    25.9604, -999.00,9,     -999.0
33KB20101002,       PRS2,       2,         12,         14,       8014,2,20101004,       1748,  22.749833,-157.9998333,       4746,    45.8,  25.9734,  35.2562,2,-999.0000,5,    206.9,1,  -999.0,9, -999.00,9, -999.00,9,  -999.0,      46,    25.9632, -999.00,9,     -999.0
33KB20101002,       PRS2,       2,         12,         13,       8025,2,20101004,       1748,  22.749833,-157.9998333,       4746,    45.9,  25.9735,  35.2561,2,  35.2560,2,    206.9,1,  -999.0,9, -999.00,9, -999.00,9,  -999.0,      47,    25.9632, -999.00,9,     -999.0
33KB20101002,       PRS2,       2,         12,         12,       8012,2,20101004,       1748,  22.749833,-157.9998333,       4746,    75.3,  25.3367,  35.2138,2,-999.0000,5,    211.3,1,  -999.0,9, -999.00,9, -999.00,9,  -999.0,      76,    25.3202, -999.00,9,     -999.0
33KB20101002,       PRS2,       2,         12,         11,       8011,2,20101004,       1748,  22.749833,-157.9998333,       4746,    75.2,  25.3452,  35.2133,2,  35.2109,2,    211.4,1,  -999.0,9, -999.00,9, -999.00,9,  -999.0,      75,    25.3287, -999.00,9,     -999.0
33KB20101002,       PRS2,       2,         12,         10,       8010,2,20101004,       1748,  22.749833,-157.9998333,       4746,   100.9,  23.4081,  35.2763,2,-999.0000,5,    214.0,1,  -999.0,9, -999.00,9, -999.00,9,  -999.0,     101,    23.3872, -999.00,9,     -999.0
33KB20101002,       PRS2,       2,         12,          9,       8009,2,20101004,       1748,  22.749833,-157.9998333,       4746,   100.6,  23.4104,  35.2761,2,  35.2749,2,    214.1,1,  -999.0,9, -999.00,9, -999.00,9,  -999.0,     100,    23.3896, -999.00,9,     -999.0
33KB20101002,       PRS2,       2,         12,          8,       8008,2,20101004,       1748,  22.749833,-157.9998333,       4746,   124.7,  22.5400,  35.3067,2,-999.0000,5,    207.6,1,  -999.0,9, -999.00,9, -999.00,9,  -999.0,     125,    22.5149, -999.00,9,     -999.0
33KB20101002,       PRS2,       2,         12,          7,       8026,2,20101004,       1748,  22.749833,-157.9998333,       4746,   125.1,  22.5200,  35.3070,2,  35.3074,2,    207.2,1,  -999.0,9, -999.00,9, -999.00,9,  -999.0,     125,    22.4948, -999.00,9,     -999.0
33KB20101002,       PRS2,       2,         12,          6,       8006,2,20101004,       1748,  22.749833,-157.9998333,       4746,   150.1,  21.4669,  35.3270,2,-999.0000,5,    204.6,1,  -999.0,9, -999.00,9, -999.00,9,  -999.0,     151,    21.4377, -999.00,9,     -999.0
33KB20101002,       PRS2,       2,         12,          5,       8005,2,20101004,       1748,  22.749833,-157.9998333,       4746,   150.3,  21.4660,  35.3273,2,  35.3208,2,    204.4,1,  -999.0,9, -999.00,9, -999.00,9,  -999.0,     151,    21.4368, -999.00,9,     -999.0
33KB20101002,       PRS2,       2,         12,          4,       8004,2,20101004,       1748,  22.749833,-157.9998333,       4746,   175.0,  20.5973,  35.2724,2,-999.0000,5,    202.1,1,  -999.0,9, -999.00,9, -999.00,9,  -999.0,     175,    20.5642, -999.00,9,     -999.0
33KB20101002,       PRS2,       2,         12,          3,       8003,2,20101004,       1748,  22.749833,-157.9998333,       4746,   175.1,  20.5935,  35.2720,2,  35.2741,2,    201.9,1,  -999.0,9, -999.00,9, -999.00,9,  -999.0,     176,    20.5604, -999.00,9,     -999.0
33KB20101002,       PRS2,       2,         12,          2,       8002,2,20101004,       1748,  22.749833,-157.9998333,       4746,   499.5,   7.2291,  34.1138,2,  34.1152,2,     87.6,1,  -999.0,9, -999.00,9, -999.00,9,  -999.0,     500,     7.1811, -999.00,9,     -999.0
33KB20101002,       PRS2,       2,         12,          1,       8001,2,20101004,       1748,  22.749833,-157.9998333,       4746,  1019.8,   3.8994,  34.4724,2,  34.4712,2,     44.7,1,  -999.0,9, -999.00,9, -999.00,9,  -999.0,    1020,     3.8230, -999.00,9,     -999.0
33KB20101002,       PRS2,       2,         13,         21,       8021,2,20101004,       2052,  22.755000,-157.9815000,       4737,     5.9,  25.9879,  35.2539,2,-999.0000,5,    206.8,1,  -999.0,9, -999.00,9, -999.00,9,  -999.0,       5,    25.9865, -999.00,9,     -999.0
33KB20101002,       PRS2,       2,         13,         20,       8020,2,20101004,       2052,  22.755000,-157.9815000,       4737,     5.9,  25.9883,  35.2540,2,  35.2538,2,    206.8,1,  -999.0,9, -999.00,9, -999.00,9,  -999.0,       6,    25.9870, -999.00,9,     -999.0
33KB20101002,       PRS2,       2,         13,         19,       8019,2,20101004,       2052,  22.755000,-157.9815000,       4737,    18.3,  25.9789,  35.2538,2,-999.0000,5,    206.8,1,  -999.0,9, -999.00,9, -999.00,9,  -999.0,      18,    25.9748, -999.00,9,     -999.0
33KB20101002,       PRS2,       2,         13,         18,       8018,2,20101004,       2052,  22.755000,-157.9815000,       4737,    25.5,  25.9661,  35.2535,2,-999.0000,5,    206.8,1,  -999.0,9, -999.00,9, -999.00,9,  -999.0,      26,    25.9604, -999.00,9,     -999.0
33KB20101002,       PRS2,       2,         13,         17,       8017,2,20101004,       2052,  22.755000,-157.9815000,       4737,    25.5,  25.9655,  35.2535,2,-999.0000,5,    207.0,1,  -999.0,9, -999.00,9, -999.00,9,  -999.0,      26,    25.9598, -999.00,9,     -999.0
33KB20101002,       PRS2,       2,         13,         16,       8016,2,20101004,       2052,  22.755000,-157.9815000,       4737,    44.9,  25.9601,  35.2527,2,-999.0000,5,    207.5,1,  -999.0,9, -999.00,9, -999.00,9,  -999.0,      44,    25.9501, -999.00,9,     -999.0
33KB20101002,       PRS2,       2,         13,         15,       8015,2,20101004,       2052,  22.755000,-157.9815000,       4737,    45.0,  25.9608,  35.2527,2,  35.2517,2,    207.5,1,  -999.0,9, -999.00,9, -999.00,9,  -999.0,      44,    25.9508, -999.00,9,     -999.0
33KB20101002,       PRS2,       2,         13,         14,       8014,2,20101004,       2052,  22.755000,-157.9815000,       4737,    60.6,  25.8036,  35.2288,2,  35.2288,2,    208.2,1,  -999.0,9, -999.00,9, -999.00,9,  -999.0,      60,    25.7901, -999.00,9,     -999.0
33KB20101002,       PRS2,       2,         13,         13,       8025,2,20101004,       2052,  22.755000,-157.9815000,       4737,    75.8,  24.4815,  35.1954,2,  35.1963,2,    216.7,1,  -999.0,9, -999.00,9, -999.00,9,  -999.0,      75,    24.4653, -999.00,9,     -999.0
33KB20101002,       PRS2,       2,         13,         12,       8012,2,20101004,       2052,  22.755000,-157.9815000,       4737,    75.6,  24.4832,  35.1950,2,-999.0000,5,    216.7,1,  -999.0,9, -999.00,9, -999.00,9,  -999.0,      75,    24.4670, -999.00,9,     -999.0
33KB20101002,       PRS2,       2,         13,         11,       8011,2,20101004,       2052,  22.755000,-157.9815000,       4737,    85.4,  23.7915,  35.2153,2,-999.0000,5,    214.3,1,  -999.0,9, -999.00,9, -999.00,9,  -999.0,      85,    23.7736, -999.00,9,     -999.0
33KB20101002,       PRS2,       2,         13,         10,       8010,2,20101004,       2052,  22.755000,-157.9815000,       4737,   101.1,  23.1546,  35.3170,2,-999.0000,5,    213.4,1,  -999.0,9, -999.00,9, -999.00,9,  -999.0,     100,    23.1339, -999.00,9,     -999.0
33KB20101002,       PRS2,       2,         13,          9,       8009,2,20101004,       2052,  22.755000,-157.9815000,       4737,   100.9,  23.1907,  35.3145,2,  35.3096,2,    213.3,1,  -999.0,9, -999.00,9, -999.00,9,  -999.0,     100,    23.1700, -999.00,9,     -999.0
33KB20101002,       PRS2,       2,         13,          8,       8008,2,20101004,       2052,  22.755000,-157.9815000,       4737,   125.3,  22.2188,  35.3240,2,-999.0000,5,    203.5,1,  -999.0,9, -999.00,9, -999.00,9,  -999.0,     125,    22.1938, -999.00,9,     -999.0
33KB20101002,       PRS2,       2,         13,          7,       8026,2,20101004,       2052,  22.755000,-157.9815000,       4737,   125.1,  22.2171,  35.3241,2,  35.3191,2,    203.5,1,  -999.0,9, -999.00,9, -999.00,9,  -999.0,     125,    22.1922, -999.00,9,     -999.0
33KB20101002,       PRS2,       2,         13,          6,       8006,2,20101004,       2052,  22.755000,-157.9815000,       4737,   150.4,  21.3628,  35.3213,2,-999.0000,5,    204.7,1,  -999.0,9, -999.00,9, -999.00,9,  -999.0,     150,    21.3337, -999.00,9,     -999.0
33KB20101002,       PRS2,       2,         13,          5,       8005,2,20101004,       2052,  22.755000,-157.9815000,       4737,   150.5,  21.3578,  35.3209,2,  35.3171,2,    204.8,1,  -999.0,9, -999.00,9, -999.00,9,  -999.0,     150,    21.3286, -999.00,9,     -999.0
33KB20101002,       PRS2,       2,         13,          4,       8004,2,20101004,       2052,  22.755000,-157.9815000,       4737,   174.6,  20.5398,  35.2767,2,-999.0000,5,    200.7,1,  -999.0,9, -999.00,9, -999.00,9,  -999.0,     174,    20.5069, -999.00,9,     -999.0
33KB20101002,       PRS2,       2,         13,          3,       8003,2,20101004,       2052,  22.755000,-157.9815000,       4737,   174.8,  20.5411,  35.2777,2,  35.2757,2,    200.3,1,  -999.0,9, -999.00,9, -999.00,9,  -999.0,     174,    20.5081, -999.00,9,     -999.0
33KB20101002,       PRS2,       2,         13,          2,       8002,2,20101004,       2052,  22.755000,-157.9815000,       4737,   530.0,   6.7953,  34.1033,2,  34.1081,2,     81.7,1,  -999.0,9, -999.00,9, -999.00,9,  -999.0,     530,     6.7461, -999.00,9,     -999.0
33KB20101002,       PRS2,       2,         13,          1,       8001,2,20101004,       2052,  22.755000,-157.9815000,       4737,  1019.3,   3.9291,  34.4670,2,  34.4667,2,     43.7,1,  -999.0,9, -999.00,9, -999.00,9,  -999.0,    1020,     3.8525, -999.00,9,     -999.0
33KB20101002,       PRS2,       2,         14,         23,       8023,2,20101004,       2341,  22.755000,-157.9803333,       4735,     5.8,  26.0403,  35.2581,2,  35.2580,2,    207.5,1,  -999.0,9, -999.00,9, -999.00,9,  -999.0,       5,    26.0390, -999.00,9,     -999.0
33KB20101002,       PRS2,       2,         14,         22,       8022,2,20101004,       2341,  22.755000,-157.9803333,       4735,    25.2,  26.0303,  35.2578,2,  35.2570,2,    207.4,1,  -999.0,9, -999.00,9, -999.00,9,  -999.0,      25,    26.0247, -999.00,9,     -999.0
33KB20101002,       PRS2,       2,         14,         21,       8021,2,20101004,       2341,  22.755000,-157.9803333,       4735,    46.2,  25.9804,  35.2565,2,  35.2560,2,    207.6,1,  -999.0,9, -999.00,9, -999.00,9,  -999.0,      46,    25.9701, -999.00,9,     -999.0
33KB20101002,       PRS2,       2,         14,         20,       8020,2,20101004,       2341,  22.755000,-157.9803333,       4735,    75.4,  25.7019,  35.2538,2,  35.2538,2,    208.1,1,  -999.0,9, -999.00,9, -999.00,9,  -999.0,      75,    25.6852, -999.00,9,     -999.0
33KB20101002,       PRS2,       2,         14,         19,       8019,2,20101004,       2341,  22.755000,-157.9803333,       4735,   100.0,  23.9625,  35.2093,2,  35.2095,2,    215.9,1,  -999.0,9, -999.00,9, -999.00,9,  -999.0,     100,    23.9415, -999.00,9,     -999.0
33KB20101002,       PRS2,       2,         14,         18,       8018,2,20101004,       2341,  22.755000,-157.9803333,       4735,   124.9,  23.0979,  35.3286,2,  35.3285,2,    213.6,1,  -999.0,9, -999.00,9, -999.00,9,  -999.0,     125,    23.0723, -999.00,9,     -999.0
33KB20101002,       PRS2,       2,         14,         17,       8017,2,20101004,       2341,  22.755000,-157.9803333,       4735,   150.1,  21.5856,  35.2943,2,  35.2952,2,    201.7,1,  -999.0,9, -999.00,9, -999.00,9,  -999.0,     151,    21.5563, -999.00,9,     -999.0
33KB20101002,       PRS2,       2,         14,         16,       8016,2,20101004,       2341,  22.755000,-157.9803333,       4735,   200.8,  19.9092,  35.2174,2,-999.0000,5,    205.8,1,  -999.0,9, -999.00,9, -999.00,9,  -999.0,     201,    19.8722, -999.00,9,     -999.0
33KB20101002,       PRS2,       2,         14,         15,       8015,2,20101004,       2341,  22.755000,-157.9803333,       4735,   200.7,  19.9128,  35.2167,2,-999.0000,5,    206.0,1,  -999.0,9, -999.00,9, -999.00,9,  -999.0,     201,    19.8758, -999.00,9,     -999.0
33KB20101002,       PRS2,       2,         14,         14,       8014,2,20101004,       2341,  22.755000,-157.9803333,       4735,   250.3,  18.1640,  34.9479,2,  34.9335,2,    199.5,1,  -999.0,9, -999.00,9, -999.00,9,  -999.0,     251,    18.1207, -999.00,9,     -999.0
33KB20101002,       PRS2,       2,         14,         13,       8025,2,20101004,       2341,  22.755000,-157.9803333,       4735,   299.8,  14.7140,  34.4456,2,-999.0000,5,    193.6,1,  -999.0,9, -999.00,9, -999.00,9,  -999.0,     300,    14.6692, -999.00,9,     -999.0
33KB20101002,       PRS2,       2,         14,         12,       8012,2,20101004,       2341,  22.755000,-157.9803333,       4735,   299.9,  14.6000,  34.4308,2,-999.0000,5,    193.2,1,  -999.0,9, -999.00,9, -999.00,9,  -999.0,     299,    14.5555, -999.00,9,     -999.0
33KB20101002,       PRS2,       2,         14,         11,       8011,2,20101004,       2341,  22.755000,-157.9803333,       4735,   349.6,  11.7018,  34.1512,2,  34.1550,2,    173.7,1,  -999.0,9, -999.00,9, -999.00,9,  -999.0,     350,    11.6570, -999.00,9,     -999.0
33KB20101002,       PRS2,       2,         14,         10,       8010,2,20101004,       2341,  22.755000,-157.9803333,       4735,   400.2,   9.9129,  34.1174,2,-999.0000,5,    156.2,1,  -999.0,9, -999.00,9, -999.00,9,  -999.0,     400,     9.8667, -999.00,9,     -999.0
33KB20101002,       PRS2,       2,         14,          9,       8009,2,20101004,       2341,  22.755000,-157.9803333,       4735,   439.9,   8.9087,  34.1206,2,  34.1193,2,    132.0,1,  -999.0,9, -999.00,9, -999.00,9,  -999.0,     441,     8.8611, -999.00,9,     -999.0
33KB20101002,       PRS2,       2,         14,          8,       8008,2,20101004,       2341,  22.755000,-157.9803333,       4735,   500.0,   7.3867,  34.1097,2,-999.0000,5,     96.0,1,  -999.0,9, -999.00,9, -999.00,9,  -999.0,     500,     7.3381, -999.00,9,     -999.0
33KB20101002,       PRS2,       2,         14,          7,       8026,2,20101004,       2341,  22.755000,-157.9803333,       4735,   500.2,   7.3754,  34.1104,2,-999.0000,5,     95.7,1,  -999.0,9, -999.00,9, -999.00,9,  -999.0,     500,     7.3268, -999.00,9,     -999.0
33KB20101002,       PRS2,       2,         14,          6,       8006,2,20101004,       2341,  22.755000,-157.9803333,       4735,   599.5,   6.1674,  34.1488,2,-999.0000,5,     61.2,1,  -999.0,9, -999.00,9, -999.00,9,  -999.0,     599,     6.1141, -999.00,9,     -999.0
33KB20101002,       PRS2,       2,         14,          5,       8005,2,20101004,       2341,  22.755000,-157.9803333,       4735,   699.6,   5.2821,  34.2480,2,-999.0000,5,     39.7,1,  -999.0,9, -999.00,9, -999.00,9,  -999.0,     700,     5.2241, -999.00,9,     -999.0
33KB20101002,       PRS2,       2,         14,          4,       8004,2,20101004,       2341,  22.755000,-157.9803333,       4735,   770.0,   4.9039,  34.3285,2,-999.0000,5,     36.4,1,  -999.0,9, -999.00,9, -999.00,9,  -999.0,     770,     4.8419, -999.00,9,     -999.0
33KB20101002,       PRS2,       2,         14,          3,       8003,2,20101004,       2341,  22.755000,-157.9803333,       4735,   799.7,   4.7341,  34.3522,2,-999.0000,5,     36.2,1,  -999.0,9, -999.00,9, -999.00,9,  -999.0,     800,     4.6705, -999.00,9,     -999.0
33KB20101002,       PRS2,       2,         14,          2,       8002,2,20101004,       2341,  22.755000,-157.9803333,       4735,   900.0,   4.3114,  34.4149,2,-999.0000,5,     38.3,1,  -999.0,9, -999.00,9, -999.00,9,  -999.0,     900,     4.2419, -999.00,9,     -999.0
33KB20101002,       PRS2,       2,         14,          1,       8001,2,20101004,       2341,  22.755000,-157.9803333,       4735,  1020.0,   3.9247,  34.4700,2,  34.4687,2,     44.7,1,  -999.0,9, -999.00,9, -999.00,9,  -999.0,    1020,     3.8481, -999.00,9,     -999.0