BOTTLE,20141031SIOCCHAMB
EXPOCODE,SECT_ID,STNNBR,CASTNO,SAMPNO,BTLNBR,BTLNBR_FLAG_W,DATE,TIME,LATITUDE,LONGITUDE,DEPTH,CTDPRS,CTDTMP,CTDSAL,CTDSAL_FLAG_W,SALNTY,SALNTY_FLAG_W,CTDOXY,CTDOXY_FLAG_W,OXYGEN,OXYGEN_FLAG_W,SILCAT,SILCAT_FLAG_W,PHSPHT,PHSPHT_FLAG_W,REVPRS,CTDRAW,THETA,NO2+NO3,NO2+NO3_FLAG_W,REVTMP
,,,,,,,,,,,METERS,DBAR,ITS-90,PSS-78,,PSS-78,,UMOL/KG,,UMOL/KG,,UMOL/KG,,UMOL/KG,,DBAR,DBAR,ITS-90,UMOL/KG,,DEG C
33KB20101002,       PRS2,       1,          1,         24,       8024,2,20101002,       2321,  21.343000,-158.2738333,       1574,     5.1,  26.5223,  35.0764,2,  35.0770,2,    206.4,2,   206.3,2, -999.00,9, -999.00,9,  -999.0,       5,    26.5211, -999.00,9,     -999.0
33KB20101002,       PRS2,       1,          1,         23,       8023,2,20101002,       2321,  21.343000,-158.2738333,       1574,     5.1,  26.5410,  35.0744,2,  35.0744,2,    206.3,2,   206.3,2, -999.00,9, -999.00,9,  -999.0,       5,    26.5399, -999.00,9,     -999.0
33KB20101002,       PRS2,       1,          1,         22,       8022,2,20101002,       2321,  21.343000,-158.2738333,       1574,    25.7,  26.3791,  35.0703,2,  35.0705,2,    206.8,2,   207.2,2, -999.00,9, -999.00,9,  -999.0,      25,    26.3733, -999.00,9,     -999.0
33KB20101002,       PRS2,       1,          1,         21,       8021,2,20101002,       2321,  21.343000,-158.2738333,       1574,    45.4,  26.2040,  35.0521,2,  35.0766,3,    207.8,3,   207.3,2, -999.00,9, -999.00,9,  -999.0,      45,    26.1938, -999.00,9,     -999.0
33KB20101002,       PRS2,       1,          1,         20,       8020,2,20101002,       2321,  21.343000,-158.2738333,       1574,    62.0,  26.0198,  35.1870,2,  35.1736,3,    208.2,3,   209.3,2, -999.00,9, -999.00,9,  -999.0,      62,    26.0059, -999.00,9,     -999.0
33KB20101002,       PRS2,       1,          1,         19,       8019,2,20101002,       2321,  21.343000,-158.2738333,       1574,    74.9,  25.2865,  35.1619,2,  35.1697,2,    211.0,2,   210.9,2, -999.00,9, -999.00,9,  -999.0,      75,    25.2702, -999.00,9,     -999.0
33KB20101002,       PRS2,       1,          1,         18,       8018,2,20101002,       2321,  21.343000,-158.2738333,       1574,   100.8,  23.2718,  35.1896,2,  35.1977,2,    210.1,2,   208.5,2, -999.00,9, -999.00,9,  -999.0,     100,    23.2511, -999.00,9,     -999.0
33KB20101002,       PRS2,       1,          1,         17,       8017,2,20101002,       2321,  21.343000,-158.2738333,       1574,   115.6,  22.6596,  35.2449,2,  35.2473,2,    206.3,2,   206.5,2, -999.00,9, -999.00,9,  -999.0,     115,    22.6362, -999.00,9,     -999.0
33KB20101002,       PRS2,       1,          1,         16,       8016,2,20101002,       2321,  21.343000,-158.2738333,       1574,   124.6,  21.8889,  35.2504,2,  35.2483,2,    203.9,2,   203.2,2, -999.00,9, -999.00,9,  -999.0,     124,    21.8643, -999.00,9,     -999.0
33KB20101002,       PRS2,       1,          1,         15,       8015,2,20101002,       2321,  21.343000,-158.2738333,       1574,   149.9,  20.5590,  35.2539,2,  35.2599,2,    201.2,2,   201.8,2, -999.00,9, -999.00,9,  -999.0,     150,    20.5307, -999.00,9,     -999.0
33KB20101002,       PRS2,       1,          1,         14,       8014,2,20101002,       2321,  21.343000,-158.2738333,       1574,   174.1,  19.8077,  35.1928,2,  35.1884,2,    201.6,2,   200.9,2, -999.00,9, -999.00,9,  -999.0,     175,    19.7757, -999.00,9,     -999.0
33KB20101002,       PRS2,       1,          1,         13,       8025,2,20101002,       2321,  21.343000,-158.2738333,       1574,   199.8,  18.4680,  34.9455,2,  34.9520,2,    193.3,2,   195.8,2, -999.00,9, -999.00,9,  -999.0,     200,    18.4330, -999.00,9,     -999.0
33KB20101002,       PRS2,       1,          1,         12,       8012,2,20101002,       2321,  21.343000,-158.2738333,       1574,   226.4,  17.4290,  34.7995,2,  34.8019,2,    194.2,2,   192.0,2, -999.00,9, -999.00,9,  -999.0,     226,    17.3910, -999.00,9,     -999.0
33KB20101002,       PRS2,       1,          1,         11,       8011,2,20101002,       2321,  21.343000,-158.2738333,       1574,   249.9,  15.6761,  34.5861,2,  34.5812,2,    189.5,2,   190.7,2, -999.00,9, -999.00,9,  -999.0,     250,    15.6372, -999.00,9,     -999.0
33KB20101002,       PRS2,       1,          1,         10,       8010,2,20101002,       2321,  21.343000,-158.2738333,       1574,   300.7,  11.5679,  34.2139,2,  34.2144,2,    194.7,2,   196.1,2, -999.00,9, -999.00,9,  -999.0,     300,    11.5298, -999.00,9,     -999.0
33KB20101002,       PRS2,       1,          1,          9,       8009,2,20101002,       2321,  21.343000,-158.2738333,       1574,   350.1,  10.3646,  34.1562,2,  34.1562,2,    191.8,2,   192.0,2, -999.00,9, -999.00,9,  -999.0,     349,    10.3232, -999.00,9,     -999.0
33KB20101002,       PRS2,       1,          1,          8,       8008,2,20101002,       2321,  21.343000,-158.2738333,       1574,   400.4,   9.5222,  34.1153,2,  34.1164,2,    178.3,2,   177.0,2, -999.00,9, -999.00,9,  -999.0,     401,     9.4771, -999.00,9,     -999.0
33KB20101002,       PRS2,       1,          1,          7,       8026,2,20101002,       2321,  21.343000,-158.2738333,       1574,   500.8,   7.1445,  34.1380,2,  34.1376,2,     90.3,2,    89.0,2, -999.00,9, -999.00,9,  -999.0,     502,     7.0967, -999.00,9,     -999.0
33KB20101002,       PRS2,       1,          1,          6,       8006,2,20101002,       2321,  21.343000,-158.2738333,       1574,   599.6,   5.7659,  34.2159,2,  34.2091,2,     50.3,2,    49.3,2, -999.00,9, -999.00,9,  -999.0,     600,     5.7145, -999.00,9,     -999.0
33KB20101002,       PRS2,       1,          1,          5,       8005,2,20101002,       2321,  21.343000,-158.2738333,       1574,   699.5,   5.2651,  34.3224,2,  34.3217,2,     35.5,2,    35.3,2, -999.00,9, -999.00,9,  -999.0,     700,     5.2071, -999.00,9,     -999.0
33KB20101002,       PRS2,       1,          1,          4,       8004,2,20101002,       2321,  21.343000,-158.2738333,       1574,   748.9,   5.0941,  34.3589,2,  34.3588,2,     35.0,2,    35.0,2, -999.00,9, -999.00,9,  -999.0,     749,     5.0327, -999.00,9,     -999.0
33KB20101002,       PRS2,       1,          1,          3,       8003,2,20101002,       2321,  21.343000,-158.2738333,       1574,   900.5,   4.5221,  34.4525,2,  34.4526,2,     39.7,2,    39.8,2, -999.00,9, -999.00,9,  -999.0,     902,     4.4511, -999.00,9,     -999.0
33KB20101002,       PRS2,       1,          1,          2,       8002,2,20101002,       2321,  21.343000,-158.2738333,       1574,   901.0,   4.5208,  34.4519,2,  34.4530,2,     39.7,2,    40.3,2, -999.00,9, -999.00,9,  -999.0,     901,     4.4498, -999.00,9,     -999.0
33KB20101002,       PRS2,       1,          1,          1,       8001,2,20101002,       2321,  21.343000,-158.2738333,       1574,  1019.4,   4.1849,  34.4862,2,  34.4873,2,     44.9,2,    45.9,2, -999.00,9, -999.00,9,  -999.0,    1019,     4.1062, -999.00,9,     -999.0
33KB20101002,       PRS2,       2,          1,         24,       8024,2,20101003,       0949,  22.732667,-157.9706667,       4742,     5.7,  26.0532,  35.2997,2,-999.0000,9,    209.6,1,  -999.0,9, -999.00,9, -999.00,9,  -999.0,       4,    26.0519, -999.00,9,     -999.0
33KB20101002,       PRS2,       2,          1,         23,       8023,2,20101003,       0949,  22.732667,-157.9706667,       4742,     5.7,  26.0519,  35.2996,2,-999.0000,9,    209.5,1,  -999.0,9, -999.00,9, -999.00,9,  -999.0,       5,    26.0506, -999.00,9,     -999.0
33KB20101002,       PRS2,       2,          1,         22,       8022,2,20101003,       0949,  22.732667,-157.9706667,       4742,     5.7,  26.0514,  35.2998,2,-999.0000,9,    209.5,1,  -999.0,9, -999.00,9, -999.00,9,  -999.0,       6,    26.0501, -999.00,9,     -999.0
33KB20101002,       PRS2,       2,          1,         21,       8021,2,20101003,       0949,  22.732667,-157.9706667,       4742,     5.8,  26.0519,  35.2997,2,-999.0000,9,    209.4,1,  -999.0,9, -999.00,9, -999.00,9,  -999.0,       6,    26.0506, -999.00,9,     -999.0
33KB20101002,       PRS2,       2,          1,         20,       8020,2,20101003,       0949,  22.732667,-157.9706667,       4742,     5.8,  26.0526,  35.2998,2,-999.0000,9,    209.4,1,  -999.0,9, -999.00,9, -999.00,9,  -999.0,       6,    26.0513, -999.00,9,     -999.0
33KB20101002,       PRS2,       2,          1,         19,       8019,2,20101003,       0949,  22.732667,-157.9706667,       4742,     5.8,  26.0543,  35.2997,2,-999.0000,9,    209.4,1,  -999.0,9, -999.00,9, -999.00,9,  -999.0,       6,    26.0530, -999.00,9,     -999.0
33KB20101002,       PRS2,       2,          1,         18,       8018,2,20101003,       0949,  22.732667,-157.9706667,       4742,     5.7,  26.0553,  35.2996,2,-999.0000,9,    209.5,1,  -999.0,9, -999.00,9, -999.00,9,  -999.0,       5,    26.0540, -999.00,9,     -999.0
33KB20101002,       PRS2,       2,          1,         17,       8017,2,20101003,       0949,  22.732667,-157.9706667,       4742,     5.6,  26.0563,  35.2994,2,-999.0000,9,    209.5,1,  -999.0,9, -999.00,9, -999.00,9,  -999.0,       6,    26.0551, -999.00,9,     -999.0
33KB20101002,       PRS2,       2,          1,         16,       8016,2,20101003,       0949,  22.732667,-157.9706667,       4742,     5.5,  26.0567,  35.2994,2,-999.0000,9,    209.5,1,  -999.0,9, -999.00,9, -999.00,9,  -999.0,       5,    26.0555, -999.00,9,     -999.0
33KB20101002,       PRS2,       2,          1,         15,       8015,2,20101003,       0949,  22.732667,-157.9706667,       4742,     5.7,  26.0577,  35.2991,2,-999.0000,9,    209.5,1,  -999.0,9, -999.00,9, -999.00,9,  -999.0,       5,    26.0564, -999.00,9,     -999.0
33KB20101002,       PRS2,       2,          1,         14,       8014,2,20101003,       0949,  22.732667,-157.9706667,       4742,     5.8,  26.0581,  35.2991,2,-999.0000,9,    209.6,1,  -999.0,9, -999.00,9, -999.00,9,  -999.0,       5,    26.0568, -999.00,9,     -999.0
33KB20101002,       PRS2,       2,          1,         13,       8025,2,20101003,       0949,  22.732667,-157.9706667,       4742,     5.7,  26.0570,  35.2991,2,-999.0000,9,    209.7,1,  -999.0,9, -999.00,9, -999.00,9,  -999.0,       6,    26.0558, -999.00,9,     -999.0
33KB20101002,       PRS2,       2,          1,         12,       8012,2,20101003,       0949,  22.732667,-157.9706667,       4742,     5.7,  26.0562,  35.2990,2,-999.0000,9,    209.8,1,  -999.0,9, -999.00,9, -999.00,9,  -999.0,       6,    26.0550, -999.00,9,     -999.0
33KB20101002,       PRS2,       2,          1,         11,       8011,2,20101003,       0949,  22.732667,-157.9706667,       4742,     5.6,  26.0591,  35.2993,2,-999.0000,9,    209.9,1,  -999.0,9, -999.00,9, -999.00,9,  -999.0,       6,    26.0578, -999.00,9,     -999.0
33KB20101002,       PRS2,       2,          1,         10,       8010,2,20101003,       0949,  22.732667,-157.9706667,       4742,     5.7,  26.0594,  35.2993,2,-999.0000,9,    210.0,1,  -999.0,9, -999.00,9, -999.00,9,  -999.0,       6,    26.0582, -999.00,9,     -999.0
33KB20101002,       PRS2,       2,          1,          9,       8009,2,20101003,       0949,  22.732667,-157.9706667,       4742,     5.6,  26.0590,  35.2995,2,-999.0000,9,    210.1,1,  -999.0,9, -999.00,9, -999.00,9,  -999.0,       5,    26.0578, -999.00,9,     -999.0
33KB20101002,       PRS2,       2,          1,          8,       8008,2,20101003,       0949,  22.732667,-157.9706667,       4742,     5.7,  26.0580,  35.2993,2,-999.0000,9,    210.2,1,  -999.0,9, -999.00,9, -999.00,9,  -999.0,       4,    26.0567, -999.00,9,     -999.0
33KB20101002,       PRS2,       2,          1,          7,       8026,2,20101003,       0949,  22.732667,-157.9706667,       4742,     5.5,  26.0581,  35.2992,2,-999.0000,9,    210.3,1,  -999.0,9, -999.00,9, -999.00,9,  -999.0,       5,    26.0569, -999.00,9,     -999.0
33KB20101002,       PRS2,       2,          1,          6,       8006,2,20101003,       0949,  22.732667,-157.9706667,       4742,     5.5,  26.0597,  35.2994,2,-999.0000,9,    210.4,1,  -999.0,9, -999.00,9, -999.00,9,  -999.0,       6,    26.0584, -999.00,9,     -999.0
33KB20101002,       PRS2,       2,          1,          5,       8005,2,20101003,       0949,  22.732667,-157.9706667,       4742,     5.7,  26.0590,  35.2993,2,-999.0000,9,    210.4,1,  -999.0,9, -999.00,9, -999.00,9,  -999.0,       6,    26.0577, -999.00,9,     -999.0
33KB20101002,       PRS2,       2,          1,          4,       8004,2,20101003,       0949,  22.732667,-157.9706667,       4742,     5.8,  26.0582,  35.2993,2,-999.0000,9,    210.5,1,  -999.0,9, -999.00,9, -999.00,9,  -999.0,       7,    26.0569, -999.00,9,     -999.0
33KB20101002,       PRS2,       2,          1,          3,       8003,2,20101003,       0949,  22.732667,-157.9706667,       4742,     5.7,  26.0573,  35.2993,2,-999.0000,9,    210.5,1,  -999.0,9, -999.00,9, -999.00,9,  -999.0,       6,    26.0560, -999.00,9,     -999.0
33KB20101002,       PRS2,       2,          1,          2,       8002,2,20101003,       0949,  22.732667,-157.9706667,       4742,     5.7,  26.0571,  35.2990,2,-999.0000,9,    210.5,1,  -999.0,9, -999.00,9, -999.00,9,  -999.0,       5,    26.0558, -999.00,9,     -999.0
33KB20101002,       PRS2,       2,          1,          1,       8001,2,20101003,       0949,  22.732667,-157.9706667,       4742,     5.6,  26.0556,  35.2993,2,-999.0000,9,    210.5,1,  -999.0,9, -999.00,9, -999.00,9,  -999.0,       6,    26.0543, -999.00,9,     -999.0
33KB20101002,       PRS2,       2,          2,         22,       8022,2,20101003,       1056,  22.732667,-157.9706667,       4746,     5.7,  26.0493,  35.2959,2,  35.2964,2,    209.6,1,  -999.0,9, -999.00,9, -999.00,9,  -999.0,       6,    26.0480, -999.00,9,     -999.0
33KB20101002,       PRS2,       2,          2,         21,       8021,2,20101003,       1056,  22.732667,-157.9706667,       4746,     5.7,  26.0496,  35.2959,2,  35.2960,2,    209.6,1,  -999.0,9, -999.00,9, -999.00,9,  -999.0,       5,    26.0483, -999.00,9,     -999.0
33KB20101002,       PRS2,       2,          2,         20,       8020,2,20101003,       1056,  22.732667,-157.9706667,       4746,     5.7,  26.0495,  35.2958,2,  35.2962,2,    209.6,1,  -999.0,9, -999.00,9, -999.00,9,  -999.0,       6,    26.0483, -999.00,9,     -999.0
33KB20101002,       PRS2,       2,          2,         19,       8019,2,20101003,       1056,  22.732667,-157.9706667,       4746,    24.7,  26.0579,  35.2962,2,  35.2964,2,    209.6,1,  -999.0,9, -999.00,9, -999.00,9,  -999.0,      25,    26.0524, -999.00,9,     -999.0
33KB20101002,       PRS2,       2,          2,         18,       8018,2,20101003,       1056,  22.732667,-157.9706667,       4746,    24.7,  26.0585,  35.2964,2,  35.2964,2,    209.6,1,  -999.0,9, -999.00,9, -999.00,9,  -999.0,      24,    26.0530, -999.00,9,     -999.0
33KB20101002,       PRS2,       2,          2,         17,       8017,2,20101003,       1056,  22.732667,-157.9706667,       4746,    24.5,  26.0582,  35.2965,2,  35.2968,2,    209.6,1,  -999.0,9, -999.00,9, -999.00,9,  -999.0,      23,    26.0527, -999.00,9,     -999.0
33KB20101002,       PRS2,       2,          2,         16,       8016,2,20101003,       1056,  22.732667,-157.9706667,       4746,    45.8,  26.0442,  35.2923,2,  35.2946,2,    209.7,1,  -999.0,9, -999.00,9, -999.00,9,  -999.0,      46,    26.0340, -999.00,9,     -999.0
33KB20101002,       PRS2,       2,          2,         15,       8015,2,20101003,       1056,  22.732667,-157.9706667,       4746,    45.8,  26.0446,  35.2923,2,  35.2936,2,    209.7,1,  -999.0,9, -999.00,9, -999.00,9,  -999.0,      45,    26.0344, -999.00,9,     -999.0
33KB20101002,       PRS2,       2,          2,         14,       8014,2,20101003,       1056,  22.732667,-157.9706667,       4746,    45.5,  26.0432,  35.2923,2,  35.2932,2,    209.7,1,  -999.0,9, -999.00,9, -999.00,9,  -999.0,      44,    26.0330, -999.00,9,     -999.0
33KB20101002,       PRS2,       2,          2,         13,       8025,2,20101003,       1056,  22.732667,-157.9706667,       4746,    76.1,  25.5670,  35.2485,2,  35.2483,2,    211.6,1,  -999.0,9, -999.00,9, -999.00,9,  -999.0,      76,    25.5502, -999.00,9,     -999.0
33KB20101002,       PRS2,       2,          2,         12,       8012,2,20101003,       1056,  22.732667,-157.9706667,       4746,    76.1,  25.5672,  35.2479,2,  35.2688,4,    211.7,1,  -999.0,9, -999.00,9, -999.00,9,  -999.0,      77,    25.5504, -999.00,9,     -999.0
33KB20101002,       PRS2,       2,          2,         11,       8011,2,20101003,       1056,  22.732667,-157.9706667,       4746,    76.0,  25.5670,  35.2477,2,  35.2485,2,    211.7,1,  -999.0,9, -999.00,9, -999.00,9,  -999.0,      77,    25.5502, -999.00,9,     -999.0
33KB20101002,       PRS2,       2,          2,         10,       8010,2,20101003,       1056,  22.732667,-157.9706667,       4746,   100.9,  23.6905,  35.2424,2,  35.2424,2,    216.9,1,  -999.0,9, -999.00,9, -999.00,9,  -999.0,     101,    23.6694, -999.00,9,     -999.0
33KB20101002,       PRS2,       2,          2,          9,       8009,2,20101003,       1056,  22.732667,-157.9706667,       4746,   100.6,  23.6966,  35.2422,2,  35.2422,2,    217.0,1,  -999.0,9, -999.00,9, -999.00,9,  -999.0,     102,    23.6756, -999.00,9,     -999.0
33KB20101002,       PRS2,       2,          2,          8,       8008,2,20101003,       1056,  22.732667,-157.9706667,       4746,   100.8,  23.6994,  35.2419,2,  35.2432,2,    217.1,1,  -999.0,9, -999.00,9, -999.00,9,  -999.0,     102,    23.6784, -999.00,9,     -999.0
33KB20101002,       PRS2,       2,          2,          7,       8026,2,20101003,       1056,  22.732667,-157.9706667,       4746,   125.8,  22.5679,  35.3038,2,  35.3035,2,    210.0,1,  -999.0,9, -999.00,9, -999.00,9,  -999.0,     125,    22.5426, -999.00,9,     -999.0
33KB20101002,       PRS2,       2,          2,          6,       8006,2,20101003,       1056,  22.732667,-157.9706667,       4746,   126.0,  22.5637,  35.3039,2,  35.3037,2,    210.0,1,  -999.0,9, -999.00,9, -999.00,9,  -999.0,     126,    22.5383, -999.00,9,     -999.0
33KB20101002,       PRS2,       2,          2,          5,       8005,2,20101003,       1056,  22.732667,-157.9706667,       4746,   126.0,  22.5597,  35.3039,2,  35.3041,2,    209.9,1,  -999.0,9, -999.00,9, -999.00,9,  -999.0,     126,    22.5343, -999.00,9,     -999.0
33KB20101002,       PRS2,       2,          2,          4,       8004,2,20101003,       1056,  22.732667,-157.9706667,       4746,   150.2,  21.6401,  35.3678,2,  35.3681,2,    209.3,1,  -999.0,9, -999.00,9, -999.00,9,  -999.0,     150,    21.6107, -999.00,9,     -999.0
33KB20101002,       PRS2,       2,          2,          3,       8003,2,20101003,       1056,  22.732667,-157.9706667,       4746,   175.3,  20.8053,  35.2986,2,  35.2966,2,    204.6,1,  -999.0,9, -999.00,9, -999.00,9,  -999.0,     175,    20.7719, -999.00,9,     -999.0
33KB20101002,       PRS2,       2,          2,          2,       8002,2,20101003,       1056,  22.732667,-157.9706667,       4746,   510.6,   7.6808,  34.1092,2,  34.1001,3,    113.0,1,  -999.0,9, -999.00,9, -999.00,9,  -999.0,     510,     7.6300, -999.00,9,     -999.0
33KB20101002,       PRS2,       2,          2,          1,       8001,2,20101003,       1056,  22.732667,-157.9706667,       4746,  1020.5,   3.8398,  34.4823,2,  34.4822,2,     48.4,1,  -999.0,9, -999.00,9, -999.00,9,  -999.0,    1021,     3.7637, -999.00,9,     -999.0