BOTTLE,20141031SIOCCHAMB
EXPOCODE,SECT_ID,STNNBR,CASTNO,SAMPNO,BTLNBR,BTLNBR_FLAG_W,DATE,TIME,LATITUDE,LONGITUDE,DEPTH,CTDPRS,CTDTMP,CTDSAL,CTDSAL_FLAG_W,SALNTY,SALNTY_FLAG_W,CTDOXY,CTDOXY_FLAG_W,OXYGEN,OXYGEN_FLAG_W,SILCAT,SILCAT_FLAG_W,PHSPHT,PHSPHT_FLAG_W,REVPRS,CTDRAW,THETA,NO2+NO3,NO2+NO3_FLAG_W,REVTMP
,,,,,,,,,,,METERS,DBAR,ITS-90,PSS-78,,PSS-78,,UMOL/KG,,UMOL/KG,,UMOL/KG,,UMOL/KG,,DBAR,DBAR,ITS-90,UMOL/KG,,DEG C
33KB20101002,       PRS2,       2,          9,         24,       8024,2,20101004,       0911,  22.682167,-157.9558333,       4754,     5.1,  26.0037,  35.2788,2,  35.2794,2,    206.8,1,  -999.0,9, -999.00,9, -999.00,9,  -999.0,       6,    26.0025, -999.00,9,     -999.0
33KB20101002,       PRS2,       2,          9,         23,       8023,2,20101004,       0911,  22.682167,-157.9558333,       4754,    25.8,  26.0141,  35.2805,2,  35.2814,2,    206.8,1,  -999.0,9, -999.00,9, -999.00,9,  -999.0,      25,    26.0083, -999.00,9,     -999.0
33KB20101002,       PRS2,       2,          9,         22,       8022,2,20101004,       0911,  22.682167,-157.9558333,       4754,    45.0,  25.9743,  35.2675,2,  35.2682,2,    206.8,1,  -999.0,9, -999.00,9, -999.00,9,  -999.0,      45,    25.9643, -999.00,9,     -999.0
33KB20101002,       PRS2,       2,          9,         21,       8021,2,20101004,       0911,  22.682167,-157.9558333,       4754,    74.4,  25.6029,  35.2335,2,  35.2284,2,    208.9,1,  -999.0,9, -999.00,9, -999.00,9,  -999.0,      74,    25.5865, -999.00,9,     -999.0
33KB20101002,       PRS2,       2,          9,         20,       8020,2,20101004,       0911,  22.682167,-157.9558333,       4754,    99.8,  23.1334,  35.2670,2,  35.2714,2,    208.4,1,  -999.0,9, -999.00,9, -999.00,9,  -999.0,     100,    23.1129, -999.00,9,     -999.0
33KB20101002,       PRS2,       2,          9,         19,       8019,2,20101004,       0911,  22.682167,-157.9558333,       4754,   124.1,  21.8525,  35.2887,2,  35.2881,2,    204.3,1,  -999.0,9, -999.00,9, -999.00,9,  -999.0,     123,    21.8281, -999.00,9,     -999.0
33KB20101002,       PRS2,       2,          9,         18,       8018,2,20101004,       0911,  22.682167,-157.9558333,       4754,   149.4,  21.1296,  35.3035,2,  35.3025,2,    203.1,1,  -999.0,9, -999.00,9, -999.00,9,  -999.0,     150,    21.1008, -999.00,9,     -999.0
33KB20101002,       PRS2,       2,          9,         17,       8017,2,20101004,       0911,  22.682167,-157.9558333,       4754,   174.6,  20.0983,  35.2501,2,  35.2495,2,    201.7,1,  -999.0,9, -999.00,9, -999.00,9,  -999.0,     175,    20.0659, -999.00,9,     -999.0
33KB20101002,       PRS2,       2,          9,         16,       8016,2,20101004,       0911,  22.682167,-157.9558333,       4754,   499.9,   7.7052,  34.0928,2,-999.0000,5,    110.8,1,  -999.0,9, -999.00,9, -999.00,9,  -999.0,     500,     7.6554, -999.00,9,     -999.0
33KB20101002,       PRS2,       2,          9,         15,       8015,2,20101004,       0911,  22.682167,-157.9558333,       4754,   499.8,   7.7061,  34.0928,2,-999.0000,5,    110.6,1,  -999.0,9, -999.00,9, -999.00,9,  -999.0,     500,     7.6563, -999.00,9,     -999.0
33KB20101002,       PRS2,       2,          9,         14,       8014,2,20101004,       0911,  22.682167,-157.9558333,       4754,   499.9,   7.7055,  34.0927,2,-999.0000,5,    110.3,1,  -999.0,9, -999.00,9, -999.00,9,  -999.0,     500,     7.6557, -999.00,9,     -999.0
33KB20101002,       PRS2,       2,          9,         13,       8025,2,20101004,       0911,  22.682167,-157.9558333,       4754,   499.8,   7.7081,  34.0931,2,-999.0000,5,    110.1,1,  -999.0,9, -999.00,9, -999.00,9,  -999.0,     500,     7.6583, -999.00,9,     -999.0
33KB20101002,       PRS2,       2,          9,         12,       8012,2,20101004,       0911,  22.682167,-157.9558333,       4754,   499.7,   7.7103,  34.0929,2,  34.0952,2,    109.9,1,  -999.0,9, -999.00,9, -999.00,9,  -999.0,     500,     7.6605, -999.00,9,     -999.0
33KB20101002,       PRS2,       2,          9,         11,       8011,2,20101004,       0911,  22.682167,-157.9558333,       4754,   549.7,   6.6842,  34.1092,2,  34.1085,2,     78.9,1,  -999.0,9, -999.00,9, -999.00,9,  -999.0,     548,     6.6335, -999.00,9,     -999.0
33KB20101002,       PRS2,       2,          9,         10,       8010,2,20101004,       0911,  22.682167,-157.9558333,       4754,   768.7,   4.8548,  34.3381,2,-999.0000,5,     35.9,1,  -999.0,9, -999.00,9, -999.00,9,  -999.0,     769,     4.7931, -999.00,9,     -999.0
33KB20101002,       PRS2,       2,          9,          9,       8009,2,20101004,       0911,  22.682167,-157.9558333,       4754,   768.5,   4.8547,  34.3380,2,-999.0000,5,     35.9,1,  -999.0,9, -999.00,9, -999.00,9,  -999.0,     770,     4.7931, -999.00,9,     -999.0
33KB20101002,       PRS2,       2,          9,          8,       8008,2,20101004,       0911,  22.682167,-157.9558333,       4754,   768.6,   4.8528,  34.3387,2,-999.0000,5,     35.9,1,  -999.0,9, -999.00,9, -999.00,9,  -999.0,     769,     4.7911, -999.00,9,     -999.0
33KB20101002,       PRS2,       2,          9,          7,       8026,2,20101004,       0911,  22.682167,-157.9558333,       4754,   768.5,   4.8528,  34.3387,2,  34.3370,2,     35.9,1,  -999.0,9, -999.00,9, -999.00,9,  -999.0,     769,     4.7911, -999.00,9,     -999.0
33KB20101002,       PRS2,       2,          9,          6,       8006,2,20101004,       0911,  22.682167,-157.9558333,       4754,   768.5,   4.8526,  34.3388,2,-999.0000,5,     35.9,1,  -999.0,9, -999.00,9, -999.00,9,  -999.0,     768,     4.7910, -999.00,9,     -999.0
33KB20101002,       PRS2,       2,          9,          5,       8005,2,20101004,       0911,  22.682167,-157.9558333,       4754,  1019.9,   3.8895,  34.4755,2,  34.4767,2,     46.4,1,  -999.0,9, -999.00,9, -999.00,9,  -999.0,    1020,     3.8131, -999.00,9,     -999.0
33KB20101002,       PRS2,       2,          9,          4,       8004,2,20101004,       0911,  22.682167,-157.9558333,       4754,  1019.7,   3.8899,  34.4755,2,-999.0000,5,     46.4,1,  -999.0,9, -999.00,9, -999.00,9,  -999.0,    1019,     3.8135, -999.00,9,     -999.0
33KB20101002,       PRS2,       2,          9,          3,       8003,2,20101004,       0911,  22.682167,-157.9558333,       4754,  1019.6,   3.8903,  34.4755,2,-999.0000,5,     46.4,1,  -999.0,9, -999.00,9, -999.00,9,  -999.0,    1019,     3.8139, -999.00,9,     -999.0
33KB20101002,       PRS2,       2,          9,          2,       8002,2,20101004,       0911,  22.682167,-157.9558333,       4754,  1019.4,   3.8904,  34.4757,2,-999.0000,5,     46.4,1,  -999.0,9, -999.00,9, -999.00,9,  -999.0,    1019,     3.8140, -999.00,9,     -999.0
33KB20101002,       PRS2,       2,          9,          1,       8001,2,20101004,       0911,  22.682167,-157.9558333,       4754,  1019.4,   3.8903,  34.4757,2,-999.0000,5,     46.3,1,  -999.0,9, -999.00,9, -999.00,9,  -999.0,    1019,     3.8139, -999.00,9,     -999.0
33KB20101002,       PRS2,       2,         10,         20,       8020,2,20101004,       1154,  22.686667,-157.9465000,       4753,     5.7,  25.9558,  35.2582,2,-999.0000,5,    207.2,1,  -999.0,9, -999.00,9, -999.00,9,  -999.0,       5,    25.9545, -999.00,9,     -999.0
33KB20101002,       PRS2,       2,         10,         19,       8019,2,20101004,       1154,  22.686667,-157.9465000,       4753,     5.7,  25.9566,  35.2581,2,  35.2580,2,    207.1,1,  -999.0,9, -999.00,9, -999.00,9,  -999.0,       6,    25.9554, -999.00,9,     -999.0
33KB20101002,       PRS2,       2,         10,         18,       8018,2,20101004,       1154,  22.686667,-157.9465000,       4753,     5.6,  25.9579,  35.2581,2,  35.2584,2,    207.1,1,  -999.0,9, -999.00,9, -999.00,9,  -999.0,       5,    25.9567, -999.00,9,     -999.0
33KB20101002,       PRS2,       2,         10,         17,       8017,2,20101004,       1154,  22.686667,-157.9465000,       4753,    25.0,  25.9633,  35.2580,2,-999.0000,5,    207.2,1,  -999.0,9, -999.00,9, -999.00,9,  -999.0,      25,    25.9578, -999.00,9,     -999.0
33KB20101002,       PRS2,       2,         10,         16,       8016,2,20101004,       1154,  22.686667,-157.9465000,       4753,    25.0,  25.9632,  35.2579,2,  35.2578,2,    207.2,1,  -999.0,9, -999.00,9, -999.00,9,  -999.0,      24,    25.9576, -999.00,9,     -999.0
33KB20101002,       PRS2,       2,         10,         15,       8015,2,20101004,       1154,  22.686667,-157.9465000,       4753,    24.9,  25.9635,  35.2579,2,  35.2660,2,    207.2,1,  -999.0,9, -999.00,9, -999.00,9,  -999.0,      25,    25.9579, -999.00,9,     -999.0
33KB20101002,       PRS2,       2,         10,         14,       8014,2,20101004,       1154,  22.686667,-157.9465000,       4753,    45.7,  25.9692,  35.2575,2,-999.0000,5,    207.2,1,  -999.0,9, -999.00,9, -999.00,9,  -999.0,      46,    25.9590, -999.00,9,     -999.0
33KB20101002,       PRS2,       2,         10,         13,       8025,2,20101004,       1154,  22.686667,-157.9465000,       4753,    45.8,  25.9686,  35.2576,2,  35.2574,2,    207.3,1,  -999.0,9, -999.00,9, -999.00,9,  -999.0,      46,    25.9584, -999.00,9,     -999.0
33KB20101002,       PRS2,       2,         10,         12,       8012,2,20101004,       1154,  22.686667,-157.9465000,       4753,    45.8,  25.9681,  35.2575,2,  35.2576,2,    207.3,1,  -999.0,9, -999.00,9, -999.00,9,  -999.0,      46,    25.9579, -999.00,9,     -999.0
33KB20101002,       PRS2,       2,         10,         11,       8011,2,20101004,       1154,  22.686667,-157.9465000,       4753,    75.5,  25.6547,  35.2478,2,-999.0000,5,    208.7,1,  -999.0,9, -999.00,9, -999.00,9,  -999.0,      75,    25.6380, -999.00,9,     -999.0
33KB20101002,       PRS2,       2,         10,         10,       8010,2,20101004,       1154,  22.686667,-157.9465000,       4753,    75.1,  25.6112,  35.2445,2,  35.2422,2,    209.1,1,  -999.0,9, -999.00,9, -999.00,9,  -999.0,      74,    25.5946, -999.00,9,     -999.0
33KB20101002,       PRS2,       2,         10,          9,       8009,2,20101004,       1154,  22.686667,-157.9465000,       4753,    75.1,  25.5861,  35.2443,2,  35.2379,2,    209.2,1,  -999.0,9, -999.00,9, -999.00,9,  -999.0,      75,    25.5695, -999.00,9,     -999.0
33KB20101002,       PRS2,       2,         10,          8,       8008,2,20101004,       1154,  22.686667,-157.9465000,       4753,   100.4,  23.7969,  35.2278,2,-999.0000,5,    215.9,1,  -999.0,9, -999.00,9, -999.00,9,  -999.0,     100,    23.7759, -999.00,9,     -999.0
33KB20101002,       PRS2,       2,         10,          7,       8026,2,20101004,       1154,  22.686667,-157.9465000,       4753,   100.5,  23.8162,  35.2273,2,  35.2292,2,    215.6,1,  -999.0,9, -999.00,9, -999.00,9,  -999.0,      99,    23.7951, -999.00,9,     -999.0
33KB20101002,       PRS2,       2,         10,          6,       8006,2,20101004,       1154,  22.686667,-157.9465000,       4753,   100.6,  23.8121,  35.2280,2,  35.2286,2,    215.2,1,  -999.0,9, -999.00,9, -999.00,9,  -999.0,     101,    23.7910, -999.00,9,     -999.0
33KB20101002,       PRS2,       2,         10,          5,       8005,2,20101004,       1154,  22.686667,-157.9465000,       4753,   125.8,  22.9160,  35.2865,2,-999.0000,5,    208.9,1,  -999.0,9, -999.00,9, -999.00,9,  -999.0,     126,    22.8903, -999.00,9,     -999.0
33KB20101002,       PRS2,       2,         10,          4,       8004,2,20101004,       1154,  22.686667,-157.9465000,       4753,   125.8,  22.9085,  35.2870,2,  35.2838,2,    208.9,1,  -999.0,9, -999.00,9, -999.00,9,  -999.0,     126,    22.8828, -999.00,9,     -999.0
33KB20101002,       PRS2,       2,         10,          3,       8003,2,20101004,       1154,  22.686667,-157.9465000,       4753,   125.8,  22.8979,  35.2872,2,  35.2832,2,    208.9,1,  -999.0,9, -999.00,9, -999.00,9,  -999.0,     126,    22.8722, -999.00,9,     -999.0
33KB20101002,       PRS2,       2,         10,          2,       8002,2,20101004,       1154,  22.686667,-157.9465000,       4753,   479.7,   8.0702,  34.1069,2,  34.1015,2,    113.0,1,  -999.0,9, -999.00,9, -999.00,9,  -999.0,     480,     8.0212, -999.00,9,     -999.0
33KB20101002,       PRS2,       2,         10,          1,       8001,2,20101004,       1154,  22.686667,-157.9465000,       4753,  1019.4,   3.9872,  34.4613,2,  34.4618,2,     44.1,1,  -999.0,9, -999.00,9, -999.00,9,  -999.0,    1020,     3.9101, -999.00,9,     -999.0
33KB20101002,       PRS2,       2,         11,         24,       8024,2,20101004,       1453,  22.750167,-157.9990000,       4748,     8.0,  25.9637,  35.2526,2,  35.2631,3,    207.2,1,  -999.0,9, -999.00,9, -999.00,9,  -999.0,       8,    25.9619, -999.00,9,     -999.0
33KB20101002,       PRS2,       2,         11,         23,       8023,2,20101004,       1453,  22.750167,-157.9990000,       4748,   126.0,  23.2653,  35.2927,2,-999.0000,5,    213.2,1,  -999.0,9, -999.00,9, -999.00,9,  -999.0,     126,    23.2393, -999.00,9,     -999.0
33KB20101002,       PRS2,       2,         11,         22,       8022,2,20101004,       1453,  22.750167,-157.9990000,       4748,   125.9,  23.2656,  35.2925,2,-999.0000,5,    213.2,1,  -999.0,9, -999.00,9, -999.00,9,  -999.0,     126,    23.2397, -999.00,9,     -999.0
33KB20101002,       PRS2,       2,         11,         21,       8021,2,20101004,       1453,  22.750167,-157.9990000,       4748,   125.9,  23.2644,  35.2926,2,-999.0000,5,    213.3,1,  -999.0,9, -999.00,9, -999.00,9,  -999.0,     125,    23.2384, -999.00,9,     -999.0
33KB20101002,       PRS2,       2,         11,         20,       8020,2,20101004,       1453,  22.750167,-157.9990000,       4748,   125.9,  23.2648,  35.2922,2,-999.0000,5,    213.3,1,  -999.0,9, -999.00,9, -999.00,9,  -999.0,     125,    23.2389, -999.00,9,     -999.0
33KB20101002,       PRS2,       2,         11,         19,       8019,2,20101004,       1453,  22.750167,-157.9990000,       4748,   125.7,  23.2658,  35.2924,2,-999.0000,5,    213.3,1,  -999.0,9, -999.00,9, -999.00,9,  -999.0,     125,    23.2399, -999.00,9,     -999.0
33KB20101002,       PRS2,       2,         11,         18,       8018,2,20101004,       1453,  22.750167,-157.9990000,       4748,   200.8,  20.0844,  35.2298,2,-999.0000,5,    199.1,1,  -999.0,9, -999.00,9, -999.00,9,  -999.0,     200,    20.0471, -999.00,9,     -999.0
33KB20101002,       PRS2,       2,         11,         17,       8017,2,20101004,       1453,  22.750167,-157.9990000,       4748,   200.8,  20.0812,  35.2299,2,-999.0000,5,    199.4,1,  -999.0,9, -999.00,9, -999.00,9,  -999.0,     201,    20.0439, -999.00,9,     -999.0
33KB20101002,       PRS2,       2,         11,         16,       8016,2,20101004,       1453,  22.750167,-157.9990000,       4748,   200.7,  20.0788,  35.2296,2,-999.0000,5,    199.6,1,  -999.0,9, -999.00,9, -999.00,9,  -999.0,     201,    20.0415, -999.00,9,     -999.0
33KB20101002,       PRS2,       2,         11,         15,       8015,2,20101004,       1453,  22.750167,-157.9990000,       4748,   200.7,  20.0753,  35.2292,2,-999.0000,5,    199.9,1,  -999.0,9, -999.00,9, -999.00,9,  -999.0,     200,    20.0380, -999.00,9,     -999.0
33KB20101002,       PRS2,       2,         11,         14,       8014,2,20101004,       1453,  22.750167,-157.9990000,       4748,   200.9,  20.0673,  35.2287,2,-999.0000,5,    200.2,1,  -999.0,9, -999.00,9, -999.00,9,  -999.0,     201,    20.0300, -999.00,9,     -999.0
33KB20101002,       PRS2,       2,         11,         13,       8025,2,20101004,       1453,  22.750167,-157.9990000,       4748,   461.3,   8.0419,  34.0914,2,  34.0917,2,    114.3,1,  -999.0,9, -999.00,9, -999.00,9,  -999.0,     461,     7.9949, -999.00,9,     -999.0
33KB20101002,       PRS2,       2,         11,         12,       8012,2,20101004,       1453,  22.750167,-157.9990000,       4748,  1019.0,   3.8603,  34.4783,2,-999.0000,5,     45.7,1,  -999.0,9, -999.00,9, -999.00,9,  -999.0,    1020,     3.7842, -999.00,9,     -999.0
33KB20101002,       PRS2,       2,         11,         11,       8011,2,20101004,       1453,  22.750167,-157.9990000,       4748,  1018.9,   3.8603,  34.4783,2,-999.0000,5,     45.7,1,  -999.0,9, -999.00,9, -999.00,9,  -999.0,    1019,     3.7842, -999.00,9,     -999.0
33KB20101002,       PRS2,       2,         11,         10,       8010,2,20101004,       1453,  22.750167,-157.9990000,       4748,  1019.0,   3.8595,  34.4784,2,-999.0000,5,     45.7,1,  -999.0,9, -999.00,9, -999.00,9,  -999.0,    1019,     3.7834, -999.00,9,     -999.0
33KB20101002,       PRS2,       2,         11,          9,       8009,2,20101004,       1453,  22.750167,-157.9990000,       4748,  1018.9,   3.8592,  34.4784,2,-999.0000,5,     45.7,1,  -999.0,9, -999.00,9, -999.00,9,  -999.0,    1019,     3.7832, -999.00,9,     -999.0
33KB20101002,       PRS2,       2,         11,          8,       8008,2,20101004,       1453,  22.750167,-157.9990000,       4748,  1018.9,   3.8592,  34.4784,2,-999.0000,5,     45.7,1,  -999.0,9, -999.00,9, -999.00,9,  -999.0,    1019,     3.7831, -999.00,9,     -999.0
33KB20101002,       PRS2,       2,         11,          7,       8026,2,20101004,       1453,  22.750167,-157.9990000,       4748,  1018.9,   3.8592,  34.4785,2,-999.0000,5,     45.8,1,  -999.0,9, -999.00,9, -999.00,9,  -999.0,    1019,     3.7831, -999.00,9,     -999.0
33KB20101002,       PRS2,       2,         11,          6,       8006,2,20101004,       1453,  22.750167,-157.9990000,       4748,  1018.9,   3.8592,  34.4784,2,-999.0000,5,     45.8,1,  -999.0,9, -999.00,9, -999.00,9,  -999.0,    1020,     3.7832, -999.00,9,     -999.0
33KB20101002,       PRS2,       2,         11,          5,       8005,2,20101004,       1453,  22.750167,-157.9990000,       4748,  1018.9,   3.8593,  34.4786,2,-999.0000,5,     45.9,1,  -999.0,9, -999.00,9, -999.00,9,  -999.0,    1019,     3.7832, -999.00,9,     -999.0
33KB20101002,       PRS2,       2,         11,          4,       8004,2,20101004,       1453,  22.750167,-157.9990000,       4748,  1018.7,   3.8595,  34.4785,2,-999.0000,5,     45.9,1,  -999.0,9, -999.00,9, -999.00,9,  -999.0,    1018,     3.7834, -999.00,9,     -999.0
33KB20101002,       PRS2,       2,         11,          3,       8003,2,20101004,       1453,  22.750167,-157.9990000,       4748,  1018.8,   3.8596,  34.4786,2,-999.0000,5,     45.9,1,  -999.0,9, -999.00,9, -999.00,9,  -999.0,    1018,     3.7835, -999.00,9,     -999.0
33KB20101002,       PRS2,       2,         11,          2,       8002,2,20101004,       1453,  22.750167,-157.9990000,       4748,  1018.7,   3.8603,  34.4784,2,-999.0000,5,     45.8,1,  -999.0,9, -999.00,9, -999.00,9,  -999.0,    1019,     3.7842, -999.00,9,     -999.0
33KB20101002,       PRS2,       2,         11,          1,       8001,2,20101004,       1453,  22.750167,-157.9990000,       4748,  1018.7,   3.8610,  34.4781,2,  34.4783,2,     45.9,1,  -999.0,9, -999.00,9, -999.00,9,  -999.0,    1019,     3.7849, -999.00,9,     -999.0