BOTTLE,20141031SIOCCHAMB
EXPOCODE,SECT_ID,STNNBR,CASTNO,SAMPNO,BTLNBR,BTLNBR_FLAG_W,DATE,TIME,LATITUDE,LONGITUDE,DEPTH,CTDPRS,CTDTMP,CTDSAL,CTDSAL_FLAG_W,SALNTY,SALNTY_FLAG_W,CTDOXY,CTDOXY_FLAG_W,OXYGEN,OXYGEN_FLAG_W,SILCAT,SILCAT_FLAG_W,PHSPHT,PHSPHT_FLAG_W,REVPRS,CTDRAW,THETA,NO2+NO3,NO2+NO3_FLAG_W,REVTMP
,,,,,,,,,,,METERS,DBAR,ITS-90,PSS-78,,PSS-78,,UMOL/KG,,UMOL/KG,,UMOL/KG,,UMOL/KG,,DBAR,DBAR,ITS-90,UMOL/KG,,DEG C
33KB20131219,       PRS2,       2,          9,         24,       8024,2,20131221,       1450,  22.748000,-158.0338333,       4752,     7.9,  25.0119,  35.4212,2,  35.4194,2,    205.5,1,  -999.0,9, -999.00,9, -999.00,9,  -999.0,       7,    25.0102, -999.00,9,     -999.0
33KB20131219,       PRS2,       2,          9,         23,       8023,2,20131221,       1450,  22.748000,-158.0338333,       4752,    25.5,  25.0094,  35.4201,2,-999.0000,5,    205.9,1,  -999.0,9, -999.00,9, -999.00,9,  -999.0,      27,    25.0038, -999.00,9,     -999.0
33KB20131219,       PRS2,       2,          9,         22,       8022,2,20131221,       1450,  22.748000,-158.0338333,       4752,    47.5,  25.0327,  35.4270,2,-999.0000,5,    205.9,1,  -999.0,9, -999.00,9, -999.00,9,  -999.0,      46,    25.0224, -999.00,9,     -999.0
33KB20131219,       PRS2,       2,          9,         21,       8021,2,20131221,       1450,  22.748000,-158.0338333,       4752,    65.7,  25.0290,  35.4293,2,-999.0000,5,    206.2,1,  -999.0,9, -999.00,9, -999.00,9,  -999.0,      65,    25.0148, -999.00,9,     -999.0
33KB20131219,       PRS2,       2,          9,         20,       8020,2,20131221,       1450,  22.748000,-158.0338333,       4752,    74.8,  24.9805,  35.4422,2,-999.0000,5,    205.7,1,  -999.0,9, -999.00,9, -999.00,9,  -999.0,      75,    24.9643, -999.00,9,     -999.0
33KB20131219,       PRS2,       2,          9,         19,       8019,2,20131221,       1450,  22.748000,-158.0338333,       4752,    84.6,  23.4005,  35.3630,2,-999.0000,5,    212.4,1,  -999.0,9, -999.00,9, -999.00,9,  -999.0,      84,    23.3830, -999.00,9,     -999.0
33KB20131219,       PRS2,       2,          9,         18,       8018,2,20131221,       1450,  22.748000,-158.0338333,       4752,    87.8,  23.2941,  35.3612,2,-999.0000,5,    213.7,1,  -999.0,9, -999.00,9, -999.00,9,  -999.0,      90,    23.2760, -999.00,9,     -999.0
33KB20131219,       PRS2,       2,          9,         17,       8017,2,20131221,       1450,  22.748000,-158.0338333,       4752,    94.8,  23.0349,  35.3443,2,-999.0000,5,    214.0,1,  -999.0,9, -999.00,9, -999.00,9,  -999.0,      94,    23.0155, -999.00,9,     -999.0
33KB20131219,       PRS2,       2,          9,         16,       8016,2,20131221,       1450,  22.748000,-158.0338333,       4752,    99.2,  22.6364,  35.3201,2,-999.0000,5,    214.9,1,  -999.0,9, -999.00,9, -999.00,9,  -999.0,     102,    22.6163, -999.00,9,     -999.0
33KB20131219,       PRS2,       2,          9,         15,       8015,2,20131221,       1450,  22.748000,-158.0338333,       4752,   105.8,  22.2834,  35.3115,2,-999.0000,5,    213.8,1,  -999.0,9, -999.00,9, -999.00,9,  -999.0,     106,    22.2623, -999.00,9,     -999.0
33KB20131219,       PRS2,       2,          9,         14,       8014,2,20131221,       1450,  22.748000,-158.0338333,       4752,   109.6,  22.0533,  35.3209,2,-999.0000,5,    212.2,1,  -999.0,9, -999.00,9, -999.00,9,  -999.0,     111,    22.0315, -999.00,9,     -999.0
33KB20131219,       PRS2,       2,          9,         13,       8025,2,20131221,       1450,  22.748000,-158.0338333,       4752,   119.1,  21.5705,  35.3123,2,-999.0000,5,    206.1,1,  -999.0,9, -999.00,9, -999.00,9,  -999.0,     121,    21.5472, -999.00,9,     -999.0
33KB20131219,       PRS2,       2,          9,         12,       8012,2,20131221,       1450,  22.748000,-158.0338333,       4752,   122.6,  21.5022,  35.3084,2,-999.0000,5,    206.5,1,  -999.0,9, -999.00,9, -999.00,9,  -999.0,     121,    21.4783, -999.00,9,     -999.0
33KB20131219,       PRS2,       2,          9,         11,       8011,2,20131221,       1450,  22.748000,-158.0338333,       4752,   125.4,  21.4406,  35.3069,2,-999.0000,5,    206.2,1,  -999.0,9, -999.00,9, -999.00,9,  -999.0,     122,    21.4163, -999.00,9,     -999.0
33KB20131219,       PRS2,       2,          9,         10,       8010,2,20131221,       1450,  22.748000,-158.0338333,       4752,   129.4,  21.3377,  35.3002,2,-999.0000,5,    203.9,1,  -999.0,9, -999.00,9, -999.00,9,  -999.0,     128,    21.3126, -999.00,9,     -999.0
33KB20131219,       PRS2,       2,          9,          9,       8009,2,20131221,       1450,  22.748000,-158.0338333,       4752,   134.7,  21.1848,  35.2937,2,-999.0000,5,    204.1,1,  -999.0,9, -999.00,9, -999.00,9,  -999.0,     133,    21.1588, -999.00,9,     -999.0
33KB20131219,       PRS2,       2,          9,          8,       8008,2,20131221,       1450,  22.748000,-158.0338333,       4752,   143.6,  20.9130,  35.2742,2,-999.0000,5,    200.2,1,  -999.0,9, -999.00,9, -999.00,9,  -999.0,     141,    20.8856, -999.00,9,     -999.0
33KB20131219,       PRS2,       2,          9,          7,       8026,2,20131221,       1450,  22.748000,-158.0338333,       4752,   147.5,  20.8300,  35.2648,2,-999.0000,5,    199.9,1,  -999.0,9, -999.00,9, -999.00,9,  -999.0,     150,    20.8019, -999.00,9,     -999.0
33KB20131219,       PRS2,       2,          9,          6,       8006,2,20131221,       1450,  22.748000,-158.0338333,       4752,   154.4,  20.5752,  35.2355,2,-999.0000,5,    199.8,1,  -999.0,9, -999.00,9, -999.00,9,  -999.0,     154,    20.5461, -999.00,9,     -999.0
33KB20131219,       PRS2,       2,          9,          5,       8005,2,20131221,       1450,  22.748000,-158.0338333,       4752,   160.5,  20.3594,  35.1973,2,-999.0000,5,    196.6,1,  -999.0,9, -999.00,9, -999.00,9,  -999.0,     160,    20.3293, -999.00,9,     -999.0
33KB20131219,       PRS2,       2,          9,          4,       8004,2,20131221,       1450,  22.748000,-158.0338333,       4752,   176.0,  19.5825,  35.0680,2,-999.0000,5,    192.6,1,  -999.0,9, -999.00,9, -999.00,9,  -999.0,     175,    19.5504, -999.00,9,     -999.0
33KB20131219,       PRS2,       2,          9,          3,       8003,2,20131221,       1450,  22.748000,-158.0338333,       4752,   198.6,  18.1792,  34.8637,2,-999.0000,5,    192.1,1,  -999.0,9, -999.00,9, -999.00,9,  -999.0,     203,    18.1449, -999.00,9,     -999.0
33KB20131219,       PRS2,       2,          9,          2,       8002,2,20131221,       1450,  22.748000,-158.0338333,       4752,   499.8,   7.2202,  34.0410,2,  34.0390,2,    133.4,1,  -999.0,9, -999.00,9, -999.00,9,  -999.0,     498,     7.1722, -999.00,9,     -999.0
33KB20131219,       PRS2,       2,          9,          1,       8001,2,20131221,       1450,  22.748000,-158.0338333,       4752,  1021.2,   3.9204,  34.4885,2,  34.4889,2,     45.2,1,  -999.0,9, -999.00,9, -999.00,9,  -999.0,    1019,     3.8437, -999.00,9,     -999.0
33KB20131219,       PRS2,       2,         10,         19,       8019,2,20131221,       1755,  22.750500,-157.9998333,       4762,     7.4,  24.9717,  35.4000,2,-999.0000,5,    205.7,1,  -999.0,9, -999.00,9, -999.00,9,  -999.0,       7,    24.9701, -999.00,9,     -999.0
33KB20131219,       PRS2,       2,         10,         18,       8018,2,20131221,       1755,  22.750500,-157.9998333,       4762,     7.5,  24.9714,  35.4001,2,  35.3983,2,    205.9,1,  -999.0,9, -999.00,9, -999.00,9,  -999.0,       7,    24.9697, -999.00,9,     -999.0
33KB20131219,       PRS2,       2,         10,         17,       8017,2,20131221,       1755,  22.750500,-157.9998333,       4762,    25.4,  24.9749,  35.3996,2,-999.0000,5,    206.0,1,  -999.0,9, -999.00,9, -999.00,9,  -999.0,      24,    24.9694, -999.00,9,     -999.0
33KB20131219,       PRS2,       2,         10,         16,       8016,2,20131221,       1755,  22.750500,-157.9998333,       4762,    25.8,  24.9749,  35.3995,2,-999.0000,5,    205.9,1,  -999.0,9, -999.00,9, -999.00,9,  -999.0,      24,    24.9693, -999.00,9,     -999.0
33KB20131219,       PRS2,       2,         10,         15,       8015,2,20131221,       1755,  22.750500,-157.9998333,       4762,    25.7,  24.9749,  35.3995,2,  35.3987,2,    205.8,1,  -999.0,9, -999.00,9, -999.00,9,  -999.0,      25,    24.9693, -999.00,9,     -999.0
33KB20131219,       PRS2,       2,         10,         14,       8014,2,20131221,       1755,  22.750500,-157.9998333,       4762,    45.2,  24.9830,  35.3994,2,-999.0000,5,    205.8,1,  -999.0,9, -999.00,9, -999.00,9,  -999.0,      45,    24.9732, -999.00,9,     -999.0
33KB20131219,       PRS2,       2,         10,         13,       8025,2,20131221,       1755,  22.750500,-157.9998333,       4762,    45.3,  24.9835,  35.3996,2,  35.3987,2,    205.6,1,  -999.0,9, -999.00,9, -999.00,9,  -999.0,      45,    24.9737, -999.00,9,     -999.0
33KB20131219,       PRS2,       2,         10,         12,       8012,2,20131221,       1755,  22.750500,-157.9998333,       4762,    76.1,  24.9855,  35.3989,2,-999.0000,5,    205.6,1,  -999.0,9, -999.00,9, -999.00,9,  -999.0,      76,    24.9690, -999.00,9,     -999.0
33KB20131219,       PRS2,       2,         10,         11,       8011,2,20131221,       1755,  22.750500,-157.9998333,       4762,    75.6,  24.9863,  35.3981,2,  35.3989,2,    205.6,1,  -999.0,9, -999.00,9, -999.00,9,  -999.0,      78,    24.9699, -999.00,9,     -999.0
33KB20131219,       PRS2,       2,         10,         10,       8010,2,20131221,       1755,  22.750500,-157.9998333,       4762,   100.4,  23.7245,  35.4069,2,-999.0000,5,    212.8,1,  -999.0,9, -999.00,9, -999.00,9,  -999.0,     100,    23.7035, -999.00,9,     -999.0
33KB20131219,       PRS2,       2,         10,          9,       8009,2,20131221,       1755,  22.750500,-157.9998333,       4762,   100.6,  23.6763,  35.4030,2,  35.4042,2,    212.5,1,  -999.0,9, -999.00,9, -999.00,9,  -999.0,      99,    23.6553, -999.00,9,     -999.0
33KB20131219,       PRS2,       2,         10,          8,       8008,2,20131221,       1755,  22.750500,-157.9998333,       4762,   125.6,  21.7764,  35.3192,2,-999.0000,5,    206.7,1,  -999.0,9, -999.00,9, -999.00,9,  -999.0,     125,    21.7517, -999.00,9,     -999.0
33KB20131219,       PRS2,       2,         10,          7,       8026,2,20131221,       1755,  22.750500,-157.9998333,       4762,   125.3,  21.7472,  35.3165,2,  35.3198,2,    205.9,1,  -999.0,9, -999.00,9, -999.00,9,  -999.0,     125,    21.7226, -999.00,9,     -999.0
33KB20131219,       PRS2,       2,         10,          6,       8006,2,20131221,       1755,  22.750500,-157.9998333,       4762,   151.5,  20.6531,  35.2209,2,-999.0000,5,    201.1,1,  -999.0,9, -999.00,9, -999.00,9,  -999.0,     150,    20.6244, -999.00,9,     -999.0
33KB20131219,       PRS2,       2,         10,          5,       8005,2,20131221,       1755,  22.750500,-157.9998333,       4762,   151.9,  20.6223,  35.2162,2,  35.2154,2,    201.2,1,  -999.0,9, -999.00,9, -999.00,9,  -999.0,     150,    20.5935, -999.00,9,     -999.0
33KB20131219,       PRS2,       2,         10,          4,       8004,2,20131221,       1755,  22.750500,-157.9998333,       4762,   175.6,  19.4442,  35.0493,2,-999.0000,5,    194.5,1,  -999.0,9, -999.00,9, -999.00,9,  -999.0,     175,    19.4124, -999.00,9,     -999.0
33KB20131219,       PRS2,       2,         10,          3,       8003,2,20131221,       1755,  22.750500,-157.9998333,       4762,   175.4,  19.4078,  35.0431,2,  35.0453,2,    194.3,1,  -999.0,9, -999.00,9, -999.00,9,  -999.0,     175,    19.3761, -999.00,9,     -999.0
33KB20131219,       PRS2,       2,         10,          2,       8002,2,20131221,       1755,  22.750500,-157.9998333,       4762,   500.9,   6.8250,  34.0458,2,  34.0572,4,    117.6,1,  -999.0,9, -999.00,9, -999.00,9,  -999.0,     501,     6.7784, -999.00,9,     -999.0
33KB20131219,       PRS2,       2,         10,          1,       8001,2,20131221,       1755,  22.750500,-157.9998333,       4762,  1020.2,   3.9618,  34.4948,2,  34.4952,2,     44.5,1,  -999.0,9, -999.00,9, -999.00,9,  -999.0,    1018,     3.8848, -999.00,9,     -999.0
33KB20131219,       PRS2,       2,         11,         19,       8019,2,20131221,       2102,  22.747833,-157.9871667,       4738,     9.3,  25.0098,  35.3993,2,  35.3981,2,    205.7,1,  -999.0,9, -999.00,9, -999.00,9,  -999.0,       7,    25.0077, -999.00,9,     -999.0
33KB20131219,       PRS2,       2,         11,         18,       8018,2,20131221,       2102,  22.747833,-157.9871667,       4738,     8.8,  25.0096,  35.3992,2,-999.0000,5,    205.6,1,  -999.0,9, -999.00,9, -999.00,9,  -999.0,       8,    25.0077, -999.00,9,     -999.0
33KB20131219,       PRS2,       2,         11,         17,       8017,2,20131221,       2102,  22.747833,-157.9871667,       4738,    25.3,  24.9798,  35.3990,2,-999.0000,5,    205.1,1,  -999.0,9, -999.00,9, -999.00,9,  -999.0,      24,    24.9744, -999.00,9,     -999.0
33KB20131219,       PRS2,       2,         11,         16,       8016,2,20131221,       2102,  22.747833,-157.9871667,       4738,    24.8,  24.9798,  35.3988,2,-999.0000,5,    205.1,1,  -999.0,9, -999.00,9, -999.00,9,  -999.0,      24,    24.9744, -999.00,9,     -999.0
33KB20131219,       PRS2,       2,         11,         15,       8015,2,20131221,       2102,  22.747833,-157.9871667,       4738,    24.8,  24.9798,  35.3988,2,-999.0000,5,    205.2,1,  -999.0,9, -999.00,9, -999.00,9,  -999.0,      24,    24.9745, -999.00,9,     -999.0
33KB20131219,       PRS2,       2,         11,         14,       8014,2,20131221,       2102,  22.747833,-157.9871667,       4738,    45.6,  24.9759,  35.3982,2,-999.0000,5,    205.4,1,  -999.0,9, -999.00,9, -999.00,9,  -999.0,      45,    24.9660, -999.00,9,     -999.0
33KB20131219,       PRS2,       2,         11,         13,       8025,2,20131221,       2102,  22.747833,-157.9871667,       4738,    45.5,  24.9747,  35.3984,2,-999.0000,5,    205.3,1,  -999.0,9, -999.00,9, -999.00,9,  -999.0,      45,    24.9648, -999.00,9,     -999.0
33KB20131219,       PRS2,       2,         11,         12,       8012,2,20131221,       2102,  22.747833,-157.9871667,       4738,    76.0,  23.5257,  35.3931,2,-999.0000,5,    211.5,1,  -999.0,9, -999.00,9, -999.00,9,  -999.0,      74,    23.5099, -999.00,9,     -999.0
33KB20131219,       PRS2,       2,         11,         11,       8011,2,20131221,       2102,  22.747833,-157.9871667,       4738,    76.2,  23.4962,  35.3912,2,-999.0000,5,    211.8,1,  -999.0,9, -999.00,9, -999.00,9,  -999.0,      75,    23.4804, -999.00,9,     -999.0
33KB20131219,       PRS2,       2,         11,         10,       8010,2,20131221,       2102,  22.747833,-157.9871667,       4738,    99.6,  21.8271,  35.3203,2,-999.0000,5,    209.7,1,  -999.0,9, -999.00,9, -999.00,9,  -999.0,      97,    21.8075, -999.00,9,     -999.0
33KB20131219,       PRS2,       2,         11,          9,       8009,2,20131221,       2102,  22.747833,-157.9871667,       4738,    99.4,  21.7973,  35.3182,2,-999.0000,5,    209.2,1,  -999.0,9, -999.00,9, -999.00,9,  -999.0,      98,    21.7777, -999.00,9,     -999.0
33KB20131219,       PRS2,       2,         11,          8,       8008,2,20131221,       2102,  22.747833,-157.9871667,       4738,   125.2,  20.5041,  35.1994,2,-999.0000,5,    198.4,1,  -999.0,9, -999.00,9, -999.00,9,  -999.0,     124,    20.4806, -999.00,9,     -999.0
33KB20131219,       PRS2,       2,         11,          7,       8026,2,20131221,       2102,  22.747833,-157.9871667,       4738,   125.9,  20.4724,  35.1959,2,-999.0000,5,    198.6,1,  -999.0,9, -999.00,9, -999.00,9,  -999.0,     122,    20.4487, -999.00,9,     -999.0
33KB20131219,       PRS2,       2,         11,          6,       8006,2,20131221,       2102,  22.747833,-157.9871667,       4738,   150.1,  19.0199,  34.9906,2,-999.0000,5,    194.0,1,  -999.0,9, -999.00,9, -999.00,9,  -999.0,     148,    18.9931, -999.00,9,     -999.0
33KB20131219,       PRS2,       2,         11,          5,       8005,2,20131221,       2102,  22.747833,-157.9871667,       4738,   150.4,  18.9600,  34.9788,2,-999.0000,5,    193.9,1,  -999.0,9, -999.00,9, -999.00,9,  -999.0,     148,    18.9333, -999.00,9,     -999.0
33KB20131219,       PRS2,       2,         11,          4,       8004,2,20131221,       2102,  22.747833,-157.9871667,       4738,   176.2,  17.6741,  34.7910,2,-999.0000,5,    192.4,1,  -999.0,9, -999.00,9, -999.00,9,  -999.0,     176,    17.6443, -999.00,9,     -999.0
33KB20131219,       PRS2,       2,         11,          3,       8003,2,20131221,       2102,  22.747833,-157.9871667,       4738,   175.7,  17.6571,  34.7880,2,-999.0000,5,    192.4,1,  -999.0,9, -999.00,9, -999.00,9,  -999.0,     177,    17.6274, -999.00,9,     -999.0
33KB20131219,       PRS2,       2,         11,          2,       8002,2,20131221,       2102,  22.747833,-157.9871667,       4738,   491.5,   7.1448,  34.0395,2,  34.0394,2,    126.0,1,  -999.0,9, -999.00,9, -999.00,9,  -999.0,     490,     7.0980, -999.00,9,     -999.0
33KB20131219,       PRS2,       2,         11,          1,       8001,2,20131221,       2102,  22.747833,-157.9871667,       4738,  1019.8,   4.0212,  34.4836,2,  34.4836,2,     43.6,1,  -999.0,9, -999.00,9, -999.00,9,  -999.0,    1020,     3.9437, -999.00,9,     -999.0