BOTTLE,20141031SIOCCHAMB
EXPOCODE,SECT_ID,STNNBR,CASTNO,SAMPNO,BTLNBR,BTLNBR_FLAG_W,DATE,TIME,LATITUDE,LONGITUDE,DEPTH,CTDPRS,CTDTMP,CTDSAL,CTDSAL_FLAG_W,SALNTY,SALNTY_FLAG_W,CTDOXY,CTDOXY_FLAG_W,OXYGEN,OXYGEN_FLAG_W,SILCAT,SILCAT_FLAG_W,PHSPHT,PHSPHT_FLAG_W,REVPRS,CTDRAW,THETA,NO2+NO3,NO2+NO3_FLAG_W,REVTMP
,,,,,,,,,,,METERS,DBAR,ITS-90,PSS-78,,PSS-78,,UMOL/KG,,UMOL/KG,,UMOL/KG,,UMOL/KG,,DBAR,DBAR,ITS-90,UMOL/KG,,DEG C
33KB20131219,       PRS2,       6,          1,         13,       8025,2,20131223,       0602,  21.847500,-158.3635000,       2439,     8.0,  25.5559,  35.3324,2,  35.3334,2,    203.5,1,  -999.0,9, -999.00,9, -999.00,9,  -999.0,       7,    25.5541, -999.00,9,     -999.0
33KB20131219,       PRS2,       6,          1,         12,       8012,2,20131223,       0602,  21.847500,-158.3635000,       2439,    26.8,  25.5025,  35.3267,2,  35.3281,2,    204.1,1,  -999.0,9, -999.00,9, -999.00,9,  -999.0,      27,    25.4966, -999.00,9,     -999.0
33KB20131219,       PRS2,       6,          1,         11,       8011,2,20131223,       0602,  21.847500,-158.3635000,       2439,    45.7,  25.2168,  35.3395,2,  35.3514,3,    205.5,1,  -999.0,9, -999.00,9, -999.00,9,  -999.0,      45,    25.2068, -999.00,9,     -999.0
33KB20131219,       PRS2,       6,          1,         10,       8010,2,20131223,       0602,  21.847500,-158.3635000,       2439,    75.8,  23.9349,  35.3470,2,  35.3472,2,    211.5,1,  -999.0,9, -999.00,9, -999.00,9,  -999.0,      75,    23.9189, -999.00,9,     -999.0
33KB20131219,       PRS2,       6,          1,          9,       8009,2,20131223,       0602,  21.847500,-158.3635000,       2439,   101.7,  22.4258,  35.3437,2,  35.3415,2,    209.1,1,  -999.0,9, -999.00,9, -999.00,9,  -999.0,     102,    22.4054, -999.00,9,     -999.0
33KB20131219,       PRS2,       6,          1,          8,       8008,2,20131223,       0602,  21.847500,-158.3635000,       2439,   125.2,  21.2147,  35.2976,2,  35.3017,2,    200.9,1,  -999.0,9, -999.00,9, -999.00,9,  -999.0,     125,    21.1906, -999.00,9,     -999.0
33KB20131219,       PRS2,       6,          1,          7,       8026,2,20131223,       0602,  21.847500,-158.3635000,       2439,   151.0,  20.1177,  35.1901,2,  35.1904,2,    196.3,1,  -999.0,9, -999.00,9, -999.00,9,  -999.0,     152,    20.0897, -999.00,9,     -999.0
33KB20131219,       PRS2,       6,          1,          6,       8006,2,20131223,       0602,  21.847500,-158.3635000,       2439,   175.5,  19.1257,  35.0189,2,  35.0394,3,    193.2,1,  -999.0,9, -999.00,9, -999.00,9,  -999.0,     176,    19.0943, -999.00,9,     -999.0
33KB20131219,       PRS2,       6,          1,          5,       8005,2,20131223,       0602,  21.847500,-158.3635000,       2439,   501.7,   7.2917,  34.1616,2,  34.1591,2,     74.7,1,  -999.0,9, -999.00,9, -999.00,9,  -999.0,     502,     7.2432, -999.00,9,     -999.0
33KB20131219,       PRS2,       6,          1,          4,       8004,2,20131223,       0602,  21.847500,-158.3635000,       2439,  1000.6,   3.9139,  34.4826,2,  34.4816,2,     45.9,1,  -999.0,9, -999.00,9, -999.00,9,  -999.0,    1000,     3.8389, -999.00,9,     -999.0
33KB20131219,       PRS2,       6,          1,          3,       8003,2,20131223,       0602,  21.847500,-158.3635000,       2439,  1500.4,   2.7196,  34.5747,2,  34.5741,2,     70.3,1,  -999.0,9, -999.00,9, -999.00,9,  -999.0,    1501,     2.6149, -999.00,9,     -999.0
33KB20131219,       PRS2,       6,          1,          2,       8002,2,20131223,       0602,  21.847500,-158.3635000,       2439,  2001.5,   2.1346,  34.6204,2,  34.6199,2,     91.1,1,  -999.0,9, -999.00,9, -999.00,9,  -999.0,    2000,     1.9961, -999.00,9,     -999.0
33KB20131219,       PRS2,       6,          1,          1,       8001,2,20131223,       0602,  21.847500,-158.3635000,       2439,  2448.6,   1.8230,  34.6444,2,  34.6453,2,    105.9,1,  -999.0,9, -999.00,9, -999.00,9,  -999.0,    2448,     1.6507, -999.00,9,     -999.0
33KB20131219,       PRS2,      52,          1,          2,       8002,2,20131222,       1845,  22.662333,-157.9626667,       4755,     3.7,  24.9789,  35.4173,2,-999.0000,9,    205.3,1,  -999.0,9, -999.00,9, -999.00,9,  -999.0,       4,    24.9781, -999.00,9,     -999.0
33KB20131219,       PRS2,      52,          1,          1,       8001,2,20131222,       1845,  22.662333,-157.9626667,       4755,    26.2,  24.9817,  35.4166,2,-999.0000,9,    205.3,1,  -999.0,9, -999.00,9, -999.00,9,  -999.0,      26,    24.9760, -999.00,9,     -999.0