BOTTLE,20141031SIOCCHAMB
EXPOCODE,SECT_ID,STNNBR,CASTNO,SAMPNO,BTLNBR,BTLNBR_FLAG_W,DATE,TIME,LATITUDE,LONGITUDE,DEPTH,CTDPRS,CTDTMP,CTDSAL,CTDSAL_FLAG_W,SALNTY,SALNTY_FLAG_W,CTDOXY,CTDOXY_FLAG_W,OXYGEN,OXYGEN_FLAG_W,SILCAT,SILCAT_FLAG_W,PHSPHT,PHSPHT_FLAG_W,REVPRS,CTDRAW,THETA,NO2+NO3,NO2+NO3_FLAG_W,REVTMP
,,,,,,,,,,,METERS,DBAR,ITS-90,PSS-78,,PSS-78,,UMOL/KG,,UMOL/KG,,UMOL/KG,,UMOL/KG,,DBAR,DBAR,ITS-90,UMOL/KG,,DEG C
33KB20131219,       PRS2,       1,          1,         24,       8024,2,20131219,       2254,  21.343667,-158.2733333,       1574,     6.5,  25.9267,  35.3229,2,  35.3244,2,    202.7,2,   202.8,2, -999.00,9, -999.00,9,  -999.0,       6,    25.9252, -999.00,9,     -999.0
33KB20131219,       PRS2,       1,          1,         23,       8023,2,20131219,       2254,  21.343667,-158.2733333,       1574,     6.6,  25.9262,  35.3227,2,  35.3230,2,    202.6,2,   202.9,2, -999.00,9, -999.00,9,  -999.0,       6,    25.9248, -999.00,9,     -999.0
33KB20131219,       PRS2,       1,          1,         22,       8022,2,20131219,       2254,  21.343667,-158.2733333,       1574,    25.9,  25.8654,  35.3184,2,  35.3196,2,    202.9,2,   202.6,2, -999.00,9, -999.00,9,  -999.0,      25,    25.8597, -999.00,9,     -999.0
33KB20131219,       PRS2,       1,          1,         21,       8021,2,20131219,       2254,  21.343667,-158.2733333,       1574,    46.1,  25.8523,  35.3185,2,  35.3198,2,    202.4,2,   202.8,2, -999.00,9, -999.00,9,  -999.0,      45,    25.8420, -999.00,9,     -999.0
33KB20131219,       PRS2,       1,          1,         20,       8020,2,20131219,       2254,  21.343667,-158.2733333,       1574,    61.0,  25.7938,  35.3162,2,  35.3169,2,    204.1,2,   204.1,2, -999.00,9, -999.00,9,  -999.0,      61,    25.7803, -999.00,9,     -999.0
33KB20131219,       PRS2,       1,          1,         19,       8019,2,20131219,       2254,  21.343667,-158.2733333,       1574,    75.6,  24.4268,  35.2902,2,  35.2922,2,    209.7,2,   210.1,2, -999.00,9, -999.00,9,  -999.0,      75,    24.4106, -999.00,9,     -999.0
33KB20131219,       PRS2,       1,          1,         18,       8018,2,20131219,       2254,  21.343667,-158.2733333,       1574,   101.1,  22.3035,  35.3089,2,  35.3064,2,    205.1,2,   205.6,2, -999.00,9, -999.00,9,  -999.0,     100,    22.2833, -999.00,9,     -999.0
33KB20131219,       PRS2,       1,          1,         17,       8017,2,20131219,       2254,  21.343667,-158.2733333,       1574,   115.8,  22.0352,  35.2987,2,  35.2946,2,    204.1,2,   203.9,2, -999.00,9, -999.00,9,  -999.0,     115,    22.0122, -999.00,9,     -999.0
33KB20131219,       PRS2,       1,          1,         16,       8016,2,20131219,       2254,  21.343667,-158.2733333,       1574,   125.9,  21.5620,  35.2832,2,  35.2700,3,    201.1,3,   200.1,2, -999.00,9, -999.00,9,  -999.0,     125,    21.5374, -999.00,9,     -999.0
33KB20131219,       PRS2,       1,          1,         15,       8015,2,20131219,       2254,  21.343667,-158.2733333,       1574,   150.5,  19.7436,  35.0654,2,  35.0612,2,    189.5,2,   189.0,2, -999.00,9, -999.00,9,  -999.0,     149,    19.7161, -999.00,9,     -999.0
33KB20131219,       PRS2,       1,          1,         14,       8014,2,20131219,       2254,  21.343667,-158.2733333,       1574,   175.9,  18.2286,  34.8624,2,  34.8601,2,    186.6,2,   186.5,2, -999.00,9, -999.00,9,  -999.0,     176,    18.1982, -999.00,9,     -999.0
33KB20131219,       PRS2,       1,          1,         13,       8025,2,20131219,       2254,  21.343667,-158.2733333,       1574,   200.4,  17.3931,  34.7511,2,  34.7248,3,    186.5,3,   185.9,2, -999.00,9, -999.00,9,  -999.0,     200,    17.3595, -999.00,9,     -999.0
33KB20131219,       PRS2,       1,          1,         12,       8012,2,20131219,       2254,  21.343667,-158.2733333,       1574,   225.7,  15.5225,  34.5191,2,  34.5311,2,    184.2,2,   183.6,2, -999.00,9, -999.00,9,  -999.0,     225,    15.4876, -999.00,9,     -999.0
33KB20131219,       PRS2,       1,          1,         11,       8011,2,20131219,       2254,  21.343667,-158.2733333,       1574,   250.6,  13.4865,  34.3078,2,  34.2983,2,    178.9,2,   180.7,2, -999.00,9, -999.00,9,  -999.0,     250,    13.4513, -999.00,9,     -999.0
33KB20131219,       PRS2,       1,          1,         10,       8010,2,20131219,       2254,  21.343667,-158.2733333,       1574,   299.9,  11.6146,  34.1866,2,  34.1848,2,    170.2,2,   171.1,2, -999.00,9, -999.00,9,  -999.0,     299,    11.5764, -999.00,9,     -999.0
33KB20131219,       PRS2,       1,          1,          9,       8009,2,20131219,       2254,  21.343667,-158.2733333,       1574,   350.6,   9.5361,  34.1473,2,  34.1466,2,    136.9,2,   135.9,2, -999.00,9, -999.00,9,  -999.0,     350,     9.4967, -999.00,9,     -999.0
33KB20131219,       PRS2,       1,          1,          8,       8008,2,20131219,       2254,  21.343667,-158.2733333,       1574,   400.6,   8.4027,  34.1396,2,  34.1387,2,    112.1,2,   111.6,2, -999.00,9, -999.00,9,  -999.0,     400,     8.3610, -999.00,9,     -999.0
33KB20131219,       PRS2,       1,          1,          7,       8026,2,20131219,       2254,  21.343667,-158.2733333,       1574,   499.9,   7.0630,  34.1792,2,  34.1795,2,     66.0,2,    65.9,2, -999.00,9, -999.00,9,  -999.0,     499,     7.0155, -999.00,9,     -999.0
33KB20131219,       PRS2,       1,          1,          6,       8006,2,20131219,       2254,  21.343667,-158.2733333,       1574,   600.4,   5.9694,  34.2849,2,  34.2848,2,     36.1,2,    35.9,2, -999.00,9, -999.00,9,  -999.0,     600,     5.9169, -999.00,9,     -999.0
33KB20131219,       PRS2,       1,          1,          5,       8005,2,20131219,       2254,  21.343667,-158.2733333,       1574,   700.3,   5.4253,  34.3511,2,  34.3519,2,     32.7,2,    32.5,2, -999.00,9, -999.00,9,  -999.0,     701,     5.3663, -999.00,9,     -999.0
33KB20131219,       PRS2,       1,          1,          4,       8004,2,20131219,       2254,  21.343667,-158.2733333,       1574,   750.6,   5.2626,  34.3868,2,  34.3872,2,     33.0,2,    32.6,2, -999.00,9, -999.00,9,  -999.0,     750,     5.2001, -999.00,9,     -999.0
33KB20131219,       PRS2,       1,          1,          3,       8003,2,20131219,       2254,  21.343667,-158.2733333,       1574,   901.2,   4.4890,  34.4672,2,  34.4683,2,     39.8,2,    40.6,2, -999.00,9, -999.00,9,  -999.0,     900,     4.4181, -999.00,9,     -999.0
33KB20131219,       PRS2,       1,          1,          2,       8002,2,20131219,       2254,  21.343667,-158.2733333,       1574,   901.1,   4.4876,  34.4672,2,  34.4679,2,     39.9,2,    40.1,2, -999.00,9, -999.00,9,  -999.0,     899,     4.4167, -999.00,9,     -999.0
33KB20131219,       PRS2,       1,          1,          1,       8001,2,20131219,       2254,  21.343667,-158.2733333,       1574,  1020.4,   4.0199,  34.5052,2,  34.5068,2,     46.6,2,    46.8,2, -999.00,9, -999.00,9,  -999.0,    1020,     3.9424, -999.00,9,     -999.0
33KB20131219,       PRS2,       2,          1,         22,       8022,2,20131220,       1151,  22.750000,-158.0343333,       4751,     7.5,  24.9584,  35.4115,2,  35.4117,2,    205.8,1,  -999.0,9, -999.00,9, -999.00,9,  -999.0,       7,    24.9567, -999.00,9,     -999.0
33KB20131219,       PRS2,       2,          1,         21,       8021,2,20131220,       1151,  22.750000,-158.0343333,       4751,     7.5,  24.9586,  35.4113,2,  35.4117,2,    205.7,1,  -999.0,9, -999.00,9, -999.00,9,  -999.0,       6,    24.9570, -999.00,9,     -999.0
33KB20131219,       PRS2,       2,          1,         20,       8020,2,20131220,       1151,  22.750000,-158.0343333,       4751,     7.5,  24.9585,  35.4113,2,  35.4119,2,    205.7,1,  -999.0,9, -999.00,9, -999.00,9,  -999.0,       7,    24.9568, -999.00,9,     -999.0
33KB20131219,       PRS2,       2,          1,         19,       8019,2,20131220,       1151,  22.750000,-158.0343333,       4751,    25.3,  24.9637,  35.4109,2,  35.4113,2,    205.7,1,  -999.0,9, -999.00,9, -999.00,9,  -999.0,      25,    24.9582, -999.00,9,     -999.0
33KB20131219,       PRS2,       2,          1,         18,       8018,2,20131220,       1151,  22.750000,-158.0343333,       4751,    25.2,  24.9640,  35.4109,2,  35.4115,2,    205.7,1,  -999.0,9, -999.00,9, -999.00,9,  -999.0,      25,    24.9586, -999.00,9,     -999.0
33KB20131219,       PRS2,       2,          1,         17,       8017,2,20131220,       1151,  22.750000,-158.0343333,       4751,    25.2,  24.9641,  35.4109,2,  35.4111,2,    205.8,1,  -999.0,9, -999.00,9, -999.00,9,  -999.0,      23,    24.9586, -999.00,9,     -999.0
33KB20131219,       PRS2,       2,          1,         16,       8016,2,20131220,       1151,  22.750000,-158.0343333,       4751,    45.1,  24.9784,  35.4169,2,  35.4182,2,    205.9,1,  -999.0,9, -999.00,9, -999.00,9,  -999.0,      45,    24.9686, -999.00,9,     -999.0
33KB20131219,       PRS2,       2,          1,         15,       8015,2,20131220,       1151,  22.750000,-158.0343333,       4751,    45.6,  24.9799,  35.4176,2,  35.4180,2,    206.0,1,  -999.0,9, -999.00,9, -999.00,9,  -999.0,      43,    24.9700, -999.00,9,     -999.0
33KB20131219,       PRS2,       2,          1,         14,       8014,2,20131220,       1151,  22.750000,-158.0343333,       4751,    44.8,  24.9793,  35.4173,2,  35.4192,2,    206.1,1,  -999.0,9, -999.00,9, -999.00,9,  -999.0,      44,    24.9696, -999.00,9,     -999.0
33KB20131219,       PRS2,       2,          1,         13,       8025,2,20131220,       1151,  22.750000,-158.0343333,       4751,    74.7,  23.9590,  35.3963,2,  35.4070,2,    212.7,1,  -999.0,9, -999.00,9, -999.00,9,  -999.0,      75,    23.9432, -999.00,9,     -999.0
33KB20131219,       PRS2,       2,          1,         12,       8012,2,20131220,       1151,  22.750000,-158.0343333,       4751,    74.8,  23.9311,  35.3918,2,  35.4101,4,    213.0,1,  -999.0,9, -999.00,9, -999.00,9,  -999.0,      74,    23.9153, -999.00,9,     -999.0
33KB20131219,       PRS2,       2,          1,         11,       8011,2,20131220,       1151,  22.750000,-158.0343333,       4751,    74.2,  23.9653,  35.3976,2,  35.3953,2,    213.0,1,  -999.0,9, -999.00,9, -999.00,9,  -999.0,      75,    23.9497, -999.00,9,     -999.0
33KB20131219,       PRS2,       2,          1,         10,       8010,2,20131220,       1151,  22.750000,-158.0343333,       4751,   100.5,  22.0837,  35.3187,2,  35.3173,2,    211.0,1,  -999.0,9, -999.00,9, -999.00,9,  -999.0,     100,    22.0638, -999.00,9,     -999.0
33KB20131219,       PRS2,       2,          1,          9,       8009,2,20131220,       1151,  22.750000,-158.0343333,       4751,   100.5,  22.0837,  35.3183,2,  35.3177,2,    210.8,1,  -999.0,9, -999.00,9, -999.00,9,  -999.0,     100,    22.0638, -999.00,9,     -999.0
33KB20131219,       PRS2,       2,          1,          8,       8008,2,20131220,       1151,  22.750000,-158.0343333,       4751,   100.2,  22.0816,  35.3195,2,  35.3177,2,    212.1,1,  -999.0,9, -999.00,9, -999.00,9,  -999.0,     100,    22.0617, -999.00,9,     -999.0
33KB20131219,       PRS2,       2,          1,          7,       8026,2,20131220,       1151,  22.750000,-158.0343333,       4751,   125.4,  21.0585,  35.2806,2,  35.2846,2,    202.5,1,  -999.0,9, -999.00,9, -999.00,9,  -999.0,     126,    21.0344, -999.00,9,     -999.0
33KB20131219,       PRS2,       2,          1,          6,       8006,2,20131220,       1151,  22.750000,-158.0343333,       4751,   125.6,  21.0447,  35.2808,2,  35.2840,2,    201.8,1,  -999.0,9, -999.00,9, -999.00,9,  -999.0,     124,    21.0206, -999.00,9,     -999.0
33KB20131219,       PRS2,       2,          1,          5,       8005,2,20131220,       1151,  22.750000,-158.0343333,       4751,   125.6,  21.0454,  35.2838,2,  35.2850,2,    201.8,1,  -999.0,9, -999.00,9, -999.00,9,  -999.0,     125,    21.0213, -999.00,9,     -999.0
33KB20131219,       PRS2,       2,          1,          4,       8004,2,20131220,       1151,  22.750000,-158.0343333,       4751,   149.5,  19.7376,  35.0953,2,  35.0740,3,    194.4,1,  -999.0,9, -999.00,9, -999.00,9,  -999.0,     149,    19.7102, -999.00,9,     -999.0
33KB20131219,       PRS2,       2,          1,          3,       8003,2,20131220,       1151,  22.750000,-158.0343333,       4751,   174.3,  18.3982,  34.8919,2,  34.8977,2,    192.8,1,  -999.0,9, -999.00,9, -999.00,9,  -999.0,     177,    18.3679, -999.00,9,     -999.0
33KB20131219,       PRS2,       2,          1,          2,       8002,2,20131220,       1151,  22.750000,-158.0343333,       4751,   501.5,   6.7386,  34.0407,2,  34.0419,2,    109.9,1,  -999.0,9, -999.00,9, -999.00,9,  -999.0,     499,     6.6923, -999.00,9,     -999.0
33KB20131219,       PRS2,       2,          1,          1,       8001,2,20131220,       1151,  22.750000,-158.0343333,       4751,  1020.3,   3.9148,  34.4700,2,  34.4728,2,     45.3,1,  -999.0,9, -999.00,9, -999.00,9,  -999.0,    1020,     3.8382, -999.00,9,     -999.0
33KB20131219,       PRS2,       2,          2,         24,       8024,2,20131220,       1501,  22.750000,-157.9995000,       4742,     7.1,  24.9431,  35.4077,2,  35.4105,2,    206.7,2,   206.9,2,    1.12,2,    0.05,2,  -999.0,       7,    24.9416,    0.04,2,     -999.0
33KB20131219,       PRS2,       2,          2,         23,       8023,2,20131220,       1501,  22.750000,-157.9995000,       4742,   499.5,   7.0059,  34.0396,2,  34.0398,2,    120.0,2,   120.9,2,   49.07,2,    2.04,2,  -999.0,     499,     6.9588,   28.82,2,     -999.0
33KB20131219,       PRS2,       2,          2,         22,       8022,2,20131220,       1501,  22.750000,-157.9995000,       4742,   751.3,   4.8553,  34.3188,2,  34.3188,2,     35.2,2,    34.8,2,   93.29,2,    2.90,2,  -999.0,     750,     4.7951,   40.00,2,     -999.0
33KB20131219,       PRS2,       2,          2,         21,       8021,2,20131220,       1501,  22.750000,-157.9995000,       4742,  1000.7,   4.0850,  34.4800,2,  34.4795,2,     42.0,2,    43.5,2,  109.09,2,    2.96,2,  -999.0,    1000,     4.0087,   41.10,2,     -999.0
33KB20131219,       PRS2,       2,          2,         20,       8020,2,20131220,       1501,  22.750000,-157.9995000,       4742,  1200.2,   3.5349,  34.5296,2,  34.5309,2,     51.5,2,    51.4,2,  120.16,2,    2.94,2,  -999.0,    1199,     3.4465,   41.16,2,     -999.0
33KB20131219,       PRS2,       2,          2,         19,       8019,2,20131220,       1501,  22.750000,-157.9995000,       4742,  1403.5,   3.0901,  34.5574,2,  34.5584,2,     60.9,2,    60.7,2,  130.37,2,    2.90,2,  -999.0,    1403,     2.9893,   40.78,2,     -999.0
33KB20131219,       PRS2,       2,          2,         18,       8018,2,20131220,       1501,  22.750000,-157.9995000,       4742,  1601.5,   2.6721,  34.5826,2,  34.5836,2,     70.7,2,    71.0,2,  139.97,2,    2.85,2,  -999.0,    1602,     2.5597,   40.32,2,     -999.0
33KB20131219,       PRS2,       2,          2,         17,       8017,2,20131220,       1501,  22.750000,-157.9995000,       4742,  1800.9,   2.4005,  34.5988,2,  34.5995,2,     78.4,2,    78.3,2,  146.55,2,    2.81,2,  -999.0,    1802,     2.2750,   40.02,2,     -999.0
33KB20131219,       PRS2,       2,          2,         16,       8016,2,20131220,       1501,  22.750000,-157.9995000,       4742,  1999.3,   2.1799,  34.6157,2,  34.6174,2,     86.0,2,    86.6,2,  151.35,2,    2.77,2,  -999.0,    1999,     2.0408,   39.60,2,     -999.0
33KB20131219,       PRS2,       2,          2,         15,       8015,2,20131220,       1501,  22.750000,-157.9995000,       4742,  2200.9,   1.9563,  34.6312,2,  34.6321,2,     94.8,2,    95.0,2,  155.94,2,    2.73,2,  -999.0,    2200,     1.8034,   39.17,2,     -999.0
33KB20131219,       PRS2,       2,          2,         14,       8014,2,20131220,       1501,  22.750000,-157.9995000,       4742,  2401.0,   1.8230,  34.6424,2,  34.6441,2,    101.9,2,   102.6,2,  158.37,2,    2.69,2,  -999.0,    2399,     1.6549,   38.84,2,     -999.0
33KB20131219,       PRS2,       2,          2,         13,       8025,2,20131220,       1501,  22.750000,-157.9995000,       4742,  2601.5,   1.7189,  34.6509,2,  34.6513,2,    107.1,2,   107.7,2,  161.12,2,    2.67,2,  -999.0,    2602,     1.5348,   38.50,2,     -999.0
33KB20131219,       PRS2,       2,          2,         12,       8012,2,20131220,       1501,  22.750000,-157.9995000,       4742,  2799.3,   1.6154,  34.6594,2,  34.6594,2,    114.5,2,   115.1,2,  161.60,2,    2.63,2,  -999.0,    2798,     1.4151,   38.02,2,     -999.0
33KB20131219,       PRS2,       2,          2,         11,       8011,2,20131220,       1501,  22.750000,-157.9995000,       4742,  3000.1,   1.5497,  34.6672,2,  34.6682,2,    122.7,2,   123.3,2,  160.02,2,    2.58,2,  -999.0,    2996,     1.3319,   37.28,2,     -999.0
33KB20131219,       PRS2,       2,          2,         10,       8010,2,20131220,       1501,  22.750000,-157.9995000,       4742,  3198.0,   1.5089,  34.6726,2,  34.6728,2,    129.4,2,   129.7,2,  158.00,2,    2.55,2,  -999.0,    3196,     1.2728,   36.87,2,     -999.0
33KB20131219,       PRS2,       2,          2,          9,       8009,2,20131220,       1501,  22.750000,-157.9995000,       4742,  3402.1,   1.4759,  34.6780,2,  34.6779,2,    136.0,2,   135.7,2,  156.57,2,    2.52,2,  -999.0,    3400,     1.2203,   36.53,2,     -999.0
33KB20131219,       PRS2,       2,          2,          8,       8008,2,20131220,       1501,  22.750000,-157.9995000,       4742,  3600.0,   1.4565,  34.6816,2,  34.6816,2,    141.0,2,   141.1,2,  155.03,2,    2.49,2,  -999.0,    3601,     1.1812,   36.00,2,     -999.0
33KB20131219,       PRS2,       2,          2,          7,       8026,2,20131220,       1501,  22.750000,-157.9995000,       4742,  3800.2,   1.4506,  34.6842,2,  34.6838,2,    144.5,2,   144.5,2,  152.91,2,    2.47,2,  -999.0,    3800,     1.1545,   35.79,2,     -999.0
33KB20131219,       PRS2,       2,          2,          6,       8006,2,20131220,       1501,  22.750000,-157.9995000,       4742,  4001.1,   1.4570,  34.6859,2,  34.6848,2,    146.7,2,   146.8,2,  152.17,2,    2.46,2,  -999.0,    4000,     1.1392,   35.52,2,     -999.0
33KB20131219,       PRS2,       2,          2,          5,       8005,2,20131220,       1501,  22.750000,-157.9995000,       4742,  4200.9,   1.4677,  34.6875,2,  34.6871,2,    149.1,2,   148.5,2,  151.16,2,    2.45,2,  -999.0,    4203,     1.1276,   35.48,2,     -999.0
33KB20131219,       PRS2,       2,          2,          4,       8004,2,20131220,       1501,  22.750000,-157.9995000,       4742,  4400.4,   1.4805,  34.6885,2,  34.6879,2,    150.3,2,   149.5,2,  150.67,2,    2.45,2,  -999.0,    4403,     1.1175,   35.43,2,     -999.0
33KB20131219,       PRS2,       2,          2,          3,       8003,2,20131220,       1501,  22.750000,-157.9995000,       4742,  4500.4,   1.4898,  34.6886,2,  34.6883,2,    150.8,2,   150.5,2,  150.50,2,    2.46,2,  -999.0,    4500,     1.1151,   35.48,2,     -999.0
33KB20131219,       PRS2,       2,          2,          2,       8002,2,20131220,       1501,  22.750000,-157.9995000,       4742,  4599.9,   1.5000,  34.6891,2,  34.6881,2,    151.0,2,   150.9,2,  150.65,2,    2.46,2,  -999.0,    4604,     1.1134,   35.46,2,     -999.0
33KB20131219,       PRS2,       2,          2,          1,       8001,2,20131220,       1501,  22.750000,-157.9995000,       4742,  4803.0,   1.5198,  34.6895,2,  34.6891,2,    151.6,2,   151.8,2,  149.50,2,    2.46,2,  -999.0,    4801,     1.1087,   35.37,2,     -999.0