BOTTLE,20141031SIOCCHAMB
EXPOCODE,SECT_ID,STNNBR,CASTNO,SAMPNO,BTLNBR,BTLNBR_FLAG_W,DATE,TIME,LATITUDE,LONGITUDE,DEPTH,CTDPRS,CTDTMP,CTDSAL,CTDSAL_FLAG_W,SALNTY,SALNTY_FLAG_W,CTDOXY,CTDOXY_FLAG_W,OXYGEN,OXYGEN_FLAG_W,SILCAT,SILCAT_FLAG_W,PHSPHT,PHSPHT_FLAG_W,REVPRS,CTDRAW,THETA,NO2+NO3,NO2+NO3_FLAG_W,REVTMP
,,,,,,,,,,,METERS,DBAR,ITS-90,PSS-78,,PSS-78,,UMOL/KG,,UMOL/KG,,UMOL/KG,,UMOL/KG,,DBAR,DBAR,ITS-90,UMOL/KG,,DEG C
33KB20131219,       PRS2,       2,         12,         24,       8024,2,20131222,       0039,  22.748167,-157.9550000,       4724,     7.9,  25.0050,  35.4059,2,  35.4076,2,    205.7,1,  -999.0,9, -999.00,9, -999.00,9,  -999.0,       7,    25.0033, -999.00,9,     -999.0
33KB20131219,       PRS2,       2,         12,         23,       8023,2,20131222,       0039,  22.748167,-157.9550000,       4724,    24.2,  24.9386,  35.4191,2,-999.0000,5,    206.6,1,  -999.0,9, -999.00,9, -999.00,9,  -999.0,      25,    24.9334, -999.00,9,     -999.0
33KB20131219,       PRS2,       2,         12,         22,       8022,2,20131222,       0039,  22.748167,-157.9550000,       4724,    24.2,  24.9392,  35.4187,2,  35.4186,2,    206.6,1,  -999.0,9, -999.00,9, -999.00,9,  -999.0,      24,    24.9340, -999.00,9,     -999.0
33KB20131219,       PRS2,       2,         12,         21,       8021,2,20131222,       0039,  22.748167,-157.9550000,       4724,    45.6,  24.5442,  35.4929,2,  35.4995,2,    208.4,1,  -999.0,9, -999.00,9, -999.00,9,  -999.0,      44,    24.5344, -999.00,9,     -999.0
33KB20131219,       PRS2,       2,         12,         20,       8020,2,20131222,       0039,  22.748167,-157.9550000,       4724,    74.7,  21.9548,  35.2960,2,  35.2954,2,    215.0,1,  -999.0,9, -999.00,9, -999.00,9,  -999.0,      77,    21.9400, -999.00,9,     -999.0
33KB20131219,       PRS2,       2,         12,         19,       8019,2,20131222,       0039,  22.748167,-157.9550000,       4724,    98.6,  20.9085,  35.2483,2,  35.2509,2,    198.6,1,  -999.0,9, -999.00,9, -999.00,9,  -999.0,     100,    20.8897, -999.00,9,     -999.0
33KB20131219,       PRS2,       2,         12,         18,       8018,2,20131222,       0039,  22.748167,-157.9550000,       4724,   122.2,  20.3389,  35.1864,2,  35.1851,2,    200.1,1,  -999.0,9, -999.00,9, -999.00,9,  -999.0,     126,    20.3160, -999.00,9,     -999.0
33KB20131219,       PRS2,       2,         12,         17,       8017,2,20131222,       0039,  22.748167,-157.9550000,       4724,   150.1,  18.8337,  34.9620,2,  34.9612,2,    195.3,1,  -999.0,9, -999.00,9, -999.00,9,  -999.0,     152,    18.8072, -999.00,9,     -999.0
33KB20131219,       PRS2,       2,         12,         16,       8016,2,20131222,       0039,  22.748167,-157.9550000,       4724,   201.2,  16.3323,  34.6060,2,-999.0000,5,    200.7,1,  -999.0,9, -999.00,9, -999.00,9,  -999.0,     201,    16.3001, -999.00,9,     -999.0
33KB20131219,       PRS2,       2,         12,         15,       8015,2,20131222,       0039,  22.748167,-157.9550000,       4724,   201.1,  16.2515,  34.5919,2,-999.0000,5,    201.3,1,  -999.0,9, -999.00,9, -999.00,9,  -999.0,     202,    16.2194, -999.00,9,     -999.0
33KB20131219,       PRS2,       2,         12,         14,       8014,2,20131222,       0039,  22.748167,-157.9550000,       4724,   249.8,  13.8522,  34.3650,2,  34.3596,2,    203.8,1,  -999.0,9, -999.00,9, -999.00,9,  -999.0,     252,    13.8165, -999.00,9,     -999.0
33KB20131219,       PRS2,       2,         12,         13,       8025,2,20131222,       0039,  22.748167,-157.9550000,       4724,   300.3,  11.6516,  34.2177,2,-999.0000,5,    205.2,1,  -999.0,9, -999.00,9, -999.00,9,  -999.0,     300,    11.6133, -999.00,9,     -999.0
33KB20131219,       PRS2,       2,         12,         12,       8012,2,20131222,       0039,  22.748167,-157.9550000,       4724,   300.2,  11.6329,  34.2180,2,-999.0000,5,    205.5,1,  -999.0,9, -999.00,9, -999.00,9,  -999.0,     301,    11.5947, -999.00,9,     -999.0
33KB20131219,       PRS2,       2,         12,         11,       8011,2,20131222,       0039,  22.748167,-157.9550000,       4724,   350.5,  10.1836,  34.1441,2,  34.1460,2,    194.7,1,  -999.0,9, -999.00,9, -999.00,9,  -999.0,     350,    10.1426, -999.00,9,     -999.0
33KB20131219,       PRS2,       2,         12,         10,       8010,2,20131222,       0039,  22.748167,-157.9550000,       4724,   400.2,   9.0561,  34.0935,2,-999.0000,5,    170.4,1,  -999.0,9, -999.00,9, -999.00,9,  -999.0,     398,     9.0125, -999.00,9,     -999.0
33KB20131219,       PRS2,       2,         12,          9,       8009,2,20131222,       0039,  22.748167,-157.9550000,       4724,   489.0,   6.9569,  34.0584,2,  34.0531,2,    119.5,1,  -999.0,9, -999.00,9, -999.00,9,  -999.0,     491,     6.9110, -999.00,9,     -999.0
33KB20131219,       PRS2,       2,         12,          8,       8008,2,20131222,       0039,  22.748167,-157.9550000,       4724,   500.4,   6.9463,  34.0711,2,-999.0000,5,    105.9,1,  -999.0,9, -999.00,9, -999.00,9,  -999.0,     498,     6.8993, -999.00,9,     -999.0
33KB20131219,       PRS2,       2,         12,          7,       8026,2,20131222,       0039,  22.748167,-157.9550000,       4724,   500.7,   6.9455,  34.0707,2,-999.0000,5,    106.1,1,  -999.0,9, -999.00,9, -999.00,9,  -999.0,     498,     6.8985, -999.00,9,     -999.0
33KB20131219,       PRS2,       2,         12,          6,       8006,2,20131222,       0039,  22.748167,-157.9550000,       4724,   601.3,   6.2051,  34.2263,2,-999.0000,5,     48.4,1,  -999.0,9, -999.00,9, -999.00,9,  -999.0,     600,     6.1514, -999.00,9,     -999.0
33KB20131219,       PRS2,       2,         12,          5,       8005,2,20131222,       0039,  22.748167,-157.9550000,       4724,   699.5,   5.1383,  34.2714,2,-999.0000,5,     35.7,1,  -999.0,9, -999.00,9, -999.00,9,  -999.0,     698,     5.0811, -999.00,9,     -999.0
33KB20131219,       PRS2,       2,         12,          4,       8004,2,20131222,       0039,  22.748167,-157.9550000,       4724,   771.2,   4.7191,  34.3242,2,-999.0000,5,     35.7,1,  -999.0,9, -999.00,9, -999.00,9,  -999.0,     771,     4.6580, -999.00,9,     -999.0
33KB20131219,       PRS2,       2,         12,          3,       8003,2,20131222,       0039,  22.748167,-157.9550000,       4724,   800.1,   4.5602,  34.3562,2,-999.0000,5,     35.3,1,  -999.0,9, -999.00,9, -999.00,9,  -999.0,     797,     4.4976, -999.00,9,     -999.0
33KB20131219,       PRS2,       2,         12,          2,       8002,2,20131222,       0039,  22.748167,-157.9550000,       4724,   901.5,   4.3401,  34.4420,2,-999.0000,5,     37.7,1,  -999.0,9, -999.00,9, -999.00,9,  -999.0,     901,     4.2703, -999.00,9,     -999.0
33KB20131219,       PRS2,       2,         12,          1,       8001,2,20131222,       0039,  22.748167,-157.9550000,       4724,  1019.1,   3.9856,  34.4883,2,  34.4879,2,     44.3,1,  -999.0,9, -999.00,9, -999.00,9,  -999.0,    1022,     3.9084, -999.00,9,     -999.0
33KB20131219,       PRS2,       2,         13,         11,       8011,2,20131222,       0256,  22.753667,-157.9185000,       4712,     7.4,  24.9983,  35.4666,2,  35.4644,2,    206.9,1,  -999.0,9, -999.00,9, -999.00,9,  -999.0,       6,    24.9967, -999.00,9,     -999.0
33KB20131219,       PRS2,       2,         13,         10,       8010,2,20131222,       0256,  22.753667,-157.9185000,       4712,    26.5,  24.8708,  35.4620,2,-999.0000,5,    207.0,1,  -999.0,9, -999.00,9, -999.00,9,  -999.0,      27,    24.8651, -999.00,9,     -999.0
33KB20131219,       PRS2,       2,         13,          9,       8009,2,20131222,       0256,  22.753667,-157.9185000,       4712,    26.3,  24.8713,  35.4619,2,-999.0000,5,    207.2,1,  -999.0,9, -999.00,9, -999.00,9,  -999.0,      26,    24.8656, -999.00,9,     -999.0
33KB20131219,       PRS2,       2,         13,          8,       8008,2,20131222,       0256,  22.753667,-157.9185000,       4712,    46.9,  24.8532,  35.4643,2,-999.0000,5,    206.0,1,  -999.0,9, -999.00,9, -999.00,9,  -999.0,      44,    24.8431, -999.00,9,     -999.0
33KB20131219,       PRS2,       2,         13,          7,       8026,2,20131222,       0256,  22.753667,-157.9185000,       4712,    76.3,  21.7721,  35.2861,2,-999.0000,5,    212.8,1,  -999.0,9, -999.00,9, -999.00,9,  -999.0,      78,    21.7571, -999.00,9,     -999.0
33KB20131219,       PRS2,       2,         13,          6,       8006,2,20131222,       0256,  22.753667,-157.9185000,       4712,   101.3,  21.0261,  35.2553,2,-999.0000,5,    204.6,1,  -999.0,9, -999.00,9, -999.00,9,  -999.0,     102,    21.0066, -999.00,9,     -999.0
33KB20131219,       PRS2,       2,         13,          5,       8005,2,20131222,       0256,  22.753667,-157.9185000,       4712,   124.1,  20.2120,  35.1586,2,-999.0000,5,    200.6,1,  -999.0,9, -999.00,9, -999.00,9,  -999.0,     126,    20.1888, -999.00,9,     -999.0
33KB20131219,       PRS2,       2,         13,          4,       8004,2,20131222,       0256,  22.753667,-157.9185000,       4712,   152.2,  18.5293,  34.9075,2,-999.0000,5,    197.4,1,  -999.0,9, -999.00,9, -999.00,9,  -999.0,     151,    18.5026, -999.00,9,     -999.0
33KB20131219,       PRS2,       2,         13,          3,       8003,2,20131222,       0256,  22.753667,-157.9185000,       4712,   175.0,  17.4422,  34.7494,2,-999.0000,5,    200.1,1,  -999.0,9, -999.00,9, -999.00,9,  -999.0,     175,    17.4128, -999.00,9,     -999.0
33KB20131219,       PRS2,       2,         13,          2,       8002,2,20131222,       0256,  22.753667,-157.9185000,       4712,   503.3,   7.0671,  34.0784,2,  34.0682,3,    113.5,1,  -999.0,9, -999.00,9, -999.00,9,  -999.0,     500,     7.0194, -999.00,9,     -999.0
33KB20131219,       PRS2,       2,         13,          1,       8001,2,20131222,       0256,  22.753667,-157.9185000,       4712,  1018.0,   3.9952,  34.4929,2,  34.4911,2,     43.9,1,  -999.0,9, -999.00,9, -999.00,9,  -999.0,    1020,     3.9181, -999.00,9,     -999.0
33KB20131219,       PRS2,       2,         14,         22,       8022,2,20131222,       0600,  22.753833,-157.9155000,       4707,     7.9,  24.9264,  35.4635,2,  35.4628,2,    205.9,1,  -999.0,9, -999.00,9, -999.00,9,  -999.0,       8,    24.9247, -999.00,9,     -999.0
33KB20131219,       PRS2,       2,         14,         21,       8021,2,20131222,       0600,  22.753833,-157.9155000,       4707,     7.9,  24.9265,  35.4634,2,  35.4638,2,    205.6,1,  -999.0,9, -999.00,9, -999.00,9,  -999.0,       7,    24.9248, -999.00,9,     -999.0
33KB20131219,       PRS2,       2,         14,         20,       8020,2,20131222,       0600,  22.753833,-157.9155000,       4707,    25.2,  24.9300,  35.4627,2,  35.4620,2,    205.3,1,  -999.0,9, -999.00,9, -999.00,9,  -999.0,      26,    24.9246, -999.00,9,     -999.0
33KB20131219,       PRS2,       2,         14,         19,       8019,2,20131222,       0600,  22.753833,-157.9155000,       4707,    25.3,  24.9307,  35.4627,2,  35.4626,2,    205.2,1,  -999.0,9, -999.00,9, -999.00,9,  -999.0,      25,    24.9252, -999.00,9,     -999.0
33KB20131219,       PRS2,       2,         14,         18,       8018,2,20131222,       0600,  22.753833,-157.9155000,       4707,    46.8,  24.8896,  35.4629,2,  35.4626,2,    206.4,1,  -999.0,9, -999.00,9, -999.00,9,  -999.0,      45,    24.8794, -999.00,9,     -999.0
33KB20131219,       PRS2,       2,         14,         17,       8017,2,20131222,       0600,  22.753833,-157.9155000,       4707,    47.1,  24.8887,  35.4631,2,  35.4628,2,    206.0,1,  -999.0,9, -999.00,9, -999.00,9,  -999.0,      45,    24.8785, -999.00,9,     -999.0
33KB20131219,       PRS2,       2,         14,         16,       8016,2,20131222,       0600,  22.753833,-157.9155000,       4707,    59.4,  24.8797,  35.4628,2,  35.4628,2,    205.9,1,  -999.0,9, -999.00,9, -999.00,9,  -999.0,      59,    24.8668, -999.00,9,     -999.0
33KB20131219,       PRS2,       2,         14,         15,       8015,2,20131222,       0600,  22.753833,-157.9155000,       4707,    76.6,  24.8112,  35.4759,2,  35.4756,2,    207.2,1,  -999.0,9, -999.00,9, -999.00,9,  -999.0,      75,    24.7947, -999.00,9,     -999.0
33KB20131219,       PRS2,       2,         14,         14,       8014,2,20131222,       0600,  22.753833,-157.9155000,       4707,    76.1,  24.7903,  35.4779,2,  35.4762,2,    207.4,1,  -999.0,9, -999.00,9, -999.00,9,  -999.0,      74,    24.7739, -999.00,9,     -999.0
33KB20131219,       PRS2,       2,         14,         13,       8025,2,20131222,       0600,  22.753833,-157.9155000,       4707,    87.3,  23.6471,  35.4003,2,  35.4016,2,    213.6,1,  -999.0,9, -999.00,9, -999.00,9,  -999.0,      86,    23.6289, -999.00,9,     -999.0
33KB20131219,       PRS2,       2,         14,         12,       8012,2,20131222,       0600,  22.753833,-157.9155000,       4707,   100.3,  22.3326,  35.3124,2,  35.3082,2,    216.0,1,  -999.0,9, -999.00,9, -999.00,9,  -999.0,     100,    22.3126, -999.00,9,     -999.0
33KB20131219,       PRS2,       2,         14,         11,       8011,2,20131222,       0600,  22.753833,-157.9155000,       4707,   100.4,  22.3210,  35.3111,2,  35.3072,2,    215.4,1,  -999.0,9, -999.00,9, -999.00,9,  -999.0,      99,    22.3009, -999.00,9,     -999.0
33KB20131219,       PRS2,       2,         14,         10,       8010,2,20131222,       0600,  22.753833,-157.9155000,       4707,   115.2,  21.7045,  35.2811,2,  35.2816,2,    213.6,1,  -999.0,9, -999.00,9, -999.00,9,  -999.0,     111,    21.6819, -999.00,9,     -999.0
33KB20131219,       PRS2,       2,         14,          9,       8009,2,20131222,       0600,  22.753833,-157.9155000,       4707,   125.1,  21.3250,  35.2687,2,  35.2658,2,    209.0,1,  -999.0,9, -999.00,9, -999.00,9,  -999.0,     124,    21.3007, -999.00,9,     -999.0
33KB20131219,       PRS2,       2,         14,          8,       8008,3,20131222,       0600,  22.753833,-157.9155000,       4707,   124.7,  21.2919,  35.2661,2,  35.2635,2,    208.1,1,  -999.0,9, -999.00,9, -999.00,9,  -999.0,     124,    21.2677, -999.00,9,     -999.0
33KB20131219,       PRS2,       2,         14,          7,       8026,3,20131222,       0600,  22.753833,-157.9155000,       4707,   136.7,  21.0158,  35.2550,2,  35.2544,2,    203.7,1,  -999.0,9, -999.00,9, -999.00,9,  -999.0,     135,    20.9896, -999.00,9,     -999.0
33KB20131219,       PRS2,       2,         14,          6,       8006,3,20131222,       0600,  22.753833,-157.9155000,       4707,   151.3,  20.5973,  35.2175,2,  35.2231,2,    200.1,1,  -999.0,9, -999.00,9, -999.00,9,  -999.0,     153,    20.5687, -999.00,9,     -999.0
33KB20131219,       PRS2,       2,         14,          5,       8005,2,20131222,       0600,  22.753833,-157.9155000,       4707,   151.4,  20.5736,  35.2160,2,  35.2207,2,    200.4,1,  -999.0,9, -999.00,9, -999.00,9,  -999.0,     153,    20.5450, -999.00,9,     -999.0
33KB20131219,       PRS2,       2,         14,          4,       8004,3,20131222,       0600,  22.753833,-157.9155000,       4707,   174.8,  19.3784,  35.0312,2,  35.0159,2,    194.2,1,  -999.0,9, -999.00,9, -999.00,9,  -999.0,     177,    19.3468, -999.00,9,     -999.0
33KB20131219,       PRS2,       2,         14,          3,       8003,2,20131222,       0600,  22.753833,-157.9155000,       4707,   175.2,  19.3188,  35.0250,2,  35.0368,2,    195.4,1,  -999.0,9, -999.00,9, -999.00,9,  -999.0,     177,    19.2872, -999.00,9,     -999.0
33KB20131219,       PRS2,       2,         14,          2,       8002,2,20131222,       0600,  22.753833,-157.9155000,       4707,   502.9,   7.0694,  34.0696,2,  34.0688,2,    112.0,1,  -999.0,9, -999.00,9, -999.00,9,  -999.0,     501,     7.0217, -999.00,9,     -999.0
33KB20131219,       PRS2,       2,         14,          1,       8001,2,20131222,       0600,  22.753833,-157.9155000,       4707,  1020.2,   4.0272,  34.4873,2,  34.4893,2,     43.5,1,  -999.0,9, -999.00,9, -999.00,9,  -999.0,    1019,     3.9497, -999.00,9,     -999.0
33KB20131219,       PRS2,       2,         15,         14,       8014,2,20131222,       0908,  22.751500,-157.9868333,       4742,     7.8,  25.0198,  35.4140,2,  35.4143,2,    205.9,2,   205.2,2, -999.00,9, -999.00,9,  -999.0,       7,    25.0181, -999.00,9,     -999.0
33KB20131219,       PRS2,       2,         15,         13,       8025,2,20131222,       0908,  22.751500,-157.9868333,       4742,    26.0,  25.0270,  35.4143,2,-999.0000,5,    206.1,2,  -999.0,5, -999.00,9, -999.00,9,  -999.0,      26,    25.0214, -999.00,9,     -999.0
33KB20131219,       PRS2,       2,         15,         12,       8012,2,20131222,       0908,  22.751500,-157.9868333,       4742,    90.0,  22.5145,  35.3302,2,  35.3530,3,    213.8,3,   214.2,2, -999.00,9, -999.00,9,  -999.0,      88,    22.4964, -999.00,9,     -999.0
33KB20131219,       PRS2,       2,         15,         11,       8011,2,20131222,       0908,  22.751500,-157.9868333,       4742,   500.4,   6.9872,  34.0427,2,  34.0421,2,    121.6,2,   119.4,2, -999.00,9, -999.00,9,  -999.0,     501,     6.9401, -999.00,9,     -999.0
33KB20131219,       PRS2,       2,         15,         10,       8010,2,20131222,       0908,  22.751500,-157.9868333,       4742,   818.7,   4.5086,  34.3672,2,  34.3668,2,     34.9,2,    35.0,2, -999.00,9, -999.00,9,  -999.0,     818,     4.4448, -999.00,9,     -999.0
33KB20131219,       PRS2,       2,         15,          9,       8009,2,20131222,       0908,  22.751500,-157.9868333,       4742,  1000.9,   4.1102,  34.4810,2,-999.0000,5,     41.7,2,  -999.0,5, -999.00,9, -999.00,9,  -999.0,    1000,     4.0337, -999.00,9,     -999.0
33KB20131219,       PRS2,       2,         15,          8,       8008,2,20131222,       0908,  22.751500,-157.9868333,       4742,  1999.6,   2.1053,  34.6192,2,-999.0000,5,     88.2,2,  -999.0,5, -999.00,9, -999.00,9,  -999.0,    2003,     1.9673, -999.00,9,     -999.0
33KB20131219,       PRS2,       2,         15,          7,       8026,2,20131222,       0908,  22.751500,-157.9868333,       4742,  1999.6,   2.1048,  34.6193,2,  34.6203,2,     88.2,2,    89.3,2, -999.00,9, -999.00,9,  -999.0,    2001,     1.9668, -999.00,9,     -999.0
33KB20131219,       PRS2,       2,         15,          6,       8006,2,20131222,       0908,  22.751500,-157.9868333,       4742,  3002.8,   1.5470,  34.6669,2,-999.0000,5,    123.0,2,  -999.0,5, -999.00,9, -999.00,9,  -999.0,    3003,     1.3290, -999.00,9,     -999.0
33KB20131219,       PRS2,       2,         15,          5,       8005,2,20131222,       0908,  22.751500,-157.9868333,       4742,  3002.5,   1.5466,  34.6670,2,  34.6675,2,    123.0,2,   123.7,2, -999.00,9, -999.00,9,  -999.0,    3004,     1.3286, -999.00,9,     -999.0
33KB20131219,       PRS2,       2,         15,          4,       8004,2,20131222,       0908,  22.751500,-157.9868333,       4742,  3999.9,   1.4577,  34.6858,2,-999.0000,5,    147.1,2,  -999.0,5, -999.00,9, -999.00,9,  -999.0,    4004,     1.1400, -999.00,9,     -999.0
33KB20131219,       PRS2,       2,         15,          3,       8003,2,20131222,       0908,  22.751500,-157.9868333,       4742,  4000.7,   1.4579,  34.6856,2,  34.6853,2,    147.1,2,   147.1,2, -999.00,9, -999.00,9,  -999.0,    4003,     1.1401, -999.00,9,     -999.0
33KB20131219,       PRS2,       2,         15,          2,       8002,2,20131222,       0908,  22.751500,-157.9868333,       4742,  4500.8,   1.4927,  34.6878,2,  34.6879,2,    150.4,2,   150.0,2, -999.00,9, -999.00,9,  -999.0,    4503,     1.1178, -999.00,9,     -999.0
33KB20131219,       PRS2,       2,         15,          1,       8001,2,20131222,       0908,  22.751500,-157.9868333,       4742,  4810.5,   1.5188,  34.6888,2,  34.6887,2,    151.4,2,   151.5,2, -999.00,9, -999.00,9,  -999.0,    4810,     1.1068, -999.00,9,     -999.0