BOTTLE,20141031SIOCCHAMB
EXPOCODE,SECT_ID,STNNBR,CASTNO,SAMPNO,BTLNBR,BTLNBR_FLAG_W,DATE,TIME,LATITUDE,LONGITUDE,DEPTH,CTDPRS,CTDTMP,CTDSAL,CTDSAL_FLAG_W,SALNTY,SALNTY_FLAG_W,CTDOXY,CTDOXY_FLAG_W,OXYGEN,OXYGEN_FLAG_W,SILCAT,SILCAT_FLAG_W,PHSPHT,PHSPHT_FLAG_W,REVPRS,CTDRAW,THETA,NO2+NO3,NO2+NO3_FLAG_W,REVTMP
,,,,,,,,,,,METERS,DBAR,ITS-90,PSS-78,,PSS-78,,UMOL/KG,,UMOL/KG,,UMOL/KG,,UMOL/KG,,DBAR,DBAR,ITS-90,UMOL/KG,,DEG C
33KB20131219,       PRS2,       2,          3,         24,       8024,2,20131220,       2112,  22.749667,-158.0000000,       4742,    70.5,  24.9335,  35.4080,2,  35.4111,2,    205.5,2,  -999.0,5,    1.19,2,    0.04,2,  -999.0,      71,    24.9182,    0.01,2,     -999.0
33KB20131219,       PRS2,       2,          3,         23,       8023,2,20131220,       2112,  22.749667,-158.0000000,       4742,    85.7,  23.7641,  35.4040,2,  35.4018,2,    211.8,2,   212.2,2,    1.33,2,    0.02,2,  -999.0,      84,    23.7462,    0.01,2,     -999.0
33KB20131219,       PRS2,       2,          3,         22,       8022,2,20131220,       2112,  22.749667,-158.0000000,       4742,   122.4,  21.0724,  35.2838,2,  35.2871,2,    201.4,2,   201.2,2,    1.76,2,    0.10,2,  -999.0,     123,    21.0488,    0.82,2,     -999.0
33KB20131219,       PRS2,       2,          3,         21,       8021,2,20131220,       2112,  22.749667,-158.0000000,       4742,   155.1,  19.5692,  35.0630,2,  35.0687,2,    190.6,2,   193.4,2,    2.58,2,    0.21,2,  -999.0,     155,    19.5409,    2.46,2,     -999.0
33KB20131219,       PRS2,       2,          3,         20,       8020,2,20131220,       2112,  22.749667,-158.0000000,       4742,   209.6,  15.5300,  34.5214,2,  34.5254,2,    202.7,2,   202.0,2,    5.65,2,    0.41,2,  -999.0,     209,    15.4976,    5.67,2,     -999.0
33KB20131219,       PRS2,       2,          3,         19,       8019,2,20131220,       2112,  22.749667,-158.0000000,       4742,   262.2,  13.5920,  34.3574,2,  34.3549,2,    200.4,2,   199.3,2,    9.02,2,    0.65,2,  -999.0,     265,    13.5550,    9.22,2,     -999.0
33KB20131219,       PRS2,       2,          3,         18,       8018,2,20131220,       2112,  22.749667,-158.0000000,       4742,   316.5,  11.6074,  34.2349,2,  34.2328,2,    198.0,2,   198.2,2,   14.40,2,    0.91,2,  -999.0,     316,    11.5671,   13.16,2,     -999.0
33KB20131219,       PRS2,       2,          3,         17,       8017,2,20131220,       2112,  22.749667,-158.0000000,       4742,   356.0,  10.1597,  34.1446,2,  34.1438,2,    196.7,2,   196.4,2,   19.20,2,    1.11,2,  -999.0,     356,    10.1181,   16.10,2,     -999.0
33KB20131219,       PRS2,       2,          3,         16,       8016,2,20131220,       2112,  22.749667,-158.0000000,       4742,   421.0,   8.5019,  34.0663,2,  34.0664,2,    164.2,2,   165.3,2,   31.62,2,    1.55,2,  -999.0,     419,     8.4577,   22.32,2,     -999.0
33KB20131219,       PRS2,       2,          3,         15,       8015,2,20131220,       2112,  22.749667,-158.0000000,       4742,   461.0,   7.6342,  34.0461,2,  34.0466,2,    139.2,2,   140.3,2,   40.75,2,    1.84,2,  -999.0,     457,     7.5887,   26.12,2,     -999.0
33KB20131219,       PRS2,       2,          3,         14,       8014,2,20131220,       2112,  22.749667,-158.0000000,       4742,   500.7,   7.0145,  34.0400,2,  34.0384,2,    124.5,2,   121.8,2,   48.94,2,    2.06,2,  -999.0,     501,     6.9672,   29.07,2,     -999.0
33KB20131219,       PRS2,       2,          3,         13,       8025,2,20131220,       2112,  22.749667,-158.0000000,       4742,   519.9,   6.9101,  34.0773,2,  34.0760,2,    102.0,2,   100.0,2,   52.58,2,    2.24,2,  -999.0,     521,     6.8613,   30.93,2,     -999.0
33KB20131219,       PRS2,       2,          3,         12,       8012,2,20131220,       2112,  22.749667,-158.0000000,       4742,   546.2,   6.4330,  34.0729,2,  34.0721,2,     92.3,2,    90.7,2,   58.86,2,    2.35,2,  -999.0,     547,     6.3836,   32.62,2,     -999.0
33KB20131219,       PRS2,       2,          3,         11,       8011,2,20131220,       2112,  22.749667,-158.0000000,       4742,   591.4,   5.7066,  34.0869,2,  34.0899,2,     73.1,2,    70.6,2,   71.20,2,    2.58,2,  -999.0,     589,     5.6562,   35.61,2,     -999.0
33KB20131219,       PRS2,       2,          3,         10,       8010,2,20131220,       2112,  22.749667,-158.0000000,       4742,   630.0,   5.9672,  34.2264,2,  34.2289,2,     45.6,2,    44.7,2,   72.57,2,    2.76,2,  -999.0,     630,     5.9120,   37.17,2,     -999.0
33KB20131219,       PRS2,       2,          3,          9,       8009,2,20131220,       2112,  22.749667,-158.0000000,       4742,   684.9,   5.2743,  34.2468,2,  34.2491,2,     39.4,2,    39.3,2,   83.71,2,    2.86,2,  -999.0,     683,     5.2177,   38.90,2,     -999.0
33KB20131219,       PRS2,       2,          3,          8,       8008,2,20131220,       2112,  22.749667,-158.0000000,       4742,   719.6,   5.0904,  34.2852,2,  34.2840,2,     35.9,2,    35.7,2,   87.78,2,    2.91,2,  -999.0,     719,     5.0316,   39.49,2,     -999.0
33KB20131219,       PRS2,       2,          3,          7,       8026,2,20131220,       2112,  22.749667,-158.0000000,       4742,   756.4,   4.8424,  34.3244,2,  34.3246,2,     35.2,2,    34.4,2,   93.03,2,    2.95,2,  -999.0,     755,     4.7818,   39.98,2,     -999.0
33KB20131219,       PRS2,       2,          3,          6,       8006,2,20131220,       2112,  22.749667,-158.0000000,       4742,   800.3,   4.5877,  34.3332,2,  34.3333,2,     35.1,2,    34.9,2,   97.80,2,    2.96,2,  -999.0,     801,     4.5250,   40.16,2,     -999.0
33KB20131219,       PRS2,       2,          3,          5,       8005,2,20131220,       2112,  22.749667,-158.0000000,       4742,   845.4,   4.4002,  34.3862,2,  34.3861,2,     36.0,2,    35.7,2,  102.20,2,    2.98,2,  -999.0,     845,     4.3348,   40.56,2,     -999.0
33KB20131219,       PRS2,       2,          3,          4,       8004,2,20131220,       2112,  22.749667,-158.0000000,       4742,   890.4,   4.3433,  34.4375,2,  34.4379,2,     36.8,2,    37.3,2,  103.26,2,    3.00,2,  -999.0,     889,     4.2744,   40.19,2,     -999.0
33KB20131219,       PRS2,       2,          3,          3,       8003,2,20131220,       2112,  22.749667,-158.0000000,       4742,   932.6,   4.2653,  34.4543,2,  34.4538,2,     38.9,2,    38.8,2,  104.74,2,    3.00,2,  -999.0,     931,     4.1934,   40.82,2,     -999.0
33KB20131219,       PRS2,       2,          3,          2,       8002,2,20131220,       2112,  22.749667,-158.0000000,       4742,   975.6,   4.1855,  34.4729,2,  34.4720,2,     40.5,2,    40.6,2,  106.16,2,    3.01,2,  -999.0,     977,     4.1105,   41.01,2,     -999.0
33KB20131219,       PRS2,       2,          3,          1,       8001,2,20131220,       2112,  22.749667,-158.0000000,       4742,  1020.6,   4.0454,  34.4905,2,  34.4924,2,     42.7,2,    42.8,2,  108.57,2,    2.98,2,  -999.0,    1018,     3.9677,   40.90,2,     -999.0
33KB20131219,       PRS2,       2,          4,         14,       8014,2,20131221,       0051,  22.749000,-157.9888333,       4742,     8.1,  24.9813,  35.4243,2,  35.4253,2,    206.6,1,  -999.0,9, -999.00,9, -999.00,9,  -999.0,       9,    24.9796, -999.00,9,     -999.0
33KB20131219,       PRS2,       2,          4,         13,       8025,2,20131221,       0051,  22.749000,-157.9888333,       4742,    25.5,  24.9849,  35.4235,2,  35.4251,2,    206.7,1,  -999.0,9, -999.00,9, -999.00,9,  -999.0,      25,    24.9793, -999.00,9,     -999.0
33KB20131219,       PRS2,       2,          4,         12,       8012,2,20131221,       0051,  22.749000,-157.9888333,       4742,    46.3,  24.9566,  35.4302,2,  35.4304,2,    205.9,1,  -999.0,9, -999.00,9, -999.00,9,  -999.0,      46,    24.9466, -999.00,9,     -999.0
33KB20131219,       PRS2,       2,          4,         11,       8011,2,20131221,       0051,  22.749000,-157.9888333,       4742,    75.6,  23.8351,  35.4272,2,  35.4671,3,    211.8,1,  -999.0,9, -999.00,9, -999.00,9,  -999.0,      74,    23.8192, -999.00,9,     -999.0
33KB20131219,       PRS2,       2,          4,         10,       8010,2,20131221,       0051,  22.749000,-157.9888333,       4742,    99.7,  21.4713,  35.3049,2,  35.3064,2,    203.2,1,  -999.0,9, -999.00,9, -999.00,9,  -999.0,     101,    21.4519, -999.00,9,     -999.0
33KB20131219,       PRS2,       2,          4,          9,       8009,2,20131221,       0051,  22.749000,-157.9888333,       4742,   125.7,  20.2224,  35.1601,2,  35.1638,2,    198.5,1,  -999.0,9, -999.00,9, -999.00,9,  -999.0,     126,    20.1990, -999.00,9,     -999.0
33KB20131219,       PRS2,       2,          4,          8,       8008,2,20131221,       0051,  22.749000,-157.9888333,       4742,   148.6,  19.3797,  35.0391,2,  35.0423,2,    194.4,1,  -999.0,9, -999.00,9, -999.00,9,  -999.0,     149,    19.3529, -999.00,9,     -999.0
33KB20131219,       PRS2,       2,          4,          7,       8026,2,20131221,       0051,  22.749000,-157.9888333,       4742,   175.2,  16.9759,  34.6962,2,  34.7052,2,    193.7,1,  -999.0,9, -999.00,9, -999.00,9,  -999.0,     174,    16.9471, -999.00,9,     -999.0
33KB20131219,       PRS2,       2,          4,          6,       8006,2,20131221,       0051,  22.749000,-157.9888333,       4742,   202.4,  15.1786,  34.4893,2,  34.4895,2,    198.9,1,  -999.0,9, -999.00,9, -999.00,9,  -999.0,     201,    15.1479, -999.00,9,     -999.0
33KB20131219,       PRS2,       2,          4,          5,       8005,2,20131221,       0051,  22.749000,-157.9888333,       4742,   249.4,  13.4151,  34.3396,2,  34.3395,2,    200.8,1,  -999.0,9, -999.00,9, -999.00,9,  -999.0,     245,    13.3802, -999.00,9,     -999.0
33KB20131219,       PRS2,       2,          4,          4,       8004,2,20131221,       0051,  22.749000,-157.9888333,       4742,   351.7,  10.3376,  34.1545,2,  34.1540,2,    197.6,1,  -999.0,9, -999.00,9, -999.00,9,  -999.0,     352,    10.2960, -999.00,9,     -999.0
33KB20131219,       PRS2,       2,          4,          3,       8003,2,20131221,       0051,  22.749000,-157.9888333,       4742,   351.8,  10.3123,  34.1523,2,  34.1536,2,    197.0,1,  -999.0,9, -999.00,9, -999.00,9,  -999.0,     350,    10.2708, -999.00,9,     -999.0
33KB20131219,       PRS2,       2,          4,          2,       8002,2,20131221,       0051,  22.749000,-157.9888333,       4742,   501.7,   7.1098,  34.0391,2,  34.0403,2,    125.5,1,  -999.0,9, -999.00,9, -999.00,9,  -999.0,     500,     7.0621, -999.00,9,     -999.0
33KB20131219,       PRS2,       2,          4,          1,       8001,2,20131221,       0051,  22.749000,-157.9888333,       4742,  1020.3,   3.9855,  34.4873,2,  34.4877,2,     43.9,1,  -999.0,9, -999.00,9, -999.00,9,  -999.0,    1021,     3.9083, -999.00,9,     -999.0
33KB20131219,       PRS2,       2,          5,         14,       8014,2,20131221,       0250,  22.738833,-158.0328333,       4752,     7.7,  25.0366,  35.3992,2,  35.4011,2,    206.0,1,  -999.0,9, -999.00,9, -999.00,9,  -999.0,       6,    25.0350, -999.00,9,     -999.0
33KB20131219,       PRS2,       2,          5,         13,       8025,2,20131221,       0250,  22.738833,-158.0328333,       4752,    25.0,  25.0390,  35.3981,2,  35.3981,2,    206.0,1,  -999.0,9, -999.00,9, -999.00,9,  -999.0,      23,    25.0336, -999.00,9,     -999.0
33KB20131219,       PRS2,       2,          5,         12,       8012,2,20131221,       0250,  22.738833,-158.0328333,       4752,    44.7,  25.0123,  35.3968,2,  35.3977,2,    206.1,1,  -999.0,9, -999.00,9, -999.00,9,  -999.0,      46,    25.0026, -999.00,9,     -999.0
33KB20131219,       PRS2,       2,          5,         11,       8011,2,20131221,       0250,  22.738833,-158.0328333,       4752,    75.3,  24.3234,  35.4111,2,  35.4091,2,    211.5,1,  -999.0,9, -999.00,9, -999.00,9,  -999.0,      76,    24.3074, -999.00,9,     -999.0
33KB20131219,       PRS2,       2,          5,         10,       8010,2,20131221,       0250,  22.738833,-158.0328333,       4752,   101.4,  22.0212,  35.3164,2,  35.3159,2,    208.9,1,  -999.0,9, -999.00,9, -999.00,9,  -999.0,     100,    22.0011, -999.00,9,     -999.0
33KB20131219,       PRS2,       2,          5,          9,       8009,2,20131221,       0250,  22.738833,-158.0328333,       4752,   125.3,  21.4025,  35.3019,2,  35.3007,2,    204.5,1,  -999.0,9, -999.00,9, -999.00,9,  -999.0,     125,    21.3782, -999.00,9,     -999.0
33KB20131219,       PRS2,       2,          5,          8,       8008,2,20131221,       0250,  22.738833,-158.0328333,       4752,   150.6,  20.7501,  35.2574,2,  35.2544,2,    199.5,1,  -999.0,9, -999.00,9, -999.00,9,  -999.0,     151,    20.7215, -999.00,9,     -999.0
33KB20131219,       PRS2,       2,          5,          7,       8026,2,20131221,       0250,  22.738833,-158.0328333,       4752,   176.1,  19.6756,  35.0835,2,  35.0831,2,    193.3,1,  -999.0,9, -999.00,9, -999.00,9,  -999.0,     176,    19.6434, -999.00,9,     -999.0
33KB20131219,       PRS2,       2,          5,          6,       8006,2,20131221,       0250,  22.738833,-158.0328333,       4752,   198.7,  17.8144,  34.8142,2,  34.8288,2,    192.9,1,  -999.0,9, -999.00,9, -999.00,9,  -999.0,     201,    17.7806, -999.00,9,     -999.0
33KB20131219,       PRS2,       2,          5,          5,       8005,2,20131221,       0250,  22.738833,-158.0328333,       4752,   251.5,  13.7582,  34.3491,2,  34.3513,2,    198.3,1,  -999.0,9, -999.00,9, -999.00,9,  -999.0,     253,    13.7224, -999.00,9,     -999.0
33KB20131219,       PRS2,       2,          5,          4,       8004,2,20131221,       0250,  22.738833,-158.0328333,       4752,   348.1,  10.8323,  34.1890,2,  34.1871,2,    195.8,1,  -999.0,9, -999.00,9, -999.00,9,  -999.0,     352,    10.7899, -999.00,9,     -999.0
33KB20131219,       PRS2,       2,          5,          3,       8003,2,20131221,       0250,  22.738833,-158.0328333,       4752,   349.9,  10.8032,  34.1878,2,  34.1844,2,    195.8,1,  -999.0,9, -999.00,9, -999.00,9,  -999.0,     350,    10.7607, -999.00,9,     -999.0
33KB20131219,       PRS2,       2,          5,          2,       8002,2,20131221,       0250,  22.738833,-158.0328333,       4752,   501.1,   6.8958,  34.0396,2,  34.0386,2,    114.7,1,  -999.0,9, -999.00,9, -999.00,9,  -999.0,     501,     6.8490, -999.00,9,     -999.0
33KB20131219,       PRS2,       2,          5,          1,       8001,2,20131221,       0250,  22.738833,-158.0328333,       4752,  1021.0,   3.9385,  34.4958,2,  34.4964,2,     45.0,1,  -999.0,9, -999.00,9, -999.00,9,  -999.0,    1021,     3.8616, -999.00,9,     -999.0