BOTTLE,20141031SIOCCHAMB
EXPOCODE,SECT_ID,STNNBR,CASTNO,SAMPNO,BTLNBR,BTLNBR_FLAG_W,DATE,TIME,LATITUDE,LONGITUDE,DEPTH,CTDPRS,CTDTMP,CTDSAL,CTDSAL_FLAG_W,SALNTY,SALNTY_FLAG_W,CTDOXY,CTDOXY_FLAG_W,OXYGEN,OXYGEN_FLAG_W,SILCAT,SILCAT_FLAG_W,PHSPHT,PHSPHT_FLAG_W,REVPRS,CTDRAW,THETA,NO2+NO3,NO2+NO3_FLAG_W,REVTMP
,,,,,,,,,,,METERS,DBAR,ITS-90,PSS-78,,PSS-78,,UMOL/KG,,UMOL/KG,,UMOL/KG,,UMOL/KG,,DBAR,DBAR,ITS-90,UMOL/KG,,DEG C
33KB20131219,       PRS2,       2,          6,         24,       8024,2,20131221,       0600,  22.695667,-158.0771667,       4769,     6.8,  25.0280,  35.4349,2,  35.4330,2,    205.7,2,  -999.0,5, -999.00,9, -999.00,9,  -999.0,       8,    25.0265, -999.00,9,     -999.0
33KB20131219,       PRS2,       2,          6,         23,       8023,2,20131221,       0600,  22.695667,-158.0771667,       4769,     6.7,  25.0287,  35.4344,2,  35.4328,2,    205.7,2,   205.6,2, -999.00,9, -999.00,9,  -999.0,       8,    25.0273, -999.00,9,     -999.0
33KB20131219,       PRS2,       2,          6,         22,       8022,2,20131221,       0600,  22.695667,-158.0771667,       4769,    17.1,  25.0308,  35.4342,2,  35.4328,2,    205.7,2,  -999.0,5, -999.00,9, -999.00,9,  -999.0,      17,    25.0271, -999.00,9,     -999.0
33KB20131219,       PRS2,       2,          6,         21,       8021,2,20131221,       0600,  22.695667,-158.0771667,       4769,    25.3,  25.0365,  35.4340,2,  35.4330,2,    205.6,2,  -999.0,5, -999.00,9, -999.00,9,  -999.0,      24,    25.0310, -999.00,9,     -999.0
33KB20131219,       PRS2,       2,          6,         20,       8020,2,20131221,       0600,  22.695667,-158.0771667,       4769,    25.2,  25.0366,  35.4341,2,  35.4330,2,    205.5,2,  -999.0,5, -999.00,9, -999.00,9,  -999.0,      24,    25.0311, -999.00,9,     -999.0
33KB20131219,       PRS2,       2,          6,         19,       8019,2,20131221,       0600,  22.695667,-158.0771667,       4769,    25.2,  25.0367,  35.4339,2,  35.4328,2,    205.4,2,   205.6,2, -999.00,9, -999.00,9,  -999.0,      23,    25.0312, -999.00,9,     -999.0
33KB20131219,       PRS2,       2,          6,         18,       8018,2,20131221,       0600,  22.695667,-158.0771667,       4769,    35.4,  25.0398,  35.4355,2,  35.4348,2,    205.4,2,  -999.0,5, -999.00,9, -999.00,9,  -999.0,      34,    25.0321, -999.00,9,     -999.0
33KB20131219,       PRS2,       2,          6,         17,       8017,2,20131221,       0600,  22.695667,-158.0771667,       4769,    45.6,  25.0334,  35.4422,2,  35.4409,2,    206.2,2,   205.3,2, -999.00,9, -999.00,9,  -999.0,      45,    25.0235, -999.00,9,     -999.0
33KB20131219,       PRS2,       2,          6,         16,       8016,2,20131221,       0600,  22.695667,-158.0771667,       4769,    61.6,  25.0087,  35.4586,2,  35.4582,2,    206.3,2,  -999.0,5, -999.00,9, -999.00,9,  -999.0,      62,    24.9953, -999.00,9,     -999.0
33KB20131219,       PRS2,       2,          6,         15,       8015,2,20131221,       0600,  22.695667,-158.0771667,       4769,    75.2,  24.8895,  35.4724,2,  35.4559,4,    206.6,3,   207.7,2, -999.00,9, -999.00,9,  -999.0,      76,    24.8732, -999.00,9,     -999.0
33KB20131219,       PRS2,       2,          6,         14,       8014,2,20131221,       0600,  22.695667,-158.0771667,       4769,    83.6,  23.2325,  35.3515,2,  35.3413,2,    212.3,2,   213.4,2, -999.00,9, -999.00,9,  -999.0,      85,    23.2153, -999.00,9,     -999.0
33KB20131219,       PRS2,       2,          6,         13,       8025,2,20131221,       0600,  22.695667,-158.0771667,       4769,    91.5,  22.7985,  35.3307,2,  35.3328,2,    213.7,2,  -999.0,5, -999.00,9, -999.00,9,  -999.0,      90,    22.7799, -999.00,9,     -999.0
33KB20131219,       PRS2,       2,          6,         12,       8012,2,20131221,       0600,  22.695667,-158.0771667,       4769,   100.6,  21.9754,  35.2810,2,  35.2769,2,    208.4,2,   207.7,2, -999.00,9, -999.00,9,  -999.0,      99,    21.9556, -999.00,9,     -999.0
33KB20131219,       PRS2,       2,          6,         11,       8011,2,20131221,       0600,  22.695667,-158.0771667,       4769,   110.9,  21.4375,  35.2879,2,  35.2859,2,    207.8,2,  -999.0,5, -999.00,9, -999.00,9,  -999.0,     108,    21.4159, -999.00,9,     -999.0
33KB20131219,       PRS2,       2,          6,         10,       8010,2,20131221,       0600,  22.695667,-158.0771667,       4769,   116.9,  21.2923,  35.2940,2,  35.2915,2,    204.9,2,   203.2,2, -999.00,9, -999.00,9,  -999.0,     114,    21.2697, -999.00,9,     -999.0
33KB20131219,       PRS2,       2,          6,          9,       8009,2,20131221,       0600,  22.695667,-158.0771667,       4769,   124.9,  21.1655,  35.2911,2,  35.2899,2,    202.1,2,   201.9,2, -999.00,9, -999.00,9,  -999.0,     125,    21.1415, -999.00,9,     -999.0
33KB20131219,       PRS2,       2,          6,          8,       8008,2,20131221,       0600,  22.695667,-158.0771667,       4769,   129.5,  21.0375,  35.2840,2,  35.2794,2,    200.4,2,  -999.0,5, -999.00,9, -999.00,9,  -999.0,     129,    21.0127, -999.00,9,     -999.0
33KB20131219,       PRS2,       2,          6,          7,       8026,2,20131221,       0600,  22.695667,-158.0771667,       4769,   149.3,  20.2918,  35.2017,2,  35.2089,2,    198.7,2,   199.5,2, -999.00,9, -999.00,9,  -999.0,     151,    20.2639, -999.00,9,     -999.0
33KB20131219,       PRS2,       2,          6,          6,       8006,2,20131221,       0600,  22.695667,-158.0771667,       4769,   166.1,  19.9272,  35.1436,2,  35.1299,2,    197.7,2,   198.0,2, -999.00,9, -999.00,9,  -999.0,     163,    19.8966, -999.00,9,     -999.0
33KB20131219,       PRS2,       2,          6,          5,       8005,2,20131221,       0600,  22.695667,-158.0771667,       4769,   175.7,  19.4774,  35.0636,2,  35.0734,2,    195.6,2,   196.3,2, -999.00,9, -999.00,9,  -999.0,     175,    19.4455, -999.00,9,     -999.0
33KB20131219,       PRS2,       2,          6,          4,       8004,2,20131221,       0600,  22.695667,-158.0771667,       4769,   200.4,  17.6127,  34.7857,2,  34.7832,2,    191.8,2,   192.7,2, -999.00,9, -999.00,9,  -999.0,     201,    17.5789, -999.00,9,     -999.0
33KB20131219,       PRS2,       2,          6,          3,       8003,2,20131221,       0600,  22.695667,-158.0771667,       4769,   490.3,   7.1882,  34.0411,2,  34.0394,2,    128.1,2,   128.4,2, -999.00,9, -999.00,9,  -999.0,     491,     7.1413, -999.00,9,     -999.0
33KB20131219,       PRS2,       2,          6,          2,       8002,2,20131221,       0600,  22.695667,-158.0771667,       4769,   789.5,   4.5943,  34.3398,2,  34.3388,2,     34.0,2,    34.4,2, -999.00,9, -999.00,9,  -999.0,     789,     4.5325, -999.00,9,     -999.0
33KB20131219,       PRS2,       2,          6,          1,       8001,2,20131221,       0600,  22.695667,-158.0771667,       4769,  1018.4,   3.8643,  34.4720,2,  34.4722,2,     46.3,2,    46.8,2, -999.00,9, -999.00,9,  -999.0,    1021,     3.7882, -999.00,9,     -999.0
33KB20131219,       PRS2,       2,          7,         11,       8011,2,20131221,       0900,  22.694333,-158.0551667,       4768,     8.1,  25.0323,  35.4278,2,  35.4277,2,    205.9,1,  -999.0,9, -999.00,9, -999.00,9,  -999.0,       6,    25.0305, -999.00,9,     -999.0
33KB20131219,       PRS2,       2,          7,         10,       8010,2,20131221,       0900,  22.694333,-158.0551667,       4768,    24.3,  25.0335,  35.4310,2,-999.0000,5,    205.7,1,  -999.0,9, -999.00,9, -999.00,9,  -999.0,      24,    25.0283, -999.00,9,     -999.0
33KB20131219,       PRS2,       2,          7,          9,       8009,2,20131221,       0900,  22.694333,-158.0551667,       4768,    24.1,  25.0332,  35.4299,2,  35.4358,2,    205.7,1,  -999.0,9, -999.00,9, -999.00,9,  -999.0,      25,    25.0280, -999.00,9,     -999.0
33KB20131219,       PRS2,       2,          7,          8,       8008,2,20131221,       0900,  22.694333,-158.0551667,       4768,    45.3,  24.5650,  35.4476,2,  35.4466,2,    208.9,1,  -999.0,9, -999.00,9, -999.00,9,  -999.0,      46,    24.5552, -999.00,9,     -999.0
33KB20131219,       PRS2,       2,          7,          7,       8026,2,20131221,       0900,  22.694333,-158.0551667,       4768,    73.9,  22.4235,  35.3069,2,  35.3157,2,    212.5,1,  -999.0,9, -999.00,9, -999.00,9,  -999.0,      74,    22.4087, -999.00,9,     -999.0
33KB20131219,       PRS2,       2,          7,          6,       8006,2,20131221,       0900,  22.694333,-158.0551667,       4768,    97.9,  21.3283,  35.3024,2,  35.3080,2,    203.8,1,  -999.0,9, -999.00,9, -999.00,9,  -999.0,      96,    21.3093, -999.00,9,     -999.0
33KB20131219,       PRS2,       2,          7,          5,       8005,2,20131221,       0900,  22.694333,-158.0551667,       4768,   125.1,  20.6141,  35.2411,2,  35.2434,2,    199.4,1,  -999.0,9, -999.00,9, -999.00,9,  -999.0,     126,    20.5905, -999.00,9,     -999.0
33KB20131219,       PRS2,       2,          7,          4,       8004,2,20131221,       0900,  22.694333,-158.0551667,       4768,   148.3,  19.8475,  35.1183,2,  35.1262,2,    196.6,1,  -999.0,9, -999.00,9, -999.00,9,  -999.0,     147,    19.8202, -999.00,9,     -999.0
33KB20131219,       PRS2,       2,          7,          3,       8003,2,20131221,       0900,  22.694333,-158.0551667,       4768,   175.1,  18.7403,  34.9423,2,  34.9481,2,    191.4,1,  -999.0,9, -999.00,9, -999.00,9,  -999.0,     175,    18.7094, -999.00,9,     -999.0
33KB20131219,       PRS2,       2,          7,          2,       8002,2,20131221,       0900,  22.694333,-158.0551667,       4768,   492.1,   7.3575,  34.0796,2,  34.0731,2,    120.5,1,  -999.0,9, -999.00,9, -999.00,9,  -999.0,     491,     7.3098, -999.00,9,     -999.0
33KB20131219,       PRS2,       2,          7,          1,       8001,2,20131221,       0900,  22.694333,-158.0551667,       4768,  1021.3,   4.0132,  34.4864,2,  34.4864,2,     44.1,1,  -999.0,9, -999.00,9, -999.00,9,  -999.0,    1020,     3.9357, -999.00,9,     -999.0
33KB20131219,       PRS2,       2,          8,         15,       8015,2,20131221,       1156,  22.708667,-158.0421667,       4761,     7.7,  25.0197,  35.4200,2,  35.4194,2,    205.4,1,  -999.0,9, -999.00,9, -999.00,9,  -999.0,       6,    25.0180, -999.00,9,     -999.0
33KB20131219,       PRS2,       2,          8,         14,       8014,2,20131221,       1156,  22.708667,-158.0421667,       4761,     7.7,  25.0194,  35.4199,2,  35.4192,2,    205.3,1,  -999.0,9, -999.00,9, -999.00,9,  -999.0,       7,    25.0177, -999.00,9,     -999.0
33KB20131219,       PRS2,       2,          8,         13,       8025,3,20131221,       1156,  22.708667,-158.0421667,       4761,    24.0,  25.0244,  35.4199,2,-999.0000,5,    205.2,1,  -999.0,9, -999.00,9, -999.00,9,  -999.0,      24,    25.0192, -999.00,9,     -999.0
33KB20131219,       PRS2,       2,          8,         12,       8012,2,20131221,       1156,  22.708667,-158.0421667,       4761,    23.8,  25.0242,  35.4198,2,  35.4204,2,    205.2,1,  -999.0,9, -999.00,9, -999.00,9,  -999.0,      23,    25.0191, -999.00,9,     -999.0
33KB20131219,       PRS2,       2,          8,         11,       8011,2,20131221,       1156,  22.708667,-158.0421667,       4761,    23.6,  25.0235,  35.4199,2,  35.4210,2,    205.2,1,  -999.0,9, -999.00,9, -999.00,9,  -999.0,      24,    25.0184, -999.00,9,     -999.0
33KB20131219,       PRS2,       2,          8,         10,       8010,2,20131221,       1156,  22.708667,-158.0421667,       4761,    43.8,  25.0234,  35.4479,2,  35.4462,2,    205.8,1,  -999.0,9, -999.00,9, -999.00,9,  -999.0,      46,    25.0139, -999.00,9,     -999.0
33KB20131219,       PRS2,       2,          8,          9,       8009,2,20131221,       1156,  22.708667,-158.0421667,       4761,    44.1,  25.0226,  35.4473,2,  35.4448,2,    205.7,1,  -999.0,9, -999.00,9, -999.00,9,  -999.0,      45,    25.0130, -999.00,9,     -999.0
33KB20131219,       PRS2,       2,          8,          8,       8008,2,20131221,       1156,  22.708667,-158.0421667,       4761,    73.9,  23.1829,  35.3469,2,  35.3494,2,    213.2,1,  -999.0,9, -999.00,9, -999.00,9,  -999.0,      74,    23.1677, -999.00,9,     -999.0
33KB20131219,       PRS2,       2,          8,          7,       8026,3,20131221,       1156,  22.708667,-158.0421667,       4761,    73.6,  23.2074,  35.3478,2,  35.3484,2,    213.1,1,  -999.0,9, -999.00,9, -999.00,9,  -999.0,      74,    23.1922, -999.00,9,     -999.0
33KB20131219,       PRS2,       2,          8,          6,       8006,2,20131221,       1156,  22.708667,-158.0421667,       4761,    98.9,  22.2232,  35.2922,2,  35.2946,2,    212.6,1,  -999.0,9, -999.00,9, -999.00,9,  -999.0,     102,    22.2035, -999.00,9,     -999.0
33KB20131219,       PRS2,       2,          8,          5,       8005,2,20131221,       1156,  22.708667,-158.0421667,       4761,    99.9,  22.2044,  35.2914,2,  35.2936,2,    212.7,1,  -999.0,9, -999.00,9, -999.00,9,  -999.0,     101,    22.1844, -999.00,9,     -999.0
33KB20131219,       PRS2,       2,          8,          4,       8004,2,20131221,       1156,  22.708667,-158.0421667,       4761,   126.0,  21.2928,  35.2945,2,  35.2980,2,    202.5,1,  -999.0,9, -999.00,9, -999.00,9,  -999.0,     128,    21.2684, -999.00,9,     -999.0
33KB20131219,       PRS2,       2,          8,          3,       8003,2,20131221,       1156,  22.708667,-158.0421667,       4761,   126.4,  21.2832,  35.2941,2,  35.2989,2,    202.5,1,  -999.0,9, -999.00,9, -999.00,9,  -999.0,     128,    21.2588, -999.00,9,     -999.0
33KB20131219,       PRS2,       2,          8,          2,       8002,2,20131221,       1156,  22.708667,-158.0421667,       4761,   489.9,   7.0705,  34.0844,2,  34.0925,2,    113.8,1,  -999.0,9, -999.00,9, -999.00,9,  -999.0,     489,     7.0240, -999.00,9,     -999.0
33KB20131219,       PRS2,       2,          8,          1,       8001,2,20131221,       1156,  22.708667,-158.0421667,       4761,  1019.7,   3.9768,  34.4796,2,  34.4813,2,     44.0,1,  -999.0,9, -999.00,9, -999.00,9,  -999.0,    1020,     3.8997, -999.00,9,     -999.0