BOTTLE,20130611PRINUNIVRMK
EXPOCODE,SECT_ID,STNNBR,CASTNO,SAMPNO,BTLNBR,BTLNBR_FLAG_W,DATE,TIME,LATITUDE,LONGITUDE,DEPTH,CTDPRS,CTDTMP,CTDSAL,CTDSAL_FLAG_W,SALNTY,SALNTY_FLAG_W,CTDOXY,CTDOXY_FLAG_W,OXYGEN,OXYGEN_FLAG_W,SILCAT,SILCAT_FLAG_W,NITRAT,NITRAT_FLAG_W,PHSPHT,PHSPHT_FLAG_W,CFC-11,CFC-11_FLAG_W,CFC-12,CFC-12_FLAG_W,CFC113,CFC113_FLAG_W,CCL4,CCL4_FLAG_W,MCHFRM,MCHFRM_FLAG_W,TCARBN,TCARBN_FLAG_W,ALKALI,ALKALI_FLAG_W,BTL_DATE,BTL_TIME
,,,,,,,,,,,METERS,DBAR,ITS-90,PSS-78,,PSS-78,,UMOL/KG,,UMOL/KG,,UMOL/KG,,UMOL/KG,,UMOL/KG,,PMOL/KG,,PMOL/KG,,PMOL/KG,,PMOL/KG,,PMOL/KG,,UMOL/KG,,UMOL/KG,,,
  18HU20020623, AR07W,    59,  1, 253228,      1,2,20020628,1345, 47.0113, -46.6527,  882,    885.5,   3.5225,  34.8678,2,  34.8680,6,    271.9,2,    277.2,6,    10.18,6,    16.47,6,     1.18,6,    4.331,2,    3.343,4,    0.447,4,    6.050,4,   10.335,2,   2017.5,4,   2312.8,3, 20020628,     1345
  18HU20020623, AR07W,    59,  1, 253229,      2,2,20020628,1345, 47.0113, -46.6527,  882,    833.5,   3.5204,  34.8680,2,  34.8680,2,    271.8,2,    280.5,2,    10.22,6,    16.77,6,     1.19,6,    4.387,2,    3.550,4,    0.213,4,    5.970,4,   10.228,2,   2158.8,2,   2323.5,3, 20020628,     1347
  18HU20020623, AR07W,    59,  1, 253230,      3,2,20020628,1345, 47.0113, -46.6527,  882,    753.8,   3.5296,  34.8675,2,  34.8682,2,    271.8,2,    280.9,2,    10.19,6,    16.84,6,     1.20,6,    4.256,2,    3.301,4,    0.381,4,    5.668,4,    9.657,2,   2160.7,2,   2328.7,2, 20020628,     1350
  18HU20020623, AR07W,    59,  1, 253231,      4,2,20020628,1345, 47.0113, -46.6527,  882,    600.3,   3.6117,  34.8661,2,-999.0000,9,    272.7,2,    283.0,2,     9.60,6,    16.65,6,     1.17,6,    4.707,2,    3.688,4,    0.326,4,    6.578,4,    9.810,2,   2159.9,2,   2338.4,2, 20020628,     1353
  18HU20020623, AR07W,    59,  1, 253232,      5,2,20020628,1345, 47.0113, -46.6527,  882,    451.5,   3.7776,  34.8673,2,-999.0000,9,    268.9,2,    279.2,2,     9.30,6,    15.93,6,     1.20,6,    4.436,2,    3.145,4,    0.591,4,    5.901,4,    8.310,2,   2161.5,2,   2326.5,2, 20020628,     1356
  18HU20020623, AR07W,    59,  1, 253233,      6,2,20020628,1345, 47.0113, -46.6527,  882,    299.6,   3.8158,  34.8288,2,-999.0000,9,    266.9,2,    279.3,2,     9.44,6,    16.39,6,     1.16,6,    4.319,2,    3.042,4,    0.391,4,    5.944,4,    7.357,2,   2162.6,2,   2320.3,2, 20020628,     1359
  18HU20020623, AR07W,    59,  1, 253234,      7,2,20020628,1345, 47.0113, -46.6527,  882,    201.2,   3.7505,  34.7526,2,-999.0000,9,    263.4,2,    275.6,2,     9.84,6,    16.21,6,     1.19,6,    4.796,2,    3.840,4,    0.409,4,    6.660,4,    7.310,2,   2159.4,2,   2305.7,2, 20020628,     1402
  18HU20020623, AR07W,    59,  1, 253235,      8,2,20020628,1345, 47.0113, -46.6527,  882,     99.6,   3.7656,  34.4727,2,-999.0000,9,    286.4,2,    299.1,2,     6.25,6,     9.31,6,     1.01,6,    4.912,2,    2.980,4,    1.321,4,    8.768,4,    5.987,2,   2136.7,2,   2308.7,2, 20020628,     1405
  18HU20020623, AR07W,    59,  1, 253236,      9,2,20020628,1345, 47.0113, -46.6527,  882,     50.6,   4.7990,  34.1476,2,-999.0000,9,    308.3,2,    321.7,2,     1.37,6,     1.10,6,     0.49,6,    5.558,2,    3.389,4,    0.782,4,   10.231,4,    6.167,2,   2073.6,2,   2289.6,2, 20020628,     1406
  18HU20020623, AR07W,    59,  1, 253237,     10,2,20020628,1345, 47.0113, -46.6527,  882,      3.2,   6.1220,  33.5811,2,  33.5829,2,    310.6,2,    321.8,2,     0.70,6,     0.00,6,     0.27,6,    6.131,2,    4.331,4,    0.598,4,   10.982,4,    5.192,2,   2022.2,2,   2264.6,2, 20020628,     1409
  18HU20020623, AR07W,    60,  1, 253238,      1,2,20020628,1532, 47.0018, -46.4985,  180,    348.3,   3.7227,  34.8380,2,  34.8364,6,    251.6,2,    261.7,2,    12.40,6,    16.51,6,     1.23,6,    4.424,2,    3.199,4,    0.526,4,    5.717,4,    8.048,2,   2178.1,2,   2314.8,2, 20020628,     1532
  18HU20020623, AR07W,    60,  1, 253239,      2,2,20020628,1532, 47.0018, -46.4985,  180,    250.5,   3.7093,  34.7780,2,  34.7777,6,    259.3,2,    269.8,2,    10.56,6,    16.89,6,     1.21,6,    4.579,2,    3.129,4,    0.384,4,    6.065,4,    7.840,2,   2163.0,2,   2304.8,2, 20020628,     1535
  18HU20020623, AR07W,    60,  1, 253240,      3,2,20020628,1532, 47.0018, -46.4985,  180,    150.7,   3.7154,  34.5710,2,-999.0000,9,    265.2,2,   -999.0,9,  -999.00,9,  -999.00,9,  -999.00,9, -999.000,9, -999.000,9, -999.000,9, -999.000,9, -999.000,9,   -999.0,9,   -999.0,9, 20020628,     1537
  18HU20020623, AR07W,    60,  1, 253241,      4,2,20020628,1532, 47.0018, -46.4985,  180,    100.2,   3.5498,  34.3448,2,  34.3523,2,    290.6,2,    303.4,2,     6.63,6,     9.85,6,     1.00,6,    6.084,2,    3.984,4,    0.706,4,    9.452,4,    6.146,2,   2131.5,2,   2272.2,2, 20020628,     1539
  18HU20020623, AR07W,    60,  1, 253242,      5,2,20020628,1532, 47.0018, -46.4985,  180,     79.5,   4.0471,  34.3057,2,-999.0000,9,    300.6,2,   -999.0,9,  -999.00,9,  -999.00,9,  -999.00,9, -999.000,9, -999.000,9, -999.000,9, -999.000,9, -999.000,9,   -999.0,9,   -999.0,9, 20020628,     1540
  18HU20020623, AR07W,    60,  1, 253243,      6,2,20020628,1532, 47.0018, -46.4985,  180,     61.3,   5.2171,  34.2047,2,-999.0000,9,    305.5,2,   -999.0,9,  -999.00,9,  -999.00,9,  -999.00,9, -999.000,9, -999.000,9, -999.000,9, -999.000,9, -999.000,9,   -999.0,9,   -999.0,9, 20020628,     1542
  18HU20020623, AR07W,    60,  1, 253244,      7,2,20020628,1532, 47.0018, -46.4985,  180,     50.0,   5.5023,  34.1857,2,  34.1834,2,    307.0,2,    318.7,2,     0.84,6,     0.00,6,     0.31,6,    5.492,2,    4.155,4,    0.417,4,    8.838,4,    5.093,2,   2051.9,2,   2276.5,2, 20020628,     1543
  18HU20020623, AR07W,    60,  1, 253245,      8,2,20020628,1532, 47.0018, -46.4985,  180,     40.6,   6.5497,  33.9304,2,-999.0000,9,    302.9,2,   -999.0,9,  -999.00,9,  -999.00,9,  -999.00,9, -999.000,9, -999.000,9, -999.000,9, -999.000,9, -999.000,9,   -999.0,9,   -999.0,9, 20020628,     1544
  18HU20020623, AR07W,    60,  1, 253246,      9,2,20020628,1532, 47.0018, -46.4985,  180,     29.7,   6.7706,  33.8740,2,-999.0000,9,    301.0,2,   -999.0,9,  -999.00,9,  -999.00,9,  -999.00,9, -999.000,9, -999.000,9, -999.000,9, -999.000,9, -999.000,9,   -999.0,9,   -999.0,9, 20020628,     1546
  18HU20020623, AR07W,    60,  1, 253247,     10,2,20020628,1532, 47.0018, -46.4985,  180,     20.4,   6.7857,  33.8682,2,-999.0000,9,    300.9,2,   -999.0,9,  -999.00,9,  -999.00,9,  -999.00,9, -999.000,9, -999.000,9, -999.000,9, -999.000,9, -999.000,9,   -999.0,9,   -999.0,9, 20020628,     1547
  18HU20020623, AR07W,    60,  1, 253248,     11,2,20020628,1532, 47.0018, -46.4985,  180,      9.6,   6.8037,  33.8610,2,  33.8615,2,    300.7,2,    311.5,2,     0.78,6,     0.00,6,     0.24,6,    5.290,2,    4.071,4,    0.632,4,    9.153,4,    4.843,2,   2032.7,2,   2273.4,2, 20020628,     1548
  18HU20020623, AR07W,    60,  1, 253249,     12,2,20020628,1532, 47.0018, -46.4985,  180,      5.9,   6.7988,  33.8592,2,-999.0000,9,    300.8,2,   -999.0,9,  -999.00,9,  -999.00,9,  -999.00,9, -999.000,9, -999.000,9, -999.000,9, -999.000,9, -999.000,9,   -999.0,9,   -999.0,9, 20020628,     1549
  18HU20020623, AR07W,    63,  1, 253250,      1,2,20020628,1953, 47.6662, -46.4953, 1120,   1162.8,   3.4194,  34.8791,2,  34.8800,2,    271.2,2,    280.0,2,    10.94,6,    16.83,6,     1.16,6,    4.324,2,    2.241,4,    0.201,4,    4.150,4,    8.687,2,   2162.1,2,   2319.6,2, 20020628,     1953
  18HU20020623, AR07W,    63,  1, 253251,      2,2,20020628,1953, 47.6662, -46.4953, 1120,   1000.4,   3.4826,  34.8695,2,  34.8711,2,    273.9,2,    282.7,2,    10.07,6,    16.56,6,     1.16,6,    4.642,2,    2.387,4,    0.229,4,    4.468,4,    8.041,2,   2159.8,2,   2306.0,2, 20020628,     1956
  18HU20020623, AR07W,    63,  1, 253252,      3,2,20020628,1953, 47.6662, -46.4953, 1120,    851.3,   3.5563,  34.8635,2,  34.8644,2,    275.4,2,    285.1,2,     9.77,6,    16.58,6,     1.16,6,    4.908,2,    2.526,4,    0.238,4,    4.771,4,    7.397,2,   2158.3,2,   2297.6,2, 20020628,     1959
  18HU20020623, AR07W,    63,  1, 253253,      4,2,20020628,1953, 47.6662, -46.4953, 1120,    850.4,   3.5568,  34.8636,2,  34.8632,2,    275.4,2,    285.2,2,     9.80,6,    16.55,6,     1.16,6,    4.909,2,    2.543,4,    0.301,4,    4.710,4,    7.239,2,   2158.1,2,   -999.0,9, 20020628,     1959
  18HU20020623, AR07W,    63,  1, 253254,      5,2,20020628,1953, 47.6662, -46.4953, 1120,    701.4,   3.4503,  34.8392,2,  34.8400,2,    279.3,2,    289.8,2,     8.97,6,    16.31,6,     1.15,6,    5.239,2,    2.704,4,    0.302,4,    5.209,4,    6.793,2,   2156.4,2,   2319.9,2, 20020628,     2002
  18HU20020623, AR07W,    63,  1, 253255,      6,2,20020628,1953, 47.6662, -46.4953, 1120,    551.0,   3.5171,  34.8333,2,  34.8335,2,    278.4,2,    289.2,2,     9.01,6,    16.19,6,     1.15,6,    5.281,2,    2.716,4,    0.297,4,    5.196,4,    6.560,2,   2156.7,2,   2280.4,2, 20020628,     2005
  18HU20020623, AR07W,    63,  1, 253256,      7,2,20020628,1953, 47.6662, -46.4953, 1120,    399.9,   3.5352,  34.8040,2,  34.8022,2,    280.2,2,    291.5,2,     8.73,6,    15.83,6,     1.13,6,    5.447,2,    2.785,4,    0.399,4,    5.373,4,    5.886,2,   2155.8,2,   2304.6,2, 20020628,     2008
  18HU20020623, AR07W,    63,  1, 253257,      8,2,20020628,1953, 47.6662, -46.4953, 1120,    300.0,   3.4752,  34.7665,2,  34.7647,2,    279.5,2,    291.0,2,     8.67,6,    15.46,6,     1.12,6,    5.610,2,    2.869,4,    0.411,4,    5.557,4,    5.759,2,   2154.3,2,   2298.3,2, 20020628,     2010
  18HU20020623, AR07W,    63,  1, 253258,      9,2,20020628,1953, 47.6662, -46.4953, 1120,    199.7,   3.1604,  34.6856,2,-999.0000,9,    281.2,2,   -999.0,9,  -999.00,9,  -999.00,9,  -999.00,9, -999.000,9, -999.000,9, -999.000,9, -999.000,9, -999.000,9,   -999.0,9,   -999.0,9, 20020628,     2012
  18HU20020623, AR07W,    63,  1, 253259,     10,2,20020628,1953, 47.6662, -46.4953, 1120,    148.9,   2.6162,  34.5551,2,-999.0000,9,    286.1,2,   -999.0,9,  -999.00,9,  -999.00,9,  -999.00,9, -999.000,9, -999.000,9, -999.000,9, -999.000,9, -999.000,9,   -999.0,9,   -999.0,9, 20020628,     2013
  18HU20020623, AR07W,    63,  1, 253260,     11,2,20020628,1953, 47.6662, -46.4953, 1120,    100.1,   3.2230,  34.3869,2,  34.3915,2,    307.3,2,    323.1,2,     3.78,6,     7.26,6,     0.76,6,    6.406,2,    3.188,4,    0.502,4,    6.674,4,    5.323,2,   2111.0,2,   2262.3,2, 20020628,     2015
  18HU20020623, AR07W,    63,  1, 253261,     12,2,20020628,1953, 47.6662, -46.4953, 1120,     80.0,   1.4287,  34.0439,2,-999.0000,9,    299.3,2,   -999.0,9,  -999.00,9,  -999.00,9,  -999.00,9, -999.000,9, -999.000,9, -999.000,9, -999.000,9, -999.000,9,   -999.0,9,   -999.0,9, 20020628,     2016
  18HU20020623, AR07W,    63,  1, 253262,     13,2,20020628,1953, 47.6662, -46.4953, 1120,     59.6,   4.3941,  34.1246,2,-999.0000,9,    324.2,2,   -999.0,9,  -999.00,9,  -999.00,9,  -999.00,9, -999.000,9, -999.000,9, -999.000,9, -999.000,9, -999.000,9,   -999.0,9,   -999.0,9, 20020628,     2016
  18HU20020623, AR07W,    63,  1, 253263,     14,2,20020628,1953, 47.6662, -46.4953, 1120,     48.8,   2.8161,  33.7505,2,  33.7554,2,    330.3,2,    348.5,2,     1.99,6,     2.93,6,     0.55,6,    7.064,2,    3.395,4,    0.559,4,    7.910,4,    5.381,2,   2067.2,2,   2268.0,2, 20020628,     2017
  18HU20020623, AR07W,    63,  1, 253264,     15,2,20020628,1953, 47.6662, -46.4953, 1120,     40.0,   2.7346,  33.5903,2,-999.0000,9,    335.4,2,   -999.0,9,  -999.00,9,  -999.00,9,  -999.00,9, -999.000,9, -999.000,9, -999.000,9, -999.000,9, -999.000,9,   -999.0,9,   -999.0,9, 20020628,     2018
  18HU20020623, AR07W,    63,  1, 253265,     16,2,20020628,1953, 47.6662, -46.4953, 1120,     29.0,   4.7483,  33.2505,2,-999.0000,9,    327.5,2,   -999.0,9,  -999.00,9,  -999.00,9,  -999.00,9, -999.000,9, -999.000,9, -999.000,9, -999.000,9, -999.000,9,   -999.0,9,   -999.0,9, 20020628,     2019
  18HU20020623, AR07W,    63,  1, 253266,     17,2,20020628,1953, 47.6662, -46.4953, 1120,     19.6,   4.7426,  33.2347,2,  33.2337,2,    325.0,2,    340.6,2,     0.76,6,     0.18,6,     0.37,6,    6.964,2,    3.371,4,    0.505,4,    8.577,4,    4.916,2,   2015.6,2,   2258.4,2, 20020628,     2020
  18HU20020623, AR07W,    63,  1, 253267,     18,2,20020628,1953, 47.6662, -46.4953, 1120,      9.7,   4.7439,  33.2340,2,-999.0000,9,    325.2,2,   -999.0,9,  -999.00,9,  -999.00,9,  -999.00,9, -999.000,9, -999.000,9, -999.000,9, -999.000,9, -999.000,9,   -999.0,9,   -999.0,9, 20020628,     2021
  18HU20020623, AR07W,    63,  1, 253268,     19,2,20020628,1953, 47.6662, -46.4953, 1120,      6.6,   4.7444,  33.2340,2,-999.0000,9,    325.2,2,   -999.0,9,  -999.00,9,  -999.00,9,  -999.00,9, -999.000,9, -999.000,9, -999.000,9, -999.000,9, -999.000,9,   -999.0,9,   -999.0,9, 20020628,     2021
  18HU20020623, AR07W,    66,  1, 253269,      1,2,20020628,2230, 47.7785, -46.6633, 1040,   1082.7,   3.4541,  34.8755,2,  34.8760,2,    270.4,2,    280.2,2,    11.34,6,    16.54,6,     1.18,6,    4.083,2,    2.516,4,    0.551,4,    5.441,4,   10.472,2,   2164.3,2,   2299.1,2, 20020628,     2230
  18HU20020623, AR07W,    66,  1, 253270,      2,2,20020628,2230, 47.7785, -46.6633, 1040,    979.4,   3.5090,  34.8711,2,  34.8711,6,    273.4,2,    282.2,2,    10.11,6,    16.42,6,     1.18,6,    4.161,2,    2.649,4,    0.357,4,    5.768,4,   10.118,2,   2159.8,2,   2313.6,2, 20020628,     2233
  18HU20020623, AR07W,    66,  1, 253271,      3,2,20020628,2230, 47.7785, -46.6633, 1040,    851.0,   3.4986,  34.8546,2,  34.8549,2,    278.2,2,    287.8,2,     9.15,6,    16.42,6,     1.16,6,    4.600,2,    3.005,4,    0.549,4,    6.590,4,    9.061,2,   2158.6,2,   2306.2,2, 20020628,     2236
  18HU20020623, AR07W,    66,  1, 253272,      4,2,20020628,2230, 47.7785, -46.6633, 1040,    700.8,   3.4666,  34.8390,2,  34.8396,2,    279.3,2,    290.0,2,     9.07,6,    16.25,6,     1.14,6,    4.639,2,    2.738,4,    0.291,4,    7.179,4,    8.932,2,   2157.4,2,   2304.4,2, 20020628,     2239
  18HU20020623, AR07W,    66,  1, 253273,      5,2,20020628,2230, 47.7785, -46.6633, 1040,    550.4,   3.6212,  34.8411,2,  34.8409,2,    276.6,2,    287.3,2,     9.19,6,    16.25,6,     1.15,6,    4.448,2,    2.704,4,    0.150,4,    6.905,4,    8.685,2,   2156.2,2,   2303.3,2, 20020628,     2242
  18HU20020623, AR07W,    66,  1, 253274,      6,2,20020628,2230, 47.7785, -46.6633, 1040,    399.6,   3.4881,  34.7866,2,  34.7863,2,    278.4,2,    289.5,2,     9.24,6,    15.81,6,     1.15,6,    4.841,2,    2.716,4,    0.435,4,    6.976,4,    7.298,2,   2154.9,2,   2321.2,2, 20020628,     2245
  18HU20020623, AR07W,    66,  1, 253275,      7,2,20020628,2230, 47.7785, -46.6633, 1040,    300.6,   3.1687,  34.6936,2,  34.6927,2,    279.4,2,    292.4,2,     8.99,6,    15.47,6,     1.13,6,    5.201,2,    3.018,4,    0.164,4,    8.019,4,    7.405,2,   2153.9,2,   2303.4,2, 20020628,     2247
  18HU20020623, AR07W,    66,  1, 253276,      8,2,20020628,2230, 47.7785, -46.6633, 1040,    202.7,   2.5980,  34.5439,2,  34.5400,2,    284.1,2,    298.5,2,     9.59,6,    15.14,6,     1.14,6,    5.523,2,    2.754,4,    0.964,4,    8.845,4,    7.236,2,   2153.3,2,   2306.9,2, 20020628,     2249
  18HU20020623, AR07W,    66,  1, 253277,      9,2,20020628,2230, 47.7785, -46.6633, 1040,    151.4,   2.0369,  34.3781,2,-999.0000,9,    280.1,2,   -999.0,9,  -999.00,9,  -999.00,9,  -999.00,9, -999.000,9, -999.000,9, -999.000,9, -999.000,9, -999.000,9,   -999.0,9,   -999.0,9, 20020628,     2251
  18HU20020623, AR07W,    66,  1, 253278,     10,2,20020628,2230, 47.7785, -46.6633, 1040,     99.5,   1.1806,  34.0622,2,-999.0000,9,    287.8,2,    303.2,2,    10.69,6,    13.11,6,     1.12,6,    6.427,2,    3.110,4,    0.659,4,    9.987,4,    8.533,2,   2140.5,2,   2267.3,2, 20020628,     2252
  18HU20020623, AR07W,    66,  1, 253279,     11,2,20020628,2230, 47.7785, -46.6633, 1040,     81.0,   0.4686,  33.8261,2,-999.0000,9,    295.0,2,   -999.0,9,  -999.00,9,  -999.00,9,  -999.00,9, -999.000,9, -999.000,9, -999.000,9, -999.000,9, -999.000,9,   -999.0,9,   -999.0,9, 20020628,     2253
  18HU20020623, AR07W,    66,  1, 253280,     12,2,20020628,2230, 47.7785, -46.6633, 1040,     61.6,  -0.1938,  33.6087,2,-999.0000,9,    306.0,2,   -999.0,9,  -999.00,9,  -999.00,9,  -999.00,9, -999.000,9, -999.000,9, -999.000,9, -999.000,9, -999.000,9,   -999.0,9,   -999.0,9, 20020628,     2254
  18HU20020623, AR07W,    66,  1, 253281,     13,2,20020628,2230, 47.7785, -46.6633, 1040,     51.2,  -0.7103,  33.4309,2,-999.0000,9,    316.9,2,    340.6,2,     8.32,6,     9.47,6,     1.04,6,    7.966,2,    3.747,4,    0.806,4,   13.683,4,    8.477,2,   2121.7,2,   2255.7,2, 20020628,     2255
  18HU20020623, AR07W,    66,  1, 253282,     14,2,20020628,2230, 47.7785, -46.6633, 1040,     40.6,  -1.0597,  33.2889,2,-999.0000,9,    324.2,2,   -999.0,9,  -999.00,9,  -999.00,9,  -999.00,9, -999.000,9, -999.000,9, -999.000,9, -999.000,9, -999.000,9,   -999.0,9,   -999.0,9, 20020628,     2255
  18HU20020623, AR07W,    66,  1, 253283,     15,2,20020628,2230, 47.7785, -46.6633, 1040,     30.0,   2.9482,  33.1979,2,-999.0000,9,    333.7,2,   -999.0,9,  -999.00,9,  -999.00,9,  -999.00,9, -999.000,9, -999.000,9, -999.000,9, -999.000,9, -999.000,9,   -999.0,9,   -999.0,9, 20020628,     2256
  18HU20020623, AR07W,    66,  1, 253284,     16,2,20020628,2230, 47.7785, -46.6633, 1040,     20.7,   4.1641,  33.1876,2,-999.0000,9,    333.2,2,   -999.0,9,  -999.00,9,  -999.00,9,  -999.00,9, -999.000,9, -999.000,9, -999.000,9, -999.000,9, -999.000,9,   -999.0,9,   -999.0,9, 20020628,     2257
  18HU20020623, AR07W,    66,  1, 253285,     17,2,20020628,2230, 47.7785, -46.6633, 1040,     10.1,   4.1659,  33.1908,2,-999.0000,9,    333.4,2,   -999.0,9,  -999.00,9,  -999.00,9,  -999.00,9, -999.000,9, -999.000,9, -999.000,9, -999.000,9, -999.000,9,   -999.0,9,   -999.0,9, 20020628,     2258
  18HU20020623, AR07W,    66,  1, 253286,     18,2,20020628,2230, 47.7785, -46.6633, 1040,      3.1,   4.1551,  33.1929,2,-999.0000,9,    332.5,2,    348.1,2,     0.83,6,     0.38,6,     0.43,6,    6.461,2,    4.629,4,    0.563,4,   12.090,4,    6.077,2,   2017.8,2,   2249.1,2, 20020628,     2258