BOTTLE,20130611PRINUNIVRMK
EXPOCODE,SECT_ID,STNNBR,CASTNO,SAMPNO,BTLNBR,BTLNBR_FLAG_W,DATE,TIME,LATITUDE,LONGITUDE,DEPTH,CTDPRS,CTDTMP,CTDSAL,CTDSAL_FLAG_W,SALNTY,SALNTY_FLAG_W,CTDOXY,CTDOXY_FLAG_W,OXYGEN,OXYGEN_FLAG_W,SILCAT,SILCAT_FLAG_W,NITRAT,NITRAT_FLAG_W,PHSPHT,PHSPHT_FLAG_W,CFC-11,CFC-11_FLAG_W,CFC-12,CFC-12_FLAG_W,CFC113,CFC113_FLAG_W,CCL4,CCL4_FLAG_W,MCHFRM,MCHFRM_FLAG_W,TCARBN,TCARBN_FLAG_W,ALKALI,ALKALI_FLAG_W,BTL_DATE,BTL_TIME
,,,,,,,,,,,METERS,DBAR,ITS-90,PSS-78,,PSS-78,,UMOL/KG,,UMOL/KG,,UMOL/KG,,UMOL/KG,,UMOL/KG,,PMOL/KG,,PMOL/KG,,PMOL/KG,,PMOL/KG,,PMOL/KG,,UMOL/KG,,UMOL/KG,,,
  18HU20020623, AR07W,   264,  1, 254140,      1,2,20020709,1537, 58.6720, -47.0048, 2657,   2735.6,   1.5227,  34.8805,2,  34.8819,6,    290.0,2,    295.2,2,     8.99,6,    14.23,6,     0.95,6,    4.226,2,    2.584,4,    0.213,4,    6.366,4,    7.496,2,   2155.3,2,   2309.3,2, 20020709,     1537
  18HU20020623, AR07W,   264,  1, 254141,      2,2,20020709,1537, 58.6720, -47.0048, 2657,   2680.0,   1.5662,  34.8825,2,  34.8818,2,    288.5,2,    294.6,2,     9.17,6,    14.28,6,     0.96,6,    3.586,2,    2.293,4,    0.907,4,    5.748,4,    7.619,2,   2155.3,2,   2313.6,2, 20020709,     1539
  18HU20020623, AR07W,   264,  1, 254142,      3,2,20020709,1537, 58.6720, -47.0048, 2657,   2608.7,   1.7551,  34.8798,2,  34.8798,2,    287.5,2,    293.7,2,     8.88,6,    14.34,6,     0.97,6,    3.900,2,    2.291,4,    0.492,4,    5.662,4,    7.267,2,   2147.8,2,   2287.3,2, 20020709,     1541
  18HU20020623, AR07W,   264,  1, 254143,      4,2,20020709,1537, 58.6720, -47.0048, 2657,   2530.9,   1.9823,  34.8816,2,  34.8820,2,    283.7,2,    290.3,2,     9.99,6,    14.78,6,     0.99,6,    3.640,2,    2.181,4,    0.179,4,    5.351,4,    6.974,2,   2151.1,2,   2285.0,2, 20020709,     1542
  18HU20020623, AR07W,   264,  1, 254144,      5,2,20020709,1537, 58.6720, -47.0048, 2657,   2441.2,   2.2255,  34.8957,2,  34.8962,6,    276.2,2,    282.3,2,    13.82,6,    15.90,6,     1.05,6,    2.382,2,    0.656,4,    0.138,4,    3.677,4,    6.210,2,   2154.1,2,   2291.8,2, 20020709,     1544
  18HU20020623, AR07W,   264,  1, 254145,      6,2,20020709,1537, 58.6720, -47.0048, 2657,   2329.7,   2.4138,  34.9011,2,  34.9012,2,    274.3,2,    281.1,2,    12.88,6,    16.10,6,     1.05,6,    2.469,2,    1.618,4,    0.271,4,    3.553,4,    5.840,2,   2154.7,2,   2242.3,3, 20020709,     1546
  18HU20020623, AR07W,   264,  1, 254146,      7,2,20020709,1537, 58.6720, -47.0048, 2657,   2149.6,   2.6578,  34.9067,2,  34.9067,2,    271.7,2,    280.0,2,    12.71,6,    16.54,6,     1.07,6,    2.320,2,    1.542,4,    0.059,4,    3.443,4,    5.916,2,   2160.0,2,   2269.6,2, 20020709,     1549
  18HU20020623, AR07W,   264,  1, 254147,      8,2,20020709,1537, 58.6720, -47.0048, 2657,   1949.0,   2.8523,  34.9024,2,  34.9028,2,    271.4,2,    279.4,2,    11.65,6,    16.48,6,     1.07,6,    2.404,2,    1.582,4,    0.310,4,    3.517,4,    6.222,2,   2157.9,2,   2291.9,2, 20020709,     1552
  18HU20020623, AR07W,   264,  1, 254148,      9,2,20020709,1537, 58.6720, -47.0048, 2657,   1750.7,   2.9582,  34.8867,2,  34.8867,2,    273.6,2,    282.9,2,    10.50,6,    16.20,6,     1.05,6,    3.102,2,    1.929,4,    0.301,4,    4.366,4,    7.091,2,   2156.1,2,   2276.0,2, 20020709,     1555
  18HU20020623, AR07W,   264,  1, 254149,     10,2,20020709,1537, 58.6720, -47.0048, 2657,   1561.3,   3.0680,  34.8808,2,  34.8808,2,    273.9,2,    283.8,2,    10.20,6,    16.51,6,     1.08,6,    3.320,2,    2.076,4,    0.213,4,    4.908,4,    8.120,2,   2155.0,2,   2297.4,2, 20020709,     1558
  18HU20020623, AR07W,   264,  1, 254150,     11,2,20020709,1537, 58.6720, -47.0048, 2657,   1380.4,   3.2469,  34.8856,2,  34.8859,2,    271.3,2,    281.4,2,    10.13,6,    16.52,6,     1.09,6,    3.490,2,    2.126,4,    0.293,4,    4.935,4,    8.180,2,   2156.3,2,   2298.5,2, 20020709,     1601
  18HU20020623, AR07W,   264,  1, 254151,     12,2,20020709,1537, 58.6720, -47.0048, 2657,   1207.4,   3.4129,  34.8928,2,  34.8930,2,    268.0,2,    278.7,2,    10.07,6,    16.50,6,     1.08,6,    3.531,2,    2.130,4,    0.318,4,    4.702,4,    7.566,2,   2157.6,2,   2319.1,2, 20020709,     1604
  18HU20020623, AR07W,   264,  1, 254152,     13,2,20020709,1537, 58.6720, -47.0048, 2657,   1049.3,   3.4632,  34.8838,2,  34.8839,2,    267.8,2,    278.9,2,    10.04,6,    17.14,6,     1.09,6,    3.802,2,    2.276,4,    0.428,4,    5.459,4,    8.551,2,   2158.1,2,   2293.3,2, 20020709,     1606
  18HU20020623, AR07W,   264,  1, 254153,     14,2,20020709,1537, 58.6720, -47.0048, 2657,    910.4,   3.4097,  34.8615,2,  34.8635,2,    273.1,2,    284.8,2,     9.60,6,    16.93,6,     1.09,6,    4.290,2,    2.538,4,    0.368,4,    5.963,4,    7.487,2,   2156.4,2,   2308.7,2, 20020709,     1609
  18HU20020623, AR07W,   264,  1, 254154,     15,2,20020709,1537, 58.6720, -47.0048, 2657,    789.6,   3.3540,  34.8459,2,  34.8454,2,    282.4,2,    295.5,2,     8.90,6,    16.49,6,     1.07,6,    5.072,2,    3.001,4,    0.492,4,    7.287,4,    6.282,2,   2153.8,2,   2306.6,2, 20020709,     1611
  18HU20020623, AR07W,   264,  1, 254155,     16,2,20020709,1537, 58.6720, -47.0048, 2657,    680.6,   3.4744,  34.8590,2,  34.8583,2,    280.4,2,    293.3,2,     8.82,6,    16.52,6,     1.07,6,    4.839,2,    2.996,4,    0.358,4,    7.530,4,    6.589,2,   2155.2,2,   2325.1,2, 20020709,     1613
  18HU20020623, AR07W,   264,  1, 254156,     17,2,20020709,1537, 58.6720, -47.0048, 2657,    578.1,   3.5937,  34.8688,2,  34.8674,2,    277.2,2,    290.2,2,     8.86,6,    16.63,6,     1.08,6,    4.686,2,    2.798,4,    0.417,4,    6.676,4,    6.153,2,   2156.7,2,   2318.9,2, 20020709,     1615
  18HU20020623, AR07W,   264,  1, 254157,     18,2,20020709,1537, 58.6720, -47.0048, 2657,    460.0,   3.6063,  34.8541,2,  34.8540,2,    280.5,2,    294.1,2,     8.75,6,    16.59,6,     1.08,6,    4.958,2,    2.855,4,    0.183,4,    7.297,4,    5.568,2,   2153.4,2,   2306.7,2, 20020709,     1617
  18HU20020623, AR07W,   264,  1, 254158,     19,2,20020709,1537, 58.6720, -47.0048, 2657,    339.0,   3.7651,  34.8577,2,  34.8560,2,    280.8,2,    294.7,2,     8.49,6,    16.45,6,     1.09,6,    5.044,2,    2.763,4,    0.448,4,    8.367,4,    5.649,2,   2145.9,2,   2299.2,2, 20020709,     1620
  18HU20020623, AR07W,   264,  1, 254159,     20,2,20020709,1537, 58.6720, -47.0048, 2657,    238.9,   4.0071,  34.8686,2,  34.8652,2,    281.4,2,    295.0,2,     8.17,6,    16.28,6,     1.08,6,    5.260,2,    3.064,4,    0.484,4,    8.221,4,    5.044,2,   2144.6,2,   2298.3,2, 20020709,     1622
  18HU20020623, AR07W,   264,  1, 254160,     21,2,20020709,1537, 58.6720, -47.0048, 2657,    140.0,   4.3704,  34.8718,2,  34.8707,2,    283.9,2,    298.0,2,     7.77,6,    15.31,6,     1.05,6,    5.264,2,    3.051,4,    0.438,4,    8.146,4,    4.399,2,   2142.9,2,   2302.7,2, 20020709,     1624
  18HU20020623, AR07W,   264,  1, 254161,     22,2,20020709,1537, 58.6720, -47.0048, 2657,     81.0,   4.4738,  34.8130,2,-999.0000,9,    287.3,2,    301.1,2,     6.15,6,    13.24,6,     1.02,6,    5.537,2,    3.489,4,    0.148,4,    9.616,4,    4.635,2,   2138.2,2,   2308.4,2, 20020709,     1625
  18HU20020623, AR07W,   264,  1, 254162,     23,2,20020709,1537, 58.6720, -47.0048, 2657,     29.7,   6.0181,  34.7224,2,  34.7252,2,    298.8,2,    312.4,2,     0.70,6,     8.40,6,     0.65,6,    5.411,2,    3.205,4,    0.680,4,    9.625,4,    3.727,2,   2098.8,2,   2289.7,2, 20020709,     1626
  18HU20020623, AR07W,   264,  1, 254163,     24,2,20020709,1537, 58.6720, -47.0048, 2657,      4.1,   6.0248,  34.7209,2,-999.0000,9,    299.4,2,    312.5,2,     0.70,6,     8.47,6,     0.64,6,    5.421,2,    3.208,4,    0.544,4,    9.320,4,    3.654,2,   2112.7,3,   2283.3,2, 20020709,     1627
  18HU20020623, AR07W,   268,  1, 254164,      1,2,20020709,2130, 59.0058, -46.4743, 2650,   2729.2,   1.7927,  34.8802,2,  34.8803,6,    287.6,2,    293.4,2,     9.47,6,    14.60,6,     0.97,6,    4.250,2,    2.114,4,    0.269,4,    4.194,4,    5.986,2,   2155.9,2,   2279.1,2, 20020709,     2130
  18HU20020623, AR07W,   268,  1, 254165,      2,2,20020709,2130, 59.0058, -46.4743, 2650,   2630.7,   1.9255,  34.8810,2,  34.8810,2,    285.5,2,    291.2,2,     9.75,6,    14.75,6,     0.98,6,    4.070,2,    2.012,4,    0.216,4,    3.952,4,    5.909,2,   2152.9,2,   2289.3,2, 20020709,     2133
  18HU20020623, AR07W,   268,  1, 254166,      3,2,20020709,2130, 59.0058, -46.4743, 2650,   2509.9,   2.2274,  34.8978,2,  34.8991,2,    274.7,2,    280.4,2,    15.02,6,    16.19,6,     1.09,6,    2.684,2,    1.412,4,    0.138,4,    2.826,4,    5.265,2,   2160.0,2,   2316.6,2, 20020709,     2135
  18HU20020623, AR07W,   268,  1, 254167,      4,2,20020709,2130, 59.0058, -46.4743, 2650,   2400.6,   2.4016,  34.8971,2,  34.8977,6,    275.8,2,    282.2,2,    12.35,6,    15.72,6,     1.05,6,    3.004,2,    1.542,4,    0.153,4,    3.031,4,    5.047,2,   2156.4,2,   2302.3,2, 20020709,     2138
  18HU20020623, AR07W,   268,  1, 254168,      5,2,20020709,2130, 59.0058, -46.4743, 2650,   2270.6,   2.5569,  34.9042,2,  34.9042,2,    273.0,2,    279.8,2,    12.70,6,    16.24,6,     1.06,6,    2.783,2,    1.447,4,    0.144,4,    2.863,4,    5.128,2,   2156.0,2,   2248.8,3, 20020709,     2141
  18HU20020623, AR07W,   268,  1, 254169,      6,2,20020709,2130, 59.0058, -46.4743, 2650,   2121.2,   2.6807,  34.8846,2,  34.8849,2,    276.9,2,    283.6,2,    10.47,6,    15.65,6,     1.03,6,    3.697,2,    1.881,4,    0.174,4,    3.606,4,    5.905,2,   2151.5,2,   2313.5,2, 20020709,     2144
  18HU20020623, AR07W,   268,  1, 254170,      7,2,20020709,2130, 59.0058, -46.4743, 2650,   1955.3,   2.9892,  34.8968,2,  34.8975,2,    272.5,2,    280.1,2,    11.29,6,    16.54,6,     1.09,6,    3.127,2,    1.584,4,    0.226,4,    3.105,4,    5.933,2,   2157.5,2,   2239.9,3, 20020709,     2147
  18HU20020623, AR07W,   268,  1, 254171,      8,2,20020709,2130, 59.0058, -46.4743, 2650,   1730.1,   3.0510,  34.8794,2,  34.8798,2,    274.9,2,    284.1,2,    10.69,6,    16.70,6,     1.11,6,    3.831,2,    1.894,4,    0.187,4,    3.721,4,    7.575,2,   2156.2,2,   2328.6,2, 20020709,     2151
  18HU20020623, AR07W,   268,  1, 254172,      9,2,20020709,2130, 59.0058, -46.4743, 2650,   1559.2,   3.1139,  34.8741,2,-999.0000,9,    274.7,2,   -999.0,9,  -999.00,9,  -999.00,9,  -999.00,9, -999.000,9, -999.000,9, -999.000,9, -999.000,9, -999.000,9,   -999.0,9,   -999.0,9, 20020709,     2154
  18HU20020623, AR07W,   268,  1, 254173,     10,2,20020709,2130, 59.0058, -46.4743, 2650,   1350.3,   3.2699,  34.8808,2,  34.8818,2,    270.8,2,    281.0,2,    10.96,6,    16.92,6,     1.78,4,    3.940,2,    1.913,4,    0.213,4,    3.725,4,    7.363,2,   2153.6,2,   2303.6,2, 20020709,     2158
  18HU20020623, AR07W,   268,  1, 254174,     11,2,20020709,2130, 59.0058, -46.4743, 2650,   1170.4,   3.4289,  34.8880,2,  34.8879,2,    267.8,2,    278.3,2,    10.25,6,    17.02,6,     1.14,6,    4.182,2,    2.060,4,    0.220,4,    3.865,4,    7.296,2,   2157.7,2,   2338.3,2, 20020709,     2201
  18HU20020623, AR07W,   268,  1, 254175,     12,2,20020709,2130, 59.0058, -46.4743, 2650,    999.5,   3.4664,  34.8715,2,  34.8711,2,    271.5,2,    283.0,2,     8.71,6,    16.38,6,     1.08,6,    4.775,2,    2.344,4,    0.268,4,    4.427,4,    6.645,2,   2153.9,2,   2325.2,2, 20020709,     2204
  18HU20020623, AR07W,   268,  1, 254176,     13,2,20020709,2130, 59.0058, -46.4743, 2650,    845.9,   3.4125,  34.8505,2,  34.8501,2,    283.2,2,    295.5,2,     8.67,6,    16.36,6,     1.08,6,    5.638,2,    2.755,4,    0.298,4,    5.354,4,    5.494,2,   2151.9,2,   2325.8,2, 20020709,     2208
  18HU20020623, AR07W,   268,  1, 254177,     14,2,20020709,2130, 59.0058, -46.4743, 2650,    690.3,   3.5657,  34.8628,2,  34.8627,2,    281.8,2,    294.5,2,     8.82,6,    16.12,6,     1.08,6,    5.395,2,    2.631,4,    0.374,4,    5.139,4,    5.064,2,   2150.8,2,   2317.1,2, 20020709,     2211
  18HU20020623, AR07W,   268,  1, 254178,     15,2,20020709,2130, 59.0058, -46.4743, 2650,    540.2,   3.7861,  34.8770,2,  34.8753,2,    277.9,2,    291.0,2,     8.75,6,    16.07,6,     1.09,6,    5.232,2,    2.582,4,    0.369,4,    4.965,4,    4.952,2,   2150.9,2,   2325.4,2, 20020709,     2214
  18HU20020623, AR07W,   268,  1, 254179,     16,2,20020709,2130, 59.0058, -46.4743, 2650,    400.8,   4.1018,  34.8994,2,  34.8983,2,    276.6,2,    289.4,2,     8.49,6,    16.02,6,     1.10,6,    5.322,2,    2.640,4,    0.270,4,    4.988,4,    4.734,2,   2149.5,2,   2317.4,2, 20020709,     2217
  18HU20020623, AR07W,   268,  1, 254180,     17,2,20020709,2130, 59.0058, -46.4743, 2650,    300.4,   4.2646,  34.9079,2,  34.9075,2,    278.0,2,    290.8,2,     8.17,6,    15.90,6,     1.07,6,    5.363,2,    2.666,4,    0.327,4,    5.088,4,    4.372,2,   2148.3,2,   2322.8,2, 20020709,     2219
  18HU20020623, AR07W,   268,  1, 254181,     18,2,20020709,2130, 59.0058, -46.4743, 2650,    200.3,   4.4534,  34.9162,2,  34.9160,2,    277.4,2,    290.3,2,     7.95,6,    15.68,6,     1.06,6,    5.351,2,    2.643,4,    0.361,4,    5.088,4,    4.221,2,   2146.2,2,   2322.6,2, 20020709,     2221
  18HU20020623, AR07W,   268,  1, 254182,     19,2,20020709,2130, 59.0058, -46.4743, 2650,     99.7,   4.8981,  34.9315,2,  34.9282,2,    274.7,2,    287.8,2,     7.83,6,    15.51,6,     1.06,6,    5.293,2,    2.714,4,    0.382,4,    5.205,4,    4.055,2,   2144.2,2,   2316.9,2, 20020709,     2223
  18HU20020623, AR07W,   268,  1, 254183,     20,2,20020709,2130, 59.0058, -46.4743, 2650,     50.3,   5.2579,  34.7905,2,-999.0000,9,    294.4,2,    310.4,2,     2.49,6,     9.96,6,     0.80,6,    5.923,2,    2.917,4,    0.361,4,    6.205,4,    3.640,2,   2112.2,2,   2291.3,2, 20020709,     2224
  18HU20020623, AR07W,   268,  1, 254184,     21,2,20020709,2130, 59.0058, -46.4743, 2650,     19.5,   5.8745,  34.7375,2,-999.0000,9,    305.5,2,    319.1,2,     0.42,6,     8.13,6,     0.62,6,    5.695,2,    2.811,4,    0.438,4,    6.128,4,    3.309,2,   2095.3,2,   2326.7,2, 20020709,     2226
  18HU20020623, AR07W,   268,  1, 254185,     22,2,20020709,2130, 59.0058, -46.4743, 2650,      4.1,   5.8749,  34.7376,2,-999.0000,9,    305.8,2,    319.2,2,     0.46,6,     7.97,6,     0.60,6,    5.913,2,    2.921,4,    0.393,4,    6.714,4,    3.571,2,   2094.7,2,   2336.5,2, 20020709,     2227
  18HU20020623, AR07W,   270,  1, 254186,      1,2,20020710,0141, 59.3332, -45.9315, 2093,   2141.4,   2.3323,  34.8805,2,  34.8813,6,    279.8,2,    289.7,2,    10.81,6,    15.14,6,     1.03,6,    3.225,2,    2.152,4,    0.173,4,    4.670,4,    6.466,2,   2152.2,2,   2326.2,2, 20020710,      141
  18HU20020623, AR07W,   270,  1, 254187,      2,2,20020710,0141, 59.3332, -45.9315, 2093,   2070.4,   2.3352,  34.8816,2,  34.8821,2,    279.0,2,    286.2,2,    10.83,6,    15.29,6,     1.04,6,    3.262,2,    2.161,4,    0.210,4,    4.688,4,    6.466,2,   2151.9,2,   2313.9,2, 20020710,      143
  18HU20020623, AR07W,   270,  1, 254188,      3,2,20020710,0141, 59.3332, -45.9315, 2093,   1980.5,   2.4603,  34.8912,2,  34.8912,2,    276.2,2,    283.9,2,    11.28,6,    15.64,6,     1.05,6,    2.977,2,    2.096,4,    0.347,4,    4.628,4,    6.819,2,   2149.4,2,   2317.2,2, 20020710,      145
  18HU20020623, AR07W,   270,  1, 254189,      4,2,20020710,0141, 59.3332, -45.9315, 2093,   1870.9,   2.6969,  34.8940,2,  34.8945,6,    274.0,2,    281.9,2,    11.33,6,    15.91,6,     1.06,6,    2.813,2,    1.952,4,    0.244,4,    4.120,4,    6.401,2,   2147.5,2,   2286.3,2, 20020710,      148
  18HU20020623, AR07W,   270,  1, 254190,      5,2,20020710,0141, 59.3332, -45.9315, 2093,   1710.0,   2.9438,  34.8965,2,  34.8967,2,    272.2,2,    281.1,2,    11.12,6,    16.13,6,     1.07,6,    2.930,2,    1.911,4,    0.111,4,    4.145,4,    7.043,2,   2148.1,2,   2290.1,2, 20020710,      153
  18HU20020623, AR07W,   270,  1, 254191,      6,2,20020710,0141, 59.3332, -45.9315, 2093,   1501.3,   3.0052,  34.8779,2,  34.8782,2,    274.3,2,    284.1,2,    10.19,6,    16.04,6,     1.08,6,    3.506,2,    2.161,4,    0.075,4,    5.070,4,    7.953,2,   2150.2,2,   2329.5,2, 20020710,      157
  18HU20020623, AR07W,   270,  1, 254192,      7,2,20020710,0141, 59.3332, -45.9315, 2093,   1371.2,   3.1084,  34.8804,2,  34.8802,2,    273.7,2,    282.5,2,    10.49,6,    16.59,6,     1.11,6,    3.413,2,    1.786,4,    0.190,4,    5.344,4,    9.484,2,   2149.3,2,   2305.6,2, 20020710,      200
  18HU20020623, AR07W,   270,  1, 254193,      8,2,20020710,0141, 59.3332, -45.9315, 2093,   1220.8,   3.2450,  34.8862,2,  34.8863,2,    270.9,2,    280.9,2,    10.38,6,    16.46,6,     1.12,6,    3.492,2,    2.176,4,    0.330,4,    4.854,4,    8.513,2,   2155.8,2,   2295.5,2, 20020710,      203
  18HU20020623, AR07W,   270,  1, 254194,      9,2,20020710,0141, 59.3332, -45.9315, 2093,   1050.3,   3.4359,  34.8913,2,  34.8914,2,    267.4,2,    278.2,2,    10.15,6,    16.39,6,     1.12,6,    3.659,2,    2.159,4,    0.161,4,    5.067,4,    8.328,2,   2155.3,2,   2288.3,2, 20020710,      206
  18HU20020623, AR07W,   270,  1, 254195,     10,2,20020710,0141, 59.3332, -45.9315, 2093,    861.0,   3.6039,  34.8873,2,  34.8884,2,    268.2,2,    277.3,2,     9.56,6,    15.97,6,     1.11,6,    4.042,2,    2.522,4,    0.303,4,    5.467,4,    7.170,2,   2156.3,2,   2291.5,2, 20020710,      210
  18HU20020623, AR07W,   270,  1, 254196,     11,2,20020710,0141, 59.3332, -45.9315, 2093,    691.0,   3.8514,  34.8936,2,  34.8936,2,    268.6,2,    279.9,2,     9.18,6,    15.69,6,     1.12,6,    4.183,2,    2.577,4,    0.368,4,    5.563,4,    6.307,2,   2155.7,2,   2303.4,2, 20020710,      213
  18HU20020623, AR07W,   270,  1, 254197,     12,2,20020710,0141, 59.3332, -45.9315, 2093,    539.8,   4.1971,  34.9099,2,  34.9095,2,    272.4,2,    284.2,2,     8.62,6,    15.60,6,     1.12,6,    4.784,2,    2.868,4,    0.416,4,    6.826,4,    5.660,2,   2153.3,2,   2328.2,2, 20020710,      215
  18HU20020623, AR07W,   270,  1, 254198,     13,2,20020710,0141, 59.3332, -45.9315, 2093,    421.0,   4.4575,  34.9223,2,  34.9217,2,    273.8,2,    286.1,2,     8.17,6,    15.42,6,     1.11,6,    4.769,2,    2.968,4,    0.294,4,    7.142,4,    5.350,2,   2150.7,2,   2287.6,2, 20020710,      217
  18HU20020623, AR07W,   270,  1, 254199,     14,2,20020710,0141, 59.3332, -45.9315, 2093,    300.7,   4.6914,  34.9371,2,  34.9357,2,    273.8,2,    286.5,2,     8.09,6,    15.37,6,     1.10,6,    4.852,2,    2.923,4,    0.302,4,    6.949,4,    4.832,2,   2149.6,2,   2322.4,2, 20020710,      220
  18HU20020623, AR07W,   270,  1, 254200,     15,2,20020710,0141, 59.3332, -45.9315, 2093,    170.7,   5.2452,  34.9685,2,  34.9683,2,    271.3,2,    283.4,2,     7.69,6,    15.18,6,     1.10,6,    4.860,2,    3.054,4,    0.286,4,    7.120,4,    4.464,2,   2155.8,2,   2312.5,2, 20020710,      223
  18HU20020623, AR07W,   270,  1, 254201,     16,2,20020710,0141, 59.3332, -45.9315, 2093,    100.2,   5.4495,  34.9210,2,-999.0000,9,    277.5,2,    289.9,2,     6.61,6,    13.02,6,     1.01,6,    4.915,2,    3.163,4,    0.256,4,    7.572,4,    4.295,2,   2137.8,2,   2297.9,2, 20020710,      226
  18HU20020623, AR07W,   270,  1, 254202,     17,2,20020710,0141, 59.3332, -45.9315, 2093,     65.5,   5.7592,  34.7943,2,-999.0000,9,    285.3,2,    298.1,2,     3.39,6,    10.76,6,     0.91,6,    5.060,2,    3.064,4,    0.510,4,    8.023,4,    3.936,2,   2120.6,2,   2316.9,2, 20020710,      227
  18HU20020623, AR07W,   270,  1, 254203,     18,2,20020710,0141, 59.3332, -45.9315, 2093,     30.6,   6.1805,  34.7606,2,-999.0000,9,    292.2,2,    302.7,2,     1.53,6,     9.55,6,     0.82,6,    5.391,2,    3.345,4,    0.344,4,    9.434,4,    3.794,2,   2107.3,2,   2281.6,2, 20020710,      228
  18HU20020623, AR07W,   270,  1, 254204,     19,2,20020710,0141, 59.3332, -45.9315, 2093,      5.7,   6.0442,  34.6436,2,-999.0000,9,    293.8,2,    306.6,2,     1.46,6,     9.17,6,     0.80,6,    5.250,2,    3.349,4,    0.239,4,    9.597,4,    4.004,2,   2099.8,2,   2322.1,2, 20020710,      229