BOTTLE,20130611PRINUNIVRMK
EXPOCODE,SECT_ID,STNNBR,CASTNO,SAMPNO,BTLNBR,BTLNBR_FLAG_W,DATE,TIME,LATITUDE,LONGITUDE,DEPTH,CTDPRS,CTDTMP,CTDSAL,CTDSAL_FLAG_W,SALNTY,SALNTY_FLAG_W,CTDOXY,CTDOXY_FLAG_W,OXYGEN,OXYGEN_FLAG_W,SILCAT,SILCAT_FLAG_W,NITRAT,NITRAT_FLAG_W,PHSPHT,PHSPHT_FLAG_W,CFC-11,CFC-11_FLAG_W,CFC-12,CFC-12_FLAG_W,CFC113,CFC113_FLAG_W,CCL4,CCL4_FLAG_W,MCHFRM,MCHFRM_FLAG_W,TCARBN,TCARBN_FLAG_W,ALKALI,ALKALI_FLAG_W,BTL_DATE,BTL_TIME
,,,,,,,,,,,METERS,DBAR,ITS-90,PSS-78,,PSS-78,,UMOL/KG,,UMOL/KG,,UMOL/KG,,UMOL/KG,,UMOL/KG,,PMOL/KG,,PMOL/KG,,PMOL/KG,,PMOL/KG,,PMOL/KG,,UMOL/KG,,UMOL/KG,,,
  18HU20020623, AR07W,   368,  1, 255695,      1,2,20020714,1953, 51.7850, -46.5680, 3879,   4029.5,   1.7052,  34.8733,2,  34.8736,6,    293.4,2,    294.3,2,    11.42,6,    13.98,6,     1.13,6,    3.839,2,    1.600,4,    0.541,4,    5.860,4,    8.471,2,   2153.2,2,   2299.0,2, 20020714,     1953
  18HU20020623, AR07W,   368,  1, 255696,      2,2,20020714,1953, 51.7850, -46.5680, 3879,   3909.9,   1.8034,  34.8756,2,  34.8757,2,    290.6,2,    292.8,2,    11.41,6,    13.99,6,     1.14,6,    3.664,2,    1.870,4,    0.357,4,    5.757,4,    8.393,2,   2154.3,2,   2291.4,2, 20020714,     1956
  18HU20020623, AR07W,   368,  1, 255697,      3,2,20020714,1953, 51.7850, -46.5680, 3879,   3690.0,   1.9591,  34.8807,2,  34.8804,2,    286.3,2,    289.4,2,    12.22,6,    14.79,6,     1.17,6,    3.322,2,    1.562,4,    0.301,4,    5.166,4,    7.925,2,   2153.7,2,   2301.1,2, 20020714,     1959
  18HU20020623, AR07W,   368,  1, 255698,      4,2,20020714,1953, 51.7850, -46.5680, 3879,   3470.1,   2.1621,  34.8902,2,  34.8910,2,    277.7,2,    282.6,2,    15.15,6,    15.96,6,     1.21,6,    2.289,2,    1.209,4,    0.298,4,    3.857,4,    6.841,2,   2160.6,2,   2298.4,2, 20020714,     2002
  18HU20020623, AR07W,   368,  1, 255699,      5,2,20020714,1953, 51.7850, -46.5680, 3879,   3251.1,   2.3810,  34.8967,2,  34.8969,2,    275.6,2,    281.2,2,    14.01,6,    15.89,6,     1.20,6,    2.345,2,    1.230,4,    0.275,4,    3.873,4,    6.691,2,   2156.2,2,   2303.5,2, 20020714,     2006
  18HU20020623, AR07W,   368,  1, 255700,      6,2,20020714,1953, 51.7850, -46.5680, 3879,   3049.9,   2.4712,  34.8993,2,  34.8999,6,    275.0,2,    281.4,2,    12.95,6,    15.92,6,     1.21,6,    2.366,2,    1.043,4,    0.159,4,    3.794,4,    6.558,2,   -999.0,9,   2299.5,2, 20020714,     2009
  18HU20020623, AR07W,   368,  1, 255701,      7,2,20020714,1953, 51.7850, -46.5680, 3879,   2830.8,   2.5358,  34.9025,2,  34.9032,2,    273.0,2,    280.5,2,    13.17,6,    16.09,6,     1.18,6,    2.287,2,    1.317,4,    0.262,4,    3.702,4,    6.622,2,   2155.1,2,   2315.2,2, 20020714,     2012
  18HU20020623, AR07W,   368,  1, 255702,      8,2,20020714,1953, 51.7850, -46.5680, 3879,   2606.7,   2.6219,  34.9057,2,  34.9053,6,    271.1,2,    279.5,2,    13.00,6,    15.75,6,     1.12,3,    2.260,2,    1.012,4,    0.373,4,    3.592,4,    6.470,2,   2156.8,2,   2309.8,2, 20020714,     2016
  18HU20020623, AR07W,   368,  1, 255703,      9,2,20020714,1953, 51.7850, -46.5680, 3879,   2391.2,   2.8161,  34.9043,2,  34.9038,2,    269.6,2,    278.7,2,    12.51,6,    16.69,6,     1.21,6,    2.261,2,    3.606,4,    0.339,4,    3.539,4,    6.508,2,   2157.3,2,   2298.3,2, 20020714,     2019
  18HU20020623, AR07W,   368,  1, 255704,     10,2,20020714,1953, 51.7850, -46.5680, 3879,   2170.4,   2.9928,  34.9006,2,  34.9006,2,    268.8,2,    279.2,2,    12.21,6,    16.31,6,     1.20,6,    2.202,2,    0.667,4,    0.064,4,    3.775,4,    7.408,2,   2154.4,2,   2293.2,2, 20020714,     2022
  18HU20020623, AR07W,   368,  1, 255705,     11,2,20020714,1953, 51.7850, -46.5680, 3879,   1958.6,   3.0630,  34.8873,2,  34.8869,2,    271.0,2,    282.0,2,    11.38,6,    17.07,6,     1.23,6,    2.875,2,    1.353,4,    0.323,4,    4.495,4,    8.673,2,   2151.8,2,   2308.5,2, 20020714,     2026
  18HU20020623, AR07W,   368,  1, 255706,     12,2,20020714,1953, 51.7850, -46.5680, 3879,   1749.8,   3.1509,  34.8818,2,  34.8812,2,    271.0,2,    282.6,2,    11.45,6,    17.33,6,     1.24,6,    2.911,2,    1.797,4,    0.183,4,    4.514,4,    8.975,2,   2153.1,2,   2298.7,2, 20020714,     2029
  18HU20020623, AR07W,   368,  1, 255707,     13,2,20020714,1953, 51.7850, -46.5680, 3879,   1540.7,   3.2898,  34.8894,2,  34.8896,2,    267.4,2,    279.3,6,    11.40,6,    17.60,6,     1.23,6,    2.966,2,    1.334,4,    0.327,4,    4.687,4,    9.081,2,   2155.1,2,   2302.9,2, 20020714,     2032
  18HU20020623, AR07W,   368,  1, 255708,     14,2,20020714,1953, 51.7850, -46.5680, 3879,   1328.3,   3.4099,  34.8927,2,  34.8812,2,    264.8,2,    277.2,2,    11.03,6,    17.82,6,     1.26,6,    3.090,2,    1.672,4,    0.280,4,    4.759,4,    8.757,2,   2156.9,2,   2318.9,2, 20020714,     2036
  18HU20020623, AR07W,   368,  1, 255709,     15,2,20020714,1953, 51.7850, -46.5680, 3879,   1120.4,   3.5463,  34.8931,2,  34.8896,2,    263.6,2,    277.0,2,    10.43,6,    16.91,6,     1.20,6,    3.764,2,    1.854,4,    0.617,4,    5.428,4,    7.832,2,   2157.0,2,   2315.9,2, 20020714,     2039
  18HU20020623, AR07W,   368,  1, 255710,     16,2,20020714,1953, 51.7850, -46.5680, 3879,    919.4,   3.6598,  34.8898,2,  34.8896,2,    263.6,2,    277.3,2,    10.36,6,    17.06,6,     1.21,6,    3.689,2,    1.947,4,    0.404,4,    5.768,4,    8.151,2,   2157.5,2,   2299.0,2, 20020714,     2042
  18HU20020623, AR07W,   368,  1, 255711,     17,2,20020714,1953, 51.7850, -46.5680, 3879,    720.0,   3.7331,  34.8805,2,-999.0000,9,    264.1,2,   -999.0,9,  -999.00,9,  -999.00,9,  -999.00,9, -999.000,9, -999.000,9, -999.000,9, -999.000,9, -999.000,9,   -999.0,9,   -999.0,9, 20020714,     2045
  18HU20020623, AR07W,   368,  1, 255712,     18,2,20020714,1953, 51.7850, -46.5680, 3879,    521.0,   3.9568,  34.8704,2,  34.8698,2,    258.7,2,    272.5,2,     9.87,6,    17.44,6,     1.28,6,    4.207,2,    2.233,4,    0.316,4,    5.642,4,    6.416,2,   2159.7,2,   2323.8,2, 20020714,     2048
  18HU20020623, AR07W,   368,  1, 255713,     19,2,20020714,1953, 51.7850, -46.5680, 3879,    360.3,   4.5252,  34.8640,2,  34.8629,2,    243.4,2,    255.6,2,    10.50,6,    17.74,6,     1.30,6,    3.544,2,    2.016,4,    0.493,4,    5.272,4,    5.934,2,   2161.4,2,   2317.3,2, 20020714,     2051
  18HU20020623, AR07W,   368,  1, 255714,     20,2,20020714,1953, 51.7850, -46.5680, 3879,    240.9,   5.1080,  34.7754,2,  34.7742,2,    246.5,2,    259.3,2,     9.71,6,    16.74,6,     1.26,6,    3.940,2,    2.278,4,    0.455,4,    6.150,4,    4.641,2,   2152.2,2,   2316.7,2, 20020714,     2054
  18HU20020623, AR07W,   368,  1, 255715,     21,2,20020714,1953, 51.7850, -46.5680, 3879,    100.9,   8.1428,  35.0680,2,-999.0000,9,    243.6,2,    254.7,2,     7.24,6,    14.09,6,     1.11,6,    3.549,2,    2.125,4,    0.505,4,    3.895,4,    3.138,2,   2141.1,2,   2311.4,2, 20020714,     2057
  18HU20020623, AR07W,   368,  1, 255716,     22,2,20020714,1953, 51.7850, -46.5680, 3879,     50.6,   8.4332,  34.9417,2,-999.0000,9,    253.2,2,    264.8,2,     1.35,6,     8.24,6,     0.90,6,    3.798,2,    1.957,4,    0.232,4,    5.821,4,    3.400,2,   2119.5,2,   2326.5,2, 20020714,     2058
  18HU20020623, AR07W,   368,  1, 255717,     23,2,20020714,1953, 51.7850, -46.5680, 3879,     24.4,   9.9184,  34.6776,2,-999.0000,9,    273.3,2,    284.8,2,     0.51,6,     1.87,6,     0.48,6,    4.123,2,    2.436,4,    0.389,4,    6.508,4,    3.359,2,   2068.7,2,   2310.8,2, 20020714,     2059
  18HU20020623, AR07W,   368,  1, 255718,     24,2,20020714,1953, 51.7850, -46.5680, 3879,      5.6,  10.7153,  34.6468,2,-999.0000,9,    278.1,2,    290.2,2,     0.54,6,     0.55,6,     0.34,6,    3.860,2,    2.320,4,    0.431,4,    6.098,4,    2.961,2,   2054.4,2,   2310.4,2, 20020714,     2100
  18HU20020623, AR07W,   372,  1, 255719,      1,2,20020715,0106, 51.4653, -47.2143, 3574,   3715.2,   1.6204,  34.8734,2,  34.8741,2,    292.5,2,    294.9,2,    11.53,6,    14.57,6,     1.16,6,    4.359,2,    2.269,4,    0.256,4,    3.955,4,    6.182,2,   2155.4,2,   2304.1,2, 20020715,      106
  18HU20020623, AR07W,   372,  1, 255720,      2,2,20020715,0106, 51.4653, -47.2143, 3574,   3630.6,   1.7129,  34.8749,2,  34.8741,2,    291.0,2,    293.7,2,    11.09,6,    14.47,6,     1.18,6,    4.192,2,    2.083,4,    0.256,4,    3.906,4,    6.190,2,   2155.5,2,   2292.5,2, 20020715,      109
  18HU20020623, AR07W,   372,  1, 255721,      3,2,20020715,0106, 51.4653, -47.2143, 3574,   3479.8,   1.8228,  34.8771,2,  34.8772,2,    287.3,2,    290.9,2,    11.99,6,    14.48,6,     1.19,6,    3.903,2,    2.038,4,    0.210,4,    3.752,4,    6.281,2,   2154.8,2,   2297.8,2, 20020715,      112
  18HU20020623, AR07W,   372,  1, 255722,      4,2,20020715,0106, 51.4653, -47.2143, 3574,   3221.2,   2.0423,  34.8865,2,  34.8869,2,    279.3,2,    284.6,2,    14.52,6,    15.23,6,     1.22,6,    3.020,2,    1.713,4,    0.135,4,    3.014,4,    5.457,2,   2156.9,2,   2303.3,2, 20020715,      116
  18HU20020623, AR07W,   372,  1, 255723,      5,2,20020715,0106, 51.4653, -47.2143, 3574,   2929.3,   2.2779,  34.8972,2,  34.8979,2,    273.2,2,    279.3,2,    15.49,6,    16.26,6,     1.29,6,    2.433,2,    1.371,4,    0.114,4,    2.533,4,    4.654,2,   2158.0,2,   2307.8,2, 20020715,      121
  18HU20020623, AR07W,   372,  1, 255724,      6,2,20020715,0106, 51.4653, -47.2143, 3574,   2671.1,   2.5152,  34.9081,2,  34.9082,6,    270.0,2,    277.3,2,    14.69,6,    16.22,6,     1.31,6,    2.289,2,    1.317,4,    0.095,4,    2.399,4,    4.456,2,   2156.4,2,   2314.3,2, 20020715,      125
  18HU20020623, AR07W,   372,  1, 255725,      7,2,20020715,0106, 51.4653, -47.2143, 3574,   2550.2,   2.6245,  34.9110,2,  34.9131,6,    269.1,2,    276.6,2,    14.22,6,    16.14,6,     1.30,6,    2.303,2,    1.340,4,    0.076,4,    2.382,4,    4.465,2,   2156.8,2,   2309.6,2, 20020715,      127
  18HU20020623, AR07W,   372,  1, 255726,      8,2,20020715,0106, 51.4653, -47.2143, 3574,   2340.4,   2.7870,  34.9104,2,  34.9115,2,    268.4,2,    276.6,2,    13.24,6,    16.17,6,     1.30,6,    2.432,2,    1.491,4,    0.090,4,    2.509,4,    4.818,2,   2155.8,2,   2314.1,2, 20020715,      131
  18HU20020623, AR07W,   372,  1, 255727,      9,2,20020715,0106, 51.4653, -47.2143, 3574,   2170.4,   2.8811,  34.9030,2,  34.9032,2,    269.8,2,    278.7,2,    12.12,6,    16.00,6,     1.30,6,    2.816,2,    1.600,4,    0.118,4,    2.841,4,    5.479,2,   2153.5,2,   2314.3,2, 20020715,      134
  18HU20020623, AR07W,   372,  1, 255728,     10,2,20020715,0106, 51.4653, -47.2143, 3574,   1999.3,   2.9655,  34.8966,2,  34.8971,2,    270.3,2,    280.4,2,    11.65,6,    15.80,6,     1.30,6,    3.105,2,    1.718,4,    0.115,4,    3.005,4,    5.865,2,   2151.6,2,   2306.1,2, 20020715,      137
  18HU20020623, AR07W,   372,  1, 255729,     11,2,20020715,0106, 51.4653, -47.2143, 3574,   1804.9,   3.0329,  34.8853,2,  34.8859,2,    271.9,2,    282.5,6,    11.11,6,    16.22,6,     1.31,6,    3.496,2,    1.913,4,    0.165,4,    3.380,4,    6.863,2,   2149.7,2,   2305.5,2, 20020715,      140
  18HU20020623, AR07W,   372,  1, 255730,     12,2,20020715,0106, 51.4653, -47.2143, 3574,   1621.3,   3.1156,  34.8785,2,  34.8796,2,    272.2,2,    283.4,2,    10.66,6,    16.49,6,     1.34,6,    3.826,2,    2.074,4,    0.196,4,    3.626,4,    7.404,2,   2149.9,2,   2304.7,2, 20020715,      144
  18HU20020623, AR07W,   372,  1, 255731,     13,2,20020715,0106, 51.4653, -47.2143, 3574,   1480.7,   3.1846,  34.8793,2,  34.8796,2,    270.8,2,    282.5,2,    10.52,6,    16.09,6,     1.33,6,    3.884,2,    1.958,4,    0.181,4,    3.665,4,    7.323,2,   2150.0,2,   2298.4,2, 20020715,      146
  18HU20020623, AR07W,   372,  1, 255732,     14,2,20020715,0106, 51.4653, -47.2143, 3574,   1231.0,   3.3379,  34.8827,2,  34.8825,2,    267.9,2,    280.2,2,    10.58,6,    16.54,6,     1.36,6,    3.879,2,    1.969,4,    0.198,4,    3.625,4,    6.807,2,   2154.1,2,   2316.2,2, 20020715,      150
  18HU20020623, AR07W,   372,  1, 255733,     15,2,20020715,0106, 51.4653, -47.2143, 3574,   1000.3,   3.3365,  34.8618,2,  34.8617,2,    274.3,2,    287.8,2,     9.66,6,    15.57,6,     1.31,6,    4.760,2,    2.351,4,    0.291,4,    4.401,4,    5.797,2,   2152.9,2,   2307.2,2, 20020715,      154
  18HU20020623, AR07W,   372,  1, 255734,     16,2,20020715,0106, 51.4653, -47.2143, 3574,    850.7,   3.2977,  34.8494,2,  34.8493,2,    277.5,2,    292.1,2,     9.25,6,    15.53,6,     1.27,6,    5.003,2,    2.462,4,    0.289,4,    4.667,4,    5.345,2,   2152.4,2,   2298.9,2, 20020715,      156
  18HU20020623, AR07W,   372,  1, 255735,     17,2,20020715,0106, 51.4653, -47.2143, 3574,    690.6,   3.3288,  34.8453,2,-999.0000,9,    276.7,2,   -999.0,9,  -999.00,9,  -999.00,9,  -999.00,9, -999.000,9, -999.000,9, -999.000,9, -999.000,9, -999.000,9,   -999.0,9,   -999.0,9, 20020715,      159
  18HU20020623, AR07W,   372,  1, 255736,     18,2,20020715,0106, 51.4653, -47.2143, 3574,    510.5,   3.3491,  34.8383,2,  34.8379,2,    276.1,2,    291.3,2,     9.21,6,    15.40,6,     1.29,6,    5.095,2,    2.581,4,    0.293,4,    4.683,4,    5.522,2,   2152.1,2,   2314.3,2, 20020715,      202
  18HU20020623, AR07W,   372,  1, 255737,     19,2,20020715,0106, 51.4653, -47.2143, 3574,    361.2,   3.5168,  34.8392,2,  34.8410,2,    270.1,2,    284.7,2,     9.41,6,    16.17,6,     1.33,6,    5.231,2,    2.554,4,    0.342,4,    4.846,4,    5.266,2,   2155.7,2,   2312.0,2, 20020715,      204
  18HU20020623, AR07W,   372,  1, 255738,     20,2,20020715,0106, 51.4653, -47.2143, 3574,    240.8,   3.4701,  34.7954,2,  34.7972,2,    273.5,2,    289.3,2,     9.18,6,    15.93,6,     1.31,6,    5.307,2,    2.578,4,    0.344,4,    5.062,4,    4.787,2,   2153.5,2,   2296.2,2, 20020715,      207
  18HU20020623, AR07W,   372,  1, 255739,     21,2,20020715,0106, 51.4653, -47.2143, 3574,    139.7,   3.6755,  34.7546,2,-999.0000,9,    269.4,2,    284.4,2,     9.06,6,    15.74,6,     1.32,6,    5.274,2,    2.585,4,    0.317,4,    5.067,4,    4.417,2,   2152.3,2,   2311.0,2, 20020715,      209
  18HU20020623, AR07W,   372,  1, 255740,     22,2,20020715,0106, 51.4653, -47.2143, 3574,     71.4,   4.2705,  34.6635,2,-999.0000,9,    283.3,2,    299.2,2,     4.68,6,    11.79,6,     1.21,6,    5.944,2,    2.982,4,    0.415,4,    5.917,4,    3.641,2,   2139.1,2,   2316.2,2, 20020715,      210
  18HU20020623, AR07W,   372,  1, 255741,     23,2,20020715,0106, 51.4653, -47.2143, 3574,     35.5,   6.0736,  34.6507,2,-999.0000,9,    291.8,2,    306.8,2,     0.51,6,     5.53,6,     0.81,6,    5.571,2,    3.002,4,    0.413,4,    5.324,4,    3.232,2,   2098.1,2,   2291.2,2, 20020715,      211
  18HU20020623, AR07W,   372,  1, 255742,     24,2,20020715,0106, 51.4653, -47.2143, 3574,      5.2,   9.7695,  34.4723,2,-999.0000,9,    291.8,2,    303.5,2,     0.00,6,     0.00,6,     0.22,6,    4.676,2,    2.441,4,    0.321,4,    4.523,4,    2.657,2,   2038.0,2,   2302.3,2, 20020715,      212