BOTTLE,20130611PRINUNIVRMK
EXPOCODE,SECT_ID,STNNBR,CASTNO,SAMPNO,BTLNBR,BTLNBR_FLAG_W,DATE,TIME,LATITUDE,LONGITUDE,DEPTH,CTDPRS,CTDTMP,CTDSAL,CTDSAL_FLAG_W,SALNTY,SALNTY_FLAG_W,CTDOXY,CTDOXY_FLAG_W,OXYGEN,OXYGEN_FLAG_W,SILCAT,SILCAT_FLAG_W,NITRAT,NITRAT_FLAG_W,PHSPHT,PHSPHT_FLAG_W,CFC-11,CFC-11_FLAG_W,CFC-12,CFC-12_FLAG_W,CFC113,CFC113_FLAG_W,CCL4,CCL4_FLAG_W,MCHFRM,MCHFRM_FLAG_W,TCARBN,TCARBN_FLAG_W,ALKALI,ALKALI_FLAG_W,BTL_DATE,BTL_TIME
,,,,,,,,,,,METERS,DBAR,ITS-90,PSS-78,,PSS-78,,UMOL/KG,,UMOL/KG,,UMOL/KG,,UMOL/KG,,UMOL/KG,,PMOL/KG,,PMOL/KG,,PMOL/KG,,PMOL/KG,,PMOL/KG,,UMOL/KG,,UMOL/KG,,,
  18HU20020623, AR07W,   118,  1, 253570,      1,2,20020703,0556, 55.4183, -53.8217, 2566,   2699.7,   2.2718,  34.8916,2,-999.0000,9,    280.5,2,   -999.0,9,  -999.00,9,  -999.00,9,  -999.00,9, -999.000,9, -999.000,9, -999.000,9, -999.000,9, -999.000,9,   -999.0,9,   -999.0,9, 20020703,      556
  18HU20020623, AR07W,   118,  1, 253571,      2,2,20020703,0556, 55.4183, -53.8217, 2566,   2700.2,   2.2711,  34.8916,2,  34.8922,2,    280.5,2,    284.6,2,    10.78,6,    15.32,6,     1.16,6,    2.937,2,    1.091,4,    0.231,4,    4.121,4,    7.353,2,   2157.2,2,   2280.8,2, 20020703,      556
  18HU20020623, AR07W,   118,  1, 253572,      3,2,20020703,0556, 55.4183, -53.8217, 2566,   2659.9,   2.2914,  34.8920,2,  34.8928,2,    279.7,2,    284.6,2,    10.89,6,    15.35,6,     1.14,6,    2.774,2,    0.877,4,    0.188,4,    3.790,4,    7.076,2,   2158.0,2,   2285.0,2, 20020703,      610
  18HU20020623, AR07W,   118,  1, 253573,      4,2,20020703,0556, 55.4183, -53.8217, 2566,   2500.8,   2.5851,  34.8997,2,-999.0000,9,    275.8,2,   -999.0,9,  -999.00,9,  -999.00,9,  -999.00,9, -999.000,9, -999.000,9, -999.000,9, -999.000,9, -999.000,9,   -999.0,9,   -999.0,9, 20020703,      617
  18HU20020623, AR07W,   118,  1, 253574,      5,2,20020703,0556, 55.4183, -53.8217, 2566,   2500.6,   2.5854,  34.9000,2,  34.8999,6,    275.8,2,    278.7,2,    11.12,6,    15.43,6,     1.17,6,    2.378,2,    0.341,4,    0.000,4,    3.554,4,    7.163,2,   2153.2,2,   2232.5,3, 20020703,      617
  18HU20020623, AR07W,   118,  1, 253575,      6,2,20020703,0556, 55.4183, -53.8217, 2566,   2400.5,   2.7030,  34.9015,2,  34.9012,2,    274.5,2,    279.9,2,    10.92,6,    15.74,6,     1.17,6,    2.527,2,    0.927,4,    0.192,4,    3.525,4,    6.975,2,   2154.5,2,   2278.2,2, 20020703,      620
  18HU20020623, AR07W,   118,  1, 253576,      7,2,20020703,0556, 55.4183, -53.8217, 2566,   2285.3,   2.7842,  34.8959,2,  34.8965,2,    274.9,2,    281.4,2,    10.42,6,    15.71,6,     1.18,6,    2.790,2,    0.490,4,    0.292,4,    3.858,4,    7.723,2,   2154.8,2,   2294.4,2, 20020703,      623
  18HU20020623, AR07W,   118,  1, 253577,      8,2,20020703,0556, 55.4183, -53.8217, 2566,   2150.4,   2.9375,  34.8956,2,  34.8956,6,    274.0,2,    277.8,6,    10.33,6,    15.98,6,     1.19,6,    2.341,2,    0.432,4,    2.020,4,    4.226,4,   12.578,2,   2156.4,2,   2259.2,2, 20020703,      625
  18HU20020623, AR07W,   118,  1, 253578,      9,2,20020703,0556, 55.4183, -53.8217, 2566,   1999.5,   3.0287,  34.8880,2,  34.8879,2,    274.5,2,    282.3,2,     9.86,6,    16.07,6,     1.21,6,    3.021,2,    0.748,4,    0.327,4,    4.149,4,    8.922,2,   2154.1,2,   2279.6,2, 20020703,      628
  18HU20020623, AR07W,   118,  1, 253579,     10,2,20020703,0556, 55.4183, -53.8217, 2566,   1851.8,   3.0423,  34.8790,2,  34.8794,2,    275.8,2,    284.3,2,     9.86,6,    16.11,6,     1.22,6,    2.987,2,    0.000,4,    0.320,4,    4.131,4,    9.335,2,   2153.4,2,   2277.8,2, 20020703,      632
  18HU20020623, AR07W,   118,  1, 253580,     11,2,20020703,0556, 55.4183, -53.8217, 2566,   1700.4,   3.1013,  34.8731,2,  34.8737,2,    276.2,2,    273.3,3,     9.68,6,    16.28,6,     1.21,6,    4.291,3,    2.405,4,    0.388,4,    5.978,4,   12.845,2,   2155.0,2,   2278.4,2, 20020703,      635
  18HU20020623, AR07W,   118,  1, 253581,     12,2,20020703,0556, 55.4183, -53.8217, 2566,   1529.8,   3.2702,  34.8792,2,  34.8788,2,    272.4,2,    281.5,2,     9.59,6,    16.47,6,     1.22,6,    3.450,2,    1.121,4,    0.288,4,    4.696,4,   10.211,2,   2155.5,2,   2274.6,2, 20020703,      638
  18HU20020623, AR07W,   118,  1, 253582,     13,2,20020703,0556, 55.4183, -53.8217, 2566,   1360.7,   3.3903,  34.8808,2,  34.8812,2,    270.3,2,    279.8,2,     9.59,6,    16.47,6,     1.23,6,    3.357,2,    0.820,4,    0.002,4,    4.704,4,    9.644,2,   2156.7,2,   2251.8,2, 20020703,      641
  18HU20020623, AR07W,   118,  1, 253583,     14,2,20020703,0556, 55.4183, -53.8217, 2566,   1171.0,   3.2461,  34.8454,2,  34.8452,2,    283.2,2,    294.8,2,     8.27,6,    15.68,6,     1.18,6,    5.737,2,    1.417,4,    0.448,4,    8.273,4,    8.912,2,   2149.1,2,   2293.6,2, 20020703,      645
  18HU20020623, AR07W,   118,  1, 253584,     15,2,20020703,0556, 55.4183, -53.8217, 2566,    980.3,   3.1928,  34.8369,2,  34.8375,2,    285.7,2,    297.9,2,     8.07,6,    15.65,6,     1.17,6,    5.936,2,    1.737,4,    0.496,4,    8.921,4,    8.678,2,   2151.1,2,   2252.1,2, 20020703,      649
  18HU20020623, AR07W,   118,  1, 253585,     16,2,20020703,0556, 55.4183, -53.8217, 2566,    880.9,   3.1869,  34.8355,2,  34.8353,2,    284.2,2,    297.2,2,     7.98,6,    15.70,6,     1.16,6,    5.622,2,    1.572,4,    0.177,4,    8.723,4,    8.873,2,   2151.0,2,   2284.2,2, 20020703,      651
  18HU20020623, AR07W,   118,  1, 253586,     17,2,20020703,0556, 55.4183, -53.8217, 2566,    670.0,   3.2965,  34.8461,2,  34.8460,2,    281.1,2,    294.0,2,     8.05,6,    15.72,6,     1.16,6,    5.525,2,    1.417,4,    0.486,4,    7.992,4,    8.333,2,   2150.9,2,   2240.7,2, 20020703,      655
  18HU20020623, AR07W,   118,  1, 253587,     18,2,20020703,0556, 55.4183, -53.8217, 2566,    500.4,   3.2402,  34.8315,2,  34.8310,2,    282.4,2,    296.2,2,     7.93,6,    15.86,6,     1.17,6,    5.930,2,    1.573,4,    0.133,4,    8.804,4,    8.654,2,   2150.1,2,   2280.9,2, 20020703,      658
  18HU20020623, AR07W,   118,  1, 253588,     19,2,20020703,0556, 55.4183, -53.8217, 2566,    351.2,   3.2221,  34.8202,2,  34.8204,2,    282.3,2,    296.3,6,     7.97,6,    15.84,6,     1.18,6,    5.453,2,    1.052,4,    0.172,4,    8.242,4,    8.026,2,   2149.3,2,   2282.0,2, 20020703,      701
  18HU20020623, AR07W,   118,  1, 253589,     20,2,20020703,0556, 55.4183, -53.8217, 2566,    200.8,   3.3528,  34.8248,2,  34.8249,2,    283.1,2,    297.6,2,     7.51,6,    15.48,6,     1.15,6,    6.002,2,    1.572,4,    0.624,4,    8.993,4,    7.204,2,   2147.1,2,   2284.5,2, 20020703,      704
  18HU20020623, AR07W,   118,  1, 253590,     21,2,20020703,0556, 55.4183, -53.8217, 2566,    120.5,   3.3972,  34.8012,2,  34.7997,2,    289.8,2,    304.8,2,     7.58,6,    14.84,6,     1.14,6,    6.653,2,    1.973,4,    0.182,4,   10.972,4,    7.279,2,   2143.9,2,   2291.3,2, 20020703,      706
  18HU20020623, AR07W,   118,  1, 253591,     22,2,20020703,0556, 55.4183, -53.8217, 2566,     70.2,   3.5617,  34.7805,2,  33.2129,3,    293.2,2,    308.2,2,     7.27,6,    13.75,6,     1.11,6,    6.515,2,    1.676,4,    0.047,4,   11.773,4,    7.129,2,   2141.5,2,   2289.0,2, 20020703,      708
  18HU20020623, AR07W,   118,  1, 253592,     23,2,20020703,0556, 55.4183, -53.8217, 2566,     29.3,   4.9174,  34.7419,2,  34.7427,2,    312.0,2,    324.7,2,     2.72,6,     6.78,6,     0.72,6,    6.247,2,    2.070,4,    0.148,4,   11.918,4,    6.423,2,   2101.9,2,   2316.2,2, 20020703,      709
  18HU20020623, AR07W,   118,  1, 253593,     24,2,20020703,0556, 55.4183, -53.8217, 2566,      5.4,   6.5952,  34.7163,2,  34.7188,2,    328.7,2,    342.4,2,     0.00,6,     0.13,6,     0.18,6,    6.291,2,    2.018,4,    0.176,4,   11.243,4,    5.441,2,   2041.7,2,   2294.4,2, 20020703,      710
  18HU20020623, AR07W,   122,  1, 253594,      1,2,20020703,1049, 55.2635, -53.9827, 2060,   2065.2,   3.0021,  34.8908,2,  34.8908,2,    276.6,2,    282.8,2,     9.94,6,    16.00,6,     1.17,6,    2.948,2,    1.694,4,    0.149,4,    3.705,4,    3.547,2,   2153.2,2,   2268.8,2, 20020703,     1049
  18HU20020623, AR07W,   122,  1, 253595,      2,2,20020703,1049, 55.2635, -53.9827, 2060,   1970.5,   3.0148,  34.8900,2,  34.8902,6,    276.1,2,    283.0,2,    10.16,6,    16.21,6,     1.19,6, -999.000,9, -999.000,9, -999.000,9, -999.000,9, -999.000,9,   2152.7,2,   2281.9,2, 20020703,     1052
  18HU20020623, AR07W,   122,  1, 253596,      3,2,20020703,1049, 55.2635, -53.9827, 2060,   1900.1,   3.0520,  34.8871,2,  34.8873,2,    276.1,2,    283.8,2,     9.88,6,    16.24,6,     1.18,6,    3.130,2,    1.769,4,    0.137,4,    3.743,4,    3.700,2,   2152.1,2,   2275.4,2, 20020703,     1054
  18HU20020623, AR07W,   122,  1, 253597,      4,2,20020703,1049, 55.2635, -53.9827, 2060,   1810.9,   3.0938,  34.8818,2,  34.8818,2,    276.7,2,    284.2,2,     9.70,6,    16.45,6,     1.20,6,    3.294,2,    1.848,4,    0.173,4,    4.071,4,    4.048,2,   2154.6,2,   2308.9,2, 20020703,     1056
  18HU20020623, AR07W,   122,  1, 253598,      5,2,20020703,1049, 55.2635, -53.9827, 2060,   1690.7,   3.1760,  34.8804,2,  34.8804,2,    275.3,2,    283.9,6,     9.74,6,    16.45,6,     1.20,6,    3.445,2,    1.944,4,    0.222,4,    4.248,4,    4.271,2,   2154.2,2,   2304.3,2, 20020703,     1058
  18HU20020623, AR07W,   122,  1, 253599,      6,2,20020703,1049, 55.2635, -53.9827, 2060,   1549.9,   3.2924,  34.8843,2,  34.8838,2,    273.2,2,    281.8,2,     9.65,6,    16.66,6,     1.20,6,    3.447,2,    1.919,4,    0.181,4,    4.040,4,    3.988,2,   2154.5,2,   2265.7,2, 20020703,     1101
  18HU20020623, AR07W,   122,  1, 253600,      7,2,20020703,1049, 55.2635, -53.9827, 2060,   1390.5,   3.3925,  34.8866,2,  34.8871,2,    271.3,2,    280.1,2,     9.47,6,    16.49,6,     1.20,6,    3.461,2,    1.957,4,    0.180,4,    4.075,4,    3.795,2,   2153.4,2,   2274.8,2, 20020703,     1104
  18HU20020623, AR07W,   122,  1, 253601,      8,2,20020703,1049, 55.2635, -53.9827, 2060,   1211.8,   3.3572,  34.8681,2,  34.8682,2,    276.5,2,    286.8,2,     8.89,6,    16.20,6,     1.18,6,    3.973,2,    2.185,4,    0.266,4,    4.535,4,    3.314,2,   2153.1,2,   2294.7,2, 20020703,     1108
  18HU20020623, AR07W,   122,  1, 253602,      9,2,20020703,1049, 55.2635, -53.9827, 2060,   1030.7,   3.2538,  34.8449,2,  34.8450,2,    283.5,2,    295.0,2,     8.30,6,    15.83,6,     1.15,6,    4.624,2,    2.551,4,    0.301,4,    5.544,4,    3.126,2,   2151.3,2,   2271.3,2, 20020703,     1111
  18HU20020623, AR07W,   122,  1, 253603,     10,2,20020703,1049, 55.2635, -53.9827, 2060,    851.2,   3.3032,  34.8461,2,  34.8462,2,    282.0,2,    294.4,2,     8.52,6,    15.65,6,     1.15,6,    4.369,2,    2.462,4,    0.301,4,    5.101,4,    2.852,2,   2150.5,2,   2263.1,2, 20020703,     1114
  18HU20020623, AR07W,   122,  1, 253604,     11,2,20020703,1049, 55.2635, -53.9827, 2060,    673.2,   3.3564,  34.8486,2,  34.8495,2,    280.6,2,    292.5,2,     8.39,6,    15.60,6,     1.17,6,    4.518,2,    2.524,4,    0.308,4,    5.437,4,    3.066,2,   2144.3,2,   2267.1,2, 20020703,     1118
  18HU20020623, AR07W,   122,  1, 253605,     12,2,20020703,1049, 55.2635, -53.9827, 2060,    511.9,   3.2765,  34.8269,2,  34.8257,2,    284.1,2,    297.5,2,     8.02,6,    15.29,6,     1.16,6,    4.894,2,    2.713,4,    0.328,4,    5.937,4,    2.849,2,   2143.3,2,   2278.6,2, 20020703,     1121
  18HU20020623, AR07W,   122,  1, 253606,     13,2,20020703,1049, 55.2635, -53.9827, 2060,    371.4,   3.4108,  34.8338,2,  34.8326,2,    282.3,2,    296.1,2,     7.90,6,    15.32,6,     1.16,6,    4.371,2,    2.475,4,    0.410,4,    4.917,4,    2.308,2,   2148.0,2,   2302.2,2, 20020703,     1124
  18HU20020623, AR07W,   122,  1, 253607,     14,2,20020703,1049, 55.2635, -53.9827, 2060,    251.3,   3.4976,  34.8259,2,-999.0000,9,    281.7,2,    295.7,2,     7.79,6,    15.16,6,     1.14,6,    4.836,2,    2.701,4,    0.324,4,    5.836,4,    2.687,2,   2148.1,2,   2256.7,2, 20020703,     1126
  18HU20020623, AR07W,   122,  1, 253608,     15,2,20020703,1049, 55.2635, -53.9827, 2060,    150.7,   3.5793,  34.8023,2,-999.0000,9,    288.2,2,    302.7,2,     7.55,6,    14.14,6,     1.10,6,    5.119,2,    2.835,4,    0.350,4,    6.447,4,    2.500,2,   2146.0,2,   2283.3,2, 20020703,     1128
  18HU20020623, AR07W,   122,  1, 253609,     16,2,20020703,1049, 55.2635, -53.9827, 2060,    101.1,   3.7166,  34.7799,2,-999.0000,9,    293.2,2,    308.2,2,     7.19,6,    12.96,6,     1.10,6,    0.056,4,    0.035,4,    0.000,4,    0.000,4,    0.117,2,   2141.6,2,   2293.9,2, 20020703,     1129
  18HU20020623, AR07W,   122,  1, 253610,     17,2,20020703,1049, 55.2635, -53.9827, 2060,     50.9,   4.6327,  34.6959,2,  34.6879,2,    312.6,2,    329.0,2,     4.29,6,     7.58,6,     0.78,6,    5.336,2,    2.924,4,    0.408,4,    7.013,4,    2.263,2,   2107.9,2,   2276.4,2, 20020703,     1131
  18HU20020623, AR07W,   122,  1, 253611,     18,2,20020703,1049, 55.2635, -53.9827, 2060,     20.0,   5.8119,  34.6002,2,-999.0000,9,    348.8,2,    365.4,2,     0.00,6,     0.21,6,     0.18,6,    5.148,2,    2.853,4,    0.398,4,    6.899,4,    2.084,2,   2045.3,2,   2283.3,2, 20020703,     1132
  18HU20020623, AR07W,   122,  1, 253612,     19,2,20020703,1049, 55.2635, -53.9827, 2060,      2.8,   5.8768,  34.6022,2,-999.0000,9,    352.9,2,    368.6,2,     0.00,6,     0.14,6,     0.16,6, -999.000,9, -999.000,9, -999.000,9, -999.000,9, -999.000,9,   2037.9,2,   2309.9,2, 20020703,     1133
  18HU20020623, AR07W,   128,  1, 253613,      1,2,20020703,1502, 55.1270, -54.0855, 1000,    200.1,   3.6811,  34.8023,2,-999.0000,9,    287.6,2,   -999.0,9,     7.63,6,    14.23,6,     1.08,6, -999.000,9, -999.000,9, -999.000,9, -999.000,9, -999.000,9,   -999.0,9,   -999.0,9, 20020703,     1502
  18HU20020623, AR07W,   128,  1, 253614,      2,2,20020703,1502, 55.1270, -54.0855, 1000,    149.0,   3.7580,  34.7819,2,-999.0000,9,    289.3,2,   -999.0,9,     7.44,6,    13.26,6,     1.08,6, -999.000,9, -999.000,9, -999.000,9, -999.000,9, -999.000,9,   -999.0,9,   -999.0,9, 20020703,     1504
  18HU20020623, AR07W,   128,  1, 253615,      3,2,20020703,1502, 55.1270, -54.0855, 1000,    100.1,   3.9693,  34.7742,2,-999.0000,9,    294.5,2,   -999.0,9,     6.86,6,    12.02,6,     1.05,6, -999.000,9, -999.000,9, -999.000,9, -999.000,9, -999.000,9,   -999.0,9,   -999.0,9, 20020703,     1505
  18HU20020623, AR07W,   128,  1, 253616,      4,2,20020703,1502, 55.1270, -54.0855, 1000,     79.9,   4.4581,  34.7568,2,-999.0000,9,    303.3,2,   -999.0,9,     4.65,6,     9.40,6,     0.94,6, -999.000,9, -999.000,9, -999.000,9, -999.000,9, -999.000,9,   -999.0,9,   -999.0,9, 20020703,     1506
  18HU20020623, AR07W,   128,  1, 253617,      5,2,20020703,1502, 55.1270, -54.0855, 1000,     60.4,   5.3004,  34.7448,2,-999.0000,9,    320.4,2,   -999.0,9,     1.37,6,     4.78,6,     0.58,6, -999.000,9, -999.000,9, -999.000,9, -999.000,9, -999.000,9,   -999.0,9,   -999.0,9, 20020703,     1507
  18HU20020623, AR07W,   128,  1, 253618,      6,2,20020703,1502, 55.1270, -54.0855, 1000,     50.4,   5.8291,  34.7085,2,-999.0000,9,    333.8,2,   -999.0,9,     0.41,6,     2.26,6,     0.32,6, -999.000,9, -999.000,9, -999.000,9, -999.000,9, -999.000,9,   -999.0,9,   -999.0,9, 20020703,     1508
  18HU20020623, AR07W,   128,  1, 253619,      7,2,20020703,1502, 55.1270, -54.0855, 1000,     39.9,   5.9395,  34.6883,2,-999.0000,9,    338.4,2,   -999.0,9,     0.00,6,     1.64,6,     0.31,6, -999.000,9, -999.000,9, -999.000,9, -999.000,9, -999.000,9,   -999.0,9,   -999.0,9, 20020703,     1509
  18HU20020623, AR07W,   128,  1, 253620,      8,2,20020703,1502, 55.1270, -54.0855, 1000,     39.9,   5.9428,  34.6879,2,-999.0000,9,    338.4,2,   -999.0,9,  -999.00,9,  -999.00,9,  -999.00,9, -999.000,9, -999.000,9, -999.000,9, -999.000,9, -999.000,9,   -999.0,9,   -999.0,9, 20020703,     1509
  18HU20020623, AR07W,   128,  1, 253621,      9,2,20020703,1502, 55.1270, -54.0855, 1000,     39.8,   5.9247,  34.6937,2,-999.0000,9,    338.4,2,   -999.0,9,  -999.00,9,  -999.00,9,  -999.00,9, -999.000,9, -999.000,9, -999.000,9, -999.000,9, -999.000,9,   -999.0,9,   -999.0,9, 20020703,     1510
  18HU20020623, AR07W,   128,  1, 253622,     10,2,20020703,1502, 55.1270, -54.0855, 1000,     30.0,   5.9824,  34.6828,2,-999.0000,9,    342.0,2,   -999.0,9,     0.00,6,     1.14,6,     0.31,6, -999.000,9, -999.000,9, -999.000,9, -999.000,9, -999.000,9,   -999.0,9,   -999.0,9, 20020703,     1511
  18HU20020623, AR07W,   128,  1, 253623,     11,2,20020703,1502, 55.1270, -54.0855, 1000,     19.5,   6.0135,  34.6796,2,-999.0000,9,    342.6,2,   -999.0,9,     0.00,6,     1.02,6,     0.23,6, -999.000,9, -999.000,9, -999.000,9, -999.000,9, -999.000,9,   -999.0,9,   -999.0,9, 20020703,     1511
  18HU20020623, AR07W,   128,  1, 253624,     12,2,20020703,1502, 55.1270, -54.0855, 1000,      9.8,   6.0495,  34.6776,2,-999.0000,9,    344.2,2,   -999.0,9,     0.00,6,     0.80,6,     0.21,6, -999.000,9, -999.000,9, -999.000,9, -999.000,9, -999.000,9,   -999.0,9,   -999.0,9, 20020703,     1512
  18HU20020623, AR07W,   128,  1, 253625,     13,2,20020703,1502, 55.1270, -54.0855, 1000,      9.8,   6.0522,  34.6776,2,-999.0000,9,    344.1,2,   -999.0,9,  -999.00,9,  -999.00,9,  -999.00,9, -999.000,9, -999.000,9, -999.000,9, -999.000,9, -999.000,9,   -999.0,9,   -999.0,9, 20020703,     1513
  18HU20020623, AR07W,   128,  1, 253626,     14,2,20020703,1502, 55.1270, -54.0855, 1000,      9.9,   6.0636,  34.6775,2,-999.0000,9,    344.4,2,   -999.0,9,  -999.00,9,  -999.00,9,  -999.00,9, -999.000,9, -999.000,9, -999.000,9, -999.000,9, -999.000,9,   -999.0,9,   -999.0,9, 20020703,     1513
  18HU20020623, AR07W,   128,  1, 253627,     15,2,20020703,1502, 55.1270, -54.0855, 1000,     10.1,   6.0627,  34.6768,2,-999.0000,9,    344.8,2,   -999.0,9,  -999.00,9,  -999.00,9,  -999.00,9, -999.000,9, -999.000,9, -999.000,9, -999.000,9, -999.000,9,   -999.0,9,   -999.0,9, 20020703,     1513
  18HU20020623, AR07W,   128,  1, 253628,     16,2,20020703,1502, 55.1270, -54.0855, 1000,      2.7,   6.0750,  34.6774,2,-999.0000,9,    344.3,2,   -999.0,9,     0.00,6,     0.64,6,     0.24,6, -999.000,9, -999.000,9, -999.000,9, -999.000,9, -999.000,9,   -999.0,9,   -999.0,9, 20020703,     1514
  18HU20020623, AR07W,   128,  1, 253629,     17,2,20020703,1502, 55.1270, -54.0855, 1000,      2.8,   6.0797,  34.6772,2,-999.0000,9,    343.9,2,   -999.0,9,  -999.00,9,  -999.00,9,  -999.00,9, -999.000,9, -999.000,9, -999.000,9, -999.000,9, -999.000,9,   -999.0,9,   -999.0,9, 20020703,     1515