BOTTLE,20130611PRINUNIVRMK
EXPOCODE,SECT_ID,STNNBR,CASTNO,SAMPNO,BTLNBR,BTLNBR_FLAG_W,DATE,TIME,LATITUDE,LONGITUDE,DEPTH,CTDPRS,CTDTMP,CTDSAL,CTDSAL_FLAG_W,SALNTY,SALNTY_FLAG_W,CTDOXY,CTDOXY_FLAG_W,OXYGEN,OXYGEN_FLAG_W,SILCAT,SILCAT_FLAG_W,NITRAT,NITRAT_FLAG_W,PHSPHT,PHSPHT_FLAG_W,CFC-11,CFC-11_FLAG_W,CFC-12,CFC-12_FLAG_W,CFC113,CFC113_FLAG_W,CCL4,CCL4_FLAG_W,MCHFRM,MCHFRM_FLAG_W,TCARBN,TCARBN_FLAG_W,ALKALI,ALKALI_FLAG_W,BTL_DATE,BTL_TIME
,,,,,,,,,,,METERS,DBAR,ITS-90,PSS-78,,PSS-78,,UMOL/KG,,UMOL/KG,,UMOL/KG,,UMOL/KG,,UMOL/KG,,PMOL/KG,,PMOL/KG,,PMOL/KG,,PMOL/KG,,PMOL/KG,,UMOL/KG,,UMOL/KG,,,
  18HU20020623, AR07W,   100,  1, 253455,      1,2,20020702,1146, 53.7977, -55.4340,  220,    199.0,   0.8079,  34.0397,2,  34.0371,6,    286.6,2,    306.5,2,    10.89,6,    12.56,6,     0.89,6,    5.865,2,    3.184,4,    0.416,4,    9.451,4,    2.319,2,   2133.4,2,   2244.4,2, 20020702,     1146
  18HU20020623, AR07W,   100,  1, 253456,      2,2,20020702,1146, 53.7977, -55.4340,  220,    199.3,   0.8076,  34.0397,2,-999.0000,9,    286.8,2,   -999.0,9,  -999.00,9,  -999.00,9,  -999.00,9, -999.000,9, -999.000,9, -999.000,9, -999.000,9, -999.000,9,   -999.0,9,   -999.0,9, 20020702,     1146
  18HU20020623, AR07W,   100,  1, 253457,      3,2,20020702,1146, 53.7977, -55.4340,  220,    181.0,   0.7844,  34.0343,2,  34.0322,6,    286.2,2,    306.1,2,    10.99,6,    12.59,6,     0.89,6,    5.711,2,    3.132,4,    0.413,4,    9.447,4,    2.292,2,   2132.7,2,   2239.2,2, 20020702,     1147
  18HU20020623, AR07W,   100,  1, 253458,      4,2,20020702,1146, 53.7977, -55.4340,  220,    151.0,  -0.3780,  33.6710,2,  33.6714,2,    294.3,2,    320.0,6,     9.63,6,    11.34,6,     0.82,6,    6.064,2,    3.291,4,    0.469,4,   10.580,4,    2.464,2,   2120.5,2,   2232.4,2, 20020702,     1148
  18HU20020623, AR07W,   100,  1, 253459,      5,2,20020702,1146, 53.7977, -55.4340,  220,    151.0,  -0.3783,  33.6704,2,-999.0000,9,    292.3,2,   -999.0,9,  -999.00,9,  -999.00,9,  -999.00,9, -999.000,9, -999.000,9, -999.000,9, -999.000,9, -999.000,9,   -999.0,9,   -999.0,9, 20020702,     1148
  18HU20020623, AR07W,   100,  1, 253460,      6,2,20020702,1146, 53.7977, -55.4340,  220,    125.4,  -0.7575,  33.5020,2,  33.5046,2,    297.3,2,    323.3,2,     9.77,6,    10.73,6,     0.93,6,    6.601,2,    3.454,4,    0.484,4,   11.015,4,    2.622,2,   2118.6,2,   2206.9,2, 20020702,     1149
  18HU20020623, AR07W,   100,  1, 253461,      7,2,20020702,1146, 53.7977, -55.4340,  220,    100.9,  -1.0227,  33.3391,2,-999.0000,9,    299.9,2,    326.3,2,    10.17,6,    10.31,6,     0.84,6,    6.481,2,    3.387,4,    0.466,4,   10.822,4,    2.584,2,   2119.2,2,   2211.8,2, 20020702,     1150
  18HU20020623, AR07W,   100,  1, 253462,      8,2,20020702,1146, 53.7977, -55.4340,  220,    101.0,  -1.0243,  33.3378,2,-999.0000,9,    300.6,2,   -999.0,9,  -999.00,9,  -999.00,9,  -999.00,9, -999.000,9, -999.000,9, -999.000,9, -999.000,9, -999.000,9,   -999.0,9,   -999.0,9, 20020702,     1150
  18HU20020623, AR07W,   100,  1, 253463,      9,2,20020702,1146, 53.7977, -55.4340,  220,     80.4,  -1.1535,  33.2375,2,-999.0000,9,    303.1,2,   -999.0,9,    10.28,6,     9.76,6,     0.83,6, -999.000,9, -999.000,9, -999.000,9, -999.000,9, -999.000,9,   -999.0,9,   -999.0,9, 20020702,     1151
  18HU20020623, AR07W,   100,  1, 253464,     10,2,20020702,1146, 53.7977, -55.4340,  220,     60.2,  -1.1340,  33.0528,2,-999.0000,9,    308.4,2,   -999.0,9,     9.74,6,     8.72,6,     0.82,6, -999.000,9, -999.000,9, -999.000,9, -999.000,9, -999.000,9,   -999.0,9,   -999.0,9, 20020702,     1152
  18HU20020623, AR07W,   100,  1, 253465,     11,2,20020702,1146, 53.7977, -55.4340,  220,     49.9,  -1.2650,  32.9980,2,  32.9978,2,    310.9,2,    336.9,2,     9.73,6,     8.57,6,     0.82,6,    7.220,2,    3.660,4,    0.539,4,   12.137,4,    2.786,2,   2113.3,2,   2219.0,2, 20020702,     1153
  18HU20020623, AR07W,   100,  1, 253466,     12,2,20020702,1146, 53.7977, -55.4340,  220,     50.1,  -1.2615,  32.9975,2,-999.0000,9,    309.6,2,   -999.0,9,  -999.00,9,  -999.00,9,  -999.00,9, -999.000,9, -999.000,9, -999.000,9, -999.000,9, -999.000,9,   -999.0,9,   -999.0,9, 20020702,     1153
  18HU20020623, AR07W,   100,  1, 253467,     13,2,20020702,1146, 53.7977, -55.4340,  220,     39.8,  -1.0880,  32.9577,2,-999.0000,9,    313.4,2,   -999.0,9,     8.54,6,     8.03,6,     0.79,6, -999.000,9, -999.000,9, -999.000,9, -999.000,9, -999.000,9,   -999.0,9,   -999.0,9, 20020702,     1154
  18HU20020623, AR07W,   100,  1, 253468,     14,2,20020702,1146, 53.7977, -55.4340,  220,     30.2,  -0.5790,  32.8720,2,-999.0000,9,    339.1,2,   -999.0,9,  -999.00,9,  -999.00,9,  -999.00,9, -999.000,9, -999.000,9, -999.000,9, -999.000,9, -999.000,9,   -999.0,9,   -999.0,9, 20020702,     1155
  18HU20020623, AR07W,   100,  1, 253469,     15,2,20020702,1146, 53.7977, -55.4340,  220,     29.9,  -0.5928,  32.8770,2,-999.0000,9,    346.4,2,   -999.0,9,  -999.00,9,  -999.00,9,  -999.00,9, -999.000,9, -999.000,9, -999.000,9, -999.000,9, -999.000,9,   -999.0,9,   -999.0,9, 20020702,     1155
  18HU20020623, AR07W,   100,  1, 253470,     16,2,20020702,1146, 53.7977, -55.4340,  220,     30.1,  -0.5742,  32.8762,2,-999.0000,9,    351.8,2,   -999.0,9,     1.17,6,     3.61,6,     0.49,6, -999.000,9, -999.000,9, -999.000,9, -999.000,9, -999.000,9,   -999.0,9,   -999.0,9, 20020702,     1155
  18HU20020623, AR07W,   100,  1, 253471,     17,2,20020702,1146, 53.7977, -55.4340,  220,     20.0,   1.1617,  32.5765,2,-999.0000,9,    377.5,2,   -999.0,9,  -999.00,9,  -999.00,9,  -999.00,9, -999.000,9, -999.000,9, -999.000,9, -999.000,9, -999.000,9,   -999.0,9,   -999.0,9, 20020702,     1156
  18HU20020623, AR07W,   100,  1, 253472,     18,2,20020702,1146, 53.7977, -55.4340,  220,     10.3,   4.1775,  32.2629,2,-999.0000,9,    372.7,2,    391.3,2,     0.00,6,     0.00,6,     0.15,6,    6.543,2,    3.477,4,    0.488,4,   12.363,4,    2.049,2,   1978.7,2,   2174.1,2, 20020702,     1156
  18HU20020623, AR07W,   100,  1, 253473,     19,2,20020702,1146, 53.7977, -55.4340,  220,     10.0,   4.1544,  32.2655,2,-999.0000,9,    371.5,2,   -999.0,9,     0.00,6,     0.00,6,     0.23,6, -999.000,9, -999.000,9, -999.000,9, -999.000,9, -999.000,9,   -999.0,9,   -999.0,9, 20020702,     1156
  18HU20020623, AR07W,   100,  1, 253474,     20,2,20020702,1146, 53.7977, -55.4340,  220,      9.9,   4.1301,  32.2689,2,-999.0000,9,    370.9,2,   -999.0,9,  -999.00,9,  -999.00,9,  -999.00,9, -999.000,9, -999.000,9, -999.000,9, -999.000,9, -999.000,9,   -999.0,9,   -999.0,9, 20020702,     1156
  18HU20020623, AR07W,   100,  1, 253475,     21,2,20020702,1146, 53.7977, -55.4340,  220,      9.9,   4.1666,  32.2683,2,-999.0000,9,    369.9,2,   -999.0,9,  -999.00,9,  -999.00,9,  -999.00,9, -999.000,9, -999.000,9, -999.000,9, -999.000,9, -999.000,9,   -999.0,9,   -999.0,9, 20020702,     1156
  18HU20020623, AR07W,   100,  1, 253476,     22,2,20020702,1146, 53.7977, -55.4340,  220,     10.3,   4.1765,  32.2697,2,-999.0000,9,    369.6,2,   -999.0,9,  -999.00,9,  -999.00,9,  -999.00,9, -999.000,9, -999.000,9, -999.000,9, -999.000,9, -999.000,9,   -999.0,9,   -999.0,9, 20020702,     1156
  18HU20020623, AR07W,   100,  1, 253477,     23,2,20020702,1146, 53.7977, -55.4340,  220,      2.4,   4.3450,  32.2409,2,-999.0000,9,    365.4,2,   -999.0,9,     0.00,6,     0.00,6,     0.19,6, -999.000,9, -999.000,9, -999.000,9, -999.000,9, -999.000,9,   -999.0,9,   -999.0,9, 20020702,     1157
  18HU20020623, AR07W,   100,  1, 253478,     24,2,20020702,1146, 53.7977, -55.4340,  220,      2.6,   4.3262,  32.2436,2,-999.0000,9,    365.5,2,   -999.0,9,  -999.00,9,  -999.00,9,  -999.00,9, -999.000,9, -999.000,9, -999.000,9, -999.000,9, -999.000,9,   -999.0,9,   -999.0,9, 20020702,     1157
  18HU20020623, AR07W,   102,  1, 253479,      1,2,20020702,1329, 53.9923, -55.2517,  148,    141.5,   0.3128,  33.9013,2,  33.8562,6,    291.8,2,    314.9,2,     9.57,6,    11.70,6,     0.88,6,    6.859,2,    3.615,4,    0.505,4,   10.742,4,    7.784,2,   2123.7,2,   2258.9,2, 20020702,     1329
  18HU20020623, AR07W,   102,  1, 253480,      2,2,20020702,1329, 53.9923, -55.2517,  148,    125.7,  -0.4136,  33.6400,2,-999.0000,9,    298.1,2,    322.8,2,     8.79,6,    10.27,6,     0.79,6,    7.175,2,    3.724,4,    0.494,4,   11.160,4,    7.929,2,   2117.4,2,   2171.7,3, 20020702,     1330
  18HU20020623, AR07W,   102,  1, 253481,      3,2,20020702,1329, 53.9923, -55.2517,  148,     99.8,  -0.9526,  33.4016,2,-999.0000,9,    301.4,2,    327.5,2,     8.96,6,     9.07,6,     0.80,6,    7.718,2,    3.574,4,    0.579,4,   11.923,4,    8.826,2,   2116.9,2,   2220.4,2, 20020702,     1331
  18HU20020623, AR07W,   102,  1, 253482,      4,2,20020702,1329, 53.9923, -55.2517,  148,     80.0,  -1.1703,  33.2406,2,-999.0000,9,    300.7,2,   -999.0,9,     9.86,6,     9.30,6,     0.84,6, -999.000,9, -999.000,9, -999.000,9, -999.000,9, -999.000,9,   -999.0,9,   -999.0,9, 20020702,     1332
  18HU20020623, AR07W,   102,  1, 253483,      5,2,20020702,1329, 53.9923, -55.2517,  148,     59.8,  -1.2746,  33.1222,2,-999.0000,9,    298.3,2,   -999.0,9,    10.12,6,     9.01,6,     0.85,6, -999.000,9, -999.000,9, -999.000,9, -999.000,9, -999.000,9,   -999.0,9,   -999.0,9, 20020702,     1333
  18HU20020623, AR07W,   102,  1, 253484,      6,2,20020702,1329, 53.9923, -55.2517,  148,     50.6,  -1.2592,  33.0616,2,  33.0643,2,    299.7,2,    331.5,2,     9.90,6,     8.43,6,     1.08,6,    8.272,2,    3.950,4,    0.580,4,   12.336,4,    9.057,2,   2119.3,2,   2224.5,2, 20020702,     1333
  18HU20020623, AR07W,   102,  1, 253485,      7,2,20020702,1329, 53.9923, -55.2517,  148,     40.8,  -1.2472,  33.0310,2,-999.0000,9,    307.9,2,   -999.0,9,     9.57,6,     8.04,6,     0.92,6, -999.000,9, -999.000,9, -999.000,9, -999.000,9, -999.000,9,   -999.0,9,   -999.0,9, 20020702,     1334
  18HU20020623, AR07W,   102,  1, 253486,      8,2,20020702,1329, 53.9923, -55.2517,  148,     30.6,  -1.0756,  32.8791,2,-999.0000,9,    316.6,2,   -999.0,9,     7.64,6,     7.43,6,     0.79,6, -999.000,9, -999.000,9, -999.000,9, -999.000,9, -999.000,9,   -999.0,9,   -999.0,9, 20020702,     1334
  18HU20020623, AR07W,   102,  1, 253487,      9,2,20020702,1329, 53.9923, -55.2517,  148,     20.5,  -0.9259,  32.7795,2,-999.0000,9,    340.6,2,   -999.0,9,     1.78,6,     4.64,6,     0.60,6, -999.000,9, -999.000,9, -999.000,9, -999.000,9, -999.000,9,   -999.0,9,   -999.0,9, 20020702,     1335
  18HU20020623, AR07W,   102,  1, 253488,     10,2,20020702,1329, 53.9923, -55.2517,  148,     10.6,   2.9790,  32.1775,2,-999.0000,9,    350.7,2,    383.2,2,     1.44,6,     2.62,6,     0.48,6,    8.320,2,    4.275,4,    0.713,4,   13.312,4,    7.962,2,   2040.7,2,   2205.3,2, 20020702,     1335
  18HU20020623, AR07W,   102,  1, 253489,     11,2,20020702,1329, 53.9923, -55.2517,  148,     10.8,   3.3494,  32.1449,2,-999.0000,9,    362.2,2,   -999.0,9,  -999.00,9,  -999.00,9,  -999.00,9, -999.000,9, -999.000,9, -999.000,9, -999.000,9, -999.000,9,   -999.0,9,   -999.0,9, 20020702,     1336
  18HU20020623, AR07W,   102,  1, 253490,     12,2,20020702,1329, 53.9923, -55.2517,  148,      2.6,   3.1564,  32.1856,2,-999.0000,9,    364.2,2,   -999.0,9,     0.23,6,     0.49,6,     0.29,6, -999.000,9, -999.000,9, -999.000,9, -999.000,9, -999.000,9,   -999.0,9,   -999.0,9, 20020702,     1336
  18HU20020623, AR07W,   104,  1, 253491,      1,2,20020702,1523, 54.2210, -55.0225,  167,    160.7,   0.9863,  34.0966,2,-999.0000,9,    286.2,2,    304.4,2,    10.54,6,    12.50,6,     0.93,6,    5.830,2,    3.200,4,    0.407,4,    9.453,4,    2.349,2,   2133.2,2,   2249.8,2, 20020702,     1523
  18HU20020623, AR07W,   104,  1, 253492,      2,2,20020702,1523, 54.2210, -55.0225,  167,    160.6,   0.9849,  34.0959,2,-999.0000,9,    286.3,2,   -999.0,9,  -999.00,9,  -999.00,9,  -999.00,9, -999.000,9, -999.000,9, -999.000,9, -999.000,9, -999.000,9,   -999.0,9,   -999.0,9, 20020702,     1523
  18HU20020623, AR07W,   104,  1, 253493,      3,2,20020702,1523, 54.2210, -55.0225,  167,    140.8,   0.0056,  33.8006,2,-999.0000,9,    296.2,2,    317.3,2,     9.02,6,    11.09,6,     0.50,3,    6.345,2,    3.366,4,    0.445,4,   10.599,4,    2.498,2,   2121.2,2,   2267.0,2, 20020702,     1524
  18HU20020623, AR07W,   104,  1, 253494,      4,2,20020702,1523, 54.2210, -55.0225,  167,    120.8,  -0.5007,  33.6005,2,  33.6040,6,    300.8,2,    324.5,6,     8.86,6,    10.27,6,     0.53,3,    6.571,2,    3.455,4,    0.467,4,   10.924,4,    2.538,2,   2116.0,2,   2215.3,2, 20020702,     1525
  18HU20020623, AR07W,   104,  1, 253495,      5,2,20020702,1523, 54.2210, -55.0225,  167,    100.7,  -0.8572,  33.4280,2,-999.0000,9,    305.0,2,    328.8,2,     8.80,6,     9.31,6,     0.87,6,    6.883,2,    3.542,4,    0.485,4,   11.470,4,    2.709,2,   2116.7,2,   2218.8,2, 20020702,     1526
  18HU20020623, AR07W,   104,  1, 253496,      6,2,20020702,1523, 54.2210, -55.0225,  167,    100.5,  -0.8578,  33.4252,2,-999.0000,9,    305.0,2,   -999.0,9,  -999.00,9,  -999.00,9,  -999.00,9, -999.000,9, -999.000,9, -999.000,9, -999.000,9, -999.000,9,   -999.0,9,   -999.0,9, 20020702,     1526
  18HU20020623, AR07W,   104,  1, 253497,      7,2,20020702,1523, 54.2210, -55.0225,  167,     80.8,  -1.0922,  33.2531,2,-999.0000,9,    304.6,2,   -999.0,9,     9.53,6,     9.29,6,     0.81,6, -999.000,9, -999.000,9, -999.000,9, -999.000,9, -999.000,9,   -999.0,9,   -999.0,9, 20020702,     1527
  18HU20020623, AR07W,   104,  1, 253498,      8,2,20020702,1523, 54.2210, -55.0225,  167,     60.5,  -1.0957,  33.1245,2,-999.0000,9,    307.4,2,   -999.0,9,     9.70,6,     8.60,6,     0.81,6, -999.000,9, -999.000,9, -999.000,9, -999.000,9, -999.000,9,   -999.0,9,   -999.0,9, 20020702,     1528
  18HU20020623, AR07W,   104,  1, 253499,      9,2,20020702,1523, 54.2210, -55.0225,  167,     50.4,  -0.8638,  33.0150,2,  33.0150,2,    311.3,2,    333.9,2,     9.86,6,     8.35,6,     0.81,6,    7.125,2,    3.640,4,    0.517,4,   11.598,4,    2.852,2,   2111.6,2,   2230.6,2, 20020702,     1529
  18HU20020623, AR07W,   104,  1, 253500,     10,2,20020702,1523, 54.2210, -55.0225,  167,     39.9,  -0.4916,  32.9073,2,-999.0000,9,    315.2,2,   -999.0,9,     9.38,6,     7.68,6,     0.77,6, -999.000,9, -999.000,9, -999.000,9, -999.000,9, -999.000,9,   -999.0,9,   -999.0,9, 20020702,     1530
  18HU20020623, AR07W,   104,  1, 253501,     11,2,20020702,1523, 54.2210, -55.0225,  167,     29.6,  -0.4867,  32.8090,2,-999.0000,9,    317.0,2,   -999.0,9,     9.66,6,     7.39,6,     0.78,6, -999.000,9, -999.000,9, -999.000,9, -999.000,9, -999.000,9,   -999.0,9,   -999.0,9, 20020702,     1531
  18HU20020623, AR07W,   104,  1, 253502,     12,2,20020702,1523, 54.2210, -55.0225,  167,     20.0,  -0.0839,  32.6499,2,-999.0000,9,    324.1,2,   -999.0,9,     9.00,6,     6.94,6,     0.73,6, -999.000,9, -999.000,9, -999.000,9, -999.000,9, -999.000,9,   -999.0,9,   -999.0,9, 20020702,     1531
  18HU20020623, AR07W,   104,  1, 253503,     13,2,20020702,1523, 54.2210, -55.0225,  167,     10.1,   1.9497,  32.0298,2,  32.0542,2,    331.3,2,    352.5,2,     6.92,6,     5.51,6,     0.65,6, -999.000,9, -999.000,9, -999.000,9, -999.000,9, -999.000,9,   2051.1,2,   2167.8,2, 20020702,     1532
  18HU20020623, AR07W,   104,  1, 253504,     14,2,20020702,1523, 54.2210, -55.0225,  167,     10.2,   1.9509,  32.0335,2,-999.0000,9,    331.8,2,   -999.0,9,  -999.00,9,  -999.00,9,  -999.00,9, -999.000,9, -999.000,9, -999.000,9, -999.000,9, -999.000,9,   -999.0,9,   -999.0,9, 20020702,     1532
  18HU20020623, AR07W,   104,  1, 253505,     15,2,20020702,1523, 54.2210, -55.0225,  167,     10.2,   1.9446,  32.0361,2,-999.0000,9,    331.9,2,   -999.0,9,  -999.00,9,  -999.00,9,  -999.00,9, -999.000,9, -999.000,9, -999.000,9, -999.000,9, -999.000,9,   -999.0,9,   -999.0,9, 20020702,     1532
  18HU20020623, AR07W,   104,  1, 253506,     16,2,20020702,1523, 54.2210, -55.0225,  167,      3.6,   2.0875,  31.8794,2,-999.0000,9,    332.0,2,   -999.0,9,     6.82,6,     5.38,6,     0.73,6, -999.000,9, -999.000,9, -999.000,9, -999.000,9, -999.000,9,   -999.0,9,   -999.0,9, 20020702,     1534
  18HU20020623, AR07W,   107,  1, 253507,      1,2,20020702,1842, 54.4877, -54.7637,  196,    182.5,   2.4480,  34.4371,2,  34.4361,6,    286.2,2,    300.3,2,     8.57,6,    12.90,6,     0.85,6,    4.653,2,    1.961,4,    9.017,4,    9.091,4,    9.472,2,   2134.8,2,   2272.0,3, 20020702,     1842
  18HU20020623, AR07W,   107,  1, 253508,      2,2,20020702,1842, 54.4877, -54.7637,  196,    150.6,   2.3280,  34.4010,2,  34.4010,2,    287.7,2,    302.7,2,     8.38,6,    12.77,6,     0.81,6,    5.927,2,    1.330,4,    0.711,4,    9.030,4,    7.043,2,   2130.3,2,   2290.2,2, 20020702,     1843
  18HU20020623, AR07W,   107,  1, 253509,      3,2,20020702,1842, 54.4877, -54.7637,  196,    125.5,   1.7454,  34.2605,2,  34.2597,2,    291.2,2,    308.1,6,     8.08,6,    12.17,6,     0.80,6,    6.166,2,    3.257,4,    0.644,4,   10.021,4,    7.415,2,   2127.1,2,   2279.5,2, 20020702,     1844
  18HU20020623, AR07W,   107,  1, 253510,      4,2,20020702,1842, 54.4877, -54.7637,  196,    100.6,   0.9304,  34.0393,2,  34.0394,2,    295.7,2,    314.7,2,     8.30,6,    11.43,6,     0.79,6,    7.143,2,    1.944,4,    0.797,4,   11.628,4,    7.916,2,   2119.9,2,   2242.3,2, 20020702,     1844
  18HU20020623, AR07W,   107,  1, 253511,      5,2,20020702,1842, 54.4877, -54.7637,  196,     80.6,   1.1295,  33.9412,2,-999.0000,9,    303.6,2,   -999.0,9,     7.94,6,    10.24,6,     0.75,6, -999.000,9, -999.000,9, -999.000,9, -999.000,9, -999.000,9,   -999.0,9,   -999.0,9, 20020702,     1845
  18HU20020623, AR07W,   107,  1, 253512,      6,2,20020702,1842, 54.4877, -54.7637,  196,     60.4,   1.6372,  33.8490,2,-999.0000,9,    309.1,2,   -999.0,9,     7.24,6,     8.81,6,     0.69,6, -999.000,9, -999.000,9, -999.000,9, -999.000,9, -999.000,9,   -999.0,9,   -999.0,9, 20020702,     1846
  18HU20020623, AR07W,   107,  1, 253513,      7,2,20020702,1842, 54.4877, -54.7637,  196,     50.5,   1.5654,  33.7574,2,  33.7537,2,    314.9,2,    333.9,2,     7.02,6,     8.14,6,     0.67,6,    7.307,2,    1.988,4,    0.747,4,   12.297,4,    7.775,2,   2103.9,2,   2262.8,2, 20020702,     1848
  18HU20020623, AR07W,   107,  1, 253514,      8,2,20020702,1842, 54.4877, -54.7637,  196,     40.1,   1.6582,  33.6309,2,-999.0000,9,    318.3,2,   -999.0,9,     7.64,6,     7.72,6,     0.74,6, -999.000,9, -999.000,9, -999.000,9, -999.000,9, -999.000,9,   -999.0,9,   -999.0,9, 20020702,     1849
  18HU20020623, AR07W,   107,  1, 253515,      9,2,20020702,1842, 54.4877, -54.7637,  196,     30.3,   1.8581,  33.3727,2,-999.0000,9,    336.5,2,   -999.0,9,     6.44,6,     5.78,6,     0.60,6, -999.000,9, -999.000,9, -999.000,9, -999.000,9, -999.000,9,   -999.0,9,   -999.0,9, 20020702,     1850
  18HU20020623, AR07W,   107,  1, 253516,     10,2,20020702,1842, 54.4877, -54.7637,  196,     20.2,   2.0914,  32.8965,2,-999.0000,9,    346.4,2,   -999.0,9,     6.76,6,     4.58,6,     0.55,6, -999.000,9, -999.000,9, -999.000,9, -999.000,9, -999.000,9,   -999.0,9,   -999.0,9, 20020702,     1851
  18HU20020623, AR07W,   107,  1, 253517,     11,2,20020702,1842, 54.4877, -54.7637,  196,     10.6,   2.4196,  32.6673,2,  32.7578,2,    341.3,2,    362.8,2,     7.08,6,     4.83,6,     0.59,6,    8.282,2,    2.470,4,    0.906,4,   13.988,4,    7.834,2,   2057.0,2,   2215.6,2, 20020702,     1852
  18HU20020623, AR07W,   107,  1, 253518,     12,2,20020702,1842, 54.4877, -54.7637,  196,     10.5,   2.4121,  32.6675,2,-999.0000,9,    340.8,2,   -999.0,9,     7.24,6,     4.86,6,     0.58,6, -999.000,9, -999.000,9, -999.000,9, -999.000,9, -999.000,9,   -999.0,9,   -999.0,9, 20020702,     1852
  18HU20020623, AR07W,   107,  1, 253519,     13,2,20020702,1842, 54.4877, -54.7637,  196,      2.7,   2.2834,  32.5297,2,-999.0000,9,    336.8,2,   -999.0,9,     7.74,6,     5.50,6,     0.62,6, -999.000,9, -999.000,9, -999.000,9, -999.000,9, -999.000,9,   -999.0,9,   -999.0,9, 20020702,     1853