BOTTLE,20130611PRINUNIVRMK
EXPOCODE,SECT_ID,STNNBR,CASTNO,SAMPNO,BTLNBR,BTLNBR_FLAG_W,DATE,TIME,LATITUDE,LONGITUDE,DEPTH,CTDPRS,CTDTMP,CTDSAL,CTDSAL_FLAG_W,SALNTY,SALNTY_FLAG_W,CTDOXY,CTDOXY_FLAG_W,OXYGEN,OXYGEN_FLAG_W,SILCAT,SILCAT_FLAG_W,NITRAT,NITRAT_FLAG_W,PHSPHT,PHSPHT_FLAG_W,CFC-11,CFC-11_FLAG_W,CFC-12,CFC-12_FLAG_W,CFC113,CFC113_FLAG_W,CCL4,CCL4_FLAG_W,MCHFRM,MCHFRM_FLAG_W,TCARBN,TCARBN_FLAG_W,ALKALI,ALKALI_FLAG_W,BTL_DATE,BTL_TIME
,,,,,,,,,,,METERS,DBAR,ITS-90,PSS-78,,PSS-78,,UMOL/KG,,UMOL/KG,,UMOL/KG,,UMOL/KG,,UMOL/KG,,PMOL/KG,,PMOL/KG,,PMOL/KG,,PMOL/KG,,PMOL/KG,,UMOL/KG,,UMOL/KG,,,
  18HU20020623, AR07W,   349,  1, 255540,      1,2,20020713,1135, 53.6018, -44.0033, 1980,    200.2,   4.0943,  34.7316,2,-999.0000,9,    272.4,2,   -999.0,9,     8.40,6,    16.22,6,     1.09,6, -999.000,9, -999.000,9, -999.000,9, -999.000,9, -999.000,9,   -999.0,9,   -999.0,9, 20020713,     1135
  18HU20020623, AR07W,   349,  1, 255541,      2,2,20020713,1135, 53.6018, -44.0033, 1980,    151.1,   4.1983,  34.6971,2,-999.0000,9,    280.2,2,   -999.0,9,     7.85,6,    15.27,6,     1.05,6, -999.000,9, -999.000,9, -999.000,9, -999.000,9, -999.000,9,   -999.0,9,   -999.0,9, 20020713,     1137
  18HU20020623, AR07W,   349,  1, 255542,      3,2,20020713,1135, 53.6018, -44.0033, 1980,     99.9,   4.6099,  34.6932,2,-999.0000,9,    278.3,2,   -999.0,9,     7.57,6,    15.35,6,     1.06,6, -999.000,9, -999.000,9, -999.000,9, -999.000,9, -999.000,9,   -999.0,9,   -999.0,9, 20020713,     1139
  18HU20020623, AR07W,   349,  1, 255543,      4,2,20020713,1135, 53.6018, -44.0033, 1980,     79.5,   5.0406,  34.7231,2,-999.0000,9,    265.8,2,   -999.0,9,     7.82,6,    15.81,6,     1.07,6, -999.000,9, -999.000,9, -999.000,9, -999.000,9, -999.000,9,   -999.0,9,   -999.0,9, 20020713,     1139
  18HU20020623, AR07W,   349,  1, 255544,      5,2,20020713,1135, 53.6018, -44.0033, 1980,     70.5,   5.3567,  34.7308,2,-999.0000,9,    261.7,2,   -999.0,9,     6.67,6,    15.05,6,     1.06,6, -999.000,9, -999.000,9, -999.000,9, -999.000,9, -999.000,9,   -999.0,9,   -999.0,9, 20020713,     1140
  18HU20020623, AR07W,   349,  1, 255545,      6,2,20020713,1135, 53.6018, -44.0033, 1980,     60.3,   5.7213,  34.7218,2,-999.0000,9,    266.2,2,   -999.0,9,     0.76,6,    11.62,6,     0.95,6, -999.000,9, -999.000,9, -999.000,9, -999.000,9, -999.000,9,   -999.0,9,   -999.0,9, 20020713,     1140
  18HU20020623, AR07W,   349,  1, 255546,      7,2,20020713,1135, 53.6018, -44.0033, 1980,     41.3,   6.3709,  34.6850,2,-999.0000,9,    279.2,2,   -999.0,9,     0.00,6,     7.88,6,     0.73,6, -999.000,9, -999.000,9, -999.000,9, -999.000,9, -999.000,9,   -999.0,9,   -999.0,9, 20020713,     1141
  18HU20020623, AR07W,   349,  1, 255547,      8,2,20020713,1135, 53.6018, -44.0033, 1980,     30.3,   7.5753,  34.6536,2,-999.0000,9,    287.1,2,   -999.0,9,     0.00,6,     5.39,6,     0.52,6, -999.000,9, -999.000,9, -999.000,9, -999.000,9, -999.000,9,   -999.0,9,   -999.0,9, 20020713,     1142
  18HU20020623, AR07W,   349,  1, 255548,      9,2,20020713,1135, 53.6018, -44.0033, 1980,     51.0,   6.0781,  34.7051,2,-999.0000,9,    278.4,2,   -999.0,9,     0.21,6,     8.47,6,     0.78,6, -999.000,9, -999.000,9, -999.000,9, -999.000,9, -999.000,9,   -999.0,9,   -999.0,9, 20020713,     1144
  18HU20020623, AR07W,   349,  1, 255549,     10,2,20020713,1135, 53.6018, -44.0033, 1980,     20.8,   8.3919,  34.6471,2,-999.0000,9,    287.9,2,   -999.0,9,     0.00,6,     4.59,6,     0.41,6, -999.000,9, -999.000,9, -999.000,9, -999.000,9, -999.000,9,   -999.0,9,   -999.0,9, 20020713,     1146
  18HU20020623, AR07W,   349,  1, 255550,     11,2,20020713,1135, 53.6018, -44.0033, 1980,     20.9,   8.3912,  34.6495,2,-999.0000,9,    288.3,2,   -999.0,9,  -999.00,9,  -999.00,9,  -999.00,9, -999.000,9, -999.000,9, -999.000,9, -999.000,9, -999.000,9,   -999.0,9,   -999.0,9, 20020713,     1146
  18HU20020623, AR07W,   349,  1, 255551,     12,2,20020713,1135, 53.6018, -44.0033, 1980,     21.0,   8.3881,  34.6511,2,-999.0000,9,    288.3,2,   -999.0,9,  -999.00,9,  -999.00,9,  -999.00,9, -999.000,9, -999.000,9, -999.000,9, -999.000,9, -999.000,9,   -999.0,9,   -999.0,9, 20020713,     1146
  18HU20020623, AR07W,   349,  1, 255552,     13,2,20020713,1135, 53.6018, -44.0033, 1980,     10.5,   8.8789,  34.6346,2,-999.0000,9,    287.6,2,   -999.0,9,     0.00,6,     4.52,6,     0.43,6, -999.000,9, -999.000,9, -999.000,9, -999.000,9, -999.000,9,   -999.0,9,   -999.0,9, 20020713,     1146
  18HU20020623, AR07W,   349,  1, 255553,     14,2,20020713,1135, 53.6018, -44.0033, 1980,     10.3,   9.1438,  34.6291,2,-999.0000,9,    287.9,2,   -999.0,9,  -999.00,9,  -999.00,9,  -999.00,9, -999.000,9, -999.000,9, -999.000,9, -999.000,9, -999.000,9,   -999.0,9,   -999.0,9, 20020713,     1147
  18HU20020623, AR07W,   349,  1, 255554,     15,2,20020713,1135, 53.6018, -44.0033, 1980,     10.9,   9.3614,  34.6255,2,-999.0000,9,    287.4,2,   -999.0,9,  -999.00,9,  -999.00,9,  -999.00,9, -999.000,9, -999.000,9, -999.000,9, -999.000,9, -999.000,9,   -999.0,9,   -999.0,9, 20020713,     1147
  18HU20020623, AR07W,   349,  1, 255555,     16,2,20020713,1135, 53.6018, -44.0033, 1980,     11.4,   9.4340,  34.6228,2,-999.0000,9,    286.8,2,   -999.0,9,  -999.00,9,  -999.00,9,  -999.00,9, -999.000,9, -999.000,9, -999.000,9, -999.000,9, -999.000,9,   -999.0,9,   -999.0,9, 20020713,     1147
  18HU20020623, AR07W,   349,  1, 255556,     17,2,20020713,1135, 53.6018, -44.0033, 1980,      2.8,   9.4633,  34.6249,2,-999.0000,9,    286.3,2,   -999.0,9,     0.00,6,     3.35,6,     0.35,6, -999.000,9, -999.000,9, -999.000,9, -999.000,9, -999.000,9,   -999.0,9,   -999.0,9, 20020713,     1147
  18HU20020623, AR07W,   349,  1, 255557,     18,2,20020713,1135, 53.6018, -44.0033, 1980,      2.7,   9.4780,  34.6250,2,-999.0000,9,    286.5,2,   -999.0,9,  -999.00,9,  -999.00,9,  -999.00,9, -999.000,9, -999.000,9, -999.000,9, -999.000,9, -999.000,9,   -999.0,9,   -999.0,9, 20020713,     1147
  18HU20020623, AR07W,   350,  1, 255558,      1,2,20020713,1335, 53.5992, -44.0002, 3690,   3759.2,   1.9167,  34.8791,2,  34.8792,2,    287.2,2,    291.7,2,    13.47,6,    15.41,6,     1.01,6,    3.084,2,    1.854,4,    0.208,4,    3.580,4,    6.307,2,   2163.0,2,   2328.5,2, 20020713,     1335
  18HU20020623, AR07W,   350,  1, 255559,      2,2,20020713,1335, 53.5992, -44.0002, 3690,   3668.6,   2.1168,  34.8873,2,  34.8873,2,    282.9,2,    283.8,2,    14.79,6,    15.87,6,     1.05,6,    2.465,2,    1.545,4,    0.164,4,    2.925,4,    5.577,2,   2162.3,2,   2300.3,2, 20020713,     1337
  18HU20020623, AR07W,   350,  1, 255560,      3,2,20020713,1335, 53.5992, -44.0002, 3690,   3521.2,   2.3847,  34.9024,2,  34.9026,2,    275.5,2,    277.2,2,    16.49,6,    16.41,6,     1.10,6,    1.869,2,    1.246,4,    0.114,4,    2.375,4,    4.756,2,   2161.7,2,   2308.2,2, 20020713,     1339
  18HU20020623, AR07W,   350,  1, 255561,      4,2,20020713,1335, 53.5992, -44.0002, 3690,   3321.4,   2.5598,  34.9145,2,  34.9144,2,    272.0,2,    275.4,2,    15.96,6,    16.53,6,     1.11,6,    1.736,2,    1.149,4,    0.099,4,    2.266,4,    4.493,2,   2161.6,2,   2303.8,2, 20020713,     1343
  18HU20020623, AR07W,   350,  1, 255562,      5,2,20020713,1335, 53.5992, -44.0002, 3690,   3121.3,   2.7225,  34.9292,2,  34.9299,2,    269.5,2,    273.5,2,    15.28,6,    16.51,6,     1.10,6,    1.757,2,    1.093,4,    0.088,4,    2.229,4,    4.623,2,   2161.2,2,   2290.4,2, 20020713,     1346
  18HU20020623, AR07W,   350,  1, 255563,      6,2,20020713,1335, 53.5992, -44.0002, 3690,   2921.5,   2.8616,  34.9426,2,  34.9432,6,    267.9,2,    272.7,2,    14.36,6,    16.28,6,     1.09,6,    2.163,2,    1.255,4,    0.106,4,    2.298,4,    4.808,2,   2160.6,2,   2304.9,2, 20020713,     1349
  18HU20020623, AR07W,   350,  1, 255564,      7,2,20020713,1335, 53.5992, -44.0002, 3690,   2721.1,   2.9154,  34.9396,2,  34.9400,2,    267.4,2,    272.9,2,    13.68,6,    16.28,6,     1.09,6,    1.921,2,    1.234,4,    0.089,4,    2.352,4,    4.868,2,   2159.6,2,   2289.9,2, 20020713,     1352
  18HU20020623, AR07W,   350,  1, 255565,      8,2,20020713,1335, 53.5992, -44.0002, 3690,   2521.1,   2.9821,  34.9341,2,  34.9351,2,    267.2,2,    274.1,2,    13.00,6,    16.62,6,     1.12,6,    1.973,2,    1.321,4,    0.101,4,    2.412,4,    5.016,2,   2159.1,2,   2288.0,2, 20020713,     1355
  18HU20020623, AR07W,   350,  1, 255566,      9,2,20020713,1335, 53.5992, -44.0002, 3690,   2320.5,   3.0097,  34.9163,2,  34.9168,2,    268.3,2,    276.2,2,    12.39,6,    16.65,6,     1.13,6,    2.110,2,    1.388,4,    0.119,4,    2.553,4,    5.386,2,   2157.0,2,   2302.0,2, 20020713,     1358
  18HU20020623, AR07W,   350,  1, 255567,     10,2,20020713,1335, 53.5992, -44.0002, 3690,   2121.8,   3.0544,  34.9027,2,  34.9030,2,    269.8,2,    279.0,2,    11.83,6,    16.65,6,     1.13,6,    2.335,2,    1.428,4,    0.130,4,    2.805,4,    6.009,2,   2155.7,2,   2291.0,2, 20020713,     1401
  18HU20020623, AR07W,   350,  1, 255568,     11,2,20020713,1335, 53.5992, -44.0002, 3690,   1920.0,   3.0731,  34.8873,2,  34.8873,6,    272.1,2,    282.2,2,    11.11,6,    16.44,6,     1.13,6,    2.753,2,    1.634,4,    0.167,4,    3.229,4,    7.102,2,   2156.5,2,   2266.5,2, 20020713,     1405
  18HU20020623, AR07W,   350,  1, 255569,     12,2,20020713,1335, 53.5992, -44.0002, 3690,   1719.8,   3.1079,  34.8790,2,  34.8790,2,    272.8,2,    283.5,2,    10.70,6,    16.77,6,     1.15,6,    3.039,2,    1.819,4,    0.190,4,    3.520,4,    7.839,2,   2155.4,2,   2279.5,2, 20020713,     1408
  18HU20020623, AR07W,   350,  1, 255570,     13,2,20020713,1335, 53.5992, -44.0002, 3690,   1520.1,   3.1955,  34.8793,2,  34.8796,2,    270.9,2,    282.2,6,    10.64,6,    16.89,6,     1.13,6,    3.049,2,    1.868,4,    0.189,4,    3.504,4,    7.803,2,   2155.4,2,   2325.6,2, 20020713,     1411
  18HU20020623, AR07W,   350,  1, 255571,     14,2,20020713,1335, 53.5992, -44.0002, 3690,   1320.9,   3.3303,  34.8866,2,  34.8861,2,    267.2,2,    278.8,2,    10.84,6,    17.00,6,     1.16,6,    3.069,2,    1.894,4,    0.193,4,    3.483,4,    7.610,2,   2155.5,2,   2299.5,2, 20020713,     1414
  18HU20020623, AR07W,   350,  1, 255572,     15,2,20020713,1335, 53.5992, -44.0002, 3690,   1120.1,   3.4687,  34.8905,2,  34.8898,2,    263.8,2,    275.7,2,    10.54,6,    17.11,6,     1.14,6,    3.110,2,    1.875,4,    0.192,4,    3.480,4,    7.356,2,   2160.7,2,   2302.1,2, 20020713,     1417
  18HU20020623, AR07W,   350,  1, 255573,     16,2,20020713,1335, 53.5992, -44.0002, 3690,    918.9,   3.5742,  34.8856,2,  34.8853,2,    263.8,2,    276.3,2,    10.20,6,    16.97,6,     1.15,6,    3.421,2,    2.106,4,    0.241,4,    3.647,4,    6.677,2,   2160.4,2,   2298.7,2, 20020713,     1420
  18HU20020623, AR07W,   350,  1, 255574,     17,2,20020713,1335, 53.5992, -44.0002, 3690,    720.2,   3.6540,  34.8769,2,  34.8764,2,    265.0,2,    278.2,2,     9.78,6,    17.29,6,     1.14,6,    3.866,2,    2.288,4,    0.272,4,    4.130,4,    6.631,2,   2160.3,2,   2296.1,2, 20020713,     1423
  18HU20020623, AR07W,   350,  1, 255575,     18,2,20020713,1335, 53.5992, -44.0002, 3690,    520.8,   3.8935,  34.8825,2,  34.8816,2,    257.6,2,    270.5,2,     9.87,6,    17.60,6,     1.16,6,    3.696,2,    2.276,4,    0.264,4,    3.907,4,    6.152,2,   2163.3,2,   2336.4,2, 20020713,     1426
  18HU20020623, AR07W,   350,  1, 255576,     19,2,20020713,1335, 53.5992, -44.0002, 3690,    360.6,   4.1894,  34.8737,2,  34.8731,2,    249.2,2,    261.5,2,    10.04,6,    17.87,6,     1.17,6,    3.653,2,    2.363,4,    0.267,4,    3.652,4,    5.548,2,   2162.8,2,   2320.1,2, 20020713,     1429
  18HU20020623, AR07W,   350,  1, 255577,     20,2,20020713,1335, 53.5992, -44.0002, 3690,    240.2,   4.2160,  34.7883,2,  34.7860,2,    256.5,2,    271.0,2,     9.08,6,    17.04,6,     1.15,6,    4.108,2,    2.525,4,    0.319,4,    4.507,4,    4.750,2,   2158.0,2,   2318.1,2, 20020713,     1431
  18HU20020623, AR07W,   350,  1, 255578,     21,2,20020713,1335, 53.5992, -44.0002, 3690,    141.9,   4.2095,  34.6857,2,-999.0000,9,    280.0,2,    295.9,2,     7.56,6,    15.45,6,     1.06,6,    4.795,2,    2.946,4,    0.414,4,    5.914,4,    3.884,2,   2144.5,2,   2292.5,2, 20020713,     1433
  18HU20020623, AR07W,   350,  1, 255579,     22,2,20020713,1335, 53.5992, -44.0002, 3690,     70.8,   5.5012,  34.7317,2,-999.0000,9,    261.5,2,    273.3,2,     5.06,6,    14.39,6,     1.08,6,    4.430,2,    2.555,4,    0.382,4,    5.059,4,    3.621,2,   2148.7,2,   2309.3,2, 20020713,     1434
  18HU20020623, AR07W,   350,  1, 255580,     23,2,20020713,1335, 53.5992, -44.0002, 3690,     34.7,   6.9499,  34.6805,2,-999.0000,9,    283.5,2,    298.0,2,     0.00,6,     6.12,6,     0.61,6,    4.499,2,    2.662,4,    0.359,4,    5.259,4,    3.309,2,   2103.7,2,   2309.6,2, 20020713,     1435
  18HU20020623, AR07W,   350,  1, 255581,     24,2,20020713,1335, 53.5992, -44.0002, 3690,      1.6,   9.5660,  34.6217,2,-999.0000,9,    285.9,2,    295.8,2,     0.00,6,     2.81,6,     0.33,6,    4.053,2,    2.615,4,    0.263,4,    4.784,4,    2.906,2,   2067.2,2,   2300.4,2, 20020713,     1436