BOTTLE,20130611PRINUNIVRMK
EXPOCODE,SECT_ID,STNNBR,CASTNO,SAMPNO,BTLNBR,BTLNBR_FLAG_W,DATE,TIME,LATITUDE,LONGITUDE,DEPTH,CTDPRS,CTDTMP,CTDSAL,CTDSAL_FLAG_W,SALNTY,SALNTY_FLAG_W,CTDOXY,CTDOXY_FLAG_W,OXYGEN,OXYGEN_FLAG_W,SILCAT,SILCAT_FLAG_W,NITRAT,NITRAT_FLAG_W,PHSPHT,PHSPHT_FLAG_W,CFC-11,CFC-11_FLAG_W,CFC-12,CFC-12_FLAG_W,CFC113,CFC113_FLAG_W,CCL4,CCL4_FLAG_W,MCHFRM,MCHFRM_FLAG_W,TCARBN,TCARBN_FLAG_W,ALKALI,ALKALI_FLAG_W,BTL_DATE,BTL_TIME
,,,,,,,,,,,METERS,DBAR,ITS-90,PSS-78,,PSS-78,,UMOL/KG,,UMOL/KG,,UMOL/KG,,UMOL/KG,,UMOL/KG,,PMOL/KG,,PMOL/KG,,PMOL/KG,,PMOL/KG,,PMOL/KG,,UMOL/KG,,UMOL/KG,,,
  18HU20020623, AR07W,   175,  1, 253805,      1,2,20020706,0942, 57.7992, -51.3318, 3554,   3669.9,   1.5724,  34.8754,2,  34.8760,2,    293.7,2,    296.4,2,    10.58,6,    14.28,6,     1.03,6,    3.969,2,    2.422,4,    0.127,4,    5.629,4,    8.110,2,   2158.6,2,   2316.0,2, 20020706,      942
  18HU20020623, AR07W,   175,  1, 253806,      2,2,20020706,0942, 57.7992, -51.3318, 3554,   3590.2,   1.5646,  34.8755,2,  34.8760,2,    292.8,2,    296.4,2,    10.53,6,    14.25,6,     1.02,6,    3.818,2,    2.099,4,    0.177,4,    5.509,4,    7.939,2,   2157.8,2,   2296.7,2, 20020706,      943
  18HU20020623, AR07W,   175,  1, 253807,      3,2,20020706,0942, 57.7992, -51.3318, 3554,   3490.7,   1.6756,  34.8756,2,  34.8751,2,    291.9,2,    295.2,2,    10.16,6,    14.34,6,     1.03,6,    3.939,2,    2.243,4,    0.335,4,    5.694,4,    8.225,2,   2157.6,2,   2298.4,2, 20020706,      945
  18HU20020623, AR07W,   175,  1, 253808,      4,2,20020706,0942, 57.7992, -51.3318, 3554,   3379.7,   1.9748,  34.8799,2,  34.8810,2,    287.8,2,    291.7,2,    10.80,6,    14.62,6,     1.05,6,    3.353,2,    1.975,4,    0.215,4,    4.888,4,    7.401,2,   2156.9,2,   2293.9,2, 20020706,      947
  18HU20020623, AR07W,   175,  1, 253809,      5,2,20020706,0942, 57.7992, -51.3318, 3554,   3248.9,   2.3103,  34.8918,2,  34.8910,2,    280.7,2,    284.1,2,    12.86,6,    15.49,6,     1.10,6,    2.503,2,    1.863,4,    0.094,4,    3.980,4,    6.975,2,   -999.0,9,   2301.9,2, 20020706,      950
  18HU20020623, AR07W,   175,  1, 253810,      6,2,20020706,0942, 57.7992, -51.3318, 3554,   3121.0,   2.5133,  34.8982,2,  34.8989,6,    277.5,2,    282.4,2,    12.65,6,    15.94,6,     1.11,6, -999.000,9, -999.000,9, -999.000,9, -999.000,9, -999.000,9,   2159.0,2,   2291.6,2, 20020706,      952
  18HU20020623, AR07W,   175,  1, 253811,      7,2,20020706,0942, 57.7992, -51.3318, 3554,   2939.5,   2.7261,  34.9030,2,  34.9024,2,    275.1,2,    280.5,2,    12.17,6,    16.07,6,     1.12,6,    2.369,2,    1.412,4,    0.097,4,    3.484,4,    6.407,2,   2159.9,2,   2281.6,2, 20020706,      955
  18HU20020623, AR07W,   175,  1, 253812,      8,2,20020706,0942, 57.7992, -51.3318, 3554,   2740.6,   2.8957,  34.8989,2,  34.8989,2,    274.4,2,    280.4,2,    11.56,6,    16.13,6,     1.11,6,    2.426,2,    1.614,4,    0.050,4,    3.741,4,    7.124,2,   2156.4,2,   2293.7,2, 20020706,      958
  18HU20020623, AR07W,   175,  1, 253813,      9,2,20020706,0942, 57.7992, -51.3318, 3554,   2521.0,   3.0255,  34.8928,2,  34.8939,2,    274.3,2,    281.6,2,    11.25,6,    16.23,6,     1.14,6,    2.856,2,    1.501,4,    0.217,4,    4.183,4,    8.085,2,   2157.0,2,   2288.6,2, 20020706,     1001
  18HU20020623, AR07W,   175,  1, 253814,     10,2,20020706,0942, 57.7992, -51.3318, 3554,   2289.8,   3.0823,  34.8780,2,  34.8786,2,    276.3,2,    284.9,2,    11.09,6,    16.57,6,     1.16,6,    3.057,2,    1.786,4,    0.212,4,    4.526,4,    9.383,2,   2158.0,2,   2288.8,2, 20020706,     1005
  18HU20020623, AR07W,   175,  1, 253815,     11,2,20020706,0942, 57.7992, -51.3318, 3554,   2040.8,   3.1367,  34.8716,2,  34.8733,6,    276.3,2,    286.1,2,    10.61,6,    16.93,6,     1.16,6,    3.163,2,    1.716,4,    0.388,4,    4.966,4,   10.310,2,   2155.7,2,   2289.1,2, 20020706,     1008
  18HU20020623, AR07W,   175,  1, 253816,     12,2,20020706,0942, 57.7992, -51.3318, 3554,   1790.6,   3.2644,  34.8757,2,  34.8755,2,    272.4,2,    282.0,2,    10.64,6,    17.00,6,     1.17,6,    3.315,2,    1.812,4,    0.429,4,    4.696,4,    9.617,2,   2157.1,2,   2301.4,2, 20020706,     1012
  18HU20020623, AR07W,   175,  1, 253817,     13,2,20020706,0942, 57.7992, -51.3318, 3554,   1550.8,   3.4187,  34.8806,2,  34.8810,2,    269.2,2,    279.8,6,    10.46,6,    16.88,6,     1.18,6,    3.757,2,    2.118,4,    0.441,4,    5.264,4,    9.698,2,   2159.5,2,   2291.4,2, 20020706,     1016
  18HU20020623, AR07W,   175,  1, 253818,     14,2,20020706,0942, 57.7992, -51.3318, 3554,   1301.2,   3.2965,  34.8471,2,  34.8467,2,    279.4,2,    291.5,2,     9.40,6,    16.10,6,     1.17,6,    4.757,2,    2.502,4,    0.271,4,    6.941,4,    7.881,2,   2156.2,2,   2301.8,2, 20020706,     1020
  18HU20020623, AR07W,   175,  1, 253819,     15,2,20020706,0942, 57.7992, -51.3318, 3554,   1070.8,   3.2005,  34.8251,2,  34.8290,2,    284.2,2,    298.4,2,     8.85,6,    15.95,6,     1.15,6,    3.790,6,    2.843,4,    0.423,4,    5.706,4,    6.748,6,   2157.4,2,   2291.1,2, 20020706,     1024
  18HU20020623, AR07W,   175,  1, 253820,     16,2,20020706,0942, 57.7992, -51.3318, 3554,    870.2,   3.1957,  34.8271,2,  34.8269,2,    283.7,2,    298.1,2,     8.67,6,    16.10,6,     1.15,6,    5.060,2,    2.781,4,    0.569,4,    7.548,4,    6.694,2,   2156.3,2,   2298.3,2, 20020706,     1027
  18HU20020623, AR07W,   175,  1, 253821,     17,2,20020706,0942, 57.7992, -51.3318, 3554,    680.6,   3.2280,  34.8290,2,  34.8281,2,    283.2,2,    298.1,2,     8.71,6,    15.99,6,     1.14,6,    5.385,2,    3.054,4,    0.396,4,    7.969,4,    6.722,2,   2155.6,2,   2261.8,3, 20020706,     1030
  18HU20020623, AR07W,   175,  1, 253822,     18,2,20020706,0942, 57.7992, -51.3318, 3554,    509.7,   3.2753,  34.8310,2,  34.8296,2,    282.8,2,    298.5,2,     8.46,6,    15.84,6,     1.15,6,    5.289,2,    3.018,4,    0.420,4,    7.991,4,    6.483,2,   2155.8,2,   2296.5,2, 20020706,     1033
  18HU20020623, AR07W,   175,  1, 253823,     19,2,20020706,0942, 57.7992, -51.3318, 3554,    360.6,   3.3661,  34.8344,2,  34.8330,2,    282.1,2,    297.5,2,     8.37,6,    15.77,6,     1.14,6,    5.113,2,    2.802,4,    0.334,4,    7.529,4,    5.974,2,   2156.2,2,   2289.6,2, 20020706,     1035
  18HU20020623, AR07W,   175,  1, 253824,     20,2,20020706,0942, 57.7992, -51.3318, 3554,    240.3,   3.2901,  34.8125,2,  34.8117,2,    279.0,2,    295.7,2,     8.81,6,    15.95,6,     1.17,6,    5.281,2,    3.021,4,    0.409,4,    7.913,4,    6.435,2,   2156.2,2,   2288.8,2, 20020706,     1037
  18HU20020623, AR07W,   175,  1, 253825,     21,2,20020706,0942, 57.7992, -51.3318, 3554,    140.3,   3.7020,  34.8437,2,  34.8446,2,    280.2,2,    296.1,2,     8.24,6,    15.92,6,     1.14,6,    5.478,2,    3.068,4,    0.444,4,    8.353,4,    5.673,2,   2153.8,2,   2277.6,2, 20020706,     1039
  18HU20020623, AR07W,   175,  1, 253826,     22,2,20020706,0942, 57.7992, -51.3318, 3554,     70.3,   3.7920,  34.7622,2,  34.7622,2,    294.5,2,    312.1,2,     6.90,6,    12.23,6,     1.04,6,    6.040,2,    3.243,4,    0.639,4,   10.064,4,    4.934,2,   2140.9,2,   2266.1,2, 20020706,     1040
  18HU20020623, AR07W,   175,  1, 253827,     23,2,20020706,0942, 57.7992, -51.3318, 3554,     36.1,   5.3642,  34.6858,2,  34.6912,2,    317.3,2,    334.0,2,     0.00,6,     2.99,6,     0.42,6,    5.815,2,    3.269,4,    0.569,4,    9.886,4,    4.093,2,   2077.4,2,   2275.2,2, 20020706,     1041
  18HU20020623, AR07W,   175,  1, 253828,     24,2,20020706,0942, 57.7992, -51.3318, 3554,      5.6,   5.5267,  34.6894,2,  34.6903,2,    320.5,2,    336.7,2,     0.00,6,     2.41,6,     0.35,6,    5.869,2,    3.245,4,    0.443,4,   10.340,4,    4.232,2,   2071.7,2,   2283.1,2, 20020706,     1042
  18HU20020623, AR07W,   182,  1, 253829,      1,2,20020706,1326, 58.2158, -50.8807, 3590,    199.3,   3.7852,  34.8644,2,-999.0000,9,    283.1,2,   -999.0,9,     8.15,6,    15.72,6,     1.14,6, -999.000,9, -999.000,9, -999.000,9, -999.000,9, -999.000,9,   -999.0,9,   -999.0,9, 20020706,     1326
  18HU20020623, AR07W,   182,  1, 253830,      2,2,20020706,1326, 58.2158, -50.8807, 3590,    150.8,   3.9731,  34.8755,2,-999.0000,9,    281.7,2,   -999.0,9,     8.10,6,    15.93,6,     1.15,6, -999.000,9, -999.000,9, -999.000,9, -999.000,9, -999.000,9,   -999.0,9,   -999.0,9, 20020706,     1328
  18HU20020623, AR07W,   182,  1, 253831,      3,2,20020706,1326, 58.2158, -50.8807, 3590,    101.7,   3.8947,  34.8436,2,-999.0000,9,    284.6,2,   -999.0,9,     7.92,6,    15.55,6,     1.15,6, -999.000,9, -999.000,9, -999.000,9, -999.000,9, -999.000,9,   -999.0,9,   -999.0,9, 20020706,     1329
  18HU20020623, AR07W,   182,  1, 253832,      4,2,20020706,1326, 58.2158, -50.8807, 3590,     80.4,   4.0764,  34.8484,2,-999.0000,9,    285.1,2,   -999.0,9,     7.78,6,    14.75,6,     1.16,6, -999.000,9, -999.000,9, -999.000,9, -999.000,9, -999.000,9,   -999.0,9,   -999.0,9, 20020706,     1331
  18HU20020623, AR07W,   182,  1, 253833,      5,2,20020706,1326, 58.2158, -50.8807, 3590,     61.2,   4.3212,  34.8140,2,-999.0000,9,    292.1,2,   -999.0,9,     7.20,6,    11.76,6,     1.06,6, -999.000,9, -999.000,9, -999.000,9, -999.000,9, -999.000,9,   -999.0,9,   -999.0,9, 20020706,     1332
  18HU20020623, AR07W,   182,  1, 253834,      6,2,20020706,1326, 58.2158, -50.8807, 3590,     50.0,   4.2454,  34.7715,2,-999.0000,9,    293.3,2,   -999.0,9,     6.89,6,    11.13,6,     1.06,6, -999.000,9, -999.000,9, -999.000,9, -999.000,9, -999.000,9,   -999.0,9,   -999.0,9, 20020706,     1333
  18HU20020623, AR07W,   182,  1, 253835,      7,2,20020706,1326, 58.2158, -50.8807, 3590,     40.6,   4.3766,  34.7517,2,-999.0000,9,    294.3,2,   -999.0,9,     5.70,6,     9.65,6,     1.03,6, -999.000,9, -999.000,9, -999.000,9, -999.000,9, -999.000,9,   -999.0,9,   -999.0,9, 20020706,     1334
  18HU20020623, AR07W,   182,  1, 253836,      8,2,20020706,1326, 58.2158, -50.8807, 3590,     40.9,   4.3717,  34.7532,2,-999.0000,9,    294.4,2,   -999.0,9,  -999.00,9,  -999.00,9,  -999.00,9, -999.000,9, -999.000,9, -999.000,9, -999.000,9, -999.000,9,   -999.0,9,   -999.0,9, 20020706,     1334
  18HU20020623, AR07W,   182,  1, 253837,      9,2,20020706,1326, 58.2158, -50.8807, 3590,     40.8,   4.4400,  34.7547,2,-999.0000,9,    294.5,2,   -999.0,9,  -999.00,9,  -999.00,9,  -999.00,9, -999.000,9, -999.000,9, -999.000,9, -999.000,9, -999.000,9,   -999.0,9,   -999.0,9, 20020706,     1334
  18HU20020623, AR07W,   182,  1, 253838,     10,2,20020706,1326, 58.2158, -50.8807, 3590,     30.6,   5.5256,  34.7057,2,-999.0000,9,    314.4,2,   -999.0,9,     0.20,6,     3.39,6,     0.46,6, -999.000,9, -999.000,9, -999.000,9, -999.000,9, -999.000,9,   -999.0,9,   -999.0,9, 20020706,     1335
  18HU20020623, AR07W,   182,  1, 253839,     11,2,20020706,1326, 58.2158, -50.8807, 3590,     21.0,   5.6167,  34.6899,2,-999.0000,9,    316.7,2,   -999.0,9,     0.00,6,     3.01,6,     0.40,6, -999.000,9, -999.000,9, -999.000,9, -999.000,9, -999.000,9,   -999.0,9,   -999.0,9, 20020706,     1336
  18HU20020623, AR07W,   182,  1, 253840,     12,2,20020706,1326, 58.2158, -50.8807, 3590,     11.5,   5.6476,  34.6870,2,-999.0000,9,    317.1,2,   -999.0,9,     0.00,6,     3.03,6,     0.40,6, -999.000,9, -999.000,9, -999.000,9, -999.000,9, -999.000,9,   -999.0,9,   -999.0,9, 20020706,     1337
  18HU20020623, AR07W,   182,  1, 253841,     13,2,20020706,1326, 58.2158, -50.8807, 3590,     11.1,   5.6467,  34.6868,2,-999.0000,9,    317.5,2,   -999.0,9,  -999.00,9,  -999.00,9,  -999.00,9, -999.000,9, -999.000,9, -999.000,9, -999.000,9, -999.000,9,   -999.0,9,   -999.0,9, 20020706,     1337
  18HU20020623, AR07W,   182,  1, 253842,     14,2,20020706,1326, 58.2158, -50.8807, 3590,     11.5,   5.6487,  34.6868,2,-999.0000,9,    317.3,2,   -999.0,9,  -999.00,9,  -999.00,9,  -999.00,9, -999.000,9, -999.000,9, -999.000,9, -999.000,9, -999.000,9,   -999.0,9,   -999.0,9, 20020706,     1337
  18HU20020623, AR07W,   182,  1, 253843,     15,2,20020706,1326, 58.2158, -50.8807, 3590,     11.5,   5.6502,  34.6871,2,-999.0000,9,    317.2,2,   -999.0,9,  -999.00,9,  -999.00,9,  -999.00,9, -999.000,9, -999.000,9, -999.000,9, -999.000,9, -999.000,9,   -999.0,9,   -999.0,9, 20020706,     1337
  18HU20020623, AR07W,   182,  1, 253844,     16,2,20020706,1326, 58.2158, -50.8807, 3590,      3.9,   5.6535,  34.6868,2,-999.0000,9,    317.0,2,   -999.0,9,     0.00,6,     2.97,6,     0.40,6, -999.000,9, -999.000,9, -999.000,9, -999.000,9, -999.000,9,   -999.0,9,   -999.0,9, 20020706,     1338
  18HU20020623, AR07W,   182,  1, 253845,     17,2,20020706,1326, 58.2158, -50.8807, 3590,      3.6,   5.6524,  34.6869,2,-999.0000,9,    316.9,2,   -999.0,9,  -999.00,9,  -999.00,9,  -999.00,9, -999.000,9, -999.000,9, -999.000,9, -999.000,9, -999.000,9,   -999.0,9,   -999.0,9, 20020706,     1338
  18HU20020623, AR07W,   184,  1, 253846,      1,2,20020706,1855, 58.2208, -50.8810, 3483,   3596.3,   1.5568,  34.8774,2,  34.8762,2,    293.3,2,    295.3,2,    10.04,6,    13.07,6,     1.07,6,    4.368,2,    2.243,4,    0.306,4,    4.226,4,    6.086,2,   2156.5,2,   2293.1,2, 20020706,     1855
  18HU20020623, AR07W,   184,  1, 253847,      2,2,20020706,1855, 58.2208, -50.8810, 3483,   3521.0,   1.6791,  34.8852,2,  34.8847,2,    290.3,2,    294.6,2,     8.64,6,    13.10,6,     1.06,6,    4.153,2,    2.090,4,    0.215,4,    3.971,4,    5.968,2,   2158.4,2,   2299.9,2, 20020706,     1906
  18HU20020623, AR07W,   184,  1, 253848,      3,2,20020706,1855, 58.2208, -50.8810, 3483,   3431.3,   1.8982,  34.8795,2,  34.8800,2,    288.5,2,    292.4,2,     9.89,6,    13.77,6,     1.09,6,    3.946,2,    1.985,4,    0.218,4,    3.849,4,    6.035,2,   2158.8,2,   2289.9,2, 20020706,     1907
  18HU20020623, AR07W,   184,  1, 253849,      4,2,20020706,1855, 58.2208, -50.8810, 3483,   3320.7,   2.1771,  34.8888,2,  34.8892,2,    282.1,2,    286.0,2,    11.73,6,    14.48,6,     1.14,6,    3.253,2,    1.684,4,    0.159,4,    3.247,4,    5.502,2,   2156.9,2,   2294.3,2, 20020706,     1909
  18HU20020623, AR07W,   184,  1, 253850,      5,2,20020706,1855, 58.2208, -50.8810, 3483,   3201.6,   2.3671,  34.8947,2,  34.8947,2,    278.9,2,    299.8,3,    12.17,6,    14.85,6,     1.14,6,    2.880,2,    1.517,4,    0.214,4,    3.039,4,    5.264,2,   2154.2,2,   2266.8,3, 20020706,     1912
  18HU20020623, AR07W,   184,  1, 253851,      6,2,20020706,1855, 58.2208, -50.8810, 3483,   3202.1,   2.3692,  34.8947,2,-999.0000,9,    279.0,2,   -999.0,9,     8.57,6,    15.44,6,     1.17,6, -999.000,9, -999.000,9, -999.000,9, -999.000,9, -999.000,9,   -999.0,9,   -999.0,9, 20020706,     1913
  18HU20020623, AR07W,   184,  1, 253852,      7,2,20020706,1855, 58.2208, -50.8810, 3483,   3001.4,   2.6516,  34.9048,2,  34.9054,6,    274.6,2,    280.2,2,    12.03,6,    15.32,6,     1.17,6,    2.625,2,    1.375,4,    0.094,4,    2.682,4,    4.923,2,   2157.5,2,   2283.8,2, 20020706,     1917
  18HU20020623, AR07W,   184,  1, 253853,      8,2,20020706,1855, 58.2208, -50.8810, 3483,   2750.2,   2.8702,  34.9026,2,  34.9026,2,    273.5,2,    279.5,2,    11.32,6,    15.54,6,     1.17,6,    2.731,6,    1.429,4,    0.082,4,    2.873,4,    5.348,6,   2158.3,2,   2280.7,2, 20020706,     1921
  18HU20020623, AR07W,   184,  1, 253854,      9,2,20020706,1855, 58.2208, -50.8810, 3483,   2498.3,   3.0137,  34.8949,2,  34.8955,2,    273.5,2,    281.0,2,    10.71,6,    15.91,6,     1.17,6,    3.140,2,    1.608,4,    0.161,4,    3.135,4,    5.938,2,   2157.7,2,   2282.2,2, 20020706,     1925
  18HU20020623, AR07W,   184,  1, 253855,     10,2,20020706,1855, 58.2208, -50.8810, 3483,   2258.1,   3.0837,  34.8809,2,  34.8812,2,    275.6,2,    284.6,2,    10.43,6,    16.38,6,     1.19,6,    3.589,2,    1.794,4,    0.151,4,    3.519,4,    7.071,2,   2151.8,2,   2285.9,2, 20020706,     1929
  18HU20020623, AR07W,   184,  1, 253856,     11,2,20020706,1855, 58.2208, -50.8810, 3483,   2019.1,   3.1376,  34.8728,2,  34.8727,6,    275.8,2,    285.3,2,    10.14,6,    16.51,6,     1.19,6,    3.900,2,    1.935,4,    0.239,4,    3.856,4,    7.732,2,   2160.9,2,   2288.9,2, 20020706,     1933
  18HU20020623, AR07W,   184,  1, 253857,     12,2,20020706,1855, 58.2208, -50.8810, 3483,   1768.7,   3.2944,  34.8796,2,  34.8796,2,    271.5,2,    281.6,2,    10.25,6,    16.73,6,     1.20,6,    3.848,2,    1.926,4,    0.243,4,    3.777,4,    7.539,2,   2159.5,2,   2284.0,2, 20020706,     1937
  18HU20020623, AR07W,   184,  1, 253858,     13,2,20020706,1855, 58.2208, -50.8810, 3483,   1529.2,   3.4539,  34.8829,2,  34.8829,2,    268.5,2,    279.1,6,     9.96,6,    16.61,6,     1.20,6,    4.047,2,    2.044,4,    0.281,4,    3.697,4,    6.969,2,   2161.3,2,   2291.9,2, 20020706,     1940
  18HU20020623, AR07W,   184,  1, 253859,     14,2,20020706,1855, 58.2208, -50.8810, 3483,   1291.1,   3.2684,  34.8392,2,  34.8393,2,    280.2,2,    293.7,2,     8.80,6,    15.85,6,     1.17,6,    5.138,2,    2.543,4,    0.467,4,    4.847,4,    5.768,2,   2157.7,2,   2280.5,2, 20020706,     1944
  18HU20020623, AR07W,   184,  1, 253860,     15,2,20020706,1855, 58.2208, -50.8810, 3483,   1069.4,   3.2076,  34.8264,2,  34.8269,2,    283.6,2,    297.0,2,     8.47,6,    15.73,6,     1.17,6,    5.471,2,    2.678,4,    0.424,4,    5.221,4,    5.487,2,   2157.4,2,   2273.0,2, 20020706,     1947
  18HU20020623, AR07W,   184,  1, 253861,     16,2,20020706,1855, 58.2208, -50.8810, 3483,    867.8,   3.2701,  34.8339,2,  34.8334,2,    284.6,2,    299.0,2,     8.36,6,    15.59,6,     1.16,6,    5.572,2,    2.741,4,    0.464,4,    5.366,4,    5.387,2,   2156.0,2,   2286.0,2, 20020706,     1950
  18HU20020623, AR07W,   184,  1, 253862,     17,2,20020706,1855, 58.2208, -50.8810, 3483,    680.5,   3.2799,  34.8333,2,  34.8330,2,    284.4,2,    299.0,2,     8.37,6,    15.58,6,     1.14,6,    5.505,2,    2.688,4,    0.519,4,    5.347,4,    5.119,2,   2156.2,2,   2299.7,2, 20020706,     1954
  18HU20020623, AR07W,   184,  1, 253863,     18,2,20020706,1855, 58.2208, -50.8810, 3483,    509.1,   3.3957,  34.8438,2,  34.8424,2,    284.0,2,    299.9,2,     8.25,6,    15.58,6,     1.13,6,    5.660,2,    2.783,4,    0.458,4,    5.616,4,    5.051,2,   2156.2,2,   2289.0,2, 20020706,     1956
  18HU20020623, AR07W,   184,  1, 253864,     19,2,20020706,1855, 58.2208, -50.8810, 3483,    359.7,   3.4904,  34.8497,2,  34.8497,2,    283.4,2,    298.6,2,     8.18,6,    15.55,6,     1.14,6,    5.551,2,    2.754,4,    0.457,4,    5.365,4,    4.786,2,   2156.4,2,   2286.8,2, 20020706,     1959
  18HU20020623, AR07W,   184,  1, 253865,     20,2,20020706,1855, 58.2208, -50.8810, 3483,    240.7,   3.7575,  34.8678,2,-999.0000,9,    280.9,2,    296.2,2,     8.20,6,    15.54,6,     1.13,6,    5.316,2,    2.680,4,    0.489,4,    5.075,4,    4.418,2,   2156.1,2,   2280.7,2, 20020706,     2001
  18HU20020623, AR07W,   184,  1, 253866,     21,2,20020706,1855, 58.2208, -50.8810, 3483,    139.4,   3.9243,  34.8634,2,-999.0000,9,    281.1,2,    296.2,2,     7.85,6,    15.36,6,     1.12,6,    5.682,2,    2.855,4,    0.494,4,    5.581,4,    4.283,2,   2155.6,2,   2290.4,2, 20020706,     2003
  18HU20020623, AR07W,   184,  1, 253867,     22,2,20020706,1855, 58.2208, -50.8810, 3483,     70.6,   4.3212,  34.7944,2,-999.0000,9,    291.4,2,    307.6,2,     7.04,6,    11.60,6,     1.03,6,    6.051,2,    2.978,4,    0.510,4,    6.284,4,    3.886,2,   2143.3,2,   2300.1,2, 20020706,     2004
  18HU20020623, AR07W,   184,  1, 253868,     23,2,20020706,1855, 58.2208, -50.8810, 3483,     35.0,   5.5857,  34.6997,2,-999.0000,9,    313.5,2,    329.7,2,     0.00,6,     3.20,6,     0.39,6,    5.737,2,    2.877,4,    0.597,4,    6.131,4,    3.287,2,   2078.3,2,   2300.4,2, 20020706,     2005
  18HU20020623, AR07W,   184,  1, 253869,     24,2,20020706,1855, 58.2208, -50.8810, 3483,      5.8,   5.6840,  34.6941,2,-999.0000,9,    317.8,2,    333.4,2,     0.00,6,     2.73,6,     0.32,6,    4.334,3,    2.173,4,    0.354,4,    4.022,4,    6.036,2,   2068.0,2,   2304.3,2, 20020706,     2006