BOTTLE,20130611PRINUNIVRMK
EXPOCODE,SECT_ID,STNNBR,CASTNO,SAMPNO,BTLNBR,BTLNBR_FLAG_W,DATE,TIME,LATITUDE,LONGITUDE,DEPTH,CTDPRS,CTDTMP,CTDSAL,CTDSAL_FLAG_W,SALNTY,SALNTY_FLAG_W,CTDOXY,CTDOXY_FLAG_W,OXYGEN,OXYGEN_FLAG_W,SILCAT,SILCAT_FLAG_W,NITRAT,NITRAT_FLAG_W,PHSPHT,PHSPHT_FLAG_W,CFC-11,CFC-11_FLAG_W,CFC-12,CFC-12_FLAG_W,CFC113,CFC113_FLAG_W,CCL4,CCL4_FLAG_W,MCHFRM,MCHFRM_FLAG_W,TCARBN,TCARBN_FLAG_W,ALKALI,ALKALI_FLAG_W,BTL_DATE,BTL_TIME
,,,,,,,,,,,METERS,DBAR,ITS-90,PSS-78,,PSS-78,,UMOL/KG,,UMOL/KG,,UMOL/KG,,UMOL/KG,,UMOL/KG,,PMOL/KG,,PMOL/KG,,PMOL/KG,,PMOL/KG,,PMOL/KG,,UMOL/KG,,UMOL/KG,,,
  18HU20020623, AR07W,   287,  1, 254258,      1,2,20020710,1945, 59.2497, -44.0140, 1400,   1436.6,   3.1031,  34.8847,2,  34.8837,2,    273.7,2,    283.9,2,     9.60,6,    15.70,6,     1.12,6,    3.960,2,    2.033,4,    0.220,4,    3.792,4,    7.477,2,   2152.9,2,   2310.9,2, 20020710,     1945
  18HU20020623, AR07W,   287,  1, 254259,      2,2,20020710,1945, 59.2497, -44.0140, 1400,   1383.8,   3.2731,  34.8862,2,  34.8865,2,    272.5,2,    281.4,2,     9.49,6,    16.01,6,     1.15,6,    3.997,2,    2.013,4,    0.229,4,    3.736,4,    7.266,2,   2154.4,2,   2295.3,2, 20020710,     1947
  18HU20020623, AR07W,   287,  1, 254260,      3,2,20020710,1945, 59.2497, -44.0140, 1400,   1324.9,   3.3935,  34.8892,2,  34.8890,6,    271.1,2,    280.2,2,     9.63,6,    16.22,6,     1.15,6,    4.089,2,    2.070,4,    0.229,4,    3.832,4,    7.448,2,   2157.9,2,   2300.6,2, 20020710,     1948
  18HU20020623, AR07W,   287,  1, 254261,      4,2,20020710,1945, 59.2497, -44.0140, 1400,   1250.9,   3.4983,  34.8912,2,  34.8910,2,    270.0,2,    279.3,2,     9.39,6,    16.17,6,     1.17,6,    4.187,2,    2.122,4,    0.243,4,    3.896,4,    7.445,2,   2159.6,2,   2312.4,2, 20020710,     1950
  18HU20020623, AR07W,   287,  1, 254262,      5,2,20020710,1945, 59.2497, -44.0140, 1400,   1140.7,   3.5547,  34.8904,2,  34.8912,2,    269.4,2,    279.7,2,     9.26,6,    15.96,6,     1.16,6,    4.216,2,    2.146,4,    0.245,4,    3.853,4,    6.948,2,   2156.9,2,   2306.2,2, 20020710,     1952
  18HU20020623, AR07W,   287,  1, 254263,      6,2,20020710,1945, 59.2497, -44.0140, 1400,    978.3,   3.6910,  34.8881,2,  34.8880,2,    269.7,2,    280.6,6,     8.96,6,    16.11,6,     1.18,6,    4.533,2,    2.290,4,    0.264,4,    4.157,4,    6.955,2,   2159.8,2,   2311.8,2, 20020710,     1955
  18HU20020623, AR07W,   287,  1, 254264,      7,2,20020710,1945, 59.2497, -44.0140, 1400,    821.2,   3.8868,  34.8938,2,  34.8941,2,    269.5,2,    284.3,2,     8.57,6,    15.85,6,     1.16,6,    4.657,2,    2.374,4,    0.277,4,    4.251,4,    6.347,2,   2156.1,2,   2316.5,2, 20020710,     1957
  18HU20020623, AR07W,   287,  1, 254265,      8,2,20020710,1945, 59.2497, -44.0140, 1400,    660.3,   4.1328,  34.9006,2,  34.9006,2,    275.0,2,    287.6,2,     8.21,6,    15.83,6,     1.17,6,    5.055,2,    2.539,4,    0.319,4,    4.830,4,    5.395,2,   2154.7,2,   2311.5,2, 20020710,     2000
  18HU20020623, AR07W,   287,  1, 254266,      9,2,20020710,1945, 59.2497, -44.0140, 1400,    499.0,   4.4602,  34.9227,2,  34.9225,2,    275.9,2,    288.0,2,     7.83,6,    15.63,6,     1.15,6,    5.125,2,    2.608,4,    0.326,4,    4.957,4,    5.060,2,   2153.6,2,   2312.4,2, 20020710,     2003
  18HU20020623, AR07W,   287,  1, 254267,     10,2,20020710,1945, 59.2497, -44.0140, 1400,    358.8,   4.8117,  34.9397,2,  34.9394,2,    272.5,2,    284.7,2,     7.61,6,    15.28,6,     1.14,6,    5.034,2,    2.586,4,    0.336,4,    4.756,4,    4.906,2,   2150.9,2,   2313.7,2, 20020710,     2005
  18HU20020623, AR07W,   287,  1, 254268,     11,2,20020710,1945, 59.2497, -44.0140, 1400,    219.3,   5.2855,  34.9733,2,  34.9734,2,    271.8,2,    283.8,2,     7.23,6,    15.28,6,     1.14,6,    4.977,2,    2.570,4,    0.320,4,    4.690,4,    4.297,2,   2149.9,2,   2299.7,2, 20020710,     2007
  18HU20020623, AR07W,   287,  1, 254269,     12,2,20020710,1945, 59.2497, -44.0140, 1400,    101.2,   5.7929,  34.9357,2,  34.9463,2,    277.3,2,    291.1,2,     6.06,6,    13.12,6,     1.05,6,    5.247,2,    2.673,4,    0.360,4,    5.225,4,    4.085,2,   2138.3,2,   2315.2,2, 20020710,     2010
  18HU20020623, AR07W,   287,  1, 254270,     13,2,20020710,1945, 59.2497, -44.0140, 1400,     50.1,   5.6603,  34.7276,2,-999.0000,9,    291.6,2,    305.4,2,     2.66,6,     9.28,6,     0.83,6,    5.543,2,    2.778,4,    0.404,4,    5.659,4,    4.136,2,   2111.6,2,   2291.8,2, 20020710,     2011
  18HU20020623, AR07W,   287,  1, 254271,     14,2,20020710,1945, 59.2497, -44.0140, 1400,     20.9,   5.3882,  34.5147,2,-999.0000,9,    300.3,2,    315.1,2,     1.77,6,     7.29,6,     0.72,6,    5.677,2,    2.820,4,    0.427,4,    5.758,4,    4.277,2,   2094.8,2,   2286.7,2, 20020710,     2012
  18HU20020623, AR07W,   287,  1, 254272,     15,2,20020710,1945, 59.2497, -44.0140, 1400,      3.9,   5.1243,  34.2400,2,-999.0000,9,    304.5,2,    319.4,2,     1.62,6,     6.59,6,     0.68,6,    5.994,2,    2.918,4,    0.469,4,    6.312,4,    4.345,2,   2084.2,2,   2275.0,2, 20020710,     2013
  18HU20020623, AR07W,   296,  1, 254273,      1,2,20020710,2358, 59.0047, -44.0063, 1745,   1777.5,   2.7578,  34.8781,2,  34.8786,2,    276.8,2,    286.2,2,    10.06,6,    15.34,6,     1.14,6,    3.325,2,    2.090,4,    0.000,4,    5.057,4,    7.511,2,   2154.3,2,   2307.3,2, 20020710,     2358
  18HU20020623, AR07W,   296,  1, 254274,      2,2,20020710,2358, 59.0047, -44.0063, 1745,   1710.6,   2.7600,  34.8786,2,  34.8784,6,    276.0,2,    284.8,2,     9.95,6,    15.30,6,     1.13,6,    3.462,2,    2.431,4,    0.251,4,    5.117,4,    7.580,2,   2152.1,2,   2299.2,2, 20020711,        0
  18HU20020623, AR07W,   296,  1, 254275,      3,2,20020710,2358, 59.0047, -44.0063, 1745,   1630.6,   2.9051,  34.8784,2,  34.8787,6,    275.7,2,    284.3,2,     9.60,6,    15.35,6,     1.13,6,    3.647,2,    2.473,4,    0.206,4,    5.276,4,    7.884,2,   2153.5,2,   2313.1,2, 20020711,        2
  18HU20020623, AR07W,   296,  1, 254276,      4,2,20020710,2358, 59.0047, -44.0063, 1745,   1531.0,   3.0336,  34.8789,2,  34.8792,2,    274.8,2,    283.6,2,     9.57,6,    15.61,6,     1.15,6,    3.484,2,    2.137,4,    0.449,4,    5.349,4,    8.321,2,   2154.7,2,   2291.0,2, 20020711,        4
  18HU20020623, AR07W,   296,  1, 254277,      5,2,20020710,2358, 59.0047, -44.0063, 1745,   1380.0,   3.1750,  34.8832,2,  34.8831,2,    272.8,2,    282.4,2,     9.59,6,    16.01,6,     1.15,6,    3.625,2,    2.503,4,    0.149,4,    5.176,4,    8.385,2,   2155.3,2,   2297.2,2, 20020711,        7
  18HU20020623, AR07W,   296,  1, 254278,      6,2,20020710,2358, 59.0047, -44.0063, 1745,   1209.0,   3.3605,  34.8877,2,  34.8880,2,    270.3,2,    280.5,2,     9.39,6,    15.99,6,     1.16,6,    3.858,2,    2.527,4,    0.041,4,    5.529,4,    8.226,2,   2156.7,2,   2275.4,2, 20020711,       10
  18HU20020623, AR07W,   296,  1, 254279,      7,2,20020710,2358, 59.0047, -44.0063, 1745,   1030.8,   3.5109,  34.8914,2,  34.8918,2,    268.5,2,    279.2,2,     9.51,6,    16.00,6,     1.16,6,    3.868,2,    2.586,4,    0.222,4,    5.545,4,    7.763,2,   2156.7,2,   2305.1,2, 20020711,       13
  18HU20020623, AR07W,   296,  1, 254280,      8,2,20020710,2358, 59.0047, -44.0063, 1745,    850.3,   3.6467,  34.8891,2,  34.8888,2,    268.2,2,    279.6,2,     9.22,6,    16.00,6,     1.16,6,    3.957,2,    2.436,4,    0.096,4,    5.760,4,    7.520,2,   2156.4,2,   2304.0,2, 20020711,       16
  18HU20020623, AR07W,   296,  1, 254281,      9,2,20020710,2358, 59.0047, -44.0063, 1745,    670.2,   3.9235,  34.8970,2,  34.8969,2,    267.6,2,    279.3,2,     8.91,6,    15.89,6,     1.17,6,    4.374,2,    2.822,4,    0.295,4,    6.072,4,    6.806,2,   -999.0,9,   2291.0,2, 20020711,       19
  18HU20020623, AR07W,   296,  1, 254282,     10,2,20020710,2358, 59.0047, -44.0063, 1745,    510.6,   4.2193,  34.9085,2,  34.9083,2,    270.3,2,    282.7,2,     8.41,6,    15.62,6,     1.14,6,    4.731,2,    3.246,4,    0.555,4,    7.256,4,    5.233,2,   2152.7,2,   2304.3,2, 20020711,       22
  18HU20020623, AR07W,   296,  1, 254283,     11,2,20020710,2358, 59.0047, -44.0063, 1745,    370.2,   4.5749,  34.9301,2,  34.9294,2,    272.7,2,    285.2,2,     8.09,6,    15.54,6,     1.13,6,    4.328,2,    2.915,4,    0.198,4,    6.915,4,    5.334,2,   2153.5,2,   2317.7,2, 20020711,       25
  18HU20020623, AR07W,   296,  1, 254284,     12,2,20020710,2358, 59.0047, -44.0063, 1745,    250.5,   4.9331,  34.9573,2,  34.9569,2,    272.7,2,    285.1,2,     7.91,6,    15.71,6,     1.14,6,    4.701,2,    3.095,4,    0.472,4,    7.103,4,    5.009,2,   2153.2,2,   2311.4,2, 20020711,       27
  18HU20020623, AR07W,   296,  1, 254285,     13,2,20020710,2358, 59.0047, -44.0063, 1745,    150.8,   5.1087,  34.9467,2,  34.9457,2,    272.6,2,    285.1,6,     7.79,6,    15.29,6,     1.11,6,    5.009,2,    3.195,4,    0.038,4,    7.255,4,    4.612,2,   2148.9,2,   2315.6,2, 20020711,       29
  18HU20020623, AR07W,   296,  1, 254286,     14,2,20020710,2358, 59.0047, -44.0063, 1745,    101.3,   5.5577,  34.9843,2,  34.9833,2,    272.2,2,    284.6,2,     7.47,6,    14.97,6,     1.09,6,    5.062,2,    3.224,4,    0.012,4,    7.546,4,    4.378,2,   2146.7,2,   2326.9,2, 20020711,       30
  18HU20020623, AR07W,   296,  1, 254287,     15,2,20020710,2358, 59.0047, -44.0063, 1745,     51.5,   5.4091,  34.8677,2,-999.0000,9,    281.3,2,    294.9,2,     5.95,6,    12.17,6,     0.98,6,    5.148,2,    3.438,4,    0.221,4,    8.192,4,    4.538,2,   2133.5,2,   2306.2,2, 20020711,       32
  18HU20020623, AR07W,   296,  1, 254288,     16,2,20020710,2358, 59.0047, -44.0063, 1745,     20.5,   6.2935,  34.7868,2,-999.0000,9,    296.0,2,    310.9,2,     2.75,6,     8.81,6,     0.74,6,    5.549,2,    3.545,4,    0.177,4,    9.670,4,    4.207,2,   2105.3,2,   2298.6,2, 20020711,       33
  18HU20020623, AR07W,   296,  1, 254289,     17,2,20020710,2358, 59.0047, -44.0063, 1745,      5.6,   5.7832,  34.5734,2,-999.0000,9,    303.1,2,    317.3,2,     2.09,6,     7.66,6,     0.68,6,    5.731,2,    3.484,4,    0.108,4,   10.093,4,    4.324,2,   2095.8,2,   2276.8,2, 20020711,       34
  18HU20020623, AR07W,   303,  1, 254290,      1,2,20020711,0531, 58.4967, -44.0012, 2193,   2035.0,   1.8600,  34.8738,2,  34.8733,2,    284.0,2,    292.7,2,     9.46,6,    14.01,6,     1.04,6,    4.210,2,    2.143,4,    0.231,4,    4.237,4,    2.587,2,   2155.2,2,   2304.2,2, 20020711,      531
  18HU20020623, AR07W,   303,  1, 254291,      2,2,20020711,0531, 58.4967, -44.0012, 2193,   1965.8,   1.8534,  34.8740,2,  34.8737,6,    283.7,2,    292.6,2,     9.36,6,    14.27,6,     1.04,6,    4.159,2,    2.129,4,    0.208,4,    4.162,4,    2.641,2,   2152.9,2,   2292.9,2, 20020711,      533
  18HU20020623, AR07W,   303,  1, 254292,      3,2,20020711,0531, 58.4967, -44.0012, 2193,   1874.0,   2.1553,  34.8816,2,  34.8821,6,    279.0,2,    288.1,2,    10.33,6,    14.81,6,     1.07,6,    3.713,2,    1.940,4,    0.204,4,    3.797,4,    2.531,2,   2155.3,2,   2285.3,2, 20020711,      535
  18HU20020623, AR07W,   303,  1, 254293,      4,2,20020711,0531, 58.4967, -44.0012, 2193,   1785.7,   2.3229,  34.8697,2,  34.8698,2,    279.6,2,    289.1,2,     9.97,6,    14.78,6,     1.06,6,    3.991,2,    2.056,4,    0.207,4,    4.024,4,    2.557,2,   2154.0,2,   2292.7,2, 20020711,      537
  18HU20020623, AR07W,   303,  1, 254294,      5,2,20020711,0531, 58.4967, -44.0012, 2193,   1669.6,   2.5247,  34.8732,2,  34.8729,2,    277.5,2,    286.9,6,    10.14,6,    15.03,6,     1.08,6,    3.775,2,    1.936,4,    0.191,4,    3.815,4,    2.548,2,   2155.2,2,   2285.1,2, 20020711,      540
  18HU20020623, AR07W,   303,  1, 254295,      6,2,20020711,0531, 58.4967, -44.0012, 2193,   1551.2,   2.7207,  34.8784,2,  34.8786,2,    275.4,2,    285.1,2,    10.42,6,    15.28,6,     1.11,6,    3.705,2,    1.930,4,    0.217,4,    3.781,4,    2.655,2,   2157.5,2,   2311.3,2, 20020711,      542
  18HU20020623, AR07W,   303,  1, 254296,      7,2,20020711,0531, 58.4967, -44.0012, 2193,   1390.9,   2.9051,  34.8825,2,  34.8827,2,    273.2,2,    283.8,2,    10.37,6,    15.72,6,     1.12,6,    3.745,2,    1.932,4,    0.190,4,    3.765,4,    2.832,2,   2155.7,2,   2305.4,2, 20020711,      545
  18HU20020623, AR07W,   303,  1, 254297,      8,2,20020711,0531, 58.4967, -44.0012, 2193,   1210.1,   3.0824,  34.8789,2,  34.8786,2,    272.7,2,    283.4,2,    10.08,6,    16.06,6,     1.13,6,    3.956,2,    2.024,4,    0.222,4,    3.893,4,    2.874,2,   2156.1,2,   2297.0,2, 20020711,      548
  18HU20020623, AR07W,   303,  1, 254298,      9,2,20020711,0531, 58.4967, -44.0012, 2193,   1030.9,   3.2773,  34.8781,2,  34.8786,2,    271.6,2,    282.8,2,     9.58,6,    15.53,6,     1.10,6,    4.384,2,    2.219,4,    0.209,4,    4.172,4,    2.833,2,   2155.1,2,   2287.3,3, 20020711,      551
  18HU20020623, AR07W,   303,  1, 254299,     10,2,20020711,0531, 58.4967, -44.0012, 2193,    881.6,   3.4952,  34.8762,2,  34.8764,2,    271.7,2,    283.3,2,     9.14,6,    15.59,6,     1.11,6,    4.640,2,    2.362,4,    0.254,4,    4.393,4,    2.584,2,   2154.8,2,   -999.0,9, 20020711,      554
  18HU20020623, AR07W,   303,  1, 254300,     11,2,20020711,0531, 58.4967, -44.0012, 2193,    670.3,   3.9943,  34.8922,2,  34.8922,2,    271.1,2,    282.9,2,     8.71,6,    15.55,6,     1.10,6,    4.751,2,    2.437,4,    0.281,4,    4.532,4,    2.268,2,   2146.5,2,   2287.6,2, 20020711,      557
  18HU20020623, AR07W,   303,  1, 254301,     12,2,20020711,0531, 58.4967, -44.0012, 2193,    511.7,   4.4649,  34.9201,2,  34.9201,2,    270.9,2,    282.8,2,     8.65,6,    15.65,6,     1.12,6,    5.005,2,    2.560,4,    0.323,4,    4.668,4,    2.042,2,   2142.9,2,   2291.7,2, 20020711,      600
  18HU20020623, AR07W,   303,  1, 254302,     13,2,20020711,0531, 58.4967, -44.0012, 2193,    370.1,   4.7385,  34.9364,2,  34.9357,2,    272.6,2,    284.8,2,     8.41,6,    15.43,6,     1.11,6,    4.940,2,    2.510,4,    0.319,4,    4.725,4,    1.912,2,   2148.4,2,   2292.6,2, 20020711,      602
  18HU20020623, AR07W,   303,  1, 254303,     14,2,20020711,0531, 58.4967, -44.0012, 2193,    249.4,   5.2013,  34.9668,2,  34.9667,2,    271.9,2,    284.1,2,     8.00,6,    15.56,6,     1.13,6,    5.073,2,    2.629,4,    0.355,4,    4.809,4,    1.749,2,   2149.6,2,   2269.1,2, 20020711,      604
  18HU20020623, AR07W,   303,  1, 254304,     15,2,20020711,0531, 58.4967, -44.0012, 2193,    150.6,   5.5961,  34.9672,2,  34.9685,2,    274.1,2,    286.3,2,     7.38,6,    14.40,6,     1.08,6,    5.233,2,    2.668,4,    0.388,4,    5.039,4,    1.646,2,   2146.6,2,   2315.1,2, 20020711,      606
  18HU20020623, AR07W,   303,  1, 254305,     16,2,20020711,0531, 58.4967, -44.0012, 2193,    100.2,   5.7819,  34.9231,2,  34.9248,2,    279.5,2,    292.4,2,     6.09,6,    12.33,6,     1.03,6,    5.200,2,    2.646,4,    0.323,4,    5.284,4,    1.631,2,   2138.9,2,   2301.3,2, 20020711,      607
  18HU20020623, AR07W,   303,  1, 254306,     17,2,20020711,0531, 58.4967, -44.0012, 2193,     50.6,   6.7839,  34.8860,2,-999.0000,9,    290.2,2,    302.8,2,     2.53,6,     9.10,6,     0.82,6,    5.188,2,    2.651,4,    0.416,4,    5.613,4,    1.516,2,   2114.8,2,   2317.7,2, 20020711,      608
  18HU20020623, AR07W,   303,  1, 254307,     18,2,20020711,0531, 58.4967, -44.0012, 2193,     19.8,   7.0161,  34.8819,2,-999.0000,9,    291.6,2,    304.0,2,     2.12,6,     8.67,6,     0.77,6,    5.309,2,    2.723,4,    0.453,4,    5.701,4,    1.451,2,   2109.3,2,   2305.0,2, 20020711,      609
  18HU20020623, AR07W,   303,  1, 254308,     19,2,20020711,0531, 58.4967, -44.0012, 2193,      5.8,   7.0131,  34.8820,2,-999.0000,9,    291.1,2,    303.9,2,     2.15,6,     8.82,6,     0.77,6,    5.116,2,    2.637,4,    0.342,4,    5.622,4,    1.396,2,   2108.4,2,   2309.2,2, 20020711,      609
  18HU20020623, AR07W,   307,  1, 254309,      1,2,20020711,0841, 58.2503, -44.0168, 2530,   2589.4,   1.6272,  34.8641,2,  34.8642,2,    290.3,2,    298.0,2,     8.19,6,    13.66,6,     1.03,6,    4.603,2,    2.653,4,    0.296,4,    6.466,4,    7.921,2,   2154.2,2,   2298.7,2, 20020711,      841
  18HU20020623, AR07W,   307,  1, 254310,      2,2,20020711,0841, 58.2503, -44.0168, 2530,   2526.1,   1.6280,  34.8644,2,  34.8644,2,    289.9,2,    297.3,2,     8.14,6,    13.68,6,     1.00,6,    4.557,2,    2.407,4,    0.039,4,    6.762,4,    8.387,2,   2154.6,2,   2299.8,2, 20020711,      844
  18HU20020623, AR07W,   307,  1, 254311,      3,2,20020711,0841, 58.2503, -44.0168, 2530,   2440.5,   1.8302,  34.8741,2,  34.8747,2,    285.8,2,    293.5,2,     8.93,6,    14.02,6,     1.02,6,    4.188,2,    2.488,4,    0.256,4,    5.905,4,    7.916,2,   2157.3,2,   2304.1,2, 20020711,      846
  18HU20020623, AR07W,   307,  1, 254312,      4,2,20020711,0841, 58.2503, -44.0168, 2530,   2150.9,   2.8848,  34.9214,2,  34.9218,6,    268.5,2,    275.7,2,    12.80,6,    16.05,6,     1.14,6,    2.141,2,    1.355,4,    0.080,4,    3.271,4,    6.722,2,   2160.5,2,   2287.5,2, 20020711,      850
  18HU20020623, AR07W,   307,  1, 254313,      5,2,20020711,0841, 58.2503, -44.0168, 2530,   2000.2,   3.0120,  34.9175,2,  34.9178,6,    268.6,2,    276.9,2,    12.24,6,    16.25,6,     1.17,6,    2.368,2,    1.702,4,    0.125,4,    3.455,4,    7.162,2,   2159.4,2,   2296.7,2, 20020711,      853