BOTTLE,20130611PRINUNIVRMK
EXPOCODE,SECT_ID,STNNBR,CASTNO,SAMPNO,BTLNBR,BTLNBR_FLAG_W,DATE,TIME,LATITUDE,LONGITUDE,DEPTH,CTDPRS,CTDTMP,CTDSAL,CTDSAL_FLAG_W,SALNTY,SALNTY_FLAG_W,CTDOXY,CTDOXY_FLAG_W,OXYGEN,OXYGEN_FLAG_W,SILCAT,SILCAT_FLAG_W,NITRAT,NITRAT_FLAG_W,PHSPHT,PHSPHT_FLAG_W,CFC-11,CFC-11_FLAG_W,CFC-12,CFC-12_FLAG_W,CFC113,CFC113_FLAG_W,CCL4,CCL4_FLAG_W,MCHFRM,MCHFRM_FLAG_W,TCARBN,TCARBN_FLAG_W,ALKALI,ALKALI_FLAG_W,BTL_DATE,BTL_TIME
,,,,,,,,,,,METERS,DBAR,ITS-90,PSS-78,,PSS-78,,UMOL/KG,,UMOL/KG,,UMOL/KG,,UMOL/KG,,UMOL/KG,,PMOL/KG,,PMOL/KG,,PMOL/KG,,PMOL/KG,,PMOL/KG,,UMOL/KG,,UMOL/KG,,,
  18HU20020623, AR07W,   354,  1, 255582,      1,2,20020713,1938, 52.9940, -43.9842, 3760,   3862.7,   2.0193,  34.8829,2,  34.8829,2,    285.9,2,    286.2,2,    14.22,6,    15.66,6,     1.05,6,    2.884,2,    1.299,4,    0.312,4,    4.561,4,    8.008,2,   2162.3,2,   2352.5,2, 20020713,     1938
  18HU20020623, AR07W,   354,  1, 255583,      2,2,20020713,1938, 52.9940, -43.9842, 3760,   3800.6,   2.0829,  34.8858,2,  34.8869,2,    283.9,2,    283.9,2,    14.50,6,    16.08,6,     1.06,6,    2.625,2,    0.784,4,    0.133,4,    4.696,4,    8.494,2,   2157.6,2,   2321.2,2, 20020713,     1940
  18HU20020623, AR07W,   354,  1, 255584,      3,2,20020713,1938, 52.9940, -43.9842, 3760,   3640.3,   2.1871,  34.8912,2,  34.8916,2,    279.7,2,    281.1,2,    15.47,6,    16.63,6,     1.08,6,    2.255,2,    1.009,4,    0.321,4,    3.783,4,    7.095,2,   2153.6,2,   2272.5,2, 20020713,     1943
  18HU20020623, AR07W,   354,  1, 255585,      4,2,20020713,1938, 52.9940, -43.9842, 3760,   3429.7,   2.3614,  34.9001,2,  34.9006,2,    275.4,2,    277.9,2,    15.84,6,    16.87,6,     1.10,6,    2.028,2,    0.949,4,    0.168,4,    3.335,4,    6.394,2,   2157.8,2,   2316.6,2, 20020713,     1946
  18HU20020623, AR07W,   354,  1, 255586,      5,2,20020713,1938, 52.9940, -43.9842, 3760,   3219.8,   2.5426,  34.9122,2,  34.9105,2,    271.8,2,    275.2,2,    15.94,6,    16.83,6,     1.11,6,    1.732,2,    0.664,4,    0.063,4,    3.188,4,    6.260,2,   2159.8,2,   -999.0,9, 20020713,     1949
  18HU20020623, AR07W,   354,  1, 255587,      6,2,20020713,1938, 52.9940, -43.9842, 3760,   3010.3,   2.7803,  34.9348,2,  34.9369,6,    268.6,2,    272.6,2,    15.07,6,    17.14,6,     1.10,6,    1.847,2,    0.849,4,    0.260,4,    2.971,4,    6.054,2,   2158.0,2,   2295.1,2, 20020713,     1953
  18HU20020623, AR07W,   354,  1, 255588,      7,2,20020713,1938, 52.9940, -43.9842, 3760,   2800.9,   2.8889,  34.9300,2,  34.9285,6,    268.0,2,    273.4,2,    13.79,6,    16.97,6,     1.08,6,    1.926,2,    0.665,4,    0.203,4,    3.156,4,    6.406,2,   2155.1,2,   2329.4,2, 20020713,     1956
  18HU20020623, AR07W,   354,  1, 255589,      8,2,20020713,1938, 52.9940, -43.9842, 3760,   2584.3,   3.0097,  34.9259,2,  34.9250,2,    268.1,2,    274.7,2,    13.07,6,    17.29,6,     1.09,6,    2.000,2,    0.679,4,    0.085,4,    3.375,4,    6.970,2,   2153.3,2,   2340.7,2, 20020713,     1959
  18HU20020623, AR07W,   354,  1, 255590,      9,2,20020713,1938, 52.9940, -43.9842, 3760,   2379.0,   3.0479,  34.9077,2,  34.9084,6,    269.4,2,    276.7,2,    12.48,6,    17.16,6,     1.10,6,    2.308,2,    0.938,4,    0.412,4,    3.730,4,    7.689,2,   2154.8,2,   2290.6,2, 20020713,     2003
  18HU20020623, AR07W,   354,  1, 255591,     10,2,20020713,1938, 52.9940, -43.9842, 3760,   2169.8,   3.1077,  34.8969,2,  34.8975,2,    271.0,2,    279.4,2,    11.85,6,    17.38,6,     1.12,6,    2.654,2,    1.115,4,    0.418,4,    4.414,4,    9.375,2,   2154.2,2,   2313.1,2, 20020713,     2006
  18HU20020623, AR07W,   354,  1, 255592,     11,2,20020713,1938, 52.9940, -43.9842, 3760,   1960.9,   3.1239,  34.8810,2,  34.8810,6,    273.1,2,    282.2,2,    11.24,6,    17.27,6,     1.11,6,    3.124,2,    1.655,4,    0.141,4,    5.137,4,   10.832,2,   2153.5,2,   2340.5,2, 20020713,     2009
  18HU20020623, AR07W,   354,  1, 255593,     12,2,20020713,1938, 52.9940, -43.9842, 3760,   1750.2,   3.2310,  34.8835,2,  34.8863,2,    270.8,2,    281.0,2,    12.34,3,    16.90,6,     1.13,6,    2.627,2,    1.003,4,    0.118,4,    4.510,4,    9.481,2,   2155.3,2,   2283.8,2, 20020713,     2012
  18HU20020623, AR07W,   354,  1, 255594,     13,2,20020713,1938, 52.9940, -43.9842, 3760,   1538.9,   3.3734,  34.8897,2,  34.8898,2,    267.0,2,    277.2,6,    11.11,6,    17.14,6,     1.18,6,    3.230,2,    1.516,4,    0.353,4,    5.037,4,    9.968,2,   2154.9,2,   2307.5,2, 20020713,     2016
  18HU20020623, AR07W,   354,  1, 255595,     14,2,20020713,1938, 52.9940, -43.9842, 3760,   1330.3,   3.4951,  34.8894,2,  34.8888,2,    265.0,2,    275.9,2,    10.74,6,    17.32,6,     1.16,6,    3.361,2,    1.300,4,    0.263,4,    5.476,4,   10.074,2,   2156.9,2,   2310.7,2, 20020713,     2019
  18HU20020623, AR07W,   354,  1, 255596,     15,2,20020713,1938, 52.9940, -43.9842, 3760,   1120.9,   3.5543,  34.8803,2,  34.8800,2,    266.1,2,    277.6,2,    10.43,6,    16.84,6,     1.16,6,    4.061,2,    1.898,4,    0.458,4,    6.337,4,    9.960,2,   2156.4,2,   2300.2,2, 20020713,     2022
  18HU20020623, AR07W,   354,  1, 255597,     16,2,20020713,1938, 52.9940, -43.9842, 3760,    920.6,   3.6355,  34.8728,2,  34.8729,2,    268.0,2,    280.1,2,     9.83,6,    16.58,6,     1.18,6,    4.384,2,    2.239,4,    0.430,4,    6.635,4,    8.631,2,   2156.1,2,   2319.8,2, 20020713,     2025
  18HU20020623, AR07W,   354,  1, 255598,     17,2,20020713,1938, 52.9940, -43.9842, 3760,    721.1,   3.7914,  34.8730,2,  34.8729,2,    263.5,2,    275.4,2,     9.90,6,    16.99,6,     1.18,6,    4.296,2,    2.186,4,    0.392,4,    6.616,4,    8.252,2,   2155.8,2,   2334.7,2, 20020713,     2028
  18HU20020623, AR07W,   354,  1, 255599,     18,2,20020713,1938, 52.9940, -43.9842, 3760,    519.4,   4.0849,  34.8578,2,  34.8578,2,    256.0,2,    267.9,2,     9.92,6,    16.95,6,     1.20,6,    4.348,2,    2.201,4,    0.332,4,    6.334,4,    7.370,2,   2158.6,2,   2321.9,2, 20020713,     2031
  18HU20020623, AR07W,   354,  1, 255600,     19,2,20020713,1938, 52.9940, -43.9842, 3760,    360.0,   4.0111,  34.6799,2,  34.6789,2,    282.0,2,    297.8,2,     7.78,3,    14.61,3,     1.10,3,    5.766,3,    2.916,4,    0.465,4,   10.165,4,    5.088,2,   2142.7,3,   2296.6,2, 20020713,     2034
  18HU20020623, AR07W,   354,  1, 255601,     20,2,20020713,1938, 52.9940, -43.9842, 3760,    240.8,   6.5230,  34.8386,2,  34.8432,2,    217.7,2,    225.1,2,     9.89,6,    17.15,6,     1.25,6,    2.980,2,    1.514,4,    0.252,4,    3.920,4,    3.700,2,   2157.7,2,   2338.9,2, 20020713,     2036
  18HU20020623, AR07W,   354,  1, 255602,     21,2,20020713,1938, 52.9940, -43.9842, 3760,    141.1,   8.9249,  35.1051,2,-999.0000,9,    202.6,2,    209.9,2,     8.71,6,    16.12,6,     1.15,6,    2.403,2,    1.176,4,    0.110,4,    2.811,4,    3.117,2,   2152.3,2,   2356.5,2, 20020713,     2038
  18HU20020623, AR07W,   354,  1, 255603,     22,2,20020713,1938, 52.9940, -43.9842, 3760,     71.3,   9.5242,  35.0783,2,-999.0000,9,    209.4,2,    217.1,2,     6.67,6,    13.64,6,     1.03,6,    3.035,2,    1.758,4,    0.293,4,    3.258,4,    3.074,2,   2140.5,2,   2355.8,2, 20020713,     2039
  18HU20020623, AR07W,   354,  1, 255604,     23,2,20020713,1938, 52.9940, -43.9842, 3760,     36.1,   9.4819,  34.9141,2,-999.0000,9,    227.4,2,    236.8,2,     4.44,6,    10.56,6,     0.86,6,    3.731,2,    1.938,4,    0.387,4,    4.518,4,    3.331,2,   2122.7,2,   2290.7,2, 20020713,     2040
  18HU20020623, AR07W,   354,  1, 255605,     24,2,20020713,1938, 52.9940, -43.9842, 3760,      2.6,  10.5785,  34.6464,2,-999.0000,9,    277.4,2,    289.3,2,     0.50,6,     0.37,6,     0.25,6,    3.933,2,    2.023,4,    0.226,4,    6.883,4,    3.606,2,   2055.8,2,   2337.1,2, 20020713,     2041
  18HU20020623, AR07W,   358,  1, 255606,      1,2,20020714,0108, 52.7055, -44.6260, 3968,   4121.5,   1.8367,  34.8756,2,  34.8743,2,    291.6,2,    293.1,2,    12.18,6,    14.37,6,     1.10,6,    3.809,2,    1.996,4,    0.207,4,    3.688,4,    6.502,2,   2159.1,2,   2263.9,2, 20020714,      108
  18HU20020623, AR07W,   358,  1, 255607,      2,2,20020714,0108, 52.7055, -44.6260, 3968,   4020.6,   1.8628,  34.8764,2,  34.8759,2,    290.2,2,    291.1,2,    12.15,6,    14.73,6,     1.10,6,    3.794,2,    1.985,4,    0.195,4,    3.721,4,    6.598,2,   2157.9,2,   2295.4,2, 20020714,      111
  18HU20020623, AR07W,   358,  1, 255608,      3,2,20020714,0108, 52.7055, -44.6260, 3968,   3853.2,   1.9520,  34.8803,2,-999.0000,9,    285.9,2,    289.3,2,    13.42,6,    15.00,6,     1.15,6,    3.438,2,    1.863,4,    0.176,4,    3.368,4,    6.217,2,   2157.3,2,   2313.4,2, 20020714,      115
  18HU20020623, AR07W,   358,  1, 255609,      4,2,20020714,0108, 52.7055, -44.6260, 3968,   3622.1,   2.0989,  34.8872,2,-999.0000,9,    279.9,2,    284.7,2,    14.88,6,    15.35,6,     1.17,6,    2.869,2,    1.558,4,    0.153,4,    3.026,4,    5.786,2,   2158.5,2,   2283.6,2, 20020714,      119
  18HU20020623, AR07W,   358,  1, 255610,      5,2,20020714,0108, 52.7055, -44.6260, 3968,   3390.1,   2.2333,  34.8950,2,  34.8902,2,    274.3,2,    279.2,2,    15.58,6,    15.85,6,     1.20,6,    2.284,2,    1.297,4,    0.106,4,    2.493,4,    4.882,2,   2157.9,2,   2267.5,2, 20020714,      123
  18HU20020623, AR07W,   358,  1, 255611,      6,2,20020714,0108, 52.7055, -44.6260, 3968,   3074.3,   2.4620,  34.9042,2,  34.9042,6,    271.9,2,    277.8,2,    15.01,6,    15.95,6,     1.20,6,    2.236,2,    1.250,4,    0.102,4,    2.438,4,    4.760,2,   2156.6,2,   2296.6,2, 20020714,      128
  18HU20020623, AR07W,   358,  1, 255612,      7,2,20020714,0108, 52.7055, -44.6260, 3968,   2901.1,   2.6357,  34.9116,2,  34.9119,2,    269.9,2,    277.2,2,    14.44,6,    15.92,6,     1.22,6,    2.151,2,    1.135,4,    0.069,4,    2.288,4,    4.574,2,   2155.1,2,   2336.3,2, 20020714,      131
  18HU20020623, AR07W,   358,  1, 255613,      8,2,20020714,0108, 52.7055, -44.6260, 3968,   2710.7,   2.7694,  34.9106,2,  34.9107,6,    269.6,2,    277.1,2,    13.26,6,    15.80,6,     1.24,6,    2.269,2,    1.246,4,    0.087,4,    2.410,4,    4.835,2,   2155.2,2,   2305.4,2, 20020714,      134
  18HU20020623, AR07W,   358,  1, 255614,      9,2,20020714,0108, 52.7055, -44.6260, 3968,   2511.8,   2.8755,  34.9041,2,  34.9046,2,    270.5,2,    278.4,2,    12.36,6,    15.98,6,     1.21,6,    2.653,2,    1.489,4,    0.122,4,    2.739,4,    5.525,2,   2155.6,2,   2333.1,2, 20020714,      138
  18HU20020623, AR07W,   358,  1, 255615,     10,2,20020714,0108, 52.7055, -44.6260, 3968,   2251.1,   3.0050,  34.8939,2,  34.8938,6,    271.5,2,    280.8,2,    11.39,6,    15.99,6,     1.22,6,    3.098,2,    1.727,4,    0.140,4,    3.158,4,    6.643,2,   2156.9,2,   2348.7,2, 20020714,      142
  18HU20020623, AR07W,   358,  1, 255616,     11,2,20020714,0108, 52.7055, -44.6260, 3968,   2001.9,   3.0995,  34.8852,2,  34.8847,2,    272.0,2,    282.3,2,    11.29,6,    15.84,6,     1.23,6,    3.332,2,    1.792,4,    0.158,4,    3.329,4,    7.124,2,   2156.3,2,   2303.0,2, 20020714,      146
  18HU20020623, AR07W,   358,  1, 255617,     12,2,20020714,0108, 52.7055, -44.6260, 3968,   1799.8,   3.1584,  34.8805,2,  34.8810,6,    271.6,2,    283.1,2,    10.83,6,    16.40,6,     1.23,6,    3.699,2,    1.925,4,    0.197,4,    3.709,4,    7.823,2,   2156.7,2,   2274.9,2, 20020714,      150
  18HU20020623, AR07W,   358,  1, 255618,     13,2,20020714,0108, 52.7055, -44.6260, 3968,   1600.5,   3.2641,  34.8838,2,  34.8829,2,    269.6,2,    281.0,2,    10.72,6,    16.35,6,     1.22,6,    3.664,2,    1.900,4,    0.193,4,    3.486,4,    7.471,2,   2157.4,2,   2325.4,2, 20020714,      153
  18HU20020623, AR07W,   358,  1, 255619,     14,2,20020714,0108, 52.7055, -44.6260, 3968,   1379.9,   3.4195,  34.8902,2,  34.8896,2,    266.3,2,    278.2,2,    10.68,6,    16.74,6,     1.22,6,    3.693,2,    1.806,4,    0.242,4,    3.484,4,    7.065,2,   2158.6,2,   2313.8,2, 20020714,      157
  18HU20020623, AR07W,   358,  1, 255620,     15,2,20020714,0108, 52.7055, -44.6260, 3968,   1139.5,   3.6142,  34.8980,2,  34.8979,2,    263.2,2,    274.8,2,    10.69,6,    16.78,6,     1.23,6,    3.706,2,    1.813,4,    0.199,4,    3.497,4,    6.467,2,   2159.5,2,   2302.5,2, 20020714,      202
  18HU20020623, AR07W,   358,  1, 255621,     16,2,20020714,0108, 52.7055, -44.6260, 3968,    979.6,   3.7133,  34.8985,2,  34.8995,2,    262.7,2,    274.9,2,    10.40,6,    16.74,6,     1.23,6,    3.834,2,    2.016,4,    0.250,4,    3.557,4,    6.010,2,   2160.7,2,   2266.5,2, 20020714,      204
  18HU20020623, AR07W,   358,  1, 255622,     17,2,20020714,0108, 52.7055, -44.6260, 3968,    790.3,   3.7722,  34.8905,2,  34.8900,2,    264.1,2,    277.1,2,     9.94,6,    17.01,6,     1.24,6,    4.320,2,    2.067,4,    0.299,4,    3.936,4,    5.918,2,   2159.4,2,   2308.8,2, 20020714,      209
  18HU20020623, AR07W,   358,  1, 255623,     18,2,20020714,0108, 52.7055, -44.6260, 3968,    620.5,   3.9538,  34.8961,2,  34.8985,2,    259.7,2,    272.7,2,    10.01,6,    16.84,6,     1.23,6,    4.279,2,    2.157,4,    0.255,4,    3.914,4,    5.654,2,   2159.3,2,   2302.3,2, 20020714,      212
  18HU20020623, AR07W,   358,  1, 255624,     19,2,20020714,0108, 52.7055, -44.6260, 3968,    410.8,   4.4633,  34.9082,2,  34.9083,2,    245.0,2,    256.9,2,    10.61,6,    17.35,6,     1.27,6,    3.718,2,    1.910,4,    0.262,4,    3.235,4,    4.660,2,   2161.1,2,   2317.1,2, 20020714,      215
  18HU20020623, AR07W,   358,  1, 255625,     20,2,20020714,0108, 52.7055, -44.6260, 3968,    281.4,   4.9573,  34.8834,2,  34.8831,2,    229.6,2,    241.3,2,    11.23,6,    18.31,6,     1.32,6,    3.400,2,    1.771,4,    0.227,4,    2.951,4,    3.940,2,   2160.6,2,   2270.4,2, 20020714,      217
  18HU20020623, AR07W,   358,  1, 255626,     21,2,20020714,0108, 52.7055, -44.6260, 3968,    170.1,   5.2488,  34.7092,2,  34.7077,2,    253.6,2,    269.2,2,     7.63,6,    14.31,6,     1.16,6,    4.774,2,    2.335,4,    0.324,4,    4.568,4,    3.593,2,   2139.4,2,   2320.6,2, 20020714,      220
  18HU20020623, AR07W,   358,  1, 255627,     22,2,20020714,0108, 52.7055, -44.6260, 3968,     90.1,   7.3655,  34.8166,2,-999.0000,9,    218.4,2,    226.0,2,     8.16,6,    15.22,6,     1.17,6,    3.627,2,    1.981,4,    0.253,4,    2.877,4,    2.788,2,   2143.5,2,   2295.7,2, 20020714,      221
  18HU20020623, AR07W,   358,  1, 255628,     23,2,20020714,0108, 52.7055, -44.6260, 3968,     39.9,   8.4474,  34.6014,2,-999.0000,9,    261.3,2,    272.5,2,     1.90,6,     4.73,6,     0.62,6,    4.671,2,    2.211,4,    0.419,4,    4.158,4,    2.935,2,   2087.2,2,   2239.3,2, 20020714,      223
  18HU20020623, AR07W,   358,  1, 255629,     24,2,20020714,0108, 52.7055, -44.6260, 3968,      6.0,  10.5126,  34.6949,2,-999.0000,9,    276.3,2,    287.9,2,     0.65,6,     0.91,6,     0.31,6,    4.233,2,    2.150,4,    0.283,4,    4.141,4,    2.601,2,   2053.9,2,   2257.6,2, 20020714,      224