BOTTLE,20130611PRINUNIVRMK
EXPOCODE,SECT_ID,STNNBR,CASTNO,SAMPNO,BTLNBR,BTLNBR_FLAG_W,DATE,TIME,LATITUDE,LONGITUDE,DEPTH,CTDPRS,CTDTMP,CTDSAL,CTDSAL_FLAG_W,SALNTY,SALNTY_FLAG_W,CTDOXY,CTDOXY_FLAG_W,OXYGEN,OXYGEN_FLAG_W,SILCAT,SILCAT_FLAG_W,NITRAT,NITRAT_FLAG_W,PHSPHT,PHSPHT_FLAG_W,CFC-11,CFC-11_FLAG_W,CFC-12,CFC-12_FLAG_W,CFC113,CFC113_FLAG_W,CCL4,CCL4_FLAG_W,MCHFRM,MCHFRM_FLAG_W,TCARBN,TCARBN_FLAG_W,ALKALI,ALKALI_FLAG_W,BTL_DATE,BTL_TIME
,,,,,,,,,,,METERS,DBAR,ITS-90,PSS-78,,PSS-78,,UMOL/KG,,UMOL/KG,,UMOL/KG,,UMOL/KG,,UMOL/KG,,PMOL/KG,,PMOL/KG,,PMOL/KG,,PMOL/KG,,PMOL/KG,,UMOL/KG,,UMOL/KG,,,
  18HU20020623, AR07W,   129,  1, 253630,      1,2,20020703,1715, 55.1858, -54.0583, 1600,   1691.4,   3.2286,  34.8804,2,-999.0000,9,    275.8,2,   -999.0,9,     9.74,6,    16.39,6,     1.20,6,    4.085,2,    0.809,4,    0.415,4,    5.650,4,   11.414,2,   2153.9,2,   2284.4,2, 20020703,     1715
  18HU20020623, AR07W,   129,  1, 253631,      2,2,20020703,1715, 55.1858, -54.0583, 1600,   1612.2,   3.2330,  34.8806,2,-999.0000,9,    274.6,2,   -999.0,9,     9.83,6,    16.39,6,     1.20,6,    3.961,2,    1.191,4,    0.489,4,    5.430,4,   10.995,2,   2155.2,2,   2296.3,2, 20020703,     1718
  18HU20020623, AR07W,   129,  1, 253632,      3,2,20020703,1715, 55.1858, -54.0583, 1600,   1464.5,   3.2279,  34.8807,2,-999.0000,9,    274.0,2,   -999.0,9,     9.83,6,    16.33,6,     1.21,6,    4.062,2,    0.885,4,    0.700,4,    5.719,4,   11.584,2,   2154.4,2,   2274.8,2, 20020703,     1720
  18HU20020623, AR07W,   129,  1, 253633,      4,2,20020703,1715, 55.1858, -54.0583, 1600,   1312.6,   3.3408,  34.8845,2,-999.0000,9,    271.3,2,   -999.0,9,     9.73,6,    16.53,6,     1.21,6,    4.108,2,    0.883,4,    0.430,4,    5.724,4,   11.508,2,   2155.1,2,   2315.2,2, 20020703,     1723
  18HU20020623, AR07W,   129,  1, 253634,      5,2,20020703,1715, 55.1858, -54.0583, 1600,   1159.7,   3.3857,  34.8752,2,-999.0000,9,    273.5,2,   -999.0,9,     9.27,6,    16.35,6,     1.21,6,    4.598,2,    1.279,4,    0.409,4,    6.438,4,   10.327,2,   2156.6,2,   2290.1,2, 20020703,     1726
  18HU20020623, AR07W,   129,  1, 253635,      6,2,20020703,1715, 55.1858, -54.0583, 1600,   1053.9,   3.3646,  34.8666,2,-999.0000,9,    276.5,2,   -999.0,9,     9.01,6,    16.08,6,     1.19,6,    4.951,2,    1.543,4,    0.577,4,    6.947,4,    9.669,2,   2154.2,2,   2299.1,2, 20020703,     1728
  18HU20020623, AR07W,   132,  1, 253636,      1,2,20020703,2233, 55.6017, -53.6082, 2861,   2939.2,   1.8185,  34.8791,2,  34.8796,6,    288.4,2,    292.8,2,    10.00,6,    14.21,6,     1.10,6,    4.135,2,    2.332,4,    0.156,4,    3.704,4,    4.034,2,   2157.1,2,   2198.9,3, 20020703,     2233
  18HU20020623, AR07W,   132,  1, 253637,      2,2,20020703,2233, 55.6017, -53.6082, 2861,   2894.5,   1.8117,  34.8790,2,  34.8807,2,    287.0,2,    291.8,2,    10.11,6,    14.42,6,     1.10,6,    4.164,2,    2.331,4,    0.175,4,    3.678,4,    3.997,2,   2155.3,2,   2306.1,2, 20020703,     2252
  18HU20020623, AR07W,   132,  1, 253638,      3,2,20020703,2233, 55.6017, -53.6082, 2861,   2812.0,   1.9524,  34.8817,2,  34.8824,2,    284.7,2,    289.6,2,    10.29,6,    14.43,6,     1.11,6,    3.600,2,    2.024,4,    0.178,4,    3.091,4,    3.179,2,   2157.8,2,   2295.9,2, 20020703,     2255
  18HU20020623, AR07W,   132,  1, 253639,      4,2,20020703,2233, 55.6017, -53.6082, 2861,   2690.7,   2.2912,  34.8909,2,  34.8918,2,    279.5,2,    284.7,2,    11.38,6,    15.34,6,     1.15,6,    3.341,2,    1.925,4,    0.127,4,    3.157,4,    3.691,2,   2157.0,2,   2307.0,2, 20020703,     2258
  18HU20020623, AR07W,   132,  1, 253640,      5,2,20020703,2233, 55.6017, -53.6082, 2861,   2560.2,   2.5761,  34.8983,2,  34.8980,6,    275.6,2,    280.9,6,    11.36,6,    15.49,6,     1.16,6,    3.073,2,    1.764,4,    0.117,4,    2.870,4,    3.553,2,   2156.8,2,   2304.2,2, 20020703,     2301
  18HU20020623, AR07W,   132,  1, 253641,      6,2,20020703,2233, 55.6017, -53.6082, 2861,   2428.6,   2.7606,  34.8993,2,  34.9006,6,    274.6,2,    279.9,2,    11.39,6,    15.80,6,     1.17,6,    0.000,4,    0.000,4,    0.000,4,    0.043,4,    0.138,2,   2156.4,2,   2303.9,2, 20020703,     2304
  18HU20020623, AR07W,   132,  1, 253642,      7,2,20020703,2233, 55.6017, -53.6082, 2861,   2288.4,   2.8991,  34.8977,2,  34.8980,2,    273.6,2,    279.9,2,    10.91,6,    15.80,6,     1.18,6,    3.041,2,    1.773,4,    0.099,4,    2.913,4,    3.828,2,   2155.1,2,   2292.6,2, 20020703,     2307
  18HU20020623, AR07W,   132,  1, 253643,      8,2,20020703,2233, 55.6017, -53.6082, 2861,   2150.8,   2.9546,  34.8946,2,  34.8944,2,    273.5,2,    280.5,2,    10.92,6,    16.10,6,     1.18,6,    3.196,2,    1.828,4,    0.108,4,    2.966,4,    3.987,2,   2153.6,2,   2300.7,2, 20020703,     2309
  18HU20020623, AR07W,   132,  1, 253644,      9,2,20020703,2233, 55.6017, -53.6082, 2861,   1990.8,   3.0440,  34.8839,2,  34.8633,2,    274.9,2,    282.0,2,    10.42,6,    16.05,6,     1.19,6,    3.610,2,    2.010,4,    0.120,4,    3.299,4,    4.571,2,   2157.4,2,   2290.2,2, 20020703,     2312
  18HU20020623, AR07W,   132,  1, 253645,     10,2,20020703,2233, 55.6017, -53.6082, 2861,   1810.8,   3.1200,  34.8740,2,  34.8740,2,    275.9,2,    284.5,2,    10.18,6,    16.62,6,     1.20,6,    3.982,2,    2.211,4,    0.163,4,    3.641,4,    5.116,2,   2155.0,2,   2311.0,2, 20020703,     2315
  18HU20020623, AR07W,   132,  1, 253646,     11,2,20020703,2233, 55.6017, -53.6082, 2861,   1630.5,   3.2188,  34.8789,2,  34.8787,2,    273.4,2,    280.2,6,    10.06,6,    16.29,6,     1.20,6,    4.067,2,    2.265,4,    0.153,4,    3.623,4,    4.990,2,   2157.4,2,   2280.2,2, 20020703,     2318
  18HU20020623, AR07W,   132,  1, 253647,     12,2,20020703,2233, 55.6017, -53.6082, 2861,   1461.4,   3.3734,  34.8835,2,  34.8840,2,    270.3,2,    279.5,2,     9.85,6,    16.61,6,     1.19,6,    4.159,2,    2.308,4,    0.173,4,    3.585,4,    4.735,2,   2156.6,2,   2292.6,2, 20020703,     2322
  18HU20020623, AR07W,   132,  1, 253648,     13,2,20020703,2233, 55.6017, -53.6082, 2861,   1230.9,   3.2346,  34.8403,2,  34.8397,2,    284.8,2,    296.3,2,     8.59,6,    15.58,6,     1.16,6,    5.484,2,    3.043,4,    0.227,4,    4.960,4,    3.694,2,   2154.8,2,   2307.1,2, 20020703,     2325
  18HU20020623, AR07W,   132,  1, 253649,     14,2,20020703,2233, 55.6017, -53.6082, 2861,   1030.4,   3.2244,  34.8378,2,  34.8371,2,    284.2,2,    296.4,2,     8.48,6,    15.85,6,     1.16,6,    5.585,2,    3.067,4,    0.253,4,    5.111,4,    3.734,2,   2153.8,2,   2307.0,2, 20020703,     2329
  18HU20020623, AR07W,   132,  1, 253650,     15,2,20020703,2233, 55.6017, -53.6082, 2861,    850.3,   3.2291,  34.8346,2,  34.8332,2,    284.0,2,    296.8,2,     8.55,6,    15.58,6,     1.16,6,    5.525,2,    3.058,4,    0.248,4,    5.032,4,    3.587,2,   2153.4,2,   2298.4,2, 20020703,     2332
  18HU20020623, AR07W,   132,  1, 253651,     16,2,20020703,2233, 55.6017, -53.6082, 2861,    671.3,   3.3246,  34.8419,2,  34.8424,2,    281.1,2,    293.5,2,     8.76,6,    15.72,6,     1.18,6,    5.419,2,    2.992,4,    0.229,4,    4.822,4,    3.570,2,   2152.8,2,   2284.4,2, 20020703,     2335
  18HU20020623, AR07W,   132,  1, 253652,     17,2,20020703,2233, 55.6017, -53.6082, 2861,    521.3,   3.3880,  34.8405,2,  34.8396,2,    280.7,2,    293.8,2,     8.53,6,    15.57,6,     1.14,6,    5.570,2,    3.068,4,    0.239,4,    4.867,4,    3.463,2,   2150.9,2,   2294.9,2, 20020703,     2338
  18HU20020623, AR07W,   132,  1, 253653,     18,2,20020703,2233, 55.6017, -53.6082, 2861,    369.0,   3.3715,  34.8306,2,  34.8297,2,    282.0,2,    295.6,2,     8.34,6,    15.36,6,     1.14,6,    5.537,2,    3.057,4,    0.243,4,    5.053,4,    3.257,2,   2151.7,2,   2276.7,2, 20020703,     2341
  18HU20020623, AR07W,   132,  1, 253654,     19,2,20020703,2233, 55.6017, -53.6082, 2861,    251.5,   3.4066,  34.8216,2,-999.0000,9,    281.9,2,    295.6,2,     8.28,6,    15.36,6,     1.13,6,    5.617,2,    3.103,4,    0.245,4,    5.035,4,    3.191,2,   2149.5,2,   2260.2,2, 20020703,     2346
  18HU20020623, AR07W,   132,  1, 253655,     20,2,20020703,2233, 55.6017, -53.6082, 2861,    148.8,   3.4950,  34.8000,2,-999.0000,9,    290.0,2,    304.4,2,     8.06,6,    14.38,6,     1.13,6,    5.932,2,    3.273,4,    0.304,4,    5.592,4,    2.872,2,   2146.6,2,   2303.4,2, 20020703,     2348
  18HU20020623, AR07W,   132,  1, 253656,     21,2,20020703,2233, 55.6017, -53.6082, 2861,    100.7,   3.6531,  34.7874,2,-999.0000,9,    292.2,2,    306.8,2,     7.96,6,    13.76,6,     1.09,6,    6.039,2,    3.624,4,    0.249,4,    5.623,4,    2.833,2,   2145.6,2,   2296.4,2, 20020703,     2349
  18HU20020623, AR07W,   132,  1, 253657,     22,2,20020703,2233, 55.6017, -53.6082, 2861,     60.8,   4.0017,  34.7618,2,-999.0000,9,    296.9,2,    311.6,2,     7.07,6,    11.66,6,     1.06,6,    6.178,2,    3.360,4,    0.309,4,    5.964,4,    2.780,2,   2133.6,2,   2296.5,2, 20020703,     2350
  18HU20020623, AR07W,   132,  1, 253658,     23,2,20020703,2233, 55.6017, -53.6082, 2861,     20.5,   6.3905,  34.7374,2,-999.0000,9,    336.1,2,    349.7,2,     0.00,6,     0.50,6,     0.26,6,    5.836,2,    3.235,4,    0.336,4,    5.936,4,    2.322,2,   2049.1,2,   2300.3,2, 20020703,     2355
  18HU20020623, AR07W,   132,  1, 253659,     24,2,20020703,2233, 55.6017, -53.6082, 2861,      5.8,   6.3920,  34.7372,2,-999.0000,9,    336.5,2,    349.9,2,     0.00,6,     0.47,6,     0.25,6,    5.795,2,    3.194,4,    0.262,4,    5.822,4,    2.298,2,   2049.0,2,   2277.1,2, 20020703,     2356
  18HU20020623, AR07W,   134,  1, 253660,      1,2,20020704,0206, 55.8447, -53.3953, 3069,   3155.2,   1.6555,  34.8766,2,  34.8766,2,    290.8,2,    295.0,2,    10.41,6,    14.39,6,     1.02,6,    3.077,2,    1.968,4,    0.000,4,    4.319,4,    7.240,2,   2152.8,2,   2248.0,2, 20020704,      206
  18HU20020623, AR07W,   134,  1, 253661,      2,2,20020704,0206, 55.8447, -53.3953, 3069,   3100.0,   1.6680,  34.8767,2,  34.8770,2,    290.0,2,    293.0,2,    10.37,6,    14.26,6,     1.00,6,    3.012,2,    1.879,4,    0.376,4,    4.369,4,    7.309,2,   2159.7,2,   2277.6,2, 20020704,      206
  18HU20020623, AR07W,   134,  1, 253662,      3,2,20020704,0206, 55.8447, -53.3953, 3069,   3018.8,   1.9249,  34.8805,2,  34.8810,2,    286.9,2,    290.1,2,    10.74,6,    14.66,6,     1.04,6,    3.172,2,    1.915,4,    0.000,4,    4.522,4,    7.736,2,   2153.9,2,   2267.3,2, 20020704,      206
  18HU20020623, AR07W,   134,  1, 253663,      4,2,20020704,0206, 55.8447, -53.3953, 3069,   2917.7,   2.2091,  34.8880,2,  34.8879,2,    281.7,2,    284.8,2,    12.26,6,    15.41,6,     1.07,6,    2.243,2,    1.382,4,    0.000,4,    3.375,4,    6.515,2,   2155.2,2,   2295.1,2, 20020704,      206
  18HU20020623, AR07W,   134,  1, 253664,      5,2,20020704,0206, 55.8447, -53.3953, 3069,   2805.5,   2.3787,  34.8915,2,  34.8918,2,    280.1,2,    283.9,2,    11.69,6,    15.38,6,     1.07,6,    2.301,2,    1.602,4,    0.187,4,    3.385,4,    6.471,2,   2154.4,2,   2306.6,2, 20020704,      206
  18HU20020623, AR07W,   134,  1, 253665,      6,2,20020704,0206, 55.8447, -53.3953, 3069,   2674.2,   2.5974,  34.9001,2,  34.9010,6,    275.9,2,    280.2,2,    12.33,6,    15.66,6,     1.09,6,    1.982,4,    0.554,4,    0.323,4,    3.187,4,    6.828,2,   2155.5,2,   2280.7,2, 20020704,      206
  18HU20020623, AR07W,   134,  1, 253666,      7,2,20020704,0206, 55.8447, -53.3953, 3069,   2565.0,   2.7262,  34.8979,2,  34.8989,6,    275.9,2,    280.4,2,    11.80,6,    15.97,6,     1.09,6,    2.178,2,    1.407,4,    0.177,4,    3.165,4,    6.466,2,   2155.8,2,   2275.9,2, 20020704,      206
  18HU20020623, AR07W,   134,  1, 253667,      8,2,20020704,0206, 55.8447, -53.3953, 3069,   2408.2,   2.8758,  34.8942,2,  34.8951,2,    275.3,2,    280.9,2,    11.29,6,    16.05,6,     1.10,6,    2.269,2,    1.426,4,    0.092,4,    3.209,4,    6.838,2,   2156.7,2,   2267.7,2, 20020704,      206
  18HU20020623, AR07W,   134,  1, 253668,      9,2,20020704,0206, 55.8447, -53.3953, 3069,   2228.7,   2.9968,  34.8903,2,  34.8906,2,    275.0,2,    281.3,2,    11.17,6,    16.24,6,     1.14,6,    2.397,2,    1.848,4,    0.151,4,    3.612,4,    7.943,2,   2155.7,2,   2266.8,2, 20020704,      206
  18HU20020623, AR07W,   134,  1, 253669,     10,2,20020704,0206, 55.8447, -53.3953, 3069,   1993.1,   3.1156,  34.8806,2,  34.8806,2,    275.7,2,    283.2,2,    10.80,6,    16.72,6,     1.12,6,    2.756,2,    1.596,4,    0.761,4,    5.102,4,   11.859,2,   2153.8,2,   2214.6,3, 20020704,      206
  18HU20020623, AR07W,   134,  1, 253670,     11,2,20020704,0206, 55.8447, -53.3953, 3069,   1802.3,   3.2169,  34.8799,2,  34.8800,2,    274.0,2,    282.1,6,    10.53,6,    16.56,6,     1.11,6,    2.802,2,    1.633,4,    0.197,4,    3.937,4,    8.864,2,   2155.4,2,   2286.6,2, 20020704,      206
  18HU20020623, AR07W,   134,  1, 253671,     12,2,20020704,0206, 55.8447, -53.3953, 3069,   1600.9,   3.3586,  34.8836,2,  34.8835,2,    271.6,2,    280.1,2,    10.44,6,    16.68,6,     1.12,6,    2.898,2,    1.876,4,    0.582,4,    4.177,4,    8.874,2,   2157.4,2,   2249.5,2, 20020704,      206
  18HU20020623, AR07W,   134,  1, 253672,     13,2,20020704,0206, 55.8447, -53.3953, 3069,   1400.2,   3.3832,  34.8698,2,  34.8709,2,    275.2,2,    284.9,2,     9.96,6,    16.63,6,     1.11,6,    3.609,2,    2.303,4,    0.000,4,    5.105,4,    8.277,2,   2153.4,2,   2278.5,2, 20020704,      206
  18HU20020623, AR07W,   134,  1, 253673,     14,2,20020704,0206, 55.8447, -53.3953, 3069,   1199.8,   3.2405,  34.8411,2,  34.8408,2,    284.1,2,    305.0,3,     9.12,6,    15.99,6,     1.08,6,    4.478,2,    2.778,4,    0.000,4,    6.735,4,    7.412,2,   2153.7,2,   2296.8,2, 20020704,      206
  18HU20020623, AR07W,   134,  1, 253674,     15,2,20020704,0206, 55.8447, -53.3953, 3069,   1001.5,   3.2622,  34.8426,2,  34.8426,2,    282.4,2,    293.9,2,     9.03,6,    15.86,6,     1.08,6,    4.239,2,    2.840,4,    0.419,4,    6.493,4,    7.418,2,   2152.0,2,   2290.0,2, 20020704,      206
  18HU20020623, AR07W,   134,  1, 253675,     16,2,20020704,0206, 55.8447, -53.3953, 3069,    800.9,   3.2947,  34.8412,2,  34.8418,2,    282.4,2,    294.2,2,     9.06,6,    16.04,6,     1.07,6,    4.329,2,    2.731,4,    0.015,4,    6.326,4,    6.897,2,   2150.9,2,   2288.5,2, 20020704,      206
  18HU20020623, AR07W,   134,  1, 253676,     17,2,20020704,0206, 55.8447, -53.3953, 3069,    600.1,   3.3040,  34.8351,2,  34.8351,2,    279.0,2,    291.7,2,     9.16,6,    16.07,6,     1.10,6,    4.336,2,    2.633,4,    0.609,4,    6.336,4,    7.313,2,   2151.7,2,   2284.7,2, 20020704,      206
  18HU20020623, AR07W,   134,  1, 253677,     18,2,20020704,0206, 55.8447, -53.3953, 3069,    400.8,   3.3343,  34.8286,2,  34.8283,2,    282.9,2,    296.4,2,     8.72,6,    15.90,6,     1.06,6,    4.318,2,    2.156,4,    0.000,4,    6.798,4,    6.287,2,   2148.7,2,   2299.5,2, 20020704,      206
  18HU20020623, AR07W,   134,  1, 253678,     19,2,20020704,0206, 55.8447, -53.3953, 3069,    289.5,   3.3638,  34.8250,2,  34.8233,2,    282.6,2,    296.2,2,     8.57,6,    15.65,6,     1.05,6,    4.488,2,    2.595,4,    0.050,4,    6.616,4,    5.756,2,   2148.7,2,   2288.4,2, 20020704,      206
  18HU20020623, AR07W,   134,  1, 253679,     20,2,20020704,0206, 55.8447, -53.3953, 3069,    188.4,   3.4683,  34.8182,2,  34.8169,2,    280.4,2,    294.1,2,     8.57,6,    15.48,6,     1.06,6,    4.342,2,    2.834,4,    0.016,4,    6.491,4,    6.001,2,   2149.9,2,   2298.9,2, 20020704,      206
  18HU20020623, AR07W,   134,  1, 253680,     21,2,20020704,0206, 55.8447, -53.3953, 3069,    110.6,   3.6200,  34.7909,2,  34.7903,2,    284.3,2,    298.6,2,     8.47,6,    14.89,6,     1.03,6,    4.829,2,    2.967,4,    0.493,4,    7.321,4,    5.629,2,   2147.5,2,   2303.3,2, 20020704,      206
  18HU20020623, AR07W,   134,  1, 253681,     22,2,20020704,0206, 55.8447, -53.3953, 3069,     61.3,   3.9001,  34.7508,2,  34.7506,2,    292.9,2,    307.4,2,     7.61,6,    12.40,6,     0.96,6, -999.000,9, -999.000,9, -999.000,9, -999.000,9, -999.000,9,   2136.9,2,   2285.7,2, 20020704,      206
  18HU20020623, AR07W,   134,  1, 253682,     23,2,20020704,0206, 55.8447, -53.3953, 3069,     19.8,   6.2464,  34.6906,2,  34.6930,2,    335.8,2,    350.2,2,     0.00,6,     0.00,6,     0.15,6,    4.605,2,    3.167,4,    0.000,4,    7.995,4,    4.363,2,   2039.9,2,   2301.7,2, 20020704,      206
  18HU20020623, AR07W,   134,  1, 253683,     24,2,20020704,0206, 55.8447, -53.3953, 3069,      5.4,   6.2551,  34.6919,2,  34.6930,2,    336.8,2,    350.2,2,     0.00,6,     0.00,6,     0.13,6,    4.934,2,    3.140,4,    0.131,4,    8.498,4,    4.359,2,   2040.0,2,   2296.0,2, 20020704,      206