BOTTLE,20130611PRINUNIVRMK
EXPOCODE,SECT_ID,STNNBR,CASTNO,SAMPNO,BTLNBR,BTLNBR_FLAG_W,DATE,TIME,LATITUDE,LONGITUDE,DEPTH,CTDPRS,CTDTMP,CTDSAL,CTDSAL_FLAG_W,SALNTY,SALNTY_FLAG_W,CTDOXY,CTDOXY_FLAG_W,OXYGEN,OXYGEN_FLAG_W,SILCAT,SILCAT_FLAG_W,NITRAT,NITRAT_FLAG_W,PHSPHT,PHSPHT_FLAG_W,CFC-11,CFC-11_FLAG_W,CFC-12,CFC-12_FLAG_W,CFC113,CFC113_FLAG_W,CCL4,CCL4_FLAG_W,MCHFRM,MCHFRM_FLAG_W,TCARBN,TCARBN_FLAG_W,ALKALI,ALKALI_FLAG_W,BTL_DATE,BTL_TIME
,,,,,,,,,,,METERS,DBAR,ITS-90,PSS-78,,PSS-78,,UMOL/KG,,UMOL/KG,,UMOL/KG,,UMOL/KG,,UMOL/KG,,PMOL/KG,,PMOL/KG,,PMOL/KG,,PMOL/KG,,PMOL/KG,,UMOL/KG,,UMOL/KG,,,
  18HU20020623, AR07W,    82,  1, 253334,      1,2,20020630,0640, 48.3335, -46.9317, 1944,   1998.4,   2.8302,  34.8956,2,  34.8961,2,    274.8,2,    281.3,2,    11.69,6,    16.22,6,     1.17,6,    3.157,2,    1.627,4,    0.145,4,    3.931,4,    9.154,2,   2155.0,2,   2302.3,2, 20020630,      640
  18HU20020623, AR07W,    82,  1, 253335,      2,2,20020630,0640, 48.3335, -46.9317, 1944,   1843.5,   2.9137,  34.8933,2,  34.8937,6,    274.4,2,    282.0,2,    11.30,6,    16.30,6,     1.12,6,    3.144,2,    1.607,4,    0.147,4,    3.786,4,    9.060,2,   2152.6,2,   2300.8,2, 20020630,      644
  18HU20020623, AR07W,    82,  1, 253336,      3,2,20020630,0640, 48.3335, -46.9317, 1944,   1666.8,   2.9954,  34.8865,2,  34.8865,2,    274.7,2,    283.1,2,    10.92,6,    16.45,6,     1.13,6,    3.261,2,    1.648,4,    0.191,4,    3.892,4,    9.618,2,   2151.3,2,   2288.0,2, 20020630,      648
  18HU20020623, AR07W,    82,  1, 253337,      4,2,20020630,0640, 48.3335, -46.9317, 1944,   1464.6,   3.1713,  34.8804,2,  34.8805,6,    273.6,2,    282.7,2,    10.70,6,    16.58,6,     1.14,6,    3.891,2,    1.942,4,    0.198,4,    4.548,4,   11.574,2,   2152.2,2,   2273.3,2, 20020630,      652
  18HU20020623, AR07W,    82,  1, 253338,      5,2,20020630,0640, 48.3335, -46.9317, 1944,   1234.5,   3.3745,  34.8809,2,  34.8851,2,    271.1,2,    280.9,2,    10.59,6,    16.70,6,     1.15,6,    4.032,2,    2.027,4,    0.225,4,    4.526,4,   10.202,2,   2156.0,2,   2272.5,2, 20020630,      657
  18HU20020623, AR07W,    82,  1, 253339,      6,2,20020630,0640, 48.3335, -46.9317, 1944,   1008.6,   3.4435,  34.8697,2,  34.8698,2,    273.4,2,    284.1,2,     9.74,6,    16.47,6,     1.14,6,    4.553,2,    2.300,4,    0.229,4,    5.044,4,    9.721,2,   2154.5,2,   -999.0,9, 20020630,      702
  18HU20020623, AR07W,    82,  1, 253340,      7,2,20020630,0640, 48.3335, -46.9317, 1944,    807.6,   3.4955,  34.8569,2,  34.8556,2,    276.5,2,    288.3,2,     9.24,6,    15.98,6,     1.11,6,    5.037,2,    2.527,4,    0.291,4,    5.714,4,    8.974,2,   2150.7,2,   2248.8,2, 20020630,      706
  18HU20020623, AR07W,    82,  1, 253341,      8,2,20020630,0640, 48.3335, -46.9317, 1944,    605.9,   3.4293,  34.8321,2,  34.8310,2,    279.6,2,    292.2,2,     8.91,6,    15.84,6,     1.10,6,    5.045,2,    2.542,4,    0.333,4,    5.867,4,    7.566,2,   2149.9,2,   2272.2,2, 20020630,      710
  18HU20020623, AR07W,    82,  1, 253342,      9,2,20020630,0640, 48.3335, -46.9317, 1944,    404.1,   3.5828,  34.8214,2,  34.8208,2,    277.1,2,    290.1,2,     8.95,6,    15.81,6,     1.17,6,    5.418,2,    2.733,4,    0.417,4,    6.265,4,    7.834,2,   2151.1,2,   2270.4,2, 20020630,      714
  18HU20020623, AR07W,    82,  1, 253343,     10,2,20020630,0640, 48.3335, -46.9317, 1944,    203.3,   3.2583,  34.7164,2,  34.7164,2,    279.9,2,    294.2,2,     8.86,6,    15.28,6,     1.10,6,    5.703,2,    2.850,4,    0.351,4,    6.596,4,    7.130,2,   2148.1,2,   2262.8,2, 20020630,      718
  18HU20020623, AR07W,    82,  1, 253344,     11,2,20020630,0640, 48.3335, -46.9317, 1944,    152.6,   2.8164,  34.6122,2,-999.0000,9,    278.4,2,   -999.0,9,     9.75,6,    15.37,6,     1.12,6, -999.000,9, -999.000,9, -999.000,9, -999.000,9, -999.000,9,   -999.0,9,   -999.0,9, 20020630,      720
  18HU20020623, AR07W,    82,  1, 253345,     12,2,20020630,0640, 48.3335, -46.9317, 1944,    102.1,   2.1433,  34.4476,2,  34.4432,2,    281.4,2,    297.6,2,     8.95,6,    14.66,6,     1.10,6,    5.820,2,    2.870,4,    0.414,4,    6.876,4,    6.898,2,   2145.5,2,   2257.1,2, 20020630,      721
  18HU20020623, AR07W,    82,  1, 253346,     13,2,20020630,0640, 48.3335, -46.9317, 1944,     81.7,   1.8602,  34.3574,2,-999.0000,9,    280.6,2,   -999.0,9,     8.47,6,    14.28,6,     1.08,6, -999.000,9, -999.000,9, -999.000,9, -999.000,9, -999.000,9,   -999.0,9,   -999.0,9, 20020630,      722
  18HU20020623, AR07W,    82,  1, 253347,     14,2,20020630,0640, 48.3335, -46.9317, 1944,     61.7,   1.6804,  34.2805,2,-999.0000,9,    282.1,2,   -999.0,9,     6.94,6,    13.83,6,     1.04,6, -999.000,9, -999.000,9, -999.000,9, -999.000,9, -999.000,9,   -999.0,9,   -999.0,9, 20020630,      723
  18HU20020623, AR07W,    82,  1, 253348,     15,2,20020630,0640, 48.3335, -46.9317, 1944,     51.9,   1.6915,  34.2169,2,-999.0000,9,    284.2,2,    301.2,2,     5.22,6,    12.90,6,     1.02,6,    6.636,2,    3.176,4,    0.424,4,    7.790,4,    7.550,2,   2149.0,2,   2242.7,2, 20020630,      724
  18HU20020623, AR07W,    82,  1, 253349,     16,2,20020630,0640, 48.3335, -46.9317, 1944,     41.4,   1.7304,  34.1466,2,-999.0000,9,    287.2,2,   -999.0,9,     3.82,6,    11.22,6,     0.94,6, -999.000,9, -999.000,9, -999.000,9, -999.000,9, -999.000,9,   -999.0,9,   -999.0,9, 20020630,      725
  18HU20020623, AR07W,    82,  1, 253350,     17,2,20020630,0640, 48.3335, -46.9317, 1944,     32.0,   2.2882,  33.9940,2,-999.0000,9,    308.6,2,   -999.0,9,     2.57,6,     6.20,6,     0.85,6, -999.000,9, -999.000,9, -999.000,9, -999.000,9, -999.000,9,   -999.0,9,   -999.0,9, 20020630,      726
  18HU20020623, AR07W,    82,  1, 253351,     18,2,20020630,0640, 48.3335, -46.9317, 1944,     21.5,   4.3154,  33.8244,2,-999.0000,9,    326.3,2,   -999.0,9,     0.82,6,     0.99,6,     0.29,6, -999.000,9, -999.000,9, -999.000,9, -999.000,9, -999.000,9,   -999.0,9,   -999.0,9, 20020630,      727
  18HU20020623, AR07W,    82,  1, 253352,     19,2,20020630,0640, 48.3335, -46.9317, 1944,     12.1,   4.3929,  33.8227,2,-999.0000,9,    326.2,2,    342.3,2,     0.72,6,     0.92,6,     0.31,6,    6.512,2,    3.138,4,    0.459,4,    8.501,4,    6.014,2,   2045.5,2,   2227.4,2, 20020630,      727
  18HU20020623, AR07W,    82,  1, 253353,     20,2,20020630,0640, 48.3335, -46.9317, 1944,      4.0,   4.5085,  33.7806,2,-999.0000,9,    325.2,2,   -999.0,9,     0.70,6,     0.91,6,     0.31,6, -999.000,9, -999.000,9, -999.000,9, -999.000,9, -999.000,9,   -999.0,9,   -999.0,9, 20020630,      728
  18HU20020623, AR07W,    85,  1, 253354,      1,2,20020630,1000, 48.5072, -46.8877, 2385,   2456.1,   2.5661,  34.8974,2,  34.8983,6,    276.2,2,    280.9,2,    12.26,6,    16.02,6,     1.14,6,    2.766,2,    1.716,4,    0.212,4,    3.791,4,    7.616,2,   2162.7,2,   2282.4,2, 20020630,     1000
  18HU20020623, AR07W,    85,  1, 253355,      2,2,20020630,1000, 48.5072, -46.8877, 2385,   2277.1,   2.8140,  34.8967,2,  34.8965,2,    275.6,2,    281.7,2,    11.38,6,    16.31,6,     1.11,6,    2.702,2,    2.495,4,    0.000,4,    4.057,4,    8.737,2,   2155.6,2,   2300.1,2, 20020630,     1005
  18HU20020623, AR07W,    85,  1, 253356,      3,2,20020630,1000, 48.5072, -46.8877, 2385,   2084.1,   2.9082,  34.8934,2,  34.8944,6,    275.0,2,    282.1,2,    11.23,6,    16.46,6,     1.12,6,    2.918,2,    1.938,4,    0.179,4,    4.140,4,    9.095,2,   2157.3,2,   2276.4,2, 20020630,     1009
  18HU20020623, AR07W,    85,  1, 253357,      4,2,20020630,1000, 48.5072, -46.8877, 2385,   1869.4,   3.0160,  34.8867,2,  34.8867,2,    275.1,2,    282.9,2,    10.89,6,    16.50,6,     1.12,6,    3.106,2,    1.493,4,    0.307,4,    4.437,4,   10.068,2,   2156.6,2,   2285.7,2, 20020630,     1012
  18HU20020623, AR07W,    85,  1, 253358,      5,2,20020630,1000, 48.5072, -46.8877, 2385,   1646.5,   3.1114,  34.8785,2,  34.8784,2,    275.2,2,    284.4,2,    10.55,6,    16.66,6,     1.20,3,    3.424,2,    2.847,4,    0.000,4,    5.307,4,   12.521,2,   2157.0,2,   2258.0,2, 20020630,     1016
  18HU20020623, AR07W,    85,  1, 253359,      6,2,20020630,1000, 48.5072, -46.8877, 2385,   1413.4,   3.2601,  34.8813,2,  34.8817,6,    271.9,2,    281.4,2,    10.40,6,    16.90,6,     1.15,6,    3.663,2,    2.875,4,    0.254,4,    5.194,4,   11.606,2,   2159.3,2,   2283.2,2, 20020630,     1020
  18HU20020623, AR07W,    85,  1, 253360,      7,2,20020630,1000, 48.5072, -46.8877, 2385,   1211.3,   3.3766,  34.8832,2,  34.8837,2,    270.1,2,    280.1,2,    10.40,6,    16.90,6,     1.15,6,    3.693,2,    1.946,4,    0.183,4,    5.082,4,   10.413,2,   2159.0,2,   2288.5,2, 20020630,     1024
  18HU20020623, AR07W,    85,  1, 253361,      8,2,20020630,1000, 48.5072, -46.8877, 2385,   1010.4,   3.4202,  34.8686,2,  34.8684,2,    273.1,2,    284.5,2,     9.65,6,    16.58,6,     1.13,6,    4.158,2,    3.496,4,    0.501,4,    6.529,4,   10.642,2,   2158.0,2,   2286.5,2, 20020630,     1028
  18HU20020623, AR07W,    85,  1, 253362,      9,2,20020630,1000, 48.5072, -46.8877, 2385,    808.7,   3.3584,  34.8438,2,  34.8444,2,    280.0,2,    292.8,2,     9.01,6,    16.07,6,     1.11,6,    4.937,2,    3.555,4,    0.384,4,    7.065,4,    8.174,2,   2155.5,2,   2291.8,2, 20020630,     1031
  18HU20020623, AR07W,    85,  1, 253363,     10,2,20020630,1000, 48.5072, -46.8877, 2385,    606.6,   3.3796,  34.8381,2,  34.8369,2,    279.7,2,    292.9,2,     9.02,6,    16.05,6,     1.11,6,    5.042,2,    3.645,4,    0.450,4,    7.300,4,    7.725,2,   2156.0,2,   2291.0,2, 20020630,     1035
  18HU20020623, AR07W,    85,  1, 253364,     11,2,20020630,1000, 48.5072, -46.8877, 2385,    404.1,   3.4353,  34.8230,2,  34.8214,2,    279.0,2,    292.6,2,     9.07,6,    16.09,6,     1.11,6,    4.887,2,    0.737,4,    0.365,4,    6.943,4,    7.280,2,   2154.4,2,   2270.8,2, 20020630,     1039
  18HU20020623, AR07W,    85,  1, 253365,     12,2,20020630,1000, 48.5072, -46.8877, 2385,    204.1,   3.4571,  34.7722,2,  34.7705,2,    277.0,2,    291.1,2,     9.11,6,    15.98,6,     1.12,6,    5.245,2,    2.079,4,    0.339,4,    7.584,4,    6.960,2,   2156.4,2,   2286.9,2, 20020630,     1042
  18HU20020623, AR07W,    85,  1, 253366,     13,2,20020630,1000, 48.5072, -46.8877, 2385,    152.6,   3.1036,  34.6832,2,-999.0000,9,    276.0,2,   -999.0,9,     9.88,6,    15.83,6,     1.18,6, -999.000,9, -999.000,9, -999.000,9, -999.000,9, -999.000,9,   -999.0,9,   -999.0,9, 20020630,     1044
  18HU20020623, AR07W,    85,  1, 253367,     14,2,20020630,1000, 48.5072, -46.8877, 2385,    103.0,   2.3233,  34.5098,2,  34.5074,2,    285.8,2,    302.0,2,     8.81,6,    14.86,6,     1.06,6,    5.558,2,    2.512,4,    0.441,4,    8.352,4,    6.678,2,   2146.2,2,   2267.2,2, 20020630,     1046
  18HU20020623, AR07W,    85,  1, 253368,     15,2,20020630,1000, 48.5072, -46.8877, 2385,     82.9,   2.1350,  34.4318,2,-999.0000,9,    287.0,2,   -999.0,9,     8.59,6,    14.52,6,     1.05,6, -999.000,9, -999.000,9, -999.000,9, -999.000,9, -999.000,9,   -999.0,9,   -999.0,9, 20020630,     1047
  18HU20020623, AR07W,    85,  1, 253369,     16,2,20020630,1000, 48.5072, -46.8877, 2385,     62.5,   1.7050,  34.2971,2,-999.0000,9,    287.5,2,   -999.0,9,     8.83,6,    14.03,6,     1.06,6, -999.000,9, -999.000,9, -999.000,9, -999.000,9, -999.000,9,   -999.0,9,   -999.0,9, 20020630,     1048
  18HU20020623, AR07W,    85,  1, 253370,     17,2,20020630,1000, 48.5072, -46.8877, 2385,     52.8,   1.5035,  34.2095,2,  34.2103,2,    291.5,2,    309.6,2,     8.95,6,    13.50,6,     1.05,6,    6.521,2,    2.247,4,    0.535,4,   10.402,4,    7.552,2,   2135.6,2,   2251.5,2, 20020630,     1048
  18HU20020623, AR07W,    85,  1, 253371,     18,2,20020630,1000, 48.5072, -46.8877, 2385,     42.5,   1.9204,  34.0678,2,-999.0000,9,    300.4,2,   -999.0,9,     6.61,6,    10.02,6,     0.89,6, -999.000,9, -999.000,9, -999.000,9, -999.000,9, -999.000,9,   -999.0,9,   -999.0,9, 20020630,     1049
  18HU20020623, AR07W,    85,  1, 253372,     19,2,20020630,1000, 48.5072, -46.8877, 2385,     32.0,   5.2007,  33.9367,2,-999.0000,9,    316.8,2,   -999.0,9,     0.73,6,     0.85,6,     0.26,6, -999.000,9, -999.000,9, -999.000,9, -999.000,9, -999.000,9,   -999.0,9,   -999.0,9, 20020630,     1050
  18HU20020623, AR07W,    85,  1, 253373,     20,2,20020630,1000, 48.5072, -46.8877, 2385,     22.3,   5.4881,  33.9293,2,-999.0000,9,    318.4,2,   -999.0,9,     0.00,6,     0.18,6,     0.26,6, -999.000,9, -999.000,9, -999.000,9, -999.000,9, -999.000,9,   -999.0,9,   -999.0,9, 20020630,     1051
  18HU20020623, AR07W,    85,  1, 253374,     21,2,20020630,1000, 48.5072, -46.8877, 2385,     12.8,   5.5219,  33.9242,2,  33.9199,2,    318.4,2,    332.4,2,     0.19,6,     0.17,6,     0.25,6,    6.117,2,    3.199,4,    0.507,4,   10.720,4,    5.399,2,   2030.5,2,   2246.1,2, 20020630,     1052
  18HU20020623, AR07W,    85,  1, 253375,     22,2,20020630,1000, 48.5072, -46.8877, 2385,      3.4,   5.7072,  33.7329,2,-999.0000,9,    315.2,2,   -999.0,9,     0.21,6,     0.20,6,     0.24,6, -999.000,9, -999.000,9, -999.000,9, -999.000,9, -999.000,9,   -999.0,9,   -999.0,9, 20020630,     1053
  18HU20020623, AR07W,    86,  1, 253376,      1,2,20020630,1217, 48.6677, -46.8642, 2500,    200.8,   3.0180,  34.7521,2,-999.0000,9,    287.2,2,   -999.0,9,     8.61,6,    15.65,6,     1.15,6, -999.000,9, -999.000,9, -999.000,9, -999.000,9, -999.000,9,   -999.0,9,   -999.0,9, 20020630,     1217
  18HU20020623, AR07W,    86,  1, 253377,      2,2,20020630,1217, 48.6677, -46.8642, 2500,    151.3,   3.1113,  34.7349,2,-999.0000,9,    288.3,2,   -999.0,9,     8.53,6,    15.46,6,     1.10,6, -999.000,9, -999.000,9, -999.000,9, -999.000,9, -999.000,9,   -999.0,9,   -999.0,9, 20020630,     1218
  18HU20020623, AR07W,    86,  1, 253378,      3,2,20020630,1217, 48.6677, -46.8642, 2500,    100.0,   3.2964,  34.6911,2,-999.0000,9,    288.3,2,   -999.0,9,     8.21,6,    14.12,6,     1.16,6, -999.000,9, -999.000,9, -999.000,9, -999.000,9, -999.000,9,   -999.0,9,   -999.0,9, 20020630,     1220
  18HU20020623, AR07W,    86,  1, 253379,      4,2,20020630,1217, 48.6677, -46.8642, 2500,     80.6,   3.6974,  34.6223,2,-999.0000,9,    296.3,2,   -999.0,9,     5.75,6,    10.48,6,     1.01,6, -999.000,9, -999.000,9, -999.000,9, -999.000,9, -999.000,9,   -999.0,9,   -999.0,9, 20020630,     1222
  18HU20020623, AR07W,    86,  1, 253380,      5,2,20020630,1217, 48.6677, -46.8642, 2500,     60.3,   4.5879,  34.4457,2,-999.0000,9,    310.7,2,   -999.0,9,     2.21,6,     4.75,6,     0.54,6, -999.000,9, -999.000,9, -999.000,9, -999.000,9, -999.000,9,   -999.0,9,   -999.0,9, 20020630,     1223
  18HU20020623, AR07W,    86,  1, 253381,      6,2,20020630,1217, 48.6677, -46.8642, 2500,     50.8,   6.2196,  34.5340,2,-999.0000,9,    310.9,2,   -999.0,9,     0.00,6,     0.16,6,     0.13,6, -999.000,9, -999.000,9, -999.000,9, -999.000,9, -999.000,9,   -999.0,9,   -999.0,9, 20020630,     1224
  18HU20020623, AR07W,    86,  1, 253382,      7,2,20020630,1217, 48.6677, -46.8642, 2500,     39.5,   6.2596,  34.5257,2,-999.0000,9,    311.0,2,   -999.0,9,     0.00,6,     0.00,6,     0.16,6, -999.000,9, -999.000,9, -999.000,9, -999.000,9, -999.000,9,   -999.0,9,   -999.0,9, 20020630,     1225
  18HU20020623, AR07W,    86,  1, 253383,      8,2,20020630,1217, 48.6677, -46.8642, 2500,     39.7,   6.2604,  34.5260,2,-999.0000,9,    311.4,2,   -999.0,9,  -999.00,9,  -999.00,9,  -999.00,9, -999.000,9, -999.000,9, -999.000,9, -999.000,9, -999.000,9,   -999.0,9,   -999.0,9, 20020630,     1226
  18HU20020623, AR07W,    86,  1, 253384,      9,2,20020630,1217, 48.6677, -46.8642, 2500,     40.3,   6.2602,  34.5262,2,-999.0000,9,    311.3,2,   -999.0,9,  -999.00,9,  -999.00,9,  -999.00,9, -999.000,9, -999.000,9, -999.000,9, -999.000,9, -999.000,9,   -999.0,9,   -999.0,9, 20020630,     1226
  18HU20020623, AR07W,    86,  1, 253385,     10,2,20020630,1217, 48.6677, -46.8642, 2500,     30.4,   6.2685,  34.5215,2,-999.0000,9,    311.6,2,   -999.0,9,     0.00,6,     0.00,6,     0.13,6, -999.000,9, -999.000,9, -999.000,9, -999.000,9, -999.000,9,   -999.0,9,   -999.0,9, 20020630,     1227
  18HU20020623, AR07W,    86,  1, 253386,     11,2,20020630,1217, 48.6677, -46.8642, 2500,     20.3,   6.3570,  34.4897,2,-999.0000,9,    314.3,2,   -999.0,9,     0.00,6,     0.00,6,     0.12,6, -999.000,9, -999.000,9, -999.000,9, -999.000,9, -999.000,9,   -999.0,9,   -999.0,9, 20020630,     1228
  18HU20020623, AR07W,    86,  1, 253387,     12,2,20020630,1217, 48.6677, -46.8642, 2500,     10.4,   6.6307,  34.3443,2,-999.0000,9,    309.8,2,   -999.0,9,     0.00,6,     0.00,6,     0.12,6, -999.000,9, -999.000,9, -999.000,9, -999.000,9, -999.000,9,   -999.0,9,   -999.0,9, 20020630,     1229
  18HU20020623, AR07W,    86,  1, 253388,     13,2,20020630,1217, 48.6677, -46.8642, 2500,     10.6,   6.5045,  34.4059,2,-999.0000,9,    311.4,2,   -999.0,9,  -999.00,9,  -999.00,9,  -999.00,9, -999.000,9, -999.000,9, -999.000,9, -999.000,9, -999.000,9,   -999.0,9,   -999.0,9, 20020630,     1230
  18HU20020623, AR07W,    86,  1, 253389,     14,2,20020630,1217, 48.6677, -46.8642, 2500,     10.5,   6.5190,  34.3987,2,-999.0000,9,    311.8,2,   -999.0,9,  -999.00,9,  -999.00,9,  -999.00,9, -999.000,9, -999.000,9, -999.000,9, -999.000,9, -999.000,9,   -999.0,9,   -999.0,9, 20020630,     1230
  18HU20020623, AR07W,    86,  1, 253390,     15,2,20020630,1217, 48.6677, -46.8642, 2500,     10.6,   6.5436,  34.3899,2,-999.0000,9,    310.8,2,   -999.0,9,  -999.00,9,  -999.00,9,  -999.00,9, -999.000,9, -999.000,9, -999.000,9, -999.000,9, -999.000,9,   -999.0,9,   -999.0,9, 20020630,     1231
  18HU20020623, AR07W,    86,  1, 253391,     16,2,20020630,1217, 48.6677, -46.8642, 2500,      3.5,   6.6020,  34.3614,2,-999.0000,9,    310.2,2,   -999.0,9,     0.00,6,     0.00,6,     0.13,6, -999.000,9, -999.000,9, -999.000,9, -999.000,9, -999.000,9,   -999.0,9,   -999.0,9, 20020630,     1232
  18HU20020623, AR07W,    86,  1, 253392,     17,2,20020630,1217, 48.6677, -46.8642, 2500,      3.4,   6.6110,  34.3569,2,-999.0000,9,    310.2,2,   -999.0,9,  -999.00,9,  -999.00,9,  -999.00,9, -999.000,9, -999.000,9, -999.000,9, -999.000,9, -999.000,9,   -999.0,9,   -999.0,9, 20020630,     1232