BOTTLE,20130611PRINUNIVRMK
EXPOCODE,SECT_ID,STNNBR,CASTNO,SAMPNO,BTLNBR,BTLNBR_FLAG_W,DATE,TIME,LATITUDE,LONGITUDE,DEPTH,CTDPRS,CTDTMP,CTDSAL,CTDSAL_FLAG_W,SALNTY,SALNTY_FLAG_W,CTDOXY,CTDOXY_FLAG_W,OXYGEN,OXYGEN_FLAG_W,SILCAT,SILCAT_FLAG_W,NITRAT,NITRAT_FLAG_W,PHSPHT,PHSPHT_FLAG_W,CFC-11,CFC-11_FLAG_W,CFC-12,CFC-12_FLAG_W,CFC113,CFC113_FLAG_W,CCL4,CCL4_FLAG_W,MCHFRM,MCHFRM_FLAG_W,TCARBN,TCARBN_FLAG_W,ALKALI,ALKALI_FLAG_W,BTL_DATE,BTL_TIME
,,,,,,,,,,,METERS,DBAR,ITS-90,PSS-78,,PSS-78,,UMOL/KG,,UMOL/KG,,UMOL/KG,,UMOL/KG,,UMOL/KG,,PMOL/KG,,PMOL/KG,,PMOL/KG,,PMOL/KG,,PMOL/KG,,UMOL/KG,,UMOL/KG,,,
  18HU20020623, AR07W,   416,  1, 255916,      1,2,20020716,1534, 49.1590, -52.0645,  298,    291.8,   2.2549,  34.4316,2,  34.3860,6,    239.1,2,    265.3,6,    15.93,6,    14.41,6,     1.16,6,    6.520,2,    3.267,4,    0.392,4,    5.359,4,    6.161,2,   2171.9,3,   2255.9,2, 20020716,     1534
  18HU20020623, AR07W,   416,  1, 255917,      2,2,20020716,1534, 49.1590, -52.0645,  298,    249.4,   1.3492,  34.1552,2,-999.0000,9,    252.7,2,    287.0,2,    12.67,6,    13.57,6,     1.07,6,    5.735,2,    2.832,4,    0.472,4,    4.576,4,    4.764,2,   2150.4,2,   2255.3,2, 20020716,     1535
  18HU20020623, AR07W,   416,  1, 255918,      3,2,20020716,1534, 49.1590, -52.0645,  298,    169.8,  -0.6803,  33.5705,2,-999.0000,9,    277.3,2,    318.8,2,    10.28,6,    10.79,6,     0.97,6,    5.898,2,    2.907,4,    0.518,4,    5.032,4,    4.451,2,   2130.1,2,   2221.9,2, 20020716,     1536
  18HU20020623, AR07W,   416,  1, 255919,      4,2,20020716,1534, 49.1590, -52.0645,  298,    119.6,  -1.1638,  33.3395,2,-999.0000,9,    283.6,2,    326.6,2,    10.82,6,    10.33,6,     1.04,6,    0.000,3,    0.058,4,    0.000,4,    5.399,4,    0.057,2,   2129.9,2,   2224.8,2, 20020716,     1537
  18HU20020623, AR07W,   416,  1, 255920,      5,2,20020716,1534, 49.1590, -52.0645,  298,     98.8,  -1.2900,  33.2087,2,-999.0000,9,    290.6,2,    337.0,2,    10.11,6,     9.52,6,     1.02,6,    7.457,2,    3.396,4,    0.622,4,    6.817,4,    5.214,2,   2126.1,2,   2219.6,2, 20020716,     1538
  18HU20020623, AR07W,   416,  1, 255921,      6,2,20020716,1534, 49.1590, -52.0645,  298,     79.7,  -1.1751,  33.1440,2,-999.0000,9,    293.7,2,   -999.0,9,     9.42,6,     8.75,6,     0.95,6, -999.000,9, -999.000,9, -999.000,9, -999.000,9, -999.000,9,   -999.0,9,   -999.0,9, 20020716,     1539
  18HU20020623, AR07W,   416,  1, 255922,      7,2,20020716,1534, 49.1590, -52.0645,  298,     58.1,  -0.8988,  33.0585,2,-999.0000,9,    300.3,2,   -999.0,9,     5.91,6,     7.41,6,     0.88,6, -999.000,9, -999.000,9, -999.000,9, -999.000,9, -999.000,9,   -999.0,9,   -999.0,9, 20020716,     1539
  18HU20020623, AR07W,   416,  1, 255923,      8,2,20020716,1534, 49.1590, -52.0645,  298,     49.3,  -0.4549,  33.0217,2,-999.0000,9,    318.8,2,    379.8,2,     1.66,6,     3.77,6,     0.67,6,    9.653,2,    4.119,4,    0.677,4,    9.657,4,    6.845,2,   2094.9,2,   2235.2,2, 20020716,     1540
  18HU20020623, AR07W,   416,  1, 255924,      9,2,20020716,1534, 49.1590, -52.0645,  298,     40.0,   0.1739,  32.9570,2,-999.0000,9,    343.9,2,   -999.0,9,     0.60,6,     1.05,6,     0.55,6, -999.000,9, -999.000,9, -999.000,9, -999.000,9, -999.000,9,   -999.0,9,   -999.0,9, 20020716,     1540
  18HU20020623, AR07W,   416,  1, 255925,     10,2,20020716,1534, 49.1590, -52.0645,  298,     28.6,   1.3992,  32.7906,2,-999.0000,9,    355.7,2,   -999.0,9,     0.00,6,     0.00,6,     0.39,6, -999.000,9, -999.000,9, -999.000,9, -999.000,9, -999.000,9,   -999.0,9,   -999.0,9, 20020716,     1540
  18HU20020623, AR07W,   416,  1, 255926,     11,2,20020716,1534, 49.1590, -52.0645,  298,     19.8,   4.8592,  32.3948,2,-999.0000,9,    331.2,2,   -999.0,9,     0.00,6,     0.00,6,     0.30,6, -999.000,9, -999.000,9, -999.000,9, -999.000,9, -999.000,9,   -999.0,9,   -999.0,9, 20020716,     1541
  18HU20020623, AR07W,   416,  1, 255927,     12,2,20020716,1534, 49.1590, -52.0645,  298,      8.7,  10.9385,  31.8996,2,-999.0000,9,    273.6,2,    309.5,2,     0.00,6,     0.00,6,     0.22,6,    6.214,2,    3.132,4,    0.470,4,    6.653,4,    4.139,2,   1989.7,2,   2153.6,2, 20020716,     1541
  18HU20020623, AR07W,   416,  1, 255928,     13,2,20020716,1534, 49.1590, -52.0645,  298,      8.7,  11.1237,  31.8523,2,-999.0000,9,    267.9,2,   -999.0,9,  -999.00,9,  -999.00,9,  -999.00,9, -999.000,9, -999.000,9, -999.000,9, -999.000,9, -999.000,9,   -999.0,9,   -999.0,9, 20020716,     1542
  18HU20020623, AR07W,   416,  1, 255929,     14,2,20020716,1534, 49.1590, -52.0645,  298,      3.8,  11.1666,  31.7881,2,-999.0000,9,    264.9,2,   -999.0,9,     0.00,6,     0.00,6,     0.23,6, -999.000,9, -999.000,9, -999.000,9, -999.000,9, -999.000,9,   -999.0,9,   -999.0,9, 20020716,     1542
  18HU20020623, AR07W,   419,  1, 255930,      1,2,20020716,1726, 49.0025, -52.4000,  307,    299.0,   1.9180,  34.3006,2,  34.2984,6,    250.6,2,    280.6,2,    12.92,6,    14.54,6,     1.11,6,    6.200,2,    2.819,4,    0.443,4,   10.099,4,    7.628,2,   2160.8,2,   2272.9,2, 20020716,     1726
  18HU20020623, AR07W,   419,  1, 255931,      2,2,20020716,1726, 49.0025, -52.4000,  307,    250.2,   0.6369,  34.0328,2,-999.0000,9,    268.7,2,    304.5,2,    10.54,6,    13.31,6,     0.99,6,    6.628,2,    2.363,4,    0.653,4,   11.496,4,    7.782,2,   2139.3,2,   2246.7,2, 20020716,     1727
  18HU20020623, AR07W,   419,  1, 255932,      3,2,20020716,1726, 49.0025, -52.4000,  307,    169.7,  -1.2484,  33.3149,2,-999.0000,9,    284.7,2,    328.5,2,    11.03,6,     9.81,6,     0.96,6,    8.859,2,    3.646,4,    0.780,4,   13.047,4,    8.612,2,   2129.6,2,   2224.7,2, 20020716,     1728
  18HU20020623, AR07W,   419,  1, 255933,      4,2,20020716,1726, 49.0025, -52.4000,  307,    119.7,  -1.5460,  33.1346,2,-999.0000,9,    292.1,2,    337.9,2,    10.53,6,     9.25,6,     0.97,6,    9.028,2,    3.293,4,    0.861,4,   13.669,4,    8.886,2,   2123.4,2,   2213.3,2, 20020716,     1730
  18HU20020623, AR07W,   419,  1, 255934,      5,2,20020716,1726, 49.0025, -52.4000,  307,     99.1,  -1.6436,  33.0807,2,-999.0000,9,    293.5,2,    338.7,2,    10.37,6,     8.99,6,     0.99,6,    9.101,2,    3.632,4,    0.598,4,   13.148,4,    8.607,2,   2128.1,2,   2216.7,2, 20020716,     1730
  18HU20020623, AR07W,   419,  1, 255935,      6,2,20020716,1726, 49.0025, -52.4000,  307,     78.7,  -1.6234,  33.0481,2,-999.0000,9,    293.4,2,   -999.0,9,    10.53,6,     8.93,6,     1.01,6, -999.000,9, -999.000,9, -999.000,9, -999.000,9, -999.000,9,   -999.0,9,   -999.0,9, 20020716,     1731
  18HU20020623, AR07W,   419,  1, 255936,      7,2,20020716,1726, 49.0025, -52.4000,  307,     59.2,  -1.5061,  33.0087,2,-999.0000,9,    294.4,2,   -999.0,9,    10.02,6,     8.58,6,     1.03,6, -999.000,9, -999.000,9, -999.000,9, -999.000,9, -999.000,9,   -999.0,9,   -999.0,9, 20020716,     1732
  18HU20020623, AR07W,   419,  1, 255937,      8,2,20020716,1726, 49.0025, -52.4000,  307,     48.8,  -1.4358,  32.9800,2,-999.0000,9,    297.7,2,    344.9,2,     8.65,6,     8.06,6,     1.01,6,    9.682,2,    3.899,4,    0.660,4,   13.948,4,    9.119,2,   2119.1,2,   2199.5,2, 20020716,     1732
  18HU20020623, AR07W,   419,  1, 255938,      9,2,20020716,1726, 49.0025, -52.4000,  307,     40.0,  -1.0310,  32.9544,2,-999.0000,9,    306.9,2,   -999.0,9,     5.48,6,     6.34,6,     0.93,6, -999.000,9, -999.000,9, -999.000,9, -999.000,9, -999.000,9,   -999.0,9,   -999.0,9, 20020716,     1733
  18HU20020623, AR07W,   419,  1, 255939,     10,2,20020716,1726, 49.0025, -52.4000,  307,     29.0,  -0.1044,  32.8636,2,-999.0000,9,    336.4,2,   -999.0,9,     0.95,6,     1.29,6,     0.53,6, -999.000,9, -999.000,9, -999.000,9, -999.000,9, -999.000,9,   -999.0,9,   -999.0,9, 20020716,     1733
  18HU20020623, AR07W,   419,  1, 255940,     11,2,20020716,1726, 49.0025, -52.4000,  307,     19.4,   0.4657,  32.6662,2,-999.0000,9,    364.2,2,   -999.0,9,     0.00,6,     0.29,6,     0.39,6, -999.000,9, -999.000,9, -999.000,9, -999.000,9, -999.000,9,   -999.0,9,   -999.0,9, 20020716,     1734
  18HU20020623, AR07W,   419,  1, 255941,     12,2,20020716,1726, 49.0025, -52.4000,  307,      9.3,   7.7088,  32.3103,2,-999.0000,9,    305.8,2,    343.7,2,     0.00,6,     0.00,6,     0.27,6,    7.416,2,    3.331,4,    0.627,4,   12.672,4,    5.827,2,   1996.0,2,   2177.8,2, 20020716,     1734
  18HU20020623, AR07W,   419,  1, 255942,     13,2,20020716,1726, 49.0025, -52.4000,  307,      9.3,   9.1848,  32.2329,2,-999.0000,9,    288.3,2,   -999.0,9,  -999.00,9,  -999.00,9,  -999.00,9, -999.000,9, -999.000,9, -999.000,9, -999.000,9, -999.000,9,   -999.0,9,   -999.0,9, 20020716,     1734
  18HU20020623, AR07W,   419,  1, 255943,     14,2,20020716,1726, 49.0025, -52.4000,  307,      2.4,  11.2166,  32.1338,2,-999.0000,9,    266.2,2,   -999.0,9,     0.00,6,     0.00,6,     0.24,6, -999.000,9, -999.000,9, -999.000,9, -999.000,9, -999.000,9,   -999.0,9,   -999.0,9, 20020716,     1735
  18HU20020623, AR07W,   422,  1, 255944,      1,2,20020716,1903, 48.8833, -52.6525,  290,    278.4,   1.9569,  34.2961,2,  34.2862,6,    246.1,2,    275.3,2,    14.11,6,    13.78,6,     1.07,6,    4.926,2,    2.602,4,    0.497,4,    3.756,4,    4.073,2,   2158.2,2,   2251.6,2, 20020716,     1903
  18HU20020623, AR07W,   422,  1, 255945,      2,2,20020716,1903, 48.8833, -52.6525,  290,    210.1,  -0.3917,  33.6718,2,-999.0000,9,    275.3,2,    314.7,2,    11.00,6,    11.43,6,     0.99,6,    5.736,2,    2.881,4,    0.507,4,    4.788,4,    4.317,2,   2128.6,2,   2254.0,2, 20020716,     1905
  18HU20020623, AR07W,   422,  1, 255946,      3,2,20020716,1903, 48.8833, -52.6525,  290,    150.1,  -1.2264,  33.3006,2,-999.0000,9,    285.3,2,    328.5,2,    11.43,6,    10.04,6,     0.92,6,    6.563,2,    3.133,4,    0.574,4,    5.770,4,    4.707,2,   2128.0,2,   2232.4,2, 20020716,     1906
  18HU20020623, AR07W,   422,  1, 255947,      4,2,20020716,1903, 48.8833, -52.6525,  290,    100.4,  -1.6050,  33.0843,2,-999.0000,9,    291.4,2,    337.1,2,    10.81,6,     8.71,6,     0.95,6,    7.357,2,    3.341,4,    0.628,4,    6.661,4,    5.053,2,   2127.7,2,   2221.9,2, 20020716,     1907
  18HU20020623, AR07W,   422,  1, 255948,      5,2,20020716,1903, 48.8833, -52.6525,  290,     79.3,  -1.6068,  33.0481,2,-999.0000,9,    291.5,2,    335.9,2,    10.55,6,     8.76,6,     1.04,6,    6.870,2,    3.262,4,    0.596,4,    6.169,4,    4.688,2,   2130.8,2,   2222.6,2, 20020716,     1908
  18HU20020623, AR07W,   422,  1, 255949,      6,2,20020716,1903, 48.8833, -52.6525,  290,     59.5,  -1.5614,  32.9920,2,-999.0000,9,    292.7,2,   -999.0,9,    10.21,6,     8.47,6,     1.03,6, -999.000,9, -999.000,9, -999.000,9, -999.000,9, -999.000,9,   -999.0,9,   -999.0,9, 20020716,     1908
  18HU20020623, AR07W,   422,  1, 255950,      7,2,20020716,1903, 48.8833, -52.6525,  290,     49.4,  -1.4889,  32.9674,2,-999.0000,9,    292.9,2,    339.5,2,     9.57,6,     7.90,6,     0.98,6,    7.226,2,    3.350,4,    0.631,4,    6.543,4,    4.692,2,   2126.9,2,   2221.1,2, 20020716,     1909
  18HU20020623, AR07W,   422,  1, 255951,      8,2,20020716,1903, 48.8833, -52.6525,  290,     39.7,  -1.1288,  32.9284,2,-999.0000,9,    306.2,2,   -999.0,9,     5.31,6,     6.17,6,     0.90,6, -999.000,9, -999.000,9, -999.000,9, -999.000,9, -999.000,9,   -999.0,9,   -999.0,9, 20020716,     1909
  18HU20020623, AR07W,   422,  1, 255952,      9,2,20020716,1903, 48.8833, -52.6525,  290,     30.0,  -1.0134,  32.8400,2,-999.0000,9,    331.3,2,   -999.0,9,     0.89,6,     1.36,6,     0.55,6, -999.000,9, -999.000,9, -999.000,9, -999.000,9, -999.000,9,   -999.0,9,   -999.0,9, 20020716,     1910
  18HU20020623, AR07W,   422,  1, 255953,     10,2,20020716,1903, 48.8833, -52.6525,  290,     18.5,   1.9833,  32.6747,2,-999.0000,9,    360.4,2,   -999.0,9,     0.56,6,     0.00,6,     0.35,6, -999.000,9, -999.000,9, -999.000,9, -999.000,9, -999.000,9,   -999.0,9,   -999.0,9, 20020716,     1910
  18HU20020623, AR07W,   422,  1, 255954,     11,2,20020716,1903, 48.8833, -52.6525,  290,      8.6,  10.3563,  32.1428,2,-999.0000,9,    294.8,2,    320.7,2,     0.00,6,     0.00,6,     0.27,6,    5.172,2,    2.748,4,    0.481,4,    5.011,4,    3.024,2,   1998.1,2,   2187.6,2, 20020716,     1911
  18HU20020623, AR07W,   422,  1, 255955,     12,2,20020716,1903, 48.8833, -52.6525,  290,      8.7,  10.4973,  32.1646,2,-999.0000,9,    275.7,2,   -999.0,9,     0.00,6,     0.00,6,     0.25,6, -999.000,9, -999.000,9, -999.000,9, -999.000,9, -999.000,9,   -999.0,9,   -999.0,9, 20020716,     1911
  18HU20020623, AR07W,   422,  1, 255956,     13,2,20020716,1903, 48.8833, -52.6525,  290,      3.1,  11.2518,  32.1696,2,-999.0000,9,    264.6,2,   -999.0,9,     0.00,6,     0.00,6,     0.25,6, -999.000,9, -999.000,9, -999.000,9, -999.000,9, -999.000,9,   -999.0,9,   -999.0,9, 20020716,     1911
  18HU20020623, AR07W,   426,  1, 255957,      1,2,20020716,2029, 48.8325, -52.7520,  151,    136.1,  -1.4770,  33.1887,2,-999.0000,9,    290.6,2,    334.2,2,    10.86,6,     9.47,6,     1.01,6,    8.894,2,    3.577,4,    0.860,4,   12.870,4,    8.295,2,   2125.7,2,   2213.6,2, 20020716,     2029
  18HU20020623, AR07W,   426,  1, 255958,      2,2,20020716,2029, 48.8325, -52.7520,  151,    120.4,  -1.5393,  33.1646,2,-999.0000,9,    291.9,2,    335.9,2,    10.88,6,     8.07,6,     0.92,6,    9.314,2,    3.845,4,    0.727,4,   13.189,4,    8.621,2,   2125.2,2,   2221.1,2, 20020716,     2030
  18HU20020623, AR07W,   426,  1, 255959,      3,2,20020716,2029, 48.8325, -52.7520,  151,    100.0,  -1.6055,  33.1127,2,-999.0000,9,    293.6,2,    338.4,2,    10.67,6,     8.92,6,     0.98,6,    9.646,2,    3.945,4,    0.847,4,   13.529,4,    8.805,2,   2125.1,2,   2224.4,2, 20020716,     2031
  18HU20020623, AR07W,   426,  1, 255960,      4,2,20020716,2029, 48.8325, -52.7520,  151,     80.6,  -1.5184,  33.0800,2,-999.0000,9,    294.3,2,   -999.0,9,    10.17,6,     8.45,6,     0.95,6, -999.000,9, -999.000,9, -999.000,9, -999.000,9, -999.000,9,   -999.0,9,   -999.0,9, 20020716,     2032
  18HU20020623, AR07W,   426,  1, 255961,      5,2,20020716,2029, 48.8325, -52.7520,  151,     59.4,  -1.3307,  32.9873,2,-999.0000,9,    300.5,2,   -999.0,9,     8.26,6,     7.55,6,     0.96,6, -999.000,9, -999.000,9, -999.000,9, -999.000,9, -999.000,9,   -999.0,9,   -999.0,9, 20020716,     2032
  18HU20020623, AR07W,   426,  1, 255962,      6,2,20020716,2029, 48.8325, -52.7520,  151,     49.1,  -1.1874,  32.9194,2,-999.0000,9,    307.2,2,    351.3,2,     7.49,6,     6.67,6,     0.89,6,    9.537,2,    3.755,4,    0.634,4,   13.809,4,    8.581,2,   2113.2,2,   2222.0,2, 20020716,     2033
  18HU20020623, AR07W,   426,  1, 255963,      7,2,20020716,2029, 48.8325, -52.7520,  151,     39.4,  -1.1746,  32.8597,2,-999.0000,9,    301.9,2,   -999.0,9,     7.97,6,     6.60,6,     0.87,6, -999.000,9, -999.000,9, -999.000,9, -999.000,9, -999.000,9,   -999.0,9,   -999.0,9, 20020716,     2034
  18HU20020623, AR07W,   426,  1, 255964,      8,2,20020716,2029, 48.8325, -52.7520,  151,     29.5,   0.6465,  32.6651,2,-999.0000,9,    339.3,2,   -999.0,9,     3.21,6,     2.16,6,     0.58,6, -999.000,9, -999.000,9, -999.000,9, -999.000,9, -999.000,9,   -999.0,9,   -999.0,9, 20020716,     2034
  18HU20020623, AR07W,   426,  1, 255965,      9,2,20020716,2029, 48.8325, -52.7520,  151,     19.5,   4.4967,  32.4145,2,-999.0000,9,    335.4,2,   -999.0,9,     0.59,6,     0.00,6,     0.35,6, -999.000,9, -999.000,9, -999.000,9, -999.000,9, -999.000,9,   -999.0,9,   -999.0,9, 20020716,     2035
  18HU20020623, AR07W,   426,  1, 255966,     10,2,20020716,2029, 48.8325, -52.7520,  151,      9.6,   6.2785,  32.3015,2,-999.0000,9,    315.1,2,    338.0,2,     0.43,6,     0.00,6,     0.28,6,    6.941,2,    3.239,4,    0.648,4,   13.107,4,    5.766,2,   1983.7,2,   2162.8,2, 20020716,     2035
  18HU20020623, AR07W,   426,  1, 255967,     11,2,20020716,2029, 48.8325, -52.7520,  151,      3.0,  10.6449,  31.6413,2,-999.0000,9,    280.7,2,   -999.0,9,     0.40,6,     0.00,6,     0.24,6, -999.000,9, -999.000,9, -999.000,9, -999.000,9, -999.000,9,   -999.0,9,   -999.0,9, 20020716,     2036
  18HU20020623, AR07W,   429,  1, 255968,      1,2,20020716,2209, 48.7325, -52.9675,   96,     94.5,  -1.2441,  32.8388,2,-999.0000,9,    295.5,2,    340.5,2,     7.81,6,     6.93,6,     0.99,6,    6.968,2,    3.245,4,    0.616,4,    6.256,4,    4.301,2,   2121.9,2,   2205.3,2, 20020716,     2209
  18HU20020623, AR07W,   429,  1, 255969,      2,2,20020716,2209, 48.7325, -52.9675,   96,     68.9,  -1.0756,  32.7687,2,-999.0000,9,    299.4,2,   -999.0,9,     6.47,6,     5.83,6,     0.89,6, -999.000,9, -999.000,9, -999.000,9, -999.000,9, -999.000,9,   -999.0,9,   -999.0,9, 20020716,     2211
  18HU20020623, AR07W,   429,  1, 255970,      3,2,20020716,2209, 48.7325, -52.9675,   96,     50.3,  -0.8782,  32.7035,2,  32.8321,6,    302.3,2,    346.2,2,     5.85,6,     5.43,6,     0.95,6,    7.341,2,    3.405,4,    0.638,4,    6.703,4,    4.486,2,   2111.5,2,   2211.5,2, 20020716,     2212
  18HU20020623, AR07W,   429,  1, 255971,      4,2,20020716,2209, 48.7325, -52.9675,   96,     39.3,  -0.5718,  32.6400,2,-999.0000,9,    306.5,2,   -999.0,9,     4.84,6,     4.24,6,     0.83,6, -999.000,9, -999.000,9, -999.000,9, -999.000,9, -999.000,9,   -999.0,9,   -999.0,9, 20020716,     2213
  18HU20020623, AR07W,   429,  1, 255972,      5,2,20020716,2209, 48.7325, -52.9675,   96,     29.3,  -0.3362,  32.5339,2,-999.0000,9,    317.9,2,   -999.0,9,     3.80,6,     3.25,6,     0.70,6, -999.000,9, -999.000,9, -999.000,9, -999.000,9, -999.000,9,   -999.0,9,   -999.0,9, 20020716,     2214
  18HU20020623, AR07W,   429,  1, 255973,      6,2,20020716,2209, 48.7325, -52.9675,   96,     18.6,   2.6293,  31.9589,2,-999.0000,9,    347.9,2,   -999.0,9,     0.96,6,     0.00,6,     0.37,6, -999.000,9, -999.000,9, -999.000,9, -999.000,9, -999.000,9,   -999.0,9,   -999.0,9, 20020716,     2215
  18HU20020623, AR07W,   429,  1, 255974,      7,2,20020716,2209, 48.7325, -52.9675,   96,      8.2,   9.9242,  31.5835,2,-999.0000,9,    283.9,2,    329.0,2,     0.72,6,     0.00,6,     0.28,6,    5.152,2,    2.685,4,    0.491,4,    4.821,4,    2.865,2,   1964.2,2,   2146.4,2, 20020716,     2216
  18HU20020623, AR07W,   429,  1, 255975,      8,2,20020716,2209, 48.7325, -52.9675,   96,      8.2,   9.9374,  31.5846,2,-999.0000,9,    283.1,2,   -999.0,9,  -999.00,9,  -999.00,9,  -999.00,9, -999.000,9, -999.000,9, -999.000,9, -999.000,9, -999.000,9,   -999.0,9,   -999.0,9, 20020716,     2216
  18HU20020623, AR07W,   429,  1, 255976,      9,2,20020716,2209, 48.7325, -52.9675,   96,      2.2,  13.4667,  31.7294,2,-999.0000,9,    254.9,2,   -999.0,9,     0.68,6,     0.00,6,     0.25,6, -999.000,9, -999.000,9, -999.000,9, -999.000,9, -999.000,9,   -999.0,9,   -999.0,9, 20020716,     2217