BOTTLE,20130611PRINUNIVRMK
EXPOCODE,SECT_ID,STNNBR,CASTNO,SAMPNO,BTLNBR,BTLNBR_FLAG_W,DATE,TIME,LATITUDE,LONGITUDE,DEPTH,CTDPRS,CTDTMP,CTDSAL,CTDSAL_FLAG_W,SALNTY,SALNTY_FLAG_W,CTDOXY,CTDOXY_FLAG_W,OXYGEN,OXYGEN_FLAG_W,SILCAT,SILCAT_FLAG_W,NITRAT,NITRAT_FLAG_W,PHSPHT,PHSPHT_FLAG_W,CFC-11,CFC-11_FLAG_W,CFC-12,CFC-12_FLAG_W,CFC113,CFC113_FLAG_W,CCL4,CCL4_FLAG_W,MCHFRM,MCHFRM_FLAG_W,TCARBN,TCARBN_FLAG_W,ALKALI,ALKALI_FLAG_W,BTL_DATE,BTL_TIME
,,,,,,,,,,,METERS,DBAR,ITS-90,PSS-78,,PSS-78,,UMOL/KG,,UMOL/KG,,UMOL/KG,,UMOL/KG,,UMOL/KG,,PMOL/KG,,PMOL/KG,,PMOL/KG,,PMOL/KG,,PMOL/KG,,UMOL/KG,,UMOL/KG,,,
  18HU20020623, AR07W,   138,  1, 253684,      1,2,20020704,1039, 56.2083, -53.0022, 3350,    200.5,   3.5798,  34.8366,2,-999.0000,9,    282.8,2,   -999.0,9,     8.41,6,    15.67,6,     1.05,6, -999.000,9, -999.000,9, -999.000,9, -999.000,9, -999.000,9,   -999.0,9,   -999.0,9, 20020704,     1039
  18HU20020623, AR07W,   138,  1, 253685,      2,2,20020704,1039, 56.2083, -53.0022, 3350,    151.4,   3.4906,  34.8058,2,-999.0000,9,    282.5,2,   -999.0,9,     8.69,6,    15.97,6,     1.07,6, -999.000,9, -999.000,9, -999.000,9, -999.000,9, -999.000,9,   -999.0,9,   -999.0,9, 20020704,     1040
  18HU20020623, AR07W,   138,  1, 253686,      3,2,20020704,1039, 56.2083, -53.0022, 3350,    100.8,   3.3413,  34.7290,2,-999.0000,9,    287.3,2,   -999.0,9,     8.32,6,    15.32,6,     1.05,6, -999.000,9, -999.000,9, -999.000,9, -999.000,9, -999.000,9,   -999.0,9,   -999.0,9, 20020704,     1041
  18HU20020623, AR07W,   138,  1, 253687,      4,2,20020704,1039, 56.2083, -53.0022, 3350,     81.5,   3.3743,  34.7066,2,-999.0000,9,    293.2,2,   -999.0,9,     7.69,6,    14.05,6,     1.01,6, -999.000,9, -999.000,9, -999.000,9, -999.000,9, -999.000,9,   -999.0,9,   -999.0,9, 20020704,     1042
  18HU20020623, AR07W,   138,  1, 253688,      5,2,20020704,1039, 56.2083, -53.0022, 3350,     61.6,   4.2862,  34.7423,2,-999.0000,9,    300.6,2,   -999.0,9,     5.46,6,     9.89,6,     0.85,6, -999.000,9, -999.000,9, -999.000,9, -999.000,9, -999.000,9,   -999.0,9,   -999.0,9, 20020704,     1043
  18HU20020623, AR07W,   138,  1, 253689,      6,2,20020704,1039, 56.2083, -53.0022, 3350,     50.3,   5.3435,  34.7336,2,-999.0000,9,    318.8,2,   -999.0,9,     1.15,6,     4.96,6,     0.45,6, -999.000,9, -999.000,9, -999.000,9, -999.000,9, -999.000,9,   -999.0,9,   -999.0,9, 20020704,     1044
  18HU20020623, AR07W,   138,  1, 253690,      7,2,20020704,1039, 56.2083, -53.0022, 3350,     41.3,   5.4197,  34.7376,2,-999.0000,9,    321.4,2,   -999.0,9,     0.73,6,     4.36,6,     0.40,6, -999.000,9, -999.000,9, -999.000,9, -999.000,9, -999.000,9,   -999.0,9,   -999.0,9, 20020704,     1044
  18HU20020623, AR07W,   138,  1, 253691,      8,2,20020704,1039, 56.2083, -53.0022, 3350,     41.0,   5.4201,  34.7378,2,-999.0000,9,    321.4,2,   -999.0,9,  -999.00,9,  -999.00,9,  -999.00,9, -999.000,9, -999.000,9, -999.000,9, -999.000,9, -999.000,9,   -999.0,9,   -999.0,9, 20020704,     1044
  18HU20020623, AR07W,   138,  1, 253692,      9,2,20020704,1039, 56.2083, -53.0022, 3350,     41.8,   5.4170,  34.7388,2,-999.0000,9,    321.6,2,   -999.0,9,  -999.00,9,  -999.00,9,  -999.00,9, -999.000,9, -999.000,9, -999.000,9, -999.000,9, -999.000,9,   -999.0,9,   -999.0,9, 20020704,     1045
  18HU20020623, AR07W,   138,  1, 253693,     10,2,20020704,1039, 56.2083, -53.0022, 3350,     30.7,   5.4210,  34.7379,2,-999.0000,9,    321.5,2,   -999.0,9,     0.74,6,     4.33,6,     0.39,6, -999.000,9, -999.000,9, -999.000,9, -999.000,9, -999.000,9,   -999.0,9,   -999.0,9, 20020704,     1045
  18HU20020623, AR07W,   138,  1, 253694,     11,2,20020704,1039, 56.2083, -53.0022, 3350,     20.5,   5.4285,  34.7369,2,-999.0000,9,    321.5,2,   -999.0,9,     0.85,6,     4.25,6,     0.40,6, -999.000,9, -999.000,9, -999.000,9, -999.000,9, -999.000,9,   -999.0,9,   -999.0,9, 20020704,     1046
  18HU20020623, AR07W,   138,  1, 253695,     12,2,20020704,1039, 56.2083, -53.0022, 3350,     11.4,   5.4246,  34.7378,2,-999.0000,9,    322.3,2,   -999.0,9,     0.71,6,     4.34,6,     0.39,6, -999.000,9, -999.000,9, -999.000,9, -999.000,9, -999.000,9,   -999.0,9,   -999.0,9, 20020704,     1047
  18HU20020623, AR07W,   138,  1, 253696,     13,2,20020704,1039, 56.2083, -53.0022, 3350,     10.7,   5.4248,  34.7376,2,-999.0000,9,    322.1,2,   -999.0,9,  -999.00,9,  -999.00,9,  -999.00,9, -999.000,9, -999.000,9, -999.000,9, -999.000,9, -999.000,9,   -999.0,9,   -999.0,9, 20020704,     1047
  18HU20020623, AR07W,   138,  1, 253697,     14,2,20020704,1039, 56.2083, -53.0022, 3350,     11.3,   5.4274,  34.7371,2,-999.0000,9,    322.1,2,   -999.0,9,  -999.00,9,  -999.00,9,  -999.00,9, -999.000,9, -999.000,9, -999.000,9, -999.000,9, -999.000,9,   -999.0,9,   -999.0,9, 20020704,     1047
  18HU20020623, AR07W,   138,  1, 253698,     15,2,20020704,1039, 56.2083, -53.0022, 3350,     10.6,   5.4338,  34.7369,2,-999.0000,9,    321.6,2,   -999.0,9,  -999.00,9,  -999.00,9,  -999.00,9, -999.000,9, -999.000,9, -999.000,9, -999.000,9, -999.000,9,   -999.0,9,   -999.0,9, 20020704,     1049
  18HU20020623, AR07W,   138,  1, 253699,     16,2,20020704,1039, 56.2083, -53.0022, 3350,      2.3,   5.4295,  34.7296,2,-999.0000,9,    322.9,2,   -999.0,9,     0.67,6,     4.28,6,     0.39,6, -999.000,9, -999.000,9, -999.000,9, -999.000,9, -999.000,9,   -999.0,9,   -999.0,9, 20020704,     1049
  18HU20020623, AR07W,   138,  1, 253700,     17,2,20020704,1039, 56.2083, -53.0022, 3350,      2.9,   5.4318,  34.7371,2,-999.0000,9,    322.9,2,   -999.0,9,  -999.00,9,  -999.00,9,  -999.00,9, -999.000,9, -999.000,9, -999.000,9, -999.000,9, -999.000,9,   -999.0,9,   -999.0,9, 20020704,     1050
  18HU20020623, AR07W,   150,  1, 253701,      1,2,20020705,1117, 56.5355, -52.6025, 3422,   3547.8,   1.5439,  34.8736,2,  34.8731,2,   -123.4,4,    300.6,2,    11.04,6,    14.04,6,     1.07,6,    3.872,2,    2.169,4,    0.304,4,    4.683,4,    7.528,2,   2165.4,2,   2288.3,2, 20020705,     1117
  18HU20020623, AR07W,   150,  1, 253702,      2,2,20020705,1117, 56.5355, -52.6025, 3422,   3460.4,   1.7917,  34.8760,2,  34.8757,2,   -121.1,4,    293.1,2,    10.38,6,    14.27,6,     0.98,6,    3.781,2,    2.120,4,    0.263,4,    4.845,4,    7.986,2,   2168.5,2,   2283.4,2, 20020705,     1120
  18HU20020623, AR07W,   150,  1, 253703,      3,2,20020705,1117, 56.5355, -52.6025, 3422,   3378.6,   2.0534,  34.8821,2,  34.8821,2,   -118.9,4,    289.4,2,    11.38,6,    14.74,6,     1.01,6,    3.316,2,    1.900,4,    0.223,4,    4.340,4,    7.655,2,   2157.5,2,   2248.3,2, 20020705,     1122
  18HU20020623, AR07W,   150,  1, 253704,      4,2,20020705,1117, 56.5355, -52.6025, 3422,   3279.4,   2.3132,  34.8940,2,  34.8943,2,   -116.5,4,    283.3,2,    13.27,6,    15.51,6,     1.05,6,    2.574,2,    1.504,4,    0.166,4,    3.495,4,    6.454,2,   2161.7,2,   2294.2,2, 20020705,     1124
  18HU20020623, AR07W,   150,  1, 253705,      5,2,20020705,1117, 56.5355, -52.6025, 3422,   3162.0,   2.5227,  34.9006,2,  34.9014,2,   -113.9,4,    280.8,2,    12.99,6,    15.75,6,     1.06,6,    2.502,2,    1.486,4,    0.141,4,    3.397,4,    6.491,2,   2158.6,2,   2302.3,2, 20020705,     1126
  18HU20020623, AR07W,   150,  1, 253706,      6,2,20020705,1117, 56.5355, -52.6025, 3422,   3030.9,   2.6613,  34.9036,2,  34.9039,6,   -111.3,4,    279.9,2,    12.38,6,    15.82,6,     1.06,6,    2.530,2,    1.484,4,    0.146,4,    3.348,4,    6.430,2,   2157.0,2,   2301.1,2, 20020705,     1128
  18HU20020623, AR07W,   150,  1, 253707,      7,2,20020705,1117, 56.5355, -52.6025, 3422,   2860.5,   2.8244,  34.9059,2,  34.9059,2,   -108.1,4,    279.3,2,    12.19,6,    16.27,6,     1.06,6,    2.417,2,    1.411,4,    0.126,4,    3.284,4,    6.438,2,   2154.9,2,   2310.2,2, 20020705,     1131
  18HU20020623, AR07W,   150,  1, 253708,      8,2,20020705,1117, 56.5355, -52.6025, 3422,   2660.8,   3.0064,  34.9052,2,  34.9058,2,   -104.5,4,    278.3,2,    11.98,6,    16.81,6,     1.09,6,    2.447,2,    1.418,4,    0.129,4,    3.324,4,    7.020,2,   2157.6,2,   2323.6,2, 20020705,     1134
  18HU20020623, AR07W,   150,  1, 253709,      9,2,20020705,1117, 56.5355, -52.6025, 3422,   2440.2,   3.0683,  34.8886,2,  34.8886,2,   -101.0,4,    282.4,2,    10.88,6,    16.66,6,     1.18,3,    3.063,2,    1.746,4,    0.183,4,    3.935,4,    8.299,2,   2157.5,2,   2301.6,2, 20020705,     1140
  18HU20020623, AR07W,   150,  1, 253710,     10,2,20020705,1117, 56.5355, -52.6025, 3422,   2209.6,   3.0883,  34.8736,2,  34.8737,6,    -97.5,4,    285.6,2,    10.53,6,    16.88,6,     1.09,6,    3.463,2,    1.933,4,    0.218,4,    4.482,4,    9.777,2,   2152.2,2,   2312.0,2, 20020705,     1143
  18HU20020623, AR07W,   150,  1, 253711,     11,2,20020705,1117, 56.5355, -52.6025, 3422,   1970.4,   3.1843,  34.8732,2,  34.8729,2,    -93.9,4,    284.7,2,    10.50,6,    17.07,6,     1.11,6,    3.636,2,    2.010,4,    0.239,4,    4.621,4,   10.231,2,   2157.1,2,   2302.4,2, 20020705,     1147
  18HU20020623, AR07W,   150,  1, 253712,     12,2,20020705,1117, 56.5355, -52.6025, 3422,   1730.6,   3.3803,  34.8852,2,  34.8849,2,    -90.1,4,    279.6,2,    10.35,6,    17.01,6,     1.10,6,    3.598,2,    2.027,4,    0.252,4,    4.389,4,    9.150,2,   2158.3,2,   2307.2,2, 20020705,     1151
  18HU20020623, AR07W,   150,  1, 253713,     13,2,20020705,1117, 56.5355, -52.6025, 3422,   1540.2,   3.4429,  34.8797,2,  34.8796,2,    -87.5,4,    280.9,6,    10.04,6,    16.90,6,     1.10,6,    3.863,2,    2.179,4,    0.272,4,    4.680,4,    8.809,2,   2157.7,2,   2294.8,2, 20020705,     1154
  18HU20020623, AR07W,   150,  1, 253714,     14,2,20020705,1117, 56.5355, -52.6025, 3422,   1280.2,   3.2535,  34.8394,2,  34.8399,2,    -84.5,4,    295.2,2,     8.97,6,    16.23,6,     1.06,6,    4.794,2,    2.661,4,    0.363,4,    6.061,4,    7.263,2,   2154.7,2,   2312.0,2, 20020705,     1159
  18HU20020623, AR07W,   150,  1, 253715,     15,2,20020705,1117, 56.5355, -52.6025, 3422,   1070.0,   3.2072,  34.8304,2,  34.8298,2,    -82.0,4,    297.9,2,     8.80,6,    16.29,6,     1.06,6,    4.893,2,    2.700,4,    0.375,4,    6.331,4,    7.012,2,   2152.8,2,   2295.6,2, 20020705,     1202
  18HU20020623, AR07W,   150,  1, 253716,     16,2,20020705,1117, 56.5355, -52.6025, 3422,    870.4,   3.2159,  34.8298,2,  34.8300,2,    -79.5,4,    297.9,2,     8.71,6,    16.21,6,     1.07,6,    5.020,2,    2.788,4,    0.398,4,    6.436,4,    7.053,2,   2153.6,2,   2308.6,2, 20020705,     1205
  18HU20020623, AR07W,   150,  1, 253717,     17,2,20020705,1117, 56.5355, -52.6025, 3422,    681.0,   3.2461,  34.8310,2,  34.8292,2,    -77.3,4,    297.6,2,     8.75,6,    16.29,6,     1.15,3,    5.010,2,    2.770,4,    0.395,4,    6.442,4,    6.814,2,   2155.1,2,   2332.2,3, 20020705,     1209
  18HU20020623, AR07W,   150,  1, 253718,     18,2,20020705,1117, 56.5355, -52.6025, 3422,    510.4,   3.2717,  34.8295,2,  34.8281,2,    -75.3,4,    297.6,2,     8.77,6,    16.30,6,     1.06,6,    4.990,2,    2.749,4,    0.374,4,    6.406,4,    6.586,2,   2153.9,2,   2299.0,2, 20020705,     1212
  18HU20020623, AR07W,   150,  1, 253719,     19,2,20020705,1117, 56.5355, -52.6025, 3422,    361.7,   3.2964,  34.8227,2,  34.8222,2,    -73.6,4,    298.1,2,     8.67,6,    16.16,6,     1.06,6,    5.116,2,    2.822,4,    0.404,4,    6.502,4,    6.451,2,   2153.1,2,   2299.7,2, 20020705,     1214
  18HU20020623, AR07W,   150,  1, 253720,     20,2,20020705,1117, 56.5355, -52.6025, 3422,    240.0,   3.4715,  34.8305,2,-999.0000,9,    -72.0,4,    293.2,2,     8.82,6,    16.14,6,     1.08,6,    4.858,2,    2.707,4,    0.379,4,    6.119,4,    6.236,2,   2153.9,2,   2321.7,2, 20020705,     1216
  18HU20020623, AR07W,   150,  1, 253721,     21,2,20020705,1117, 56.5355, -52.6025, 3422,    141.1,   3.6301,  34.8100,2,-999.0000,9,    -70.7,4,    295.3,2,     8.48,6,    15.97,6,     1.07,6,    5.007,2,    2.795,4,    0.383,4,    6.584,4,    5.632,2,   2151.8,2,   2298.7,2, 20020705,     1218
  18HU20020623, AR07W,   150,  1, 253722,     22,2,20020705,1117, 56.5355, -52.6025, 3422,     70.9,   3.7251,  34.7227,2,-999.0000,9,    -69.8,4,    313.0,2,     6.79,6,    12.48,6,     0.96,6,    5.650,2,    3.075,4,    0.485,4,    7.901,4,    5.063,2,   2141.2,2,   2298.4,2, 20020705,     1220
  18HU20020623, AR07W,   150,  1, 253723,     23,2,20020705,1117, 56.5355, -52.6025, 3422,     30.3,   5.7699,  34.7129,2,-999.0000,9,    -66.4,4,    336.5,2,     0.43,6,     2.92,6,     0.25,6,    5.180,2,    2.893,4,    0.435,4,    7.428,4,    4.231,2,   2072.9,2,   2296.8,2, 20020705,     1221
  18HU20020623, AR07W,   150,  1, 253724,     24,2,20020705,1117, 56.5355, -52.6025, 3422,      2.5,   5.9959,  34.7165,2,-999.0000,9,    -65.8,4,    337.9,2,     0.00,6,     2.62,6,     0.27,6,    5.224,2,    2.938,4,    0.425,4,    7.699,4,    4.278,2,   2068.6,2,   2317.2,2, 20020705,     1222
  18HU20020623, AR07W,   156,  1, 253725,      1,2,20020705,1715, 56.9610, -52.2158, 3446,    201.3,   3.4530,  34.8220,2,-999.0000,9,    -71.6,4,   -999.0,9,     8.77,6,    16.40,6,     1.17,6, -999.000,9, -999.000,9, -999.000,9, -999.000,9, -999.000,9,   -999.0,9,   -999.0,9, 20020705,     1715
  18HU20020623, AR07W,   156,  1, 253726,      2,2,20020705,1715, 56.9610, -52.2158, 3446,    150.8,   3.5229,  34.8051,2,-999.0000,9,    -70.9,4,   -999.0,9,     8.57,6,    16.17,6,     1.06,6, -999.000,9, -999.000,9, -999.000,9, -999.000,9, -999.000,9,   -999.0,9,   -999.0,9, 20020705,     1716
  18HU20020623, AR07W,   156,  1, 253727,      3,2,20020705,1715, 56.9610, -52.2158, 3446,    100.5,   3.4117,  34.7435,2,-999.0000,9,    -70.6,4,   -999.0,9,     8.10,6,    14.69,6,     1.03,6, -999.000,9, -999.000,9, -999.000,9, -999.000,9, -999.000,9,   -999.0,9,   -999.0,9, 20020705,     1717
  18HU20020623, AR07W,   156,  1, 253728,      4,2,20020705,1715, 56.9610, -52.2158, 3446,     80.4,   3.5156,  34.7250,2,-999.0000,9,    -70.2,4,   -999.0,9,     7.46,6,    13.76,6,     1.01,6, -999.000,9, -999.000,9, -999.000,9, -999.000,9, -999.000,9,   -999.0,9,   -999.0,9, 20020705,     1718
  18HU20020623, AR07W,   156,  1, 253729,      5,2,20020705,1715, 56.9610, -52.2158, 3446,     60.0,   3.6571,  34.7044,2,-999.0000,9,    -69.8,4,   -999.0,9,     6.88,6,    13.01,6,     0.99,6, -999.000,9, -999.000,9, -999.000,9, -999.000,9, -999.000,9,   -999.0,9,   -999.0,9, 20020705,     1719
  18HU20020623, AR07W,   156,  1, 253730,      6,2,20020705,1715, 56.9610, -52.2158, 3446,     50.5,   3.8444,  34.7064,2,-999.0000,9,    -69.4,4,   -999.0,9,     5.92,6,    12.16,6,     0.97,6, -999.000,9, -999.000,9, -999.000,9, -999.000,9, -999.000,9,   -999.0,9,   -999.0,9, 20020705,     1719
  18HU20020623, AR07W,   156,  1, 253731,      7,2,20020705,1715, 56.9610, -52.2158, 3446,     40.0,   4.7116,  34.7052,2,-999.0000,9,    -68.0,4,   -999.0,9,     3.56,6,     9.18,6,     0.81,6, -999.000,9, -999.000,9, -999.000,9, -999.000,9, -999.000,9,   -999.0,9,   -999.0,9, 20020705,     1720
  18HU20020623, AR07W,   156,  1, 253732,      8,2,20020705,1715, 56.9610, -52.2158, 3446,     40.3,   4.7550,  34.7050,2,-999.0000,9,    -68.0,4,   -999.0,9,  -999.00,9,  -999.00,9,  -999.00,9, -999.000,9, -999.000,9, -999.000,9, -999.000,9, -999.000,9,   -999.0,9,   -999.0,9, 20020705,     1720
  18HU20020623, AR07W,   156,  1, 253733,      9,2,20020705,1715, 56.9610, -52.2158, 3446,     40.0,   4.7773,  34.7055,2,-999.0000,9,    -67.9,4,   -999.0,9,  -999.00,9,  -999.00,9,  -999.00,9, -999.000,9, -999.000,9, -999.000,9, -999.000,9, -999.000,9,   -999.0,9,   -999.0,9, 20020705,     1720
  18HU20020623, AR07W,   156,  1, 253734,     10,2,20020705,1715, 56.9610, -52.2158, 3446,     30.4,   5.5727,  34.6773,2,-999.0000,9,    -66.7,4,   -999.0,9,     0.73,6,     4.16,6,     0.37,6, -999.000,9, -999.000,9, -999.000,9, -999.000,9, -999.000,9,   -999.0,9,   -999.0,9, 20020705,     1721
  18HU20020623, AR07W,   156,  1, 253735,     11,2,20020705,1715, 56.9610, -52.2158, 3446,     20.3,   5.6339,  34.6799,2,-999.0000,9,    -66.5,4,   -999.0,9,     0.00,6,     2.98,6,     0.35,6, -999.000,9, -999.000,9, -999.000,9, -999.000,9, -999.000,9,   -999.0,9,   -999.0,9, 20020705,     1721
  18HU20020623, AR07W,   156,  1, 253736,     12,2,20020705,1715, 56.9610, -52.2158, 3446,     10.6,   5.7892,  34.6763,2,-999.0000,9,    -66.2,4,   -999.0,9,     0.00,6,     2.52,6,     0.25,6, -999.000,9, -999.000,9, -999.000,9, -999.000,9, -999.000,9,   -999.0,9,   -999.0,9, 20020705,     1722
  18HU20020623, AR07W,   156,  1, 253737,     13,2,20020705,1715, 56.9610, -52.2158, 3446,     10.3,   5.7968,  34.6761,2,-999.0000,9,    -66.2,4,   -999.0,9,  -999.00,9,  -999.00,9,  -999.00,9, -999.000,9, -999.000,9, -999.000,9, -999.000,9, -999.000,9,   -999.0,9,   -999.0,9, 20020705,     1722
  18HU20020623, AR07W,   156,  1, 253738,     14,2,20020705,1715, 56.9610, -52.2158, 3446,     10.3,   5.8178,  34.6761,2,-999.0000,9,    -66.2,4,   -999.0,9,  -999.00,9,  -999.00,9,  -999.00,9, -999.000,9, -999.000,9, -999.000,9, -999.000,9, -999.000,9,   -999.0,9,   -999.0,9, 20020705,     1722
  18HU20020623, AR07W,   156,  1, 253739,     15,2,20020705,1715, 56.9610, -52.2158, 3446,     10.5,   5.8545,  34.6739,2,-999.0000,9,    -66.1,4,   -999.0,9,  -999.00,9,  -999.00,9,  -999.00,9, -999.000,9, -999.000,9, -999.000,9, -999.000,9, -999.000,9,   -999.0,9,   -999.0,9, 20020705,     1722
  18HU20020623, AR07W,   156,  1, 253740,     16,2,20020705,1715, 56.9610, -52.2158, 3446,      2.6,   5.8612,  34.6762,2,-999.0000,9,    -66.0,4,   -999.0,9,     0.00,6,     2.50,6,     0.26,6, -999.000,9, -999.000,9, -999.000,9, -999.000,9, -999.000,9,   -999.0,9,   -999.0,9, 20020705,     1723
  18HU20020623, AR07W,   156,  1, 253741,     17,2,20020705,1715, 56.9610, -52.2158, 3446,      2.4,   5.8359,  34.6773,2,-999.0000,9,    -66.0,4,   -999.0,9,  -999.00,9,  -999.00,9,  -999.00,9, -999.000,9, -999.000,9, -999.000,9, -999.000,9, -999.000,9,   -999.0,9,   -999.0,9, 20020705,     1723