BOTTLE,20130611PRINUNIVRMK
EXPOCODE,SECT_ID,STNNBR,CASTNO,SAMPNO,BTLNBR,BTLNBR_FLAG_W,DATE,TIME,LATITUDE,LONGITUDE,DEPTH,CTDPRS,CTDTMP,CTDSAL,CTDSAL_FLAG_W,SALNTY,SALNTY_FLAG_W,CTDOXY,CTDOXY_FLAG_W,OXYGEN,OXYGEN_FLAG_W,SILCAT,SILCAT_FLAG_W,NITRAT,NITRAT_FLAG_W,PHSPHT,PHSPHT_FLAG_W,CFC-11,CFC-11_FLAG_W,CFC-12,CFC-12_FLAG_W,CFC113,CFC113_FLAG_W,CCL4,CCL4_FLAG_W,MCHFRM,MCHFRM_FLAG_W,TCARBN,TCARBN_FLAG_W,ALKALI,ALKALI_FLAG_W,BTL_DATE,BTL_TIME
,,,,,,,,,,,METERS,DBAR,ITS-90,PSS-78,,PSS-78,,UMOL/KG,,UMOL/KG,,UMOL/KG,,UMOL/KG,,UMOL/KG,,PMOL/KG,,PMOL/KG,,PMOL/KG,,PMOL/KG,,PMOL/KG,,UMOL/KG,,UMOL/KG,,,
  18HU20020623, AR07W,   215,  1, 253935,      1,2,20020707,1448, 59.4823, -49.4737, 3346,   3439.8,   1.5417,  34.8772,2,  34.8768,2,    292.0,2,    297.3,2,    10.08,6,    14.04,6,     1.06,6,    4.026,2,    2.287,4,    0.467,4,    6.033,4,    8.079,2,   2157.4,2,   2329.3,2, 20020707,     1448
  18HU20020623, AR07W,   215,  1, 253936,      2,2,20020707,1448, 59.4823, -49.4737, 3346,   3378.8,   1.6419,  34.8791,2,  34.8792,2,    289.5,2,    296.0,2,     9.55,6,    14.03,6,     1.01,6,    3.740,2,    2.266,4,    0.443,4,    5.589,4,    7.597,2,   2154.9,2,   2314.6,2, 20020707,     1519
  18HU20020623, AR07W,   215,  1, 253937,      3,2,20020707,1448, 59.4823, -49.4737, 3346,   3297.3,   1.8608,  34.8799,2,  34.8803,2,    287.1,2,    293.4,2,     9.97,6,    14.38,6,     1.04,6,    3.469,2,    2.123,4,    0.214,4,    5.805,4,    8.147,2,   2155.1,2,   2312.3,2, 20020707,     1521
  18HU20020623, AR07W,   215,  1, 253938,      4,2,20020707,1448, 59.4823, -49.4737, 3346,   3198.3,   2.1459,  34.8878,2,  34.8880,2,    281.7,2,    287.5,2,    11.83,6,    15.06,6,     1.08,6,    2.944,2,    1.834,4,    0.365,4,    4.694,4,    7.305,2,   2156.8,2,   2319.6,2, 20020707,     1523
  18HU20020623, AR07W,   215,  1, 253939,      5,2,20020707,1448, 59.4823, -49.4737, 3346,   3080.1,   2.3684,  34.8969,2,  34.8974,2,    276.8,2,    287.1,2,    12.91,6,    15.53,6,     1.10,6,    2.378,2,    1.598,4,    0.307,4,    3.845,4,    6.461,2,   2156.8,2,   2315.4,2, 20020707,     1525
  18HU20020623, AR07W,   215,  1, 253940,      6,2,20020707,1448, 59.4823, -49.4737, 3346,   2949.8,   2.5338,  34.9023,2,  34.9032,6,    274.4,2,   -999.0,9,    12.75,6,    15.67,6,     1.20,6,    2.132,2,    1.137,4,    0.422,4,    3.757,4,    6.491,2,   2156.9,2,   2323.8,2, 20020707,     1527
  18HU20020623, AR07W,   215,  1, 253941,      7,2,20020707,1448, 59.4823, -49.4737, 3346,   2779.5,   2.7278,  34.9052,2,  34.9051,2,    272.8,2,    280.3,2,    11.97,6,    15.72,6,     1.11,6,    2.412,2,    1.434,4,    0.365,4,    3.834,4,    6.680,2,   2155.3,2,   2320.7,2, 20020707,     1530
  18HU20020623, AR07W,   215,  1, 253942,      8,2,20020707,1448, 59.4823, -49.4737, 3346,   2579.8,   2.8702,  34.9029,2,  34.9043,2,    272.0,2,    280.1,2,    11.62,6,    16.10,6,     1.13,6,    2.331,2,    1.515,4,    0.412,4,    3.773,4,    6.905,2,   2156.8,2,   2319.2,2, 20020707,     1533
  18HU20020623, AR07W,   215,  1, 253943,      9,2,20020707,1448, 59.4823, -49.4737, 3346,   2371.2,   2.9988,  34.8957,2,  34.8958,6,    272.5,2,    282.2,2,    10.94,6,    16.21,6,     1.13,6,    2.501,2,    1.317,4,    0.635,4,    4.255,4,    7.827,2,   2151.3,2,   2319.4,2, 20020707,     1537
  18HU20020623, AR07W,   215,  1, 253944,     10,2,20020707,1448, 59.4823, -49.4737, 3346,   2151.3,   3.0641,  34.8836,2,  34.8846,2,    274.1,2,    284.7,2,    10.71,6,    16.54,6,     1.14,6,    3.171,2,    1.779,4,    0.377,4,    4.912,4,    9.234,2,   2146.9,2,   2308.1,2, 20020707,     1540
  18HU20020623, AR07W,   215,  1, 253945,     11,2,20020707,1448, 59.4823, -49.4737, 3346,   1959.8,   3.1133,  34.8748,2,  34.8748,2,    275.2,2,    285.7,2,    10.38,6,    16.52,6,     1.18,6,    3.440,2,    1.983,4,    0.413,4,    5.395,4,   10.216,2,   2146.5,2,   2278.3,2, 20020707,     1543
  18HU20020623, AR07W,   215,  1, 253946,     12,2,20020707,1448, 59.4823, -49.4737, 3346,   1731.3,   3.2495,  34.8796,2,  34.8797,2,    271.7,2,    282.7,2,    10.42,6,    16.63,6,     1.25,6,    0.000,4,    0.000,4,    0.000,4,    0.000,4,    0.000,2,   2153.4,2,   2292.4,2, 20020707,     1547
  18HU20020623, AR07W,   215,  1, 253947,     13,2,20020707,1448, 59.4823, -49.4737, 3346,   1501.4,   3.3979,  34.8840,2,  34.8848,2,    268.3,2,    280.3,6,    10.23,6,    16.53,6,     1.20,6,    2.821,3,    1.959,4,    0.895,4,    5.465,4,   14.188,2,   2156.5,2,   2318.7,2, 20020707,     1550
  18HU20020623, AR07W,   215,  1, 253948,     14,2,20020707,1448, 59.4823, -49.4737, 3346,   1281.3,   3.3469,  34.8582,2,  34.8582,2,    276.4,2,    289.9,2,     8.95,6,    15.54,6,     1.27,6,    4.390,2,    2.554,4,    0.595,4,    6.862,4,    7.913,2,   2155.7,2,   2307.9,2, 20020707,     1554
  18HU20020623, AR07W,   215,  1, 253949,     15,2,20020707,1448, 59.4823, -49.4737, 3346,   1069.8,   3.3008,  34.8462,2,  34.8454,2,    279.4,2,    293.1,2,     8.52,6,    15.37,6,     1.18,6,    4.776,2,    2.862,4,    0.590,4,    7.763,4,    7.383,2,   2154.4,2,   2285.2,2, 20020707,     1557
  18HU20020623, AR07W,   215,  1, 253950,     16,2,20020707,1448, 59.4823, -49.4737, 3346,    871.1,   3.2999,  34.8413,2,  34.8409,2,    280.4,2,    294.8,2,     8.40,6,    15.12,6,     1.20,6,    4.677,2,    2.771,4,    0.554,4,    7.416,4,    6.939,2,   2154.6,2,   2297.9,2, 20020707,     1600
  18HU20020623, AR07W,   215,  1, 253951,     17,2,20020707,1448, 59.4823, -49.4737, 3346,    682.3,   3.4673,  34.8551,2,  34.8544,2,    278.3,2,    293.1,2,     8.34,6,    14.98,6,     1.22,6,    4.801,2,    2.727,4,    0.660,4,    7.650,4,    7.026,2,   2154.2,2,   2320.5,2, 20020707,     1603
  18HU20020623, AR07W,   215,  1, 253952,     18,2,20020707,1448, 59.4823, -49.4737, 3346,    511.7,   3.4820,  34.8435,2,  34.8232,2,    280.4,2,    296.1,2,     7.96,6,    14.80,6,     1.21,6,    4.837,2,    3.001,4,    0.460,4,    8.272,4,    6.409,2,   2154.5,2,   2314.7,2, 20020707,     1606
  18HU20020623, AR07W,   215,  1, 253953,     19,2,20020707,1448, 59.4823, -49.4737, 3346,    360.9,   4.0038,  34.8876,2,  34.8867,2,    277.4,2,    292.7,2,     7.76,6,    14.69,6,     1.21,6,    4.744,2,    2.783,4,    0.694,4,    7.359,4,    5.592,2,   2152.6,2,   2325.2,2, 20020707,     1608
  18HU20020623, AR07W,   215,  1, 253954,     20,2,20020707,1448, 59.4823, -49.4737, 3346,    240.7,   4.2120,  34.8874,2,  34.8863,2,    278.7,2,    293.9,2,     7.41,6,    14.56,6,     1.20,6,    4.911,2,    2.821,4,    0.604,4,    7.815,4,    5.098,2,   2149.7,2,   2323.0,2, 20020707,     1610
  18HU20020623, AR07W,   215,  1, 253955,     21,2,20020707,1448, 59.4823, -49.4737, 3346,    141.5,   4.0553,  34.8195,2,  34.8214,2,    281.7,2,    297.8,2,     7.05,6,    14.18,6,     1.18,6,    5.256,2,    2.873,4,    0.457,4,    9.076,4,    5.243,2,   2147.8,2,   2294.5,2, 20020707,     1612
  18HU20020623, AR07W,   215,  1, 253956,     22,2,20020707,1448, 59.4823, -49.4737, 3346,     70.3,   4.0060,  34.7262,2,  34.7339,2,    285.8,2,    302.5,2,     6.73,6,    11.36,6,     1.17,6,    5.626,2,    3.158,4,    0.690,4,    9.019,4,    4.864,2,   2138.4,2,   2311.9,2, 20020707,     1613
  18HU20020623, AR07W,   215,  1, 253957,     23,2,20020707,1448, 59.4823, -49.4737, 3346,     24.7,   5.5138,  34.4871,2,-999.0000,9,    309.3,2,    327.9,2,     0.50,6,     3.56,6,     0.43,6,    5.681,2,    3.266,4,    0.804,4,   10.691,4,    4.236,2,   2067.5,2,   2309.7,2, 20020707,     1614
  18HU20020623, AR07W,   215,  1, 253958,     24,2,20020707,1448, 59.4823, -49.4737, 3346,      3.7,   5.6196,  34.4333,2,  34.4310,2,    315.7,2,    331.7,2,     0.00,6,     2.35,6,     0.37,6,    5.281,2,    3.028,4,    0.250,4,   10.908,4,    4.282,2,   2052.2,2,   2305.9,2, 20020707,     1615
  18HU20020623, AR07W,   222,  1, 253959,      1,2,20020707,1952, 59.7530, -49.1663, 3159,   3251.4,   1.6366,  34.8854,2,  34.8851,2,    290.0,2,    294.4,2,     8.72,6,    13.20,6,     1.17,6,    3.746,2,    2.087,4,    0.269,4,    3.935,4,    7.011,2,   2159.2,2,   2310.7,2, 20020707,     1952
  18HU20020623, AR07W,   222,  1, 253960,      2,2,20020707,1952, 59.7530, -49.1663, 3159,   3200.4,   1.6965,  34.8851,2,  34.8853,2,    289.3,2,    293.4,2,     8.56,6,    13.34,6,     1.10,6,    3.643,2,    2.010,4,    0.293,4,    3.854,4,    6.727,2,   2157.5,2,   2311.3,2, 20020707,     1954
  18HU20020623, AR07W,   222,  1, 253961,      3,2,20020707,1952, 59.7530, -49.1663, 3159,   3118.9,   1.9404,  34.8857,2,  34.8857,2,    286.1,2,    290.1,2,     9.62,6,    13.90,6,     1.12,6,    3.464,2,    1.932,4,    0.206,4,    3.750,4,    6.773,2,   2158.7,2,   2286.8,2, 20020707,     1955
  18HU20020623, AR07W,   222,  1, 253962,      4,2,20020707,1952, 59.7530, -49.1663, 3159,   3019.8,   2.1917,  34.8920,2,  34.8920,2,    281.1,2,    284.8,2,    11.86,6,    14.63,6,     1.20,6,    2.908,2,    1.624,4,    0.181,4,    3.137,4,    6.179,2,   2158.8,2,   2302.4,2, 20020707,     1957
  18HU20020623, AR07W,   222,  1, 253963,      5,2,20020707,1952, 59.7530, -49.1663, 3159,   2900.4,   2.4116,  34.9016,2,  34.9010,2,    275.8,2,    280.2,2,    12.88,6,    15.09,6,     1.21,6,    2.377,2,    1.333,4,    0.126,4,    2.659,4,    5.496,2,   2161.1,2,   2289.0,2, 20020707,     1959
  18HU20020623, AR07W,   222,  1, 253964,      6,2,20020707,1952, 59.7530, -49.1663, 3159,   2769.9,   2.5766,  34.9052,2,  34.9054,2,    274.3,2,    279.7,2,    11.84,6,    14.87,6,     1.29,3,    2.533,2,    1.414,4,    0.125,4,    2.742,4,    5.609,2,   2159.7,2,   2309.8,2, 20020707,     2001
  18HU20020623, AR07W,   222,  1, 253965,      7,2,20020707,1952, 59.7530, -49.1663, 3159,   2620.2,   2.7222,  34.9050,2,  34.9054,2,    273.4,2,    279.0,2,    11.41,6,    15.06,6,     1.20,6,    2.537,2,    1.425,4,    0.130,4,    2.778,4,    5.898,2,   2156.5,2,   2304.1,2, 20020707,     2004
  18HU20020623, AR07W,   222,  1, 253966,      8,2,20020707,1952, 59.7530, -49.1663, 3159,   2460.0,   2.8722,  34.9011,2,  34.9012,6,    273.0,2,    279.8,2,    10.88,6,    15.34,6,     1.19,6,    2.648,2,    1.465,4,    0.133,4,    2.882,4,    6.238,2,   2155.5,2,   2302.3,2, 20020707,     2006
  18HU20020623, AR07W,   222,  1, 253967,      9,2,20020707,1952, 59.7530, -49.1663, 3159,   2257.9,   3.0033,  34.8942,2,  34.8943,2,    273.3,2,    280.8,2,    10.33,6,    15.42,6,     1.20,6,    2.931,2,    1.636,4,    0.145,4,    3.155,4,    6.997,2,   2157.2,2,   2312.3,2, 20020707,     2009
  18HU20020623, AR07W,   222,  1, 253968,     10,2,20020707,1952, 59.7530, -49.1663, 3159,   2059.1,   3.0648,  34.8803,2,  34.8798,2,    275.5,2,    284.1,2,    10.11,6,    15.67,6,     1.24,6,    3.282,2,    1.801,4,    0.204,4,    3.557,4,    8.369,2,   2151.1,2,   2304.7,2, 20020707,     2012
  18HU20020623, AR07W,   222,  1, 253969,     11,2,20020707,1952, 59.7530, -49.1663, 3159,   1849.8,   3.1230,  34.8739,2,  34.8739,2,    275.6,2,    285.0,2,     9.77,6,    15.86,6,     1.24,6,    3.469,2,    1.892,4,    0.232,4,    3.719,4,    8.783,2,   2149.7,2,   2316.2,2, 20020707,     2016
  18HU20020623, AR07W,   222,  1, 253970,     12,2,20020707,1952, 59.7530, -49.1663, 3159,   1640.2,   3.2572,  34.8797,2,  34.8802,2,    272.1,2,    282.2,2,     9.81,6,    16.14,6,     1.26,6,    3.476,2,    1.909,4,    0.228,4,    3.643,4,    8.383,2,   2151.4,2,   2310.4,2, 20020707,     2019
  18HU20020623, AR07W,   222,  1, 253971,     13,2,20020707,1952, 59.7530, -49.1663, 3159,   1430.2,   3.4259,  34.8853,2,  34.8853,2,    268.6,2,    279.1,6,     9.82,6,    16.28,6,     1.24,6,    3.618,2,    2.005,4,    0.255,4,    3.739,4,    8.226,2,   2150.6,2,   2314.1,2, 20020707,     2022
  18HU20020623, AR07W,   222,  1, 253972,     14,2,20020707,1952, 59.7530, -49.1663, 3159,   1229.6,   3.3331,  34.8531,2,  34.8511,2,    276.7,2,    293.4,2,     8.77,6,    15.59,6,     1.26,6,    4.572,2,    2.612,4,    0.365,4,    5.059,4,    6.225,2,   2148.2,2,   2311.7,2, 20020707,     2026
  18HU20020623, AR07W,   222,  1, 253973,     15,2,20020707,1952, 59.7530, -49.1663, 3159,   1029.9,   3.2210,  34.8298,2,  34.8298,2,    283.4,2,    296.7,2,     8.48,6,    15.47,6,     1.14,6,    4.730,2,    2.673,4,    0.400,4,    5.295,4,    6.465,2,   2147.9,2,   2321.8,2, 20020707,     2029
  18HU20020623, AR07W,   222,  1, 253974,     16,2,20020707,1952, 59.7530, -49.1663, 3159,    839.9,   3.2649,  34.8338,2,  34.8328,2,    284.2,2,    297.7,2,     8.19,6,    15.43,6,     1.14,6,    4.744,2,    2.689,4,    0.429,4,    5.276,4,    6.135,2,   2151.0,2,   2309.6,2, 20020707,     2032
  18HU20020623, AR07W,   222,  1, 253975,     17,2,20020707,1952, 59.7530, -49.1663, 3159,    660.3,   3.3545,  34.8435,2,  34.8416,2,    283.9,2,    298.6,2,     8.11,6,    15.33,6,     1.17,6,    4.803,2,    2.740,4,    0.420,4,    5.477,4,    6.018,2,   2150.5,2,   2314.3,2, 20020707,     2034
  18HU20020623, AR07W,   222,  1, 253976,     18,2,20020707,1952, 59.7530, -49.1663, 3159,    481.3,   3.4568,  34.8513,2,  34.8507,2,    282.0,2,    296.4,2,     8.06,6,    15.31,6,     1.15,6,    4.705,2,    2.686,4,    0.398,4,    5.355,4,    5.852,2,   2150.5,2,   2313.0,2, 20020707,     2037
  18HU20020623, AR07W,   222,  1, 253977,     19,2,20020707,1952, 59.7530, -49.1663, 3159,    330.8,   3.6033,  34.8612,2,  34.8605,2,    282.8,2,    297.5,2,     7.95,6,    15.46,6,     1.18,6,    4.733,2,    2.690,4,    0.435,4,    5.424,4,    5.450,2,   2150.4,2,   2297.3,2, 20020707,     2040
  18HU20020623, AR07W,   222,  1, 253978,     20,2,20020707,1952, 59.7530, -49.1663, 3159,    210.2,   3.8679,  34.8744,2,  34.8743,2,    279.6,2,    294.4,2,     8.02,6,    15.58,6,     1.16,6,    4.659,2,    2.666,4,    0.386,4,    5.187,4,    5.138,2,   2149.7,2,   2277.2,2, 20020707,     2042
  18HU20020623, AR07W,   222,  1, 253979,     21,2,20020707,1952, 59.7530, -49.1663, 3159,    110.8,   4.2804,  34.8746,2,-999.0000,9,    281.7,2,    296.0,2,     7.60,6,    14.90,6,     1.12,6,    4.763,2,    2.759,4,    0.416,4,    5.611,4,    4.742,2,   2147.0,2,   2315.9,2, 20020707,     2043
  18HU20020623, AR07W,   222,  1, 253980,     22,2,20020707,1952, 59.7530, -49.1663, 3159,     51.0,   4.2523,  34.7836,2,  34.7850,2,    291.0,2,    306.3,2,     7.16,6,    11.26,6,     1.10,6,    5.124,2,    2.936,4,    0.537,4,    6.269,4,    4.466,2,   2136.9,2,   2313.0,2, 20020707,     2045
  18HU20020623, AR07W,   222,  1, 253981,     23,2,20020707,1952, 59.7530, -49.1663, 3159,     26.2,   4.6590,  34.7601,2,-999.0000,9,    294.9,2,    312.9,2,     3.38,6,     8.60,6,     0.82,6,    5.044,2,    2.913,4,    0.471,4,    6.162,4,    4.153,2,   2113.2,2,   2321.5,2, 20020707,     2045
  18HU20020623, AR07W,   222,  1, 253982,     24,2,20020707,1952, 59.7530, -49.1663, 3159,      2.2,   5.5626,  34.6329,2,  34.6350,2,    313.6,2,    330.0,2,     0.00,6,     5.20,6,     0.45,6,    5.038,2,    3.078,4,    0.466,4,    6.481,4,    4.015,2,   2077.3,2,   2301.3,2, 20020707,     2046