BOTTLE,20130611PRINUNIVRMK
EXPOCODE,SECT_ID,STNNBR,CASTNO,SAMPNO,BTLNBR,BTLNBR_FLAG_W,DATE,TIME,LATITUDE,LONGITUDE,DEPTH,CTDPRS,CTDTMP,CTDSAL,CTDSAL_FLAG_W,SALNTY,SALNTY_FLAG_W,CTDOXY,CTDOXY_FLAG_W,OXYGEN,OXYGEN_FLAG_W,SILCAT,SILCAT_FLAG_W,NITRAT,NITRAT_FLAG_W,PHSPHT,PHSPHT_FLAG_W,CFC-11,CFC-11_FLAG_W,CFC-12,CFC-12_FLAG_W,CFC113,CFC113_FLAG_W,CCL4,CCL4_FLAG_W,MCHFRM,MCHFRM_FLAG_W,TCARBN,TCARBN_FLAG_W,ALKALI,ALKALI_FLAG_W,BTL_DATE,BTL_TIME
,,,,,,,,,,,METERS,DBAR,ITS-90,PSS-78,,PSS-78,,UMOL/KG,,UMOL/KG,,UMOL/KG,,UMOL/KG,,UMOL/KG,,PMOL/KG,,PMOL/KG,,PMOL/KG,,PMOL/KG,,PMOL/KG,,UMOL/KG,,UMOL/KG,,,
  18HU20020623, AR07W,   400,  1, 255855,      1,2,20020716,0604, 49.8852, -50.5295,  330,    321.5,   3.1310,  34.7519,2,  34.7517,6,    259.7,2,    290.3,2,    10.69,6,    15.55,6,     1.27,6,    5.883,2,    2.703,4,    0.321,4,    5.529,4,    5.714,2,   2156.9,2,   2285.9,3, 20020716,      604
  18HU20020623, AR07W,   400,  1, 255856,      2,2,20020716,0604, 49.8852, -50.5295,  330,    281.3,   2.9078,  34.6906,2,  34.6903,2,    255.4,2,    285.4,2,    11.34,6,    15.78,6,     1.33,6,    5.967,2,    2.790,4,    0.313,4,    5.371,4,    5.679,2,   2157.6,2,   2290.7,2, 20020716,      607
  18HU20020623, AR07W,   400,  1, 255857,      3,2,20020716,0604, 49.8852, -50.5295,  330,    221.2,   2.8340,  34.6660,2,  34.6651,6,    258.1,2,    289.0,2,    10.73,6,    15.45,6,     1.32,6,    6.025,2,    2.994,4,    0.413,4,    5.394,4,    5.678,2,   2152.5,2,   2275.8,2, 20020716,      608
  18HU20020623, AR07W,   400,  1, 255858,      4,2,20020716,0604, 49.8852, -50.5295,  330,    170.0,   2.6053,  34.5806,2,  34.5830,2,    259.0,2,    290.7,2,    10.23,6,    15.27,6,     1.29,6,    6.153,2,    2.819,4,    0.341,4,    5.775,4,    5.905,2,   2148.5,2,   2283.3,2, 20020716,      609
  18HU20020623, AR07W,   400,  1, 255859,      5,2,20020716,0604, 49.8852, -50.5295,  330,    120.0,   2.3404,  34.4752,2,  34.4769,2,    265.0,2,    299.1,2,     9.13,6,    14.69,6,     1.23,6,    6.365,2,    2.984,4,    0.364,4,    5.889,4,    5.679,2,   2140.8,2,   2274.8,2, 20020716,      611
  18HU20020623, AR07W,   400,  1, 255860,      6,2,20020716,0604, 49.8852, -50.5295,  330,    100.5,   2.0494,  34.3978,2,  34.3974,2,    263.2,2,    296.8,2,     9.88,6,    14.69,6,     1.25,6,    6.589,2,    2.946,4,    0.456,4,    5.961,4,    5.762,2,   2142.5,2,   2267.8,2, 20020716,      612
  18HU20020623, AR07W,   400,  1, 255861,      7,2,20020716,0604, 49.8852, -50.5295,  330,     79.6,   1.6602,  34.2967,2,-999.0000,9,    270.4,2,   -999.0,9,     8.81,6,    14.01,6,     1.21,6, -999.000,9, -999.000,9, -999.000,9, -999.000,9, -999.000,9,   -999.0,9,   -999.0,9, 20020716,      613
  18HU20020623, AR07W,   400,  1, 255862,      8,2,20020716,0604, 49.8852, -50.5295,  330,     59.7,   1.3255,  34.1878,2,-999.0000,9,    272.8,2,   -999.0,9,     8.79,6,    13.47,6,     1.19,6, -999.000,9, -999.000,9, -999.000,9, -999.000,9, -999.000,9,   -999.0,9,   -999.0,9, 20020716,      614
  18HU20020623, AR07W,   400,  1, 255863,      9,2,20020716,0604, 49.8852, -50.5295,  330,     50.4,   1.3322,  34.1468,2,-999.0000,9,    275.0,2,    311.3,2,     8.73,6,    12.79,6,     1.15,6,    7.024,2,    3.167,4,    0.403,4,    6.920,4,    5.833,2,   2126.8,2,   2237.0,2, 20020716,      615
  18HU20020623, AR07W,   400,  1, 255864,     10,2,20020716,0604, 49.8852, -50.5295,  330,     39.9,   0.9417,  34.0293,2,-999.0000,9,    276.1,2,   -999.0,9,     8.63,6,    12.28,6,     1.15,6, -999.000,9, -999.000,9, -999.000,9, -999.000,9, -999.000,9,   -999.0,9,   -999.0,9, 20020716,      617
  18HU20020623, AR07W,   400,  1, 255865,     11,2,20020716,0604, 49.8852, -50.5295,  330,     30.2,   1.0820,  34.0075,2,-999.0000,9,    291.8,2,   -999.0,9,     4.35,6,     7.43,6,     0.87,6, -999.000,9, -999.000,9, -999.000,9, -999.000,9, -999.000,9,   -999.0,9,   -999.0,9, 20020716,      617
  18HU20020623, AR07W,   400,  1, 255866,     12,2,20020716,0604, 49.8852, -50.5295,  330,     19.3,   3.7805,  33.9193,2,-999.0000,9,    343.8,2,   -999.0,9,     0.00,6,     0.40,6,     0.28,6, -999.000,9, -999.000,9, -999.000,9, -999.000,9, -999.000,9,   -999.0,9,   -999.0,9, 20020716,      618
  18HU20020623, AR07W,   400,  1, 255867,     13,2,20020716,0604, 49.8852, -50.5295,  330,      9.1,   8.7395,  33.2867,2,-999.0000,9,    285.7,2,    324.4,2,     0.00,6,     0.36,6,     0.32,6,    6.239,2,    2.920,4,    0.439,4,    6.549,4,    4.219,2,   2126.0,2,   2236.0,2, 20020716,      619
  18HU20020623, AR07W,   400,  1, 255868,     14,2,20020716,0604, 49.8852, -50.5295,  330,      9.1,   8.7773,  33.2848,2,-999.0000,9,    283.6,2,   -999.0,9,  -999.00,9,  -999.00,9,  -999.00,9, -999.000,9, -999.000,9, -999.000,9, -999.000,9, -999.000,9,   -999.0,9,   -999.0,9, 20020716,      619
  18HU20020623, AR07W,   400,  1, 255869,     15,2,20020716,0604, 49.8852, -50.5295,  330,      2.5,   8.8673,  33.2908,2,-999.0000,9,    279.5,2,   -999.0,9,     0.00,6,     0.27,6,     0.33,6, -999.000,9, -999.000,9, -999.000,9, -999.000,9, -999.000,9,   -999.0,9,   -999.0,9, 20020716,      620
  18HU20020623, AR07W,   405,  1, 255870,      1,2,20020716,0915, 49.6605, -51.0192,  289,    283.9,   2.9814,  34.7074,2,  34.7011,2,    251.8,2,    281.9,2,    13.42,6,    15.86,6,     1.12,6,    5.561,2,    2.831,4,    0.285,4,    8.900,4,    6.796,2,   2163.9,2,   2257.8,2, 20020716,      915
  18HU20020623, AR07W,   405,  1, 255871,      2,2,20020716,0915, 49.6605, -51.0192,  289,    240.2,   2.8260,  34.6170,2,  34.6167,6,    250.0,2,    279.7,2,    13.42,6,    16.00,6,     1.11,6,    5.589,2,    2.816,4,    0.227,4,    8.490,4,    6.673,2,   2162.8,2,   2273.8,2, 20020716,      917
  18HU20020623, AR07W,   405,  1, 255872,      3,2,20020716,0915, 49.6605, -51.0192,  289,    169.9,   2.2164,  34.4272,2,  34.4245,2,    260.1,2,    294.2,2,    10.37,6,    14.92,6,     1.03,6,    5.966,2,    2.932,4,    0.329,4,    9.567,4,    6.616,2,   2146.1,2,   2261.7,2, 20020716,      918
  18HU20020623, AR07W,   405,  1, 255873,      4,2,20020716,0915, 49.6605, -51.0192,  289,    118.9,   1.6301,  34.2171,2,  34.2138,2,    262.1,2,    295.5,2,    10.62,6,    14.06,6,     1.02,6,    6.390,2,    3.112,4,    0.353,4,    9.790,4,    6.949,2,   2142.3,2,   2255.3,2, 20020716,      919
  18HU20020623, AR07W,   405,  1, 255874,      5,2,20020716,0915, 49.6605, -51.0192,  289,     98.6,   0.9650,  34.0620,2,  34.0648,2,    264.2,2,    301.0,2,    10.04,6,    13.48,6,     1.01,6,    6.856,2,    3.292,4,    0.276,4,   10.482,4,    7.302,2,   2141.0,2,   2256.8,2, 20020716,      920
  18HU20020623, AR07W,   405,  1, 255875,      6,2,20020716,0915, 49.6605, -51.0192,  289,     79.4,   0.2302,  33.9018,2,-999.0000,9,    271.7,2,   -999.0,9,     9.07,6,    12.86,6,     1.00,6, -999.000,9, -999.000,9, -999.000,9, -999.000,9, -999.000,9,   -999.0,9,   -999.0,9, 20020716,      921
  18HU20020623, AR07W,   405,  1, 255876,      7,2,20020716,0915, 49.6605, -51.0192,  289,     60.2,  -0.0882,  33.7202,2,-999.0000,9,    278.0,2,   -999.0,9,     7.18,6,    11.52,6,     0.98,6, -999.000,9, -999.000,9, -999.000,9, -999.000,9, -999.000,9,   -999.0,9,   -999.0,9, 20020716,      922
  18HU20020623, AR07W,   405,  1, 255877,      8,2,20020716,0915, 49.6605, -51.0192,  289,     50.3,  -0.4876,  33.5922,2,-999.0000,9,    282.8,2,    329.7,2,     5.33,6,    11.09,6,     0.97,6,    8.065,2,    3.596,4,    0.566,4,   12.469,4,    7.574,2,   2125.7,2,   -999.0,9, 20020716,      923
  18HU20020623, AR07W,   405,  1, 255878,      9,2,20020716,0915, 49.6605, -51.0192,  289,     40.4,  -0.4641,  33.4434,2,-999.0000,9,    294.2,2,   -999.0,9,     2.46,6,     9.47,6,     0.91,6, -999.000,9, -999.000,9, -999.000,9, -999.000,9, -999.000,9,   -999.0,9,   -999.0,9, 20020716,      923
  18HU20020623, AR07W,   405,  1, 255879,     10,2,20020716,0915, 49.6605, -51.0192,  289,     30.2,   0.0173,  33.3068,2,-999.0000,9,    327.0,2,   -999.0,9,     1.48,6,     5.16,6,     0.70,6, -999.000,9, -999.000,9, -999.000,9, -999.000,9, -999.000,9,   -999.0,9,   -999.0,9, 20020716,      924
  18HU20020623, AR07W,   405,  1, 255880,     11,2,20020716,0915, 49.6605, -51.0192,  289,     20.8,   1.3033,  33.1854,2,-999.0000,9,    345.2,2,   -999.0,9,     0.37,6,     1.35,6,     0.47,6, -999.000,9, -999.000,9, -999.000,9, -999.000,9, -999.000,9,   -999.0,9,   -999.0,9, 20020716,      925
  18HU20020623, AR07W,   405,  1, 255881,     12,2,20020716,0915, 49.6605, -51.0192,  289,     10.2,   8.0275,  32.7659,2,-999.0000,9,    309.1,2,    342.4,2,     0.00,6,     0.00,6,     0.26,6,    6.909,2,    3.457,4,    0.346,4,   11.872,4,    5.125,2,   2009.3,2,   2167.8,2, 20020716,      925
  18HU20020623, AR07W,   405,  1, 255882,     13,2,20020716,0915, 49.6605, -51.0192,  289,     10.3,   8.9423,  32.8698,2,-999.0000,9,    278.0,2,   -999.0,9,  -999.00,9,  -999.00,9,  -999.00,9, -999.000,9, -999.000,9, -999.000,9, -999.000,9, -999.000,9,   -999.0,9,   -999.0,9, 20020716,      925
  18HU20020623, AR07W,   405,  1, 255883,     14,2,20020716,0915, 49.6605, -51.0192,  289,      2.1,   9.3846,  32.8979,2,-999.0000,9,    271.1,2,   -999.0,9,     0.00,6,     0.00,6,     0.22,6, -999.000,9, -999.000,9, -999.000,9, -999.000,9, -999.000,9,   -999.0,9,   -999.0,9, 20020716,      926
  18HU20020623, AR07W,   409,  1, 255884,      1,2,20020716,1150, 49.4140, -51.5438,  299,    292.8,   2.6795,  34.5977,2,  34.5902,2,    252.4,2,    281.2,2,    12.14,6,    15.11,6,     1.12,6,    5.675,2,    2.686,4,    0.379,4,    9.243,4,    6.855,2,   2161.8,2,   2278.9,2, 20020716,     1150
  18HU20020623, AR07W,   409,  1, 255885,      2,2,20020716,1150, 49.4140, -51.5438,  299,    241.1,   2.5936,  34.5365,2,  34.4940,6,    250.5,2,    286.3,2,    11.10,6,    15.10,6,     1.10,6,    5.689,2,    2.670,4,    0.163,4,    9.650,4,    7.083,2,   2154.1,2,   2265.7,2, 20020716,     1151
  18HU20020623, AR07W,   409,  1, 255886,      3,2,20020716,1150, 49.4140, -51.5438,  299,    170.8,   1.3211,  34.1706,2,-999.0000,9,    265.8,2,    301.4,2,     9.30,6,    13.27,6,     1.02,6,    6.662,2,    2.862,4,    0.749,4,   10.329,4,    7.256,2,   2137.6,2,   2254.2,2, 20020716,     1153
  18HU20020623, AR07W,   409,  1, 255887,      4,2,20020716,1150, 49.4140, -51.5438,  299,    120.2,  -0.0988,  33.7823,2,-999.0000,9,    274.6,2,    314.0,2,    10.12,6,    12.04,6,     1.03,6,    7.252,2,    3.512,4,    0.544,4,   11.914,4,    7.964,2,   2130.2,2,   2229.9,2, 20020716,     1154
  18HU20020623, AR07W,   409,  1, 255888,      5,2,20020716,1150, 49.4140, -51.5438,  299,     99.7,  -0.4661,  33.6085,2,-999.0000,9,    279.7,2,    322.0,2,     9.51,6,    11.21,6,     1.01,6,    0.000,4,    2.125,4,    0.000,4,    1.569,4,    0.419,2,   2128.0,2,   2228.2,2, 20020716,     1155
  18HU20020623, AR07W,   409,  1, 255889,      6,2,20020716,1150, 49.4140, -51.5438,  299,     80.5,  -0.9558,  33.4052,2,-999.0000,9,    280.9,2,   -999.0,9,     9.24,6,    10.37,6,     1.01,6, -999.000,9, -999.000,9, -999.000,9, -999.000,9, -999.000,9,   -999.0,9,   -999.0,9, 20020716,     1156
  18HU20020623, AR07W,   409,  1, 255890,      7,2,20020716,1150, 49.4140, -51.5438,  299,     60.4,  -1.1579,  33.2040,2,-999.0000,9,    285.3,2,   -999.0,9,     8.84,6,     9.37,6,     1.00,6, -999.000,9, -999.000,9, -999.000,9, -999.000,9, -999.000,9,   -999.0,9,   -999.0,9, 20020716,     1157
  18HU20020623, AR07W,   409,  1, 255891,      8,2,20020716,1150, 49.4140, -51.5438,  299,     50.6,  -1.2054,  33.1359,2,-999.0000,9,    291.0,2,    336.7,2,     7.08,6,     8.86,6,     1.00,6,    9.143,2,    3.555,4,    0.750,4,   12.795,4,    8.442,2,   2124.4,2,   2223.5,2, 20020716,     1157
  18HU20020623, AR07W,   409,  1, 255892,      9,2,20020716,1150, 49.4140, -51.5438,  299,     50.6,  -1.2076,  33.1359,2,-999.0000,9,    289.7,2,   -999.0,9,  -999.00,9,  -999.00,9,  -999.00,9, -999.000,9, -999.000,9, -999.000,9, -999.000,9, -999.000,9,   -999.0,9,   -999.0,9, 20020716,     1158
  18HU20020623, AR07W,   409,  1, 255893,     10,2,20020716,1150, 49.4140, -51.5438,  299,     40.6,  -0.6410,  33.0854,2,-999.0000,9,    305.6,2,   -999.0,9,     2.64,6,     7.19,6,     0.92,6, -999.000,9, -999.000,9, -999.000,9, -999.000,9, -999.000,9,   -999.0,9,   -999.0,9, 20020716,     1158
  18HU20020623, AR07W,   409,  1, 255894,     11,2,20020716,1150, 49.4140, -51.5438,  299,     30.5,   0.0060,  32.9421,2,-999.0000,9,    343.0,2,   -999.0,9,     0.53,6,     2.40,6,     0.61,6, -999.000,9, -999.000,9, -999.000,9, -999.000,9, -999.000,9,   -999.0,9,   -999.0,9, 20020716,     1159
  18HU20020623, AR07W,   409,  1, 255895,     12,2,20020716,1150, 49.4140, -51.5438,  299,     20.3,   4.7428,  32.8375,2,-999.0000,9,    334.1,2,   -999.0,9,     0.00,6,     0.00,6,     0.35,6, -999.000,9, -999.000,9, -999.000,9, -999.000,9, -999.000,9,   -999.0,9,   -999.0,9, 20020716,     1200
  18HU20020623, AR07W,   409,  1, 255896,     13,2,20020716,1150, 49.4140, -51.5438,  299,     20.3,   4.6468,  32.8482,2,-999.0000,9,    334.2,2,   -999.0,9,  -999.00,9,  -999.00,9,  -999.00,9, -999.000,9, -999.000,9, -999.000,9, -999.000,9, -999.000,9,   -999.0,9,   -999.0,9, 20020716,     1200
  18HU20020623, AR07W,   409,  1, 255897,     14,2,20020716,1150, 49.4140, -51.5438,  299,     10.2,   8.2022,  32.1387,2,-999.0000,9,    302.7,2,    337.5,2,     0.00,6,     0.00,6,     0.28,6,    6.275,2,    3.109,4,    0.485,4,   11.882,4,    5.161,2,   1973.2,2,   2178.1,2, 20020716,     1201
  18HU20020623, AR07W,   409,  1, 255898,     15,2,20020716,1150, 49.4140, -51.5438,  299,     10.2,   9.2397,  31.9945,2,-999.0000,9,    292.9,2,   -999.0,9,  -999.00,9,  -999.00,9,  -999.00,9, -999.000,9, -999.000,9, -999.000,9, -999.000,9, -999.000,9,   -999.0,9,   -999.0,9, 20020716,     1201
  18HU20020623, AR07W,   409,  1, 255899,     16,2,20020716,1150, 49.4140, -51.5438,  299,      2.2,  11.0038,  31.7841,2,-999.0000,9,    266.3,2,   -999.0,9,     0.00,6,     0.00,6,     0.19,6, -999.000,9, -999.000,9, -999.000,9, -999.000,9, -999.000,9,   -999.0,9,   -999.0,9, 20020716,     1202
  18HU20020623, AR07W,   409,  1, 255900,     17,2,20020716,1150, 49.4140, -51.5438,  299,      2.3,  11.0604,  31.7768,2,-999.0000,9,    265.7,2,   -999.0,9,  -999.00,9,  -999.00,9,  -999.00,9, -999.000,9, -999.000,9, -999.000,9, -999.000,9, -999.000,9,   -999.0,9,   -999.0,9, 20020716,     1202
  18HU20020623, AR07W,   413,  1, 255901,      1,2,20020716,1359, 49.2740, -51.8275,  329,    319.5,   2.4145,  34.4491,2,  34.4442,2,    246.6,2,    275.6,2,    12.92,6,    14.89,6,     1.14,6,    6.151,2,    2.902,4,    0.555,4,    8.884,4,    7.209,2,   2161.8,2,   2248.4,2, 20020716,     1359
  18HU20020623, AR07W,   413,  1, 255902,      2,2,20020716,1359, 49.2740, -51.8275,  329,    280.9,   1.3772,  34.2007,2,  34.1976,6,    263.7,2,    300.0,2,    10.06,6,    13.46,6,     1.05,6,    6.825,2,    2.995,4,    0.693,4,   10.673,4,    7.316,2,   2140.9,2,   2257.3,2, 20020716,     1400
  18HU20020623, AR07W,   413,  1, 255903,      3,2,20020716,1359, 49.2740, -51.8275,  329,    220.4,   0.3376,  33.9424,2,-999.0000,9,    270.2,2,    307.3,2,    10.69,6,    12.86,6,     1.05,6,    7.309,2,    3.205,4,    0.315,4,   11.427,4,    7.681,2,   2135.8,2,   2242.7,2, 20020716,     1402
  18HU20020623, AR07W,   413,  1, 255904,      4,2,20020716,1359, 49.2740, -51.8275,  329,    169.8,  -0.7985,  33.5293,2,-999.0000,9,    278.1,2,    320.3,2,    10.55,6,    11.45,6,     1.05,6,    8.409,2,    0.000,4,    0.739,4,   12.409,4,    8.385,2,   2132.1,2,   2227.7,2, 20020716,     1403
  18HU20020623, AR07W,   413,  1, 255905,      5,2,20020716,1359, 49.2740, -51.8275,  329,    119.9,  -1.3669,  33.2325,2,-999.0000,9,    286.0,2,    330.9,2,    10.90,6,     9.93,6,     1.04,6,    9.145,2,    3.797,4,    0.749,4,   12.840,4,    8.573,2,   2131.8,2,   2225.5,2, 20020716,     1404
  18HU20020623, AR07W,   413,  1, 255906,      6,2,20020716,1359, 49.2740, -51.8275,  329,     99.9,  -1.4591,  33.1567,2,-999.0000,9,    290.1,2,    335.1,2,    10.64,6,     9.29,6,     1.03,6,    9.266,2,    3.743,4,    0.771,4,   13.062,4,    8.480,2,   2129.8,2,   2221.7,2, 20020716,     1405
  18HU20020623, AR07W,   413,  1, 255907,      7,2,20020716,1359, 49.2740, -51.8275,  329,     80.2,  -1.3755,  33.1061,2,-999.0000,9,    292.1,2,   -999.0,9,     9.89,6,     8.80,6,     1.03,6, -999.000,9, -999.000,9, -999.000,9, -999.000,9, -999.000,9,   -999.0,9,   -999.0,9, 20020716,     1406
  18HU20020623, AR07W,   413,  1, 255908,      8,2,20020716,1359, 49.2740, -51.8275,  329,     60.1,  -1.5450,  33.0509,2,-999.0000,9,    291.9,2,   -999.0,9,    10.18,6,     8.77,6,     1.05,6, -999.000,9, -999.000,9, -999.000,9, -999.000,9, -999.000,9,   -999.0,9,   -999.0,9, 20020716,     1407
  18HU20020623, AR07W,   413,  1, 255909,      9,2,20020716,1359, 49.2740, -51.8275,  329,     50.6,  -1.4962,  33.0281,2,-999.0000,9,    292.4,2,    339.5,2,     9.20,6,     8.31,6,     1.05,6,    9.757,2,    3.736,4,    0.859,4,   13.530,4,    8.722,2,   2129.8,2,   2235.1,2, 20020716,     1407
  18HU20020623, AR07W,   413,  1, 255910,     10,2,20020716,1359, 49.2740, -51.8275,  329,     39.7,  -0.7333,  33.0020,2,-999.0000,9,    305.4,2,   -999.0,9,     4.85,6,     5.88,6,     0.88,6, -999.000,9, -999.000,9, -999.000,9, -999.000,9, -999.000,9,   -999.0,9,   -999.0,9, 20020716,     1408
  18HU20020623, AR07W,   413,  1, 255911,     11,2,20020716,1359, 49.2740, -51.8275,  329,     30.7,  -0.4097,  32.9413,2,-999.0000,9,    323.3,2,   -999.0,9,     3.11,6,     3.86,6,     0.79,6, -999.000,9, -999.000,9, -999.000,9, -999.000,9, -999.000,9,   -999.0,9,   -999.0,9, 20020716,     1409
  18HU20020623, AR07W,   413,  1, 255912,     12,2,20020716,1359, 49.2740, -51.8275,  329,     20.4,  -0.6249,  32.7758,2,-999.0000,9,    336.4,2,   -999.0,9,     3.93,6,     3.48,6,     0.71,6, -999.000,9, -999.000,9, -999.000,9, -999.000,9, -999.000,9,   -999.0,9,   -999.0,9, 20020716,     1409
  18HU20020623, AR07W,   413,  1, 255913,     13,2,20020716,1359, 49.2740, -51.8275,  329,      9.9,   4.9400,  32.3351,2,-999.0000,9,    334.7,2,    402.0,2,     1.38,6,     0.00,6,     0.36,6,    8.875,2,    3.785,4,    0.827,4,   13.050,4,    7.245,2,   2013.1,2,   2200.4,2, 20020716,     1410
  18HU20020623, AR07W,   413,  1, 255914,     14,2,20020716,1359, 49.2740, -51.8275,  329,      9.9,   4.9760,  32.3356,2,-999.0000,9,    331.2,2,   -999.0,9,  -999.00,9,  -999.00,9,  -999.00,9, -999.000,9, -999.000,9, -999.000,9, -999.000,9, -999.000,9,   -999.0,9,   -999.0,9, 20020716,     1410
  18HU20020623, AR07W,   413,  1, 255915,     15,2,20020716,1359, 49.2740, -51.8275,  329,      2.0,  11.1496,  31.7208,2,-999.0000,9,    270.5,2,   -999.0,9,     0.00,6,     0.00,6,     0.21,6, -999.000,9, -999.000,9, -999.000,9, -999.000,9, -999.000,9,   -999.0,9,   -999.0,9, 20020716,     1411