BOTTLE,20130611PRINUNIVRMK
EXPOCODE,SECT_ID,STNNBR,CASTNO,SAMPNO,BTLNBR,BTLNBR_FLAG_W,DATE,TIME,LATITUDE,LONGITUDE,DEPTH,CTDPRS,CTDTMP,CTDSAL,CTDSAL_FLAG_W,SALNTY,SALNTY_FLAG_W,CTDOXY,CTDOXY_FLAG_W,OXYGEN,OXYGEN_FLAG_W,SILCAT,SILCAT_FLAG_W,NITRAT,NITRAT_FLAG_W,PHSPHT,PHSPHT_FLAG_W,CFC-11,CFC-11_FLAG_W,CFC-12,CFC-12_FLAG_W,CFC113,CFC113_FLAG_W,CCL4,CCL4_FLAG_W,MCHFRM,MCHFRM_FLAG_W,TCARBN,TCARBN_FLAG_W,ALKALI,ALKALI_FLAG_W,BTL_DATE,BTL_TIME
,,,,,,,,,,,METERS,DBAR,ITS-90,PSS-78,,PSS-78,,UMOL/KG,,UMOL/KG,,UMOL/KG,,UMOL/KG,,UMOL/KG,,PMOL/KG,,PMOL/KG,,PMOL/KG,,PMOL/KG,,PMOL/KG,,UMOL/KG,,UMOL/KG,,,
  18HU20020623, AR07W,   258,  1, 254078,      1,2,20020708,2123, 60.2918, -48.5443, 2696,    850.8,   4.0076,  34.8951,2,  34.8949,2,    275.6,2,    279.8,2,     8.88,6,    15.79,6,     1.09,6,    4.859,2,    2.433,4,    0.349,4,    4.631,4,    6.269,2,   2150.9,2,   2309.4,2, 20020708,     2123
  18HU20020623, AR07W,   258,  1, 254079,      2,2,20020708,2123, 60.2918, -48.5443, 2696,    851.2,   4.0086,  34.8951,2,-999.0000,9,    275.4,2,   -999.0,9,  -999.00,9,  -999.00,9,  -999.00,9, -999.000,9, -999.000,9, -999.000,9, -999.000,9, -999.000,9,   -999.0,9,   -999.0,9, 20020708,     2124
  18HU20020623, AR07W,   258,  1, 254080,      3,2,20020708,2123, 60.2918, -48.5443, 2696,    670.9,   4.4863,  34.9220,2,  34.9213,2,    275.8,2,    285.8,2,  -999.00,9,  -999.00,9,  -999.00,9,    4.899,2,    2.493,4,    0.345,4,    4.646,4,    5.312,2,   2153.3,2,   2301.5,2, 20020708,     2127
  18HU20020623, AR07W,   258,  1, 254081,      4,2,20020708,2123, 60.2918, -48.5443, 2696,    670.3,   4.4755,  34.9220,2,  34.7307,3,    275.9,2,   -999.0,9,  -999.00,9,  -999.00,9,  -999.00,9, -999.000,9, -999.000,9, -999.000,9, -999.000,9, -999.000,9,   -999.0,9,   -999.0,9, 20020708,     2127
  18HU20020623, AR07W,   258,  1, 254082,      5,2,20020708,2123, 60.2918, -48.5443, 2696,    510.5,   4.6876,  34.9024,2,  34.9024,2,    276.4,2,    286.6,2,     7.71,6,    14.64,6,     1.01,6,    5.022,2,    2.570,4,    0.349,4,    4.544,4,    4.872,2,   2146.2,2,   2305.8,2, 20020708,     2130
  18HU20020623, AR07W,   258,  1, 254083,      6,2,20020708,2123, 60.2918, -48.5443, 2696,    510.9,   4.6874,  34.9024,2,-999.0000,9,    276.3,2,   -999.0,9,  -999.00,9,  -999.00,9,  -999.00,9, -999.000,9, -999.000,9, -999.000,9, -999.000,9, -999.000,9,   -999.0,9,   -999.0,9, 20020708,     2130
  18HU20020623, AR07W,   258,  1, 254084,      7,2,20020708,2123, 60.2918, -48.5443, 2696,    371.1,   4.7922,  34.8932,2,  34.8920,2,    277.0,2,    289.2,2,     7.52,6,    14.24,6,     1.00,6,    5.117,2,    2.612,4,    0.375,4,    4.741,4,    4.859,2,   2142.2,2,   2291.1,2, 20020708,     2133
  18HU20020623, AR07W,   258,  1, 254085,      8,2,20020708,2123, 60.2918, -48.5443, 2696,    371.3,   4.7924,  34.8932,2,-999.0000,9,    277.0,2,   -999.0,9,  -999.00,9,  -999.00,9,  -999.00,9, -999.000,9, -999.000,9, -999.000,9, -999.000,9, -999.000,9,   -999.0,9,   -999.0,9, 20020708,     2133
  18HU20020623, AR07W,   258,  1, 254086,      9,2,20020708,2123, 60.2918, -48.5443, 2696,    250.6,   4.8660,  34.8584,2,  34.8582,2,    279.4,2,    292.1,2,     7.17,6,    13.72,6,     0.96,6,    5.238,2,    2.655,4,    0.390,4,    4.943,4,    4.631,2,   -999.0,9,   2291.8,2, 20020708,     2135
  18HU20020623, AR07W,   258,  1, 254087,     10,2,20020708,2123, 60.2918, -48.5443, 2696,    250.7,   4.8659,  34.8584,2,-999.0000,9,    279.4,2,   -999.0,9,  -999.00,9,  -999.00,9,  -999.00,9, -999.000,9, -999.000,9, -999.000,9, -999.000,9, -999.000,9,   -999.0,9,   -999.0,9, 20020708,     2135
  18HU20020623, AR07W,   258,  1, 254088,     11,2,20020708,2123, 60.2918, -48.5443, 2696,    149.8,   3.6270,  34.5242,2,  34.5213,2,    291.6,2,    306.4,2,     6.30,6,    10.87,6,     0.89,6,    5.801,2,    2.880,4,    0.419,4,    5.313,4,    4.971,2,   2121.9,2,   2280.4,2, 20020708,     2137
  18HU20020623, AR07W,   258,  1, 254089,     12,2,20020708,2123, 60.2918, -48.5443, 2696,    150.2,   3.6184,  34.5228,2,-999.0000,9,    291.7,2,   -999.0,9,  -999.00,9,  -999.00,9,  -999.00,9, -999.000,9, -999.000,9, -999.000,9, -999.000,9, -999.000,9,   -999.0,9,   -999.0,9, 20020708,     2137
  18HU20020623, AR07W,   258,  1, 254090,     13,2,20020708,2123, 60.2918, -48.5443, 2696,    100.1,   2.7113,  34.2489,2,-999.0000,9,    297.2,2,    313.4,2,     5.55,6,     9.73,6,     0.81,6,    6.288,2,    3.000,4,    0.490,4,    5.942,4,    5.796,2,   2108.9,2,   2275.3,2, 20020708,     2138
  18HU20020623, AR07W,   258,  1, 254091,     14,2,20020708,2123, 60.2918, -48.5443, 2696,    100.4,   2.7277,  34.2553,2,-999.0000,9,    296.9,2,   -999.0,9,  -999.00,9,  -999.00,9,  -999.00,9, -999.000,9, -999.000,9, -999.000,9, -999.000,9, -999.000,9,   -999.0,9,   -999.0,9, 20020708,     2138
  18HU20020623, AR07W,   258,  1, 254092,     15,2,20020708,2123, 60.2918, -48.5443, 2696,     50.9,   0.7905,  33.6278,2,-999.0000,9,    308.8,2,    329.7,2,     4.61,6,     7.10,6,     0.72,6,    7.149,2,    3.257,4,    0.571,4,    6.670,4,    6.626,2,   2080.4,2,   2236.6,2, 20020708,     2140
  18HU20020623, AR07W,   258,  1, 254093,     16,2,20020708,2123, 60.2918, -48.5443, 2696,     50.8,   0.7911,  33.6273,2,-999.0000,9,    308.9,2,   -999.0,9,  -999.00,9,  -999.00,9,  -999.00,9, -999.000,9, -999.000,9, -999.000,9, -999.000,9, -999.000,9,   -999.0,9,   -999.0,9, 20020708,     2140
  18HU20020623, AR07W,   258,  1, 254094,     17,2,20020708,2123, 60.2918, -48.5443, 2696,     21.3,  -0.8803,  32.9180,2,-999.0000,9,    324.6,2,    351.5,2,     3.33,6,     4.18,6,     0.56,6,    8.055,2,    3.532,4,    0.612,4,    7.323,4,    7.590,2,   2046.8,2,   2190.6,2, 20020708,     2141
  18HU20020623, AR07W,   258,  1, 254095,     18,2,20020708,2123, 60.2918, -48.5443, 2696,     21.5,  -0.8518,  32.9337,2,-999.0000,9,    324.5,2,   -999.0,9,  -999.00,9,  -999.00,9,  -999.00,9, -999.000,9, -999.000,9, -999.000,9, -999.000,9, -999.000,9,   -999.0,9,   -999.0,9, 20020708,     2141
  18HU20020623, AR07W,   258,  1, 254096,     19,2,20020708,2123, 60.2918, -48.5443, 2696,      5.1,  -0.2840,  32.4346,2,-999.0000,9,    335.0,2,    365.1,2,     2.25,6,     1.98,6,     0.43,6,    8.334,2,    3.606,4,    0.674,4,    7.662,4,    7.478,2,   2007.5,2,   2187.4,2, 20020708,     2143
  18HU20020623, AR07W,   258,  1, 254097,     20,2,20020708,2123, 60.2918, -48.5443, 2696,      5.1,   0.0049,  32.3591,2,-999.0000,9,    337.8,2,   -999.0,9,  -999.00,9,  -999.00,9,  -999.00,9, -999.000,9, -999.000,9, -999.000,9, -999.000,9, -999.000,9,   -999.0,9,   -999.0,9, 20020708,     2143
  18HU20020623, AR07W,   259,  1, 254098,      1,2,20020708,2335, 60.2922, -48.5443, 2696,   2785.4,   2.6134,  34.8945,2,-999.0000,9,    279.3,2,   -999.0,9,  -999.00,9,  -999.00,9,  -999.00,9, -999.000,9, -999.000,9, -999.000,9, -999.000,9, -999.000,9,   -999.0,9,   -999.0,9, 20020708,     2335
  18HU20020623, AR07W,   259,  1, 254099,      2,2,20020708,2335, 60.2922, -48.5443, 2696,   2786.0,   2.6131,  34.8942,2,  34.8945,2,    279.2,2,    283.0,2,    11.34,6,    14.92,6,     1.05,6,    3.093,2,    1.614,4,    0.182,4,    3.168,4,    6.427,2,   2155.2,2,   2296.7,2, 20020708,     2335
  18HU20020623, AR07W,   259,  1, 254100,      3,2,20020708,2335, 60.2922, -48.5443, 2696,   2702.6,   2.6328,  34.8901,2,-999.0000,9,    278.9,2,   -999.0,9,  -999.00,9,  -999.00,9,  -999.00,9, -999.000,9, -999.000,9, -999.000,9, -999.000,9, -999.000,9,   -999.0,9,   -999.0,9, 20020708,     2355
  18HU20020623, AR07W,   259,  1, 254101,      4,2,20020708,2335, 60.2922, -48.5443, 2696,   2702.5,   2.6329,  34.8900,2,  34.8906,2,    278.9,2,    283.9,2,    10.86,6,    15.14,6,     1.06,6,    3.358,2,    1.758,4,    0.197,4,    3.355,4,    6.806,2,   2152.1,2,   2294.8,2, 20020708,     2355
  18HU20020623, AR07W,   259,  1, 254102,      5,2,20020708,2335, 60.2922, -48.5443, 2696,   2601.0,   2.6718,  34.8877,2,-999.0000,9,    278.6,2,   -999.0,9,  -999.00,9,  -999.00,9,  -999.00,9, -999.000,9, -999.000,9, -999.000,9, -999.000,9, -999.000,9,   -999.0,9,   -999.0,9, 20020708,     2357
  18HU20020623, AR07W,   259,  1, 254103,      6,2,20020708,2335, 60.2922, -48.5443, 2696,   2600.9,   2.6705,  34.8878,2,  34.8880,6,    278.6,2,    284.1,2,    10.78,6,    15.18,6,     1.06,6,    3.448,2,    1.789,4,    0.203,4,    3.396,4,    6.911,2,   2077.8,3,   2276.4,2, 20020708,     2357
  18HU20020623, AR07W,   259,  1, 254104,      7,2,20020708,2335, 60.2922, -48.5443, 2696,   2480.7,   2.7133,  34.8883,2,-999.0000,9,    277.5,2,   -999.0,9,  -999.00,9,  -999.00,9,  -999.00,9, -999.000,9, -999.000,9, -999.000,9, -999.000,9, -999.000,9,   -999.0,9,   -999.0,9, 20020709,        0
  18HU20020623, AR07W,   259,  1, 254105,      8,2,20020708,2335, 60.2922, -48.5443, 2696,   2480.8,   2.7134,  34.8882,2,  34.8882,2,    277.6,2,    281.8,2,    10.69,6,    15.22,6,     1.06,6,    3.265,2,    1.713,4,    0.000,4,    3.278,4,    6.620,2,   2151.9,2,   2282.8,2, 20020709,        0
  18HU20020623, AR07W,   259,  1, 254106,      9,2,20020708,2335, 60.2922, -48.5443, 2696,   2340.3,   2.7466,  34.8861,2,-999.0000,9,    277.1,2,   -999.0,9,  -999.00,9,  -999.00,9,  -999.00,9, -999.000,9, -999.000,9, -999.000,9, -999.000,9, -999.000,9,   -999.0,9,   -999.0,9, 20020709,        3
  18HU20020623, AR07W,   259,  1, 254107,     10,2,20020708,2335, 60.2922, -48.5443, 2696,   2340.9,   2.7465,  34.8861,2,  34.8871,2,    277.1,2,    284.2,2,    10.44,6,    15.09,6,     1.06,6,    3.538,2,    1.815,4,    0.210,4,    3.470,4,    7.183,2,   2151.3,2,   2289.4,2, 20020709,        3
  18HU20020623, AR07W,   259,  1, 254108,     11,2,20020708,2335, 60.2922, -48.5443, 2696,   2170.2,   2.8547,  34.8857,2,-999.0000,9,    275.9,2,   -999.0,9,  -999.00,9,  -999.00,9,  -999.00,9, -999.000,9, -999.000,9, -999.000,9, -999.000,9, -999.000,9,   -999.0,9,   -999.0,9, 20020709,        6
  18HU20020623, AR07W,   259,  1, 254109,     12,2,20020708,2335, 60.2922, -48.5443, 2696,   2170.7,   2.8559,  34.8856,2,  34.8863,6,    275.9,2,    283.6,2,    10.38,6,    15.27,6,     1.08,6,    3.595,2,    1.834,4,    0.212,4,    3.523,4,    7.485,2,   -999.0,9,   2287.0,2, 20020709,        6
  18HU20020623, AR07W,   259,  1, 254110,     13,2,20020708,2335, 60.2922, -48.5443, 2696,   1991.2,   2.8850,  34.8857,2,-999.0000,9,    274.8,2,   -999.0,9,  -999.00,9,  -999.00,9,  -999.00,9, -999.000,9, -999.000,9, -999.000,9, -999.000,9, -999.000,9,   -999.0,9,   -999.0,9, 20020709,       10
  18HU20020623, AR07W,   259,  1, 254111,     14,2,20020708,2335, 60.2922, -48.5443, 2696,   1990.9,   2.8843,  34.8858,2,  34.8863,2,    274.8,2,    283.3,2,    10.50,6,    15.54,6,     1.08,6,    3.524,2,    1.822,4,    0.182,4,    3.440,4,    7.226,2,   -999.0,9,   2288.4,2, 20020709,       10
  18HU20020623, AR07W,   259,  1, 254112,     15,2,20020708,2335, 60.2922, -48.5443, 2696,   1811.3,   2.9639,  34.8859,2,-999.0000,9,    273.5,2,   -999.0,9,  -999.00,9,  -999.00,9,  -999.00,9, -999.000,9, -999.000,9, -999.000,9, -999.000,9, -999.000,9,   -999.0,9,   -999.0,9, 20020709,       13
  18HU20020623, AR07W,   259,  1, 254113,     16,2,20020708,2335, 60.2922, -48.5443, 2696,   1810.9,   2.9628,  34.8860,2,  34.8863,2,    273.7,2,    280.9,6,    10.46,6,    15.56,6,     1.09,6,    3.618,2,    1.845,4,    0.208,4,    3.501,4,    7.760,2,   2151.5,2,   2283.1,2, 20020709,       13
  18HU20020623, AR07W,   259,  1, 254114,     17,2,20020708,2335, 60.2922, -48.5443, 2696,   1630.9,   3.1067,  34.8849,2,-999.0000,9,    272.9,2,   -999.0,9,  -999.00,9,  -999.00,9,  -999.00,9, -999.000,9, -999.000,9, -999.000,9, -999.000,9, -999.000,9,   -999.0,9,   -999.0,9, 20020709,       16
  18HU20020623, AR07W,   259,  1, 254115,     18,2,20020708,2335, 60.2922, -48.5443, 2696,   1630.7,   3.1064,  34.8851,2,  34.8849,2,    272.9,2,    282.5,2,    10.27,6,    15.90,6,     1.11,6,    3.814,2,    1.929,4,    0.230,4,    3.642,4,    8.401,2,   2148.3,2,   2282.2,2, 20020709,       16
  18HU20020623, AR07W,   259,  1, 254116,     19,2,20020708,2335, 60.2922, -48.5443, 2696,   1430.1,   3.2981,  34.8890,2,-999.0000,9,    269.8,2,   -999.0,9,  -999.00,9,  -999.00,9,  -999.00,9, -999.000,9, -999.000,9, -999.000,9, -999.000,9, -999.000,9,   -999.0,9,   -999.0,9, 20020709,       20
  18HU20020623, AR07W,   259,  1, 254117,     20,2,20020708,2335, 60.2922, -48.5443, 2696,   1430.5,   3.2976,  34.8890,2,  34.8888,2,    269.9,2,    280.4,2,    10.44,6,    16.45,6,     1.12,6,    3.913,2,    1.993,4,    0.227,4,    3.784,4,    8.991,2,   2153.5,2,   2290.2,2, 20020709,       20
  18HU20020623, AR07W,   259,  1, 254118,     21,2,20020708,2335, 60.2922, -48.5443, 2696,   1250.5,   3.4521,  34.8905,2,-999.0000,9,    267.8,2,   -999.0,9,  -999.00,9,  -999.00,9,  -999.00,9, -999.000,9, -999.000,9, -999.000,9, -999.000,9, -999.000,9,   -999.0,9,   -999.0,9, 20020709,       24
  18HU20020623, AR07W,   259,  1, 254119,     22,2,20020708,2335, 60.2922, -48.5443, 2696,   1250.2,   3.4524,  34.8905,2,  34.8892,2,    267.7,2,    278.3,2,    10.13,6,    16.44,6,     1.11,6,    4.049,2,    2.070,4,    0.251,4,    3.802,4,    8.580,2,   2151.1,2,   2288.3,2, 20020709,       24
  18HU20020623, AR07W,   259,  1, 254120,     23,2,20020708,2335, 60.2922, -48.5443, 2696,   1030.3,   3.6658,  34.8835,2,-999.0000,9,    271.6,2,   -999.0,9,  -999.00,9,  -999.00,9,  -999.00,9, -999.000,9, -999.000,9, -999.000,9, -999.000,9, -999.000,9,   -999.0,9,   -999.0,9, 20020709,       27
  18HU20020623, AR07W,   259,  1, 254121,     24,2,20020708,2335, 60.2922, -48.5443, 2696,   1031.0,   3.6653,  34.8835,2,  34.8831,2,    271.7,2,    283.3,2,     9.33,6,    15.96,6,     1.11,6,    4.640,2,    2.303,4,    0.308,4,    4.260,4,    7.052,2,   2148.9,2,   2291.9,2, 20020709,       27
  18HU20020623, AR07W,   262,  1, 254122,      1,2,20020709,1346, 58.6667, -47.0005, 2850,    199.9,   4.0036,  34.8593,2,-999.0000,9,    284.4,2,   -999.0,9,     8.14,6,    15.86,6,     1.08,6, -999.000,9, -999.000,9, -999.000,9, -999.000,9, -999.000,9,   -999.0,9,   -999.0,9, 20020709,     1346
  18HU20020623, AR07W,   262,  1, 254123,      2,2,20020709,1346, 58.6667, -47.0005, 2850,    149.6,   4.1865,  34.8656,2,-999.0000,9,    285.3,2,   -999.0,9,     8.13,6,    15.76,6,     1.07,6, -999.000,9, -999.000,9, -999.000,9, -999.000,9, -999.000,9,   -999.0,9,   -999.0,9, 20020709,     1348
  18HU20020623, AR07W,   262,  1, 254124,      3,2,20020709,1346, 58.6667, -47.0005, 2850,    100.3,   4.3829,  34.8401,2,-999.0000,9,    289.3,2,   -999.0,9,     7.36,6,    13.85,6,     1.05,6, -999.000,9, -999.000,9, -999.000,9, -999.000,9, -999.000,9,   -999.0,9,   -999.0,9, 20020709,     1349
  18HU20020623, AR07W,   262,  1, 254125,      4,2,20020709,1346, 58.6667, -47.0005, 2850,     80.4,   4.6751,  34.8201,2,-999.0000,9,    289.9,2,   -999.0,9,     6.00,6,    12.77,6,     0.99,6, -999.000,9, -999.000,9, -999.000,9, -999.000,9, -999.000,9,   -999.0,9,   -999.0,9, 20020709,     1350
  18HU20020623, AR07W,   262,  1, 254126,      5,2,20020709,1346, 58.6667, -47.0005, 2850,     60.3,   5.5700,  34.7554,2,-999.0000,9,    294.2,2,   -999.0,9,     2.37,6,     9.89,6,     0.80,6, -999.000,9, -999.000,9, -999.000,9, -999.000,9, -999.000,9,   -999.0,9,   -999.0,9, 20020709,     1351
  18HU20020623, AR07W,   262,  1, 254127,      6,2,20020709,1346, 58.6667, -47.0005, 2850,     50.3,   5.9912,  34.7580,2,-999.0000,9,    296.5,2,   -999.0,9,     0.93,6,     8.51,6,     0.67,6, -999.000,9, -999.000,9, -999.000,9, -999.000,9, -999.000,9,   -999.0,9,   -999.0,9, 20020709,     1352
  18HU20020623, AR07W,   262,  1, 254128,      7,2,20020709,1346, 58.6667, -47.0005, 2850,     40.7,   5.9993,  34.7501,2,-999.0000,9,    297.8,2,   -999.0,9,     0.87,6,     8.29,6,     0.66,6, -999.000,9, -999.000,9, -999.000,9, -999.000,9, -999.000,9,   -999.0,9,   -999.0,9, 20020709,     1352
  18HU20020623, AR07W,   262,  1, 254129,      8,2,20020709,1346, 58.6667, -47.0005, 2850,     30.3,   6.0485,  34.7288,2,-999.0000,9,    300.5,2,   -999.0,9,     0.86,6,     8.23,6,     0.63,6, -999.000,9, -999.000,9, -999.000,9, -999.000,9, -999.000,9,   -999.0,9,   -999.0,9, 20020709,     1353
  18HU20020623, AR07W,   262,  1, 254130,      9,2,20020709,1346, 58.6667, -47.0005, 2850,     20.5,   6.0552,  34.7250,2,-999.0000,9,    300.7,2,   -999.0,9,  -999.00,9,  -999.00,9,  -999.00,9, -999.000,9, -999.000,9, -999.000,9, -999.000,9, -999.000,9,   -999.0,9,   -999.0,9, 20020709,     1353
  18HU20020623, AR07W,   262,  1, 254131,     10,2,20020709,1346, 58.6667, -47.0005, 2850,     20.0,   6.0534,  34.7255,2,-999.0000,9,    300.9,2,   -999.0,9,     0.79,6,     8.20,6,     0.64,6, -999.000,9, -999.000,9, -999.000,9, -999.000,9, -999.000,9,   -999.0,9,   -999.0,9, 20020709,     1353
  18HU20020623, AR07W,   262,  1, 254132,     11,2,20020709,1346, 58.6667, -47.0005, 2850,     20.3,   6.0529,  34.7260,2,-999.0000,9,    301.1,2,   -999.0,9,     5.99,6,     9.26,6,     0.65,6, -999.000,9, -999.000,9, -999.000,9, -999.000,9, -999.000,9,   -999.0,9,   -999.0,9, 20020709,     1353
  18HU20020623, AR07W,   262,  1, 254133,     12,2,20020709,1346, 58.6667, -47.0005, 2850,     20.9,   6.0569,  34.7246,2,-999.0000,9,    300.8,2,   -999.0,9,  -999.00,9,  -999.00,9,  -999.00,9, -999.000,9, -999.000,9, -999.000,9, -999.000,9, -999.000,9,   -999.0,9,   -999.0,9, 20020709,     1353
  18HU20020623, AR07W,   262,  1, 254134,     13,2,20020709,1346, 58.6667, -47.0005, 2850,     10.7,   6.0606,  34.7238,2,-999.0000,9,    300.9,2,   -999.0,9,  -999.00,9,  -999.00,9,  -999.00,9, -999.000,9, -999.000,9, -999.000,9, -999.000,9, -999.000,9,   -999.0,9,   -999.0,9, 20020709,     1354
  18HU20020623, AR07W,   262,  1, 254135,     14,2,20020709,1346, 58.6667, -47.0005, 2850,     10.5,   6.0595,  34.7241,2,-999.0000,9,    301.1,2,   -999.0,9,    10.49,3,    16.40,3,     1.01,3, -999.000,9, -999.000,9, -999.000,9, -999.000,9, -999.000,9,   -999.0,9,   -999.0,9, 20020709,     1354
  18HU20020623, AR07W,   262,  1, 254136,     15,2,20020709,1346, 58.6667, -47.0005, 2850,     10.4,   6.0618,  34.7240,2,-999.0000,9,    301.2,2,   -999.0,9,  -999.00,9,  -999.00,9,  -999.00,9, -999.000,9, -999.000,9, -999.000,9, -999.000,9, -999.000,9,   -999.0,9,   -999.0,9, 20020709,     1355
  18HU20020623, AR07W,   262,  1, 254137,     16,2,20020709,1346, 58.6667, -47.0005, 2850,     10.4,   6.0594,  34.7239,2,-999.0000,9,    301.0,2,   -999.0,9,  -999.00,9,  -999.00,9,  -999.00,9, -999.000,9, -999.000,9, -999.000,9, -999.000,9, -999.000,9,   -999.0,9,   -999.0,9, 20020709,     1355
  18HU20020623, AR07W,   262,  1, 254138,     17,2,20020709,1346, 58.6667, -47.0005, 2850,      2.7,   6.0571,  34.7242,2,-999.0000,9,    301.3,2,   -999.0,9,  -999.00,9,  -999.00,9,  -999.00,9, -999.000,9, -999.000,9, -999.000,9, -999.000,9, -999.000,9,   -999.0,9,   -999.0,9, 20020709,     1355
  18HU20020623, AR07W,   262,  1, 254139,     18,2,20020709,1346, 58.6667, -47.0005, 2850,      2.2,   6.0565,  34.7235,2,-999.0000,9,    301.2,2,   -999.0,9,    12.25,3,    16.44,3,     1.06,3, -999.000,9, -999.000,9, -999.000,9, -999.000,9, -999.000,9,   -999.0,9,   -999.0,9, 20020709,     1356