BOTTLE,20130611PRINUNIVRMK
EXPOCODE,SECT_ID,STNNBR,CASTNO,SAMPNO,BTLNBR,BTLNBR_FLAG_W,DATE,TIME,LATITUDE,LONGITUDE,DEPTH,CTDPRS,CTDTMP,CTDSAL,CTDSAL_FLAG_W,SALNTY,SALNTY_FLAG_W,CTDOXY,CTDOXY_FLAG_W,OXYGEN,OXYGEN_FLAG_W,SILCAT,SILCAT_FLAG_W,NITRAT,NITRAT_FLAG_W,PHSPHT,PHSPHT_FLAG_W,CFC-11,CFC-11_FLAG_W,CFC-12,CFC-12_FLAG_W,CFC113,CFC113_FLAG_W,CCL4,CCL4_FLAG_W,MCHFRM,MCHFRM_FLAG_W,TCARBN,TCARBN_FLAG_W,ALKALI,ALKALI_FLAG_W,BTL_DATE,BTL_TIME
,,,,,,,,,,,METERS,DBAR,ITS-90,PSS-78,,PSS-78,,UMOL/KG,,UMOL/KG,,UMOL/KG,,UMOL/KG,,UMOL/KG,,PMOL/KG,,PMOL/KG,,PMOL/KG,,PMOL/KG,,PMOL/KG,,UMOL/KG,,UMOL/KG,,,
  18HU20020623, AR07W,    90,  1, 253393,      1,2,20020630,1453, 48.6838, -46.8487, 2500,   2637.7,   2.1670,  34.8891,2,  34.8891,6,    280.4,2,    285.2,2,    12.64,6,    15.52,6,     1.12,6,    3.643,3,    3.217,4,    0.592,4,    3.913,4,    3.461,2,   2150.1,2,   2287.2,2, 20020630,     1453
  18HU20020623, AR07W,    90,  1, 253394,      2,2,20020630,1453, 48.6838, -46.8487, 2500,   2637.5,   2.1664,  34.8890,2,-999.0000,9,    280.2,2,   -999.0,9,  -999.00,9,  -999.00,9,  -999.00,9, -999.000,9, -999.000,9, -999.000,9, -999.000,9, -999.000,9,   -999.0,9,   -999.0,9, 20020630,     1453
  18HU20020623, AR07W,    90,  1, 253395,      3,2,20020630,1453, 48.6838, -46.8487, 2500,   2519.8,   2.5038,  34.8970,2,  34.8989,6,    277.6,2,    282.2,2,    12.14,6,    15.86,6,     1.07,6,    2.600,2,    1.512,4,    0.265,4,    3.132,4,    3.240,2,   2161.7,2,   2290.2,2, 20020630,     1456
  18HU20020623, AR07W,    90,  1, 253396,      4,2,20020630,1453, 48.6838, -46.8487, 2500,   2318.2,   2.7172,  34.8993,2,  34.8991,2,    275.3,2,    280.9,2,    11.78,6,    16.19,6,     1.10,6,    2.559,2,    1.497,4,    0.226,4,    3.098,4,    3.334,2,   2159.5,2,   2276.3,2, 20020630,     1500
  18HU20020623, AR07W,    90,  1, 253397,      5,2,20020630,1453, 48.6838, -46.8487, 2500,   2115.0,   2.8321,  34.8979,2,  34.8981,2,    274.2,2,    280.7,2,    11.63,6,    16.26,6,     1.16,6,    2.606,2,    1.520,4,    0.220,4,    3.163,4,    3.494,2,   2158.2,2,   2283.9,2, 20020630,     1503
  18HU20020623, AR07W,    90,  1, 253398,      6,2,20020630,1453, 48.6838, -46.8487, 2500,   2115.2,   2.8316,  34.8980,2,-999.0000,9,    274.2,2,   -999.0,9,  -999.00,9,  -999.00,9,  -999.00,9, -999.000,9, -999.000,9, -999.000,9, -999.000,9, -999.000,9,   -999.0,9,   -999.0,9, 20020630,     1504
  18HU20020623, AR07W,    90,  1, 253399,      7,2,20020630,1453, 48.6838, -46.8487, 2500,   1913.3,   2.9524,  34.8916,2,  34.8922,2,    274.2,2,    281.9,2,    11.14,6,    16.41,6,     1.11,6,    2.833,2,    1.629,4,    0.187,4,    3.388,4,    3.828,2,   2156.3,2,   -999.0,9, 20020630,     1507
  18HU20020623, AR07W,    90,  1, 253400,      8,2,20020630,1453, 48.6838, -46.8487, 2500,   1711.0,   3.0456,  34.8835,2,  34.8835,2,    274.7,2,    283.0,2,    10.67,6,    16.57,6,     1.12,6,    3.181,2,    1.827,4,    0.266,4,    3.771,4,    4.236,2,   2154.8,2,   2264.2,2, 20020630,     1511
  18HU20020623, AR07W,    90,  1, 253401,      9,2,20020630,1453, 48.6838, -46.8487, 2500,   1710.0,   3.0461,  34.8835,2,-999.0000,9,    274.9,2,   -999.0,9,  -999.00,9,  -999.00,9,  -999.00,9, -999.000,9, -999.000,9, -999.000,9, -999.000,9, -999.000,9,   -999.0,9,   -999.0,9, 20020630,     1513
  18HU20020623, AR07W,    90,  1, 253402,     10,2,20020630,1453, 48.6838, -46.8487, 2500,   1510.6,   3.1431,  34.8788,2,  34.8784,2,    274.0,2,    283.7,2,    10.56,6,    16.73,6,     1.14,6,    3.357,2,    1.888,4,    0.274,4,    3.874,4,    4.520,2,   2160.1,2,   2272.8,2, 20020630,     1516
  18HU20020623, AR07W,    90,  1, 253403,     11,2,20020630,1453, 48.6838, -46.8487, 2500,   1306.3,   3.2997,  34.8820,2,  34.8821,2,    271.5,2,    281.1,2,    10.40,6,    16.71,6,     1.14,6,    3.429,2,    1.963,4,    0.296,4,    3.904,4,    4.343,2,   2160.3,2,   2272.4,2, 20020630,     1520
  18HU20020623, AR07W,    90,  1, 253404,     12,2,20020630,1453, 48.6838, -46.8487, 2500,   1107.8,   3.3660,  34.8729,2,  34.8729,2,    273.6,2,    283.9,2,     9.87,6,    16.24,6,     1.12,6,    3.797,2,    2.159,4,    0.306,4,    4.285,4,    3.891,2,   2154.4,2,   2277.1,2, 20020630,     1523
  18HU20020623, AR07W,    90,  1, 253405,     13,2,20020630,1453, 48.6838, -46.8487, 2500,   1107.9,   3.3664,  34.8732,2,-999.0000,9,    273.7,2,   -999.0,9,  -999.00,9,  -999.00,9,  -999.00,9, -999.000,9, -999.000,9, -999.000,9, -999.000,9, -999.000,9,   -999.0,9,   -999.0,9, 20020630,     1523
  18HU20020623, AR07W,    90,  1, 253406,     14,2,20020630,1453, 48.6838, -46.8487, 2500,    908.3,   3.2573,  34.8458,2,  34.8460,2,    283.5,2,    295.4,2,     8.95,6,    15.83,6,     1.09,6,    4.453,2,    2.555,4,    0.403,4,    5.358,4,    3.304,2,   2153.3,2,   2280.7,2, 20020630,     1527
  18HU20020623, AR07W,    90,  1, 253407,     15,2,20020630,1453, 48.6838, -46.8487, 2500,    706.1,   3.2691,  34.8427,2,  34.8422,2,    282.2,2,    294.8,2,     8.92,6,    15.72,6,     1.10,6,    4.493,2,    2.558,4,    0.378,4,    5.227,4,    3.250,2,   2157.8,2,   2287.5,2, 20020630,     1531
  18HU20020623, AR07W,    90,  1, 253408,     16,2,20020630,1453, 48.6838, -46.8487, 2500,    504.3,   3.3375,  34.8426,2,  34.8428,2,    279.0,2,    291.9,2,     9.03,6,    15.86,6,     1.17,6,    4.481,2,    2.548,4,    0.372,4,    5.186,4,    3.343,2,   2156.7,2,   2272.7,2, 20020630,     1535
  18HU20020623, AR07W,    90,  1, 253409,     17,2,20020630,1453, 48.6838, -46.8487, 2500,    353.2,   3.2469,  34.8183,2,  34.8186,2,    281.5,2,    295.5,2,     8.80,6,    15.75,6,     1.10,6,    4.620,2,    2.600,4,    0.501,4,    5.352,4,    3.094,2,   2154.0,2,   2279.7,2, 20020630,     1538
  18HU20020623, AR07W,    90,  1, 253410,     18,2,20020630,1453, 48.6838, -46.8487, 2500,    252.3,   3.1239,  34.7847,2,  34.7834,2,    283.8,2,    298.1,2,     8.76,6,    15.76,6,     1.10,6,    4.824,2,    2.706,4,    0.536,4,    5.688,4,    3.006,2,   2155.0,2,   2297.1,2, 20020630,     1540
  18HU20020623, AR07W,    90,  1, 253411,     19,2,20020630,1453, 48.6838, -46.8487, 2500,    252.3,   3.1213,  34.7844,2,-999.0000,9,    283.9,2,   -999.0,9,  -999.00,9,  -999.00,9,  -999.00,9, -999.000,9, -999.000,9, -999.000,9, -999.000,9, -999.000,9,   -999.0,9,   -999.0,9, 20020630,     1541
  18HU20020623, AR07W,    90,  1, 253412,     20,2,20020630,1453, 48.6838, -46.8487, 2500,    151.7,   3.0064,  34.7227,2,  34.7223,2,    290.0,2,    305.4,2,     8.66,6,    15.45,6,     1.10,6,    5.162,2,    2.867,4,    0.623,4,    6.350,4,    2.784,2,   2152.8,2,   2283.0,2, 20020630,     1543
  18HU20020623, AR07W,    90,  1, 253413,     21,2,20020630,1453, 48.6838, -46.8487, 2500,    102.0,   3.2506,  34.6956,2,-999.0000,9,    288.6,2,    303.9,2,     8.48,6,    14.64,6,     1.12,6,    5.203,2,    2.914,4,    0.801,4,    6.673,4,    2.708,2,   2154.0,2,   2276.7,2, 20020630,     1544
  18HU20020623, AR07W,    90,  1, 253414,     22,2,20020630,1453, 48.6838, -46.8487, 2500,     51.7,   4.8445,  34.6027,2,  34.6073,2,    308.1,2,    321.5,2,     1.82,6,     4.98,6,     0.55,6,    5.198,2,    2.902,4,    0.634,4,    6.515,4,    2.343,2,   2104.1,2,   2296.8,2, 20020630,     1546
  18HU20020623, AR07W,    90,  1, 253415,     23,2,20020630,1453, 48.6838, -46.8487, 2500,     51.7,   4.8922,  34.5993,2,-999.0000,9,    309.0,2,   -999.0,9,  -999.00,9,  -999.00,9,  -999.00,9, -999.000,9, -999.000,9, -999.000,9, -999.000,9, -999.000,9,   -999.0,9,   -999.0,9, 20020630,     1546
  18HU20020623, AR07W,    90,  1, 253416,     24,2,20020630,1453, 48.6838, -46.8487, 2500,     11.6,   6.4490,  34.4674,2,-999.0000,9,    316.2,2,    329.5,2,     0.00,6,     0.00,6,     0.10,6,    4.891,2,    2.771,4,    0.581,4,    6.186,4,    2.090,2,   2045.6,2,   2275.9,2, 20020630,     1547
  18HU20020623, AR07W,    94,  1, 253417,      1,2,20020630,1934, 48.8378, -46.8413, 2615,   2698.4,   2.2551,  34.8905,2,  34.8916,2,    280.1,2,    284.9,2,    12.32,6,    15.28,6,     1.12,6,    2.725,2,    0.000,4,    0.324,4,    4.289,4,    7.869,2,   2157.9,2,   2246.0,3, 20020630,     1934
  18HU20020623, AR07W,    94,  1, 253418,      2,2,20020630,1934, 48.8378, -46.8413, 2615,   2699.5,   2.2507,  34.8906,2,-999.0000,9,    280.2,2,   -999.0,9,  -999.00,9,  -999.00,9,  -999.00,9, -999.000,9, -999.000,9, -999.000,9, -999.000,9, -999.000,9,   -999.0,9,   -999.0,9, 20020630,     1935
  18HU20020623, AR07W,    94,  1, 253419,      3,2,20020630,1934, 48.8378, -46.8413, 2615,   2627.3,   2.3878,  34.8946,2,  34.8945,2,    278.2,2,    282.2,2,    12.54,6,    15.39,6,     1.14,6,    2.697,2,    0.000,4,    0.141,4,    3.863,4,    7.115,2,   2155.6,2,   2284.9,2, 20020630,     2002
  18HU20020623, AR07W,    94,  1, 253420,      4,2,20020630,1934, 48.8378, -46.8413, 2615,   2496.7,   2.5332,  34.8986,2,  34.8979,6,    276.0,2,    280.9,2,    12.29,6,    15.61,6,     1.08,6,    2.562,2,    1.143,4,    0.066,4,    3.676,4,    6.858,2,   2152.5,2,   2277.8,2, 20020630,     2004
  18HU20020623, AR07W,    94,  1, 253421,      5,2,20020630,1934, 48.8378, -46.8413, 2615,   2368.6,   2.6259,  34.8990,2,  34.8999,6,    275.1,2,    280.2,2,    12.01,6,    15.90,6,     1.09,6,    2.460,2,    0.036,4,    0.035,4,    3.704,4,    7.266,2,   2156.9,2,   2289.7,2, 20020630,     2007
  18HU20020623, AR07W,    94,  1, 253422,      6,2,20020630,1934, 48.8378, -46.8413, 2615,   2220.2,   2.7512,  34.8979,2,  34.8981,2,    274.3,2,    280.0,2,    11.72,6,    16.00,6,     1.08,6,    2.636,2,    1.671,4,    0.036,4,    3.801,4,    7.322,2,   2154.1,2,   2284.7,2, 20020630,     2010
  18HU20020623, AR07W,    94,  1, 253423,      7,2,20020630,1934, 48.8378, -46.8413, 2615,   2220.2,   2.7513,  34.8980,2,-999.0000,9,    274.3,2,   -999.0,9,  -999.00,9,  -999.00,9,  -999.00,9, -999.000,9, -999.000,9, -999.000,9, -999.000,9, -999.000,9,   -999.0,9,   -999.0,9, 20020630,     2010
  18HU20020623, AR07W,    94,  1, 253424,      8,2,20020630,1934, 48.8378, -46.8413, 2615,   2072.3,   2.8843,  34.8962,2,  34.9005,6,    273.4,2,    279.7,2,    11.59,6,    16.37,6,     1.10,6,    2.808,2,    1.736,4,    0.115,4,    4.110,4,    8.286,2,   2152.2,2,   2288.9,2, 20020630,     2013
  18HU20020623, AR07W,    94,  1, 253425,      9,2,20020630,1934, 48.8378, -46.8413, 2615,   1894.5,   3.0018,  34.8948,2,  34.8930,2,    272.3,2,    279.3,2,    11.76,6,    16.77,6,     1.12,6,    2.549,2,    0.000,4,    0.432,4,    3.750,4,    8.106,2,   2152.5,2,   2291.4,2, 20020630,     2016
  18HU20020623, AR07W,    94,  1, 253426,     10,2,20020630,1934, 48.8378, -46.8413, 2615,   1714.0,   3.0395,  34.8830,2,  34.8827,2,    274.0,2,    281.9,2,    11.22,6,    16.88,6,     1.12,6,    2.978,2,    0.121,4,    0.172,4,    4.458,4,    9.679,2,   2153.2,2,   2292.8,2, 20020630,     2019
  18HU20020623, AR07W,    94,  1, 253427,     11,2,20020630,1934, 48.8378, -46.8413, 2615,   1512.3,   3.1231,  34.8766,2,  34.8778,6,    274.0,2,    282.8,2,    10.81,6,    16.99,6,     1.14,6,    3.230,2,    0.500,4,    0.046,4,    4.756,4,   10.384,2,   2153.2,2,   2274.1,2, 20020630,     2023
  18HU20020623, AR07W,    94,  1, 253428,     12,2,20020630,1934, 48.8378, -46.8413, 2615,   1513.4,   3.1229,  34.8765,2,-999.0000,9,    274.1,2,   -999.0,9,  -999.00,9,  -999.00,9,  -999.00,9, -999.000,9, -999.000,9, -999.000,9, -999.000,9, -999.000,9,   -999.0,9,   -999.0,9, 20020630,     2023
  18HU20020623, AR07W,    94,  1, 253429,     13,2,20020630,1934, 48.8378, -46.8413, 2615,   1314.0,   3.2573,  34.8813,2,  34.8820,2,    271.4,2,    280.2,2,    10.85,6,    16.69,6,     1.19,6,    3.442,2,    0.128,4,    0.263,4,    4.819,4,    9.878,2,   2154.7,2,   2290.3,2, 20020630,     2027
  18HU20020623, AR07W,    94,  1, 253430,     14,2,20020630,1934, 48.8378, -46.8413, 2615,   1110.1,   3.3942,  34.8833,2,  34.8833,2,    268.8,2,    278.2,2,    10.71,6,    16.70,6,     1.13,6,    3.538,2,    0.108,4,    0.292,4,    4.918,4,    9.493,2,   2154.7,2,   2295.6,2, 20020630,     2031
  18HU20020623, AR07W,    94,  1, 253431,     15,2,20020630,1934, 48.8378, -46.8413, 2615,    906.7,   3.4677,  34.8770,2,  34.8780,2,    268.9,2,    279.0,2,    10.39,6,    16.70,6,     1.14,6,    3.658,2,    0.118,4,    0.515,4,    5.260,4,    9.042,2,   2155.3,2,   2289.3,2, 20020630,     2034
  18HU20020623, AR07W,    94,  1, 253432,     16,2,20020630,1934, 48.8378, -46.8413, 2615,    907.9,   3.4655,  34.8771,2,-999.0000,9,    269.0,2,   -999.0,9,  -999.00,9,  -999.00,9,  -999.00,9, -999.000,9, -999.000,9, -999.000,9, -999.000,9, -999.000,9,   -999.0,9,   -999.0,9, 20020630,     2035
  18HU20020623, AR07W,    94,  1, 253433,     17,2,20020630,1934, 48.8378, -46.8413, 2615,    706.4,   3.5228,  34.8708,2,  34.8703,2,    269.5,2,    280.3,2,     9.97,6,    16.60,6,     1.13,6,    4.067,2,    0.511,4,    0.342,4,    5.586,4,    8.237,2,   2154.8,2,   2296.7,2, 20020630,     2039
  18HU20020623, AR07W,    94,  1, 253434,     18,2,20020630,1934, 48.8378, -46.8413, 2615,    579.5,   3.4006,  34.8455,2,  34.8456,2,    277.2,2,    289.1,2,     9.28,6,    16.06,6,     1.11,6,    4.534,2,    0.718,4,    0.409,4,    6.516,4,    7.179,2,   2152.9,2,   2289.7,2, 20020630,     2041
  18HU20020623, AR07W,    94,  1, 253435,     19,2,20020630,1934, 48.8378, -46.8413, 2615,    426.3,   3.3238,  34.8271,2,  34.8273,2,    278.7,2,    291.0,2,     9.05,6,    15.97,6,     1.10,6,    4.571,2,    0.735,4,    0.308,4,    6.659,4,    6.678,2,   2151.9,2,   2288.2,2, 20020630,     2044
  18HU20020623, AR07W,    94,  1, 253436,     20,2,20020630,1934, 48.8378, -46.8413, 2615,    300.8,   3.3383,  34.8124,2,  34.8127,2,    278.0,2,    290.8,2,     9.19,6,    16.10,6,     1.10,6,    4.571,2,    1.238,4,    0.610,4,    8.003,4,    7.570,2,   2150.4,2,   2276.1,2, 20020630,     2047
  18HU20020623, AR07W,    94,  1, 253437,     21,2,20020630,1934, 48.8378, -46.8413, 2615,    200.6,   3.0481,  34.7531,2,-999.0000,9,    288.2,2,    301.8,2,     9.10,6,    15.57,6,     1.07,6,    5.069,2,    0.978,4,    0.470,4,    7.939,4,    5.772,2,   2149.3,2,   2278.0,2, 20020630,     2049
  18HU20020623, AR07W,    94,  1, 253438,     22,2,20020630,1934, 48.8378, -46.8413, 2615,    100.7,   3.4656,  34.7240,2,-999.0000,9,    280.3,2,    293.8,2,     9.10,6,    15.58,6,     1.17,6,    5.018,2,    0.991,4,    0.404,4,    7.812,4,    5.445,2,   2150.1,2,   2295.8,2, 20020630,     2051
  18HU20020623, AR07W,    94,  1, 253439,     23,2,20020630,1934, 48.8378, -46.8413, 2615,     50.3,   5.4471,  34.5873,2,-999.0000,9,    309.1,2,    321.2,2,     1.41,6,     3.78,6,     0.46,6,    5.124,2,    0.737,4,    0.131,4,    9.325,4,    4.924,2,   2087.1,2,   2270.9,2, 20020630,     2052
  18HU20020623, AR07W,    94,  1, 253440,     24,2,20020630,1934, 48.8378, -46.8413, 2615,     10.4,   6.9157,  34.4954,2,-999.0000,9,    307.0,2,    317.7,2,     0.00,6,     1.97,6,     0.28,6,    4.846,2,    1.287,4,    0.039,4,    8.777,4,    4.272,2,   2060.2,2,   2259.6,2, 20020630,     2054
  18HU20020623, AR07W,    98,  1, 253441,      1,2,20020702,1004, 53.6770, -55.5462,  154,    145.4,  -0.5840,  33.5937,2,  33.5944,6,    303.4,2,    327.6,2,     9.06,6,     9.80,6,     0.87,6,    6.652,2,    3.485,4,    0.615,4,   11.232,4,    2.530,2,   2114.1,2,   2108.3,3, 20020702,     1004
  18HU20020623, AR07W,    98,  1, 253442,      2,2,20020702,1004, 53.6770, -55.5462,  154,    145.7,  -0.5841,  33.5940,2,-999.0000,9,    303.5,2,   -999.0,9,  -999.00,9,  -999.00,9,  -999.00,9, -999.000,9, -999.000,9, -999.000,9, -999.000,9, -999.000,9,   -999.0,9,   -999.0,9, 20020702,     1004
  18HU20020623, AR07W,    98,  1, 253443,      3,2,20020702,1004, 53.6770, -55.5462,  154,    124.8,  -0.8013,  33.4848,2,  33.5121,2,    303.7,2,    327.4,2,     8.99,6,     9.66,6,     0.76,6,    6.791,2,    3.500,4,    0.562,4,   11.187,4,    2.584,2,   2114.1,2,   2247.0,2, 20020702,     1005
  18HU20020623, AR07W,    98,  1, 253444,      4,2,20020702,1004, 53.6770, -55.5462,  154,    100.3,  -1.0547,  33.2813,2,  33.2799,2,    303.6,2,    327.2,2,     9.95,6,     9.37,6,     0.80,6,    6.938,2,    3.554,4,    0.511,4,   11.240,4,    2.754,2,   2119.8,2,   2243.7,2, 20020702,     1006
  18HU20020623, AR07W,    98,  1, 253445,      5,2,20020702,1004, 53.6770, -55.5462,  154,    100.4,  -1.0561,  33.2805,2,-999.0000,9,    303.5,2,   -999.0,9,     9.91,6,     9.40,6,     0.79,6, -999.000,9, -999.000,9, -999.000,9, -999.000,9, -999.000,9,   -999.0,9,   -999.0,9, 20020702,     1006
  18HU20020623, AR07W,    98,  1, 253446,      6,2,20020702,1004, 53.6770, -55.5462,  154,     79.3,  -1.1781,  33.1413,2,-999.0000,9,    304.4,2,   -999.0,9,    10.20,6,     9.08,6,     0.81,6, -999.000,9, -999.000,9, -999.000,9, -999.000,9, -999.000,9,   -999.0,9,   -999.0,9, 20020702,     1007
  18HU20020623, AR07W,    98,  1, 253447,      7,2,20020702,1004, 53.6770, -55.5462,  154,     60.3,  -1.2683,  33.0293,2,-999.0000,9,    303.5,2,   -999.0,9,    10.66,6,     9.08,6,     0.83,6, -999.000,9, -999.000,9, -999.000,9, -999.000,9, -999.000,9,   -999.0,9,   -999.0,9, 20020702,     1008
  18HU20020623, AR07W,    98,  1, 253448,      8,2,20020702,1004, 53.6770, -55.5462,  154,     50.4,  -0.9560,  32.9673,2,  32.9716,2,    307.1,2,    331.2,2,    10.41,6,     8.55,6,     0.81,6, -999.000,9, -999.000,9, -999.000,9, -999.000,9, -999.000,9,   2113.6,2,   2245.1,2, 20020702,     1009
  18HU20020623, AR07W,    98,  1, 253449,      9,2,20020702,1004, 53.6770, -55.5462,  154,     40.1,  -1.0825,  32.8665,2,-999.0000,9,    316.1,2,   -999.0,9,     8.75,6,     7.53,6,     0.75,6, -999.000,9, -999.000,9, -999.000,9, -999.000,9, -999.000,9,   -999.0,9,   -999.0,9, 20020702,     1010
  18HU20020623, AR07W,    98,  1, 253450,     10,2,20020702,1004, 53.6770, -55.5462,  154,     30.2,  -0.9110,  32.7901,2,-999.0000,9,    322.6,2,   -999.0,9,     7.83,6,     6.79,6,     0.79,6, -999.000,9, -999.000,9, -999.000,9, -999.000,9, -999.000,9,   -999.0,9,   -999.0,9, 20020702,     1010
  18HU20020623, AR07W,    98,  1, 253451,     11,2,20020702,1004, 53.6770, -55.5462,  154,     20.4,  -0.1742,  32.5949,2,-999.0000,9,    325.0,2,   -999.0,9,     9.00,6,     6.89,6,     0.72,6, -999.000,9, -999.000,9, -999.000,9, -999.000,9, -999.000,9,   -999.0,9,   -999.0,9, 20020702,     1011
  18HU20020623, AR07W,    98,  1, 253452,     12,2,20020702,1004, 53.6770, -55.5462,  154,     10.0,   0.7620,  32.0599,2,  32.1669,2,    340.1,2,    360.3,2,     7.28,6,     5.41,6,     0.60,6,    7.516,2,    3.988,4,    0.658,4,   13.119,4,    2.575,2,   2053.9,2,   2198.4,2, 20020702,     1012
  18HU20020623, AR07W,    98,  1, 253453,     13,2,20020702,1004, 53.6770, -55.5462,  154,     10.5,   0.7756,  32.0552,2,-999.0000,9,    341.5,2,   -999.0,9,     7.39,6,     5.48,6,     0.62,6, -999.000,9, -999.000,9, -999.000,9, -999.000,9, -999.000,9,   -999.0,9,   -999.0,9, 20020702,     1012
  18HU20020623, AR07W,    98,  1, 253454,     14,2,20020702,1004, 53.6770, -55.5462,  154,      2.5,   2.1100,  31.1097,2,-999.0000,9,    346.6,2,   -999.0,9,     4.53,6,     3.58,6,     0.47,6, -999.000,9, -999.000,9, -999.000,9, -999.000,9, -999.000,9,   -999.0,9,   -999.0,9, 20020702,     1013