BOTTLE,20130611PRINUNIVRMK
EXPOCODE,SECT_ID,STNNBR,CASTNO,SAMPNO,BTLNBR,BTLNBR_FLAG_W,DATE,TIME,LATITUDE,LONGITUDE,DEPTH,CTDPRS,CTDTMP,CTDSAL,CTDSAL_FLAG_W,SALNTY,SALNTY_FLAG_W,CTDOXY,CTDOXY_FLAG_W,OXYGEN,OXYGEN_FLAG_W,SILCAT,SILCAT_FLAG_W,NITRAT,NITRAT_FLAG_W,PHSPHT,PHSPHT_FLAG_W,CFC-11,CFC-11_FLAG_W,CFC-12,CFC-12_FLAG_W,CFC113,CFC113_FLAG_W,CCL4,CCL4_FLAG_W,MCHFRM,MCHFRM_FLAG_W,TCARBN,TCARBN_FLAG_W,ALKALI,ALKALI_FLAG_W,BTL_DATE,BTL_TIME
,,,,,,,,,,,METERS,DBAR,ITS-90,PSS-78,,PSS-78,,UMOL/KG,,UMOL/KG,,UMOL/KG,,UMOL/KG,,UMOL/KG,,PMOL/KG,,PMOL/KG,,PMOL/KG,,PMOL/KG,,PMOL/KG,,UMOL/KG,,UMOL/KG,,,
  18HU20020623, AR07W,   272,  1, 254205,      1,2,20020710,0415, 59.3868, -45.8460, 2070,   1270.1,   3.2151,  34.8847,2,  34.8854,6,    272.5,2,    281.6,2,     9.67,6,    15.51,6,     1.15,6,    4.097,2,    2.033,4,    0.212,4,    3.860,4,    6.976,2,   2153.5,2,   2303.8,2, 20020710,      415
  18HU20020623, AR07W,   272,  1, 254206,      2,2,20020710,0415, 59.3868, -45.8460, 2070,   1190.4,   3.3116,  34.8891,2,  34.8889,6,    270.4,2,    280.0,2,     9.59,6,    15.68,6,     1.16,6,    4.152,2,    2.061,4,    0.204,4,    3.849,4,    6.964,2,   2155.5,2,   2296.6,2, 20020710,      418
  18HU20020623, AR07W,   272,  1, 254207,      3,2,20020710,0415, 59.3868, -45.8460, 2070,   1101.6,   3.4061,  34.8913,2,  34.8910,2,    269.0,2,    279.1,2,     9.60,6,    15.90,6,     1.16,6,    4.235,2,    2.305,4,    0.265,4,    4.243,4,    6.736,2,   2155.6,2,   2318.9,2, 20020710,      420
  18HU20020623, AR07W,   272,  1, 254208,      4,2,20020710,0415, 59.3868, -45.8460, 2070,   1002.2,   3.4977,  34.8908,2,  34.8910,2,    268.7,2,    279.1,2,     9.40,6,    15.77,6,     1.14,6,    4.347,2,    2.170,4,    0.248,4,    3.929,4,    6.290,2,   2154.7,2,   2315.5,2, 20020710,      422
  18HU20020623, AR07W,   272,  1, 254209,      5,2,20020710,0415, 59.3868, -45.8460, 2070,    879.5,   3.6231,  34.8897,2,  34.8892,2,    268.0,2,    278.8,2,     9.40,6,    16.19,6,     1.14,6,    4.559,2,    2.267,4,    0.249,4,    4.121,4,    6.405,2,   2153.1,2,   2296.2,2, 20020710,      425
  18HU20020623, AR07W,   272,  1, 254210,      6,2,20020710,0415, 59.3868, -45.8460, 2070,    738.7,   3.7893,  34.8910,2,  34.8904,2,    268.7,2,    279.9,2,     9.13,6,    16.12,6,     1.15,6,    0.000,4,    0.000,4,    0.000,4,    4.272,4,    0.046,2,   2153.5,2,   2324.1,2, 20020710,      427
  18HU20020623, AR07W,   272,  1, 254211,      7,2,20020710,0415, 59.3868, -45.8460, 2070,    601.5,   4.0279,  34.9007,2,-999.0000,9,    269.4,2,    280.8,2,     8.90,6,    15.91,6,     1.15,6,    4.938,2,    2.472,4,    0.291,4,    4.498,4,    5.439,2,   2151.3,2,   2328.3,2, 20020710,      430
  18HU20020623, AR07W,   272,  1, 254212,      8,2,20020710,0415, 59.3868, -45.8460, 2070,    482.2,   4.2435,  34.9115,2,-999.0000,9,    274.7,2,    286.3,2,     8.50,6,    15.74,6,     1.14,6,    0.974,4,    0.620,4,    0.069,4,    0.676,4,    0.530,2,   2150.9,2,   2321.0,2, 20020710,      434
  18HU20020623, AR07W,   272,  1, 254213,      9,2,20020710,0415, 59.3868, -45.8460, 2070,    298.7,   4.6083,  34.9355,2,-999.0000,9,    275.1,2,    287.5,2,     8.15,6,    15.47,6,     1.12,6,    4.880,2,    2.523,4,    0.391,4,    4.267,4,    3.686,2,   2148.2,2,   2310.9,2, 20020710,      438
  18HU20020623, AR07W,   272,  1, 254214,     10,2,20020710,0415, 59.3868, -45.8460, 2070,    200.7,   4.9035,  34.9485,2,-999.0000,9,    274.2,2,    286.2,2,     7.88,6,    15.52,6,     1.11,6,    5.277,2,    2.658,4,    0.347,4,    4.997,4,    4.118,2,   2146.8,2,   2338.7,2, 20020710,      440
  18HU20020623, AR07W,   272,  1, 254215,     11,2,20020710,0415, 59.3868, -45.8460, 2070,    103.2,   5.2053,  34.9354,2,-999.0000,9,    274.2,2,    286.4,2,     7.29,6,    14.79,6,     1.08,6,    0.000,4,    0.000,4,    0.000,4,    0.676,4,    0.050,2,   2143.4,2,   2307.9,2, 20020710,      443
  18HU20020623, AR07W,   272,  1, 254216,     12,2,20020710,0415, 59.3868, -45.8460, 2070,     50.1,   6.1776,  34.8242,2,-999.0000,9,    289.3,2,    302.5,2,     1.23,6,    10.04,6,     0.85,6,    0.000,4,    0.000,4,    0.000,4,    4.299,4,    0.052,2,   2111.6,2,   2330.0,2, 20020710,      445
  18HU20020623, AR07W,   272,  1, 254217,     13,2,20020710,0415, 59.3868, -45.8460, 2070,      5.1,   4.3906,  33.7506,2,-999.0000,9,    299.8,2,    314.4,2,     1.28,6,     8.67,6,     0.73,6,    5.996,2,    2.943,4,    0.460,4,    6.421,4,    3.547,2,   2045.6,2,   2251.7,2, 20020710,      447
  18HU20020623, AR07W,   276,  1, 254219,      1,2,20020710,0808, 59.4557, -45.7558, 1140,   1372.1,   3.3287,  34.8871,2,  34.8876,6,    271.8,2,    280.4,2,     9.94,6,    16.06,6,     1.21,3,    3.739,2,    2.340,4,    0.145,4,    5.170,4,    8.124,2,   2152.4,2,   2312.0,2, 20020710,      808
  18HU20020623, AR07W,   276,  1, 254220,      2,2,20020710,0808, 59.4557, -45.7558, 1140,   1290.0,   3.3419,  34.8875,2,  34.8883,6,    271.2,2,    280.3,2,     9.73,6,    15.82,6,     1.14,6,    3.710,2,    2.365,4,    0.075,4,    5.151,4,    8.001,2,   2152.9,2,   2314.3,2, 20020710,      809
  18HU20020623, AR07W,   276,  1, 254221,      3,2,20020710,0808, 59.4557, -45.7558, 1140,   1160.3,   3.4689,  34.8887,2,  34.8904,2,    269.9,2,    280.5,2,     9.52,6,    15.89,6,     1.15,6,    3.772,2,    2.481,4,    0.193,4,    5.277,4,    7.602,2,   2153.6,2,   2302.9,2, 20020710,      812
  18HU20020623, AR07W,   276,  1, 254222,      4,2,20020710,0808, 59.4557, -45.7558, 1140,    999.8,   3.5962,  34.8886,2,  34.8884,2,    269.7,2,    280.5,2,     9.32,6,    15.94,6,     1.17,6,    4.125,2,    2.565,4,    0.178,4,    5.528,4,    7.209,2,   2153.1,2,   2309.6,2, 20020710,      815
  18HU20020623, AR07W,   276,  1, 254223,      5,2,20020710,0808, 59.4557, -45.7558, 1140,    819.2,   3.7560,  34.8860,2,  34.8851,2,    269.7,2,    281.8,2,     8.88,6,    15.98,6,     1.18,6,    4.476,2,    2.821,4,    0.240,4,    6.097,4,    6.965,2,   2153.1,2,   2312.8,2, 20020710,      818
  18HU20020623, AR07W,   276,  1, 254224,      6,2,20020710,0808, 59.4557, -45.7558, 1140,    639.5,   4.0256,  34.8931,2,  34.8922,2,    274.7,2,    287.2,2,     8.42,6,    15.75,6,     1.17,6,    4.650,2,    3.157,4,    0.161,4,    7.009,4,    5.939,2,   -999.0,9,   2320.6,2, 20020710,      821
  18HU20020623, AR07W,   276,  1, 254225,      7,2,20020710,0808, 59.4557, -45.7558, 1140,    482.0,   4.3237,  34.9149,2,  34.9144,2,    277.0,2,    290.3,2,     8.04,6,    15.62,6,     1.17,6,    4.915,2,    3.068,4,    0.188,4,    7.127,4,    5.029,2,   2150.7,2,   2304.3,2, 20020710,      824
  18HU20020623, AR07W,   276,  1, 254226,      8,2,20020710,0808, 59.4557, -45.7558, 1140,    320.4,   4.5616,  34.9312,2,  34.9311,2,    276.4,2,    289.2,2,     7.82,6,    15.43,6,     1.16,6,    5.064,2,    3.097,4,    0.260,4,    7.521,4,    4.925,2,   2149.1,2,   2333.9,2, 20020710,      827
  18HU20020623, AR07W,   276,  1, 254227,      9,2,20020710,0808, 59.4557, -45.7558, 1140,    211.3,   4.7776,  34.9402,2,  34.9390,2,    274.9,2,    287.7,2,     7.77,6,    15.46,6,     1.16,6,    4.741,2,    3.174,4,    0.253,4,    7.392,4,    4.910,2,   2148.4,2,   2319.3,2, 20020710,      829
  18HU20020623, AR07W,   276,  1, 254228,     10,2,20020710,0808, 59.4557, -45.7558, 1140,    120.4,   5.3856,  34.9768,2,-999.0000,9,    271.7,2,    283.9,2,     7.37,6,    15.41,6,     1.13,6,    4.870,2,    3.133,4,    0.261,4,    6.864,4,    4.185,2,   2149.9,2,   2314.1,2, 20020710,      831
  18HU20020623, AR07W,   276,  1, 254229,     11,2,20020710,0808, 59.4557, -45.7558, 1140,     64.9,   6.0630,  34.8708,2,-999.0000,9,    284.2,2,    297.6,2,     2.76,6,    11.33,6,     0.95,6,    5.076,2,    3.245,4,    0.170,4,    8.207,4,    3.834,2,   2125.8,2,   2321.9,2, 20020710,      833
  18HU20020623, AR07W,   276,  1, 254230,     12,2,20020710,0808, 59.4557, -45.7558, 1140,     10.0,   5.0424,  34.0370,2,-999.0000,9,    296.5,2,    311.5,2,     0.89,6,     8.92,6,     0.77,6,    5.506,2,    3.241,4,    0.270,4,   10.449,4,    4.092,2,   2067.4,2,   2264.6,2, 20020710,      834
  18HU20020623, AR07W,   278,  1, 254231,      1,2,20020710,1012, 59.5320, -45.6500,  356,    339.3,   5.0476,  34.9003,2,  34.9011,6,    277.2,2,    289.1,2,     6.94,6,    14.40,6,     1.07,6,    4.757,2,    2.860,4,    0.301,4,    6.978,4,    4.642,2,   2143.5,2,   2315.4,2, 20020710,     1012
  18HU20020623, AR07W,   278,  1, 254232,      2,2,20020710,1012, 59.5320, -45.6500,  356,    200.2,   5.0710,  34.8846,2,-999.0000,9,    278.1,2,    291.0,2,     6.81,6,    14.08,6,     1.06,6,    5.056,2,    3.344,4,    0.324,4,    7.182,4,    4.162,2,   2141.1,2,   2318.9,2, 20020710,     1015
  18HU20020623, AR07W,   278,  1, 254233,      3,2,20020710,1012, 59.5320, -45.6500,  356,    110.9,   4.8323,  34.7853,2,-999.0000,9,    284.2,2,    297.4,2,     6.09,6,    12.23,6,     0.99,6,    5.379,2,    3.341,4,    0.566,4,    7.867,4,    4.698,2,   2132.2,2,   2311.1,2, 20020710,     1017
  18HU20020623, AR07W,   278,  1, 254234,      4,2,20020710,1012, 59.5320, -45.6500,  356,     50.1,   2.7604,  34.0234,2,-999.0000,9,    310.9,2,    328.8,2,     2.88,6,     7.27,6,     0.75,6,    6.459,2,    3.786,4,    0.165,4,   10.867,4,    5.970,2,   2090.8,2,   2265.7,2, 20020710,     1019
  18HU20020623, AR07W,   278,  1, 254235,      5,2,20020710,1012, 59.5320, -45.6500,  356,     10.3,   1.5026,  33.5110,2,-999.0000,9,    318.4,2,    339.2,2,     2.70,6,     5.55,6,     0.64,6,    7.388,2,    3.945,4,    0.185,4,   11.473,4,    6.699,2,   2061.1,2,   2250.8,2, 20020710,     1020
  18HU20020623, AR07W,   281,  1, 254236,      1,2,20020710,1533, 59.4952, -44.0460,  185,    190.1,   4.2873,  34.7028,2,  34.7012,6,    283.6,2,    297.9,2,     6.48,6,    12.43,6,     1.00,6,    5.794,2,    2.912,4,    0.446,4,    5.315,4,    4.860,2,   2138.7,2,   2292.3,2, 20020710,     1533
  18HU20020623, AR07W,   281,  1, 254237,      2,2,20020710,1533, 59.4952, -44.0460,  185,    190.2,   4.2853,  34.7024,2,-999.0000,9,    283.6,2,   -999.0,9,  -999.00,9,  -999.00,9,  -999.00,9, -999.000,9, -999.000,9, -999.000,9, -999.000,9, -999.000,9,   -999.0,9,   -999.0,9, 20020710,     1533
  18HU20020623, AR07W,   281,  1, 254238,      3,2,20020710,1533, 59.4952, -44.0460,  185,    150.4,   4.2164,  34.6882,2,-999.0000,9,    284.7,2,    298.4,2,     6.40,6,    12.32,6,     0.99,6,    5.460,2,    2.721,4,    0.410,4,    4.946,4,    4.506,2,   2130.6,2,   2284.8,2, 20020710,     1534
  18HU20020623, AR07W,   281,  1, 254239,      4,2,20020710,1533, 59.4952, -44.0460,  185,    150.6,   4.2178,  34.6885,2,-999.0000,9,    284.5,2,   -999.0,9,  -999.00,9,  -999.00,9,  -999.00,9, -999.000,9, -999.000,9, -999.000,9, -999.000,9, -999.000,9,   -999.0,9,   -999.0,9, 20020710,     1534
  18HU20020623, AR07W,   281,  1, 254240,      5,2,20020710,1533, 59.4952, -44.0460,  185,    100.4,   3.6602,  34.5168,2,-999.0000,9,    292.5,2,    307.6,2,     5.26,6,    10.50,6,     0.90,6,    5.861,2,    2.851,4,    0.438,4,    5.420,4,    4.919,2,   2117.3,2,   2282.1,2, 20020710,     1536
  18HU20020623, AR07W,   281,  1, 254241,      6,2,20020710,1533, 59.4952, -44.0460,  185,    100.5,   3.6632,  34.5163,2,-999.0000,9,    292.6,2,   -999.0,9,  -999.00,9,  -999.00,9,  -999.00,9, -999.000,9, -999.000,9, -999.000,9, -999.000,9, -999.000,9,   -999.0,9,   -999.0,9, 20020710,     1536
  18HU20020623, AR07W,   281,  1, 254242,      7,2,20020710,1533, 59.4952, -44.0460,  185,     80.1,   3.3171,  34.4236,2,-999.0000,9,    294.7,2,   -999.0,9,     5.08,6,    10.03,6,     0.89,6, -999.000,9, -999.000,9, -999.000,9, -999.000,9, -999.000,9,   -999.0,9,   -999.0,9, 20020710,     1537
  18HU20020623, AR07W,   281,  1, 254243,      8,2,20020710,1533, 59.4952, -44.0460,  185,     59.5,   2.8907,  34.2642,2,-999.0000,9,    300.9,2,   -999.0,9,     4.03,6,     8.87,6,     0.82,6, -999.000,9, -999.000,9, -999.000,9, -999.000,9, -999.000,9,   -999.0,9,   -999.0,9, 20020710,     1538
  18HU20020623, AR07W,   281,  1, 254244,      9,2,20020710,1533, 59.4952, -44.0460,  185,     49.9,   1.9905,  34.0455,2,-999.0000,9,    306.4,2,    324.3,2,     3.62,6,     7.82,6,     0.77,6,    6.552,3,    3.076,4,    0.531,4,    5.961,4,    5.683,2,   2093.5,2,   2256.9,2, 20020710,     1539
  18HU20020623, AR07W,   281,  1, 254245,     10,2,20020710,1533, 59.4952, -44.0460,  185,     50.0,   1.9410,  34.0356,2,-999.0000,9,    306.9,2,   -999.0,9,  -999.00,9,  -999.00,9,  -999.00,9, -999.000,9, -999.000,9, -999.000,9, -999.000,9, -999.000,9,   -999.0,9,   -999.0,9, 20020710,     1539
  18HU20020623, AR07W,   281,  1, 254246,     11,2,20020710,1533, 59.4952, -44.0460,  185,     40.2,   1.4341,  33.8715,2,-999.0000,9,    309.6,2,   -999.0,9,     3.46,6,     7.18,6,     0.74,6, -999.000,9, -999.000,9, -999.000,9, -999.000,9, -999.000,9,   -999.0,9,   -999.0,9, 20020710,     1540
  18HU20020623, AR07W,   281,  1, 254247,     12,2,20020710,1533, 59.4952, -44.0460,  185,     29.7,   0.3568,  33.6251,2,-999.0000,9,    315.6,2,   -999.0,9,     3.19,6,     6.37,6,     0.69,6, -999.000,9, -999.000,9, -999.000,9, -999.000,9, -999.000,9,   -999.0,9,   -999.0,9, 20020710,     1540
  18HU20020623, AR07W,   281,  1, 254248,     13,2,20020710,1533, 59.4952, -44.0460,  185,     29.8,   0.3411,  33.6253,2,-999.0000,9,    315.8,2,   -999.0,9,  -999.00,9,  -999.00,9,  -999.00,9, -999.000,9, -999.000,9, -999.000,9, -999.000,9, -999.000,9,   -999.0,9,   -999.0,9, 20020710,     1540
  18HU20020623, AR07W,   281,  1, 254249,     14,2,20020710,1533, 59.4952, -44.0460,  185,     29.8,   0.3352,  33.6272,2,-999.0000,9,    315.9,2,   -999.0,9,     3.18,6,     6.40,6,     0.68,6, -999.000,9, -999.000,9, -999.000,9, -999.000,9, -999.000,9,   -999.0,9,   -999.0,9, 20020710,     1541
  18HU20020623, AR07W,   281,  1, 254250,     15,2,20020710,1533, 59.4952, -44.0460,  185,     19.4,  -0.7322,  33.2988,2,-999.0000,9,    316.9,2,   -999.0,9,     3.56,6,     5.68,6,     0.68,6, -999.000,9, -999.000,9, -999.000,9, -999.000,9, -999.000,9,   -999.0,9,   -999.0,9, 20020710,     1541
  18HU20020623, AR07W,   281,  1, 254251,     16,2,20020710,1533, 59.4952, -44.0460,  185,      9.9,  -0.9226,  31.0647,2,-999.0000,9,    336.1,2,    364.0,2,     1.37,6,     1.15,6,     0.32,6,    8.039,3,    3.495,4,    0.685,4,    7.527,4,    5.992,2,   1903.6,2,   2083.7,3, 20020710,     1542
  18HU20020623, AR07W,   281,  1, 254252,     17,2,20020710,1533, 59.4952, -44.0460,  185,      9.9,  -0.7376,  31.3531,2,-999.0000,9,    336.6,2,   -999.0,9,  -999.00,9,  -999.00,9,  -999.00,9, -999.000,9, -999.000,9, -999.000,9, -999.000,9, -999.000,9,   -999.0,9,   -999.0,9, 20020710,     1543
  18HU20020623, AR07W,   281,  1, 254253,     18,2,20020710,1533, 59.4952, -44.0460,  185,      9.8,  -0.7678,  31.3169,2,-999.0000,9,    336.5,2,   -999.0,9,  -999.00,9,  -999.00,9,  -999.00,9, -999.000,9, -999.000,9, -999.000,9, -999.000,9, -999.000,9,   -999.0,9,   -999.0,9, 20020710,     1543
  18HU20020623, AR07W,   281,  1, 254254,     19,2,20020710,1533, 59.4952, -44.0460,  185,      9.8,  -0.7867,  31.3005,2,-999.0000,9,    336.8,2,   -999.0,9,  -999.00,9,  -999.00,9,  -999.00,9, -999.000,9, -999.000,9, -999.000,9, -999.000,9, -999.000,9,   -999.0,9,   -999.0,9, 20020710,     1543
  18HU20020623, AR07W,   281,  1, 254255,     20,2,20020710,1533, 59.4952, -44.0460,  185,      9.9,  -0.7684,  31.3240,2,-999.0000,9,    336.3,2,   -999.0,9,  -999.00,9,  -999.00,9,  -999.00,9, -999.000,9, -999.000,9, -999.000,9, -999.000,9, -999.000,9,   -999.0,9,   -999.0,9, 20020710,     1543
  18HU20020623, AR07W,   281,  1, 254256,     21,2,20020710,1533, 59.4952, -44.0460,  185,      3.0,  -0.9089,  30.6269,2,-999.0000,9,    338.6,2,   -999.0,9,     1.34,6,     1.01,6,     0.31,6, -999.000,9, -999.000,9, -999.000,9, -999.000,9, -999.000,9,   -999.0,9,   -999.0,9, 20020710,     1544
  18HU20020623, AR07W,   281,  1, 254257,     22,2,20020710,1533, 59.4952, -44.0460,  185,      3.0,  -0.9244,  30.4375,2,-999.0000,9,    339.2,2,   -999.0,9,  -999.00,9,  -999.00,9,  -999.00,9, -999.000,9, -999.000,9, -999.000,9, -999.000,9, -999.000,9,   -999.0,9,   -999.0,9, 20020710,     1544