BOTTLE,20130611PRINUNIVRMK
EXPOCODE,SECT_ID,STNNBR,CASTNO,SAMPNO,BTLNBR,BTLNBR_FLAG_W,DATE,TIME,LATITUDE,LONGITUDE,DEPTH,CTDPRS,CTDTMP,CTDSAL,CTDSAL_FLAG_W,SALNTY,SALNTY_FLAG_W,CTDOXY,CTDOXY_FLAG_W,OXYGEN,OXYGEN_FLAG_W,SILCAT,SILCAT_FLAG_W,NITRAT,NITRAT_FLAG_W,PHSPHT,PHSPHT_FLAG_W,CFC-11,CFC-11_FLAG_W,CFC-12,CFC-12_FLAG_W,CFC113,CFC113_FLAG_W,CCL4,CCL4_FLAG_W,MCHFRM,MCHFRM_FLAG_W,TCARBN,TCARBN_FLAG_W,ALKALI,ALKALI_FLAG_W,BTL_DATE,BTL_TIME
,,,,,,,,,,,METERS,DBAR,ITS-90,PSS-78,,PSS-78,,UMOL/KG,,UMOL/KG,,UMOL/KG,,UMOL/KG,,UMOL/KG,,PMOL/KG,,PMOL/KG,,PMOL/KG,,PMOL/KG,,PMOL/KG,,UMOL/KG,,UMOL/KG,,,
  18HU20020623, AR07W,   327,  1, 254379,      1,2,20020712,0031, 56.9998, -44.0037, 3335,   3493.6,   1.7927,  34.8863,2,  34.8863,6,    288.2,2,   -999.0,9,    10.75,6,    14.28,6,     1.01,6,    3.620,2,    1.660,4,    0.240,4,    4.786,4,    7.232,2,   2150.8,2,   2262.1,2, 20020712,       31
  18HU20020623, AR07W,   327,  1, 254380,      2,2,20020712,0031, 56.9998, -44.0037, 3335,   3411.0,   2.1317,  34.8928,2,  34.8931,6,    283.5,2,   -999.0,9,    12.68,6,    15.18,6,     1.07,6,    3.032,2,    1.101,4,    0.038,4,    4.439,4,    7.361,2,   2151.6,2,   2262.0,2, 20020712,       33
  18HU20020623, AR07W,   327,  1, 254381,      3,2,20020712,0031, 56.9998, -44.0037, 3335,   3310.8,   2.4327,  34.9049,2,  34.9054,2,    276.2,2,   -999.0,9,    14.54,6,    15.71,6,     1.11,6,    2.346,2,    0.991,4,    0.088,4,    3.305,4,    6.178,2,   2151.8,2,   2267.1,2, 20020712,       35
  18HU20020623, AR07W,   327,  1, 254382,      4,2,20020712,0031, 56.9998, -44.0037, 3335,   3200.5,   2.5642,  34.9099,2,  34.9106,6,    274.6,2,   -999.0,9,    13.92,6,    15.70,6,     1.11,6,    2.031,2,    0.875,4,    0.152,4,    2.873,4,    5.557,2,   2150.6,2,   2272.4,2, 20020712,       37
  18HU20020623, AR07W,   327,  1, 254383,      5,2,20020712,0031, 56.9998, -44.0037, 3335,   3081.3,   2.6590,  34.9139,2,  34.9138,2,    273.2,2,   -999.0,9,    13.47,6,    15.97,6,     1.14,6,    2.163,2,    0.869,4,    0.116,4,    3.184,4,    6.088,2,   2152.7,2,   2262.3,2, 20020712,       39
  18HU20020623, AR07W,   327,  1, 254384,      6,2,20020712,0031, 56.9998, -44.0037, 3335,   2951.2,   2.7658,  34.9165,2,  34.9166,6,    272.1,2,   -999.0,9,    13.45,6,    16.10,6,     1.13,6,    2.177,2,    1.077,4,    0.118,4,    3.060,4,    5.931,2,   2154.5,2,   2266.1,2, 20020712,       42
  18HU20020623, AR07W,   327,  1, 254385,      7,2,20020712,0031, 56.9998, -44.0037, 3335,   2791.4,   2.8536,  34.9150,2,  34.9158,6,    271.3,2,   -999.0,9,    12.93,6,    16.07,6,     1.13,6,    1.952,2,    0.730,4,    0.155,4,    2.830,4,    5.712,2,   2151.2,2,   2256.9,2, 20020712,       44
  18HU20020623, AR07W,   327,  1, 254386,      8,2,20020712,0031, 56.9998, -44.0037, 3335,   2610.6,   2.9374,  34.9093,2,  34.9101,6,    271.3,2,   -999.0,9,    12.28,6,    16.01,6,     1.15,6,    2.388,2,    1.068,4,    0.132,4,    3.334,4,    6.535,2,   2150.1,2,   2264.1,2, 20020712,       47
  18HU20020623, AR07W,   327,  1, 254387,      9,2,20020712,0031, 56.9998, -44.0037, 3335,   2411.1,   3.0370,  34.9024,2,  34.9022,6,    271.8,2,   -999.0,9,    11.50,6,    16.04,6,     1.15,6,    2.660,2,    1.377,4,    0.274,4,    3.644,4,    7.344,2,   2150.1,2,   2262.6,2, 20020712,       50
  18HU20020623, AR07W,   327,  1, 254388,     10,2,20020712,0031, 56.9998, -44.0037, 3335,   2131.4,   3.0713,  34.8835,2,  34.8831,6,    274.9,2,   -999.0,9,    10.94,6,    16.27,6,     1.14,6,    3.092,2,    1.232,4,    0.184,4,    4.654,4,    9.517,2,   2148.7,2,   2236.7,3, 20020712,       57
  18HU20020623, AR07W,   327,  1, 254389,     11,2,20020712,0031, 56.9998, -44.0037, 3335,   1851.1,   3.0915,  34.8689,2,  34.8692,6,    276.2,2,   -999.0,9,    10.45,6,    16.27,6,     1.15,6,    3.952,2,    1.603,4,    0.231,4,    5.259,4,   10.567,2,   2148.4,2,   2271.5,2, 20020712,      101
  18HU20020623, AR07W,   327,  1, 254390,     12,2,20020712,0031, 56.9998, -44.0037, 3335,   1650.8,   3.1906,  34.8742,2,  34.8737,2,    273.3,2,   -999.0,9,    10.40,6,    16.47,6,     1.18,6,    3.964,2,    1.928,4,    0.335,4,    5.194,4,   10.478,2,   2149.2,2,   2260.4,2, 20020712,      104
  18HU20020623, AR07W,   327,  1, 254391,     13,2,20020712,0031, 56.9998, -44.0037, 3335,   1451.4,   3.3397,  34.8800,2,  34.8806,2,    269.0,2,   -999.0,9,    10.36,6,    16.85,6,     1.17,6,    4.019,2,    1.942,4,    0.236,4,    5.186,4,   10.065,2,   2150.3,2,   2255.9,2, 20020712,      107
  18HU20020623, AR07W,   327,  1, 254392,     14,2,20020712,0031, 56.9998, -44.0037, 3335,   1305.7,   3.4084,  34.8796,2,  34.8798,2,    267.5,2,   -999.0,9,    10.44,6,    16.65,6,     1.16,6,    4.239,2,    2.209,4,    0.304,4,    5.479,4,    9.977,2,   2152.2,2,   2241.2,2, 20020712,      109
  18HU20020623, AR07W,   327,  1, 254393,     15,2,20020712,0031, 56.9998, -44.0037, 3335,   1150.8,   3.3871,  34.8608,2,  34.8611,2,    271.0,2,   -999.0,9,     9.71,6,    16.23,6,     1.16,6,    4.973,2,    2.377,4,    0.453,4,    6.751,4,    9.569,2,   2150.0,2,   2259.6,2, 20020712,      112
  18HU20020623, AR07W,   327,  1, 254394,     16,2,20020712,0031, 56.9998, -44.0037, 3335,    975.6,   3.2619,  34.8343,2,  34.8340,2,    280.1,2,   -999.0,9,     8.83,6,    15.57,6,     1.14,6,    5.711,2,    2.604,4,    0.367,4,    7.730,4,    7.791,2,   2147.2,2,   2252.0,2, 20020712,      115
  18HU20020623, AR07W,   327,  1, 254395,     17,2,20020712,0031, 56.9998, -44.0037, 3335,    751.2,   3.3130,  34.8364,2,  34.8357,2,    283.9,2,   -999.0,9,     8.59,6,    15.77,6,     1.12,6,    6.202,2,    2.859,4,    0.279,4,    8.624,4,    7.094,2,   2146.3,2,   2260.1,2, 20020712,      119
  18HU20020623, AR07W,   327,  1, 254396,     18,2,20020712,0031, 56.9998, -44.0037, 3335,    511.4,   3.3718,  34.8382,2,  34.8373,2,    282.6,2,   -999.0,9,     8.64,6,    15.37,6,     1.14,6,    6.171,2,    2.952,4,    0.461,4,    8.703,4,    6.952,2,   2147.6,2,   2246.4,2, 20020712,      122
  18HU20020623, AR07W,   327,  1, 254397,     19,2,20020712,0031, 56.9998, -44.0037, 3335,    359.4,   3.3904,  34.8284,2,  34.8265,2,    280.1,2,   -999.0,9,     8.53,6,    15.77,6,     1.14,6,    6.115,2,    2.750,4,    0.449,4,    8.540,4,    6.805,2,   2147.6,2,   2231.4,2, 20020712,      125
  18HU20020623, AR07W,   327,  1, 254398,     20,2,20020712,0031, 56.9998, -44.0037, 3335,    241.5,   3.3125,  34.7944,2,  34.7942,2,    278.5,2,   -999.0,9,     8.65,6,    15.94,6,     1.14,6,    6.399,2,    3.042,4,    0.427,4,    9.000,4,    6.627,2,   2148.5,2,   2258.6,2, 20020712,      128
  18HU20020623, AR07W,   327,  1, 254399,     21,2,20020712,0031, 56.9998, -44.0037, 3335,    140.8,   3.3121,  34.7513,2,  34.7526,2,    281.3,2,   -999.0,9,     8.22,6,    15.82,6,     1.16,6,    6.769,2,    3.288,4,    0.572,4,    9.901,4,    6.001,2,   2147.7,2,   2257.1,2, 20020712,      129
  18HU20020623, AR07W,   327,  1, 254400,     22,2,20020712,0031, 56.9998, -44.0037, 3335,     70.1,   4.0987,  34.6938,2,-999.0000,9,    289.3,2,   -999.0,9,     4.97,6,    11.89,6,     1.03,6,    6.830,2,    3.059,4,    0.359,4,   10.290,4,    4.814,2,   2135.3,2,   2247.8,2, 20020712,      131
  18HU20020623, AR07W,   327,  1, 254401,     23,2,20020712,0031, 56.9998, -44.0037, 3335,     35.3,   6.3008,  34.6240,2,-999.0000,9,    292.9,2,   -999.0,9,     0.50,6,     6.23,6,     0.59,6,    6.488,2,    2.940,4,    0.373,4,   10.313,4,    4.122,2,   2093.4,2,   2252.2,2, 20020712,      132
  18HU20020623, AR07W,   331,  1, 254403,      1,2,20020712,0540, 56.5017, -44.0013, 3300,   3398.0,   2.1998,  34.8953,2,  34.8961,2,    280.5,2,   -999.0,9,    14.43,6,    15.54,6,     1.18,6,    2.915,2,    1.630,4,    0.121,4,    2.959,4,    5.035,2,   2156.4,2,   2265.1,2, 20020712,      540
  18HU20020623, AR07W,   331,  1, 254404,      2,2,20020712,0540, 56.5017, -44.0013, 3300,   3369.5,   2.2515,  34.8975,2,  34.8977,2,    279.4,2,   -999.0,9,    14.59,6,    15.85,6,     1.17,6,    2.735,2,    1.591,4,    0.132,4,    2.759,4,    4.904,2,   2156.2,2,   2267.2,2, 20020712,      542
  18HU20020623, AR07W,   331,  1, 254405,      3,2,20020712,0540, 56.5017, -44.0013, 3300,   3280.6,   2.3432,  34.9017,2,  34.9024,2,    276.8,2,   -999.0,9,    15.08,6,    16.07,6,     1.21,6,    2.452,2,    1.463,4,    0.123,4,    2.541,4,    4.699,2,   2156.0,2,   2270.1,2, 20020712,      544
  18HU20020623, AR07W,   331,  1, 254406,      4,2,20020712,0540, 56.5017, -44.0013, 3300,   3178.9,   2.4267,  34.9063,2,  34.9059,2,    274.4,2,   -999.0,9,    15.21,6,    16.14,6,     1.21,6,    2.310,2,    1.339,4,    0.103,4,    2.446,4,    4.500,2,   2156.8,2,   2261.4,2, 20020712,      546
  18HU20020623, AR07W,   331,  1, 254407,      5,2,20020712,0540, 56.5017, -44.0013, 3300,   3058.9,   2.5314,  34.9111,2,  34.9124,6,    273.4,2,   -999.0,9,    14.37,6,    16.13,6,     1.23,6,    2.240,2,    1.353,4,    0.099,4,    2.373,4,    4.393,2,   2156.6,2,   2270.4,2, 20020712,      549
  18HU20020623, AR07W,   331,  1, 254408,      6,2,20020712,0540, 56.5017, -44.0013, 3300,   2915.3,   2.7027,  34.9203,2,  34.9204,6,    271.1,2,   -999.0,9,    13.81,6,    16.18,6,     1.23,6,    2.152,2,    1.336,4,    0.085,4,    2.258,4,    4.276,2,   2155.6,2,   2271.4,2, 20020712,      551
  18HU20020623, AR07W,   331,  1, 254409,      7,2,20020712,0540, 56.5017, -44.0013, 3300,   2769.4,   2.7889,  34.9190,2,  34.9189,2,    270.4,2,   -999.0,9,    13.22,6,    16.18,6,     1.23,6,    2.215,2,    1.320,4,    0.084,4,    2.338,4,    4.441,2,   2155.6,2,   2273.0,2, 20020712,      554
  18HU20020623, AR07W,   331,  1, 254410,      8,2,20020712,0540, 56.5017, -44.0013, 3300,   2580.1,   2.8968,  34.9130,2,  34.9128,2,    270.6,2,   -999.0,9,    12.49,6,    16.10,6,     1.23,6,    2.366,2,    1.417,4,    0.097,4,    2.443,4,    4.690,2,   2154.0,2,   2272.8,2, 20020712,      557
  18HU20020623, AR07W,   331,  1, 254411,      9,2,20020712,0540, 56.5017, -44.0013, 3300,   2380.1,   3.0541,  34.9151,2,  34.9150,2,    269.4,2,   -999.0,9,    11.86,6,    16.42,6,     1.24,6,    2.465,6,    1.495,4,    0.048,4,    2.548,4,    5.110,6,   2154.8,2,   2263.6,2, 20020712,      601
  18HU20020623, AR07W,   331,  1, 254412,     10,2,20020712,0540, 56.5017, -44.0013, 3300,   2159.2,   3.0609,  34.8930,2,  34.8930,2,    272.9,2,   -999.0,9,    10.87,6,    16.57,6,     1.24,6,    3.072,2,    1.704,4,    0.141,4,    3.076,4,    6.173,2,   2152.3,2,   2280.2,2, 20020712,      604
  18HU20020623, AR07W,   331,  1, 254413,     11,2,20020712,0540, 56.5017, -44.0013, 3300,   1927.6,   3.0981,  34.8828,2,-999.0000,9,    274.1,2,   -999.0,9,  -999.00,9,  -999.00,9,  -999.00,9, -999.000,9, -999.000,9, -999.000,9, -999.000,9, -999.000,9,   -999.0,9,   -999.0,9, 20020712,      609
  18HU20020623, AR07W,   331,  1, 254414,     12,2,20020712,0540, 56.5017, -44.0013, 3300,   1681.0,   3.1432,  34.8732,2,  34.8737,2,    274.1,2,   -999.0,9,    10.17,6,    16.82,6,     1.24,6,    3.752,2,    2.025,4,    0.188,4,    3.588,4,    7.377,2,   2151.7,2,   2249.7,2, 20020712,      613
  18HU20020623, AR07W,   331,  1, 254415,     13,2,20020712,0540, 56.5017, -44.0013, 3300,   1470.0,   3.2297,  34.8770,2,  34.8770,2,    271.2,2,   -999.0,9,    10.09,6,    16.86,6,     1.25,6,    3.687,2,    2.012,4,    0.191,4,    3.567,4,    7.322,2,   2153.9,2,   2262.5,2, 20020712,      617
  18HU20020623, AR07W,   331,  1, 254416,     14,2,20020712,0540, 56.5017, -44.0013, 3300,   1249.6,   3.3873,  34.8864,2,  34.8865,2,    266.4,2,   -999.0,9,    10.08,6,    16.93,6,     1.26,6,    3.594,2,    1.918,4,    0.183,4,    3.400,4,    6.827,2,   2154.6,2,   2267.6,2, 20020712,      621
  18HU20020623, AR07W,   331,  1, 254417,     15,2,20020712,0540, 56.5017, -44.0013, 3300,   1051.5,   3.5027,  34.8835,2,  34.8827,2,    264.8,2,   -999.0,9,     9.72,6,    16.79,6,     1.27,6,    4.009,2,    2.159,4,    0.223,4,    3.660,4,    6.646,2,   2156.5,2,   2269.9,2, 20020712,      624
  18HU20020623, AR07W,   331,  1, 254418,     16,2,20020712,0540, 56.5017, -44.0013, 3300,    849.9,   3.5224,  34.8714,2,  34.8711,2,    266.5,2,   -999.0,9,     9.35,6,    16.59,6,     1.26,6,    4.393,2,    2.379,4,    0.243,4,    4.063,4,    6.471,2,   2154.8,2,   2261.2,2, 20020712,      628
  18HU20020623, AR07W,   331,  1, 254419,     17,2,20020712,0540, 56.5017, -44.0013, 3300,    669.8,   3.5899,  34.8655,2,  34.8652,2,    267.9,2,   -999.0,9,     9.01,6,    16.34,6,     1.25,6,    4.576,2,    2.404,4,    0.269,4,    4.091,4,    5.679,2,   2154.0,2,   2273.7,2, 20020712,      631
  18HU20020623, AR07W,   331,  1, 254420,     18,2,20020712,0540, 56.5017, -44.0013, 3300,    510.5,   3.7460,  34.8699,2,  34.8696,2,    263.6,2,   -999.0,9,     8.96,6,    16.90,6,     1.26,6,    4.640,2,    2.414,4,    0.302,4,    4.136,4,    5.704,2,   2157.3,2,   2261.1,2, 20020712,      633
  18HU20020623, AR07W,   331,  1, 254421,     19,2,20020712,0540, 56.5017, -44.0013, 3300,    390.0,   3.9663,  34.8744,2,  34.8733,2,    256.0,2,   -999.0,9,     9.17,6,    17.23,6,     1.27,6,    4.476,2,    2.428,4,    0.256,4,    4.028,4,    5.628,2,   2159.1,2,   2269.1,2, 20020712,      636
  18HU20020623, AR07W,   331,  1, 254422,     20,2,20020712,0540, 56.5017, -44.0013, 3300,    238.9,   3.8857,  34.7973,2,  34.8021,2,    261.6,2,   -999.0,9,     8.50,6,    16.69,6,     1.27,6,    4.729,2,    2.499,4,    0.291,4,    4.340,4,    4.437,2,   2155.2,2,   2262.7,2, 20020712,      639
  18HU20020623, AR07W,   331,  1, 254423,     21,2,20020712,0540, 56.5017, -44.0013, 3300,    140.0,   4.0224,  34.7321,2,  34.7317,2,    279.6,2,   -999.0,9,     7.13,6,    15.44,6,     1.20,6,    5.502,2,    2.805,4,    0.418,4,    5.509,4,    3.625,2,   2143.7,2,   2253.9,2, 20020712,      641
  18HU20020623, AR07W,   331,  1, 254424,     22,2,20020712,0540, 56.5017, -44.0013, 3300,     70.8,   4.4027,  34.6815,2,  34.6796,2,    280.7,2,   -999.0,9,     6.51,6,    13.62,6,     1.21,6,    5.814,2,    2.976,4,    0.392,4,    6.110,4,    3.544,2,   2140.3,2,   2261.9,2, 20020712,      642
  18HU20020623, AR07W,   331,  1, 254425,     23,2,20020712,0540, 56.5017, -44.0013, 3300,     35.5,   6.5230,  34.6448,2,  34.6295,2,    288.8,2,   -999.0,9,     0.00,6,     5.16,6,     0.62,6,    5.252,2,    2.755,4,    0.362,4,    5.418,4,    2.864,2,   2090.9,2,   2273.1,2, 20020712,      643
  18HU20020623, AR07W,   331,  1, 254426,     24,2,20020712,0540, 56.5017, -44.0013, 3300,      5.0,   7.1843,  34.6000,2,  34.6005,2,    287.4,2,   -999.0,9,     0.00,6,     4.81,6,     0.59,6,    5.104,2,    2.721,4,    0.420,4,    5.272,4,    2.701,2,   2083.1,2,   2263.5,2, 20020712,      644
  18HU20020623, AR07W,   334,  1, 254427,      1,2,20020712,1119, 56.0027, -44.0150, 3282,    199.8,   3.5226,  34.7502,2,-999.0000,9,    276.8,2,   -999.0,9,     7.92,6,    16.09,6,     1.19,6, -999.000,9, -999.000,9, -999.000,9, -999.000,9, -999.000,9,   -999.0,9,   -999.0,9, 20020712,     1119
  18HU20020623, AR07W,   334,  1, 254428,      2,2,20020712,1119, 56.0027, -44.0150, 3282,    150.9,   3.5466,  34.7256,2,-999.0000,9,    279.3,2,   -999.0,9,     7.62,6,    16.11,6,     1.18,6, -999.000,9, -999.000,9, -999.000,9, -999.000,9, -999.000,9,   -999.0,9,   -999.0,9, 20020712,     1120
  18HU20020623, AR07W,   334,  1, 254429,      3,2,20020712,1119, 56.0027, -44.0150, 3282,     99.9,   3.8507,  34.6881,2,-999.0000,9,    284.3,2,   -999.0,9,     6.80,6,    15.43,6,     1.16,6, -999.000,9, -999.000,9, -999.000,9, -999.000,9, -999.000,9,   -999.0,9,   -999.0,9, 20020712,     1122
  18HU20020623, AR07W,   334,  1, 254430,      4,2,20020712,1119, 56.0027, -44.0150, 3282,     81.1,   4.2560,  34.6769,2,-999.0000,9,    288.7,2,   -999.0,9,     5.08,6,    11.98,6,     1.07,6, -999.000,9, -999.000,9, -999.000,9, -999.000,9, -999.000,9,   -999.0,9,   -999.0,9, 20020712,     1123
  18HU20020623, AR07W,   334,  1, 254431,      5,2,20020712,1119, 56.0027, -44.0150, 3282,     61.1,   4.9283,  34.6584,2,-999.0000,9,    291.6,2,   -999.0,9,     2.78,6,     8.96,6,     0.91,6, -999.000,9, -999.000,9, -999.000,9, -999.000,9, -999.000,9,   -999.0,9,   -999.0,9, 20020712,     1123
  18HU20020623, AR07W,   334,  1, 254432,      6,2,20020712,1119, 56.0027, -44.0150, 3282,     51.1,   5.5886,  34.6513,2,-999.0000,9,    292.0,2,   -999.0,9,     1.26,6,     6.69,6,     0.75,6, -999.000,9, -999.000,9, -999.000,9, -999.000,9, -999.000,9,   -999.0,9,   -999.0,9, 20020712,     1124
  18HU20020623, AR07W,   334,  1, 254433,      7,2,20020712,1119, 56.0027, -44.0150, 3282,     41.1,   6.3887,  34.6304,2,-999.0000,9,    290.7,2,   -999.0,9,     0.00,6,     5.02,6,     0.62,6, -999.000,9, -999.000,9, -999.000,9, -999.000,9, -999.000,9,   -999.0,9,   -999.0,9, 20020712,     1125
  18HU20020623, AR07W,   334,  1, 254434,      8,2,20020712,1119, 56.0027, -44.0150, 3282,     31.0,   6.7668,  34.6132,2,-999.0000,9,    290.1,2,   -999.0,9,     0.00,6,     4.37,6,     0.54,6, -999.000,9, -999.000,9, -999.000,9, -999.000,9, -999.000,9,   -999.0,9,   -999.0,9, 20020712,     1125
  18HU20020623, AR07W,   334,  1, 254435,      9,2,20020712,1119, 56.0027, -44.0150, 3282,     20.3,   7.0315,  34.5972,2,-999.0000,9,    289.7,2,   -999.0,9,     0.00,6,     4.35,6,     0.49,6, -999.000,9, -999.000,9, -999.000,9, -999.000,9, -999.000,9,   -999.0,9,   -999.0,9, 20020712,     1126
  18HU20020623, AR07W,   334,  1, 254436,     10,2,20020712,1119, 56.0027, -44.0150, 3282,     10.5,   7.0429,  34.5965,2,-999.0000,9,    290.8,2,   -999.0,9,     0.00,6,     4.40,6,     0.48,6, -999.000,9, -999.000,9, -999.000,9, -999.000,9, -999.000,9,   -999.0,9,   -999.0,9, 20020712,     1127
  18HU20020623, AR07W,   334,  1, 254437,     11,2,20020712,1119, 56.0027, -44.0150, 3282,     10.9,   7.0437,  34.5955,2,-999.0000,9,    290.8,2,   -999.0,9,  -999.00,9,  -999.00,9,  -999.00,9, -999.000,9, -999.000,9, -999.000,9, -999.000,9, -999.000,9,   -999.0,9,   -999.0,9, 20020712,     1127
  18HU20020623, AR07W,   334,  1, 254438,     12,2,20020712,1119, 56.0027, -44.0150, 3282,     11.0,   7.0435,  34.5967,2,-999.0000,9,    290.9,2,   -999.0,9,  -999.00,9,  -999.00,9,  -999.00,9, -999.000,9, -999.000,9, -999.000,9, -999.000,9, -999.000,9,   -999.0,9,   -999.0,9, 20020712,     1127
  18HU20020623, AR07W,   334,  1, 254439,     13,2,20020712,1119, 56.0027, -44.0150, 3282,     10.8,   7.0434,  34.5961,2,-999.0000,9,    290.7,2,   -999.0,9,  -999.00,9,  -999.00,9,  -999.00,9, -999.000,9, -999.000,9, -999.000,9, -999.000,9, -999.000,9,   -999.0,9,   -999.0,9, 20020712,     1127
  18HU20020623, AR07W,   334,  1, 254440,     14,2,20020712,1119, 56.0027, -44.0150, 3282,     11.1,   7.0436,  34.5964,2,-999.0000,9,    290.7,2,   -999.0,9,  -999.00,9,  -999.00,9,  -999.00,9, -999.000,9, -999.000,9, -999.000,9, -999.000,9, -999.000,9,   -999.0,9,   -999.0,9, 20020712,     1127
  18HU20020623, AR07W,   334,  1, 254441,     15,2,20020712,1119, 56.0027, -44.0150, 3282,     11.1,   7.0436,  34.5964,2,-999.0000,9,    290.8,2,   -999.0,9,  -999.00,9,  -999.00,9,  -999.00,9, -999.000,9, -999.000,9, -999.000,9, -999.000,9, -999.000,9,   -999.0,9,   -999.0,9, 20020712,     1127
  18HU20020623, AR07W,   334,  1, 254442,     16,2,20020712,1119, 56.0027, -44.0150, 3282,      2.0,   7.0913,  34.5710,2,-999.0000,9,    290.2,2,   -999.0,9,     0.00,6,     4.33,6,     0.47,6, -999.000,9, -999.000,9, -999.000,9, -999.000,9, -999.000,9,   -999.0,9,   -999.0,9, 20020712,     1129
  18HU20020623, AR07W,   334,  1, 254443,     17,2,20020712,1119, 56.0027, -44.0150, 3282,      2.2,   7.0973,  34.5698,2,-999.0000,9,    290.4,2,   -999.0,9,  -999.00,9,  -999.00,9,  -999.00,9, -999.000,9, -999.000,9, -999.000,9, -999.000,9, -999.000,9,   -999.0,9,   -999.0,9, 20020712,     1129