BOTTLE,20130611PRINUNIVRMK
EXPOCODE,SECT_ID,STNNBR,CASTNO,SAMPNO,BTLNBR,BTLNBR_FLAG_W,DATE,TIME,LATITUDE,LONGITUDE,DEPTH,CTDPRS,CTDTMP,CTDSAL,CTDSAL_FLAG_W,SALNTY,SALNTY_FLAG_W,CTDOXY,CTDOXY_FLAG_W,OXYGEN,OXYGEN_FLAG_W,SILCAT,SILCAT_FLAG_W,NITRAT,NITRAT_FLAG_W,PHSPHT,PHSPHT_FLAG_W,CFC-11,CFC-11_FLAG_W,CFC-12,CFC-12_FLAG_W,CFC113,CFC113_FLAG_W,CCL4,CCL4_FLAG_W,MCHFRM,MCHFRM_FLAG_W,TCARBN,TCARBN_FLAG_W,ALKALI,ALKALI_FLAG_W,BTL_DATE,BTL_TIME
,,,,,,,,,,,METERS,DBAR,ITS-90,PSS-78,,PSS-78,,UMOL/KG,,UMOL/KG,,UMOL/KG,,UMOL/KG,,UMOL/KG,,PMOL/KG,,PMOL/KG,,PMOL/KG,,PMOL/KG,,PMOL/KG,,UMOL/KG,,UMOL/KG,,,
  18HU20020623, AR07W,   193,  1, 253870,      1,2,20020707,0013, 58.6388, -50.4057, 3435,   3566.5,   1.5516,  34.8752,2,  34.8749,2,    292.6,2,    296.7,2,    10.62,6,    13.81,6,     1.03,6,    4.454,2,    2.286,4,    0.434,4,    5.365,4,    7.890,2,   2151.4,2,   2299.3,2, 20020707,       13
  18HU20020623, AR07W,   193,  1, 253871,      2,2,20020707,0013, 58.6388, -50.4057, 3435,   3499.9,   1.6176,  34.8768,2,  34.8768,2,    292.0,2,    295.0,2,    10.03,6,    13.86,6,     1.02,6,    4.322,2,    2.341,4,    0.409,4,    5.449,4,    7.917,2,   2156.8,2,   2298.6,2, 20020707,       15
  18HU20020623, AR07W,   193,  1, 253872,      3,2,20020707,0013, 58.6388, -50.4057, 3435,   3409.6,   1.8734,  34.8789,2,  34.8788,2,    288.8,2,    291.9,2,    10.36,6,    14.22,6,     1.06,6,    3.984,2,    2.056,4,    0.374,4,    5.332,4,    7.869,2,   2155.2,2,   2287.1,2, 20020707,       18
  18HU20020623, AR07W,   193,  1, 253873,      4,2,20020707,0013, 58.6388, -50.4057, 3435,   3300.7,   2.2141,  34.8893,2,  34.8894,2,    281.2,2,    284.8,2,    12.59,6,    15.01,6,     1.11,6,    2.943,2,    1.658,4,    0.326,4,    3.830,4,    6.659,2,   2159.4,2,   2320.3,2, 20020707,       21
  18HU20020623, AR07W,   193,  1, 253874,      5,2,20020707,0013, 58.6388, -50.4057, 3435,   3179.9,   2.4533,  34.8997,2,  34.9000,2,    277.3,2,    280.7,2,    13.04,6,    15.36,6,     1.12,6,    2.497,2,    1.509,4,    0.107,4,    3.347,4,    6.125,2,   2160.6,2,   2287.6,2, 20020707,       23
  18HU20020623, AR07W,   193,  1, 253875,      6,2,20020707,0013, 58.6388, -50.4057, 3435,   3040.0,   2.6190,  34.9045,2,  34.9056,6,    274.8,2,    279.1,2,    12.71,6,    15.62,6,     1.14,6,    2.498,2,    1.305,4,    0.151,4,    3.464,4,    6.082,2,   2160.5,2,   2300.0,2, 20020707,       26
  18HU20020623, AR07W,   193,  1, 253876,      7,2,20020707,0013, 58.6388, -50.4057, 3435,   2900.4,   2.7699,  34.9081,2,  34.9079,2,    273.8,2,    278.8,2,    12.13,6,    15.70,6,     1.15,6,    2.532,2,    1.543,4,    0.301,4,    3.330,4,    6.203,2,   2159.8,2,   2313.1,2, 20020707,       28
  18HU20020623, AR07W,   193,  1, 253877,      8,2,20020707,0013, 58.6388, -50.4057, 3435,   2711.2,   2.9184,  34.9048,2,  34.9042,2,    272.8,2,   -999.0,9,    11.91,6,    16.00,6,     1.16,6,    2.557,2,    1.484,4,    0.294,4,    3.387,4,    6.629,2,   2158.2,2,   2272.9,3, 20020707,       31
  18HU20020623, AR07W,   193,  1, 253878,      9,2,20020707,0013, 58.6388, -50.4057, 3435,   2500.4,   3.0292,  34.8987,2,  34.8987,2,    272.8,2,    279.2,2,    11.70,6,    16.36,6,     1.17,6,    0.000,4,    2.128,4,    0.000,4,    0.978,4,    1.382,2,   2158.8,2,   2310.6,2, 20020707,       35
  18HU20020623, AR07W,   193,  1, 253879,     10,2,20020707,0013, 58.6388, -50.4057, 3435,   2270.9,   3.0799,  34.8811,2,  34.8823,6,    275.5,2,    283.3,2,    11.00,6,    16.36,6,     1.17,6,    3.548,2,    0.000,4,    0.443,4,    4.648,4,    9.313,2,   2157.4,2,   2303.2,2, 20020707,       38
  18HU20020623, AR07W,   193,  1, 253880,     11,2,20020707,0013, 58.6388, -50.4057, 3435,   2031.4,   3.1093,  34.8695,2,  34.8703,2,    276.8,2,    285.8,2,    10.66,6,    16.50,6,     1.18,6,    3.695,2,    1.930,4,    0.351,4,    4.705,4,    9.834,2,   2157.7,2,   2274.1,2, 20020707,       42
  18HU20020623, AR07W,   193,  1, 253881,     12,2,20020707,0013, 58.6388, -50.4057, 3435,   1790.8,   3.2429,  34.8747,2,  34.8747,2,    272.9,2,    282.5,2,    10.71,6,    16.67,6,     1.19,6,    0.000,4,    0.938,4,    0.000,4,    1.326,4,    1.448,2,   2158.8,2,   2297.7,2, 20020707,       47
  18HU20020623, AR07W,   193,  1, 253882,     13,2,20020707,0013, 58.6388, -50.4057, 3435,   1529.2,   3.4340,  34.8810,2,  34.8814,2,    269.0,2,    279.0,6,    10.43,6,    16.66,6,     1.19,6,    4.322,2,    2.209,4,    0.256,4,    5.569,4,    9.978,2,   2159.5,2,   2283.7,2, 20020707,       51
  18HU20020623, AR07W,   193,  1, 253883,     14,2,20020707,0013, 58.6388, -50.4057, 3435,   1289.1,   3.2503,  34.8380,2,  34.8377,2,    281.8,2,    294.1,2,     9.11,6,    15.69,6,     1.15,6,    5.684,2,    2.966,4,    0.528,4,    7.753,4,    7.701,2,   2157.8,2,   2257.1,3, 20020707,       54
  18HU20020623, AR07W,   193,  1, 253884,     15,2,20020707,0013, 58.6388, -50.4057, 3435,   1090.6,   3.1772,  34.8245,2,  34.8239,2,    284.7,2,    298.4,2,     8.81,6,    15.52,6,     1.15,6,    5.930,2,    2.914,4,    0.472,4,    7.915,4,    7.095,2,   2156.4,2,   2278.0,2, 20020707,       58
  18HU20020623, AR07W,   193,  1, 253885,     16,2,20020707,0013, 58.6388, -50.4057, 3435,    900.4,   3.1969,  34.8260,2,-999.0000,9,    283.4,2,   -999.0,9,  -999.00,9,  -999.00,9,  -999.00,9, -999.000,9, -999.000,9, -999.000,9, -999.000,9, -999.000,9,   -999.0,9,   -999.0,9, 20020707,      101
  18HU20020623, AR07W,   193,  1, 253886,     17,2,20020707,0013, 58.6388, -50.4057, 3435,    700.6,   3.2300,  34.8282,2,-999.0000,9,    283.2,2,   -999.0,9,  -999.00,9,  -999.00,9,  -999.00,9, -999.000,9, -999.000,9, -999.000,9, -999.000,9, -999.000,9,   -999.0,9,   -999.0,9, 20020707,      104
  18HU20020623, AR07W,   193,  1, 253887,     18,2,20020707,0013, 58.6388, -50.4057, 3435,    510.4,   3.2243,  34.8230,2,  34.8216,2,    283.0,2,    298.0,2,     8.80,6,    15.62,6,     1.13,6,    5.963,2,    3.050,4,    0.571,4,    7.990,4,    6.408,2,   2154.5,2,   2291.0,2, 20020707,      107
  18HU20020623, AR07W,   193,  1, 253888,     19,2,20020707,0013, 58.6388, -50.4057, 3435,    361.5,   3.2132,  34.8161,2,  34.8143,2,    282.5,2,    298.2,2,     6.87,3,    12.04,4,     1.00,3,    6.392,2,    3.225,4,    0.271,4,    8.909,4,    6.878,2,   2156.0,2,   2285.9,2, 20020707,      109
  18HU20020623, AR07W,   193,  1, 253889,     20,2,20020707,0013, 58.6388, -50.4057, 3435,    239.9,   3.2278,  34.8087,2,  34.8078,2,    282.6,2,    298.6,2,     8.64,6,    15.54,6,     1.12,6,    6.423,2,    3.245,4,    0.515,4,    9.064,4,    6.496,2,   2155.9,2,   2292.2,2, 20020707,      111
  18HU20020623, AR07W,   193,  1, 253890,     21,2,20020707,0013, 58.6388, -50.4057, 3435,    142.1,   3.5431,  34.8235,2,  34.8180,2,    282.4,2,    299.0,2,     8.45,6,    15.60,6,     1.14,6,    6.251,2,    3.086,4,    0.515,4,    8.925,4,    5.733,2,   2155.0,2,   2285.9,2, 20020707,      113
  18HU20020623, AR07W,   193,  1, 253891,     22,2,20020707,0013, 58.6388, -50.4057, 3435,     69.8,   3.8359,  34.7622,2,  34.7628,2,    290.8,2,    306.9,2,     7.32,6,    12.52,6,     1.06,6,    6.840,2,    3.434,4,    0.494,4,   10.402,4,    5.196,2,   2144.8,2,   2293.0,2, 20020707,      115
  18HU20020623, AR07W,   193,  1, 253892,     23,2,20020707,0013, 58.6388, -50.4057, 3435,     35.4,   5.6877,  34.7121,2,  34.7133,2,    311.3,2,    329.9,2,     0.41,6,     4.43,6,     0.43,6,    6.527,2,    3.251,4,    0.274,4,   10.376,4,    4.231,2,   2084.8,2,   2287.8,2, 20020707,      116
  18HU20020623, AR07W,   193,  1, 253893,     24,2,20020707,0013, 58.6388, -50.4057, 3435,     12.1,   5.6904,  34.7131,2,  34.7136,2,    311.5,2,    326.9,2,     0.42,6,     4.39,6,     0.41,6,    6.482,2,    3.245,4,    0.519,4,   10.444,4,    4.232,2,   2081.2,2,   2284.8,2, 20020707,      117
  18HU20020623, AR07W,   205,  1, 253894,      1,2,20020707,0722, 59.0715, -49.9297, 3401,   3508.5,   1.6038,  34.8798,2,  34.8798,2,    291.6,2,    294.7,2,    10.13,6,    14.35,6,     1.12,6,    4.256,2,    2.129,4,    0.243,4,    4.162,4,    6.349,2,   2157.9,2,   2293.6,2, 20020707,      722
  18HU20020623, AR07W,   205,  1, 253895,      2,2,20020707,0722, 59.0715, -49.9297, 3401,   3438.5,   1.6277,  34.8812,2,  34.8811,2,    290.7,2,    294.6,2,     9.78,6,    14.36,6,     1.09,6,    4.198,2,    2.099,4,    0.256,4,    4.080,4,    6.467,2,   2154.3,2,   2289.7,2, 20020707,      724
  18HU20020623, AR07W,   205,  1, 253896,      3,2,20020707,0722, 59.0715, -49.9297, 3401,   3359.4,   1.9063,  34.8824,2,  34.8825,2,    288.0,2,    292.2,2,    10.34,6,    14.96,6,     1.11,6,    3.847,2,    1.944,4,    0.243,4,    3.832,4,    6.218,2,   2156.2,2,   2291.8,2, 20020707,      727
  18HU20020623, AR07W,   205,  1, 253897,      4,2,20020707,0722, 59.0715, -49.9297, 3401,   3246.8,   2.1572,  34.8883,2,  34.8882,2,    282.7,2,    287.7,2,    11.97,6,    15.49,6,     1.14,6,    3.302,2,    1.712,4,    0.180,4,    3.418,4,    5.924,2,   2152.8,2,   2307.9,2, 20020707,      729
  18HU20020623, AR07W,   205,  1, 253898,      5,2,20020707,0722, 59.0715, -49.9297, 3401,   3114.2,   2.3707,  34.8946,2,  34.8951,2,    279.3,2,    284.2,2,    12.21,6,    15.77,6,     1.16,6,    2.980,2,    1.549,4,    0.174,4,    3.099,4,    5.476,2,   2157.3,2,   2302.2,2, 20020707,      732
  18HU20020623, AR07W,   205,  1, 253899,      6,2,20020707,0722, 59.0715, -49.9297, 3401,   2979.9,   2.5597,  34.9005,2,  34.9007,6,    276.1,2,    281.9,2,    12.06,6,    15.93,6,     1.17,6,    2.841,2,    1.500,4,    0.000,4,    2.951,4,    5.402,2,   2156.2,2,   2294.1,2, 20020707,      735
  18HU20020623, AR07W,   205,  1, 253900,      7,2,20020707,0722, 59.0715, -49.9297, 3401,   2852.6,   2.6988,  34.9037,2,  34.9039,2,    274.8,2,    281.1,2,    12.30,6,    16.35,6,     1.18,6,    2.771,2,    1.461,4,    0.132,4,    2.880,4,    5.353,2,   2157.2,2,   2294.3,2, 20020707,      737
  18HU20020623, AR07W,   205,  1, 253901,      8,2,20020707,0722, 59.0715, -49.9297, 3401,   2690.3,   2.8247,  34.9018,2,  34.9019,2,    274.2,2,    280.3,2,    11.80,6,    16.48,6,     1.19,6,    2.848,2,    1.487,4,    0.000,4,    2.922,4,    5.554,2,   2155.1,2,   2296.2,2, 20020707,      740
  18HU20020623, AR07W,   205,  1, 253902,      9,2,20020707,0722, 59.0715, -49.9297, 3401,   2458.7,   2.9786,  34.8965,2,  34.8968,2,    273.7,2,    280.9,2,    11.18,6,    16.44,6,     1.19,6,    3.118,2,    1.608,4,    0.000,4,    3.153,4,    6.269,2,   2151.4,2,   2295.2,2, 20020707,      744
  18HU20020623, AR07W,   205,  1, 253903,     10,2,20020707,0722, 59.0715, -49.9297, 3401,   2208.8,   3.0652,  34.8851,2,  34.8853,6,    274.9,2,    283.6,2,    10.84,6,    16.77,6,     1.19,6,    3.426,2,    1.736,4,    0.172,4,    3.458,4,    7.164,2,   2150.6,2,   2296.8,2, 20020707,      748
  18HU20020623, AR07W,   205,  1, 253904,     11,2,20020707,0722, 59.0715, -49.9297, 3401,   1969.9,   3.1120,  34.8738,2,  34.8748,2,    275.7,2,    285.4,2,    10.45,6,    16.87,6,     1.20,6,    3.771,2,    1.888,4,    0.207,4,    3.682,4,    7.946,2,   2155.0,2,   2283.8,2, 20020707,      752
  18HU20020623, AR07W,   205,  1, 253905,     12,2,20020707,0722, 59.0715, -49.9297, 3401,   1729.9,   3.2463,  34.8810,2,  34.8810,2,    272.4,2,    282.7,2,    10.31,6,    16.89,6,     1.20,6,    3.891,2,    1.947,4,    0.233,4,    3.765,4,    7.845,2,   2155.7,2,   2289.0,2, 20020707,      756
  18HU20020623, AR07W,   205,  1, 253906,     13,2,20020707,0722, 59.0715, -49.9297, 3401,   1410.4,   3.4637,  34.8837,2,  34.8838,2,    269.9,2,    281.0,6,     9.83,6,    16.74,6,     1.20,6,    4.176,2,    2.110,4,    0.269,4,    3.974,4,    6.949,2,   2155.9,2,   2287.9,2, 20020707,      801
  18HU20020623, AR07W,   205,  1, 253907,     14,2,20020707,0722, 59.0715, -49.9297, 3401,   1200.7,   3.4416,  34.8686,2,  34.8682,2,    273.7,2,    286.0,2,     9.27,6,    16.42,6,     1.18,6,    4.644,2,    2.323,4,    0.319,4,    4.504,4,    6.511,2,   2155.6,2,   2290.6,2, 20020707,      805
  18HU20020623, AR07W,   205,  1, 253908,     15,2,20020707,0722, 59.0715, -49.9297, 3401,   1029.4,   3.2711,  34.8362,2,  34.8360,2,    282.3,2,    296.7,2,     8.76,6,    16.38,6,     1.17,6,    5.296,2,    2.634,4,    0.350,4,    5.105,4,    5.587,2,   2153.4,2,   2292.3,2, 20020707,      808
  18HU20020623, AR07W,   205,  1, 253909,     16,2,20020707,0722, 59.0715, -49.9297, 3401,    869.9,   3.4460,  34.8561,2,  34.8572,2,    277.8,2,    291.5,2,     8.81,6,    16.44,6,     1.18,6,    4.997,2,    2.518,4,    0.351,4,    4.835,4,    5.760,2,   2151.1,2,   2288.1,2, 20020707,      811
  18HU20020623, AR07W,   205,  1, 253910,     17,2,20020707,0722, 59.0715, -49.9297, 3401,    678.7,   3.5573,  34.8591,2,  34.8592,2,    279.3,2,    293.7,2,     8.50,6,    16.07,6,     1.17,6,    5.254,2,    2.631,4,    0.431,4,    5.280,4,    5.554,2,   2153.1,2,   2299.1,2, 20020707,      814
  18HU20020623, AR07W,   205,  1, 253911,     18,2,20020707,0722, 59.0715, -49.9297, 3401,    508.7,   3.8022,  34.8758,2,  34.8749,2,    277.8,2,    292.3,2,     8.50,6,    16.49,6,     1.15,6,    4.886,2,    2.481,4,    0.375,4,    4.690,4,    4.701,2,   2152.5,2,   2291.3,2, 20020707,      817
  18HU20020623, AR07W,   205,  1, 253912,     19,2,20020707,0722, 59.0715, -49.9297, 3401,    330.2,   4.0047,  34.8759,2,  34.8753,2,    279.8,2,    294.7,2,     8.10,6,    16.17,6,     1.14,6,    5.292,2,    2.681,4,    0.391,4,    5.328,4,    4.503,2,   2149.0,2,   2291.3,2, 20020707,      821
  18HU20020623, AR07W,   205,  1, 253913,     20,2,20020707,0722, 59.0715, -49.9297, 3401,    239.2,   4.1834,  34.8790,2,  34.8770,2,    280.9,2,    295.5,2,     7.86,6,    15.78,6,     1.12,6,    5.230,2,    2.679,4,    0.339,4,    5.190,4,    4.228,2,   2147.6,2,   2290.8,2, 20020707,      823
  18HU20020623, AR07W,   205,  1, 253914,     21,2,20020707,0722, 59.0715, -49.9297, 3401,    140.4,   4.2008,  34.8535,2,  34.8534,2,    281.0,2,    296.5,2,     7.74,6,    15.62,6,     1.12,6,    5.312,2,    2.678,4,    0.384,4,    5.264,4,    4.016,2,   2143.2,2,   2298.9,2, 20020707,      825
  18HU20020623, AR07W,   205,  1, 253915,     22,2,20020707,0722, 59.0715, -49.9297, 3401,     69.4,   4.1422,  34.7535,2,-999.0000,9,    291.4,2,    308.3,2,     7.00,6,    11.63,6,     1.01,6,    5.952,2,    2.927,4,    0.469,4,    6.470,4,    4.132,2,   2135.1,2,   2284.5,2, 20020707,      827
  18HU20020623, AR07W,   205,  1, 253916,     23,2,20020707,0722, 59.0715, -49.9297, 3401,     30.6,   5.2429,  34.5182,2,-999.0000,9,    304.5,2,    320.1,2,     0.21,6,     4.17,6,     0.49,6,    5.848,2,    2.918,4,    0.414,4,    6.446,4,    3.663,2,   2078.1,2,   2285.5,2, 20020707,      829
  18HU20020623, AR07W,   205,  1, 253917,     24,2,20020707,0722, 59.0715, -49.9297, 3401,      5.6,   5.2718,  34.2217,2,-999.0000,9,    312.4,2,    328.3,2,     0.00,6,     2.10,6,     0.34,6,    5.845,2,    2.882,4,    0.497,4,    6.585,4,    3.608,2,   2042.8,2,   2258.9,2, 20020707,      830
  18HU20020623, AR07W,   211,  1, 253918,      1,2,20020707,1223, 59.4840, -49.4743, 3346,    203.1,   4.1749,  34.8821,2,-999.0000,9,    280.8,2,   -999.0,9,     8.01,6,    15.97,6,     1.14,6, -999.000,9, -999.000,9, -999.000,9, -999.000,9, -999.000,9,   -999.0,9,   -999.0,9, 20020707,     1223
  18HU20020623, AR07W,   211,  1, 253919,      2,2,20020707,1223, 59.4840, -49.4743, 3346,    151.4,   4.4225,  34.8941,2,-999.0000,9,    280.5,2,   -999.0,9,     7.90,6,    15.72,6,     1.09,6, -999.000,9, -999.000,9, -999.000,9, -999.000,9, -999.000,9,   -999.0,9,   -999.0,9, 20020707,     1224
  18HU20020623, AR07W,   211,  1, 253920,      3,2,20020707,1223, 59.4840, -49.4743, 3346,    101.0,   4.0645,  34.8110,2,-999.0000,9,    283.1,2,   -999.0,9,     7.68,6,    15.07,6,     1.09,6, -999.000,9, -999.000,9, -999.000,9, -999.000,9, -999.000,9,   -999.0,9,   -999.0,9, 20020707,     1226
  18HU20020623, AR07W,   211,  1, 253921,      4,2,20020707,1223, 59.4840, -49.4743, 3346,     81.1,   3.9830,  34.7766,2,-999.0000,9,    284.8,2,   -999.0,9,     7.47,6,    13.68,6,     1.07,6, -999.000,9, -999.000,9, -999.000,9, -999.000,9, -999.000,9,   -999.0,9,   -999.0,9, 20020707,     1226
  18HU20020623, AR07W,   211,  1, 253922,      5,2,20020707,1223, 59.4840, -49.4743, 3346,     61.2,   3.9335,  34.7311,2,-999.0000,9,    287.1,2,   -999.0,9,     7.39,6,    12.66,6,     1.04,6, -999.000,9, -999.000,9, -999.000,9, -999.000,9, -999.000,9,   -999.0,9,   -999.0,9, 20020707,     1227
  18HU20020623, AR07W,   211,  1, 253923,      6,2,20020707,1223, 59.4840, -49.4743, 3346,     51.1,   4.0500,  34.7266,2,-999.0000,9,    288.2,2,   -999.0,9,     7.09,6,    11.89,6,     1.00,6, -999.000,9, -999.000,9, -999.000,9, -999.000,9, -999.000,9,   -999.0,9,   -999.0,9, 20020707,     1228
  18HU20020623, AR07W,   211,  1, 253924,      7,2,20020707,1223, 59.4840, -49.4743, 3346,     41.0,   4.2239,  34.6901,2,-999.0000,9,    289.4,2,   -999.0,9,     6.71,6,    10.76,6,     0.96,6, -999.000,9, -999.000,9, -999.000,9, -999.000,9, -999.000,9,   -999.0,9,   -999.0,9, 20020707,     1228
  18HU20020623, AR07W,   211,  1, 253925,      8,2,20020707,1223, 59.4840, -49.4743, 3346,     30.9,   4.2501,  34.6328,2,-999.0000,9,    288.8,2,   -999.0,9,     5.75,6,    10.68,6,     0.95,6, -999.000,9, -999.000,9, -999.000,9, -999.000,9, -999.000,9,   -999.0,9,   -999.0,9, 20020707,     1229
  18HU20020623, AR07W,   211,  1, 253926,      9,2,20020707,1223, 59.4840, -49.4743, 3346,     20.8,   5.2873,  34.5445,2,-999.0000,9,    311.5,2,   -999.0,9,     1.07,6,     4.55,6,     0.53,6, -999.000,9, -999.000,9, -999.000,9, -999.000,9, -999.000,9,   -999.0,9,   -999.0,9, 20020707,     1229
  18HU20020623, AR07W,   211,  1, 253927,     10,2,20020707,1223, 59.4840, -49.4743, 3346,     20.9,   5.1171,  34.6072,2,-999.0000,9,    311.2,2,   -999.0,9,  -999.00,9,  -999.00,9,  -999.00,9, -999.000,9, -999.000,9, -999.000,9, -999.000,9, -999.000,9,   -999.0,9,   -999.0,9, 20020707,     1229
  18HU20020623, AR07W,   211,  1, 253928,     11,2,20020707,1223, 59.4840, -49.4743, 3346,     20.9,   5.0021,  34.6235,2,-999.0000,9,    309.0,2,   -999.0,9,  -999.00,9,  -999.00,9,  -999.00,9, -999.000,9, -999.000,9, -999.000,9, -999.000,9, -999.000,9,   -999.0,9,   -999.0,9, 20020707,     1230
  18HU20020623, AR07W,   211,  1, 253929,     12,2,20020707,1223, 59.4840, -49.4743, 3346,     10.4,   5.4860,  34.4590,2,-999.0000,9,    313.0,2,   -999.0,9,     0.52,6,     3.15,6,     0.41,6, -999.000,9, -999.000,9, -999.000,9, -999.000,9, -999.000,9,   -999.0,9,   -999.0,9, 20020707,     1230
  18HU20020623, AR07W,   211,  1, 253930,     13,2,20020707,1223, 59.4840, -49.4743, 3346,     10.2,   5.4737,  34.4647,2,-999.0000,9,    313.1,2,   -999.0,9,  -999.00,9,  -999.00,9,  -999.00,9, -999.000,9, -999.000,9, -999.000,9, -999.000,9, -999.000,9,   -999.0,9,   -999.0,9, 20020707,     1230
  18HU20020623, AR07W,   211,  1, 253931,     14,2,20020707,1223, 59.4840, -49.4743, 3346,     10.1,   5.4629,  34.4705,2,-999.0000,9,    313.5,2,   -999.0,9,  -999.00,9,  -999.00,9,  -999.00,9, -999.000,9, -999.000,9, -999.000,9, -999.000,9, -999.000,9,   -999.0,9,   -999.0,9, 20020707,     1230
  18HU20020623, AR07W,   211,  1, 253932,     15,2,20020707,1223, 59.4840, -49.4743, 3346,     10.1,   5.4751,  34.4656,2,-999.0000,9,    313.3,2,   -999.0,9,  -999.00,9,  -999.00,9,  -999.00,9, -999.000,9, -999.000,9, -999.000,9, -999.000,9, -999.000,9,   -999.0,9,   -999.0,9, 20020707,     1231
  18HU20020623, AR07W,   211,  1, 253933,     16,2,20020707,1223, 59.4840, -49.4743, 3346,      3.6,   5.5108,  34.4483,2,-999.0000,9,    314.4,2,   -999.0,9,     0.18,6,     2.88,6,     0.34,6, -999.000,9, -999.000,9, -999.000,9, -999.000,9, -999.000,9,   -999.0,9,   -999.0,9, 20020707,     1231
  18HU20020623, AR07W,   211,  1, 253934,     17,2,20020707,1223, 59.4840, -49.4743, 3346,      3.5,   5.5147,  34.4483,2,-999.0000,9,    314.4,2,   -999.0,9,  -999.00,9,  -999.00,9,  -999.00,9, -999.000,9, -999.000,9, -999.000,9, -999.000,9, -999.000,9,   -999.0,9,   -999.0,9, 20020707,     1232