BOTTLE,20130611PRINUNIVRMK
EXPOCODE,SECT_ID,STNNBR,CASTNO,SAMPNO,BTLNBR,BTLNBR_FLAG_W,DATE,TIME,LATITUDE,LONGITUDE,DEPTH,CTDPRS,CTDTMP,CTDSAL,CTDSAL_FLAG_W,SALNTY,SALNTY_FLAG_W,CTDOXY,CTDOXY_FLAG_W,OXYGEN,OXYGEN_FLAG_W,SILCAT,SILCAT_FLAG_W,NITRAT,NITRAT_FLAG_W,PHSPHT,PHSPHT_FLAG_W,CFC-11,CFC-11_FLAG_W,CFC-12,CFC-12_FLAG_W,CFC113,CFC113_FLAG_W,CCL4,CCL4_FLAG_W,MCHFRM,MCHFRM_FLAG_W,TCARBN,TCARBN_FLAG_W,ALKALI,ALKALI_FLAG_W,BTL_DATE,BTL_TIME
,,,,,,,,,,,METERS,DBAR,ITS-90,PSS-78,,PSS-78,,UMOL/KG,,UMOL/KG,,UMOL/KG,,UMOL/KG,,UMOL/KG,,PMOL/KG,,PMOL/KG,,PMOL/KG,,PMOL/KG,,PMOL/KG,,UMOL/KG,,UMOL/KG,,,
  18HU20020623, AR07W,   243,  1, 254031,      1,2,20020708,1109, 60.3618, -48.4430, 1300,   1245.0,   3.4295,  34.8890,2,  34.8886,6,    271.7,2,    283.9,2,     9.50,6,    16.17,6,     1.09,6,    3.792,2,    2.238,4,    0.459,4,    5.521,4,    8.091,2,   2154.8,2,   2332.6,2, 20020708,     1109
  18HU20020623, AR07W,   243,  1, 254032,      2,2,20020708,1109, 60.3618, -48.4430, 1300,   1200.6,   3.4360,  34.8891,2,  34.8890,2,    271.4,2,    281.4,2,     9.74,6,    16.20,6,     1.10,6,    3.621,2,    2.326,4,    0.282,4,    5.500,4,    8.054,2,   2155.8,2,   2320.2,2, 20020708,     1111
  18HU20020623, AR07W,   243,  1, 254033,      3,2,20020708,1109, 60.3618, -48.4430, 1300,   1129.7,   3.5665,  34.8896,2,  34.8896,2,    271.5,2,    282.0,2,     9.48,6,    16.01,6,     1.08,6,    3.811,2,    2.364,4,    0.539,4,    5.536,4,    7.507,2,   2154.9,2,   2303.4,2, 20020708,     1112
  18HU20020623, AR07W,   243,  1, 254034,      4,2,20020708,1109, 60.3618, -48.4430, 1300,   1070.4,   3.6004,  34.8904,2,  34.8900,2,    271.6,2,    282.4,2,     9.37,6,    16.03,6,     1.08,6,    4.024,2,    2.485,4,    0.562,4,    5.793,4,    7.349,2,   2155.0,2,   2311.7,2, 20020708,     1114
  18HU20020623, AR07W,   243,  1, 254035,      5,2,20020708,1109, 60.3618, -48.4430, 1300,    950.4,   3.7082,  34.8902,2,  34.8898,2,    271.1,2,    282.6,2,     9.15,6,    16.00,6,     1.08,6,    4.146,2,    2.447,4,    0.710,4,    6.125,4,    7.338,2,   2153.4,2,   2317.8,2, 20020708,     1116
  18HU20020623, AR07W,   243,  1, 254036,      6,2,20020708,1109, 60.3618, -48.4430, 1300,    820.6,   4.0445,  34.9003,2,  34.9002,2,    273.5,2,    285.2,2,     8.64,6,    15.87,6,     1.06,6,    3.998,2,    2.157,4,    0.472,4,    6.452,4,    6.247,2,   2151.9,2,   2315.6,2, 20020708,     1118
  18HU20020623, AR07W,   243,  1, 254037,      7,2,20020708,1109, 60.3618, -48.4430, 1300,    680.3,   4.2530,  34.9110,2,  34.9101,2,    274.0,2,    285.9,2,     8.37,6,    15.64,6,     1.06,6,    4.490,2,    2.592,4,    0.518,4,    6.603,4,    5.813,2,   2151.6,2,   2317.2,2, 20020708,     1121
  18HU20020623, AR07W,   243,  1, 254038,      8,2,20020708,1109, 60.3618, -48.4430, 1300,    519.8,   5.1304,  34.9388,2,  34.9388,2,    275.3,2,    286.9,6,     7.46,6,    15.25,6,     1.02,6,    4.744,2,    2.863,4,    0.547,4,    7.292,4,    4.770,2,   2141.8,2,   2323.9,2, 20020708,     1123
  18HU20020623, AR07W,   243,  1, 254039,      9,2,20020708,1109, 60.3618, -48.4430, 1300,    380.6,   4.8820,  34.8431,2,  34.8487,2,    281.0,2,    294.0,2,     7.01,6,    13.76,6,     0.97,6,    4.594,2,    2.732,4,    0.338,4,    7.514,4,    4.817,2,   2134.9,2,   2328.9,2, 20020708,     1125
  18HU20020623, AR07W,   243,  1, 254040,     10,2,20020708,1109, 60.3618, -48.4430, 1300,    251.1,   3.4708,  34.4960,2,  34.5258,2,    292.5,2,    307.0,2,     5.97,6,    10.96,6,     0.88,6,    5.700,2,    3.289,4,    0.617,4,    8.698,4,    5.289,2,   2119.9,2,   2304.1,2, 20020708,     1128
  18HU20020623, AR07W,   243,  1, 254041,     11,2,20020708,1109, 60.3618, -48.4430, 1300,    151.0,   2.3230,  34.0939,2,  34.0948,2,    301.9,2,    320.1,2,     4.71,6,     8.74,6,     0.76,6,    6.619,2,    3.451,4,    0.715,4,   10.143,4,    6.159,2,   2103.7,2,   2281.0,2, 20020708,     1130
  18HU20020623, AR07W,   243,  1, 254042,     12,2,20020708,1109, 60.3618, -48.4430, 1300,    100.9,   0.8727,  33.7194,2,  33.7245,2,    308.2,2,    329.3,2,     4.49,6,     7.68,6,     0.72,6,    7.235,4,    6.250,4,    1.030,4,   11.083,4,    7.466,2,   2091.4,2,   2242.8,2, 20020708,     1131
  18HU20020623, AR07W,   243,  1, 254043,     13,2,20020708,1109, 60.3618, -48.4430, 1300,     80.7,   0.5103,  33.6250,2,-999.0000,9,    310.1,2,   -999.0,9,     4.33,6,     7.36,6,     0.71,6, -999.000,9, -999.000,9, -999.000,9, -999.000,9, -999.000,9,   -999.0,9,   -999.0,9, 20020708,     1132
  18HU20020623, AR07W,   243,  1, 254044,     14,2,20020708,1109, 60.3618, -48.4430, 1300,     59.4,  -0.3874,  33.3902,2,-999.0000,9,    313.3,2,   -999.0,9,     4.32,6,     6.76,6,     0.67,6, -999.000,9, -999.000,9, -999.000,9, -999.000,9, -999.000,9,   -999.0,9,   -999.0,9, 20020708,     1133
  18HU20020623, AR07W,   243,  1, 254045,     15,2,20020708,1109, 60.3618, -48.4430, 1300,     50.0,  -0.7083,  33.2170,2,  33.2336,2,    316.3,2,    341.9,2,     4.00,6,     5.99,6,     0.64,6,    8.116,2,    3.916,4,    0.829,4,   11.338,4,    7.992,2,   2073.3,2,   2233.7,2, 20020708,     1133
  18HU20020623, AR07W,   243,  1, 254046,     16,2,20020708,1109, 60.3618, -48.4430, 1300,     40.8,  -0.6671,  33.0781,2,-999.0000,9,    320.5,2,   -999.0,9,     3.43,6,     5.04,6,     0.60,6, -999.000,9, -999.000,9, -999.000,9, -999.000,9, -999.000,9,   -999.0,9,   -999.0,9, 20020708,     1134
  18HU20020623, AR07W,   243,  1, 254047,     17,2,20020708,1109, 60.3618, -48.4430, 1300,     30.3,  -1.0228,  32.9216,2,-999.0000,9,    323.9,2,   -999.0,9,     3.10,6,     4.51,6,     0.58,6, -999.000,9, -999.000,9, -999.000,9, -999.000,9, -999.000,9,   -999.0,9,   -999.0,9, 20020708,     1135
  18HU20020623, AR07W,   243,  1, 254048,     18,2,20020708,1109, 60.3618, -48.4430, 1300,     20.5,  -0.8663,  32.6479,2,-999.0000,9,    332.9,2,   -999.0,9,     2.53,6,     2.40,6,     1.27,3, -999.000,9, -999.000,9, -999.000,9, -999.000,9, -999.000,9,   -999.0,9,   -999.0,9, 20020708,     1135
  18HU20020623, AR07W,   243,  1, 254049,     19,2,20020708,1109, 60.3618, -48.4430, 1300,     10.3,  -0.3549,  32.1351,2,  32.4179,2,    344.1,2,    369.8,2,     1.57,6,     1.46,6,     0.35,6,    9.369,2,    4.373,4,    0.833,4,   12.063,4,    8.017,2,   2000.5,2,   2172.0,2, 20020708,     1136
  18HU20020623, AR07W,   243,  1, 254050,     20,2,20020708,1109, 60.3618, -48.4430, 1300,      2.4,  -0.3179,  32.1123,2,-999.0000,9,    348.6,2,   -999.0,9,     0.86,6,     0.53,6,     0.29,6, -999.000,9, -999.000,9, -999.000,9, -999.000,9, -999.000,9,   -999.0,9,   -999.0,9, 20020708,     1136
  18HU20020623, AR07W,   246,  1, 254051,      1,2,20020708,1329, 60.5685, -48.2180,  134,    124.8,   2.7387,  34.0996,2,  34.0850,2,    302.2,2,    318.5,2,     4.07,6,     8.23,6,     0.80,6,    6.527,2,    3.542,4,    0.858,4,   10.377,4,    5.851,2,   2096.9,2,   2262.7,2, 20020708,     1329
  18HU20020623, AR07W,   246,  1, 254052,      2,2,20020708,1329, 60.5685, -48.2180,  134,    100.2,   1.6561,  33.8395,2,  33.8337,2,    308.6,2,    328.0,2,     3.88,6,     7.35,6,     0.73,6,    7.033,2,    3.560,4,    0.667,4,   10.905,4,    6.453,2,   2087.8,2,   2259.6,2, 20020708,     1330
  18HU20020623, AR07W,   246,  1, 254053,      3,2,20020708,1329, 60.5685, -48.2180,  134,     80.6,   0.7331,  33.6660,2,  33.6641,2,    310.5,2,    330.9,6,     4.28,6,     7.09,6,     0.72,6,    7.552,2,    3.771,4,    0.666,4,   11.221,4,    7.220,2,   2084.8,2,   2237.6,2, 20020708,     1331
  18HU20020623, AR07W,   246,  1, 254054,      4,2,20020708,1329, 60.5685, -48.2180,  134,     60.0,   0.3965,  33.4898,2,-999.0000,9,    314.4,2,   -999.0,9,     3.81,6,     6.32,6,     0.68,6, -999.000,9, -999.000,9, -999.000,9, -999.000,9, -999.000,9,   -999.0,9,   -999.0,9, 20020708,     1331
  18HU20020623, AR07W,   246,  1, 254055,      5,2,20020708,1329, 60.5685, -48.2180,  134,     49.9,   0.3489,  33.4527,2,  33.4301,2,    316.0,2,    339.2,2,     3.74,6,     6.17,6,     0.67,6,    7.952,2,    3.786,4,    0.851,4,   11.499,4,    7.359,2,   2072.6,2,   2226.7,2, 20020708,     1332
  18HU20020623, AR07W,   246,  1, 254056,      6,2,20020708,1329, 60.5685, -48.2180,  134,     50.2,   0.3348,  33.4452,2,-999.0000,9,    316.0,2,   -999.0,9,  -999.00,9,  -999.00,9,  -999.00,9, -999.000,9, -999.000,9, -999.000,9, -999.000,9, -999.000,9,   -999.0,9,   -999.0,9, 20020708,     1332
  18HU20020623, AR07W,   246,  1, 254057,      7,2,20020708,1329, 60.5685, -48.2180,  134,     39.5,   0.2907,  33.3649,2,-999.0000,9,    319.0,2,   -999.0,9,  -999.00,9,  -999.00,9,  -999.00,9, -999.000,9, -999.000,9, -999.000,9, -999.000,9, -999.000,9,   -999.0,9,   -999.0,9, 20020708,     1333
  18HU20020623, AR07W,   246,  1, 254058,      8,2,20020708,1329, 60.5685, -48.2180,  134,     39.8,   0.2156,  33.2990,2,-999.0000,9,    319.3,2,   -999.0,9,  -999.00,9,  -999.00,9,  -999.00,9, -999.000,9, -999.000,9, -999.000,9, -999.000,9, -999.000,9,   -999.0,9,   -999.0,9, 20020708,     1333
  18HU20020623, AR07W,   246,  1, 254059,      9,2,20020708,1329, 60.5685, -48.2180,  134,     39.6,   0.2066,  33.2980,2,-999.0000,9,    320.1,2,   -999.0,9,     3.49,6,     5.50,6,     0.65,6, -999.000,9, -999.000,9, -999.000,9, -999.000,9, -999.000,9,   -999.0,9,   -999.0,9, 20020708,     1333
  18HU20020623, AR07W,   246,  1, 254060,     10,2,20020708,1329, 60.5685, -48.2180,  134,     30.2,   0.0322,  33.1822,2,-999.0000,9,    323.4,2,   -999.0,9,     3.18,6,     4.88,6,     0.58,6, -999.000,9, -999.000,9, -999.000,9, -999.000,9, -999.000,9,   -999.0,9,   -999.0,9, 20020708,     1334
  18HU20020623, AR07W,   246,  1, 254061,     11,2,20020708,1329, 60.5685, -48.2180,  134,     20.2,  -0.0295,  32.9194,2,-999.0000,9,    331.1,2,   -999.0,9,     2.36,6,     3.48,6,     0.48,6, -999.000,9, -999.000,9, -999.000,9, -999.000,9, -999.000,9,   -999.0,9,   -999.0,9, 20020708,     1334
  18HU20020623, AR07W,   246,  1, 254062,     12,2,20020708,1329, 60.5685, -48.2180,  134,     10.1,   0.7979,  31.1750,2,  31.6587,2,    340.2,2,    367.2,2,     0.65,6,     1.13,6,     0.24,6,    8.721,2,    4.285,4,    0.903,4,   12.450,4,    6.783,2,   1939.3,2,   2120.6,2, 20020708,     1335
  18HU20020623, AR07W,   246,  1, 254063,     13,2,20020708,1329, 60.5685, -48.2180,  134,     10.0,   0.7706,  31.2226,2,-999.0000,9,    344.7,2,   -999.0,9,  -999.00,9,  -999.00,9,  -999.00,9, -999.000,9, -999.000,9, -999.000,9, -999.000,9, -999.000,9,   -999.0,9,   -999.0,9, 20020708,     1335
  18HU20020623, AR07W,   246,  1, 254064,     14,2,20020708,1329, 60.5685, -48.2180,  134,     10.2,   1.0141,  30.7944,2,-999.0000,9,    343.9,2,   -999.0,9,  -999.00,9,  -999.00,9,  -999.00,9, -999.000,9, -999.000,9, -999.000,9, -999.000,9, -999.000,9,   -999.0,9,   -999.0,9, 20020708,     1335
  18HU20020623, AR07W,   246,  1, 254065,     15,2,20020708,1329, 60.5685, -48.2180,  134,     10.2,   1.0690,  30.7029,2,-999.0000,9,    344.9,2,   -999.0,9,  -999.00,9,  -999.00,9,  -999.00,9, -999.000,9, -999.000,9, -999.000,9, -999.000,9, -999.000,9,   -999.0,9,   -999.0,9, 20020708,     1335
  18HU20020623, AR07W,   246,  1, 254066,     16,2,20020708,1329, 60.5685, -48.2180,  134,     10.0,   1.0554,  30.7047,2,-999.0000,9,    345.4,2,   -999.0,9,     0.00,6,     0.20,6,     0.12,6, -999.000,9, -999.000,9, -999.000,9, -999.000,9, -999.000,9,   -999.0,9,   -999.0,9, 20020708,     1335
  18HU20020623, AR07W,   246,  1, 254067,     17,2,20020708,1329, 60.5685, -48.2180,  134,      3.0,   1.1535,  30.5590,2,-999.0000,9,    345.9,2,   -999.0,9,     0.00,6,     0.12,6,     0.11,6, -999.000,9, -999.000,9, -999.000,9, -999.000,9, -999.000,9,   -999.0,9,   -999.0,9, 20020708,     1336
  18HU20020623, AR07W,   249,  1, 254068,      1,2,20020708,1523, 60.4477, -48.3598,  134,    141.8,   3.4425,  34.3081,2,  34.3044,2,    298.4,2,    313.6,2,     4.04,6,     9.07,6,     0.77,6,    6.319,2,    3.400,4,    0.832,4,   10.146,4,    5.660,2,   2105.4,2,   2279.8,2, 20020708,     1523
  18HU20020623, AR07W,   249,  1, 254069,      2,2,20020708,1523, 60.4477, -48.3598,  134,    100.1,   1.2754,  33.7976,2,  33.7916,2,    308.7,2,    329.0,2,     4.16,6,     7.55,6,     0.70,6,    7.439,2,    3.764,4,    0.686,4,   11.158,4,    7.184,2,   2090.7,2,   2247.3,2, 20020708,     1525
  18HU20020623, AR07W,   249,  1, 254070,      3,2,20020708,1523, 60.4477, -48.3598,  134,     82.0,   0.2376,  33.5950,2,  33.5784,2,    310.9,2,    332.6,6,     4.92,6,     7.11,6,     0.72,6,    7.744,2,    3.577,4,    0.805,4,   11.140,4,    7.714,2,   2087.2,2,   2246.9,2, 20020708,     1525
  18HU20020623, AR07W,   249,  1, 254071,      4,2,20020708,1523, 60.4477, -48.3598,  134,     59.6,  -0.2903,  33.3405,2,-999.0000,9,    315.3,2,   -999.0,9,     4.06,6,     6.04,6,     0.66,6, -999.000,9, -999.000,9, -999.000,9, -999.000,9, -999.000,9,   -999.0,9,   -999.0,9, 20020708,     1526
  18HU20020623, AR07W,   249,  1, 254072,      5,2,20020708,1523, 60.4477, -48.3598,  134,     50.2,  -0.6204,  33.1970,2,  33.1973,2,    318.5,2,    374.2,2,     3.79,6,     5.55,6,     0.64,6,    8.092,2,    3.813,4,    0.862,4,   11.348,4,    7.935,2,   2065.6,2,   2225.7,2, 20020708,     1527
  18HU20020623, AR07W,   249,  1, 254073,      6,2,20020708,1523, 60.4477, -48.3598,  134,     40.3,  -0.5904,  32.8491,2,-999.0000,9,    328.0,2,   -999.0,9,     2.87,6,     3.97,6,     0.52,6, -999.000,9, -999.000,9, -999.000,9, -999.000,9, -999.000,9,   -999.0,9,   -999.0,9, 20020708,     1528
  18HU20020623, AR07W,   249,  1, 254074,      7,2,20020708,1523, 60.4477, -48.3598,  134,     29.3,  -0.3768,  32.2867,2,-999.0000,9,    343.8,2,   -999.0,9,     1.52,6,     1.42,6,     0.34,6, -999.000,9, -999.000,9, -999.000,9, -999.000,9, -999.000,9,   -999.0,9,   -999.0,9, 20020708,     1528
  18HU20020623, AR07W,   249,  1, 254075,      8,2,20020708,1523, 60.4477, -48.3598,  134,     20.3,  -0.3128,  32.2259,2,-999.0000,9,    346.2,2,   -999.0,9,     1.43,6,     1.09,6,     0.32,6, -999.000,9, -999.000,9, -999.000,9, -999.000,9, -999.000,9,   -999.0,9,   -999.0,9, 20020708,     1529
  18HU20020623, AR07W,   249,  1, 254076,      9,2,20020708,1523, 60.4477, -48.3598,  134,      9.8,  -0.2136,  32.1459,2,  32.1433,2,    348.2,2,   -999.0,9,     1.20,6,     0.72,6,     0.28,6,    9.148,2,    4.230,4,    0.842,4,   12.336,4,    7.426,2,   1976.9,2,   2150.7,2, 20020708,     1530
  18HU20020623, AR07W,   249,  1, 254077,     10,2,20020708,1523, 60.4477, -48.3598,  134,      3.0,   0.1532,  32.1409,2,-999.0000,9,    348.2,2,   -999.0,9,     1.18,6,     0.72,6,     0.29,6, -999.000,9, -999.000,9, -999.000,9, -999.000,9, -999.000,9,   -999.0,9,   -999.0,9, 20020708,     1531