BOTTLE,20130611PRINUNIVRMK
EXPOCODE,SECT_ID,STNNBR,CASTNO,SAMPNO,BTLNBR,BTLNBR_FLAG_W,DATE,TIME,LATITUDE,LONGITUDE,DEPTH,CTDPRS,CTDTMP,CTDSAL,CTDSAL_FLAG_W,SALNTY,SALNTY_FLAG_W,CTDOXY,CTDOXY_FLAG_W,OXYGEN,OXYGEN_FLAG_W,SILCAT,SILCAT_FLAG_W,NITRAT,NITRAT_FLAG_W,PHSPHT,PHSPHT_FLAG_W,CFC-11,CFC-11_FLAG_W,CFC-12,CFC-12_FLAG_W,CFC113,CFC113_FLAG_W,CCL4,CCL4_FLAG_W,MCHFRM,MCHFRM_FLAG_W,TCARBN,TCARBN_FLAG_W,ALKALI,ALKALI_FLAG_W,BTL_DATE,BTL_TIME
,,,,,,,,,,,METERS,DBAR,ITS-90,PSS-78,,PSS-78,,UMOL/KG,,UMOL/KG,,UMOL/KG,,UMOL/KG,,UMOL/KG,,PMOL/KG,,PMOL/KG,,PMOL/KG,,PMOL/KG,,PMOL/KG,,UMOL/KG,,UMOL/KG,,,
  18HU20020623, AR07W,   157,  1, 253742,      1,2,20020705,1936, 56.9575, -52.2057, 3446,   3569.1,   1.5551,  34.8743,2,  34.8753,2,    293.4,2,    296.2,2,    10.84,6,    14.54,6,     1.02,6,    4.650,2,    4.157,4,    0.465,4,    6.444,4,    9.293,2,   2158.1,2,   2313.8,2, 20020705,     1936
  18HU20020623, AR07W,   157,  1, 253743,      2,2,20020705,1936, 56.9575, -52.2057, 3446,   3490.2,   1.6173,  34.8762,2,  34.8759,2,    292.7,2,    295.1,2,    10.15,6,    14.70,6,     0.95,6,    3.803,2,    1.486,4,    0.214,4,    5.435,4,    8.586,2,   2153.8,2,   2302.3,2, 20020705,     1938
  18HU20020623, AR07W,   157,  1, 253744,      3,2,20020705,1936, 56.9575, -52.2057, 3446,   3400.2,   1.8068,  34.8779,2,  34.8774,2,    290.6,2,    293.2,2,    10.16,6,    14.95,6,     0.97,6,    3.477,2,    1.377,4,    0.000,4,    5.124,4,    8.434,2,   2150.5,2,   2298.2,2, 20020705,     1940
  18HU20020623, AR07W,   157,  1, 253745,      4,2,20020705,1936, 56.9575, -52.2057, 3446,   3289.5,   2.1597,  34.8863,2,  34.8857,2,    284.5,2,    287.5,2,    11.78,6,    15.45,6,     1.02,6,    3.554,3,    1.921,4,    0.196,4,    4.958,4,    8.260,2,   2154.6,2,   2312.6,2, 20020705,     1942
  18HU20020623, AR07W,   157,  1, 253746,      5,2,20020705,1936, 56.9575, -52.2057, 3446,   3169.8,   2.3972,  34.8958,2,  34.8955,2,    279.4,2,    282.8,2,    12.70,6,    16.06,6,     1.04,6,    2.444,2,    1.027,4,    0.021,4,    3.738,4,    7.183,2,   2157.1,2,   2295.9,2, 20020705,     1944
  18HU20020623, AR07W,   157,  1, 253747,      6,2,20020705,1936, 56.9575, -52.2057, 3446,   3029.2,   2.5854,  34.9023,2,  34.9024,2,    276.5,2,    280.2,2,    12.82,6,    16.07,6,     1.15,3,    2.191,2,    0.741,4,    0.000,4,    3.380,4,    6.783,2,   2158.8,2,   2306.5,2, 20020705,     1947
  18HU20020623, AR07W,   157,  1, 253748,      7,2,20020705,1936, 56.9575, -52.2057, 3446,   2870.4,   2.7240,  34.9034,2,  34.9036,2,    275.3,2,    279.9,2,    12.36,6,    16.35,6,     1.06,6,    2.361,2,    1.029,4,    0.006,4,    3.705,4,    7.304,2,   2155.4,2,   2298.2,2, 20020705,     1949
  18HU20020623, AR07W,   157,  1, 253749,      8,2,20020705,1936, 56.9575, -52.2057, 3446,   2679.7,   2.8799,  34.9000,2,  34.9002,2,    274.7,2,    280.0,2,    11.72,6,    16.54,6,     1.05,6,    2.467,2,    1.056,4,    0.000,4,    3.681,4,    7.686,2,   2157.1,2,   2302.5,2, 20020705,     1953
  18HU20020623, AR07W,   157,  1, 253750,      9,2,20020705,1936, 56.9575, -52.2057, 3446,   2470.4,   3.0137,  34.8971,2,  34.8977,2,    273.7,2,    280.2,2,    11.60,6,    16.90,6,     1.09,6,    2.464,2,    0.870,4,    0.000,4,    3.682,4,    8.007,2,   2156.3,2,   2302.1,2, 20020705,     1956
  18HU20020623, AR07W,   157,  1, 253751,     10,2,20020705,1936, 56.9575, -52.2057, 3446,   2250.4,   3.0730,  34.8833,2,  34.8851,2,    275.5,2,    282.9,2,    11.01,6,    17.13,6,     1.10,6,    2.977,2,    1.220,4,    0.147,4,    4.487,4,    9.924,2,   2157.5,2,   2283.0,2, 20020705,     2000
  18HU20020623, AR07W,   157,  1, 253752,     11,2,20020705,1936, 56.9575, -52.2057, 3446,   2011.0,   3.1119,  34.8721,2,  34.8725,6,    276.8,2,    285.1,2,    10.71,6,    17.34,6,     1.11,6,    3.349,2,    1.303,4,    0.157,4,    4.922,4,   11.143,2,   2157.4,2,   2297.6,2, 20020705,     2003
  18HU20020623, AR07W,   157,  1, 253753,     12,2,20020705,1936, 56.9575, -52.2057, 3446,   1769.9,   3.2260,  34.8771,2,  34.8770,2,    273.6,2,    282.6,2,    10.74,6,    17.43,6,     1.11,6,    3.424,2,    1.312,4,    0.107,4,    4.943,4,   10.990,2,   2156.3,2,   2299.5,2, 20020705,     2007
  18HU20020623, AR07W,   157,  1, 253754,     13,2,20020705,1936, 56.9575, -52.2057, 3446,   1530.5,   3.3901,  34.8832,2,  34.8839,2,    269.6,2,    279.1,6,    10.45,6,    17.40,6,     1.10,6,    3.577,2,    1.453,4,    0.221,4,    5.079,4,   10.661,2,   2159.2,2,   2308.1,2, 20020705,     2011
  18HU20020623, AR07W,   157,  1, 253755,     14,2,20020705,1936, 56.9575, -52.2057, 3446,   1290.1,   3.2888,  34.8507,2,  34.8493,2,    280.0,2,    292.4,2,     9.33,6,    16.71,6,     1.17,3,    4.563,2,    1.725,4,    0.154,4,    7.241,4,    8.530,2,   2156.2,2,   2288.6,2, 20020705,     2014
  18HU20020623, AR07W,   157,  1, 253756,     15,2,20020705,1936, 56.9575, -52.2057, 3446,   1070.1,   3.2312,  34.8373,2,  34.8369,2,    282.5,2,    294.7,2,     9.06,6,    16.57,6,     1.06,6,    4.795,2,    1.888,4,    0.234,4,    7.242,4,    8.026,2,   2155.1,2,   2301.8,2, 20020705,     2018
  18HU20020623, AR07W,   157,  1, 253757,     16,2,20020705,1936, 56.9575, -52.2057, 3446,    869.5,   3.2218,  34.8329,2,  34.8316,2,    282.0,2,    294.7,2,     9.11,6,    16.41,6,     1.06,6,    5.035,2,    2.005,4,    0.413,4,    7.744,4,    8.281,2,   2154.8,2,   2288.6,2, 20020705,     2021
  18HU20020623, AR07W,   157,  1, 253758,     17,2,20020705,1936, 56.9575, -52.2057, 3446,    680.3,   3.2417,  34.8310,2,  34.8300,2,    282.0,2,    296.0,2,     9.03,6,    16.19,6,     1.07,6,    4.700,2,    2.070,4,    0.019,4,    8.124,4,    8.487,2,   2154.2,2,   2291.0,2, 20020705,     2024
  18HU20020623, AR07W,   157,  1, 253759,     18,2,20020705,1936, 56.9575, -52.2057, 3446,    508.9,   3.2702,  34.8309,2,  34.8296,2,    281.2,2,    295.5,2,     8.99,6,    16.18,6,     1.07,6,    4.978,2,    1.650,4,    0.226,4,    7.543,4,    7.623,2,   2153.9,2,   2297.6,2, 20020705,     2027
  18HU20020623, AR07W,   157,  1, 253760,     19,2,20020705,1936, 56.9575, -52.2057, 3446,    360.0,   3.3221,  34.8301,2,  34.8314,2,    280.7,2,    295.4,2,     8.80,6,    16.20,6,     1.07,6,    5.032,2,    1.975,4,    0.255,4,    7.392,4,    6.990,2,   2156.2,2,   2292.0,2, 20020705,     2030
  18HU20020623, AR07W,   157,  1, 253761,     20,2,20020705,1936, 56.9575, -52.2057, 3446,    240.8,   3.3884,  34.8235,2,-999.0000,9,    275.4,2,    289.6,2,     9.11,6,    16.77,6,     1.09,6,    4.526,2,    1.922,4,    0.781,4,    7.715,4,    7.845,2,   2156.6,2,   2314.1,2, 20020705,     2032
  18HU20020623, AR07W,   157,  1, 253762,     21,2,20020705,1936, 56.9575, -52.2057, 3446,    140.1,   3.3771,  34.7787,2,-999.0000,9,    278.2,2,    293.8,2,     8.68,6,    16.40,6,     1.07,6,    5.015,2,    1.606,4,    0.258,4,    7.743,4,    6.283,2,   2156.9,2,   2306.6,2, 20020705,     2034
  18HU20020623, AR07W,   157,  1, 253763,     22,2,20020705,1936, 56.9575, -52.2057, 3446,     70.7,   3.6215,  34.7089,2,-999.0000,9,    294.8,2,    311.0,2,     7.32,6,    13.01,6,     1.09,6,    5.665,2,    2.199,4,    0.399,4,    9.804,4,    5.243,2,   2143.7,2,   2300.6,2, 20020705,     2035
  18HU20020623, AR07W,   157,  1, 253764,     23,2,20020705,1936, 56.9575, -52.2057, 3446,     35.3,   5.4578,  34.6803,2,-999.0000,9,    311.0,2,    328.8,2,     0.65,6,     3.64,6,     0.33,6,    5.740,2,    2.295,4,    0.438,4,   10.160,4,    4.835,2,   2081.2,2,   2287.9,2, 20020705,     2036
  18HU20020623, AR07W,   157,  1, 253765,     24,2,20020705,1936, 56.9575, -52.2057, 3446,      2.9,   6.1209,  34.6699,2,-999.0000,9,    319.2,2,    333.6,2,     0.00,6,     2.30,6,     0.23,6,    5.447,2,    1.601,4,    0.262,4,   10.065,4,    4.650,2,   2066.8,2,   2294.5,2, 20020705,     2037
  18HU20020623, AR07W,   164,  1, 253766,      1,2,20020705,2346, 57.3768, -51.7937, 3465,   1292.0,   3.3155,  34.8494,2,-999.0000,9,    281.4,2,    292.9,2,     9.41,6,    16.35,6,     1.16,6,    5.104,2,    2.527,4,    0.325,4,    5.727,4,    7.151,2,   2160.6,2,   2303.6,2, 20020705,     2346
  18HU20020623, AR07W,   164,  1, 253767,      2,2,20020705,2346, 57.3768, -51.7937, 3465,   1070.3,   3.2035,  34.8280,2,  34.9832,3,    285.8,2,    296.4,2,     8.92,6,    16.12,6,     1.06,6,    5.495,2,    2.690,4,    0.473,4,    6.121,4,    6.326,2,   2151.8,2,   2278.4,2, 20020705,     2350
  18HU20020623, AR07W,   164,  1, 253768,      3,2,20020705,2346, 57.3768, -51.7937, 3465,    870.1,   3.2048,  34.8265,2,  34.8259,2,    285.7,2,    297.0,2,     8.78,6,    16.17,6,     1.06,6,    5.681,2,    2.755,4,    0.407,4,    6.407,4,    6.387,2,   2147.0,3,   2303.5,2, 20020705,     2353
  18HU20020623, AR07W,   164,  1, 253769,      4,2,20020705,2346, 57.3768, -51.7937, 3465,    680.5,   3.2407,  34.8290,2,  34.8290,2,    285.0,2,    297.2,2,     8.74,6,    15.96,6,     1.07,6,    5.630,2,    2.747,4,    0.377,4,    6.413,4,    6.097,2,   2157.6,2,   2304.2,2, 20020705,     2357
  18HU20020623, AR07W,   164,  1, 253770,      5,2,20020705,2346, 57.3768, -51.7937, 3465,    680.5,   3.2410,  34.8289,2,-999.0000,9,    285.2,2,   -999.0,9,  -999.00,9,  -999.00,9,  -999.00,9, -999.000,9, -999.000,9, -999.000,9, -999.000,9, -999.000,9,   -999.0,9,   -999.0,9, 20020705,     2357
  18HU20020623, AR07W,   164,  1, 253771,      6,2,20020705,2346, 57.3768, -51.7937, 3465,    509.5,   3.3058,  34.8338,2,  34.8336,2,    285.0,2,    297.4,2,     8.75,6,    15.82,6,     1.06,6,    5.652,2,    2.762,4,    0.465,4,    6.385,4,    5.749,2,   2157.4,2,   2311.4,2, 20020706,        0
  18HU20020623, AR07W,   164,  1, 253772,      7,2,20020705,2346, 57.3768, -51.7937, 3465,    360.4,   3.2465,  34.8201,2,  34.8188,2,    283.2,2,    295.1,2,     8.90,6,    16.06,6,     1.18,3,    5.698,2,    2.790,4,    0.410,4,    6.447,4,    5.984,2,   2156.3,2,   2305.2,2, 20020706,        2
  18HU20020623, AR07W,   164,  1, 253773,      8,2,20020705,2346, 57.3768, -51.7937, 3465,    240.0,   3.2825,  34.8144,2,  34.8133,2,    280.4,2,    293.6,2,     8.96,6,    16.26,6,     1.08,6,    5.538,2,    2.716,4,    0.372,4,    6.229,4,    5.799,2,   2156.6,2,   2286.3,2, 20020706,        5
  18HU20020623, AR07W,   164,  1, 253774,      9,2,20020705,2346, 57.3768, -51.7937, 3465,    140.3,   3.3980,  34.7983,2,  34.7964,2,    281.5,2,    294.9,2,     8.72,6,    16.05,6,     1.07,6,    5.698,2,    2.795,4,    0.466,4,    6.542,4,    5.428,2,   -999.0,9,   2302.3,2, 20020706,        7
  18HU20020623, AR07W,   164,  1, 253775,     10,2,20020705,2346, 57.3768, -51.7937, 3465,    140.2,   3.4081,  34.8002,2,-999.0000,9,    281.6,2,   -999.0,9,  -999.00,9,  -999.00,9,  -999.00,9, -999.000,9, -999.000,9, -999.000,9, -999.000,9, -999.000,9,   -999.0,9,   -999.0,9, 20020706,        7
  18HU20020623, AR07W,   164,  1, 253776,     11,2,20020705,2346, 57.3768, -51.7937, 3465,     70.1,   3.6747,  34.7391,2,-999.0000,9,    294.1,2,    306.2,2,     7.50,6,    13.00,6,     0.98,6,    6.288,2,    3.037,4,    0.505,4,    7.726,4,    4.612,2,   2146.3,2,   2303.5,2, 20020706,        9
  18HU20020623, AR07W,   164,  1, 253777,     12,2,20020705,2346, 57.3768, -51.7937, 3465,     40.5,   5.2637,  34.6924,2,-999.0000,9,    313.8,2,   -999.0,9,  -999.00,9,  -999.00,9,  -999.00,9, -999.000,9, -999.000,9, -999.000,9, -999.000,9, -999.000,9,   -999.0,9,   -999.0,9, 20020706,       10
  18HU20020623, AR07W,   164,  1, 253778,     13,2,20020705,2346, 57.3768, -51.7937, 3465,     40.6,   5.1475,  34.7075,2,-999.0000,9,    313.9,2,    326.2,2,     1.83,6,     5.30,6,     0.48,6,    6.058,2,    2.986,4,    0.447,4,    7.784,4,    3.994,2,   2094.0,2,   2312.6,2, 20020706,       10
  18HU20020623, AR07W,   164,  1, 253779,     14,2,20020705,2346, 57.3768, -51.7937, 3465,     15.8,   5.7806,  34.6974,2,-999.0000,9,    328.6,2,    342.9,2,     0.43,6,     2.08,6,     0.22,6,    6.008,2,    2.943,4,    0.534,4,    7.672,4,    3.968,2,   2064.4,2,   2316.0,2, 20020706,       11
  18HU20020623, AR07W,   164,  1, 253780,     15,2,20020705,2346, 57.3768, -51.7937, 3465,     16.0,   5.7813,  34.6982,2,-999.0000,9,    328.5,2,   -999.0,9,  -999.00,9,  -999.00,9,  -999.00,9, -999.000,9, -999.000,9, -999.000,9, -999.000,9, -999.000,9,   -999.0,9,   -999.0,9, 20020706,       12
  18HU20020623, AR07W,   166,  1, 253781,      1,2,20020706,0405, 57.3778, -51.7897, 3465,   3579.7,   1.5436,  34.8734,2,  34.8725,2,    293.0,2,    295.2,2,    11.08,6,    14.06,6,     1.06,6,    4.474,2,    2.209,4,    0.319,4,    4.806,4,    7.010,2,   2159.3,2,   2300.6,2, 20020706,      405
  18HU20020623, AR07W,   166,  1, 253782,      2,2,20020706,0405, 57.3778, -51.7897, 3465,   3579.5,   1.5434,  34.8735,2,-999.0000,9,    293.0,2,   -999.0,9,  -999.00,9,  -999.00,9,  -999.00,9, -999.000,9, -999.000,9, -999.000,9, -999.000,9, -999.000,9,   -999.0,9,   -999.0,9, 20020706,      405
  18HU20020623, AR07W,   166,  1, 253783,      3,2,20020706,0405, 57.3778, -51.7897, 3465,   3579.8,   1.5430,  34.8736,2,-999.0000,9,    293.0,2,   -999.0,9,  -999.00,9,  -999.00,9,  -999.00,9, -999.000,9, -999.000,9, -999.000,9, -999.000,9, -999.000,9,   -999.0,9,   -999.0,9, 20020706,      406
  18HU20020623, AR07W,   166,  1, 253784,      4,2,20020706,0405, 57.3778, -51.7897, 3465,   3503.0,   1.6232,  34.8749,2,  34.8745,2,    291.2,2,    295.1,2,    10.24,6,    14.07,6,     1.04,6,    4.374,2,    2.165,4,    0.314,4,    4.826,4,    6.959,2,   2159.1,2,   2279.8,2, 20020706,      428
  18HU20020623, AR07W,   166,  1, 253785,      5,2,20020706,0405, 57.3778, -51.7897, 3465,   3411.9,   1.8936,  34.8768,2,  34.8764,2,    287.9,2,    291.3,2,    10.67,6,    14.44,6,     1.06,6,    4.015,2,    2.015,4,    0.248,4,    4.646,4,    7.030,2,   2156.5,2,   2287.7,2, 20020706,      432
  18HU20020623, AR07W,   166,  1, 253786,      6,2,20020706,0405, 57.3778, -51.7897, 3465,   3300.0,   2.2101,  34.8877,2,  34.8883,6,    281.3,2,    285.5,2,    12.64,6,    15.22,6,     1.12,6,    3.181,2,    1.632,4,    0.202,4,    3.710,4,    5.974,2,   2157.3,2,   2287.3,2, 20020706,      435
  18HU20020623, AR07W,   166,  1, 253787,      7,2,20020706,0405, 57.3778, -51.7897, 3465,   3180.5,   2.4290,  34.8976,2,  34.8981,2,    276.8,2,    281.3,2,    13.45,6,    15.89,6,     1.13,6,    2.767,2,    1.446,4,    0.147,4,    3.337,4,    5.683,2,   2158.8,2,   2295.9,2, 20020706,      437
  18HU20020623, AR07W,   166,  1, 253788,      8,2,20020706,0405, 57.3778, -51.7897, 3465,   3020.4,   2.6569,  34.9069,2,  34.9064,6,    273.6,2,    278.6,2,    13.21,6,    16.07,6,     1.15,6,    2.639,2,    1.368,4,    0.142,4,    3.247,4,    5.744,2,   2158.2,2,   2305.9,2, 20020706,      441
  18HU20020623, AR07W,   166,  1, 253789,      9,2,20020706,0405, 57.3778, -51.7897, 3465,   3020.8,   2.6582,  34.9074,2,-999.0000,9,    273.6,2,   -999.0,9,  -999.00,9,  -999.00,9,  -999.00,9, -999.000,9, -999.000,9, -999.000,9, -999.000,9, -999.000,9,   -999.0,9,   -999.0,9, 20020706,      441
  18HU20020623, AR07W,   166,  1, 253790,     10,2,20020706,0405, 57.3778, -51.7897, 3465,   3021.1,   2.6581,  34.9072,2,-999.0000,9,    273.6,2,   -999.0,9,  -999.00,9,  -999.00,9,  -999.00,9, -999.000,9, -999.000,9, -999.000,9, -999.000,9, -999.000,9,   -999.0,9,   -999.0,9, 20020706,      441
  18HU20020623, AR07W,   166,  1, 253791,     11,2,20020706,0405, 57.3778, -51.7897, 3465,   2851.4,   2.8255,  34.9095,2,  34.9103,2,    271.8,2,    277.8,2,    12.91,6,    16.24,6,     1.15,6,    2.485,2,    1.342,4,    0.116,4,    3.004,4,    5.484,2,   2156.2,2,   2308.3,2, 20020706,      445
  18HU20020623, AR07W,   166,  1, 253792,     12,2,20020706,0405, 57.3778, -51.7897, 3465,   2850.7,   2.8263,  34.9096,2,-999.0000,9,    271.9,2,   -999.0,9,  -999.00,9,  -999.00,9,  -999.00,9, -999.000,9, -999.000,9, -999.000,9, -999.000,9, -999.000,9,   -999.0,9,   -999.0,9, 20020706,      445
  18HU20020623, AR07W,   166,  1, 253793,     13,2,20020706,0405, 57.3778, -51.7897, 3465,   2851.0,   2.8266,  34.9096,2,-999.0000,9,    271.9,2,   -999.0,9,  -999.00,9,  -999.00,9,  -999.00,9, -999.000,9, -999.000,9, -999.000,9, -999.000,9, -999.000,9,   -999.0,9,   -999.0,9, 20020706,      446
  18HU20020623, AR07W,   166,  1, 253794,     14,2,20020706,0405, 57.3778, -51.7897, 3465,   2689.9,   2.9386,  34.9056,2,  34.9054,2,    271.6,2,    277.6,2,    12.37,6,    16.31,6,     1.15,6,    2.645,2,    1.373,4,    0.130,4,    3.185,4,    5.894,2,   2156.1,2,   2295.5,2, 20020706,      449
  18HU20020623, AR07W,   166,  1, 253795,     15,2,20020706,0405, 57.3778, -51.7897, 3465,   2690.4,   2.9383,  34.9055,2,-999.0000,9,    271.7,2,   -999.0,9,  -999.00,9,  -999.00,9,  -999.00,9, -999.000,9, -999.000,9, -999.000,9, -999.000,9, -999.000,9,   -999.0,9,   -999.0,9, 20020706,      449
  18HU20020623, AR07W,   166,  1, 253796,     16,2,20020706,0405, 57.3778, -51.7897, 3465,   2478.6,   3.0353,  34.8950,2,  34.8955,2,    272.7,2,    280.0,2,    11.79,6,    16.23,6,     1.15,6,    3.038,2,    1.555,4,    0.159,4,    3.619,4,    6.910,2,   2155.3,2,   2302.4,2, 20020706,      453
  18HU20020623, AR07W,   166,  1, 253797,     17,2,20020706,0405, 57.3778, -51.7897, 3465,   2250.2,   3.0808,  34.8796,2,  34.8802,2,    275.0,2,    283.5,2,    11.25,6,    16.58,6,     1.15,6,    3.459,2,    1.727,4,    0.200,4,    3.961,4,    7.742,2,   2155.8,2,   2295.9,2, 20020706,      457
  18HU20020623, AR07W,   166,  1, 253798,     18,2,20020706,0405, 57.3778, -51.7897, 3465,   2009.5,   3.1329,  34.8712,2,  34.8718,6,    275.5,2,    284.9,2,    10.97,6,    16.84,6,     1.17,6,    3.933,2,    1.942,4,    0.228,4,    4.467,4,    8.833,2,   2155.1,2,   2289.3,2, 20020706,      501
  18HU20020623, AR07W,   166,  1, 253799,     19,2,20020706,0405, 57.3778, -51.7897, 3465,   2009.7,   3.1332,  34.8709,2,-999.0000,9,    275.4,2,   -999.0,9,  -999.00,9,  -999.00,9,  -999.00,9, -999.000,9, -999.000,9, -999.000,9, -999.000,9, -999.000,9,   -999.0,9,   -999.0,9, 20020706,      501
  18HU20020623, AR07W,   166,  1, 253800,     20,2,20020706,0405, 57.3778, -51.7897, 3465,   2009.9,   3.1331,  34.8711,2,-999.0000,9,    275.5,2,   -999.0,9,  -999.00,9,  -999.00,9,  -999.00,9, -999.000,9, -999.000,9, -999.000,9, -999.000,9, -999.000,9,   -999.0,9,   -999.0,9, 20020706,      501
  18HU20020623, AR07W,   166,  1, 253801,     21,2,20020706,0405, 57.3778, -51.7897, 3465,   1769.9,   3.2572,  34.8763,2,  34.8770,2,    271.8,2,    281.9,2,    10.91,6,    17.12,6,     1.18,6,    3.928,2,    1.967,4,    0.218,4,    4.445,4,    8.761,2,   2156.3,2,   2301.9,2, 20020706,      505
  18HU20020623, AR07W,   166,  1, 253802,     22,2,20020706,0405, 57.3778, -51.7897, 3465,   1529.7,   3.4178,  34.8825,2,  34.8825,2,    268.4,2,    279.0,6,    10.60,6,    17.02,6,     1.18,6,    4.028,2,    1.986,4,    0.273,4,    4.352,4,    8.087,2,   2157.3,2,   2306.2,2, 20020706,      509
  18HU20020623, AR07W,   166,  1, 253803,     23,2,20020706,0405, 57.3778, -51.7897, 3465,   1530.7,   3.4159,  34.8823,2,-999.0000,9,    268.3,2,   -999.0,9,  -999.00,9,  -999.00,9,  -999.00,9, -999.000,9, -999.000,9, -999.000,9, -999.000,9, -999.000,9,   -999.0,9,   -999.0,9, 20020706,      509
  18HU20020623, AR07W,   166,  1, 253804,     24,2,20020706,0405, 57.3778, -51.7897, 3465,   1529.8,   3.4170,  34.8827,2,-999.0000,9,    268.3,2,   -999.0,9,  -999.00,9,  -999.00,9,  -999.00,9, -999.000,9, -999.000,9, -999.000,9, -999.000,9, -999.000,9,   -999.0,9,   -999.0,9, 20020706,      509