BOTTLE,20130611PRINUNIVRMK
EXPOCODE,SECT_ID,STNNBR,CASTNO,SAMPNO,BTLNBR,BTLNBR_FLAG_W,DATE,TIME,LATITUDE,LONGITUDE,DEPTH,CTDPRS,CTDTMP,CTDSAL,CTDSAL_FLAG_W,SALNTY,SALNTY_FLAG_W,CTDOXY,CTDOXY_FLAG_W,OXYGEN,OXYGEN_FLAG_W,SILCAT,SILCAT_FLAG_W,NITRAT,NITRAT_FLAG_W,PHSPHT,PHSPHT_FLAG_W,CFC-11,CFC-11_FLAG_W,CFC-12,CFC-12_FLAG_W,CFC113,CFC113_FLAG_W,CCL4,CCL4_FLAG_W,MCHFRM,MCHFRM_FLAG_W,TCARBN,TCARBN_FLAG_W,ALKALI,ALKALI_FLAG_W,BTL_DATE,BTL_TIME
,,,,,,,,,,,METERS,DBAR,ITS-90,PSS-78,,PSS-78,,UMOL/KG,,UMOL/KG,,UMOL/KG,,UMOL/KG,,UMOL/KG,,PMOL/KG,,PMOL/KG,,PMOL/KG,,PMOL/KG,,PMOL/KG,,UMOL/KG,,UMOL/KG,,,
  18HU20020623, AR07W,   375,  1, 255743,      1,2,20020715,0555, 51.1605, -47.8510, 2993,   3406.2,   1.6146,  34.8740,2,  34.8727,2,    290.9,2,    294.8,2,    11.06,6,    14.73,6,     1.12,6,    3.933,2,    2.023,4,    0.431,4,    6.034,4,    8.790,2,   2163.3,2,   2300.1,2, 20020715,      555
  18HU20020623, AR07W,   375,  1, 255744,      2,2,20020715,0555, 51.1605, -47.8510, 2993,   3321.0,   1.6997,  34.8750,2,  34.8731,2,    289.2,2,    293.4,2,    10.94,6,    14.97,6,     1.12,6,    3.554,2,    1.611,4,    0.348,4,    5.448,4,    8.347,2,   2157.6,2,   2302.1,2, 20020715,      557
  18HU20020623, AR07W,   375,  1, 255745,      3,2,20020715,0555, 51.1605, -47.8510, 2993,   3220.0,   1.8481,  34.8790,2,  34.8780,2,    286.3,2,    290.7,2,    11.27,6,    15.16,6,     1.14,6,    3.268,2,    1.627,4,    0.325,4,    5.025,4,    8.013,2,   2157.7,2,   2298.3,2, 20020715,      559
  18HU20020623, AR07W,   375,  1, 255746,      4,2,20020715,0555, 51.1605, -47.8510, 2993,   3049.5,   2.1133,  34.8872,2,  34.8859,2,    280.6,2,    286.0,2,    12.45,6,    15.71,6,     1.19,6,    2.752,2,    1.371,4,    0.349,4,    4.572,4,    7.813,2,   2156.3,2,   2264.3,3, 20020715,      602
  18HU20020623, AR07W,   375,  1, 255747,      5,2,20020715,0555, 51.1605, -47.8510, 2993,   2873.0,   2.3290,  34.8955,2,  34.8953,6,    276.2,2,    281.9,2,    13.22,6,    16.24,6,     1.22,6,    2.340,2,    1.098,4,    0.335,4,    3.757,4,    6.733,2,   2161.1,2,   2295.1,2, 20020715,      605
  18HU20020623, AR07W,   375,  1, 255748,      6,2,20020715,0555, 51.1605, -47.8510, 2993,   2700.4,   2.5367,  34.9043,2,  34.9041,6,    272.6,2,    279.2,2,    13.56,6,    16.28,6,     1.24,6,    2.065,2,    1.027,4,    0.282,4,    3.326,4,    6.318,2,   2157.9,2,   2267.4,2, 20020715,      608
  18HU20020623, AR07W,   375,  1, 255749,      7,2,20020715,0555, 51.1605, -47.8510, 2993,   2501.5,   2.7502,  34.9154,2,  34.9154,2,    268.8,2,    276.1,2,    13.51,6,    16.70,6,     1.23,6,    1.841,2,    0.837,4,    0.163,4,    3.057,4,    6.217,2,   2153.7,2,   2302.0,2, 20020715,      612
  18HU20020623, AR07W,   375,  1, 255750,      8,2,20020715,0555, 51.1605, -47.8510, 2993,   2300.5,   2.8840,  34.9115,2,  34.9113,2,    268.5,2,    276.3,2,    12.78,6,    17.16,6,     1.24,6,    1.896,2,    0.814,4,    0.190,4,    3.055,4,    6.203,2,   2149.7,2,   2294.3,2, 20020715,      615
  18HU20020623, AR07W,   375,  1, 255751,      9,2,20020715,0555, 51.1605, -47.8510, 2993,   2100.1,   2.9786,  34.9030,2,  34.9026,2,    269.1,2,    278.2,2,    11.95,6,    16.90,6,     1.21,6,    2.223,2,    0.929,4,    0.223,4,    3.465,4,    7.206,2,   2153.1,2,   2288.2,2, 20020715,      618
  18HU20020623, AR07W,   375,  1, 255752,     10,2,20020715,0555, 51.1605, -47.8510, 2993,   1900.8,   3.0478,  34.8909,2,  34.8910,2,    270.9,2,    280.9,6,    11.27,6,    17.01,6,     1.22,6,    2.514,2,    0.864,4,    0.157,4,    4.170,4,    8.916,2,   2154.8,2,   2297.2,2, 20020715,      621
  18HU20020623, AR07W,   375,  1, 255753,     11,2,20020715,0555, 51.1605, -47.8510, 2993,   1699.0,   3.0648,  34.8796,2,  34.8792,2,    272.5,2,    283.3,2,    10.77,6,    16.99,6,     1.23,6,    3.063,2,    1.390,4,    0.273,4,    4.703,4,    9.800,2,   2154.8,2,   2320.5,2, 20020715,      625
  18HU20020623, AR07W,   375,  1, 255754,     12,2,20020715,0555, 51.1605, -47.8510, 2993,   1544.3,   3.1250,  34.8760,2,  34.8751,2,    272.1,2,    283.5,2,    10.70,6,    17.51,6,     1.22,6,    3.171,2,    1.643,4,    0.481,4,    5.125,4,   10.458,2,   2152.3,2,   2323.1,2, 20020715,      627
  18HU20020623, AR07W,   375,  1, 255755,     13,2,20020715,0555, 51.1605, -47.8510, 2993,   1398.6,   3.2480,  34.8804,2,  34.8804,2,    269.9,2,    281.2,2,    10.36,6,    17.46,6,     1.22,6,    3.490,2,    1.671,4,    0.468,4,    5.458,4,   10.455,2,   2152.6,2,   2291.7,2, 20020715,      630
  18HU20020623, AR07W,   375,  1, 255756,     14,2,20020715,0555, 51.1605, -47.8510, 2993,   1200.4,   3.3890,  34.8876,2,  34.8884,2,    265.8,2,    277.6,2,    10.46,6,    17.52,6,     1.23,6,    3.003,2,    0.947,4,    0.056,4,    4.959,4,   10.027,2,   2154.1,2,   2301.1,2, 20020715,      633
  18HU20020623, AR07W,   375,  1, 255757,     15,2,20020715,0555, 51.1605, -47.8510, 2993,    979.6,   3.5700,  34.8970,2,  34.8973,2,    262.5,2,    274.8,2,    10.32,6,    17.56,6,     1.23,6,    3.201,2,    1.849,4,    0.296,4,    4.881,4,    8.665,2,   2153.4,2,   2300.6,2, 20020715,      637
  18HU20020623, AR07W,   375,  1, 255758,     16,2,20020715,0555, 51.1605, -47.8510, 2993,    800.2,   3.4043,  34.8577,2,  34.8576,2,    273.2,2,    287.2,2,     9.23,6,    16.68,6,     1.18,6,    4.484,2,    2.034,4,    0.647,4,    7.100,4,    8.032,2,   2150.8,2,   2312.1,2, 20020715,      640
  18HU20020623, AR07W,   375,  1, 255759,     17,2,20020715,0555, 51.1605, -47.8510, 2993,    678.9,   3.5054,  34.8635,2,  34.8637,2,    270.4,2,    284.4,2,     9.12,6,    16.79,6,     1.16,6,    4.162,2,    2.180,4,    0.266,4,    6.456,4,    8.206,2,   2152.8,2,   2297.2,2, 20020715,      642
  18HU20020623, AR07W,   375,  1, 255760,     18,2,20020715,0555, 51.1605, -47.8510, 2993,    509.4,   3.7083,  34.8724,2,  34.8715,2,    265.9,2,    280.2,2,     9.10,6,    16.97,6,     1.18,6,    4.192,2,    2.450,4,    0.337,4,    6.489,4,    7.737,2,   2153.6,2,   2288.9,2, 20020715,      645
  18HU20020623, AR07W,   375,  1, 255761,     19,2,20020715,0555, 51.1605, -47.8510, 2993,    360.0,   4.0556,  34.8999,2,  34.8995,2,    254.6,2,    267.4,2,     9.88,6,    17.31,6,     1.21,6, -999.000,9, -999.000,9, -999.000,9, -999.000,9, -999.000,9,   2158.7,2,   2323.2,2, 20020715,      647
  18HU20020623, AR07W,   375,  1, 255762,     20,2,20020715,0555, 51.1605, -47.8510, 2993,    240.8,   4.2721,  34.8944,2,  34.8943,2,    248.3,2,    260.8,2,    10.00,6,    17.69,6,     1.23,6,    3.658,2,    1.887,4,    0.292,4,    4.814,4,    6.437,2,   2160.0,2,   2309.2,2, 20020715,      650
  18HU20020623, AR07W,   375,  1, 255763,     21,2,20020715,0555, 51.1605, -47.8510, 2993,    141.3,   3.7083,  34.7367,2,-999.0000,9,    273.0,2,    288.4,2,     8.44,6,    16.34,6,     1.16,6,    4.728,2,    2.373,4,    0.036,4,    8.111,4,    5.742,2,   2148.2,2,   2291.2,2, 20020715,      652
  18HU20020623, AR07W,   375,  1, 255764,     22,2,20020715,0555, 51.1605, -47.8510, 2993,     68.4,   4.2940,  34.6774,2,-999.0000,9,    280.2,2,    295.3,2,     5.35,6,    14.03,6,     1.10,6,    5.597,2,    2.895,4,    0.527,4,   10.091,4,    5.140,2,   2140.8,2,   2295.0,2, 20020715,      653
  18HU20020623, AR07W,   375,  1, 255765,     23,2,20020715,0555, 51.1605, -47.8510, 2993,     34.5,   5.6846,  34.6588,2,-999.0000,9,    288.0,2,    302.2,2,     0.00,6,     7.62,6,     0.79,6,    5.299,2,    2.700,4,    0.642,4,    8.988,4,    4.466,2,   2111.0,2,   2278.5,2, 20020715,      654
  18HU20020623, AR07W,   375,  1, 255766,     24,2,20020715,0555, 51.1605, -47.8510, 2993,      4.5,   9.9172,  34.4715,2,-999.0000,9,    285.2,2,    296.9,2,     0.00,6,     0.49,6,     0.25,6,    3.705,2,    2.198,4,    0.319,4,    5.821,4,    3.370,2,   2047.5,2,   2303.7,2, 20020715,      656
  18HU20020623, AR07W,   380,  1, 255767,      1,2,20020715,1115, 50.8517, -48.4867, 1400,    201.6,   3.2919,  34.8093,2,-999.0000,9,    283.5,2,   -999.0,9,     8.31,6,    15.85,6,     1.11,6, -999.000,9, -999.000,9, -999.000,9, -999.000,9, -999.000,9,   -999.0,9,   -999.0,9, 20020715,     1115
  18HU20020623, AR07W,   380,  1, 255768,      2,2,20020715,1115, 50.8517, -48.4867, 1400,    150.1,   3.3113,  34.7901,2,-999.0000,9,    285.2,2,   -999.0,9,     8.16,6,    16.15,6,     1.11,6, -999.000,9, -999.000,9, -999.000,9, -999.000,9, -999.000,9,   -999.0,9,   -999.0,9, 20020715,     1117
  18HU20020623, AR07W,   380,  1, 255769,      3,2,20020715,1115, 50.8517, -48.4867, 1400,    100.7,   3.4253,  34.7617,2,-999.0000,9,    287.7,2,   -999.0,9,     7.75,6,    15.15,6,     1.12,6, -999.000,9, -999.000,9, -999.000,9, -999.000,9, -999.000,9,   -999.0,9,   -999.0,9, 20020715,     1118
  18HU20020623, AR07W,   380,  1, 255770,      4,2,20020715,1115, 50.8517, -48.4867, 1400,     79.9,   3.6530,  34.7333,2,-999.0000,9,    290.9,2,   -999.0,9,     6.85,6,    13.34,6,     1.07,6, -999.000,9, -999.000,9, -999.000,9, -999.000,9, -999.000,9,   -999.0,9,   -999.0,9, 20020715,     1119
  18HU20020623, AR07W,   380,  1, 255771,      5,2,20020715,1115, 50.8517, -48.4867, 1400,     60.7,   4.0108,  34.7112,2,-999.0000,9,    295.3,2,   -999.0,9,     5.80,6,    11.49,6,     1.01,6, -999.000,9, -999.000,9, -999.000,9, -999.000,9, -999.000,9,   -999.0,9,   -999.0,9, 20020715,     1120
  18HU20020623, AR07W,   380,  1, 255772,      6,2,20020715,1115, 50.8517, -48.4867, 1400,     50.2,   4.3754,  34.7092,2,-999.0000,9,    301.7,2,   -999.0,9,     3.87,6,     8.80,6,     0.89,6, -999.000,9, -999.000,9, -999.000,9, -999.000,9, -999.000,9,   -999.0,9,   -999.0,9, 20020715,     1120
  18HU20020623, AR07W,   380,  1, 255773,      7,2,20020715,1115, 50.8517, -48.4867, 1400,     40.6,   4.9066,  34.6877,2,-999.0000,9,    308.8,2,   -999.0,9,     2.22,6,     6.61,6,     0.74,6, -999.000,9, -999.000,9, -999.000,9, -999.000,9, -999.000,9,   -999.0,9,   -999.0,9, 20020715,     1121
  18HU20020623, AR07W,   380,  1, 255774,      8,2,20020715,1115, 50.8517, -48.4867, 1400,     31.0,   5.2578,  34.6838,2,-999.0000,9,    318.6,2,   -999.0,9,     0.65,6,     4.73,6,     0.55,6, -999.000,9, -999.000,9, -999.000,9, -999.000,9, -999.000,9,   -999.0,9,   -999.0,9, 20020715,     1122
  18HU20020623, AR07W,   380,  1, 255775,      9,2,20020715,1115, 50.8517, -48.4867, 1400,     30.9,   5.2503,  34.6851,2,-999.0000,9,    321.6,2,   -999.0,9,  -999.00,9,  -999.00,9,  -999.00,9, -999.000,9, -999.000,9, -999.000,9, -999.000,9, -999.000,9,   -999.0,9,   -999.0,9, 20020715,     1122
  18HU20020623, AR07W,   380,  1, 255776,     10,2,20020715,1115, 50.8517, -48.4867, 1400,     31.1,   5.2457,  34.6856,2,-999.0000,9,    322.0,2,   -999.0,9,  -999.00,9,  -999.00,9,  -999.00,9, -999.000,9, -999.000,9, -999.000,9, -999.000,9, -999.000,9,   -999.0,9,   -999.0,9, 20020715,     1122
  18HU20020623, AR07W,   380,  1, 255777,     11,2,20020715,1115, 50.8517, -48.4867, 1400,     20.4,   5.8044,  34.6701,2,-999.0000,9,    336.2,2,   -999.0,9,     0.00,6,     1.00,6,     0.24,6, -999.000,9, -999.000,9, -999.000,9, -999.000,9, -999.000,9,   -999.0,9,   -999.0,9, 20020715,     1123
  18HU20020623, AR07W,   380,  1, 255778,     12,2,20020715,1115, 50.8517, -48.4867, 1400,     10.8,   8.5503,  34.5873,2,-999.0000,9,    302.6,2,   -999.0,9,     0.00,6,     0.12,6,     0.15,6, -999.000,9, -999.000,9, -999.000,9, -999.000,9, -999.000,9,   -999.0,9,   -999.0,9, 20020715,     1123
  18HU20020623, AR07W,   380,  1, 255779,     13,2,20020715,1115, 50.8517, -48.4867, 1400,     10.9,   8.5372,  34.5899,2,-999.0000,9,    301.7,2,   -999.0,9,  -999.00,9,  -999.00,9,  -999.00,9, -999.000,9, -999.000,9, -999.000,9, -999.000,9, -999.000,9,   -999.0,9,   -999.0,9, 20020715,     1124
  18HU20020623, AR07W,   380,  1, 255780,     14,2,20020715,1115, 50.8517, -48.4867, 1400,     10.9,   8.5538,  34.5914,2,-999.0000,9,    301.4,2,   -999.0,9,  -999.00,9,  -999.00,9,  -999.00,9, -999.000,9, -999.000,9, -999.000,9, -999.000,9, -999.000,9,   -999.0,9,   -999.0,9, 20020715,     1124
  18HU20020623, AR07W,   380,  1, 255781,     15,2,20020715,1115, 50.8517, -48.4867, 1400,     10.8,   8.5537,  34.5928,2,-999.0000,9,    301.0,2,   -999.0,9,  -999.00,9,  -999.00,9,  -999.00,9, -999.000,9, -999.000,9, -999.000,9, -999.000,9, -999.000,9,   -999.0,9,   -999.0,9, 20020715,     1124
  18HU20020623, AR07W,   380,  1, 255782,     16,2,20020715,1115, 50.8517, -48.4867, 1400,      2.3,   8.5709,  34.5942,2,-999.0000,9,    300.1,2,   -999.0,9,     0.00,6,     0.11,6,     0.10,6, -999.000,9, -999.000,9, -999.000,9, -999.000,9, -999.000,9,   -999.0,9,   -999.0,9, 20020715,     1125
  18HU20020623, AR07W,   380,  1, 255783,     17,2,20020715,1115, 50.8517, -48.4867, 1400,      2.5,   8.5839,  34.5940,2,-999.0000,9,    300.3,2,   -999.0,9,  -999.00,9,  -999.00,9,  -999.00,9, -999.000,9, -999.000,9, -999.000,9, -999.000,9, -999.000,9,   -999.0,9,   -999.0,9, 20020715,     1125
  18HU20020623, AR07W,   381,  1, 255784,      1,2,20020715,1248, 50.8440, -48.4833, 2568,   2633.1,   2.3898,  34.8949,2,  34.8955,6,    261.5,2,    283.0,2,    11.70,6,    16.18,6,     1.10,6, -999.000,9, -999.000,9, -999.000,9, -999.000,9, -999.000,9,   2152.4,2,   2288.5,2, 20020715,     1248
  18HU20020623, AR07W,   381,  1, 255785,      2,2,20020715,1248, 50.8440, -48.4833, 2568,   2511.1,   2.4812,  34.8977,2,  34.8981,2,    259.5,2,    281.9,2,    11.67,6,    15.80,6,     1.10,6,    2.508,2,    1.655,4,    0.160,4,    3.017,4,    5.962,2,   2154.4,2,   2281.9,2, 20020715,     1251
  18HU20020623, AR07W,   381,  1, 255786,      3,2,20020715,1248, 50.8440, -48.4833, 2568,   2360.0,   2.6429,  34.9008,2,  34.9014,2,    257.3,2,    280.9,2,    11.46,6,    16.15,6,     1.12,6,    2.444,2,    1.492,4,    0.130,4,    2.900,4,    5.919,2,   2154.9,2,   2279.7,2, 20020715,     1253
  18HU20020623, AR07W,   381,  1, 255787,      4,2,20020715,1248, 50.8440, -48.4833, 2568,   2179.4,   2.7954,  34.8982,2,  34.8983,2,    256.6,2,    280.8,2,    11.03,6,    16.22,6,     1.13,6,    2.589,2,    1.597,4,    0.141,4,    3.037,4,    6.326,2,   2153.0,2,   2267.7,2, 20020715,     1256
  18HU20020623, AR07W,   381,  1, 255788,      5,2,20020715,1248, 50.8440, -48.4833, 2568,   2000.2,   2.9038,  34.8951,2,  34.8952,6,    256.0,2,    281.1,2,    10.92,6,    16.36,6,     1.15,6,    2.675,2,    1.619,4,    0.173,4,    3.124,4,    6.724,2,   2152.5,2,   2285.8,2, 20020715,     1259
  18HU20020623, AR07W,   381,  1, 255789,      6,2,20020715,1248, 50.8440, -48.4833, 2568,   1800.8,   3.0049,  34.8887,2,  34.8882,2,    255.9,2,    282.0,2,    10.64,6,    16.52,6,     1.12,6,    2.854,2,    1.800,4,    0.182,4,    3.287,4,    7.429,2,   2151.8,2,   2283.8,2, 20020715,     1302
  18HU20020623, AR07W,   381,  1, 255790,      7,2,20020715,1248, 50.8440, -48.4833, 2568,   1600.6,   3.0809,  34.8756,2,  34.8760,2,    257.2,2,    284.4,2,    10.18,6,    17.02,6,     1.15,6,    3.193,2,    1.843,4,    0.203,4,    3.602,4,    8.280,2,   2151.9,2,   2299.8,2, 20020715,     1306
  18HU20020623, AR07W,   381,  1, 255791,      8,2,20020715,1248, 50.8440, -48.4833, 2568,   1400.6,   3.2077,  34.8792,2,  34.8792,2,    254.7,2,    282.4,2,    10.02,6,    16.75,6,     1.15,6,    3.343,2,    2.012,4,    0.214,4,    3.724,4,    8.456,2,   2153.6,2,   2278.0,2, 20020715,     1309
  18HU20020623, AR07W,   381,  1, 255792,      9,2,20020715,1248, 50.8440, -48.4833, 2568,   1210.4,   3.3350,  34.8777,2,  34.8776,2,    254.0,2,    282.4,2,     9.76,6,    16.22,6,     1.13,6,    3.676,2,    2.205,4,    0.273,4,    4.130,4,    8.134,2,   2152.6,2,   -999.0,9, 20020715,     1312
  18HU20020623, AR07W,   381,  1, 255793,     10,2,20020715,1248, 50.8440, -48.4833, 2568,   1030.8,   3.2858,  34.8570,2,  34.8558,2,    260.1,2,    290.6,6,     8.89,6,    15.96,6,     1.13,6,    4.319,2,    2.679,4,    0.373,4,    5.032,4,    7.140,2,   2150.8,2,   2295.4,2, 20020715,     1315
  18HU20020623, AR07W,   381,  1, 255794,     11,2,20020715,1248, 50.8440, -48.4833, 2568,    850.4,   3.2414,  34.8445,2,  34.8440,2,    263.8,2,    295.0,2,     8.54,6,    16.29,6,     1.15,6,    4.524,2,    2.670,4,    0.367,4,    5.038,4,    6.167,2,   2150.6,2,   2292.7,2, 20020715,     1318
  18HU20020623, AR07W,   381,  1, 255795,     12,2,20020715,1248, 50.8440, -48.4833, 2568,    671.0,   3.2736,  34.8443,2,  34.8436,2,    261.8,2,    293.8,2,     8.51,6,    16.32,6,     1.14,6,    4.600,2,    2.701,4,    0.363,4,    5.199,4,    6.618,2,   2149.8,2,   2291.8,2, 20020715,     1321
  18HU20020623, AR07W,   381,  1, 255796,     13,2,20020715,1248, 50.8440, -48.4833, 2568,    509.5,   3.2878,  34.8394,2,  34.8367,2,    262.6,2,    295.1,2,     8.35,6,    15.87,6,     1.14,6,    4.673,2,    2.839,4,    0.451,4,    5.461,4,    6.343,2,   2149.8,2,   2294.6,2, 20020715,     1324
  18HU20020623, AR07W,   381,  1, 255797,     14,2,20020715,1248, 50.8440, -48.4833, 2568,    370.7,   3.3085,  34.8358,2,  34.8328,2,    260.4,2,    293.3,2,     8.58,6,    16.29,6,     1.13,6,    4.539,2,    2.690,4,    0.383,4,    5.069,4,    6.027,2,   2149.7,2,   2287.3,2, 20020715,     1327
  18HU20020623, AR07W,   381,  1, 255798,     15,2,20020715,1248, 50.8440, -48.4833, 2568,    250.6,   3.2932,  34.8207,2,  34.8190,2,    262.5,2,    296.0,2,     8.30,6,    16.10,6,     1.14,6,    4.796,2,    2.923,4,    0.387,4,    5.439,4,    5.760,2,   2148.3,2,   2311.7,2, 20020715,     1329
  18HU20020623, AR07W,   381,  1, 255799,     16,2,20020715,1248, 50.8440, -48.4833, 2568,    151.2,   3.3123,  34.7895,2,-999.0000,9,    266.4,2,    300.6,2,     8.05,6,    15.55,6,     1.11,6,    5.058,2,    3.019,4,    0.353,4,    5.836,4,    5.358,2,   2147.3,2,   2291.2,2, 20020715,     1331
  18HU20020623, AR07W,   381,  1, 255800,     17,2,20020715,1248, 50.8440, -48.4833, 2568,    101.2,   3.4347,  34.7581,2,-999.0000,9,    268.4,2,    302.9,2,     7.65,6,    14.70,6,     1.11,6,    5.026,2,    2.900,4,    0.491,4,    5.945,4,    5.060,2,   2144.6,2,   2288.5,2, 20020715,     1332
  18HU20020623, AR07W,   381,  1, 255801,     18,2,20020715,1248, 50.8440, -48.4833, 2568,     50.1,   4.7487,  34.6943,2,-999.0000,9,    285.8,2,    324.6,2,     2.07,6,     6.34,6,     0.77,6,    5.412,2,    3.811,4,    0.455,4,    6.413,4,    4.639,2,   2103.5,2,   2275.5,2, 20020715,     1333
  18HU20020623, AR07W,   381,  1, 255802,     19,2,20020715,1248, 50.8440, -48.4833, 2568,     20.9,   8.4213,  34.5891,2,-999.0000,9,    287.7,2,   -999.0,9,  -999.00,9,  -999.00,9,  -999.00,9, -999.000,9, -999.000,9, -999.000,9, -999.000,9, -999.000,9,   -999.0,9,   -999.0,9, 20020715,     1334
  18HU20020623, AR07W,   381,  1, 255803,     20,2,20020715,1248, 50.8440, -48.4833, 2568,      2.5,   8.7971,  34.5938,2,-999.0000,9,    281.8,2,    312.3,2,     0.00,6,     0.14,6,     0.13,6,    4.590,2,    2.786,4,    0.437,4,    5.435,4,    3.496,2,   2042.8,2,   2275.2,2, 20020715,     1335