BOTTLE,20130611PRINUNIVRMK
EXPOCODE,SECT_ID,STNNBR,CASTNO,SAMPNO,BTLNBR,BTLNBR_FLAG_W,DATE,TIME,LATITUDE,LONGITUDE,DEPTH,CTDPRS,CTDTMP,CTDSAL,CTDSAL_FLAG_W,SALNTY,SALNTY_FLAG_W,CTDOXY,CTDOXY_FLAG_W,OXYGEN,OXYGEN_FLAG_W,SILCAT,SILCAT_FLAG_W,NITRAT,NITRAT_FLAG_W,PHSPHT,PHSPHT_FLAG_W,CFC-11,CFC-11_FLAG_W,CFC-12,CFC-12_FLAG_W,CFC113,CFC113_FLAG_W,CCL4,CCL4_FLAG_W,MCHFRM,MCHFRM_FLAG_W,TCARBN,TCARBN_FLAG_W,ALKALI,ALKALI_FLAG_W,BTL_DATE,BTL_TIME
,,,,,,,,,,,METERS,DBAR,ITS-90,PSS-78,,PSS-78,,UMOL/KG,,UMOL/KG,,UMOL/KG,,UMOL/KG,,UMOL/KG,,PMOL/KG,,PMOL/KG,,PMOL/KG,,PMOL/KG,,PMOL/KG,,UMOL/KG,,UMOL/KG,,,
  18HU20020623, AR07W,   310,  1, 254314,      1,2,20020711,1052, 57.9988, -43.9993, 2990,    201.2,   4.6890,  34.9305,2,-999.0000,9,    273.6,2,   -999.0,9,     8.15,6,    15.80,6,     1.13,6, -999.000,9, -999.000,9, -999.000,9, -999.000,9, -999.000,9,   -999.0,9,   -999.0,9, 20020711,     1052
  18HU20020623, AR07W,   310,  1, 254315,      2,2,20020711,1052, 57.9988, -43.9993, 2990,    149.5,   4.9514,  34.9408,2,-999.0000,9,    273.3,2,   -999.0,9,     7.79,6,    15.76,6,     1.09,6, -999.000,9, -999.000,9, -999.000,9, -999.000,9, -999.000,9,   -999.0,9,   -999.0,9, 20020711,     1053
  18HU20020623, AR07W,   310,  1, 254316,      3,2,20020711,1052, 57.9988, -43.9993, 2990,    100.4,   5.0054,  34.8783,2,-999.0000,9,    277.5,2,   -999.0,9,     6.99,6,    14.45,6,     1.07,6, -999.000,9, -999.000,9, -999.000,9, -999.000,9, -999.000,9,   -999.0,9,   -999.0,9, 20020711,     1054
  18HU20020623, AR07W,   310,  1, 254317,      4,2,20020711,1052, 57.9988, -43.9993, 2990,     80.2,   5.3453,  34.8290,2,-999.0000,9,    283.7,2,   -999.0,9,     4.63,6,    11.90,6,     1.00,6, -999.000,9, -999.000,9, -999.000,9, -999.000,9, -999.000,9,   -999.0,9,   -999.0,9, 20020711,     1055
  18HU20020623, AR07W,   310,  1, 254318,      5,2,20020711,1052, 57.9988, -43.9993, 2990,     59.9,   5.7626,  34.8088,2,-999.0000,9,    287.5,2,   -999.0,9,     2.77,6,    10.19,6,     0.88,6, -999.000,9, -999.000,9, -999.000,9, -999.000,9, -999.000,9,   -999.0,9,   -999.0,9, 20020711,     1056
  18HU20020623, AR07W,   310,  1, 254319,      6,2,20020711,1052, 57.9988, -43.9993, 2990,     50.7,   6.0639,  34.7999,2,-999.0000,9,    289.6,2,   -999.0,9,     1.78,6,     9.18,6,     0.80,6, -999.000,9, -999.000,9, -999.000,9, -999.000,9, -999.000,9,   -999.0,9,   -999.0,9, 20020711,     1057
  18HU20020623, AR07W,   310,  1, 254320,      7,2,20020711,1052, 57.9988, -43.9993, 2990,     40.3,   6.5291,  34.7646,2,-999.0000,9,    291.5,2,   -999.0,9,     0.87,6,     8.12,6,     0.70,6, -999.000,9, -999.000,9, -999.000,9, -999.000,9, -999.000,9,   -999.0,9,   -999.0,9, 20020711,     1058
  18HU20020623, AR07W,   310,  1, 254321,      8,2,20020711,1052, 57.9988, -43.9993, 2990,     30.1,   6.5088,  34.7651,2,-999.0000,9,    291.3,2,   -999.0,9,     0.83,6,     8.18,6,     0.71,6, -999.000,9, -999.000,9, -999.000,9, -999.000,9, -999.000,9,   -999.0,9,   -999.0,9, 20020711,     1059
  18HU20020623, AR07W,   310,  1, 254322,      9,2,20020711,1052, 57.9988, -43.9993, 2990,     20.5,   6.5176,  34.7644,2,-999.0000,9,    291.4,2,   -999.0,9,     0.87,6,     8.11,6,     0.69,6, -999.000,9, -999.000,9, -999.000,9, -999.000,9, -999.000,9,   -999.0,9,   -999.0,9, 20020711,     1100
  18HU20020623, AR07W,   310,  1, 254323,     10,2,20020711,1052, 57.9988, -43.9993, 2990,     20.5,   6.5193,  34.7650,2,-999.0000,9,    291.3,2,   -999.0,9,  -999.00,9,  -999.00,9,  -999.00,9, -999.000,9, -999.000,9, -999.000,9, -999.000,9, -999.000,9,   -999.0,9,   -999.0,9, 20020711,     1100
  18HU20020623, AR07W,   310,  1, 254324,     11,2,20020711,1052, 57.9988, -43.9993, 2990,     20.6,   6.5166,  34.7653,2,-999.0000,9,    291.4,2,   -999.0,9,  -999.00,9,  -999.00,9,  -999.00,9, -999.000,9, -999.000,9, -999.000,9, -999.000,9, -999.000,9,   -999.0,9,   -999.0,9, 20020711,     1100
  18HU20020623, AR07W,   310,  1, 254325,     12,2,20020711,1052, 57.9988, -43.9993, 2990,     10.5,   6.5213,  34.7651,2,-999.0000,9,    291.5,2,   -999.0,9,     0.86,6,     8.25,6,     0.73,6, -999.000,9, -999.000,9, -999.000,9, -999.000,9, -999.000,9,   -999.0,9,   -999.0,9, 20020711,     1101
  18HU20020623, AR07W,   310,  1, 254326,     13,2,20020711,1052, 57.9988, -43.9993, 2990,     10.5,   6.5212,  34.7652,2,-999.0000,9,    291.5,2,   -999.0,9,  -999.00,9,  -999.00,9,  -999.00,9, -999.000,9, -999.000,9, -999.000,9, -999.000,9, -999.000,9,   -999.0,9,   -999.0,9, 20020711,     1101
  18HU20020623, AR07W,   310,  1, 254327,     14,2,20020711,1052, 57.9988, -43.9993, 2990,     10.2,   6.5241,  34.7652,2,-999.0000,9,    291.3,2,   -999.0,9,  -999.00,9,  -999.00,9,  -999.00,9, -999.000,9, -999.000,9, -999.000,9, -999.000,9, -999.000,9,   -999.0,9,   -999.0,9, 20020711,     1101
  18HU20020623, AR07W,   310,  1, 254328,     15,2,20020711,1052, 57.9988, -43.9993, 2990,     10.0,   6.5253,  34.7650,2,-999.0000,9,    291.5,2,   -999.0,9,  -999.00,9,  -999.00,9,  -999.00,9, -999.000,9, -999.000,9, -999.000,9, -999.000,9, -999.000,9,   -999.0,9,   -999.0,9, 20020711,     1101
  18HU20020623, AR07W,   310,  1, 254329,     16,2,20020711,1052, 57.9988, -43.9993, 2990,      2.6,   6.5227,  34.7651,2,-999.0000,9,    291.5,2,   -999.0,9,     0.82,6,     8.27,6,     0.68,6, -999.000,9, -999.000,9, -999.000,9, -999.000,9, -999.000,9,   -999.0,9,   -999.0,9, 20020711,     1102
  18HU20020623, AR07W,   310,  1, 254330,     17,2,20020711,1052, 57.9988, -43.9993, 2990,      2.7,   6.5248,  34.7653,2,-999.0000,9,    291.8,2,   -999.0,9,  -999.00,9,  -999.00,9,  -999.00,9, -999.000,9, -999.000,9, -999.000,9, -999.000,9, -999.000,9,   -999.0,9,   -999.0,9, 20020711,     1102
  18HU20020623, AR07W,   314,  1, 254331,      1,2,20020711,1434, 57.9993, -44.0005, 2990,   3117.0,   1.3461,  34.8822,2,  34.8794,2,    293.7,2,    300.0,2,     8.20,6,    13.62,6,     0.97,6,    4.541,2,    2.618,4,    0.361,4,    6.275,4,    8.050,2,   2156.9,2,   2302.3,2, 20020711,     1434
  18HU20020623, AR07W,   314,  1, 254332,      2,2,20020711,1434, 57.9993, -44.0005, 2990,   3041.9,   1.4006,  34.8804,2,  34.8788,2,    292.5,2,    298.2,2,     8.03,6,    13.63,6,     0.95,6,    4.678,2,    2.588,4,    0.222,4,    6.281,4,    8.040,2,   2155.6,2,   2306.2,2, 20020711,     1437
  18HU20020623, AR07W,   314,  1, 254333,      3,2,20020711,1434, 57.9993, -44.0005, 2990,   2919.7,   1.6098,  34.8788,2,  34.8778,2,    290.3,2,    297.0,2,     7.97,6,    13.86,6,     0.96,6,    4.593,2,    2.518,4,    0.363,4,    6.273,4,    8.063,2,   2151.5,2,   2296.9,2, 20020711,     1439
  18HU20020623, AR07W,   314,  1, 254334,      4,2,20020711,1434, 57.9993, -44.0005, 2990,   2780.8,   1.9620,  34.8781,2,  34.8778,2,    286.5,2,    293.8,2,     8.66,6,    14.28,6,     0.99,6,    4.279,2,    2.409,4,    0.266,4,    5.791,4,    7.942,2,   2154.6,2,   2297.3,2, 20020711,     1441
  18HU20020623, AR07W,   314,  1, 254335,      5,2,20020711,1434, 57.9993, -44.0005, 2990,   2638.6,   2.5199,  34.8984,2,  34.8988,6,    277.0,2,    283.6,2,    11.61,6,    15.51,6,     1.05,6,    3.030,2,    1.805,4,    0.244,4,    4.060,4,    6.665,2,   2157.5,2,   2299.5,2, 20020711,     1444
  18HU20020623, AR07W,   314,  1, 254336,      6,2,20020711,1434, 57.9993, -44.0005, 2990,   2479.0,   2.7775,  34.9078,2,  34.9081,6,    273.0,2,    279.7,2,    11.91,6,    15.87,6,     1.09,6,    2.744,2,    1.840,4,    0.354,4,    3.742,4,    6.637,2,   2156.3,2,   2300.1,2, 20020711,     1447
  18HU20020623, AR07W,   314,  1, 254337,      7,2,20020711,1434, 57.9993, -44.0005, 2990,   2310.5,   2.8851,  34.8963,2,  34.8967,2,    274.2,2,    282.6,2,    11.10,6,    15.79,6,     1.10,6,    3.209,2,    1.854,4,    0.208,4,    4.383,4,    7.708,2,   2155.3,2,   2302.5,2, 20020711,     1450
  18HU20020623, AR07W,   314,  1, 254338,      8,2,20020711,1434, 57.9993, -44.0005, 2990,   2149.7,   3.0471,  34.8973,2,  34.8975,2,    272.9,2,    283.5,6,    10.86,6,    16.20,6,     1.11,6,    2.997,2,    1.791,4,    0.235,4,    4.023,4,    7.975,2,   2155.4,2,   2299.8,2, 20020711,     1452
  18HU20020623, AR07W,   314,  1, 254339,      9,2,20020711,1434, 57.9993, -44.0005, 2990,   1988.8,   3.0783,  34.8859,2,  34.8867,2,    274.5,2,    284.0,2,    10.09,6,    16.44,6,     1.10,6,    3.704,2,    2.232,4,    0.348,4,    4.983,4,    9.220,2,   2155.4,2,   2304.3,2, 20020711,     1455
  18HU20020623, AR07W,   314,  1, 254340,     10,2,20020711,1434, 57.9993, -44.0005, 2990,   1810.5,   3.1312,  34.8802,2,  34.8804,2,    274.8,2,    285.0,2,     9.88,6,    16.52,6,     1.09,6,    4.040,2,    2.231,4,    0.137,4,    5.367,4,   10.204,2,   2155.7,2,   2290.4,2, 20020711,     1458
  18HU20020623, AR07W,   314,  1, 254341,     11,2,20020711,1434, 57.9993, -44.0005, 2990,   1632.2,   3.2441,  34.8843,2,  34.8847,2,    272.3,2,    282.6,2,    10.04,6,    16.71,6,     1.12,6,    3.858,2,    2.207,4,    0.345,4,    5.074,4,    9.884,2,   2156.4,2,   2287.4,2, 20020711,     1501
  18HU20020623, AR07W,   314,  1, 254342,     12,2,20020711,1434, 57.9993, -44.0005, 2990,   1429.9,   3.3942,  34.8899,2,  34.8900,2,    268.2,2,    279.4,2,    10.03,6,    16.82,6,     1.12,6,    3.936,2,    2.239,4,    0.325,4,    5.147,4,    9.811,2,   2155.7,2,   2288.4,2, 20020711,     1504
  18HU20020623, AR07W,   314,  1, 254343,     13,2,20020711,1434, 57.9993, -44.0005, 2990,   1229.7,   3.4730,  34.8871,2,  34.8879,2,    266.8,2,    278.5,2,     9.79,6,    16.84,6,     1.13,6,    4.205,2,    2.377,4,    0.226,4,    5.571,4,    9.636,2,   2154.4,2,   2285.2,2, 20020711,     1508
  18HU20020623, AR07W,   314,  1, 254344,     14,2,20020711,1434, 57.9993, -44.0005, 2990,   1028.5,   3.4566,  34.8711,2,  34.8711,2,    269.5,2,    282.3,2,     9.34,6,    16.51,6,     1.12,6,    4.528,2,    2.516,4,    0.383,4,    5.744,4,    8.919,2,   2154.1,2,   2281.0,2, 20020711,     1511
  18HU20020623, AR07W,   314,  1, 254345,     15,2,20020711,1434, 57.9993, -44.0005, 2990,    850.6,   3.4351,  34.8538,2,  34.8536,2,    278.8,2,    293.5,2,     8.60,6,    16.31,6,     1.10,6,    5.582,2,    2.895,4,    0.527,4,    7.675,4,    7.380,2,   2149.7,2,   2265.9,2, 20020711,     1514
  18HU20020623, AR07W,   314,  1, 254346,     16,2,20020711,1434, 57.9993, -44.0005, 2990,    670.0,   3.5783,  34.8622,2,  34.8619,2,    275.4,2,    289.5,2,     8.73,6,    16.70,6,     1.09,6,    5.482,2,    2.837,4,    0.423,4,    7.746,4,    7.577,2,   2151.1,2,   2271.7,2, 20020711,     1518
  18HU20020623, AR07W,   314,  1, 254347,     17,2,20020711,1434, 57.9993, -44.0005, 2990,    508.9,   3.8153,  34.8790,2,  34.8782,2,    273.6,2,    287.4,2,     8.53,6,    16.32,6,     1.09,6,    5.336,2,    2.842,4,    0.550,4,    7.167,4,    6.938,2,   2149.7,2,   2268.5,2, 20020711,     1521
  18HU20020623, AR07W,   314,  1, 254348,     18,2,20020711,1434, 57.9993, -44.0005, 2990,    370.4,   4.0157,  34.8805,2,  34.8794,2,    277.4,2,    292.3,2,     8.11,6,    16.21,6,     1.05,6,    5.697,2,    2.875,4,    0.422,4,    8.102,4,    5.785,2,   2147.6,2,   2279.1,2, 20020711,     1523
  18HU20020623, AR07W,   314,  1, 254349,     19,2,20020711,1434, 57.9993, -44.0005, 2990,    249.8,   4.5937,  34.9320,2,  34.9309,2,    273.9,2,    287.7,2,     7.78,6,    15.91,6,     1.05,6,    5.149,2,    2.678,4,    0.393,4,    7.750,4,    5.641,2,   2150.9,2,   2282.1,2, 20020711,     1525
  18HU20020623, AR07W,   314,  1, 254350,     20,2,20020711,1434, 57.9993, -44.0005, 2990,    149.6,   5.0041,  34.9472,2,-999.0000,9,    272.0,2,    285.7,2,     7.46,6,    15.82,6,     1.04,6,    5.420,2,    2.925,4,    0.541,4,    7.411,4,    5.104,2,   2147.8,2,   2280.0,2, 20020711,     1527
  18HU20020623, AR07W,   314,  1, 254351,     21,2,20020711,1434, 57.9993, -44.0005, 2990,    100.4,   4.9353,  34.8816,2,-999.0000,9,    275.9,2,    290.0,2,     6.83,6,    14.85,6,     1.03,6,    5.811,2,    3.115,4,    0.473,4,    8.175,4,    4.684,2,   2144.9,2,   2273.3,2, 20020711,     1528
  18HU20020623, AR07W,   314,  1, 254352,     22,2,20020711,1434, 57.9993, -44.0005, 2990,     49.5,   5.9945,  34.7969,2,-999.0000,9,    287.1,2,    302.8,2,     1.86,6,     9.55,6,     0.80,6,    5.417,2,    3.011,4,    0.328,4,    9.586,4,    4.435,2,   2115.5,2,   2275.6,2, 20020711,     1529
  18HU20020623, AR07W,   314,  1, 254353,     23,2,20020711,1434, 57.9993, -44.0005, 2990,     19.3,   6.4135,  34.7525,2,-999.0000,9,    291.7,2,    306.0,2,     0.68,6,     8.04,6,     0.66,6,    5.908,2,    3.092,4,    0.494,4,    9.800,4,    4.129,2,   2103.1,2,   2276.8,2, 20020711,     1530
  18HU20020623, AR07W,   314,  1, 254354,     24,2,20020711,1434, 57.9993, -44.0005, 2990,      4.5,   6.4161,  34.7523,2,-999.0000,9,    292.7,2,    306.7,2,     0.66,6,     8.15,6,     0.63,6,    6.067,2,    3.255,4,    0.615,4,    9.895,4,    4.168,2,   2101.3,2,   2279.3,2, 20020711,     1531
  18HU20020623, AR07W,   323,  1, 254355,      1,2,20020711,1948, 57.5018, -43.9940, 3353,   3479.2,   1.4421,  34.8808,2,  34.8808,2,    294.5,2,    297.7,2,     8.57,6,    13.98,6,     0.95,6,    3.770,2,    2.193,4,    0.214,4,    4.306,4,    6.258,2,   2155.2,2,   2292.8,2, 20020711,     1948
  18HU20020623, AR07W,   323,  1, 254356,      2,2,20020711,1948, 57.5018, -43.9940, 3353,   3399.9,   1.5568,  34.8767,2,  34.8770,2,    293.6,2,    297.3,2,     8.20,6,    13.90,6,     0.92,6,    3.701,2,    2.140,4,    0.191,4,    4.128,4,    6.198,2,   2152.4,2,   2286.4,2, 20020711,     1950
  18HU20020623, AR07W,   323,  1, 254357,      3,2,20020711,1948, 57.5018, -43.9940, 3353,   3289.8,   1.7164,  34.8610,2,  34.8609,2,    293.3,2,    298.0,2,     7.78,6,    13.73,6,     0.92,6,    3.830,2,    2.228,4,    0.201,4,    4.385,4,    6.196,2,   2151.4,2,   2285.3,2, 20020711,     1952
  18HU20020623, AR07W,   323,  1, 254358,      4,2,20020711,1948, 57.5018, -43.9940, 3353,   3170.0,   1.9398,  34.8631,2,  34.8635,2,    290.4,2,    295.1,2,     8.35,6,    14.11,6,     0.93,6,    3.718,2,    2.142,4,    0.208,4,    4.201,4,    6.019,2,   2150.2,2,   2284.3,2, 20020711,     1954
  18HU20020623, AR07W,   323,  1, 254359,      5,2,20020711,1948, 57.5018, -43.9940, 3353,   3051.0,   2.1352,  34.8710,2,  34.8715,2,    286.8,2,    291.4,2,     9.19,6,    14.40,6,     0.97,6,    3.384,2,    1.998,4,    0.180,4,    3.795,4,    5.807,2,   2151.3,2,   2293.5,2, 20020711,     1956
  18HU20020623, AR07W,   323,  1, 254360,      6,2,20020711,1948, 57.5018, -43.9940, 3353,   2921.6,   2.6047,  34.9063,2,  34.9071,2,    275.5,2,    280.0,2,    12.41,6,    15.71,6,     1.06,6,    2.257,2,    1.405,4,    0.092,4,    2.683,4,    5.057,2,   2155.7,2,   2296.6,2, 20020711,     1959
  18HU20020623, AR07W,   323,  1, 254361,      7,2,20020711,1948, 57.5018, -43.9940, 3353,   2769.3,   2.7800,  34.9085,2,  34.9085,2,    273.0,2,    278.7,2,    12.01,6,    16.31,6,     1.07,6,    2.242,2,    1.394,4,    0.088,4,    2.682,4,    5.236,2,   2154.3,2,   2300.9,2, 20020711,     2001
  18HU20020623, AR07W,   323,  1, 254362,      8,2,20020711,1948, 57.5018, -43.9940, 3353,   2583.5,   2.9116,  34.9108,2,  34.9113,2,    270.9,2,    277.3,6,    12.26,6,    16.58,6,     1.07,6,    2.092,2,    1.308,4,    0.080,4,    2.549,4,    5.335,2,   2154.9,2,   2290.6,2, 20020711,     2004
  18HU20020623, AR07W,   323,  1, 254363,      9,2,20020711,1948, 57.5018, -43.9940, 3353,   2379.8,   2.9834,  34.9030,2,  34.9026,2,    271.2,2,    278.7,2,    11.58,6,    16.35,6,     1.08,6,    2.288,2,    1.404,4,    0.087,4,    2.724,4,    5.691,2,   2153.9,2,   2292.6,2, 20020711,     2007
  18HU20020623, AR07W,   323,  1, 254364,     10,2,20020711,1948, 57.5018, -43.9940, 3353,   2159.8,   3.0569,  34.8886,2,  34.8892,6,    273.8,2,    282.3,2,    10.81,6,    16.35,6,     1.08,6,    2.789,2,    1.654,4,    0.125,4,    3.208,4,    6.848,2,   2153.9,2,   2280.9,2, 20020711,     2011
  18HU20020623, AR07W,   323,  1, 254365,     11,2,20020711,1948, 57.5018, -43.9940, 3353,   1929.7,   3.1270,  34.8781,2,  34.8779,6,    275.2,2,    284.6,2,    10.14,6,    16.42,6,     1.10,6,    3.285,2,    1.893,4,    0.149,4,    3.670,4,    7.961,2,   2149.0,2,   2282.8,2, 20020711,     2014
  18HU20020623, AR07W,   323,  1, 254366,     12,2,20020711,1948, 57.5018, -43.9940, 3353,   1700.2,   3.2253,  34.8773,2,  34.8770,2,    272.6,2,    282.5,2,    10.17,6,    16.63,6,     1.11,6,    3.275,2,    1.910,4,    0.157,4,    3.605,4,    7.857,2,   2151.1,2,   2266.9,2, 20020711,     2018
  18HU20020623, AR07W,   323,  1, 254367,     13,2,20020711,1948, 57.5018, -43.9940, 3353,   1469.9,   3.3869,  34.8861,2,  34.8861,2,    268.6,2,    279.1,2,    10.28,6,    16.95,6,     1.12,6,    3.284,2,    1.974,4,    0.195,4,    3.657,4,    7.608,2,   2151.7,2,   2258.7,2, 20020711,     2021
  18HU20020623, AR07W,   323,  1, 254368,     14,2,20020711,1948, 57.5018, -43.9940, 3353,   1249.9,   3.4075,  34.8693,2,  34.8696,2,    270.2,2,    282.1,2,     9.88,6,    16.71,6,     1.11,6,    3.783,2,    2.242,4,    0.212,4,    3.971,4,    7.309,2,   2149.9,2,   2261.7,2, 20020711,     2024
  18HU20020623, AR07W,   323,  1, 254369,     15,2,20020711,1948, 57.5018, -43.9940, 3353,   1048.3,   3.2368,  34.8333,2,-999.0000,9,    280.8,2,    293.8,2,     8.88,6,    16.16,6,     1.07,6,    4.532,2,    2.623,4,    0.330,4,    4.951,4,    6.207,2,   2149.8,2,   2263.1,2, 20020711,     2028
  18HU20020623, AR07W,   323,  1, 254370,     16,2,20020711,1948, 57.5018, -43.9940, 3353,    850.4,   3.2844,  34.8360,2,-999.0000,9,    281.4,2,   -999.0,9,  -999.00,9,  -999.00,9,  -999.00,9, -999.000,9, -999.000,9, -999.000,9, -999.000,9, -999.000,9,   -999.0,9,   -999.0,9, 20020711,     2031
  18HU20020623, AR07W,   323,  1, 254371,     17,2,20020711,1948, 57.5018, -43.9940, 3353,    671.3,   3.3223,  34.8387,2,  34.8375,2,    281.7,2,    296.1,2,     8.69,6,    16.01,6,     1.08,6,    4.671,2,    2.702,4,    0.274,4,    5.000,4,    5.710,2,   2149.8,2,   2256.8,2, 20020711,     2033
  18HU20020623, AR07W,   323,  1, 254372,     18,2,20020711,1948, 57.5018, -43.9940, 3353,    509.9,   3.3499,  34.8388,2,  34.8387,2,    283.9,2,    298.7,2,     8.49,6,    16.01,6,     1.15,6,    4.810,2,    2.781,4,    0.352,4,    5.361,4,    5.366,2,   2149.2,2,   2268.9,2, 20020711,     2036
  18HU20020623, AR07W,   323,  1, 254373,     19,2,20020711,1948, 57.5018, -43.9940, 3353,    361.1,   3.3593,  34.8336,2,  34.8306,2,    282.3,2,    297.5,2,     8.61,6,    16.06,6,     1.06,6,    4.649,2,    2.683,4,    0.278,4,    5.332,4,    5.179,2,   2152.2,2,   2260.2,2, 20020711,     2039
  18HU20020623, AR07W,   323,  1, 254374,     20,2,20020711,1948, 57.5018, -43.9940, 3353,    240.8,   3.3061,  34.8171,2,-999.0000,9,    281.2,2,    296.6,2,     8.73,6,    16.06,6,     1.08,6,    4.604,2,    2.773,4,    0.441,4,    5.371,4,    5.250,2,   2153.6,2,   2257.7,2, 20020711,     2041
  18HU20020623, AR07W,   323,  1, 254375,     21,2,20020711,1948, 57.5018, -43.9940, 3353,    141.0,   3.6044,  34.8284,2,-999.0000,9,    282.3,2,    298.1,2,     8.30,6,    15.89,6,     1.08,6,    4.913,2,    2.838,4,    0.355,4,    5.566,4,    4.725,2,   2152.6,2,   2254.2,2, 20020711,     2042
  18HU20020623, AR07W,   323,  1, 254376,     22,2,20020711,1948, 57.5018, -43.9940, 3353,     71.6,   3.9251,  34.7602,2,-999.0000,9,    290.6,2,    307.4,2,     8.03,6,    15.75,6,     1.10,6,    5.102,2,    2.873,4,    0.315,4,    6.205,4,    4.040,2,   2143.8,2,   2261.7,2, 20020711,     2044
  18HU20020623, AR07W,   323,  1, 254377,     23,2,20020711,1948, 57.5018, -43.9940, 3353,     35.9,   5.9588,  34.7095,2,-999.0000,9,    299.7,2,    314.9,2,     0.67,6,     6.07,6,     0.53,6,    4.844,2,    2.867,4,    0.382,4,    6.300,4,    3.442,2,   2150.4,2,   2271.0,2, 20020711,     2045
  18HU20020623, AR07W,   323,  1, 254378,     24,2,20020711,1948, 57.5018, -43.9940, 3353,      2.6,   5.9730,  34.7131,2,-999.0000,9,    301.0,2,    314.9,2,     0.40,6,     5.92,6,     0.53,6,    4.974,2,    2.899,4,    0.408,4,    6.229,4,    3.556,2,   -999.0,9,   2276.8,2, 20020711,     2045