BOTTLE,20130611PRINUNIVRMK
EXPOCODE,SECT_ID,STNNBR,CASTNO,SAMPNO,BTLNBR,BTLNBR_FLAG_W,DATE,TIME,LATITUDE,LONGITUDE,DEPTH,CTDPRS,CTDTMP,CTDSAL,CTDSAL_FLAG_W,SALNTY,SALNTY_FLAG_W,CTDOXY,CTDOXY_FLAG_W,OXYGEN,OXYGEN_FLAG_W,SILCAT,SILCAT_FLAG_W,NITRAT,NITRAT_FLAG_W,PHSPHT,PHSPHT_FLAG_W,CFC-11,CFC-11_FLAG_W,CFC-12,CFC-12_FLAG_W,CFC113,CFC113_FLAG_W,CCL4,CCL4_FLAG_W,MCHFRM,MCHFRM_FLAG_W,TCARBN,TCARBN_FLAG_W,ALKALI,ALKALI_FLAG_W,BTL_DATE,BTL_TIME
,,,,,,,,,,,METERS,DBAR,ITS-90,PSS-78,,PSS-78,,UMOL/KG,,UMOL/KG,,UMOL/KG,,UMOL/KG,,UMOL/KG,,PMOL/KG,,PMOL/KG,,PMOL/KG,,PMOL/KG,,PMOL/KG,,UMOL/KG,,UMOL/KG,,,
  18HU20020623, AR07W,   385,  1, 255804,      1,2,20020715,1632, 50.5907, -49.0005, 2150,   2186.7,   2.8574,  34.8960,2,  34.8960,6,    258.9,2,    279.6,2,    11.42,6,    16.50,6,     1.16,6,    0.000,3,    5.301,4,    0.124,4,    0.000,4,    0.000,2,   2154.8,2,   2288.2,2, 20020715,     1632
  18HU20020623, AR07W,   385,  1, 255805,      2,2,20020715,1632, 50.5907, -49.0005, 2150,   2101.2,   2.8583,  34.8959,2,  34.8963,2,    258.4,2,    280.6,2,    11.23,6,    16.38,6,     1.17,6,    2.128,2,    0.746,4,    0.370,4,    2.884,4,    5.453,2,   2154.3,2,   2296.9,2, 20020715,     1634
  18HU20020623, AR07W,   385,  1, 255806,      3,2,20020715,1632, 50.5907, -49.0005, 2150,   1980.6,   2.8846,  34.8952,2,  34.8951,2,    257.8,2,    281.1,2,    10.93,6,    16.10,6,     1.16,6,    2.691,2,    1.137,4,    0.051,4,    4.523,4,    8.574,2,   2153.0,2,   2240.1,3, 20020715,     1636
  18HU20020623, AR07W,   385,  1, 255807,      4,2,20020715,1632, 50.5907, -49.0005, 2150,   1851.0,   2.9695,  34.8925,2,  34.8965,2,    257.5,2,    281.6,2,    10.84,6,    16.38,6,     1.18,6,    0.031,3,    4.438,4,    0.019,4,    0.036,4,    0.000,2,   2152.0,2,   2275.9,2, 20020715,     1639
  18HU20020623, AR07W,   385,  1, 255808,      5,2,20020715,1632, 50.5907, -49.0005, 2150,   1690.1,   3.0405,  34.8838,2,  34.8840,6,    258.5,2,    283.3,2,    10.53,6,    16.73,6,     1.19,6,    2.244,2,    0.899,4,    0.299,4,    2.958,4,    5.982,2,   2151.7,2,   2299.7,2, 20020715,     1641
  18HU20020623, AR07W,   385,  1, 255809,      6,2,20020715,1632, 50.5907, -49.0005, 2150,   1550.9,   3.1062,  34.8776,2,  34.8774,2,    258.5,2,    284.1,2,    10.32,6,    16.93,6,     1.19,6,    0.230,4,    1.558,4,    0.168,4,    0.201,4,    0.255,2,   2152.7,2,   2309.6,2, 20020715,     1644
  18HU20020623, AR07W,   385,  1, 255810,      7,2,20020715,1632, 50.5907, -49.0005, 2150,   1389.7,   3.2324,  34.8814,2,  34.8816,2,    256.3,2,    282.2,2,    10.21,6,    16.77,6,     1.19,6,    3.417,2,    1.633,4,    0.479,4,    4.847,4,    9.269,2,   2152.8,2,   2292.6,2, 20020715,     1646
  18HU20020623, AR07W,   385,  1, 255811,      8,2,20020715,1632, 50.5907, -49.0005, 2150,   1209.9,   3.3281,  34.8794,2,  34.8792,2,    255.3,2,    282.6,2,     9.94,6,    16.48,6,     1.18,6,    2.761,2,    1.081,4,    0.364,4,    3.572,4,    6.139,2,   2152.8,2,   2292.5,2, 20020715,     1649
  18HU20020623, AR07W,   385,  1, 255812,      9,2,20020715,1632, 50.5907, -49.0005, 2150,   1029.8,   3.3227,  34.8663,2,  34.8666,2,    258.8,2,    287.3,2,     9.31,6,    16.42,6,     1.19,6,    2.995,2,    1.383,4,    0.480,4,    3.965,4,    5.481,2,   2151.6,2,   2274.2,2, 20020715,     1652
  18HU20020623, AR07W,   385,  1, 255813,     10,2,20020715,1632, 50.5907, -49.0005, 2150,    850.6,   3.2559,  34.8477,2,  34.8471,2,    264.4,2,    294.1,6,     8.83,6,    16.00,6,     1.17,6,    5.616,3,    5.633,4,    0.713,4,    8.750,4,    4.521,2,   2149.4,2,   2304.9,2, 20020715,     1655
  18HU20020623, AR07W,   385,  1, 255814,     11,2,20020715,1632, 50.5907, -49.0005, 2150,    570.4,   3.2710,  34.8418,2,  34.8408,2,    264.3,2,    295.0,2,     8.59,6,    15.72,6,     1.16,6,    0.024,3,    4.243,4,    0.072,4,    0.037,4,    0.000,2,   2148.6,2,   2290.2,2, 20020715,     1659
  18HU20020623, AR07W,   385,  1, 255815,     12,2,20020715,1632, 50.5907, -49.0005, 2150,    480.3,   3.2727,  34.8391,2,  34.8373,2,    264.4,2,    295.4,2,     8.44,6,    15.43,6,     1.15,6,    3.610,2,    1.834,4,    0.527,4,    4.874,4,    4.652,2,   2149.3,2,   2307.3,2, 20020715,     1701
  18HU20020623, AR07W,   385,  1, 255816,     13,2,20020715,1632, 50.5907, -49.0005, 2150,    371.6,   3.2823,  34.8352,2,  34.8342,2,    265.4,2,    297.4,2,     8.43,6,    14.86,6,     1.14,6,    5.232,2,    2.905,4,    0.574,4,    8.556,4,    6.805,2,   2151.4,2,   2284.6,2, 20020715,     1703
  18HU20020623, AR07W,   385,  1, 255817,     14,2,20020715,1632, 50.5907, -49.0005, 2150,    250.5,   3.2773,  34.8236,2,  34.8218,2,    266.0,2,    298.3,2,     8.25,6,    15.60,6,     1.18,6,    5.329,2,    2.613,4,    0.363,4,    8.551,4,    6.256,2,   2152.0,2,   2302.2,2, 20020715,     1705
  18HU20020623, AR07W,   385,  1, 255818,     15,2,20020715,1632, 50.5907, -49.0005, 2150,    149.7,   3.2991,  34.7986,2,  34.7966,2,    267.6,2,    301.0,2,     8.18,6,    15.36,6,     1.19,6,    5.495,2,    2.842,4,    0.320,4,    9.091,4,    6.145,2,   2149.7,2,   2295.9,2, 20020715,     1707
  18HU20020623, AR07W,   385,  1, 255819,     16,2,20020715,1632, 50.5907, -49.0005, 2150,    101.0,   3.4211,  34.7707,2,-999.0000,9,    271.1,2,    304.6,2,     7.95,6,    14.65,6,     1.18,6,    5.728,2,    2.911,4,    0.525,4,   10.001,4,    5.925,2,   2147.7,2,   2276.0,2, 20020715,     1708
  18HU20020623, AR07W,   385,  1, 255820,     17,2,20020715,1632, 50.5907, -49.0005, 2150,     49.3,   4.0930,  34.7193,2,-999.0000,9,    277.2,2,    311.9,2,     5.37,6,    10.40,6,     1.09,6,    5.799,2,    3.125,4,    0.326,4,    9.984,4,    5.347,2,   2131.3,2,   2290.0,2, 20020715,     1709
  18HU20020623, AR07W,   385,  1, 255821,     18,2,20020715,1632, 50.5907, -49.0005, 2150,     19.4,   6.7354,  34.6556,2,-999.0000,9,    313.4,2,    351.2,2,     0.00,6,     0.19,6,     0.15,6, -999.000,9, -999.000,9, -999.000,9, -999.000,9, -999.000,9,   2041.0,2,   2317.7,2, 20020715,     1710
  18HU20020623, AR07W,   385,  1, 255822,     19,2,20020715,1632, 50.5907, -49.0005, 2150,      2.2,   9.1341,  34.5636,2,-999.0000,9,    276.8,2,    301.8,2,     0.00,6,     0.18,6,     0.13,6,    3.311,2,    1.983,4,    0.643,4,    4.825,4,    2.435,2,   2043.9,2,   2289.4,2, 20020715,     1711
  18HU20020623, AR07W,   389,  1, 255823,      1,2,20020715,2159, 50.3510, -49.5028, 1485,   1502.3,   3.1964,  34.8811,2,  34.8816,2,    257.3,2,    288.2,2,    10.49,6,    16.61,6,     1.24,6,    3.817,6,    2.316,4,    0.255,4,    4.129,4,    7.669,6,   2154.2,2,   2288.1,2, 20020715,     2159
  18HU20020623, AR07W,   389,  1, 255824,      2,2,20020715,2159, 50.3510, -49.5028, 1485,   1440.7,   3.2730,  34.8809,2,  34.8816,2,    257.5,2,    287.2,2,    10.05,6,    16.49,6,     1.25,6,    3.535,2,    2.180,4,    0.214,4,    3.868,4,    8.257,2,   2153.6,2,   2297.4,2, 20020715,     2201
  18HU20020623, AR07W,   389,  1, 255825,      3,2,20020715,2159, 50.3510, -49.5028, 1485,   1370.7,   3.3297,  34.8745,2,  34.8747,2,    258.3,2,    288.4,2,     9.65,6,    16.22,6,     1.23,6,    3.385,2,    1.976,4,    0.181,4,    3.774,4,    8.329,2,   2153.0,2,   2304.4,2, 20020715,     2203
  18HU20020623, AR07W,   389,  1, 255826,      4,2,20020715,2159, 50.3510, -49.5028, 1485,   1260.0,   3.3070,  34.8611,2,  34.8613,2,    262.7,2,    294.3,2,     9.25,6,    15.54,6,     1.20,6,    4.169,2,    2.555,4,    0.279,4,    4.724,4,    6.944,2,   2151.7,2,   2293.9,2, 20020715,     2205
  18HU20020623, AR07W,   389,  1, 255827,      5,2,20020715,2159, 50.3510, -49.5028, 1485,   1141.5,   3.2553,  34.8480,2,  34.8478,6,    266.6,2,    299.4,2,     8.80,6,    15.75,6,     1.23,6,    4.511,2,    2.699,4,    0.285,4,    5.072,4,    6.482,2,   2156.1,2,   2272.2,2, 20020715,     2208
  18HU20020623, AR07W,   389,  1, 255828,      6,2,20020715,2159, 50.3510, -49.5028, 1485,    981.3,   3.2391,  34.8426,2,  34.8426,2,    267.7,2,    301.4,2,     8.39,6,    15.79,6,     1.22,6,    4.688,2,    2.843,4,    0.326,4,    5.233,4,    6.234,2,   2151.7,2,   2298.0,2, 20020715,     2211
  18HU20020623, AR07W,   389,  1, 255829,      7,2,20020715,2159, 50.3510, -49.5028, 1485,    820.1,   3.2637,  34.8417,2,  34.8412,2,    266.9,2,    301.4,2,     8.43,6,    15.41,6,     1.23,6,    4.658,2,    2.661,4,    0.329,4,    5.351,4,    6.290,2,   2151.1,2,   2296.5,2, 20020715,     2214
  18HU20020623, AR07W,   389,  1, 255830,      8,2,20020715,2159, 50.3510, -49.5028, 1485,    661.1,   3.2640,  34.8387,2,  34.8387,2,    267.0,2,    302.1,2,     8.30,6,    15.36,6,     1.20,6,    4.713,2,    2.822,4,    0.312,4,    5.342,4,    5.987,2,   2150.1,2,   2229.1,3, 20020715,     2217
  18HU20020623, AR07W,   389,  1, 255831,      9,2,20020715,2159, 50.3510, -49.5028, 1485,    500.0,   3.2709,  34.8343,2,  34.8334,2,    266.3,2,    301.8,2,     8.20,6,    15.16,6,     1.18,6,    4.795,2,    2.890,4,    0.352,4,    5.405,4,    5.964,2,   2149.0,2,   2290.2,2, 20020715,     2221
  18HU20020623, AR07W,   389,  1, 255832,     10,2,20020715,2159, 50.3510, -49.5028, 1485,    360.6,   3.2693,  34.8270,2,  34.8265,2,    266.1,2,    302.4,2,     8.25,6,    15.12,6,     1.21,6,    4.792,2,    2.834,4,    0.322,4,    5.428,4,    5.719,2,   2148.7,2,   2283.5,2, 20020715,     2223
  18HU20020623, AR07W,   389,  1, 255833,     11,2,20020715,2159, 50.3510, -49.5028, 1485,    221.4,   3.2650,  34.8044,2,  34.8029,2,    266.7,2,    303.9,2,     8.25,6,    15.54,6,     1.23,6,    4.884,2,    2.756,4,    0.338,4,    5.616,4,    5.505,2,   2147.8,2,   2302.7,2, 20020715,     2226
  18HU20020623, AR07W,   389,  1, 255834,     12,2,20020715,2159, 50.3510, -49.5028, 1485,    100.7,   3.4399,  34.7561,2,-999.0000,9,    267.0,2,    304.3,2,     7.85,6,    14.68,6,     1.18,6,    4.869,2,    2.960,4,    0.413,4,    5.422,4,    4.836,2,   2147.0,2,   2290.1,2, 20020715,     2229
  18HU20020623, AR07W,   389,  1, 255835,     13,2,20020715,2159, 50.3510, -49.5028, 1485,     49.7,   4.1406,  34.6905,2,-999.0000,9,    282.5,2,    320.7,2,     5.53,6,    10.16,6,     1.16,6,    5.452,2,    3.083,4,    0.497,4,    6.399,4,    4.762,2,   2127.6,2,   2287.5,2, 20020715,     2231
  18HU20020623, AR07W,   389,  1, 255836,     14,2,20020715,2159, 50.3510, -49.5028, 1485,     21.6,   6.6733,  34.6140,2,-999.0000,9,    322.4,2,    367.3,2,     0.00,6,     0.24,6,     0.14,6,    5.208,2,    3.021,4,    0.505,4,    5.949,4,    4.120,2,   2029.5,2,   2308.3,2, 20020715,     2232
  18HU20020623, AR07W,   389,  1, 255837,     15,2,20020715,2159, 50.3510, -49.5028, 1485,      6.6,   9.0507,  34.3801,2,-999.0000,9,    277.8,2,    311.0,2,     0.00,6,     0.23,6,     0.15,6,    4.626,2,    2.853,4,    0.424,4,    5.544,4,    3.460,2,   2027.3,2,   2291.6,2, 20020715,     2233
  18HU20020623, AR07W,   395,  1, 255838,      1,2,20020716,0218, 50.1173, -50.0198,  928,    939.2,   3.3075,  34.8581,2,  34.8586,6,    261.6,2,    289.5,2,     9.60,6,    15.66,6,     1.22,6,    5.108,2,    2.346,4,    0.307,4,    4.664,4,    6.938,2,   2155.0,2,   2291.9,2, 20020716,      218
  18HU20020623, AR07W,   395,  1, 255839,      2,2,20020716,0218, 50.1173, -50.0198,  928,    870.3,   3.3191,  34.8579,2,  34.8582,6,    261.6,2,    289.4,2,     9.06,6,    16.07,6,     1.24,6,    5.243,2,    2.522,4,    0.328,4,    4.818,4,    7.133,2,   2153.8,2,   2292.9,2, 20020716,      220
  18HU20020623, AR07W,   395,  1, 255840,      3,2,20020716,0218, 50.1173, -50.0198,  928,    780.6,   3.3269,  34.8505,2,  34.8503,2,    263.2,2,    291.1,2,     8.57,6,    15.98,6,     1.26,6,    5.332,2,    2.563,4,    0.315,4,    4.959,4,    6.466,2,   2153.2,2,   2297.5,2, 20020716,      222
  18HU20020623, AR07W,   395,  1, 255841,      4,2,20020716,0218, 50.1173, -50.0198,  928,    660.8,   3.3003,  34.8398,2,  34.8399,2,    264.5,2,    293.5,2,     8.47,6,    15.72,6,     1.27,6,    5.541,2,    2.721,4,    0.319,4,    5.134,4,    6.477,2,   2151.9,2,   2297.9,2, 20020716,      224
  18HU20020623, AR07W,   395,  1, 255842,      5,2,20020716,0218, 50.1173, -50.0198,  928,    500.7,   3.3563,  34.8372,2,  34.8371,2,    263.1,2,    292.2,2,     8.47,6,    15.75,6,     1.26,6,    5.597,2,    2.557,4,    0.352,4,    5.143,4,    6.336,2,   2153.2,2,   2292.7,2, 20020716,      227
  18HU20020623, AR07W,   395,  1, 255843,      6,2,20020716,0218, 50.1173, -50.0198,  928,    360.3,   3.3175,  34.8199,2,  34.8192,2,    264.4,2,    295.4,2,     8.20,6,    15.65,6,     1.25,6,    5.838,2,    2.741,4,    0.401,4,    5.521,4,    6.062,2,   2151.9,2,   2292.1,2, 20020716,      229
  18HU20020623, AR07W,   395,  1, 255844,      7,2,20020716,0218, 50.1173, -50.0198,  928,    221.5,   3.1645,  34.7625,2,  34.7614,2,    265.4,2,    296.6,2,     8.46,6,    15.22,6,     1.26,6,    5.968,2,    2.537,4,    0.346,4,    5.706,4,    5.878,2,   2149.0,2,   2292.3,2, 20020716,      232
  18HU20020623, AR07W,   395,  1, 255845,      8,2,20020716,0218, 50.1173, -50.0198,  928,    101.1,   2.9640,  34.6416,2,  34.6405,2,    267.1,2,    299.2,2,     8.45,6,    14.60,6,     1.25,6,    6.183,2,    2.589,4,    0.441,4,    5.950,4,    5.452,2,   2145.1,2,   2257.3,2, 20020716,      234
  18HU20020623, AR07W,   395,  1, 255846,      9,2,20020716,0218, 50.1173, -50.0198,  928,     80.2,   2.9081,  34.5997,2,-999.0000,9,    267.7,2,   -999.0,9,     8.40,6,    14.05,6,     1.19,6, -999.000,9, -999.000,9, -999.000,9, -999.000,9, -999.000,9,   -999.0,9,   -999.0,9, 20020716,      235
  18HU20020623, AR07W,   395,  1, 255847,     10,2,20020716,0218, 50.1173, -50.0198,  928,     61.0,   2.5917,  34.5189,2,-999.0000,9,    263.1,2,   -999.0,9,     8.87,6,    14.58,6,     1.22,6, -999.000,9, -999.000,9, -999.000,9, -999.000,9, -999.000,9,   -999.0,9,   -999.0,9, 20020716,      236
  18HU20020623, AR07W,   395,  1, 255848,     11,2,20020716,0218, 50.1173, -50.0198,  928,     50.2,   2.5448,  34.4605,2,-999.0000,9,    267.1,2,    301.4,2,     7.97,6,    13.63,6,     1.23,6, -999.000,9, -999.000,9, -999.000,9, -999.000,9, -999.000,9,   2139.3,2,   2248.8,2, 20020716,      237
  18HU20020623, AR07W,   395,  1, 255849,     12,2,20020716,0218, 50.1173, -50.0198,  928,     40.2,   2.8039,  34.4322,2,-999.0000,9,    282.0,2,   -999.0,9,     5.78,6,    10.44,6,     1.09,6, -999.000,9, -999.000,9, -999.000,9, -999.000,9, -999.000,9,   -999.0,9,   -999.0,9, 20020716,      238
  18HU20020623, AR07W,   395,  1, 255850,     13,2,20020716,0218, 50.1173, -50.0198,  928,     30.0,   4.3700,  34.5153,2,-999.0000,9,    351.6,2,   -999.0,9,     0.00,6,     0.42,6,     0.22,6,    6.699,2,    2.806,4,    0.505,4,    6.664,4,    5.030,2,   -999.0,9,   -999.0,9, 20020716,      238
  18HU20020623, AR07W,   395,  1, 255851,     14,2,20020716,0218, 50.1173, -50.0198,  928,     20.4,   5.0231,  34.1037,2,-999.0000,9,    348.3,2,   -999.0,9,     0.00,6,     0.28,6,     0.22,6, -999.000,9, -999.000,9, -999.000,9, -999.000,9, -999.000,9,   -999.0,9,   -999.0,9, 20020716,      239
  18HU20020623, AR07W,   395,  1, 255852,     15,2,20020716,0218, 50.1173, -50.0198,  928,     10.0,   8.8176,  33.8197,2,-999.0000,9,    286.0,2,    314.9,2,     0.00,6,     0.28,6,     0.23,6,    5.837,2,    2.779,4,    0.364,4,    6.120,4,    3.888,2,   2020.8,2,   2251.3,2, 20020716,      239
  18HU20020623, AR07W,   395,  1, 255853,     16,2,20020716,0218, 50.1173, -50.0198,  928,     10.0,   8.9087,  33.8197,2,-999.0000,9,    282.2,2,   -999.0,9,  -999.00,9,  -999.00,9,  -999.00,9, -999.000,9, -999.000,9, -999.000,9, -999.000,9, -999.000,9,   -999.0,9,   -999.0,9, 20020716,      240
  18HU20020623, AR07W,   395,  1, 255854,     17,2,20020716,0218, 50.1173, -50.0198,  928,      3.1,   9.2952,  33.8261,2,-999.0000,9,    275.2,2,   -999.0,9,     0.00,6,     0.28,6,     0.25,6, -999.000,9, -999.000,9, -999.000,9, -999.000,9, -999.000,9,   -999.0,9,   -999.0,9, 20020716,      241