BOTTLE,20130611PRINUNIVRMK
EXPOCODE,SECT_ID,STNNBR,CASTNO,SAMPNO,BTLNBR,BTLNBR_FLAG_W,DATE,TIME,LATITUDE,LONGITUDE,DEPTH,CTDPRS,CTDTMP,CTDSAL,CTDSAL_FLAG_W,SALNTY,SALNTY_FLAG_W,CTDOXY,CTDOXY_FLAG_W,OXYGEN,OXYGEN_FLAG_W,SILCAT,SILCAT_FLAG_W,NITRAT,NITRAT_FLAG_W,PHSPHT,PHSPHT_FLAG_W,CFC-11,CFC-11_FLAG_W,CFC-12,CFC-12_FLAG_W,CFC113,CFC113_FLAG_W,CCL4,CCL4_FLAG_W,MCHFRM,MCHFRM_FLAG_W,TCARBN,TCARBN_FLAG_W,ALKALI,ALKALI_FLAG_W,BTL_DATE,BTL_TIME
,,,,,,,,,,,METERS,DBAR,ITS-90,PSS-78,,PSS-78,,UMOL/KG,,UMOL/KG,,UMOL/KG,,UMOL/KG,,UMOL/KG,,PMOL/KG,,PMOL/KG,,PMOL/KG,,PMOL/KG,,PMOL/KG,,UMOL/KG,,UMOL/KG,,,
  18HU20020623, AR07W,   335,  1, 254444,      1,2,20020712,1302, 55.9998, -44.0010, 3282,   3388.9,   2.3000,  34.9006,2,  34.9008,2,    276.0,2,   -999.0,9,    16.68,6,    16.42,6,     1.14,6,    2.259,2,    1.536,4,    0.349,4,    3.508,4,    6.968,2,   2165.4,2,   2279.5,2, 20020712,     1302
  18HU20020623, AR07W,   335,  1, 254445,      2,2,20020712,1302, 55.9998, -44.0010, 3282,   3319.8,   2.3353,  34.9027,2,  34.9020,2,    275.5,2,   -999.0,9,    16.22,6,    16.53,6,     1.14,6,    2.205,2,    1.302,4,    0.294,4,    3.522,4,    7.040,2,   2161.8,2,   2274.0,2, 20020712,     1304
  18HU20020623, AR07W,   335,  1, 254446,      3,2,20020712,1302, 55.9998, -44.0010, 3282,   3200.9,   2.4872,  34.9113,2,  34.9115,2,    273.6,2,   -999.0,9,    15.44,6,    16.69,6,     1.15,6,    1.886,2,    1.054,4,    0.338,4,    3.068,4,    6.186,2,   2158.5,2,   2256.2,2, 20020712,     1306
  18HU20020623, AR07W,   335,  1, 254447,      4,2,20020712,1302, 55.9998, -44.0010, 3282,   3080.7,   2.5667,  34.9172,2,  34.9172,2,    271.8,2,   -999.0,9,    15.12,6,    16.69,6,     1.16,6,    0.005,4,    0.582,4,    0.000,4,    2.672,4,    5.455,2,   2156.3,2,   2275.1,2, 20020712,     1309
  18HU20020623, AR07W,   335,  1, 254448,      5,2,20020712,1302, 55.9998, -44.0010, 3282,   2942.4,   2.6703,  34.9250,2,  34.9254,2,    270.1,2,   -999.0,9,    14.62,6,    16.64,6,     1.16,6,    1.831,2,    0.781,4,    0.278,4,    2.966,4,    5.918,2,   2155.6,2,   2273.5,2, 20020712,     1311
  18HU20020623, AR07W,   335,  1, 254449,      6,2,20020712,1302, 55.9998, -44.0010, 3282,   2781.3,   2.7488,  34.9248,2,  34.9249,6,    269.5,2,   -999.0,9,    13.65,6,    16.59,6,     1.16,6,    1.879,2,    0.859,4,    0.344,4,    2.941,4,    5.956,2,   2153.1,2,   2266.7,2, 20020712,     1314
  18HU20020623, AR07W,   335,  1, 254450,      7,2,20020712,1302, 55.9998, -44.0010, 3282,   2651.4,   2.8617,  34.9303,2,  34.9309,6,    268.6,2,   -999.0,9,    13.40,6,    16.79,6,     1.15,6, -999.000,9, -999.000,9, -999.000,9, -999.000,9, -999.000,9,   2153.2,2,   2286.5,2, 20020712,     1316
  18HU20020623, AR07W,   335,  1, 254451,      8,2,20020712,1302, 55.9998, -44.0010, 3282,   2480.7,   2.8896,  34.9203,2,  34.9207,2,    268.7,2,   -999.0,9,    12.74,6,    16.88,6,     1.16,6,    1.933,2,    0.995,4,    0.223,4,    3.139,4,    6.431,2,   2152.0,2,   2269.2,2, 20020712,     1319
  18HU20020623, AR07W,   335,  1, 254452,      9,2,20020712,1302, 55.9998, -44.0010, 3282,   2279.9,   2.9895,  34.9173,2,  34.9085,2,    268.1,2,   -999.0,9,    11.66,6,    16.80,6,     1.15,6,    2.455,2,    1.368,4,    0.323,4,    3.734,4,    7.100,2,   2150.3,2,   2280.9,2, 20020712,     1322
  18HU20020623, AR07W,   335,  1, 254453,     10,2,20020712,1302, 55.9998, -44.0010, 3282,   2070.4,   3.0423,  34.9108,2,  34.9111,2,    268.8,2,   -999.0,9,    11.70,6,    16.95,6,     1.17,6,    2.222,2,    0.895,4,    0.000,4,    3.622,4,    7.750,2,   2153.4,2,   2297.6,2, 20020712,     1325
  18HU20020623, AR07W,   335,  1, 254454,     11,2,20020712,1302, 55.9998, -44.0010, 3282,   1870.1,   3.1350,  34.9106,2,  34.9101,2,    268.5,2,   -999.0,9,    11.18,6,    16.98,6,     1.17,6,    2.669,2,    1.199,4,    0.453,4,    4.110,4,    8.678,2,   2154.7,2,   2289.4,2, 20020712,     1328
  18HU20020623, AR07W,   335,  1, 254455,     12,2,20020712,1302, 55.9998, -44.0010, 3282,   1671.4,   3.1672,  34.9050,2,  34.9050,2,    269.0,2,   -999.0,9,    10.79,6,    16.99,6,     1.16,6,    3.087,2,    3.680,4,    0.350,4,    4.643,4,    9.686,2,   2154.8,2,   2274.4,2, 20020712,     1331
  18HU20020623, AR07W,   335,  1, 254456,     13,2,20020712,1302, 55.9998, -44.0010, 3282,   1470.6,   3.2859,  34.9085,2,  34.9087,2,    267.4,2,   -999.0,9,    10.57,6,    16.98,6,     1.18,6,    3.161,2,    1.149,4,    0.386,4,    4.739,4,    9.790,2,   2157.5,2,   2248.7,2, 20020712,     1335
  18HU20020623, AR07W,   335,  1, 254457,     14,2,20020712,1302, 55.9998, -44.0010, 3282,   1271.7,   3.4139,  34.9117,2,  34.9115,2,    264.1,2,   -999.0,9,    10.47,6,    17.09,6,     1.19,6,    3.083,2,    1.453,4,    0.477,4,    4.438,4,    9.341,2,   2156.4,2,   2283.6,2, 20020712,     1338
  18HU20020623, AR07W,   335,  1, 254458,     15,2,20020712,1302, 55.9998, -44.0010, 3282,   1072.3,   3.5400,  34.9110,2,  34.9109,2,    260.8,2,   -999.0,9,    10.71,6,    17.52,6,     1.18,6,    3.077,2,    1.471,4,    0.487,4,    4.395,4,    9.300,2,   2156.7,2,   2279.6,2, 20020712,     1341
  18HU20020623, AR07W,   335,  1, 254459,     16,2,20020712,1302, 55.9998, -44.0010, 3282,    871.0,   3.7111,  34.9136,2,  34.9130,2,    256.6,2,   -999.0,9,    10.57,6,    17.74,6,     1.20,6,    3.624,2,    1.603,4,    0.416,4,    4.515,4,    9.045,2,   2159.5,2,   2294.9,2, 20020712,     1344
  18HU20020623, AR07W,   335,  1, 254460,     17,2,20020712,1302, 55.9998, -44.0010, 3282,    681.2,   3.8373,  34.9095,2,  34.9081,2,    255.3,2,   -999.0,9,    10.20,6,    17.72,6,     1.22,6,    3.623,2,    1.726,4,    0.482,4,    5.189,4,    9.197,2,   2164.2,2,   2282.1,2, 20020712,     1347
  18HU20020623, AR07W,   335,  1, 254461,     18,2,20020712,1302, 55.9998, -44.0010, 3282,    511.3,   3.9831,  34.9034,2,  34.9028,2,    253.3,2,   -999.0,9,     9.94,6,    17.76,6,     1.22,6,    3.816,2,    1.862,4,    0.485,4,    5.090,4,    8.272,2,   2165.0,2,   2301.0,2, 20020712,     1350
  18HU20020623, AR07W,   335,  1, 254462,     19,2,20020712,1302, 55.9998, -44.0010, 3282,    361.2,   3.9416,  34.8659,2,  34.8690,2,    255.3,2,   -999.0,9,     9.44,6,    17.48,6,     1.21,6,    4.465,2,    2.191,4,    0.465,4,    6.156,4,    7.866,2,   2166.1,2,   2298.7,2, 20020712,     1352
  18HU20020623, AR07W,   335,  1, 254463,     20,2,20020712,1302, 55.9998, -44.0010, 3282,    240.7,   3.5299,  34.7651,2,  34.7626,2,    273.3,2,   -999.0,9,     8.15,6,    16.25,6,     1.18,6,    5.732,2,    2.566,4,    0.651,4,    9.277,4,    6.658,2,   2157.9,2,   2290.2,2, 20020712,     1354
  18HU20020623, AR07W,   335,  1, 254464,     21,2,20020712,1302, 55.9998, -44.0010, 3282,    140.3,   3.6471,  34.6986,2,  34.6983,2,    281.4,2,   -999.0,9,     7.21,6,    15.48,6,     1.16,6,    4.945,2,    2.406,4,    0.331,4,    9.394,4,    5.072,2,   2151.6,2,   2265.0,2, 20020712,     1356
  18HU20020623, AR07W,   335,  1, 254465,     22,2,20020712,1302, 55.9998, -44.0010, 3282,     70.2,   4.7612,  34.6645,2,-999.0000,9,    289.4,2,   -999.0,9,     3.42,6,     9.42,6,     0.93,6,    6.463,2,    3.042,4,    0.706,4,   10.826,4,    4.961,2,   2130.1,2,   2286.9,2, 20020712,     1357
  18HU20020623, AR07W,   335,  1, 254466,     23,2,20020712,1302, 55.9998, -44.0010, 3282,     35.2,   6.9554,  34.5985,2,-999.0000,9,    288.2,2,   -999.0,9,     0.00,6,     4.40,6,     0.55,6,    6.072,2,    2.778,4,    0.842,4,   10.074,4,    4.323,2,   2090.7,2,   2264.0,2, 20020712,     1358
  18HU20020623, AR07W,   335,  1, 254467,     24,2,20020712,1302, 55.9998, -44.0010, 3282,      2.7,   7.0249,  34.5986,2,-999.0000,9,    288.7,2,   -999.0,9,  -999.00,9,  -999.00,9,  -999.00,9, -999.000,9, -999.000,9, -999.000,9, -999.000,9, -999.000,9,   -999.0,9,   -999.0,9, 20020712,     1359
  18HU20020623, AR07W,   339,  1, 254468,      1,2,20020712,1834, 55.4017, -43.9958, 3270,   3394.9,   2.3551,  34.9029,2,  34.9036,2,    275.0,2,   -999.0,9,    17.21,6,    16.31,6,     1.15,6,    2.210,2,    1.308,4,    0.089,4,    2.363,4,    5.209,2,   2152.6,2,   2282.4,2, 20020712,     1834
  18HU20020623, AR07W,   339,  1, 254469,      2,2,20020712,1834, 55.4017, -43.9958, 3270,   3328.4,   2.4028,  34.9061,2,  34.9065,2,    275.2,2,   -999.0,9,    16.18,6,    16.05,6,     1.17,6,    2.194,2,    1.170,4,    0.059,4,    2.380,4,    5.368,2,   2147.8,2,   2282.4,2, 20020712,     1836
  18HU20020623, AR07W,   339,  1, 254470,      3,2,20020712,1834, 55.4017, -43.9958, 3270,   3238.1,   2.4641,  34.9094,2,  34.9095,2,    274.0,2,   -999.0,9,    15.61,6,    16.13,6,     1.19,6,    2.044,2,    1.133,4,    0.078,4,    2.259,4,    5.015,2,   2149.0,2,   2287.5,2, 20020712,     1838
  18HU20020623, AR07W,   339,  1, 254471,      4,2,20020712,1834, 55.4017, -43.9958, 3270,   3099.5,   2.5889,  34.9181,2,  34.9187,2,    271.8,2,   -999.0,9,    15.12,6,    16.24,6,     1.20,6,    1.941,2,    1.121,4,    0.078,4,    2.218,4,    4.941,2,   2148.8,2,   2316.6,2, 20020712,     1841
  18HU20020623, AR07W,   339,  1, 254472,      5,2,20020712,1834, 55.4017, -43.9958, 3270,   2939.9,   2.7227,  34.9285,2,  34.9298,2,    269.7,2,   -999.0,9,    14.87,6,    16.50,6,     1.19,6,    1.969,2,    1.132,4,    0.075,4,    2.224,4,    5.035,2,   2149.5,2,   2312.0,2, 20020712,     1843
  18HU20020623, AR07W,   339,  1, 254473,      6,2,20020712,1834, 55.4017, -43.9958, 3270,   2770.5,   2.8273,  34.9316,2,  34.9329,6,    268.6,2,   -999.0,9,    13.94,6,    16.45,6,     1.20,6,    2.035,2,    1.057,4,    0.055,4,    2.198,4,    4.982,2,   2150.8,2,   2315.7,2, 20020712,     1846
  18HU20020623, AR07W,   339,  1, 254474,      7,2,20020712,1834, 55.4017, -43.9958, 3270,   2590.4,   2.9228,  34.9321,2,  34.9327,2,    267.8,2,   -999.0,9,    13.27,6,    16.48,6,     1.21,6,    2.811,2,    1.466,4,    0.114,4,    2.979,4,    7.144,2,   2149.5,2,   2308.1,2, 20020712,     1848
  18HU20020623, AR07W,   339,  1, 254475,      8,2,20020712,1834, 55.4017, -43.9958, 3270,   2429.9,   2.9696,  34.9217,2,  34.9222,6,    268.4,2,   -999.0,9,    12.69,6,    16.35,6,     1.20,6,    2.211,2,    1.210,4,    0.121,4,    2.443,4,    5.628,2,   2147.7,2,   2301.2,2, 20020712,     1851
  18HU20020623, AR07W,   339,  1, 254476,      9,2,20020712,1834, 55.4017, -43.9958, 3270,   2250.8,   3.0453,  34.9117,2,  34.9128,2,    269.3,2,   -999.0,9,    11.87,6,    16.24,6,     1.22,6,    2.438,2,    1.448,4,    0.078,4,    2.594,4,    6.231,2,   2146.6,2,   2298.5,2, 20020712,     1854
  18HU20020623, AR07W,   339,  1, 254477,     10,2,20020712,1834, 55.4017, -43.9958, 3270,   2059.7,   3.1029,  34.9053,2,  34.9058,2,    270.2,2,   -999.0,9,    11.26,6,    16.19,6,     1.23,6,    2.811,2,    1.466,4,    0.114,4,    2.979,4,    7.144,2,   2152.4,2,   2288.5,2, 20020712,     1857
  18HU20020623, AR07W,   339,  1, 254478,     11,2,20020712,1834, 55.4017, -43.9958, 3270,   1871.0,   3.0994,  34.8899,2,  34.8898,2,    272.6,2,   -999.0,9,    10.66,6,    16.24,6,     1.23,6,    3.234,2,    1.702,4,    0.159,4,    3.332,4,    8.162,2,   2152.4,2,   2306.9,2, 20020712,     1900
  18HU20020623, AR07W,   339,  1, 254479,     12,2,20020712,1834, 55.4017, -43.9958, 3270,   1671.6,   3.1256,  34.8776,2,  34.8776,2,    274.0,2,   -999.0,9,    10.46,6,    16.47,6,     1.24,6,    3.664,2,    1.822,4,    0.153,4,    3.593,4,    8.985,2,   2152.6,2,   2300.2,2, 20020712,     1903
  18HU20020623, AR07W,   339,  1, 254480,     13,2,20020712,1834, 55.4017, -43.9958, 3270,   1470.2,   3.2009,  34.8768,2,  34.8768,2,    271.6,2,   -999.0,9,    10.43,6,    16.68,6,     1.25,6,    3.794,2,    2.053,4,    0.189,4,    3.810,4,    9.231,2,   2153.9,2,   2302.3,2, 20020712,     1907
  18HU20020623, AR07W,   339,  1, 254481,     14,2,20020712,1834, 55.4017, -43.9958, 3270,   1269.7,   3.3160,  34.8827,2,  34.8825,2,    267.9,2,   -999.0,9,    10.38,6,    16.64,6,     1.28,6,    3.688,2,    1.998,4,    0.193,4,    3.606,4,    8.758,2,   2156.7,2,   2307.8,2, 20020712,     1910
  18HU20020623, AR07W,   339,  1, 254482,     15,2,20020712,1834, 55.4017, -43.9958, 3270,   1068.9,   3.4679,  34.8846,2,  34.8841,2,    264.6,2,   -999.0,9,    10.16,6,    16.55,6,     1.28,6,    3.761,2,    1.985,4,    0.191,4,    3.601,4,    8.090,2,   2157.7,2,   2298.1,2, 20020712,     1913
  18HU20020623, AR07W,   339,  1, 254483,     16,2,20020712,1834, 55.4017, -43.9958, 3270,    868.9,   3.5360,  34.8714,2,  34.8715,2,    266.6,2,   -999.0,9,     9.72,6,    16.32,6,     1.25,6,    4.500,2,    2.355,4,    0.286,4,    4.207,4,    7.822,2,   2156.5,2,   2304.9,2, 20020712,     1916
  18HU20020623, AR07W,   339,  1, 254484,     17,2,20020712,1834, 55.4017, -43.9958, 3270,    679.5,   3.6175,  34.8681,2,  34.8674,2,    267.7,2,   -999.0,9,     9.36,6,    16.43,6,     1.25,6,    4.708,2,    2.459,4,    0.288,4,    4.368,4,    7.255,2,   2155.4,2,   2311.2,2, 20020712,     1919
  18HU20020623, AR07W,   339,  1, 254485,     18,2,20020712,1834, 55.4017, -43.9958, 3270,    509.4,   3.8086,  34.8664,2,  34.8656,2,    261.3,2,   -999.0,9,     9.47,6,    16.65,6,     1.28,6,    4.468,2,    2.323,4,    0.258,4,    4.041,4,    6.537,2,   2157.5,2,   2290.2,2, 20020712,     1922
  18HU20020623, AR07W,   339,  1, 254486,     19,2,20020712,1834, 55.4017, -43.9958, 3270,    359.8,   4.5305,  34.9105,2,  34.9097,2,    241.8,2,   -999.0,9,    10.05,6,    17.58,6,     1.34,6,    3.862,2,    2.091,4,    0.242,4,    3.332,4,    6.283,2,   2162.9,2,   2312.1,2, 20020712,     1924
  18HU20020623, AR07W,   339,  1, 254487,     20,2,20020712,1834, 55.4017, -43.9958, 3270,    239.4,   4.5574,  34.8292,2,  34.8288,2,    267.0,2,   -999.0,9,     8.09,6,    15.78,6,     1.26,6,    4.963,2,    2.620,4,    0.346,4,    4.853,4,    4.721,2,   2148.9,2,   2285.3,2, 20020712,     1926
  18HU20020623, AR07W,   339,  1, 254488,     21,2,20020712,1834, 55.4017, -43.9958, 3270,    139.4,   4.8449,  34.8156,2,  34.8157,2,    270.7,2,   -999.0,9,     7.61,6,    15.25,6,     1.24,6,    5.068,2,    2.631,4,    0.418,4,    5.107,4,    4.531,2,   2145.9,2,   2287.3,2, 20020712,     1928
  18HU20020623, AR07W,   339,  1, 254489,     22,2,20020712,1834, 55.4017, -43.9958, 3270,     69.4,   5.1462,  34.7832,2,-999.0000,9,    274.0,2,   -999.0,9,     7.05,6,    14.47,6,     1.21,6,    5.305,2,    2.773,4,    0.355,4,    5.449,4,    4.137,2,   2140.8,2,   2280.8,2, 20020712,     1929
  18HU20020623, AR07W,   339,  1, 254490,     23,2,20020712,1834, 55.4017, -43.9958, 3270,     34.1,   6.6503,  34.7505,2,-999.0000,9,    283.1,2,   -999.0,9,     1.21,6,     8.85,6,     0.97,6,    5.388,2,    2.806,4,    0.425,4,    5.691,4,    3.696,2,   2114.4,2,   2288.2,2, 20020712,     1930
  18HU20020623, AR07W,   339,  1, 254491,     24,2,20020712,1834, 55.4017, -43.9958, 3270,      2.9,   7.8176,  34.6480,2,-999.0000,9,    288.9,2,   -999.0,9,     0.00,6,     5.56,6,     0.65,6,    5.157,2,    2.746,4,    0.453,4,    5.704,4,    3.474,2,   2082.8,2,   2271.8,2, 20020712,     1931