BOTTLE,20130611PRINUNIVRMK
EXPOCODE,SECT_ID,STNNBR,CASTNO,SAMPNO,BTLNBR,BTLNBR_FLAG_W,DATE,TIME,LATITUDE,LONGITUDE,DEPTH,CTDPRS,CTDTMP,CTDSAL,CTDSAL_FLAG_W,SALNTY,SALNTY_FLAG_W,CTDOXY,CTDOXY_FLAG_W,OXYGEN,OXYGEN_FLAG_W,SILCAT,SILCAT_FLAG_W,NITRAT,NITRAT_FLAG_W,PHSPHT,PHSPHT_FLAG_W,CFC-11,CFC-11_FLAG_W,CFC-12,CFC-12_FLAG_W,CFC113,CFC113_FLAG_W,CCL4,CCL4_FLAG_W,MCHFRM,MCHFRM_FLAG_W,TCARBN,TCARBN_FLAG_W,ALKALI,ALKALI_FLAG_W,BTL_DATE,BTL_TIME
,,,,,,,,,,,METERS,DBAR,ITS-90,PSS-78,,PSS-78,,UMOL/KG,,UMOL/KG,,UMOL/KG,,UMOL/KG,,UMOL/KG,,PMOL/KG,,PMOL/KG,,PMOL/KG,,PMOL/KG,,PMOL/KG,,UMOL/KG,,UMOL/KG,,,
  18HU20020623, AR07W,    52,  1, 253172,      1,2,20020628,0324, 46.9968, -47.2543,  518,    509.2,   3.6135,  34.8345,2,  34.8335,2,    271.6,2,    282.3,2,    10.25,6,    15.97,6,     1.19,6,    5.211,2,    2.654,4,    0.217,4,    5.136,4,    6.937,2,   2159.8,2,   2168.3,3, 20020628,      324
  18HU20020623, AR07W,    52,  1, 253173,      2,2,20020628,0324, 46.9968, -47.2543,  518,    402.7,   3.1427,  34.6922,2,  34.6959,6,    274.3,2,    286.0,2,    10.67,6,    15.37,6,     1.19,6,    5.543,2,    2.813,4,    0.338,4,    5.595,4,    6.201,2,   2157.8,2,   2292.7,2, 20020628,      327
  18HU20020623, AR07W,    52,  1, 253174,      3,2,20020628,0324, 46.9968, -47.2543,  518,    200.2,   2.0343,  34.3103,2,  34.3103,2,    270.2,2,    284.0,2,    12.48,6,    14.10,6,     1.19,6,    6.262,2,    3.088,4,    0.295,4,    6.203,4,    6.753,2,   2153.8,2,   2277.7,2, 20020628,      331
  18HU20020623, AR07W,    52,  1, 253175,      4,2,20020628,0324, 46.9968, -47.2543,  518,    151.2,   1.3252,  34.0849,2,  34.0777,2,    285.3,2,    301.5,2,    10.58,6,    12.91,6,     1.13,6,    6.607,2,    3.187,4,    0.336,4,    6.783,4,    6.819,2,   2138.8,2,   2244.0,2, 20020628,      333
  18HU20020623, AR07W,    52,  1, 253176,      5,2,20020628,0324, 46.9968, -47.2543,  518,    101.7,  -0.0557,  33.6845,2,  33.6705,2,    298.4,2,    318.8,2,    10.30,6,    11.62,6,     1.12,6,    7.269,2,    3.451,4,    0.429,4,    8.110,4,    7.281,2,   2130.3,2,   2272.1,2, 20020628,      334
  18HU20020623, AR07W,    52,  1, 253177,      6,2,20020628,0324, 46.9968, -47.2543,  518,     80.1,  -0.7237,  33.4361,2,-999.0000,9,    318.2,2,    340.8,2,     8.99,6,     9.67,6,     1.06,6, -999.000,9, -999.000,9, -999.000,9, -999.000,9, -999.000,9,   -999.0,9,   -999.0,9, 20020628,      336
  18HU20020623, AR07W,    52,  1, 253178,      7,2,20020628,0324, 46.9968, -47.2543,  518,     60.0,  -0.8942,  33.2565,2,-999.0000,9,    329.5,2,    354.8,2,     4.92,6,     7.27,6,     0.95,6, -999.000,9, -999.000,9, -999.000,9, -999.000,9, -999.000,9,   -999.0,9,   -999.0,9, 20020628,      337
  18HU20020623, AR07W,    52,  1, 253179,      8,2,20020628,0324, 46.9968, -47.2543,  518,     50.3,   0.0505,  33.2443,2,-999.0000,9,    339.9,2,    363.3,2,     3.05,6,     4.81,6,     0.80,6,    8.302,2,    3.790,4,    0.461,4,   10.210,4,    7.112,2,   2081.5,2,   2255.6,2, 20020628,      338
  18HU20020623, AR07W,    52,  1, 253180,      9,2,20020628,0324, 46.9968, -47.2543,  518,     40.0,   0.9224,  33.2324,2,-999.0000,9,    355.2,2,    379.3,2,     1.01,6,     1.66,6,     0.60,6, -999.000,9, -999.000,9, -999.000,9, -999.000,9, -999.000,9,   -999.0,9,   -999.0,9, 20020628,      339
  18HU20020623, AR07W,    52,  1, 253181,     10,2,20020628,0324, 46.9968, -47.2543,  518,     29.8,   3.6113,  33.0934,2,-999.0000,9,    345.3,2,    360.4,2,     0.00,6,     0.13,6,     0.41,6, -999.000,9, -999.000,9, -999.000,9, -999.000,9, -999.000,9,   -999.0,9,   -999.0,9, 20020628,      340
  18HU20020623, AR07W,    52,  1, 253182,     11,2,20020628,0324, 46.9968, -47.2543,  518,     20.2,   4.4757,  33.0111,2,-999.0000,9,    332.5,2,    347.3,2,     0.00,6,     0.00,6,     0.37,6, -999.000,9, -999.000,9, -999.000,9, -999.000,9, -999.000,9,   -999.0,9,   -999.0,9, 20020628,      340
  18HU20020623, AR07W,    52,  1, 253183,     12,2,20020628,0324, 46.9968, -47.2543,  518,      9.9,   5.5908,  32.9182,2,-999.0000,9,    317.7,2,    330.6,2,     0.00,6,     0.00,6,     0.38,6, -999.000,9, -999.000,9, -999.000,9, -999.000,9, -999.000,9,   -999.0,9,   -999.0,9, 20020628,      341
  18HU20020623, AR07W,    52,  1, 253184,     13,2,20020628,0324, 46.9968, -47.2543,  518,      6.4,   5.5192,  32.9323,2,-999.0000,9,    318.0,2,    330.5,2,     0.00,6,     0.00,6,     0.43,6,    6.768,2,    3.310,4,    0.415,4,    8.880,4,    5.385,2,   2010.5,2,   2225.6,2, 20020628,      342
  18HU20020623, AR07W,    53,  1, 253185,      1,2,20020628,0453, 46.9977, -47.1650,  866,    867.0,   3.4499,  34.8732,2,  34.8742,6,    271.2,2,    279.9,2,    10.10,6,    16.45,6,     1.20,6,    4.352,2,    1.919,4,    0.378,4,    6.303,4,   13.655,2,   2158.2,2,   2289.2,2, 20020628,      453
  18HU20020623, AR07W,    53,  1, 253186,      2,2,20020628,0453, 46.9977, -47.1650,  866,    659.8,   3.5854,  34.8545,2,  34.8549,2,    276.4,2,    287.1,2,     8.85,6,    16.05,6,     1.18,6,    5.054,2,    2.548,4,    0.352,4,    7.291,4,   11.036,2,   2158.8,2,   2285.9,2, 20020628,      459
  18HU20020623, AR07W,    53,  1, 253187,      3,2,20020628,0453, 46.9977, -47.1650,  866,    460.0,   3.5011,  34.7982,2,  34.7987,2,    271.4,2,    282.6,2,    10.02,6,    15.86,6,     1.20,6,    4.848,2,    1.369,4,    0.129,4,    6.850,4,    9.824,2,   2159.3,2,   2287.0,2, 20020628,      503
  18HU20020623, AR07W,    53,  1, 253188,      4,2,20020628,0453, 46.9977, -47.1650,  866,    249.9,   2.8801,  34.6021,2,  34.2378,3,    284.3,2,    297.4,2,     8.87,6,    15.00,6,     1.15,6,    6.093,2,    2.192,4,    0.501,4,    9.591,4,    8.774,2,   2149.8,2,   2286.4,2, 20020628,      507
  18HU20020623, AR07W,    53,  1, 253189,      5,2,20020628,0453, 46.9977, -47.1650,  866,    150.8,   1.7309,  34.2340,2,  33.9121,3,    279.1,2,    295.3,2,    10.89,6,    14.13,6,     1.20,6,    6.226,2,    2.009,4,    0.467,4,    9.444,4,    9.816,2,   2148.3,2,   2275.8,2, 20020628,      510
  18HU20020623, AR07W,    53,  1, 253190,      6,2,20020628,0453, 46.9977, -47.1650,  866,    100.5,   0.7795,  33.9054,2,-999.0000,9,    287.5,2,    305.0,2,    10.82,6,    12.62,6,     1.17,6,    7.198,2,    2.586,4,    0.485,4,   11.492,4,   10.928,2,   2140.9,2,   2276.0,2, 20020628,      512
  18HU20020623, AR07W,    53,  1, 253191,      7,2,20020628,0453, 46.9977, -47.1650,  866,     80.6,   0.1802,  33.6822,2,-999.0000,9,    302.3,2,   -999.0,9,  -999.00,9,  -999.00,9,  -999.00,9, -999.000,9, -999.000,9, -999.000,9, -999.000,9, -999.000,9,   -999.0,9,   -999.0,9, 20020628,      513
  18HU20020623, AR07W,    53,  1, 253192,      8,2,20020628,0453, 46.9977, -47.1650,  866,     59.9,   0.1943,  33.4773,2,-999.0000,9,    322.1,2,   -999.0,9,  -999.00,9,  -999.00,9,  -999.00,9, -999.000,9, -999.000,9, -999.000,9, -999.000,9, -999.000,9,   -999.0,9,   -999.0,9, 20020628,      514
  18HU20020623, AR07W,    53,  1, 253193,      9,2,20020628,0453, 46.9977, -47.1650,  866,     49.9,  -0.0190,  33.3627,2,-999.0000,9,    329.7,2,    352.6,2,     2.51,6,     5.49,6,     0.87,6,    8.126,2,    2.699,4,    0.646,4,   14.411,4,    9.823,2,   2097.9,2,   2243.5,2, 20020628,      515
  18HU20020623, AR07W,    53,  1, 253194,     10,2,20020628,0453, 46.9977, -47.1650,  866,     40.3,   2.5448,  33.4540,2,-999.0000,9,    348.4,2,   -999.0,9,  -999.00,9,  -999.00,9,  -999.00,9, -999.000,9, -999.000,9, -999.000,9, -999.000,9, -999.000,9,   -999.0,9,   -999.0,9, 20020628,      516
  18HU20020623, AR07W,    53,  1, 253195,     11,2,20020628,0453, 46.9977, -47.1650,  866,     30.3,   4.1374,  33.3794,2,-999.0000,9,    332.4,2,   -999.0,9,  -999.00,9,  -999.00,9,  -999.00,9, -999.000,9, -999.000,9, -999.000,9, -999.000,9, -999.000,9,   -999.0,9,   -999.0,9, 20020628,      517
  18HU20020623, AR07W,    53,  1, 253196,     12,2,20020628,0453, 46.9977, -47.1650,  866,     20.0,   4.5923,  33.0872,2,-999.0000,9,    325.4,2,   -999.0,9,     0.00,6,     0.00,6,     0.38,6, -999.000,9, -999.000,9, -999.000,9, -999.000,9, -999.000,9,   -999.0,9,   -999.0,9, 20020628,      518
  18HU20020623, AR07W,    53,  1, 253197,     13,2,20020628,0453, 46.9977, -47.1650,  866,     10.7,   4.7795,  32.9454,2,-999.0000,9,    327.3,2,   -999.0,9,  -999.00,9,  -999.00,9,  -999.00,9, -999.000,9, -999.000,9, -999.000,9, -999.000,9, -999.000,9,   -999.0,9,   -999.0,9, 20020628,      519
  18HU20020623, AR07W,    53,  1, 253198,     14,2,20020628,0453, 46.9977, -47.1650,  866,      4.6,   4.7806,  32.9457,2,-999.0000,9,    327.2,2,    341.4,2,     0.00,6,     0.00,6,     0.39,6,    7.172,2,    3.889,4,    0.615,4,   14.057,4,    7.719,2,   2016.8,2,   2215.7,2, 20020628,      519
  18HU20020623, AR07W,    54,  1, 253199,      1,2,20020628,0639, 46.9985, -46.9972, 1140,   1152.4,   3.3796,  34.8811,2,  34.8816,2,    266.1,2,   -999.0,9,    11.15,6,    16.40,6,     1.26,6,    4.139,2,    2.098,4,    0.217,4,    4.196,4,    9.297,2,   2168.8,2,   2332.6,2, 20020628,      639
  18HU20020623, AR07W,    54,  1, 253200,      2,2,20020628,0639, 46.9985, -46.9972, 1140,   1001.2,   3.4518,  34.8723,2,  34.8720,6,    272.5,2,    281.6,2,     9.88,6,    16.44,6,     1.19,6,    4.478,2,    2.264,4,    0.184,4,    4.488,4,    8.649,2,   2161.3,2,   2296.6,2, 20020628,      644
  18HU20020623, AR07W,    54,  1, 253201,      3,2,20020628,0639, 46.9985, -46.9972, 1140,    824.2,   3.5369,  34.8626,2,  34.8633,2,    274.7,2,    284.3,2,     9.27,6,    16.32,6,     1.19,6,    4.893,2,    2.494,4,    0.223,4,    4.973,4,    7.992,2,   -999.0,9,   2306.0,2, 20020628,      648
  18HU20020623, AR07W,    54,  1, 253202,      4,2,20020628,0639, 46.9985, -46.9972, 1140,    651.1,   3.5846,  34.8508,2,  34.8521,2,    276.8,2,    287.0,2,     8.71,6,    16.18,6,     1.19,6,    5.138,2,    2.666,4,    0.255,4,    5.363,4,    7.362,2,   2158.3,2,   2294.4,2, 20020628,      652
  18HU20020623, AR07W,    54,  1, 253203,      5,2,20020628,0639, 46.9985, -46.9972, 1140,    500.7,   3.5216,  34.8224,2,  34.8222,2,    278.2,2,    289.9,2,     8.56,6,    15.88,6,     1.17,6,    5.307,2,    2.735,4,    0.309,4,    5.542,4,    6.703,2,   2156.4,2,   2308.2,2, 20020628,      655
  18HU20020623, AR07W,    54,  1, 253204,      6,2,20020628,0639, 46.9985, -46.9972, 1140,    350.0,   3.5886,  34.8040,2,  34.8027,2,    277.8,2,    289.9,2,     8.57,6,    15.68,6,     1.17,6,    5.386,2,    2.735,4,    0.259,4,    5.562,4,    6.287,2,   2156.7,2,   2303.6,2, 20020628,      658
  18HU20020623, AR07W,    54,  1, 253205,      7,2,20020628,0639, 46.9985, -46.9972, 1140,    201.6,   3.0490,  34.6569,2,  34.6555,2,    282.5,2,    295.6,2,     8.89,6,    15.24,6,     1.16,6,    5.990,2,    3.010,4,    0.349,4,    6.268,4,    6.021,2,   2154.3,2,   2300.0,2, 20020628,      701
  18HU20020623, AR07W,    54,  1, 253206,      8,2,20020628,0639, 46.9985, -46.9972, 1140,     99.7,   3.0649,  34.4636,2,  34.4697,2,    289.8,2,    303.9,2,     7.81,6,    11.63,6,     1.08,6,    6.270,2,    3.110,4,    0.395,4,    6.890,4,    5.567,2,   2144.2,2,   2281.9,2, 20020628,      704
  18HU20020623, AR07W,    54,  1, 253207,      9,2,20020628,0639, 46.9985, -46.9972, 1140,     80.8,   2.6278,  34.3143,2,-999.0000,9,    290.6,2,   -999.0,9,     6.60,6,    10.81,6,     1.03,6, -999.000,9, -999.000,9, -999.000,9, -999.000,9, -999.000,9,   -999.0,9,   -999.0,9, 20020628,      705
  18HU20020623, AR07W,    54,  1, 253208,     10,2,20020628,0639, 46.9985, -46.9972, 1140,     60.2,   2.2351,  34.0572,2,-999.0000,9,    310.3,2,   -999.0,9,     3.37,6,     7.01,6,     0.84,6, -999.000,9, -999.000,9, -999.000,9, -999.000,9, -999.000,9,   -999.0,9,   -999.0,9, 20020628,      706
  18HU20020623, AR07W,    54,  1, 253209,     11,2,20020628,0639, 46.9985, -46.9972, 1140,     50.2,   3.6206,  34.0547,2,-999.0000,9,    325.1,2,    340.8,2,     0.67,6,     2.04,6,     0.52,6,    6.820,2,    3.313,4,    0.451,4,    7.806,4,    5.632,2,   -999.0,9,   -999.0,9, 20020628,      707
  18HU20020623, AR07W,    54,  1, 253210,     12,2,20020628,0639, 46.9985, -46.9972, 1140,     40.4,   3.6304,  33.9388,2,-999.0000,9,    338.0,2,   -999.0,9,     0.00,6,     0.67,6,     0.39,6, -999.000,9, -999.000,9, -999.000,9, -999.000,9, -999.000,9,   -999.0,9,   -999.0,9, 20020628,      708
  18HU20020623, AR07W,    54,  1, 253211,     13,2,20020628,0639, 46.9985, -46.9972, 1140,     29.8,   4.8091,  33.4991,2,-999.0000,9,    329.5,2,   -999.0,9,     0.00,6,     0.00,6,     0.31,6, -999.000,9, -999.000,9, -999.000,9, -999.000,9, -999.000,9,   2016.7,2,   -999.0,9, 20020628,      709
  18HU20020623, AR07W,    54,  1, 253212,     14,2,20020628,0639, 46.9985, -46.9972, 1140,     20.0,   4.8953,  33.3223,2,-999.0000,9,    323.5,2,    336.1,2,     0.00,6,     0.16,6,     0.38,6, -999.000,9, -999.000,9, -999.000,9, -999.000,9, -999.000,9,   -999.0,9,   -999.0,9, 20020628,      710
  18HU20020623, AR07W,    54,  1, 253213,     15,2,20020628,0639, 46.9985, -46.9972, 1140,     10.2,   4.9522,  33.2681,2,-999.0000,9,    321.8,2,   -999.0,9,     0.00,6,     0.17,6,     0.39,6, -999.000,9, -999.000,9, -999.000,9, -999.000,9, -999.000,9,   -999.0,9,   -999.0,9, 20020628,      710
  18HU20020623, AR07W,    54,  1, 253214,     16,2,20020628,0639, 46.9985, -46.9972, 1140,      4.3,   4.9610,  33.2642,2,-999.0000,9,    317.7,2,    334.2,2,     0.00,6,     0.16,6,     0.38,6,    6.942,2,    3.357,4,    0.703,4,    8.610,4,    5.192,2,   2017.5,2,   2260.4,2, 20020628,      711
  18HU20020623, AR07W,    56,  1, 253215,      1,2,20020628,1205, 47.0010, -46.6642,  876,    199.9,   3.7091,  34.7203,2,-999.0000,9,    263.7,2,   -999.0,9,     9.86,6,    16.48,6,     1.26,6, -999.000,9, -999.000,9, -999.000,9, -999.000,9, -999.000,9,   -999.0,9,   -999.0,9, 20020628,     1205
  18HU20020623, AR07W,    56,  1, 253216,      2,2,20020628,1205, 47.0010, -46.6642,  876,    150.2,   3.5522,  34.6352,2,-999.0000,9,    275.2,2,   -999.0,9,     8.82,6,    15.35,6,     1.21,6, -999.000,9, -999.000,9, -999.000,9, -999.000,9, -999.000,9,   -999.0,9,   -999.0,9, 20020628,     1207
  18HU20020623, AR07W,    56,  1, 253217,      3,2,20020628,1205, 47.0010, -46.6642,  876,     99.5,   3.4899,  34.4666,2,-999.0000,9,    281.8,2,   -999.0,9,     7.64,6,    12.29,6,     1.13,6, -999.000,9, -999.000,9, -999.000,9, -999.000,9, -999.000,9,   -999.0,9,   -999.0,9, 20020628,     1208
  18HU20020623, AR07W,    56,  1, 253218,      4,2,20020628,1205, 47.0010, -46.6642,  876,     80.1,   3.5405,  34.3790,2,-999.0000,9,    288.9,2,   -999.0,9,     6.84,6,    10.47,6,     1.08,6, -999.000,9, -999.000,9, -999.000,9, -999.000,9, -999.000,9,   -999.0,9,   -999.0,9, 20020628,     1209
  18HU20020623, AR07W,    56,  1, 253219,      5,2,20020628,1205, 47.0010, -46.6642,  876,     59.2,   3.8668,  34.3126,2,-999.0000,9,    292.2,2,   -999.0,9,     4.36,6,     5.56,6,     0.92,6, -999.000,9, -999.000,9, -999.000,9, -999.000,9, -999.000,9,   -999.0,9,   -999.0,9, 20020628,     1211
  18HU20020623, AR07W,    56,  1, 253220,      6,2,20020628,1205, 47.0010, -46.6642,  876,     50.6,   4.2753,  34.2817,2,-999.0000,9,    298.3,2,   -999.0,9,     2.24,6,     2.25,6,     0.77,6, -999.000,9, -999.000,9, -999.000,9, -999.000,9, -999.000,9,   -999.0,9,   -999.0,9, 20020628,     1212
  18HU20020623, AR07W,    56,  1, 253221,      7,2,20020628,1205, 47.0010, -46.6642,  876,     51.2,   4.3060,  34.2806,2,-999.0000,9,    297.7,2,   -999.0,9,  -999.00,9,  -999.00,9,  -999.00,9, -999.000,9, -999.000,9, -999.000,9, -999.000,9, -999.000,9,   -999.0,9,   -999.0,9, 20020628,     1212
  18HU20020623, AR07W,    56,  1, 253222,      8,2,20020628,1205, 47.0010, -46.6642,  876,     39.9,   4.9007,  34.1522,2,-999.0000,9,    304.8,2,   -999.0,9,     0.90,6,     0.29,6,     0.33,6, -999.000,9, -999.000,9, -999.000,9, -999.000,9, -999.000,9,   -999.0,9,   -999.0,9, 20020628,     1213
  18HU20020623, AR07W,    56,  1, 253223,      9,2,20020628,1205, 47.0010, -46.6642,  876,     29.7,   6.1525,  34.0335,2,-999.0000,9,    308.9,2,   -999.0,9,     0.61,6,     0.00,6,     0.24,6, -999.000,9, -999.000,9, -999.000,9, -999.000,9, -999.000,9,   -999.0,9,   -999.0,9, 20020628,     1214
  18HU20020623, AR07W,    56,  1, 253224,     10,2,20020628,1205, 47.0010, -46.6642,  876,     19.5,   6.1889,  33.6508,2,-999.0000,9,    308.8,2,   -999.0,9,     0.85,6,     0.00,6,     0.24,6, -999.000,9, -999.000,9, -999.000,9, -999.000,9, -999.000,9,   -999.0,9,   -999.0,9, 20020628,     1215
  18HU20020623, AR07W,    56,  1, 253225,     11,2,20020628,1205, 47.0010, -46.6642,  876,      9.7,   6.1884,  33.6272,2,-999.0000,9,    308.6,2,   -999.0,9,     0.87,6,     0.00,6,     0.21,6, -999.000,9, -999.000,9, -999.000,9, -999.000,9, -999.000,9,   -999.0,9,   -999.0,9, 20020628,     1216
  18HU20020623, AR07W,    56,  1, 253226,     12,2,20020628,1205, 47.0010, -46.6642,  876,      3.2,   6.1896,  33.6278,2,-999.0000,9,    308.5,2,   -999.0,9,     0.65,6,     0.00,6,     0.23,6, -999.000,9, -999.000,9, -999.000,9, -999.000,9, -999.000,9,   -999.0,9,   -999.0,9, 20020628,     1217
  18HU20020623, AR07W,    56,  1, 253227,     13,2,20020628,1205, 47.0010, -46.6642,  876,      3.1,   6.1898,  33.6275,2,-999.0000,9,    308.5,2,   -999.0,9,  -999.00,9,  -999.00,9,  -999.00,9, -999.000,9, -999.000,9, -999.000,9, -999.000,9, -999.000,9,   -999.0,9,   -999.0,9, 20020628,     1218