BOTTLE,20130611PRINUNIVRMK
EXPOCODE,SECT_ID,STNNBR,CASTNO,SAMPNO,BTLNBR,BTLNBR_FLAG_W,DATE,TIME,LATITUDE,LONGITUDE,DEPTH,CTDPRS,CTDTMP,CTDSAL,CTDSAL_FLAG_W,SALNTY,SALNTY_FLAG_W,CTDOXY,CTDOXY_FLAG_W,OXYGEN,OXYGEN_FLAG_W,SILCAT,SILCAT_FLAG_W,NITRAT,NITRAT_FLAG_W,PHSPHT,PHSPHT_FLAG_W,CFC-11,CFC-11_FLAG_W,CFC-12,CFC-12_FLAG_W,CFC113,CFC113_FLAG_W,CCL4,CCL4_FLAG_W,MCHFRM,MCHFRM_FLAG_W,TCARBN,TCARBN_FLAG_W,ALKALI,ALKALI_FLAG_W,BTL_DATE,BTL_TIME
,,,,,,,,,,,METERS,DBAR,ITS-90,PSS-78,,PSS-78,,UMOL/KG,,UMOL/KG,,UMOL/KG,,UMOL/KG,,UMOL/KG,,PMOL/KG,,PMOL/KG,,PMOL/KG,,PMOL/KG,,PMOL/KG,,UMOL/KG,,UMOL/KG,,,
  18HU20020623, AR07W,   341,  1, 254492,      1,2,20020712,2348, 54.8010, -43.9970, 3350,   3489.3,   2.3075,  34.8997,2,  34.9000,2,    276.4,2,    277.3,2,    16.34,6,    15.31,6,     1.29,6,    1.989,2,    0.948,4,    0.149,4,    3.336,4,    6.315,2,   2158.2,2,   2307.0,2, 20020712,     2348
  18HU20020623, AR07W,   341,  1, 254493,      2,2,20020712,2348, 54.8010, -43.9970, 3350,   3410.1,   2.3874,  34.9034,2,  34.8999,2,    275.5,2,    276.9,2,    16.30,6,    15.51,6,     1.26,6,    1.920,2,    0.785,4,    0.098,4,    3.412,4,    6.299,2,   2155.8,2,   2299.9,2, 20020712,     2350
  18HU20020623, AR07W,   341,  1, 254494,      3,2,20020712,2348, 54.8010, -43.9970, 3350,   3310.4,   2.4278,  34.9058,2,  34.9058,2,    274.3,2,    275.9,2,    16.10,6,    15.51,6,     1.27,6,    1.717,2,    0.679,4,    0.231,4,    3.167,4,    6.020,2,   2159.3,2,   2223.8,2, 20020712,     2352
  18HU20020623, AR07W,   341,  1, 254495,      4,2,20020712,2348, 54.8010, -43.9970, 3350,   3202.0,   2.5250,  34.9129,2,  34.9134,2,    272.3,2,    274.9,2,    15.94,6,    16.10,6,     1.27,6,    1.735,2,    0.852,4,    0.115,4,    2.985,4,    5.710,2,   2159.4,2,   2241.6,2, 20020712,     2355
  18HU20020623, AR07W,   341,  1, 254496,      5,2,20020712,2348, 54.8010, -43.9970, 3350,   3080.6,   2.6115,  34.9185,2,  34.9181,2,    270.9,2,    274.6,2,    15.65,6,    16.19,6,     1.29,6,    1.758,2,    0.688,4,    0.302,4,    3.041,4,    5.777,2,   2160.9,2,   2270.2,2, 20020712,     2357
  18HU20020623, AR07W,   341,  1, 254497,      6,2,20020712,2348, 54.8010, -43.9970, 3350,   2940.6,   2.7452,  34.9269,2,  34.9002,6,    269.7,2,    273.6,2,    14.82,6,    15.85,6,     1.26,6,    1.683,2,    0.425,4,    0.145,4,    3.119,4,    6.060,2,   2161.0,2,   2288.4,2, 20020713,        0
  18HU20020623, AR07W,   341,  1, 254498,      7,2,20020712,2348, 54.8010, -43.9970, 3350,   2792.0,   2.8032,  34.9253,2,  34.9250,2,    269.2,2,    273.3,2,    14.13,6,    15.92,6,     1.27,6,    1.784,2,    0.821,4,    0.153,4,    3.029,4,    5.952,2,   2160.0,2,   2304.4,2, 20020713,        2
  18HU20020623, AR07W,   341,  1, 254499,      8,2,20020712,2348, 54.8010, -43.9970, 3350,   2612.0,   2.9013,  34.9214,2,  34.9215,2,    268.8,2,    274.6,2,    13.31,6,    16.30,6,     1.26,6,    1.862,2,    0.990,4,    0.066,4,    3.236,4,    6.438,2,   2158.7,2,   2319.1,2, 20020713,        6
  18HU20020623, AR07W,   341,  1, 254500,      9,2,20020712,2348, 54.8010, -43.9970, 3350,   2411.2,   2.9678,  34.9153,2,  34.9148,2,    269.0,2,    275.6,2,    12.81,6,    16.81,6,     1.27,6,    2.012,2,    0.937,4,    0.147,4,    3.171,4,    6.508,2,   -999.0,9,   2306.7,2, 20020713,        9
  18HU20020623, AR07W,   341,  1, 255501,     10,2,20020712,2348, 54.8010, -43.9970, 3350,   2191.2,   3.0435,  34.9070,2,  34.9075,6,    269.6,2,   -999.0,9,    11.57,6,    16.04,6,     1.26,6,    2.398,2,    1.069,4,    0.153,4,    3.873,4,    7.536,2,   -999.0,9,   -999.0,9, 20020713,       13
  18HU20020623, AR07W,   341,  1, 255502,     11,2,20020712,2348, 54.8010, -43.9970, 3350,   1920.2,   3.0827,  34.8878,2,-999.0000,9,    272.3,2,   -999.0,9,  -999.00,9,  -999.00,9,  -999.00,9, -999.000,9, -999.000,9, -999.000,9, -999.000,9, -999.000,9,   -999.0,9,   -999.0,9, 20020713,       17
  18HU20020623, AR07W,   341,  1, 255503,     12,2,20020712,2348, 54.8010, -43.9970, 3350,   1651.3,   3.0972,  34.8740,2,  34.8733,2,    274.1,2,   -999.0,9,    10.30,6,    16.43,6,     1.28,6, -999.000,9, -999.000,9, -999.000,9, -999.000,9, -999.000,9,   -999.0,9,   -999.0,9, 20020713,       21
  18HU20020623, AR07W,   341,  1, 255504,     13,2,20020712,2348, 54.8010, -43.9970, 3350,   1453.0,   3.2001,  34.8779,2,  34.8778,2,    270.9,2,   -999.0,9,    10.52,6,    16.86,6,     1.29,6,    3.319,2,    1.334,4,    0.168,4,    5.198,4,   10.718,2,   -999.0,9,   -999.0,9, 20020713,       24
  18HU20020623, AR07W,   341,  1, 255505,     14,2,20020712,2348, 54.8010, -43.9970, 3350,   1266.3,   3.3145,  34.8830,2,  34.8827,2,    267.7,2,   -999.0,9,    10.45,6,    17.02,6,     1.30,6,    3.351,2,    1.489,4,    0.192,4,    5.116,4,   10.124,2,   -999.0,9,   -999.0,9, 20020713,       27
  18HU20020623, AR07W,   341,  1, 255506,     15,2,20020712,2348, 54.8010, -43.9970, 3350,   1070.3,   3.4600,  34.8877,2,  34.8877,2,    264.5,2,   -999.0,9,    10.25,6,    17.00,6,     1.29,6,    3.524,2,    1.450,4,    0.203,4,    5.351,4,    9.824,2,   -999.0,9,   -999.0,9, 20020713,       31
  18HU20020623, AR07W,   341,  1, 255507,     16,2,20020712,2348, 54.8010, -43.9970, 3350,    870.4,   3.5296,  34.8812,2,  34.8814,2,    264.4,2,   -999.0,9,     9.86,6,    16.65,6,     1.28,6,    3.845,2,    1.836,4,    0.367,4,    5.914,4,    9.425,2,   -999.0,9,   -999.0,9, 20020713,       34
  18HU20020623, AR07W,   341,  1, 255508,     17,2,20020712,2348, 54.8010, -43.9970, 3350,    679.9,   3.5931,  34.8724,2,  34.8717,2,    265.9,2,   -999.0,9,     9.70,6,    16.86,6,     1.26,6,    4.273,2,    1.965,4,    0.304,4,    6.391,4,    8.616,2,   -999.0,9,   -999.0,9, 20020713,       37
  18HU20020623, AR07W,   341,  1, 255509,     18,2,20020712,2348, 54.8010, -43.9970, 3350,    509.3,   3.7327,  34.8748,2,  34.8751,2,    262.9,2,   -999.0,9,     9.60,6,    16.95,6,     1.26,6,    4.347,2,    2.846,4,    0.412,4,    6.435,4,    8.168,2,   -999.0,9,   -999.0,9, 20020713,       40
  18HU20020623, AR07W,   341,  1, 255510,     19,2,20020712,2348, 54.8010, -43.9970, 3350,    360.7,   3.8738,  34.8694,2,  34.8682,2,    259.0,2,   -999.0,9,     9.54,6,    17.07,6,     1.29,6,    4.430,2,    2.003,4,    0.295,4,    6.340,4,    7.693,2,   -999.0,9,   -999.0,9, 20020713,       43
  18HU20020623, AR07W,   341,  1, 255511,     20,2,20020712,2348, 54.8010, -43.9970, 3350,    240.6,   4.0507,  34.8493,2,  34.8483,2,    253.7,2,   -999.0,9,     9.54,6,    17.11,6,     1.30,6,    4.249,2,    2.178,4,    0.383,4,    5.994,4,    6.693,2,   -999.0,9,   -999.0,9, 20020713,       45
  18HU20020623, AR07W,   341,  1, 255512,     21,2,20020712,2348, 54.8010, -43.9970, 3350,    140.9,   3.6567,  34.7368,2,  34.8060,6,    273.6,2,   -999.0,9,     8.22,6,    15.61,6,     1.22,6,    5.332,2,    2.708,4,    0.624,4,    9.148,4,    5.784,2,   -999.0,9,   -999.0,9, 20020713,       47
  18HU20020623, AR07W,   341,  1, 255513,     22,2,20020712,2348, 54.8010, -43.9970, 3350,     70.4,   4.1756,  34.6737,2,-999.0000,9,    288.7,2,   -999.0,9,     5.58,6,    11.27,6,     1.13,6,    5.999,2,    2.856,4,    0.321,4,   10.494,4,    4.862,2,   -999.0,9,   -999.0,9, 20020713,       48
  18HU20020623, AR07W,   341,  1, 255514,     23,2,20020712,2348, 54.8010, -43.9970, 3350,     34.7,   6.6738,  34.6529,2,-999.0000,9,    290.9,2,   -999.0,9,     0.00,6,     5.14,6,     0.65,6,    5.350,2,    2.771,4,    0.289,4,    9.169,4,    4.036,2,   -999.0,9,   -999.0,9, 20020713,       49
  18HU20020623, AR07W,   341,  1, 255515,     24,2,20020712,2348, 54.8010, -43.9970, 3350,      5.4,   8.2576,  34.5623,2,-999.0000,9,    287.8,2,   -999.0,9,     0.00,6,     3.59,6,     0.43,6,    4.884,2,    2.614,4,    0.359,4,    9.016,4,    3.883,2,   -999.0,9,   -999.0,9, 20020713,       50
  18HU20020623, AR07W,   345,  1, 255516,      1,2,20020713,0535, 54.1978, -43.9903, 3556,   3669.5,   2.3149,  34.8991,2,  34.8997,2,    276.7,2,    278.9,2,    17.15,6,    16.13,6,     1.22,6, -999.000,9, -999.000,9, -999.000,9, -999.000,9, -999.000,9,   2164.3,2,   2264.0,2, 20020713,      535
  18HU20020623, AR07W,   345,  1, 255517,      2,2,20020713,0535, 54.1978, -43.9903, 3556,   3588.4,   2.4041,  34.9050,2,  34.9052,2,    275.6,2,    276.2,2,    16.97,6,    16.21,6,     1.19,6, -999.000,9, -999.000,9, -999.000,9, -999.000,9, -999.000,9,   2162.4,2,   2299.3,2, 20020713,      537
  18HU20020623, AR07W,   345,  1, 255518,      3,2,20020713,0535, 54.1978, -43.9903, 3556,   3500.3,   2.4654,  34.9097,2,  34.9097,2,    273.9,2,    275.6,2,    16.76,6,    16.25,6,     1.19,6, -999.000,9, -999.000,9, -999.000,9, -999.000,9, -999.000,9,   2162.8,2,   2312.9,2, 20020713,      540
  18HU20020623, AR07W,   345,  1, 255519,      4,2,20020713,0535, 54.1978, -43.9903, 3556,   3380.9,   2.5513,  34.9166,2,  34.9170,2,    272.2,2,    274.0,2,    16.56,6,    16.62,6,     1.19,6, -999.000,9, -999.000,9, -999.000,9, -999.000,9, -999.000,9,   2165.1,2,   2304.1,2, 20020713,      542
  18HU20020623, AR07W,   345,  1, 255520,      5,2,20020713,0535, 54.1978, -43.9903, 3556,   3250.8,   2.6428,  34.9240,2,  34.9244,2,    270.6,2,    273.2,2,    16.22,6,    16.48,6,     1.20,6, -999.000,9, -999.000,9, -999.000,9, -999.000,9, -999.000,9,   2162.5,2,   2273.1,2, 20020713,      545
  18HU20020623, AR07W,   345,  1, 255521,      6,2,20020713,0535, 54.1978, -43.9903, 3556,   3090.4,   2.7593,  34.9314,2,  34.9318,6,    269.3,2,    273.2,2,    15.15,6,    16.29,6,     1.19,6, -999.000,9, -999.000,9, -999.000,9, -999.000,9, -999.000,9,   2158.6,2,   2269.7,2, 20020713,      548
  18HU20020623, AR07W,   345,  1, 255522,      7,2,20020713,0535, 54.1978, -43.9903, 3556,   2950.8,   2.8725,  34.9428,2,  34.9431,2,    267.8,2,    271.9,2,    14.47,6,    16.21,6,     1.20,6, -999.000,9, -999.000,9, -999.000,9, -999.000,9, -999.000,9,   2165.3,2,   2315.2,2, 20020713,      551
  18HU20020623, AR07W,   345,  1, 255523,      8,2,20020713,0535, 54.1978, -43.9903, 3556,   2699.9,   2.9324,  34.9316,2,  34.9317,2,    268.2,2,    273.6,2,    13.32,6,    16.55,6,     1.19,6, -999.000,9, -999.000,9, -999.000,9, -999.000,9, -999.000,9,   2160.9,2,   2303.6,2, 20020713,      555
  18HU20020623, AR07W,   345,  1, 255524,      9,2,20020713,0535, 54.1978, -43.9903, 3556,   2479.6,   3.0234,  34.9248,2,  34.9244,2,    267.8,2,    274.5,2,    12.80,6,    16.45,6,     1.19,6, -999.000,9, -999.000,9, -999.000,9, -999.000,9, -999.000,9,   2160.6,2,   2301.1,2, 20020713,      558
  18HU20020623, AR07W,   345,  1, 255525,     10,2,20020713,0535, 54.1978, -43.9903, 3556,   2229.0,   3.1138,  34.9104,2,  34.9109,2,    269.3,2,    277.0,2,    12.02,6,    16.80,6,     1.17,6, -999.000,9, -999.000,9, -999.000,9, -999.000,9, -999.000,9,   2156.8,2,   2297.8,2, 20020713,      602
  18HU20020623, AR07W,   345,  1, 255526,     11,2,20020713,0535, 54.1978, -43.9903, 3556,   1970.9,   3.1050,  34.8861,2,  34.8859,6,    272.8,2,    281.7,2,    11.20,6,    16.73,6,     1.18,6, -999.000,9, -999.000,9, -999.000,9, -999.000,9, -999.000,9,   2155.8,2,   2307.4,2, 20020713,      606
  18HU20020623, AR07W,   345,  1, 255527,     12,2,20020713,0535, 54.1978, -43.9903, 3556,   1729.1,   3.1396,  34.8763,2,  34.8762,2,    273.2,2,    283.3,2,    10.82,6,    16.64,6,     1.19,6, -999.000,9, -999.000,9, -999.000,9, -999.000,9, -999.000,9,   2155.0,2,   2280.7,2, 20020713,      610
  18HU20020623, AR07W,   345,  1, 255528,     13,2,20020713,0535, 54.1978, -43.9903, 3556,   1500.2,   3.2977,  34.8841,2,  34.8837,2,    268.9,2,    279.1,6,    10.79,6,    16.82,6,     1.19,6, -999.000,9, -999.000,9, -999.000,9, -999.000,9, -999.000,9,   2154.9,2,   2296.7,2, 20020713,      614
  18HU20020623, AR07W,   345,  1, 255529,     14,2,20020713,0535, 54.1978, -43.9903, 3556,   1279.6,   3.4398,  34.8862,2,  34.8857,2,    265.4,2,    276.6,2,    10.56,6,    17.12,6,     1.19,6, -999.000,9, -999.000,9, -999.000,9, -999.000,9, -999.000,9,   2156.7,2,   2330.1,2, 20020713,      617
  18HU20020623, AR07W,   345,  1, 255530,     15,2,20020713,0535, 54.1978, -43.9903, 3556,   1069.1,   3.5513,  34.8840,2,  34.8827,2,    264.6,2,    276.3,2,    10.40,6,    17.00,6,     1.19,6, -999.000,9, -999.000,9, -999.000,9, -999.000,9, -999.000,9,   2157.7,2,   2287.9,2, 20020713,      620
  18HU20020623, AR07W,   345,  1, 255531,     16,2,20020713,0535, 54.1978, -43.9903, 3556,    870.8,   3.6479,  34.8790,2,  34.8782,2,    264.8,2,    276.5,2,     9.95,6,    16.81,6,     1.19,6, -999.000,9, -999.000,9, -999.000,9, -999.000,9, -999.000,9,   2159.6,2,   2307.5,2, 20020713,      623
  18HU20020623, AR07W,   345,  1, 255532,     17,2,20020713,0535, 54.1978, -43.9903, 3556,    719.3,   3.8350,  34.8878,2,  34.8869,2,    261.7,2,    273.6,2,     9.94,6,    17.07,6,     1.20,6, -999.000,9, -999.000,9, -999.000,9, -999.000,9, -999.000,9,   2158.7,2,   2312.0,2, 20020713,      626
  18HU20020623, AR07W,   345,  1, 255533,     18,2,20020713,0535, 54.1978, -43.9903, 3556,    510.0,   3.9299,  34.8538,2,  34.8515,2,    259.1,2,    271.5,2,     9.33,6,    17.09,6,     1.18,6, -999.000,9, -999.000,9, -999.000,9, -999.000,9, -999.000,9,   2160.1,2,   2279.4,2, 20020713,      630
  18HU20020623, AR07W,   345,  1, 255534,     19,2,20020713,0535, 54.1978, -43.9903, 3556,    359.0,   3.9154,  34.7680,2,  34.7689,2,    266.0,2,    279.0,2,     8.65,6,    16.42,6,     1.15,6, -999.000,9, -999.000,9, -999.000,9, -999.000,9, -999.000,9,   2155.4,2,   2306.4,2, 20020713,      633
  18HU20020623, AR07W,   345,  1, 255535,     20,2,20020713,0535, 54.1978, -43.9903, 3556,    241.5,   4.0962,  34.6900,2,  34.6883,2,    279.9,2,    294.0,2,     7.54,6,    15.22,6,     1.09,6, -999.000,9, -999.000,9, -999.000,9, -999.000,9, -999.000,9,   2144.6,2,   2286.6,2, 20020713,      636
  18HU20020623, AR07W,   345,  1, 255536,     21,2,20020713,0535, 54.1978, -43.9903, 3556,    140.4,   4.4075,  34.6722,2,  34.6706,2,    283.9,2,    297.9,2,     7.28,6,    14.48,6,     1.04,6, -999.000,9, -999.000,9, -999.000,9, -999.000,9, -999.000,9,   2138.3,2,   2286.5,2, 20020713,      637
  18HU20020623, AR07W,   345,  1, 255537,     22,2,20020713,0535, 54.1978, -43.9903, 3556,     70.0,   5.0534,  34.6626,2,-999.0000,9,    284.1,2,    298.3,2,     5.71,6,    12.01,6,     0.98,6, -999.000,9, -999.000,9, -999.000,9, -999.000,9, -999.000,9,   2134.4,2,   2294.5,2, 20020713,      639
  18HU20020623, AR07W,   345,  1, 255538,     23,2,20020713,0535, 54.1978, -43.9903, 3556,     36.3,   7.1209,  34.6527,2,-999.0000,9,    292.9,2,    303.0,2,     0.00,6,     5.14,6,     0.50,6, -999.000,9, -999.000,9, -999.000,9, -999.000,9, -999.000,9,   2088.6,2,   2296.8,2, 20020713,      641
  18HU20020623, AR07W,   345,  1, 255539,     24,2,20020713,0535, 54.1978, -43.9903, 3556,      5.2,   9.1720,  34.5878,2,-999.0000,9,    282.2,2,    292.3,2,     0.00,6,     3.90,6,     0.41,6, -999.000,9, -999.000,9, -999.000,9, -999.000,9, -999.000,9,   2075.2,2,   2287.2,2, 20020713,      642