BOTTLE,20130611PRINUNIVRMK
EXPOCODE,SECT_ID,STNNBR,CASTNO,SAMPNO,BTLNBR,BTLNBR_FLAG_W,DATE,TIME,LATITUDE,LONGITUDE,DEPTH,CTDPRS,CTDTMP,CTDSAL,CTDSAL_FLAG_W,SALNTY,SALNTY_FLAG_W,CTDOXY,CTDOXY_FLAG_W,OXYGEN,OXYGEN_FLAG_W,SILCAT,SILCAT_FLAG_W,NITRAT,NITRAT_FLAG_W,PHSPHT,PHSPHT_FLAG_W,CFC-11,CFC-11_FLAG_W,CFC-12,CFC-12_FLAG_W,CFC113,CFC113_FLAG_W,CCL4,CCL4_FLAG_W,MCHFRM,MCHFRM_FLAG_W,TCARBN,TCARBN_FLAG_W,ALKALI,ALKALI_FLAG_W,BTL_DATE,BTL_TIME
,,,,,,,,,,,METERS,DBAR,ITS-90,PSS-78,,PSS-78,,UMOL/KG,,UMOL/KG,,UMOL/KG,,UMOL/KG,,UMOL/KG,,PMOL/KG,,PMOL/KG,,PMOL/KG,,PMOL/KG,,PMOL/KG,,UMOL/KG,,UMOL/KG,,,
  18HU20020623, AR07W,   111,  1, 253520,      1,2,20020702,2119, 54.7640, -54.4870,  244,    235.1,   1.0761,  34.1112,2,  34.0947,6,    294.7,2,    314.7,2,     8.52,6,    11.49,6,     0.80,6,    6.111,2,    3.327,4,    0.454,4,    9.870,4,    2.361,2,   2125.8,2,   2268.6,2, 20020702,     2119
  18HU20020623, AR07W,   111,  1, 253521,      2,2,20020702,2119, 54.7640, -54.4870,  244,    201.4,   0.3714,  33.9194,2,  33.9275,2,    301.2,2,    320.3,2,     7.79,6,    10.32,6,     0.76,6,    6.487,2,    3.412,4,    0.503,4,   10.762,4,    2.473,2,   2119.6,2,   2271.9,2, 20020702,     2120
  18HU20020623, AR07W,   111,  1, 253522,      3,2,20020702,2119, 54.7640, -54.4870,  244,    150.4,  -0.4407,  33.6798,2,  33.6775,2,    303.6,2,    325.6,6,     7.88,6,     9.49,6,     0.82,6,    6.769,2,    3.503,4,    0.498,4,   11.440,4,    2.604,2,   2112.9,2,   2241.2,2, 20020702,     2122
  18HU20020623, AR07W,   111,  1, 253523,      4,2,20020702,2119, 54.7640, -54.4870,  244,    124.8,  -0.6162,  33.5899,2,  33.5862,2,    303.3,2,    325.3,2,     8.40,6,     9.51,6,     0.76,6,    6.853,2,    3.566,4,    0.496,4,   11.429,4,    2.727,2,   2113.2,2,   2251.3,2, 20020702,     2123
  18HU20020623, AR07W,   111,  1, 253524,      5,2,20020702,2119, 54.7640, -54.4870,  244,    100.5,  -0.9580,  33.4120,2,  33.4077,2,    299.9,2,    322.2,2,     9.64,6,     9.59,6,     0.80,6,    6.874,2,    3.549,4,    0.539,4,   11.082,4,    2.861,2,   2117.6,2,   -999.0,9, 20020702,     2124
  18HU20020623, AR07W,   111,  1, 253525,      6,2,20020702,2119, 54.7640, -54.4870,  244,     79.6,  -1.1112,  33.2492,2,-999.0000,9,    298.0,2,   -999.0,9,    10.58,6,     9.52,6,     0.85,6, -999.000,9, -999.000,9, -999.000,9, -999.000,9, -999.000,9,   -999.0,9,   -999.0,9, 20020702,     2125
  18HU20020623, AR07W,   111,  1, 253526,      7,2,20020702,2119, 54.7640, -54.4870,  244,     60.7,  -1.1954,  33.1046,2,-999.0000,9,    300.4,2,   -999.0,9,    10.87,6,     9.20,6,     0.86,6, -999.000,9, -999.000,9, -999.000,9, -999.000,9, -999.000,9,   -999.0,9,   -999.0,9, 20020702,     2127
  18HU20020623, AR07W,   111,  1, 253527,      8,2,20020702,2119, 54.7640, -54.4870,  244,     50.9,  -1.1284,  33.0483,2,  33.0525,2,    302.8,2,    325.3,2,    10.74,6,     8.95,6,     0.85,6,    7.102,2,    3.610,4,    0.550,4,   11.128,4,    2.899,2,   2122.3,2,   2242.7,2, 20020702,     2128
  18HU20020623, AR07W,   111,  1, 253528,      9,2,20020702,2119, 54.7640, -54.4870,  244,     40.4,  -1.1893,  32.9972,2,-999.0000,9,    303.8,2,   -999.0,9,    10.97,6,     8.76,6,     0.85,6, -999.000,9, -999.000,9, -999.000,9, -999.000,9, -999.000,9,   -999.0,9,   -999.0,9, 20020702,     2129
  18HU20020623, AR07W,   111,  1, 253529,     10,2,20020702,2119, 54.7640, -54.4870,  244,     30.3,  -1.0768,  32.9225,2,-999.0000,9,    306.8,2,   -999.0,9,    10.84,6,     8.28,6,     0.84,6, -999.000,9, -999.000,9, -999.000,9, -999.000,9, -999.000,9,   -999.0,9,   -999.0,9, 20020702,     2129
  18HU20020623, AR07W,   111,  1, 253530,     11,2,20020702,2119, 54.7640, -54.4870,  244,     20.1,  -0.9459,  32.8065,2,-999.0000,9,    316.2,2,   -999.0,9,    10.68,6,     7.35,6,     0.87,6, -999.000,9, -999.000,9, -999.000,9, -999.000,9, -999.000,9,   -999.0,9,   -999.0,9, 20020702,     2130
  18HU20020623, AR07W,   111,  1, 253531,     12,2,20020702,2119, 54.7640, -54.4870,  244,     10.1,   1.3125,  32.0465,2,  32.2794,2,    328.7,2,    349.7,2,     8.89,6,     6.18,6,     0.73,6,    7.202,2,    3.848,4,    0.681,4,   13.204,4,    2.769,2,   2067.1,2,   2194.5,2, 20020702,     2131
  18HU20020623, AR07W,   111,  1, 253532,     13,2,20020702,2119, 54.7640, -54.4870,  244,     10.1,   1.6339,  31.9618,2,-999.0000,9,    330.7,2,   -999.0,9,     8.76,6,     5.96,6,     0.71,6, -999.000,9, -999.000,9, -999.000,9, -999.000,9, -999.000,9,   -999.0,9,   -999.0,9, 20020702,     2131
  18HU20020623, AR07W,   111,  1, 253533,     14,2,20020702,2119, 54.7640, -54.4870,  244,      2.4,   1.8902,  31.9179,2,-999.0000,9,    331.3,2,   -999.0,9,     8.21,6,     5.76,6,     0.68,6, -999.000,9, -999.000,9, -999.000,9, -999.000,9, -999.000,9,   -999.0,9,   -999.0,9, 20020702,     2132
  18HU20020623, AR07W,   113,  1, 253534,      1,2,20020702,2341, 54.9545, -54.2943,  362,    355.0,   3.5483,  34.6846,2,  34.6835,6,    280.3,2,    291.8,2,     8.72,6,    14.03,6,     0.86,6,    4.435,2,    1.028,4,    0.323,4,    7.240,4,    6.588,2,   2145.3,2,   2290.6,2, 20020702,     2341
  18HU20020623, AR07W,   113,  1, 253535,      2,2,20020702,2341, 54.9545, -54.2943,  362,    330.7,   3.5435,  34.6841,2,  34.6839,2,    280.0,2,    291.7,2,     8.80,6,    14.03,6,     0.84,6,    4.338,2,    0.000,4,    0.680,4,    6.357,4,    5.826,2,   2143.1,2,   2304.6,2, 20020702,     2342
  18HU20020623, AR07W,   113,  1, 253536,      3,2,20020702,2341, 54.9545, -54.2943,  362,    290.8,   3.4690,  34.6402,2,  34.6448,2,    282.3,2,    294.5,2,     8.04,6,    13.26,6,     0.81,6,    4.476,2,    0.961,4,    0.651,4,    6.545,4,    5.767,2,   2136.2,2,   2286.0,2, 20020702,     2343
  18HU20020623, AR07W,   113,  1, 253537,      4,2,20020702,2341, 54.9545, -54.2943,  362,    251.0,   3.2446,  34.5765,2,  34.5776,2,    285.1,2,    297.8,2,     7.61,6,    12.51,6,     0.78,6,    4.677,2,    1.127,4,    0.132,4,    7.645,4,    6.696,2,   2128.4,2,   2269.7,2, 20020702,     2345
  18HU20020623, AR07W,   113,  1, 253538,      5,2,20020702,2341, 54.9545, -54.2943,  362,    210.9,   3.0044,  34.5102,2,  34.5147,2,    287.1,2,    300.2,6,     8.02,6,    11.61,6,     1.00,6,    4.576,2,    1.288,4,    0.585,4,    6.958,4,    5.742,2,   2124.1,2,   2258.7,2, 20020702,     2346
  18HU20020623, AR07W,   113,  1, 253539,      6,2,20020702,2341, 54.9545, -54.2943,  362,    150.2,   2.5999,  34.3828,2,  34.3845,2,    289.1,2,    303.0,2,     6.24,6,    10.73,6,     0.95,6,    4.744,2,    1.541,4,    0.297,4,    7.625,4,    6.151,2,   2120.7,2,   2261.7,2, 20020702,     2347
  18HU20020623, AR07W,   113,  1, 253540,      7,2,20020702,2341, 54.9545, -54.2943,  362,    125.1,   2.3058,  34.2900,2,  34.3037,2,    296.9,2,    311.2,2,     5.22,6,     8.92,6,     0.90,6,    5.366,2,    1.753,4,    0.476,4,    9.117,4,    6.477,2,   2117.7,2,   2264.1,2, 20020702,     2348
  18HU20020623, AR07W,   113,  1, 253541,      8,2,20020702,2341, 54.9545, -54.2943,  362,    100.1,   1.1407,  34.0896,2,  34.1023,2,    297.8,2,    314.4,2,     6.73,6,     9.99,6,     1.01,6,    5.118,2,    2.321,4,    0.518,4,    7.915,4,    6.140,2,   2118.8,2,   2247.5,2, 20020702,     2349
  18HU20020623, AR07W,   113,  1, 253542,      9,2,20020702,2341, 54.9545, -54.2943,  362,     80.6,   0.5633,  33.9488,2,-999.0000,9,    301.0,2,   -999.0,9,     6.99,6,     9.48,6,     0.99,6, -999.000,9, -999.000,9, -999.000,9, -999.000,9, -999.000,9,   -999.0,9,   -999.0,9, 20020702,     2350
  18HU20020623, AR07W,   113,  1, 253543,     10,2,20020702,2341, 54.9545, -54.2943,  362,     60.4,  -0.0422,  33.7870,2,-999.0000,9,    306.4,2,   -999.0,9,     6.96,6,     8.73,6,     0.94,6, -999.000,9, -999.000,9, -999.000,9, -999.000,9, -999.000,9,   -999.0,9,   -999.0,9, 20020702,     2351
  18HU20020623, AR07W,   113,  1, 253544,     11,2,20020702,2341, 54.9545, -54.2943,  362,     50.1,  -0.3455,  33.6996,2,  33.7005,2,    307.6,2,    329.7,2,     7.05,6,     8.48,6,     0.94,6,    6.873,2,    2.539,4,    1.325,4,   13.385,4,    8.836,2,   2110.6,2,   2227.4,2, 20020702,     2352
  18HU20020623, AR07W,   113,  1, 253545,     12,2,20020702,2341, 54.9545, -54.2943,  362,     40.6,  -0.5446,  33.6320,2,-999.0000,9,    314.2,2,   -999.0,9,     6.88,6,     8.00,6,     0.93,6, -999.000,9, -999.000,9, -999.000,9, -999.000,9, -999.000,9,   -999.0,9,   -999.0,9, 20020702,     2352
  18HU20020623, AR07W,   113,  1, 253546,     13,2,20020702,2341, 54.9545, -54.2943,  362,     30.4,  -0.8123,  33.5563,2,-999.0000,9,    305.4,2,   -999.0,9,     7.97,6,     8.94,6,     0.98,6,    6.347,2,    1.777,4,    0.886,4,   10.921,4,    8.123,2,   -999.0,9,   -999.0,9, 20020702,     2353
  18HU20020623, AR07W,   113,  1, 253547,     14,2,20020702,2341, 54.9545, -54.2943,  362,     20.9,  -0.8571,  33.4564,2,-999.0000,9,    307.0,2,   -999.0,9,     8.53,6,     8.30,6,     0.96,6, -999.000,9, -999.000,9, -999.000,9, -999.000,9, -999.000,9,   -999.0,9,   -999.0,9, 20020702,     2354
  18HU20020623, AR07W,   113,  1, 253548,     15,2,20020702,2341, 54.9545, -54.2943,  362,     11.1,   1.9100,  32.6431,2,  32.7195,2,    359.6,2,    384.2,2,     4.15,6,     0.82,6,     0.44,6,    6.540,2,    3.043,4,    0.748,4,   11.338,4,    6.527,2,   2013.8,2,   2201.4,2, 20020702,     2355
  18HU20020623, AR07W,   113,  1, 253549,     16,2,20020702,2341, 54.9545, -54.2943,  362,     10.5,   1.8377,  32.6966,2,-999.0000,9,    359.7,2,   -999.0,9,  -999.00,9,  -999.00,9,  -999.00,9, -999.000,9, -999.000,9, -999.000,9, -999.000,9, -999.000,9,   -999.0,9,   -999.0,9, 20020702,     2355
  18HU20020623, AR07W,   113,  1, 253550,     17,2,20020702,2341, 54.9545, -54.2943,  362,      2.9,   2.4058,  32.4067,2,-999.0000,9,    349.2,2,   -999.0,9,     4.80,6,     2.38,6,     0.59,6, -999.000,9, -999.000,9, -999.000,9, -999.000,9, -999.000,9,   -999.0,9,   -999.0,9, 20020702,     2356
  18HU20020623, AR07W,   116,  1, 253551,      1,2,20020703,0148, 55.1133, -54.1320,  939,    948.6,   3.3682,  34.8538,2,  34.8535,2,    281.0,2,    292.1,2,     8.38,6,    15.84,6,     1.15,6,    4.643,2,    2.641,4,    0.270,4,    7.473,4,    2.823,2,   2156.0,2,   2289.0,2, 20020703,      148
  18HU20020623, AR07W,   116,  1, 253552,      2,2,20020703,0148, 55.1133, -54.1320,  939,    861.6,   3.3740,  34.8528,2,  34.8533,6,    280.8,2,    290.7,2,     8.33,6,    15.86,6,     1.16,6,    4.608,2,    2.625,4,    0.270,4,    7.299,4,    2.709,2,   2159.1,2,   2293.8,2, 20020703,      152
  18HU20020623, AR07W,   116,  1, 253553,      3,2,20020703,0148, 55.1133, -54.1320,  939,    790.1,   3.3785,  34.8527,2,  34.8530,2,    280.5,2,    291.1,2,     8.26,6,    15.68,6,     1.16,6,    4.465,2,    2.624,4,    0.308,4,    7.382,4,    2.693,2,   2157.0,2,   2280.3,2, 20020703,      154
  18HU20020623, AR07W,   116,  1, 253554,      4,2,20020703,0148, 55.1133, -54.1320,  939,    700.5,   3.4083,  34.8466,2,  34.8469,2,    281.7,2,    292.5,2,     8.05,6,    15.34,6,     1.16,6,    4.827,2,    2.733,4,    0.290,4,    7.774,4,    2.619,2,   2156.8,2,   2297.2,2, 20020703,      156
  18HU20020623, AR07W,   116,  1, 253555,      5,2,20020703,0148, 55.1133, -54.1320,  939,    590.1,   3.4192,  34.8363,2,  34.8318,2,    282.7,2,    294.3,6,     7.78,6,    15.46,6,     1.17,6,    4.920,2,    2.795,4,    0.304,4,    7.998,4,    2.466,2,   2156.0,2,   2299.4,2, 20020703,      158
  18HU20020623, AR07W,   116,  1, 253556,      6,2,20020703,0148, 55.1133, -54.1320,  939,    470.7,   3.4362,  34.8322,2,  34.8314,2,    282.3,2,    294.2,2,     7.67,6,    15.44,6,     1.15,6,    4.782,2,    2.749,4,    0.268,4,    7.720,4,    2.337,2,   2156.2,2,   2309.3,2, 20020703,      200
  18HU20020623, AR07W,   116,  1, 253557,      7,2,20020703,0148, 55.1133, -54.1320,  939,    360.5,   3.4733,  34.8276,2,  34.8267,2,    281.9,2,    294.4,2,     7.72,6,    15.47,6,     1.16,6,    4.914,2,    2.806,4,    0.302,4,    7.931,4,    2.357,2,   2154.4,2,   2294.2,2, 20020703,      203
  18HU20020623, AR07W,   116,  1, 253558,      8,2,20020703,0148, 55.1133, -54.1320,  939,    260.6,   3.5878,  34.8255,2,  34.8251,2,    281.1,2,    293.5,2,     7.64,6,    15.44,6,     1.18,6,    4.966,2,    2.841,4,    0.317,4,    8.092,4,    2.342,2,   2156.5,2,   2300.9,2, 20020703,      205
  18HU20020623, AR07W,   116,  1, 253559,      9,2,20020703,0148, 55.1133, -54.1320,  939,    170.4,   3.7579,  34.8217,2,  34.8216,2,    280.4,2,    293.0,2,     7.41,6,    15.17,6,     1.16,6,    4.903,2,    2.793,4,    0.312,4,    7.867,4,    2.208,2,   2152.6,2,   2304.0,2, 20020703,      207
  18HU20020623, AR07W,   116,  1, 253560,     10,2,20020703,0148, 55.1133, -54.1320,  939,    100.9,   3.7289,  34.7694,2,  34.7675,2,    290.1,2,    303.6,2,     6.83,6,    12.90,6,     1.09,6,    5.313,2,    2.977,4,    0.356,4,    8.834,4,    2.094,2,   2145.9,2,   2303.7,2, 20020703,      209
  18HU20020623, AR07W,   116,  1, 253561,     11,2,20020703,0148, 55.1133, -54.1320,  939,     80.3,   4.0056,  34.7519,2,-999.0000,9,    295.3,2,   -999.0,9,     6.48,6,    11.59,6,     1.03,6, -999.000,9, -999.000,9, -999.000,9, -999.000,9, -999.000,9,   -999.0,9,   -999.0,9, 20020703,      209
  18HU20020623, AR07W,   116,  1, 253562,     12,2,20020703,0148, 55.1133, -54.1320,  939,     60.4,   4.1575,  34.7144,2,-999.0000,9,    300.9,2,   -999.0,9,     5.87,6,    10.27,6,     0.97,6, -999.000,9, -999.000,9, -999.000,9, -999.000,9, -999.000,9,   -999.0,9,   -999.0,9, 20020703,      210
  18HU20020623, AR07W,   116,  1, 253563,     13,2,20020703,0148, 55.1133, -54.1320,  939,     49.7,   4.6106,  34.7236,2,  34.7229,2,    307.5,2,    320.6,2,     5.28,6,     8.97,6,     0.91,6,    5.542,2,    3.086,4,    0.379,4,    9.719,4,    2.010,2,   2124.1,2,   2244.8,3, 20020703,      211
  18HU20020623, AR07W,   116,  1, 253564,     14,2,20020703,0148, 55.1133, -54.1320,  939,     40.4,   4.7818,  34.7107,2,-999.0000,9,    313.1,2,   -999.0,9,     4.40,6,     8.00,6,     0.83,6, -999.000,9, -999.000,9, -999.000,9, -999.000,9, -999.000,9,   -999.0,9,   -999.0,9, 20020703,      212
  18HU20020623, AR07W,   116,  1, 253565,     15,2,20020703,0148, 55.1133, -54.1320,  939,     30.0,   5.1588,  34.6514,2,-999.0000,9,    325.7,2,   -999.0,9,     2.51,6,     5.74,6,     0.65,6, -999.000,9, -999.000,9, -999.000,9, -999.000,9, -999.000,9,   -999.0,9,   -999.0,9, 20020703,      212
  18HU20020623, AR07W,   116,  1, 253566,     16,2,20020703,0148, 55.1133, -54.1320,  939,     20.4,   5.2779,  34.5763,2,-999.0000,9,    339.0,2,   -999.0,9,     1.10,6,     3.35,6,     0.47,6, -999.000,9, -999.000,9, -999.000,9, -999.000,9, -999.000,9,   -999.0,9,   -999.0,9, 20020703,      213
  18HU20020623, AR07W,   116,  1, 253567,     17,2,20020703,0148, 55.1133, -54.1320,  939,     10.2,   5.3554,  34.5656,2,-999.0000,9,    342.3,2,    356.9,2,     1.22,6,     2.84,6,     0.42,6,    5.568,2,    3.106,4,    0.386,4,   10.076,4,    1.936,2,   2073.9,2,   2301.1,2, 20020703,      213
  18HU20020623, AR07W,   116,  1, 253568,     18,2,20020703,0148, 55.1133, -54.1320,  939,     10.2,   5.3548,  34.5658,2,-999.0000,9,    342.6,2,   -999.0,9,  -999.00,9,  -999.00,9,  -999.00,9, -999.000,9, -999.000,9, -999.000,9, -999.000,9, -999.000,9,   -999.0,9,   -999.0,9, 20020703,      214
  18HU20020623, AR07W,   116,  1, 253569,     19,2,20020703,0148, 55.1133, -54.1320,  939,      2.8,   5.3608,  34.5665,2,-999.0000,9,    342.3,2,   -999.0,9,     1.06,6,     2.85,6,     0.42,6, -999.000,9, -999.000,9, -999.000,9, -999.000,9, -999.000,9,   -999.0,9,   -999.0,9, 20020703,      214