BOTTLE,20130611PRINUNIVRMK
EXPOCODE,SECT_ID,STNNBR,CASTNO,SAMPNO,BTLNBR,BTLNBR_FLAG_W,DATE,TIME,LATITUDE,LONGITUDE,DEPTH,CTDPRS,CTDTMP,CTDSAL,CTDSAL_FLAG_W,SALNTY,SALNTY_FLAG_W,CTDOXY,CTDOXY_FLAG_W,OXYGEN,OXYGEN_FLAG_W,SILCAT,SILCAT_FLAG_W,NITRAT,NITRAT_FLAG_W,PHSPHT,PHSPHT_FLAG_W,CFC-11,CFC-11_FLAG_W,CFC-12,CFC-12_FLAG_W,CFC113,CFC113_FLAG_W,CCL4,CCL4_FLAG_W,MCHFRM,MCHFRM_FLAG_W,TCARBN,TCARBN_FLAG_W,ALKALI,ALKALI_FLAG_W,BTL_DATE,BTL_TIME
,,,,,,,,,,,METERS,DBAR,ITS-90,PSS-78,,PSS-78,,UMOL/KG,,UMOL/KG,,UMOL/KG,,UMOL/KG,,UMOL/KG,,PMOL/KG,,PMOL/KG,,PMOL/KG,,PMOL/KG,,PMOL/KG,,UMOL/KG,,UMOL/KG,,,
  18HU20020623, AR07W,    43,  1, 253107,      1,2,20020626,1845, 44.5020, -55.4158, 2200,   2212.5,   3.1929,  34.9236,2,  34.9239,6,    267.6,2,    270.9,2,    14.46,6,    17.38,6,     1.21,6, -999.000,9, -999.000,9, -999.000,9, -999.000,9, -999.000,9,   2161.1,2,   2336.9,2, 20020626,     1845
  18HU20020623, AR07W,    43,  1, 253108,      2,2,20020626,1845, 44.5020, -55.4158, 2200,   2116.4,   3.2592,  34.9221,2,  34.9221,2,    267.4,2,    271.3,2,    13.97,6,    17.49,6,     1.22,6, -999.000,9, -999.000,9, -999.000,9, -999.000,9, -999.000,9,   2164.1,2,   2325.1,2, 20020626,     1848
  18HU20020623, AR07W,    43,  1, 253109,      3,2,20020626,1845, 44.5020, -55.4158, 2200,   2010.0,   3.3204,  34.9200,2,  34.9213,2,    267.0,2,    272.0,2,    13.44,6,    17.37,6,     1.22,6, -999.000,9, -999.000,9, -999.000,9, -999.000,9, -999.000,9,   2165.3,2,   2322.5,2, 20020626,     1850
  18HU20020623, AR07W,    43,  1, 253110,      4,2,20020626,1845, 44.5020, -55.4158, 2200,   1905.8,   3.3952,  34.9192,2,  34.9193,2,    267.1,2,    272.1,2,    12.74,6,    17.32,6,     1.22,6, -999.000,9, -999.000,9, -999.000,9, -999.000,9, -999.000,9,   2162.5,2,   2327.2,2, 20020626,     1852
  18HU20020623, AR07W,    43,  1, 253111,      5,2,20020626,1845, 44.5020, -55.4158, 2200,   1810.0,   3.4397,  34.9195,2,  34.9199,2,    266.5,2,    271.5,6,    12.62,6,    17.34,6,     1.23,6, -999.000,9, -999.000,9, -999.000,9, -999.000,9, -999.000,9,   2162.8,2,   2334.9,2, 20020626,     1854
  18HU20020623, AR07W,    43,  1, 253112,      6,2,20020626,1845, 44.5020, -55.4158, 2200,   1713.0,   3.5082,  34.9216,2,  34.9221,2,    265.2,2,   -999.0,9,    12.43,6,    17.35,6,     1.22,6, -999.000,9, -999.000,9, -999.000,9, -999.000,9, -999.000,9,   2165.6,2,   2330.8,2, 20020626,     1856
  18HU20020623, AR07W,    43,  1, 253113,      7,2,20020626,1845, 44.5020, -55.4158, 2200,   1501.4,   3.6390,  34.9266,2,-999.0000,9,    262.4,2,    269.2,2,    11.95,6,    17.41,6,     1.22,6, -999.000,9, -999.000,9, -999.000,9, -999.000,9, -999.000,9,   2161.8,2,   2332.1,2, 20020626,     1900
  18HU20020623, AR07W,    43,  1, 253114,      8,2,20020626,1845, 44.5020, -55.4158, 2200,   1304.4,   3.7529,  34.9300,2,-999.0000,9,    260.3,2,    267.4,2,    11.66,6,    17.48,6,     1.23,6, -999.000,9, -999.000,9, -999.000,9, -999.000,9, -999.000,9,   2163.8,2,   2331.3,2, 20020626,     1903
  18HU20020623, AR07W,    43,  1, 253115,      9,2,20020626,1845, 44.5020, -55.4158, 2200,   1101.8,   3.8425,  34.9250,2,-999.0000,9,    260.4,2,    268.2,2,    11.33,6,    17.43,6,     1.22,6, -999.000,9, -999.000,9, -999.000,9, -999.000,9, -999.000,9,   2166.1,2,   2326.8,2, 20020626,     1906
  18HU20020623, AR07W,    43,  1, 253116,     10,2,20020626,1845, 44.5020, -55.4158, 2200,    956.1,   4.0603,  34.9406,2,-999.0000,9,    255.4,2,    263.2,2,    11.32,6,    17.69,6,     1.23,6, -999.000,9, -999.000,9, -999.000,9, -999.000,9, -999.000,9,   2167.4,2,   2346.4,2, 20020626,     1909
  18HU20020623, AR07W,    43,  1, 253117,     11,2,20020626,1845, 44.5020, -55.4158, 2200,    800.1,   4.1873,  34.9416,2,-999.0000,9,    253.0,2,    261.2,2,    11.09,6,    17.67,6,     1.24,6, -999.000,9, -999.000,9, -999.000,9, -999.000,9, -999.000,9,   2168.3,2,   2114.4,4, 20020626,     1911
  18HU20020623, AR07W,    43,  1, 253118,     12,2,20020626,1845, 44.5020, -55.4158, 2200,    653.5,   4.5141,  34.9677,2,-999.0000,9,    242.8,2,    250.5,2,    11.57,6,    18.28,6,     1.28,6, -999.000,9, -999.000,9, -999.000,9, -999.000,9, -999.000,9,   2170.8,2,   2334.3,2, 20020626,     1914
  18HU20020623, AR07W,    43,  1, 253119,     13,2,20020626,1845, 44.5020, -55.4158, 2200,    501.1,   4.7663,  34.9497,2,-999.0000,9,    235.6,2,    242.8,2,    11.76,6,    18.43,6,     1.30,6,    2.861,2,    1.711,4,    0.137,4,    3.027,4,    4.163,2,   2172.8,2,   2327.7,2, 20020626,     1917
  18HU20020623, AR07W,    43,  1, 253120,     14,2,20020626,1845, 44.5020, -55.4158, 2200,    351.2,   4.9264,  34.8611,2,-999.0000,9,    225.1,2,    232.2,2,    12.22,6,    18.73,6,     1.32,6,    3.099,2,    1.882,4,    0.113,4,    3.197,4,    3.818,2,   2174.2,2,   2339.8,2, 20020626,     1920
  18HU20020623, AR07W,    43,  1, 253121,     15,2,20020626,1845, 44.5020, -55.4158, 2200,    195.6,   5.0122,  34.6667,2,-999.0000,9,    216.6,2,    228.0,2,    12.02,6,    18.28,6,     1.32,6,    3.545,2,    2.122,4,    0.220,4,    3.667,4,    3.469,2,   2171.1,2,   2324.4,2, 20020626,     1922
  18HU20020623, AR07W,    43,  1, 253122,     16,2,20020626,1845, 44.5020, -55.4158, 2200,    101.6,   3.9977,  33.7536,2,-999.0000,9,    272.0,2,    284.5,2,     5.47,6,    10.24,6,     1.00,6,    5.862,2,    3.258,4,    0.390,4,    6.869,4,    4.097,2,   2148.2,2,   2273.8,2, 20020626,     1925
  18HU20020623, AR07W,    43,  1, 253123,     17,2,20020626,1845, 44.5020, -55.4158, 2200,     81.3,   4.5369,  33.3619,2,-999.0000,9,    276.9,2,    288.6,2,     2.82,6,     7.06,6,     0.84,6,    5.890,2,    3.236,4,    0.404,4,    6.951,4,    3.877,2,   2104.6,2,   2262.4,2, 20020626,     1926
  18HU20020623, AR07W,    43,  1, 253124,     18,2,20020626,1845, 44.5020, -55.4158, 2200,     61.1,   4.3239,  32.6597,2,-999.0000,9,    294.9,2,    316.8,2,     0.60,6,     0.42,6,     0.55,6,    6.455,2,    3.434,4,    0.506,4,    8.098,4,    3.949,2,   2066.4,2,   2250.1,2, 20020626,     1927
  18HU20020623, AR07W,    43,  1, 253125,     19,2,20020626,1845, 44.5020, -55.4158, 2200,     51.1,   4.6391,  32.6076,2,-999.0000,9,    309.1,2,    322.2,2,     0.49,6,     0.00,6,     0.49,6,    6.328,2,    3.436,4,    0.397,4,    8.110,4,    3.940,2,   2056.4,2,   2232.0,2, 20020626,     1927
  18HU20020623, AR07W,    43,  1, 253126,     20,2,20020626,1845, 44.5020, -55.4158, 2200,     41.3,   4.5771,  32.4278,2,-999.0000,9,    317.6,2,    333.3,2,     0.00,6,     0.00,6,     0.44,6,    6.666,2,    3.536,4,    0.504,4,    8.772,4,    4.009,2,   2045.8,2,   2224.0,2, 20020626,     1928
  18HU20020623, AR07W,    43,  1, 253127,     21,2,20020626,1845, 44.5020, -55.4158, 2200,     30.5,   6.6913,  32.3816,2,-999.0000,9,    315.6,2,    323.1,2,     0.00,6,     0.00,6,     0.41,6,    5.901,2,    3.254,4,    0.428,4,    7.508,4,    3.426,2,   2037.3,2,   2230.3,2, 20020626,     1929
  18HU20020623, AR07W,    43,  1, 253128,     22,2,20020626,1845, 44.5020, -55.4158, 2200,     20.8,   9.0922,  32.3059,2,-999.0000,9,    291.1,2,    298.2,2,     0.00,6,     0.00,6,     0.40,6,    4.950,2,    2.908,4,    0.396,4,    6.587,4,    3.096,2,   2030.9,2,   1970.3,3, 20020626,     1930
  18HU20020623, AR07W,    43,  1, 253129,     23,2,20020626,1845, 44.5020, -55.4158, 2200,     11.3,   9.3319,  32.2982,2,  32.3037,2,    288.3,2,    296.1,2,     0.00,6,     0.00,6,     0.39,6,    4.962,2,    2.888,4,    0.431,4,    6.604,4,    3.092,2,   2032.6,2,   2169.8,2, 20020626,     1930
  18HU20020623, AR07W,    43,  1, 253130,     24,2,20020626,1845, 44.5020, -55.4158, 2200,      3.6,   9.4153,  32.3000,2,  32.3006,2,    287.6,2,    295.7,2,     0.27,6,     0.00,6,     0.39,6,    4.961,2,    2.885,4,    0.294,4,    6.852,4,    3.005,2,   2031.9,2,   2190.2,2, 20020626,     1931
  18HU20020623, AR07W,    44,  1, 253131,      1,2,20020627,1108, 45.9143, -50.8853,   80,     73.2,   0.4684,  32.9428,2,-999.0000,9,    287.0,2,   -999.0,9,     4.20,6,     4.82,6,     1.21,3, -999.000,9, -999.000,9, -999.000,9, -999.000,9, -999.000,9,   -999.0,9,   -999.0,9, 20020627,     1108
  18HU20020623, AR07W,    44,  1, 253132,      2,2,20020627,1108, 45.9143, -50.8853,   80,     62.3,   0.4727,  32.9422,2,-999.0000,9,    286.7,2,   -999.0,9,     4.12,6,     4.72,6,     1.19,6, -999.000,9, -999.000,9, -999.000,9, -999.000,9, -999.000,9,   -999.0,9,   -999.0,9, 20020627,     1109
  18HU20020623, AR07W,    44,  1, 253133,      3,2,20020627,1108, 45.9143, -50.8853,   80,     51.3,   0.5226,  32.9385,2,-999.0000,9,    288.6,2,   -999.0,9,     3.87,6,     4.47,6,     1.17,3, -999.000,9, -999.000,9, -999.000,9, -999.000,9, -999.000,9,   -999.0,9,   -999.0,9, 20020627,     1110
  18HU20020623, AR07W,    44,  1, 253134,      4,2,20020627,1108, 45.9143, -50.8853,   80,     41.4,   1.5699,  32.8693,2,-999.0000,9,    305.6,2,   -999.0,9,     1.27,6,     1.13,6,     0.77,6, -999.000,9, -999.000,9, -999.000,9, -999.000,9, -999.000,9,   -999.0,9,   -999.0,9, 20020627,     1111
  18HU20020623, AR07W,    44,  1, 253135,      5,2,20020627,1108, 45.9143, -50.8853,   80,     31.8,   2.4495,  32.8021,2,-999.0000,9,    333.7,2,   -999.0,9,     0.84,6,     0.00,6,     0.59,6, -999.000,9, -999.000,9, -999.000,9, -999.000,9, -999.000,9,   -999.0,9,   -999.0,9, 20020627,     1112
  18HU20020623, AR07W,    44,  1, 253136,      6,2,20020627,1108, 45.9143, -50.8853,   80,     20.7,   5.8126,  32.6729,2,-999.0000,9,    318.6,2,   -999.0,9,     0.37,6,     0.00,6,     0.50,6, -999.000,9, -999.000,9, -999.000,9, -999.000,9, -999.000,9,   -999.0,9,   -999.0,9, 20020627,     1112
  18HU20020623, AR07W,    44,  1, 253137,      7,2,20020627,1108, 45.9143, -50.8853,   80,     11.5,   6.5547,  32.6566,2,-999.0000,9,    306.9,2,   -999.0,9,     0.45,6,     0.00,6,     0.50,6, -999.000,9, -999.000,9, -999.000,9, -999.000,9, -999.000,9,   -999.0,9,   -999.0,9, 20020627,     1113
  18HU20020623, AR07W,    44,  1, 253138,      8,2,20020627,1108, 45.9143, -50.8853,   80,      3.0,   6.6673,  32.6568,2,-999.0000,9,    304.1,2,   -999.0,9,     0.38,6,     0.00,6,     0.53,6, -999.000,9, -999.000,9, -999.000,9, -999.000,9, -999.000,9,   -999.0,9,   -999.0,9, 20020627,     1114
  18HU20020623, AR07W,    45,  1, 253139,      1,2,20020627,2201, 46.9995, -48.1167,  150,    128.2,  -0.8426,  33.2699,2,  33.2668,6,    266.3,2,    284.4,2,    13.57,6,     9.93,6,     1.37,6, -999.000,9, -999.000,9, -999.000,9, -999.000,9, -999.000,9,   -999.0,9,   -999.0,9, 20020627,     2201
  18HU20020623, AR07W,    45,  1, 253140,      2,2,20020627,2201, 46.9995, -48.1167,  150,    100.9,  -1.0582,  33.0865,2,-999.0000,9,    289.1,2,    302.5,2,     9.90,6,     9.38,6,     1.29,6,    8.166,2,    3.735,4,    0.855,4,    9.113,4,    6.895,2,   2145.7,3,   2193.3,2, 20020627,     2202
  18HU20020623, AR07W,    45,  1, 253141,      3,2,20020627,2201, 46.9995, -48.1167,  150,     79.9,  -1.0790,  32.9155,2,-999.0000,9,    314.5,2,    336.5,2,     3.38,6,     7.00,6,     1.06,6,    8.754,2,    3.885,4,    0.788,4,   10.430,4,    6.746,2,   2122.5,2,   2219.6,2, 20020627,     2204
  18HU20020623, AR07W,    45,  1, 253142,      4,2,20020627,2201, 46.9995, -48.1167,  150,     59.5,  -0.4363,  32.8246,2,-999.0000,9,    329.5,2,    353.2,2,     0.89,6,     3.65,6,     0.89,6, -999.000,9, -999.000,9, -999.000,9, -999.000,9, -999.000,9,   -999.0,9,   -999.0,9, 20020627,     2205
  18HU20020623, AR07W,    45,  1, 253143,      5,2,20020627,2201, 46.9995, -48.1167,  150,     49.7,   0.6127,  32.7266,2,-999.0000,9,    350.6,2,    374.5,2,     0.00,6,     0.59,6,     0.62,6,    8.671,2,    3.831,4,    0.678,4,   10.648,4,    6.435,2,   2056.5,2,   2223.4,2, 20020627,     2206
  18HU20020623, AR07W,    45,  1, 253144,      6,2,20020627,2201, 46.9995, -48.1167,  150,     39.8,   2.0948,  32.6982,2,-999.0000,9,    355.1,2,    376.7,2,     0.00,6,     0.00,6,     0.48,6, -999.000,9, -999.000,9, -999.000,9, -999.000,9, -999.000,9,   -999.0,9,   -999.0,9, 20020627,     2207
  18HU20020623, AR07W,    45,  1, 253145,      7,2,20020627,2201, 46.9995, -48.1167,  150,     30.8,   4.1181,  32.6298,2,-999.0000,9,    334.2,2,    348.9,2,     0.00,6,     0.00,6,     0.38,6, -999.000,9, -999.000,9, -999.000,9, -999.000,9, -999.000,9,   -999.0,9,   -999.0,9, 20020627,     2208
  18HU20020623, AR07W,    45,  1, 253146,      8,2,20020627,2201, 46.9995, -48.1167,  150,     20.3,   4.9366,  32.5927,2,-999.0000,9,    321.6,2,    332.6,2,     0.00,6,     0.00,6,     0.38,6, -999.000,9, -999.000,9, -999.000,9, -999.000,9, -999.000,9,   -999.0,9,   -999.0,9, 20020627,     2209
  18HU20020623, AR07W,    45,  1, 253147,      9,2,20020627,2201, 46.9995, -48.1167,  150,     10.2,   5.3280,  32.5929,2,-999.0000,9,    317.8,2,    327.8,2,     0.00,6,     0.00,6,     0.40,6, -999.000,9, -999.000,9, -999.000,9, -999.000,9, -999.000,9,   -999.0,9,   -999.0,9, 20020627,     2209
  18HU20020623, AR07W,    45,  1, 253148,     10,2,20020627,2201, 46.9995, -48.1167,  150,      3.6,   5.2987,  32.5944,2,-999.0000,9,    317.6,2,    328.5,2,     0.00,6,     0.00,6,     0.39,6,    6.868,2,    3.298,4,    0.601,4,    8.735,4,    4.830,2,   2022.4,2,   2205.5,2, 20020627,     2210
  18HU20020623, AR07W,    48,  1, 253149,      1,2,20020627,2349, 47.0002, -47.8345,  165,    159.1,   0.1679,  33.7101,2,  33.6801,6,    261.9,2,    278.3,2,    14.59,6,    11.70,6,     1.32,6,    7.116,2,    3.370,4,    0.616,4,    7.339,4,    6.888,2,   2166.0,2,   2183.5,3, 20020627,     2349
  18HU20020623, AR07W,    48,  1, 253150,      2,2,20020627,2349, 47.0002, -47.8345,  165,    130.5,  -1.0576,  33.3825,2,-999.0000,9,    309.6,2,    332.1,2,    10.52,6,    10.56,6,     1.09,6,    7.778,2,    3.546,4,    0.609,4,    8.696,4,    7.039,2,   2122.9,2,   2227.8,2, 20020627,     2352
  18HU20020623, AR07W,    48,  1, 253151,      3,2,20020627,2349, 47.0002, -47.8345,  165,    100.8,  -1.4759,  33.2256,2,-999.0000,9,    312.4,2,    334.4,2,    10.37,6,    10.06,6,     1.09,6,    7.993,2,    3.624,4,    0.724,4,    9.070,4,    7.340,2,   2122.8,2,   2225.6,2, 20020627,     2353
  18HU20020623, AR07W,    48,  1, 253152,      4,2,20020627,2349, 47.0002, -47.8345,  165,     80.6,  -1.6462,  33.1548,2,-999.0000,9,    314.3,2,    337.9,2,     9.62,6,     9.63,6,     1.09,6, -999.000,9, -999.000,9, -999.000,9, -999.000,9, -999.000,9,   -999.0,9,   -999.0,9, 20020627,     2354
  18HU20020623, AR07W,    48,  1, 253153,      5,2,20020627,2349, 47.0002, -47.8345,  165,     60.3,  -1.6278,  33.1108,2,-999.0000,9,    315.8,2,    339.1,2,     8.99,6,     9.26,6,     1.07,6, -999.000,9, -999.000,9, -999.000,9, -999.000,9, -999.000,9,   -999.0,9,   -999.0,9, 20020627,     2355
  18HU20020623, AR07W,    48,  1, 253154,      6,2,20020627,2349, 47.0002, -47.8345,  165,     50.6,  -1.4300,  33.0564,2,-999.0000,9,    318.8,2,    343.3,2,     4.71,6,     8.25,6,     1.04,6,    8.443,2,    3.742,4,    0.818,4,    9.927,4,    7.237,2,   2120.0,2,   2223.3,2, 20020627,     2356
  18HU20020623, AR07W,    48,  1, 253155,      7,2,20020627,2349, 47.0002, -47.8345,  165,     39.2,  -0.8984,  32.9747,2,-999.0000,9,    367.9,2,    391.6,2,     0.37,6,     2.53,6,     0.67,6, -999.000,9, -999.000,9, -999.000,9, -999.000,9, -999.000,9,   -999.0,9,   -999.0,9, 20020627,     2359
  18HU20020623, AR07W,    48,  1, 253156,      8,2,20020627,2349, 47.0002, -47.8345,  165,     28.3,   1.9702,  32.9465,2,-999.0000,9,    372.8,2,    392.1,2,     0.51,6,     0.26,6,     0.43,6, -999.000,9, -999.000,9, -999.000,9, -999.000,9, -999.000,9,   -999.0,9,   -999.0,9, 20020628,        0
  18HU20020623, AR07W,    48,  1, 253157,      9,2,20020627,2349, 47.0002, -47.8345,  165,     19.5,   3.8075,  32.8119,2,-999.0000,9,    343.5,2,    356.6,2,     0.00,6,     0.00,6,     0.39,6, -999.000,9, -999.000,9, -999.000,9, -999.000,9, -999.000,9,   -999.0,9,   -999.0,9, 20020628,        0
  18HU20020623, AR07W,    48,  1, 253158,     10,2,20020627,2349, 47.0002, -47.8345,  165,      9.8,   5.3332,  32.7360,2,-999.0000,9,    323.1,2,    334.4,2,     0.00,6,     0.00,6,     0.34,6, -999.000,9, -999.000,9, -999.000,9, -999.000,9, -999.000,9,   -999.0,9,   -999.0,9, 20020628,        1
  18HU20020623, AR07W,    48,  1, 253159,     11,2,20020627,2349, 47.0002, -47.8345,  165,      3.5,   5.3658,  32.7317,2,-999.0000,9,    322.0,2,    332.9,2,     0.00,6,     0.00,6,     0.38,6,    6.882,2,    3.304,4,    0.590,4,    8.734,4,    5.121,2,   2012.5,2,   2210.5,2, 20020628,        2
  18HU20020623, AR07W,    49,  1, 253160,      1,2,20020628,0128, 46.9992, -47.4995,  220,    210.8,   1.3244,  34.0840,2,  34.0843,6,    271.0,2,    283.8,2,    13.03,6,    13.44,6,     1.17,6, -999.000,9, -999.000,9, -999.000,9, -999.000,9, -999.000,9,   -999.0,9,   -999.0,9, 20020628,      128
  18HU20020623, AR07W,    49,  1, 253161,      2,2,20020628,0128, 46.9992, -47.4995,  220,    181.0,   1.2757,  34.0700,2,-999.0000,9,    271.4,2,    285.0,2,    12.95,6,    13.45,6,     1.19,6,    6.167,2,    2.449,4,    0.422,4,   10.150,4,   11.210,2,   2151.7,2,   2116.4,3, 20020628,      130
  18HU20020623, AR07W,    49,  1, 253162,      3,2,20020628,0128, 46.9992, -47.4995,  220,    140.5,  -0.1112,  33.7193,2,  33.7194,6,    295.8,2,    313.9,2,    11.11,6,    12.17,6,     1.09,6,    6.926,2,    3.119,4,    0.676,4,   11.169,4,   10.583,2,   2131.2,2,   2237.7,2, 20020628,      131
  18HU20020623, AR07W,    49,  1, 253163,      4,2,20020628,0128, 46.9992, -47.4995,  220,     99.7,  -1.1687,  33.3642,2,-999.0000,9,    309.2,2,    330.9,2,    11.04,6,    10.56,6,     1.09,6,    7.718,2,    2.546,4,    1.129,4,   14.294,4,   11.693,2,   2126.5,2,   2242.6,2, 20020628,      132
  18HU20020623, AR07W,    49,  1, 253164,      5,2,20020628,0128, 46.9992, -47.4995,  220,     79.9,  -1.3844,  33.2276,2,-999.0000,9,    314.0,2,    336.5,2,    10.82,6,     9.71,6,     1.08,6, -999.000,9, -999.000,9, -999.000,9, -999.000,9, -999.000,9,   -999.0,9,   -999.0,9, 20020628,      133
  18HU20020623, AR07W,    49,  1, 253165,      6,2,20020628,0128, 46.9992, -47.4995,  220,     60.1,  -1.3444,  33.1308,2,-999.0000,9,    320.8,2,    344.8,2,    10.15,6,     8.98,6,     1.07,6, -999.000,9, -999.000,9, -999.000,9, -999.000,9, -999.000,9,   -999.0,9,   -999.0,9, 20020628,      135
  18HU20020623, AR07W,    49,  1, 253166,      7,2,20020628,0128, 46.9992, -47.4995,  220,     49.3,  -1.3191,  33.0710,2,-999.0000,9,    323.7,2,    345.5,2,     8.93,6,     8.40,6,     1.09,6,    7.966,2,    2.991,4,    0.000,4,   15.089,4,   12.033,2,   2123.4,2,   2232.8,2, 20020628,      135
  18HU20020623, AR07W,    49,  1, 253167,      8,2,20020628,0128, 46.9992, -47.4995,  220,     39.3,  -1.0169,  32.9985,2,-999.0000,9,    343.6,2,    377.3,2,     1.21,6,     4.93,6,     0.89,6, -999.000,9, -999.000,9, -999.000,9, -999.000,9, -999.000,9,   -999.0,9,   -999.0,9, 20020628,      136
  18HU20020623, AR07W,    49,  1, 253168,      9,2,20020628,0128, 46.9992, -47.4995,  220,     29.4,   0.4225,  32.9235,2,-999.0000,9,    374.1,2,    395.7,2,     0.00,6,     0.32,6,     0.56,6, -999.000,9, -999.000,9, -999.000,9, -999.000,9, -999.000,9,   -999.0,9,   -999.0,9, 20020628,      137
  18HU20020623, AR07W,    49,  1, 253169,     10,2,20020628,0128, 46.9992, -47.4995,  220,     20.8,   5.3065,  32.6953,2,-999.0000,9,    328.1,2,    338.6,2,     0.00,6,     0.00,6,     0.38,6, -999.000,9, -999.000,9, -999.000,9, -999.000,9, -999.000,9,   -999.0,9,   -999.0,9, 20020628,      138
  18HU20020623, AR07W,    49,  1, 253170,     11,2,20020628,0128, 46.9992, -47.4995,  220,     11.2,   5.6949,  32.6529,2,-999.0000,9,    321.4,2,    332.1,2,     0.00,6,     0.00,6,     0.36,6, -999.000,9, -999.000,9, -999.000,9, -999.000,9, -999.000,9,   -999.0,9,   -999.0,9, 20020628,      138
  18HU20020623, AR07W,    49,  1, 253171,     12,2,20020628,0128, 46.9992, -47.4995,  220,      3.0,   5.6876,  32.6545,2,-999.0000,9,    321.2,2,    331.6,2,     0.00,6,     0.00,6,     0.38,6,    6.078,2,    2.667,4,    0.175,4,   12.911,4,    7.841,2,   2012.2,2,   2206.0,2, 20020628,      139