BOTTLE,20130611PRINUNIVRMK
EXPOCODE,SECT_ID,STNNBR,CASTNO,SAMPNO,BTLNBR,BTLNBR_FLAG_W,DATE,TIME,LATITUDE,LONGITUDE,DEPTH,CTDPRS,CTDTMP,CTDSAL,CTDSAL_FLAG_W,SALNTY,SALNTY_FLAG_W,CTDOXY,CTDOXY_FLAG_W,OXYGEN,OXYGEN_FLAG_W,SILCAT,SILCAT_FLAG_W,NITRAT,NITRAT_FLAG_W,PHSPHT,PHSPHT_FLAG_W,CFC-11,CFC-11_FLAG_W,CFC-12,CFC-12_FLAG_W,CFC113,CFC113_FLAG_W,CCL4,CCL4_FLAG_W,MCHFRM,MCHFRM_FLAG_W,TCARBN,TCARBN_FLAG_W,ALKALI,ALKALI_FLAG_W,BTL_DATE,BTL_TIME
,,,,,,,,,,,METERS,DBAR,ITS-90,PSS-78,,PSS-78,,UMOL/KG,,UMOL/KG,,UMOL/KG,,UMOL/KG,,UMOL/KG,,PMOL/KG,,PMOL/KG,,PMOL/KG,,PMOL/KG,,PMOL/KG,,UMOL/KG,,UMOL/KG,,,
  18HU20020623, AR07W,   360,  1, 255630,      1,2,20020714,0649, 52.3777, -45.2857, 4030,   4181.3,   1.7922,  34.8746,2,  34.8768,2,    293.2,2,    288.1,2,    11.52,6,    14.74,6,     1.37,3,    3.788,2,    1.749,4,    0.239,4,    5.873,4,    8.435,2,   2157.6,2,   2327.2,2, 20020714,      649
  18HU20020623, AR07W,   360,  1, 255631,      2,2,20020714,0649, 52.3777, -45.2857, 4030,   4090.1,   1.7854,  34.8746,2,  34.8770,2,    292.1,2,    293.4,2,    11.32,6,    14.54,6,     1.43,3,    3.802,2,    1.658,4,    0.296,4,    5.830,4,    8.438,2,   2152.7,2,   2312.5,2, 20020714,      651
  18HU20020623, AR07W,   360,  1, 255632,      3,2,20020714,0649, 52.3777, -45.2857, 4030,   3900.7,   1.8476,  34.8766,2,  34.8788,2,    289.2,2,    291.9,2,    11.61,6,    14.72,6,     1.49,3,    3.595,2,    1.699,4,    0.241,4,    5.582,4,    8.170,2,   2160.8,2,   2315.8,2, 20020714,      655
  18HU20020623, AR07W,   360,  1, 255633,      4,2,20020714,0649, 52.3777, -45.2857, 4030,   3659.6,   1.9861,  34.8824,2,  34.8843,2,    283.1,2,    287.5,2,    13.41,6,    15.18,6,     1.47,3,    3.023,2,    1.292,4,    0.209,4,    4.787,4,    7.657,2,   2162.4,2,   2312.4,2, 20020714,      659
  18HU20020623, AR07W,   360,  1, 255634,      5,2,20020714,0649, 52.3777, -45.2857, 4030,   3430.9,   2.1244,  34.8895,2,  34.8908,2,    277.4,2,    282.7,2,    15.32,6,    15.70,6,     1.49,3,    2.387,2,    1.129,4,    0.147,4,    3.944,4,    6.767,2,   2158.5,2,   2332.4,2, 20020714,      703
  18HU20020623, AR07W,   360,  1, 255635,      6,2,20020714,0649, 52.3777, -45.2857, 4030,   3072.7,   2.4068,  34.9013,2,  34.9036,2,    272.4,2,    278.9,2,    14.86,6,    16.29,6,     1.46,3,    1.935,2,    0.764,4,    0.153,4,    3.304,4,    5.883,2,   2155.9,2,   2267.8,2, 20020714,      708
  18HU20020623, AR07W,   360,  1, 255636,      7,2,20020714,0649, 52.3777, -45.2857, 4030,   2719.8,   2.7174,  34.9116,2,  34.9124,2,    269.2,2,    277.0,2,    13.44,6,    16.46,6,     1.40,3,    2.011,2,    0.945,4,    0.149,4,    3.245,4,    5.967,2,   2156.6,2,   2344.0,2, 20020714,      714
  18HU20020623, AR07W,   360,  1, 255637,      8,2,20020714,0649, 52.3777, -45.2857, 4030,   2521.5,   2.8527,  34.9090,2,  34.9098,6,    268.9,2,    276.7,2,    12.70,6,    16.46,6,     1.37,6,    2.053,2,    0.777,4,    0.191,4,    3.340,4,    6.186,2,   2160.2,2,   2315.5,2, 20020714,      718
  18HU20020623, AR07W,   360,  1, 255638,      9,2,20020714,0649, 52.3777, -45.2857, 4030,   2318.9,   2.9368,  34.9009,2,  34.9014,2,    269.7,2,    279.5,2,    12.01,6,    16.09,6,     1.33,6,    2.321,2,    1.038,4,    0.267,4,    3.839,4,    7.170,2,   2157.6,2,   2320.3,2, 20020714,      722
  18HU20020623, AR07W,   360,  1, 255639,     10,2,20020714,0649, 52.3777, -45.2857, 4030,   2067.5,   3.0361,  34.8879,2,  34.8886,6,    271.8,2,    282.4,2,    11.05,6,    16.58,6,     1.30,6,    3.014,2,    1.317,4,    0.247,4,    4.689,4,    8.805,2,   2158.7,2,   2323.7,2, 20020714,      726
  18HU20020623, AR07W,   360,  1, 255640,     11,2,20020714,0649, 52.3777, -45.2857, 4030,   1848.7,   3.1068,  34.8796,2,-999.0000,9,    272.5,2,    283.7,2,    10.66,6,    16.72,6,     1.31,6,    3.292,2,    3.687,4,    0.402,4,    5.144,4,    9.741,2,   2157.5,2,   2262.6,2, 20020714,      729
  18HU20020623, AR07W,   360,  1, 255641,     12,2,20020714,0649, 52.3777, -45.2857, 4030,   1673.9,   3.1883,  34.8793,2,  34.8796,2,    271.1,2,    283.1,2,    10.65,6,    16.95,6,     1.31,6,    3.281,2,    0.000,4,    0.029,4,    5.461,4,   10.700,2,   2152.9,2,   2299.4,2, 20020714,      732
  18HU20020623, AR07W,   360,  1, 255642,     13,2,20020714,0649, 52.3777, -45.2857, 4030,   1431.2,   3.3240,  34.8867,2,  34.8863,2,    267.5,2,    279.5,6,    10.75,6,    16.83,6,     1.28,6,    3.175,2,    1.285,4,    0.016,4,    5.193,4,    9.698,2,   2155.5,2,   2327.4,2, 20020714,      736
  18HU20020623, AR07W,   360,  1, 255643,     14,2,20020714,0649, 52.3777, -45.2857, 4030,   1212.2,   3.5195,  34.8966,2,  34.8971,2,    263.5,2,    275.8,2,    10.77,6,    16.70,6,     1.31,6,    2.896,2,    1.346,4,    0.127,4,    4.557,4,    7.911,2,   2157.2,2,   2334.6,2, 20020714,      740
  18HU20020623, AR07W,   360,  1, 255644,     15,2,20020714,0649, 52.3777, -45.2857, 4030,   1001.8,   3.5363,  34.8796,2,  34.8796,2,    265.9,2,    278.9,2,    10.03,6,    16.31,6,     1.30,6,    0.035,3,    5.979,4,    0.561,4,    0.043,4,    0.000,2,   2156.5,2,   2315.0,2, 20020714,      743
  18HU20020623, AR07W,   360,  1, 255645,     16,2,20020714,0649, 52.3777, -45.2857, 4030,    740.2,   3.6646,  34.8763,2,  34.8760,2,    267.2,2,    280.6,2,     9.49,6,    16.32,6,     1.27,6,    2.895,2,    1.383,4,    0.353,4,    3.824,4,    4.992,2,   2164.2,2,   2284.5,2, 20020714,      747
  18HU20020623, AR07W,   360,  1, 255646,     17,2,20020714,0649, 52.3777, -45.2857, 4030,    586.1,   3.9853,  34.9014,2,  34.8985,2,    257.5,2,    270.9,2,    10.04,6,    16.66,6,     1.26,6,    2.811,2,    1.220,4,    0.101,4,    3.926,4,    5.272,2,   2159.3,2,   2315.1,2, 20020714,      750
  18HU20020623, AR07W,   360,  1, 255647,     18,2,20020714,0649, 52.3777, -45.2857, 4030,    451.1,   4.1379,  34.8967,2,  34.8963,2,    254.5,2,    267.7,2,    10.02,6,    16.65,6,     1.31,6,    3.130,2,    2.208,4,    0.367,4,    6.908,4,   21.525,2,   2159.8,2,   2313.3,2, 20020714,      753
  18HU20020623, AR07W,   360,  1, 255648,     19,2,20020714,0649, 52.3777, -45.2857, 4030,    300.3,   4.1448,  34.8284,2,  34.8263,2,    254.5,2,    268.0,2,     9.85,6,    16.17,6,     1.30,6,    0.000,3,    0.167,4,    0.000,4,    0.000,4,    0.000,2,   2158.0,2,   2322.9,2, 20020714,      756
  18HU20020623, AR07W,   360,  1, 255649,     20,2,20020714,0649, 52.3777, -45.2857, 4030,    199.5,   3.8496,  34.6681,2,  34.6645,2,    278.5,2,    295.9,2,     8.07,6,    14.39,6,     1.23,6,    3.471,2,    1.445,4,    0.146,4,    5.607,4,    3.343,2,   2145.2,2,   2304.6,2, 20020714,      758
  18HU20020623, AR07W,   360,  1, 255650,     21,2,20020714,0649, 52.3777, -45.2857, 4030,    149.0,   4.6916,  34.6732,2,  34.6694,2,    258.6,2,    249.6,2,     7.86,6,    14.69,6,     1.24,6,    4.540,2,    2.415,4,    0.620,4,    7.274,4,    4.562,2,   2146.1,2,   2291.4,2, 20020714,      800
  18HU20020623, AR07W,   360,  1, 255651,     22,2,20020714,0649, 52.3777, -45.2857, 4030,     89.4,   6.0078,  34.6829,2,-999.0000,9,    237.7,2,    291.1,2,     6.80,6,    12.88,6,     1.18,6,    3.539,2,    1.828,4,    0.246,4,    5.186,4,    3.548,2,   2141.3,2,   2280.7,2, 20020714,      801
  18HU20020623, AR07W,   360,  1, 255652,     23,2,20020714,0649, 52.3777, -45.2857, 4030,     39.4,   7.6090,  34.4657,2,-999.0000,9,    278.3,2,    287.5,2,     0.58,6,     2.14,6,     0.55,6,    1.319,3,    3.644,4,    0.192,4,    1.614,4,    0.856,2,   2077.4,2,   2288.1,2, 20020714,      802
  18HU20020623, AR07W,   360,  1, 255653,     24,2,20020714,0649, 52.3777, -45.2857, 4030,      6.1,  10.2316,  34.5619,2,-999.0000,9,    277.0,2,    287.4,2,     0.00,6,     0.59,6,     0.35,6,    4.050,2,    2.120,4,    0.613,4,    6.271,4,    3.200,2,   2054.0,2,   2306.7,2, 20020714,      803
  18HU20020623, AR07W,   365,  1, 255654,      1,2,20020714,1235, 52.0868, -45.9040, 3930,    201.0,   5.1996,  34.7478,2,-999.0000,9,    231.8,2,   -999.0,9,    10.33,6,    16.63,6,     1.31,6, -999.000,9, -999.000,9, -999.000,9, -999.000,9, -999.000,9,   -999.0,9,   -999.0,9, 20020714,     1235
  18HU20020623, AR07W,   365,  1, 255655,      2,2,20020714,1235, 52.0868, -45.9040, 3930,    149.4,   6.7468,  34.8900,2,-999.0000,9,    235.2,2,   -999.0,9,     8.67,6,    15.43,6,     1.22,6, -999.000,9, -999.000,9, -999.000,9, -999.000,9, -999.000,9,   -999.0,9,   -999.0,9, 20020714,     1236
  18HU20020623, AR07W,   365,  1, 255656,      3,2,20020714,1235, 52.0868, -45.9040, 3930,    100.5,   7.5850,  34.9536,2,-999.0000,9,    242.2,2,   -999.0,9,     6.72,6,    14.03,6,     1.11,6, -999.000,9, -999.000,9, -999.000,9, -999.000,9, -999.000,9,   -999.0,9,   -999.0,9, 20020714,     1238
  18HU20020623, AR07W,   365,  1, 255657,      4,2,20020714,1235, 52.0868, -45.9040, 3930,     79.3,   6.8954,  34.7241,2,-999.0000,9,    247.8,2,   -999.0,9,     3.88,6,    12.44,6,     1.05,6, -999.000,9, -999.000,9, -999.000,9, -999.000,9, -999.000,9,   -999.0,9,   -999.0,9, 20020714,     1239
  18HU20020623, AR07W,   365,  1, 255658,      5,2,20020714,1235, 52.0868, -45.9040, 3930,     59.8,   8.3911,  34.8253,2,-999.0000,9,    254.0,2,   -999.0,9,     1.69,6,     7.70,6,     0.82,6, -999.000,9, -999.000,9, -999.000,9, -999.000,9, -999.000,9,   -999.0,9,   -999.0,9, 20020714,     1240
  18HU20020623, AR07W,   365,  1, 255659,      6,2,20020714,1235, 52.0868, -45.9040, 3930,     50.4,   9.0525,  34.8718,2,-999.0000,9,    264.2,2,   -999.0,9,     0.72,6,     4.78,6,     0.66,6, -999.000,9, -999.000,9, -999.000,9, -999.000,9, -999.000,9,   -999.0,9,   -999.0,9, 20020714,     1240
  18HU20020623, AR07W,   365,  1, 255660,      7,2,20020714,1235, 52.0868, -45.9040, 3930,     39.8,   9.3907,  34.8881,2,-999.0000,9,    262.3,2,   -999.0,9,     1.00,6,     4.30,6,     0.62,6, -999.000,9, -999.000,9, -999.000,9, -999.000,9, -999.000,9,   -999.0,9,   -999.0,9, 20020714,     1241
  18HU20020623, AR07W,   365,  1, 255661,      8,2,20020714,1235, 52.0868, -45.9040, 3930,     30.4,   9.5367,  34.8068,2,-999.0000,9,    268.6,2,   -999.0,9,     0.67,6,     3.64,6,     0.57,6, -999.000,9, -999.000,9, -999.000,9, -999.000,9, -999.000,9,   -999.0,9,   -999.0,9, 20020714,     1242
  18HU20020623, AR07W,   365,  1, 255662,      9,2,20020714,1235, 52.0868, -45.9040, 3930,     19.5,  10.8653,  34.7626,2,-999.0000,9,    272.7,2,   -999.0,9,     0.51,6,     0.82,6,     0.33,6, -999.000,9, -999.000,9, -999.000,9, -999.000,9, -999.000,9,   -999.0,9,   -999.0,9, 20020714,     1243
  18HU20020623, AR07W,   365,  1, 255663,     10,2,20020714,1235, 52.0868, -45.9040, 3930,     19.5,  10.8619,  34.7633,2,-999.0000,9,    273.0,2,   -999.0,9,  -999.00,9,  -999.00,9,  -999.00,9, -999.000,9, -999.000,9, -999.000,9, -999.000,9, -999.000,9,   -999.0,9,   -999.0,9, 20020714,     1243
  18HU20020623, AR07W,   365,  1, 255664,     11,2,20020714,1235, 52.0868, -45.9040, 3930,     19.7,  10.8683,  34.7641,2,-999.0000,9,    272.9,2,   -999.0,9,  -999.00,9,  -999.00,9,  -999.00,9, -999.000,9, -999.000,9, -999.000,9, -999.000,9, -999.000,9,   -999.0,9,   -999.0,9, 20020714,     1243
  18HU20020623, AR07W,   365,  1, 255665,     12,2,20020714,1235, 52.0868, -45.9040, 3930,      9.8,  10.8914,  34.7646,2,-999.0000,9,    273.0,2,   -999.0,9,     0.48,6,     0.71,6,     0.29,6, -999.000,9, -999.000,9, -999.000,9, -999.000,9, -999.000,9,   -999.0,9,   -999.0,9, 20020714,     1244
  18HU20020623, AR07W,   365,  1, 255666,     13,2,20020714,1235, 52.0868, -45.9040, 3930,     10.1,  10.8888,  34.7647,2,-999.0000,9,    273.0,2,   -999.0,9,  -999.00,9,  -999.00,9,  -999.00,9, -999.000,9, -999.000,9, -999.000,9, -999.000,9, -999.000,9,   -999.0,9,   -999.0,9, 20020714,     1244
  18HU20020623, AR07W,   365,  1, 255667,     14,2,20020714,1235, 52.0868, -45.9040, 3930,      9.3,  10.8864,  34.7649,2,-999.0000,9,    273.1,2,   -999.0,9,  -999.00,9,  -999.00,9,  -999.00,9, -999.000,9, -999.000,9, -999.000,9, -999.000,9, -999.000,9,   -999.0,9,   -999.0,9, 20020714,     1244
  18HU20020623, AR07W,   365,  1, 255668,     15,2,20020714,1235, 52.0868, -45.9040, 3930,      9.5,  10.8827,  34.7649,2,-999.0000,9,    273.0,2,   -999.0,9,  -999.00,9,  -999.00,9,  -999.00,9, -999.000,9, -999.000,9, -999.000,9, -999.000,9, -999.000,9,   -999.0,9,   -999.0,9, 20020714,     1244
  18HU20020623, AR07W,   365,  1, 255669,     16,2,20020714,1235, 52.0868, -45.9040, 3930,      2.9,  10.8858,  34.7650,2,-999.0000,9,    272.6,2,   -999.0,9,     0.47,6,     0.65,6,     0.30,6, -999.000,9, -999.000,9, -999.000,9, -999.000,9, -999.000,9,   -999.0,9,   -999.0,9, 20020714,     1245
  18HU20020623, AR07W,   365,  1, 255670,     17,2,20020714,1235, 52.0868, -45.9040, 3930,      2.6,  10.8849,  34.7647,2,-999.0000,9,    273.0,2,   -999.0,9,  -999.00,9,  -999.00,9,  -999.00,9, -999.000,9, -999.000,9, -999.000,9, -999.000,9, -999.000,9,   -999.0,9,   -999.0,9, 20020714,     1245
  18HU20020623, AR07W,   366,  1, 255671,      1,2,20020714,1442, 52.0822, -45.9015, 4070,   4173.9,   1.6812,  34.8729,2,  34.8737,2,    294.3,2,    295.5,2,    11.13,6,    14.01,6,     1.09,6,    3.673,2,    2.210,4,    0.239,4,    4.029,4,    5.997,2,   2158.2,2,   2315.7,2, 20020714,     1442
  18HU20020623, AR07W,   366,  1, 255672,      2,2,20020714,1442, 52.0822, -45.9015, 4070,   4069.4,   1.8109,  34.8746,2,  34.8751,2,    291.7,2,    293.4,2,    11.28,6,    14.12,6,     1.11,6,    3.380,2,    2.005,4,    0.240,4,    3.767,4,    6.118,2,   2156.4,2,   2317.1,2, 20020714,     1444
  18HU20020623, AR07W,   366,  1, 255673,      3,2,20020714,1442, 52.0822, -45.9015, 4070,   3939.5,   1.8882,  34.8772,2,  34.8780,2,    289.1,2,    292.2,2,    11.61,6,    14.45,6,     1.14,6,    3.290,2,    2.021,4,    0.223,4,    3.715,4,    6.183,2,   2156.9,2,   2318.3,2, 20020714,     1447
  18HU20020623, AR07W,   366,  1, 255674,      4,2,20020714,1442, 52.0822, -45.9015, 4070,   3771.0,   1.9796,  34.8808,2,  34.8814,2,    285.3,2,    289.4,2,    12.41,6,    14.57,6,     1.15,6,    2.900,2,    1.742,4,    0.207,4,    3.344,4,    5.631,2,   2155.8,2,   2300.3,2, 20020714,     1450
  18HU20020623, AR07W,   366,  1, 255675,      5,2,20020714,1442, 52.0822, -45.9015, 4070,   3550.3,   2.1283,  34.8881,2,  34.8886,2,    279.2,2,    284.2,2,    14.34,6,    15.53,6,     1.18,6,    2.440,2,    1.595,4,    0.146,4,    2.932,4,    5.288,2,   2157.6,2,   2299.2,2, 20020714,     1453
  18HU20020623, AR07W,   366,  1, 255676,      6,2,20020714,1442, 52.0822, -45.9015, 4070,   3319.7,   2.2758,  34.8955,2,  34.8960,6,    274.9,2,    280.7,2,    15.11,6,    15.92,6,     1.14,6,    2.098,2,    1.448,4,    0.121,4,    2.606,4,    4.822,2,   2158.0,2,   2319.3,2, 20020714,     1457
  18HU20020623, AR07W,   366,  1, 255677,      7,2,20020714,1442, 52.0822, -45.9015, 4070,   3090.3,   2.4450,  34.9025,2,  34.9026,2,    271.8,2,    278.9,2,    14.67,6,    16.26,6,     1.14,6,    1.891,2,    1.841,4,    0.109,4,    2.388,4,    4.300,2,   2157.1,2,   2298.7,2, 20020714,     1500
  18HU20020623, AR07W,   366,  1, 255678,      8,2,20020714,1442, 52.0822, -45.9015, 4070,   2860.3,   2.6518,  34.9107,2,  34.9107,2,    269.7,2,    277.3,2,    13.70,6,    16.34,6,     1.18,6,    1.944,2,    1.258,4,    0.101,4,    2.405,4,    4.484,2,   2156.2,2,   2301.0,2, 20020714,     1504
  18HU20020623, AR07W,   366,  1, 255679,      9,2,20020714,1442, 52.0822, -45.9015, 4070,   2629.3,   2.8375,  34.9175,2,  34.9179,6,    268.1,2,    276.6,2,    12.90,6,    16.59,6,     1.18,6,    2.009,2,    1.418,4,    0.117,4,    2.462,4,    4.794,2,   2157.3,2,   2310.1,2, 20020714,     1508
  18HU20020623, AR07W,   366,  1, 255680,     10,2,20020714,1442, 52.0822, -45.9015, 4070,   2401.4,   2.9473,  34.9078,2,  34.9077,2,    268.5,2,    278.1,2,    11.15,6,    16.69,6,     1.18,6,    2.119,2,    1.316,4,    0.110,4,    2.563,4,    4.967,2,   2156.0,2,   2328.2,2, 20020714,     1512
  18HU20020623, AR07W,   366,  1, 255681,     11,2,20020714,1442, 52.0822, -45.9015, 4070,   2169.2,   3.0430,  34.8980,2,-999.0000,9,    269.1,2,   -999.0,9,  -999.00,9,  -999.00,9,  -999.00,9, -999.000,9, -999.000,9, -999.000,9, -999.000,9, -999.000,9,   -999.0,9,   -999.0,9, 20020714,     1515
  18HU20020623, AR07W,   366,  1, 255682,     12,2,20020714,1442, 52.0822, -45.9015, 4070,   1940.3,   3.0899,  34.8845,2,  34.8851,2,    271.4,2,    282.5,2,    11.23,6,    16.86,6,     1.22,6,    2.819,2,    1.711,4,    0.158,4,    3.331,4,    6.885,2,   2154.5,2,   2310.2,2, 20020714,     1519
  18HU20020623, AR07W,   366,  1, 255683,     13,2,20020714,1442, 52.0822, -45.9015, 4070,   1709.9,   3.1706,  34.8809,2,  34.8814,2,    270.6,2,    282.8,6,    10.88,6,    17.33,6,     1.21,6,    3.035,2,    1.827,4,    0.174,4,    3.506,4,    7.332,2,   2153.3,2,   2267.2,2, 20020714,     1523
  18HU20020623, AR07W,   366,  1, 255684,     14,2,20020714,1442, 52.0822, -45.9015, 4070,   1480.0,   3.3239,  34.8898,2,  34.8900,2,    266.7,2,    279.1,2,    10.84,6,    17.63,6,     1.24,6,    2.870,6,    1.819,4,    0.106,4,    3.266,4,    6.685,6,   2154.8,2,   2274.4,2, 20020714,     1527
  18HU20020623, AR07W,   366,  1, 255685,     15,2,20020714,1442, 52.0822, -45.9015, 4070,   1250.7,   3.4949,  34.8972,2,  34.8973,2,    263.3,2,    276.0,2,    10.76,6,    17.24,6,     1.19,6,    2.971,2,    1.960,4,    0.175,4,    3.383,4,    6.573,2,   2156.8,2,   -999.0,9, 20020714,     1530
  18HU20020623, AR07W,   366,  1, 255686,     16,2,20020714,1442, 52.0822, -45.9015, 4070,   1021.3,   3.5592,  34.8834,2,  34.8829,2,    264.9,2,    278.5,2,    10.10,6,    16.47,6,     1.19,6,    3.606,2,    2.206,4,    0.231,4,    3.904,4,    6.416,2,   2156.6,2,   2275.2,3, 20020714,     1534
  18HU20020623, AR07W,   366,  1, 255687,     17,2,20020714,1442, 52.0822, -45.9015, 4070,    791.4,   3.6908,  34.8825,2,  34.8825,2,    265.3,2,    279.5,2,     9.68,6,    16.91,6,     1.19,6,    3.787,2,    2.613,4,    0.251,4,    4.035,4,    5.779,2,   2159.7,2,   2273.7,2, 20020714,     1538
  18HU20020623, AR07W,   366,  1, 255688,     18,2,20020714,1442, 52.0822, -45.9015, 4070,    562.4,   3.9290,  34.8837,2,  34.8837,2,    259.6,2,    273.7,2,     9.72,6,    17.04,6,     1.22,6,    3.836,2,    2.476,4,    0.266,4,    4.021,4,    5.497,2,   2160.1,2,   2309.6,2, 20020714,     1541
  18HU20020623, AR07W,   366,  1, 255689,     19,2,20020714,1442, 52.0822, -45.9015, 4070,    402.6,   4.1481,  34.8685,2,  34.8684,2,    254.4,2,    268.2,2,     9.58,6,    17.07,6,     1.24,6,    3.845,2,    1.955,4,    0.249,4,    3.932,4,    4.903,2,   2155.9,2,   2309.3,2, 20020714,     1544
  18HU20020623, AR07W,   366,  1, 255690,     20,2,20020714,1442, 52.0822, -45.9015, 4070,    238.8,   4.4070,  34.7397,2,  34.7390,2,    254.6,2,    268.6,2,     9.32,6,    16.17,6,     1.25,6,    4.003,2,    2.840,4,    0.292,4,    4.557,4,    3.736,2,   2155.5,2,   2285.7,2, 20020714,     1547
  18HU20020623, AR07W,   366,  1, 255691,     21,2,20020714,1442, 52.0822, -45.9015, 4070,    139.9,   6.5125,  34.8623,2,-999.0000,9,    226.3,2,    237.0,2,     9.58,6,    16.72,6,     1.28,6,    3.119,2,    2.164,4,    0.226,4,    3.169,4,    2.936,2,   2155.9,2,   2317.2,2, 20020714,     1549
  18HU20020623, AR07W,   366,  1, 255692,     22,2,20020714,1442, 52.0822, -45.9015, 4070,     69.6,   7.6436,  34.9196,2,-999.0000,9,    237.8,2,    248.9,2,     2.71,6,     8.65,6,     0.87,6,    3.508,2,    2.467,4,    0.257,4,    3.493,4,    2.708,2,   2141.1,2,   2319.3,2, 20020714,     1551
  18HU20020623, AR07W,   366,  1, 255693,     23,2,20020714,1442, 52.0822, -45.9015, 4070,     35.3,   9.1768,  34.8054,2,-999.0000,9,    267.0,2,    279.2,2,     2.74,6,     8.93,6,     0.88,6,    3.862,2,    2.578,4,    0.280,4,    4.255,4,    2.690,2,   2092.8,2,   2296.2,2, 20020714,     1552
  18HU20020623, AR07W,   366,  1, 255694,     24,2,20020714,1442, 52.0822, -45.9015, 4070,      3.6,  10.9514,  34.7298,2,-999.0000,9,    273.4,2,    285.2,2,     0.43,6,     0.52,6,     0.34,6,    3.587,2,    2.445,4,    0.293,4,    4.005,4,    2.453,2,   2057.1,2,   2320.7,2, 20020714,     1553