BOTTLE,20130611PRINUNIVRMK
EXPOCODE,SECT_ID,STNNBR,CASTNO,SAMPNO,BTLNBR,BTLNBR_FLAG_W,DATE,TIME,LATITUDE,LONGITUDE,DEPTH,CTDPRS,CTDTMP,CTDSAL,CTDSAL_FLAG_W,SALNTY,SALNTY_FLAG_W,CTDOXY,CTDOXY_FLAG_W,OXYGEN,OXYGEN_FLAG_W,SILCAT,SILCAT_FLAG_W,NITRAT,NITRAT_FLAG_W,PHSPHT,PHSPHT_FLAG_W,CFC-11,CFC-11_FLAG_W,CFC-12,CFC-12_FLAG_W,CFC113,CFC113_FLAG_W,CCL4,CCL4_FLAG_W,MCHFRM,MCHFRM_FLAG_W,TCARBN,TCARBN_FLAG_W,ALKALI,ALKALI_FLAG_W,BTL_DATE,BTL_TIME
,,,,,,,,,,,METERS,DBAR,ITS-90,PSS-78,,PSS-78,,UMOL/KG,,UMOL/KG,,UMOL/KG,,UMOL/KG,,UMOL/KG,,PMOL/KG,,PMOL/KG,,PMOL/KG,,PMOL/KG,,PMOL/KG,,UMOL/KG,,UMOL/KG,,,
  18HU20020623, AR07W,    27,  1, 253051,      1,2,20020625,0107, 42.8578, -61.7197,  995,    995.6,   4.0854,  34.9342,2,  34.9333,6,    254.2,2,     89.5,4,    12.07,6,    17.68,6,     1.25,6, -999.000,9, -999.000,9, -999.000,9, -999.000,9, -999.000,9,   -999.0,9,   -999.0,9, 20020625,      107
  18HU20020623, AR07W,    27,  1, 253052,      2,2,20020625,0107, 42.8578, -61.7197,  995,    754.7,   4.4156,  34.9402,2,  34.9406,6,    245.2,2,    250.4,2,    11.92,6,    17.88,6,     1.26,6, -999.000,9, -999.000,9, -999.000,9, -999.000,9, -999.000,9,   -999.0,9,   -999.0,9, 20020625,      122
  18HU20020623, AR07W,    27,  1, 253053,      3,2,20020625,0107, 42.8578, -61.7197,  995,    501.5,   5.4378,  34.9778,2,  34.9764,2,    210.2,2,    214.7,2,    13.71,6,    20.45,6,     1.41,6, -999.000,9, -999.000,9, -999.000,9, -999.000,9, -999.000,9,   -999.0,9,   -999.0,9, 20020625,      128
  18HU20020623, AR07W,    27,  1, 253054,      4,2,20020625,0107, 42.8578, -61.7197,  995,    249.8,   9.4534,  35.1986,2,  35.1971,2,    137.7,2,    139.9,2,    14.04,6,    23.92,6,     1.58,6, -999.000,9, -999.000,9, -999.000,9, -999.000,9, -999.000,9,   -999.0,9,   -999.0,9, 20020625,      133
  18HU20020623, AR07W,    27,  1, 253055,      5,2,20020625,0107, 42.8578, -61.7197,  995,    200.6,  10.7235,  35.3036,2,-999.0000,9,    141.9,2,    144.5,2,    11.30,6,    20.70,6,     1.40,6, -999.000,9, -999.000,9, -999.000,9, -999.000,9, -999.000,9,   -999.0,9,   -999.0,9, 20020625,      134
  18HU20020623, AR07W,    27,  1, 253056,      6,2,20020625,0107, 42.8578, -61.7197,  995,    151.7,  11.9748,  35.4056,2,-999.0000,9,    155.5,2,    158.8,2,     8.73,6,    16.82,6,     1.17,6, -999.000,9, -999.000,9, -999.000,9, -999.000,9, -999.000,9,   -999.0,9,   -999.0,9, 20020625,      136
  18HU20020623, AR07W,    27,  1, 253057,      7,2,20020625,0107, 42.8578, -61.7197,  995,    101.3,  12.6070,  35.3528,2,-999.0000,9,    189.3,2,    194.6,2,     5.60,6,    11.48,6,     0.87,6, -999.000,9, -999.000,9, -999.000,9, -999.000,9, -999.000,9,   -999.0,9,   -999.0,9, 20020625,      137
  18HU20020623, AR07W,    27,  1, 253058,      8,2,20020625,0107, 42.8578, -61.7197,  995,     81.1,  12.0389,  35.0816,2,-999.0000,9,    205.7,2,    209.3,2,     5.07,6,     9.60,6,     0.82,6, -999.000,9, -999.000,9, -999.000,9, -999.000,9, -999.000,9,   -999.0,9,   -999.0,9, 20020625,      138
  18HU20020623, AR07W,    27,  1, 253059,      9,2,20020625,0107, 42.8578, -61.7197,  995,     60.7,  11.1641,  34.6778,2,-999.0000,9,    221.0,2,    226.2,2,     4.16,6,     7.59,6,     0.74,6, -999.000,9, -999.000,9, -999.000,9, -999.000,9, -999.000,9,   -999.0,9,   -999.0,9, 20020625,      140
  18HU20020623, AR07W,    27,  1, 253060,     10,2,20020625,0107, 42.8578, -61.7197,  995,     51.4,   9.8290,  34.1855,2,-999.0000,9,    232.0,2,    241.6,2,     4.15,6,     6.65,6,     0.73,6, -999.000,9, -999.000,9, -999.000,9, -999.000,9, -999.000,9,   -999.0,9,   -999.0,9, 20020625,      140
  18HU20020623, AR07W,    27,  1, 253061,     11,2,20020625,0107, 42.8578, -61.7197,  995,     40.7,   8.6184,  33.5958,2,-999.0000,9,    253.4,2,    257.8,2,     3.18,6,     5.05,6,     0.72,6, -999.000,9, -999.000,9, -999.000,9, -999.000,9, -999.000,9,   -999.0,9,   -999.0,9, 20020625,      141
  18HU20020623, AR07W,    27,  1, 253062,     12,2,20020625,0107, 42.8578, -61.7197,  995,     31.2,   6.9026,  32.9608,2,-999.0000,9,    273.1,2,    286.6,2,     2.29,6,     3.02,6,     0.68,6, -999.000,9, -999.000,9, -999.000,9, -999.000,9, -999.000,9,   -999.0,9,   -999.0,9, 20020625,      142
  18HU20020623, AR07W,    27,  1, 253063,     13,2,20020625,0107, 42.8578, -61.7197,  995,     20.8,   8.6721,  32.6812,2,-999.0000,9,    293.2,2,    304.4,2,     1.04,6,     0.00,6,     0.47,6, -999.000,9, -999.000,9, -999.000,9, -999.000,9, -999.000,9,   -999.0,9,   -999.0,9, 20020625,      142
  18HU20020623, AR07W,    27,  1, 253064,     14,2,20020625,0107, 42.8578, -61.7197,  995,     10.5,  11.2334,  32.0460,2,-999.0000,9,    283.8,2,    289.6,2,     0.68,6,     0.00,6,     0.40,6, -999.000,9, -999.000,9, -999.000,9, -999.000,9, -999.000,9,   -999.0,9,   -999.0,9, 20020625,      143
  18HU20020623, AR07W,    27,  1, 253065,     15,2,20020625,0107, 42.8578, -61.7197,  995,      2.6,  11.0852,  32.0530,2,-999.0000,9,    285.0,2,    291.8,2,     0.58,6,     0.00,6,     0.40,6, -999.000,9, -999.000,9, -999.000,9, -999.000,9, -999.000,9,   -999.0,9,   -999.0,9, 20020625,      144
  18HU20020623, AR07W,    28,  1, 253066,      1,2,20020625,0449, 42.5345, -61.4003, 2720,   2836.5,   2.9069,  34.9265,2,  34.9270,2,    267.0,2,    266.3,2,    18.64,6,    17.52,6,     1.33,6, -999.000,9, -999.000,9, -999.000,9, -999.000,9, -999.000,9,   -999.0,9,   -999.0,9, 20020625,      449
  18HU20020623, AR07W,    28,  1, 253067,      2,2,20020625,0449, 42.5345, -61.4003, 2720,   2021.4,   3.3771,  34.9295,2,  34.9298,2,    264.1,2,    269.1,2,    14.66,6,    17.58,6,     1.31,6, -999.000,9, -999.000,9, -999.000,9, -999.000,9, -999.000,9,   -999.0,9,   -999.0,9, 20020625,      501
  18HU20020623, AR07W,    28,  1, 253068,      3,2,20020625,0449, 42.5345, -61.4003, 2720,   1514.4,   3.6901,  34.9328,2,  34.9337,2,    260.4,2,    265.6,2,    13.01,6,    17.57,6,     1.31,6, -999.000,9, -999.000,9, -999.000,9, -999.000,9, -999.000,9,   -999.0,9,   -999.0,9, 20020625,      509
  18HU20020623, AR07W,    28,  1, 253069,      4,2,20020625,0449, 42.5345, -61.4003, 2720,   1008.4,   4.3028,  34.9748,2,  34.9742,2,    246.4,2,    252.8,2,  -999.00,9,  -999.00,9,  -999.00,9, -999.000,9, -999.000,9, -999.000,9, -999.000,9, -999.000,9,   -999.0,9,   -999.0,9, 20020625,      516
  18HU20020623, AR07W,    28,  1, 253070,      5,2,20020625,0449, 42.5345, -61.4003, 2720,   1008.7,   4.3038,  34.9748,2,  34.9748,2,    246.5,2,   -999.0,9,    12.49,6,    17.77,6,     1.33,6, -999.000,9, -999.000,9, -999.000,9, -999.000,9, -999.000,9,   -999.0,9,   -999.0,9, 20020625,      516
  18HU20020623, AR07W,    28,  1, 253071,      6,2,20020625,0449, 42.5345, -61.4003, 2720,    756.9,   4.7831,  34.9860,2,  34.9860,2,    234.0,2,    252.2,2,    13.03,6,    17.64,6,     1.37,6, -999.000,9, -999.000,9, -999.000,9, -999.000,9, -999.000,9,   -999.0,9,   -999.0,9, 20020625,      521
  18HU20020623, AR07W,    28,  1, 253072,      7,2,20020625,0449, 42.5345, -61.4003, 2720,    505.1,   6.0762,  34.9868,2,  34.9870,2,    192.4,2,    196.8,2,    14.71,6,    20.92,6,     1.53,6, -999.000,9, -999.000,9, -999.000,9, -999.000,9, -999.000,9,   -999.0,9,   -999.0,9, 20020625,      525
  18HU20020623, AR07W,    28,  1, 253073,      8,2,20020625,0449, 42.5345, -61.4003, 2720,    253.9,  11.3184,  35.4214,2,  35.4174,2,    135.1,2,    137.8,2,    11.71,6,    20.91,6,     1.46,6, -999.000,9, -999.000,9, -999.000,9, -999.000,9, -999.000,9,   -999.0,9,   -999.0,9, 20020625,      530
  18HU20020623, AR07W,    28,  1, 253074,      9,2,20020625,0449, 42.5345, -61.4003, 2720,    203.1,  12.3103,  35.4988,2,  35.4983,2,    150.0,2,    152.7,2,     9.05,6,    17.31,6,     1.23,6, -999.000,9, -999.000,9, -999.000,9, -999.000,9, -999.000,9,   -999.0,9,   -999.0,9, 20020625,      532
  18HU20020623, AR07W,    28,  1, 253075,     10,2,20020625,0449, 42.5345, -61.4003, 2720,    152.9,  13.8963,  35.6695,2,  35.6698,2,    193.8,2,    198.2,2,     4.67,6,    10.18,6,     0.76,6, -999.000,9, -999.000,9, -999.000,9, -999.000,9, -999.000,9,   -999.0,9,   -999.0,9, 20020625,      533
  18HU20020623, AR07W,    28,  1, 253076,     11,2,20020625,0449, 42.5345, -61.4003, 2720,    102.1,  13.9367,  35.4776,2,  35.4728,2,    205.4,2,    209.8,2,     3.43,6,     7.53,6,     0.62,6, -999.000,9, -999.000,9, -999.000,9, -999.000,9, -999.000,9,   -999.0,9,   -999.0,9, 20020625,      535
  18HU20020623, AR07W,    28,  1, 253077,     12,2,20020625,0449, 42.5345, -61.4003, 2720,     82.2,  14.2140,  35.3923,2,-999.0000,9,    212.7,2,    218.2,2,     2.72,6,     5.48,6,     0.49,6, -999.000,9, -999.000,9, -999.000,9, -999.000,9, -999.000,9,   -999.0,9,   -999.0,9, 20020625,      536
  18HU20020623, AR07W,    28,  1, 253078,     13,2,20020625,0449, 42.5345, -61.4003, 2720,     62.4,  13.6035,  34.9586,2,-999.0000,9,    230.6,2,    233.4,2,     2.11,6,     3.52,6,     0.40,6, -999.000,9, -999.000,9, -999.000,9, -999.000,9, -999.000,9,   -999.0,9,   -999.0,9, 20020625,      537
  18HU20020623, AR07W,    28,  1, 253079,     14,2,20020625,0449, 42.5345, -61.4003, 2720,     52.2,  15.0074,  35.0621,2,-999.0000,9,    240.1,2,    245.2,2,     1.33,6,     0.60,6,     0.18,6, -999.000,9, -999.000,9, -999.000,9, -999.000,9, -999.000,9,   -999.0,9,   -999.0,9, 20020625,      538
  18HU20020623, AR07W,    28,  1, 253080,     15,2,20020625,0449, 42.5345, -61.4003, 2720,     42.0,  15.9083,  35.0891,2,-999.0000,9,    240.0,2,    245.6,2,     0.93,6,     0.00,6,     0.11,6, -999.000,9, -999.000,9, -999.000,9, -999.000,9, -999.000,9,   -999.0,9,   -999.0,9, 20020625,      539
  18HU20020623, AR07W,    28,  1, 253081,     16,2,20020625,0449, 42.5345, -61.4003, 2720,     32.2,  15.3278,  34.8607,2,-999.0000,9,    244.1,2,    249.6,2,     0.95,6,     0.00,6,     0.12,6, -999.000,9, -999.000,9, -999.000,9, -999.000,9, -999.000,9,   -999.0,9,   -999.0,9, 20020625,      540
  18HU20020623, AR07W,    28,  1, 253082,     17,2,20020625,0449, 42.5345, -61.4003, 2720,     22.1,  14.8945,  34.6226,2,-999.0000,9,    248.1,2,    252.0,2,     0.91,6,     0.00,6,     0.13,6, -999.000,9, -999.000,9, -999.000,9, -999.000,9, -999.000,9,   -999.0,9,   -999.0,9, 20020625,      540
  18HU20020623, AR07W,    28,  1, 253083,     18,2,20020625,0449, 42.5345, -61.4003, 2720,     12.1,  13.7014,  33.4952,2,-999.0000,9,    262.7,2,    268.6,2,     0.87,6,     0.00,6,     0.22,6, -999.000,9, -999.000,9, -999.000,9, -999.000,9, -999.000,9,   -999.0,9,   -999.0,9, 20020625,      541
  18HU20020623, AR07W,    28,  1, 253084,     19,2,20020625,0449, 42.5345, -61.4003, 2720,      3.1,  12.9589,  32.9025,2,-999.0000,9,    268.0,2,    272.8,2,     0.73,6,     0.00,6,     0.26,6, -999.000,9, -999.000,9, -999.000,9, -999.000,9, -999.000,9,   -999.0,9,   -999.0,9, 20020625,      542
  18HU20020623, AR07W,    32,  1, 253085,      1,2,20020625,1314, 42.6907, -61.5215, 2000,    202.1,  12.1562,  35.5364,2,-999.0000,9,    136.5,2,   -999.0,9,     9.62,6,    19.78,6,     1.30,6, -999.000,9, -999.000,9, -999.000,9, -999.000,9, -999.000,9,   -999.0,9,   -999.0,9, 20020625,     1314
  18HU20020623, AR07W,    32,  1, 253086,      2,2,20020625,1314, 42.6907, -61.5215, 2000,    150.0,  13.2488,  35.5501,2,-999.0000,9,    179.4,2,   -999.0,9,     5.83,6,    12.51,6,     0.88,6, -999.000,9, -999.000,9, -999.000,9, -999.000,9, -999.000,9,   -999.0,9,   -999.0,9, 20020625,     1317
  18HU20020623, AR07W,    32,  1, 253087,      3,2,20020625,1314, 42.6907, -61.5215, 2000,     99.9,  13.9911,  35.5703,2,-999.0000,9,    203.3,2,   -999.0,9,     3.53,6,     8.26,6,     0.62,6, -999.000,9, -999.000,9, -999.000,9, -999.000,9, -999.000,9,   -999.0,9,   -999.0,9, 20020625,     1319
  18HU20020623, AR07W,    32,  1, 253088,      4,2,20020625,1314, 42.6907, -61.5215, 2000,     80.3,  13.7494,  35.4205,2,-999.0000,9,    209.3,2,   -999.0,9,     3.19,6,     7.21,6,     0.57,6, -999.000,9, -999.000,9, -999.000,9, -999.000,9, -999.000,9,   -999.0,9,   -999.0,9, 20020625,     1320
  18HU20020623, AR07W,    32,  1, 253089,      5,2,20020625,1314, 42.6907, -61.5215, 2000,     59.0,  14.1687,  35.2063,2,-999.0000,9,    218.4,2,   -999.0,9,     2.93,6,     5.15,6,     0.46,6, -999.000,9, -999.000,9, -999.000,9, -999.000,9, -999.000,9,   -999.0,9,   -999.0,9, 20020625,     1321
  18HU20020623, AR07W,    32,  1, 253090,      6,2,20020625,1314, 42.6907, -61.5215, 2000,     49.7,  15.7845,  35.2777,2,-999.0000,9,    237.5,2,   -999.0,9,     1.32,6,     0.28,6,     0.16,6, -999.000,9, -999.000,9, -999.000,9, -999.000,9, -999.000,9,   -999.0,9,   -999.0,9, 20020625,     1322
  18HU20020623, AR07W,    32,  1, 253091,      7,2,20020625,1314, 42.6907, -61.5215, 2000,     39.5,  16.2620,  35.2066,2,-999.0000,9,    238.4,2,   -999.0,9,     0.99,6,     0.00,6,     0.11,6, -999.000,9, -999.000,9, -999.000,9, -999.000,9, -999.000,9,   -999.0,9,   -999.0,9, 20020625,     1323
  18HU20020623, AR07W,    32,  1, 253092,      8,2,20020625,1314, 42.6907, -61.5215, 2000,     29.1,  16.1089,  34.9264,2,-999.0000,9,    240.6,2,   -999.0,9,     0.95,6,     0.05,6,     0.12,6, -999.000,9, -999.000,9, -999.000,9, -999.000,9, -999.000,9,   -999.0,9,   -999.0,9, 20020625,     1324
  18HU20020623, AR07W,    32,  1, 253093,      9,2,20020625,1314, 42.6907, -61.5215, 2000,     19.7,  15.7564,  34.4606,2,-999.0000,9,    244.6,2,   -999.0,9,     0.99,6,     0.00,6,     0.14,6, -999.000,9, -999.000,9, -999.000,9, -999.000,9, -999.000,9,   -999.0,9,   -999.0,9, 20020625,     1325
  18HU20020623, AR07W,    32,  1, 253094,     10,2,20020625,1314, 42.6907, -61.5215, 2000,     10.0,  12.3199,  32.1213,2,-999.0000,9,    270.1,2,   -999.0,9,     0.63,6,     0.00,6,     0.31,6, -999.000,9, -999.000,9, -999.000,9, -999.000,9, -999.000,9,   -999.0,9,   -999.0,9, 20020625,     1326
  18HU20020623, AR07W,    32,  1, 253095,     11,2,20020625,1314, 42.6907, -61.5215, 2000,      2.0,  12.2325,  32.0611,2,-999.0000,9,    272.0,2,   -999.0,9,     0.62,6,     0.00,6,     0.32,6, -999.000,9, -999.000,9, -999.000,9, -999.000,9, -999.000,9,   -999.0,9,   -999.0,9, 20020625,     1327
  18HU20020623, AR07W,    36,  1, 253096,      1,2,20020626,1214, 44.1757, -56.6372, 2257,    200.1,   7.0082,  34.8254,2,-999.0000,9,    182.0,2,   -999.0,9,    12.84,6,    20.18,6,     1.38,6, -999.000,9, -999.000,9, -999.000,9, -999.000,9, -999.000,9,   -999.0,9,   -999.0,9, 20020626,     1214
  18HU20020623, AR07W,    36,  1, 253097,      2,2,20020626,1214, 44.1757, -56.6372, 2257,    148.9,   6.4054,  34.5021,2,-999.0000,9,    215.2,2,   -999.0,9,     9.64,6,    15.57,6,     1.20,6, -999.000,9, -999.000,9, -999.000,9, -999.000,9, -999.000,9,   -999.0,9,   -999.0,9, 20020626,     1216
  18HU20020623, AR07W,    36,  1, 253098,      3,2,20020626,1214, 44.1757, -56.6372, 2257,     98.8,   5.7126,  34.0365,2,-999.0000,9,    247.3,2,   -999.0,9,     6.55,6,    11.58,6,     1.01,6, -999.000,9, -999.000,9, -999.000,9, -999.000,9, -999.000,9,   -999.0,9,   -999.0,9, 20020626,     1218
  18HU20020623, AR07W,    36,  1, 253099,      4,2,20020626,1214, 44.1757, -56.6372, 2257,     77.8,   4.2644,  33.2421,2,-999.0000,9,    275.7,2,   -999.0,9,     2.99,6,     5.75,6,     0.84,6, -999.000,9, -999.000,9, -999.000,9, -999.000,9, -999.000,9,   -999.0,9,   -999.0,9, 20020626,     1219
  18HU20020623, AR07W,    36,  1, 253100,      5,2,20020626,1214, 44.1757, -56.6372, 2257,     58.6,   4.1826,  32.6301,2,-999.0000,9,    306.8,2,   -999.0,9,     0.77,6,     0.41,6,     0.56,6, -999.000,9, -999.000,9, -999.000,9, -999.000,9, -999.000,9,   -999.0,9,   -999.0,9, 20020626,     1220
  18HU20020623, AR07W,    36,  1, 253101,      6,2,20020626,1214, 44.1757, -56.6372, 2257,     49.1,   5.1399,  32.6052,2,-999.0000,9,    308.4,2,   -999.0,9,     0.62,6,     0.00,6,     0.48,6, -999.000,9, -999.000,9, -999.000,9, -999.000,9, -999.000,9,   -999.0,9,   -999.0,9, 20020626,     1221
  18HU20020623, AR07W,    36,  1, 253102,      7,2,20020626,1214, 44.1757, -56.6372, 2257,     38.4,   5.9960,  32.4610,2,-999.0000,9,    309.9,2,   -999.0,9,     0.40,6,     0.00,6,     0.45,6, -999.000,9, -999.000,9, -999.000,9, -999.000,9, -999.000,9,   -999.0,9,   -999.0,9, 20020626,     1222
  18HU20020623, AR07W,    36,  1, 253103,      8,2,20020626,1214, 44.1757, -56.6372, 2257,     28.8,   8.3025,  32.3249,2,-999.0000,9,    292.7,2,   -999.0,9,     0.00,6,     0.00,6,     0.42,6, -999.000,9, -999.000,9, -999.000,9, -999.000,9, -999.000,9,   -999.0,9,   -999.0,9, 20020626,     1223
  18HU20020623, AR07W,    36,  1, 253104,      9,2,20020626,1214, 44.1757, -56.6372, 2257,     18.5,   9.2104,  32.2955,2,-999.0000,9,    287.1,2,   -999.0,9,     0.00,6,     0.00,6,     0.42,6, -999.000,9, -999.000,9, -999.000,9, -999.000,9, -999.000,9,   -999.0,9,   -999.0,9, 20020626,     1223
  18HU20020623, AR07W,    36,  1, 253105,     10,2,20020626,1214, 44.1757, -56.6372, 2257,      8.6,   9.2860,  32.2965,2,-999.0000,9,    286.2,2,   -999.0,9,     0.46,6,     0.00,6,     0.41,6, -999.000,9, -999.000,9, -999.000,9, -999.000,9, -999.000,9,   -999.0,9,   -999.0,9, 20020626,     1224
  18HU20020623, AR07W,    36,  1, 253106,     11,2,20020626,1214, 44.1757, -56.6372, 2257,      2.6,   9.2984,  32.2964,2,-999.0000,9,    286.1,2,   -999.0,9,     0.00,6,     0.00,6,     0.42,6, -999.000,9, -999.000,9, -999.000,9, -999.000,9, -999.000,9,   -999.0,9,   -999.0,9, 20020626,     1225