BOTTLE,20150129PRINUNIVRMK
EXPOCODE,SECT_ID,STNNBR,CASTNO,SAMPNO,BTLNBR,BTLNBR_FLAG_W,DATE,TIME,LATITUDE,LONGITUDE,DEPTH,CTDPRS,CTDTMP,CTDSAL,CTDSAL_FLAG_W,SALNTY,SALNTY_FLAG_W,OXYGEN,OXYGEN_FLAG_W,SILCAT,SILCAT_FLAG_W,NITRAT,NITRAT_FLAG_W,NITRIT,NITRIT_FLAG_W,PHSPHT,PHSPHT_FLAG_W,CFC-11,CFC-11_FLAG_W,CFC-12,CFC-12_FLAG_W,CFC113,CFC113_FLAG_W,CCL4,CCL4_FLAG_W,TCARBN,TCARBN_FLAG_W,TRITUM,TRITUM_FLAG_W,TRITER,HELIUM,HELIUM_FLAG_W,HELIER,DELHE3,DELHE3_FLAG_W,DELHER,NEON,NEON_FLAG_W,NEONER
,,,,,,,,,,,METERS,DBAR,ITS-90,PSS-78,,PSS-78,,UMOL/KG,,UMOL/KG,,UMOL/KG,,UMOL/KG,,UMOL/KG,,PMOL/KG,,PMOL/KG,,PMOL/KG,,PMOL/KG,,UMOL/KG,,TU,,TU,NMOL/KG,,NMOL/KG,PERCNT,,PERCNT,NMOL/KG,,NMOL/KG
  06AQ19960317,  S04a,    98,  1,     23,      1,2,19960506,   0,-63.8477, -50.0398, 2861,     20.2,  -1.8725,  34.0993,2,  34.0975,2,    327.8,2,    65.33,2,    26.44,2,     0.16,2,     1.82,2,    5.776,2,    2.837,2,    0.498,2,    7.457,2,   2185.2,2,    0.095,2, -999.000,   1.8120,2,   0.0050,    -0.65,2,     0.22,    8.128,2,    0.018
  06AQ19960317,  S04a,    98,  1,     22,      2,2,19960506,   0,-63.8477, -50.0398, 2861,     40.6,  -1.8695,  34.1374,2,  34.1423,2,    325.6,2,    66.45,2,    26.82,2,     0.15,2,     1.85,2,    5.572,2,    2.665,2,    0.458,2,    7.164,2,   2188.9,2, -999.000,9, -999.000,-999.0000,9,-999.0000,  -999.00,9,  -999.00, -999.000,9, -999.000
  06AQ19960317,  S04a,    98,  1,     21,      3,2,19960506,   0,-63.8477, -50.0398, 2861,     80.6,  -1.7159,  34.4459,2,  34.4466,2,   -999.0,9,    72.64,2,    31.18,2,     0.18,2,     2.14,2,    4.271,2,    2.044,2,    0.321,2,    4.693,2,   -999.0,9,    0.109,2, -999.000,   1.8490,2,   0.0050,     1.67,2,     0.22,    8.199,2,    0.018
  06AQ19960317,  S04a,    98,  1,     20,      4,2,19960506,   0,-63.8477, -50.0398, 2861,     80.6,  -1.7167,  34.4448,2,  34.4453,2,    280.5,2,    72.54,2,    31.09,2,     0.19,2,     2.14,2, -999.000,9, -999.000,9, -999.000,9, -999.000,9,   2225.9,2, -999.000,9, -999.000,-999.0000,9,-999.0000,  -999.00,9,  -999.00, -999.000,9, -999.000
  06AQ19960317,  S04a,    98,  1,     19,      5,2,19960506,   0,-63.8477, -50.0398, 2861,    100.3,  -1.6386,  34.4666,2,  34.4714,2,    273.0,2,    73.84,2,    30.56,2,     0.01,2,     2.15,2,    3.924,2,    1.861,2,    0.282,2,    4.325,2,   2229.8,2,    0.100,2, -999.000,   1.8480,2,   0.0050,     2.35,2,     0.22,    8.110,2,    0.018
  06AQ19960317,  S04a,    98,  1,     18,      6,2,19960506,   0,-63.8477, -50.0398, 2861,    151.0,  -1.1999,  34.5158,2,  34.5129,2,    255.2,2,    79.25,2,    31.63,2,     0.01,2,     2.20,2,    3.234,2,    1.519,2,    0.228,2,    3.594,2,   2237.7,2,    0.108,2, -999.000,-999.0000,9,-999.0000,  -999.00,9,  -999.00, -999.000,9, -999.000
  06AQ19960317,  S04a,    98,  1,     17,      7,2,19960506,   0,-63.8477, -50.0398, 2861,    201.1,  -0.3551,  34.5744,2,  34.5771,2,    229.0,2,    87.64,2,    32.29,2,     0.00,2,     2.24,2,    2.207,2,    1.021,2,    0.133,2,    2.452,2,   2246.6,2,    0.100,2, -999.000,   1.8770,2,   0.0050,     5.34,2,     0.22,    8.190,2,    0.018
  06AQ19960317,  S04a,    98,  1,     16,      8,2,19960506,   0,-63.8477, -50.0398, 2861,    248.9,   0.1028,  34.6211,2,  34.6199,2,    214.2,2,    93.79,2,    32.36,2,     0.01,2,     2.27,2,    1.554,2,    0.706,2,    0.093,2,    1.819,2,   2252.3,2,    0.054,2, -999.000,   2.3710,4,   0.0060,     6.81,2,     0.22,    9.329,4,    0.021
  06AQ19960317,  S04a,    98,  1,     15,      9,2,19960506,   0,-63.8477, -50.0398, 2861,    351.2,   0.3956,  34.6560,2,  34.6569,2,    203.0,2,   100.06,2,    32.62,2,     0.01,2,     2.29,2,    1.017,2,    0.454,2,    0.048,2,    1.283,2,   2259.1,2,    0.056,2, -999.000,   1.8530,2,   0.0050,     7.52,2,     0.22,    8.090,2,    0.018
  06AQ19960317,  S04a,    98,  1,     14,     10,2,19960506,   0,-63.8477, -50.0398, 2861,    481.1,   0.5156,  34.6738,2,  34.6736,2,   -999.0,9,   104.68,2,    32.92,2,     0.00,2,     2.28,2,    0.658,2,    0.298,2,    0.034,2,    0.970,2,   2258.7,2,    0.078,2, -999.000,   1.8650,2,   0.0050,     8.49,2,     0.22,    8.477,4,    0.019
  06AQ19960317,  S04a,    98,  1,     13,     11,2,19960506,   0,-63.8477, -50.0398, 2861,    611.2,   0.5777,  34.6851,2,  34.6856,2,    199.3,2,   111.09,2,    33.16,2,     0.00,2,     2.31,2,    0.365,2,    0.170,2,    0.014,2,    0.632,2,   2261.1,2,    0.029,2, -999.000,   1.8770,2,   0.0050,     8.74,2,     0.22,    8.107,2,    0.018
  06AQ19960317,  S04a,    98,  1,     12,     12,2,19960506,   0,-63.8477, -50.0398, 2861,    690.8,   0.5559,  34.6866,2,  34.6886,2,    199.9,2,   112.85,2,    32.96,2,     0.00,2,     2.29,2,    0.279,2,    0.131,2,    0.008,2,    0.518,2,   2261.9,2,    0.077,2, -999.000,   1.8760,2,   0.0050,     8.51,2,     0.22,    8.114,2,    0.018
  06AQ19960317,  S04a,    98,  1,     11,     13,2,19960506,   0,-63.8477, -50.0398, 2861,    751.1,   0.5223,  34.6870,2,  34.6897,2,    200.2,2,   114.31,2,    33.20,2,     0.00,2,     2.30,2,    0.279,2,    0.186,4,    0.009,2,    0.481,2,   2264.0,2,    0.027,2, -999.000,   1.8740,2,   0.0050,     8.54,2,     0.22,    8.143,2,    0.018
  06AQ19960317,  S04a,    98,  1,     10,     14,2,19960506,   0,-63.8477, -50.0398, 2861,   1001.4,   0.3555,  34.6794,2,  34.6813,2,    203.4,2,   118.64,2,    33.46,2,     0.02,2,     2.32,2,    0.199,2,    0.093,2,    0.008,2,    0.420,2,   2262.2,2,    0.063,2, -999.000,   1.8750,2,   0.0050,     7.91,2,     0.22,    8.486,3,    0.019
  06AQ19960317,  S04a,    98,  1,      9,     15,2,19960506,   0,-63.8477, -50.0398, 2861,   1251.4,   0.2314,  34.6752,2,  34.6766,2,    206.6,2,   121.26,2,    33.51,2,     0.01,2,     2.32,2,    0.181,2,    0.091,2,    0.004,2,    0.400,2,   2262.8,2,    0.095,2, -999.000,   1.8740,2,   0.0050,     7.86,2,     0.22,    8.202,2,    0.018
  06AQ19960317,  S04a,    98,  1,      8,     16,2,19960506,   0,-63.8477, -50.0398, 2861,   1500.6,   0.1103,  34.6715,2,  34.6710,2,    211.7,2,   122.82,2,    33.41,2,     0.01,2,     2.32,2,    0.195,2,    0.096,2,    0.005,2,    0.420,2,   2260.6,2,    0.053,2, -999.000,   1.8860,2,   0.0050,     7.67,2,     0.22,    8.107,2,    0.018
  06AQ19960317,  S04a,    98,  1,      7,     17,2,19960506,   0,-63.8477, -50.0398, 2861,   2001.1,  -0.0880,  34.6628,2,  34.6634,2,    222.1,2,   123.54,2,    33.20,2,     0.01,2,     2.30,2,    0.265,2,    0.124,2,    0.009,2,    0.561,2,   2257.5,2,    0.080,2, -999.000,   1.8670,2,   0.0050,     6.77,2,     0.22,    8.141,2,    0.018
  06AQ19960317,  S04a,    98,  1,      6,     18,2,19960506,   0,-63.8477, -50.0398, 2861,   2501.2,  -0.2789,  34.6551,2,  34.6566,2,    233.7,2,   117.32,2,    32.74,2,     0.00,2,     2.28,2,    0.701,2,    0.326,2,    0.035,2,    1.009,2,   2251.8,2,    0.063,2, -999.000,   1.8830,2,   0.0050,     5.78,2,     0.22,    8.248,2,    0.018
  06AQ19960317,  S04a,    98,  1,      5,     19,2,19960506,   0,-63.8477, -50.0398, 2861,   2636.0,  -0.4987,  34.6464,2,  34.6447,2,    245.3,2,   105.64,2,    32.44,2,     0.01,2,     2.24,2,    1.542,2,    0.715,2,    0.092,2,    1.659,2,   2249.2,2,    0.098,2, -999.000,   1.8890,2,   0.0050,     4.82,2,     0.22,    8.275,2,    0.018
  06AQ19960317,  S04a,    98,  1,      4,     20,2,19960506,   0,-63.8477, -50.0398, 2861,   2785.6,  -0.8776,  34.6392,2,  34.6387,2,    262.4,2,    88.96,2,    31.88,2,     0.01,2,     2.21,2,    2.739,2,    1.296,2,    0.183,2,    2.638,2,   2242.0,2,    0.095,2, -999.000,   1.8810,2,   0.0050,     3.20,2,     0.22,    8.340,2,    0.019
  06AQ19960317,  S04a,    98,  1,      3,     21,2,19960506,   0,-63.8477, -50.0398, 2861,   2836.2,  -0.9813,  34.6414,2,  34.6401,2,    268.4,2,    85.56,2,    31.62,2,     0.02,2,     2.17,2,    3.062,2,    1.455,2,    0.205,2,    2.926,2,   2240.5,2,    0.066,2, -999.000,   1.8880,2,   0.0050,     2.63,2,     0.22,    8.344,2,    0.019
  06AQ19960317,  S04a,    98,  1,      1,     23,2,19960506,   0,-63.8477, -50.0398, 2861,   2886.3,  -1.0213,  34.6414,2,-999.0000,9,   -999.0,9,    84.96,2,    31.50,2,     0.01,2,     2.19,2, -999.000,9, -999.000,9, -999.000,9, -999.000,9,   -999.0,9, -999.000,9, -999.000,-999.0000,9,-999.0000,  -999.00,9,  -999.00, -999.000,9, -999.000
  06AQ19960317,  S04a,    98,  1,     24,     24,2,19960506,   0,-63.8477, -50.0398, 2861,   2886.3,  -1.0215,  34.6416,2,-999.0000,9,   -999.0,9,    84.30,2,    31.61,2,     0.01,2,     2.19,2, -999.000,9, -999.000,9, -999.000,9, -999.000,9,   -999.0,9, -999.000,9, -999.000,-999.0000,9,-999.0000,  -999.00,9,  -999.00, -999.000,9, -999.000
  06AQ19960317,  S04a,    98,  1,      2,     22,2,19960506,   0,-63.8477, -50.0398, 2861,   2886.4,  -1.0211,  34.6419,2,  34.6426,2,    269.1,2,    84.74,2,    31.67,2,     0.01,2,     2.18,2,    3.127,2,    1.489,2,    0.210,2,    2.977,2,   2241.6,2,    0.093,2, -999.000,   3.9600,4,   0.0110,     2.64,2,     0.22,   14.656,4,    0.033
  06AQ19960317,  S04a,    99,  1,     23,      1,2,19960507,   0,-63.7352, -50.8435, 2505,     20.9,  -1.8707,  34.1324,2,  34.1319,2,    325.5,2,    66.77,2,    27.14,2,     0.16,2,     1.86,2,    5.509,6,    2.717,6,    0.466,6,    7.056,6,   2188.3,2, -999.000,9, -999.000,-999.0000,9,-999.0000,  -999.00,9,  -999.00, -999.000,9, -999.000
  06AQ19960317,  S04a,    99,  1,     22,      2,2,19960507,   0,-63.7352, -50.8435, 2505,     20.9,  -1.8710,  34.1326,2,-999.0000,9,   -999.0,9,    66.03,2,    27.17,2,     0.15,2,     1.86,2, -999.000,9, -999.000,9, -999.000,9, -999.000,9,   -999.0,9, -999.000,9, -999.000,-999.0000,9,-999.0000,  -999.00,9,  -999.00, -999.000,9, -999.000
  06AQ19960317,  S04a,    99,  1,     21,      3,2,19960507,   0,-63.7352, -50.8435, 2505,     40.4,  -1.8698,  34.1327,2,-999.0000,9,    325.8,2,    66.39,2,    27.09,2,     0.15,2,     1.85,2,    5.542,2,    2.704,2,    0.461,2,    7.117,2,   2188.3,2, -999.000,9, -999.000,-999.0000,9,-999.0000,  -999.00,9,  -999.00, -999.000,9, -999.000
  06AQ19960317,  S04a,    99,  1,     20,      4,2,19960507,   0,-63.7352, -50.8435, 2505,     40.4,  -1.8702,  34.1323,2,-999.0000,9,   -999.0,9,    66.82,2,    27.27,2,     0.15,2,     1.87,2, -999.000,9, -999.000,9, -999.000,9, -999.000,9,   -999.0,9, -999.000,9, -999.000,-999.0000,9,-999.0000,  -999.00,9,  -999.00, -999.000,9, -999.000
  06AQ19960317,  S04a,    99,  1,     19,      5,2,19960507,   0,-63.7352, -50.8435, 2505,     40.5,  -1.8702,  34.1327,2,-999.0000,9,   -999.0,9,    66.65,2,    27.25,2,     0.16,2,     1.88,2, -999.000,9, -999.000,9, -999.000,9, -999.000,9,   -999.0,9, -999.000,9, -999.000,-999.0000,9,-999.0000,  -999.00,9,  -999.00, -999.000,9, -999.000
  06AQ19960317,  S04a,    99,  1,     18,      6,2,19960507,   0,-63.7352, -50.8435, 2505,     40.5,  -1.8708,  34.1331,2,-999.0000,9,   -999.0,9,    66.47,2,    27.17,2,     0.15,2,     1.87,2, -999.000,9, -999.000,9, -999.000,9, -999.000,9,   -999.0,9, -999.000,9, -999.000,-999.0000,9,-999.0000,  -999.00,9,  -999.00, -999.000,9, -999.000
  06AQ19960317,  S04a,    99,  1,     17,      7,2,19960507,   0,-63.7352, -50.8435, 2505,     61.0,  -1.8298,  34.2029,2,  34.2589,2,    307.4,2,    68.76,2,    28.85,2,     0.18,2,     1.98,2,    4.827,2,    2.338,2,    0.380,2,    5.864,2,   2203.3,2, -999.000,9, -999.000,-999.0000,9,-999.0000,  -999.00,9,  -999.00, -999.000,9, -999.000
  06AQ19960317,  S04a,    99,  1,     16,      8,2,19960507,   0,-63.7352, -50.8435, 2505,     61.0,  -1.8145,  34.2329,2,-999.0000,9,   -999.0,9,    68.06,2,    28.52,2,     0.17,2,     1.96,2, -999.000,9, -999.000,9, -999.000,9, -999.000,9,   -999.0,9, -999.000,9, -999.000,-999.0000,9,-999.0000,  -999.00,9,  -999.00, -999.000,9, -999.000
  06AQ19960317,  S04a,    99,  1,     15,      9,2,19960507,   0,-63.7352, -50.8435, 2505,     80.3,  -1.7429,  34.3714,2,  34.3826,2,    290.3,2,    70.91,2,    30.29,2,     0.18,2,     2.08,2,    4.448,2,    2.139,2,    0.328,2,    5.065,2,   2219.1,2, -999.000,9, -999.000,-999.0000,9,-999.0000,  -999.00,9,  -999.00, -999.000,9, -999.000
  06AQ19960317,  S04a,    99,  1,     14,     10,2,19960507,   0,-63.7352, -50.8435, 2505,     80.3,  -1.7389,  34.3795,2,-999.0000,9,   -999.0,9,    71.50,2,    30.68,2,     0.18,2,     2.11,2, -999.000,9, -999.000,9, -999.000,9, -999.000,9,   -999.0,9, -999.000,9, -999.000,-999.0000,9,-999.0000,  -999.00,9,  -999.00, -999.000,9, -999.000
  06AQ19960317,  S04a,    99,  1,     13,     11,2,19960507,   0,-63.7352, -50.8435, 2505,    100.7,  -1.6821,  34.4313,2,  34.4284,2,    282.6,2,    71.97,2,    30.80,2,     0.14,2,     2.12,2,    4.182,2,    1.988,2,    0.310,2,    4.700,2,   2225.7,2, -999.000,9, -999.000,-999.0000,9,-999.0000,  -999.00,9,  -999.00, -999.000,9, -999.000
  06AQ19960317,  S04a,    99,  1,     12,     12,2,19960507,   0,-63.7352, -50.8435, 2505,    100.7,  -1.6832,  34.4334,2,-999.0000,9,   -999.0,9,    72.41,2,    30.93,2,     0.15,2,     2.12,2, -999.000,9, -999.000,9, -999.000,9, -999.000,9,   -999.0,9, -999.000,9, -999.000,-999.0000,9,-999.0000,  -999.00,9,  -999.00, -999.000,9, -999.000
  06AQ19960317,  S04a,    99,  1,     11,     13,2,19960507,   0,-63.7352, -50.8435, 2505,    151.2,  -1.3088,  34.5201,2,  34.4958,2,    261.7,2,    77.82,2,    31.58,2,     0.05,2,     2.16,2,    3.427,2,    1.629,2,    0.237,2,    3.831,2,   2229.7,2, -999.000,9, -999.000,-999.0000,9,-999.0000,  -999.00,9,  -999.00, -999.000,9, -999.000
  06AQ19960317,  S04a,    99,  1,     10,     14,2,19960507,   0,-63.7352, -50.8435, 2505,    176.2,  -0.9459,  34.5377,2,  34.5290,2,    247.7,2,    82.01,2,    31.94,2,     0.04,2,     2.18,2,    2.918,2,    1.386,2,    0.200,2,    3.258,2,   2238.2,2, -999.000,9, -999.000,-999.0000,9,-999.0000,  -999.00,9,  -999.00, -999.000,9, -999.000
  06AQ19960317,  S04a,    99,  1,      9,     15,2,19960507,   0,-63.7352, -50.8435, 2505,    201.2,  -0.4513,  34.5710,2,  34.5794,2,    228.3,2,    89.07,2,    32.61,2,     0.04,2,     2.24,2,    2.081,2,    0.978,2,    0.124,2,    2.379,2,   2243.6,2, -999.000,9, -999.000,-999.0000,9,-999.0000,  -999.00,9,  -999.00, -999.000,9, -999.000
  06AQ19960317,  S04a,    99,  1,      8,     16,2,19960507,   0,-63.7352, -50.8435, 2505,    201.2,  -0.4279,  34.5769,2,-999.0000,9,   -999.0,9,    91.24,2,    32.72,2,     0.03,2,     2.29,2, -999.000,9, -999.000,9, -999.000,9, -999.000,9,   -999.0,9, -999.000,9, -999.000,-999.0000,9,-999.0000,  -999.00,9,  -999.00, -999.000,9, -999.000
  06AQ19960317,  S04a,    99,  1,      7,     17,2,19960507,   0,-63.7352, -50.8435, 2505,    249.9,   0.1162,  34.6264,2,  34.6232,2,    212.7,2,    94.88,2,    32.93,2,     0.03,2,     2.30,2,    1.483,2,    0.686,2,    0.088,2,    1.747,2,   2249.6,2, -999.000,9, -999.000,-999.0000,9,-999.0000,  -999.00,9,  -999.00, -999.000,9, -999.000
  06AQ19960317,  S04a,    99,  1,      6,     18,2,19960507,   0,-63.7352, -50.8435, 2505,    250.0,   0.1170,  34.6244,2,-999.0000,9,   -999.0,9,    95.05,2,    32.94,2,     0.03,2,     2.31,2, -999.000,9, -999.000,9, -999.000,9, -999.000,9,   -999.0,9, -999.000,9, -999.000,-999.0000,9,-999.0000,  -999.00,9,  -999.00, -999.000,9, -999.000
  06AQ19960317,  S04a,    99,  1,      5,     19,2,19960507,   0,-63.7352, -50.8435, 2505,    250.1,   0.1175,  34.6254,2,-999.0000,9,   -999.0,9,    94.61,2,    32.74,2,     0.03,2,     2.30,2, -999.000,9, -999.000,9, -999.000,9, -999.000,9,   -999.0,9, -999.000,9, -999.000,-999.0000,9,-999.0000,  -999.00,9,  -999.00, -999.000,9, -999.000
  06AQ19960317,  S04a,    99,  1,      4,     20,2,19960507,   0,-63.7352, -50.8435, 2505,    300.5,   0.2533,  34.6398,2,  34.6409,2,    206.4,2,    98.92,2,    33.14,2,     0.03,2,     2.31,2,    1.257,2,    0.587,2,    0.072,2,    1.501,2,   2254.1,2, -999.000,9, -999.000,-999.0000,9,-999.0000,  -999.00,9,  -999.00, -999.000,9, -999.000
  06AQ19960317,  S04a,    99,  1,      3,     21,2,19960507,   0,-63.7352, -50.8435, 2505,    400.6,   0.4963,  34.6711,2,  34.6685,2,    201.3,2,   104.29,2,    33.61,2,     0.04,2,     2.32,2,    0.748,2,    0.338,2,    0.038,2,    1.030,2,   2256.6,2, -999.000,9, -999.000,-999.0000,9,-999.0000,  -999.00,9,  -999.00, -999.000,9, -999.000
  06AQ19960317,  S04a,    99,  1,      2,     22,2,19960507,   0,-63.7352, -50.8435, 2505,    451.4,   0.5056,  34.6743,2,  34.6734,2,    201.4,2,   104.50,2,    33.29,2,     0.02,2,     2.33,2,    0.698,2,    0.320,2,    0.034,2,    0.993,2,   2259.9,2, -999.000,9, -999.000,-999.0000,9,-999.0000,  -999.00,9,  -999.00, -999.000,9, -999.000
  06AQ19960317,  S04a,    99,  1,      1,     23,2,19960507,   0,-63.7352, -50.8435, 2505,    500.0,   0.5392,  34.6832,2,  34.6778,3,    200.9,2,   106.77,2,    33.13,2,     0.02,2,     2.33,2,    0.556,2,    0.259,2,    0.025,2,    0.832,2,   2262.9,2, -999.000,9, -999.000,-999.0000,9,-999.0000,  -999.00,9,  -999.00, -999.000,9, -999.000
  06AQ19960317,  S04a,    99,  1,     24,     24,2,19960507,   0,-63.7352, -50.8435, 2505,    602.4,   0.5584,  34.6885,2,  34.6841,2,    200.2,2,   111.51,2,    33.99,2,     0.02,2,     2.33,2,    0.397,2,    0.185,2,    0.011,2,    0.658,2,   2265.1,2, -999.000,9, -999.000,-999.0000,9,-999.0000,  -999.00,9,  -999.00, -999.000,9, -999.000