BOTTLE,20150129PRINUNIVRMK
EXPOCODE,SECT_ID,STNNBR,CASTNO,SAMPNO,BTLNBR,BTLNBR_FLAG_W,DATE,TIME,LATITUDE,LONGITUDE,DEPTH,CTDPRS,CTDTMP,CTDSAL,CTDSAL_FLAG_W,SALNTY,SALNTY_FLAG_W,OXYGEN,OXYGEN_FLAG_W,SILCAT,SILCAT_FLAG_W,NITRAT,NITRAT_FLAG_W,NITRIT,NITRIT_FLAG_W,PHSPHT,PHSPHT_FLAG_W,CFC-11,CFC-11_FLAG_W,CFC-12,CFC-12_FLAG_W,CFC113,CFC113_FLAG_W,CCL4,CCL4_FLAG_W,TCARBN,TCARBN_FLAG_W,TRITUM,TRITUM_FLAG_W,TRITER,HELIUM,HELIUM_FLAG_W,HELIER,DELHE3,DELHE3_FLAG_W,DELHER,NEON,NEON_FLAG_W,NEONER
,,,,,,,,,,,METERS,DBAR,ITS-90,PSS-78,,PSS-78,,UMOL/KG,,UMOL/KG,,UMOL/KG,,UMOL/KG,,UMOL/KG,,PMOL/KG,,PMOL/KG,,PMOL/KG,,PMOL/KG,,UMOL/KG,,TU,,TU,NMOL/KG,,NMOL/KG,PERCNT,,PERCNT,NMOL/KG,,NMOL/KG
  06AQ19960317,  S04a,    79,  1,     23,      1,2,19960428,   0,-68.4180, -18.9302, 4796,     20.7,  -1.8604,  34.2302,2,  34.2303,2,    335.7,2,    57.74,2,    25.66,2,     0.17,2,     1.82,2, -999.000,9, -999.000,9, -999.000,9, -999.000,9,   2189.6,2, -999.000,9, -999.000,-999.0000,9,-999.0000,  -999.00,9,  -999.00, -999.000,9, -999.000
  06AQ19960317,  S04a,    79,  1,     22,      2,2,19960428,   0,-68.4180, -18.9302, 4796,     20.7,  -1.8609,  34.2300,2,-999.0000,9,   -999.0,9,    57.42,2,    25.57,2,     0.17,2,     1.81,2, -999.000,9, -999.000,9, -999.000,9, -999.000,9,   -999.0,9, -999.000,9, -999.000,-999.0000,9,-999.0000,  -999.00,9,  -999.00, -999.000,9, -999.000
  06AQ19960317,  S04a,    79,  1,     21,      3,2,19960428,   0,-68.4180, -18.9302, 4796,     40.6,  -1.8603,  34.2306,2,  34.2312,2,    335.1,2,    57.51,2,    25.69,2,     0.17,2,     1.82,2, -999.000,9, -999.000,9, -999.000,9, -999.000,9,   2191.3,2, -999.000,9, -999.000,-999.0000,9,-999.0000,  -999.00,9,  -999.00, -999.000,9, -999.000
  06AQ19960317,  S04a,    79,  1,     20,      4,2,19960428,   0,-68.4180, -18.9302, 4796,     40.6,  -1.8599,  34.2305,2,-999.0000,9,   -999.0,9,    57.37,2,    25.58,2,     0.17,2,     1.82,2, -999.000,9, -999.000,9, -999.000,9, -999.000,9,   -999.0,9, -999.000,9, -999.000,-999.0000,9,-999.0000,  -999.00,9,  -999.00, -999.000,9, -999.000
  06AQ19960317,  S04a,    79,  1,     19,      5,2,19960428,   0,-68.4180, -18.9302, 4796,     40.6,  -1.8599,  34.2307,2,-999.0000,9,   -999.0,9,    57.41,2,    25.61,2,     0.17,2,     1.82,2, -999.000,9, -999.000,9, -999.000,9, -999.000,9,   -999.0,9, -999.000,9, -999.000,-999.0000,9,-999.0000,  -999.00,9,  -999.00, -999.000,9, -999.000
  06AQ19960317,  S04a,    79,  1,     18,      6,2,19960428,   0,-68.4180, -18.9302, 4796,     40.7,  -1.8604,  34.2313,2,-999.0000,9,   -999.0,9,    57.36,2,    25.70,2,     0.17,2,     1.81,2, -999.000,9, -999.000,9, -999.000,9, -999.000,9,   -999.0,9, -999.000,9, -999.000,-999.0000,9,-999.0000,  -999.00,9,  -999.00, -999.000,9, -999.000
  06AQ19960317,  S04a,    79,  1,     17,      7,2,19960428,   0,-68.4180, -18.9302, 4796,     60.6,  -1.8591,  34.2364,2,-999.0000,9,   -999.0,9,    59.14,2,    26.24,2,     0.18,2,     1.88,2, -999.000,9, -999.000,9, -999.000,9, -999.000,9,   -999.0,9, -999.000,9, -999.000,-999.0000,9,-999.0000,  -999.00,9,  -999.00, -999.000,9, -999.000
  06AQ19960317,  S04a,    79,  1,     16,      8,2,19960428,   0,-68.4180, -18.9302, 4796,     60.7,  -1.7992,  34.2599,2,  34.2648,2,    326.2,2,    59.32,2,    26.40,2,     0.17,2,     1.90,2, -999.000,9, -999.000,9, -999.000,9, -999.000,9,   2197.1,2, -999.000,9, -999.000,-999.0000,9,-999.0000,  -999.00,9,  -999.00, -999.000,9, -999.000
  06AQ19960317,  S04a,    79,  1,     15,      9,2,19960428,   0,-68.4180, -18.9302, 4796,     80.7,  -1.5486,  34.4595,2,-999.0000,9,   -999.0,9,    70.57,2,    30.81,2,     0.11,2,     2.15,2, -999.000,9, -999.000,9, -999.000,9, -999.000,9,   -999.0,9, -999.000,9, -999.000,-999.0000,9,-999.0000,  -999.00,9,  -999.00, -999.000,9, -999.000
  06AQ19960317,  S04a,    79,  1,     14,     10,2,19960428,   0,-68.4180, -18.9302, 4796,     80.7,  -1.3942,  34.4598,2,  34.4776,2,    266.3,2,    73.25,2,    31.15,2,     0.08,2,     2.19,2, -999.000,9, -999.000,9, -999.000,9, -999.000,9,   2235.8,2, -999.000,9, -999.000,-999.0000,9,-999.0000,  -999.00,9,  -999.00, -999.000,9, -999.000
  06AQ19960317,  S04a,    79,  1,     13,     11,2,19960428,   0,-68.4180, -18.9302, 4796,    101.0,  -0.4870,  34.5308,2,  34.5523,2,    237.1,2,    82.77,2,    32.64,2,     0.04,2,     2.25,2, -999.000,9, -999.000,9, -999.000,9, -999.000,9,   2245.8,2, -999.000,9, -999.000,-999.0000,9,-999.0000,  -999.00,9,  -999.00, -999.000,9, -999.000
  06AQ19960317,  S04a,    79,  1,     12,     12,2,19960428,   0,-68.4180, -18.9302, 4796,    120.9,   0.2465,  34.6252,2,  34.6182,2,    212.3,2,    91.28,2,    33.60,2,     0.04,2,     2.30,2, -999.000,9, -999.000,9, -999.000,9, -999.000,9,   2256.6,2, -999.000,9, -999.000,-999.0000,9,-999.0000,  -999.00,9,  -999.00, -999.000,9, -999.000
  06AQ19960317,  S04a,    79,  1,     11,     13,2,19960428,   0,-68.4180, -18.9302, 4796,    151.1,   0.6350,  34.6641,2,  34.6649,2,    192.5,2,    97.63,2,    33.95,2,     0.03,2,     2.33,2, -999.000,9, -999.000,9, -999.000,9, -999.000,9,   2262.2,2, -999.000,9, -999.000,-999.0000,9,-999.0000,  -999.00,9,  -999.00, -999.000,9, -999.000
  06AQ19960317,  S04a,    79,  1,     10,     14,2,19960428,   0,-68.4180, -18.9302, 4796,    200.5,   0.8552,  34.6899,2,  34.6882,2,    188.0,2,   102.39,2,    33.93,2,     0.02,2,     2.34,2, -999.000,9, -999.000,9, -999.000,9, -999.000,9,   2264.9,2, -999.000,9, -999.000,-999.0000,9,-999.0000,  -999.00,9,  -999.00, -999.000,9, -999.000
  06AQ19960317,  S04a,    79,  1,      9,     15,2,19960428,   0,-68.4180, -18.9302, 4796,    241.3,   0.9053,  34.6964,2,  34.6973,2,    188.9,2,   105.22,2,    33.95,2,     0.03,2,     2.32,2, -999.000,9, -999.000,9, -999.000,9, -999.000,9,   2263.4,2, -999.000,9, -999.000,-999.0000,9,-999.0000,  -999.00,9,  -999.00, -999.000,9, -999.000
  06AQ19960317,  S04a,    79,  1,      8,     16,2,19960428,   0,-68.4180, -18.9302, 4796,    241.3,   0.9056,  34.6951,2,-999.0000,9,   -999.0,9,   104.84,2,    33.78,2,     0.02,2,     2.32,2, -999.000,9, -999.000,9, -999.000,9, -999.000,9,   -999.0,9, -999.000,9, -999.000,-999.0000,9,-999.0000,  -999.00,9,  -999.00, -999.000,9, -999.000
  06AQ19960317,  S04a,    79,  1,      7,     17,2,19960428,   0,-68.4180, -18.9302, 4796,    241.3,   0.8978,  34.6973,2,-999.0000,9,   -999.0,9,   104.84,2,    33.62,2,     0.02,2,     2.31,2, -999.000,9, -999.000,9, -999.000,9, -999.000,9,   -999.0,9, -999.000,9, -999.000,-999.0000,9,-999.0000,  -999.00,9,  -999.00, -999.000,9, -999.000
  06AQ19960317,  S04a,    79,  1,      6,     18,2,19960428,   0,-68.4180, -18.9302, 4796,    300.8,   0.8283,  34.7008,2,  34.6974,2,    195.6,2,   107.77,2,    33.82,2,     0.02,2,     2.31,2, -999.000,9, -999.000,9, -999.000,9, -999.000,9,   2262.2,2, -999.000,9, -999.000,-999.0000,9,-999.0000,  -999.00,9,  -999.00, -999.000,9, -999.000
  06AQ19960317,  S04a,    79,  1,      5,     19,2,19960428,   0,-68.4180, -18.9302, 4796,    350.8,   0.7484,  34.6974,2,  34.6963,2,    192.3,2,   109.87,2,    33.80,2,     0.02,2,     2.32,2, -999.000,9, -999.000,9, -999.000,9, -999.000,9,   2264.0,2, -999.000,9, -999.000,-999.0000,9,-999.0000,  -999.00,9,  -999.00, -999.000,9, -999.000
  06AQ19960317,  S04a,    79,  1,      4,     20,2,19960428,   0,-68.4180, -18.9302, 4796,    401.2,   0.7014,  34.6950,2,  34.6942,2,    194.3,2,   111.01,2,    33.65,2,     0.02,2,     2.31,2, -999.000,9, -999.000,9, -999.000,9, -999.000,9,   2264.1,2, -999.000,9, -999.000,-999.0000,9,-999.0000,  -999.00,9,  -999.00, -999.000,9, -999.000
  06AQ19960317,  S04a,    79,  1,      3,     21,2,19960428,   0,-68.4180, -18.9302, 4796,    451.5,   0.6423,  34.6951,2,  34.6913,2,    194.6,2,   113.16,2,    33.95,2,     0.02,2,     2.32,2, -999.000,9, -999.000,9, -999.000,9, -999.000,9,   2265.5,2, -999.000,9, -999.000,-999.0000,9,-999.0000,  -999.00,9,  -999.00, -999.000,9, -999.000
  06AQ19960317,  S04a,    79,  1,      2,     22,2,19960428,   0,-68.4180, -18.9302, 4796,    512.5,   0.5841,  34.6925,2,  34.6924,2,    195.5,2,   114.95,2,    34.04,2,     0.02,2,     2.33,2, -999.000,9, -999.000,9, -999.000,9, -999.000,9,   2264.3,2, -999.000,9, -999.000,-999.0000,9,-999.0000,  -999.00,9,  -999.00, -999.000,9, -999.000
  06AQ19960317,  S04a,    79,  1,      1,     23,2,19960428,   0,-68.4180, -18.9302, 4796,    512.5,   0.5853,  34.6915,2,-999.0000,9,   -999.0,9,   114.84,2,    33.93,2,     0.02,2,     2.33,2, -999.000,9, -999.000,9, -999.000,9, -999.000,9,   -999.0,9, -999.000,9, -999.000,-999.0000,9,-999.0000,  -999.00,9,  -999.00, -999.000,9, -999.000
  06AQ19960317,  S04a,    79,  1,     24,     24,2,19960428,   0,-68.4180, -18.9302, 4796,    512.5,   0.5845,  34.6929,2,-999.0000,9,   -999.0,9,   115.12,2,    34.10,2,     0.02,2,     2.33,2, -999.000,9, -999.000,9, -999.000,9, -999.000,9,   -999.0,9, -999.000,9, -999.000,-999.0000,9,-999.0000,  -999.00,9,  -999.00, -999.000,9, -999.000
  06AQ19960317,  S04a,    79,  3,     23,      1,2,19960428,   0,-68.4180, -18.9302, 4796,    499.7,   0.5997,  34.6919,2,  34.6927,2,    195.1,2,   114.20,2,    33.76,2,     0.01,2,     2.31,2, -999.000,9, -999.000,9, -999.000,9, -999.000,9,   2261.0,2, -999.000,9, -999.000,-999.0000,9,-999.0000,  -999.00,9,  -999.00, -999.000,9, -999.000
  06AQ19960317,  S04a,    79,  3,     22,      2,2,19960428,   0,-68.4180, -18.9302, 4796,    750.9,   0.4193,  34.6856,2,  34.6863,2,    198.0,2,   119.25,2,    34.22,2,     0.01,2,     2.33,2, -999.000,9, -999.000,9, -999.000,9, -999.000,9,   2262.4,2, -999.000,9, -999.000,-999.0000,9,-999.0000,  -999.00,9,  -999.00, -999.000,9, -999.000
  06AQ19960317,  S04a,    79,  3,     21,      3,2,19960428,   0,-68.4180, -18.9302, 4796,   1001.8,   0.2860,  34.6799,2,-999.0000,9,   -999.0,9,   122.14,2,    34.22,2,     0.02,2,     2.34,2, -999.000,9, -999.000,9, -999.000,9, -999.000,9,   -999.0,9, -999.000,9, -999.000,-999.0000,9,-999.0000,  -999.00,9,  -999.00, -999.000,9, -999.000
  06AQ19960317,  S04a,    79,  3,     20,      4,2,19960428,   0,-68.4180, -18.9302, 4796,   1001.8,   0.2841,  34.6798,2,  34.6805,2,    201.2,2,   122.59,2,    34.06,2,     0.01,2,     2.34,2, -999.000,9, -999.000,9, -999.000,9, -999.000,9,   2261.9,2, -999.000,9, -999.000,-999.0000,9,-999.0000,  -999.00,9,  -999.00, -999.000,9, -999.000
  06AQ19960317,  S04a,    79,  3,     19,      5,2,19960428,   0,-68.4180, -18.9302, 4796,   1249.7,   0.1702,  34.6757,2,  34.6762,2,    205.7,2,   124.01,2,    34.33,2,     0.00,2,     2.34,2, -999.000,9, -999.000,9, -999.000,9, -999.000,9,   2261.2,2, -999.000,9, -999.000,-999.0000,9,-999.0000,  -999.00,9,  -999.00, -999.000,9, -999.000
  06AQ19960317,  S04a,    79,  3,     18,      6,2,19960428,   0,-68.4180, -18.9302, 4796,   1501.2,   0.0774,  34.6711,2,  34.6718,2,    210.5,2,   124.14,2,    34.02,2,     0.02,2,     2.33,2, -999.000,9, -999.000,9, -999.000,9, -999.000,9,   2258.1,2, -999.000,9, -999.000,-999.0000,9,-999.0000,  -999.00,9,  -999.00, -999.000,9, -999.000
  06AQ19960317,  S04a,    79,  3,     17,      7,2,19960428,   0,-68.4180, -18.9302, 4796,   1501.2,   0.0770,  34.6713,2,-999.0000,9,   -999.0,9,   124.69,2,    33.89,2,     0.00,2,     2.33,2, -999.000,9, -999.000,9, -999.000,9, -999.000,9,   -999.0,9, -999.000,9, -999.000,-999.0000,9,-999.0000,  -999.00,9,  -999.00, -999.000,9, -999.000
  06AQ19960317,  S04a,    79,  3,     16,      8,2,19960428,   0,-68.4180, -18.9302, 4796,   1501.2,   0.0758,  34.6713,2,-999.0000,9,   -999.0,9,   124.18,2,    34.06,2,     0.00,2,     2.33,2, -999.000,9, -999.000,9, -999.000,9, -999.000,9,   -999.0,9, -999.000,9, -999.000,-999.0000,9,-999.0000,  -999.00,9,  -999.00, -999.000,9, -999.000
  06AQ19960317,  S04a,    79,  3,     15,      9,2,19960428,   0,-68.4180, -18.9302, 4796,   1750.0,  -0.0109,  34.6675,2,  34.6686,2,   -999.0,9,   124.31,2,    33.94,2,     0.02,2,     2.36,2, -999.000,9, -999.000,9, -999.000,9, -999.000,9,   2256.5,2, -999.000,9, -999.000,-999.0000,9,-999.0000,  -999.00,9,  -999.00, -999.000,9, -999.000
  06AQ19960317,  S04a,    79,  3,     14,     10,2,19960428,   0,-68.4180, -18.9302, 4796,   2001.6,  -0.0808,  34.6640,2,  34.6663,2,   -999.0,9,   124.49,2,    33.60,2,     0.00,2,     2.32,2, -999.000,9, -999.000,9, -999.000,9, -999.000,9,   2255.3,2, -999.000,9, -999.000,-999.0000,9,-999.0000,  -999.00,9,  -999.00, -999.000,9, -999.000
  06AQ19960317,  S04a,    79,  3,     13,     11,2,19960428,   0,-68.4180, -18.9302, 4796,   2501.2,  -0.1850,  34.6607,2,  34.6617,2,    226.9,2,   123.70,2,    33.49,2,     0.00,2,     2.31,2, -999.000,9, -999.000,9, -999.000,9, -999.000,9,   2252.8,2, -999.000,9, -999.000,-999.0000,9,-999.0000,  -999.00,9,  -999.00, -999.000,9, -999.000
  06AQ19960317,  S04a,    79,  3,     12,     12,2,19960428,   0,-68.4180, -18.9302, 4796,   3001.2,  -0.2510,  34.6574,2,  34.6595,2,    231.8,2,   123.05,2,    33.36,2,     0.01,2,     2.29,2, -999.000,9, -999.000,9, -999.000,9, -999.000,9,   2249.6,2, -999.000,9, -999.000,-999.0000,9,-999.0000,  -999.00,9,  -999.00, -999.000,9, -999.000
  06AQ19960317,  S04a,    79,  3,     11,     13,2,19960428,   0,-68.4180, -18.9302, 4796,   3001.2,  -0.2528,  34.6576,2,-999.0000,9,   -999.0,9,   123.28,2,    33.26,2,     0.00,2,     2.29,2, -999.000,9, -999.000,9, -999.000,9, -999.000,9,   -999.0,9, -999.000,9, -999.000,-999.0000,9,-999.0000,  -999.00,9,  -999.00, -999.000,9, -999.000
  06AQ19960317,  S04a,    79,  3,     10,     14,2,19960428,   0,-68.4180, -18.9302, 4796,   3001.2,  -0.2541,  34.6576,2,-999.0000,9,   -999.0,9,   123.00,2,    33.32,2,     0.01,2,     2.29,2, -999.000,9, -999.000,9, -999.000,9, -999.000,9,   -999.0,9, -999.000,9, -999.000,-999.0000,9,-999.0000,  -999.00,9,  -999.00, -999.000,9, -999.000
  06AQ19960317,  S04a,    79,  3,      9,     15,2,19960428,   0,-68.4180, -18.9302, 4796,   3500.2,  -0.3000,  34.6559,2,  34.6566,2,    235.7,2,   123.27,2,    33.31,2,     0.01,2,     2.30,2, -999.000,9, -999.000,9, -999.000,9, -999.000,9,   2248.0,2, -999.000,9, -999.000,-999.0000,9,-999.0000,  -999.00,9,  -999.00, -999.000,9, -999.000
  06AQ19960317,  S04a,    79,  3,      8,     16,2,19960428,   0,-68.4180, -18.9302, 4796,   3999.8,  -0.3284,  34.6540,2,  34.6535,2,    238.5,2,   124.69,2,    33.08,2,     0.00,2,     2.27,2, -999.000,9, -999.000,9, -999.000,9, -999.000,9,   2247.4,2, -999.000,9, -999.000,-999.0000,9,-999.0000,  -999.00,9,  -999.00, -999.000,9, -999.000
  06AQ19960317,  S04a,    79,  3,      7,     17,2,19960428,   0,-68.4180, -18.9302, 4796,   4300.4,  -0.3390,  34.6527,2,-999.0000,9,    239.4,2,   125.79,2,    33.24,2,     0.01,2,     2.28,2, -999.000,9, -999.000,9, -999.000,9, -999.000,9,   2247.4,2, -999.000,9, -999.000,-999.0000,9,-999.0000,  -999.00,9,  -999.00, -999.000,9, -999.000
  06AQ19960317,  S04a,    79,  3,      5,     19,2,19960428,   0,-68.4180, -18.9302, 4796,   4769.8,  -0.4527,  34.6491,2,-999.0000,9,   -999.0,9,  -999.00,9,  -999.00,9,  -999.00,9,  -999.00,9, -999.000,9, -999.000,9, -999.000,9, -999.000,9,   -999.0,9, -999.000,9, -999.000,-999.0000,9,-999.0000,  -999.00,9,  -999.00, -999.000,9, -999.000
  06AQ19960317,  S04a,    79,  3,      4,     20,2,19960428,   0,-68.4180, -18.9302, 4796,   4769.8,  -0.4559,  34.6485,2,-999.0000,9,   -999.0,9,   125.69,2,    33.32,2,     0.01,2,     2.28,2, -999.000,9, -999.000,9, -999.000,9, -999.000,9,   -999.0,9, -999.000,9, -999.000,-999.0000,9,-999.0000,  -999.00,9,  -999.00, -999.000,9, -999.000
  06AQ19960317,  S04a,    79,  3,      6,     18,2,19960428,   0,-68.4180, -18.9302, 4796,   4769.9,  -0.4522,  34.6483,2,-999.0000,9,   -999.0,9,   124.70,2,    33.09,2,     0.01,2,     2.28,2, -999.000,9, -999.000,9, -999.000,9, -999.000,9,   -999.0,9, -999.000,9, -999.000,-999.0000,9,-999.0000,  -999.00,9,  -999.00, -999.000,9, -999.000
  06AQ19960317,  S04a,    79,  3,      3,     21,2,19960428,   0,-68.4180, -18.9302, 4796,   4819.0,  -0.4574,  34.6483,2,  34.6472,2,    243.1,2,   129.74,2,    33.46,2,     0.02,2,     2.31,2, -999.000,9, -999.000,9, -999.000,9, -999.000,9,   2247.2,2, -999.000,9, -999.000,-999.0000,9,-999.0000,  -999.00,9,  -999.00, -999.000,9, -999.000
  06AQ19960317,  S04a,    79,  3,     24,     24,2,19960428,   0,-68.4180, -18.9302, 4796,   4870.8,  -0.4531,  34.6479,2,-999.0000,9,   -999.0,9,   129.58,2,    33.28,2,     0.01,2,     2.28,2, -999.000,9, -999.000,9, -999.000,9, -999.000,9,   -999.0,9, -999.000,9, -999.000,-999.0000,9,-999.0000,  -999.00,9,  -999.00, -999.000,9, -999.000
  06AQ19960317,  S04a,    79,  3,      2,     22,2,19960428,   0,-68.4180, -18.9302, 4796,   4870.9,  -0.4531,  34.6478,2,  34.6479,2,    243.4,2,   130.24,2,    33.18,2,     0.00,2,     2.29,2, -999.000,9, -999.000,9, -999.000,9, -999.000,9,   2249.7,2, -999.000,9, -999.000,-999.0000,9,-999.0000,  -999.00,9,  -999.00, -999.000,9, -999.000
  06AQ19960317,  S04a,    79,  3,      1,     23,2,19960428,   0,-68.4180, -18.9302, 4796,   4870.9,  -0.4537,  34.6485,2,-999.0000,9,   -999.0,9,   130.04,2,    33.43,2,     0.00,2,     2.29,2, -999.000,9, -999.000,9, -999.000,9, -999.000,9,   -999.0,9, -999.000,9, -999.000,-999.0000,9,-999.0000,  -999.00,9,  -999.00, -999.000,9, -999.000