BOTTLE,20150129PRINUNIVRMK
EXPOCODE,SECT_ID,STNNBR,CASTNO,SAMPNO,BTLNBR,BTLNBR_FLAG_W,DATE,TIME,LATITUDE,LONGITUDE,DEPTH,CTDPRS,CTDTMP,CTDSAL,CTDSAL_FLAG_W,SALNTY,SALNTY_FLAG_W,OXYGEN,OXYGEN_FLAG_W,SILCAT,SILCAT_FLAG_W,NITRAT,NITRAT_FLAG_W,NITRIT,NITRIT_FLAG_W,PHSPHT,PHSPHT_FLAG_W,CFC-11,CFC-11_FLAG_W,CFC-12,CFC-12_FLAG_W,CFC113,CFC113_FLAG_W,CCL4,CCL4_FLAG_W,TCARBN,TCARBN_FLAG_W,TRITUM,TRITUM_FLAG_W,TRITER,HELIUM,HELIUM_FLAG_W,HELIER,DELHE3,DELHE3_FLAG_W,DELHER,NEON,NEON_FLAG_W,NEONER
,,,,,,,,,,,METERS,DBAR,ITS-90,PSS-78,,PSS-78,,UMOL/KG,,UMOL/KG,,UMOL/KG,,UMOL/KG,,UMOL/KG,,PMOL/KG,,PMOL/KG,,PMOL/KG,,PMOL/KG,,UMOL/KG,,TU,,TU,NMOL/KG,,NMOL/KG,PERCNT,,PERCNT,NMOL/KG,,NMOL/KG
  06AQ19960317,  S04a,    53,  1,     24,      1,2,19960418,   0,-64.4995,   0.0043, 4636,     19.9,  -0.3900,  34.0091,2,  34.0119,2,   -999.0,9,    53.21,2,    24.16,2,  -999.00,9,     1.76,2, -999.000,9, -999.000,9, -999.000,9, -999.000,9,   2166.7,2, -999.000,9, -999.000,-999.0000,9,-999.0000,  -999.00,9,  -999.00, -999.000,9, -999.000
  06AQ19960317,  S04a,    53,  1,     23,      2,2,19960418,   0,-64.4995,   0.0043, 4636,     40.5,  -0.3917,  34.0118,2,  34.0125,2,    327.7,2,    53.07,2,    24.13,2,  -999.00,9,     1.76,2, -999.000,9, -999.000,9, -999.000,9, -999.000,9,   2165.9,2, -999.000,9, -999.000,-999.0000,9,-999.0000,  -999.00,9,  -999.00, -999.000,9, -999.000
  06AQ19960317,  S04a,    53,  1,     22,      3,2,19960418,   0,-64.4995,   0.0043, 4636,     61.4,  -0.7507,  34.2890,2,  34.2817,2,    285.1,2,    63.92,2,    28.60,2,  -999.00,9,     2.08,2, -999.000,9, -999.000,9, -999.000,9, -999.000,9,   2207.7,2, -999.000,9, -999.000,-999.0000,9,-999.0000,  -999.00,9,  -999.00, -999.000,9, -999.000
  06AQ19960317,  S04a,    53,  1,     20,      5,2,19960418,   0,-64.4995,   0.0043, 4636,    102.0,   0.5747,  34.5903,2,  34.5901,2,   -999.0,9,    85.49,2,    33.93,2,  -999.00,9,     2.32,2, -999.000,9, -999.000,9, -999.000,9, -999.000,9,   -999.0,9, -999.000,9, -999.000,-999.0000,9,-999.0000,  -999.00,9,  -999.00, -999.000,9, -999.000
  06AQ19960317,  S04a,    53,  1,     21,      4,2,19960418,   0,-64.4995,   0.0043, 4636,    104.3,   0.5976,  34.5931,2,  34.5904,2,    199.8,2,    85.63,2,    34.07,2,  -999.00,9,     2.33,2, -999.000,9, -999.000,9, -999.000,9, -999.000,9,   2252.1,2, -999.000,9, -999.000,-999.0000,9,-999.0000,  -999.00,9,  -999.00, -999.000,9, -999.000
  06AQ19960317,  S04a,    53,  1,     19,      6,2,19960418,   0,-64.4995,   0.0043, 4636,    149.9,   1.0756,  34.6553,2,  34.6578,2,    187.0,2,    91.84,2,    33.80,2,  -999.00,9,     2.32,2, -999.000,9, -999.000,9, -999.000,9, -999.000,9,   2255.1,2, -999.000,9, -999.000,-999.0000,9,-999.0000,  -999.00,9,  -999.00, -999.000,9, -999.000
  06AQ19960317,  S04a,    53,  1,     18,      7,2,19960418,   0,-64.4995,   0.0043, 4636,    203.3,   1.2390,  34.6829,2,  34.6839,2,    185.8,2,    93.82,2,    33.57,2,  -999.00,9,     2.29,2, -999.000,9, -999.000,9, -999.000,9, -999.000,9,   2254.4,2, -999.000,9, -999.000,-999.0000,9,-999.0000,  -999.00,9,  -999.00, -999.000,9, -999.000
  06AQ19960317,  S04a,    53,  1,     17,      8,2,19960418,   0,-64.4995,   0.0043, 4636,    249.4,   1.2478,  34.6976,2,  34.6975,2,    187.4,2,    95.96,2,    33.15,2,  -999.00,9,     2.26,2, -999.000,9, -999.000,9, -999.000,9, -999.000,9,   2254.0,2, -999.000,9, -999.000,-999.0000,9,-999.0000,  -999.00,9,  -999.00, -999.000,9, -999.000
  06AQ19960317,  S04a,    53,  1,     16,      9,2,19960418,   0,-64.4995,   0.0043, 4636,    300.7,   1.0600,  34.6903,2,  34.6918,2,    189.9,2,    97.27,2,    33.16,2,  -999.00,9,     2.27,2, -999.000,9, -999.000,9, -999.000,9, -999.000,9,   2254.2,2, -999.000,9, -999.000,-999.0000,9,-999.0000,  -999.00,9,  -999.00, -999.000,9, -999.000
  06AQ19960317,  S04a,    53,  1,     15,     10,2,19960418,   0,-64.4995,   0.0043, 4636,    380.8,   1.0130,  34.6975,2,  34.6987,2,    192.7,2,    99.97,2,    32.98,2,  -999.00,9,     2.26,2, -999.000,9, -999.000,9, -999.000,9, -999.000,9,   2254.8,2, -999.000,9, -999.000,-999.0000,9,-999.0000,  -999.00,9,  -999.00, -999.000,9, -999.000
  06AQ19960317,  S04a,    53,  1,     14,     11,2,19960418,   0,-64.4995,   0.0043, 4636,    400.0,   0.9786,  34.6948,2,  34.6967,2,    191.6,2,   100.13,2,    32.92,2,  -999.00,9,     2.27,2, -999.000,9, -999.000,9, -999.000,9, -999.000,9,   2255.4,2, -999.000,9, -999.000,-999.0000,9,-999.0000,  -999.00,9,  -999.00, -999.000,9, -999.000
  06AQ19960317,  S04a,    53,  1,     13,     12,2,19960418,   0,-64.4995,   0.0043, 4636,    502.9,   1.0253,  34.7094,2,  34.7111,2,   -999.0,9,   103.39,2,    32.65,2,  -999.00,9,     2.23,2, -999.000,9, -999.000,9, -999.000,9, -999.000,9,   2256.2,2, -999.000,9, -999.000,-999.0000,9,-999.0000,  -999.00,9,  -999.00, -999.000,9, -999.000
  06AQ19960317,  S04a,    53,  1,     12,     13,2,19960418,   0,-64.4995,   0.0043, 4636,    751.0,   0.7240,  34.6986,2,  34.7007,2,    198.5,2,   112.13,2,    33.12,2,  -999.00,9,     2.26,2, -999.000,9, -999.000,9, -999.000,9, -999.000,9,   2259.5,2, -999.000,9, -999.000,-999.0000,9,-999.0000,  -999.00,9,  -999.00, -999.000,9, -999.000
  06AQ19960317,  S04a,    53,  1,     11,     14,2,19960418,   0,-64.4995,   0.0043, 4636,   1000.2,   0.5161,  34.6898,2,  34.6911,2,    199.8,2,   117.48,2,    33.60,2,  -999.00,9,     2.30,2, -999.000,9, -999.000,9, -999.000,9, -999.000,9,   2263.8,2, -999.000,9, -999.000,-999.0000,9,-999.0000,  -999.00,9,  -999.00, -999.000,9, -999.000
  06AQ19960317,  S04a,    53,  1,     10,     15,2,19960418,   0,-64.4995,   0.0043, 4636,   1500.7,   0.2305,  34.6778,2,  34.6779,2,    206.6,2,   123.53,2,    33.83,2,  -999.00,9,     2.31,2, -999.000,9, -999.000,9, -999.000,9, -999.000,9,   2262.9,2, -999.000,9, -999.000,-999.0000,9,-999.0000,  -999.00,9,  -999.00, -999.000,9, -999.000
  06AQ19960317,  S04a,    53,  1,      9,     16,2,19960418,   0,-64.4995,   0.0043, 4636,   2002.7,   0.0195,  34.6694,2,  34.6695,2,    216.8,2,   124.84,2,    33.50,2,  -999.00,9,     2.30,2, -999.000,9, -999.000,9, -999.000,9, -999.000,9,   2260.1,2, -999.000,9, -999.000,-999.0000,9,-999.0000,  -999.00,9,  -999.00, -999.000,9, -999.000
  06AQ19960317,  S04a,    53,  1,      8,     17,2,19960418,   0,-64.4995,   0.0043, 4636,   2500.8,  -0.1225,  34.6619,2,  34.6633,2,   -999.0,9,   125.29,2,    33.39,2,  -999.00,9,     2.29,2, -999.000,9, -999.000,9, -999.000,9, -999.000,9,   2258.1,2, -999.000,9, -999.000,-999.0000,9,-999.0000,  -999.00,9,  -999.00, -999.000,9, -999.000
  06AQ19960317,  S04a,    53,  1,      7,     18,2,19960418,   0,-64.4995,   0.0043, 4636,   2998.1,  -0.2111,  34.6600,2,  34.6604,2,    231.2,2,   124.24,2,    33.23,2,  -999.00,9,     2.28,2, -999.000,9, -999.000,9, -999.000,9, -999.000,9,   2254.6,2, -999.000,9, -999.000,-999.0000,9,-999.0000,  -999.00,9,  -999.00, -999.000,9, -999.000
  06AQ19960317,  S04a,    53,  1,      6,     19,2,19960418,   0,-64.4995,   0.0043, 4636,   3000.6,  -0.2121,  34.6596,2,  34.6602,2,    230.8,2,   124.09,2,    33.09,2,  -999.00,9,     2.28,2, -999.000,9, -999.000,9, -999.000,9, -999.000,9,   2255.7,2, -999.000,9, -999.000,-999.0000,9,-999.0000,  -999.00,9,  -999.00, -999.000,9, -999.000
  06AQ19960317,  S04a,    53,  1,      5,     20,2,19960418,   0,-64.4995,   0.0043, 4636,   3500.0,  -0.2718,  34.6575,2,  34.6564,2,    236.0,2,   123.56,2,    33.11,2,  -999.00,9,     2.29,2, -999.000,9, -999.000,9, -999.000,9, -999.000,9,   2252.8,2, -999.000,9, -999.000,-999.0000,9,-999.0000,  -999.00,9,  -999.00, -999.000,9, -999.000
  06AQ19960317,  S04a,    53,  1,      4,     21,2,19960418,   0,-64.4995,   0.0043, 4636,   3997.3,  -0.3174,  34.6549,2,  34.6545,2,    238.8,2,   125.98,2,    33.13,2,  -999.00,9,     2.27,2, -999.000,9, -999.000,9, -999.000,9, -999.000,9,   2252.9,2, -999.000,9, -999.000,-999.0000,9,-999.0000,  -999.00,9,  -999.00, -999.000,9, -999.000
  06AQ19960317,  S04a,    53,  1,      3,     22,2,19960418,   0,-64.4995,   0.0043, 4636,   4300.2,  -0.3152,  34.6544,2,  34.6537,2,    239.6,2,   127.45,2,    33.00,2,  -999.00,9,     2.27,2, -999.000,9, -999.000,9, -999.000,9, -999.000,9,   2252.4,2, -999.000,9, -999.000,-999.0000,9,-999.0000,  -999.00,9,  -999.00, -999.000,9, -999.000
  06AQ19960317,  S04a,    53,  1,      2,     23,2,19960418,   0,-64.4995,   0.0043, 4636,   4609.6,  -0.3220,  34.6540,2,  34.6511,2,    240.7,2,   128.33,2,    33.05,2,  -999.00,9,     2.27,2, -999.000,9, -999.000,9, -999.000,9, -999.000,9,   2254.1,2, -999.000,9, -999.000,-999.0000,9,-999.0000,  -999.00,9,  -999.00, -999.000,9, -999.000
  06AQ19960317,  S04a,    53,  1,      1,     24,2,19960418,   0,-64.4995,   0.0043, 4636,   4707.4,  -0.3201,  34.6525,2,  34.6520,2,    241.3,2,   128.73,2,    33.14,2,  -999.00,9,     2.26,2, -999.000,9, -999.000,9, -999.000,9, -999.000,9,   2254.7,2, -999.000,9, -999.000,-999.0000,9,-999.0000,  -999.00,9,  -999.00, -999.000,9, -999.000
  06AQ19960317,  S04a,    54,  1,     24,      1,2,19960418,   0,-65.0030,   0.0145, 3681,     20.2,  -0.7088,  34.0021,2,-999.0000,9,   -999.0,9,    52.10,2,    24.53,2,  -999.00,9,     1.78,2, -999.000,9, -999.000,9, -999.000,9, -999.000,9,   -999.0,9, -999.000,9, -999.000,-999.0000,9,-999.0000,  -999.00,9,  -999.00, -999.000,9, -999.000
  06AQ19960317,  S04a,    54,  1,     23,      2,2,19960418,   0,-65.0030,   0.0145, 3681,     20.2,  -0.7085,  34.0027,2,-999.0000,9,   -999.0,9,    51.72,2,    24.15,2,  -999.00,9,     1.79,2, -999.000,9, -999.000,9, -999.000,9, -999.000,9,   -999.0,9, -999.000,9, -999.000,-999.0000,9,-999.0000,  -999.00,9,  -999.00, -999.000,9, -999.000
  06AQ19960317,  S04a,    54,  1,     22,      3,2,19960418,   0,-65.0030,   0.0145, 3681,     20.4,  -0.7100,  34.0033,2,  34.0091,2,    328.5,2,    52.06,2,    24.32,2,  -999.00,9,     1.79,2,    6.077,2,    3.064,2,    0.497,2,    8.218,2,   2171.5,2,    0.037,2, -999.000,   1.7840,2,   0.0050,    -1.10,2,     0.22,    7.970,2,    0.018
  06AQ19960317,  S04a,    54,  1,     20,      5,2,19960418,   0,-65.0030,   0.0145, 3681,     41.5,  -0.8066,  34.0679,2,  34.0935,2,   -999.0,9,    55.70,2,    25.42,2,  -999.00,9,     1.90,2,    5.749,2,    2.901,2,    0.477,2,    7.647,2,   -999.0,9, -999.000,9, -999.000,-999.0000,9,-999.0000,  -999.00,9,  -999.00, -999.000,9, -999.000
  06AQ19960317,  S04a,    54,  1,     21,      4,2,19960418,   0,-65.0030,   0.0145, 3681,     41.8,  -0.7900,  34.0641,2,  34.1025,2,    315.5,2,    56.36,2,    25.86,2,  -999.00,9,     1.91,2, -999.000,9, -999.000,9, -999.000,9, -999.000,9,   2184.1,2, -999.000,9, -999.000,-999.0000,9,-999.0000,  -999.00,9,  -999.00, -999.000,9, -999.000
  06AQ19960317,  S04a,    54,  1,     18,      7,2,19960418,   0,-65.0030,   0.0145, 3681,     60.6,  -1.0729,  34.4028,2,-999.0000,9,   -999.0,9,    70.58,2,    31.02,2,  -999.00,9,     2.21,2, -999.000,9, -999.000,9, -999.000,9, -999.000,9,   -999.0,9, -999.000,9, -999.000,-999.0000,9,-999.0000,  -999.00,9,  -999.00, -999.000,9, -999.000
  06AQ19960317,  S04a,    54,  1,     19,      6,2,19960418,   0,-65.0030,   0.0145, 3681,     60.9,  -1.0581,  34.4067,2,  34.4033,2,    265.6,2,    71.47,2,    30.96,2,  -999.00,9,     2.23,2, -999.000,9, -999.000,9, -999.000,9, -999.000,9,   2230.3,2,    0.144,2, -999.000,   1.8200,2,   0.0050,     3.07,2,     0.22,    8.048,2,    0.018
  06AQ19960317,  S04a,    54,  1,     17,      8,2,19960418,   0,-65.0030,   0.0145, 3681,     60.9,  -1.1404,  34.3926,2,-999.0000,9,   -999.0,9,    70.29,2,    30.79,2,  -999.00,9,     2.21,2, -999.000,9, -999.000,9, -999.000,9, -999.000,9,   -999.0,9, -999.000,9, -999.000,-999.0000,9,-999.0000,  -999.00,9,  -999.00, -999.000,9, -999.000
  06AQ19960317,  S04a,    54,  1,     16,      9,2,19960418,   0,-65.0030,   0.0145, 3681,     80.5,  -0.0309,  34.5299,2,  34.5250,2,   -999.0,9,    81.71,2,    32.81,2,  -999.00,9,     2.30,2, -999.000,9, -999.000,9, -999.000,9, -999.000,9,   -999.0,9, -999.000,9, -999.000,-999.0000,9,-999.0000,  -999.00,9,  -999.00, -999.000,9, -999.000
  06AQ19960317,  S04a,    54,  1,     15,     10,2,19960418,   0,-65.0030,   0.0145, 3681,     80.6,   0.0793,  34.5325,2,  34.5407,2,    217.2,2,    82.82,2,    33.17,2,  -999.00,9,     2.30,2, -999.000,9, -999.000,9, -999.000,9, -999.000,9,   2247.6,2, -999.000,9, -999.000,-999.0000,9,-999.0000,  -999.00,9,  -999.00, -999.000,9, -999.000
  06AQ19960317,  S04a,    54,  1,     14,     11,2,19960418,   0,-65.0030,   0.0145, 3681,    101.1,   0.6063,  34.5987,2,  34.5954,2,   -999.0,9,    85.88,2,    33.60,2,  -999.00,9,     2.33,2, -999.000,9, -999.000,9, -999.000,9, -999.000,9,   -999.0,9, -999.000,9, -999.000,-999.0000,9,-999.0000,  -999.00,9,  -999.00, -999.000,9, -999.000
  06AQ19960317,  S04a,    54,  1,     13,     12,2,19960418,   0,-65.0030,   0.0145, 3681,    101.2,   0.7270,  34.6083,2,  34.6118,2,    196.2,2,    87.06,2,    33.75,2,  -999.00,9,     2.32,2,    1.400,2,    0.674,2,    0.100,2,    1.778,2,   2256.6,2, -999.000,9, -999.000,   1.8510,2,   0.0050,     7.78,2,     0.22,    8.082,2,    0.018
  06AQ19960317,  S04a,    54,  1,     12,     13,2,19960418,   0,-65.0030,   0.0145, 3681,    151.3,   1.2140,  34.6769,2,  34.6766,2,    195.3,2,    92.11,2,    33.73,2,  -999.00,9,     2.30,2,    0.663,2,    0.306,2,    0.032,2,    0.944,2,   -999.0,9, -999.000,9, -999.000,-999.0000,9,-999.0000,  -999.00,9,  -999.00, -999.000,9, -999.000
  06AQ19960317,  S04a,    54,  1,     10,     15,2,19960418,   0,-65.0030,   0.0145, 3681,    170.7,   1.2425,  34.6847,2,  34.6846,2,    185.5,2,    92.22,2,    33.25,2,  -999.00,9,     2.29,2,    0.574,2,    0.262,2,    0.033,2,    0.832,2,   2261.2,2, -999.000,9, -999.000,   1.8520,2,   0.0050,     9.32,2,     0.22,    8.048,2,    0.018
  06AQ19960317,  S04a,    54,  1,      8,     17,2,19960418,   0,-65.0030,   0.0145, 3681,    170.7,   1.2457,  34.6858,2,-999.0000,9,   -999.0,9,    91.18,2,    33.35,2,  -999.00,9,     2.28,2, -999.000,9, -999.000,9, -999.000,9, -999.000,9,   -999.0,9, -999.000,9, -999.000,-999.0000,9,-999.0000,  -999.00,9,  -999.00, -999.000,9, -999.000
  06AQ19960317,  S04a,    54,  1,     11,     14,2,19960418,   0,-65.0030,   0.0145, 3681,    170.8,   1.2433,  34.6852,2,  34.6844,2,    186.2,2,    92.91,2,    33.27,2,  -999.00,9,     2.28,2, -999.000,9, -999.000,9, -999.000,9, -999.000,9,   -999.0,9, -999.000,9, -999.000,-999.0000,9,-999.0000,  -999.00,9,  -999.00, -999.000,9, -999.000
  06AQ19960317,  S04a,    54,  1,      9,     16,2,19960418,   0,-65.0030,   0.0145, 3681,    171.2,   1.2448,  34.6852,2,-999.0000,9,   -999.0,9,    92.61,2,    33.52,2,  -999.00,9,     2.29,2, -999.000,9, -999.000,9, -999.000,9, -999.000,9,   -999.0,9, -999.000,9, -999.000,-999.0000,9,-999.0000,  -999.00,9,  -999.00, -999.000,9, -999.000
  06AQ19960317,  S04a,    54,  1,      7,     18,2,19960418,   0,-65.0030,   0.0145, 3681,    200.5,   1.2550,  34.6950,2,  34.6946,2,    186.0,2,    92.26,2,    33.08,2,  -999.00,9,     2.26,2, -999.000,9, -999.000,9, -999.000,9, -999.000,9,   2260.9,2, -999.000,9, -999.000,-999.0000,9,-999.0000,  -999.00,9,  -999.00, -999.000,9, -999.000
  06AQ19960317,  S04a,    54,  1,      6,     19,2,19960418,   0,-65.0030,   0.0145, 3681,    251.8,   1.2399,  34.7014,2,  34.7001,2,    188.1,2,    95.64,2,    33.03,2,  -999.00,9,     2.24,2,    0.476,2,    0.222,2,    0.026,2,    0.677,2,   2259.4,2, -999.000,9, -999.000,-999.0000,9,-999.0000,  -999.00,9,  -999.00, -999.000,9, -999.000
  06AQ19960317,  S04a,    54,  1,      5,     20,2,19960418,   0,-65.0030,   0.0145, 3681,    295.4,   1.1988,  34.7053,2,  34.7031,2,    189.5,2,    97.39,2,    32.89,2,  -999.00,9,     2.26,2, -999.000,9, -999.000,9, -999.000,9, -999.000,9,   2257.7,2, -999.000,9, -999.000,-999.0000,9,-999.0000,  -999.00,9,  -999.00, -999.000,9, -999.000
  06AQ19960317,  S04a,    54,  1,      4,     21,2,19960418,   0,-65.0030,   0.0145, 3681,    322.0,   1.1691,  34.7061,2,  34.7030,2,    190.2,2,    97.74,2,    32.88,2,  -999.00,9,     2.25,2,    0.436,2,    0.208,2,    0.020,2,    0.632,2,   -999.0,9,    0.083,2, -999.000,   1.8610,2,   0.0050,     9.30,2,     0.22,    8.077,2,    0.018
  06AQ19960317,  S04a,    54,  1,      3,     22,2,19960418,   0,-65.0030,   0.0145, 3681,    351.4,   1.1080,  34.7056,2,  34.7051,2,    191.8,2,    98.13,2,    32.86,2,  -999.00,9,     2.25,2, -999.000,9, -999.000,9, -999.000,9, -999.000,9,   2258.6,2, -999.000,9, -999.000,-999.0000,9,-999.0000,  -999.00,9,  -999.00, -999.000,9, -999.000
  06AQ19960317,  S04a,    54,  1,      2,     23,2,19960418,   0,-65.0030,   0.0145, 3681,    400.7,   1.0794,  34.7082,2,  34.7069,2,    192.8,2,    99.34,2,    32.57,2,  -999.00,9,     2.24,2,    0.396,2,    0.187,2,    0.020,2,    0.593,2,   -999.0,9, -999.000,9, -999.000,-999.0000,9,-999.0000,  -999.00,9,  -999.00, -999.000,9, -999.000
  06AQ19960317,  S04a,    54,  1,      1,     24,2,19960418,   0,-65.0030,   0.0145, 3681,    500.0,   0.9628,  34.7067,2,  34.7067,2,    195.7,2,   102.01,2,    32.75,2,  -999.00,9,     2.25,2,    0.392,2,    0.191,2,    0.020,2,    0.615,2,   -999.0,9,    0.013,2, -999.000,   1.8490,2,   0.0050,     8.78,2,     0.22,    8.037,2,    0.018