BOTTLE,20150129PRINUNIVRMK
EXPOCODE,SECT_ID,STNNBR,CASTNO,SAMPNO,BTLNBR,BTLNBR_FLAG_W,DATE,TIME,LATITUDE,LONGITUDE,DEPTH,CTDPRS,CTDTMP,CTDSAL,CTDSAL_FLAG_W,SALNTY,SALNTY_FLAG_W,OXYGEN,OXYGEN_FLAG_W,SILCAT,SILCAT_FLAG_W,NITRAT,NITRAT_FLAG_W,NITRIT,NITRIT_FLAG_W,PHSPHT,PHSPHT_FLAG_W,CFC-11,CFC-11_FLAG_W,CFC-12,CFC-12_FLAG_W,CFC113,CFC113_FLAG_W,CCL4,CCL4_FLAG_W,TCARBN,TCARBN_FLAG_W,TRITUM,TRITUM_FLAG_W,TRITER,HELIUM,HELIUM_FLAG_W,HELIER,DELHE3,DELHE3_FLAG_W,DELHER,NEON,NEON_FLAG_W,NEONER
,,,,,,,,,,,METERS,DBAR,ITS-90,PSS-78,,PSS-78,,UMOL/KG,,UMOL/KG,,UMOL/KG,,UMOL/KG,,UMOL/KG,,PMOL/KG,,PMOL/KG,,PMOL/KG,,PMOL/KG,,UMOL/KG,,TU,,TU,NMOL/KG,,NMOL/KG,PERCNT,,PERCNT,NMOL/KG,,NMOL/KG
  06AQ19960317,  S04a,    93,  1,     23,      1,2,19960504,   0,-64.8067, -42.4750, 4690,     19.7,  -1.8728,  34.0955,2,  34.0921,2,    340.3,2,    58.84,2,    25.11,2,     0.17,2,     1.76,2,    6.350,2,    3.127,2,    0.560,2,    8.668,2,   2184.2,2,    0.045,2, -999.000,-999.0000,9,-999.0000,  -999.00,9,  -999.00, -999.000,9, -999.000
  06AQ19960317,  S04a,    93,  1,     22,      2,2,19960504,   0,-64.8067, -42.4750, 4690,     41.1,  -1.8725,  34.0978,2,  34.0967,2,    339.9,2,    58.82,2,    25.15,2,     0.18,2,     1.76,2,    6.332,2,    3.127,2,    0.556,2,    8.617,2,   2183.4,2, -999.000,9, -999.000,-999.0000,9,-999.0000,  -999.00,9,  -999.00, -999.000,9, -999.000
  06AQ19960317,  S04a,    93,  1,     20,      4,2,19960504,   0,-64.8067, -42.4750, 4690,     79.8,  -1.8108,  34.2989,2,  34.3461,2,   -999.0,9,    70.61,2,    28.42,2,     0.13,2,     2.01,2, -999.000,9, -999.000,9, -999.000,9, -999.000,9,   -999.0,9, -999.000,9, -999.000,-999.0000,9,-999.0000,  -999.00,9,  -999.00, -999.000,9, -999.000
  06AQ19960317,  S04a,    93,  1,     21,      3,2,19960504,   0,-64.8067, -42.4750, 4690,     80.1,  -1.8054,  34.3102,2,  34.3622,2,    305.5,2,    71.10,2,    28.52,2,     0.13,2,     2.02,2,    5.289,2,    2.484,2,    0.407,2,    6.223,2,   2216.3,2, -999.000,9, -999.000,-999.0000,9,-999.0000,  -999.00,9,  -999.00, -999.000,9, -999.000
  06AQ19960317,  S04a,    93,  1,     19,      5,2,19960504,   0,-64.8067, -42.4750, 4690,    100.5,  -1.7561,  34.4047,2,  34.4092,2,    295.3,2,    74.37,2,    29.51,2,     0.06,2,     2.05,2,    4.900,2,    2.288,2,    0.373,2,    5.795,2,   2223.9,2,    0.172,2, -999.000,-999.0000,9,-999.0000,  -999.00,9,  -999.00, -999.000,9, -999.000
  06AQ19960317,  S04a,    93,  1,     18,      6,2,19960504,   0,-64.8067, -42.4750, 4690,    150.2,  -0.8159,  34.5387,2,  34.5376,2,    240.1,2,    90.98,2,    32.33,2,     0.05,2,     2.20,2,    2.922,2,    1.346,2,    0.209,2,    3.380,2,   2249.7,2, -999.000,9, -999.000,-999.0000,9,-999.0000,  -999.00,9,  -999.00, -999.000,9, -999.000
  06AQ19960317,  S04a,    93,  1,     17,      7,2,19960504,   0,-64.8067, -42.4750, 4690,    201.5,   0.1955,  34.6566,2,  34.6593,2,    190.3,2,   110.83,2,    34.62,2,     0.03,2,     2.36,2,    0.782,2,    0.342,2,    0.044,2,    1.068,2,   2271.3,2,    0.133,2, -999.000,-999.0000,9,-999.0000,  -999.00,9,  -999.00, -999.000,9, -999.000
  06AQ19960317,  S04a,    93,  1,     16,      8,2,19960504,   0,-64.8067, -42.4750, 4690,    261.3,   0.4015,  34.6830,2,  34.6797,2,    184.2,2,   117.08,2,    35.15,2,     0.02,2,     2.39,2,    0.314,2,    0.144,2,    0.014,2,    0.580,2,   2275.9,2, -999.000,9, -999.000,-999.0000,9,-999.0000,  -999.00,9,  -999.00, -999.000,9, -999.000
  06AQ19960317,  S04a,    93,  1,     15,      9,2,19960504,   0,-64.8067, -42.4750, 4690,    322.1,   0.4078,  34.6851,2,  34.6822,2,    184.0,2,   119.62,2,    35.26,2,     0.02,2,     2.39,2,    0.214,2,    0.105,2,    0.007,2,    0.470,2,   2275.9,2,    0.122,2, -999.000,-999.0000,9,-999.0000,  -999.00,9,  -999.00, -999.000,9, -999.000
  06AQ19960317,  S04a,    93,  1,     14,     10,2,19960504,   0,-64.8067, -42.4750, 4690,    401.1,   0.3862,  34.6862,2,  34.6833,2,    185.3,2,   121.31,2,    35.01,2,     0.02,2,     2.39,2,    0.149,2,    0.078,2,    0.006,2,    0.385,2,   2276.2,2,    0.070,2, -999.000,-999.0000,9,-999.0000,  -999.00,9,  -999.00, -999.000,9, -999.000
  06AQ19960317,  S04a,    93,  1,     13,     11,2,19960504,   0,-64.8067, -42.4750, 4690,    501.6,   0.3390,  34.6860,2,  34.6829,2,    189.7,2,   123.12,2,    34.99,2,     0.01,2,     2.37,2,    0.123,2,    0.060,2,    0.004,2,    0.340,2,   2276.0,2,    0.032,2, -999.000,-999.0000,9,-999.0000,  -999.00,9,  -999.00, -999.000,9, -999.000
  06AQ19960317,  S04a,    93,  1,     12,     12,2,19960504,   0,-64.8067, -42.4750, 4690,    744.5,   0.2218,  34.6800,2,  34.6789,2,    196.0,2,   125.30,2,    34.77,2,     0.01,2,     2.37,2,    0.088,2,    0.044,2,    0.002,2,    0.289,2,   2273.7,2,    0.072,2, -999.000,-999.0000,9,-999.0000,  -999.00,9,  -999.00, -999.000,9, -999.000
  06AQ19960317,  S04a,    93,  1,     11,     13,2,19960504,   0,-64.8067, -42.4750, 4690,   1002.2,   0.1174,  34.6773,2,  34.6746,2,    203.9,2,   125.34,2,    34.17,2,     0.01,2,     2.35,2,    0.093,2,    0.052,2,    0.003,2,    0.305,2,   2267.7,2,    0.011,2, -999.000,-999.0000,9,-999.0000,  -999.00,9,  -999.00, -999.000,9, -999.000
  06AQ19960317,  S04a,    93,  1,     10,     14,2,19960504,   0,-64.8067, -42.4750, 4690,   1501.4,  -0.0589,  34.6674,2,  34.6672,2,    216.3,2,   124.74,2,    33.74,2,     0.00,2,     2.32,2, -999.000,9, -999.000,9, -999.000,9, -999.000,9,   2262.1,2, -999.000,9, -999.000,-999.0000,9,-999.0000,  -999.00,9,  -999.00, -999.000,9, -999.000
  06AQ19960317,  S04a,    93,  1,      9,     15,2,19960504,   0,-64.8067, -42.4750, 4690,   2001.8,  -0.1866,  34.6623,2,  34.6623,2,    225.2,2,   124.46,2,    33.31,2,     0.00,2,     2.29,2,    0.149,2,    0.078,2,    0.003,2,    0.491,2,   2259.9,2,    0.269,3, -999.000,-999.0000,9,-999.0000,  -999.00,9,  -999.00, -999.000,9, -999.000
  06AQ19960317,  S04a,    93,  1,      8,     16,2,19960504,   0,-64.8067, -42.4750, 4690,   2502.4,  -0.2660,  34.6596,2,  34.6597,2,    230.8,2,   123.23,2,    32.98,2,     0.01,2,     2.27,2,    0.158,2,    0.083,2,    0.004,2,    0.533,2,   2256.7,2, -999.000,9, -999.000,-999.0000,9,-999.0000,  -999.00,9,  -999.00, -999.000,9, -999.000
  06AQ19960317,  S04a,    93,  1,      7,     17,2,19960504,   0,-64.8067, -42.4750, 4690,   2999.4,  -0.3213,  34.6575,2,  34.6574,2,    234.6,2,   122.59,2,    32.94,2,     0.01,2,     2.26,2,    0.149,2,    0.072,2,    0.004,2,    0.531,2,   2255.8,2,    0.089,2, -999.000,-999.0000,9,-999.0000,  -999.00,9,  -999.00, -999.000,9, -999.000
  06AQ19960317,  S04a,    93,  1,      6,     18,2,19960504,   0,-64.8067, -42.4750, 4690,   3499.1,  -0.3724,  34.6561,2,  34.6542,2,    238.3,2,   122.84,2,    32.89,2,     0.02,2,     2.25,2,    0.175,2,    0.090,2,    0.005,2,    0.605,2,   -999.0,9, -999.000,9, -999.000,-999.0000,9,-999.0000,  -999.00,9,  -999.00, -999.000,9, -999.000
  06AQ19960317,  S04a,    93,  1,      5,     19,2,19960504,   0,-64.8067, -42.4750, 4690,   3999.0,  -0.4146,  34.6541,2,  34.6521,2,    241.8,2,   122.36,2,    32.76,2,     0.01,2,     2.24,2,    0.196,2,    0.099,2,    0.006,2,    0.652,2,   2254.1,2,    0.157,2, -999.000,-999.0000,9,-999.0000,  -999.00,9,  -999.00, -999.000,9, -999.000
  06AQ19960317,  S04a,    93,  1,      4,     20,2,19960504,   0,-64.8067, -42.4750, 4690,   4246.8,  -0.4774,  34.6489,2,  34.6478,2,    246.4,2,   116.98,2,    32.69,2,     0.01,2,     2.25,2,    0.455,2,    0.220,2,    0.017,2,    0.941,2,   2253.6,2,    0.169,2, -999.000,   2.0220,4,   0.0050,     5.61,2,     0.22,    8.535,4,    0.019
  06AQ19960317,  S04a,    93,  1,      3,     21,2,19960504,   0,-64.8067, -42.4750, 4690,   4498.2,  -0.5248,  34.6480,2,  34.6449,2,    247.4,2,   118.53,2,    32.84,2,     0.01,2,     2.23,2,    0.544,2,    0.264,2,    0.019,2,    1.043,2,   2253.5,2,    0.123,2, -999.000,   1.8830,2,   0.0050,     3.77,2,     0.22,    8.244,2,    0.018
  06AQ19960317,  S04a,    93,  1,      2,     22,2,19960504,   0,-64.8067, -42.4750, 4690,   4653.3,  -0.5585,  34.6440,2,  34.6414,2,    251.5,2,   110.91,2,    32.53,2,     0.01,2,     2.23,2,    1.105,2,    0.519,2,    0.052,2,    1.437,2,   2252.8,2,    0.121,2, -999.000,   1.8980,2,   0.0050,     4.12,2,     0.22,    8.301,2,    0.019
  06AQ19960317,  S04a,    93,  1,      1,     23,2,19960504,   0,-64.8067, -42.4750, 4690,   4699.2,  -0.5831,  34.6432,2,  34.6418,2,    255.1,2,   105.34,2,    32.44,2,     0.03,2,     2.22,2,    1.531,2,    0.713,2,    0.083,2,    1.747,2,   2252.0,2,    0.127,2, -999.000,   1.8980,2,   0.0050,     3.92,2,     0.22,    8.294,2,    0.018
  06AQ19960317,  S04a,    93,  1,     24,     24,2,19960504,   0,-64.8067, -42.4750, 4690,   4755.6,  -0.6160,  34.6448,2,  34.6423,2,    258.4,2,    98.02,2,    32.09,2,     0.02,2,     2.19,2,    2.191,2,    1.041,2,    0.124,2,    2.197,2,   2251.8,2,    0.128,2, -999.000,   1.8820,2,   0.0050,     3.40,2,     0.22,    8.284,2,    0.018
  06AQ19960317,  S04a,    94,  1,     23,      1,2,19960505,   0,-64.6238, -44.1678, 4598,     20.5,  -1.8698,  34.1274,2,  34.1273,2,    339.4,2,    59.22,2,    25.76,2,     0.17,2,     1.79,2,    6.468,2,    3.192,2,    0.567,2,    8.799,2,   2186.0,2, -999.000,9, -999.000,-999.0000,9,-999.0000,  -999.00,9,  -999.00, -999.000,9, -999.000
  06AQ19960317,  S04a,    94,  1,     22,      2,2,19960505,   0,-64.6238, -44.1678, 4598,     20.5,  -1.8713,  34.1270,2,-999.0000,9,   -999.0,9,    58.74,2,    25.59,2,     0.17,2,     1.78,2, -999.000,9, -999.000,9, -999.000,9, -999.000,9,   -999.0,9, -999.000,9, -999.000,-999.0000,9,-999.0000,  -999.00,9,  -999.00, -999.000,9, -999.000
  06AQ19960317,  S04a,    94,  1,     21,      3,2,19960505,   0,-64.6238, -44.1678, 4598,     39.2,  -1.8700,  34.1278,2,  34.1101,2,    338.7,2,    71.46,2,    28.66,2,     0.14,2,     2.01,2,    6.480,2,    3.181,2,    0.558,2,    8.731,2,   2184.4,2, -999.000,9, -999.000,-999.0000,9,-999.0000,  -999.00,9,  -999.00, -999.000,9, -999.000
  06AQ19960317,  S04a,    94,  1,     20,      4,2,19960505,   0,-64.6238, -44.1678, 4598,     39.2,  -1.8702,  34.1276,2,-999.0000,9,   -999.0,9,    58.91,2,    25.63,2,     0.18,2,     1.81,2, -999.000,9, -999.000,9, -999.000,9, -999.000,9,   -999.0,9, -999.000,9, -999.000,-999.0000,9,-999.0000,  -999.00,9,  -999.00, -999.000,9, -999.000
  06AQ19960317,  S04a,    94,  1,     19,      5,2,19960505,   0,-64.6238, -44.1678, 4598,     39.2,  -1.8702,  34.1274,2,-999.0000,9,   -999.0,9,    58.49,2,    25.63,2,     0.17,2,     1.79,2, -999.000,9, -999.000,9, -999.000,9, -999.000,9,   -999.0,9, -999.000,9, -999.000,-999.0000,9,-999.0000,  -999.00,9,  -999.00, -999.000,9, -999.000
  06AQ19960317,  S04a,    94,  1,     18,      6,2,19960505,   0,-64.6238, -44.1678, 4598,     60.7,  -1.8695,  34.1282,2,  34.1285,2,    339.1,2,    58.67,2,    25.66,2,     0.17,2,     1.79,2, -999.000,9, -999.000,9, -999.000,9, -999.000,9,   2185.6,2, -999.000,9, -999.000,-999.0000,9,-999.0000,  -999.00,9,  -999.00, -999.000,9, -999.000
  06AQ19960317,  S04a,    94,  1,     17,      7,2,19960505,   0,-64.6238, -44.1678, 4598,     60.8,  -1.8701,  34.1271,2,-999.0000,9,   -999.0,9,    58.97,2,    25.72,2,     0.18,2,     1.79,2,    6.512,2,    3.189,2,    0.544,2,    8.680,2,   -999.0,9, -999.000,9, -999.000,-999.0000,9,-999.0000,  -999.00,9,  -999.00, -999.000,9, -999.000
  06AQ19960317,  S04a,    94,  1,     16,      8,2,19960505,   0,-64.6238, -44.1678, 4598,     81.1,  -1.8180,  34.1886,2,  34.2470,2,    311.8,2,    66.42,2,    27.84,2,     0.13,2,     1.93,2, -999.000,9, -999.000,9, -999.000,9, -999.000,9,   2204.2,2, -999.000,9, -999.000,-999.0000,9,-999.0000,  -999.00,9,  -999.00, -999.000,9, -999.000
  06AQ19960317,  S04a,    94,  1,     15,      9,2,19960505,   0,-64.6238, -44.1678, 4598,     81.1,  -1.8028,  34.2121,2,-999.0000,9,   -999.0,9,    67.73,2,    28.20,2,     0.13,2,     1.96,2,    5.427,2,    2.617,2,    0.430,2,    6.909,2,   -999.0,9, -999.000,9, -999.000,-999.0000,9,-999.0000,  -999.00,9,  -999.00, -999.000,9, -999.000
  06AQ19960317,  S04a,    94,  1,     14,     10,2,19960505,   0,-64.6238, -44.1678, 4598,    101.0,  -1.7625,  34.4079,2,  34.4132,2,    292.7,2,    73.54,2,    29.74,2,     0.09,2,     2.04,2,    4.880,2,    2.304,2,    0.386,2,    5.871,2,   2221.7,2, -999.000,9, -999.000,-999.0000,9,-999.0000,  -999.00,9,  -999.00, -999.000,9, -999.000
  06AQ19960317,  S04a,    94,  1,     13,     11,2,19960505,   0,-64.6238, -44.1678, 4598,    125.4,  -1.3897,  34.4598,2,  34.4540,2,    272.1,2,    78.06,2,    30.85,2,     0.07,2,     2.10,2, -999.000,9, -999.000,9, -999.000,9, -999.000,9,   2229.6,2, -999.000,9, -999.000,-999.0000,9,-999.0000,  -999.00,9,  -999.00, -999.000,9, -999.000
  06AQ19960317,  S04a,    94,  1,     12,     12,2,19960505,   0,-64.6238, -44.1678, 4598,    151.1,  -0.7534,  34.5358,2,  34.5327,2,    240.3,2,    89.24,2,    32.18,2,     0.04,2,     2.18,2,    3.105,2,    1.475,2,    0.209,2,    3.591,2,   2243.7,2, -999.000,9, -999.000,-999.0000,9,-999.0000,  -999.00,9,  -999.00, -999.000,9, -999.000
  06AQ19960317,  S04a,    94,  1,     11,     13,2,19960505,   0,-64.6238, -44.1678, 4598,    176.1,  -0.0888,  34.6046,2,  34.6088,2,    210.0,2,    99.88,2,    33.72,2,     0.03,2,     2.28,2,    1.806,2,    0.834,2,    0.109,2,    2.138,2,   2255.7,2, -999.000,9, -999.000,-999.0000,9,-999.0000,  -999.00,9,  -999.00, -999.000,9, -999.000
  06AQ19960317,  S04a,    94,  1,     10,     14,2,19960505,   0,-64.6238, -44.1678, 4598,    200.4,   0.1622,  34.6532,2,  34.6533,2,    194.8,2,   107.04,2,    34.34,2,     0.04,2,     2.33,2,    1.057,2,    0.478,2,    0.065,2,    1.309,2,   2263.7,2, -999.000,9, -999.000,-999.0000,9,-999.0000,  -999.00,9,  -999.00, -999.000,9, -999.000
  06AQ19960317,  S04a,    94,  1,      9,     15,2,19960505,   0,-64.6238, -44.1678, 4598,    250.6,   0.4792,  34.6799,2,  34.6885,2,    188.1,2,   113.70,2,    34.59,2,     0.03,2,     2.34,2, -999.000,9, -999.000,9, -999.000,9, -999.000,9,   2269.1,2, -999.000,9, -999.000,-999.0000,9,-999.0000,  -999.00,9,  -999.00, -999.000,9, -999.000
  06AQ19960317,  S04a,    94,  1,      8,     16,2,19960505,   0,-64.6238, -44.1678, 4598,    250.6,   0.4715,  34.6806,2,-999.0000,9,   -999.0,9,   113.80,2,    34.67,2,     0.02,2,     2.35,2, -999.000,9, -999.000,9, -999.000,9, -999.000,9,   -999.0,9, -999.000,9, -999.000,-999.0000,9,-999.0000,  -999.00,9,  -999.00, -999.000,9, -999.000
  06AQ19960317,  S04a,    94,  1,      7,     17,2,19960505,   0,-64.6238, -44.1678, 4598,    250.6,   0.4709,  34.6835,2,-999.0000,9,   -999.0,9,   113.91,2,    34.58,2,     0.02,2,     2.34,2, -999.000,9, -999.000,9, -999.000,9, -999.000,9,   -999.0,9, -999.000,9, -999.000,-999.0000,9,-999.0000,  -999.00,9,  -999.00, -999.000,9, -999.000
  06AQ19960317,  S04a,    94,  1,      6,     18,2,19960505,   0,-64.6238, -44.1678, 4598,    301.2,   0.4827,  34.6846,2,  34.6826,2,   -999.0,9,   116.84,2,    34.98,2,     0.03,2,     2.36,2,    0.317,2,    0.151,2,    0.013,2,    0.579,2,   2269.8,2, -999.000,9, -999.000,-999.0000,9,-999.0000,  -999.00,9,  -999.00, -999.000,9, -999.000
  06AQ19960317,  S04a,    94,  1,      5,     19,2,19960505,   0,-64.6238, -44.1678, 4598,    350.8,   0.4399,  34.6854,2,  34.6838,2,    187.4,2,   117.97,2,    34.87,2,     0.03,2,     2.35,2, -999.000,9, -999.000,9, -999.000,9, -999.000,9,   2271.2,2, -999.000,9, -999.000,-999.0000,9,-999.0000,  -999.00,9,  -999.00, -999.000,9, -999.000
  06AQ19960317,  S04a,    94,  1,      4,     20,2,19960505,   0,-64.6238, -44.1678, 4598,    400.4,   0.4285,  34.6857,2,  34.6846,2,    186.5,2,   120.34,2,    35.16,2,     0.01,2,     2.38,2,    0.207,2,    0.105,2,    0.008,2,    0.451,2,   2270.9,2, -999.000,9, -999.000,-999.0000,9,-999.0000,  -999.00,9,  -999.00, -999.000,9, -999.000
  06AQ19960317,  S04a,    94,  1,      3,     21,2,19960505,   0,-64.6238, -44.1678, 4598,    451.4,   0.4076,  34.6857,2,  34.6848,2,    187.6,2,   121.56,2,    35.02,2,     0.02,2,     2.36,2,    0.153,2,    0.076,2,    0.005,2,    0.394,2,   2272.9,2, -999.000,9, -999.000,-999.0000,9,-999.0000,  -999.00,9,  -999.00, -999.000,9, -999.000
  06AQ19960317,  S04a,    94,  1,      1,     23,2,19960505,   0,-64.6238, -44.1678, 4598,    501.2,   0.3821,  34.6884,2,-999.0000,9,   -999.0,9,   122.02,2,    34.99,2,     0.00,2,     2.37,2, -999.000,9, -999.000,9, -999.000,9, -999.000,9,   -999.0,9, -999.000,9, -999.000,-999.0000,9,-999.0000,  -999.00,9,  -999.00, -999.000,9, -999.000
  06AQ19960317,  S04a,    94,  1,     24,     24,2,19960505,   0,-64.6238, -44.1678, 4598,    501.7,   0.3816,  34.6879,2,-999.0000,9,   -999.0,9,   122.47,2,    35.04,2,     0.02,2,     2.36,2, -999.000,9, -999.000,9, -999.000,9, -999.000,9,   -999.0,9, -999.000,9, -999.000,-999.0000,9,-999.0000,  -999.00,9,  -999.00, -999.000,9, -999.000
  06AQ19960317,  S04a,    94,  1,      2,     22,2,19960505,   0,-64.6238, -44.1678, 4598,    502.9,   0.3830,  34.6873,2,  34.6843,2,   -999.0,9,   122.23,2,    35.01,2,     0.02,2,     2.37,2,    0.142,2,    0.069,2,    0.003,2,    0.380,2,   2272.8,2, -999.000,9, -999.000,-999.0000,9,-999.0000,  -999.00,9,  -999.00, -999.000,9, -999.000