BOTTLE,20150129PRINUNIVRMK
EXPOCODE,SECT_ID,STNNBR,CASTNO,SAMPNO,BTLNBR,BTLNBR_FLAG_W,DATE,TIME,LATITUDE,LONGITUDE,DEPTH,CTDPRS,CTDTMP,CTDSAL,CTDSAL_FLAG_W,SALNTY,SALNTY_FLAG_W,OXYGEN,OXYGEN_FLAG_W,SILCAT,SILCAT_FLAG_W,NITRAT,NITRAT_FLAG_W,NITRIT,NITRIT_FLAG_W,PHSPHT,PHSPHT_FLAG_W,CFC-11,CFC-11_FLAG_W,CFC-12,CFC-12_FLAG_W,CFC113,CFC113_FLAG_W,CCL4,CCL4_FLAG_W,TCARBN,TCARBN_FLAG_W,TRITUM,TRITUM_FLAG_W,TRITER,HELIUM,HELIUM_FLAG_W,HELIER,DELHE3,DELHE3_FLAG_W,DELHER,NEON,NEON_FLAG_W,NEONER
,,,,,,,,,,,METERS,DBAR,ITS-90,PSS-78,,PSS-78,,UMOL/KG,,UMOL/KG,,UMOL/KG,,UMOL/KG,,UMOL/KG,,PMOL/KG,,PMOL/KG,,PMOL/KG,,PMOL/KG,,UMOL/KG,,TU,,TU,NMOL/KG,,NMOL/KG,PERCNT,,PERCNT,NMOL/KG,,NMOL/KG
  06AQ19960317,  S04a,    34,  1,     22,      3,2,19960409,   0,-50.0830,   5.8767, 3797,     21.8,   4.7807,  33.8042,2,  33.8105,2,   -999.0,9,     4.73,2,    21.46,2,  -999.00,9,     1.55,2, -999.000,9, -999.000,9, -999.000,9, -999.000,9,   -999.0,9, -999.000,9, -999.000,-999.0000,9,-999.0000,  -999.00,9,  -999.00, -999.000,9, -999.000
  06AQ19960317,  S04a,    34,  1,     24,      1,2,19960409,   0,-50.0830,   5.8767, 3797,     22.0,   4.7761,  33.8030,2,-999.0000,9,   -999.0,9,     4.73,2,    21.28,2,  -999.00,9,     1.52,2, -999.000,9, -999.000,9, -999.000,9, -999.000,9,   -999.0,9, -999.000,9, -999.000,-999.0000,9,-999.0000,  -999.00,9,  -999.00, -999.000,9, -999.000
  06AQ19960317,  S04a,    34,  1,     23,      2,2,19960409,   0,-50.0830,   5.8767, 3797,     22.0,   4.7763,  33.8039,2,-999.0000,9,   -999.0,9,     4.95,2,    21.46,2,  -999.00,9,     1.54,2, -999.000,9, -999.000,9, -999.000,9, -999.000,9,   -999.0,9, -999.000,9, -999.000,-999.0000,9,-999.0000,  -999.00,9,  -999.00, -999.000,9, -999.000
  06AQ19960317,  S04a,    34,  1,     21,      4,2,19960409,   0,-50.0830,   5.8767, 3797,     40.4,   4.7786,  33.8039,2,-999.0000,9,   -999.0,9,     4.84,2,    21.63,2,  -999.00,9,     1.61,2, -999.000,9, -999.000,9, -999.000,9, -999.000,9,   -999.0,9, -999.000,9, -999.000,-999.0000,9,-999.0000,  -999.00,9,  -999.00, -999.000,9, -999.000
  06AQ19960317,  S04a,    34,  1,     19,      6,2,19960409,   0,-50.0830,   5.8767, 3797,     40.4,   4.7812,  33.8024,2,  33.8092,2,   -999.0,9,     4.58,2,    21.47,2,  -999.00,9,     1.55,2, -999.000,9, -999.000,9, -999.000,9, -999.000,9,   -999.0,9, -999.000,9, -999.000,-999.0000,9,-999.0000,  -999.00,9,  -999.00, -999.000,9, -999.000
  06AQ19960317,  S04a,    34,  1,     20,      5,2,19960409,   0,-50.0830,   5.8767, 3797,     40.6,   4.7738,  33.8020,2,-999.0000,9,   -999.0,9,     4.71,2,    21.39,2,  -999.00,9,     1.57,2, -999.000,9, -999.000,9, -999.000,9, -999.000,9,   -999.0,9, -999.000,9, -999.000,-999.0000,9,-999.0000,  -999.00,9,  -999.00, -999.000,9, -999.000
  06AQ19960317,  S04a,    34,  1,     18,      7,2,19960409,   0,-50.0830,   5.8767, 3797,     59.6,   4.7681,  33.8033,2,-999.0000,9,   -999.0,9,     4.59,2,    21.53,2,  -999.00,9,     1.55,2, -999.000,9, -999.000,9, -999.000,9, -999.000,9,   -999.0,9, -999.000,9, -999.000,-999.0000,9,-999.0000,  -999.00,9,  -999.00, -999.000,9, -999.000
  06AQ19960317,  S04a,    34,  1,     17,      8,2,19960409,   0,-50.0830,   5.8767, 3797,     60.0,   4.7697,  33.8021,2,  33.8117,2,   -999.0,9,     4.55,2,    21.60,2,  -999.00,9,     1.54,2, -999.000,9, -999.000,9, -999.000,9, -999.000,9,   -999.0,9, -999.000,9, -999.000,-999.0000,9,-999.0000,  -999.00,9,  -999.00, -999.000,9, -999.000
  06AQ19960317,  S04a,    34,  1,     15,     10,2,19960409,   0,-50.0830,   5.8767, 3797,     80.8,   4.7432,  33.8042,2,  33.8100,2,   -999.0,9,     4.74,2,    21.65,2,  -999.00,9,     1.56,2, -999.000,9, -999.000,9, -999.000,9, -999.000,9,   -999.0,9, -999.000,9, -999.000,-999.0000,9,-999.0000,  -999.00,9,  -999.00, -999.000,9, -999.000
  06AQ19960317,  S04a,    34,  1,     16,      9,2,19960409,   0,-50.0830,   5.8767, 3797,     81.1,   4.7414,  33.8050,2,-999.0000,9,   -999.0,9,     4.74,2,    21.53,2,  -999.00,9,     1.60,2, -999.000,9, -999.000,9, -999.000,9, -999.000,9,   -999.0,9, -999.000,9, -999.000,-999.0000,9,-999.0000,  -999.00,9,  -999.00, -999.000,9, -999.000
  06AQ19960317,  S04a,    34,  1,     14,     11,2,19960409,   0,-50.0830,   5.8767, 3797,    101.3,   3.6366,  33.8518,2,  33.8604,2,   -999.0,9,    10.55,2,    23.91,2,  -999.00,9,     1.78,2, -999.000,9, -999.000,9, -999.000,9, -999.000,9,   -999.0,9, -999.000,9, -999.000,-999.0000,9,-999.0000,  -999.00,9,  -999.00, -999.000,9, -999.000
  06AQ19960317,  S04a,    34,  1,     13,     12,2,19960409,   0,-50.0830,   5.8767, 3797,    101.4,   3.6908,  33.8554,2,  33.8656,2,   -999.0,9,    11.70,2,    24.12,2,  -999.00,9,     1.79,2, -999.000,9, -999.000,9, -999.000,9, -999.000,9,   -999.0,9, -999.000,9, -999.000,-999.0000,9,-999.0000,  -999.00,9,  -999.00, -999.000,9, -999.000
  06AQ19960317,  S04a,    34,  1,     12,     13,2,19960409,   0,-50.0830,   5.8767, 3797,    124.9,   2.7577,  33.8961,2,  33.9022,2,   -999.0,9,    17.48,2,    26.96,2,  -999.00,9,     1.96,2, -999.000,9, -999.000,9, -999.000,9, -999.000,9,   -999.0,9, -999.000,9, -999.000,-999.0000,9,-999.0000,  -999.00,9,  -999.00, -999.000,9, -999.000
  06AQ19960317,  S04a,    34,  1,     11,     14,2,19960409,   0,-50.0830,   5.8767, 3797,    151.9,   2.0002,  33.9460,2,  33.9499,2,   -999.0,9,    22.94,2,    29.14,2,  -999.00,9,     2.04,2, -999.000,9, -999.000,9, -999.000,9, -999.000,9,   -999.0,9, -999.000,9, -999.000,-999.0000,9,-999.0000,  -999.00,9,  -999.00, -999.000,9, -999.000
  06AQ19960317,  S04a,    34,  1,     10,     15,2,19960409,   0,-50.0830,   5.8767, 3797,    176.2,   1.6045,  34.0093,2,  34.0181,2,   -999.0,9,    30.93,2,    31.29,2,  -999.00,9,     2.17,2, -999.000,9, -999.000,9, -999.000,9, -999.000,9,   -999.0,9, -999.000,9, -999.000,-999.0000,9,-999.0000,  -999.00,9,  -999.00, -999.000,9, -999.000
  06AQ19960317,  S04a,    34,  1,      7,     18,2,19960409,   0,-50.0830,   5.8767, 3797,    200.7,   1.5766,  34.0949,2,-999.0000,9,   -999.0,9,    37.87,2,    32.68,2,  -999.00,9,     2.26,2, -999.000,9, -999.000,9, -999.000,9, -999.000,9,   -999.0,9, -999.000,9, -999.000,-999.0000,9,-999.0000,  -999.00,9,  -999.00, -999.000,9, -999.000
  06AQ19960317,  S04a,    34,  1,      9,     16,2,19960409,   0,-50.0830,   5.8767, 3797,    201.0,   1.5723,  34.0914,2,  34.0950,2,   -999.0,9,    37.76,2,    32.92,2,  -999.00,9,     2.26,2, -999.000,9, -999.000,9, -999.000,9, -999.000,9,   -999.0,9, -999.000,9, -999.000,-999.0000,9,-999.0000,  -999.00,9,  -999.00, -999.000,9, -999.000
  06AQ19960317,  S04a,    34,  1,      8,     17,2,19960409,   0,-50.0830,   5.8767, 3797,    201.1,   1.5703,  34.0911,2,-999.0000,9,   -999.0,9,    37.45,2,    32.70,2,  -999.00,9,     2.24,2, -999.000,9, -999.000,9, -999.000,9, -999.000,9,   -999.0,9, -999.000,9, -999.000,-999.0000,9,-999.0000,  -999.00,9,  -999.00, -999.000,9, -999.000
  06AQ19960317,  S04a,    34,  1,      6,     19,2,19960409,   0,-50.0830,   5.8767, 3797,    250.8,   1.8431,  34.1983,2,  34.1972,2,   -999.0,9,    46.04,2,    34.99,2,  -999.00,9,     2.38,2, -999.000,9, -999.000,9, -999.000,9, -999.000,9,   -999.0,9, -999.000,9, -999.000,-999.0000,9,-999.0000,  -999.00,9,  -999.00, -999.000,9, -999.000
  06AQ19960317,  S04a,    34,  1,      5,     20,2,19960409,   0,-50.0830,   5.8767, 3797,    300.6,   2.0637,  34.2943,2,  34.2968,2,   -999.0,9,    55.31,2,    36.57,2,  -999.00,9,     2.49,2, -999.000,9, -999.000,9, -999.000,9, -999.000,9,   -999.0,9, -999.000,9, -999.000,-999.0000,9,-999.0000,  -999.00,9,  -999.00, -999.000,9, -999.000
  06AQ19960317,  S04a,    34,  1,      2,     23,2,19960409,   0,-50.0830,   5.8767, 3797,    361.2,   2.1408,  34.3702,2,-999.0000,9,   -999.0,9,    63.46,2,    37.37,2,  -999.00,9,     2.54,2, -999.000,9, -999.000,9, -999.000,9, -999.000,9,   -999.0,9, -999.000,9, -999.000,-999.0000,9,-999.0000,  -999.00,9,  -999.00, -999.000,9, -999.000
  06AQ19960317,  S04a,    34,  1,      4,     21,2,19960409,   0,-50.0830,   5.8767, 3797,    362.4,   2.1393,  34.3695,2,  34.3723,2,   -999.0,9,    62.44,2,    37.21,2,  -999.00,9,     2.54,2, -999.000,9, -999.000,9, -999.000,9, -999.000,9,   -999.0,9, -999.000,9, -999.000,-999.0000,9,-999.0000,  -999.00,9,  -999.00, -999.000,9, -999.000
  06AQ19960317,  S04a,    34,  1,      3,     22,2,19960409,   0,-50.0830,   5.8767, 3797,    362.5,   2.1413,  34.3701,2,-999.0000,9,   -999.0,9,    62.83,2,    37.21,2,  -999.00,9,     2.54,2, -999.000,9, -999.000,9, -999.000,9, -999.000,9,   -999.0,9, -999.000,9, -999.000,-999.0000,9,-999.0000,  -999.00,9,  -999.00, -999.000,9, -999.000
  06AQ19960317,  S04a,    34,  1,      1,     24,2,19960409,   0,-50.0830,   5.8767, 3797,    504.2,   2.1715,  34.5053,2,  34.5086,2,   -999.0,9,    75.03,2,    37.18,2,  -999.00,9,     2.55,2, -999.000,9, -999.000,9, -999.000,9, -999.000,9,   -999.0,9, -999.000,9, -999.000,-999.0000,9,-999.0000,  -999.00,9,  -999.00, -999.000,9, -999.000
  06AQ19960317,  S04a,    34,  3,     24,      1,2,19960409,   0,-50.0830,   5.8767, 3797,    500.7,   2.1539,  34.4858,2,  34.4890,2,   -999.0,9,    70.19,2,    35.68,2,  -999.00,9,     2.40,2, -999.000,9, -999.000,9, -999.000,9, -999.000,9,   -999.0,9, -999.000,9, -999.000,-999.0000,9,-999.0000,  -999.00,9,  -999.00, -999.000,9, -999.000
  06AQ19960317,  S04a,    34,  3,     23,      2,2,19960409,   0,-50.0830,   5.8767, 3797,    601.2,   2.2021,  34.5562,2,  34.5588,2,   -999.0,9,    73.90,2,    35.10,2,  -999.00,9,     2.37,2, -999.000,9, -999.000,9, -999.000,9, -999.000,9,   -999.0,9, -999.000,9, -999.000,-999.0000,9,-999.0000,  -999.00,9,  -999.00, -999.000,9, -999.000
  06AQ19960317,  S04a,    34,  3,     22,      3,2,19960409,   0,-50.0830,   5.8767, 3797,    701.3,   2.2050,  34.5973,2,  34.5984,2,   -999.0,9,    76.40,2,    34.71,2,  -999.00,9,     2.35,2, -999.000,9, -999.000,9, -999.000,9, -999.000,9,   -999.0,9, -999.000,9, -999.000,-999.0000,9,-999.0000,  -999.00,9,  -999.00, -999.000,9, -999.000
  06AQ19960317,  S04a,    34,  3,     21,      4,2,19960409,   0,-50.0830,   5.8767, 3797,    801.1,   2.1692,  34.6263,2,  34.6270,2,   -999.0,9,    78.45,2,    34.12,2,  -999.00,9,     2.31,2, -999.000,9, -999.000,9, -999.000,9, -999.000,9,   -999.0,9, -999.000,9, -999.000,-999.0000,9,-999.0000,  -999.00,9,  -999.00, -999.000,9, -999.000
  06AQ19960317,  S04a,    34,  3,     20,      5,2,19960409,   0,-50.0830,   5.8767, 3797,    801.1,   2.1706,  34.6249,2,  34.6265,2,   -999.0,9,    78.37,2,    34.24,2,  -999.00,9,     2.32,2, -999.000,9, -999.000,9, -999.000,9, -999.000,9,   -999.0,9, -999.000,9, -999.000,-999.0000,9,-999.0000,  -999.00,9,  -999.00, -999.000,9, -999.000
  06AQ19960317,  S04a,    34,  3,     19,      6,2,19960409,   0,-50.0830,   5.8767, 3797,   1000.7,   2.1717,  34.6983,2,  34.7006,2,   -999.0,9,    79.48,2,    32.41,2,  -999.00,9,     2.20,2, -999.000,9, -999.000,9, -999.000,9, -999.000,9,   -999.0,9, -999.000,9, -999.000,-999.0000,9,-999.0000,  -999.00,9,  -999.00, -999.000,9, -999.000
  06AQ19960317,  S04a,    34,  3,     18,      7,2,19960409,   0,-50.0830,   5.8767, 3797,   1251.0,   2.1748,  34.7529,2,  34.7535,2,   -999.0,9,    76.13,2,    30.39,2,  -999.00,9,     2.04,2, -999.000,9, -999.000,9, -999.000,9, -999.000,9,   -999.0,9, -999.000,9, -999.000,-999.0000,9,-999.0000,  -999.00,9,  -999.00, -999.000,9, -999.000
  06AQ19960317,  S04a,    34,  3,     17,      8,2,19960409,   0,-50.0830,   5.8767, 3797,   1506.5,   2.0160,  34.7670,2,  34.7670,2,   -999.0,9,    78.20,2,    29.86,2,  -999.00,9,     2.02,2, -999.000,9, -999.000,9, -999.000,9, -999.000,9,   -999.0,9, -999.000,9, -999.000,-999.0000,9,-999.0000,  -999.00,9,  -999.00, -999.000,9, -999.000
  06AQ19960317,  S04a,    34,  3,     14,     11,2,19960409,   0,-50.0830,   5.8767, 3797,   1603.1,   1.9276,  34.7691,2,-999.0000,9,   -999.0,9,    79.76,2,    29.84,2,  -999.00,9,     2.01,2, -999.000,9, -999.000,9, -999.000,9, -999.000,9,   -999.0,9, -999.000,9, -999.000,-999.0000,9,-999.0000,  -999.00,9,  -999.00, -999.000,9, -999.000
  06AQ19960317,  S04a,    34,  3,     15,     10,2,19960409,   0,-50.0830,   5.8767, 3797,   1606.8,   1.9296,  34.7690,2,-999.0000,9,   -999.0,9,    79.98,2,    29.78,2,  -999.00,9,     2.01,2, -999.000,9, -999.000,9, -999.000,9, -999.000,9,   -999.0,9, -999.000,9, -999.000,-999.0000,9,-999.0000,  -999.00,9,  -999.00, -999.000,9, -999.000
  06AQ19960317,  S04a,    34,  3,     16,      9,2,19960409,   0,-50.0830,   5.8767, 3797,   1609.3,   1.9282,  34.7683,2,  34.7686,2,   -999.0,9,    79.54,2,    29.79,2,  -999.00,9,     2.01,2, -999.000,9, -999.000,9, -999.000,9, -999.000,9,   -999.0,9, -999.000,9, -999.000,-999.0000,9,-999.0000,  -999.00,9,  -999.00, -999.000,9, -999.000
  06AQ19960317,  S04a,    34,  3,     13,     12,2,19960409,   0,-50.0830,   5.8767, 3797,   1800.9,   1.6546,  34.7506,2,  34.7496,2,   -999.0,9,    88.93,2,    30.88,2,  -999.00,9,     2.11,2, -999.000,9, -999.000,9, -999.000,9, -999.000,9,   -999.0,9, -999.000,9, -999.000,-999.0000,9,-999.0000,  -999.00,9,  -999.00, -999.000,9, -999.000
  06AQ19960317,  S04a,    34,  3,     12,     13,2,19960409,   0,-50.0830,   5.8767, 3797,   2003.7,   1.4524,  34.7416,2,  34.7405,2,   -999.0,9,    95.35,2,    31.38,2,  -999.00,9,     2.15,2, -999.000,9, -999.000,9, -999.000,9, -999.000,9,   -999.0,9, -999.000,9, -999.000,-999.0000,9,-999.0000,  -999.00,9,  -999.00, -999.000,9, -999.000
  06AQ19960317,  S04a,    34,  3,     11,     14,2,19960409,   0,-50.0830,   5.8767, 3797,   2501.5,   0.9864,  34.7170,2,  34.7155,2,   -999.0,9,   107.46,2,    32.01,2,  -999.00,9,     2.18,2, -999.000,9, -999.000,9, -999.000,9, -999.000,9,   -999.0,9, -999.000,9, -999.000,-999.0000,9,-999.0000,  -999.00,9,  -999.00, -999.000,9, -999.000
  06AQ19960317,  S04a,    34,  3,      9,     16,2,19960409,   0,-50.0830,   5.8767, 3797,   2502.4,   0.9819,  34.7167,2,-999.0000,9,   -999.0,9,   107.27,2,    32.05,2,  -999.00,9,     2.19,2, -999.000,9, -999.000,9, -999.000,9, -999.000,9,   -999.0,9, -999.000,9, -999.000,-999.0000,9,-999.0000,  -999.00,9,  -999.00, -999.000,9, -999.000
  06AQ19960317,  S04a,    34,  3,     10,     15,2,19960409,   0,-50.0830,   5.8767, 3797,   2502.5,   0.9828,  34.7176,2,-999.0000,9,   -999.0,9,   107.98,2,    32.34,2,  -999.00,9,     2.19,2, -999.000,9, -999.000,9, -999.000,9, -999.000,9,   -999.0,9, -999.000,9, -999.000,-999.0000,9,-999.0000,  -999.00,9,  -999.00, -999.000,9, -999.000
  06AQ19960317,  S04a,    34,  3,      8,     17,2,19960409,   0,-50.0830,   5.8767, 3797,   2998.5,   0.6540,  34.6977,2,  34.6985,2,   -999.0,9,   117.89,2,    33.12,2,  -999.00,9,     2.25,2, -999.000,9, -999.000,9, -999.000,9, -999.000,9,   -999.0,9, -999.000,9, -999.000,-999.0000,9,-999.0000,  -999.00,9,  -999.00, -999.000,9, -999.000
  06AQ19960317,  S04a,    34,  3,      7,     18,2,19960409,   0,-50.0830,   5.8767, 3797,   3500.5,   0.5982,  34.6930,2,  34.6895,2,   -999.0,9,   121.75,2,    33.08,2,  -999.00,9,     2.29,2, -999.000,9, -999.000,9, -999.000,9, -999.000,9,   -999.0,9, -999.000,9, -999.000,-999.0000,9,-999.0000,  -999.00,9,  -999.00, -999.000,9, -999.000
  06AQ19960317,  S04a,    34,  3,      6,     19,2,19960409,   0,-50.0830,   5.8767, 3797,   3685.9,   0.5489,  34.6904,2,-999.0000,9,   -999.0,9,   123.88,2,    33.09,2,  -999.00,9,     2.26,2, -999.000,9, -999.000,9, -999.000,9, -999.000,9,   -999.0,9, -999.000,9, -999.000,-999.0000,9,-999.0000,  -999.00,9,  -999.00, -999.000,9, -999.000
  06AQ19960317,  S04a,    34,  3,      5,     20,2,19960409,   0,-50.0830,   5.8767, 3797,   3688.0,   0.5486,  34.6904,2,-999.0000,9,   -999.0,9,   124.16,2,    33.25,2,  -999.00,9,     2.28,2, -999.000,9, -999.000,9, -999.000,9, -999.000,9,   -999.0,9, -999.000,9, -999.000,-999.0000,9,-999.0000,  -999.00,9,  -999.00, -999.000,9, -999.000
  06AQ19960317,  S04a,    34,  3,      4,     21,2,19960409,   0,-50.0830,   5.8767, 3797,   3690.2,   0.5470,  34.6902,2,-999.0000,9,   -999.0,9,   124.70,2,    33.43,2,  -999.00,9,     2.27,2, -999.000,9, -999.000,9, -999.000,9, -999.000,9,   -999.0,9, -999.000,9, -999.000,-999.0000,9,-999.0000,  -999.00,9,  -999.00, -999.000,9, -999.000
  06AQ19960317,  S04a,    34,  3,      3,     22,2,19960409,   0,-50.0830,   5.8767, 3797,   3779.7,   0.5150,  34.6883,2,  34.6855,2,   -999.0,9,   127.51,2,    33.19,2,  -999.00,9,     2.27,2, -999.000,9, -999.000,9, -999.000,9, -999.000,9,   -999.0,9, -999.000,9, -999.000,-999.0000,9,-999.0000,  -999.00,9,  -999.00, -999.000,9, -999.000
  06AQ19960317,  S04a,    34,  3,      2,     23,2,19960409,   0,-50.0830,   5.8767, 3797,   3784.4,   0.5149,  34.6880,2,-999.0000,9,   -999.0,9,   128.34,2,    33.52,2,  -999.00,9,     2.28,2, -999.000,9, -999.000,9, -999.000,9, -999.000,9,   -999.0,9, -999.000,9, -999.000,-999.0000,9,-999.0000,  -999.00,9,  -999.00, -999.000,9, -999.000
  06AQ19960317,  S04a,    34,  3,      1,     24,2,19960409,   0,-50.0830,   5.8767, 3797,   3789.1,   0.5158,  34.6881,2,-999.0000,9,   -999.0,9,   128.48,2,    33.45,2,  -999.00,9,     2.28,2, -999.000,9, -999.000,9, -999.000,9, -999.000,9,   -999.0,9, -999.000,9, -999.000,-999.0000,9,-999.0000,  -999.00,9,  -999.00, -999.000,9, -999.000