BOTTLE,20150129PRINUNIVRMK
EXPOCODE,SECT_ID,STNNBR,CASTNO,SAMPNO,BTLNBR,BTLNBR_FLAG_W,DATE,TIME,LATITUDE,LONGITUDE,DEPTH,CTDPRS,CTDTMP,CTDSAL,CTDSAL_FLAG_W,SALNTY,SALNTY_FLAG_W,OXYGEN,OXYGEN_FLAG_W,SILCAT,SILCAT_FLAG_W,NITRAT,NITRAT_FLAG_W,NITRIT,NITRIT_FLAG_W,PHSPHT,PHSPHT_FLAG_W,CFC-11,CFC-11_FLAG_W,CFC-12,CFC-12_FLAG_W,CFC113,CFC113_FLAG_W,CCL4,CCL4_FLAG_W,TCARBN,TCARBN_FLAG_W,TRITUM,TRITUM_FLAG_W,TRITER,HELIUM,HELIUM_FLAG_W,HELIER,DELHE3,DELHE3_FLAG_W,DELHER,NEON,NEON_FLAG_W,NEONER
,,,,,,,,,,,METERS,DBAR,ITS-90,PSS-78,,PSS-78,,UMOL/KG,,UMOL/KG,,UMOL/KG,,UMOL/KG,,UMOL/KG,,PMOL/KG,,PMOL/KG,,PMOL/KG,,PMOL/KG,,UMOL/KG,,TU,,TU,NMOL/KG,,NMOL/KG,PERCNT,,PERCNT,NMOL/KG,,NMOL/KG
  06AQ19960317,  S04a,    75,  4,     23,      1,2,19960426,   0,-69.9875, -14.7302, 4716,    500.6,   0.7736,  34.6974,2,  34.6962,2,    196.7,2,   108.61,2,    33.27,2,     0.01,2,     2.28,2, -999.000,9, -999.000,9, -999.000,9, -999.000,9,   2262.2,2, -999.000,9, -999.000,-999.0000,9,-999.0000,  -999.00,9,  -999.00, -999.000,9, -999.000
  06AQ19960317,  S04a,    75,  4,     22,      2,2,19960426,   0,-69.9875, -14.7302, 4716,    750.3,   0.5529,  34.6908,2,  34.6878,2,    198.5,2,   116.06,2,    33.90,2,     0.01,2,     2.32,2,    0.245,2,    0.119,2,    0.011,2,    0.464,2,   2268.7,2, -999.000,9, -999.000,-999.0000,9,-999.0000,  -999.00,9,  -999.00, -999.000,9, -999.000
  06AQ19960317,  S04a,    75,  4,     20,      4,2,19960426,   0,-69.9875, -14.7302, 4716,   1000.9,   0.4084,  34.6846,2,-999.0000,9,    201.6,2,   119.89,2,    33.99,2,     0.00,2,     2.33,2, -999.000,9, -999.000,9, -999.000,9, -999.000,9,   -999.0,9, -999.000,9, -999.000,-999.0000,9,-999.0000,  -999.00,9,  -999.00, -999.000,9, -999.000
  06AQ19960317,  S04a,    75,  4,     21,      3,2,19960426,   0,-69.9875, -14.7302, 4716,   1001.1,   0.4093,  34.6857,2,  34.6836,2,   -999.0,9,   119.83,2,    33.92,2,     0.01,2,     2.33,2,    0.182,2,    0.088,2,    0.007,2,    0.410,2,   2266.8,2, -999.000,9, -999.000,-999.0000,9,-999.0000,  -999.00,9,  -999.00, -999.000,9, -999.000
  06AQ19960317,  S04a,    75,  4,     19,      5,2,19960426,   0,-69.9875, -14.7302, 4716,   1251.5,   0.2771,  34.6802,2,-999.0000,9,    206.3,2,   122.33,2,    33.89,2,     0.01,2,     2.32,2,    0.173,2,    0.086,2,    0.006,2,    0.406,2,   2266.2,2, -999.000,9, -999.000,-999.0000,9,-999.0000,  -999.00,9,  -999.00, -999.000,9, -999.000
  06AQ19960317,  S04a,    75,  4,     16,      8,2,19960426,   0,-69.9875, -14.7302, 4716,   1500.7,   0.1656,  34.6760,2,-999.0000,9,   -999.0,9,   123.61,2,    33.74,2,     0.01,2,     2.31,2, -999.000,9, -999.000,9, -999.000,9, -999.000,9,   -999.0,9, -999.000,9, -999.000,-999.0000,9,-999.0000,  -999.00,9,  -999.00, -999.000,9, -999.000
  06AQ19960317,  S04a,    75,  4,     17,      7,2,19960426,   0,-69.9875, -14.7302, 4716,   1500.9,   0.1671,  34.6758,2,-999.0000,9,   -999.0,9,  -999.00,9,  -999.00,9,  -999.00,9,  -999.00,9, -999.000,9, -999.000,9, -999.000,9, -999.000,9,   -999.0,9, -999.000,9, -999.000,-999.0000,9,-999.0000,  -999.00,9,  -999.00, -999.000,9, -999.000
  06AQ19960317,  S04a,    75,  4,     18,      6,2,19960426,   0,-69.9875, -14.7302, 4716,   1501.3,   0.1691,  34.6745,2,-999.0000,9,    206.6,2,   123.14,2,    33.72,2,     0.01,2,     2.31,2,    0.172,2,    0.087,2,    0.006,2,    0.428,2,   2264.5,2, -999.000,9, -999.000,-999.0000,9,-999.0000,  -999.00,9,  -999.00, -999.000,9, -999.000
  06AQ19960317,  S04a,    75,  4,     15,      9,2,19960426,   0,-69.9875, -14.7302, 4716,   1751.4,   0.0755,  34.6712,2,  34.6714,2,    215.3,2,   124.61,2,    33.87,2,     0.01,2,     2.32,2,    0.182,2,    0.097,2,    0.008,2,    0.457,2,   2263.8,2, -999.000,9, -999.000,-999.0000,9,-999.0000,  -999.00,9,  -999.00, -999.000,9, -999.000
  06AQ19960317,  S04a,    75,  4,     14,     10,2,19960426,   0,-69.9875, -14.7302, 4716,   2001.0,   0.0021,  34.6686,2,-999.0000,9,    219.3,2,   124.68,2,    33.73,2,     0.00,2,     2.31,2,    0.208,2,    0.106,2,    0.008,2,    0.494,2,   2259.9,2, -999.000,9, -999.000,-999.0000,9,-999.0000,  -999.00,9,  -999.00, -999.000,9, -999.000
  06AQ19960317,  S04a,    75,  4,     13,     11,2,19960426,   0,-69.9875, -14.7302, 4716,   2500.5,  -0.1223,  34.6632,2,-999.0000,9,    225.8,2,   124.47,2,    33.50,2,     0.01,2,     2.29,2,    0.296,2,    0.146,2,    0.012,2,    0.622,2,   2256.0,2, -999.000,9, -999.000,-999.0000,9,-999.0000,  -999.00,9,  -999.00, -999.000,9, -999.000
  06AQ19960317,  S04a,    75,  4,     10,     14,2,19960426,   0,-69.9875, -14.7302, 4716,   3000.0,  -0.2034,  34.6608,2,-999.0000,9,   -999.0,9,   123.48,2,    33.20,2,     0.00,2,     2.27,2, -999.000,9, -999.000,9, -999.000,9, -999.000,9,   -999.0,9, -999.000,9, -999.000,-999.0000,9,-999.0000,  -999.00,9,  -999.00, -999.000,9, -999.000
  06AQ19960317,  S04a,    75,  4,     11,     13,2,19960426,   0,-69.9875, -14.7302, 4716,   3000.2,  -0.2032,  34.6602,2,-999.0000,9,   -999.0,9,   123.92,2,    33.35,2,     0.00,2,     2.28,2, -999.000,9, -999.000,9, -999.000,9, -999.000,9,   -999.0,9, -999.000,9, -999.000,-999.0000,9,-999.0000,  -999.00,9,  -999.00, -999.000,9, -999.000
  06AQ19960317,  S04a,    75,  4,     12,     12,2,19960426,   0,-69.9875, -14.7302, 4716,   3000.4,  -0.2028,  34.6603,2,-999.0000,9,    231.4,2,   123.94,2,    33.31,2,     0.01,2,     2.28,2,    0.394,2,    0.196,2,    0.016,2,    0.776,2,   2252.7,2, -999.000,9, -999.000,-999.0000,9,-999.0000,  -999.00,9,  -999.00, -999.000,9, -999.000
  06AQ19960317,  S04a,    75,  4,      9,     15,2,19960426,   0,-69.9875, -14.7302, 4716,   3499.6,  -0.2566,  34.6578,2,  34.6591,2,    236.0,2,   123.31,2,    33.10,2,     0.01,2,     2.27,2,    0.479,2,    0.230,2,    0.019,2,    0.893,2,   2251.4,2, -999.000,9, -999.000,-999.0000,9,-999.0000,  -999.00,9,  -999.00, -999.000,9, -999.000
  06AQ19960317,  S04a,    75,  4,      8,     16,2,19960426,   0,-69.9875, -14.7302, 4716,   3999.4,  -0.2863,  34.6554,2,  34.6571,2,    239.7,2,   124.69,2,    33.25,2,     0.00,2,     2.27,2,    0.551,2,    0.269,2,    0.023,2,    0.976,2,   2252.3,2, -999.000,9, -999.000,-999.0000,9,-999.0000,  -999.00,9,  -999.00, -999.000,9, -999.000
  06AQ19960317,  S04a,    75,  4,      7,     17,2,19960426,   0,-69.9875, -14.7302, 4716,   4298.5,  -0.2924,  34.6549,2,  34.6553,2,    240.3,2,   126.47,2,    33.20,2,     0.00,2,     2.27,2,    0.489,2,    0.235,2,    0.021,2,    0.919,2,   2255.0,2, -999.000,9, -999.000,-999.0000,9,-999.0000,  -999.00,9,  -999.00, -999.000,9, -999.000
  06AQ19960317,  S04a,    75,  4,      4,     20,2,19960426,   0,-69.9875, -14.7302, 4716,   4698.5,  -0.3685,  34.6514,2,-999.0000,9,   -999.0,9,   129.79,2,    33.50,2,     0.01,2,     2.29,2, -999.000,9, -999.000,9, -999.000,9, -999.000,9,   -999.0,9, -999.000,9, -999.000,-999.0000,9,-999.0000,  -999.00,9,  -999.00, -999.000,9, -999.000
  06AQ19960317,  S04a,    75,  4,      5,     19,2,19960426,   0,-69.9875, -14.7302, 4716,   4698.6,  -0.3684,  34.6514,2,-999.0000,9,   -999.0,9,   128.78,2,    33.16,2,     0.01,2,     2.27,2, -999.000,9, -999.000,9, -999.000,9, -999.000,9,   -999.0,9, -999.000,9, -999.000,-999.0000,9,-999.0000,  -999.00,9,  -999.00, -999.000,9, -999.000
  06AQ19960317,  S04a,    75,  4,      6,     18,2,19960426,   0,-69.9875, -14.7302, 4716,   4698.7,  -0.3682,  34.6517,2,-999.0000,9,    243.7,2,   128.58,2,    33.12,2,     0.01,2,     2.26,2,    0.347,2,    0.172,2,    0.014,2,    0.818,2,   2251.7,2, -999.000,9, -999.000,-999.0000,9,-999.0000,  -999.00,9,  -999.00, -999.000,9, -999.000
  06AQ19960317,  S04a,    75,  4,      3,     21,2,19960426,   0,-69.9875, -14.7302, 4716,   4749.2,  -0.4018,  34.6504,2,-999.0000,9,    244.3,2,   128.41,2,    33.21,2,     0.01,2,     2.27,2,    0.359,2,    0.182,2,    0.014,2,    0.834,2,   2245.5,2, -999.000,9, -999.000,-999.0000,9,-999.0000,  -999.00,9,  -999.00, -999.000,9, -999.000
  06AQ19960317,  S04a,    75,  4,     24,     24,2,19960426,   0,-69.9875, -14.7302, 4716,   4796.2,  -0.4336,  34.6492,2,-999.0000,9,   -999.0,9,   129.09,2,    33.16,2,     0.00,2,     2.26,2, -999.000,9, -999.000,9, -999.000,9, -999.000,9,   -999.0,9, -999.000,9, -999.000,-999.0000,9,-999.0000,  -999.00,9,  -999.00, -999.000,9, -999.000
  06AQ19960317,  S04a,    75,  4,      1,     23,2,19960426,   0,-69.9875, -14.7302, 4716,   4796.9,  -0.4335,  34.6490,2,-999.0000,9,    244.6,2,   129.53,2,    33.24,2,     0.00,2,     2.26,2, -999.000,9, -999.000,9, -999.000,9, -999.000,9,   -999.0,9, -999.000,9, -999.000,-999.0000,9,-999.0000,  -999.00,9,  -999.00, -999.000,9, -999.000
  06AQ19960317,  S04a,    75,  4,      2,     22,2,19960426,   0,-69.9875, -14.7302, 4716,   4797.1,  -0.4337,  34.6493,2,  34.6464,2,   -999.0,9,   129.37,2,    33.15,2,     0.00,2,     2.26,2,    0.353,2,    0.179,2,    0.012,2,    0.848,2,   -999.0,9, -999.000,9, -999.000,-999.0000,9,-999.0000,  -999.00,9,  -999.00, -999.000,9, -999.000
  06AQ19960317,  S04a,    76,  1,     23,      1,2,19960427,   0,-69.6575, -15.6565, 4738,     20.8,  -1.8483,  34.2586,2,  34.2565,2,    333.0,2,    60.42,2,    27.17,2,     0.21,2,     1.88,2,    6.018,6,    2.926,6,    0.468,6,    7.972,6,   2198.5,2, -999.000,9, -999.000,-999.0000,9,-999.0000,  -999.00,9,  -999.00, -999.000,9, -999.000
  06AQ19960317,  S04a,    76,  1,     22,      2,2,19960427,   0,-69.6575, -15.6565, 4738,     50.8,  -1.8473,  34.2614,2,  34.2563,2,    334.0,2,    60.26,2,    27.13,2,     0.21,2,     1.89,2, -999.000,9, -999.000,9, -999.000,9, -999.000,9,   2199.7,2, -999.000,9, -999.000,-999.0000,9,-999.0000,  -999.00,9,  -999.00, -999.000,9, -999.000
  06AQ19960317,  S04a,    76,  1,     21,      3,2,19960427,   0,-69.6575, -15.6565, 4738,     80.4,  -0.6264,  34.5114,2,  34.5149,2,    233.4,2,    84.73,2,    32.64,2,     0.20,2,     2.23,2, -999.000,9, -999.000,9, -999.000,9, -999.000,9,   2246.6,2, -999.000,9, -999.000,-999.0000,9,-999.0000,  -999.00,9,  -999.00, -999.000,9, -999.000
  06AQ19960317,  S04a,    76,  1,     20,      4,2,19960427,   0,-69.6575, -15.6565, 4738,     80.4,  -0.6252,  34.5129,2,  34.5164,2,   -999.0,9,    85.12,2,    32.66,2,     0.19,2,     2.24,2, -999.000,9, -999.000,9, -999.000,9, -999.000,9,   -999.0,9, -999.000,9, -999.000,-999.0000,9,-999.0000,  -999.00,9,  -999.00, -999.000,9, -999.000
  06AQ19960317,  S04a,    76,  1,     19,      5,2,19960427,   0,-69.6575, -15.6565, 4738,     99.8,   0.0602,  34.5959,2,  34.6030,2,    207.4,2,    91.16,2,    33.40,2,     0.04,2,     2.27,2, -999.000,9, -999.000,9, -999.000,9, -999.000,9,   2257.5,2, -999.000,9, -999.000,-999.0000,9,-999.0000,  -999.00,9,  -999.00, -999.000,9, -999.000
  06AQ19960317,  S04a,    76,  1,     18,      6,2,19960427,   0,-69.6575, -15.6565, 4738,    150.3,   0.7832,  34.6694,2,  34.6706,2,    193.5,2,    97.23,2,    33.63,2,     0.02,2,     2.28,2,    0.783,6,    0.365,6,    0.052,6,    1.089,6,   2263.4,2, -999.000,9, -999.000,-999.0000,9,-999.0000,  -999.00,9,  -999.00, -999.000,9, -999.000
  06AQ19960317,  S04a,    76,  1,     17,      7,2,19960427,   0,-69.6575, -15.6565, 4738,    201.3,   0.8873,  34.6854,2,  34.6862,2,    191.6,2,    99.20,2,    33.44,2,     0.02,2,     2.26,2, -999.000,9, -999.000,9, -999.000,9, -999.000,9,   2261.9,2, -999.000,9, -999.000,-999.0000,9,-999.0000,  -999.00,9,  -999.00, -999.000,9, -999.000
  06AQ19960317,  S04a,    76,  1,     16,      8,2,19960427,   0,-69.6575, -15.6565, 4738,    260.5,   0.9325,  34.6942,2,  34.6948,2,    192.4,2,   101.44,2,    33.28,2,     0.02,2,     2.25,2, -999.000,9, -999.000,9, -999.000,9, -999.000,9,   2263.2,2, -999.000,9, -999.000,-999.0000,9,-999.0000,  -999.00,9,  -999.00, -999.000,9, -999.000
  06AQ19960317,  S04a,    76,  1,     15,      9,2,19960427,   0,-69.6575, -15.6565, 4738,    320.1,   0.9031,  34.6973,2,  34.6980,2,    194.2,2,   102.99,2,    33.20,2,     0.02,2,     2.25,2, -999.000,9, -999.000,9, -999.000,9, -999.000,9,   2263.6,2, -999.000,9, -999.000,-999.0000,9,-999.0000,  -999.00,9,  -999.00, -999.000,9, -999.000
  06AQ19960317,  S04a,    76,  1,     14,     10,2,19960427,   0,-69.6575, -15.6565, 4738,    370.9,   0.8600,  34.6977,2,  34.6973,2,    196.4,2,   104.83,2,    33.23,2,     0.01,2,     2.25,2, -999.000,9, -999.000,9, -999.000,9, -999.000,9,   2263.7,2, -999.000,9, -999.000,-999.0000,9,-999.0000,  -999.00,9,  -999.00, -999.000,9, -999.000
  06AQ19960317,  S04a,    76,  1,     13,     11,2,19960427,   0,-69.6575, -15.6565, 4738,    450.8,   0.7819,  34.6969,2,  34.6968,2,    196.7,2,   106.53,2,    33.20,2,     0.01,2,     2.25,2, -999.000,9, -999.000,9, -999.000,9, -999.000,9,   2264.3,2, -999.000,9, -999.000,-999.0000,9,-999.0000,  -999.00,9,  -999.00, -999.000,9, -999.000
  06AQ19960317,  S04a,    76,  1,     12,     12,2,19960427,   0,-69.6575, -15.6565, 4738,    551.1,   0.7008,  34.6943,2,  34.6943,2,    198.7,2,   109.25,2,    33.26,2,     0.01,2,     2.25,2, -999.000,9, -999.000,9, -999.000,9, -999.000,9,   2265.8,2, -999.000,9, -999.000,-999.0000,9,-999.0000,  -999.00,9,  -999.00, -999.000,9, -999.000
  06AQ19960317,  S04a,    76,  1,     11,     13,2,19960427,   0,-69.6575, -15.6565, 4738,    750.9,   0.5739,  34.6913,2,  34.6918,2,    199.4,2,   114.55,2,    33.53,2,     0.01,2,     2.29,2, -999.000,9, -999.000,9, -999.000,9, -999.000,9,   2265.9,2, -999.000,9, -999.000,-999.0000,9,-999.0000,  -999.00,9,  -999.00, -999.000,9, -999.000
  06AQ19960317,  S04a,    76,  1,     10,     14,2,19960427,   0,-69.6575, -15.6565, 4738,   1001.5,   0.4110,  34.6860,2,  34.6860,2,    201.9,2,   119.58,2,    33.85,2,     0.01,2,     2.29,2, -999.000,9, -999.000,9, -999.000,9, -999.000,9,   2269.2,2, -999.000,9, -999.000,-999.0000,9,-999.0000,  -999.00,9,  -999.00, -999.000,9, -999.000
  06AQ19960317,  S04a,    76,  1,      9,     15,2,19960427,   0,-69.6575, -15.6565, 4738,   1501.0,   0.1730,  34.6747,2,  34.6754,2,    208.3,2,   124.05,2,    33.99,2,     0.01,2,     2.32,2, -999.000,9, -999.000,9, -999.000,9, -999.000,9,   2267.2,2, -999.000,9, -999.000,-999.0000,9,-999.0000,  -999.00,9,  -999.00, -999.000,9, -999.000
  06AQ19960317,  S04a,    76,  1,      8,     16,2,19960427,   0,-69.6575, -15.6565, 4738,   2002.0,  -0.0080,  34.6669,2,  34.6681,2,    217.2,2,   125.19,2,    33.79,2,     0.01,2,     2.31,2, -999.000,9, -999.000,9, -999.000,9, -999.000,9,   2265.3,2, -999.000,9, -999.000,-999.0000,9,-999.0000,  -999.00,9,  -999.00, -999.000,9, -999.000
  06AQ19960317,  S04a,    76,  1,      7,     17,2,19960427,   0,-69.6575, -15.6565, 4738,   2500.9,  -0.1314,  34.6623,2,  34.6631,2,    225.7,2,   124.52,2,    33.58,2,     0.00,2,     2.29,2, -999.000,9, -999.000,9, -999.000,9, -999.000,9,   2260.8,2, -999.000,9, -999.000,-999.0000,9,-999.0000,  -999.00,9,  -999.00, -999.000,9, -999.000
  06AQ19960317,  S04a,    76,  1,      6,     18,2,19960427,   0,-69.6575, -15.6565, 4738,   3000.7,  -0.2112,  34.6606,2,  34.6598,2,    230.8,2,   123.72,2,    33.33,2,     0.01,2,     2.28,2, -999.000,9, -999.000,9, -999.000,9, -999.000,9,   2259.9,2, -999.000,9, -999.000,-999.0000,9,-999.0000,  -999.00,9,  -999.00, -999.000,9, -999.000
  06AQ19960317,  S04a,    76,  1,      5,     19,2,19960427,   0,-69.6575, -15.6565, 4738,   3500.8,  -0.2636,  34.6572,2,  34.6570,2,    236.5,2,   123.16,2,    33.16,2,     0.00,2,     2.27,2, -999.000,9, -999.000,9, -999.000,9, -999.000,9,   2258.6,2, -999.000,9, -999.000,-999.0000,9,-999.0000,  -999.00,9,  -999.00, -999.000,9, -999.000
  06AQ19960317,  S04a,    76,  1,      4,     20,2,19960427,   0,-69.6575, -15.6565, 4738,   3999.8,  -0.2924,  34.6556,2,  34.6567,2,    238.7,2,   126.12,2,    33.71,2,     0.01,2,     2.31,2,    0.489,2,    0.236,2,    0.024,2,    0.939,2,   2254.7,2,    0.042,2, -999.000,   1.8900,2,   0.0050,     5.77,2,     0.22,    8.266,2,    0.018
  06AQ19960317,  S04a,    76,  1,      3,     21,2,19960427,   0,-69.6575, -15.6565, 4738,   4498.8,  -0.3144,  34.6542,2,  34.6565,2,    240.2,2,   127.30,2,    33.28,2,     0.01,2,     2.28,2,    0.369,2,    0.180,2,    0.015,2,    0.797,2,   2257.2,2,    0.102,2, -999.000,   1.8970,2,   0.0050,     5.06,2,     0.22,    8.303,2,    0.019
  06AQ19960317,  S04a,    76,  1,      2,     22,2,19960427,   0,-69.6575, -15.6565, 4738,   4732.0,  -0.3934,  34.6510,2,  34.6541,2,    243.1,2,   127.80,2,    33.22,2,     0.01,2,     2.27,2,    0.326,2,    0.161,2,    0.010,2,    0.800,2,   2256.8,2,    0.099,2, -999.000,   1.8650,2,   0.0050,     4.67,2,     0.22,    8.213,2,    0.018
  06AQ19960317,  S04a,    76,  1,      1,     23,2,19960427,   0,-69.6575, -15.6565, 4738,   4780.7,  -0.4256,  34.6496,2,  34.6493,2,    243.5,2,   129.87,2,    33.36,2,     0.01,2,     2.31,2,    0.340,2,    0.169,2,    0.008,2,    0.837,2,   2258.4,2,    0.092,2, -999.000,   1.9120,2,   0.0050,     4.89,2,     0.22,    8.383,2,    0.019
  06AQ19960317,  S04a,    76,  1,     24,     24,2,19960427,   0,-69.6575, -15.6565, 4738,   4821.7,  -0.4319,  34.6496,2,  34.6473,2,    243.5,2,   131.06,2,    33.52,2,     0.01,2,     2.30,2,    0.343,2,    0.169,2,    0.000,2,    0.881,2,   2259.1,2,    0.043,2, -999.000,   1.9160,2,   0.0050,     4.63,2,     0.22,    8.366,2,    0.019