BOTTLE,20150129PRINUNIVRMK
EXPOCODE,SECT_ID,STNNBR,CASTNO,SAMPNO,BTLNBR,BTLNBR_FLAG_W,DATE,TIME,LATITUDE,LONGITUDE,DEPTH,CTDPRS,CTDTMP,CTDSAL,CTDSAL_FLAG_W,SALNTY,SALNTY_FLAG_W,OXYGEN,OXYGEN_FLAG_W,SILCAT,SILCAT_FLAG_W,NITRAT,NITRAT_FLAG_W,NITRIT,NITRIT_FLAG_W,PHSPHT,PHSPHT_FLAG_W,CFC-11,CFC-11_FLAG_W,CFC-12,CFC-12_FLAG_W,CFC113,CFC113_FLAG_W,CCL4,CCL4_FLAG_W,TCARBN,TCARBN_FLAG_W,TRITUM,TRITUM_FLAG_W,TRITER,HELIUM,HELIUM_FLAG_W,HELIER,DELHE3,DELHE3_FLAG_W,DELHER,NEON,NEON_FLAG_W,NEONER
,,,,,,,,,,,METERS,DBAR,ITS-90,PSS-78,,PSS-78,,UMOL/KG,,UMOL/KG,,UMOL/KG,,UMOL/KG,,UMOL/KG,,PMOL/KG,,PMOL/KG,,PMOL/KG,,PMOL/KG,,UMOL/KG,,TU,,TU,NMOL/KG,,NMOL/KG,PERCNT,,PERCNT,NMOL/KG,,NMOL/KG
  06AQ19960317,  S04a,    62,  3,     23,      1,2,19960421,   0,-68.9990,  -0.0032, 3357,    751.7,   0.5065,  34.6842,2,  34.6826,2,    206.7,2,   110.38,2,    32.81,2,  -999.00,9,     2.21,2,    0.483,2,    0.219,2,    0.025,2,    0.673,2,   2256.2,2, -999.000,9, -999.000,-999.0000,9,-999.0000,  -999.00,9,  -999.00, -999.000,9, -999.000
  06AQ19960317,  S04a,    62,  3,     22,      2,2,19960421,   0,-68.9990,  -0.0032, 3357,    850.4,   0.4514,  34.6820,2,  34.6826,2,    207.3,2,   112.31,2,    32.86,2,  -999.00,9,     2.23,2, -999.000,9, -999.000,9, -999.000,9, -999.000,9,   2256.8,2, -999.000,9, -999.000,-999.0000,9,-999.0000,  -999.00,9,  -999.00, -999.000,9, -999.000
  06AQ19960317,  S04a,    62,  3,     19,      5,2,19960421,   0,-68.9990,  -0.0032, 3357,   1001.7,   0.3783,  34.6826,2,-999.0000,9,   -999.0,9,   116.63,2,    33.17,2,  -999.00,9,     2.26,2, -999.000,9, -999.000,9, -999.000,9, -999.000,9,   -999.0,9, -999.000,9, -999.000,-999.0000,9,-999.0000,  -999.00,9,  -999.00, -999.000,9, -999.000
  06AQ19960317,  S04a,    62,  3,     20,      4,2,19960421,   0,-68.9990,  -0.0032, 3357,   1002.2,   0.3798,  34.6825,2,-999.0000,9,   -999.0,9,   116.57,2,    33.15,2,  -999.00,9,     2.26,2, -999.000,9, -999.000,9, -999.000,9, -999.000,9,   -999.0,9, -999.000,9, -999.000,-999.0000,9,-999.0000,  -999.00,9,  -999.00, -999.000,9, -999.000
  06AQ19960317,  S04a,    62,  3,     21,      3,2,19960421,   0,-68.9990,  -0.0032, 3357,   1002.4,   0.3816,  34.6827,2,  34.6825,2,    206.9,2,   117.01,2,    33.21,2,  -999.00,9,     2.26,2, -999.000,9, -999.000,9, -999.000,9, -999.000,9,   2261.3,2, -999.000,9, -999.000,-999.0000,9,-999.0000,  -999.00,9,  -999.00, -999.000,9, -999.000
  06AQ19960317,  S04a,    62,  3,     18,      6,2,19960421,   0,-68.9990,  -0.0032, 3357,   1251.1,   0.2737,  34.6794,2,  34.6793,2,    207.9,2,   120.64,2,    33.43,2,  -999.00,9,     2.28,2,    0.262,2,    0.122,2,    0.009,2,    0.494,2,   2261.3,2,    0.024,2, -999.000,   1.8710,2,   0.0050,     8.39,2,     0.22,    8.148,2,    0.018
  06AQ19960317,  S04a,    62,  3,     17,      7,2,19960421,   0,-68.9990,  -0.0032, 3357,   1499.7,   0.1554,  34.6743,2,  34.6742,2,    212.4,2,   121.78,2,    33.38,2,  -999.00,9,     2.28,2, -999.000,9, -999.000,9, -999.000,9, -999.000,9,   2258.1,2, -999.000,9, -999.000,-999.0000,9,-999.0000,  -999.00,9,  -999.00, -999.000,9, -999.000
  06AQ19960317,  S04a,    62,  3,     16,      8,2,19960421,   0,-68.9990,  -0.0032, 3357,   1751.1,   0.0616,  34.6711,2,  34.6706,2,    216.7,2,   122.93,2,    33.37,2,  -999.00,9,     2.27,2,    0.293,2,    0.137,2,    0.012,2,    0.564,2,   2259.4,2,    0.018,2, -999.000,   1.8720,2,   0.0050,     6.81,2,     0.22,    8.147,2,    0.018
  06AQ19960317,  S04a,    62,  3,     15,      9,2,19960421,   0,-68.9990,  -0.0032, 3357,   2000.9,  -0.0147,  34.6671,2,  34.6682,2,    220.1,2,   123.34,2,    33.28,2,  -999.00,9,     2.28,2, -999.000,9, -999.000,9, -999.000,9, -999.000,9,   2257.4,2, -999.000,9, -999.000,-999.0000,9,-999.0000,  -999.00,9,  -999.00, -999.000,9, -999.000
  06AQ19960317,  S04a,    62,  3,     11,     13,2,19960421,   0,-68.9990,  -0.0032, 3357,   2500.8,  -0.1206,  34.6638,2,-999.0000,9,   -999.0,9,   123.21,2,    33.12,2,  -999.00,9,     2.27,2, -999.000,9, -999.000,9, -999.000,9, -999.000,9,   -999.0,9, -999.000,9, -999.000,-999.0000,9,-999.0000,  -999.00,9,  -999.00, -999.000,9, -999.000
  06AQ19960317,  S04a,    62,  3,     12,     12,2,19960421,   0,-68.9990,  -0.0032, 3357,   2501.6,  -0.1218,  34.6641,2,-999.0000,9,   -999.0,9,   122.98,2,    33.05,2,  -999.00,9,     2.26,2, -999.000,9, -999.000,9, -999.000,9, -999.000,9,   -999.0,9, -999.000,9, -999.000,-999.0000,9,-999.0000,  -999.00,9,  -999.00, -999.000,9, -999.000
  06AQ19960317,  S04a,    62,  3,     13,     11,2,19960421,   0,-68.9990,  -0.0032, 3357,   2501.9,  -0.1224,  34.6643,2,  34.6640,2,    226.2,2,   123.58,2,    33.30,2,  -999.00,9,     2.28,2,    0.473,2,    0.219,2,    0.020,2,    0.806,2,   2255.4,2,    0.019,2, -999.000,   1.8770,2,   0.0050,     6.98,2,     0.22,    8.201,2,    0.018
  06AQ19960317,  S04a,    62,  3,     14,     10,2,19960421,   0,-68.9990,  -0.0032, 3357,   2502.1,  -0.1227,  34.6640,2,-999.0000,9,   -999.0,9,   123.13,2,    33.16,2,  -999.00,9,     2.26,2, -999.000,9, -999.000,9, -999.000,9, -999.000,9,   -999.0,9, -999.000,9, -999.000,-999.0000,9,-999.0000,  -999.00,9,  -999.00, -999.000,9, -999.000
  06AQ19960317,  S04a,    62,  3,     10,     14,2,19960421,   0,-68.9990,  -0.0032, 3357,   2750.6,  -0.1610,  34.6625,2,  34.6624,2,    229.0,2,   122.52,2,    33.07,2,  -999.00,9,     2.26,2, -999.000,9, -999.000,9, -999.000,9, -999.000,9,   2254.8,2, -999.000,9, -999.000,-999.0000,9,-999.0000,  -999.00,9,  -999.00, -999.000,9, -999.000
  06AQ19960317,  S04a,    62,  3,      9,     15,2,19960421,   0,-68.9990,  -0.0032, 3357,   2999.9,  -0.1788,  34.6620,2,  34.6612,2,    230.6,2,   123.33,2,    33.07,2,  -999.00,9,     2.27,2,    0.614,2,    0.287,2,    0.025,2,    0.969,2,   2253.5,2,    0.046,2, -999.000,   1.8690,2,   0.0050,     6.68,2,     0.22,    8.195,2,    0.018
  06AQ19960317,  S04a,    62,  3,      8,     16,2,19960421,   0,-68.9990,  -0.0032, 3357,   3150.7,  -0.1736,  34.6618,2,  34.6612,2,    231.0,2,   123.38,2,    33.05,2,  -999.00,9,     2.26,2, -999.000,9, -999.000,9, -999.000,9, -999.000,9,   2256.4,2, -999.000,9, -999.000,-999.0000,9,-999.0000,  -999.00,9,  -999.00, -999.000,9, -999.000
  06AQ19960317,  S04a,    62,  3,      5,     19,2,19960421,   0,-68.9990,  -0.0032, 3357,   3259.9,  -0.1766,  34.6621,2,-999.0000,9,   -999.0,9,   123.30,2,    33.04,2,  -999.00,9,     2.25,2, -999.000,9, -999.000,9, -999.000,9, -999.000,9,   -999.0,9, -999.000,9, -999.000,-999.0000,9,-999.0000,  -999.00,9,  -999.00, -999.000,9, -999.000
  06AQ19960317,  S04a,    62,  3,      6,     18,2,19960421,   0,-68.9990,  -0.0032, 3357,   3260.2,  -0.1751,  34.6621,2,-999.0000,9,   -999.0,9,   123.27,2,    33.07,2,  -999.00,9,     2.25,2, -999.000,9, -999.000,9, -999.000,9, -999.000,9,   -999.0,9, -999.000,9, -999.000,-999.0000,9,-999.0000,  -999.00,9,  -999.00, -999.000,9, -999.000
  06AQ19960317,  S04a,    62,  3,      7,     17,2,19960421,   0,-68.9990,  -0.0032, 3357,   3260.4,  -0.1750,  34.6612,2,  34.6610,2,    231.1,2,   123.40,2,    33.03,2,  -999.00,9,     2.26,2,    0.630,2,    0.297,2,    0.026,2,    1.007,2,   -999.0,9,    0.038,2, -999.000,   2.0810,4,   0.0060,     6.79,2,     0.22,    8.655,4,    0.019
  06AQ19960317,  S04a,    62,  3,      4,     20,2,19960421,   0,-68.9990,  -0.0032, 3357,   3309.9,  -0.1795,  34.6615,2,  34.6607,2,    231.7,2,   123.48,2,    33.10,2,  -999.00,9,     2.26,2,    0.630,2,    0.295,2,    0.029,2,    1.012,2,   2256.1,2,    0.041,2, -999.000,   1.8730,2,   0.0050,     6.17,2,     0.22,    8.199,2,    0.018
  06AQ19960317,  S04a,    62,  3,      3,     21,2,19960421,   0,-68.9990,  -0.0032, 3357,   3358.5,  -0.1815,  34.6614,2,-999.0000,9,   -999.0,9,   123.32,2,    32.96,2,  -999.00,9,     2.25,2, -999.000,9, -999.000,9, -999.000,9, -999.000,9,   2255.7,2, -999.000,9, -999.000,-999.0000,9,-999.0000,  -999.00,9,  -999.00, -999.000,9, -999.000
  06AQ19960317,  S04a,    62,  3,      2,     22,2,19960421,   0,-68.9990,  -0.0032, 3357,   3358.7,  -0.1831,  34.6615,2,  34.6610,2,    231.9,2,   123.99,2,    33.11,2,  -999.00,9,     2.25,2,    0.627,2,    0.295,2,    0.032,2,    1.012,2,   2255.1,2,    0.124,2, -999.000,   1.8560,2,   0.0050,     6.09,2,     0.22,    8.154,2,    0.018
  06AQ19960317,  S04a,    62,  3,      1,     23,2,19960421,   0,-68.9990,  -0.0032, 3357,   3358.8,  -0.1841,  34.6615,2,-999.0000,9,   -999.0,9,   123.64,2,    33.09,2,  -999.00,9,     2.25,2, -999.000,9, -999.000,9, -999.000,9, -999.000,9,   -999.0,9, -999.000,9, -999.000,-999.0000,9,-999.0000,  -999.00,9,  -999.00, -999.000,9, -999.000
  06AQ19960317,  S04a,    62,  3,     24,     24,2,19960421,   0,-68.9990,  -0.0032, 3357,   3359.0,  -0.1839,  34.6614,2,-999.0000,9,   -999.0,9,   123.53,2,    32.96,2,  -999.00,9,     2.25,2, -999.000,9, -999.000,9, -999.000,9, -999.000,9,   -999.0,9, -999.000,9, -999.000,-999.0000,9,-999.0000,  -999.00,9,  -999.00, -999.000,9, -999.000
  06AQ19960317,  S04a,    63,  1,     23,      1,2,19960422,   0,-69.2505,   0.0027, 2569,     20.8,  -1.8581,  34.2700,2,  34.2715,2,    332.9,2,    54.29,2,    26.84,2,  -999.00,9,     1.89,2,    6.013,2,    3.046,2,    0.513,2,    7.707,2,   2196.9,2,    0.053,2, -999.000,   1.7970,2,   0.0050,    -0.63,2,     0.22,    8.044,2,    0.018
  06AQ19960317,  S04a,    63,  1,     22,      2,2,19960422,   0,-69.2505,   0.0027, 2569,     39.0,  -1.8560,  34.2693,2,  34.2681,2,    332.9,2,    53.98,2,    26.87,2,  -999.00,9,     1.88,2,    5.925,2,    3.010,2,    0.509,2,    7.645,2,   2196.0,2, -999.000,9, -999.000,-999.0000,9,-999.0000,  -999.00,9,  -999.00, -999.000,9, -999.000
  06AQ19960317,  S04a,    63,  1,     21,      3,2,19960422,   0,-69.2505,   0.0027, 2569,     60.0,  -1.8534,  34.2699,2,  34.2701,2,   -999.0,9,    54.27,2,    26.83,2,  -999.00,9,     1.89,2, -999.000,9, -999.000,9, -999.000,9, -999.000,9,   -999.0,9, -999.000,9, -999.000,-999.0000,9,-999.0000,  -999.00,9,  -999.00, -999.000,9, -999.000
  06AQ19960317,  S04a,    63,  1,     20,      4,2,19960422,   0,-69.2505,   0.0027, 2569,     60.0,  -1.8505,  34.2706,2,  34.2693,2,    332.6,2,    54.43,2,    27.00,2,  -999.00,9,     1.90,2,    5.805,2,    2.945,2,    0.505,2,    7.525,2,   -999.0,9,    0.106,2, -999.000,   1.8150,2,   0.0050,    -0.86,2,     0.22,    8.124,2,    0.018
  06AQ19960317,  S04a,    63,  1,     19,      5,2,19960422,   0,-69.2505,   0.0027, 2569,     80.0,  -1.7551,  34.3105,2,  34.3286,2,    315.2,2,    59.89,2,    28.77,2,  -999.00,9,     2.00,2, -999.000,9, -999.000,9, -999.000,9, -999.000,9,   2203.3,2, -999.000,9, -999.000,-999.0000,9,-999.0000,  -999.00,9,  -999.00, -999.000,9, -999.000
  06AQ19960317,  S04a,    63,  1,     18,      6,2,19960422,   0,-69.2505,   0.0027, 2569,    101.7,  -1.5845,  34.4180,2,  34.4178,2,    289.7,2,    68.44,2,    31.31,2,  -999.00,9,     2.15,2,    4.355,2,    2.183,2,    0.369,2,    5.380,2,   2222.5,2,    0.109,2, -999.000,   1.8410,2,   0.0050,     1.29,2,     0.22,    8.219,2,    0.018
  06AQ19960317,  S04a,    63,  1,     17,      7,2,19960422,   0,-69.2505,   0.0027, 2569,    136.2,  -1.4586,  34.4513,2,  34.4627,2,    274.8,2,    72.03,2,    31.97,2,  -999.00,9,     2.18,2,    3.838,2,    1.914,2,    0.323,2,    4.761,2,   2228.3,2, -999.000,9, -999.000,-999.0000,9,-999.0000,  -999.00,9,  -999.00, -999.000,9, -999.000
  06AQ19960317,  S04a,    63,  1,     16,      8,2,19960422,   0,-69.2505,   0.0027, 2569,    151.3,  -1.1839,  34.4794,2,  34.4791,2,    267.4,2,    73.92,2,    32.17,2,  -999.00,9,     2.19,2,    3.725,2,    1.830,2,    0.287,2,    4.352,2,   2230.6,2, -999.000,9, -999.000,-999.0000,9,-999.0000,  -999.00,9,  -999.00, -999.000,9, -999.000
  06AQ19960317,  S04a,    63,  1,     15,      9,2,19960422,   0,-69.2505,   0.0027, 2569,    198.6,  -0.5218,  34.5410,2,  34.5321,2,    246.8,2,    79.25,2,    32.38,2,  -999.00,9,     2.20,2, -999.000,9, -999.000,9, -999.000,9, -999.000,9,   2235.0,2,    0.080,2, -999.000,   1.8600,2,   0.0050,     4.70,2,     0.22,    8.182,2,    0.018
  06AQ19960317,  S04a,    63,  1,     14,     10,2,19960422,   0,-69.2505,   0.0027, 2569,    250.5,   0.2566,  34.6040,2,  34.6078,2,    219.7,2,    87.55,2,    32.71,2,  -999.00,9,     2.23,2,    1.739,2,    0.831,2,    0.121,2,    2.018,2,   2247.9,2, -999.000,9, -999.000,-999.0000,9,-999.0000,  -999.00,9,  -999.00, -999.000,9, -999.000
  06AQ19960317,  S04a,    63,  1,     13,     11,2,19960422,   0,-69.2505,   0.0027, 2569,    301.3,   0.6496,  34.6491,2,  34.6514,2,    207.7,2,    92.89,2,    32.67,2,  -999.00,9,     2.22,2,    1.167,2,    0.551,2,    0.075,2,    1.378,2,   2251.3,2,    0.053,2, -999.000,-999.0000,9,-999.0000,  -999.00,9,  -999.00, -999.000,9, -999.000
  06AQ19960317,  S04a,    63,  1,     12,     12,2,19960422,   0,-69.2505,   0.0027, 2569,    351.5,   0.7132,  34.6605,2,  34.6625,2,    206.7,2,    94.80,2,    32.58,2,  -999.00,9,     2.22,2,    1.016,2,    0.482,2,    0.061,2,    1.228,2,   2252.5,2, -999.000,9, -999.000,-999.0000,9,-999.0000,  -999.00,9,  -999.00, -999.000,9, -999.000
  06AQ19960317,  S04a,    63,  1,     11,     13,2,19960422,   0,-69.2505,   0.0027, 2569,    410.4,   0.7233,  34.6723,2,  34.6725,2,    205.7,2,    97.60,2,    32.55,2,  -999.00,9,     2.22,2,    0.866,2,    0.407,2,    0.055,2,    1.074,2,   2254.8,2,    0.027,2, -999.000,   1.8490,3,   0.0140,     8.39,3,     0.22,    8.069,3,    0.058
  06AQ19960317,  S04a,    63,  1,     10,     14,2,19960422,   0,-69.2505,   0.0027, 2569,    469.8,   0.7020,  34.6771,2,  34.6774,2,    206.3,2,   100.04,2,    32.61,2,  -999.00,9,     2.21,2,    0.778,2,    0.367,2,    0.046,2,    0.985,2,   2253.7,2,    0.021,2, -999.000,   1.8520,3,   0.0140,     8.29,3,     0.22,    8.052,3,    0.058
  06AQ19960317,  S04a,    63,  1,      9,     15,2,19960422,   0,-69.2505,   0.0027, 2569,    501.2,   0.6628,  34.6800,2,  34.6792,2,    206.2,2,   102.10,2,    32.61,2,  -999.00,9,     2.23,2,    0.699,2,    0.330,2,    0.042,2,    0.911,2,   2255.8,2,    0.024,2, -999.000,   1.8480,2,   0.0050,     8.28,2,     0.22,    8.052,2,    0.018
  06AQ19960317,  S04a,    63,  1,      8,     16,2,19960422,   0,-69.2505,   0.0027, 2569,    750.3,   0.4986,  34.6810,2,  34.6807,2,    208.1,2,   108.76,2,    32.79,2,  -999.00,9,     2.24,2,    0.546,2,    0.255,2,    0.031,2,    0.760,2,   2256.3,2, -999.000,9, -999.000,-999.0000,9,-999.0000,  -999.00,9,  -999.00, -999.000,9, -999.000
  06AQ19960317,  S04a,    63,  1,      7,     17,2,19960422,   0,-69.2505,   0.0027, 2569,   1000.8,   0.3396,  34.6772,2,  34.6771,2,    210.4,2,   114.78,2,    33.14,2,  -999.00,9,     2.26,2,    0.490,2,    0.231,2,    0.023,2,    0.695,2,   2259.2,2,    0.021,2, -999.000,   1.8750,2,   0.0050,     8.23,2,     0.22,    8.185,2,    0.018
  06AQ19960317,  S04a,    63,  1,      6,     18,2,19960422,   0,-69.2505,   0.0027, 2569,   1250.4,   0.2013,  34.6741,2,  34.6727,2,    212.6,2,   118.72,2,    33.19,2,  -999.00,9,     2.27,2,    0.414,2,    0.199,2,    0.018,2,    0.638,2,   2260.3,2, -999.000,9, -999.000,-999.0000,9,-999.0000,  -999.00,9,  -999.00, -999.000,9, -999.000
  06AQ19960317,  S04a,    63,  1,      5,     19,2,19960422,   0,-69.2505,   0.0027, 2569,   1502.6,   0.1068,  34.6715,2,  34.6699,2,    214.9,2,   121.27,2,    33.35,2,  -999.00,9,     2.29,2,    0.377,2,    0.175,2,    0.017,2,    0.624,2,   2258.4,2,    0.018,2, -999.000,   1.8830,2,   0.0050,     7.33,2,     0.22,    8.245,2,    0.018
  06AQ19960317,  S04a,    63,  1,      4,     20,2,19960422,   0,-69.2505,   0.0027, 2569,   2001.3,  -0.0350,  34.6665,2,  34.6659,2,    222.0,2,   123.00,2,    33.34,2,  -999.00,9,     2.27,2,    0.437,2,    0.204,2,    0.022,2,    0.734,2,   2258.7,2,    0.043,2, -999.000,   1.8800,2,   0.0050,     7.18,2,     0.22,    8.211,2,    0.018
  06AQ19960317,  S04a,    63,  1,      3,     21,2,19960422,   0,-69.2505,   0.0027, 2569,   2399.0,  -0.0888,  34.6649,2,  34.6633,2,    225.1,2,   123.59,2,    33.17,2,  -999.00,9,     2.28,2,    0.502,2,    0.239,2,    0.023,2,    0.822,2,   2254.6,2,    0.037,2, -999.000,   1.8970,2,   0.0050,     6.60,2,     0.22,    8.269,2,    0.018
  06AQ19960317,  S04a,    63,  1,      2,     22,2,19960422,   0,-69.2505,   0.0027, 2569,   2500.8,  -0.0957,  34.6646,2,  34.6638,2,    225.1,2,   123.88,2,    33.15,2,  -999.00,9,     2.27,2,    0.510,2,    0.241,2,    0.023,2,    0.829,2,   2255.4,2,    0.029,2, -999.000,-999.0000,9,-999.0000,  -999.00,9,  -999.00, -999.000,9, -999.000
  06AQ19960317,  S04a,    63,  1,      1,     23,2,19960422,   0,-69.2505,   0.0027, 2569,   2550.5,  -0.0993,  34.6649,2,  34.6642,2,    225.3,2,   123.79,2,    33.23,2,  -999.00,9,     2.28,2, -999.000,9, -999.000,9, -999.000,9, -999.000,9,   -999.0,9,    0.023,2, -999.000,   1.8650,4,   0.0050,     6.43,2,     0.22,    8.144,4,    0.018
  06AQ19960317,  S04a,    63,  1,     24,     24,2,19960422,   0,-69.2505,   0.0027, 2569,   2594.3,  -0.1072,  34.6646,2,  34.6623,2,    226.0,2,   123.78,2,    33.16,2,  -999.00,9,     2.28,2, -999.000,9, -999.000,9, -999.000,9, -999.000,9,   2257.0,2,    0.021,2, -999.000,   1.8940,2,   0.0050,     6.61,2,     0.22,    8.247,2,    0.018