BOTTLE,20150129PRINUNIVRMK
EXPOCODE,SECT_ID,STNNBR,CASTNO,SAMPNO,BTLNBR,BTLNBR_FLAG_W,DATE,TIME,LATITUDE,LONGITUDE,DEPTH,CTDPRS,CTDTMP,CTDSAL,CTDSAL_FLAG_W,SALNTY,SALNTY_FLAG_W,OXYGEN,OXYGEN_FLAG_W,SILCAT,SILCAT_FLAG_W,NITRAT,NITRAT_FLAG_W,NITRIT,NITRIT_FLAG_W,PHSPHT,PHSPHT_FLAG_W,CFC-11,CFC-11_FLAG_W,CFC-12,CFC-12_FLAG_W,CFC113,CFC113_FLAG_W,CCL4,CCL4_FLAG_W,TCARBN,TCARBN_FLAG_W,TRITUM,TRITUM_FLAG_W,TRITER,HELIUM,HELIUM_FLAG_W,HELIER,DELHE3,DELHE3_FLAG_W,DELHER,NEON,NEON_FLAG_W,NEONER
,,,,,,,,,,,METERS,DBAR,ITS-90,PSS-78,,PSS-78,,UMOL/KG,,UMOL/KG,,UMOL/KG,,UMOL/KG,,UMOL/KG,,PMOL/KG,,PMOL/KG,,PMOL/KG,,PMOL/KG,,UMOL/KG,,TU,,TU,NMOL/KG,,NMOL/KG,PERCNT,,PERCNT,NMOL/KG,,NMOL/KG
  06AQ19960317,  S04a,    45,  1,     24,      1,2,19960415,   0,-60.5082,   0.0017, 5352,     21.5,  -0.3268,  34.0132,2,  34.0150,2,    335.9,2,    57.93,2,    26.29,2,  -999.00,9,     1.79,2,    6.473,2,    3.153,2,    0.501,2,    8.749,2,   2177.9,2, -999.000,9, -999.000,-999.0000,9,-999.0000,  -999.00,9,  -999.00, -999.000,9, -999.000
  06AQ19960317,  S04a,    45,  1,     23,      2,2,19960415,   0,-60.5082,   0.0017, 5352,     38.5,  -0.3269,  34.0126,2,  34.0148,2,    336.2,2,    57.89,2,    26.15,2,  -999.00,9,     1.78,2, -999.000,9, -999.000,9, -999.000,9, -999.000,9,   2173.0,2, -999.000,9, -999.000,-999.0000,9,-999.0000,  -999.00,9,  -999.00, -999.000,9, -999.000
  06AQ19960317,  S04a,    45,  1,     22,      3,2,19960415,   0,-60.5082,   0.0017, 5352,     61.5,  -0.3275,  34.0131,2,  34.0159,2,    335.6,2,    58.10,2,    26.28,2,  -999.00,9,     1.79,2,    6.372,2,    3.090,2,    0.500,2,    8.701,2,   2177.6,2, -999.000,9, -999.000,-999.0000,9,-999.0000,  -999.00,9,  -999.00, -999.000,9, -999.000
  06AQ19960317,  S04a,    45,  1,     21,      4,2,19960415,   0,-60.5082,   0.0017, 5352,     82.2,  -0.9334,  34.1793,2,  34.2307,2,    320.2,2,    66.66,2,    28.33,2,  -999.00,9,     1.97,2, -999.000,9, -999.000,9, -999.000,9, -999.000,9,   2202.8,2, -999.000,9, -999.000,-999.0000,9,-999.0000,  -999.00,9,  -999.00, -999.000,9, -999.000
  06AQ19960317,  S04a,    45,  1,     20,      5,2,19960415,   0,-60.5082,   0.0017, 5352,     82.3,  -1.1582,  34.2265,2,  34.2235,2,   -999.0,9,    66.47,2,    28.26,2,  -999.00,9,     1.95,2, -999.000,9, -999.000,9, -999.000,9, -999.000,9,   -999.0,9, -999.000,9, -999.000,-999.0000,9,-999.0000,  -999.00,9,  -999.00, -999.000,9, -999.000
  06AQ19960317,  S04a,    45,  1,     19,      6,2,19960415,   0,-60.5082,   0.0017, 5352,    100.3,  -1.6842,  34.3468,2,  34.3660,2,    311.1,2,    71.46,2,    29.66,2,  -999.00,9,     2.06,2,    5.574,2,    2.685,2,    0.438,2,    7.279,2,   2216.7,2, -999.000,9, -999.000,-999.0000,9,-999.0000,  -999.00,9,  -999.00, -999.000,9, -999.000
  06AQ19960317,  S04a,    45,  1,     18,      7,2,19960415,   0,-60.5082,   0.0017, 5352,    150.0,  -0.3934,  34.5459,2,  34.5385,2,    239.3,2,    92.33,2,    32.70,2,  -999.00,9,     2.22,2, -999.000,9, -999.000,9, -999.000,9, -999.000,9,   2245.0,2, -999.000,9, -999.000,-999.0000,9,-999.0000,  -999.00,9,  -999.00, -999.000,9, -999.000
  06AQ19960317,  S04a,    45,  1,     17,      8,2,19960415,   0,-60.5082,   0.0017, 5352,    202.9,   0.5856,  34.6784,2,  34.6781,2,    188.7,2,   111.22,2,    34.55,2,  -999.00,9,     2.32,2, -999.000,9, -999.000,9, -999.000,9, -999.000,9,   2267.6,2, -999.000,9, -999.000,-999.0000,9,-999.0000,  -999.00,9,  -999.00, -999.000,9, -999.000
  06AQ19960317,  S04a,    45,  1,     16,      9,2,19960415,   0,-60.5082,   0.0017, 5352,    220.6,   0.6075,  34.6842,2,  34.6857,2,    187.5,2,   114.22,2,    34.47,2,  -999.00,9,     2.34,2,    0.390,2,    0.174,2,    0.021,2,    0.626,2,   2267.3,2, -999.000,9, -999.000,-999.0000,9,-999.0000,  -999.00,9,  -999.00, -999.000,9, -999.000
  06AQ19960317,  S04a,    45,  1,     15,     10,2,19960415,   0,-60.5082,   0.0017, 5352,    251.8,   0.5820,  34.6865,2,  34.6883,2,    186.7,2,   116.06,2,    34.62,2,  -999.00,9,     2.36,2,    0.316,2,    0.141,2,    0.013,2,    0.547,2,   2269.5,2, -999.000,9, -999.000,-999.0000,9,-999.0000,  -999.00,9,  -999.00, -999.000,9, -999.000
  06AQ19960317,  S04a,    45,  1,     14,     11,2,19960415,   0,-60.5082,   0.0017, 5352,    302.3,   0.5109,  34.6852,2,  34.6854,2,    187.8,2,   118.88,2,    34.77,2,  -999.00,9,     2.35,2,    0.308,2,    0.140,2,    0.016,2,    0.538,2,   2273.0,2, -999.000,9, -999.000,-999.0000,9,-999.0000,  -999.00,9,  -999.00, -999.000,9, -999.000
  06AQ19960317,  S04a,    45,  1,     13,     12,2,19960415,   0,-60.5082,   0.0017, 5352,    401.4,   0.4389,  34.6837,2,  34.6845,2,    187.8,2,   121.06,2,    34.75,2,  -999.00,9,     2.36,2,    0.243,2,    0.112,2,    0.009,2,    0.461,2,   2270.9,2, -999.000,9, -999.000,-999.0000,9,-999.0000,  -999.00,9,  -999.00, -999.000,9, -999.000
  06AQ19960317,  S04a,    45,  1,     12,     13,2,19960415,   0,-60.5082,   0.0017, 5352,    501.6,   0.3691,  34.6828,2,  34.6831,2,    190.4,2,   122.17,2,    34.62,2,  -999.00,9,     2.37,2, -999.000,9, -999.000,9, -999.000,9, -999.000,9,   2270.3,2, -999.000,9, -999.000,-999.0000,9,-999.0000,  -999.00,9,  -999.00, -999.000,9, -999.000
  06AQ19960317,  S04a,    45,  1,     11,     14,2,19960415,   0,-60.5082,   0.0017, 5352,    751.5,   0.2355,  34.6786,2,  34.6803,2,    196.5,2,   125.95,2,    34.47,2,  -999.00,9,     2.35,2, -999.000,9, -999.000,9, -999.000,9, -999.000,9,   2270.4,2, -999.000,9, -999.000,-999.0000,9,-999.0000,  -999.00,9,  -999.00, -999.000,9, -999.000
  06AQ19960317,  S04a,    45,  1,     10,     15,2,19960415,   0,-60.5082,   0.0017, 5352,   1001.7,   0.1322,  34.6747,2,  34.6759,2,    203.9,2,   124.75,2,    34.12,2,  -999.00,9,     2.33,2, -999.000,9, -999.000,9, -999.000,9, -999.000,9,   2268.7,2, -999.000,9, -999.000,-999.0000,9,-999.0000,  -999.00,9,  -999.00, -999.000,9, -999.000
  06AQ19960317,  S04a,    45,  1,      9,     16,2,19960415,   0,-60.5082,   0.0017, 5352,   1502.6,  -0.0735,  34.6653,2,  34.6667,2,    216.6,2,   126.96,2,    33.64,2,  -999.00,9,     2.31,2, -999.000,9, -999.000,9, -999.000,9, -999.000,9,   2261.1,2, -999.000,9, -999.000,-999.0000,9,-999.0000,  -999.00,9,  -999.00, -999.000,9, -999.000
  06AQ19960317,  S04a,    45,  1,      8,     17,2,19960415,   0,-60.5082,   0.0017, 5352,   2001.7,  -0.1982,  34.6612,2,  34.6619,2,    225.0,2,   124.59,2,    33.48,2,  -999.00,9,     2.29,2, -999.000,9, -999.000,9, -999.000,9, -999.000,9,   2259.2,2, -999.000,9, -999.000,-999.0000,9,-999.0000,  -999.00,9,  -999.00, -999.000,9, -999.000
  06AQ19960317,  S04a,    45,  1,      7,     18,2,19960415,   0,-60.5082,   0.0017, 5352,   2501.0,  -0.2839,  34.6580,2,  34.6585,2,    230.2,2,   125.00,2,    33.20,2,  -999.00,9,     2.27,2, -999.000,9, -999.000,9, -999.000,9, -999.000,9,   2255.6,2, -999.000,9, -999.000,-999.0000,9,-999.0000,  -999.00,9,  -999.00, -999.000,9, -999.000
  06AQ19960317,  S04a,    45,  1,      6,     19,2,19960415,   0,-60.5082,   0.0017, 5352,   2999.4,  -0.3447,  34.6559,2,  34.6561,2,    234.8,2,   123.47,2,    33.01,2,  -999.00,9,     2.27,2, -999.000,9, -999.000,9, -999.000,9, -999.000,9,   2256.2,2, -999.000,9, -999.000,-999.0000,9,-999.0000,  -999.00,9,  -999.00, -999.000,9, -999.000
  06AQ19960317,  S04a,    45,  1,      5,     20,2,19960415,   0,-60.5082,   0.0017, 5352,   3500.5,  -0.3947,  34.6541,2,  34.6530,2,    239.0,2,   123.48,2,    32.90,2,  -999.00,9,     2.26,2, -999.000,9, -999.000,9, -999.000,9, -999.000,9,   2250.5,2, -999.000,9, -999.000,-999.0000,9,-999.0000,  -999.00,9,  -999.00, -999.000,9, -999.000
  06AQ19960317,  S04a,    45,  1,      4,     21,2,19960415,   0,-60.5082,   0.0017, 5352,   3999.7,  -0.4673,  34.6502,2,  34.6488,2,    243.5,2,   120.34,2,    32.86,2,  -999.00,9,     2.25,2, -999.000,9, -999.000,9, -999.000,9, -999.000,9,   2250.8,2, -999.000,9, -999.000,-999.0000,9,-999.0000,  -999.00,9,  -999.00, -999.000,9, -999.000
  06AQ19960317,  S04a,    45,  1,      3,     22,2,19960415,   0,-60.5082,   0.0017, 5352,   4499.0,  -0.4962,  34.6463,2,  34.6440,2,    246.3,2,   117.43,2,    32.71,2,  -999.00,9,     2.24,2,    0.586,2,    0.274,2,    0.021,2,    1.112,2,   2246.6,2, -999.000,9, -999.000,-999.0000,9,-999.0000,  -999.00,9,  -999.00, -999.000,9, -999.000
  06AQ19960317,  S04a,    45,  1,      2,     23,2,19960415,   0,-60.5082,   0.0017, 5352,   5332.9,  -0.4244,  34.6468,2,  34.6444,2,    246.4,2,   120.51,2,    32.80,2,  -999.00,9,     2.24,2,    0.487,2,    0.233,2,    0.014,2,    1.014,2,   2250.2,2, -999.000,9, -999.000,-999.0000,9,-999.0000,  -999.00,9,  -999.00, -999.000,9, -999.000
  06AQ19960317,  S04a,    45,  1,      1,     24,2,19960415,   0,-60.5082,   0.0017, 5352,   5432.3,  -0.4125,  34.6467,2,  34.6477,2,   -999.0,9,   121.42,2,    32.77,2,  -999.00,9,     2.24,2,    0.479,2,    0.228,2,    0.014,2,    1.021,2,   -999.0,9, -999.000,9, -999.000,-999.0000,9,-999.0000,  -999.00,9,  -999.00, -999.000,9, -999.000
  06AQ19960317,  S04a,    46,  1,     24,      1,2,19960416,   0,-61.0020,   0.0003, 5383,     21.4,  -0.4277,  34.0450,2,  34.0479,2,    335.9,2,    59.86,2,    26.48,2,  -999.00,9,     1.81,2,    6.417,2,    3.194,2,    0.509,2,    8.783,2,   -999.0,9, -999.000,9, -999.000,-999.0000,9,-999.0000,  -999.00,9,  -999.00, -999.000,9, -999.000
  06AQ19960317,  S04a,    46,  1,     23,      2,2,19960416,   0,-61.0020,   0.0003, 5383,     41.0,  -0.4300,  34.0460,2,  34.0488,2,    334.6,2,    59.75,2,    26.44,2,  -999.00,9,     1.82,2,    6.315,2,    3.132,2,    0.503,2,    8.736,2,   -999.0,9, -999.000,9, -999.000,-999.0000,9,-999.0000,  -999.00,9,  -999.00, -999.000,9, -999.000
  06AQ19960317,  S04a,    46,  1,     22,      3,2,19960416,   0,-61.0020,   0.0003, 5383,     61.4,  -0.5989,  34.0924,2,  34.1402,2,    327.2,2,    63.04,2,    27.46,2,  -999.00,9,     1.90,2,    6.028,2,    2.987,2,    0.486,2,    8.268,2,   -999.0,9, -999.000,9, -999.000,-999.0000,9,-999.0000,  -999.00,9,  -999.00, -999.000,9, -999.000
  06AQ19960317,  S04a,    46,  1,     20,      5,2,19960416,   0,-61.0020,   0.0003, 5383,     81.0,  -1.5726,  34.3426,2,  34.3481,2,    313.7,2,    70.56,2,    29.58,2,  -999.00,9,     2.05,2, -999.000,9, -999.000,9, -999.000,9, -999.000,9,   -999.0,9, -999.000,9, -999.000,-999.0000,9,-999.0000,  -999.00,9,  -999.00, -999.000,9, -999.000
  06AQ19960317,  S04a,    46,  1,     21,      4,2,19960416,   0,-61.0020,   0.0003, 5383,     81.1,  -1.5437,  34.3360,2,  34.3487,2,    313.7,2,    70.63,2,    29.52,2,  -999.00,9,     2.04,2,    5.392,2,    2.663,2,    0.438,2,    7.377,2,   -999.0,9, -999.000,9, -999.000,-999.0000,9,-999.0000,  -999.00,9,  -999.00, -999.000,9, -999.000
  06AQ19960317,  S04a,    46,  1,     19,      6,2,19960416,   0,-61.0020,   0.0003, 5383,    102.0,  -1.5072,  34.3976,2,  34.4072,2,    299.9,2,    75.27,2,    30.72,2,  -999.00,9,     2.08,2,    4.863,2,    2.399,2,    0.397,2,    6.712,2,   -999.0,9, -999.000,9, -999.000,-999.0000,9,-999.0000,  -999.00,9,  -999.00, -999.000,9, -999.000
  06AQ19960317,  S04a,    46,  1,     18,      7,2,19960416,   0,-61.0020,   0.0003, 5383,    151.9,   0.5318,  34.6463,2,  34.6587,2,    197.8,2,   102.90,2,    33.68,2,  -999.00,9,     2.28,2,    0.910,2,    0.431,2,    0.064,2,    1.321,2,   -999.0,9, -999.000,9, -999.000,-999.0000,9,-999.0000,  -999.00,9,  -999.00, -999.000,9, -999.000
  06AQ19960317,  S04a,    46,  1,     17,      8,2,19960416,   0,-61.0020,   0.0003, 5383,    185.3,   0.8368,  34.6891,2,  34.6909,2,    188.0,2,   106.22,2,    33.97,2,  -999.00,9,     2.30,2,    0.444,2,    0.210,2,    0.027,2,    0.709,2,   -999.0,9, -999.000,9, -999.000,-999.0000,9,-999.0000,  -999.00,9,  -999.00, -999.000,9, -999.000
  06AQ19960317,  S04a,    46,  1,     16,      9,2,19960416,   0,-61.0020,   0.0003, 5383,    211.1,   0.7702,  34.6885,2,  34.6915,2,    190.6,2,   108.00,2,    33.86,2,  -999.00,9,     2.30,2,    0.472,2,    0.262,2,    0.025,2,    0.684,2,   -999.0,9, -999.000,9, -999.000,-999.0000,9,-999.0000,  -999.00,9,  -999.00, -999.000,9, -999.000
  06AQ19960317,  S04a,    46,  1,     15,     10,2,19960416,   0,-61.0020,   0.0003, 5383,    299.8,   0.6757,  34.6931,2,  34.6960,2,    190.5,2,   112.96,2,    33.98,2,  -999.00,9,     2.31,2,    0.302,2,    0.142,2,    0.013,2,    0.516,2,   -999.0,9, -999.000,9, -999.000,-999.0000,9,-999.0000,  -999.00,9,  -999.00, -999.000,9, -999.000
  06AQ19960317,  S04a,    46,  1,     14,     11,2,19960416,   0,-61.0020,   0.0003, 5383,    400.4,   0.5022,  34.6861,2,  34.6871,2,    189.3,2,   117.87,2,    34.48,2,  -999.00,9,     2.35,2,    0.268,2,    0.123,2,    0.012,2,    0.508,2,   -999.0,9, -999.000,9, -999.000,-999.0000,9,-999.0000,  -999.00,9,  -999.00, -999.000,9, -999.000
  06AQ19960317,  S04a,    46,  1,     13,     12,2,19960416,   0,-61.0020,   0.0003, 5383,    501.1,   0.4097,  34.6842,2,  34.6848,2,    191.3,2,   121.03,2,    34.61,2,  -999.00,9,     2.36,2,    0.199,2,    0.093,2,    0.007,2,    0.432,2,   -999.0,9, -999.000,9, -999.000,-999.0000,9,-999.0000,  -999.00,9,  -999.00, -999.000,9, -999.000
  06AQ19960317,  S04a,    46,  1,     12,     13,2,19960416,   0,-61.0020,   0.0003, 5383,    752.1,   0.2585,  34.6791,2,  34.6801,2,    191.7,2,   125.48,2,    34.71,2,  -999.00,9,     2.34,2,    0.153,2,    0.100,3,    0.006,2,    0.379,2,   -999.0,9, -999.000,9, -999.000,-999.0000,9,-999.0000,  -999.00,9,  -999.00, -999.000,9, -999.000
  06AQ19960317,  S04a,    46,  1,     11,     14,2,19960416,   0,-61.0020,   0.0003, 5383,   1002.8,   0.1542,  34.6751,2,  34.6757,2,    202.4,2,   125.85,2,    34.37,2,  -999.00,9,     2.34,2,    0.128,2,    0.063,2,    0.005,2,    0.368,2,   -999.0,9, -999.000,9, -999.000,-999.0000,9,-999.0000,  -999.00,9,  -999.00, -999.000,9, -999.000
  06AQ19960317,  S04a,    46,  1,     10,     15,2,19960416,   0,-61.0020,   0.0003, 5383,   1501.4,  -0.0497,  34.6662,2,  34.6679,2,    214.8,2,   126.07,2,    33.84,2,  -999.00,9,     2.31,2,    0.135,2,    0.066,2,    0.004,2,    0.415,2,   -999.0,9, -999.000,9, -999.000,-999.0000,9,-999.0000,  -999.00,9,  -999.00, -999.000,9, -999.000
  06AQ19960317,  S04a,    46,  1,      9,     16,2,19960416,   0,-61.0020,   0.0003, 5383,   2002.1,  -0.1838,  34.6619,2,  34.6635,2,    224.6,2,   125.38,2,    33.58,2,  -999.00,9,     2.30,2,    0.179,2,    0.089,2,    0.007,2,    0.554,2,   -999.0,9, -999.000,9, -999.000,-999.0000,9,-999.0000,  -999.00,9,  -999.00, -999.000,9, -999.000
  06AQ19960317,  S04a,    46,  1,      8,     17,2,19960416,   0,-61.0020,   0.0003, 5383,   2500.4,  -0.2780,  34.6571,2,  34.6594,2,    230.5,2,   124.72,2,    33.29,2,  -999.00,9,     2.27,2,    0.221,2,    0.107,2,    0.007,2,    0.596,2,   -999.0,9, -999.000,9, -999.000,-999.0000,9,-999.0000,  -999.00,9,  -999.00, -999.000,9, -999.000
  06AQ19960317,  S04a,    46,  1,      7,     18,2,19960416,   0,-61.0020,   0.0003, 5383,   3002.0,  -0.3384,  34.6568,2,  34.6570,2,    235.4,2,   123.85,2,    33.16,2,  -999.00,9,     2.27,2,    0.237,2,    0.113,2,    0.009,2,    0.638,2,   -999.0,9, -999.000,9, -999.000,-999.0000,9,-999.0000,  -999.00,9,  -999.00, -999.000,9, -999.000
  06AQ19960317,  S04a,    46,  1,      6,     19,2,19960416,   0,-61.0020,   0.0003, 5383,   3499.6,  -0.3882,  34.6539,2,  34.6534,2,    238.3,2,   124.29,2,    33.20,2,  -999.00,9,     2.26,2,    0.254,2,    0.121,2,    0.009,2,    0.692,2,   -999.0,9, -999.000,9, -999.000,-999.0000,9,-999.0000,  -999.00,9,  -999.00, -999.000,9, -999.000
  06AQ19960317,  S04a,    46,  1,      5,     20,2,19960416,   0,-61.0020,   0.0003, 5383,   3999.0,  -0.4429,  34.6516,2,  34.6508,2,    242.1,2,   122.67,2,    33.07,2,  -999.00,9,     2.26,2,    0.288,2,    0.138,2,    0.008,2,    0.762,2,   -999.0,9, -999.000,9, -999.000,-999.0000,9,-999.0000,  -999.00,9,  -999.00, -999.000,9, -999.000
  06AQ19960317,  S04a,    46,  1,      4,     21,2,19960416,   0,-61.0020,   0.0003, 5383,   4584.9,  -0.4891,  34.6464,2,  34.6451,2,    247.0,2,   117.44,2,    32.85,2,  -999.00,9,     2.24,2,    0.518,2,    0.243,2,    0.017,2,    1.044,2,   -999.0,9, -999.000,9, -999.000,-999.0000,9,-999.0000,  -999.00,9,  -999.00, -999.000,9, -999.000
  06AQ19960317,  S04a,    46,  1,      3,     22,2,19960416,   0,-61.0020,   0.0003, 5383,   5097.7,  -0.4516,  34.6463,2,  34.6449,2,    246.3,2,   119.55,2,    33.05,2,  -999.00,9,     2.25,2,    0.486,2,    0.231,2,    0.014,2,    1.044,2,   -999.0,9, -999.000,9, -999.000,-999.0000,9,-999.0000,  -999.00,9,  -999.00, -999.000,9, -999.000
  06AQ19960317,  S04a,    46,  1,      2,     23,2,19960416,   0,-61.0020,   0.0003, 5383,   5358.6,  -0.4219,  34.6468,2,  34.6460,2,    246.2,2,   120.81,2,    33.06,2,  -999.00,9,     2.25,2,    0.444,2,    0.214,2,    0.012,2,    1.025,2,   -999.0,9, -999.000,9, -999.000,-999.0000,9,-999.0000,  -999.00,9,  -999.00, -999.000,9, -999.000
  06AQ19960317,  S04a,    46,  1,      1,     24,2,19960416,   0,-61.0020,   0.0003, 5383,   5457.1,  -0.4096,  34.6468,2,  34.6457,2,    246.2,2,   121.29,2,    32.98,2,  -999.00,9,     2.25,2,    0.444,2,    0.209,2,    0.013,2,    1.030,2,   -999.0,9, -999.000,9, -999.000,-999.0000,9,-999.0000,  -999.00,9,  -999.00, -999.000,9, -999.000