BOTTLE,20150129PRINUNIVRMK
EXPOCODE,SECT_ID,STNNBR,CASTNO,SAMPNO,BTLNBR,BTLNBR_FLAG_W,DATE,TIME,LATITUDE,LONGITUDE,DEPTH,CTDPRS,CTDTMP,CTDSAL,CTDSAL_FLAG_W,SALNTY,SALNTY_FLAG_W,OXYGEN,OXYGEN_FLAG_W,SILCAT,SILCAT_FLAG_W,NITRAT,NITRAT_FLAG_W,NITRIT,NITRIT_FLAG_W,PHSPHT,PHSPHT_FLAG_W,CFC-11,CFC-11_FLAG_W,CFC-12,CFC-12_FLAG_W,CFC113,CFC113_FLAG_W,CCL4,CCL4_FLAG_W,TCARBN,TCARBN_FLAG_W,TRITUM,TRITUM_FLAG_W,TRITER,HELIUM,HELIUM_FLAG_W,HELIER,DELHE3,DELHE3_FLAG_W,DELHER,NEON,NEON_FLAG_W,NEONER
,,,,,,,,,,,METERS,DBAR,ITS-90,PSS-78,,PSS-78,,UMOL/KG,,UMOL/KG,,UMOL/KG,,UMOL/KG,,UMOL/KG,,PMOL/KG,,PMOL/KG,,PMOL/KG,,PMOL/KG,,UMOL/KG,,TU,,TU,NMOL/KG,,NMOL/KG,PERCNT,,PERCNT,NMOL/KG,,NMOL/KG
  06AQ19960317,  S04a,    66,  3,     20,      4,2,19960422,   0,-69.6417,  -0.1233, 1808,     20.5,  -1.8718,  33.9282,2,  33.9314,2,    339.3,2,    54.47,2,    25.62,2,  -999.00,9,     1.85,2, -999.000,9, -999.000,9, -999.000,9, -999.000,9,   2165.4,2, -999.000,9, -999.000,-999.0000,9,-999.0000,  -999.00,9,  -999.00, -999.000,9, -999.000
  06AQ19960317,  S04a,    66,  3,     23,      1,2,19960422,   0,-69.6417,  -0.1233, 1808,     20.6,  -1.8718,  33.9279,2,-999.0000,9,   -999.0,9,  -999.00,9,  -999.00,9,  -999.00,9,  -999.00,9, -999.000,9, -999.000,9, -999.000,9, -999.000,9,   -999.0,9, -999.000,9, -999.000,-999.0000,9,-999.0000,  -999.00,9,  -999.00, -999.000,9, -999.000
  06AQ19960317,  S04a,    66,  3,     22,      2,2,19960422,   0,-69.6417,  -0.1233, 1808,     20.6,  -1.8721,  33.9282,2,-999.0000,9,   -999.0,9,  -999.00,9,  -999.00,9,  -999.00,9,  -999.00,9, -999.000,9, -999.000,9, -999.000,9, -999.000,9,   -999.0,9, -999.000,9, -999.000,-999.0000,9,-999.0000,  -999.00,9,  -999.00, -999.000,9, -999.000
  06AQ19960317,  S04a,    66,  3,     21,      3,2,19960422,   0,-69.6417,  -0.1233, 1808,     20.6,  -1.8725,  33.9290,2,-999.0000,9,   -999.0,9,    54.99,2,    25.65,2,  -999.00,9,     1.82,2,    6.263,6,    3.154,6,    0.513,6,    7.296,6,   -999.0,9,    0.015,2, -999.000,-999.0000,9,-999.0000,  -999.00,9,  -999.00, -999.000,9, -999.000
  06AQ19960317,  S04a,    66,  3,     19,      5,2,19960422,   0,-69.6417,  -0.1233, 1808,     40.5,  -1.8707,  33.9290,2,-999.0000,9,   -999.0,9,    55.00,2,    25.66,2,  -999.00,9,     1.85,2, -999.000,9, -999.000,9, -999.000,9, -999.000,9,   -999.0,9, -999.000,9, -999.000,-999.0000,9,-999.0000,  -999.00,9,  -999.00, -999.000,9, -999.000
  06AQ19960317,  S04a,    66,  3,     18,      6,2,19960422,   0,-69.6417,  -0.1233, 1808,     40.5,  -1.8704,  33.9314,2,  33.9408,2,    339.8,2,    54.66,2,    25.74,2,  -999.00,9,     1.84,2,    6.016,2,    3.013,2,    0.502,2,    7.269,2,   2164.7,2, -999.000,9, -999.000,-999.0000,9,-999.0000,  -999.00,9,  -999.00, -999.000,9, -999.000
  06AQ19960317,  S04a,    66,  3,     17,      7,2,19960422,   0,-69.6417,  -0.1233, 1808,     60.4,  -1.8695,  33.9315,2,-999.0000,9,   -999.0,9,    54.69,2,    25.68,2,  -999.00,9,     1.85,2, -999.000,9, -999.000,9, -999.000,9, -999.000,9,   -999.0,9, -999.000,9, -999.000,-999.0000,9,-999.0000,  -999.00,9,  -999.00, -999.000,9, -999.000
  06AQ19960317,  S04a,    66,  3,     16,      8,2,19960422,   0,-69.6417,  -0.1233, 1808,     60.4,  -1.8690,  33.9352,2,  33.9418,2,    339.0,2,    54.68,2,    25.73,2,  -999.00,9,     1.85,2,    5.940,2,    3.012,2,    0.501,2,    7.170,2,   2166.1,2,    0.137,2, -999.000,   1.8400,2,   0.0050,    -1.28,2,     0.22,    8.309,2,    0.019
  06AQ19960317,  S04a,    66,  3,     15,      9,2,19960422,   0,-69.6417,  -0.1233, 1808,     80.4,  -1.8666,  33.9431,2,-999.0000,9,   -999.0,9,    55.33,2,    25.86,2,  -999.00,9,     1.85,2, -999.000,9, -999.000,9, -999.000,9, -999.000,9,   -999.0,9, -999.000,9, -999.000,-999.0000,9,-999.0000,  -999.00,9,  -999.00, -999.000,9, -999.000
  06AQ19960317,  S04a,    66,  3,     14,     10,2,19960422,   0,-69.6417,  -0.1233, 1808,     80.4,  -1.8674,  33.9425,2,  33.9463,2,    339.2,2,    54.87,2,    25.86,2,  -999.00,9,     1.85,2,    5.856,2,    2.934,2,    0.497,2,    7.238,2,   2164.9,2, -999.000,9, -999.000,-999.0000,9,-999.0000,  -999.00,9,  -999.00, -999.000,9, -999.000
  06AQ19960317,  S04a,    66,  3,     13,     11,2,19960422,   0,-69.6417,  -0.1233, 1808,     99.8,  -1.8648,  33.9453,2,-999.0000,9,   -999.0,9,    54.86,2,    25.81,2,  -999.00,9,     1.85,2, -999.000,9, -999.000,9, -999.000,9, -999.000,9,   -999.0,9, -999.000,9, -999.000,-999.0000,9,-999.0000,  -999.00,9,  -999.00, -999.000,9, -999.000
  06AQ19960317,  S04a,    66,  3,     12,     12,2,19960422,   0,-69.6417,  -0.1233, 1808,     99.8,  -1.8668,  33.9480,2,  33.9488,2,    338.2,2,    54.89,2,    25.79,2,  -999.00,9,     1.87,2, -999.000,9, -999.000,9, -999.000,9, -999.000,9,   2166.0,2,    0.126,2, -999.000,   1.8350,2,   0.0050,    -1.27,2,     0.22,    8.287,2,    0.018
  06AQ19960317,  S04a,    66,  3,     11,     13,2,19960422,   0,-69.6417,  -0.1233, 1808,    150.6,  -1.8641,  33.9551,2,  33.9619,2,    337.9,2,    55.82,2,    26.09,2,  -999.00,9,     1.87,2,    5.776,2,    3.344,4,    0.476,2,    7.006,2,   2168.1,2, -999.000,9, -999.000,-999.0000,9,-999.0000,  -999.00,9,  -999.00, -999.000,9, -999.000
  06AQ19960317,  S04a,    66,  3,     10,     14,2,19960422,   0,-69.6417,  -0.1233, 1808,    200.2,  -1.8584,  34.0142,2,-999.0000,9,   -999.0,9,    56.96,2,    26.84,2,  -999.00,9,     1.91,2, -999.000,9, -999.000,9, -999.000,9, -999.000,9,   -999.0,9, -999.000,9, -999.000,-999.0000,9,-999.0000,  -999.00,9,  -999.00, -999.000,9, -999.000
  06AQ19960317,  S04a,    66,  3,      9,     15,2,19960422,   0,-69.6417,  -0.1233, 1808,    200.2,  -1.8584,  34.0139,2,-999.0000,9,   -999.0,9,    56.81,2,    26.68,2,  -999.00,9,     1.91,2, -999.000,9, -999.000,9, -999.000,9, -999.000,9,   -999.0,9, -999.000,9, -999.000,-999.0000,9,-999.0000,  -999.00,9,  -999.00, -999.000,9, -999.000
  06AQ19960317,  S04a,    66,  3,      8,     16,2,19960422,   0,-69.6417,  -0.1233, 1808,    200.2,  -1.8587,  34.0152,2,-999.0000,9,   -999.0,9,    56.53,2,    26.68,2,  -999.00,9,     1.91,2, -999.000,9, -999.000,9, -999.000,9, -999.000,9,   -999.0,9, -999.000,9, -999.000,-999.0000,9,-999.0000,  -999.00,9,  -999.00, -999.000,9, -999.000
  06AQ19960317,  S04a,    66,  3,      7,     17,2,19960422,   0,-69.6417,  -0.1233, 1808,    200.3,  -1.8590,  34.0207,2,  34.0231,2,    334.3,2,    57.23,2,    26.65,2,  -999.00,9,     1.91,2,    5.762,2,    2.927,2,    0.489,2,    7.108,2,   2175.4,2,    0.126,2, -999.000,   1.8350,2,   0.0050,    -0.95,2,     0.22,    8.274,2,    0.018
  06AQ19960317,  S04a,    66,  3,      6,     18,2,19960422,   0,-69.6417,  -0.1233, 1808,    250.7,  -1.8570,  34.1003,2,  34.1017,2,    331.0,2,    58.37,2,    27.79,2,  -999.00,9,     1.95,2,    5.852,2,    2.913,2,    0.467,2,    6.927,2,   2179.1,2, -999.000,9, -999.000,-999.0000,9,-999.0000,  -999.00,9,  -999.00, -999.000,9, -999.000
  06AQ19960317,  S04a,    66,  3,      5,     19,2,19960422,   0,-69.6417,  -0.1233, 1808,    301.3,  -1.8282,  34.2121,2,-999.0000,9,    321.8,2,    60.50,2,    29.27,2,  -999.00,9,     2.05,2,    5.745,2,    2.826,2,    0.459,2,    6.646,2,   2193.6,2,    0.139,2, -999.000,   1.8420,2,   0.0050,    -0.34,2,     0.22,    8.270,2,    0.018
  06AQ19960317,  S04a,    66,  3,      4,     20,2,19960422,   0,-69.6417,  -0.1233, 1808,    350.8,  -1.8327,  34.2442,2,  34.2439,2,    323.5,2,    60.21,2,    29.26,2,  -999.00,9,     2.04,2,    5.630,2,    2.808,2,    0.463,2,    6.715,2,   2195.2,2, -999.000,9, -999.000,-999.0000,9,-999.0000,  -999.00,9,  -999.00, -999.000,9, -999.000
  06AQ19960317,  S04a,    66,  3,      3,     21,2,19960422,   0,-69.6417,  -0.1233, 1808,    400.8,  -1.7999,  34.2916,2,-999.0000,9,   -999.0,9,    62.30,2,    30.28,2,  -999.00,9,     2.07,2, -999.000,9, -999.000,9, -999.000,9, -999.000,9,   -999.0,9, -999.000,9, -999.000,-999.0000,9,-999.0000,  -999.00,9,  -999.00, -999.000,9, -999.000
  06AQ19960317,  S04a,    66,  3,      1,     23,2,19960422,   0,-69.6417,  -0.1233, 1808,    400.8,  -1.7974,  34.2935,2,  34.3001,2,    315.2,2,    61.82,2,    30.32,2,  -999.00,9,     2.08,2,    5.297,2,    2.622,2,    0.433,2,    6.259,2,   2205.7,2,    0.103,2, -999.000,   1.8500,2,   0.0050,    -0.13,2,     0.22,    8.287,2,    0.018
  06AQ19960317,  S04a,    66,  3,      2,     22,2,19960422,   0,-69.6417,  -0.1233, 1808,    400.9,  -1.7987,  34.2918,2,-999.0000,9,   -999.0,9,    61.51,2,    30.27,2,  -999.00,9,     2.06,2, -999.000,9, -999.000,9, -999.000,9, -999.000,9,   -999.0,9, -999.000,9, -999.000,-999.0000,9,-999.0000,  -999.00,9,  -999.00, -999.000,9, -999.000
  06AQ19960317,  S04a,    66,  3,     24,     24,2,19960422,   0,-69.6417,  -0.1233, 1808,    452.5,  -1.7565,  34.3292,2,  34.3268,2,    309.2,2,    63.24,2,    31.04,2,  -999.00,9,     2.12,2, -999.000,9, -999.000,9, -999.000,9, -999.000,9,   2211.3,2, -999.000,9, -999.000,-999.0000,9,-999.0000,  -999.00,9,  -999.00, -999.000,9, -999.000
  06AQ19960317,  S04a,    67,  1,      3,      1,2,19960424,   0,-70.4417,  -8.3975,  396,     52.9,  -1.8656,  33.9103,2,-999.0000,9,   -999.0,9,  -999.00,9,  -999.00,9,  -999.00,9,  -999.00,9, -999.000,9, -999.000,9, -999.000,9, -999.000,9,   -999.0,9, -999.000,9, -999.000,-999.0000,9,-999.0000,  -999.00,9,  -999.00, -999.000,9, -999.000
  06AQ19960317,  S04a,    67,  1,      2,      2,2,19960424,   0,-70.4417,  -8.3975,  396,    300.5,  -1.8389,  34.0459,2,-999.0000,9,   -999.0,9,  -999.00,9,  -999.00,9,  -999.00,9,  -999.00,9, -999.000,9, -999.000,9, -999.000,9, -999.000,9,   -999.0,9, -999.000,9, -999.000,-999.0000,9,-999.0000,  -999.00,9,  -999.00, -999.000,9, -999.000
  06AQ19960317,  S04a,    67,  1,      1,      3,2,19960424,   0,-70.4417,  -8.3975,  396,    391.8,  -1.7756,  34.2090,2,-999.0000,9,   -999.0,9,  -999.00,9,  -999.00,9,  -999.00,9,  -999.00,9, -999.000,9, -999.000,9, -999.000,9, -999.000,9,   -999.0,9, -999.000,9, -999.000,-999.0000,9,-999.0000,  -999.00,9,  -999.00, -999.000,9, -999.000
  06AQ19960317,  S04a,    68,  1,     12,      1,2,19960425,   0,-71.0217, -11.6090,  381,     21.1,  -1.8675,  33.9527,2,  33.9310,2,    340.8,2,    53.10,2,    26.00,2,     0.16,2,     1.84,2, -999.000,9, -999.000,9, -999.000,9, -999.000,9,   2168.7,2, -999.000,9, -999.000,-999.0000,9,-999.0000,  -999.00,9,  -999.00, -999.000,9, -999.000
  06AQ19960317,  S04a,    68,  1,     11,      2,2,19960425,   0,-71.0217, -11.6090,  381,     41.9,  -1.8664,  33.9532,2,  33.9554,2,    340.9,2,    53.41,2,    25.97,2,     0.16,2,     1.85,2, -999.000,9, -999.000,9, -999.000,9, -999.000,9,   2170.5,2, -999.000,9, -999.000,-999.0000,9,-999.0000,  -999.00,9,  -999.00, -999.000,9, -999.000
  06AQ19960317,  S04a,    68,  1,     10,      3,2,19960425,   0,-71.0217, -11.6090,  381,     70.8,  -1.8645,  33.9552,2,  33.9610,2,    339.9,2,    53.56,2,    26.14,2,     0.16,2,     1.87,2, -999.000,9, -999.000,9, -999.000,9, -999.000,9,   2171.6,2, -999.000,9, -999.000,-999.0000,9,-999.0000,  -999.00,9,  -999.00, -999.000,9, -999.000
  06AQ19960317,  S04a,    68,  1,      9,      4,2,19960425,   0,-71.0217, -11.6090,  381,    101.0,  -1.8564,  33.9724,2,  33.9762,2,    338.9,2,    54.32,2,    26.27,2,     0.17,2,     1.86,2, -999.000,9, -999.000,9, -999.000,9, -999.000,9,   2174.2,2, -999.000,9, -999.000,-999.0000,9,-999.0000,  -999.00,9,  -999.00, -999.000,9, -999.000
  06AQ19960317,  S04a,    68,  1,      8,      5,2,19960425,   0,-71.0217, -11.6090,  381,    150.9,  -1.8483,  33.9948,2,  33.9984,2,    337.2,2,    54.68,2,    26.47,2,     0.17,2,     1.88,2, -999.000,9, -999.000,9, -999.000,9, -999.000,9,   2175.2,2, -999.000,9, -999.000,-999.0000,9,-999.0000,  -999.00,9,  -999.00, -999.000,9, -999.000
  06AQ19960317,  S04a,    68,  1,      7,      6,2,19960425,   0,-71.0217, -11.6090,  381,    171.0,  -1.8498,  34.0129,2,  34.0139,2,    337.2,2,    55.08,2,    26.66,2,     0.17,2,     1.87,2, -999.000,9, -999.000,9, -999.000,9, -999.000,9,   2178.2,2, -999.000,9, -999.000,-999.0000,9,-999.0000,  -999.00,9,  -999.00, -999.000,9, -999.000
  06AQ19960317,  S04a,    68,  1,      6,      7,2,19960425,   0,-71.0217, -11.6090,  381,    201.0,  -1.8207,  34.0769,2,  34.0801,2,    331.0,2,    56.24,2,    27.53,2,     0.16,2,     1.95,2, -999.000,9, -999.000,9, -999.000,9, -999.000,9,   2187.8,2, -999.000,9, -999.000,-999.0000,9,-999.0000,  -999.00,9,  -999.00, -999.000,9, -999.000
  06AQ19960317,  S04a,    68,  1,      5,      8,2,19960425,   0,-71.0217, -11.6090,  381,    251.6,  -1.7861,  34.1717,2,  34.1748,2,    323.3,2,    59.03,2,    28.63,2,     0.16,2,     2.01,2, -999.000,9, -999.000,9, -999.000,9, -999.000,9,   2195.6,2, -999.000,9, -999.000,-999.0000,9,-999.0000,  -999.00,9,  -999.00, -999.000,9, -999.000
  06AQ19960317,  S04a,    68,  1,      4,      9,2,19960425,   0,-71.0217, -11.6090,  381,    289.4,  -1.7801,  34.1847,2,  34.1866,2,    322.2,2,    59.93,2,    29.16,2,     0.15,2,     2.05,2, -999.000,9, -999.000,9, -999.000,9, -999.000,9,   2197.4,2, -999.000,9, -999.000,-999.0000,9,-999.0000,  -999.00,9,  -999.00, -999.000,9, -999.000
  06AQ19960317,  S04a,    68,  1,      3,     10,2,19960425,   0,-71.0217, -11.6090,  381,    311.3,  -1.7725,  34.2148,2,-999.0000,9,    321.6,2,    59.70,2,    29.08,2,     0.15,2,     2.04,2, -999.000,9, -999.000,9, -999.000,9, -999.000,9,   2197.6,2, -999.000,9, -999.000,-999.0000,9,-999.0000,  -999.00,9,  -999.00, -999.000,9, -999.000
  06AQ19960317,  S04a,    68,  1,      2,     11,2,19960425,   0,-71.0217, -11.6090,  381,    338.3,  -1.7602,  34.2275,2,-999.0000,9,    321.7,2,    59.35,2,    28.86,2,     0.16,2,     2.04,2, -999.000,9, -999.000,9, -999.000,9, -999.000,9,   2198.9,2, -999.000,9, -999.000,-999.0000,9,-999.0000,  -999.00,9,  -999.00, -999.000,9, -999.000
  06AQ19960317,  S04a,    68,  1,      1,     12,2,19960425,   0,-71.0217, -11.6090,  381,    356.9,  -1.8192,  34.3462,2,  34.3554,2,    313.9,2,    63.92,2,    30.77,2,     0.06,2,     2.10,2, -999.000,9, -999.000,9, -999.000,9, -999.000,9,   2214.7,2, -999.000,9, -999.000,-999.0000,9,-999.0000,  -999.00,9,  -999.00, -999.000,9, -999.000
  06AQ19960317,  S04a,    68,  1,     24,     13,2,19960425,   0,-71.0217, -11.6090,  381,    378.5,  -1.8269,  34.3648,2,  34.3637,2,    312.9,2,    64.44,2,    30.98,2,     0.05,2,     2.12,2, -999.000,9, -999.000,9, -999.000,9, -999.000,9,   2214.9,2, -999.000,9, -999.000,-999.0000,9,-999.0000,  -999.00,9,  -999.00, -999.000,9, -999.000