BOTTLE,20150129PRINUNIVRMK
EXPOCODE,SECT_ID,STNNBR,CASTNO,SAMPNO,BTLNBR,BTLNBR_FLAG_W,DATE,TIME,LATITUDE,LONGITUDE,DEPTH,CTDPRS,CTDTMP,CTDSAL,CTDSAL_FLAG_W,SALNTY,SALNTY_FLAG_W,OXYGEN,OXYGEN_FLAG_W,SILCAT,SILCAT_FLAG_W,NITRAT,NITRAT_FLAG_W,NITRIT,NITRIT_FLAG_W,PHSPHT,PHSPHT_FLAG_W,CFC-11,CFC-11_FLAG_W,CFC-12,CFC-12_FLAG_W,CFC113,CFC113_FLAG_W,CCL4,CCL4_FLAG_W,TCARBN,TCARBN_FLAG_W,TRITUM,TRITUM_FLAG_W,TRITER,HELIUM,HELIUM_FLAG_W,HELIER,DELHE3,DELHE3_FLAG_W,DELHER,NEON,NEON_FLAG_W,NEONER
,,,,,,,,,,,METERS,DBAR,ITS-90,PSS-78,,PSS-78,,UMOL/KG,,UMOL/KG,,UMOL/KG,,UMOL/KG,,UMOL/KG,,PMOL/KG,,PMOL/KG,,PMOL/KG,,PMOL/KG,,UMOL/KG,,TU,,TU,NMOL/KG,,NMOL/KG,PERCNT,,PERCNT,NMOL/KG,,NMOL/KG
  06AQ19960317,  S04a,    86,  3,     23,      1,2,19960501,   0,-66.1307, -31.8560, 4769,    501.7,   0.4360,  34.6850,2,  34.6856,2,    193.1,2,   120.33,2,    34.48,2,     0.01,2,     2.38,2, -999.000,9, -999.000,9, -999.000,9, -999.000,9,   2264.9,2, -999.000,9, -999.000,-999.0000,9,-999.0000,  -999.00,9,  -999.00, -999.000,9, -999.000
  06AQ19960317,  S04a,    86,  3,     22,      2,2,19960501,   0,-66.1307, -31.8560, 4769,    751.6,   0.2874,  34.6797,2,  34.6805,2,    197.2,2,   123.90,2,    34.45,2,     0.01,2,     2.37,2,    0.153,2,    0.079,2,    0.003,2,    0.388,2,   2264.6,2, -999.000,9, -999.000,-999.0000,9,-999.0000,  -999.00,9,  -999.00, -999.000,9, -999.000
  06AQ19960317,  S04a,    86,  3,     20,      4,2,19960501,   0,-66.1307, -31.8560, 4769,   1001.9,   0.1807,  34.6763,2,  34.6774,2,    201.5,2,   125.16,2,    34.22,2,     0.00,2,     2.37,2, -999.000,9, -999.000,9, -999.000,9, -999.000,9,   2263.9,2, -999.000,9, -999.000,-999.0000,9,-999.0000,  -999.00,9,  -999.00, -999.000,9, -999.000
  06AQ19960317,  S04a,    86,  3,     21,      3,2,19960501,   0,-66.1307, -31.8560, 4769,   1002.7,   0.1797,  34.6760,2,-999.0000,9,   -999.0,9,   125.02,2,    34.30,2,     0.00,2,     2.37,2,    0.124,2,    0.064,2,    0.004,2,    0.353,2,   -999.0,9, -999.000,9, -999.000,-999.0000,9,-999.0000,  -999.00,9,  -999.00, -999.000,9, -999.000
  06AQ19960317,  S04a,    86,  3,     19,      5,2,19960501,   0,-66.1307, -31.8560, 4769,   1252.6,   0.0810,  34.6722,2,  34.6726,2,    208.4,2,   125.86,2,    34.06,2,     0.00,2,     2.34,2,    0.123,2,    0.062,2,    0.003,2,    0.370,2,   2260.4,2, -999.000,9, -999.000,-999.0000,9,-999.0000,  -999.00,9,  -999.00, -999.000,9, -999.000
  06AQ19960317,  S04a,    86,  3,     16,      8,2,19960501,   0,-66.1307, -31.8560, 4769,   1501.5,  -0.0037,  34.6672,2,-999.0000,9,   -999.0,9,   125.58,2,    33.86,2,     0.00,2,     2.35,2, -999.000,9, -999.000,9, -999.000,9, -999.000,9,   -999.0,9, -999.000,9, -999.000,-999.0000,9,-999.0000,  -999.00,9,  -999.00, -999.000,9, -999.000
  06AQ19960317,  S04a,    86,  3,     17,      7,2,19960501,   0,-66.1307, -31.8560, 4769,   1502.5,  -0.0029,  34.6679,2,-999.0000,9,   -999.0,9,   125.49,2,    33.86,2,     0.00,2,     2.34,2, -999.000,9, -999.000,9, -999.000,9, -999.000,9,   -999.0,9, -999.000,9, -999.000,-999.0000,9,-999.0000,  -999.00,9,  -999.00, -999.000,9, -999.000
  06AQ19960317,  S04a,    86,  3,     18,      6,2,19960501,   0,-66.1307, -31.8560, 4769,   1503.3,  -0.0034,  34.6677,2,  34.6696,2,    213.7,2,   125.22,2,    33.80,2,     0.01,2,     2.34,2,    0.119,2,    0.060,2,    0.003,2,    0.373,2,   2258.1,2, -999.000,9, -999.000,-999.0000,9,-999.0000,  -999.00,9,  -999.00, -999.000,9, -999.000
  06AQ19960317,  S04a,    86,  3,     15,      9,2,19960501,   0,-66.1307, -31.8560, 4769,   1749.7,  -0.0781,  34.6641,2,  34.6667,2,    218.8,2,   125.37,2,    33.73,2,     0.00,2,     2.33,2,    0.128,2,    0.066,2,    0.003,2,    0.417,2,   2257.5,2, -999.000,9, -999.000,-999.0000,9,-999.0000,  -999.00,9,  -999.00, -999.000,9, -999.000
  06AQ19960317,  S04a,    86,  3,     14,     10,2,19960501,   0,-66.1307, -31.8560, 4769,   2001.8,  -0.1406,  34.6619,2,  34.6648,2,    222.9,2,   124.78,2,    33.53,2,     0.01,2,     2.33,2,    0.144,2,    0.074,2,    0.004,2,    0.462,2,   2255.3,2, -999.000,9, -999.000,-999.0000,9,-999.0000,  -999.00,9,  -999.00, -999.000,9, -999.000
  06AQ19960317,  S04a,    86,  3,     13,     11,2,19960501,   0,-66.1307, -31.8560, 4769,   2501.5,  -0.2359,  34.6582,2,  34.6606,2,    229.6,2,   124.66,2,    33.40,2,     0.00,2,     2.31,2,    0.178,2,    0.089,2,    0.005,2,    0.547,2,   2251.3,2, -999.000,9, -999.000,-999.0000,9,-999.0000,  -999.00,9,  -999.00, -999.000,9, -999.000
  06AQ19960317,  S04a,    86,  3,     10,     14,2,19960501,   0,-66.1307, -31.8560, 4769,   2999.6,  -0.2987,  34.6564,2,-999.0000,9,   -999.0,9,   123.66,2,    33.20,2,     0.00,2,     2.30,2, -999.000,9, -999.000,9, -999.000,9, -999.000,9,   -999.0,9, -999.000,9, -999.000,-999.0000,9,-999.0000,  -999.00,9,  -999.00, -999.000,9, -999.000
  06AQ19960317,  S04a,    86,  3,     11,     13,2,19960501,   0,-66.1307, -31.8560, 4769,   3000.4,  -0.2990,  34.6569,2,-999.0000,9,   -999.0,9,   124.04,2,    33.16,2,     0.00,2,     2.30,2, -999.000,9, -999.000,9, -999.000,9, -999.000,9,   -999.0,9, -999.000,9, -999.000,-999.0000,9,-999.0000,  -999.00,9,  -999.00, -999.000,9, -999.000
  06AQ19960317,  S04a,    86,  3,     12,     12,2,19960501,   0,-66.1307, -31.8560, 4769,   3000.9,  -0.2990,  34.6566,2,  34.6580,2,    233.5,2,   124.11,2,    33.23,2,     0.01,2,     2.30,2,    0.172,2,    0.086,2,    0.004,2,    0.554,2,   2249.6,2, -999.000,9, -999.000,-999.0000,9,-999.0000,  -999.00,9,  -999.00, -999.000,9, -999.000
  06AQ19960317,  S04a,    86,  3,      9,     15,2,19960501,   0,-66.1307, -31.8560, 4769,   3500.0,  -0.3413,  34.6542,2,  34.6561,2,    237.6,2,   123.36,2,    33.12,2,     0.00,2,     2.29,2,    0.187,2,    0.093,2,    0.004,2,    0.584,2,   2247.2,2, -999.000,9, -999.000,-999.0000,9,-999.0000,  -999.00,9,  -999.00, -999.000,9, -999.000
  06AQ19960317,  S04a,    86,  3,      8,     16,2,19960501,   0,-66.1307, -31.8560, 4769,   3998.6,  -0.3785,  34.6529,2,  34.6537,2,    240.4,2,   124.24,2,    32.99,2,     0.00,2,     2.28,2,    0.182,2,    0.088,2,    0.005,2,    0.589,2,   2247.5,2, -999.000,9, -999.000,   1.8890,2,   0.0050,     5.09,2,     0.22,    8.246,2,    0.018
  06AQ19960317,  S04a,    86,  3,      7,     17,2,19960501,   0,-66.1307, -31.8560, 4769,   4298.9,  -0.4219,  34.6502,2,  34.6503,2,    243.7,2,   121.18,2,    32.94,2,     0.00,2,     2.28,2,    0.290,2,    0.136,2,    0.008,2,    0.748,2,   2245.5,2, -999.000,9, -999.000,   1.8880,2,   0.0050,     4.67,2,     0.22,    8.279,2,    0.018
  06AQ19960317,  S04a,    86,  3,      6,     18,2,19960501,   0,-66.1307, -31.8560, 4769,   4746.4,  -0.5081,  34.6446,2,  34.6449,2,    247.0,2,   120.00,2,    32.93,2,     0.00,2,     2.28,2,    0.463,2,    0.213,2,    0.012,2,    0.970,2,   2246.7,2,    0.051,2, -999.000,   1.8980,3,   0.0150,     4.32,3,     0.22,    8.284,3,    0.060
  06AQ19960317,  S04a,    86,  3,      5,     19,2,19960501,   0,-66.1307, -31.8560, 4769,   4746.8,  -0.5073,  34.6447,2,-999.0000,9,   -999.0,9,   119.67,2,    32.89,2,     0.00,2,     2.27,2, -999.000,9, -999.000,9, -999.000,9, -999.000,9,   -999.0,9, -999.000,9, -999.000,-999.0000,9,-999.0000,  -999.00,9,  -999.00, -999.000,9, -999.000
  06AQ19960317,  S04a,    86,  3,      4,     20,2,19960501,   0,-66.1307, -31.8560, 4769,   4747.2,  -0.5086,  34.6450,2,-999.0000,9,   -999.0,9,   120.11,2,    32.94,2,     0.00,2,     2.27,2, -999.000,9, -999.000,9, -999.000,9, -999.000,9,   -999.0,9, -999.000,9, -999.000,-999.0000,9,-999.0000,  -999.00,9,  -999.00, -999.000,9, -999.000
  06AQ19960317,  S04a,    86,  3,      3,     21,2,19960501,   0,-66.1307, -31.8560, 4769,   4798.6,  -0.5261,  34.6424,2,  34.6426,2,    248.3,2,   119.09,2,    33.07,2,     0.00,2,     2.27,2,    0.663,2,    0.298,2,    0.018,2,    1.119,2,   -999.0,9,    0.038,2, -999.000,   1.9060,4,   0.0050,     3.92,2,     0.22,    8.794,4,    0.020
  06AQ19960317,  S04a,    86,  3,      2,     22,2,19960501,   0,-66.1307, -31.8560, 4769,   4848.0,  -0.5209,  34.6414,2,  34.6414,2,    248.2,2,   119.02,2,    32.95,2,     0.01,2,     2.27,2,    0.663,2,    0.299,2,    0.020,2,    1.119,2,   2248.3,2,    0.082,2, -999.000,   1.8890,2,   0.0050,     3.81,2,     0.22,    8.293,2,    0.018
  06AQ19960317,  S04a,    86,  3,     24,     24,2,19960501,   0,-66.1307, -31.8560, 4769,   4848.3,  -0.5215,  34.6419,2,-999.0000,9,   -999.0,9,   119.12,2,    33.01,2,     0.01,2,     2.27,2, -999.000,9, -999.000,9, -999.000,9, -999.000,9,   -999.0,9, -999.000,9, -999.000,-999.0000,9,-999.0000,  -999.00,9,  -999.00, -999.000,9, -999.000
  06AQ19960317,  S04a,    86,  3,      1,     23,2,19960501,   0,-66.1307, -31.8560, 4769,   4848.4,  -0.5216,  34.6416,2,-999.0000,9,   -999.0,9,   119.33,2,    32.94,2,     0.00,2,     2.27,2, -999.000,9, -999.000,9, -999.000,9, -999.000,9,   -999.0,9, -999.000,9, -999.000,-999.0000,9,-999.0000,  -999.00,9,  -999.00, -999.000,9, -999.000
  06AQ19960317,  S04a,    87,  1,     23,      1,2,19960501,   0,-65.9632, -33.3318, 4775,     20.6,  -1.8730,  34.1769,2,  34.1753,2,    338.7,2,    56.15,2,    25.62,2,     0.22,2,     1.80,2,    6.348,2,    3.135,2,    0.554,2,    8.689,2,   2189.2,2, -999.000,9, -999.000,-999.0000,9,-999.0000,  -999.00,9,  -999.00, -999.000,9, -999.000
  06AQ19960317,  S04a,    87,  1,     22,      2,2,19960501,   0,-65.9632, -33.3318, 4775,     40.2,  -1.8718,  34.1751,2,  34.1756,2,    339.6,2,    55.77,2,    25.71,2,     0.20,2,     1.79,2, -999.000,9, -999.000,9, -999.000,9, -999.000,9,   2190.2,2, -999.000,9, -999.000,-999.0000,9,-999.0000,  -999.00,9,  -999.00, -999.000,9, -999.000
  06AQ19960317,  S04a,    87,  1,     21,      3,2,19960501,   0,-65.9632, -33.3318, 4775,     80.6,  -1.6950,  34.3495,2,-999.0000,9,   -999.0,9,    69.79,2,    28.84,2,     0.15,2,     2.03,2,    4.927,2,    2.337,2,    0.403,2,    6.575,2,   -999.0,9, -999.000,9, -999.000,-999.0000,9,-999.0000,  -999.00,9,  -999.00, -999.000,9, -999.000
  06AQ19960317,  S04a,    87,  1,     20,      4,2,19960501,   0,-65.9632, -33.3318, 4775,     80.6,  -1.6917,  34.3498,2,  34.3615,2,    299.5,2,    70.61,2,    29.12,2,     0.14,2,     2.04,2, -999.000,9, -999.000,9, -999.000,9, -999.000,9,   2217.6,2, -999.000,9, -999.000,-999.0000,9,-999.0000,  -999.00,9,  -999.00, -999.000,9, -999.000
  06AQ19960317,  S04a,    87,  1,     19,      5,2,19960501,   0,-65.9632, -33.3318, 4775,    101.2,  -1.5144,  34.4295,2,  34.4350,2,    280.6,2,    76.87,2,    30.74,2,     0.11,2,     2.12,2,    4.188,2,    1.969,2,    0.335,2,    5.468,2,   2225.4,2, -999.000,9, -999.000,-999.0000,9,-999.0000,  -999.00,9,  -999.00, -999.000,9, -999.000
  06AQ19960317,  S04a,    87,  1,     18,      6,2,19960501,   0,-65.9632, -33.3318, 4775,    150.3,  -0.3764,  34.5836,2,  34.5783,2,    223.3,2,    94.82,2,    33.19,2,     0.04,2,     2.28,2,    2.161,2,    0.958,2,    0.148,2,    2.692,2,   2251.9,2, -999.000,9, -999.000,-999.0000,9,-999.0000,  -999.00,9,  -999.00, -999.000,9, -999.000
  06AQ19960317,  S04a,    87,  1,     17,      7,2,19960501,   0,-65.9632, -33.3318, 4775,    191.0,   0.6248,  34.6819,2,  34.6832,2,    187.8,2,   109.71,2,    34.45,2,     0.02,2,     2.37,2,    0.438,2,    0.193,2,    0.020,2,    0.706,2,   2268.3,2, -999.000,9, -999.000,-999.0000,9,-999.0000,  -999.00,9,  -999.00, -999.000,9, -999.000
  06AQ19960317,  S04a,    87,  1,     16,      8,2,19960501,   0,-65.9632, -33.3318, 4775,    230.2,   0.6095,  34.6838,2,  34.6839,2,    187.6,2,   112.43,2,    34.68,2,     0.04,2,     2.38,2,    0.388,2,    0.167,2,    0.017,2,    0.663,2,   2265.8,2, -999.000,9, -999.000,-999.0000,9,-999.0000,  -999.00,9,  -999.00, -999.000,9, -999.000
  06AQ19960317,  S04a,    87,  1,     15,      9,2,19960501,   0,-65.9632, -33.3318, 4775,    301.3,   0.5646,  34.6869,2,  34.6866,2,    189.3,2,   116.11,2,    34.70,2,     0.02,2,     2.37,2,    0.295,2,    0.138,2,    0.010,2,    0.535,2,   2268.1,2, -999.000,9, -999.000,-999.0000,9,-999.0000,  -999.00,9,  -999.00, -999.000,9, -999.000
  06AQ19960317,  S04a,    87,  1,     14,     10,2,19960501,   0,-65.9632, -33.3318, 4775,    399.4,   0.4676,  34.6848,2,  34.6855,2,    190.5,2,   119.15,2,    34.65,2,     0.02,2,     2.38,2,    0.222,2,    0.109,2,    0.007,2,    0.460,2,   2267.2,2, -999.000,9, -999.000,-999.0000,9,-999.0000,  -999.00,9,  -999.00, -999.000,9, -999.000
  06AQ19960317,  S04a,    87,  1,     13,     11,2,19960501,   0,-65.9632, -33.3318, 4775,    499.4,   0.4034,  34.6836,2,  34.6835,2,    192.5,2,   121.78,2,    34.65,2,     0.02,2,     2.37,2,    0.171,6,    0.082,6,    0.006,6,    0.417,6,   2267.7,2, -999.000,9, -999.000,-999.0000,9,-999.0000,  -999.00,9,  -999.00, -999.000,9, -999.000
  06AQ19960317,  S04a,    87,  1,     12,     12,2,19960501,   0,-65.9632, -33.3318, 4775,    750.3,   0.2664,  34.6792,2,  34.6798,2,    196.5,2,   125.25,2,    34.78,2,     0.02,2,     2.37,2, -999.000,9, -999.000,9, -999.000,9, -999.000,9,   2266.5,2, -999.000,9, -999.000,-999.0000,9,-999.0000,  -999.00,9,  -999.00, -999.000,9, -999.000
  06AQ19960317,  S04a,    87,  1,     11,     13,2,19960501,   0,-65.9632, -33.3318, 4775,   1001.2,   0.1617,  34.6749,2,  34.6755,2,    203.0,2,   125.74,2,    34.32,2,     0.01,2,     2.36,2,    0.117,2,    0.058,2,    0.002,2,    0.350,2,   2267.1,2, -999.000,9, -999.000,-999.0000,9,-999.0000,  -999.00,9,  -999.00, -999.000,9, -999.000
  06AQ19960317,  S04a,    87,  1,     10,     14,2,19960501,   0,-65.9632, -33.3318, 4775,   1499.6,  -0.0177,  34.6665,2,  34.6679,2,    214.5,2,   126.07,2,    33.99,2,     0.02,2,     2.34,2,    0.127,2,    0.064,2,    0.002,2,    0.401,2,   2262.8,2, -999.000,9, -999.000,-999.0000,9,-999.0000,  -999.00,9,  -999.00, -999.000,9, -999.000
  06AQ19960317,  S04a,    87,  1,      9,     15,2,19960501,   0,-65.9632, -33.3318, 4775,   2000.7,  -0.1536,  34.6615,2,  34.6632,2,    223.4,2,   125.61,2,    33.71,2,     0.02,2,     2.32,2,    0.140,2,    0.071,2,    0.003,2,    0.458,2,   2257.0,2, -999.000,9, -999.000,-999.0000,9,-999.0000,  -999.00,9,  -999.00, -999.000,9, -999.000
  06AQ19960317,  S04a,    87,  1,      8,     16,2,19960501,   0,-65.9632, -33.3318, 4775,   2501.1,  -0.2442,  34.6586,2,  34.6596,2,    229.6,2,   124.78,2,    33.43,2,     0.01,2,     2.30,2,    0.165,2,    0.086,2,    0.005,2,    0.542,2,   2253.2,2, -999.000,9, -999.000,-999.0000,9,-999.0000,  -999.00,9,  -999.00, -999.000,9, -999.000
  06AQ19960317,  S04a,    87,  1,      7,     17,2,19960501,   0,-65.9632, -33.3318, 4775,   2999.8,  -0.3052,  34.6562,2,  34.6567,2,    234.1,2,   124.04,2,    33.26,2,     0.01,2,     2.29,2,    0.175,2,    0.088,2,    0.005,2,    0.568,2,   2252.6,2, -999.000,9, -999.000,-999.0000,9,-999.0000,  -999.00,9,  -999.00, -999.000,9, -999.000
  06AQ19960317,  S04a,    87,  1,      6,     18,2,19960501,   0,-65.9632, -33.3318, 4775,   3499.5,  -0.3542,  34.6548,2,  34.6546,2,    237.5,2,   123.81,2,    33.15,2,     0.01,2,     2.28,2,    0.203,2,    0.111,2,    0.005,2,    0.620,2,   2251.7,2, -999.000,9, -999.000,-999.0000,9,-999.0000,  -999.00,9,  -999.00, -999.000,9, -999.000
  06AQ19960317,  S04a,    87,  1,      5,     19,2,19960501,   0,-65.9632, -33.3318, 4775,   3999.0,  -0.3914,  34.6532,2,  34.6520,2,    240.4,2,   124.78,2,    33.13,2,     0.02,2,     2.26,2,    0.193,2,    0.091,2,    0.004,2,    0.640,2,   2253.0,2, -999.000,9, -999.000,-999.0000,9,-999.0000,  -999.00,9,  -999.00, -999.000,9, -999.000
  06AQ19960317,  S04a,    87,  1,      4,     20,2,19960501,   0,-65.9632, -33.3318, 4775,   4497.8,  -0.4863,  34.6465,2,  34.6464,2,    246.9,2,   117.13,2,    32.89,2,     0.01,2,     2.26,2,    0.385,2,    0.177,2,    0.011,2,    0.921,2,   2249.9,2, -999.000,9, -999.000,-999.0000,9,-999.0000,  -999.00,9,  -999.00, -999.000,9, -999.000
  06AQ19960317,  S04a,    87,  1,      3,     21,2,19960501,   0,-65.9632, -33.3318, 4775,   4697.2,  -0.5098,  34.6463,2,  34.6443,2,    247.3,2,   119.78,2,    33.06,2,     0.01,2,     2.27,2,    0.408,2,    0.190,2,    0.012,2,    0.967,2,   2247.5,2, -999.000,9, -999.000,-999.0000,9,-999.0000,  -999.00,9,  -999.00, -999.000,9, -999.000
  06AQ19960317,  S04a,    87,  1,      2,     22,2,19960501,   0,-65.9632, -33.3318, 4775,   4750.6,  -0.5131,  34.6451,2,  34.6447,2,    247.2,2,   120.28,2,    32.99,2,     0.01,2,     2.27,2,    0.466,2,    0.220,2,    0.013,2,    1.019,2,   -999.0,9, -999.000,9, -999.000,-999.0000,9,-999.0000,  -999.00,9,  -999.00, -999.000,9, -999.000
  06AQ19960317,  S04a,    87,  1,      1,     23,2,19960501,   0,-65.9632, -33.3318, 4775,   4800.7,  -0.5218,  34.6430,2,  34.6418,2,    248.1,2,   119.59,2,    32.89,2,     0.01,2,     2.26,2,    0.619,2,    0.310,2,    0.019,2,    1.102,2,   2250.0,2, -999.000,9, -999.000,-999.0000,9,-999.0000,  -999.00,9,  -999.00, -999.000,9, -999.000
  06AQ19960317,  S04a,    87,  1,     24,     24,2,19960501,   0,-65.9632, -33.3318, 4775,   4850.6,  -0.5189,  34.6424,2,  34.6414,2,   -999.0,9,   120.05,2,    33.02,2,     0.03,2,     2.27,2,    0.641,2,    0.303,2,    0.017,2,    1.121,2,   2249.3,2, -999.000,9, -999.000,-999.0000,9,-999.0000,  -999.00,9,  -999.00, -999.000,9, -999.000