BOTTLE,20150129PRINUNIVRMK
EXPOCODE,SECT_ID,STNNBR,CASTNO,SAMPNO,BTLNBR,BTLNBR_FLAG_W,DATE,TIME,LATITUDE,LONGITUDE,DEPTH,CTDPRS,CTDTMP,CTDSAL,CTDSAL_FLAG_W,SALNTY,SALNTY_FLAG_W,OXYGEN,OXYGEN_FLAG_W,SILCAT,SILCAT_FLAG_W,NITRAT,NITRAT_FLAG_W,NITRIT,NITRIT_FLAG_W,PHSPHT,PHSPHT_FLAG_W,CFC-11,CFC-11_FLAG_W,CFC-12,CFC-12_FLAG_W,CFC113,CFC113_FLAG_W,CCL4,CCL4_FLAG_W,TCARBN,TCARBN_FLAG_W,TRITUM,TRITUM_FLAG_W,TRITER,HELIUM,HELIUM_FLAG_W,HELIER,DELHE3,DELHE3_FLAG_W,DELHER,NEON,NEON_FLAG_W,NEONER
,,,,,,,,,,,METERS,DBAR,ITS-90,PSS-78,,PSS-78,,UMOL/KG,,UMOL/KG,,UMOL/KG,,UMOL/KG,,UMOL/KG,,PMOL/KG,,PMOL/KG,,PMOL/KG,,PMOL/KG,,UMOL/KG,,TU,,TU,NMOL/KG,,NMOL/KG,PERCNT,,PERCNT,NMOL/KG,,NMOL/KG
  06AQ19960317,  S04a,    19,  1,     18,      2,2,19960329,   0,-56.2513,  22.2450, 5114,     20.6,   1.4076,-999.0000,9,  33.8671,2,    329.0,2,  -999.00,9,  -999.00,9,  -999.00,9,  -999.00,9,    6.096,2,    3.025,2,    0.503,6,    8.382,6,   2151.3,2, -999.000,9, -999.000,-999.0000,9,-999.0000,  -999.00,9,  -999.00, -999.000,9, -999.000
  06AQ19960317,  S04a,    19,  1,     19,      1,2,19960329,   0,-56.2513,  22.2450, 5114,     20.8,   1.4256,-999.0000,9,-999.0000,9,   -999.0,9,  -999.00,9,  -999.00,9,  -999.00,9,  -999.00,9, -999.000,9, -999.000,9, -999.000,9, -999.000,9,   -999.0,9, -999.000,9, -999.000,-999.0000,9,-999.0000,  -999.00,9,  -999.00, -999.000,9, -999.000
  06AQ19960317,  S04a,    19,  1,     17,      3,2,19960329,   0,-56.2513,  22.2450, 5114,     41.6,   1.4136,-999.0000,9,  33.8644,2,   -999.0,9,  -999.00,9,  -999.00,9,  -999.00,9,  -999.00,9, -999.000,9, -999.000,9, -999.000,9, -999.000,9,   -999.0,9, -999.000,9, -999.000,-999.0000,9,-999.0000,  -999.00,9,  -999.00, -999.000,9, -999.000
  06AQ19960317,  S04a,    19,  1,     16,      4,2,19960329,   0,-56.2513,  22.2450, 5114,     41.8,   1.4039,-999.0000,9,  33.8681,2,    329.2,2,  -999.00,9,  -999.00,9,  -999.00,9,  -999.00,9,    5.969,2,    2.952,2,    0.480,2,    8.211,2,   2151.6,2, -999.000,9, -999.000,-999.0000,9,-999.0000,  -999.00,9,  -999.00, -999.000,9, -999.000
  06AQ19960317,  S04a,    19,  1,     15,      5,2,19960329,   0,-56.2513,  22.2450, 5114,     62.3,   1.4264,-999.0000,9,  33.8810,2,   -999.0,9,  -999.00,9,  -999.00,9,  -999.00,9,  -999.00,9, -999.000,9, -999.000,9, -999.000,9, -999.000,9,   -999.0,9, -999.000,9, -999.000,-999.0000,9,-999.0000,  -999.00,9,  -999.00, -999.000,9, -999.000
  06AQ19960317,  S04a,    19,  1,     14,      6,2,19960329,   0,-56.2513,  22.2450, 5114,     62.4,   1.4256,-999.0000,9,-999.0000,9,    329.0,2,  -999.00,9,  -999.00,9,  -999.00,9,  -999.00,9, -999.000,9, -999.000,9, -999.000,9, -999.000,9,   2152.7,2, -999.000,9, -999.000,-999.0000,9,-999.0000,  -999.00,9,  -999.00, -999.000,9, -999.000
  06AQ19960317,  S04a,    19,  1,     12,      8,2,19960329,   0,-56.2513,  22.2450, 5114,     80.7,   0.8261,-999.0000,9,  33.9681,2,    332.2,2,  -999.00,9,  -999.00,9,  -999.00,9,  -999.00,9,    6.390,2,    3.144,2,    0.488,2,    8.531,2,   2169.4,2, -999.000,9, -999.000,-999.0000,9,-999.0000,  -999.00,9,  -999.00, -999.000,9, -999.000
  06AQ19960317,  S04a,    19,  1,     13,      7,2,19960329,   0,-56.2513,  22.2450, 5114,     80.8,   1.3534,-999.0000,9,  33.9480,2,   -999.0,9,  -999.00,9,  -999.00,9,  -999.00,9,  -999.00,9, -999.000,9, -999.000,9, -999.000,9, -999.000,9,   -999.0,9, -999.000,9, -999.000,-999.0000,9,-999.0000,  -999.00,9,  -999.00, -999.000,9, -999.000
  06AQ19960317,  S04a,    19,  1,     10,     10,2,19960329,   0,-56.2513,  22.2450, 5114,     98.8,  -0.8861,-999.0000,9,  34.1192,2,   -999.0,9,  -999.00,9,  -999.00,9,  -999.00,9,  -999.00,9,    6.793,2,    3.286,2,    0.506,2,    8.738,2,   2195.9,2, -999.000,9, -999.000,-999.0000,9,-999.0000,  -999.00,9,  -999.00, -999.000,9, -999.000
  06AQ19960317,  S04a,    19,  1,     11,      9,2,19960329,   0,-56.2513,  22.2450, 5114,     99.0,  -0.8569,-999.0000,9,-999.0000,9,   -999.0,9,  -999.00,9,  -999.00,9,  -999.00,9,  -999.00,9, -999.000,9, -999.000,9, -999.000,9, -999.000,9,   -999.0,9, -999.000,9, -999.000,-999.0000,9,-999.0000,  -999.00,9,  -999.00, -999.000,9, -999.000
  06AQ19960317,  S04a,    19,  1,      7,     13,2,19960329,   0,-56.2513,  22.2450, 5114,    125.9,  -1.1707,-999.0000,9,  34.2210,2,   -999.0,9,  -999.00,9,  -999.00,9,  -999.00,9,  -999.00,9, -999.000,9, -999.000,9, -999.000,9, -999.000,9,   -999.0,9, -999.000,9, -999.000,-999.0000,9,-999.0000,  -999.00,9,  -999.00, -999.000,9, -999.000
  06AQ19960317,  S04a,    19,  1,      9,     11,2,19960329,   0,-56.2513,  22.2450, 5114,    126.0,  -1.2793,-999.0000,9,-999.0000,9,    314.4,2,  -999.00,9,  -999.00,9,  -999.00,9,  -999.00,9,    6.143,2,    2.972,2,    0.426,2,    7.940,2,   2211.3,2, -999.000,9, -999.000,-999.0000,9,-999.0000,  -999.00,9,  -999.00, -999.000,9, -999.000
  06AQ19960317,  S04a,    19,  1,      8,     12,2,19960329,   0,-56.2513,  22.2450, 5114,    126.1,  -1.2695,-999.0000,9,-999.0000,9,   -999.0,9,  -999.00,9,  -999.00,9,  -999.00,9,  -999.00,9, -999.000,9, -999.000,9, -999.000,9, -999.000,9,   -999.0,9, -999.000,9, -999.000,-999.0000,9,-999.0000,  -999.00,9,  -999.00, -999.000,9, -999.000
  06AQ19960317,  S04a,    19,  1,      6,     14,2,19960329,   0,-56.2513,  22.2450, 5114,    151.1,  -0.8474,-999.0000,9,  34.3586,2,    282.2,2,  -999.00,9,  -999.00,9,  -999.00,9,  -999.00,9,    4.729,2,    2.297,2,    0.359,2,    6.111,2,   2229.2,2, -999.000,9, -999.000,-999.0000,9,-999.0000,  -999.00,9,  -999.00, -999.000,9, -999.000
  06AQ19960317,  S04a,    19,  1,      4,     16,2,19960329,   0,-56.2513,  22.2450, 5114,    200.4,   0.0154,-999.0000,9,-999.0000,9,    220.6,2,  -999.00,9,  -999.00,9,  -999.00,9,  -999.00,9,    2.049,2,    0.973,2,    0.151,2,    2.624,2,   2252.3,2, -999.000,9, -999.000,-999.0000,9,-999.0000,  -999.00,9,  -999.00, -999.000,9, -999.000
  06AQ19960317,  S04a,    19,  1,      5,     15,2,19960329,   0,-56.2513,  22.2450, 5114,    200.7,  -0.0101,-999.0000,9,  34.5546,2,   -999.0,9,  -999.00,9,  -999.00,9,  -999.00,9,  -999.00,9, -999.000,9, -999.000,9, -999.000,9, -999.000,9,   -999.0,9, -999.000,9, -999.000,-999.0000,9,-999.0000,  -999.00,9,  -999.00, -999.000,9, -999.000
  06AQ19960317,  S04a,    19,  1,      3,     17,2,19960329,   0,-56.2513,  22.2450, 5114,    249.6,   0.3132,-999.0000,9,  34.6320,2,    200.8,2,  -999.00,9,  -999.00,9,  -999.00,9,  -999.00,9,    1.133,2,    0.536,2,    0.075,2,    1.505,2,   2260.4,2, -999.000,9, -999.000,-999.0000,9,-999.0000,  -999.00,9,  -999.00, -999.000,9, -999.000
  06AQ19960317,  S04a,    19,  1,      2,     18,2,19960329,   0,-56.2513,  22.2450, 5114,    300.8,   0.4551,-999.0000,9,  34.6678,2,   -999.0,9,  -999.00,9,  -999.00,9,  -999.00,9,  -999.00,9, -999.000,9, -999.000,9, -999.000,9, -999.000,9,   -999.0,9, -999.000,9, -999.000,-999.0000,9,-999.0000,  -999.00,9,  -999.00, -999.000,9, -999.000
  06AQ19960317,  S04a,    19,  1,      1,     19,2,19960329,   0,-56.2513,  22.2450, 5114,    300.8,   0.4591,-999.0000,9,  34.6695,2,   -999.0,9,  -999.00,9,  -999.00,9,  -999.00,9,  -999.00,9, -999.000,9, -999.000,9, -999.000,9, -999.000,9,   -999.0,9, -999.000,9, -999.000,-999.0000,9,-999.0000,  -999.00,9,  -999.00, -999.000,9, -999.000
  06AQ19960317,  S04a,    19,  3,     24,      1,2,19960329,   0,-56.2513,  22.2450, 5114,    321.3,   0.4597,  34.6726,2,  34.6727,2,    193.1,2,   113.69,2,    34.22,2,  -999.00,9,     2.33,2,    0.524,2,    0.240,2,    0.026,2,    0.776,2,   2268.6,2, -999.000,9, -999.000,-999.0000,9,-999.0000,  -999.00,9,  -999.00, -999.000,9, -999.000
  06AQ19960317,  S04a,    19,  3,     23,      2,2,19960329,   0,-56.2513,  22.2450, 5114,    410.4,   0.4323,  34.6791,2,  34.6813,2,    190.7,2,   117.02,2,    34.58,2,  -999.00,9,     2.32,2,    0.359,2,    0.165,2,    0.018,2,    0.588,2,   2271.7,2, -999.000,9, -999.000,-999.0000,9,-999.0000,  -999.00,9,  -999.00, -999.000,9, -999.000
  06AQ19960317,  S04a,    19,  3,     21,      4,2,19960329,   0,-56.2513,  22.2450, 5114,    750.0,   0.2903,  34.6795,2,-999.0000,9,   -999.0,9,   123.60,2,    34.61,2,  -999.00,9,     2.34,2, -999.000,9, -999.000,9, -999.000,9, -999.000,9,   -999.0,9, -999.000,9, -999.000,-999.0000,9,-999.0000,  -999.00,9,  -999.00, -999.000,9, -999.000
  06AQ19960317,  S04a,    19,  3,     22,      3,2,19960329,   0,-56.2513,  22.2450, 5114,    750.1,   0.2908,  34.6792,2,  34.6807,2,    195.9,2,   123.65,2,    34.43,2,  -999.00,9,     2.33,2,    0.192,2,    0.090,2,    0.005,2,    0.401,2,   2268.9,2, -999.000,9, -999.000,-999.0000,9,-999.0000,  -999.00,9,  -999.00, -999.000,9, -999.000
  06AQ19960317,  S04a,    19,  3,     20,      5,2,19960329,   0,-56.2513,  22.2450, 5114,    750.3,   0.2886,  34.6797,2,-999.0000,9,   -999.0,9,   123.44,2,    34.44,2,  -999.00,9,     2.33,2, -999.000,9, -999.000,9, -999.000,9, -999.000,9,   -999.0,9, -999.000,9, -999.000,-999.0000,9,-999.0000,  -999.00,9,  -999.00, -999.000,9, -999.000
  06AQ19960317,  S04a,    19,  3,     19,      6,2,19960329,   0,-56.2513,  22.2450, 5114,   1001.0,   0.1753,  34.6756,2,  34.6768,2,    203.1,2,   125.04,2,    34.03,2,  -999.00,9,     2.33,2,    0.171,2,    0.077,2,    0.003,2,    0.379,2,   2269.2,2, -999.000,9, -999.000,-999.0000,9,-999.0000,  -999.00,9,  -999.00, -999.000,9, -999.000
  06AQ19960317,  S04a,    19,  3,     18,      7,2,19960329,   0,-56.2513,  22.2450, 5114,   1250.5,   0.0830,  34.6717,2,  34.6724,2,    208.3,2,   126.02,2,    34.14,2,  -999.00,9,     2.31,2,    0.169,2,    0.076,2,    0.004,2,    0.398,2,   2262.8,2, -999.000,9, -999.000,-999.0000,9,-999.0000,  -999.00,9,  -999.00, -999.000,9, -999.000
  06AQ19960317,  S04a,    19,  3,     17,      8,2,19960329,   0,-56.2513,  22.2450, 5114,   1500.5,  -0.0145,  34.6671,2,  34.6695,2,    214.1,2,   125.69,2,    33.74,2,  -999.00,9,     2.30,2,    0.186,2,    0.089,2,    0.003,2,    0.458,2,   2261.3,2, -999.000,9, -999.000,-999.0000,9,-999.0000,  -999.00,9,  -999.00, -999.000,9, -999.000
  06AQ19960317,  S04a,    19,  3,     16,      9,2,19960329,   0,-56.2513,  22.2450, 5114,   1749.1,  -0.0854,  34.6655,2,  34.6659,2,    219.5,2,   124.33,2,    33.87,2,  -999.00,9,     2.29,2,    0.197,2,    0.092,2,    0.002,2,    0.484,2,   2261.9,2, -999.000,9, -999.000,-999.0000,9,-999.0000,  -999.00,9,  -999.00, -999.000,9, -999.000
  06AQ19960317,  S04a,    19,  3,     15,     10,2,19960329,   0,-56.2513,  22.2450, 5114,   2000.5,  -0.1504,  34.6620,2,  34.6631,2,    223.1,2,   124.58,2,    33.63,2,  -999.00,9,     2.28,2,    0.198,2,    0.095,2,    0.005,2,    0.531,2,   2259.5,2, -999.000,9, -999.000,-999.0000,9,-999.0000,  -999.00,9,  -999.00, -999.000,9, -999.000
  06AQ19960317,  S04a,    19,  3,     14,     11,2,19960329,   0,-56.2513,  22.2450, 5114,   2500.1,  -0.2453,  34.6596,2,  34.6590,2,    229.2,2,   119.81,2,    33.29,2,  -999.00,9,     2.27,2,    0.239,2,    0.116,2,    0.004,2,    0.626,2,   2258.7,2, -999.000,9, -999.000,-999.0000,9,-999.0000,  -999.00,9,  -999.00, -999.000,9, -999.000
  06AQ19960317,  S04a,    19,  3,     13,     12,2,19960329,   0,-56.2513,  22.2450, 5114,   2500.1,  -0.2454,  34.6596,2,-999.0000,9,   -999.0,9,   125.88,2,    33.46,2,  -999.00,9,     2.27,2, -999.000,9, -999.000,9, -999.000,9, -999.000,9,   -999.0,9, -999.000,9, -999.000,-999.0000,9,-999.0000,  -999.00,9,  -999.00, -999.000,9, -999.000
  06AQ19960317,  S04a,    19,  3,     12,     13,2,19960329,   0,-56.2513,  22.2450, 5114,   2500.1,  -0.2456,  34.6596,2,-999.0000,9,   -999.0,9,   126.26,2,    33.50,2,  -999.00,9,     2.27,2, -999.000,9, -999.000,9, -999.000,9, -999.000,9,   -999.0,9, -999.000,9, -999.000,-999.0000,9,-999.0000,  -999.00,9,  -999.00, -999.000,9, -999.000
  06AQ19960317,  S04a,    19,  3,     11,     14,2,19960329,   0,-56.2513,  22.2450, 5114,   3000.4,  -0.2944,  34.6573,2,  34.6574,2,    233.8,2,   123.28,2,    33.34,2,  -999.00,9,     2.29,2,    0.257,2,    0.122,2,    0.004,2,    0.668,2,   2255.1,2, -999.000,9, -999.000,-999.0000,9,-999.0000,  -999.00,9,  -999.00, -999.000,9, -999.000
  06AQ19960317,  S04a,    19,  3,     10,     15,2,19960329,   0,-56.2513,  22.2450, 5114,   3497.3,  -0.3418,  34.6550,2,  34.6550,2,    236.9,2,   121.69,2,    33.23,2,  -999.00,9,     2.27,2,    0.307,2,    0.147,2,    0.007,2,    0.776,2,   2255.2,2, -999.000,9, -999.000,-999.0000,9,-999.0000,  -999.00,9,  -999.00, -999.000,9, -999.000
  06AQ19960317,  S04a,    19,  3,      7,     18,2,19960329,   0,-56.2513,  22.2450, 5114,   4000.4,  -0.3738,  34.6537,2,-999.0000,9,    240.0,2,  -999.00,9,  -999.00,9,  -999.00,9,  -999.00,9,    0.306,2,    0.146,2,    0.006,2,    0.754,2,   -999.0,9, -999.000,9, -999.000,-999.0000,9,-999.0000,  -999.00,9,  -999.00, -999.000,9, -999.000
  06AQ19960317,  S04a,    19,  3,      9,     16,2,19960329,   0,-56.2513,  22.2450, 5114,   4000.5,  -0.3739,  34.6537,2,  34.6515,2,    239.6,2,   123.39,2,    33.25,2,  -999.00,9,     2.25,2,    0.307,2,    0.144,2,    0.005,2,    0.762,2,   2250.8,2, -999.000,9, -999.000,-999.0000,9,-999.0000,  -999.00,9,  -999.00, -999.000,9, -999.000
  06AQ19960317,  S04a,    19,  3,      8,     17,2,19960329,   0,-56.2513,  22.2450, 5114,   4000.6,  -0.3742,  34.6540,2,-999.0000,9,    238.8,2,   124.05,2,    33.20,2,  -999.00,9,     2.24,2,    0.313,2,    0.148,2,    0.006,2,    0.767,2,   -999.0,9, -999.000,9, -999.000,-999.0000,9,-999.0000,  -999.00,9,  -999.00, -999.000,9, -999.000
  06AQ19960317,  S04a,    19,  3,      6,     19,2,19960329,   0,-56.2513,  22.2450, 5114,   5284.7,  -0.3588,  34.6492,2,  34.6480,2,    244.7,2,   124.13,2,    33.18,2,  -999.00,9,     2.25,2,    0.413,2,    0.198,2,    0.011,2,    0.924,2,   2251.1,2, -999.000,9, -999.000,-999.0000,9,-999.0000,  -999.00,9,  -999.00, -999.000,9, -999.000
  06AQ19960317,  S04a,    19,  3,      5,     20,2,19960329,   0,-56.2513,  22.2450, 5114,   5284.7,  -0.3590,  34.6493,2,-999.0000,9,   -999.0,9,   124.12,2,    33.11,2,  -999.00,9,     2.24,2, -999.000,9, -999.000,9, -999.000,9, -999.000,9,   -999.0,9, -999.000,9, -999.000,-999.0000,9,-999.0000,  -999.00,9,  -999.00, -999.000,9, -999.000
  06AQ19960317,  S04a,    19,  3,      4,     21,2,19960329,   0,-56.2513,  22.2450, 5114,   5284.9,  -0.3586,  34.6489,2,-999.0000,9,   -999.0,9,   124.43,2,    32.86,2,  -999.00,9,     2.25,2, -999.000,9, -999.000,9, -999.000,9, -999.000,9,   -999.0,9, -999.000,9, -999.000,-999.0000,9,-999.0000,  -999.00,9,  -999.00, -999.000,9, -999.000
  06AQ19960317,  S04a,    19,  3,      2,     23,2,19960329,   0,-56.2513,  22.2450, 5114,   5386.6,  -0.3471,  34.6492,2,-999.0000,9,   -999.0,9,   125.79,2,    33.10,2,  -999.00,9,     2.24,2, -999.000,9, -999.000,9, -999.000,9, -999.000,9,   -999.0,9, -999.000,9, -999.000,-999.0000,9,-999.0000,  -999.00,9,  -999.00, -999.000,9, -999.000
  06AQ19960317,  S04a,    19,  3,      1,     24,2,19960329,   0,-56.2513,  22.2450, 5114,   5386.6,  -0.3471,  34.6492,2,-999.0000,9,   -999.0,9,   124.03,2,    33.04,2,  -999.00,9,     2.26,2, -999.000,9, -999.000,9, -999.000,9, -999.000,9,   -999.0,9, -999.000,9, -999.000,-999.0000,9,-999.0000,  -999.00,9,  -999.00, -999.000,9, -999.000
  06AQ19960317,  S04a,    19,  3,      3,     22,2,19960329,   0,-56.2513,  22.2450, 5114,   5386.8,  -0.3470,  34.6491,2,  34.6477,2,    243.8,2,   125.60,2,    32.91,2,  -999.00,9,     2.25,2,    0.405,2,    0.195,2,    0.010,2,    0.928,2,   2251.6,2, -999.000,9, -999.000,-999.0000,9,-999.0000,  -999.00,9,  -999.00, -999.000,9, -999.000