BOTTLE,20150129PRINUNIVRMK
EXPOCODE,SECT_ID,STNNBR,CASTNO,SAMPNO,BTLNBR,BTLNBR_FLAG_W,DATE,TIME,LATITUDE,LONGITUDE,DEPTH,CTDPRS,CTDTMP,CTDSAL,CTDSAL_FLAG_W,SALNTY,SALNTY_FLAG_W,OXYGEN,OXYGEN_FLAG_W,SILCAT,SILCAT_FLAG_W,NITRAT,NITRAT_FLAG_W,NITRIT,NITRIT_FLAG_W,PHSPHT,PHSPHT_FLAG_W,CFC-11,CFC-11_FLAG_W,CFC-12,CFC-12_FLAG_W,CFC113,CFC113_FLAG_W,CCL4,CCL4_FLAG_W,TCARBN,TCARBN_FLAG_W,TRITUM,TRITUM_FLAG_W,TRITER,HELIUM,HELIUM_FLAG_W,HELIER,DELHE3,DELHE3_FLAG_W,DELHER,NEON,NEON_FLAG_W,NEONER
,,,,,,,,,,,METERS,DBAR,ITS-90,PSS-78,,PSS-78,,UMOL/KG,,UMOL/KG,,UMOL/KG,,UMOL/KG,,UMOL/KG,,PMOL/KG,,PMOL/KG,,PMOL/KG,,PMOL/KG,,UMOL/KG,,TU,,TU,NMOL/KG,,NMOL/KG,PERCNT,,PERCNT,NMOL/KG,,NMOL/KG
  06AQ19960317,  S04a,    90,  1,     23,      1,2,19960503,   0,-65.4555, -38.0277, 4705,     20.3,  -1.8778,  34.1621,2,  34.1606,2,    339.7,2,    56.15,2,    25.31,2,     0.16,2,     1.78,2,    6.524,2,    3.187,2,    0.574,2,    8.587,2,   2184.4,2, -999.000,9, -999.000,-999.0000,9,-999.0000,  -999.00,9,  -999.00, -999.000,9, -999.000
  06AQ19960317,  S04a,    90,  1,     22,      2,2,19960503,   0,-65.4555, -38.0277, 4705,     20.4,  -1.8780,  34.1613,2,-999.0000,9,   -999.0,9,    56.35,2,    25.28,2,     0.16,2,     1.79,2, -999.000,9, -999.000,9, -999.000,9, -999.000,9,   -999.0,9, -999.000,9, -999.000,-999.0000,9,-999.0000,  -999.00,9,  -999.00, -999.000,9, -999.000
  06AQ19960317,  S04a,    90,  1,     21,      3,2,19960503,   0,-65.4555, -38.0277, 4705,     40.3,  -1.8774,  34.1639,2,  34.1635,2,    340.1,2,    56.15,2,    25.21,2,     0.17,2,     1.78,2,    6.509,2,    3.164,2,    0.555,2,    8.467,2,   2185.2,2, -999.000,9, -999.000,-999.0000,9,-999.0000,  -999.00,9,  -999.00, -999.000,9, -999.000
  06AQ19960317,  S04a,    90,  1,     20,      4,2,19960503,   0,-65.4555, -38.0277, 4705,     40.3,  -1.8775,  34.1636,2,-999.0000,9,   -999.0,9,    56.06,2,    25.18,2,     0.16,2,     1.80,2, -999.000,9, -999.000,9, -999.000,9, -999.000,9,   -999.0,9, -999.000,9, -999.000,-999.0000,9,-999.0000,  -999.00,9,  -999.00, -999.000,9, -999.000
  06AQ19960317,  S04a,    90,  1,     19,      5,2,19960503,   0,-65.4555, -38.0277, 4705,     40.4,  -1.8779,  34.1637,2,-999.0000,9,   -999.0,9,    56.45,2,    25.30,2,     0.16,2,     1.81,2, -999.000,9, -999.000,9, -999.000,9, -999.000,9,   -999.0,9, -999.000,9, -999.000,-999.0000,9,-999.0000,  -999.00,9,  -999.00, -999.000,9, -999.000
  06AQ19960317,  S04a,    90,  1,     18,      6,2,19960503,   0,-65.4555, -38.0277, 4705,     60.5,  -1.8762,  34.1715,2,  34.1834,2,    336.8,2,    57.43,2,    25.61,2,     0.17,2,     1.83,2, -999.000,9, -999.000,9, -999.000,9, -999.000,9,   2184.7,2, -999.000,9, -999.000,-999.0000,9,-999.0000,  -999.00,9,  -999.00, -999.000,9, -999.000
  06AQ19960317,  S04a,    90,  1,     17,      7,2,19960503,   0,-65.4555, -38.0277, 4705,     60.5,  -1.8756,  34.1734,2,-999.0000,9,   -999.0,9,    61.84,2,    26.85,2,     0.15,2,     1.91,2,    6.107,2,    2.951,2,    0.504,2,    7.617,2,   -999.0,9, -999.000,9, -999.000,-999.0000,9,-999.0000,  -999.00,9,  -999.00, -999.000,9, -999.000
  06AQ19960317,  S04a,    90,  1,     16,      8,2,19960503,   0,-65.4555, -38.0277, 4705,     80.8,  -1.7266,  34.4056,2,  34.3867,2,    294.6,2,    72.21,2,    29.47,2,     0.12,2,     2.08,2, -999.000,9, -999.000,9, -999.000,9, -999.000,9,   2216.3,2, -999.000,9, -999.000,-999.0000,9,-999.0000,  -999.00,9,  -999.00, -999.000,9, -999.000
  06AQ19960317,  S04a,    90,  1,     15,      9,2,19960503,   0,-65.4555, -38.0277, 4705,     80.8,  -1.7217,  34.4041,2,-999.0000,9,   -999.0,9,    72.51,2,    29.48,2,     0.13,2,     2.07,2, -999.000,9, -999.000,9, -999.000,9, -999.000,9,   -999.0,9, -999.000,9, -999.000,-999.0000,9,-999.0000,  -999.00,9,  -999.00, -999.000,9, -999.000
  06AQ19960317,  S04a,    90,  1,     14,     10,2,19960503,   0,-65.4555, -38.0277, 4705,    100.9,  -1.5010,  34.4419,2,  34.4431,2,    279.1,2,    76.53,2,    30.46,2,     0.08,2,     2.10,2,    4.572,2,    2.169,2,    0.360,2,    5.322,2,   2224.4,2, -999.000,9, -999.000,-999.0000,9,-999.0000,  -999.00,9,  -999.00, -999.000,9, -999.000
  06AQ19960317,  S04a,    90,  1,     13,     11,2,19960503,   0,-65.4555, -38.0277, 4705,    120.9,  -1.2560,  34.4772,2,  34.4934,2,    257.4,2,    83.00,2,    31.35,2,     0.06,2,     2.16,2, -999.000,9, -999.000,9, -999.000,9, -999.000,9,   2237.0,2, -999.000,9, -999.000,-999.0000,9,-999.0000,  -999.00,9,  -999.00, -999.000,9, -999.000
  06AQ19960317,  S04a,    90,  1,     12,     12,2,19960503,   0,-65.4555, -38.0277, 4705,    150.6,  -0.5698,  34.5650,2,  34.5627,2,    228.1,2,    93.67,2,    32.78,2,     0.05,2,     2.25,2,    2.496,2,    1.173,2,    0.168,2,    2.878,2,   2252.0,2, -999.000,9, -999.000,-999.0000,9,-999.0000,  -999.00,9,  -999.00, -999.000,9, -999.000
  06AQ19960317,  S04a,    90,  1,     11,     13,2,19960503,   0,-65.4555, -38.0277, 4705,    201.2,   0.3282,  34.6642,2,  34.6682,2,    190.2,2,   109.73,2,    34.73,2,     0.03,2,     2.38,2, -999.000,9, -999.000,9, -999.000,9, -999.000,9,   2269.1,2, -999.000,9, -999.000,-999.0000,9,-999.0000,  -999.00,9,  -999.00, -999.000,9, -999.000
  06AQ19960317,  S04a,    90,  1,      8,     16,2,19960503,   0,-65.4555, -38.0277, 4705,    251.0,   0.4990,  34.6824,2,-999.0000,9,   -999.0,9,   113.74,2,    34.89,2,     0.03,2,     2.39,2, -999.000,9, -999.000,9, -999.000,9, -999.000,9,   -999.0,9, -999.000,9, -999.000,-999.0000,9,-999.0000,  -999.00,9,  -999.00, -999.000,9, -999.000
  06AQ19960317,  S04a,    90,  1,     10,     14,2,19960503,   0,-65.4555, -38.0277, 4705,    251.1,   0.5010,  34.6809,2,  34.6805,2,    187.7,2,   114.23,2,    34.93,2,     0.03,2,     2.39,2,    0.422,2,    0.192,2,    0.020,2,    0.667,2,   2270.3,2, -999.000,9, -999.000,-999.0000,9,-999.0000,  -999.00,9,  -999.00, -999.000,9, -999.000
  06AQ19960317,  S04a,    90,  1,      9,     15,2,19960503,   0,-65.4555, -38.0277, 4705,    251.1,   0.4988,  34.6826,2,-999.0000,9,   -999.0,9,   114.23,2,    34.75,2,     0.03,2,     2.39,2, -999.000,9, -999.000,9, -999.000,9, -999.000,9,   -999.0,9, -999.000,9, -999.000,-999.0000,9,-999.0000,  -999.00,9,  -999.00, -999.000,9, -999.000
  06AQ19960317,  S04a,    90,  1,      7,     17,2,19960503,   0,-65.4555, -38.0277, 4705,    281.3,   0.4818,  34.6840,2,  34.6815,2,    186.7,2,   115.51,2,    34.77,2,     0.02,2,     2.39,2, -999.000,9, -999.000,9, -999.000,9, -999.000,9,   2270.2,2, -999.000,9, -999.000,-999.0000,9,-999.0000,  -999.00,9,  -999.00, -999.000,9, -999.000
  06AQ19960317,  S04a,    90,  1,      6,     18,2,19960503,   0,-65.4555, -38.0277, 4705,    301.4,   0.4679,  34.6842,2,  34.6815,2,    186.3,2,   116.19,2,    34.75,2,     0.02,2,     2.39,2,    0.345,2,    0.162,2,    0.014,2,    0.593,2,   2272.0,2, -999.000,9, -999.000,-999.0000,9,-999.0000,  -999.00,9,  -999.00, -999.000,9, -999.000
  06AQ19960317,  S04a,    90,  1,      5,     19,2,19960503,   0,-65.4555, -38.0277, 4705,    351.1,   0.4392,  34.6852,2,  34.6816,2,    186.7,2,   118.25,2,    35.24,2,     0.02,2,     2.40,2, -999.000,9, -999.000,9, -999.000,9, -999.000,9,   2271.6,2, -999.000,9, -999.000,-999.0000,9,-999.0000,  -999.00,9,  -999.00, -999.000,9, -999.000
  06AQ19960317,  S04a,    90,  1,      4,     20,2,19960503,   0,-65.4555, -38.0277, 4705,    401.3,   0.4270,  34.6866,2,  34.6830,2,    186.9,2,   119.81,2,    35.11,2,     0.01,2,     2.41,2,    0.217,2,    0.110,2,    0.008,2,    0.456,2,   2271.6,2, -999.000,9, -999.000,-999.0000,9,-999.0000,  -999.00,9,  -999.00, -999.000,9, -999.000
  06AQ19960317,  S04a,    90,  1,      3,     21,2,19960503,   0,-65.4555, -38.0277, 4705,    450.6,   0.4114,  34.6880,2,  34.6751,2,    187.7,2,   120.60,2,    34.78,2,     0.02,2,     2.39,2, -999.000,9, -999.000,9, -999.000,9, -999.000,9,   2272.3,2, -999.000,9, -999.000,-999.0000,9,-999.0000,  -999.00,9,  -999.00, -999.000,9, -999.000
  06AQ19960317,  S04a,    90,  1,      1,     23,2,19960503,   0,-65.4555, -38.0277, 4705,    512.2,   0.3781,  34.6877,2,-999.0000,9,   -999.0,9,   121.97,2,    34.83,2,     0.01,2,     2.39,2, -999.000,9, -999.000,9, -999.000,9, -999.000,9,   -999.0,9, -999.000,9, -999.000,-999.0000,9,-999.0000,  -999.00,9,  -999.00, -999.000,9, -999.000
  06AQ19960317,  S04a,    90,  1,      2,     22,2,19960503,   0,-65.4555, -38.0277, 4705,    512.3,   0.3796,  34.6872,2,  34.6792,3,    189.4,2,   121.18,2,    34.85,2,     0.01,2,     2.39,2, -999.000,9, -999.000,9, -999.000,9, -999.000,9,   2274.0,2, -999.000,9, -999.000,-999.0000,9,-999.0000,  -999.00,9,  -999.00, -999.000,9, -999.000
  06AQ19960317,  S04a,    90,  1,     24,     24,2,19960503,   0,-65.4555, -38.0277, 4705,    512.3,   0.3770,  34.6881,2,-999.0000,9,   -999.0,9,   122.07,2,    34.72,2,     0.01,2,     2.39,2, -999.000,9, -999.000,9, -999.000,9, -999.000,9,   -999.0,9, -999.000,9, -999.000,-999.0000,9,-999.0000,  -999.00,9,  -999.00, -999.000,9, -999.000
  06AQ19960317,  S04a,    90,  4,     23,      1,2,19960503,   0,-65.4555, -38.0277, 4705,    501.2,   0.3835,  34.6843,2,  34.6844,2,    190.0,2,   122.87,2,    35.13,2,     0.01,2,     2.42,2,    0.142,2,    0.081,2,    0.005,2,    0.359,2,   2272.8,2, -999.000,9, -999.000,-999.0000,9,-999.0000,  -999.00,9,  -999.00, -999.000,9, -999.000
  06AQ19960317,  S04a,    90,  4,     22,      2,2,19960503,   0,-65.4555, -38.0277, 4705,    750.8,   0.2525,  34.6799,2,  34.6790,2,    196.5,2,   125.52,2,    35.12,2,     0.02,2,     2.41,2,    0.107,2,    0.056,2,    0.003,2,    0.322,2,   2269.5,2, -999.000,9, -999.000,-999.0000,9,-999.0000,  -999.00,9,  -999.00, -999.000,9, -999.000
  06AQ19960317,  S04a,    90,  4,     20,      4,2,19960503,   0,-65.4555, -38.0277, 4705,   1000.9,   0.1429,  34.6745,2,  34.6746,2,    203.4,2,   125.21,2,    34.30,2,     0.01,2,     2.35,2, -999.000,9, -999.000,9, -999.000,9, -999.000,9,   2267.3,2, -999.000,9, -999.000,-999.0000,9,-999.0000,  -999.00,9,  -999.00, -999.000,9, -999.000
  06AQ19960317,  S04a,    90,  4,     21,      3,2,19960503,   0,-65.4555, -38.0277, 4705,   1001.2,   0.1425,  34.6755,2,-999.0000,9,   -999.0,9,   125.19,2,    34.39,2,     0.01,2,     2.38,2,    0.100,2,    0.051,2,    0.004,2,    0.317,2,   -999.0,9, -999.000,9, -999.000,-999.0000,9,-999.0000,  -999.00,9,  -999.00, -999.000,9, -999.000
  06AQ19960317,  S04a,    90,  4,     19,      5,2,19960503,   0,-65.4555, -38.0277, 4705,   1251.7,   0.0467,  34.6706,2,  34.6715,2,    209.7,2,   125.71,2,    34.30,2,     0.01,2,     2.37,2,    0.102,2,    0.054,2,    0.004,2,    0.338,2,   2263.3,2, -999.000,9, -999.000,-999.0000,9,-999.0000,  -999.00,9,  -999.00, -999.000,9, -999.000
  06AQ19960317,  S04a,    90,  4,     16,      8,2,19960503,   0,-65.4555, -38.0277, 4705,   1501.7,  -0.0365,  34.6671,2,-999.0000,9,   -999.0,9,   124.94,2,    33.89,2,     0.01,2,     2.34,2, -999.000,9, -999.000,9, -999.000,9, -999.000,9,   -999.0,9, -999.000,9, -999.000,-999.0000,9,-999.0000,  -999.00,9,  -999.00, -999.000,9, -999.000
  06AQ19960317,  S04a,    90,  4,     17,      7,2,19960503,   0,-65.4555, -38.0277, 4705,   1502.0,  -0.0364,  34.6668,2,-999.0000,9,   -999.0,9,   125.01,2,    33.74,2,     0.01,2,     2.34,2, -999.000,9, -999.000,9, -999.000,9, -999.000,9,   -999.0,9, -999.000,9, -999.000,-999.0000,9,-999.0000,  -999.00,9,  -999.00, -999.000,9, -999.000
  06AQ19960317,  S04a,    90,  4,     18,      6,2,19960503,   0,-65.4555, -38.0277, 4705,   1502.3,  -0.0364,  34.6671,2,  34.6685,2,    214.9,2,   125.33,2,    33.82,2,     0.01,2,     2.34,2,    0.108,2,    0.055,2,    0.003,2,    0.360,2,   2262.5,2, -999.000,9, -999.000,-999.0000,9,-999.0000,  -999.00,9,  -999.00, -999.000,9, -999.000
  06AQ19960317,  S04a,    90,  4,     15,      9,2,19960503,   0,-65.4555, -38.0277, 4705,   2001.2,  -0.1736,  34.6618,2,  34.6624,2,    224.6,2,   124.71,2,    33.62,2,     0.01,2,     2.33,2,    0.145,2,    0.081,2,    0.004,2,    0.464,2,   2259.1,2, -999.000,9, -999.000,-999.0000,9,-999.0000,  -999.00,9,  -999.00, -999.000,9, -999.000
  06AQ19960317,  S04a,    90,  4,     14,     10,2,19960503,   0,-65.4555, -38.0277, 4705,   2501.1,  -0.2615,  34.6590,2,  34.6593,2,    230.0,2,   123.90,2,    33.22,2,     0.01,2,     2.31,2,    0.155,2,    0.078,2,    0.005,2,    0.513,2,   2254.8,2, -999.000,9, -999.000,-999.0000,9,-999.0000,  -999.00,9,  -999.00, -999.000,9, -999.000
  06AQ19960317,  S04a,    90,  4,     11,     13,2,19960503,   0,-65.4555, -38.0277, 4705,   3001.0,  -0.3224,  34.6567,2,-999.0000,9,   -999.0,9,   123.40,2,    33.18,2,     0.01,2,     2.31,2, -999.000,9, -999.000,9, -999.000,9, -999.000,9,   -999.0,9, -999.000,9, -999.000,-999.0000,9,-999.0000,  -999.00,9,  -999.00, -999.000,9, -999.000
  06AQ19960317,  S04a,    90,  4,     12,     12,2,19960503,   0,-65.4555, -38.0277, 4705,   3001.4,  -0.3221,  34.6568,2,-999.0000,9,   -999.0,9,   122.94,2,    33.23,2,     0.02,2,     2.29,2, -999.000,9, -999.000,9, -999.000,9, -999.000,9,   -999.0,9, -999.000,9, -999.000,-999.0000,9,-999.0000,  -999.00,9,  -999.00, -999.000,9, -999.000
  06AQ19960317,  S04a,    90,  4,     13,     11,2,19960503,   0,-65.4555, -38.0277, 4705,   3001.6,  -0.3221,  34.6570,2,  34.6569,2,    234.4,2,   123.44,2,    33.28,2,     0.01,2,     2.30,2,    0.191,2,    0.100,2,    0.008,2,    0.577,2,   2253.6,2, -999.000,9, -999.000,-999.0000,9,-999.0000,  -999.00,9,  -999.00, -999.000,9, -999.000
  06AQ19960317,  S04a,    90,  4,     10,     14,2,19960503,   0,-65.4555, -38.0277, 4705,   3500.1,  -0.3670,  34.6548,2,  34.6563,2,    237.8,2,   124.21,2,    33.18,2,     0.01,2,     2.29,2,    0.244,2,    0.115,2,    0.007,2,    0.673,2,   2251.8,2, -999.000,9, -999.000,-999.0000,9,-999.0000,  -999.00,9,  -999.00, -999.000,9, -999.000
  06AQ19960317,  S04a,    90,  4,      9,     15,2,19960503,   0,-65.4555, -38.0277, 4705,   4000.1,  -0.4104,  34.6528,2,  34.6532,2,    241.7,2,   122.91,2,    32.94,2,     0.01,2,     2.28,2,    0.211,3,    0.106,2,    0.006,2,    0.645,2,   2250.4,2, -999.000,9, -999.000,-999.0000,9,-999.0000,  -999.00,9,  -999.00, -999.000,9, -999.000
  06AQ19960317,  S04a,    90,  4,      8,     16,2,19960503,   0,-65.4555, -38.0277, 4705,   4249.3,  -0.4589,  34.6494,2,  34.6487,2,    244.8,2,   117.91,2,    32.89,2,     0.01,2,     2.27,2,    0.361,2,    0.159,2,    0.010,2,    0.861,2,   2250.9,2, -999.000,9, -999.000,-999.0000,9,-999.0000,  -999.00,9,  -999.00, -999.000,9, -999.000
  06AQ19960317,  S04a,    90,  4,      7,     17,2,19960503,   0,-65.4555, -38.0277, 4705,   4499.2,  -0.5151,  34.6467,2,  34.6447,2,    247.7,2,   115.95,2,    32.97,2,     0.01,2,     2.28,2,    0.444,2,    0.205,2,    0.014,2,    0.989,2,   2248.9,2, -999.000,9, -999.000,-999.0000,9,-999.0000,  -999.00,9,  -999.00, -999.000,9, -999.000
  06AQ19960317,  S04a,    90,  4,      4,     20,2,19960503,   0,-65.4555, -38.0277, 4705,   4678.7,  -0.5286,  34.6447,2,-999.0000,9,    247.6,2,   120.25,2,    33.64,2,     0.02,2,     2.32,2, -999.000,9, -999.000,9, -999.000,9, -999.000,9,   -999.0,9, -999.000,9, -999.000,-999.0000,9,-999.0000,  -999.00,9,  -999.00, -999.000,9, -999.000
  06AQ19960317,  S04a,    90,  4,      5,     19,2,19960503,   0,-65.4555, -38.0277, 4705,   4678.9,  -0.5286,  34.6445,2,-999.0000,9,   -999.0,9,   118.00,2,    32.94,2,     0.01,2,     2.28,2,    0.503,2,    0.222,2,    0.014,2,    1.079,2,   -999.0,9, -999.000,9, -999.000,-999.0000,9,-999.0000,  -999.00,9,  -999.00, -999.000,9, -999.000
  06AQ19960317,  S04a,    90,  4,      6,     18,2,19960503,   0,-65.4555, -38.0277, 4705,   4679.0,  -0.5282,  34.6444,2,-999.0000,9,   -999.0,9,  -999.00,9,  -999.00,9,  -999.00,9,  -999.00,9, -999.000,9, -999.000,9, -999.000,9, -999.000,9,   -999.0,9, -999.000,9, -999.000,-999.0000,9,-999.0000,  -999.00,9,  -999.00, -999.000,9, -999.000
  06AQ19960317,  S04a,    90,  4,      3,     21,2,19960503,   0,-65.4555, -38.0277, 4705,   4728.6,  -0.5408,  34.6422,2,  34.6411,2,    248.7,2,   117.33,2,    33.04,2,     0.02,2,     2.26,2,    0.703,2,    0.319,2,    0.021,2,    1.208,2,   2250.5,2, -999.000,9, -999.000,-999.0000,9,-999.0000,  -999.00,9,  -999.00, -999.000,9, -999.000
  06AQ19960317,  S04a,    90,  4,     24,     24,2,19960503,   0,-65.4555, -38.0277, 4705,   4779.1,  -0.5363,  34.6432,2,-999.0000,9,   -999.0,9,   116.65,2,    32.88,2,     0.01,2,     2.26,2, -999.000,9, -999.000,9, -999.000,9, -999.000,9,   -999.0,9, -999.000,9, -999.000,-999.0000,9,-999.0000,  -999.00,9,  -999.00, -999.000,9, -999.000
  06AQ19960317,  S04a,    90,  4,      1,     23,2,19960503,   0,-65.4555, -38.0277, 4705,   4779.2,  -0.5351,  34.6416,2,-999.0000,9,   -999.0,9,   117.42,2,    32.98,2,     0.01,2,     2.27,2, -999.000,9, -999.000,9, -999.000,9, -999.000,9,   -999.0,9, -999.000,9, -999.000,-999.0000,9,-999.0000,  -999.00,9,  -999.00, -999.000,9, -999.000
  06AQ19960317,  S04a,    90,  4,      2,     22,2,19960503,   0,-65.4555, -38.0277, 4705,   4779.3,  -0.5361,  34.6425,2,  34.6413,2,    247.9,2,   117.05,2,    32.92,2,     0.01,2,     2.28,2,    0.737,6,    0.345,6,    0.024,6,    1.217,6,   2247.8,2, -999.000,9, -999.000,-999.0000,9,-999.0000,  -999.00,9,  -999.00, -999.000,9, -999.000