BOTTLE,20150129PRINUNIVRMK
EXPOCODE,SECT_ID,STNNBR,CASTNO,SAMPNO,BTLNBR,BTLNBR_FLAG_W,DATE,TIME,LATITUDE,LONGITUDE,DEPTH,CTDPRS,CTDTMP,CTDSAL,CTDSAL_FLAG_W,SALNTY,SALNTY_FLAG_W,OXYGEN,OXYGEN_FLAG_W,SILCAT,SILCAT_FLAG_W,NITRAT,NITRAT_FLAG_W,NITRIT,NITRIT_FLAG_W,PHSPHT,PHSPHT_FLAG_W,CFC-11,CFC-11_FLAG_W,CFC-12,CFC-12_FLAG_W,CFC113,CFC113_FLAG_W,CCL4,CCL4_FLAG_W,TCARBN,TCARBN_FLAG_W,TRITUM,TRITUM_FLAG_W,TRITER,HELIUM,HELIUM_FLAG_W,HELIER,DELHE3,DELHE3_FLAG_W,DELHER,NEON,NEON_FLAG_W,NEONER
,,,,,,,,,,,METERS,DBAR,ITS-90,PSS-78,,PSS-78,,UMOL/KG,,UMOL/KG,,UMOL/KG,,UMOL/KG,,UMOL/KG,,PMOL/KG,,PMOL/KG,,PMOL/KG,,PMOL/KG,,UMOL/KG,,TU,,TU,NMOL/KG,,NMOL/KG,PERCNT,,PERCNT,NMOL/KG,,NMOL/KG
  06AQ19960317,  S04a,    71,  1,     23,      1,2,19960425,   0,-70.6232, -12.7070, 2185,     19.2,  -1.8768,  34.2664,2,  34.2680,2,    330.2,2,    62.44,2,    26.99,2,     0.15,2,     1.91,2,    5.957,2,    2.901,2,    0.461,2,    7.377,2,   2196.3,2, -999.000,9, -999.000,-999.0000,9,-999.0000,  -999.00,9,  -999.00, -999.000,9, -999.000
  06AQ19960317,  S04a,    71,  1,     22,      2,2,19960425,   0,-70.6232, -12.7070, 2185,     19.3,  -1.8777,  34.2663,2,-999.0000,9,   -999.0,9,    62.65,2,    26.92,2,     0.15,2,     1.92,2, -999.000,9, -999.000,9, -999.000,9, -999.000,9,   -999.0,9, -999.000,9, -999.000,-999.0000,9,-999.0000,  -999.00,9,  -999.00, -999.000,9, -999.000
  06AQ19960317,  S04a,    71,  1,     21,      3,2,19960425,   0,-70.6232, -12.7070, 2185,     40.8,  -1.8759,  34.2656,2,-999.0000,9,   -999.0,9,    62.76,2,    27.13,2,     0.15,2,     1.92,2, -999.000,9, -999.000,9, -999.000,9, -999.000,9,   -999.0,9, -999.000,9, -999.000,-999.0000,9,-999.0000,  -999.00,9,  -999.00, -999.000,9, -999.000
  06AQ19960317,  S04a,    71,  1,     20,      4,2,19960425,   0,-70.6232, -12.7070, 2185,     40.8,  -1.8764,  34.2663,2,-999.0000,9,   -999.0,9,    62.56,2,    27.05,2,     0.15,2,     1.92,2, -999.000,9, -999.000,9, -999.000,9, -999.000,9,   -999.0,9, -999.000,9, -999.000,-999.0000,9,-999.0000,  -999.00,9,  -999.00, -999.000,9, -999.000
  06AQ19960317,  S04a,    71,  1,     19,      5,2,19960425,   0,-70.6232, -12.7070, 2185,     40.8,  -1.8761,  34.2659,2,-999.0000,9,   -999.0,9,    62.60,2,    26.92,2,     0.14,2,     1.93,2, -999.000,9, -999.000,9, -999.000,9, -999.000,9,   -999.0,9, -999.000,9, -999.000,-999.0000,9,-999.0000,  -999.00,9,  -999.00, -999.000,9, -999.000
  06AQ19960317,  S04a,    71,  1,     18,      6,2,19960425,   0,-70.6232, -12.7070, 2185,     40.8,  -1.8773,  34.2668,2,-999.0000,9,    329.2,2,    62.76,2,    27.14,2,     0.14,2,     1.93,2,    5.894,2,    2.855,2,    0.455,2,    7.387,2,   2196.6,2, -999.000,9, -999.000,-999.0000,9,-999.0000,  -999.00,9,  -999.00, -999.000,9, -999.000
  06AQ19960317,  S04a,    71,  1,     17,      7,2,19960425,   0,-70.6232, -12.7070, 2185,     60.1,  -1.8749,  34.2662,2,-999.0000,9,   -999.0,9,    62.72,2,    27.11,2,     0.14,2,     1.92,2, -999.000,9, -999.000,9, -999.000,9, -999.000,9,   -999.0,9, -999.000,9, -999.000,-999.0000,9,-999.0000,  -999.00,9,  -999.00, -999.000,9, -999.000
  06AQ19960317,  S04a,    71,  1,     16,      8,2,19960425,   0,-70.6232, -12.7070, 2185,     60.1,  -1.8764,  34.2680,2,  34.2685,2,    330.0,2,    62.51,2,    26.80,2,     0.15,2,     1.93,2, -999.000,9, -999.000,9, -999.000,9, -999.000,9,   2195.4,2, -999.000,9, -999.000,-999.0000,9,-999.0000,  -999.00,9,  -999.00, -999.000,9, -999.000
  06AQ19960317,  S04a,    71,  1,     15,      9,2,19960425,   0,-70.6232, -12.7070, 2185,     80.5,  -1.8681,  34.2752,2,  34.2765,2,    328.0,2,    63.02,2,    27.40,2,     0.14,2,     1.96,2, -999.000,9, -999.000,9, -999.000,9, -999.000,9,   2199.8,2, -999.000,9, -999.000,-999.0000,9,-999.0000,  -999.00,9,  -999.00, -999.000,9, -999.000
  06AQ19960317,  S04a,    71,  1,     14,     10,2,19960425,   0,-70.6232, -12.7070, 2185,     80.6,  -1.8599,  34.2776,2,-999.0000,9,   -999.0,9,    63.73,2,    27.98,2,     0.15,2,     1.96,2, -999.000,9, -999.000,9, -999.000,9, -999.000,9,   -999.0,9, -999.000,9, -999.000,-999.0000,9,-999.0000,  -999.00,9,  -999.00, -999.000,9, -999.000
  06AQ19960317,  S04a,    71,  1,     13,     11,2,19960425,   0,-70.6232, -12.7070, 2185,    100.8,  -1.7599,  34.3971,2,-999.0000,9,    302.2,2,    66.71,2,    30.65,2,     0.14,2,     2.11,2,    5.050,2,    2.456,2,    0.389,2,    5.922,2,   2221.4,2, -999.000,9, -999.000,-999.0000,9,-999.0000,  -999.00,9,  -999.00, -999.000,9, -999.000
  06AQ19960317,  S04a,    71,  1,     12,     12,2,19960425,   0,-70.6232, -12.7070, 2185,    149.5,  -1.7188,  34.4253,2,-999.0000,9,   -999.0,9,    67.68,2,    31.34,2,     0.04,2,     2.13,2, -999.000,9, -999.000,9, -999.000,9, -999.000,9,   -999.0,9, -999.000,9, -999.000,-999.0000,9,-999.0000,  -999.00,9,  -999.00, -999.000,9, -999.000
  06AQ19960317,  S04a,    71,  1,     11,     13,2,19960425,   0,-70.6232, -12.7070, 2185,    149.7,  -1.7186,  34.4275,2,-999.0000,9,   -999.0,9,    67.72,2,    31.36,2,     0.04,2,     2.13,2, -999.000,9, -999.000,9, -999.000,9, -999.000,9,   -999.0,9, -999.000,9, -999.000,-999.0000,9,-999.0000,  -999.00,9,  -999.00, -999.000,9, -999.000
  06AQ19960317,  S04a,    71,  1,     10,     14,2,19960425,   0,-70.6232, -12.7070, 2185,    149.7,  -1.7158,  34.4287,2,  34.4259,2,    297.5,2,    67.80,2,    31.33,2,     0.04,2,     2.13,2,    4.713,2,    2.273,2,    0.359,2,    5.686,2,   2224.8,2, -999.000,9, -999.000,-999.0000,9,-999.0000,  -999.00,9,  -999.00, -999.000,9, -999.000
  06AQ19960317,  S04a,    71,  1,      9,     15,2,19960425,   0,-70.6232, -12.7070, 2185,    200.4,  -1.5888,  34.4461,2,-999.0000,9,   -999.0,9,    68.52,2,    31.40,2,     0.03,2,     2.13,2, -999.000,9, -999.000,9, -999.000,9, -999.000,9,   -999.0,9, -999.000,9, -999.000,-999.0000,9,-999.0000,  -999.00,9,  -999.00, -999.000,9, -999.000
  06AQ19960317,  S04a,    71,  1,      8,     16,2,19960425,   0,-70.6232, -12.7070, 2185,    200.4,  -1.5892,  34.4477,2,  34.4441,2,    294.3,2,    68.56,2,    31.41,2,     0.03,2,     2.13,2,    4.589,2,    2.243,2,    0.357,2,    5.471,2,   2227.3,2, -999.000,9, -999.000,-999.0000,9,-999.0000,  -999.00,9,  -999.00, -999.000,9, -999.000
  06AQ19960317,  S04a,    71,  1,      7,     17,2,19960425,   0,-70.6232, -12.7070, 2185,    251.2,  -0.9585,  34.5206,2,  34.4971,2,    266.8,2,    75.22,2,    31.78,2,     0.03,2,     2.18,2, -999.000,9, -999.000,9, -999.000,9, -999.000,9,   2236.1,2, -999.000,9, -999.000,-999.0000,9,-999.0000,  -999.00,9,  -999.00, -999.000,9, -999.000
  06AQ19960317,  S04a,    71,  1,      6,     18,2,19960425,   0,-70.6232, -12.7070, 2185,    301.6,  -0.1497,  34.5599,2,  34.5642,2,    239.1,2,    83.21,2,    32.44,2,     0.02,2,     2.20,2,    2.475,2,    1.190,2,    0.190,2,    3.034,2,   2245.8,2, -999.000,9, -999.000,-999.0000,9,-999.0000,  -999.00,9,  -999.00, -999.000,9, -999.000
  06AQ19960317,  S04a,    71,  1,      5,     19,2,19960425,   0,-70.6232, -12.7070, 2185,    350.2,   0.2573,  34.6261,2,  34.6214,2,    215.5,2,    89.91,2,    32.70,2,     0.02,2,     2.22,2, -999.000,9, -999.000,9, -999.000,9, -999.000,9,   2253.3,2, -999.000,9, -999.000,-999.0000,9,-999.0000,  -999.00,9,  -999.00, -999.000,9, -999.000
  06AQ19960317,  S04a,    71,  1,      4,     20,2,19960425,   0,-70.6232, -12.7070, 2185,    401.5,   0.7560,  34.6646,2,  34.6643,2,    198.8,2,    95.14,2,    32.82,2,     0.02,2,     2.25,2, -999.000,9, -999.000,9, -999.000,9, -999.000,9,   2260.6,2, -999.000,9, -999.000,-999.0000,9,-999.0000,  -999.00,9,  -999.00, -999.000,9, -999.000
  06AQ19960317,  S04a,    71,  1,      3,     21,2,19960425,   0,-70.6232, -12.7070, 2185,    449.3,   0.8503,  34.6799,2,  34.6801,2,    198.7,2,    97.62,2,    32.81,2,     0.02,2,     2.24,2, -999.000,9, -999.000,9, -999.000,9, -999.000,9,   2262.0,2, -999.000,9, -999.000,-999.0000,9,-999.0000,  -999.00,9,  -999.00, -999.000,9, -999.000
  06AQ19960317,  S04a,    71,  1,      2,     22,2,19960425,   0,-70.6232, -12.7070, 2185,    500.0,   0.8747,  34.6905,2,  34.6866,2,    199.0,2,    99.95,2,    32.76,2,     0.02,2,     2.24,2,    0.629,2,    0.293,2,    0.045,2,    0.888,2,   2260.3,2, -999.000,9, -999.000,-999.0000,9,-999.0000,  -999.00,9,  -999.00, -999.000,9, -999.000
  06AQ19960317,  S04a,    71,  1,      1,     23,2,19960425,   0,-70.6232, -12.7070, 2185,    500.6,   0.8775,  34.6869,2,-999.0000,9,   -999.0,9,  -999.00,9,  -999.00,9,  -999.00,9,  -999.00,9, -999.000,9, -999.000,9, -999.000,9, -999.000,9,   -999.0,9, -999.000,9, -999.000,-999.0000,9,-999.0000,  -999.00,9,  -999.00, -999.000,9, -999.000
  06AQ19960317,  S04a,    71,  1,     24,     24,2,19960425,   0,-70.6232, -12.7070, 2185,    500.6,   0.8269,  34.6851,2,-999.0000,9,   -999.0,9,    99.67,2,    32.65,2,     0.02,2,     2.23,2, -999.000,9, -999.000,9, -999.000,9, -999.000,9,   -999.0,9, -999.000,9, -999.000,-999.0000,9,-999.0000,  -999.00,9,  -999.00, -999.000,9, -999.000
  06AQ19960317,  S04a,    71,  5,     23,      1,2,19960425,   0,-70.6232, -12.7070, 2185,    501.0,   0.8772,  34.6875,2,  34.6873,2,    197.3,2,    99.29,2,    32.82,2,     0.01,2,     2.25,2, -999.000,9, -999.000,9, -999.000,9, -999.000,9,   2262.5,2, -999.000,9, -999.000,-999.0000,9,-999.0000,  -999.00,9,  -999.00, -999.000,9, -999.000
  06AQ19960317,  S04a,    71,  5,     22,      2,2,19960425,   0,-70.6232, -12.7070, 2185,    540.9,   0.9081,  34.6928,2,-999.0000,9,   -999.0,9,   101.28,2,    32.97,2,     0.02,2,     2.26,2, -999.000,9, -999.000,9, -999.000,9, -999.000,9,   -999.0,9, -999.000,9, -999.000,-999.0000,9,-999.0000,  -999.00,9,  -999.00, -999.000,9, -999.000
  06AQ19960317,  S04a,    71,  5,     21,      3,2,19960425,   0,-70.6232, -12.7070, 2185,    540.9,   0.9079,  34.6920,2,-999.0000,9,   -999.0,9,   101.13,2,    32.86,2,     0.02,2,     2.26,2, -999.000,9, -999.000,9, -999.000,9, -999.000,9,   -999.0,9, -999.000,9, -999.000,-999.0000,9,-999.0000,  -999.00,9,  -999.00, -999.000,9, -999.000
  06AQ19960317,  S04a,    71,  5,     20,      4,2,19960425,   0,-70.6232, -12.7070, 2185,    540.9,   0.9049,  34.6932,2,  34.6957,2,    195.5,2,   101.46,2,    32.83,2,     0.02,2,     2.27,2,    0.536,2,    0.260,2,    0.032,2,    0.791,2,   2263.8,2, -999.000,9, -999.000,-999.0000,9,-999.0000,  -999.00,9,  -999.00, -999.000,9, -999.000
  06AQ19960317,  S04a,    71,  5,     19,      5,2,19960425,   0,-70.6232, -12.7070, 2185,    721.2,   0.6944,  34.6881,2,  34.6889,2,    202.6,2,   106.63,2,    32.81,2,     0.01,2,     2.25,2,    0.454,2,    0.211,2,    0.022,2,    0.690,2,   2263.5,2, -999.000,9, -999.000,-999.0000,9,-999.0000,  -999.00,9,  -999.00, -999.000,9, -999.000
  06AQ19960317,  S04a,    71,  5,     18,      6,2,19960425,   0,-70.6232, -12.7070, 2185,    801.3,   0.6699,  34.6897,2,  34.6915,2,    202.6,2,   108.46,2,    32.86,2,     0.01,2,     2.25,2,    0.396,2,    0.185,2,    0.020,2,    0.614,2,   2263.7,2, -999.000,9, -999.000,-999.0000,9,-999.0000,  -999.00,9,  -999.00, -999.000,9, -999.000
  06AQ19960317,  S04a,    71,  5,     17,      7,2,19960425,   0,-70.6232, -12.7070, 2185,    901.3,   0.5745,  34.6884,2,-999.0000,9,    204.1,2,   111.68,2,    32.90,2,     0.01,2,     2.27,2,    0.356,2,    0.163,2,    0.014,2,    0.569,2,   2265.1,2, -999.000,9, -999.000,-999.0000,9,-999.0000,  -999.00,9,  -999.00, -999.000,9, -999.000
  06AQ19960317,  S04a,    71,  5,     16,      8,2,19960425,   0,-70.6232, -12.7070, 2185,   1000.9,   0.5007,  34.6827,2,-999.0000,9,   -999.0,9,   113.58,2,    33.08,2,     0.01,2,     2.27,2, -999.000,9, -999.000,9, -999.000,9, -999.000,9,   -999.0,9, -999.000,9, -999.000,-999.0000,9,-999.0000,  -999.00,9,  -999.00, -999.000,9, -999.000
  06AQ19960317,  S04a,    71,  5,     15,      9,2,19960425,   0,-70.6232, -12.7070, 2185,   1000.9,   0.4986,  34.6842,2,-999.0000,9,   -999.0,9,   113.58,2,    33.24,2,     0.02,2,     2.28,2, -999.000,9, -999.000,9, -999.000,9, -999.000,9,   -999.0,9, -999.000,9, -999.000,-999.0000,9,-999.0000,  -999.00,9,  -999.00, -999.000,9, -999.000
  06AQ19960317,  S04a,    71,  5,     14,     10,2,19960425,   0,-70.6232, -12.7070, 2185,   1000.9,   0.4950,  34.6847,2,  34.6853,2,    205.7,2,   113.41,2,    33.01,2,     0.01,2,     2.28,2,    0.353,2,    0.164,2,    0.014,2,    0.572,2,   2265.6,2, -999.000,9, -999.000,-999.0000,9,-999.0000,  -999.00,9,  -999.00, -999.000,9, -999.000
  06AQ19960317,  S04a,    71,  5,     13,     11,2,19960425,   0,-70.6232, -12.7070, 2185,   1201.4,   0.3717,  34.6812,2,  34.6811,2,    207.4,2,   116.46,2,    33.09,2,     0.01,2,     2.29,2,    0.307,2,    0.143,2,    0.011,2,    0.529,2,   2266.0,2, -999.000,9, -999.000,-999.0000,9,-999.0000,  -999.00,9,  -999.00, -999.000,9, -999.000
  06AQ19960317,  S04a,    71,  5,     12,     12,2,19960425,   0,-70.6232, -12.7070, 2185,   1401.3,   0.2495,  34.6763,2,  34.6766,2,    210.6,2,   118.99,2,    33.35,2,     0.00,2,     2.30,2,    0.313,2,    0.149,2,    0.010,2,    0.531,2,   2265.9,2, -999.000,9, -999.000,-999.0000,9,-999.0000,  -999.00,9,  -999.00, -999.000,9, -999.000
  06AQ19960317,  S04a,    71,  5,     11,     13,2,19960425,   0,-70.6232, -12.7070, 2185,   1601.3,   0.1585,  34.6733,2,  34.6733,2,    213.9,2,   120.97,2,    33.43,2,     0.00,2,     2.31,2, -999.000,9, -999.000,9, -999.000,9, -999.000,9,   2264.7,2, -999.000,9, -999.000,-999.0000,9,-999.0000,  -999.00,9,  -999.00, -999.000,9, -999.000
  06AQ19960317,  S04a,    71,  5,     10,     14,2,19960425,   0,-70.6232, -12.7070, 2185,   1800.8,   0.0952,  34.6713,2,  34.6702,2,    216.6,2,   123.27,2,    33.56,2,     0.01,2,     2.32,2, -999.000,9, -999.000,9, -999.000,9, -999.000,9,   2266.3,2, -999.000,9, -999.000,-999.0000,9,-999.0000,  -999.00,9,  -999.00, -999.000,9, -999.000
  06AQ19960317,  S04a,    71,  5,      9,     15,2,19960425,   0,-70.6232, -12.7070, 2185,   2000.6,   0.0483,  34.6700,2,  34.6668,2,    218.4,2,   123.00,2,    33.29,2,     0.00,2,     2.29,2,    0.366,2,    0.176,2,    0.017,2,    0.655,2,   2264.5,2, -999.000,9, -999.000,-999.0000,9,-999.0000,  -999.00,9,  -999.00, -999.000,9, -999.000
  06AQ19960317,  S04a,    71,  5,      8,     16,2,19960425,   0,-70.6232, -12.7070, 2185,   2082.0,   0.0389,  34.6687,2,-999.0000,9,   -999.0,9,   123.59,2,    33.26,2,     0.00,2,     2.29,2, -999.000,9, -999.000,9, -999.000,9, -999.000,9,   -999.0,9, -999.000,9, -999.000,-999.0000,9,-999.0000,  -999.00,9,  -999.00, -999.000,9, -999.000
  06AQ19960317,  S04a,    71,  5,      7,     17,2,19960425,   0,-70.6232, -12.7070, 2185,   2082.0,   0.0389,  34.6694,2,-999.0000,9,   -999.0,9,   123.36,2,    33.28,2,     0.01,2,     2.29,2, -999.000,9, -999.000,9, -999.000,9, -999.000,9,   -999.0,9, -999.000,9, -999.000,-999.0000,9,-999.0000,  -999.00,9,  -999.00, -999.000,9, -999.000
  06AQ19960317,  S04a,    71,  5,      6,     18,2,19960425,   0,-70.6232, -12.7070, 2185,   2082.0,   0.0378,  34.6696,2,  34.6682,2,    219.2,2,   125.02,2,    33.47,2,     0.02,2,     2.29,2, -999.000,9, -999.000,9, -999.000,9, -999.000,9,   2265.4,2, -999.000,9, -999.000,-999.0000,9,-999.0000,  -999.00,9,  -999.00, -999.000,9, -999.000
  06AQ19960317,  S04a,    71,  5,      3,     21,2,19960425,   0,-70.6232, -12.7070, 2185,   2132.0,   0.0326,  34.6692,2,  34.6686,2,    218.7,2,   124.87,2,    33.38,2,     0.02,2,     2.29,2,    0.383,2,    0.195,2,    0.018,2,    0.666,2,   2263.3,2, -999.000,9, -999.000,-999.0000,9,-999.0000,  -999.00,9,  -999.00, -999.000,9, -999.000
  06AQ19960317,  S04a,    71,  5,      5,     19,2,19960425,   0,-70.6232, -12.7070, 2185,   2132.1,   0.0346,  34.6677,2,-999.0000,9,   -999.0,9,   124.45,2,    33.46,2,     0.01,2,     2.30,2, -999.000,9, -999.000,9, -999.000,9, -999.000,9,   -999.0,9, -999.000,9, -999.000,-999.0000,9,-999.0000,  -999.00,9,  -999.00, -999.000,9, -999.000
  06AQ19960317,  S04a,    71,  5,      4,     20,2,19960425,   0,-70.6232, -12.7070, 2185,   2132.1,   0.0336,  34.6682,2,-999.0000,9,   -999.0,9,   124.90,2,    33.30,2,     0.01,2,     2.30,2, -999.000,9, -999.000,9, -999.000,9, -999.000,9,   -999.0,9, -999.000,9, -999.000,-999.0000,9,-999.0000,  -999.00,9,  -999.00, -999.000,9, -999.000
  06AQ19960317,  S04a,    71,  5,      2,     22,2,19960425,   0,-70.6232, -12.7070, 2185,   2182.7,   0.0376,  34.6680,2,  34.6682,2,    219.0,2,   123.83,2,    33.34,2,     0.02,2,     2.30,2,    0.391,2,    0.185,2,    0.017,2,    0.674,2,   2264.8,2, -999.000,9, -999.000,-999.0000,9,-999.0000,  -999.00,9,  -999.00, -999.000,9, -999.000
  06AQ19960317,  S04a,    71,  5,      1,     23,2,19960425,   0,-70.6232, -12.7070, 2185,   2182.7,   0.0371,  34.6688,2,-999.0000,9,   -999.0,9,   124.38,2,    33.30,2,     0.00,2,     2.29,2, -999.000,9, -999.000,9, -999.000,9, -999.000,9,   -999.0,9, -999.000,9, -999.000,-999.0000,9,-999.0000,  -999.00,9,  -999.00, -999.000,9, -999.000
  06AQ19960317,  S04a,    71,  5,     24,     24,2,19960425,   0,-70.6232, -12.7070, 2185,   2182.7,   0.0380,  34.6683,2,-999.0000,9,   -999.0,9,   124.83,2,    33.37,2,     0.01,2,     2.29,2, -999.000,9, -999.000,9, -999.000,9, -999.000,9,   -999.0,9, -999.000,9, -999.000,-999.0000,9,-999.0000,  -999.00,9,  -999.00, -999.000,9, -999.000