BOTTLE,20150129PRINUNIVRMK
EXPOCODE,SECT_ID,STNNBR,CASTNO,SAMPNO,BTLNBR,BTLNBR_FLAG_W,DATE,TIME,LATITUDE,LONGITUDE,DEPTH,CTDPRS,CTDTMP,CTDSAL,CTDSAL_FLAG_W,SALNTY,SALNTY_FLAG_W,OXYGEN,OXYGEN_FLAG_W,SILCAT,SILCAT_FLAG_W,NITRAT,NITRAT_FLAG_W,NITRIT,NITRIT_FLAG_W,PHSPHT,PHSPHT_FLAG_W,CFC-11,CFC-11_FLAG_W,CFC-12,CFC-12_FLAG_W,CFC113,CFC113_FLAG_W,CCL4,CCL4_FLAG_W,TCARBN,TCARBN_FLAG_W,TRITUM,TRITUM_FLAG_W,TRITER,HELIUM,HELIUM_FLAG_W,HELIER,DELHE3,DELHE3_FLAG_W,DELHER,NEON,NEON_FLAG_W,NEONER
,,,,,,,,,,,METERS,DBAR,ITS-90,PSS-78,,PSS-78,,UMOL/KG,,UMOL/KG,,UMOL/KG,,UMOL/KG,,UMOL/KG,,PMOL/KG,,PMOL/KG,,PMOL/KG,,PMOL/KG,,UMOL/KG,,TU,,TU,NMOL/KG,,NMOL/KG,PERCNT,,PERCNT,NMOL/KG,,NMOL/KG
  06AQ19960317,  S04a,    35,  4,     24,      1,2,19960412,   0,-55.0015,   0.0008, 1710,    502.2,   1.6066,  34.6702,2,  34.6726,2,    183.1,2,    89.56,2,    33.18,2,  -999.00,9,     2.23,2, -999.000,9, -999.000,9, -999.000,9, -999.000,9,   2260.3,2, -999.000,9, -999.000,-999.0000,9,-999.0000,  -999.00,9,  -999.00, -999.000,9, -999.000
  06AQ19960317,  S04a,    35,  4,     23,      2,2,19960412,   0,-55.0015,   0.0008, 1710,    602.1,   1.5528,  34.6839,2,  34.6869,2,    185.1,2,    90.70,2,    32.70,2,  -999.00,9,     2.21,2,    0.490,2,    0.234,2,    0.048,2,    0.725,2,   2257.9,2, -999.000,9, -999.000,-999.0000,9,-999.0000,  -999.00,9,  -999.00, -999.000,9, -999.000
  06AQ19960317,  S04a,    35,  4,     22,      3,2,19960412,   0,-55.0015,   0.0008, 1710,    701.5,   1.4625,  34.6991,2,  34.7011,2,    188.9,2,    93.86,2,    32.52,2,  -999.00,9,     2.20,2,    0.408,2,    0.231,3,    0.055,4,    0.588,2,   2257.0,2, -999.000,9, -999.000,-999.0000,9,-999.0000,  -999.00,9,  -999.00, -999.000,9, -999.000
  06AQ19960317,  S04a,    35,  4,     21,      4,2,19960412,   0,-55.0015,   0.0008, 1710,    798.9,   1.3869,  34.7063,2,-999.0000,9,   -999.0,9,    96.64,2,    32.13,2,  -999.00,9,     2.19,2, -999.000,9, -999.000,9, -999.000,9, -999.000,9,   -999.0,9, -999.000,9, -999.000,-999.0000,9,-999.0000,  -999.00,9,  -999.00, -999.000,9, -999.000
  06AQ19960317,  S04a,    35,  4,     20,      5,2,19960412,   0,-55.0015,   0.0008, 1710,    799.7,   1.3878,  34.7060,2,  34.7074,2,    190.7,2,    95.01,2,    32.18,2,  -999.00,9,     2.20,2, -999.000,9, -999.000,9, -999.000,9, -999.000,9,   2256.2,2,    0.057,2, -999.000,   1.8530,2,   0.0050,    10.24,2,     0.22,    8.025,2,    0.018
  06AQ19960317,  S04a,    35,  4,     19,      6,2,19960412,   0,-55.0015,   0.0008, 1710,    902.5,   1.2708,  34.7075,2,  34.7098,2,    193.1,2,    98.79,2,    32.33,2,  -999.00,9,     2.19,2,    0.331,2,    0.157,2,    0.014,2,    0.462,2,   2257.4,2, -999.000,9, -999.000,-999.0000,9,-999.0000,  -999.00,9,  -999.00, -999.000,9, -999.000
  06AQ19960317,  S04a,    35,  4,     17,      8,2,19960412,   0,-55.0015,   0.0008, 1710,    948.1,   1.2204,  34.7065,2,-999.0000,9,   -999.0,9,    99.86,2,    32.44,2,  -999.00,9,     2.20,2, -999.000,9, -999.000,9, -999.000,9, -999.000,9,   -999.0,9, -999.000,9, -999.000,-999.0000,9,-999.0000,  -999.00,9,  -999.00, -999.000,9, -999.000
  06AQ19960317,  S04a,    35,  4,     18,      7,2,19960412,   0,-55.0015,   0.0008, 1710,    948.3,   1.2221,  34.7067,2,  34.7088,2,    193.4,2,    99.73,2,    32.01,2,  -999.00,9,     2.20,2,    0.325,2,    0.149,2,    0.019,2,    0.466,2,   2257.5,2, -999.000,9, -999.000,-999.0000,9,-999.0000,  -999.00,9,  -999.00, -999.000,9, -999.000
  06AQ19960317,  S04a,    35,  4,     16,      9,2,19960412,   0,-55.0015,   0.0008, 1710,    952.5,   1.2039,  34.7058,2,-999.0000,9,   -999.0,9,    99.56,2,    32.19,2,  -999.00,9,     2.21,2, -999.000,9, -999.000,9, -999.000,9, -999.000,9,   -999.0,9, -999.000,9, -999.000,-999.0000,9,-999.0000,  -999.00,9,  -999.00, -999.000,9, -999.000
  06AQ19960317,  S04a,    35,  4,     15,     10,2,19960412,   0,-55.0015,   0.0008, 1710,   1002.2,   1.1467,  34.7037,2,  34.7067,2,    194.9,2,   101.98,2,    32.30,2,  -999.00,9,     2.20,2,    0.335,2,    0.153,2,    0.021,2,    0.484,2,   2256.7,2,    0.142,2, -999.000,   1.8650,2,   0.0050,     9.72,2,     0.22,    8.069,2,    0.018
  06AQ19960317,  S04a,    35,  4,     14,     11,2,19960412,   0,-55.0015,   0.0008, 1710,   1103.6,   0.9995,  34.6982,2,  34.7008,2,    195.8,2,   106.76,2,    32.62,2,  -999.00,9,     2.24,2,    0.348,2,    0.159,2,    0.017,2,    0.498,2,   2259.7,2, -999.000,9, -999.000,-999.0000,9,-999.0000,  -999.00,9,  -999.00, -999.000,9, -999.000
  06AQ19960317,  S04a,    35,  4,     13,     12,2,19960412,   0,-55.0015,   0.0008, 1710,   1202.8,   0.9102,  34.6980,2,  34.6997,2,    197.3,2,   108.36,2,    32.65,2,  -999.00,9,     2.23,2,    0.305,2,    0.140,2,    0.013,2,    0.467,2,   2258.2,2, -999.000,9, -999.000,-999.0000,9,-999.0000,  -999.00,9,  -999.00, -999.000,9, -999.000
  06AQ19960317,  S04a,    35,  4,     12,     13,2,19960412,   0,-55.0015,   0.0008, 1710,   1299.9,   0.8164,  34.6948,2,  34.6966,2,    198.9,2,   109.82,2,    32.78,2,  -999.00,9,     2.23,2,    0.311,2,    0.138,2,    0.009,2,    0.489,2,   2261.7,2,    0.028,2, -999.000,   1.8730,2,   0.0050,     8.91,2,     0.22,    8.094,2,    0.018
  06AQ19960317,  S04a,    35,  4,     11,     14,2,19960412,   0,-55.0015,   0.0008, 1710,   1301.3,   0.7979,  34.6945,2,-999.0000,9,   -999.0,9,   110.45,2,    32.86,2,  -999.00,9,     2.24,2, -999.000,9, -999.000,9, -999.000,9, -999.000,9,   -999.0,9, -999.000,9, -999.000,-999.0000,9,-999.0000,  -999.00,9,  -999.00, -999.000,9, -999.000
  06AQ19960317,  S04a,    35,  4,     10,     15,2,19960412,   0,-55.0015,   0.0008, 1710,   1302.4,   0.7968,  34.6941,2,-999.0000,9,   -999.0,9,   110.82,2,    32.82,2,  -999.00,9,     2.24,2, -999.000,9, -999.000,9, -999.000,9, -999.000,9,   -999.0,9, -999.000,9, -999.000,-999.0000,9,-999.0000,  -999.00,9,  -999.00, -999.000,9, -999.000
  06AQ19960317,  S04a,    35,  4,      9,     16,2,19960412,   0,-55.0015,   0.0008, 1710,   1403.0,   0.7302,  34.6910,2,  34.6924,2,    200.2,2,   112.05,2,    32.96,2,  -999.00,9,     2.25,2,    0.319,2,    0.150,2,    0.008,2,    0.509,2,   2261.2,2, -999.000,9, -999.000,-999.0000,9,-999.0000,  -999.00,9,  -999.00, -999.000,9, -999.000
  06AQ19960317,  S04a,    35,  4,      8,     17,2,19960412,   0,-55.0015,   0.0008, 1710,   1501.4,   0.6646,  34.6885,2,  34.6907,2,    200.7,2,   113.47,2,    33.04,2,  -999.00,9,     2.25,2,    0.309,2,    0.140,2,    0.013,2,    0.518,2,   2262.0,2,    0.078,2, -999.000,   1.8730,2,   0.0050,     9.14,2,     0.22,    8.106,2,    0.018
  06AQ19960317,  S04a,    35,  4,      5,     20,2,19960412,   0,-55.0015,   0.0008, 1710,   1567.5,   0.6003,  34.6858,2,-999.0000,9,   -999.0,9,   115.36,2,    33.25,2,  -999.00,9,     2.27,2, -999.000,9, -999.000,9, -999.000,9, -999.000,9,   -999.0,9, -999.000,9, -999.000,-999.0000,9,-999.0000,  -999.00,9,  -999.00, -999.000,9, -999.000
  06AQ19960317,  S04a,    35,  4,      6,     19,2,19960412,   0,-55.0015,   0.0008, 1710,   1570.2,   0.5791,  34.6872,2,-999.0000,9,   -999.0,9,   115.37,2,    33.26,2,  -999.00,9,     2.26,2, -999.000,9, -999.000,9, -999.000,9, -999.000,9,   -999.0,9, -999.000,9, -999.000,-999.0000,9,-999.0000,  -999.00,9,  -999.00, -999.000,9, -999.000
  06AQ19960317,  S04a,    35,  4,      7,     18,2,19960412,   0,-55.0015,   0.0008, 1710,   1572.1,   0.5538,  34.6854,2,  34.6867,2,    201.9,2,   115.64,2,    33.17,2,  -999.00,9,     2.27,2,    0.322,2,    0.149,2,    0.008,2,    0.530,2,   2261.6,2, -999.000,9, -999.000,-999.0000,9,-999.0000,  -999.00,9,  -999.00, -999.000,9, -999.000
  06AQ19960317,  S04a,    35,  4,      4,     21,2,19960412,   0,-55.0015,   0.0008, 1710,   1607.1,   0.5253,  34.6848,2,  34.6848,2,    202.5,2,   116.99,2,    33.06,2,  -999.00,9,     2.27,2,    0.301,2,    0.136,2,    0.009,2,    0.517,2,   2262.4,2,    0.054,2, -999.000,   1.8700,2,   0.0050,     9.50,2,     0.22,    8.111,2,    0.018
  06AQ19960317,  S04a,    35,  4,      1,     24,2,19960412,   0,-55.0015,   0.0008, 1710,   1665.8,   0.4998,  34.6841,2,-999.0000,9,   -999.0,9,   116.13,2,    33.44,2,  -999.00,9,     2.28,2, -999.000,9, -999.000,9, -999.000,9, -999.000,9,   -999.0,9, -999.000,9, -999.000,-999.0000,9,-999.0000,  -999.00,9,  -999.00, -999.000,9, -999.000
  06AQ19960317,  S04a,    35,  4,      3,     22,2,19960412,   0,-55.0015,   0.0008, 1710,   1667.0,   0.4999,  34.6841,2,  34.6851,2,    202.0,2,   118.67,2,    33.40,2,  -999.00,9,     2.28,2,    0.297,2,    0.135,2,    0.010,2,    0.532,2,   2263.9,2,    0.017,2, -999.000,   1.8620,2,   0.0050,     9.91,2,     0.22,    8.110,2,    0.018
  06AQ19960317,  S04a,    35,  4,      2,     23,2,19960412,   0,-55.0015,   0.0008, 1710,   1667.3,   0.5000,  34.6836,2,-999.0000,9,   -999.0,9,   121.82,2,    33.39,2,  -999.00,9,     2.26,2, -999.000,9, -999.000,9, -999.000,9, -999.000,9,   -999.0,9, -999.000,9, -999.000,-999.0000,9,-999.0000,  -999.00,9,  -999.00, -999.000,9, -999.000
  06AQ19960317,  S04a,    36,  1,     24,      1,2,19960412,   0,-55.4992,   0.0005, 3741,     18.5,   0.6418,  33.8199,2,  33.8228,2,    332.1,2,    47.14,2,    24.83,2,  -999.00,9,     1.70,2,    6.438,2,    3.090,2,    0.495,2,    9.450,2,   2161.0,2, -999.000,9, -999.000,-999.0000,9,-999.0000,  -999.00,9,  -999.00, -999.000,9, -999.000
  06AQ19960317,  S04a,    36,  1,     23,      2,2,19960412,   0,-55.4992,   0.0005, 3741,     38.7,   0.4320,  33.9019,2,  33.9155,2,    331.8,2,    55.52,2,    25.76,2,  -999.00,9,     1.77,2, -999.000,9, -999.000,9, -999.000,9, -999.000,9,   2171.7,2, -999.000,9, -999.000,-999.0000,9,-999.0000,  -999.00,9,  -999.00, -999.000,9, -999.000
  06AQ19960317,  S04a,    36,  1,     22,      3,2,19960412,   0,-55.4992,   0.0005, 3741,     78.5,   0.3747,  33.9842,2,  33.9827,2,    330.4,2,    60.76,2,    26.46,2,  -999.00,9,     1.83,2,    4.718,2,    2.365,2,    0.423,2,    5.429,3,   2178.4,2, -999.000,9, -999.000,-999.0000,9,-999.0000,  -999.00,9,  -999.00, -999.000,9, -999.000
  06AQ19960317,  S04a,    36,  1,     21,      4,2,19960412,   0,-55.4992,   0.0005, 3741,    100.7,   0.1534,  34.0356,2,  34.0376,2,    314.4,2,    59.58,2,    27.68,2,  -999.00,9,     1.91,2, -999.000,9, -999.000,9, -999.000,9, -999.000,9,   2191.2,2, -999.000,9, -999.000,-999.0000,9,-999.0000,  -999.00,9,  -999.00, -999.000,9, -999.000
  06AQ19960317,  S04a,    36,  1,     20,      5,2,19960412,   0,-55.4992,   0.0005, 3741,    100.8,   0.1546,  34.0352,2,  34.0372,2,   -999.0,9,    59.78,2,    27.50,2,  -999.00,9,     1.91,2, -999.000,9, -999.000,9, -999.000,9, -999.000,9,   -999.0,9, -999.000,9, -999.000,-999.0000,9,-999.0000,  -999.00,9,  -999.00, -999.000,9, -999.000
  06AQ19960317,  S04a,    36,  1,     19,      6,2,19960412,   0,-55.4992,   0.0005, 3741,    119.2,  -0.0381,  34.2141,2,  34.2342,2,    264.8,2,    60.75,2,    31.36,2,  -999.00,9,     2.16,2,    4.400,2,    2.101,2,    0.333,2,    5.857,2,   2218.0,2, -999.000,9, -999.000,-999.0000,9,-999.0000,  -999.00,9,  -999.00, -999.000,9, -999.000
  06AQ19960317,  S04a,    36,  1,     18,      7,2,19960412,   0,-55.4992,   0.0005, 3741,    148.4,   0.5015,  34.3388,2,  34.3298,2,    240.4,2,    66.40,2,    32.63,2,  -999.00,9,     2.25,2, -999.000,9, -999.000,9, -999.000,9, -999.000,9,   2234.3,2, -999.000,9, -999.000,-999.0000,9,-999.0000,  -999.00,9,  -999.00, -999.000,9, -999.000
  06AQ19960317,  S04a,    36,  1,     17,      8,2,19960412,   0,-55.4992,   0.0005, 3741,    200.6,   1.2116,  34.5016,2,  34.5014,2,    196.9,2,    78.11,2,    34.26,2,  -999.00,9,     2.36,2,    1.879,2,    0.879,2,    0.130,2,    2.504,2,   2250.7,2, -999.000,9, -999.000,-999.0000,9,-999.0000,  -999.00,9,  -999.00, -999.000,9, -999.000
  06AQ19960317,  S04a,    36,  1,     16,      9,2,19960412,   0,-55.4992,   0.0005, 3741,    249.0,   1.4013,  34.5723,2,  34.5727,2,    188.2,2,    82.58,2,    34.13,2,  -999.00,9,     2.35,2, -999.000,9, -999.000,9, -999.000,9, -999.000,9,   2259.6,2, -999.000,9, -999.000,-999.0000,9,-999.0000,  -999.00,9,  -999.00, -999.000,9, -999.000
  06AQ19960317,  S04a,    36,  1,     15,     10,2,19960412,   0,-55.4992,   0.0005, 3741,    301.1,   1.4830,  34.6151,2,  34.6158,2,    184.9,2,    85.18,2,    33.67,2,  -999.00,9,     2.31,2,    0.967,2,    0.458,2,    0.066,2,    1.352,2,   2262.1,2, -999.000,9, -999.000,-999.0000,9,-999.0000,  -999.00,9,  -999.00, -999.000,9, -999.000
  06AQ19960317,  S04a,    36,  1,     14,     11,2,19960412,   0,-55.4992,   0.0005, 3741,    391.0,   1.5257,  34.6607,2,  34.6620,2,    185.2,2,    88.22,2,    32.89,2,  -999.00,9,     2.26,2,    0.633,2,    0.300,2,    0.045,2,    0.925,2,   2258.7,2, -999.000,9, -999.000,-999.0000,9,-999.0000,  -999.00,9,  -999.00, -999.000,9, -999.000
  06AQ19960317,  S04a,    36,  1,     13,     12,2,19960412,   0,-55.4992,   0.0005, 3741,    451.3,   1.5054,  34.6807,2,  34.6835,2,    185.9,2,    90.58,2,    32.58,2,  -999.00,9,     2.23,2,    0.528,2,    0.248,2,    0.045,2,    0.762,2,   2258.0,2, -999.000,9, -999.000,-999.0000,9,-999.0000,  -999.00,9,  -999.00, -999.000,9, -999.000
  06AQ19960317,  S04a,    36,  1,     12,     13,2,19960412,   0,-55.4992,   0.0005, 3741,    598.9,   1.4337,  34.7057,2,  34.7076,2,    189.8,2,    93.63,2,    32.02,2,  -999.00,9,     2.20,2, -999.000,9, -999.000,9, -999.000,9, -999.000,9,   2257.1,2, -999.000,9, -999.000,-999.0000,9,-999.0000,  -999.00,9,  -999.00, -999.000,9, -999.000
  06AQ19960317,  S04a,    36,  1,     11,     14,2,19960412,   0,-55.4992,   0.0005, 3741,    691.9,   1.2794,  34.7068,2,  34.7111,2,    193.1,2,    97.38,2,    31.84,2,  -999.00,9,     2.19,2,    0.326,2,    0.153,2,    0.021,2,    0.503,2,   2258.3,2, -999.000,9, -999.000,-999.0000,9,-999.0000,  -999.00,9,  -999.00, -999.000,9, -999.000
  06AQ19960317,  S04a,    36,  1,     10,     15,2,19960412,   0,-55.4992,   0.0005, 3741,    749.0,   1.2064,  34.7065,2,  34.7085,2,    193.1,2,    99.10,2,    31.94,2,  -999.00,9,     2.20,2, -999.000,9, -999.000,9, -999.000,9, -999.000,9,   2259.9,2, -999.000,9, -999.000,-999.0000,9,-999.0000,  -999.00,9,  -999.00, -999.000,9, -999.000
  06AQ19960317,  S04a,    36,  1,      9,     16,2,19960412,   0,-55.4992,   0.0005, 3741,   1001.1,   0.8497,  34.6947,2,  34.6997,4,    198.4,2,   108.64,2,    32.40,2,  -999.00,9,     2.22,2,    0.313,2,    0.147,2,    0.025,2,    0.501,2,   2260.9,2, -999.000,9, -999.000,-999.0000,9,-999.0000,  -999.00,9,  -999.00, -999.000,9, -999.000
  06AQ19960317,  S04a,    36,  1,      8,     17,2,19960412,   0,-55.4992,   0.0005, 3741,   1251.5,   0.5708,  34.6858,2,  34.6865,2,    202.9,2,   113.00,2,    32.67,2,  -999.00,9,     2.25,2, -999.000,9, -999.000,9, -999.000,9, -999.000,9,   2259.8,2, -999.000,9, -999.000,-999.0000,9,-999.0000,  -999.00,9,  -999.00, -999.000,9, -999.000
  06AQ19960317,  S04a,    36,  1,      7,     18,2,19960412,   0,-55.4992,   0.0005, 3741,   1601.3,   0.4372,  34.6844,2,  34.6844,2,    205.8,2,   116.71,2,    32.71,2,  -999.00,9,     2.26,2,    0.305,2,    0.131,2,    0.015,2,    0.499,2,   -999.0,9, -999.000,9, -999.000,-999.0000,9,-999.0000,  -999.00,9,  -999.00, -999.000,9, -999.000
  06AQ19960317,  S04a,    36,  1,      6,     19,2,19960412,   0,-55.4992,   0.0005, 3741,   2001.0,   0.2959,  34.6775,2,  34.6775,2,    209.0,2,   119.40,2,    33.05,2,  -999.00,9,     2.28,2, -999.000,9, -999.000,9, -999.000,9, -999.000,9,   2260.9,2, -999.000,9, -999.000,-999.0000,9,-999.0000,  -999.00,9,  -999.00, -999.000,9, -999.000
  06AQ19960317,  S04a,    36,  1,      5,     20,2,19960412,   0,-55.4992,   0.0005, 3741,   2500.9,   0.0789,  34.6694,2,  34.6687,2,    214.0,2,   123.57,2,    33.17,2,  -999.00,9,     2.29,2,    0.226,2,    0.103,2,    0.004,2,    0.488,2,   -999.0,9, -999.000,9, -999.000,-999.0000,9,-999.0000,  -999.00,9,  -999.00, -999.000,9, -999.000
  06AQ19960317,  S04a,    36,  1,      4,     21,2,19960412,   0,-55.4992,   0.0005, 3741,   3003.6,  -0.0744,  34.6630,2,  34.6619,2,    223.9,2,   124.42,2,    33.11,2,  -999.00,9,     2.29,2,    0.244,2,    0.116,2,    0.003,2,    0.566,2,   2256.7,2, -999.000,9, -999.000,-999.0000,9,-999.0000,  -999.00,9,  -999.00, -999.000,9, -999.000
  06AQ19960317,  S04a,    36,  1,      3,     22,2,19960412,   0,-55.4992,   0.0005, 3741,   3495.8,  -0.1487,  34.6592,2,  34.6573,2,    228.9,2,   124.34,2,    32.86,2,  -999.00,9,     2.28,2,    0.318,2,    0.157,2,    0.012,2,    0.691,2,   2258.7,2, -999.000,9, -999.000,-999.0000,9,-999.0000,  -999.00,9,  -999.00, -999.000,9, -999.000
  06AQ19960317,  S04a,    36,  1,      2,     23,2,19960412,   0,-55.4992,   0.0005, 3741,   3609.0,  -0.1639,  34.6587,2,  34.6565,2,    230.3,2,   123.88,2,    32.70,2,  -999.00,9,     2.27,2,    0.317,2,    0.157,2,    0.017,2,    0.700,2,   2256.5,2, -999.000,9, -999.000,-999.0000,9,-999.0000,  -999.00,9,  -999.00, -999.000,9, -999.000
  06AQ19960317,  S04a,    36,  1,      1,     24,2,19960412,   0,-55.4992,   0.0005, 3741,   3709.0,  -0.1583,  34.6587,2,  34.6595,2,    230.0,2,   124.16,2,    32.80,2,  -999.00,9,     2.27,2,    0.326,2,    0.159,2,    0.021,2,    0.720,2,   2256.3,2, -999.000,9, -999.000,-999.0000,9,-999.0000,  -999.00,9,  -999.00, -999.000,9, -999.000