BOTTLE,20150129PRINUNIVRMK
EXPOCODE,SECT_ID,STNNBR,CASTNO,SAMPNO,BTLNBR,BTLNBR_FLAG_W,DATE,TIME,LATITUDE,LONGITUDE,DEPTH,CTDPRS,CTDTMP,CTDSAL,CTDSAL_FLAG_W,SALNTY,SALNTY_FLAG_W,OXYGEN,OXYGEN_FLAG_W,SILCAT,SILCAT_FLAG_W,NITRAT,NITRAT_FLAG_W,NITRIT,NITRIT_FLAG_W,PHSPHT,PHSPHT_FLAG_W,CFC-11,CFC-11_FLAG_W,CFC-12,CFC-12_FLAG_W,CFC113,CFC113_FLAG_W,CCL4,CCL4_FLAG_W,TCARBN,TCARBN_FLAG_W,TRITUM,TRITUM_FLAG_W,TRITER,HELIUM,HELIUM_FLAG_W,HELIER,DELHE3,DELHE3_FLAG_W,DELHER,NEON,NEON_FLAG_W,NEONER
,,,,,,,,,,,METERS,DBAR,ITS-90,PSS-78,,PSS-78,,UMOL/KG,,UMOL/KG,,UMOL/KG,,UMOL/KG,,UMOL/KG,,PMOL/KG,,PMOL/KG,,PMOL/KG,,PMOL/KG,,UMOL/KG,,TU,,TU,NMOL/KG,,NMOL/KG,PERCNT,,PERCNT,NMOL/KG,,NMOL/KG
  06AQ19960317,  S04a,    83,  2,     36,      1,2,19960429,   0,-67.0590, -24.8690, 4834,     20.4,  -1.8667,  34.2665,2,  34.2638,2,    333.5,2,    56.41,2,    27.06,2,     0.29,2,     1.86,2, -999.000,9, -999.000,9, -999.000,9, -999.000,9,   -999.0,9, -999.000,9, -999.000,-999.0000,9,-999.0000,  -999.00,9,  -999.00, -999.000,9, -999.000
  06AQ19960317,  S04a,    83,  2,     35,      2,2,19960429,   0,-67.0590, -24.8690, 4834,     40.6,  -1.8633,  34.2659,2,  34.2659,2,    333.4,2,    56.46,2,    27.04,2,     0.28,2,     1.86,2, -999.000,9, -999.000,9, -999.000,9, -999.000,9,   -999.0,9, -999.000,9, -999.000,-999.0000,9,-999.0000,  -999.00,9,  -999.00, -999.000,9, -999.000
  06AQ19960317,  S04a,    83,  2,     34,      3,2,19960429,   0,-67.0590, -24.8690, 4834,     40.7,  -1.8647,  34.2662,2,-999.0000,9,   -999.0,9,    56.31,2,    27.06,2,     0.28,2,     1.89,2, -999.000,9, -999.000,9, -999.000,9, -999.000,9,   -999.0,9, -999.000,9, -999.000,-999.0000,9,-999.0000,  -999.00,9,  -999.00, -999.000,9, -999.000
  06AQ19960317,  S04a,    83,  2,     33,      4,2,19960429,   0,-67.0590, -24.8690, 4834,     40.9,  -1.8656,  34.2672,2,-999.0000,9,   -999.0,9,  -999.00,9,  -999.00,9,  -999.00,9,  -999.00,9, -999.000,9, -999.000,9, -999.000,9, -999.000,9,   -999.0,9, -999.000,9, -999.000,-999.0000,9,-999.0000,  -999.00,9,  -999.00, -999.000,9, -999.000
  06AQ19960317,  S04a,    83,  2,     32,      5,2,19960429,   0,-67.0590, -24.8690, 4834,     40.9,  -1.8621,  34.2680,2,-999.0000,9,   -999.0,9,  -999.00,9,  -999.00,9,  -999.00,9,  -999.00,9, -999.000,9, -999.000,9, -999.000,9, -999.000,9,   -999.0,9, -999.000,9, -999.000,-999.0000,9,-999.0000,  -999.00,9,  -999.00, -999.000,9, -999.000
  06AQ19960317,  S04a,    83,  2,     31,      6,2,19960429,   0,-67.0590, -24.8690, 4834,     61.0,  -1.8542,  34.2716,2,  34.2714,2,    331.7,2,    57.62,2,    27.48,2,     0.32,2,     1.96,2, -999.000,9, -999.000,9, -999.000,9, -999.000,9,   -999.0,9, -999.000,9, -999.000,-999.0000,9,-999.0000,  -999.00,9,  -999.00, -999.000,9, -999.000
  06AQ19960317,  S04a,    83,  2,     30,      7,2,19960429,   0,-67.0590, -24.8690, 4834,     81.1,  -1.5063,  34.4206,2,  34.4326,2,    281.9,2,    73.04,2,    30.30,2,     0.15,2,     2.12,2, -999.000,9, -999.000,9, -999.000,9, -999.000,9,   -999.0,9, -999.000,9, -999.000,-999.0000,9,-999.0000,  -999.00,9,  -999.00, -999.000,9, -999.000
  06AQ19960317,  S04a,    83,  2,     29,      8,2,19960429,   0,-67.0590, -24.8690, 4834,    101.4,  -1.2310,  34.4892,2,  34.5113,2,    255.0,2,    82.08,2,    31.88,2,     0.08,2,     2.21,2, -999.000,9, -999.000,9, -999.000,9, -999.000,9,   -999.0,9, -999.000,9, -999.000,-999.0000,9,-999.0000,  -999.00,9,  -999.00, -999.000,9, -999.000
  06AQ19960317,  S04a,    83,  2,     26,     11,2,19960429,   0,-67.0590, -24.8690, 4834,    261.2,   0.7741,  34.6932,2,-999.0000,9,   -999.0,9,  -999.00,9,  -999.00,9,  -999.00,9,  -999.00,9, -999.000,9, -999.000,9, -999.000,9, -999.000,9,   -999.0,9, -999.000,9, -999.000,-999.0000,9,-999.0000,  -999.00,9,  -999.00, -999.000,9, -999.000
  06AQ19960317,  S04a,    83,  2,     27,     10,2,19960429,   0,-67.0590, -24.8690, 4834,    265.7,   0.7667,  34.6930,2,-999.0000,9,   -999.0,9,  -999.00,9,  -999.00,9,  -999.00,9,  -999.00,9, -999.000,9, -999.000,9, -999.000,9, -999.000,9,   -999.0,9, -999.000,9, -999.000,-999.0000,9,-999.0000,  -999.00,9,  -999.00, -999.000,9, -999.000
  06AQ19960317,  S04a,    83,  2,     28,      9,2,19960429,   0,-67.0590, -24.8690, 4834,    267.3,   0.7680,  34.6924,2,  34.6939,2,    190.1,2,   110.06,2,    33.74,2,     0.07,2,     2.32,2, -999.000,9, -999.000,9, -999.000,9, -999.000,9,   -999.0,9, -999.000,9, -999.000,-999.0000,9,-999.0000,  -999.00,9,  -999.00, -999.000,9, -999.000
  06AQ19960317,  S04a,    83,  2,     25,     12,2,19960429,   0,-67.0590, -24.8690, 4834,    301.0,   0.7209,  34.6928,2,  34.6931,2,    192.1,2,   112.44,2,    34.07,2,     0.06,2,     2.33,2, -999.000,9, -999.000,9, -999.000,9, -999.000,9,   -999.0,9, -999.000,9, -999.000,-999.0000,9,-999.0000,  -999.00,9,  -999.00, -999.000,9, -999.000
  06AQ19960317,  S04a,    83,  2,     24,     13,2,19960429,   0,-67.0590, -24.8690, 4834,   1001.4,   0.2191,  34.6774,2,  34.6779,2,    202.7,2,   124.18,2,    34.20,2,     0.05,2,     2.36,2,    0.230,4,    0.233,4,    0.000,4,    0.404,4,   -999.0,9, -999.000,9, -999.000,-999.0000,9,-999.0000,  -999.00,9,  -999.00, -999.000,9, -999.000
  06AQ19960317,  S04a,    83,  2,     22,     15,2,19960429,   0,-67.0590, -24.8690, 4834,   1500.8,   0.0272,  34.6688,2,-999.0000,9,   -999.0,9,   125.78,2,    34.06,2,  -999.00,9,     2.36,2,    0.154,2,    0.085,2,    0.000,4,    0.426,4,   -999.0,9, -999.000,9, -999.000,-999.0000,9,-999.0000,  -999.00,9,  -999.00, -999.000,9, -999.000
  06AQ19960317,  S04a,    83,  2,     23,     14,2,19960429,   0,-67.0590, -24.8690, 4834,   1504.8,   0.0261,  34.6684,2,-999.0000,9,   -999.0,9,   126.25,2,    34.23,2,  -999.00,9,     2.35,2, -999.000,9, -999.000,9, -999.000,9, -999.000,9,   -999.0,9, -999.000,9, -999.000,-999.0000,9,-999.0000,  -999.00,9,  -999.00, -999.000,9, -999.000
  06AQ19960317,  S04a,    83,  2,     21,     16,2,19960429,   0,-67.0590, -24.8690, 4834,   2001.1,  -0.1209,  34.6623,2,  34.6643,2,    222.5,2,   125.05,2,    33.62,2,     0.04,2,     2.32,2, -999.000,9, -999.000,9, -999.000,9, -999.000,9,   -999.0,9, -999.000,9, -999.000,-999.0000,9,-999.0000,  -999.00,9,  -999.00, -999.000,9, -999.000
  06AQ19960317,  S04a,    83,  2,     19,     18,2,19960429,   0,-67.0590, -24.8690, 4834,   3003.3,  -0.2793,  34.6572,2,  34.6566,2,   -999.0,9,   124.61,2,    33.48,2,  -999.00,9,     2.31,2, -999.000,9, -999.000,9, -999.000,9, -999.000,9,   -999.0,9, -999.000,9, -999.000,-999.0000,9,-999.0000,  -999.00,9,  -999.00, -999.000,9, -999.000
  06AQ19960317,  S04a,    83,  2,     20,     17,2,19960429,   0,-67.0590, -24.8690, 4834,   3003.5,  -0.2794,  34.6571,2,-999.0000,9,   -999.0,9,   124.18,2,    33.32,2,  -999.00,9,     2.30,2, -999.000,9, -999.000,9, -999.000,9, -999.000,9,   -999.0,9, -999.000,9, -999.000,-999.0000,9,-999.0000,  -999.00,9,  -999.00, -999.000,9, -999.000
  06AQ19960317,  S04a,    83,  2,     18,     19,2,19960429,   0,-67.0590, -24.8690, 4834,   4498.8,  -0.4111,  34.6522,2,  34.6512,2,    243.4,2,   122.63,2,    33.16,2,     0.05,2,     2.30,2,    0.198,2,    0.107,4,    0.000,4,    0.664,4,   -999.0,9, -999.000,9, -999.000,-999.0000,9,-999.0000,  -999.00,9,  -999.00, -999.000,9, -999.000
  06AQ19960317,  S04a,    83,  2,     17,     20,2,19960429,   0,-67.0590, -24.8690, 4834,   4796.8,  -0.4717,  34.6486,2,-999.0000,9,   -999.0,9,   126.08,2,    33.32,2,     0.04,2,     2.30,2, -999.000,9, -999.000,9, -999.000,9, -999.000,9,   -999.0,9, -999.000,9, -999.000,-999.0000,9,-999.0000,  -999.00,9,  -999.00, -999.000,9, -999.000
  06AQ19960317,  S04a,    83,  2,     16,     21,2,19960429,   0,-67.0590, -24.8690, 4834,   4798.3,  -0.4709,  34.6485,2,  34.6491,2,   -999.0,9,   125.91,2,    33.10,2,  -999.00,9,     2.27,2, -999.000,9, -999.000,9, -999.000,9, -999.000,9,   -999.0,9, -999.000,9, -999.000,-999.0000,9,-999.0000,  -999.00,9,  -999.00, -999.000,9, -999.000
  06AQ19960317,  S04a,    83,  2,     15,     22,2,19960429,   0,-67.0590, -24.8690, 4834,   4897.5,  -0.4818,  34.6462,2,-999.0000,9,    247.2,2,   125.23,2,    33.14,2,     0.02,2,     2.28,2,    0.423,4,    0.293,4,    0.005,4,    0.880,4,   -999.0,9, -999.000,9, -999.000,-999.0000,9,-999.0000,  -999.00,9,  -999.00, -999.000,9, -999.000
  06AQ19960317,  S04a,    83,  2,     14,     23,2,19960429,   0,-67.0590, -24.8690, 4834,   4897.5,  -0.4818,  34.6462,2,-999.0000,9,   -999.0,9,   125.08,2,    33.05,2,     0.02,2,     2.30,2, -999.000,9, -999.000,9, -999.000,9, -999.000,9,   -999.0,9, -999.000,9, -999.000,-999.0000,9,-999.0000,  -999.00,9,  -999.00, -999.000,9, -999.000
  06AQ19960317,  S04a,    83,  2,     13,     24,2,19960429,   0,-67.0590, -24.8690, 4834,   4897.7,  -0.4819,  34.6461,2,-999.0000,9,   -999.0,9,  -999.00,9,  -999.00,9,  -999.00,9,  -999.00,9, -999.000,9, -999.000,9, -999.000,9, -999.000,9,   -999.0,9, -999.000,9, -999.000,-999.0000,9,-999.0000,  -999.00,9,  -999.00, -999.000,9, -999.000
  06AQ19960317,  S04a,    84,  1,     23,      1,2,19960430,   0,-66.6217, -27.1262, 4850,     20.0,  -1.8638,  34.2869,2,  34.2853,2,    333.1,2,    57.17,2,    26.93,2,     0.21,2,     1.86,2,    6.401,6,    2.860,6,    0.508,6,    7.727,6,   2200.0,2, -999.000,9, -999.000,-999.0000,9,-999.0000,  -999.00,9,  -999.00, -999.000,9, -999.000
  06AQ19960317,  S04a,    84,  1,     22,      2,2,19960430,   0,-66.6217, -27.1262, 4850,     40.0,  -1.8650,  34.2876,2,  34.2854,2,    333.1,2,    57.00,2,    26.89,2,     0.21,2,     1.87,2,    6.602,2,    2.914,2,    0.506,2,    7.747,2,   2199.9,2, -999.000,9, -999.000,-999.0000,9,-999.0000,  -999.00,9,  -999.00, -999.000,9, -999.000
  06AQ19960317,  S04a,    84,  1,     20,      4,2,19960430,   0,-66.6217, -27.1262, 4850,     80.7,  -1.8562,  34.2901,2,  34.2895,2,    331.7,2,    57.42,2,    27.02,2,     0.20,2,     1.89,2, -999.000,9, -999.000,9, -999.000,9, -999.000,9,   2200.5,2, -999.000,9, -999.000,-999.0000,9,-999.0000,  -999.00,9,  -999.00, -999.000,9, -999.000
  06AQ19960317,  S04a,    84,  1,     21,      3,2,19960430,   0,-66.6217, -27.1262, 4850,     80.8,  -1.8601,  34.2898,2,  34.2892,2,   -999.0,9,    57.32,2,    26.88,2,     0.20,2,     1.88,2,    6.673,2,    2.947,2,    0.506,2,    7.805,2,   -999.0,9, -999.000,9, -999.000,-999.0000,9,-999.0000,  -999.00,9,  -999.00, -999.000,9, -999.000
  06AQ19960317,  S04a,    84,  1,     19,      5,2,19960430,   0,-66.6217, -27.1262, 4850,    100.9,  -1.2739,  34.4756,2,  34.5088,2,    255.0,2,    82.61,2,    32.00,2,     0.07,2,     2.18,2,    3.263,2,    1.527,2,    0.254,2,    4.085,2,   2238.9,2, -999.000,9, -999.000,-999.0000,9,-999.0000,  -999.00,9,  -999.00, -999.000,9, -999.000
  06AQ19960317,  S04a,    84,  1,     18,      6,2,19960430,   0,-66.6217, -27.1262, 4850,    151.2,   0.0138,  34.6119,2,  34.6326,2,    206.1,2,    97.76,2,    33.54,2,     0.04,2,     2.28,2,    1.373,2,    0.616,2,    0.095,2,    1.728,2,   2259.0,2, -999.000,9, -999.000,-999.0000,9,-999.0000,  -999.00,9,  -999.00, -999.000,9, -999.000
  06AQ19960317,  S04a,    84,  1,     17,      7,2,19960430,   0,-66.6217, -27.1262, 4850,    200.4,   0.7034,  34.6848,2,  34.6846,2,    188.8,2,   105.98,2,    34.07,2,     0.03,2,     2.30,2,    0.517,2,    0.227,2,    0.024,2,    0.762,2,   2264.9,2, -999.000,9, -999.000,-999.0000,9,-999.0000,  -999.00,9,  -999.00, -999.000,9, -999.000
  06AQ19960317,  S04a,    84,  1,     16,      8,2,19960430,   0,-66.6217, -27.1262, 4850,    231.1,   0.7726,  34.6923,2,  34.6904,2,    188.4,2,   108.31,2,    34.14,2,     0.04,2,     2.31,2,    0.398,2,    0.174,2,    0.018,2,    0.622,2,   2266.5,2, -999.000,9, -999.000,-999.0000,9,-999.0000,  -999.00,9,  -999.00, -999.000,9, -999.000
  06AQ19960317,  S04a,    84,  1,     15,      9,2,19960430,   0,-66.6217, -27.1262, 4850,    301.6,   0.6985,  34.6935,2,  34.6933,2,    191.7,2,   111.62,2,    33.93,2,     0.03,2,     2.31,2,    0.299,2,    0.132,2,    0.010,2,    0.514,2,   2265.1,2, -999.000,9, -999.000,-999.0000,9,-999.0000,  -999.00,9,  -999.00, -999.000,9, -999.000
  06AQ19960317,  S04a,    84,  1,     14,     10,2,19960430,   0,-66.6217, -27.1262, 4850,    400.7,   0.5825,  34.6910,2,  34.6904,2,    193.1,2,   115.11,2,    33.98,2,     0.03,2,     2.32,2,    0.248,2,    0.114,2,    0.009,2,    0.470,2,   2266.6,2, -999.000,9, -999.000,-999.0000,9,-999.0000,  -999.00,9,  -999.00, -999.000,9, -999.000
  06AQ19960317,  S04a,    84,  1,     13,     11,2,19960430,   0,-66.6217, -27.1262, 4850,    502.7,   0.4872,  34.6875,2,  34.6867,2,    194.6,2,   118.28,2,    34.26,2,     0.02,2,     2.32,2,    0.209,2,    0.097,2,    0.007,2,    0.436,2,   2266.6,2, -999.000,9, -999.000,-999.0000,9,-999.0000,  -999.00,9,  -999.00, -999.000,9, -999.000
  06AQ19960317,  S04a,    84,  1,     12,     12,2,19960430,   0,-66.6217, -27.1262, 4850,    752.2,   0.3196,  34.6822,2,  34.6812,2,    197.8,2,   122.20,2,    34.39,2,     0.02,2,     2.34,2,    0.153,2,    0.069,2,    0.002,2,    0.387,2,   2266.6,2, -999.000,9, -999.000,-999.0000,9,-999.0000,  -999.00,9,  -999.00, -999.000,9, -999.000
  06AQ19960317,  S04a,    84,  1,     11,     13,2,19960430,   0,-66.6217, -27.1262, 4850,   1002.7,   0.2094,  34.6777,2,  34.6771,2,    202.0,2,   123.87,2,    34.32,2,     0.03,2,     2.33,2,    0.139,2,    0.065,2,    0.003,2,    0.379,2,   2266.9,2, -999.000,9, -999.000,-999.0000,9,-999.0000,  -999.00,9,  -999.00, -999.000,9, -999.000
  06AQ19960317,  S04a,    84,  1,     10,     14,2,19960430,   0,-66.6217, -27.1262, 4850,   1501.6,   0.0167,  34.6689,2,  34.6688,2,    213.3,2,   124.62,2,    33.83,2,     0.01,2,     2.32,2,    0.137,2,    0.064,2,    0.004,2,    0.406,2,   2262.3,2, -999.000,9, -999.000,-999.0000,9,-999.0000,  -999.00,9,  -999.00, -999.000,9, -999.000
  06AQ19960317,  S04a,    84,  1,      9,     15,2,19960430,   0,-66.6217, -27.1262, 4850,   2002.9,  -0.1287,  34.6634,2,  34.6637,2,    222.6,2,   124.72,2,    33.70,2,     0.02,2,     2.31,2,    0.157,2,    0.075,2,    0.003,2,    0.483,2,   2258.3,2, -999.000,9, -999.000,-999.0000,9,-999.0000,  -999.00,9,  -999.00, -999.000,9, -999.000
  06AQ19960317,  S04a,    84,  1,      8,     16,2,19960430,   0,-66.6217, -27.1262, 4850,   2501.7,  -0.2224,  34.6604,2,  34.6602,2,    228.7,2,   123.80,2,    33.41,2,     0.02,2,     2.28,2,    0.184,2,    0.078,2,    0.003,2,    0.552,2,   2254.3,2, -999.000,9, -999.000,-999.0000,9,-999.0000,  -999.00,9,  -999.00, -999.000,9, -999.000
  06AQ19960317,  S04a,    84,  1,      7,     17,2,19960430,   0,-66.6217, -27.1262, 4850,   3001.5,  -0.2826,  34.6576,2,  34.6572,2,    232.3,2,   123.20,2,    33.24,2,     0.03,2,     2.27,2,    0.235,2,    0.115,2,    0.008,2,    0.623,2,   2253.2,2, -999.000,9, -999.000,-999.0000,9,-999.0000,  -999.00,9,  -999.00, -999.000,9, -999.000
  06AQ19960317,  S04a,    84,  1,      6,     18,2,19960430,   0,-66.6217, -27.1262, 4850,   3499.9,  -0.3299,  34.6552,2,  34.6550,2,    237.0,2,   123.24,2,    33.12,2,     0.03,2,     2.26,2,    0.254,2,    0.121,2,    0.009,2,    0.666,2,   2251.4,2, -999.000,9, -999.000,-999.0000,9,-999.0000,  -999.00,9,  -999.00, -999.000,9, -999.000
  06AQ19960317,  S04a,    84,  1,      5,     19,2,19960430,   0,-66.6217, -27.1262, 4850,   3999.5,  -0.3631,  34.6547,2,  34.6528,2,    239.5,2,   125.81,2,    33.36,2,     0.05,2,     2.28,2,    0.209,2,    0.097,2,    0.005,2,    0.627,3,   2249.5,2, -999.000,9, -999.000,-999.0000,9,-999.0000,  -999.00,9,  -999.00, -999.000,9, -999.000
  06AQ19960317,  S04a,    84,  1,      4,     20,2,19960430,   0,-66.6217, -27.1262, 4850,   4489.2,  -0.4187,  34.6520,2,  34.6490,2,    244.1,2,   119.91,2,    33.07,2,     0.04,2,     2.26,2,    0.268,2,    0.126,2,    0.008,2,    0.736,2,   2249.7,2, -999.000,9, -999.000,-999.0000,9,-999.0000,  -999.00,9,  -999.00, -999.000,9, -999.000
  06AQ19960317,  S04a,    84,  1,      3,     21,2,19960430,   0,-66.6217, -27.1262, 4850,   4697.3,  -0.4614,  34.6503,2,  34.6474,2,    246.1,2,   118.66,2,    32.89,2,     0.02,2,     2.25,2,    0.264,2,    0.123,2,    0.006,2,    0.777,2,   2248.2,2, -999.000,9, -999.000,-999.0000,9,-999.0000,  -999.00,9,  -999.00, -999.000,9, -999.000
  06AQ19960317,  S04a,    84,  1,      2,     22,2,19960430,   0,-66.6217, -27.1262, 4850,   4805.8,  -0.4705,  34.6493,2,  34.6472,2,    245.3,2,   124.42,2,    33.10,2,     0.03,2,     2.26,2,    0.249,6,    0.120,6,    0.006,6,    0.758,6,   2251.8,2, -999.000,9, -999.000,-999.0000,9,-999.0000,  -999.00,9,  -999.00, -999.000,9, -999.000
  06AQ19960317,  S04a,    84,  1,      1,     23,2,19960430,   0,-66.6217, -27.1262, 4850,   4857.2,  -0.4811,  34.6480,2,-999.0000,9,   -999.0,9,  -999.00,9,  -999.00,9,  -999.00,9,  -999.00,9, -999.000,9, -999.000,9, -999.000,9, -999.000,9,   -999.0,9, -999.000,9, -999.000,-999.0000,9,-999.0000,  -999.00,9,  -999.00, -999.000,9, -999.000
  06AQ19960317,  S04a,    84,  1,     24,     24,2,19960430,   0,-66.6217, -27.1262, 4850,   4917.6,  -0.5043,  34.6444,2,  34.6439,2,    247.2,2,   121.85,2,    33.06,2,     0.03,2,     2.25,2,    0.502,2,    0.233,2,    0.009,2,    0.942,4,   2252.3,2, -999.000,9, -999.000,-999.0000,9,-999.0000,  -999.00,9,  -999.00, -999.000,9, -999.000