BOTTLE,20150129PRINUNIVRMK
EXPOCODE,SECT_ID,STNNBR,CASTNO,SAMPNO,BTLNBR,BTLNBR_FLAG_W,DATE,TIME,LATITUDE,LONGITUDE,DEPTH,CTDPRS,CTDTMP,CTDSAL,CTDSAL_FLAG_W,SALNTY,SALNTY_FLAG_W,OXYGEN,OXYGEN_FLAG_W,SILCAT,SILCAT_FLAG_W,NITRAT,NITRAT_FLAG_W,NITRIT,NITRIT_FLAG_W,PHSPHT,PHSPHT_FLAG_W,CFC-11,CFC-11_FLAG_W,CFC-12,CFC-12_FLAG_W,CFC113,CFC113_FLAG_W,CCL4,CCL4_FLAG_W,TCARBN,TCARBN_FLAG_W,TRITUM,TRITUM_FLAG_W,TRITER,HELIUM,HELIUM_FLAG_W,HELIER,DELHE3,DELHE3_FLAG_W,DELHER,NEON,NEON_FLAG_W,NEONER
,,,,,,,,,,,METERS,DBAR,ITS-90,PSS-78,,PSS-78,,UMOL/KG,,UMOL/KG,,UMOL/KG,,UMOL/KG,,UMOL/KG,,PMOL/KG,,PMOL/KG,,PMOL/KG,,PMOL/KG,,UMOL/KG,,TU,,TU,NMOL/KG,,NMOL/KG,PERCNT,,PERCNT,NMOL/KG,,NMOL/KG
  06AQ19960317,  S04a,    47,  1,     24,      1,2,19960416,   0,-61.5010,  -0.0120, 5381,     19.7,  -0.4110,  34.0125,2,  34.0150,2,    333.3,2,    51.99,2,    24.67,2,  -999.00,9,     1.72,2,    6.078,2,    3.050,2,    0.482,2,    8.417,2,   2174.5,2, -999.000,9, -999.000,-999.0000,9,-999.0000,  -999.00,9,  -999.00, -999.000,9, -999.000
  06AQ19960317,  S04a,    47,  1,     23,      2,2,19960416,   0,-61.5010,  -0.0120, 5381,     40.8,  -0.4113,  34.0128,2,  34.0157,2,    333.3,2,    51.86,2,    24.61,2,  -999.00,9,     1.73,2, -999.000,9, -999.000,9, -999.000,9, -999.000,9,   2173.4,2, -999.000,9, -999.000,-999.0000,9,-999.0000,  -999.00,9,  -999.00, -999.000,9, -999.000
  06AQ19960317,  S04a,    47,  1,     22,      3,2,19960416,   0,-61.5010,  -0.0120, 5381,     60.0,  -0.4393,  34.0240,2,  34.0185,2,    332.9,2,    51.98,2,    24.69,2,  -999.00,9,     1.74,2, -999.000,9, -999.000,9, -999.000,9, -999.000,9,   2173.7,2, -999.000,9, -999.000,-999.0000,9,-999.0000,  -999.00,9,  -999.00, -999.000,9, -999.000
  06AQ19960317,  S04a,    47,  1,     21,      4,2,19960416,   0,-61.5010,  -0.0120, 5381,     79.6,  -1.6768,  34.3466,2,  34.3507,2,    313.9,2,    68.73,2,    29.24,2,  -999.00,9,     2.03,2, -999.000,9, -999.000,9, -999.000,9, -999.000,9,   2214.6,2, -999.000,9, -999.000,-999.0000,9,-999.0000,  -999.00,9,  -999.00, -999.000,9, -999.000
  06AQ19960317,  S04a,    47,  1,     20,      5,2,19960416,   0,-61.5010,  -0.0120, 5381,     79.6,  -1.6832,  34.3476,2,  34.3498,2,    313.4,2,    68.75,2,    29.22,2,  -999.00,9,     2.05,2, -999.000,9, -999.000,9, -999.000,9, -999.000,9,   -999.0,9, -999.000,9, -999.000,-999.0000,9,-999.0000,  -999.00,9,  -999.00, -999.000,9, -999.000
  06AQ19960317,  S04a,    47,  1,     19,      6,2,19960416,   0,-61.5010,  -0.0120, 5381,    102.3,  -1.5061,  34.1762,2,  34.3813,2,    307.9,2,    71.81,2,    30.02,2,  -999.00,9,     2.07,2,    5.064,2,    2.510,2,    0.415,2,    6.901,2,   2220.0,2, -999.000,9, -999.000,-999.0000,9,-999.0000,  -999.00,9,  -999.00, -999.000,9, -999.000
  06AQ19960317,  S04a,    47,  1,     18,      7,2,19960416,   0,-61.5010,  -0.0120, 5381,    150.4,   0.2290,  34.5927,2,  34.6386,2,    202.2,2,   102.35,2,    33.76,2,  -999.00,9,     2.30,2, -999.000,9, -999.000,9, -999.000,9, -999.000,9,   2258.3,2, -999.000,9, -999.000,-999.0000,9,-999.0000,  -999.00,9,  -999.00, -999.000,9, -999.000
  06AQ19960317,  S04a,    47,  1,     17,      8,2,19960416,   0,-61.5010,  -0.0120, 5381,    199.7,   0.6441,  34.6860,2,  34.6879,2,    187.8,2,   112.28,2,    34.24,2,  -999.00,9,     2.33,2,    0.393,2,    0.184,2,    0.020,2,    0.636,2,   2266.9,2, -999.000,9, -999.000,-999.0000,9,-999.0000,  -999.00,9,  -999.00, -999.000,9, -999.000
  06AQ19960317,  S04a,    47,  1,     16,      9,2,19960416,   0,-61.5010,  -0.0120, 5381,    250.8,   0.5847,  34.6866,2,  34.6892,2,    187.4,2,   116.02,2,    34.44,2,  -999.00,9,     2.35,2, -999.000,9, -999.000,9, -999.000,9, -999.000,9,   2267.8,2, -999.000,9, -999.000,-999.0000,9,-999.0000,  -999.00,9,  -999.00, -999.000,9, -999.000
  06AQ19960317,  S04a,    47,  1,     15,     10,2,19960416,   0,-61.5010,  -0.0120, 5381,    304.5,   0.5157,  34.6867,2,  34.6877,2,    188.4,2,   118.63,2,    34.62,2,  -999.00,9,     2.36,2, -999.000,9, -999.000,9, -999.000,9, -999.000,9,   2268.6,2, -999.000,9, -999.000,-999.0000,9,-999.0000,  -999.00,9,  -999.00, -999.000,9, -999.000
  06AQ19960317,  S04a,    47,  1,     14,     11,2,19960416,   0,-61.5010,  -0.0120, 5381,    350.2,   0.4776,  34.6852,2,  34.6870,2,    189.2,2,   120.45,2,    34.59,2,  -999.00,9,     2.35,2, -999.000,9, -999.000,9, -999.000,9, -999.000,9,   2267.6,2, -999.000,9, -999.000,-999.0000,9,-999.0000,  -999.00,9,  -999.00, -999.000,9, -999.000
  06AQ19960317,  S04a,    47,  1,     13,     12,2,19960416,   0,-61.5010,  -0.0120, 5381,    400.8,   0.4397,  34.6851,2,  34.6861,2,    189.8,2,   120.66,2,    34.55,2,  -999.00,9,     2.36,2,    0.214,2,    0.104,2,    0.009,2,    0.443,2,   2269.9,2, -999.000,9, -999.000,-999.0000,9,-999.0000,  -999.00,9,  -999.00, -999.000,9, -999.000
  06AQ19960317,  S04a,    47,  1,     12,     13,2,19960416,   0,-61.5010,  -0.0120, 5381,    500.5,   0.3731,  34.6828,2,  34.6853,2,    191.6,2,   122.80,2,    34.59,2,  -999.00,9,     2.36,2, -999.000,9, -999.000,9, -999.000,9, -999.000,9,   2267.5,2, -999.000,9, -999.000,-999.0000,9,-999.0000,  -999.00,9,  -999.00, -999.000,9, -999.000
  06AQ19960317,  S04a,    47,  1,     11,     14,2,19960416,   0,-61.5010,  -0.0120, 5381,    749.9,   0.2361,  34.6785,2,  34.6792,2,    196.6,2,   125.16,2,    34.50,2,  -999.00,9,     2.35,2,    0.142,2,    0.070,2,    0.004,2,    0.375,2,   2267.1,2, -999.000,9, -999.000,-999.0000,9,-999.0000,  -999.00,9,  -999.00, -999.000,9, -999.000
  06AQ19960317,  S04a,    47,  1,     10,     15,2,19960416,   0,-61.5010,  -0.0120, 5381,   1000.7,   0.1263,  34.6747,2,  34.6751,2,    203.8,2,   125.77,2,    34.04,2,  -999.00,9,     2.32,2,    0.139,2,    0.070,2,    0.005,2,    0.382,2,   2262.6,2, -999.000,9, -999.000,-999.0000,9,-999.0000,  -999.00,9,  -999.00, -999.000,9, -999.000
  06AQ19960317,  S04a,    47,  1,      9,     16,2,19960416,   0,-61.5010,  -0.0120, 5381,   1501.0,  -0.0583,  34.6653,2,  34.6676,2,    215.1,2,   126.08,2,    33.60,2,  -999.00,9,     2.30,2, -999.000,9, -999.000,9, -999.000,9, -999.000,9,   2258.4,2, -999.000,9, -999.000,-999.0000,9,-999.0000,  -999.00,9,  -999.00, -999.000,9, -999.000
  06AQ19960317,  S04a,    47,  1,      8,     17,2,19960416,   0,-61.5010,  -0.0120, 5381,   2000.0,  -0.1880,  34.6608,2,  34.6628,2,    223.8,2,   125.51,2,    33.38,2,  -999.00,9,     2.28,2,    0.184,2,    0.089,2,    0.005,2,    0.540,2,   2254.0,2, -999.000,9, -999.000,-999.0000,9,-999.0000,  -999.00,9,  -999.00, -999.000,9, -999.000
  06AQ19960317,  S04a,    47,  1,      7,     18,2,19960416,   0,-61.5010,  -0.0120, 5381,   2501.5,  -0.2752,  34.6575,2,  34.6602,2,    229.7,2,   124.27,2,    33.16,2,  -999.00,9,     2.27,2, -999.000,9, -999.000,9, -999.000,9, -999.000,9,   2249.4,2, -999.000,9, -999.000,-999.0000,9,-999.0000,  -999.00,9,  -999.00, -999.000,9, -999.000
  06AQ19960317,  S04a,    47,  1,      6,     19,2,19960416,   0,-61.5010,  -0.0120, 5381,   3000.7,  -0.3337,  34.6562,2,  34.6575,2,    233.7,2,   124.25,2,    32.91,2,  -999.00,9,     2.25,2,    0.223,2,    0.110,2,    0.008,2,    0.634,2,   2250.6,2, -999.000,9, -999.000,-999.0000,9,-999.0000,  -999.00,9,  -999.00, -999.000,9, -999.000
  06AQ19960317,  S04a,    47,  1,      5,     20,2,19960416,   0,-61.5010,  -0.0120, 5381,   3500.3,  -0.3833,  34.6536,2,  34.6549,2,    238.3,2,   124.47,2,    33.06,2,  -999.00,9,     2.25,2, -999.000,9, -999.000,9, -999.000,9, -999.000,9,   2248.3,2, -999.000,9, -999.000,-999.0000,9,-999.0000,  -999.00,9,  -999.00, -999.000,9, -999.000
  06AQ19960317,  S04a,    47,  1,      4,     21,2,19960416,   0,-61.5010,  -0.0120, 5381,   3999.1,  -0.4345,  34.6510,2,  34.6516,2,    241.4,2,   122.78,2,    32.78,2,  -999.00,9,     2.25,2,    0.259,2,    0.129,2,    0.009,2,    0.734,2,   2247.2,2, -999.000,9, -999.000,-999.0000,9,-999.0000,  -999.00,9,  -999.00, -999.000,9, -999.000
  06AQ19960317,  S04a,    47,  1,      3,     22,2,19960416,   0,-61.5010,  -0.0120, 5381,   4498.9,  -0.4870,  34.6475,2,  34.6471,2,    245.1,2,   118.85,2,    32.70,2,  -999.00,9,     2.23,2,    0.425,2,    0.210,2,    0.012,2,    0.978,2,   2244.8,2, -999.000,9, -999.000,-999.0000,9,-999.0000,  -999.00,9,  -999.00, -999.000,9, -999.000
  06AQ19960317,  S04a,    47,  1,      2,     23,2,19960416,   0,-61.5010,  -0.0120, 5381,   5358.8,  -0.4227,  34.6466,2,  34.6456,2,    245.7,2,   121.82,2,    32.83,2,  -999.00,9,     2.25,2,    0.434,2,    0.217,2,    0.013,2,    1.021,2,   2245.5,2, -999.000,9, -999.000,-999.0000,9,-999.0000,  -999.00,9,  -999.00, -999.000,9, -999.000
  06AQ19960317,  S04a,    47,  1,      1,     24,2,19960416,   0,-61.5010,  -0.0120, 5381,   5457.6,  -0.4106,  34.6466,2,  34.6478,2,    245.6,2,   122.03,2,    32.86,2,  -999.00,9,     2.24,2,    0.433,2,    0.216,2,    0.012,2,    1.038,2,   2247.8,2, -999.000,9, -999.000,-999.0000,9,-999.0000,  -999.00,9,  -999.00, -999.000,9, -999.000
  06AQ19960317,  S04a,    48,  1,     24,      1,2,19960416,   0,-61.9988,   0.0008, 5356,     20.2,  -0.3333,  33.9978,2,  33.9992,2,   -999.0,9,    51.62,2,    24.57,2,  -999.00,9,     1.72,2, -999.000,9, -999.000,9, -999.000,9, -999.000,9,   -999.0,9, -999.000,9, -999.000,-999.0000,9,-999.0000,  -999.00,9,  -999.00, -999.000,9, -999.000
  06AQ19960317,  S04a,    48,  1,     23,      2,2,19960416,   0,-61.9988,   0.0008, 5356,     20.3,  -0.3324,  33.9979,2,  33.9981,2,   -999.0,9,    51.61,2,    24.57,2,  -999.00,9,     1.74,2, -999.000,9, -999.000,9, -999.000,9, -999.000,9,   -999.0,9, -999.000,9, -999.000,-999.0000,9,-999.0000,  -999.00,9,  -999.00, -999.000,9, -999.000
  06AQ19960317,  S04a,    48,  1,     22,      3,2,19960416,   0,-61.9988,   0.0008, 5356,     20.4,  -0.3317,  33.9977,2,  34.0001,2,    333.1,2,    51.50,2,    24.57,2,  -999.00,9,     1.74,2,    6.536,2,    3.254,2,    0.513,2,    8.677,2,   2170.8,2,    0.051,2, -999.000,   1.7510,2,   0.0050,    -1.49,2,     0.22,    7.877,2,    0.018
  06AQ19960317,  S04a,    48,  1,     21,      4,2,19960416,   0,-61.9988,   0.0008, 5356,     39.6,  -0.3293,  33.9977,2,  34.0007,2,   -999.0,9,    51.48,2,    24.54,2,  -999.00,9,     1.74,2, -999.000,9, -999.000,9, -999.000,9, -999.000,9,   2172.1,2, -999.000,9, -999.000,-999.0000,9,-999.0000,  -999.00,9,  -999.00, -999.000,9, -999.000
  06AQ19960317,  S04a,    48,  1,     20,      5,2,19960416,   0,-61.9988,   0.0008, 5356,     39.6,  -0.3318,  33.9972,2,  34.0005,2,    332.1,2,    51.59,2,    24.56,2,  -999.00,9,     1.75,2,    6.487,2,    3.229,2,    0.514,2,    8.629,2,   -999.0,9, -999.000,9, -999.000,-999.0000,9,-999.0000,  -999.00,9,  -999.00, -999.000,9, -999.000
  06AQ19960317,  S04a,    48,  1,     18,      7,2,19960416,   0,-61.9988,   0.0008, 5356,     59.0,  -0.3528,  34.0022,2,  34.0968,2,    325.6,2,    55.84,2,    25.92,2,  -999.00,9,     1.83,2, -999.000,9, -999.000,9, -999.000,9, -999.000,9,   2183.8,2, -999.000,9, -999.000,-999.0000,9,-999.0000,  -999.00,9,  -999.00, -999.000,9, -999.000
  06AQ19960317,  S04a,    48,  1,     19,      6,2,19960416,   0,-61.9988,   0.0008, 5356,     59.1,  -0.3356,  33.9981,2,  34.0049,2,   -999.0,9,    51.76,2,    24.56,2,  -999.00,9,     1.75,2,    6.377,2,    3.187,2,    0.510,2,    8.562,2,   -999.0,9, -999.000,9, -999.000,-999.0000,9,-999.0000,  -999.00,9,  -999.00, -999.000,9, -999.000
  06AQ19960317,  S04a,    48,  1,     16,      9,2,19960416,   0,-61.9988,   0.0008, 5356,     79.4,  -1.5723,  34.3140,2,  34.3286,2,    308.9,2,    66.72,2,    29.38,2,  -999.00,9,     2.02,2,    5.526,2,    2.745,2,    0.447,2,    7.247,2,   2214.0,2, -999.000,9, -999.000,-999.0000,9,-999.0000,  -999.00,9,  -999.00, -999.000,9, -999.000
  06AQ19960317,  S04a,    48,  1,     17,      8,2,19960416,   0,-61.9988,   0.0008, 5356,     79.5,  -1.5519,  34.3049,2,  34.3012,2,   -999.0,9,    64.93,2,    28.86,2,  -999.00,9,     2.01,2, -999.000,9, -999.000,9, -999.000,9, -999.000,9,   -999.0,9, -999.000,9, -999.000,-999.0000,9,-999.0000,  -999.00,9,  -999.00, -999.000,9, -999.000
  06AQ19960317,  S04a,    48,  1,     14,     11,2,19960416,   0,-61.9988,   0.0008, 5356,     86.5,  -1.5787,  34.3441,2,  34.3468,2,   -999.0,9,    68.00,2,    29.74,2,  -999.00,9,     2.04,2, -999.000,9, -999.000,9, -999.000,9, -999.000,9,   -999.0,9, -999.000,9, -999.000,-999.0000,9,-999.0000,  -999.00,9,  -999.00, -999.000,9, -999.000
  06AQ19960317,  S04a,    48,  1,     15,     10,2,19960416,   0,-61.9988,   0.0008, 5356,     86.8,  -1.5840,  34.3425,2,  34.3455,2,   -999.0,9,    67.99,2,    29.72,2,  -999.00,9,     2.03,2, -999.000,9, -999.000,9, -999.000,9, -999.000,9,   -999.0,9, -999.000,9, -999.000,-999.0000,9,-999.0000,  -999.00,9,  -999.00, -999.000,9, -999.000
  06AQ19960317,  S04a,    48,  1,     13,     12,2,19960416,   0,-61.9988,   0.0008, 5356,     86.8,  -1.5506,  34.3582,2,  34.3554,2,   -999.0,9,    68.85,2,    29.87,2,  -999.00,9,     2.04,2, -999.000,9, -999.000,9, -999.000,9, -999.000,9,   2217.4,2, -999.000,9, -999.000,-999.0000,9,-999.0000,  -999.00,9,  -999.00, -999.000,9, -999.000
  06AQ19960317,  S04a,    48,  1,     11,     14,2,19960416,   0,-61.9988,   0.0008, 5356,    101.3,  -1.1659,  34.4035,2,  34.4041,2,    284.2,2,    75.02,2,    31.17,2,  -999.00,9,     2.11,2,    4.309,2,    2.132,2,    0.344,2,    5.840,2,   2225.3,2,    0.159,2, -999.000,   1.8280,2,   0.0050,     1.91,2,     0.22,    8.171,2,    0.018
  06AQ19960317,  S04a,    48,  1,     12,     13,2,19960416,   0,-61.9988,   0.0008, 5356,    101.5,  -1.2019,  34.4013,2,  34.4023,2,   -999.0,9,    74.42,2,    30.92,2,  -999.00,9,     2.08,2, -999.000,9, -999.000,9, -999.000,9, -999.000,9,   -999.0,9, -999.000,9, -999.000,-999.0000,9,-999.0000,  -999.00,9,  -999.00, -999.000,9, -999.000
  06AQ19960317,  S04a,    48,  1,     10,     15,2,19960416,   0,-61.9988,   0.0008, 5356,    150.5,   0.1679,  34.5994,2,  34.6154,2,    208.9,2,   100.38,2,    33.54,2,  -999.00,9,     2.27,2,    1.452,2,    0.704,2,    0.106,2,    1.976,2,   2256.4,2, -999.000,9, -999.000,-999.0000,9,-999.0000,  -999.00,9,  -999.00, -999.000,9, -999.000
  06AQ19960317,  S04a,    48,  1,      8,     17,2,19960416,   0,-61.9988,   0.0008, 5356,    200.3,   0.6819,  34.6825,2,  34.6847,2,   -999.0,9,   109.66,2,    34.29,2,  -999.00,9,     2.32,2, -999.000,9, -999.000,9, -999.000,9, -999.000,9,   -999.0,9, -999.000,9, -999.000,-999.0000,9,-999.0000,  -999.00,9,  -999.00, -999.000,9, -999.000
  06AQ19960317,  S04a,    48,  1,      6,     19,2,19960416,   0,-61.9988,   0.0008, 5356,    200.3,   0.6819,  34.6824,2,  34.6830,2,    189.2,2,   109.47,2,    34.25,2,  -999.00,9,     2.32,2,    0.486,2,    0.226,2,    0.029,2,    0.754,2,   2263.8,2,    0.146,2, -999.000,   1.8680,2,   0.0050,     9.03,2,     0.22,    8.119,2,    0.018
  06AQ19960317,  S04a,    48,  1,      9,     16,2,19960416,   0,-61.9988,   0.0008, 5356,    200.4,   0.6814,  34.6825,2,  34.6829,2,   -999.0,9,   109.50,2,    34.15,2,  -999.00,9,     2.32,2, -999.000,9, -999.000,9, -999.000,9, -999.000,9,   -999.0,9, -999.000,9, -999.000,-999.0000,9,-999.0000,  -999.00,9,  -999.00, -999.000,9, -999.000
  06AQ19960317,  S04a,    48,  1,      7,     18,2,19960416,   0,-61.9988,   0.0008, 5356,    200.4,   0.6818,  34.6826,2,  34.6840,2,   -999.0,9,   109.75,2,    34.20,2,  -999.00,9,     2.32,2, -999.000,9, -999.000,9, -999.000,9, -999.000,9,   -999.0,9, -999.000,9, -999.000,-999.0000,9,-999.0000,  -999.00,9,  -999.00, -999.000,9, -999.000
  06AQ19960317,  S04a,    48,  1,      5,     20,2,19960416,   0,-61.9988,   0.0008, 5356,    251.2,   0.6265,  34.6905,2,  34.6890,2,    188.7,2,   113.54,2,    34.40,2,  -999.00,9,     2.34,2,    0.337,2,    0.155,2,    0.018,2,    0.575,2,   2265.8,2, -999.000,9, -999.000,-999.0000,9,-999.0000,  -999.00,9,  -999.00, -999.000,9, -999.000
  06AQ19960317,  S04a,    48,  1,      4,     21,2,19960416,   0,-61.9988,   0.0008, 5356,    301.7,   0.5590,  34.6893,2,  34.6883,2,    188.6,2,   117.28,2,    34.62,2,  -999.00,9,     2.35,2,    0.289,2,    0.133,2,    0.012,2,    0.507,2,   2267.5,2,    0.034,2, -999.000,   1.8730,2,   0.0050,     8.50,2,     0.22,    8.154,2,    0.018
  06AQ19960317,  S04a,    48,  1,      3,     22,2,19960416,   0,-61.9988,   0.0008, 5356,    346.2,   0.5044,  34.6890,2,  34.6872,2,    190.0,2,   118.27,2,    34.54,2,  -999.00,9,     2.34,2,    0.263,2,    0.122,2,    0.011,2,    0.486,2,   2265.9,2, -999.000,9, -999.000,-999.0000,9,-999.0000,  -999.00,9,  -999.00, -999.000,9, -999.000
  06AQ19960317,  S04a,    48,  1,      2,     23,2,19960416,   0,-61.9988,   0.0008, 5356,    401.7,   0.4553,  34.6863,2,-999.0000,9,    189.7,2,   120.04,2,    34.62,2,  -999.00,9,     2.35,2,    0.231,2,    0.109,2,    0.009,2,    0.463,2,   2266.8,2,    0.068,2, -999.000,   1.8750,2,   0.0050,     8.54,2,     0.22,    8.173,2,    0.018
  06AQ19960317,  S04a,    48,  1,      1,     24,2,19960416,   0,-61.9988,   0.0008, 5356,    515.3,   0.3744,  34.6860,2,-999.0000,9,    192.9,2,   122.45,2,    34.73,2,  -999.00,9,     2.35,2,    0.186,2,    0.087,2,    0.008,2,    0.437,2,   -999.0,9,    0.062,2, -999.000,   3.7700,4,   0.0100,     5.60,3,     0.22,   13.831,4,    0.031