BOTTLE,20150129PRINUNIVRMK
EXPOCODE,SECT_ID,STNNBR,CASTNO,SAMPNO,BTLNBR,BTLNBR_FLAG_W,DATE,TIME,LATITUDE,LONGITUDE,DEPTH,CTDPRS,CTDTMP,CTDSAL,CTDSAL_FLAG_W,SALNTY,SALNTY_FLAG_W,OXYGEN,OXYGEN_FLAG_W,SILCAT,SILCAT_FLAG_W,NITRAT,NITRAT_FLAG_W,NITRIT,NITRIT_FLAG_W,PHSPHT,PHSPHT_FLAG_W,CFC-11,CFC-11_FLAG_W,CFC-12,CFC-12_FLAG_W,CFC113,CFC113_FLAG_W,CCL4,CCL4_FLAG_W,TCARBN,TCARBN_FLAG_W,TRITUM,TRITUM_FLAG_W,TRITER,HELIUM,HELIUM_FLAG_W,HELIER,DELHE3,DELHE3_FLAG_W,DELHER,NEON,NEON_FLAG_W,NEONER
,,,,,,,,,,,METERS,DBAR,ITS-90,PSS-78,,PSS-78,,UMOL/KG,,UMOL/KG,,UMOL/KG,,UMOL/KG,,UMOL/KG,,PMOL/KG,,PMOL/KG,,PMOL/KG,,PMOL/KG,,UMOL/KG,,TU,,TU,NMOL/KG,,NMOL/KG,PERCNT,,PERCNT,NMOL/KG,,NMOL/KG
  06AQ19960317,  S04a,    50,  1,     24,      1,2,19960417,   0,-63.0053,   0.0010, 5290,     20.8,  -0.4022,  34.0025,2,  34.0053,2,    330.5,2,    50.77,2,    23.43,2,  -999.00,9,     1.73,2,    6.028,2,    3.026,2,    0.489,2,    8.394,2,   2170.6,2, -999.000,9, -999.000,-999.0000,9,-999.0000,  -999.00,9,  -999.00, -999.000,9, -999.000
  06AQ19960317,  S04a,    50,  1,     23,      2,2,19960417,   0,-63.0053,   0.0010, 5290,     40.0,  -0.4017,  34.0029,2,  34.0061,2,    330.0,2,    50.74,2,    23.44,2,  -999.00,9,     1.73,2,    6.132,2,    3.074,2,    0.518,2,    8.581,2,   -999.0,9, -999.000,9, -999.000,-999.0000,9,-999.0000,  -999.00,9,  -999.00, -999.000,9, -999.000
  06AQ19960317,  S04a,    50,  1,     22,      3,2,19960417,   0,-63.0053,   0.0010, 5290,     61.3,  -0.3929,  34.0250,2,  34.0840,2,    324.9,2,    54.08,2,    24.72,2,  -999.00,9,     1.82,2,    5.923,2,    2.971,2,    0.502,2,    8.174,2,   2180.1,2, -999.000,9, -999.000,-999.0000,9,-999.0000,  -999.00,9,  -999.00, -999.000,9, -999.000
  06AQ19960317,  S04a,    50,  1,     21,      4,2,19960417,   0,-63.0053,   0.0010, 5290,     81.2,  -1.6723,  34.2775,2,  34.2861,2,    308.9,2,    62.62,2,    29.03,2,  -999.00,9,     2.05,2, -999.000,9, -999.000,9, -999.000,9, -999.000,9,   2214.2,2, -999.000,9, -999.000,-999.0000,9,-999.0000,  -999.00,9,  -999.00, -999.000,9, -999.000
  06AQ19960317,  S04a,    50,  1,     20,      5,2,19960417,   0,-63.0053,   0.0010, 5290,     81.4,  -1.6694,  34.2836,2,  34.2859,2,   -999.0,9,    62.53,2,    28.87,2,  -999.00,9,     2.06,2,    5.659,2,    2.784,2,    0.443,2,    7.182,2,   -999.0,9, -999.000,9, -999.000,-999.0000,9,-999.0000,  -999.00,9,  -999.00, -999.000,9, -999.000
  06AQ19960317,  S04a,    50,  1,     19,      6,2,19960417,   0,-63.0053,   0.0010, 5290,    101.0,  -1.6519,  34.3163,2,  34.3206,2,    303.5,2,    64.62,2,    29.85,2,  -999.00,9,     2.06,2,    5.367,2,    2.645,2,    0.419,2,    6.920,2,   2221.6,2, -999.000,9, -999.000,-999.0000,9,-999.0000,  -999.00,9,  -999.00, -999.000,9, -999.000
  06AQ19960317,  S04a,    50,  1,     18,      7,2,19960417,   0,-63.0053,   0.0010, 5290,    151.0,   0.3189,  34.5805,2,  34.5893,2,    205.3,2,    94.84,2,    33.97,2,  -999.00,9,     2.31,2,    1.651,2,    0.790,2,    0.116,2,    2.135,2,   2260.0,2, -999.000,9, -999.000,-999.0000,9,-999.0000,  -999.00,9,  -999.00, -999.000,9, -999.000
  06AQ19960317,  S04a,    50,  1,     17,      8,2,19960417,   0,-63.0053,   0.0010, 5290,    201.4,   0.7598,  34.6668,2,  34.6686,2,    190.3,2,   103.34,2,    33.95,2,  -999.00,9,     2.32,2,    0.716,2,    0.337,2,    0.044,2,    0.993,2,   2265.8,2, -999.000,9, -999.000,-999.0000,9,-999.0000,  -999.00,9,  -999.00, -999.000,9, -999.000
  06AQ19960317,  S04a,    50,  1,     16,      9,2,19960417,   0,-63.0053,   0.0010, 5290,    279.9,   0.6542,  34.6827,2,  34.6844,2,    189.8,2,   109.79,2,    34.11,2,  -999.00,9,     2.32,2,    0.480,2,    0.223,2,    0.024,2,    0.722,2,   2266.5,2, -999.000,9, -999.000,-999.0000,9,-999.0000,  -999.00,9,  -999.00, -999.000,9, -999.000
  06AQ19960317,  S04a,    50,  1,     15,     10,2,19960417,   0,-63.0053,   0.0010, 5290,    347.1,   0.6058,  34.6866,2,  34.6905,2,    190.7,2,   113.17,2,    34.01,2,  -999.00,9,     2.33,2,    0.354,2,    0.164,2,    0.017,2,    0.589,2,   -999.0,9, -999.000,9, -999.000,-999.0000,9,-999.0000,  -999.00,9,  -999.00, -999.000,9, -999.000
  06AQ19960317,  S04a,    50,  1,     14,     11,2,19960417,   0,-63.0053,   0.0010, 5290,    501.0,   0.4730,  34.6856,2,  34.6887,2,    192.1,2,   118.69,2,    34.35,2,  -999.00,9,     2.35,2,    0.245,2,    0.117,2,    0.009,2,    0.481,2,   2269.7,2, -999.000,9, -999.000,-999.0000,9,-999.0000,  -999.00,9,  -999.00, -999.000,9, -999.000
  06AQ19960317,  S04a,    50,  1,     13,     12,2,19960417,   0,-63.0053,   0.0010, 5290,    751.8,   0.3296,  34.6821,2,  34.6832,2,    194.7,2,   122.70,2,    34.20,2,  -999.00,9,     2.34,2,    0.188,2,    0.088,2,    0.008,2,    0.418,2,   -999.0,9, -999.000,9, -999.000,-999.0000,9,-999.0000,  -999.00,9,  -999.00, -999.000,9, -999.000
  06AQ19960317,  S04a,    50,  1,     12,     13,2,19960417,   0,-63.0053,   0.0010, 5290,   1001.0,   0.2179,  34.6777,2,  34.6782,2,   -999.0,9,   124.81,2,    34.24,2,  -999.00,9,     2.35,2,    0.171,2,    0.092,2,    0.004,2,    0.407,2,   2266.4,2, -999.000,9, -999.000,-999.0000,9,-999.0000,  -999.00,9,  -999.00, -999.000,9, -999.000
  06AQ19960317,  S04a,    50,  1,     11,     14,2,19960417,   0,-63.0053,   0.0010, 5290,   1501.3,   0.0225,  34.6704,2,  34.6711,2,    211.4,2,   125.60,2,    33.89,2,  -999.00,9,     2.33,2,    0.167,2,    0.078,2,    0.005,2,    0.451,2,   -999.0,9, -999.000,9, -999.000,-999.0000,9,-999.0000,  -999.00,9,  -999.00, -999.000,9, -999.000
  06AQ19960317,  S04a,    50,  1,     10,     15,2,19960417,   0,-63.0053,   0.0010, 5290,   2002.0,  -0.1257,  34.6631,2,  34.6657,2,    220.5,2,   125.22,2,    33.46,2,  -999.00,9,     2.30,2,    0.192,2,    0.101,2,    0.006,2,    0.519,2,   2261.0,2, -999.000,9, -999.000,-999.0000,9,-999.0000,  -999.00,9,  -999.00, -999.000,9, -999.000
  06AQ19960317,  S04a,    50,  1,      9,     16,2,19960417,   0,-63.0053,   0.0010, 5290,   2501.4,  -0.2224,  34.6598,2,  34.6600,2,    227.4,2,   125.07,2,    33.24,2,  -999.00,9,  -999.00,9,    0.266,2,    0.129,2,    0.007,2,    0.658,2,   2257.0,2, -999.000,9, -999.000,-999.0000,9,-999.0000,  -999.00,9,  -999.00, -999.000,9, -999.000
  06AQ19960317,  S04a,    50,  1,      8,     17,2,19960417,   0,-63.0053,   0.0010, 5290,   3000.2,  -0.2868,  34.6573,2,  34.6590,2,    231.7,2,   124.22,2,    33.26,2,  -999.00,9,     2.28,2,    0.345,2,    0.165,2,    0.013,2,    0.755,2,   -999.0,9, -999.000,9, -999.000,-999.0000,9,-999.0000,  -999.00,9,  -999.00, -999.000,9, -999.000
  06AQ19960317,  S04a,    50,  1,      7,     18,2,19960417,   0,-63.0053,   0.0010, 5290,   3499.6,  -0.3359,  34.6556,2,  34.6563,2,    235.2,2,   123.89,2,    33.08,2,  -999.00,9,     2.27,2,    0.272,2,    0.131,2,    0.007,2,    0.691,2,   -999.0,9, -999.000,9, -999.000,-999.0000,9,-999.0000,  -999.00,9,  -999.00, -999.000,9, -999.000
  06AQ19960317,  S04a,    50,  1,      6,     19,2,19960417,   0,-63.0053,   0.0010, 5290,   3998.9,  -0.3756,  34.6537,2,  34.6551,2,    238.6,2,   125.07,2,    33.03,2,  -999.00,9,     2.27,2,    0.242,2,    0.116,2,    0.010,2,    0.665,2,   2249.9,2, -999.000,9, -999.000,-999.0000,9,-999.0000,  -999.00,9,  -999.00, -999.000,9, -999.000
  06AQ19960317,  S04a,    50,  1,      5,     20,2,19960417,   0,-63.0053,   0.0010, 5290,   4298.6,  -0.4058,  34.6519,2,  34.6514,2,    240.7,2,   123.98,2,    33.00,2,  -999.00,9,     2.27,2,    0.264,3,    0.145,2,    0.011,2,    0.732,2,   -999.0,9, -999.000,9, -999.000,-999.0000,9,-999.0000,  -999.00,9,  -999.00, -999.000,9, -999.000
  06AQ19960317,  S04a,    50,  1,      4,     21,2,19960417,   0,-63.0053,   0.0010, 5290,   4587.6,  -0.4419,  34.6498,2,  34.6500,2,    243.3,2,   120.77,2,    32.89,2,  -999.00,9,     2.26,2,    0.340,2,    0.162,2,    0.009,4,    0.844,4,   2251.9,2, -999.000,9, -999.000,-999.0000,9,-999.0000,  -999.00,9,  -999.00, -999.000,9, -999.000
  06AQ19960317,  S04a,    50,  1,      3,     22,2,19960417,   0,-63.0053,   0.0010, 5290,   4998.3,  -0.4481,  34.6473,2,  34.6468,2,    248.4,2,   119.28,2,    32.81,2,  -999.00,9,     2.25,2,    0.426,2,    0.205,2,    0.011,2,    0.966,2,   -999.0,9, -999.000,9, -999.000,-999.0000,9,-999.0000,  -999.00,9,  -999.00, -999.000,9, -999.000
  06AQ19960317,  S04a,    50,  1,      2,     23,2,19960417,   0,-63.0053,   0.0010, 5290,   5277.7,  -0.4265,  34.6472,2,  34.6468,2,    245.2,2,   120.59,2,    32.84,2,  -999.00,9,     2.25,2,    0.436,2,    0.213,2,    0.011,2,    0.989,2,   2248.5,2, -999.000,9, -999.000,-999.0000,9,-999.0000,  -999.00,9,  -999.00, -999.000,9, -999.000
  06AQ19960317,  S04a,    50,  1,      1,     24,2,19960417,   0,-63.0053,   0.0010, 5290,   5378.1,  -0.4154,  34.6472,2,  34.6465,2,    245.2,2,   120.68,2,    32.82,2,  -999.00,9,     2.25,2,    0.440,2,    0.215,2,    0.011,2,    1.021,2,   -999.0,9, -999.000,9, -999.000,-999.0000,9,-999.0000,  -999.00,9,  -999.00, -999.000,9, -999.000
  06AQ19960317,  S04a,    51,  1,     24,      1,2,19960417,   0,-63.5007,  -0.0032, 5224,     21.5,  -0.2998,  34.0555,2,  34.0638,2,    329.0,2,    52.27,2,    23.33,2,  -999.00,9,     1.72,2,    6.256,2,    3.112,2,    0.485,2,    8.339,2,   2165.4,2, -999.000,9, -999.000,-999.0000,9,-999.0000,  -999.00,9,  -999.00, -999.000,9, -999.000
  06AQ19960317,  S04a,    51,  1,     23,      2,2,19960417,   0,-63.5007,  -0.0032, 5224,     40.9,  -0.3004,  34.0550,2,  34.0630,2,    329.3,2,    52.31,2,    23.42,2,  -999.00,9,     1.74,2, -999.000,9, -999.000,9, -999.000,9, -999.000,9,   2167.3,2, -999.000,9, -999.000,-999.0000,9,-999.0000,  -999.00,9,  -999.00, -999.000,9, -999.000
  06AQ19960317,  S04a,    51,  1,     22,      3,2,19960417,   0,-63.5007,  -0.0032, 5224,     80.8,  -1.5924,  34.2329,2,  34.2316,2,    312.9,2,    61.94,2,    28.71,2,  -999.00,9,     2.05,2,    5.805,2,    2.859,2,    0.471,2,    7.393,2,   2208.1,2, -999.000,9, -999.000,-999.0000,9,-999.0000,  -999.00,9,  -999.00, -999.000,9, -999.000
  06AQ19960317,  S04a,    51,  1,     21,      4,2,19960417,   0,-63.5007,  -0.0032, 5224,     99.9,  -1.4566,  34.3094,2,  34.3194,2,    292.7,2,    68.21,2,    30.49,2,  -999.00,9,     2.13,2, -999.000,9, -999.000,9, -999.000,9, -999.000,9,   2218.2,2, -999.000,9, -999.000,-999.0000,9,-999.0000,  -999.00,9,  -999.00, -999.000,9, -999.000
  06AQ19960317,  S04a,    51,  1,     20,      5,2,19960417,   0,-63.5007,  -0.0032, 5224,     99.9,  -1.4258,  34.3182,2,  34.3221,2,   -999.0,9,    68.39,2,    30.57,2,  -999.00,9,     2.13,2, -999.000,9, -999.000,9, -999.000,9, -999.000,9,   -999.0,9, -999.000,9, -999.000,-999.0000,9,-999.0000,  -999.00,9,  -999.00, -999.000,9, -999.000
  06AQ19960317,  S04a,    51,  1,     19,      6,2,19960417,   0,-63.5007,  -0.0032, 5224,    151.2,   0.4836,  34.5973,2,  34.5883,2,    203.5,2,    93.88,2,    33.81,2,  -999.00,9,     2.32,2,    1.618,2,    0.771,2,    0.115,2,    2.095,2,   2256.5,2, -999.000,9, -999.000,-999.0000,9,-999.0000,  -999.00,9,  -999.00, -999.000,9, -999.000
  06AQ19960317,  S04a,    51,  1,     18,      7,2,19960417,   0,-63.5007,  -0.0032, 5224,    180.3,   0.7104,  34.6396,2,  34.6409,2,    195.1,2,    99.98,2,    34.27,2,  -999.00,9,     2.32,2,    1.035,2,    0.483,2,    0.073,2,    1.384,2,   2259.5,2, -999.000,9, -999.000,-999.0000,9,-999.0000,  -999.00,9,  -999.00, -999.000,9, -999.000
  06AQ19960317,  S04a,    51,  1,     17,      8,2,19960417,   0,-63.5007,  -0.0032, 5224,    251.4,   0.8669,  34.6837,2,  34.6846,2,    191.1,2,   104.23,2,    33.79,2,  -999.00,9,     2.29,2,    0.545,2,    0.259,2,    0.034,2,    0.789,2,   2260.6,2, -999.000,9, -999.000,-999.0000,9,-999.0000,  -999.00,9,  -999.00, -999.000,9, -999.000
  06AQ19960317,  S04a,    51,  1,     16,      9,2,19960417,   0,-63.5007,  -0.0032, 5224,    321.3,   0.8099,  34.6922,2,  34.6923,2,    192.4,2,   107.36,2,    33.48,2,  -999.00,9,     2.29,2,    0.404,2,    0.189,2,    0.022,2,    0.631,2,   2261.9,2, -999.000,9, -999.000,-999.0000,9,-999.0000,  -999.00,9,  -999.00, -999.000,9, -999.000
  06AQ19960317,  S04a,    51,  1,     15,     10,2,19960417,   0,-63.5007,  -0.0032, 5224,    400.2,   0.6547,  34.6881,2,  34.6898,2,    193.1,2,   112.41,2,    33.76,2,  -999.00,9,     2.31,2,    0.363,2,    0.172,2,    0.021,2,    0.602,2,   2262.6,2, -999.000,9, -999.000,-999.0000,9,-999.0000,  -999.00,9,  -999.00, -999.000,9, -999.000
  06AQ19960317,  S04a,    51,  1,     14,     11,2,19960417,   0,-63.5007,  -0.0032, 5224,    503.0,   0.5175,  34.6866,2,  34.6910,2,    193.8,2,   117.51,2,    34.30,2,  -999.00,9,     2.34,2, -999.000,9, -999.000,9, -999.000,9, -999.000,9,   2264.7,2, -999.000,9, -999.000,-999.0000,9,-999.0000,  -999.00,9,  -999.00, -999.000,9, -999.000
  06AQ19960317,  S04a,    51,  1,     13,     12,2,19960417,   0,-63.5007,  -0.0032, 5224,    751.4,   0.3714,  34.6830,2,  34.6851,2,    195.0,2,   122.40,2,    34.63,2,  -999.00,9,     2.35,2, -999.000,9, -999.000,9, -999.000,9, -999.000,9,   2267.0,2, -999.000,9, -999.000,-999.0000,9,-999.0000,  -999.00,9,  -999.00, -999.000,9, -999.000
  06AQ19960317,  S04a,    51,  1,     12,     13,2,19960417,   0,-63.5007,  -0.0032, 5224,   1002.7,   0.2510,  34.6787,2,  34.6809,2,    199.4,2,   124.94,2,    34.41,2,  -999.00,9,     2.35,2, -999.000,9, -999.000,9, -999.000,9, -999.000,9,   2266.9,2, -999.000,9, -999.000,-999.0000,9,-999.0000,  -999.00,9,  -999.00, -999.000,9, -999.000
  06AQ19960317,  S04a,    51,  1,     11,     14,2,19960417,   0,-63.5007,  -0.0032, 5224,   1501.9,   0.0545,  34.6713,2,  34.6725,2,    210.7,2,   126.67,2,    34.06,2,  -999.00,9,     2.33,2, -999.000,9, -999.000,9, -999.000,9, -999.000,9,   2261.2,2, -999.000,9, -999.000,-999.0000,9,-999.0000,  -999.00,9,  -999.00, -999.000,9, -999.000
  06AQ19960317,  S04a,    51,  1,     10,     15,2,19960417,   0,-63.5007,  -0.0032, 5224,   2001.0,  -0.0988,  34.6646,2,  34.6660,2,    220.9,2,   126.34,2,    33.92,2,  -999.00,9,     2.30,2,    0.202,2,    0.096,2,    0.006,2,    0.523,2,   2257.5,2, -999.000,9, -999.000,-999.0000,9,-999.0000,  -999.00,9,  -999.00, -999.000,9, -999.000
  06AQ19960317,  S04a,    51,  1,      9,     16,2,19960417,   0,-63.5007,  -0.0032, 5224,   2503.0,  -0.2158,  34.6601,2,  34.6615,2,    227.9,2,   125.25,2,    33.57,2,  -999.00,9,     2.29,2, -999.000,9, -999.000,9, -999.000,9, -999.000,9,   2255.9,2, -999.000,9, -999.000,-999.0000,9,-999.0000,  -999.00,9,  -999.00, -999.000,9, -999.000
  06AQ19960317,  S04a,    51,  1,      8,     17,2,19960417,   0,-63.5007,  -0.0032, 5224,   3001.4,  -0.2788,  34.6577,2,  34.6591,2,    234.1,2,   124.84,2,    33.12,2,  -999.00,9,     2.28,2, -999.000,9, -999.000,9, -999.000,9, -999.000,9,   2254.9,2, -999.000,9, -999.000,-999.0000,9,-999.0000,  -999.00,9,  -999.00, -999.000,9, -999.000
  06AQ19960317,  S04a,    51,  1,      7,     18,2,19960417,   0,-63.5007,  -0.0032, 5224,   3502.4,  -0.3259,  34.6558,2,  34.6560,2,    236.3,2,   124.42,2,    33.35,2,  -999.00,9,     2.26,2,    0.298,2,    0.146,2,    0.010,2,    0.722,2,   2252.7,2, -999.000,9, -999.000,-999.0000,9,-999.0000,  -999.00,9,  -999.00, -999.000,9, -999.000
  06AQ19960317,  S04a,    51,  1,      6,     19,2,19960417,   0,-63.5007,  -0.0032, 5224,   3999.8,  -0.3604,  34.6542,2,  34.6553,2,    239.9,2,   126.03,2,    33.22,2,  -999.00,9,     2.25,2, -999.000,9, -999.000,9, -999.000,9, -999.000,9,   2250.5,2, -999.000,9, -999.000,-999.0000,9,-999.0000,  -999.00,9,  -999.00, -999.000,9, -999.000
  06AQ19960317,  S04a,    51,  1,      5,     20,2,19960417,   0,-63.5007,  -0.0032, 5224,   4300.7,  -0.3911,  34.6527,2,  34.6528,2,    241.4,2,   123.44,2,    33.19,2,  -999.00,9,     2.25,2, -999.000,9, -999.000,9, -999.000,9, -999.000,9,   2250.7,2, -999.000,9, -999.000,-999.0000,9,-999.0000,  -999.00,9,  -999.00, -999.000,9, -999.000
  06AQ19960317,  S04a,    51,  1,      4,     21,2,19960417,   0,-63.5007,  -0.0032, 5224,   4597.0,  -0.4545,  34.6491,2,  34.6496,2,    245.4,2,   120.45,2,    32.88,2,  -999.00,9,     2.25,2,    0.359,2,    0.173,2,    0.010,2,    0.874,2,   2249.0,2, -999.000,9, -999.000,-999.0000,9,-999.0000,  -999.00,9,  -999.00, -999.000,9, -999.000
  06AQ19960317,  S04a,    51,  1,      3,     22,2,19960417,   0,-63.5007,  -0.0032, 5224,   5000.8,  -0.4550,  34.6472,2,-999.0000,9,   -999.0,9,  -999.00,9,  -999.00,9,  -999.00,9,  -999.00,9, -999.000,9, -999.000,9, -999.000,9, -999.000,9,   -999.0,9, -999.000,9, -999.000,-999.0000,9,-999.0000,  -999.00,9,  -999.00, -999.000,9, -999.000
  06AQ19960317,  S04a,    51,  1,      2,     23,2,19960417,   0,-63.5007,  -0.0032, 5224,   5218.1,  -0.4371,  34.6468,2,  34.6462,2,    245.6,2,   120.92,2,    32.96,2,  -999.00,9,     2.24,2,    0.423,2,    0.205,2,    0.012,2,    0.979,2,   2248.5,2, -999.000,9, -999.000,-999.0000,9,-999.0000,  -999.00,9,  -999.00, -999.000,9, -999.000
  06AQ19960317,  S04a,    51,  1,      1,     24,2,19960417,   0,-63.5007,  -0.0032, 5224,   5320.3,  -0.4249,  34.6472,2,  34.6498,2,    244.2,2,   121.31,2,    33.07,2,  -999.00,9,     2.24,2,    0.424,2,    0.207,2,    0.012,2,    1.009,2,   2247.7,2, -999.000,9, -999.000,-999.0000,9,-999.0000,  -999.00,9,  -999.00, -999.000,9, -999.000