BOTTLE,20150129PRINUNIVRMK
EXPOCODE,SECT_ID,STNNBR,CASTNO,SAMPNO,BTLNBR,BTLNBR_FLAG_W,DATE,TIME,LATITUDE,LONGITUDE,DEPTH,CTDPRS,CTDTMP,CTDSAL,CTDSAL_FLAG_W,SALNTY,SALNTY_FLAG_W,OXYGEN,OXYGEN_FLAG_W,SILCAT,SILCAT_FLAG_W,NITRAT,NITRAT_FLAG_W,NITRIT,NITRIT_FLAG_W,PHSPHT,PHSPHT_FLAG_W,CFC-11,CFC-11_FLAG_W,CFC-12,CFC-12_FLAG_W,CFC113,CFC113_FLAG_W,CCL4,CCL4_FLAG_W,TCARBN,TCARBN_FLAG_W,TRITUM,TRITUM_FLAG_W,TRITER,HELIUM,HELIUM_FLAG_W,HELIER,DELHE3,DELHE3_FLAG_W,DELHER,NEON,NEON_FLAG_W,NEONER
,,,,,,,,,,,METERS,DBAR,ITS-90,PSS-78,,PSS-78,,UMOL/KG,,UMOL/KG,,UMOL/KG,,UMOL/KG,,UMOL/KG,,PMOL/KG,,PMOL/KG,,PMOL/KG,,PMOL/KG,,UMOL/KG,,TU,,TU,NMOL/KG,,NMOL/KG,PERCNT,,PERCNT,NMOL/KG,,NMOL/KG
  06AQ19960317,  S04a,    91,  1,     23,      1,2,19960503,   0,-65.1973, -39.5497, 4778,     20.7,  -1.8697,  34.1176,2,  34.1173,2,    343.5,2,    57.25,2,    25.07,2,     0.16,2,     1.75,2,    6.468,2,    3.125,2,    0.556,2,    8.800,2,   2183.0,2, -999.000,9, -999.000,-999.0000,9,-999.0000,  -999.00,9,  -999.00, -999.000,9, -999.000
  06AQ19960317,  S04a,    91,  1,     22,      2,2,19960503,   0,-65.1973, -39.5497, 4778,     40.4,  -1.8712,  34.1172,2,  34.1118,2,    341.8,2,    57.26,2,    25.11,2,     0.17,2,     1.75,2,    6.473,2,    2.942,2,    0.496,2,    8.822,2,   2181.9,2, -999.000,9, -999.000,-999.0000,9,-999.0000,  -999.00,9,  -999.00, -999.000,9, -999.000
  06AQ19960317,  S04a,    91,  1,     21,      3,2,19960503,   0,-65.1973, -39.5497, 4778,     80.8,  -1.7798,  34.2979,2,  34.3673,2,   -999.0,9,    71.23,2,    28.24,2,     0.12,2,     2.00,2,    5.335,2,    2.417,2,    0.405,2,    6.494,2,   2216.8,2, -999.000,9, -999.000,-999.0000,9,-999.0000,  -999.00,9,  -999.00, -999.000,9, -999.000
  06AQ19960317,  S04a,    91,  1,     20,      4,2,19960503,   0,-65.1973, -39.5497, 4778,     80.8,  -1.7757,  34.3257,2,  34.3638,2,    305.3,2,    71.24,2,    28.18,2,     0.11,2,     2.00,2, -999.000,9, -999.000,9, -999.000,9, -999.000,9,   -999.0,9, -999.000,9, -999.000,-999.0000,9,-999.0000,  -999.00,9,  -999.00, -999.000,9, -999.000
  06AQ19960317,  S04a,    91,  1,     19,      5,2,19960503,   0,-65.1973, -39.5497, 4778,    100.8,  -1.6870,  34.4166,2,  34.4042,2,    296.8,2,    73.23,2,    29.06,2,     0.09,2,     2.02,2,    4.950,2,    2.178,2,    0.365,2,    6.102,2,   2222.6,2, -999.000,9, -999.000,-999.0000,9,-999.0000,  -999.00,9,  -999.00, -999.000,9, -999.000
  06AQ19960317,  S04a,    91,  1,     18,      6,2,19960503,   0,-65.1973, -39.5497, 4778,    151.2,  -0.9206,  34.5127,2,  34.5068,2,    252.4,2,    85.65,2,    31.49,2,     0.07,2,     2.17,2,    3.451,2,    1.606,2,    0.261,2,    4.085,2,   2243.0,2, -999.000,9, -999.000,-999.0000,9,-999.0000,  -999.00,9,  -999.00, -999.000,9, -999.000
  06AQ19960317,  S04a,    91,  1,     17,      7,2,19960503,   0,-65.1973, -39.5497, 4778,    250.8,   0.4608,  34.6773,2,  34.6747,2,    187.4,2,   113.22,2,    34.52,2,     0.02,2,     2.38,2,    0.446,2,    0.206,2,    0.021,2,    0.714,2,   2271.4,2, -999.000,9, -999.000,-999.0000,9,-999.0000,  -999.00,9,  -999.00, -999.000,9, -999.000
  06AQ19960317,  S04a,    91,  1,     16,      8,2,19960503,   0,-65.1973, -39.5497, 4778,    301.2,   0.4595,  34.6804,2,  34.6785,2,    186.7,2,   115.47,2,    34.70,2,     0.02,2,     2.38,2,    0.353,2,    0.165,2,    0.017,2,    0.622,2,   2274.1,2, -999.000,9, -999.000,-999.0000,9,-999.0000,  -999.00,9,  -999.00, -999.000,9, -999.000
  06AQ19960317,  S04a,    91,  1,     15,      9,2,19960503,   0,-65.1973, -39.5497, 4778,    371.1,   0.4368,  34.6838,2,  34.6795,2,    186.9,2,   118.29,2,    34.78,2,     0.03,2,     2.38,2,    0.252,2,    0.113,2,    0.008,2,    0.499,2,   2273.3,2, -999.000,9, -999.000,-999.0000,9,-999.0000,  -999.00,9,  -999.00, -999.000,9, -999.000
  06AQ19960317,  S04a,    91,  1,     14,     10,2,19960503,   0,-65.1973, -39.5497, 4778,    421.1,   0.4213,  34.6846,2,-999.0000,9,    187.7,2,   120.08,2,    34.77,2,     0.02,2,     2.38,2,    0.192,2,    0.090,2,    0.007,2,    0.431,2,   2274.0,2, -999.000,9, -999.000,-999.0000,9,-999.0000,  -999.00,9,  -999.00, -999.000,9, -999.000
  06AQ19960317,  S04a,    91,  1,     13,     11,2,19960503,   0,-65.1973, -39.5497, 4778,    501.1,   0.3843,  34.6819,2,  34.6833,2,    188.9,2,   122.20,2,    34.76,2,     0.02,2,     2.38,2,    0.152,2,    0.074,2,    0.006,2,    0.375,2,   2274.0,2, -999.000,9, -999.000,-999.0000,9,-999.0000,  -999.00,9,  -999.00, -999.000,9, -999.000
  06AQ19960317,  S04a,    91,  1,     12,     12,2,19960503,   0,-65.1973, -39.5497, 4778,    751.0,   0.2571,  34.6788,2,  34.6784,2,    194.3,2,   125.06,2,    34.63,2,     0.01,2,     2.37,2,    0.103,2,    0.052,2,    0.002,2,    0.312,2,   2272.2,2, -999.000,9, -999.000,-999.0000,9,-999.0000,  -999.00,9,  -999.00, -999.000,9, -999.000
  06AQ19960317,  S04a,    91,  1,     11,     13,2,19960503,   0,-65.1973, -39.5497, 4778,   1001.4,   0.1505,  34.6747,2,  34.6753,2,    202.3,2,   125.37,2,    34.17,2,     0.01,2,     2.35,2,    0.098,2,    0.049,2,    0.003,2,    0.309,2,   2268.7,2, -999.000,9, -999.000,-999.0000,9,-999.0000,  -999.00,9,  -999.00, -999.000,9, -999.000
  06AQ19960317,  S04a,    91,  1,     10,     14,2,19960503,   0,-65.1973, -39.5497, 4778,   1501.2,  -0.0292,  34.6667,2,  34.6682,2,    214.7,2,   125.53,2,    33.70,2,     0.01,2,     2.33,2,    0.113,2,    0.064,2,    0.004,2,    0.362,2,   2263.2,2, -999.000,9, -999.000,-999.0000,9,-999.0000,  -999.00,9,  -999.00, -999.000,9, -999.000
  06AQ19960317,  S04a,    91,  1,      9,     15,2,19960503,   0,-65.1973, -39.5497, 4778,   2001.2,  -0.1681,  34.6616,2,  34.6617,2,    224.3,2,   125.03,2,    33.44,2,     0.01,2,     2.31,2,    0.144,2,    0.073,2,    0.003,2,    0.469,2,   2258.4,2, -999.000,9, -999.000,-999.0000,9,-999.0000,  -999.00,9,  -999.00, -999.000,9, -999.000
  06AQ19960317,  S04a,    91,  1,      8,     16,2,19960503,   0,-65.1973, -39.5497, 4778,   2501.1,  -0.2531,  34.6576,2,  34.6590,2,    229.5,2,   124.38,2,    33.27,2,     0.01,2,     2.29,2, -999.000,9, -999.000,9, -999.000,9, -999.000,9,   2256.7,2, -999.000,9, -999.000,-999.0000,9,-999.0000,  -999.00,9,  -999.00, -999.000,9, -999.000
  06AQ19960317,  S04a,    91,  1,      7,     17,2,19960503,   0,-65.1973, -39.5497, 4778,   3000.4,  -0.3114,  34.6559,2,  34.6565,2,    234.4,2,   123.40,2,    33.06,2,     0.02,2,     2.26,2,    0.163,2,    0.077,2,    0.005,2,    0.550,2,   2253.0,2, -999.000,9, -999.000,-999.0000,9,-999.0000,  -999.00,9,  -999.00, -999.000,9, -999.000
  06AQ19960317,  S04a,    91,  1,      6,     18,2,19960503,   0,-65.1973, -39.5497, 4778,   3500.2,  -0.3601,  34.6541,2,-999.0000,9,   -999.0,9,  -999.00,9,  -999.00,9,  -999.00,9,  -999.00,9, -999.000,9, -999.000,9, -999.000,9, -999.000,9,   -999.0,9, -999.000,9, -999.000,-999.0000,9,-999.0000,  -999.00,9,  -999.00, -999.000,9, -999.000
  06AQ19960317,  S04a,    91,  1,      5,     19,2,19960503,   0,-65.1973, -39.5497, 4778,   3999.4,  -0.4054,  34.6520,2,  34.6493,2,    241.9,2,   122.85,2,    32.85,2,     0.01,2,     2.26,2,    0.223,2,    0.100,2,    0.007,2,    0.662,2,   2251.6,2, -999.000,9, -999.000,-999.0000,9,-999.0000,  -999.00,9,  -999.00, -999.000,9, -999.000
  06AQ19960317,  S04a,    91,  1,      4,     20,2,19960503,   0,-65.1973, -39.5497, 4778,   4248.8,  -0.4541,  34.6485,2,  34.6473,2,    245.9,2,   118.77,2,    32.91,2,     0.03,2,     2.22,2,    0.384,2,    0.171,2,    0.014,2,    0.855,2,   2250.5,2, -999.000,9, -999.000,   1.8920,2,   0.0050,     4.37,2,     0.22,    8.254,2,    0.018
  06AQ19960317,  S04a,    91,  1,      3,     21,2,19960503,   0,-65.1973, -39.5497, 4778,   4498.9,  -0.5027,  34.6459,2,-999.0000,9,    247.5,2,   116.21,2,    32.68,2,     0.01,2,     2.25,2,    0.459,2,    0.214,2,    0.014,2,    0.995,2,   2249.3,2,    0.153,2, -999.000,   1.9130,2,   0.0050,     4.37,2,     0.22,    8.313,2,    0.019
  06AQ19960317,  S04a,    91,  1,      2,     22,2,19960503,   0,-65.1973, -39.5497, 4778,   4713.5,  -0.5339,  34.6437,2,  34.6411,2,    248.7,2,   117.81,2,    32.83,2,     0.01,2,     2.25,2,    0.683,2,    0.318,2,    0.021,2,    1.173,2,   2249.8,2,    0.060,2, -999.000,   1.8980,2,   0.0050,     4.26,2,     0.22,    8.325,2,    0.019
  06AQ19960317,  S04a,    91,  1,      1,     23,2,19960503,   0,-65.1973, -39.5497, 4778,   4774.5,  -0.5346,  34.6408,2,  34.6405,2,    249.1,2,   117.60,2,    32.80,2,     0.01,2,     2.26,2,    0.697,2,    0.315,2,    0.021,2,    1.171,2,   2251.7,2,    0.061,2, -999.000,   1.9000,2,   0.0050,     4.28,2,     0.22,    8.312,2,    0.019
  06AQ19960317,  S04a,    91,  1,     24,     24,2,19960503,   0,-65.1973, -39.5497, 4778,   4823.3,  -0.5330,  34.6412,2,  34.6404,2,    249.2,2,   116.70,2,    32.79,2,     0.02,2,     2.24,2,    0.747,2,    0.339,2,    0.017,2,    1.197,2,   2252.0,2,    0.050,2, -999.000,   1.8970,2,   0.0050,     4.34,2,     0.22,    8.288,2,    0.018
  06AQ19960317,  S04a,    92,  1,     23,      1,2,19960504,   0,-65.0123, -41.0617, 4745,     20.6,  -1.8706,  34.0755,2,  34.0758,2,    343.6,2,    59.95,2,    25.34,2,     0.17,2,     1.76,2,    6.590,2,    3.183,2,    0.545,2,    8.735,2,   2183.0,2, -999.000,9, -999.000,-999.0000,9,-999.0000,  -999.00,9,  -999.00, -999.000,9, -999.000
  06AQ19960317,  S04a,    92,  1,     22,      2,2,19960504,   0,-65.0123, -41.0617, 4745,     40.9,  -1.8701,  34.0764,2,  34.0699,2,    344.0,2,    59.84,2,    25.29,2,     0.17,2,     1.75,2, -999.000,9, -999.000,9, -999.000,9, -999.000,9,   2181.8,2, -999.000,9, -999.000,-999.0000,9,-999.0000,  -999.00,9,  -999.00, -999.000,9, -999.000
  06AQ19960317,  S04a,    92,  1,     21,      3,2,19960504,   0,-65.0123, -41.0617, 4745,     78.6,  -1.8643,  34.0889,2,  34.3284,2,    311.0,2,    70.72,2,    28.00,2,     0.12,2,     1.96,2, -999.000,9, -999.000,9, -999.000,9, -999.000,9,   2213.0,2, -999.000,9, -999.000,-999.0000,9,-999.0000,  -999.00,9,  -999.00, -999.000,9, -999.000
  06AQ19960317,  S04a,    92,  1,     20,      4,2,19960504,   0,-65.0123, -41.0617, 4745,     79.8,  -1.8009,  34.3131,2,-999.0000,9,   -999.0,9,    71.34,2,    28.14,2,     0.12,2,     2.00,2, -999.000,9, -999.000,9, -999.000,9, -999.000,9,   -999.0,9, -999.000,9, -999.000,-999.0000,9,-999.0000,  -999.00,9,  -999.00, -999.000,9, -999.000
  06AQ19960317,  S04a,    92,  1,     19,      5,2,19960504,   0,-65.0123, -41.0617, 4745,    100.2,  -1.7657,  34.3978,2,  34.4017,2,    299.2,2,    73.76,2,    29.18,2,     0.08,2,     2.03,2,    5.077,2,    2.389,2,    0.398,2,    6.016,2,   2222.8,2, -999.000,9, -999.000,-999.0000,9,-999.0000,  -999.00,9,  -999.00, -999.000,9, -999.000
  06AQ19960317,  S04a,    92,  1,     18,      6,2,19960504,   0,-65.0123, -41.0617, 4745,    151.7,  -0.8920,  34.5202,2,  34.5380,2,    239.3,2,    91.26,2,    32.39,2,     0.05,2,     2.21,2, -999.000,9, -999.000,9, -999.000,9, -999.000,9,   2249.7,2, -999.000,9, -999.000,-999.0000,9,-999.0000,  -999.00,9,  -999.00, -999.000,9, -999.000
  06AQ19960317,  S04a,    92,  1,     17,      7,2,19960504,   0,-65.0123, -41.0617, 4745,    201.0,   0.0436,  34.6372,2,  34.6447,2,    194.3,2,   108.70,2,    34.55,2,     0.04,2,     2.33,2,    0.899,2,    0.422,2,    0.053,2,    1.173,2,   2269.4,2, -999.000,9, -999.000,-999.0000,9,-999.0000,  -999.00,9,  -999.00, -999.000,9, -999.000
  06AQ19960317,  S04a,    92,  1,     16,      8,2,19960504,   0,-65.0123, -41.0617, 4745,    250.9,   0.3920,  34.6780,2,  34.6628,2,    186.2,2,   114.37,2,    34.94,2,     0.03,2,     2.38,2, -999.000,9, -999.000,9, -999.000,9, -999.000,9,   2273.6,2, -999.000,9, -999.000,-999.0000,9,-999.0000,  -999.00,9,  -999.00, -999.000,9, -999.000
  06AQ19960317,  S04a,    92,  1,     15,      9,2,19960504,   0,-65.0123, -41.0617, 4745,    295.0,   0.4137,  34.6807,2,  34.6798,2,    184.6,2,   116.95,2,    35.06,2,     0.03,2,     2.39,2,    0.324,2,    0.156,2,    0.012,2,    0.581,2,   2274.8,2, -999.000,9, -999.000,-999.0000,9,-999.0000,  -999.00,9,  -999.00, -999.000,9, -999.000
  06AQ19960317,  S04a,    92,  1,     14,     10,2,19960504,   0,-65.0123, -41.0617, 4745,    401.9,   0.4058,  34.6831,2,  34.6840,2,    185.0,2,   120.57,2,    35.07,2,     0.02,2,     2.39,2, -999.000,9, -999.000,9, -999.000,9, -999.000,9,   2276.5,2, -999.000,9, -999.000,-999.0000,9,-999.0000,  -999.00,9,  -999.00, -999.000,9, -999.000
  06AQ19960317,  S04a,    92,  1,     13,     11,2,19960504,   0,-65.0123, -41.0617, 4745,    501.7,   0.3505,  34.6818,2,  34.6831,2,    188.1,2,   123.41,2,    35.13,2,     0.01,2,     2.40,2,    0.124,2,    0.062,2,    0.004,2,    0.341,2,   2274.7,2, -999.000,9, -999.000,-999.0000,9,-999.0000,  -999.00,9,  -999.00, -999.000,9, -999.000
  06AQ19960317,  S04a,    92,  1,     12,     12,2,19960504,   0,-65.0123, -41.0617, 4745,    749.6,   0.2332,  34.6786,2,  34.6792,2,    194.7,2,   125.03,2,    34.58,2,     0.01,2,     2.37,2, -999.000,9, -999.000,9, -999.000,9, -999.000,9,   2271.2,2, -999.000,9, -999.000,-999.0000,9,-999.0000,  -999.00,9,  -999.00, -999.000,9, -999.000
  06AQ19960317,  S04a,    92,  1,     11,     13,2,19960504,   0,-65.0123, -41.0617, 4745,   1001.5,   0.1286,  34.6740,2,  34.6752,2,    202.9,2,   125.28,2,    34.14,2,     0.00,2,     2.35,2,    0.092,2,    0.049,2,    0.003,2,    0.310,2,   2267.0,2, -999.000,9, -999.000,-999.0000,9,-999.0000,  -999.00,9,  -999.00, -999.000,9, -999.000
  06AQ19960317,  S04a,    92,  1,     10,     14,2,19960504,   0,-65.0123, -41.0617, 4745,   1501.5,  -0.0528,  34.6658,2,  34.6682,2,    215.4,2,   125.53,2,    33.71,2,     0.01,2,     2.32,2, -999.000,9, -999.000,9, -999.000,9, -999.000,9,   2261.8,2, -999.000,9, -999.000,-999.0000,9,-999.0000,  -999.00,9,  -999.00, -999.000,9, -999.000
  06AQ19960317,  S04a,    92,  1,      9,     15,2,19960504,   0,-65.0123, -41.0617, 4745,   2001.4,  -0.1826,  34.6607,2,  34.6639,2,    225.2,2,   125.26,2,    33.58,2,     0.02,2,     2.32,2,    0.148,2,    0.075,2,    0.003,2,    0.487,2,   2258.0,2, -999.000,9, -999.000,-999.0000,9,-999.0000,  -999.00,9,  -999.00, -999.000,9, -999.000
  06AQ19960317,  S04a,    92,  1,      8,     16,2,19960504,   0,-65.0123, -41.0617, 4745,   2502.2,  -0.2628,  34.6580,2,  34.6599,2,    230.4,2,   123.60,2,    33.22,2,     0.01,2,     2.28,2, -999.000,9, -999.000,9, -999.000,9, -999.000,9,   2254.3,2, -999.000,9, -999.000,-999.0000,9,-999.0000,  -999.00,9,  -999.00, -999.000,9, -999.000
  06AQ19960317,  S04a,    92,  1,      7,     17,2,19960504,   0,-65.0123, -41.0617, 4745,   3000.8,  -0.3171,  34.6565,2,  34.6573,2,    234.2,2,   123.05,2,    33.06,2,     0.01,2,     2.28,2,    0.161,2,    0.089,2,    0.004,2,    0.535,2,   2252.1,2, -999.000,9, -999.000,-999.0000,9,-999.0000,  -999.00,9,  -999.00, -999.000,9, -999.000
  06AQ19960317,  S04a,    92,  1,      6,     18,2,19960504,   0,-65.0123, -41.0617, 4745,   3501.0,  -0.3677,  34.6544,2,  34.6548,2,    238.2,2,   123.18,2,    32.99,2,     0.00,2,     2.28,2, -999.000,9, -999.000,9, -999.000,9, -999.000,9,   2251.1,2, -999.000,9, -999.000,-999.0000,9,-999.0000,  -999.00,9,  -999.00, -999.000,9, -999.000
  06AQ19960317,  S04a,    92,  1,      5,     19,2,19960504,   0,-65.0123, -41.0617, 4745,   3973.5,  -0.4194,  34.6524,2,  34.6526,2,    242.7,2,   121.64,2,    32.81,2,     0.00,2,     2.27,2,    0.273,2,    0.138,2,    0.008,2,    0.727,2,   2250.2,2, -999.000,9, -999.000,-999.0000,9,-999.0000,  -999.00,9,  -999.00, -999.000,9, -999.000
  06AQ19960317,  S04a,    92,  1,      4,     20,2,19960504,   0,-65.0123, -41.0617, 4745,   4249.2,  -0.4836,  34.6475,2,  34.6462,2,    246.2,2,   116.80,2,    32.78,2,     0.01,2,     2.27,2,    0.446,2,    0.201,2,    0.014,2,    0.945,2,   2248.1,2, -999.000,9, -999.000,-999.0000,9,-999.0000,  -999.00,9,  -999.00, -999.000,9, -999.000
  06AQ19960317,  S04a,    92,  1,      3,     21,2,19960504,   0,-65.0123, -41.0617, 4745,   4498.9,  -0.5257,  34.6442,2,-999.0000,9,    249.0,2,   115.57,2,    32.92,2,     0.01,2,     2.26,2,    0.591,2,    0.292,3,    0.019,2,    1.097,2,   2247.3,2, -999.000,9, -999.000,-999.0000,9,-999.0000,  -999.00,9,  -999.00, -999.000,9, -999.000
  06AQ19960317,  S04a,    92,  1,      2,     22,2,19960504,   0,-65.0123, -41.0617, 4745,   4711.7,  -0.5385,  34.6424,2,  34.6412,2,    249.2,2,   116.59,2,    32.87,2,     0.00,2,     2.26,2,    0.655,2,    0.313,2,    0.021,2,    1.164,2,   2249.9,2, -999.000,9, -999.000,-999.0000,9,-999.0000,  -999.00,9,  -999.00, -999.000,9, -999.000
  06AQ19960317,  S04a,    92,  1,      1,     23,2,19960504,   0,-65.0123, -41.0617, 4745,   4762.3,  -0.5425,  34.6414,2,  34.6401,2,    249.8,2,   116.19,2,    32.84,2,     0.01,2,     2.25,2,    0.726,2,    0.339,2,    0.024,2,    1.213,2,   2250.5,2, -999.000,9, -999.000,-999.0000,9,-999.0000,  -999.00,9,  -999.00, -999.000,9, -999.000
  06AQ19960317,  S04a,    92,  1,     24,     24,2,19960504,   0,-65.0123, -41.0617, 4745,   4812.5,  -0.5407,  34.6414,2,  34.6401,2,    250.1,2,   115.20,2,    32.73,2,     0.00,2,     2.26,2,    0.867,2,    0.419,2,    0.025,2,    1.300,2,   2249.4,2, -999.000,9, -999.000,-999.0000,9,-999.0000,  -999.00,9,  -999.00, -999.000,9, -999.000