BOTTLE,20150129PRINUNIVRMK
# 6/13/2001 Initialized README file for WOCE leg S4A 
# Data source: CCHDO 6/13/01; 1/7/02; 2/20/07 
# SHIP: Polarstern 
# Cruise: ANTXIII_4; SR04_a 
# Region: Weddell Sea 
# EXPOCODE:06AQ19960317 
# DATES: 3/17-5/20/1996 
# Chief Scientist: E. Fahrbach 
# 102 full depth stations;  with 24 place Rosette 
# Hydro: Who - ?; Status - final 
# Nutrients: Who - K.Bakker;M.Hoppema; Status - final 
# 	Notes: K.Bakker via S.van Heuven provided long term calibrated  
# 		nutrients Jan. 2015 
# O2: Who - K.Bakker;M.Hoppema; Status - final 
# 	Notes:  
# TCO2: Who - Hoppema; Status - final 
# 	Notes: Data from Huss 1/3/02 and in 1/7/02 
# 	CRM used for calibration 
# fCO2: Who - M. Hoppema;  
# 	Notes: underway only 
# CFC: Who - A. Watson; Status - final 
# 	Notes: data from WHP 1/10/02 
# 	Includes CCl4  
# H-3/He-3: Who - C. Ruth; Status - final 
# 	Notes: data from Roether 2/20/07 
# 	Helium and Delta He-3 
# 	H-3 listed as collected, but no results 
# References: 
# Hoppema,Mario, Karel Bakker, Steven M.A.C. van Heuven,Jan C. van Ooijen and Hein J.W. de Baar. 2015. Long-term (1996-2011) accurate nutrients along a repeat section through the Weddell Sea: distributions, trends and inter-annual variability, To be submitted to Marine Chemistry.  
EXPOCODE,SECT_ID,STNNBR,CASTNO,SAMPNO,BTLNBR,BTLNBR_FLAG_W,DATE,TIME,LATITUDE,LONGITUDE,DEPTH,CTDPRS,CTDTMP,CTDSAL,CTDSAL_FLAG_W,SALNTY,SALNTY_FLAG_W,OXYGEN,OXYGEN_FLAG_W,SILCAT,SILCAT_FLAG_W,NITRAT,NITRAT_FLAG_W,NITRIT,NITRIT_FLAG_W,PHSPHT,PHSPHT_FLAG_W,CFC-11,CFC-11_FLAG_W,CFC-12,CFC-12_FLAG_W,CFC113,CFC113_FLAG_W,CCL4,CCL4_FLAG_W,TCARBN,TCARBN_FLAG_W,TRITUM,TRITUM_FLAG_W,TRITER,HELIUM,HELIUM_FLAG_W,HELIER,DELHE3,DELHE3_FLAG_W,DELHER,NEON,NEON_FLAG_W,NEONER
,,,,,,,,,,,METERS,DBAR,ITS-90,PSS-78,,PSS-78,,UMOL/KG,,UMOL/KG,,UMOL/KG,,UMOL/KG,,UMOL/KG,,PMOL/KG,,PMOL/KG,,PMOL/KG,,PMOL/KG,,UMOL/KG,,TU,,TU,NMOL/KG,,NMOL/KG,PERCNT,,PERCNT,NMOL/KG,,NMOL/KG
  06AQ19960317,  S04a,     3,  1,     24,      1,2,19960323,   0,-53.9993,  38.9968, 3321,     21.5,   3.1845,  33.9033,2,  33.9067,2,    321.5,2,    17.56,2,    25.13,2,  -999.00,9,     1.77,2,    5.590,2,    2.800,2,    0.455,2,    7.683,2,   -999.0,9,    0.052,0, -999.000,   1.7830,2,   0.0050,    -1.78,2,     0.22,    7.881,2,    0.018
  06AQ19960317,  S04a,     3,  1,     23,      2,2,19960323,   0,-53.9993,  38.9968, 3321,     39.4,   3.1848,  33.9036,2,  33.9064,2,    321.7,2,    17.51,2,    25.18,2,  -999.00,9,     1.74,2, -999.000,9, -999.000,9, -999.000,9, -999.000,9,   -999.0,9, -999.000,9, -999.000,-999.0000,9,-999.0000,  -999.00,9,  -999.00, -999.000,9, -999.000
  06AQ19960317,  S04a,     3,  1,     22,      3,2,19960323,   0,-53.9993,  38.9968, 3321,     60.5,   3.1851,  33.9037,2,-999.0000,9,    321.5,2,    17.47,2,    25.25,2,  -999.00,9,     1.75,2,    5.402,2,    2.762,2,    0.439,2,    7.913,2,   -999.0,9,    0.151,0, -999.000,   1.7830,2,   0.0050,    -2.49,2,     0.22,    7.831,2,    0.017
  06AQ19960317,  S04a,     3,  1,     21,      4,2,19960323,   0,-53.9993,  38.9968, 3321,    101.3,   3.1521,  33.9073,2,  33.9121,2,   -999.0,9,    17.61,2,    25.52,2,  -999.00,9,     1.74,2, -999.000,9, -999.000,9, -999.000,9, -999.000,9,   -999.0,9, -999.000,9, -999.000,-999.0000,9,-999.0000,  -999.00,9,  -999.00, -999.000,9, -999.000
  06AQ19960317,  S04a,     3,  1,     20,      5,2,19960323,   0,-53.9993,  38.9968, 3321,    101.3,   3.1421,  33.9067,2,-999.0000,9,    321.1,2,    17.73,2,    25.39,2,  -999.00,9,     1.73,2,    5.585,2,    2.822,2,    0.421,2,    7.712,2,   -999.0,9,    0.224,0, -999.000,   1.8920,3,   0.0050,    -1.21,2,     0.22,    8.022,2,    0.018
  06AQ19960317,  S04a,     3,  1,     19,      6,2,19960323,   0,-53.9993,  38.9968, 3321,    154.8,   1.2071,  34.0124,2,  34.0139,2,    324.7,2,    33.91,2,    28.44,2,  -999.00,9,     2.01,2,    6.055,2,    3.007,2,    0.465,2,    7.963,2,   -999.0,9, -999.000,9, -999.000,-999.0000,9,-999.0000,  -999.00,9,  -999.00, -999.000,9, -999.000
  06AQ19960317,  S04a,     3,  1,     17,      8,2,19960323,   0,-53.9993,  38.9968, 3321,    221.6,   0.9784,  34.1251,2,-999.0000,9,   -999.0,9,  -999.00,9,  -999.00,9,  -999.00,9,  -999.00,9, -999.000,9, -999.000,9, -999.000,9, -999.000,9,   -999.0,9, -999.000,9, -999.000,-999.0000,9,-999.0000,  -999.00,9,  -999.00, -999.000,9, -999.000
  06AQ19960317,  S04a,     3,  1,     16,      9,2,19960323,   0,-53.9993,  38.9968, 3321,    221.8,   0.9799,  34.1306,2,-999.0000,9,   -999.0,9,  -999.00,9,  -999.00,9,  -999.00,9,  -999.00,9, -999.000,9, -999.000,9, -999.000,9, -999.000,9,   -999.0,9, -999.000,9, -999.000,-999.0000,9,-999.0000,  -999.00,9,  -999.00, -999.000,9, -999.000
  06AQ19960317,  S04a,     3,  1,     18,      7,2,19960323,   0,-53.9993,  38.9968, 3321,    222.0,   0.9792,  34.1246,2,  34.1294,2,    290.8,2,    45.72,2,    32.54,2,  -999.00,9,     2.20,2,    4.804,2,    2.347,2,    0.353,2,    6.389,2,   -999.0,9,    0.149,0, -999.000,   1.8240,2,   0.0050,     0.13,2,     0.22,    8.021,2,    0.018
  06AQ19960317,  S04a,     3,  1,     15,     10,2,19960323,   0,-53.9993,  38.9968, 3321,    304.5,   1.6102,  34.2945,2,  34.2955,2,    229.1,2,    57.84,2,    35.24,2,  -999.00,9,     2.39,2,    2.686,2,    1.297,2,    0.184,2,    3.618,2,   -999.0,9,    0.137,0, -999.000,   1.8150,2,   0.0050,     3.50,2,     0.22,    7.988,2,    0.018
  06AQ19960317,  S04a,     3,  1,     14,     11,2,19960323,   0,-53.9993,  38.9968, 3321,    407.7,   1.9653,  34.4423,2,  34.4411,2,    191.6,2,    69.01,2,    36.30,2,  -999.00,9,     2.51,2,    1.381,6,    0.675,6,    0.084,6,    1.911,6,   -999.0,9,    0.067,0, -999.000,   1.8160,6,   0.0050,     6.74,6,     0.22,    7.914,6,    0.018
  06AQ19960317,  S04a,     3,  1,     13,     12,2,19960323,   0,-53.9993,  38.9968, 3321,    506.4,   2.0467,  34.5290,2,  34.5288,2,    179.8,2,    75.04,2,    36.53,2,  -999.00,9,     2.49,2,    0.830,2,    0.396,2,    0.052,2,    1.215,2,   -999.0,9,    0.149,0, -999.000,   1.8460,2,   0.0050,     7.51,2,     0.22,    8.038,2,    0.018
  06AQ19960317,  S04a,     3,  1,     12,     13,2,19960323,   0,-53.9993,  38.9968, 3321,    768.3,   2.1372,  34.6563,2,  34.6580,2,    178.1,2,    80.92,2,    34.46,2,  -999.00,9,     2.34,2,    0.324,2,    0.152,2,    0.022,2,    0.535,2,   -999.0,9,    0.036,0, -999.000,   1.8590,3,   0.0140,     9.27,3,     0.22,    7.997,3,    0.058
  06AQ19960317,  S04a,     3,  1,     10,     15,2,19960323,   0,-53.9993,  38.9968, 3321,    768.3,   2.1368,  34.6571,2,-999.0000,9,   -999.0,9,    80.90,2,    34.43,2,  -999.00,9,     2.35,2, -999.000,9, -999.000,9, -999.000,9, -999.000,9,   -999.0,9, -999.000,9, -999.000,-999.0000,9,-999.0000,  -999.00,9,  -999.00, -999.000,9, -999.000
  06AQ19960317,  S04a,     3,  1,     11,     14,2,19960323,   0,-53.9993,  38.9968, 3321,    768.4,   2.1368,  34.6563,2,-999.0000,9,   -999.0,9,    80.38,2,    34.22,2,  -999.00,9,     2.33,2, -999.000,9, -999.000,9, -999.000,9, -999.000,9,   -999.0,9, -999.000,9, -999.000,-999.0000,9,-999.0000,  -999.00,9,  -999.00, -999.000,9, -999.000
  06AQ19960317,  S04a,     3,  1,      9,     16,2,19960323,   0,-53.9993,  38.9968, 3321,   1011.9,   2.0855,  34.7159,2,  34.7167,2,    187.2,2,    81.47,2,    32.75,2,  -999.00,9,     2.22,2,    0.195,2,    0.088,2,    0.020,2,    0.324,2,   -999.0,9,    0.055,0, -999.000,   1.8490,2,   0.0050,     9.72,2,     0.22,    7.980,2,    0.018
  06AQ19960317,  S04a,     3,  1,      8,     17,2,19960323,   0,-53.9993,  38.9968, 3321,   1366.7,   1.8186,  34.7538,2,  34.7546,2,    210.1,2,    85.57,2,    31.20,2,  -999.00,9,     2.13,2,    0.123,2,    0.056,2,    0.011,2,    0.225,2,   -999.0,9,    0.129,0, -999.000,   1.8400,2,   0.0050,     9.16,2,     0.22,    8.020,2,    0.018
  06AQ19960317,  S04a,     3,  1,      7,     18,2,19960323,   0,-53.9993,  38.9968, 3321,   2028.9,   1.1236,  34.7261,2,  34.7260,2,   -999.0,9,   106.13,2,    32.46,2,  -999.00,9,     2.22,2,    0.143,2,    0.066,2,    0.009,2,    0.266,2,   -999.0,9,    0.079,0, -999.000,   1.8690,3,   0.0140,     8.89,3,     0.22,    8.053,3,    0.058
  06AQ19960317,  S04a,     3,  1,      6,     19,2,19960323,   0,-53.9993,  38.9968, 3321,   2504.2,   0.6535,  34.7005,2,-999.0000,9,    213.6,2,   120.95,2,    33.81,2,  -999.00,9,     2.31,2,    0.140,2,    0.067,2,    0.008,2,    0.312,2,   -999.0,9,    0.019,0, -999.000,   1.8570,2,   0.0050,     8.17,2,     0.22,    8.079,2,    0.018
  06AQ19960317,  S04a,     3,  1,      5,     20,2,19960323,   0,-53.9993,  38.9968, 3321,   3242.6,   0.1488,  34.6766,2,-999.0000,9,    223.1,2,   138.20,2,    34.26,2,  -999.00,9,     2.34,2,    0.148,2,    0.080,2,    0.000,2,    0.406,2,   -999.0,9,    0.029,0, -999.000,   1.8770,2,   0.0050,     7.20,2,     0.22,    8.169,2,    0.018
  06AQ19960317,  S04a,     3,  1,      4,     21,2,19960323,   0,-53.9993,  38.9968, 3321,   3242.7,   0.1494,  34.6763,2,-999.0000,9,   -999.0,9,   138.35,2,    34.15,2,  -999.00,9,     2.36,2, -999.000,9, -999.000,9, -999.000,9, -999.000,9,   -999.0,9, -999.000,9, -999.000,-999.0000,9,-999.0000,  -999.00,9,  -999.00, -999.000,9, -999.000
  06AQ19960317,  S04a,     3,  1,      2,     23,2,19960323,   0,-53.9993,  38.9968, 3321,   3340.4,   0.1387,  34.6762,2,-999.0000,9,   -999.0,9,   138.81,2,    34.24,2,  -999.00,9,     2.36,2, -999.000,9, -999.000,9, -999.000,9, -999.000,9,   -999.0,9, -999.000,9, -999.000,-999.0000,9,-999.0000,  -999.00,9,  -999.00, -999.000,9, -999.000
  06AQ19960317,  S04a,     3,  1,      1,     24,2,19960323,   0,-53.9993,  38.9968, 3321,   3340.7,   0.1380,  34.6762,2,-999.0000,9,   -999.0,9,   139.52,2,    34.17,2,  -999.00,9,     2.41,2, -999.000,9, -999.000,9, -999.000,9, -999.000,9,   -999.0,9, -999.000,9, -999.000,-999.0000,9,-999.0000,  -999.00,9,  -999.00, -999.000,9, -999.000
  06AQ19960317,  S04a,     3,  1,      3,     22,2,19960323,   0,-53.9993,  38.9968, 3321,   3340.8,   0.1393,  34.6765,2,-999.0000,9,    223.1,2,   138.75,2,    34.26,2,  -999.00,9,     2.34,2,    0.144,2,    0.072,2,    0.003,2,    0.409,2,   -999.0,9, -999.000,9, -999.000,   1.8780,2,   0.0050,     7.24,2,     0.22,    8.227,2,    0.018
  06AQ19960317,  S04a,     4,  1,     35,      2,2,19960323,   0,-54.0015,  38.7837, 3576,     20.0,   3.4354,  33.8602,2,  33.8613,2,    319.6,2,    16.81,2,    24.13,2,  -999.00,9,     1.65,2,    5.356,2,    2.748,2,    0.385,2,    7.714,2,   2138.0,2,    0.057,0, -999.000,   1.7870,2,   0.0050,    -1.86,2,     0.22,    7.860,2,    0.018
  06AQ19960317,  S04a,     4,  1,     36,      1,2,19960323,   0,-54.0015,  38.7837, 3576,     20.1,   3.4346,  33.8599,2,  33.8620,2,   -999.0,9,    16.64,2,    23.85,2,  -999.00,9,     1.67,2, -999.000,9, -999.000,9, -999.000,9, -999.000,9,   -999.0,9, -999.000,9, -999.000,-999.0000,9,-999.0000,  -999.00,9,  -999.00, -999.000,9, -999.000
  06AQ19960317,  S04a,     4,  1,     34,      3,2,19960323,   0,-54.0015,  38.7837, 3576,     41.7,   3.4327,  33.8597,2,  33.8617,2,    320.1,2,    16.58,2,    23.98,2,  -999.00,9,     1.65,2, -999.000,9, -999.000,9, -999.000,9, -999.000,9,   2137.6,2, -999.000,9, -999.000,-999.0000,9,-999.0000,  -999.00,9,  -999.00, -999.000,9, -999.000
  06AQ19960317,  S04a,     4,  1,     33,      4,2,19960323,   0,-54.0015,  38.7837, 3576,     61.3,   3.4318,  33.8599,2,  33.8609,2,   -999.0,9,    16.62,2,    23.88,2,  -999.00,9,     1.66,2, -999.000,9, -999.000,9, -999.000,9, -999.000,9,   2135.2,2, -999.000,9, -999.000,-999.0000,9,-999.0000,  -999.00,9,  -999.00, -999.000,9, -999.000
  06AQ19960317,  S04a,     4,  1,     32,      5,2,19960323,   0,-54.0015,  38.7837, 3576,     80.3,   3.4323,  33.8595,2,  33.8621,2,    320.5,2,    16.59,2,    24.02,2,  -999.00,9,     1.68,2, -999.000,9, -999.000,9, -999.000,9, -999.000,9,   2138.8,2, -999.000,9, -999.000,-999.0000,9,-999.0000,  -999.00,9,  -999.00, -999.000,9, -999.000
  06AQ19960317,  S04a,     4,  1,     30,      7,2,19960323,   0,-54.0015,  38.7837, 3576,     99.4,   3.3223,  33.8704,2,  33.8803,2,   -999.0,9,    18.60,2,    24.33,2,  -999.00,9,     1.75,2, -999.000,9, -999.000,9, -999.000,9, -999.000,9,   -999.0,9, -999.000,9, -999.000,-999.0000,9,-999.0000,  -999.00,9,  -999.00, -999.000,9, -999.000
  06AQ19960317,  S04a,     4,  1,     31,      6,2,19960323,   0,-54.0015,  38.7837, 3576,     99.6,   3.3279,  33.8697,2,  33.8753,2,    320.0,2,    18.04,2,    24.30,2,  -999.00,9,     1.71,2,    5.525,2,    2.832,2,    0.392,2,    7.776,2,   2138.0,2,    0.182,0, -999.000,   1.7870,2,   0.0050,    -1.54,2,     0.22,    7.822,2,    0.017
  06AQ19960317,  S04a,     4,  1,     29,      8,2,19960323,   0,-54.0015,  38.7837, 3576,    150.4,   1.3250,  34.0010,2,  34.0067,2,    324.5,2,    32.26,2,    27.61,2,  -999.00,9,     1.97,2, -999.000,9, -999.000,9, -999.000,9, -999.000,9,   2165.8,2, -999.000,9, -999.000,-999.0000,9,-999.0000,  -999.00,9,  -999.00, -999.000,9, -999.000
  06AQ19960317,  S04a,     4,  1,     28,      9,2,19960323,   0,-54.0015,  38.7837, 3576,    198.5,   0.7517,  34.0609,2,  34.0611,2,   -999.0,9,    40.57,2,    29.98,2,  -999.00,9,     2.06,2, -999.000,9, -999.000,9, -999.000,9, -999.000,9,   -999.0,9, -999.000,9, -999.000,-999.0000,9,-999.0000,  -999.00,9,  -999.00, -999.000,9, -999.000
  06AQ19960317,  S04a,     4,  1,     25,     12,2,19960323,   0,-54.0015,  38.7837, 3576,    203.6,   0.7962,  34.0731,2,-999.0000,9,   -999.0,9,    41.23,2,    30.38,2,  -999.00,9,     2.11,2, -999.000,9, -999.000,9, -999.000,9, -999.000,9,   -999.0,9, -999.000,9, -999.000,-999.0000,9,-999.0000,  -999.00,9,  -999.00, -999.000,9, -999.000
  06AQ19960317,  S04a,     4,  1,     27,     10,2,19960323,   0,-54.0015,  38.7837, 3576,    204.0,   0.8208,  34.0748,2,  34.0742,2,    308.2,2,    41.69,2,    30.37,2,  -999.00,9,     2.07,2,    5.365,2,    2.684,2,    0.403,2,    7.358,2,   2181.5,2,    0.141,0, -999.000,   1.7980,2,   0.0050,    -0.86,2,     0.22,    7.979,2,    0.018
  06AQ19960317,  S04a,     4,  1,     26,     11,2,19960323,   0,-54.0015,  38.7837, 3576,    204.2,   0.8032,  34.0733,2,-999.0000,9,   -999.0,9,    41.08,2,    30.32,2,  -999.00,9,     2.07,2, -999.000,9, -999.000,9, -999.000,9, -999.000,9,   -999.0,9, -999.000,9, -999.000,-999.0000,9,-999.0000,  -999.00,9,  -999.00, -999.000,9, -999.000
  06AQ19960317,  S04a,     4,  1,     24,     13,2,19960323,   0,-54.0015,  38.7837, 3576,    302.2,   1.3309,  34.2498,2,  34.2521,2,    245.4,2,    54.37,2,    33.67,2,  -999.00,9,     2.31,2, -999.000,9, -999.000,9, -999.000,9, -999.000,9,   2213.0,2, -999.000,9, -999.000,-999.0000,9,-999.0000,  -999.00,9,  -999.00, -999.000,9, -999.000
  06AQ19960317,  S04a,     4,  1,     23,     14,2,19960323,   0,-54.0015,  38.7837, 3576,    401.7,   1.9988,  34.4281,2,  34.4286,2,    192.2,2,    66.42,2,    35.45,2,  -999.00,9,     2.43,2,    1.419,2,    0.670,2,    0.063,2,    2.026,2,   2238.1,2,    0.114,0, -999.000,   1.8190,2,   0.0050,     6.30,2,     0.22,    7.928,2,    0.018
  06AQ19960317,  S04a,     4,  1,     22,     15,2,19960323,   0,-54.0015,  38.7837, 3576,    502.1,   2.1493,  34.5289,2,  34.5280,2,   -999.0,9,    71.87,2,    35.22,2,  -999.00,9,     2.46,2, -999.000,9, -999.000,9, -999.000,9, -999.000,9,   2247.5,2, -999.000,9, -999.000,-999.0000,9,-999.0000,  -999.00,9,  -999.00, -999.000,9, -999.000
  06AQ19960317,  S04a,     4,  1,     21,     16,2,19960323,   0,-54.0015,  38.7837, 3576,    754.2,   2.1551,  34.6481,2,  34.6479,2,    177.4,2,    78.44,2,    33.70,2,  -999.00,9,     2.32,2, -999.000,9, -999.000,9, -999.000,9, -999.000,9,   2248.8,2, -999.000,9, -999.000,-999.0000,9,-999.0000,  -999.00,9,  -999.00, -999.000,9, -999.000
  06AQ19960317,  S04a,     4,  1,     20,     17,2,19960323,   0,-54.0015,  38.7837, 3576,    872.7,   2.1986,  34.6930,2,  34.6945,2,    182.4,2,    77.66,2,    32.60,2,  -999.00,9,     2.25,2,    0.206,2,    0.098,2,    0.004,2,    0.374,2,   2245.8,2,    0.040,0, -999.000,   1.8410,2,   0.0050,     9.46,2,     0.22,    7.943,2,    0.018
  06AQ19960317,  S04a,     4,  1,     19,     18,2,19960323,   0,-54.0015,  38.7837, 3576,   1003.9,   2.1227,  34.7141,2,  34.7166,2,    186.7,2,    79.19,2,    31.94,2,  -999.00,9,     2.20,2, -999.000,9, -999.000,9, -999.000,9, -999.000,9,   2246.5,2, -999.000,9, -999.000,-999.0000,9,-999.0000,  -999.00,9,  -999.00, -999.000,9, -999.000
  06AQ19960317,  S04a,     4,  1,     18,     19,2,19960323,   0,-54.0015,  38.7837, 3576,   1502.7,   1.7377,  34.7521,2,  34.7538,2,    200.9,2,    85.44,2,    30.66,2,  -999.00,9,     2.10,2,    0.127,2,    0.057,2,    0.000,2,    0.228,2,   2239.5,2,    0.075,0, -999.000,   1.8450,2,   0.0050,     9.00,2,     0.22,    8.000,2,    0.018
  06AQ19960317,  S04a,     4,  1,     17,     20,2,19960323,   0,-54.0015,  38.7837, 3576,   2004.0,   1.1840,  34.7286,2,  34.7284,2,    204.8,2,   102.23,2,    31.81,2,  -999.00,9,     2.18,2, -999.000,9, -999.000,9, -999.000,9, -999.000,9,   2248.2,2, -999.000,9, -999.000,-999.0000,9,-999.0000,  -999.00,9,  -999.00, -999.000,9, -999.000
  06AQ19960317,  S04a,     4,  1,     16,     21,2,19960323,   0,-54.0015,  38.7837, 3576,   2503.8,   0.7550,  34.7055,2,-999.0000,9,   -999.0,9,  -999.00,9,  -999.00,9,  -999.00,9,  -999.00,9, -999.000,9, -999.000,9, -999.000,9, -999.000,9,   -999.0,9, -999.000,9, -999.000,-999.0000,9,-999.0000,  -999.00,9,  -999.00, -999.000,9, -999.000
  06AQ19960317,  S04a,     4,  1,     15,     22,2,19960323,   0,-54.0015,  38.7837, 3576,   3001.5,   0.3007,  34.6828,2,  34.6826,2,    218.6,2,   126.23,2,    33.25,2,  -999.00,9,     2.30,2,    0.147,2,    0.070,2,   -0.002,2,    0.407,2,   2256.5,2,    0.028,0, -999.000,-999.0000,9,-999.0000,  -999.00,9,  -999.00, -999.000,9, -999.000
  06AQ19960317,  S04a,     4,  1,     14,     23,2,19960323,   0,-54.0015,  38.7837, 3576,   3459.4,   0.1286,  34.6756,2,  34.6752,2,    224.2,2,   135.89,2,    33.35,2,  -999.00,9,     2.30,2,    0.139,2,    0.067,2,   -0.002,2,    0.427,2,   2257.2,2, -999.000,9, -999.000,-999.0000,9,-999.0000,  -999.00,9,  -999.00, -999.000,9, -999.000
  06AQ19960317,  S04a,     4,  1,     13,     24,2,19960323,   0,-54.0015,  38.7837, 3576,   3559.0,   0.1297,  34.6753,2,  34.6740,2,    223.9,2,   135.85,2,    33.46,2,  -999.00,9,     2.31,2, -999.000,9, -999.000,9, -999.000,9, -999.000,9,   2256.0,2,    0.018,0, -999.000,   1.8680,2,   0.0050,     6.86,2,     0.22,    8.152,2,    0.018