BOTTLE,20150129PRINUNIVRMK
EXPOCODE,SECT_ID,STNNBR,CASTNO,SAMPNO,BTLNBR,BTLNBR_FLAG_W,DATE,TIME,LATITUDE,LONGITUDE,DEPTH,CTDPRS,CTDTMP,CTDSAL,CTDSAL_FLAG_W,SALNTY,SALNTY_FLAG_W,OXYGEN,OXYGEN_FLAG_W,SILCAT,SILCAT_FLAG_W,NITRAT,NITRAT_FLAG_W,NITRIT,NITRIT_FLAG_W,PHSPHT,PHSPHT_FLAG_W,CFC-11,CFC-11_FLAG_W,CFC-12,CFC-12_FLAG_W,CFC113,CFC113_FLAG_W,CCL4,CCL4_FLAG_W,TCARBN,TCARBN_FLAG_W,TRITUM,TRITUM_FLAG_W,TRITER,HELIUM,HELIUM_FLAG_W,HELIER,DELHE3,DELHE3_FLAG_W,DELHER,NEON,NEON_FLAG_W,NEONER
,,,,,,,,,,,METERS,DBAR,ITS-90,PSS-78,,PSS-78,,UMOL/KG,,UMOL/KG,,UMOL/KG,,UMOL/KG,,UMOL/KG,,PMOL/KG,,PMOL/KG,,PMOL/KG,,PMOL/KG,,UMOL/KG,,TU,,TU,NMOL/KG,,NMOL/KG,PERCNT,,PERCNT,NMOL/KG,,NMOL/KG
  06AQ19960317,  S04a,    94,  3,     23,      1,2,19960505,   0,-64.6238, -44.1678, 4598,    502.0,   0.3880,  34.6857,2,  34.6845,2,    190.2,2,   122.29,2,    34.79,2,     0.01,2,     2.35,2,    0.146,2,    0.073,2,    0.005,2,    0.391,2,   2270.5,2, -999.000,9, -999.000,-999.0000,9,-999.0000,  -999.00,9,  -999.00, -999.000,9, -999.000
  06AQ19960317,  S04a,    94,  3,     22,      2,2,19960505,   0,-64.6238, -44.1678, 4598,    752.1,   0.2580,  34.6813,2,  34.6796,2,    195.1,2,   124.77,2,    34.71,2,     0.01,2,     2.32,2,    0.103,2,    0.054,2,    0.004,2,    0.327,2,   2269.2,2, -999.000,9, -999.000,-999.0000,9,-999.0000,  -999.00,9,  -999.00, -999.000,9, -999.000
  06AQ19960317,  S04a,    94,  3,     21,      3,2,19960505,   0,-64.6238, -44.1678, 4598,    999.7,   0.1430,  34.6770,2,  34.6751,2,    202.8,2,   125.29,2,    34.29,2,     0.01,2,     2.32,2,    0.097,2,    0.050,2,    0.004,2,    0.315,2,   2265.9,2, -999.000,9, -999.000,-999.0000,9,-999.0000,  -999.00,9,  -999.00, -999.000,9, -999.000
  06AQ19960317,  S04a,    94,  3,     20,      4,2,19960505,   0,-64.6238, -44.1678, 4598,   1002.1,   0.1430,  34.6770,2,-999.0000,9,   -999.0,9,   125.13,2,    34.26,2,     0.02,2,     2.31,2, -999.000,9, -999.000,9, -999.000,9, -999.000,9,   -999.0,9, -999.000,9, -999.000,-999.0000,9,-999.0000,  -999.00,9,  -999.00, -999.000,9, -999.000
  06AQ19960317,  S04a,    94,  3,     19,      5,2,19960505,   0,-64.6238, -44.1678, 4598,   1250.9,   0.0552,  34.6732,2,  34.6732,2,    210.0,2,   125.20,2,    33.60,2,     0.01,2,     2.30,2,    0.120,2,    0.075,2,    0.004,2,    0.346,2,   2262.6,2, -999.000,9, -999.000,-999.0000,9,-999.0000,  -999.00,9,  -999.00, -999.000,9, -999.000
  06AQ19960317,  S04a,    94,  3,     16,      8,2,19960505,   0,-64.6238, -44.1678, 4598,   1500.8,  -0.0323,  34.6689,2,-999.0000,9,   -999.0,9,   126.09,2,    33.98,2,     0.01,2,     2.31,2, -999.000,9, -999.000,9, -999.000,9, -999.000,9,   -999.0,9, -999.000,9, -999.000,-999.0000,9,-999.0000,  -999.00,9,  -999.00, -999.000,9, -999.000
  06AQ19960317,  S04a,    94,  3,     17,      7,2,19960505,   0,-64.6238, -44.1678, 4598,   1502.1,  -0.0328,  34.6684,2,-999.0000,9,   -999.0,9,   125.38,2,    34.02,2,     0.02,2,     2.30,2, -999.000,9, -999.000,9, -999.000,9, -999.000,9,   -999.0,9, -999.000,9, -999.000,-999.0000,9,-999.0000,  -999.00,9,  -999.00, -999.000,9, -999.000
  06AQ19960317,  S04a,    94,  3,     18,      6,2,19960505,   0,-64.6238, -44.1678, 4598,   1503.0,  -0.0327,  34.6686,2,  34.6695,2,    214.5,2,   125.31,2,    33.43,2,     0.00,2,     2.30,2,    0.108,2,    0.057,2,    0.003,2,    0.348,2,   2261.4,2, -999.000,9, -999.000,-999.0000,9,-999.0000,  -999.00,9,  -999.00, -999.000,9, -999.000
  06AQ19960317,  S04a,    94,  3,     15,      9,2,19960505,   0,-64.6238, -44.1678, 4598,   2001.4,  -0.1688,  34.6633,2,  34.6645,2,    224.8,2,   124.82,2,    33.62,2,     0.00,2,     2.29,2,    0.144,2,    0.076,2,    0.003,2,    0.466,2,   2256.1,2, -999.000,9, -999.000,-999.0000,9,-999.0000,  -999.00,9,  -999.00, -999.000,9, -999.000
  06AQ19960317,  S04a,    94,  3,     14,     10,2,19960505,   0,-64.6238, -44.1678, 4598,   2500.7,  -0.2574,  34.6597,2,-999.0000,9,    230.7,2,   124.06,2,    33.37,2,     0.00,2,     2.26,2,    0.174,2,    0.090,2,    0.005,2,    0.544,2,   2253.7,2, -999.000,9, -999.000,-999.0000,9,-999.0000,  -999.00,9,  -999.00, -999.000,9, -999.000
  06AQ19960317,  S04a,    94,  3,     11,     13,2,19960505,   0,-64.6238, -44.1678, 4598,   3001.3,  -0.3148,  34.6579,2,-999.0000,9,   -999.0,9,   123.13,2,    33.17,2,     0.00,2,     2.26,2, -999.000,9, -999.000,9, -999.000,9, -999.000,9,   -999.0,9, -999.000,9, -999.000,-999.0000,9,-999.0000,  -999.00,9,  -999.00, -999.000,9, -999.000
  06AQ19960317,  S04a,    94,  3,     12,     12,2,19960505,   0,-64.6238, -44.1678, 4598,   3002.5,  -0.3147,  34.6586,2,-999.0000,9,   -999.0,9,   122.87,2,    33.08,2,     0.00,2,     2.26,2, -999.000,9, -999.000,9, -999.000,9, -999.000,9,   -999.0,9, -999.000,9, -999.000,-999.0000,9,-999.0000,  -999.00,9,  -999.00, -999.000,9, -999.000
  06AQ19960317,  S04a,    94,  3,     13,     11,2,19960505,   0,-64.6238, -44.1678, 4598,   3003.3,  -0.3147,  34.6586,2,  34.6582,2,    233.8,2,   122.81,2,    33.11,2,     0.01,2,     2.26,2,    0.149,2,    0.083,2,    0.005,2,    0.518,2,   2250.5,2, -999.000,9, -999.000,-999.0000,9,-999.0000,  -999.00,9,  -999.00, -999.000,9, -999.000
  06AQ19960317,  S04a,    94,  3,     10,     14,2,19960505,   0,-64.6238, -44.1678, 4598,   3500.6,  -0.3649,  34.6556,2,  34.6568,2,    238.7,2,   123.47,2,    33.01,2,     0.01,2,     2.24,2,    0.202,2,    0.102,2,    0.007,2,    0.627,2,   2251.0,2, -999.000,9, -999.000,-999.0000,9,-999.0000,  -999.00,9,  -999.00, -999.000,9, -999.000
  06AQ19960317,  S04a,    94,  3,      9,     15,2,19960505,   0,-64.6238, -44.1678, 4598,   3999.9,  -0.3990,  34.6547,2,  34.6570,2,    241.3,2,   124.64,2,    32.94,2,     0.01,2,     2.24,2,    0.168,2,    0.088,2,    0.005,2,    0.607,2,   2248.2,2, -999.000,9, -999.000,-999.0000,9,-999.0000,  -999.00,9,  -999.00, -999.000,9, -999.000
  06AQ19960317,  S04a,    94,  3,      8,     16,2,19960505,   0,-64.6238, -44.1678, 4598,   4249.5,  -0.4570,  34.6514,2,  34.6493,2,    244.5,2,   118.83,2,    32.83,2,     0.00,2,     2.24,2,    0.309,2,    0.156,2,    0.008,2,    0.808,2,   2246.3,2, -999.000,9, -999.000,-999.0000,9,-999.0000,  -999.00,9,  -999.00, -999.000,9, -999.000
  06AQ19960317,  S04a,    94,  3,      7,     17,2,19960505,   0,-64.6238, -44.1678, 4598,   4495.6,  -0.5037,  34.6500,2,  34.6472,2,    245.2,2,   123.87,2,    32.99,2,     0.02,2,     2.25,2,    0.306,2,    0.151,2,    0.007,2,    0.794,2,   2245.5,2, -999.000,9, -999.000,-999.0000,9,-999.0000,  -999.00,9,  -999.00, -999.000,9, -999.000
  06AQ19960317,  S04a,    94,  3,      6,     18,2,19960505,   0,-64.6238, -44.1678, 4598,   4573.8,  -0.5259,  34.6473,2,  34.6454,2,    247.1,2,   118.97,2,    32.88,2,     0.01,2,     2.24,2,    0.494,2,    0.227,2,    0.015,2,    0.997,2,   2247.8,2, -999.000,9, -999.000,-999.0000,9,-999.0000,  -999.00,9,  -999.00, -999.000,9, -999.000
  06AQ19960317,  S04a,    94,  3,      5,     19,2,19960505,   0,-64.6238, -44.1678, 4598,   4573.9,  -0.5256,  34.6477,2,-999.0000,9,   -999.0,9,   119.47,2,    33.02,2,     0.01,2,     2.25,2, -999.000,9, -999.000,9, -999.000,9, -999.000,9,   -999.0,9, -999.000,9, -999.000,-999.0000,9,-999.0000,  -999.00,9,  -999.00, -999.000,9, -999.000
  06AQ19960317,  S04a,    94,  3,      4,     20,2,19960505,   0,-64.6238, -44.1678, 4598,   4574.0,  -0.5249,  34.6467,2,-999.0000,9,   -999.0,9,   119.72,2,    33.09,2,     0.01,2,     2.25,2, -999.000,9, -999.000,9, -999.000,9, -999.000,9,   -999.0,9, -999.000,9, -999.000,-999.0000,9,-999.0000,  -999.00,9,  -999.00, -999.000,9, -999.000
  06AQ19960317,  S04a,    94,  3,      3,     21,2,19960505,   0,-64.6238, -44.1678, 4598,   4624.9,  -0.5434,  34.6450,2,-999.0000,9,   -999.0,9,   116.62,2,    33.01,2,     0.02,2,     2.23,2,    0.788,6,    0.354,6,    0.030,2,    1.209,6,   -999.0,9, -999.000,9, -999.000,-999.0000,9,-999.0000,  -999.00,9,  -999.00, -999.000,9, -999.000
  06AQ19960317,  S04a,    94,  3,      2,     22,2,19960505,   0,-64.6238, -44.1678, 4598,   4673.9,  -0.6015,  34.6435,2,  34.6403,2,    255.6,2,   104.44,2,    32.46,2,     0.02,2,     2.26,2,    1.735,2,    0.822,2,    0.095,2,    1.840,2,   2245.2,2, -999.000,9, -999.000,-999.0000,9,-999.0000,  -999.00,9,  -999.00, -999.000,9, -999.000
  06AQ19960317,  S04a,    94,  3,      1,     23,2,19960505,   0,-64.6238, -44.1678, 4598,   4674.4,  -0.6008,  34.6434,2,-999.0000,9,   -999.0,9,   104.69,2,    32.46,2,     0.03,2,     2.21,2, -999.000,9, -999.000,9, -999.000,9, -999.000,9,   -999.0,9, -999.000,9, -999.000,-999.0000,9,-999.0000,  -999.00,9,  -999.00, -999.000,9, -999.000
  06AQ19960317,  S04a,    94,  3,     24,     24,2,19960505,   0,-64.6238, -44.1678, 4598,   4674.7,  -0.6005,  34.6426,2,-999.0000,9,   -999.0,9,   105.12,2,    32.51,2,     0.03,2,     2.21,2, -999.000,9, -999.000,9, -999.000,9, -999.000,9,   -999.0,9, -999.000,9, -999.000,-999.0000,9,-999.0000,  -999.00,9,  -999.00, -999.000,9, -999.000
  06AQ19960317,  S04a,    95,  1,     23,      1,2,19960505,   0,-64.4233, -45.8267, 4428,     19.2,  -1.8709,  34.1177,2,  34.1166,2,    330.8,2,    60.07,2,    25.45,2,     0.18,2,     1.77,2,    6.214,2,    3.030,2,    0.530,2,    8.273,2,   -999.0,9, -999.000,9, -999.000,   1.8190,2,   0.0050,    -1.03,2,     0.22,    8.122,2,    0.018
  06AQ19960317,  S04a,    95,  1,     22,      2,2,19960505,   0,-64.4233, -45.8267, 4428,     40.2,  -1.8700,  34.1177,2,  34.0997,2,    330.2,2,    60.04,2,    25.55,2,     0.16,2,     1.78,2,    6.180,2,    3.000,2,    0.519,2,    8.143,2,   -999.0,9, -999.000,9, -999.000,-999.0000,9,-999.0000,  -999.00,9,  -999.00, -999.000,9, -999.000
  06AQ19960317,  S04a,    95,  1,     21,      3,2,19960505,   0,-64.4233, -45.8267, 4428,     80.9,  -1.7010,  34.4086,2,  34.4101,2,    281.5,2,    73.14,2,    29.87,2,     0.11,2,     2.11,2, -999.000,9, -999.000,9, -999.000,9, -999.000,9,   -999.0,9, -999.000,9, -999.000,-999.0000,9,-999.0000,  -999.00,9,  -999.00, -999.000,9, -999.000
  06AQ19960317,  S04a,    95,  1,     20,      4,2,19960505,   0,-64.4233, -45.8267, 4428,     80.9,  -1.6959,  34.4178,2,-999.0000,9,   -999.0,9,    73.24,2,    30.16,2,     0.11,2,     2.12,2,    4.422,2,    2.107,2,    0.354,2,    5.320,2,   -999.0,9, -999.000,9, -999.000,   1.8510,6,   0.0050,     1.62,6,     0.22,    8.190,6,    0.018
  06AQ19960317,  S04a,    95,  1,     19,      5,2,19960505,   0,-64.4233, -45.8267, 4428,    101.2,  -1.4280,  34.4552,2,  34.4514,2,    267.1,2,    76.78,2,    30.82,2,     0.14,2,     2.16,2,    3.985,2,    1.911,2,    0.307,2,    4.766,2,   -999.0,9, -999.000,9, -999.000,-999.0000,9,-999.0000,  -999.00,9,  -999.00, -999.000,9, -999.000
  06AQ19960317,  S04a,    95,  1,     18,      6,2,19960505,   0,-64.4233, -45.8267, 4428,    149.2,   0.0792,  34.6111,2,  34.6197,2,    205.4,2,    96.00,2,    33.38,2,     0.06,2,     2.29,2,    1.552,2,    0.749,2,    0.105,2,    1.874,2,   -999.0,9, -999.000,9, -999.000,   1.8560,2,   0.0050,     6.99,2,     0.22,    8.071,2,    0.018
  06AQ19960317,  S04a,    95,  1,     17,      7,2,19960505,   0,-64.4233, -45.8267, 4428,    200.4,   0.6391,  34.6770,2,  34.6809,2,    189.7,2,   105.46,2,    33.72,2,     0.04,2,     2.34,2,    0.541,2,    0.248,2,    0.024,2,    0.789,2,   -999.0,9, -999.000,9, -999.000,   1.8530,2,   0.0050,     8.72,2,     0.22,    8.001,2,    0.018
  06AQ19960317,  S04a,    95,  1,     16,      8,2,19960505,   0,-64.4233, -45.8267, 4428,    269.2,   0.7653,  34.6927,2,  34.6926,2,    189.6,2,   107.96,2,    33.70,2,     0.03,2,     2.32,2,    0.360,2,    0.168,2,    0.015,2,    0.600,2,   -999.0,9, -999.000,9, -999.000,   1.8780,2,   0.0050,     8.59,2,     0.22,    8.154,2,    0.018
  06AQ19960317,  S04a,    95,  1,     15,      9,2,19960505,   0,-64.4233, -45.8267, 4428,    301.0,   0.7547,  34.6928,2,  34.6934,2,    189.7,2,   109.58,2,    33.60,2,     0.02,2,     2.33,2,    0.306,2,    0.133,2,    0.010,2,    0.538,2,   -999.0,9, -999.000,9, -999.000,-999.0000,9,-999.0000,  -999.00,9,  -999.00, -999.000,9, -999.000
  06AQ19960317,  S04a,    95,  1,     14,     10,2,19960505,   0,-64.4233, -45.8267, 4428,    350.6,   0.6989,  34.6927,2,  34.6930,2,    190.9,2,   111.66,2,    33.89,2,     0.02,2,     2.34,2,    0.275,2,    0.127,2,    0.010,2,    0.510,2,   -999.0,9, -999.000,9, -999.000,   1.8760,2,   0.0050,     9.28,2,     0.22,    8.539,4,    0.019
  06AQ19960317,  S04a,    95,  1,     13,     11,2,19960505,   0,-64.4233, -45.8267, 4428,    501.6,   0.5305,  34.6895,2,  34.6888,2,    194.4,2,   116.03,2,    34.04,2,     0.02,2,     2.34,2,    0.201,2,    0.092,2,    0.007,2,    0.428,2,   -999.0,9, -999.000,9, -999.000,   1.8680,2,   0.0050,     8.50,2,     0.22,    8.140,2,    0.018
  06AQ19960317,  S04a,    95,  1,     12,     12,2,19960505,   0,-64.4233, -45.8267, 4428,    601.2,   0.4524,  34.6864,2,  34.6870,2,    195.0,2,   118.08,2,    34.14,2,     0.02,2,     2.35,2,    0.174,2,    0.082,2,    0.004,2,    0.407,2,   -999.0,9, -999.000,9, -999.000,-999.0000,9,-999.0000,  -999.00,9,  -999.00, -999.000,9, -999.000
  06AQ19960317,  S04a,    95,  1,     11,     13,2,19960505,   0,-64.4233, -45.8267, 4428,    749.4,   0.3663,  34.6830,2,  34.6832,2,    196.7,2,   120.50,2,    34.23,2,     0.02,2,     2.36,2,    0.150,2,    0.071,2,    0.002,2,    0.370,2,   -999.0,9, -999.000,9, -999.000,   1.8930,2,   0.0050,     8.18,2,     0.22,    8.200,2,    0.018
  06AQ19960317,  S04a,    95,  1,     10,     14,2,19960505,   0,-64.4233, -45.8267, 4428,   1002.0,   0.2473,  34.6787,2,  34.6799,2,    200.5,2,   122.78,2,    34.13,2,     0.02,2,     2.35,2,    0.124,2,    0.059,2,    0.004,2,    0.355,2,   -999.0,9, -999.000,9, -999.000,   1.8780,2,   0.0050,     8.75,2,     0.22,    8.183,2,    0.018
  06AQ19960317,  S04a,    95,  1,      9,     15,2,19960505,   0,-64.4233, -45.8267, 4428,   1501.9,   0.0452,  34.6712,2,  34.6703,2,    212.1,2,   123.73,2,    33.86,2,     0.02,2,     2.33,2,    0.121,2,    0.062,2,    0.003,2,    0.376,2,   -999.0,9, -999.000,9, -999.000,-999.0000,9,-999.0000,  -999.00,9,  -999.00, -999.000,9, -999.000
  06AQ19960317,  S04a,    95,  1,      8,     16,2,19960505,   0,-64.4233, -45.8267, 4428,   2000.4,  -0.1077,  34.6641,2,  34.6647,2,    221.6,2,   124.04,2,    33.54,2,     0.02,2,     2.31,2,    0.143,2,    0.074,2,    0.000,2,    0.455,2,   -999.0,9, -999.000,9, -999.000,   1.8770,2,   0.0050,     6.28,2,     0.22,    8.244,2,    0.018
  06AQ19960317,  S04a,    95,  1,      7,     17,2,19960505,   0,-64.4233, -45.8267, 4428,   2500.8,  -0.2093,  34.6611,2,  34.6612,2,    228.3,2,   123.20,2,    33.45,2,     0.01,2,     2.30,2,    0.172,2,    0.082,2,    0.007,2,    0.530,2,   -999.0,9, -999.000,9, -999.000,-999.0000,9,-999.0000,  -999.00,9,  -999.00, -999.000,9, -999.000
  06AQ19960317,  S04a,    95,  1,      6,     18,2,19960505,   0,-64.4233, -45.8267, 4428,   3499.5,  -0.3182,  34.6567,2,  34.6554,2,    236.8,2,   122.95,2,    33.24,2,     0.02,2,     2.29,2,    0.238,2,    0.111,2,    0.006,2,    0.666,2,   -999.0,9, -999.000,9, -999.000,-999.0000,9,-999.0000,  -999.00,9,  -999.00, -999.000,9, -999.000
  06AQ19960317,  S04a,    95,  1,      5,     19,2,19960505,   0,-64.4233, -45.8267, 4428,   3998.9,  -0.3508,  34.6554,2,  34.6534,2,    239.5,2,   124.09,2,    32.66,2,     0.02,2,     2.28,2,    0.631,2,    0.295,2,    0.022,2,    0.953,2,   -999.0,9,    0.209,2, -999.000,   1.8930,2,   0.0050,     5.28,2,     0.22,    8.749,4,    0.020
  06AQ19960317,  S04a,    95,  1,      4,     20,2,19960505,   0,-64.4233, -45.8267, 4428,   4237.2,  -0.3734,  34.6548,2,  34.6537,2,    240.7,2,   125.76,2,    33.24,2,     0.02,2,     2.29,2,    0.640,2,    0.304,2,    0.031,2,    0.973,2,   -999.0,9,    0.095,2, -999.000,   1.9080,2,   0.0050,     5.35,2,     0.22,    8.316,4,    0.019
  06AQ19960317,  S04a,    95,  1,      3,     21,2,19960505,   0,-64.4233, -45.8267, 4428,   4386.3,  -0.4280,  34.6518,2,-999.0000,9,    243.0,2,   124.57,2,    32.97,2,     0.03,2,     2.28,2,    0.437,2,    0.205,2,    0.017,2,    0.807,2,   -999.0,9,    0.076,2, -999.000,   1.8810,2,   0.0050,     4.03,2,     0.22,    8.257,2,    0.018
  06AQ19960317,  S04a,    95,  1,      2,     22,2,19960505,   0,-64.4233, -45.8267, 4428,   4436.1,  -0.4810,  34.6503,2,  34.6475,2,    244.7,2,   123.13,2,    32.91,2,     0.03,2,     2.27,2,    0.243,2,    0.120,2,    0.010,2,    0.672,2,   -999.0,9,    0.087,2, -999.000,   1.8610,2,   0.0050,     4.09,2,     0.22,    8.132,2,    0.018
  06AQ19960317,  S04a,    95,  1,     24,     24,2,19960505,   0,-64.4233, -45.8267, 4428,   4485.4,  -0.5134,  34.6488,2,-999.0000,9,    247.2,2,   121.82,2,    32.93,2,     0.02,2,     2.27,2,    0.187,2,    0.094,2,    0.006,2,    0.627,2,   -999.0,9, -999.000,9, -999.000,-999.0000,9,-999.0000,  -999.00,9,  -999.00, -999.000,9, -999.000
  06AQ19960317,  S04a,    95,  1,      1,     23,2,19960505,   0,-64.4233, -45.8267, 4428,   4485.8,  -0.5134,  34.6483,2,  34.6466,2,    247.7,2,   120.47,2,    32.95,2,     0.02,2,     2.27,2,    0.161,4,    0.081,4,    0.005,2,    0.591,2,   -999.0,9,    0.089,2, -999.000,   1.8890,2,   0.0050,     3.83,2,     0.22,    8.290,2,    0.018