BOTTLE,20150129PRINUNIVRMK
EXPOCODE,SECT_ID,STNNBR,CASTNO,SAMPNO,BTLNBR,BTLNBR_FLAG_W,DATE,TIME,LATITUDE,LONGITUDE,DEPTH,CTDPRS,CTDTMP,CTDSAL,CTDSAL_FLAG_W,SALNTY,SALNTY_FLAG_W,OXYGEN,OXYGEN_FLAG_W,SILCAT,SILCAT_FLAG_W,NITRAT,NITRAT_FLAG_W,NITRIT,NITRIT_FLAG_W,PHSPHT,PHSPHT_FLAG_W,CFC-11,CFC-11_FLAG_W,CFC-12,CFC-12_FLAG_W,CFC113,CFC113_FLAG_W,CCL4,CCL4_FLAG_W,TCARBN,TCARBN_FLAG_W,TRITUM,TRITUM_FLAG_W,TRITER,HELIUM,HELIUM_FLAG_W,HELIER,DELHE3,DELHE3_FLAG_W,DELHER,NEON,NEON_FLAG_W,NEONER
,,,,,,,,,,,METERS,DBAR,ITS-90,PSS-78,,PSS-78,,UMOL/KG,,UMOL/KG,,UMOL/KG,,UMOL/KG,,UMOL/KG,,PMOL/KG,,PMOL/KG,,PMOL/KG,,PMOL/KG,,UMOL/KG,,TU,,TU,NMOL/KG,,NMOL/KG,PERCNT,,PERCNT,NMOL/KG,,NMOL/KG
  06AQ19960317,  S04a,    69,  1,     23,      1,2,19960425,   0,-70.9625, -11.7012,  777,     20.1,  -1.8645,  33.9993,2,  34.0014,2,    340.4,2,    53.69,2,    26.06,2,     0.17,2,     1.83,2,    5.805,2,    2.924,2,    0.477,2,    7.468,2,   2169.0,2,    0.100,2, -999.000,   1.8190,2,   0.0050,    -1.49,2,     0.22,    8.193,2,    0.018
  06AQ19960317,  S04a,    69,  1,     22,      2,2,19960425,   0,-70.9625, -11.7012,  777,     39.9,  -1.8631,  34.0007,2,  34.0017,2,    340.0,2,    53.76,2,    26.01,2,     0.17,2,     1.83,2, -999.000,9, -999.000,9, -999.000,9, -999.000,9,   2170.1,2, -999.000,9, -999.000,-999.0000,9,-999.0000,  -999.00,9,  -999.00, -999.000,9, -999.000
  06AQ19960317,  S04a,    69,  1,     21,      3,2,19960425,   0,-70.9625, -11.7012,  777,     39.9,  -1.8623,  34.0003,2,-999.0000,9,   -999.0,9,    53.87,2,    26.16,2,     0.17,2,     1.85,2, -999.000,9, -999.000,9, -999.000,9, -999.000,9,   -999.0,9, -999.000,9, -999.000,-999.0000,9,-999.0000,  -999.00,9,  -999.00, -999.000,9, -999.000
  06AQ19960317,  S04a,    69,  1,     20,      4,2,19960425,   0,-70.9625, -11.7012,  777,     39.9,  -1.8623,  33.9996,2,-999.0000,9,   -999.0,9,    53.91,2,    26.15,2,     0.17,2,     1.84,2, -999.000,9, -999.000,9, -999.000,9, -999.000,9,   -999.0,9, -999.000,9, -999.000,-999.0000,9,-999.0000,  -999.00,9,  -999.00, -999.000,9, -999.000
  06AQ19960317,  S04a,    69,  1,     19,      5,2,19960425,   0,-70.9625, -11.7012,  777,     60.1,  -1.8612,  34.0023,2,  34.0108,2,    338.7,2,    53.87,2,    26.11,2,     0.17,2,     1.85,2,    5.763,2,    2.907,2,    0.472,2,    7.402,2,   2170.9,2,    0.121,2, -999.000,   1.8210,2,   0.0050,    -1.42,2,     0.22,    8.204,2,    0.018
  06AQ19960317,  S04a,    69,  1,     18,      6,2,19960425,   0,-70.9625, -11.7012,  777,     80.0,  -1.8464,  34.0237,2,  34.0393,2,    336.2,2,    55.13,2,    26.71,2,     0.17,2,     1.89,2, -999.000,9, -999.000,9, -999.000,9, -999.000,9,   2175.4,2, -999.000,9, -999.000,-999.0000,9,-999.0000,  -999.00,9,  -999.00, -999.000,9, -999.000
  06AQ19960317,  S04a,    69,  1,     17,      7,2,19960425,   0,-70.9625, -11.7012,  777,    100.5,  -1.8215,  34.0690,2,  34.1002,2,    331.8,2,    55.92,2,    27.40,2,     0.17,2,     1.95,2,    5.781,2,    2.872,2,    0.501,2,    7.249,2,   2181.0,2, -999.000,9, -999.000,-999.0000,9,-999.0000,  -999.00,9,  -999.00, -999.000,9, -999.000
  06AQ19960317,  S04a,    69,  1,     16,      8,2,19960425,   0,-70.9625, -11.7012,  777,    179.9,  -1.7931,  34.1841,2,  34.1894,2,    335.5,2,    54.14,2,    27.09,2,     0.16,2,     1.94,2,    6.299,3,    3.114,3,    0.494,2,    7.562,2,   2187.5,2,    0.142,2, -999.000,   1.8090,2,   0.0050,    -1.60,2,     0.22,    8.132,2,    0.018
  06AQ19960317,  S04a,    69,  1,     15,      9,2,19960425,   0,-70.9625, -11.7012,  777,    179.9,  -1.7976,  34.1849,2,-999.0000,9,   -999.0,9,    54.52,2,    27.33,2,     0.18,2,     1.95,2, -999.000,9, -999.000,9, -999.000,9, -999.000,9,   -999.0,9, -999.000,9, -999.000,-999.0000,9,-999.0000,  -999.00,9,  -999.00, -999.000,9, -999.000
  06AQ19960317,  S04a,    69,  1,     14,     10,2,19960425,   0,-70.9625, -11.7012,  777,    179.9,  -1.7955,  34.1841,2,-999.0000,9,   -999.0,9,    54.27,2,    27.20,2,     0.17,2,     1.95,2, -999.000,9, -999.000,9, -999.000,9, -999.000,9,   -999.0,9, -999.000,9, -999.000,-999.0000,9,-999.0000,  -999.00,9,  -999.00, -999.000,9, -999.000
  06AQ19960317,  S04a,    69,  1,     13,     11,2,19960425,   0,-70.9625, -11.7012,  777,    200.3,  -1.7808,  34.2171,2,  34.2223,2,    319.9,2,    59.63,2,    29.19,2,     0.15,2,     2.07,2, -999.000,9, -999.000,9, -999.000,9, -999.000,9,   2196.6,2, -999.000,9, -999.000,-999.0000,9,-999.0000,  -999.00,9,  -999.00, -999.000,9, -999.000
  06AQ19960317,  S04a,    69,  1,     12,     12,2,19960425,   0,-70.9625, -11.7012,  777,    249.7,  -1.8459,  34.2788,2,  34.2807,2,    311.5,2,    63.77,2,    30.83,2,     0.11,2,     2.12,2, -999.000,9, -999.000,9, -999.000,9, -999.000,9,   2208.5,2, -999.000,9, -999.000,-999.0000,9,-999.0000,  -999.00,9,  -999.00, -999.000,9, -999.000
  06AQ19960317,  S04a,    69,  1,     11,     13,2,19960425,   0,-70.9625, -11.7012,  777,    301.0,  -1.7813,  34.3048,2,  34.3064,2,    308.3,2,    64.18,2,    30.75,2,     0.13,2,     2.13,2,    5.379,2,    2.597,2,    0.391,2,    5.700,2,   2211.4,2,    0.112,2, -999.000,   1.9130,2,   0.0050,     0.17,2,     0.22,    8.484,4,    0.019
  06AQ19960317,  S04a,    69,  1,     10,     14,2,19960425,   0,-70.9625, -11.7012,  777,    400.9,  -1.7710,  34.3438,2,  34.3486,2,    308.3,2,    64.29,2,    31.02,2,     0.14,2,     2.15,2,    5.325,2,    2.575,2,    0.397,2,    5.931,2,   2212.7,2, -999.000,9, -999.000,-999.0000,9,-999.0000,  -999.00,9,  -999.00, -999.000,9, -999.000
  06AQ19960317,  S04a,    69,  1,      9,     15,2,19960425,   0,-70.9625, -11.7012,  777,    499.8,  -1.7777,  34.3886,2,  34.3893,2,    305.9,2,    65.95,2,    31.44,2,     0.04,2,     2.15,2,    5.274,2,    2.576,2,    0.401,2,    6.147,2,   2216.1,2,    0.116,2, -999.000,   1.9030,2,   0.0050,     0.16,2,     0.22,    8.418,4,    0.019
  06AQ19960317,  S04a,    69,  1,      8,     16,2,19960425,   0,-70.9625, -11.7012,  777,    549.9,  -1.7717,  34.4054,2,  34.4074,2,    304.5,2,    66.24,2,    31.51,2,     0.03,2,     2.16,2, -999.000,9, -999.000,9, -999.000,9, -999.000,9,   2215.9,2, -999.000,9, -999.000,-999.0000,9,-999.0000,  -999.00,9,  -999.00, -999.000,9, -999.000
  06AQ19960317,  S04a,    69,  1,      5,     19,2,19960425,   0,-70.9625, -11.7012,  777,    639.5,  -1.7304,  34.4260,2,-999.0000,9,   -999.0,9,    67.62,2,    31.67,2,     0.04,2,     2.17,2, -999.000,9, -999.000,9, -999.000,9, -999.000,9,   -999.0,9, -999.000,9, -999.000,-999.0000,9,-999.0000,  -999.00,9,  -999.00, -999.000,9, -999.000
  06AQ19960317,  S04a,    69,  1,      6,     18,2,19960425,   0,-70.9625, -11.7012,  777,    639.6,  -1.7378,  34.4248,2,-999.0000,9,   -999.0,9,    67.46,2,    31.60,2,     0.03,2,     2.16,2, -999.000,9, -999.000,9, -999.000,9, -999.000,9,   -999.0,9, -999.000,9, -999.000,-999.0000,9,-999.0000,  -999.00,9,  -999.00, -999.000,9, -999.000
  06AQ19960317,  S04a,    69,  1,      7,     17,2,19960425,   0,-70.9625, -11.7012,  777,    639.7,  -1.7347,  34.4229,2,  34.4240,2,    302.6,2,    67.12,2,    31.38,2,     0.02,2,     2.17,2,    4.960,2,    2.413,2,    0.387,2,    5.992,2,   2220.9,2,    0.109,2, -999.000,   1.8370,2,   0.0050,     0.23,2,     0.22,    8.213,2,    0.018
  06AQ19960317,  S04a,    69,  1,      4,     20,2,19960425,   0,-70.9625, -11.7012,  777,    701.8,  -1.2997,  34.4702,2,  34.4710,2,    285.1,2,    71.68,2,    31.77,2,     0.03,2,     2.19,2,    4.280,2,    2.074,2,    0.341,2,    5.223,2,   2227.3,2, -999.000,9, -999.000,-999.0000,9,-999.0000,  -999.00,9,  -999.00, -999.000,9, -999.000
  06AQ19960317,  S04a,    69,  1,      3,     21,2,19960425,   0,-70.9625, -11.7012,  777,    734.7,  -0.8834,  34.5116,2,  34.5133,2,    264.9,2,    77.24,2,    32.20,2,     0.02,2,     2.22,2, -999.000,9, -999.000,9, -999.000,9, -999.000,9,   2230.2,2, -999.000,9, -999.000,-999.0000,9,-999.0000,  -999.00,9,  -999.00, -999.000,9, -999.000
  06AQ19960317,  S04a,    69,  1,     24,     24,2,19960425,   0,-70.9625, -11.7012,  777,    753.9,  -0.6641,  34.5243,2,-999.0000,9,   -999.0,9,    77.77,2,    32.24,2,     0.03,2,     2.22,2, -999.000,9, -999.000,9, -999.000,9, -999.000,9,   -999.0,9, -999.000,9, -999.000,-999.0000,9,-999.0000,  -999.00,9,  -999.00, -999.000,9, -999.000
  06AQ19960317,  S04a,    69,  1,      1,     23,2,19960425,   0,-70.9625, -11.7012,  777,    754.1,  -0.7072,  34.5211,2,-999.0000,9,   -999.0,9,    77.51,2,    32.01,2,     0.03,2,     2.22,2, -999.000,9, -999.000,9, -999.000,9, -999.000,9,   -999.0,9, -999.000,9, -999.000,-999.0000,9,-999.0000,  -999.00,9,  -999.00, -999.000,9, -999.000
  06AQ19960317,  S04a,    69,  1,      2,     22,2,19960425,   0,-70.9625, -11.7012,  777,    754.3,  -0.6574,  34.5184,2,  34.5206,2,    260.7,2,    77.86,2,    32.36,2,     0.03,2,     2.23,2,    3.355,2,    1.628,2,    0.267,2,    4.168,2,   2235.6,2,    0.147,2, -999.000,   1.8470,2,   0.0050,     3.38,2,     0.22,    8.174,2,    0.018
  06AQ19960317,  S04a,    70,  1,     23,      1,2,19960425,   0,-70.8922, -12.0055, 1599,     20.3,  -1.8652,  34.2115,2,  34.2336,2,    331.4,2,    58.40,2,    27.15,2,     0.15,2,     2.00,2,    6.263,2,    3.081,2,    0.484,2,    7.501,2,   2194.1,2, -999.000,9, -999.000,-999.0000,9,-999.0000,  -999.00,9,  -999.00, -999.000,9, -999.000
  06AQ19960317,  S04a,    70,  1,     22,      2,2,19960425,   0,-70.8922, -12.0055, 1599,     40.8,  -1.8704,  34.2350,2,  34.2442,2,    330.6,2,    58.87,2,    26.95,2,     0.15,2,     1.95,2,    6.150,2,    3.041,2,    0.482,2,    7.425,2,   2192.8,2, -999.000,9, -999.000,-999.0000,9,-999.0000,  -999.00,9,  -999.00, -999.000,9, -999.000
  06AQ19960317,  S04a,    70,  1,     21,      3,2,19960425,   0,-70.8922, -12.0055, 1599,     60.7,  -1.8680,  34.2519,2,  34.2578,2,    330.1,2,    58.32,2,    27.36,2,     0.16,2,     1.95,2, -999.000,9, -999.000,9, -999.000,9, -999.000,9,   2195.0,2, -999.000,9, -999.000,-999.0000,9,-999.0000,  -999.00,9,  -999.00, -999.000,9, -999.000
  06AQ19960317,  S04a,    70,  1,     20,      4,2,19960425,   0,-70.8922, -12.0055, 1599,     60.7,  -1.8677,  34.2521,2,  34.2597,2,   -999.0,9,    58.66,2,    27.45,2,     0.16,2,     1.96,2, -999.000,9, -999.000,9, -999.000,9, -999.000,9,   -999.0,9, -999.000,9, -999.000,-999.0000,9,-999.0000,  -999.00,9,  -999.00, -999.000,9, -999.000
  06AQ19960317,  S04a,    70,  1,     19,      5,2,19960425,   0,-70.8922, -12.0055, 1599,     81.0,  -1.8659,  34.2594,2,  34.2623,2,    329.3,2,    58.61,2,    27.46,2,     0.16,2,     1.97,2, -999.000,9, -999.000,9, -999.000,9, -999.000,9,   2194.8,2, -999.000,9, -999.000,-999.0000,9,-999.0000,  -999.00,9,  -999.00, -999.000,9, -999.000
  06AQ19960317,  S04a,    70,  1,     18,      6,2,19960425,   0,-70.8922, -12.0055, 1599,    100.6,  -1.8582,  34.2640,2,  34.2661,2,    329.0,2,    58.57,2,    27.71,2,     0.16,2,     1.98,2,    5.970,2,    2.948,2,    0.472,2,    7.206,2,   2195.0,2, -999.000,9, -999.000,   1.8120,2,   0.0050,    -1.33,2,     0.22,    8.141,2,    0.018
  06AQ19960317,  S04a,    70,  1,     17,      7,2,19960425,   0,-70.8922, -12.0055, 1599,    150.8,  -1.7953,  34.3216,2,  34.3247,2,    314.1,2,    62.49,2,    29.83,2,     0.16,2,     2.08,2, -999.000,9, -999.000,9, -999.000,9, -999.000,9,   2207.1,2, -999.000,9, -999.000,-999.0000,9,-999.0000,  -999.00,9,  -999.00, -999.000,9, -999.000
  06AQ19960317,  S04a,    70,  1,     16,      8,2,19960425,   0,-70.8922, -12.0055, 1599,    200.4,  -1.6052,  34.4044,2,  34.4087,2,    297.7,2,    68.78,2,    31.45,2,     0.12,2,     2.17,2,    4.853,2,    2.369,2,    0.376,2,    5.745,2,   2221.7,2, -999.000,9, -999.000,-999.0000,9,-999.0000,  -999.00,9,  -999.00, -999.000,9, -999.000
  06AQ19960317,  S04a,    70,  1,     15,      9,2,19960425,   0,-70.8922, -12.0055, 1599,    228.9,  -1.7007,  34.4237,2,  34.4272,2,    300.5,2,    67.61,2,    31.53,2,     0.04,2,     2.15,2, -999.000,9, -999.000,9, -999.000,9, -999.000,9,   2222.1,2, -999.000,9, -999.000,-999.0000,9,-999.0000,  -999.00,9,  -999.00, -999.000,9, -999.000
  06AQ19960317,  S04a,    70,  1,     14,     10,2,19960425,   0,-70.8922, -12.0055, 1599,    300.6,  -1.1904,  34.4447,2,  34.4886,2,    271.5,2,    74.55,2,    31.95,2,     0.04,2,     2.19,2,    3.793,2,    1.845,2,    0.294,2,    4.547,2,   2232.3,2, -999.000,9, -999.000,-999.0000,9,-999.0000,  -999.00,9,  -999.00, -999.000,9, -999.000
  06AQ19960317,  S04a,    70,  1,     13,     11,2,19960425,   0,-70.8922, -12.0055, 1599,    400.5,   0.2333,  34.6100,2,  34.6082,2,    220.7,2,    88.77,2,    32.65,2,     0.03,2,     2.25,2, -999.000,9, -999.000,9, -999.000,9, -999.000,9,   2250.5,2, -999.000,9, -999.000,   1.8530,2,   0.0050,     6.32,2,     0.22,    8.093,2,    0.018
  06AQ19960317,  S04a,    70,  1,     12,     12,2,19960425,   0,-70.8922, -12.0055, 1599,    500.9,   0.7883,  34.6685,2,  34.6686,2,    202.8,2,    96.59,2,    32.97,2,     0.02,2,     2.25,2, -999.000,9, -999.000,9, -999.000,9, -999.000,9,   2255.5,2, -999.000,9, -999.000,-999.0000,9,-999.0000,  -999.00,9,  -999.00, -999.000,9, -999.000
  06AQ19960317,  S04a,    70,  1,     11,     13,2,19960425,   0,-70.8922, -12.0055, 1599,    601.6,   0.8008,  34.6823,2,  34.6840,2,    201.7,2,   101.43,2,    32.81,2,     0.02,2,     2.25,2,    0.673,2,    0.334,2,    0.038,2,    0.939,2,   2257.7,2, -999.000,9, -999.000,   1.8480,2,   0.0050,     8.04,2,     0.22,    8.075,2,    0.018
  06AQ19960317,  S04a,    70,  1,     10,     14,2,19960425,   0,-70.8922, -12.0055, 1599,    701.5,   0.7372,  34.6864,2,  34.6880,2,    202.9,2,   105.08,2,    32.61,2,     0.01,2,     2.25,2, -999.000,9, -999.000,9, -999.000,9, -999.000,9,   2258.3,2, -999.000,9, -999.000,-999.0000,9,-999.0000,  -999.00,9,  -999.00, -999.000,9, -999.000
  06AQ19960317,  S04a,    70,  1,      9,     15,2,19960425,   0,-70.8922, -12.0055, 1599,    800.3,   0.6730,  34.6883,2,  34.6910,2,    202.7,2,   107.87,2,    32.87,2,     0.01,2,     2.26,2,    0.423,2,    0.197,2,    0.021,2,    0.652,2,   2259.0,2, -999.000,9, -999.000,   1.8510,2,   0.0050,     8.55,2,     0.22,    8.103,2,    0.018
  06AQ19960317,  S04a,    70,  1,      8,     16,2,19960425,   0,-70.8922, -12.0055, 1599,    900.4,   0.6259,  34.6906,2,  34.6922,2,    202.1,2,   111.72,2,    33.15,2,     0.01,2,     2.26,2, -999.000,9, -999.000,9, -999.000,9, -999.000,9,   2261.5,2, -999.000,9, -999.000,-999.0000,9,-999.0000,  -999.00,9,  -999.00, -999.000,9, -999.000
  06AQ19960317,  S04a,    70,  1,      7,     17,2,19960425,   0,-70.8922, -12.0055, 1599,   1000.9,   0.5568,  34.6883,2,  34.6897,2,    203.2,2,   113.42,2,    32.93,2,     0.01,2,     2.26,2, -999.000,9, -999.000,9, -999.000,9, -999.000,9,   2260.6,2, -999.000,9, -999.000,   1.8610,2,   0.0050,     8.01,2,     0.22,    8.084,2,    0.018
  06AQ19960317,  S04a,    70,  1,      6,     18,2,19960425,   0,-70.8922, -12.0055, 1599,   1100.8,   0.4512,  34.6827,2,  34.6829,2,    206.6,2,   114.25,2,    32.99,2,     0.01,2,     2.27,2, -999.000,9, -999.000,9, -999.000,9, -999.000,9,   2260.8,2, -999.000,9, -999.000,-999.0000,9,-999.0000,  -999.00,9,  -999.00, -999.000,9, -999.000
  06AQ19960317,  S04a,    70,  1,      5,     19,2,19960425,   0,-70.8922, -12.0055, 1599,   1201.3,   0.3869,  34.6804,2,  34.6821,2,    207.4,2,   116.57,2,    33.13,2,     0.01,2,     2.28,2,    0.334,2,    0.160,2,    0.015,2,    0.551,2,   2262.3,2, -999.000,9, -999.000,   1.8730,2,   0.0050,     8.06,2,     0.22,    8.133,2,    0.018
  06AQ19960317,  S04a,    70,  1,      4,     20,2,19960425,   0,-70.8922, -12.0055, 1599,   1301.5,   0.3251,  34.6777,2,  34.6781,2,    209.7,2,   117.84,2,    33.23,2,     0.00,2,     2.28,2, -999.000,9, -999.000,9, -999.000,9, -999.000,9,   2261.5,2, -999.000,9, -999.000,-999.0000,9,-999.0000,  -999.00,9,  -999.00, -999.000,9, -999.000
  06AQ19960317,  S04a,    70,  1,      3,     21,2,19960425,   0,-70.8922, -12.0055, 1599,   1401.0,   0.2686,  34.6766,2,-999.0000,9,    210.3,2,   118.63,2,    33.35,2,     0.01,2,     2.29,2, -999.000,9, -999.000,9, -999.000,9, -999.000,9,   2261.8,2, -999.000,9, -999.000,-999.0000,9,-999.0000,  -999.00,9,  -999.00, -999.000,9, -999.000
  06AQ19960317,  S04a,    70,  1,      2,     22,2,19960425,   0,-70.8922, -12.0055, 1599,   1500.9,   0.2254,  34.6755,2,  34.6753,2,    211.4,2,   120.31,2,    33.27,2,     0.01,2,     2.30,2,    0.331,2,    0.154,2,    0.014,2,    0.574,2,   2262.8,2, -999.000,9, -999.000,   1.8590,2,   0.0050,     7.59,2,     0.22,    8.124,2,    0.018
  06AQ19960317,  S04a,    70,  1,      1,     23,2,19960425,   0,-70.8922, -12.0055, 1599,   1552.9,   0.2049,  34.6747,2,-999.0000,9,   -999.0,9,   120.92,2,    33.32,2,     0.01,2,     2.29,2,    0.346,2,    0.162,2,    0.013,2,    0.604,2,   2264.6,2, -999.000,9, -999.000,-999.0000,9,-999.0000,  -999.00,9,  -999.00, -999.000,9, -999.000
  06AQ19960317,  S04a,    70,  1,     24,     24,2,19960425,   0,-70.8922, -12.0055, 1599,   1599.3,   0.1382,  34.6731,2,  34.6743,2,    214.8,2,   122.20,2,    33.40,2,     0.01,2,     2.30,2,    0.322,2,    0.152,2,    0.013,2,    0.582,2,   -999.0,9, -999.000,9, -999.000,   1.8780,2,   0.0050,     7.40,2,     0.22,    8.163,2,    0.018