BOTTLE,20150129PRINUNIVRMK
EXPOCODE,SECT_ID,STNNBR,CASTNO,SAMPNO,BTLNBR,BTLNBR_FLAG_W,DATE,TIME,LATITUDE,LONGITUDE,DEPTH,CTDPRS,CTDTMP,CTDSAL,CTDSAL_FLAG_W,SALNTY,SALNTY_FLAG_W,OXYGEN,OXYGEN_FLAG_W,SILCAT,SILCAT_FLAG_W,NITRAT,NITRAT_FLAG_W,NITRIT,NITRIT_FLAG_W,PHSPHT,PHSPHT_FLAG_W,CFC-11,CFC-11_FLAG_W,CFC-12,CFC-12_FLAG_W,CFC113,CFC113_FLAG_W,CCL4,CCL4_FLAG_W,TCARBN,TCARBN_FLAG_W,TRITUM,TRITUM_FLAG_W,TRITER,HELIUM,HELIUM_FLAG_W,HELIER,DELHE3,DELHE3_FLAG_W,DELHER,NEON,NEON_FLAG_W,NEONER
,,,,,,,,,,,METERS,DBAR,ITS-90,PSS-78,,PSS-78,,UMOL/KG,,UMOL/KG,,UMOL/KG,,UMOL/KG,,UMOL/KG,,PMOL/KG,,PMOL/KG,,PMOL/KG,,PMOL/KG,,UMOL/KG,,TU,,TU,NMOL/KG,,NMOL/KG,PERCNT,,PERCNT,NMOL/KG,,NMOL/KG
  06AQ19960317,  S04a,    34,  4,     36,      1,2,19960409,   0,-50.0830,   5.8767, 3797,     41.0,   4.7259,  33.8145,2,  33.8224,2,   -999.0,9,     5.43,2,    20.56,2,  -999.00,9,     1.51,2, -999.000,9, -999.000,9, -999.000,9, -999.000,9,   -999.0,9, -999.000,9, -999.000,-999.0000,9,-999.0000,  -999.00,9,  -999.00, -999.000,9, -999.000
  06AQ19960317,  S04a,    34,  4,     35,      2,2,19960409,   0,-50.0830,   5.8767, 3797,     61.7,   4.7264,  33.8143,2,  33.8199,2,   -999.0,9,     5.36,2,    20.46,2,  -999.00,9,     1.46,2, -999.000,9, -999.000,9, -999.000,9, -999.000,9,   -999.0,9, -999.000,9, -999.000,-999.0000,9,-999.0000,  -999.00,9,  -999.00, -999.000,9, -999.000
  06AQ19960317,  S04a,    34,  4,     34,      3,2,19960409,   0,-50.0830,   5.8767, 3797,     82.3,   4.6894,  33.8165,2,  33.8219,2,   -999.0,9,     5.77,2,    20.67,2,  -999.00,9,     1.50,2, -999.000,9, -999.000,9, -999.000,9, -999.000,9,   -999.0,9, -999.000,9, -999.000,-999.0000,9,-999.0000,  -999.00,9,  -999.00, -999.000,9, -999.000
  06AQ19960317,  S04a,    34,  4,     33,      4,2,19960409,   0,-50.0830,   5.8767, 3797,    101.7,   3.9644,  33.8563,2,  33.8594,2,   -999.0,9,     8.77,2,    21.86,2,  -999.00,9,     1.64,2, -999.000,9, -999.000,9, -999.000,9, -999.000,9,   -999.0,9, -999.000,9, -999.000,-999.0000,9,-999.0000,  -999.00,9,  -999.00, -999.000,9, -999.000
  06AQ19960317,  S04a,    34,  4,     32,      5,2,19960409,   0,-50.0830,   5.8767, 3797,    150.6,   2.1478,  33.9405,2,  33.9473,2,   -999.0,9,    21.15,2,    27.57,2,  -999.00,9,     1.95,2, -999.000,9, -999.000,9, -999.000,9, -999.000,9,   -999.0,9, -999.000,9, -999.000,-999.0000,9,-999.0000,  -999.00,9,  -999.00, -999.000,9, -999.000
  06AQ19960317,  S04a,    34,  4,     31,      6,2,19960409,   0,-50.0830,   5.8767, 3797,    199.5,   1.6137,  34.0500,2,  34.0534,2,   -999.0,9,    32.15,2,    30.45,2,  -999.00,9,     2.11,2, -999.000,9, -999.000,9, -999.000,9, -999.000,9,   -999.0,9, -999.000,9, -999.000,-999.0000,9,-999.0000,  -999.00,9,  -999.00, -999.000,9, -999.000
  06AQ19960317,  S04a,    34,  4,     30,      7,2,19960409,   0,-50.0830,   5.8767, 3797,    251.1,   1.8320,  34.1830,2,  34.1933,2,   -999.0,9,    43.44,2,    33.18,2,  -999.00,9,     2.27,2, -999.000,9, -999.000,9, -999.000,9, -999.000,9,   -999.0,9, -999.000,9, -999.000,-999.0000,9,-999.0000,  -999.00,9,  -999.00, -999.000,9, -999.000
  06AQ19960317,  S04a,    34,  4,     29,      8,2,19960409,   0,-50.0830,   5.8767, 3797,    301.8,   2.0296,  34.2979,2,  34.3050,2,   -999.0,9,    53.72,2,    34.66,2,  -999.00,9,     2.37,2, -999.000,9, -999.000,9, -999.000,9, -999.000,9,   -999.0,9, -999.000,9, -999.000,-999.0000,9,-999.0000,  -999.00,9,  -999.00, -999.000,9, -999.000
  06AQ19960317,  S04a,    34,  4,     28,      9,2,19960409,   0,-50.0830,   5.8767, 3797,    360.8,   2.1136,  34.3642,2,  34.3662,2,   -999.0,9,    59.54,2,    35.19,2,  -999.00,9,     2.41,2, -999.000,9, -999.000,9, -999.000,9, -999.000,9,   -999.0,9, -999.000,9, -999.000,-999.0000,9,-999.0000,  -999.00,9,  -999.00, -999.000,9, -999.000
  06AQ19960317,  S04a,    34,  4,     27,     10,2,19960409,   0,-50.0830,   5.8767, 3797,    501.3,   2.1594,  34.4973,2,  34.5009,2,   -999.0,9,    70.88,2,    35.48,2,  -999.00,9,     2.43,2, -999.000,9, -999.000,9, -999.000,9, -999.000,9,   -999.0,9, -999.000,9, -999.000,-999.0000,9,-999.0000,  -999.00,9,  -999.00, -999.000,9, -999.000
  06AQ19960317,  S04a,    34,  4,     26,     11,2,19960409,   0,-50.0830,   5.8767, 3797,    602.8,   2.1844,  34.5555,2,  34.5592,2,   -999.0,9,    75.11,2,    35.04,2,  -999.00,9,     2.41,2, -999.000,9, -999.000,9, -999.000,9, -999.000,9,   -999.0,9, -999.000,9, -999.000,-999.0000,9,-999.0000,  -999.00,9,  -999.00, -999.000,9, -999.000
  06AQ19960317,  S04a,    34,  4,     25,     12,2,19960409,   0,-50.0830,   5.8767, 3797,    701.4,   2.1791,  34.5965,2,  34.5993,2,   -999.0,9,    77.16,2,    34.61,2,  -999.00,9,     2.37,2, -999.000,9, -999.000,9, -999.000,9, -999.000,9,   -999.0,9, -999.000,9, -999.000,-999.0000,9,-999.0000,  -999.00,9,  -999.00, -999.000,9, -999.000
  06AQ19960317,  S04a,    34,  4,     24,     13,2,19960409,   0,-50.0830,   5.8767, 3797,    800.7,   2.1936,  34.6385,2,  34.6414,2,   -999.0,9,    77.94,2,    33.61,2,  -999.00,9,     2.32,2, -999.000,9, -999.000,9, -999.000,9, -999.000,9,   -999.0,9, -999.000,9, -999.000,-999.0000,9,-999.0000,  -999.00,9,  -999.00, -999.000,9, -999.000
  06AQ19960317,  S04a,    34,  4,     23,     14,2,19960409,   0,-50.0830,   5.8767, 3797,   1001.6,   2.1660,  34.6917,2,  34.6948,2,   -999.0,9,    79.53,2,    32.54,2,  -999.00,9,     2.22,2, -999.000,9, -999.000,9, -999.000,9, -999.000,9,   -999.0,9, -999.000,9, -999.000,-999.0000,9,-999.0000,  -999.00,9,  -999.00, -999.000,9, -999.000
  06AQ19960317,  S04a,    34,  4,     22,     15,2,19960409,   0,-50.0830,   5.8767, 3797,   1251.4,   2.1721,  34.7506,2,  34.7529,2,   -999.0,9,    76.97,2,    30.51,2,  -999.00,9,     2.12,2, -999.000,9, -999.000,9, -999.000,9, -999.000,9,   -999.0,9, -999.000,9, -999.000,-999.0000,9,-999.0000,  -999.00,9,  -999.00, -999.000,9, -999.000
  06AQ19960317,  S04a,    34,  4,     21,     16,2,19960409,   0,-50.0830,   5.8767, 3797,   1500.8,   2.0269,  34.7646,2,  34.7669,2,   -999.0,9,    78.12,2,    29.86,2,  -999.00,9,     2.07,2, -999.000,9, -999.000,9, -999.000,9, -999.000,9,   -999.0,9, -999.000,9, -999.000,-999.0000,9,-999.0000,  -999.00,9,  -999.00, -999.000,9, -999.000
  06AQ19960317,  S04a,    34,  4,     20,     17,2,19960409,   0,-50.0830,   5.8767, 3797,   1600.7,   1.9427,  34.7670,2,  34.7687,2,   -999.0,9,    80.21,2,    29.68,2,  -999.00,9,     2.03,2, -999.000,9, -999.000,9, -999.000,9, -999.000,9,   -999.0,9, -999.000,9, -999.000,-999.0000,9,-999.0000,  -999.00,9,  -999.00, -999.000,9, -999.000
  06AQ19960317,  S04a,    34,  4,     19,     18,2,19960409,   0,-50.0830,   5.8767, 3797,   1800.3,   1.6494,  34.7493,2,  34.7495,2,   -999.0,9,    89.98,2,    30.77,2,  -999.00,9,     2.10,2, -999.000,9, -999.000,9, -999.000,9, -999.000,9,   -999.0,9, -999.000,9, -999.000,-999.0000,9,-999.0000,  -999.00,9,  -999.00, -999.000,9, -999.000
  06AQ19960317,  S04a,    34,  4,     18,     19,2,19960409,   0,-50.0830,   5.8767, 3797,   1994.7,   1.4332,  34.7390,2,  34.7389,2,   -999.0,9,    96.28,2,    31.27,2,  -999.00,9,     2.15,2, -999.000,9, -999.000,9, -999.000,9, -999.000,9,   -999.0,9, -999.000,9, -999.000,-999.0000,9,-999.0000,  -999.00,9,  -999.00, -999.000,9, -999.000
  06AQ19960317,  S04a,    34,  4,     17,     20,2,19960409,   0,-50.0830,   5.8767, 3797,   2499.8,   1.0005,  34.7169,2,  34.7159,2,   -999.0,9,   108.30,2,    32.01,2,  -999.00,9,     2.21,2, -999.000,9, -999.000,9, -999.000,9, -999.000,9,   -999.0,9, -999.000,9, -999.000,-999.0000,9,-999.0000,  -999.00,9,  -999.00, -999.000,9, -999.000
  06AQ19960317,  S04a,    34,  4,     16,     21,2,19960409,   0,-50.0830,   5.8767, 3797,   2998.4,   0.6721,  34.6981,2,  34.6957,2,   -999.0,9,   118.92,2,    32.52,2,  -999.00,9,     2.24,2, -999.000,9, -999.000,9, -999.000,9, -999.000,9,   -999.0,9, -999.000,9, -999.000,-999.0000,9,-999.0000,  -999.00,9,  -999.00, -999.000,9, -999.000
  06AQ19960317,  S04a,    34,  4,     15,     22,2,19960409,   0,-50.0830,   5.8767, 3797,   3498.8,   0.6017,  34.6923,2,  34.6895,2,   -999.0,9,   123.52,2,    32.96,2,  -999.00,9,     2.28,2, -999.000,9, -999.000,9, -999.000,9, -999.000,9,   -999.0,9, -999.000,9, -999.000,-999.0000,9,-999.0000,  -999.00,9,  -999.00, -999.000,9, -999.000
  06AQ19960317,  S04a,    34,  4,     14,     23,2,19960409,   0,-50.0830,   5.8767, 3797,   3692.8,   0.5524,  34.6892,2,  34.6856,2,   -999.0,9,   125.79,2,    33.22,2,  -999.00,9,     2.28,2, -999.000,9, -999.000,9, -999.000,9, -999.000,9,   -999.0,9, -999.000,9, -999.000,-999.0000,9,-999.0000,  -999.00,9,  -999.00, -999.000,9, -999.000
  06AQ19960317,  S04a,    34,  4,     13,     24,2,19960409,   0,-50.0830,   5.8767, 3797,   3812.0,   0.5079,  34.6865,2,  34.6866,2,   -999.0,9,   126.55,2,    33.25,2,  -999.00,9,     2.30,2, -999.000,9, -999.000,9, -999.000,9, -999.000,9,   -999.0,9, -999.000,9, -999.000,-999.0000,9,-999.0000,  -999.00,9,  -999.00, -999.000,9, -999.000
  06AQ19960317,  S04a,    35,  1,     23,      2,2,19960412,   0,-55.0015,   0.0008, 1710,     20.5,   0.9438,  33.8030,2,-999.0000,9,   -999.0,9,    42.06,2,    25.12,2,  -999.00,9,     1.71,2, -999.000,9, -999.000,9, -999.000,9, -999.000,9,   2160.5,2, -999.000,9, -999.000,-999.0000,9,-999.0000,  -999.00,9,  -999.00, -999.000,9, -999.000
  06AQ19960317,  S04a,    35,  1,     22,      3,2,19960412,   0,-55.0015,   0.0008, 1710,     20.7,   0.9441,  33.8032,2,  33.8065,2,    331.6,2,    41.84,2,    24.89,2,  -999.00,9,     1.71,2,    6.388,2,    2.921,2,    0.478,2,    9.196,2,   -999.0,9,    0.147,2, -999.000,   1.7900,2,   0.0050,    -1.84,2,     0.22,    8.004,2,    0.018
  06AQ19960317,  S04a,    35,  1,     24,      1,2,19960412,   0,-55.0015,   0.0008, 1710,     21.1,   0.9433,  33.8030,2,-999.0000,9,   -999.0,9,    42.26,2,    24.85,2,  -999.00,9,     1.72,2, -999.000,9, -999.000,9, -999.000,9, -999.000,9,   -999.0,9, -999.000,9, -999.000,-999.0000,9,-999.0000,  -999.00,9,  -999.00, -999.000,9, -999.000
  06AQ19960317,  S04a,    35,  1,     20,      5,2,19960412,   0,-55.0015,   0.0008, 1710,     40.9,   0.9429,  33.8034,2,  33.8070,2,   -999.0,9,    41.85,2,    25.04,2,  -999.00,9,     1.72,2,    6.447,2,    2.950,2,    0.488,2,    9.152,2,   -999.0,9, -999.000,9, -999.000,-999.0000,9,-999.0000,  -999.00,9,  -999.00, -999.000,9, -999.000
  06AQ19960317,  S04a,    35,  1,     21,      4,2,19960412,   0,-55.0015,   0.0008, 1710,     41.2,   0.9427,  33.8035,2,-999.0000,9,    331.6,2,    42.06,2,    25.11,2,  -999.00,9,     1.74,2, -999.000,9, -999.000,9, -999.000,9, -999.000,9,   2161.9,2, -999.000,9, -999.000,-999.0000,9,-999.0000,  -999.00,9,  -999.00, -999.000,9, -999.000
  06AQ19960317,  S04a,    35,  1,     18,      7,2,19960412,   0,-55.0015,   0.0008, 1710,     61.3,   0.9429,  33.8036,2,  33.8069,2,   -999.0,9,    42.03,2,    25.05,2,  -999.00,9,     1.72,2, -999.000,9, -999.000,9, -999.000,9, -999.000,9,   2160.4,2, -999.000,9, -999.000,-999.0000,9,-999.0000,  -999.00,9,  -999.00, -999.000,9, -999.000
  06AQ19960317,  S04a,    35,  1,     19,      6,2,19960412,   0,-55.0015,   0.0008, 1710,     61.6,   0.9432,  33.8039,2,-999.0000,9,    331.7,2,    41.99,2,    25.02,2,  -999.00,9,     1.72,2, -999.000,9, -999.000,9, -999.000,9, -999.000,9,   -999.0,9, -999.000,9, -999.000,-999.0000,9,-999.0000,  -999.00,9,  -999.00, -999.000,9, -999.000
  06AQ19960317,  S04a,    35,  1,     17,      8,2,19960412,   0,-55.0015,   0.0008, 1710,     79.9,   0.6436,  33.8546,2,-999.0000,9,   -999.0,9,    45.12,2,    25.67,2,  -999.00,9,     1.77,2, -999.000,9, -999.000,9, -999.000,9, -999.000,9,   -999.0,9, -999.000,9, -999.000,-999.0000,9,-999.0000,  -999.00,9,  -999.00, -999.000,9, -999.000
  06AQ19960317,  S04a,    35,  1,     16,      9,2,19960412,   0,-55.0015,   0.0008, 1710,     80.0,   0.4246,  33.8908,2,  33.8971,2,    325.6,2,    47.85,2,    26.28,2,  -999.00,9,     1.82,2,    6.345,2,    2.896,2,    0.460,2,    8.851,2,   2171.5,2, -999.000,9, -999.000,-999.0000,9,-999.0000,  -999.00,9,  -999.00, -999.000,9, -999.000
  06AQ19960317,  S04a,    35,  1,     15,     10,2,19960412,   0,-55.0015,   0.0008, 1710,    100.8,  -0.1000,  34.0469,2,-999.0000,9,   -999.0,9,    49.83,2,    28.96,2,  -999.00,9,     1.98,2, -999.000,9, -999.000,9, -999.000,9, -999.000,9,   -999.0,9, -999.000,9, -999.000,-999.0000,9,-999.0000,  -999.00,9,  -999.00, -999.000,9, -999.000
  06AQ19960317,  S04a,    35,  1,     14,     11,2,19960412,   0,-55.0015,   0.0008, 1710,    100.9,  -0.1078,  34.0622,2,  34.0679,2,    302.3,2,    50.23,2,    29.19,2,  -999.00,9,     2.00,2,    5.826,2,    2.641,2,    0.422,2,    7.814,2,   2193.7,2, -999.000,9, -999.000,-999.0000,9,-999.0000,  -999.00,9,  -999.00, -999.000,9, -999.000
  06AQ19960317,  S04a,    35,  1,     11,     14,2,19960412,   0,-55.0015,   0.0008, 1710,    124.0,   0.2013,  34.2215,2,-999.0000,9,   -999.0,9,    58.43,2,    31.69,2,  -999.00,9,     2.17,2, -999.000,9, -999.000,9, -999.000,9, -999.000,9,   -999.0,9, -999.000,9, -999.000,-999.0000,9,-999.0000,  -999.00,9,  -999.00, -999.000,9, -999.000
  06AQ19960317,  S04a,    35,  1,     13,     12,2,19960412,   0,-55.0015,   0.0008, 1710,    124.1,   0.1880,  34.2223,2,  34.2190,2,    264.8,2,    58.40,2,    31.80,2,  -999.00,9,     2.16,2,    5.121,2,    2.264,2,    0.493,3,    6.708,2,   2217.2,2,    0.161,2, -999.000,   1.8230,2,   0.0050,     2.41,2,     0.22,    8.056,2,    0.018
  06AQ19960317,  S04a,    35,  1,     12,     13,2,19960412,   0,-55.0015,   0.0008, 1710,    124.2,   0.1898,  34.2177,2,-999.0000,9,   -999.0,9,    58.69,2,    31.84,2,  -999.00,9,     2.16,2, -999.000,9, -999.000,9, -999.000,9, -999.000,9,   -999.0,9, -999.000,9, -999.000,-999.0000,9,-999.0000,  -999.00,9,  -999.00, -999.000,9, -999.000
  06AQ19960317,  S04a,    35,  1,     10,     15,2,19960412,   0,-55.0015,   0.0008, 1710,    147.4,   0.7559,  34.3486,2,  34.3356,2,    231.7,2,    66.87,2,    33.55,2,  -999.00,9,     2.28,2,    3.424,2,    1.528,2,    0.187,2,    4.362,2,   2230.8,2, -999.000,9, -999.000,-999.0000,9,-999.0000,  -999.00,9,  -999.00, -999.000,9, -999.000
  06AQ19960317,  S04a,    35,  1,      8,     17,2,19960412,   0,-55.0015,   0.0008, 1710,    199.7,   1.2585,  34.4850,2,  34.4902,2,    197.0,2,    78.92,2,    34.69,2,  -999.00,9,     2.36,2,    1.906,2,    0.851,2,    0.124,2,    2.475,2,   2249.1,2,    0.211,2, -999.000,   1.8230,2,   0.0050,     7.03,2,     0.22,    7.990,2,    0.018
  06AQ19960317,  S04a,    35,  1,      9,     16,2,19960412,   0,-55.0015,   0.0008, 1710,    200.2,   1.2461,  34.4816,2,-999.0000,9,   -999.0,9,    78.34,2,    34.72,2,  -999.00,9,     2.36,2, -999.000,9, -999.000,9, -999.000,9, -999.000,9,   -999.0,9, -999.000,9, -999.000,-999.0000,9,-999.0000,  -999.00,9,  -999.00, -999.000,9, -999.000
  06AQ19960317,  S04a,    35,  1,      7,     18,2,19960412,   0,-55.0015,   0.0008, 1710,    301.2,   1.5672,  34.5915,2,  34.5945,2,    182.0,2,    85.24,2,    34.53,2,  -999.00,9,     2.34,2,    1.041,2,    0.470,2,    0.048,2,    1.429,2,   2258.1,2,    0.057,2, -999.000,   1.8370,3,   0.0140,     8.61,3,     0.22,    7.987,3,    0.058
  06AQ19960317,  S04a,    35,  1,      6,     19,2,19960412,   0,-55.0015,   0.0008, 1710,    350.6,   1.5906,  34.6218,2,  34.6235,2,    183.3,2,    87.23,2,    34.09,2,  -999.00,9,     2.32,2, -999.000,9, -999.000,9, -999.000,9, -999.000,9,   2259.0,2, -999.000,9, -999.000,-999.0000,9,-999.0000,  -999.00,9,  -999.00, -999.000,9, -999.000
  06AQ19960317,  S04a,    35,  1,      5,     20,2,19960412,   0,-55.0015,   0.0008, 1710,    400.9,   1.6077,  34.6444,2,  34.6468,2,    183.9,2,    88.82,2,    34.01,2,  -999.00,9,     2.30,2,    0.628,2,    0.334,2,    0.042,2,    0.906,2,   2258.9,2,    0.053,2, -999.000,   1.8430,2,   0.0050,     9.76,2,     0.22,    7.998,2,    0.018
  06AQ19960317,  S04a,    35,  1,      4,     21,2,19960412,   0,-55.0015,   0.0008, 1710,    400.9,   1.6079,  34.6444,2,-999.0000,9,   -999.0,9,    89.46,2,    33.58,2,  -999.00,9,     2.30,2, -999.000,9, -999.000,9, -999.000,9, -999.000,9,   -999.0,9, -999.000,9, -999.000,-999.0000,9,-999.0000,  -999.00,9,  -999.00, -999.000,9, -999.000
  06AQ19960317,  S04a,    35,  1,      3,     22,2,19960412,   0,-55.0015,   0.0008, 1710,    401.0,   1.6075,  34.6449,2,-999.0000,9,   -999.0,9,    88.82,2,    33.77,2,  -999.00,9,     2.29,2, -999.000,9, -999.000,9, -999.000,9, -999.000,9,   -999.0,9, -999.000,9, -999.000,-999.0000,9,-999.0000,  -999.00,9,  -999.00, -999.000,9, -999.000
  06AQ19960317,  S04a,    35,  1,      2,     23,2,19960412,   0,-55.0015,   0.0008, 1710,    502.9,   1.5911,  34.6739,2,-999.0000,9,   -999.0,9,    88.61,2,    33.18,2,  -999.00,9,     2.25,2, -999.000,9, -999.000,9, -999.000,9, -999.000,9,   -999.0,9, -999.000,9, -999.000,-999.0000,9,-999.0000,  -999.00,9,  -999.00, -999.000,9, -999.000
  06AQ19960317,  S04a,    35,  1,      1,     24,2,19960412,   0,-55.0015,   0.0008, 1710,    503.1,   1.5908,  34.6747,2,  34.6761,2,    183.6,2,    88.96,2,    33.02,2,  -999.00,9,     2.26,2,    0.625,2,    0.262,2,    0.042,2,    0.901,2,   2258.8,2,    0.089,2, -999.000,   1.8440,2,   0.0050,    10.34,2,     0.22,    7.987,2,    0.018