BOTTLE,20150129PRINUNIVRMK
EXPOCODE,SECT_ID,STNNBR,CASTNO,SAMPNO,BTLNBR,BTLNBR_FLAG_W,DATE,TIME,LATITUDE,LONGITUDE,DEPTH,CTDPRS,CTDTMP,CTDSAL,CTDSAL_FLAG_W,SALNTY,SALNTY_FLAG_W,OXYGEN,OXYGEN_FLAG_W,SILCAT,SILCAT_FLAG_W,NITRAT,NITRAT_FLAG_W,NITRIT,NITRIT_FLAG_W,PHSPHT,PHSPHT_FLAG_W,CFC-11,CFC-11_FLAG_W,CFC-12,CFC-12_FLAG_W,CFC113,CFC113_FLAG_W,CCL4,CCL4_FLAG_W,TCARBN,TCARBN_FLAG_W,TRITUM,TRITUM_FLAG_W,TRITER,HELIUM,HELIUM_FLAG_W,HELIER,DELHE3,DELHE3_FLAG_W,DELHER,NEON,NEON_FLAG_W,NEONER
,,,,,,,,,,,METERS,DBAR,ITS-90,PSS-78,,PSS-78,,UMOL/KG,,UMOL/KG,,UMOL/KG,,UMOL/KG,,UMOL/KG,,PMOL/KG,,PMOL/KG,,PMOL/KG,,PMOL/KG,,UMOL/KG,,TU,,TU,NMOL/KG,,NMOL/KG,PERCNT,,PERCNT,NMOL/KG,,NMOL/KG
  06AQ19960317,  S04a,    48,  3,     24,      1,2,19960416,   0,-61.9988,   0.0008, 5356,    500.5,   0.3990,  34.6853,2,  34.6851,2,    191.9,2,   121.61,2,    34.60,2,  -999.00,9,     2.35,2, -999.000,9, -999.000,9, -999.000,9, -999.000,9,   2272.0,2, -999.000,9, -999.000,-999.0000,9,-999.0000,  -999.00,9,  -999.00, -999.000,9, -999.000
  06AQ19960317,  S04a,    48,  3,     23,      2,2,19960416,   0,-61.9988,   0.0008, 5356,    600.7,   0.3438,  34.6822,2,  34.6841,2,    194.2,2,   123.06,2,    34.40,2,  -999.00,9,     2.35,2,    0.179,2,    0.084,2,    0.007,2,    0.412,2,   2274.1,2,    0.142,2, -999.000,   1.8760,2,   0.0050,     8.67,2,     0.22,    8.175,2,    0.018
  06AQ19960317,  S04a,    48,  3,     22,      3,2,19960416,   0,-61.9988,   0.0008, 5356,    800.6,   0.2410,  34.6782,2,  34.6797,2,    195.8,2,   125.64,2,    34.52,2,  -999.00,9,     2.35,2,    0.143,2,    0.070,2,    0.006,2,    0.378,2,   2270.0,2,    0.055,2, -999.000,   1.8700,2,   0.0050,     8.19,2,     0.22,    8.185,2,    0.018
  06AQ19960317,  S04a,    48,  3,     20,      5,2,19960416,   0,-61.9988,   0.0008, 5356,   1001.8,   0.1397,  34.6752,2,  34.6764,2,    202.7,2,   126.59,2,    34.32,2,  -999.00,9,     2.35,2,    0.137,2,    0.067,2,    0.004,2,    0.384,2,   -999.0,9,    0.031,2, -999.000,   1.8700,2,   0.0050,     8.49,2,     0.22,    8.182,2,    0.018
  06AQ19960317,  S04a,    48,  3,     21,      4,2,19960416,   0,-61.9988,   0.0008, 5356,   1001.9,   0.1410,  34.6760,2,  34.6754,2,    202.6,2,   126.21,2,    34.24,2,  -999.00,9,     2.36,2, -999.000,9, -999.000,9, -999.000,9, -999.000,9,   2268.3,2, -999.000,9, -999.000,-999.0000,9,-999.0000,  -999.00,9,  -999.00, -999.000,9, -999.000
  06AQ19960317,  S04a,    48,  3,     19,      6,2,19960416,   0,-61.9988,   0.0008, 5356,   1251.1,   0.0528,  34.6715,2,  34.6724,2,    208.8,2,   126.03,2,    33.93,2,  -999.00,9,     2.33,2,    0.143,2,    0.069,2,    0.004,2,    0.406,2,   2266.4,2,    0.063,2, -999.000,   1.8500,2,   0.0050,     7.78,2,     0.22,    8.053,3,    0.018
  06AQ19960317,  S04a,    48,  3,     18,      7,2,19960416,   0,-61.9988,   0.0008, 5356,   1501.2,  -0.0337,  34.6670,2,  34.6696,2,    213.9,2,   126.11,2,    33.78,2,  -999.00,9,     2.32,2,    0.150,2,    0.075,2,    0.005,2,    0.445,2,   2264.8,2,    0.017,2, -999.000,   1.8700,3,   0.0050,     7.34,2,     0.22,    8.167,2,    0.018
  06AQ19960317,  S04a,    48,  3,     17,      8,2,19960416,   0,-61.9988,   0.0008, 5356,   1750.3,  -0.1112,  34.6641,2,  34.6667,2,    219.4,2,   125.85,2,    33.65,2,  -999.00,9,     2.31,2,    0.165,2,    0.082,2,    0.005,2,    0.492,2,   2263.3,2,    0.015,2, -999.000,   1.8530,2,   0.0050,     9.15,3,     0.22,    8.170,2,    0.018
  06AQ19960317,  S04a,    48,  3,     16,      9,2,19960416,   0,-61.9988,   0.0008, 5356,   2002.1,  -0.1690,  34.6622,2,  34.6636,2,    222.9,2,   125.64,2,    33.51,2,  -999.00,9,     2.31,2,    0.197,2,    0.108,3,    0.007,2,    0.528,2,   2258.4,2,    0.015,2, -999.000,   1.8510,2,   0.0050,     6.77,2,     0.22,    8.102,2,    0.018
  06AQ19960317,  S04a,    48,  3,     15,     10,2,19960416,   0,-61.9988,   0.0008, 5356,   2500.6,  -0.2604,  34.6583,2,  34.6608,2,   -999.0,9,   124.60,2,    33.30,2,  -999.00,9,     2.29,2,    0.199,2,    0.098,2,    0.007,2,    0.560,2,   2257.4,2,    0.014,2, -999.000,-999.0000,9,-999.0000,  -999.00,9,  -999.00, -999.000,9, -999.000
  06AQ19960317,  S04a,    48,  3,     13,     12,2,19960416,   0,-61.9988,   0.0008, 5356,   2500.7,  -0.2615,  34.6592,2,-999.0000,9,    228.9,2,   124.62,2,    33.42,2,  -999.00,9,     2.29,2, -999.000,9, -999.000,9, -999.000,9, -999.000,9,   -999.0,9, -999.000,9, -999.000,-999.0000,9,-999.0000,  -999.00,9,  -999.00, -999.000,9, -999.000
  06AQ19960317,  S04a,    48,  3,     14,     11,2,19960416,   0,-61.9988,   0.0008, 5356,   2500.8,  -0.2608,  34.6594,2,-999.0000,9,   -999.0,9,   124.73,2,    33.23,2,  -999.00,9,     2.29,2, -999.000,9, -999.000,9, -999.000,9, -999.000,9,   -999.0,9, -999.000,9, -999.000,-999.0000,9,-999.0000,  -999.00,9,  -999.00, -999.000,9, -999.000
  06AQ19960317,  S04a,    48,  3,     12,     13,2,19960416,   0,-61.9988,   0.0008, 5356,   3000.1,  -0.3157,  34.6568,2,  34.6585,2,    233.6,2,   124.37,2,    33.05,2,  -999.00,9,     2.28,2,    0.219,2,    0.110,2,    0.007,2,    0.610,2,   2257.9,2,    0.056,2, -999.000,   1.8610,2,   0.0050,     6.01,2,     0.22,    8.161,2,    0.018
  06AQ19960317,  S04a,    48,  3,     11,     14,2,19960416,   0,-61.9988,   0.0008, 5356,   3498.8,  -0.3686,  34.6548,2,  34.6551,2,    237.5,2,   124.26,2,    33.00,2,  -999.00,9,     2.27,2,    0.253,2,    0.124,2,    0.009,2,    0.677,2,   2255.5,2,    0.026,2, -999.000,   1.8870,2,   0.0050,     5.76,2,     0.22,    8.290,2,    0.018
  06AQ19960317,  S04a,    48,  3,     10,     15,2,19960416,   0,-61.9988,   0.0008, 5356,   3999.0,  -0.4179,  34.6523,2,  34.6524,2,    241.0,2,   124.24,2,    32.90,2,  -999.00,9,     2.27,2,    0.254,2,    0.128,2,    0.009,2,    0.717,2,   2250.2,2,    0.057,2, -999.000,   1.8860,2,   0.0050,     4.89,2,     0.22,    8.255,2,    0.018
  06AQ19960317,  S04a,    48,  3,      9,     16,2,19960416,   0,-61.9988,   0.0008, 5356,   4498.0,  -0.4761,  34.6489,2,  34.6490,2,    244.8,2,   119.21,2,    32.82,2,  -999.00,9,     2.26,2,    0.398,2,    0.197,2,    0.012,2,    0.936,2,   2247.8,2,    0.020,2, -999.000,   1.8900,2,   0.0050,     4.33,2,     0.22,    8.287,2,    0.018
  06AQ19960317,  S04a,    48,  3,      8,     17,2,19960416,   0,-61.9988,   0.0008, 5356,   4498.0,  -0.4763,  34.6486,2,-999.0000,9,   -999.0,9,   119.61,2,    32.62,2,  -999.00,9,     2.25,2, -999.000,9, -999.000,9, -999.000,9, -999.000,9,   -999.0,9, -999.000,9, -999.000,-999.0000,9,-999.0000,  -999.00,9,  -999.00, -999.000,9, -999.000
  06AQ19960317,  S04a,    48,  3,      7,     18,2,19960416,   0,-61.9988,   0.0008, 5356,   4498.2,  -0.4767,  34.6485,2,-999.0000,9,   -999.0,9,   119.74,2,    32.82,2,  -999.00,9,     2.25,2, -999.000,9, -999.000,9, -999.000,9, -999.000,9,   -999.0,9, -999.000,9, -999.000,-999.0000,9,-999.0000,  -999.00,9,  -999.00, -999.000,9, -999.000
  06AQ19960317,  S04a,    48,  3,      6,     19,2,19960416,   0,-61.9988,   0.0008, 5356,   5337.7,  -0.4240,  34.6470,2,-999.0000,9,   -999.0,9,  -999.00,9,  -999.00,9,  -999.00,9,  -999.00,9, -999.000,9, -999.000,9, -999.000,9, -999.000,9,   -999.0,9, -999.000,9, -999.000,-999.0000,9,-999.0000,  -999.00,9,  -999.00, -999.000,9, -999.000
  06AQ19960317,  S04a,    48,  3,      5,     20,2,19960416,   0,-61.9988,   0.0008, 5356,   5337.7,  -0.4246,  34.6471,2,-999.0000,9,   -999.0,9,  -999.00,9,  -999.00,9,  -999.00,9,  -999.00,9, -999.000,9, -999.000,9, -999.000,9, -999.000,9,   -999.0,9, -999.000,9, -999.000,-999.0000,9,-999.0000,  -999.00,9,  -999.00, -999.000,9, -999.000
  06AQ19960317,  S04a,    48,  3,      4,     21,2,19960416,   0,-61.9988,   0.0008, 5356,   5337.8,  -0.4247,  34.6470,2,  34.6469,2,    245.6,2,   121.36,2,    33.01,2,  -999.00,9,     2.26,2,    0.423,2,    0.207,2,    0.014,2,    0.991,2,   -999.0,9,    0.037,2, -999.000,   1.8760,2,   0.0050,     4.05,2,     0.22,    8.258,2,    0.018
  06AQ19960317,  S04a,    48,  3,      1,     24,2,19960416,   0,-61.9988,   0.0008, 5356,   5438.9,  -0.4123,  34.6471,2,-999.0000,9,   -999.0,9,   121.65,2,    32.87,2,  -999.00,9,     2.25,2, -999.000,9, -999.000,9, -999.000,9, -999.000,9,   -999.0,9, -999.000,9, -999.000,-999.0000,9,-999.0000,  -999.00,9,  -999.00, -999.000,9, -999.000
  06AQ19960317,  S04a,    48,  3,      2,     23,2,19960416,   0,-61.9988,   0.0008, 5356,   5439.0,  -0.4121,  34.6469,2,-999.0000,9,   -999.0,9,   121.76,2,    33.04,2,  -999.00,9,     2.25,2, -999.000,9, -999.000,9, -999.000,9, -999.000,9,   -999.0,9, -999.000,9, -999.000,-999.0000,9,-999.0000,  -999.00,9,  -999.00, -999.000,9, -999.000
  06AQ19960317,  S04a,    48,  3,      3,     22,2,19960416,   0,-61.9988,   0.0008, 5356,   5439.1,  -0.4122,  34.6471,2,  34.6460,2,    245.5,2,   121.49,2,    32.98,2,  -999.00,9,     2.25,2,    0.431,2,    0.213,2,    0.012,2,    1.015,2,   2249.6,2,    0.045,2, -999.000,   1.8850,3,   0.0140,     4.30,3,     0.22,    8.250,3,    0.060
  06AQ19960317,  S04a,    49,  1,     24,      1,2,19960417,   0,-62.5007,  -0.0013, 5332,     20.5,  -0.4032,  33.9906,2,  33.9938,2,    331.6,2,    51.10,2,    23.55,2,  -999.00,9,     1.73,2,    6.238,2,    3.108,2,    0.507,2,    8.514,2,   2176.7,2, -999.000,9, -999.000,-999.0000,9,-999.0000,  -999.00,9,  -999.00, -999.000,9, -999.000
  06AQ19960317,  S04a,    49,  1,     23,      2,2,19960417,   0,-62.5007,  -0.0013, 5332,     40.8,  -0.4029,  33.9915,2,  33.9950,2,    331.4,2,    50.97,2,    23.49,2,  -999.00,9,     1.74,2, -999.000,9, -999.000,9, -999.000,9, -999.000,9,   2173.5,2, -999.000,9, -999.000,-999.0000,9,-999.0000,  -999.00,9,  -999.00, -999.000,9, -999.000
  06AQ19960317,  S04a,    49,  1,     22,      3,2,19960417,   0,-62.5007,  -0.0013, 5332,     72.0,  -1.6194,  34.2641,2,  34.2549,2,    317.3,2,    60.55,2,    27.96,2,  -999.00,9,     2.00,2, -999.000,9, -999.000,9, -999.000,9, -999.000,9,   2208.4,2, -999.000,9, -999.000,-999.0000,9,-999.0000,  -999.00,9,  -999.00, -999.000,9, -999.000
  06AQ19960317,  S04a,    49,  1,     20,      5,2,19960417,   0,-62.5007,  -0.0013, 5332,    100.0,  -1.4996,  34.3355,2,  34.3518,2,   -999.0,9,    68.18,2,    30.51,2,  -999.00,9,     2.12,2, -999.000,9, -999.000,9, -999.000,9, -999.000,9,   -999.0,9, -999.000,9, -999.000,-999.0000,9,-999.0000,  -999.00,9,  -999.00, -999.000,9, -999.000
  06AQ19960317,  S04a,    49,  1,     21,      4,2,19960417,   0,-62.5007,  -0.0013, 5332,    100.1,  -1.5378,  34.3386,2,  34.3487,2,    291.8,2,    68.09,2,    30.59,2,  -999.00,9,     2.11,2,    4.815,2,    2.371,2,    0.391,2,    6.401,2,   2218.7,2, -999.000,9, -999.000,-999.0000,9,-999.0000,  -999.00,9,  -999.00, -999.000,9, -999.000
  06AQ19960317,  S04a,    49,  1,     19,      6,2,19960417,   0,-62.5007,  -0.0013, 5332,    150.4,   0.6677,  34.6325,2,  34.6334,2,    194.3,2,    98.81,2,    33.98,2,  -999.00,9,     2.33,2, -999.000,9, -999.000,9, -999.000,9, -999.000,9,   2259.8,2, -999.000,9, -999.000,-999.0000,9,-999.0000,  -999.00,9,  -999.00, -999.000,9, -999.000
  06AQ19960317,  S04a,    49,  1,     18,      7,2,19960417,   0,-62.5007,  -0.0013, 5332,    196.3,   0.7571,  34.6754,2,  34.6769,2,    190.3,2,   106.16,2,    33.87,2,  -999.00,9,     2.32,2,    0.591,2,    0.275,2,    0.036,2,    0.859,2,   2268.4,2, -999.000,9, -999.000,-999.0000,9,-999.0000,  -999.00,9,  -999.00, -999.000,9, -999.000
  06AQ19960317,  S04a,    49,  1,     17,      8,2,19960417,   0,-62.5007,  -0.0013, 5332,    252.4,   0.7178,  34.6860,2,  34.6868,2,    190.8,2,   109.19,2,    33.74,2,  -999.00,9,     2.30,2, -999.000,9, -999.000,9, -999.000,9, -999.000,9,   2265.8,2, -999.000,9, -999.000,-999.0000,9,-999.0000,  -999.00,9,  -999.00, -999.000,9, -999.000
  06AQ19960317,  S04a,    49,  1,     16,      9,2,19960417,   0,-62.5007,  -0.0013, 5332,    285.4,   0.6738,  34.6884,2,  34.6894,2,    191.5,2,   111.86,2,    33.67,2,  -999.00,9,     2.31,2,    0.361,2,    0.169,2,    0.021,2,    0.597,2,   2265.3,2, -999.000,9, -999.000,-999.0000,9,-999.0000,  -999.00,9,  -999.00, -999.000,9, -999.000
  06AQ19960317,  S04a,    49,  1,     15,     10,2,19960417,   0,-62.5007,  -0.0013, 5332,    401.3,   0.5095,  34.6860,2,  34.6875,2,    190.3,2,   118.04,2,    34.31,2,  -999.00,9,     2.34,2, -999.000,9, -999.000,9, -999.000,9, -999.000,9,   2269.6,2, -999.000,9, -999.000,-999.0000,9,-999.0000,  -999.00,9,  -999.00, -999.000,9, -999.000
  06AQ19960317,  S04a,    49,  1,     14,     11,2,19960417,   0,-62.5007,  -0.0013, 5332,    501.3,   0.4285,  34.6845,2,  34.6858,2,    191.1,2,   120.41,2,    34.24,2,  -999.00,9,     2.36,2,    0.244,2,    0.117,2,    0.009,2,    0.466,2,   2273.7,2, -999.000,9, -999.000,-999.0000,9,-999.0000,  -999.00,9,  -999.00, -999.000,9, -999.000
  06AQ19960317,  S04a,    49,  1,     13,     12,2,19960417,   0,-62.5007,  -0.0013, 5332,    750.8,   0.2814,  34.6795,2,-999.0000,9,    194.0,2,   125.01,2,    34.60,2,  -999.00,9,     2.37,2, -999.000,9, -999.000,9, -999.000,9, -999.000,9,   2277.7,2, -999.000,9, -999.000,-999.0000,9,-999.0000,  -999.00,9,  -999.00, -999.000,9, -999.000
  06AQ19960317,  S04a,    49,  1,     12,     13,2,19960417,   0,-62.5007,  -0.0013, 5332,   1001.4,   0.1541,  34.6754,2,  34.6788,2,    202.1,2,   126.09,2,    34.22,2,  -999.00,9,     2.35,2,    0.148,2,    0.073,2,    0.006,2,    0.383,2,   2273.5,2, -999.000,9, -999.000,-999.0000,9,-999.0000,  -999.00,9,  -999.00, -999.000,9, -999.000
  06AQ19960317,  S04a,    49,  1,     11,     14,2,19960417,   0,-62.5007,  -0.0013, 5332,   1501.7,  -0.0256,  34.6666,2,  34.6713,2,    214.1,2,   126.84,2,    33.84,2,  -999.00,9,     2.32,2, -999.000,9, -999.000,9, -999.000,9, -999.000,9,   2266.1,2, -999.000,9, -999.000,-999.0000,9,-999.0000,  -999.00,9,  -999.00, -999.000,9, -999.000
  06AQ19960317,  S04a,    49,  1,     10,     15,2,19960417,   0,-62.5007,  -0.0013, 5332,   2001.0,  -0.1645,  34.6620,2,  34.6646,2,    222.9,2,   126.46,2,    33.51,2,  -999.00,9,     2.30,2,    0.176,2,    0.084,2,    0.005,2,    0.511,2,   2263.9,2, -999.000,9, -999.000,-999.0000,9,-999.0000,  -999.00,9,  -999.00, -999.000,9, -999.000
  06AQ19960317,  S04a,    49,  1,      9,     16,2,19960417,   0,-62.5007,  -0.0013, 5332,   2502.3,  -0.2509,  34.6588,2,  34.6605,2,    227.9,2,   125.26,2,    33.20,2,  -999.00,9,     2.29,2, -999.000,9, -999.000,9, -999.000,9, -999.000,9,   2258.1,2, -999.000,9, -999.000,-999.0000,9,-999.0000,  -999.00,9,  -999.00, -999.000,9, -999.000
  06AQ19960317,  S04a,    49,  1,      8,     17,2,19960417,   0,-62.5007,  -0.0013, 5332,   3000.5,  -0.3095,  34.6568,2,  34.6581,2,    232.3,2,   124.94,2,    33.14,2,  -999.00,9,     2.27,2,    0.208,2,    0.103,2,    0.007,2,    0.592,2,   2254.8,2, -999.000,9, -999.000,-999.0000,9,-999.0000,  -999.00,9,  -999.00, -999.000,9, -999.000
  06AQ19960317,  S04a,    49,  1,      7,     18,2,19960417,   0,-62.5007,  -0.0013, 5332,   3500.6,  -0.3620,  34.6546,2,  34.6565,2,    237.4,2,   124.43,2,    32.99,2,  -999.00,9,     2.27,2, -999.000,9, -999.000,9, -999.000,9, -999.000,9,   2253.1,2, -999.000,9, -999.000,-999.0000,9,-999.0000,  -999.00,9,  -999.00, -999.000,9, -999.000
  06AQ19960317,  S04a,    49,  1,      6,     19,2,19960417,   0,-62.5007,  -0.0013, 5332,   3999.2,  -0.4111,  34.6526,2,  34.6539,2,    240.3,2,   124.34,2,    32.86,2,  -999.00,9,     2.25,2,    0.235,2,    0.115,2,    0.008,2,    0.690,2,   2252.0,2, -999.000,9, -999.000,-999.0000,9,-999.0000,  -999.00,9,  -999.00, -999.000,9, -999.000
  06AQ19960317,  S04a,    49,  1,      5,     20,2,19960417,   0,-62.5007,  -0.0013, 5332,   4299.8,  -0.4526,  34.6493,2,  34.6495,2,    242.9,2,   121.06,2,    32.85,2,  -999.00,9,     2.25,2,    0.310,2,    0.152,2,    0.010,2,    0.822,2,   2251.4,2, -999.000,9, -999.000,-999.0000,9,-999.0000,  -999.00,9,  -999.00, -999.000,9, -999.000
  06AQ19960317,  S04a,    49,  1,      4,     21,2,19960417,   0,-62.5007,  -0.0013, 5332,   4600.3,  -0.4759,  34.6478,2,  34.6471,2,    245.4,2,   119.77,2,    32.89,2,  -999.00,9,     2.25,2,    0.409,2,    0.199,2,    0.011,2,    0.956,2,   2248.0,2, -999.000,9, -999.000,-999.0000,9,-999.0000,  -999.00,9,  -999.00, -999.000,9, -999.000
  06AQ19960317,  S04a,    49,  1,      3,     22,2,19960417,   0,-62.5007,  -0.0013, 5332,   4999.0,  -0.4610,  34.6470,2,  34.6474,2,    245.6,2,   119.11,2,    32.75,2,  -999.00,9,     2.24,2,    0.430,2,    0.210,2,    0.013,2,    1.001,2,   -999.0,9, -999.000,9, -999.000,-999.0000,9,-999.0000,  -999.00,9,  -999.00, -999.000,9, -999.000
  06AQ19960317,  S04a,    49,  1,      2,     23,2,19960417,   0,-62.5007,  -0.0013, 5332,   5320.1,  -0.4273,  34.6467,2,  34.6461,2,    245.4,2,   121.72,2,    32.68,2,  -999.00,9,     2.24,2,    0.447,2,    0.220,2,    0.012,2,    0.978,2,   2249.8,2, -999.000,9, -999.000,-999.0000,9,-999.0000,  -999.00,9,  -999.00, -999.000,9, -999.000
  06AQ19960317,  S04a,    49,  1,      1,     24,2,19960417,   0,-62.5007,  -0.0013, 5332,   5421.4,  -0.4146,  34.6465,2,  34.6456,2,    244.0,2,   122.31,2,    32.90,2,  -999.00,9,     2.25,2,    0.444,2,    0.220,2,    0.012,2,    1.000,2,   2248.9,2, -999.000,9, -999.000,-999.0000,9,-999.0000,  -999.00,9,  -999.00, -999.000,9, -999.000