BOTTLE,20150129PRINUNIVRMK
EXPOCODE,SECT_ID,STNNBR,CASTNO,SAMPNO,BTLNBR,BTLNBR_FLAG_W,DATE,TIME,LATITUDE,LONGITUDE,DEPTH,CTDPRS,CTDTMP,CTDSAL,CTDSAL_FLAG_W,SALNTY,SALNTY_FLAG_W,OXYGEN,OXYGEN_FLAG_W,SILCAT,SILCAT_FLAG_W,NITRAT,NITRAT_FLAG_W,NITRIT,NITRIT_FLAG_W,PHSPHT,PHSPHT_FLAG_W,CFC-11,CFC-11_FLAG_W,CFC-12,CFC-12_FLAG_W,CFC113,CFC113_FLAG_W,CCL4,CCL4_FLAG_W,TCARBN,TCARBN_FLAG_W,TRITUM,TRITUM_FLAG_W,TRITER,HELIUM,HELIUM_FLAG_W,HELIER,DELHE3,DELHE3_FLAG_W,DELHER,NEON,NEON_FLAG_W,NEONER
,,,,,,,,,,,METERS,DBAR,ITS-90,PSS-78,,PSS-78,,UMOL/KG,,UMOL/KG,,UMOL/KG,,UMOL/KG,,UMOL/KG,,PMOL/KG,,PMOL/KG,,PMOL/KG,,PMOL/KG,,UMOL/KG,,TU,,TU,NMOL/KG,,NMOL/KG,PERCNT,,PERCNT,NMOL/KG,,NMOL/KG
  06AQ19960317,  S04a,    17,  1,     24,      1,2,19960328,   0,-54.7528,  24.6382, 3560,     21.5,   1.6336,  33.9527,2,-999.0000,9,    330.4,2,    43.80,2,    23.47,2,  -999.00,9,     1.54,2,    6.161,2,    3.035,2,    0.477,2,    8.393,2,   2162.4,2, -999.000,9, -999.000,-999.0000,9,-999.0000,  -999.00,9,  -999.00, -999.000,9, -999.000
  06AQ19960317,  S04a,    17,  1,     23,      2,2,19960328,   0,-54.7528,  24.6382, 3560,     21.5,   1.6332,  33.9530,2,  33.9534,2,    330.4,2,    43.92,2,    23.14,2,  -999.00,9,     1.52,2, -999.000,9, -999.000,9, -999.000,9, -999.000,9,   -999.0,9, -999.000,9, -999.000,-999.0000,9,-999.0000,  -999.00,9,  -999.00, -999.000,9, -999.000
  06AQ19960317,  S04a,    17,  1,     22,      3,2,19960328,   0,-54.7528,  24.6382, 3560,     42.3,   1.6365,  33.9534,2,-999.0000,9,    330.2,2,    43.33,2,    23.16,2,  -999.00,9,     1.53,2,    6.041,2,    2.983,2,    0.488,2,    8.207,2,   2161.3,2, -999.000,9, -999.000,-999.0000,9,-999.0000,  -999.00,9,  -999.00, -999.000,9, -999.000
  06AQ19960317,  S04a,    17,  1,     21,      4,2,19960328,   0,-54.7528,  24.6382, 3560,     61.7,   1.6357,  33.9525,2,  33.9563,2,   -999.0,9,    43.54,2,    23.14,2,  -999.00,9,     1.53,2, -999.000,9, -999.000,9, -999.000,9, -999.000,9,   -999.0,9, -999.000,9, -999.000,-999.0000,9,-999.0000,  -999.00,9,  -999.00, -999.000,9, -999.000
  06AQ19960317,  S04a,    17,  1,     20,      5,2,19960328,   0,-54.7528,  24.6382, 3560,     61.7,   1.6364,  33.9528,2,-999.0000,9,    329.8,2,    43.90,2,    23.18,2,  -999.00,9,     1.54,2,    5.762,2,    2.853,2,    0.482,2,    7.845,2,   2162.1,2, -999.000,9, -999.000,-999.0000,9,-999.0000,  -999.00,9,  -999.00, -999.000,9, -999.000
  06AQ19960317,  S04a,    17,  1,     19,      6,2,19960328,   0,-54.7528,  24.6382, 3560,     82.0,   1.6471,  33.9552,2,-999.0000,9,    329.7,2,    43.77,2,    23.17,2,  -999.00,9,     1.54,2,    6.466,2,    3.165,2,    0.489,2,    8.464,2,   2163.1,2, -999.000,9, -999.000,-999.0000,9,-999.0000,  -999.00,9,  -999.00, -999.000,9, -999.000
  06AQ19960317,  S04a,    17,  1,     18,      7,2,19960328,   0,-54.7528,  24.6382, 3560,     99.5,   1.6552,  33.9596,2,-999.0000,9,    329.7,2,    44.41,2,    23.11,2,  -999.00,9,     1.54,2,    6.246,2,    3.063,2,    0.496,2,    8.317,2,   2162.3,2, -999.000,9, -999.000,-999.0000,9,-999.0000,  -999.00,9,  -999.00, -999.000,9, -999.000
  06AQ19960317,  S04a,    17,  1,     17,      8,2,19960328,   0,-54.7528,  24.6382, 3560,     99.9,   1.6530,  33.9595,2,  33.9623,2,   -999.0,9,    44.66,2,    23.10,2,  -999.00,9,     1.55,2, -999.000,9, -999.000,9, -999.000,9, -999.000,9,   -999.0,9, -999.000,9, -999.000,-999.0000,9,-999.0000,  -999.00,9,  -999.00, -999.000,9, -999.000
  06AQ19960317,  S04a,    17,  1,     16,      9,2,19960328,   0,-54.7528,  24.6382, 3560,    151.0,  -0.8531,  34.1506,2,-999.0000,9,    331.5,2,    65.38,2,    27.35,2,  -999.00,9,     2.02,2,    6.715,2,    3.229,2,    0.520,2,    8.572,2,   2199.5,2, -999.000,9, -999.000,-999.0000,9,-999.0000,  -999.00,9,  -999.00, -999.000,9, -999.000
  06AQ19960317,  S04a,    17,  1,     15,     10,2,19960328,   0,-54.7528,  24.6382, 3560,    180.8,  -0.8519,  34.2880,2,  34.2961,2,    295.5,2,    73.21,2,    30.04,2,  -999.00,9,     2.12,2,    5.213,2,    2.506,2,    0.402,2,    6.770,2,   2219.3,2, -999.000,9, -999.000,-999.0000,9,-999.0000,  -999.00,9,  -999.00, -999.000,9, -999.000
  06AQ19960317,  S04a,    17,  1,     13,     12,2,19960328,   0,-54.7528,  24.6382, 3560,    201.6,  -0.6154,  34.3475,2,  34.3680,2,    273.2,2,    77.66,2,    31.03,2,  -999.00,9,     2.17,2,    4.236,2,    2.074,2,    0.337,2,    5.482,2,   2229.4,2, -999.000,9, -999.000,-999.0000,9,-999.0000,  -999.00,9,  -999.00, -999.000,9, -999.000
  06AQ19960317,  S04a,    17,  1,     14,     11,2,19960328,   0,-54.7528,  24.6382, 3560,    201.7,  -0.6255,  34.3487,2,-999.0000,9,   -999.0,9,    76.86,2,    30.78,2,  -999.00,9,     2.15,2, -999.000,9, -999.000,9, -999.000,9, -999.000,9,   -999.0,9, -999.000,9, -999.000,-999.0000,9,-999.0000,  -999.00,9,  -999.00, -999.000,9, -999.000
  06AQ19960317,  S04a,    17,  1,     12,     13,2,19960328,   0,-54.7528,  24.6382, 3560,    301.5,   0.5493,  34.6241,2,  34.6258,2,    202.4,2,    97.13,2,    32.45,2,  -999.00,9,     2.27,2,    1.226,2,    0.583,2,    0.074,2,    1.577,2,   2257.8,2, -999.000,9, -999.000,-999.0000,9,-999.0000,  -999.00,9,  -999.00, -999.000,9, -999.000
  06AQ19960317,  S04a,    17,  1,     11,     14,2,19960328,   0,-54.7528,  24.6382, 3560,    369.8,   0.6908,  34.6669,2,  34.6677,2,    197.3,2,   103.81,2,    32.34,2,  -999.00,9,     2.25,2,    0.709,2,    0.331,2,    0.039,2,    0.945,2,   2261.0,2, -999.000,9, -999.000,-999.0000,9,-999.0000,  -999.00,9,  -999.00, -999.000,9, -999.000
  06AQ19960317,  S04a,    17,  1,     10,     15,2,19960328,   0,-54.7528,  24.6382, 3560,    500.2,   0.5657,  34.6795,2,  34.6834,2,    197.4,2,   109.80,2,    32.87,2,  -999.00,9,     2.25,2, -999.000,9, -999.000,9, -999.000,9, -999.000,9,   2265.1,2, -999.000,9, -999.000,-999.0000,9,-999.0000,  -999.00,9,  -999.00, -999.000,9, -999.000
  06AQ19960317,  S04a,    17,  1,      9,     16,2,19960328,   0,-54.7528,  24.6382, 3560,    700.8,   0.4397,  34.6813,2,  34.6819,2,    196.4,2,   115.58,2,    32.92,2,  -999.00,9,     2.28,2,    0.317,2,    0.146,2,    0.012,2,    0.547,2,   2266.1,2, -999.000,9, -999.000,-999.0000,9,-999.0000,  -999.00,9,  -999.00, -999.000,9, -999.000
  06AQ19960317,  S04a,    17,  1,      8,     17,2,19960328,   0,-54.7528,  24.6382, 3560,   1001.6,   0.3202,  34.6799,2,  34.6815,2,    198.9,2,   120.47,2,    33.22,2,  -999.00,9,     2.29,2,    0.205,2,    0.096,2,    0.005,2,    0.402,2,   2267.3,2, -999.000,9, -999.000,-999.0000,9,-999.0000,  -999.00,9,  -999.00, -999.000,9, -999.000
  06AQ19960317,  S04a,    17,  1,      7,     18,2,19960328,   0,-54.7528,  24.6382, 3560,   1500.7,   0.1154,  34.6729,2,  34.6724,2,    209.9,2,   122.74,2,    33.07,2,  -999.00,9,     2.27,2,    0.203,2,    0.091,2,    0.003,2,    0.425,2,   2261.4,2, -999.000,9, -999.000,-999.0000,9,-999.0000,  -999.00,9,  -999.00, -999.000,9, -999.000
  06AQ19960317,  S04a,    17,  1,      6,     19,2,19960328,   0,-54.7528,  24.6382, 3560,   2002.2,  -0.0350,  34.6657,2,  34.6662,2,    218.2,2,   124.01,2,    32.66,2,  -999.00,9,     2.25,2,    0.221,2,    0.106,2,    0.004,2,    0.509,2,   2259.0,2, -999.000,9, -999.000,-999.0000,9,-999.0000,  -999.00,9,  -999.00, -999.000,9, -999.000
  06AQ19960317,  S04a,    17,  1,      5,     20,2,19960328,   0,-54.7528,  24.6382, 3560,   2502.4,  -0.1633,  34.6611,2,  34.6613,2,    225.9,2,   124.68,2,    32.88,2,  -999.00,9,     2.25,2,    0.248,2,    0.115,2,    0.003,2,    0.575,2,   2256.9,2, -999.000,9, -999.000,-999.0000,9,-999.0000,  -999.00,9,  -999.00, -999.000,9, -999.000
  06AQ19960317,  S04a,    17,  1,      4,     21,2,19960328,   0,-54.7528,  24.6382, 3560,   3000.1,  -0.2086,  34.6596,2,  34.6602,2,    229.3,2,   124.63,2,    32.67,2,  -999.00,9,     2.25,2,    0.255,2,    0.120,2,    0.007,2,    0.616,2,   2254.3,2, -999.000,9, -999.000,-999.0000,9,-999.0000,  -999.00,9,  -999.00, -999.000,9, -999.000
  06AQ19960317,  S04a,    17,  1,      3,     22,2,19960328,   0,-54.7528,  24.6382, 3560,   3643.3,  -0.2109,  34.6577,2,  34.6576,2,    231.5,2,   124.32,2,    32.23,2,  -999.00,9,     2.23,2,    0.273,2,    0.128,2,    0.007,2,    0.645,2,   2253.6,2, -999.000,9, -999.000,-999.0000,9,-999.0000,  -999.00,9,  -999.00, -999.000,9, -999.000
  06AQ19960317,  S04a,    17,  1,      2,     23,2,19960328,   0,-54.7528,  24.6382, 3560,   3700.0,  -0.2061,  34.6582,2,  34.6571,2,    232.0,2,   124.23,2,    32.43,2,  -999.00,9,     2.24,2,    0.269,2,    0.130,2,    0.007,2,    0.657,2,   2254.5,2, -999.000,9, -999.000,-999.0000,9,-999.0000,  -999.00,9,  -999.00, -999.000,9, -999.000
  06AQ19960317,  S04a,    17,  1,      1,     24,2,19960328,   0,-54.7528,  24.6382, 3560,   3746.9,  -0.2026,  34.6581,2,  34.6571,2,    230.8,2,   124.19,2,    32.25,2,  -999.00,9,     2.24,2,    0.287,2,    0.178,3,    0.010,2,    0.664,2,   2253.4,2, -999.000,9, -999.000,-999.0000,9,-999.0000,  -999.00,9,  -999.00, -999.000,9, -999.000
  06AQ19960317,  S04a,    18,  1,     24,      1,2,19960328,   0,-55.4993,  23.4342, 4643,     20.4,   1.6224,-999.0000,9,  33.8907,2,    329.5,2,  -999.00,9,  -999.00,9,  -999.00,9,  -999.00,9,    6.363,2,    3.141,2,    0.464,2,    8.370,2,   2156.5,2,    0.030,2, -999.000,   1.7950,2,   0.0050,    -1.08,2,     0.22,    7.891,2,    0.018
  06AQ19960317,  S04a,    18,  1,     23,      2,2,19960328,   0,-55.4993,  23.4342, 4643,     40.9,   1.6236,-999.0000,9,  33.8939,2,    335.5,2,  -999.00,9,  -999.00,9,  -999.00,9,  -999.00,9,    6.173,2,    3.074,2,    0.507,2,    8.376,2,   2156.3,2, -999.000,9, -999.000,-999.0000,9,-999.0000,  -999.00,9,  -999.00, -999.000,9, -999.000
  06AQ19960317,  S04a,    18,  1,     22,      3,2,19960328,   0,-55.4993,  23.4342, 4643,     81.1,   1.0482,-999.0000,9,  34.0260,2,    332.1,2,  -999.00,9,  -999.00,9,  -999.00,9,  -999.00,9,    6.567,2,    3.200,2,    0.495,2,    8.390,2,   2176.3,2, -999.000,9, -999.000,-999.0000,9,-999.0000,  -999.00,9,  -999.00, -999.000,9, -999.000
  06AQ19960317,  S04a,    18,  1,     20,      5,2,19960328,   0,-55.4993,  23.4342, 4643,    100.1,   0.1180,-999.0000,9,  34.1008,2,    335.4,2,  -999.00,9,  -999.00,9,  -999.00,9,  -999.00,9,    6.889,2,    3.322,2,    0.536,2,    8.602,2,   2195.6,2,    0.204,2, -999.000,   1.8400,2,   0.0050,    -0.87,2,     0.22,    8.189,2,    0.018
  06AQ19960317,  S04a,    18,  1,     21,      4,2,19960328,   0,-55.4993,  23.4342, 4643,    100.2,   0.0998,-999.0000,9,  34.1004,2,    335.7,2,  -999.00,9,  -999.00,9,  -999.00,9,  -999.00,9, -999.000,9, -999.000,9, -999.000,9, -999.000,9,   2197.6,2, -999.000,9, -999.000,-999.0000,9,-999.0000,  -999.00,9,  -999.00, -999.000,9, -999.000
  06AQ19960317,  S04a,    18,  1,     19,      6,2,19960328,   0,-55.4993,  23.4342, 4643,    132.3,  -0.9411,-999.0000,9,  34.1938,2,    326.6,2,  -999.00,9,  -999.00,9,  -999.00,9,  -999.00,9,    6.251,2,    3.054,2,    0.501,2,    8.250,2,   2209.4,2,    0.124,2, -999.000,   1.8060,2,   0.0050,    -0.42,2,     0.22,    8.141,2,    0.018
  06AQ19960317,  S04a,    18,  1,     18,      7,2,19960328,   0,-55.4993,  23.4342, 4643,    151.1,  -0.9812,-999.0000,9,  34.2499,2,    312.6,2,  -999.00,9,  -999.00,9,  -999.00,9,  -999.00,9,    5.791,2,    2.810,2,    0.459,2,    7.493,2,   2217.3,2, -999.000,9, -999.000,-999.0000,9,-999.0000,  -999.00,9,  -999.00, -999.000,9, -999.000
  06AQ19960317,  S04a,    18,  1,     17,      8,2,19960328,   0,-55.4993,  23.4342, 4643,    200.4,  -0.3986,-999.0000,9,  34.4292,2,    256.6,2,  -999.00,9,  -999.00,9,  -999.00,9,  -999.00,9,    3.714,2,    1.807,2,    0.293,2,    4.774,2,   2240.1,2, -999.000,9, -999.000,-999.0000,9,-999.0000,  -999.00,9,  -999.00, -999.000,9, -999.000
  06AQ19960317,  S04a,    18,  1,     16,      9,2,19960328,   0,-55.4993,  23.4342, 4643,    237.4,   0.1776,-999.0000,9,  34.5538,2,    220.9,2,  -999.00,9,  -999.00,9,  -999.00,9,  -999.00,9,    2.128,2,    1.029,2,    0.149,2,    2.703,2,   2252.9,2,    0.110,2, -999.000,   1.8430,2,   0.0050,     6.64,2,     0.22,    8.103,2,    0.018
  06AQ19960317,  S04a,    18,  1,     15,     10,2,19960328,   0,-55.4993,  23.4342, 4643,    290.1,   0.3996,-999.0000,9,  34.6113,2,    207.8,2,  -999.00,9,  -999.00,9,  -999.00,9,  -999.00,9,    1.418,2,    0.685,2,    0.100,2,    1.824,2,   -999.0,9,    0.048,2, -999.000,   1.8590,2,   0.0050,     8.05,2,     0.22,    8.150,2,    0.018
  06AQ19960317,  S04a,    18,  1,     14,     11,2,19960328,   0,-55.4993,  23.4342, 4643,    471.0,   0.5915,-999.0000,9,  34.6797,2,    197.7,2,  -999.00,9,  -999.00,9,  -999.00,9,  -999.00,9,    0.494,2,    0.230,2,    0.028,2,    0.715,2,   -999.0,9,    0.049,2, -999.000,   1.8800,2,   0.0050,     9.35,2,     0.22,    8.130,2,    0.018
  06AQ19960317,  S04a,    18,  1,     13,     12,2,19960328,   0,-55.4993,  23.4342, 4643,    751.2,   0.4286,-999.0000,9,  34.6828,2,    198.2,2,  -999.00,9,  -999.00,9,  -999.00,9,  -999.00,9,    0.310,2,    0.141,2,    0.013,2,    0.509,2,   2272.0,2,    0.019,2, -999.000,   1.8820,3,   0.0140,     9.22,3,     0.22,    8.148,3,    0.059
  06AQ19960317,  S04a,    18,  1,     12,     13,2,19960328,   0,-55.4993,  23.4342, 4643,   1001.9,   0.3063,-999.0000,9,  34.6803,2,    201.7,2,  -999.00,9,  -999.00,9,  -999.00,9,  -999.00,9,    0.215,2,    0.097,2,    0.004,2,    0.429,2,   2266.4,2, -999.000,9, -999.000,-999.0000,9,-999.0000,  -999.00,9,  -999.00, -999.000,9, -999.000
  06AQ19960317,  S04a,    18,  1,     11,     14,2,19960328,   0,-55.4993,  23.4342, 4643,   1254.1,   0.2100,-999.0000,9,  34.6778,2,    207.0,2,  -999.00,9,  -999.00,9,  -999.00,9,  -999.00,9,    0.208,2,    0.100,2,    0.003,2,    0.431,2,   2263.7,2,    0.031,2, -999.000,   1.8740,2,   0.0050,     8.61,2,     0.22,    8.178,2,    0.018
  06AQ19960317,  S04a,    18,  1,     10,     15,2,19960328,   0,-55.4993,  23.4342, 4643,   1502.1,   0.1140,-999.0000,9,  34.6738,2,    211.6,2,  -999.00,9,  -999.00,9,  -999.00,9,  -999.00,9,    0.216,2,    0.102,2,    0.003,2,    0.474,2,   2264.3,2,    0.012,2, -999.000,   1.8900,2,   0.0050,     8.22,2,     0.22,    8.212,2,    0.018
  06AQ19960317,  S04a,    18,  1,      9,     16,2,19960328,   0,-55.4993,  23.4342, 4643,   1753.0,   0.0326,-999.0000,9,  34.6690,2,    215.6,2,  -999.00,9,  -999.00,9,  -999.00,9,  -999.00,9,    0.213,2,    0.096,2,    0.001,2,    0.479,2,   2261.7,2, -999.000,9, -999.000,-999.0000,9,-999.0000,  -999.00,9,  -999.00, -999.000,9, -999.000
  06AQ19960317,  S04a,    18,  1,      8,     17,2,19960328,   0,-55.4993,  23.4342, 4643,   1997.8,  -0.0372,-999.0000,9,-999.0000,9,    218.6,2,  -999.00,9,  -999.00,9,  -999.00,9,  -999.00,9,    0.216,2,    0.102,2,    0.003,2,    0.512,2,   -999.0,9,    0.045,2, -999.000,   1.9000,2,   0.0050,     7.29,2,     0.22,    8.285,2,    0.018
  06AQ19960317,  S04a,    18,  1,      7,     18,2,19960328,   0,-55.4993,  23.4342, 4643,   2499.1,  -0.1693,-999.0000,9,  34.6620,2,    226.2,2,  -999.00,9,  -999.00,9,  -999.00,9,  -999.00,9,    0.227,2,    0.108,2,    0.003,2,    0.580,2,   2256.0,2, -999.000,9, -999.000,-999.0000,9,-999.0000,  -999.00,9,  -999.00, -999.000,9, -999.000
  06AQ19960317,  S04a,    18,  1,      6,     19,2,19960328,   0,-55.4993,  23.4342, 4643,   3000.9,  -0.2306,-999.0000,9,  34.6579,2,    231.3,2,  -999.00,9,  -999.00,9,  -999.00,9,  -999.00,9,    0.267,2,    0.128,2,    0.008,2,    0.641,2,   2256.7,2,    0.034,2, -999.000,   1.8860,2,   0.0050,     6.23,2,     0.22,    8.287,2,    0.018
  06AQ19960317,  S04a,    18,  1,      5,     20,2,19960328,   0,-55.4993,  23.4342, 4643,   3499.0,  -0.2759,-999.0000,9,  34.6543,2,    234.5,2,  -999.00,9,  -999.00,9,  -999.00,9,  -999.00,9,    0.292,2,    0.136,2,    0.006,2,    0.669,2,   2255.4,2, -999.000,9, -999.000,-999.0000,9,-999.0000,  -999.00,9,  -999.00, -999.000,9, -999.000
  06AQ19960317,  S04a,    18,  1,      4,     21,2,19960328,   0,-55.4993,  23.4342, 4643,   3999.8,  -0.3268,-999.0000,9,  34.6528,2,    238.4,2,  -999.00,9,  -999.00,9,  -999.00,9,  -999.00,9,    0.339,2,    0.156,2,    0.008,2,    0.747,2,   2251.1,2,    0.068,2, -999.000,   1.8810,2,   0.0050,     5.77,2,     0.22,    8.260,2,    0.018
  06AQ19960317,  S04a,    18,  1,      3,     22,2,19960328,   0,-55.4993,  23.4342, 4643,   4249.8,  -0.3416,-999.0000,9,  34.6500,2,    239.6,2,  -999.00,9,  -999.00,9,  -999.00,9,  -999.00,9,    0.363,2,    0.171,2,    0.007,2,    0.784,2,   2251.4,2,    0.031,2, -999.000,   1.8720,2,   0.0050,     4.77,2,     0.22,    8.283,2,    0.018
  06AQ19960317,  S04a,    18,  1,      2,     23,2,19960328,   0,-55.4993,  23.4342, 4643,   4625.4,  -0.3503,-999.0000,9,  34.6497,2,    242.3,2,  -999.00,9,  -999.00,9,  -999.00,9,  -999.00,9,    0.373,2,    0.173,2,    0.008,2,    0.819,2,   2249.9,2,    0.041,2, -999.000,   1.8830,2,   0.0050,     4.62,2,     0.22,    8.278,2,    0.018
  06AQ19960317,  S04a,    18,  1,      1,     24,2,19960328,   0,-55.4993,  23.4342, 4643,   4728.0,  -0.3600,-999.0000,9,  34.6499,2,    242.4,2,  -999.00,9,  -999.00,9,  -999.00,9,  -999.00,9,    0.384,2,    0.179,2,    0.008,2,    0.864,2,   2249.2,2,    0.058,2, -999.000,   1.8620,2,   0.0050,     4.89,2,     0.22,    8.176,2,    0.018