BOTTLE,20150129PRINUNIVRMK
EXPOCODE,SECT_ID,STNNBR,CASTNO,SAMPNO,BTLNBR,BTLNBR_FLAG_W,DATE,TIME,LATITUDE,LONGITUDE,DEPTH,CTDPRS,CTDTMP,CTDSAL,CTDSAL_FLAG_W,SALNTY,SALNTY_FLAG_W,OXYGEN,OXYGEN_FLAG_W,SILCAT,SILCAT_FLAG_W,NITRAT,NITRAT_FLAG_W,NITRIT,NITRIT_FLAG_W,PHSPHT,PHSPHT_FLAG_W,CFC-11,CFC-11_FLAG_W,CFC-12,CFC-12_FLAG_W,CFC113,CFC113_FLAG_W,CCL4,CCL4_FLAG_W,TCARBN,TCARBN_FLAG_W,TRITUM,TRITUM_FLAG_W,TRITER,HELIUM,HELIUM_FLAG_W,HELIER,DELHE3,DELHE3_FLAG_W,DELHER,NEON,NEON_FLAG_W,NEONER
,,,,,,,,,,,METERS,DBAR,ITS-90,PSS-78,,PSS-78,,UMOL/KG,,UMOL/KG,,UMOL/KG,,UMOL/KG,,UMOL/KG,,PMOL/KG,,PMOL/KG,,PMOL/KG,,PMOL/KG,,UMOL/KG,,TU,,TU,NMOL/KG,,NMOL/KG,PERCNT,,PERCNT,NMOL/KG,,NMOL/KG
  06AQ19960317,  S04a,    14,  3,     35,      2,2,19960327,   0,-54.0028,  26.5033, 4655,    362.4,   1.2514,  34.6703,2,-999.0000,9,   -999.0,9,    94.24,2,    33.49,2,  -999.00,9,     2.29,2, -999.000,9, -999.000,9, -999.000,9, -999.000,9,   -999.0,9, -999.000,9, -999.000,-999.0000,9,-999.0000,  -999.00,9,  -999.00, -999.000,9, -999.000
  06AQ19960317,  S04a,    14,  3,     36,      1,2,19960327,   0,-54.0028,  26.5033, 4655,    362.5,   1.2467,  34.6693,2,-999.0000,9,   -999.0,9,    95.18,2,    33.39,2,  -999.00,9,     2.26,2, -999.000,9, -999.000,9, -999.000,9, -999.000,9,   -999.0,9, -999.000,9, -999.000,-999.0000,9,-999.0000,  -999.00,9,  -999.00, -999.000,9, -999.000
  06AQ19960317,  S04a,    14,  3,     34,      3,2,19960327,   0,-54.0028,  26.5033, 4655,    501.7,   1.1402,  34.6946,2,  34.6962,2,    191.5,2,   100.00,2,    32.91,2,  -999.00,9,     2.29,2,    0.465,2,    0.243,2,    0.024,2,    0.609,2,   2262.4,2, -999.000,9, -999.000,-999.0000,9,-999.0000,  -999.00,9,  -999.00, -999.000,9, -999.000
  06AQ19960317,  S04a,    14,  3,     31,      6,2,19960327,   0,-54.0028,  26.5033, 4655,    651.0,   0.9309,  34.6957,2,-999.0000,9,   -999.0,9,   105.95,2,    33.00,2,  -999.00,9,     2.29,2, -999.000,9, -999.000,9, -999.000,9, -999.000,9,   -999.0,9, -999.000,9, -999.000,-999.0000,9,-999.0000,  -999.00,9,  -999.00, -999.000,9, -999.000
  06AQ19960317,  S04a,    14,  3,     32,      5,2,19960327,   0,-54.0028,  26.5033, 4655,    651.8,   0.9307,  34.6957,2,-999.0000,9,   -999.0,9,   106.07,2,    32.74,2,  -999.00,9,     2.28,2, -999.000,9, -999.000,9, -999.000,9, -999.000,9,   -999.0,9, -999.000,9, -999.000,-999.0000,9,-999.0000,  -999.00,9,  -999.00, -999.000,9, -999.000
  06AQ19960317,  S04a,    14,  3,     33,      4,2,19960327,   0,-54.0028,  26.5033, 4655,    652.1,   0.9232,  34.6948,2,  34.6958,2,    194.9,2,   105.75,2,    33.07,2,  -999.00,9,     2.27,2,    0.390,2,    0.182,2,    0.017,2,    0.554,2,   2263.6,2, -999.000,9, -999.000,-999.0000,9,-999.0000,  -999.00,9,  -999.00, -999.000,9, -999.000
  06AQ19960317,  S04a,    14,  3,     30,      7,2,19960327,   0,-54.0028,  26.5033, 4655,    751.2,   0.8152,  34.6936,2,  34.6950,2,    197.4,2,   109.10,2,    33.08,2,  -999.00,9,     2.28,2,    0.350,2,    0.164,2,    0.012,2,    0.522,2,   2265.5,2, -999.000,9, -999.000,-999.0000,9,-999.0000,  -999.00,9,  -999.00, -999.000,9, -999.000
  06AQ19960317,  S04a,    14,  3,     29,      8,2,19960327,   0,-54.0028,  26.5033, 4655,   1002.7,   0.6672,  34.6940,2,  34.6948,2,    201.0,2,   112.74,2,    33.08,2,  -999.00,9,     2.29,2,    0.279,2,    0.134,2,    0.010,2,    0.462,2,   2266.3,2, -999.000,9, -999.000,-999.0000,9,-999.0000,  -999.00,9,  -999.00, -999.000,9, -999.000
  06AQ19960317,  S04a,    14,  3,     28,      9,2,19960327,   0,-54.0028,  26.5033, 4655,   1250.9,   0.4884,  34.6876,2,  34.6884,2,    203.3,2,   117.89,2,    33.34,2,  -999.00,9,     2.31,2,    0.233,2,    0.115,2,    0.007,2,    0.435,2,   2265.2,2, -999.000,9, -999.000,-999.0000,9,-999.0000,  -999.00,9,  -999.00, -999.000,9, -999.000
  06AQ19960317,  S04a,    14,  3,     27,     10,2,19960327,   0,-54.0028,  26.5033, 4655,   1502.0,   0.3601,  34.6836,2,  34.6843,2,    206.0,2,   121.58,2,    33.56,2,  -999.00,9,     2.30,2, -999.000,9, -999.000,9, -999.000,9, -999.000,9,   2266.5,2, -999.000,9, -999.000,-999.0000,9,-999.0000,  -999.00,9,  -999.00, -999.000,9, -999.000
  06AQ19960317,  S04a,    14,  3,     26,     11,2,19960327,   0,-54.0028,  26.5033, 4655,   1751.8,   0.2609,  34.6787,2,  34.6810,2,    209.4,2,   124.42,2,    33.48,2,  -999.00,9,     2.34,2,    0.199,2,    0.122,2,    0.005,2,    0.418,2,   2267.1,2, -999.000,9, -999.000,-999.0000,9,-999.0000,  -999.00,9,  -999.00, -999.000,9, -999.000
  06AQ19960317,  S04a,    14,  3,     25,     12,2,19960327,   0,-54.0028,  26.5033, 4655,   2501.3,  -0.0027,  34.6655,2,  34.6689,2,    219.3,2,   126.90,2,    33.56,2,  -999.00,9,     2.33,2,    0.254,2,    0.141,2,    0.000,2,    0.506,2,   2262.4,2, -999.000,9, -999.000,-999.0000,9,-999.0000,  -999.00,9,  -999.00, -999.000,9, -999.000
  06AQ19960317,  S04a,    14,  3,     24,     13,2,19960327,   0,-54.0028,  26.5033, 4655,   3001.2,  -0.1662,  34.6595,2,  34.6597,2,    227.6,2,   125.95,2,    33.16,2,  -999.00,9,     2.31,2,    0.261,2,    0.141,2,    0.001,2,    0.581,2,   2258.5,2, -999.000,9, -999.000,-999.0000,9,-999.0000,  -999.00,9,  -999.00, -999.000,9, -999.000
  06AQ19960317,  S04a,    14,  3,     23,     14,2,19960327,   0,-54.0028,  26.5033, 4655,   3499.1,  -0.2414,  34.6565,2,  34.6564,2,    232.4,2,   125.84,2,    33.44,2,  -999.00,9,     2.31,2,    0.319,2,    0.219,3,    0.000,2,    0.640,2,   2255.4,2, -999.000,9, -999.000,-999.0000,9,-999.0000,  -999.00,9,  -999.00, -999.000,9, -999.000
  06AQ19960317,  S04a,    14,  3,     21,     16,2,19960327,   0,-54.0028,  26.5033, 4655,   3999.0,  -0.2975,  34.6540,2,-999.0000,9,   -999.0,9,   125.97,2,    33.06,2,  -999.00,9,     2.31,2, -999.000,9, -999.000,9, -999.000,9, -999.000,9,   -999.0,9, -999.000,9, -999.000,-999.0000,9,-999.0000,  -999.00,9,  -999.00, -999.000,9, -999.000
  06AQ19960317,  S04a,    14,  3,     22,     15,2,19960327,   0,-54.0028,  26.5033, 4655,   3999.2,  -0.2975,  34.6543,2,  34.6536,2,    236.9,2,   125.99,2,    33.08,2,  -999.00,9,     2.29,2,    0.274,2,    0.134,2,    0.007,2,    0.712,2,   2253.9,2, -999.000,9, -999.000,-999.0000,9,-999.0000,  -999.00,9,  -999.00, -999.000,9, -999.000
  06AQ19960317,  S04a,    14,  3,     20,     17,2,19960327,   0,-54.0028,  26.5033, 4655,   3999.3,  -0.2979,  34.6540,2,-999.0000,9,   -999.0,9,   126.63,2,    32.90,2,  -999.00,9,     2.31,2, -999.000,9, -999.000,9, -999.000,9, -999.000,9,   -999.0,9, -999.000,9, -999.000,-999.0000,9,-999.0000,  -999.00,9,  -999.00, -999.000,9, -999.000
  06AQ19960317,  S04a,    14,  3,     17,     20,2,19960327,   0,-54.0028,  26.5033, 4655,   4670.2,  -0.2836,  34.6529,2,-999.0000,9,   -999.0,9,   125.50,2,    33.25,2,  -999.00,9,     2.30,2, -999.000,9, -999.000,9, -999.000,9, -999.000,9,   -999.0,9, -999.000,9, -999.000,-999.0000,9,-999.0000,  -999.00,9,  -999.00, -999.000,9, -999.000
  06AQ19960317,  S04a,    14,  3,     18,     19,2,19960327,   0,-54.0028,  26.5033, 4655,   4670.8,  -0.2831,  34.6526,2,-999.0000,9,   -999.0,9,   126.85,2,    32.99,2,  -999.00,9,     2.30,2, -999.000,9, -999.000,9, -999.000,9, -999.000,9,   -999.0,9, -999.000,9, -999.000,-999.0000,9,-999.0000,  -999.00,9,  -999.00, -999.000,9, -999.000
  06AQ19960317,  S04a,    14,  3,     19,     18,2,19960327,   0,-54.0028,  26.5033, 4655,   4672.5,  -0.2834,  34.6526,2,  34.6530,2,    239.2,2,   127.38,2,    33.04,2,  -999.00,9,     2.30,2,    0.285,2,    0.141,2,    0.008,2,    0.717,2,   2253.4,2, -999.000,9, -999.000,-999.0000,9,-999.0000,  -999.00,9,  -999.00, -999.000,9, -999.000
  06AQ19960317,  S04a,    14,  3,     16,     21,2,19960327,   0,-54.0028,  26.5033, 4655,   4718.6,  -0.2780,  34.6520,2,  34.6511,2,    239.2,2,   125.67,2,    32.89,2,  -999.00,9,     2.29,2,    0.285,2,    0.140,2,    0.003,2,    0.728,2,   2250.1,2, -999.000,9, -999.000,-999.0000,9,-999.0000,  -999.00,9,  -999.00, -999.000,9, -999.000
  06AQ19960317,  S04a,    14,  3,     13,     24,2,19960327,   0,-54.0028,  26.5033, 4655,   4772.7,  -0.2731,  34.6530,2,-999.0000,9,   -999.0,9,   127.00,2,    33.49,2,  -999.00,9,     2.30,2, -999.000,9, -999.000,9, -999.000,9, -999.000,9,   -999.0,9, -999.000,9, -999.000,-999.0000,9,-999.0000,  -999.00,9,  -999.00, -999.000,9, -999.000
  06AQ19960317,  S04a,    14,  3,     14,     23,2,19960327,   0,-54.0028,  26.5033, 4655,   4772.9,  -0.2732,  34.6526,2,-999.0000,9,   -999.0,9,   127.30,2,    32.91,2,  -999.00,9,     2.30,2, -999.000,9, -999.000,9, -999.000,9, -999.000,9,   -999.0,9, -999.000,9, -999.000,-999.0000,9,-999.0000,  -999.00,9,  -999.00, -999.000,9, -999.000
  06AQ19960317,  S04a,    14,  3,     15,     22,2,19960327,   0,-54.0028,  26.5033, 4655,   4773.1,  -0.2726,  34.6524,2,  34.6519,2,    238.8,2,   128.84,2,    33.00,2,  -999.00,9,     2.30,2,    0.287,2,    0.141,2,    0.008,2,    0.734,2,   2253.2,2, -999.000,9, -999.000,-999.0000,9,-999.0000,  -999.00,9,  -999.00, -999.000,9, -999.000
  06AQ19960317,  S04a,    15,  2,     16,      2,2,19960327,   0,-54.0028,  25.7400, 3702,     20.4,   1.7768,  33.9702,2,-999.0000,9,   -999.0,9,    46.04,2,    24.01,2,  -999.00,9,     1.61,2,    5.852,2,    2.890,2,    0.496,2,    8.186,2,   -999.0,9,    0.017,2, -999.000,   1.8130,2,   0.0050,    -0.29,2,     0.22,    8.002,2,    0.018
  06AQ19960317,  S04a,    15,  2,     17,      1,2,19960327,   0,-54.0028,  25.7400, 3702,     20.7,   1.7790,  33.9697,2,  33.9718,2,    328.6,2,    45.54,2,    23.60,2,  -999.00,9,     1.55,2, -999.000,9, -999.000,9, -999.000,9, -999.000,9,   2160.1,2, -999.000,9, -999.000,-999.0000,9,-999.0000,  -999.00,9,  -999.00, -999.000,9, -999.000
  06AQ19960317,  S04a,    15,  2,     15,      3,2,19960327,   0,-54.0028,  25.7400, 3702,     40.9,   1.7804,  33.9699,2,  33.9729,2,    328.8,2,    45.94,2,    23.96,2,  -999.00,9,     1.58,2, -999.000,9, -999.000,9, -999.000,9, -999.000,9,   2162.0,2, -999.000,9, -999.000,-999.0000,9,-999.0000,  -999.00,9,  -999.00, -999.000,9, -999.000
  06AQ19960317,  S04a,    15,  2,     14,      4,2,19960327,   0,-54.0028,  25.7400, 3702,     41.0,   1.7821,  33.9705,2,-999.0000,9,   -999.0,9,    45.79,2,    24.06,2,  -999.00,9,     1.57,2,    6.131,2,    2.997,2,    0.487,2,    8.238,2,   -999.0,9, -999.000,9, -999.000,-999.0000,9,-999.0000,  -999.00,9,  -999.00, -999.000,9, -999.000
  06AQ19960317,  S04a,    15,  2,     12,      6,2,19960327,   0,-54.0028,  25.7400, 3702,     62.4,   1.7845,  33.9715,2,-999.0000,9,   -999.0,9,    45.78,2,    23.92,2,  -999.00,9,     1.59,2,    6.189,2,    3.035,2,    0.484,2,    8.335,2,   -999.0,9, -999.000,9, -999.000,-999.0000,9,-999.0000,  -999.00,9,  -999.00, -999.000,9, -999.000
  06AQ19960317,  S04a,    15,  2,     13,      5,2,19960327,   0,-54.0028,  25.7400, 3702,     62.5,   1.7851,  33.9714,2,  33.9744,2,    328.6,2,    45.88,2,    24.18,2,  -999.00,9,     1.58,2, -999.000,9, -999.000,9, -999.000,9, -999.000,9,   2162.8,2, -999.000,9, -999.000,-999.0000,9,-999.0000,  -999.00,9,  -999.00, -999.000,9, -999.000
  06AQ19960317,  S04a,    15,  2,     11,      7,2,19960327,   0,-54.0028,  25.7400, 3702,     79.5,   1.7765,  33.9718,2,  33.9741,2,    325.7,2,    45.63,2,    23.85,2,  -999.00,9,     1.58,2, -999.000,9, -999.000,9, -999.000,9, -999.000,9,   2161.2,2, -999.000,9, -999.000,-999.0000,9,-999.0000,  -999.00,9,  -999.00, -999.000,9, -999.000
  06AQ19960317,  S04a,    15,  2,     10,      8,2,19960327,   0,-54.0028,  25.7400, 3702,     79.9,   1.7742,  33.9711,2,-999.0000,9,   -999.0,9,    45.82,2,    24.04,2,  -999.00,9,     1.58,2,    6.074,2,    2.995,2,    0.485,2,    8.209,2,   -999.0,9,    0.153,2, -999.000,   1.7900,2,   0.0050,    -1.49,2,     0.22,    7.992,2,    0.018
  06AQ19960317,  S04a,    15,  2,      9,      9,2,19960327,   0,-54.0028,  25.7400, 3702,    100.2,   1.6792,  33.9791,2,  33.9796,2,    328.1,2,    46.33,2,    23.95,2,  -999.00,9,     1.59,2, -999.000,9, -999.000,9, -999.000,9, -999.000,9,   2164.0,2, -999.000,9, -999.000,-999.0000,9,-999.0000,  -999.00,9,  -999.00, -999.000,9, -999.000
  06AQ19960317,  S04a,    15,  2,      8,     10,2,19960327,   0,-54.0028,  25.7400, 3702,    100.4,   1.6962,  33.9716,2,-999.0000,9,   -999.0,9,    46.38,2,    24.04,2,  -999.00,9,     1.59,2,    6.154,2,    3.023,2,    0.497,2,    8.335,2,   -999.0,9, -999.000,9, -999.000,-999.0000,9,-999.0000,  -999.00,9,  -999.00, -999.000,9, -999.000
  06AQ19960317,  S04a,    15,  2,      7,     11,2,19960327,   0,-54.0028,  25.7400, 3702,    135.4,  -0.2723,  34.1712,2,-999.0000,9,   -999.0,9,    65.49,2,    28.47,2,  -999.00,9,     2.09,2, -999.000,9, -999.000,9, -999.000,9, -999.000,9,   -999.0,9, -999.000,9, -999.000,-999.0000,9,-999.0000,  -999.00,9,  -999.00, -999.000,9, -999.000
  06AQ19960317,  S04a,    15,  2,      6,     12,2,19960327,   0,-54.0028,  25.7400, 3702,    135.4,  -0.2723,  34.1712,2,-999.0000,9,   -999.0,9,    65.41,2,    28.69,2,  -999.00,9,     2.06,2, -999.000,9, -999.000,9, -999.000,9, -999.000,9,   -999.0,9, -999.000,9, -999.000,-999.0000,9,-999.0000,  -999.00,9,  -999.00, -999.000,9, -999.000
  06AQ19960317,  S04a,    15,  2,      5,     13,2,19960327,   0,-54.0028,  25.7400, 3702,    135.5,  -0.2945,  34.1821,2,  34.1756,2,    306.7,2,    65.64,2,    28.82,2,  -999.00,9,     2.07,2,    5.576,2,    2.710,2,    0.458,2,    7.331,2,   2209.8,2,    0.143,2, -999.000,   1.8250,2,   0.0050,    -0.15,2,     0.22,    8.130,2,    0.018
  06AQ19960317,  S04a,    15,  2,      4,     14,2,19960327,   0,-54.0028,  25.7400, 3702,    151.2,  -0.3210,  34.2637,2,  34.2627,2,    281.8,2,    70.80,2,    30.65,2,  -999.00,9,     2.18,2,    4.749,2,    2.312,2,    0.395,2,    6.264,2,   2224.7,2, -999.000,9, -999.000,-999.0000,9,-999.0000,  -999.00,9,  -999.00, -999.000,9, -999.000
  06AQ19960317,  S04a,    15,  2,      2,     16,2,19960327,   0,-54.0028,  25.7400, 3702,    186.7,   0.1363,  34.4028,2,  34.4024,2,    242.7,2,    78.10,2,    33.26,2,  -999.00,9,     2.28,2,    3.268,2,    1.584,2,    0.264,2,    4.330,2,   2240.7,2,    0.141,2, -999.000,   1.8460,2,   0.0050,     4.67,2,     0.22,    8.146,2,    0.018
  06AQ19960317,  S04a,    15,  2,      3,     15,2,19960327,   0,-54.0028,  25.7400, 3702,    186.8,   0.1358,  34.4029,2,-999.0000,9,   -999.0,9,    77.66,2,    32.55,2,  -999.00,9,     2.27,2, -999.000,9, -999.000,9, -999.000,9, -999.000,9,   -999.0,9, -999.000,9, -999.000,-999.0000,9,-999.0000,  -999.00,9,  -999.00, -999.000,9, -999.000
  06AQ19960317,  S04a,    15,  2,      1,     17,2,19960327,   0,-54.0028,  25.7400, 3702,    257.3,   0.7514,  34.5624,2,  34.5604,2,   -999.0,9,    87.03,2,    33.54,2,  -999.00,9,     2.31,2,    1.795,2,    0.855,2,    0.140,2,    2.360,2,   2255.7,2, -999.000,9, -999.000,-999.0000,9,-999.0000,  -999.00,9,  -999.00, -999.000,9, -999.000