BOTTLE,20150129PRINUNIVRMK
EXPOCODE,SECT_ID,STNNBR,CASTNO,SAMPNO,BTLNBR,BTLNBR_FLAG_W,DATE,TIME,LATITUDE,LONGITUDE,DEPTH,CTDPRS,CTDTMP,CTDSAL,CTDSAL_FLAG_W,SALNTY,SALNTY_FLAG_W,OXYGEN,OXYGEN_FLAG_W,SILCAT,SILCAT_FLAG_W,NITRAT,NITRAT_FLAG_W,NITRIT,NITRIT_FLAG_W,PHSPHT,PHSPHT_FLAG_W,CFC-11,CFC-11_FLAG_W,CFC-12,CFC-12_FLAG_W,CFC113,CFC113_FLAG_W,CCL4,CCL4_FLAG_W,TCARBN,TCARBN_FLAG_W,TRITUM,TRITUM_FLAG_W,TRITER,HELIUM,HELIUM_FLAG_W,HELIER,DELHE3,DELHE3_FLAG_W,DELHER,NEON,NEON_FLAG_W,NEONER
,,,,,,,,,,,METERS,DBAR,ITS-90,PSS-78,,PSS-78,,UMOL/KG,,UMOL/KG,,UMOL/KG,,UMOL/KG,,UMOL/KG,,PMOL/KG,,PMOL/KG,,PMOL/KG,,PMOL/KG,,UMOL/KG,,TU,,TU,NMOL/KG,,NMOL/KG,PERCNT,,PERCNT,NMOL/KG,,NMOL/KG
  06AQ19960317,  S04a,    52,  1,     24,      1,2,19960418,   0,-64.0010,  -0.0033, 5179,     20.3,  -0.3543,  34.0102,2,  34.0117,2,   -999.0,9,    52.97,2,    23.85,2,  -999.00,9,     1.75,2, -999.000,9, -999.000,9, -999.000,9, -999.000,9,   -999.0,9, -999.000,9, -999.000,-999.0000,9,-999.0000,  -999.00,9,  -999.00, -999.000,9, -999.000
  06AQ19960317,  S04a,    52,  1,     23,      2,2,19960418,   0,-64.0010,  -0.0033, 5179,     20.4,  -0.3550,  34.0103,2,  34.0113,2,   -999.0,9,    52.71,2,    23.83,2,  -999.00,9,     1.75,2, -999.000,9, -999.000,9, -999.000,9, -999.000,9,   -999.0,9, -999.000,9, -999.000,-999.0000,9,-999.0000,  -999.00,9,  -999.00, -999.000,9, -999.000
  06AQ19960317,  S04a,    52,  1,     22,      3,2,19960418,   0,-64.0010,  -0.0033, 5179,     20.4,  -0.3546,  34.0093,2,  34.0112,2,    327.6,2,    52.78,2,    23.80,2,  -999.00,9,     1.75,2,    5.826,2,    2.968,2,    0.509,2,    8.191,2,   2166.9,2, -999.000,9, -999.000,-999.0000,9,-999.0000,  -999.00,9,  -999.00, -999.000,9, -999.000
  06AQ19960317,  S04a,    52,  1,     21,      4,2,19960418,   0,-64.0010,  -0.0033, 5179,     39.7,  -0.3708,  34.0148,2,  34.0387,2,   -999.0,9,    54.08,2,    24.34,2,  -999.00,9,     1.81,2, -999.000,9, -999.000,9, -999.000,9, -999.000,9,   -999.0,9, -999.000,9, -999.000,-999.0000,9,-999.0000,  -999.00,9,  -999.00, -999.000,9, -999.000
  06AQ19960317,  S04a,    52,  1,     20,      5,2,19960418,   0,-64.0010,  -0.0033, 5179,     39.9,  -0.3735,  34.0164,2,  34.0371,2,    322.6,2,    53.98,2,    24.33,2,  -999.00,9,     1.81,2,    5.818,2,    2.924,2,    0.512,2,    8.169,2,   2171.4,2,    0.203,2, -999.000,-999.0000,9,-999.0000,  -999.00,9,  -999.00, -999.000,9, -999.000
  06AQ19960317,  S04a,    52,  1,     19,      6,2,19960418,   0,-64.0010,  -0.0033, 5179,     60.3,  -0.9350,  34.3427,2,  34.3417,2,   -999.0,9,    68.10,2,    29.82,2,  -999.00,9,     2.15,2, -999.000,9, -999.000,9, -999.000,9, -999.000,9,   -999.0,9, -999.000,9, -999.000,-999.0000,9,-999.0000,  -999.00,9,  -999.00, -999.000,9, -999.000
  06AQ19960317,  S04a,    52,  1,     18,      7,2,19960418,   0,-64.0010,  -0.0033, 5179,     60.3,  -0.9183,  34.3566,2,  34.3559,2,    273.0,2,    69.31,2,    30.22,2,  -999.00,9,     2.17,2, -999.000,9, -999.000,9, -999.000,9, -999.000,9,   2220.2,2, -999.000,9, -999.000,-999.0000,9,-999.0000,  -999.00,9,  -999.00, -999.000,9, -999.000
  06AQ19960317,  S04a,    52,  1,     16,      9,2,19960418,   0,-64.0010,  -0.0033, 5179,     69.2,  -0.7673,  34.4226,2,  34.4217,2,   -999.0,9,    73.57,2,    31.41,2,  -999.00,9,     2.22,2, -999.000,9, -999.000,9, -999.000,9, -999.000,9,   -999.0,9, -999.000,9, -999.000,-999.0000,9,-999.0000,  -999.00,9,  -999.00, -999.000,9, -999.000
  06AQ19960317,  S04a,    52,  1,     17,      8,2,19960418,   0,-64.0010,  -0.0033, 5179,     69.3,  -0.7728,  34.4235,2,  34.4222,2,   -999.0,9,    73.29,2,    31.47,2,  -999.00,9,     2.23,2, -999.000,9, -999.000,9, -999.000,9, -999.000,9,   -999.0,9, -999.000,9, -999.000,-999.0000,9,-999.0000,  -999.00,9,  -999.00, -999.000,9, -999.000
  06AQ19960317,  S04a,    52,  1,     15,     10,2,19960418,   0,-64.0010,  -0.0033, 5179,     69.5,  -0.6748,  34.4333,2,  34.4413,2,    249.6,2,    75.49,2,    31.90,2,  -999.00,9,     2.25,2,    3.522,2,    1.693,2,    0.273,2,    4.427,2,   2235.7,2,    0.147,2, -999.000,-999.0000,9,-999.0000,  -999.00,9,  -999.00, -999.000,9, -999.000
  06AQ19960317,  S04a,    52,  1,     14,     11,2,19960418,   0,-64.0010,  -0.0033, 5179,     80.0,  -0.4610,  34.4688,2,  34.4686,2,   -999.0,9,    76.65,2,    32.16,2,  -999.00,9,     2.24,2, -999.000,9, -999.000,9, -999.000,9, -999.000,9,   -999.0,9, -999.000,9, -999.000,-999.0000,9,-999.0000,  -999.00,9,  -999.00, -999.000,9, -999.000
  06AQ19960317,  S04a,    52,  1,     13,     12,2,19960418,   0,-64.0010,  -0.0033, 5179,     80.1,  -0.3825,  34.4739,2,  34.4901,2,    234.2,2,    78.53,2,    32.47,2,  -999.00,9,     2.30,2, -999.000,9, -999.000,9, -999.000,9, -999.000,9,   2241.4,2, -999.000,9, -999.000,-999.0000,9,-999.0000,  -999.00,9,  -999.00, -999.000,9, -999.000
  06AQ19960317,  S04a,    52,  1,     12,     13,2,19960418,   0,-64.0010,  -0.0033, 5179,     99.1,   0.1916,  34.5504,2,  34.5466,2,   -999.0,9,    82.65,2,    33.39,2,  -999.00,9,     2.30,2, -999.000,9, -999.000,9, -999.000,9, -999.000,9,   -999.0,9, -999.000,9, -999.000,-999.0000,9,-999.0000,  -999.00,9,  -999.00, -999.000,9, -999.000
  06AQ19960317,  S04a,    52,  1,     11,     14,2,19960418,   0,-64.0010,  -0.0033, 5179,     99.4,   0.3916,  34.5848,2,  34.5753,2,    204.2,2,    84.78,2,    33.47,2,  -999.00,9,     2.31,2,    1.865,2,    0.887,2,    0.131,2,    2.340,2,   2251.3,2, -999.000,9, -999.000,-999.0000,9,-999.0000,  -999.00,9,  -999.00, -999.000,9, -999.000
  06AQ19960317,  S04a,    52,  1,     10,     15,2,19960418,   0,-64.0010,  -0.0033, 5179,    151.1,   1.1571,  34.6715,2,  34.6659,2,    184.0,2,    94.89,2,    33.92,2,  -999.00,9,     2.33,2,    0.739,2,    0.340,2,    0.043,2,    1.011,2,   2261.1,2,    0.105,2, -999.000,-999.0000,9,-999.0000,  -999.00,9,  -999.00, -999.000,9, -999.000
  06AQ19960317,  S04a,    52,  1,      8,     17,2,19960418,   0,-64.0010,  -0.0033, 5179,    200.7,   1.2319,  34.6887,2,  34.6901,2,    185.3,2,    95.30,2,    33.38,2,  -999.00,9,     2.28,2,    0.530,2,    0.243,2,    0.030,2,    0.768,2,   2258.0,2, -999.000,9, -999.000,-999.0000,9,-999.0000,  -999.00,9,  -999.00, -999.000,9, -999.000
  06AQ19960317,  S04a,    52,  1,      9,     16,2,19960418,   0,-64.0010,  -0.0033, 5179,    200.8,   1.2335,  34.6880,2,  34.6887,2,   -999.0,9,    95.76,2,    33.47,2,  -999.00,9,     2.29,2, -999.000,9, -999.000,9, -999.000,9, -999.000,9,   -999.0,9, -999.000,9, -999.000,-999.0000,9,-999.0000,  -999.00,9,  -999.00, -999.000,9, -999.000
  06AQ19960317,  S04a,    52,  1,      5,     20,2,19960418,   0,-64.0010,  -0.0033, 5179,    250.2,   1.2412,  34.7016,2,  34.7002,2,    187.8,2,    96.67,2,    33.02,2,  -999.00,9,     2.26,2,    0.434,2,    0.197,2,    0.024,2,    0.658,2,   -999.0,9, -999.000,9, -999.000,-999.0000,9,-999.0000,  -999.00,9,  -999.00, -999.000,9, -999.000
  06AQ19960317,  S04a,    52,  1,      7,     18,2,19960418,   0,-64.0010,  -0.0033, 5179,    250.4,   1.2515,  34.6999,2,  34.7005,2,   -999.0,9,    96.79,2,    32.83,2,  -999.00,9,     2.25,2, -999.000,9, -999.000,9, -999.000,9, -999.000,9,   -999.0,9, -999.000,9, -999.000,-999.0000,9,-999.0000,  -999.00,9,  -999.00, -999.000,9, -999.000
  06AQ19960317,  S04a,    52,  1,      6,     19,2,19960418,   0,-64.0010,  -0.0033, 5179,    250.5,   1.2478,  34.7009,2,  34.7006,2,   -999.0,9,    96.37,2,    33.02,2,  -999.00,9,     2.25,2, -999.000,9, -999.000,9, -999.000,9, -999.000,9,   -999.0,9, -999.000,9, -999.000,-999.0000,9,-999.0000,  -999.00,9,  -999.00, -999.000,9, -999.000
  06AQ19960317,  S04a,    52,  1,      4,     21,2,19960418,   0,-64.0010,  -0.0033, 5179,    299.9,   1.0327,  34.6876,2,  34.6914,2,    190.7,2,    97.32,2,    32.89,2,  -999.00,9,     2.26,2,    0.544,2,    0.255,2,    0.034,2,    0.813,2,   2253.6,2,    0.022,2, -999.000,-999.0000,9,-999.0000,  -999.00,9,  -999.00, -999.000,9, -999.000
  06AQ19960317,  S04a,    52,  1,      3,     22,2,19960418,   0,-64.0010,  -0.0033, 5179,    349.1,   1.1492,  34.7114,2,  34.7108,2,    192.2,2,    99.91,2,    32.67,2,  -999.00,9,     2.23,2, -999.000,9, -999.000,9, -999.000,9, -999.000,9,   2253.2,2, -999.000,9, -999.000,-999.0000,9,-999.0000,  -999.00,9,  -999.00, -999.000,9, -999.000
  06AQ19960317,  S04a,    52,  1,      2,     23,2,19960418,   0,-64.0010,  -0.0033, 5179,    499.9,   0.8821,  34.7050,2,-999.0000,9,    194.8,2,   106.87,2,    32.74,2,  -999.00,9,     2.24,2,    0.273,2,    0.129,2,    0.013,2,    0.472,2,   2257.1,2, -999.000,9, -999.000,-999.0000,9,-999.0000,  -999.00,9,  -999.00, -999.000,9, -999.000
  06AQ19960317,  S04a,    52,  1,      1,     24,2,19960418,   0,-64.0010,  -0.0033, 5179,    752.7,   0.5910,  34.6947,2,  34.6934,2,    198.7,2,   114.94,2,    33.35,2,  -999.00,9,     2.28,2,    0.250,2,    0.116,2,    0.010,2,    0.476,2,   2262.0,2, -999.000,9, -999.000,-999.0000,9,-999.0000,  -999.00,9,  -999.00, -999.000,9, -999.000
  06AQ19960317,  S04a,    52,  3,     24,      1,2,19960418,   0,-64.0010,  -0.0033, 5179,    751.9,   0.6137,  34.6934,2,  34.6941,2,    198.1,2,   114.09,2,    33.29,2,  -999.00,9,     2.25,2,    0.250,2,    0.115,2,    0.009,2,    0.462,2,   -999.0,9, -999.000,9, -999.000,-999.0000,9,-999.0000,  -999.00,9,  -999.00, -999.000,9, -999.000
  06AQ19960317,  S04a,    52,  3,     23,      2,2,19960418,   0,-64.0010,  -0.0033, 5179,   1001.5,   0.4217,  34.6846,2,  34.6859,2,    201.8,2,   119.12,2,    33.48,2,  -999.00,9,     2.27,2,    0.200,2,    0.093,2,    0.006,2,    0.430,2,   2263.6,2, -999.000,9, -999.000,-999.0000,9,-999.0000,  -999.00,9,  -999.00, -999.000,9, -999.000
  06AQ19960317,  S04a,    52,  3,     22,      3,2,19960418,   0,-64.0010,  -0.0033, 5179,   1252.9,   0.2692,  34.6796,2,  34.6801,2,    203.6,2,   123.66,2,    34.16,2,  -999.00,9,     2.32,2,    0.172,2,    0.080,2,    0.005,2,    0.416,2,   2263.8,2,    0.021,2, -999.000,-999.0000,9,-999.0000,  -999.00,9,  -999.00, -999.000,9, -999.000
  06AQ19960317,  S04a,    52,  3,     21,      4,2,19960418,   0,-64.0010,  -0.0033, 5179,   1500.9,   0.1581,  34.6752,2,  34.6747,2,    210.5,2,   123.55,2,    33.57,2,  -999.00,9,     2.30,2, -999.000,9, -999.000,9, -999.000,9, -999.000,9,   2262.9,2, -999.000,9, -999.000,-999.0000,9,-999.0000,  -999.00,9,  -999.00, -999.000,9, -999.000
  06AQ19960317,  S04a,    52,  3,     20,      5,2,19960418,   0,-64.0010,  -0.0033, 5179,   1501.3,   0.1573,  34.6747,2,  34.6747,2,   -999.0,9,   123.99,2,    33.66,2,  -999.00,9,     2.31,2,    0.189,2,    0.089,2,    0.006,2,    0.455,2,   -999.0,9, -999.000,9, -999.000,-999.0000,9,-999.0000,  -999.00,9,  -999.00, -999.000,9, -999.000
  06AQ19960317,  S04a,    52,  3,     19,      6,2,19960418,   0,-64.0010,  -0.0033, 5179,   1752.7,   0.0609,  34.6724,2,  34.6709,2,    215.0,2,   124.53,2,    33.62,2,  -999.00,9,     2.30,2,    0.213,2,    0.100,2,    0.007,2,    0.506,2,   2257.8,2,    0.022,2, -999.000,-999.0000,9,-999.0000,  -999.00,9,  -999.00, -999.000,9, -999.000
  06AQ19960317,  S04a,    52,  3,     18,      7,2,19960418,   0,-64.0010,  -0.0033, 5179,   2002.5,  -0.0236,  34.6669,2,  34.6673,2,    218.6,2,   124.07,2,    33.42,2,  -999.00,9,     2.29,2,    0.232,2,    0.110,2,    0.008,2,    0.541,2,   2257.9,2, -999.000,9, -999.000,-999.0000,9,-999.0000,  -999.00,9,  -999.00, -999.000,9, -999.000
  06AQ19960317,  S04a,    52,  3,     17,      8,2,19960418,   0,-64.0010,  -0.0033, 5179,   2501.0,  -0.1608,  34.6619,2,-999.0000,9,   -999.0,9,   125.10,2,    33.42,2,  -999.00,9,     2.29,2, -999.000,9, -999.000,9, -999.000,9, -999.000,9,   -999.0,9, -999.000,9, -999.000,-999.0000,9,-999.0000,  -999.00,9,  -999.00, -999.000,9, -999.000
  06AQ19960317,  S04a,    52,  3,     16,      9,2,19960418,   0,-64.0010,  -0.0033, 5179,   2501.4,  -0.1609,  34.6618,2,-999.0000,9,   -999.0,9,   124.69,2,    33.31,2,  -999.00,9,     2.29,2, -999.000,9, -999.000,9, -999.000,9, -999.000,9,   -999.0,9, -999.000,9, -999.000,-999.0000,9,-999.0000,  -999.00,9,  -999.00, -999.000,9, -999.000
  06AQ19960317,  S04a,    52,  3,     15,     10,2,19960418,   0,-64.0010,  -0.0033, 5179,   2501.9,  -0.1610,  34.6615,2,  34.6613,2,    226.5,2,   125.13,2,    33.45,2,  -999.00,9,     2.30,2,    0.222,2,    0.106,2,    0.007,2,    0.587,2,   2258.0,2,    0.019,2, -999.000,-999.0000,9,-999.0000,  -999.00,9,  -999.00, -999.000,9, -999.000
  06AQ19960317,  S04a,    52,  3,     14,     11,2,19960418,   0,-64.0010,  -0.0033, 5179,   3001.2,  -0.2475,  34.6588,2,  34.6594,2,   -999.0,9,   123.75,2,    33.12,2,  -999.00,9,     2.28,2,    0.226,2,    0.111,2,    0.009,2,    0.618,2,   2252.9,2, -999.000,9, -999.000,-999.0000,9,-999.0000,  -999.00,9,  -999.00, -999.000,9, -999.000
  06AQ19960317,  S04a,    52,  3,     13,     12,2,19960418,   0,-64.0010,  -0.0033, 5179,   3500.0,  -0.3010,  34.6564,2,  34.6553,2,    236.0,2,   123.21,2,    33.06,2,  -999.00,9,     2.25,2,    0.399,2,    0.192,2,    0.017,2,    0.803,2,   2251.6,2,    0.020,2, -999.000,-999.0000,9,-999.0000,  -999.00,9,  -999.00, -999.000,9, -999.000
  06AQ19960317,  S04a,    52,  3,     12,     13,2,19960418,   0,-64.0010,  -0.0033, 5179,   3998.9,  -0.3452,  34.6541,2,  34.6526,2,    239.5,2,   124.73,2,    32.86,2,  -999.00,9,     2.26,2,    0.407,2,    0.196,2,    0.016,2,    0.831,2,   2249.6,2,    0.024,2, -999.000,   1.8800,2,   0.0050,     5.32,2,     0.22,    8.248,2,    0.018
  06AQ19960317,  S04a,    52,  3,     11,     14,2,19960418,   0,-64.0010,  -0.0033, 5179,   4497.1,  -0.4019,  34.6517,2,  34.6503,2,   -999.0,9,   121.63,2,    32.84,2,  -999.00,9,     2.26,2, -999.000,9, -999.000,9, -999.000,9, -999.000,9,   -999.0,9, -999.000,9, -999.000,-999.0000,9,-999.0000,  -999.00,9,  -999.00, -999.000,9, -999.000
  06AQ19960317,  S04a,    52,  3,      9,     16,2,19960418,   0,-64.0010,  -0.0033, 5179,   4497.4,  -0.4027,  34.6514,2,  34.6495,2,    242.6,2,   124.37,2,    33.26,2,  -999.00,9,     2.29,2,    0.274,2,    0.135,2,    0.007,2,    0.751,2,   -999.0,9,    0.029,2, -999.000,   1.8770,2,   0.0050,     5.21,2,     0.22,    8.263,2,    0.018
  06AQ19960317,  S04a,    52,  3,     10,     15,2,19960418,   0,-64.0010,  -0.0033, 5179,   4497.5,  -0.4016,  34.6513,2,-999.0000,9,   -999.0,9,   122.31,2,    32.98,2,  -999.00,9,     2.27,2, -999.000,9, -999.000,9, -999.000,9, -999.000,9,   -999.0,9, -999.000,9, -999.000,-999.0000,9,-999.0000,  -999.00,9,  -999.00, -999.000,9, -999.000
  06AQ19960317,  S04a,    52,  3,      8,     17,2,19960418,   0,-64.0010,  -0.0033, 5179,   4797.9,  -0.4505,  34.6483,2,  34.6471,2,   -999.0,9,   118.49,2,    32.84,2,  -999.00,9,     2.27,2,    0.390,2,    0.192,2,    0.010,2,    0.926,2,   2250.1,2, -999.000,9, -999.000,   1.8770,2,   0.0050,     4.73,2,     0.22,    8.233,2,    0.018
  06AQ19960317,  S04a,    52,  3,      7,     18,2,19960418,   0,-64.0010,  -0.0033, 5179,   5168.2,  -0.4441,  34.6471,2,  34.6465,2,   -999.0,9,   120.74,2,    32.76,2,  -999.00,9,     2.26,2, -999.000,9, -999.000,9, -999.000,9, -999.000,9,   -999.0,9, -999.000,9, -999.000,-999.0000,9,-999.0000,  -999.00,9,  -999.00, -999.000,9, -999.000
  06AQ19960317,  S04a,    52,  3,      5,     20,2,19960418,   0,-64.0010,  -0.0033, 5179,   5168.2,  -0.4439,  34.6469,2,-999.0000,9,   -999.0,9,   121.13,2,    32.88,2,  -999.00,9,     2.27,2,    0.417,2,    0.205,2,    0.011,2,    0.981,2,   -999.0,9, -999.000,9, -999.000,   1.8910,3,   0.0150,     4.57,3,     0.22,    8.293,3,    0.060
  06AQ19960317,  S04a,    52,  3,      6,     19,2,19960418,   0,-64.0010,  -0.0033, 5179,   5168.9,  -0.4440,  34.6469,2,-999.0000,9,   -999.0,9,  -999.00,9,  -999.00,9,  -999.00,9,  -999.00,9, -999.000,9, -999.000,9, -999.000,9, -999.000,9,   -999.0,9, -999.000,9, -999.000,-999.0000,9,-999.0000,  -999.00,9,  -999.00, -999.000,9, -999.000
  06AQ19960317,  S04a,    52,  3,      4,     21,2,19960418,   0,-64.0010,  -0.0033, 5179,   5272.4,  -0.4317,  34.6468,2,  34.6450,2,    246.0,2,   121.89,2,    32.96,2,  -999.00,9,     2.26,2, -999.000,9, -999.000,9, -999.000,9, -999.000,9,   -999.0,9, -999.000,9, -999.000,-999.0000,9,-999.0000,  -999.00,9,  -999.00, -999.000,9, -999.000
  06AQ19960317,  S04a,    52,  3,      3,     22,2,19960418,   0,-64.0010,  -0.0033, 5179,   5272.9,  -0.4318,  34.6469,2,  34.6461,2,   -999.0,9,   122.02,2,    32.83,2,  -999.00,9,     2.26,2, -999.000,9, -999.000,9, -999.000,9, -999.000,9,   -999.0,9, -999.000,9, -999.000,-999.0000,9,-999.0000,  -999.00,9,  -999.00, -999.000,9, -999.000
  06AQ19960317,  S04a,    52,  3,      1,     24,2,19960418,   0,-64.0010,  -0.0033, 5179,   5273.3,  -0.4317,  34.6471,2,  34.6458,2,    245.0,2,   121.43,2,    32.77,2,  -999.00,9,     2.27,2,    0.409,2,    0.203,2,    0.011,2,    0.983,2,   2247.1,2,    0.027,2, -999.000,   1.8880,2,   0.0050,     4.18,2,     0.22,    8.307,2,    0.019
  06AQ19960317,  S04a,    52,  3,      2,     23,2,19960418,   0,-64.0010,  -0.0033, 5179,   5273.7,  -0.4315,  34.6470,2,-999.0000,9,   -999.0,9,   121.43,2,    32.82,2,  -999.00,9,     2.26,2,    0.416,2,    0.203,2,    0.010,2,    0.982,2,   -999.0,9, -999.000,9, -999.000,-999.0000,9,-999.0000,  -999.00,9,  -999.00, -999.000,9, -999.000