BOTTLE,20150129PRINUNIVRMK
EXPOCODE,SECT_ID,STNNBR,CASTNO,SAMPNO,BTLNBR,BTLNBR_FLAG_W,DATE,TIME,LATITUDE,LONGITUDE,DEPTH,CTDPRS,CTDTMP,CTDSAL,CTDSAL_FLAG_W,SALNTY,SALNTY_FLAG_W,OXYGEN,OXYGEN_FLAG_W,SILCAT,SILCAT_FLAG_W,NITRAT,NITRAT_FLAG_W,NITRIT,NITRIT_FLAG_W,PHSPHT,PHSPHT_FLAG_W,CFC-11,CFC-11_FLAG_W,CFC-12,CFC-12_FLAG_W,CFC113,CFC113_FLAG_W,CCL4,CCL4_FLAG_W,TCARBN,TCARBN_FLAG_W,TRITUM,TRITUM_FLAG_W,TRITER,HELIUM,HELIUM_FLAG_W,HELIER,DELHE3,DELHE3_FLAG_W,DELHER,NEON,NEON_FLAG_W,NEONER
,,,,,,,,,,,METERS,DBAR,ITS-90,PSS-78,,PSS-78,,UMOL/KG,,UMOL/KG,,UMOL/KG,,UMOL/KG,,UMOL/KG,,PMOL/KG,,PMOL/KG,,PMOL/KG,,PMOL/KG,,UMOL/KG,,TU,,TU,NMOL/KG,,NMOL/KG,PERCNT,,PERCNT,NMOL/KG,,NMOL/KG
  06AQ19960317,  S04a,    58,  1,     23,      1,2,19960420,   0,-67.0012,   0.0033, 4679,     19.0,  -0.9011,  34.0805,2,  34.0806,2,    331.8,2,    55.15,2,    24.72,2,  -999.00,9,     1.72,2,    6.032,2,    3.033,2,    0.487,2,    7.667,2,   2174.5,2, -999.000,9, -999.000,   1.7780,2,   0.0050,    -1.04,2,     0.22,    7.977,2,    0.018
  06AQ19960317,  S04a,    58,  1,     22,      2,2,19960420,   0,-67.0012,   0.0033, 4679,     41.2,  -0.8738,  34.0817,2,  34.0813,2,    330.5,2,    54.99,2,    24.58,2,  -999.00,9,     1.75,2,    5.900,2,    2.983,2,    0.482,2,    7.516,2,   2177.9,2,    0.031,2, -999.000,   1.7870,2,   0.0050,    -0.62,2,     0.22,    7.997,2,    0.018
  06AQ19960317,  S04a,    58,  1,     21,      3,2,19960420,   0,-67.0012,   0.0033, 4679,     64.2,  -0.8869,  34.1143,2,  34.3324,2,    279.9,2,    70.78,2,    29.26,2,  -999.00,9,     2.07,2,    4.162,2,    2.065,2,    0.323,2,    5.324,2,   2218.4,2,    0.151,2, -999.000,-999.0000,9,-999.0000,  -999.00,9,  -999.00, -999.000,9, -999.000
  06AQ19960317,  S04a,    58,  1,     20,      4,2,19960420,   0,-67.0012,   0.0033, 4679,     64.5,  -0.9752,  34.3567,2,  34.3461,2,   -999.0,9,    71.58,2,    29.69,2,  -999.00,9,     2.09,2, -999.000,9, -999.000,9, -999.000,9, -999.000,9,   -999.0,9, -999.000,9, -999.000,-999.0000,9,-999.0000,  -999.00,9,  -999.00, -999.000,9, -999.000
  06AQ19960317,  S04a,    58,  1,     19,      5,2,19960420,   0,-67.0012,   0.0033, 4679,     80.0,  -0.3764,  34.5302,2,  34.5088,2,    233.3,2,    83.12,2,    32.63,2,  -999.00,9,     2.24,2,    2.626,2,    1.280,2,    0.205,2,    3.348,2,   2242.5,2, -999.000,9, -999.000,-999.0000,9,-999.0000,  -999.00,9,  -999.00, -999.000,9, -999.000
  06AQ19960317,  S04a,    58,  1,     18,      6,2,19960420,   0,-67.0012,   0.0033, 4679,    100.6,   0.4963,  34.6104,2,  34.6051,2,    203.7,2,    89.65,2,    33.46,2,  -999.00,9,     2.29,2,    1.483,2,    0.713,2,    0.106,2,    1.912,2,   2254.5,2,    0.120,2, -999.000,   1.8640,2,   0.0050,     7.36,2,     0.22,    8.057,2,    0.018
  06AQ19960317,  S04a,    58,  1,     17,      7,2,19960420,   0,-67.0012,   0.0033, 4679,    162.3,   1.0032,  34.6777,2,  34.6788,2,    188.5,2,    96.27,2,    33.47,2,  -999.00,9,     2.29,2,    0.676,2,    0.317,2,    0.038,2,    0.954,2,   2255.9,2,   -1.630,4, -999.000,   1.8390,2,   0.0050,     9.00,2,     0.22,    7.994,2,    0.018
  06AQ19960317,  S04a,    58,  1,     16,      8,2,19960420,   0,-67.0012,   0.0033, 4679,    200.9,   1.0191,  34.6855,2,  34.6864,2,    190.1,2,    97.92,2,    33.27,2,  -999.00,9,     2.27,2,    0.603,2,    0.282,2,    0.038,2,    0.865,2,   2255.5,2,    0.130,2, -999.000,   1.8740,2,   0.0050,     8.68,2,     0.22,    8.083,2,    0.018
  06AQ19960317,  S04a,    58,  1,     15,      9,2,19960420,   0,-67.0012,   0.0033, 4679,    252.2,   0.9606,  34.6892,2,  34.6906,2,    191.4,2,    99.60,2,    33.18,2,  -999.00,9,     2.27,2,    0.563,2,    0.262,2,    0.038,2,    0.828,2,   2257.9,2,    0.063,2, -999.000,   1.8640,2,   0.0050,     8.95,2,     0.22,    8.071,2,    0.018
  06AQ19960317,  S04a,    58,  1,     14,     10,2,19960420,   0,-67.0012,   0.0033, 4679,    300.0,   0.9590,  34.6934,2,  34.6944,2,    192.2,2,   101.37,2,    33.45,2,  -999.00,9,     2.27,2,    0.543,2,    0.247,2,    0.032,2,    0.769,2,   2256.6,2,    0.181,2, -999.000,   1.8580,2,   0.0050,     8.98,2,     0.22,    8.096,2,    0.018
  06AQ19960317,  S04a,    58,  1,     13,     11,2,19960420,   0,-67.0012,   0.0033, 4679,    408.8,   0.9231,  34.7004,2,  34.7022,2,    193.9,2,   105.10,2,    33.12,2,  -999.00,9,     2.25,2,    0.405,2,    0.186,2,    0.020,2,    0.614,2,   2258.5,2,    0.023,2, -999.000,-999.0000,9,-999.0000,  -999.00,9,  -999.00, -999.000,9, -999.000
  06AQ19960317,  S04a,    58,  1,     12,     12,2,19960420,   0,-67.0012,   0.0033, 4679,    501.0,   0.8428,  34.6996,2,  34.7010,2,    195.4,2,   107.96,2,    33.06,2,  -999.00,9,     2.25,2,    0.358,2,    0.165,2,    0.014,2,    0.567,2,   2259.0,2,    0.034,2, -999.000,   1.8710,2,   0.0050,     8.74,2,     0.22,    8.108,2,    0.018
  06AQ19960317,  S04a,    58,  1,     11,     13,2,19960420,   0,-67.0012,   0.0033, 4679,    751.4,   0.6204,  34.6926,2,  34.6940,2,    198.7,2,   114.06,2,    33.45,2,  -999.00,9,     2.27,2,    0.284,2,    0.128,2,    0.009,2,    0.501,2,   2261.0,2,    0.089,2, -999.000,   1.8640,2,   0.0050,     9.48,2,     0.22,    8.098,2,    0.018
  06AQ19960317,  S04a,    58,  1,     10,     14,2,19960420,   0,-67.0012,   0.0033, 4679,   1000.8,   0.4415,  34.6868,2,  34.6873,2,    199.9,2,   120.45,2,    34.01,2,  -999.00,9,     2.30,2,    0.195,2,    0.089,2,    0.006,2,    0.417,2,   2262.4,2,    0.000,2, -999.000,   1.8820,2,   0.0050,     8.45,2,     0.22,    8.153,2,    0.018
  06AQ19960317,  S04a,    58,  1,      9,     15,2,19960420,   0,-67.0012,   0.0033, 4679,   1499.4,   0.1982,  34.6763,2,  34.6765,2,    207.3,2,   124.42,2,    33.93,2,  -999.00,9,     2.30,2,    0.166,2,    0.080,2,    0.004,2,    0.416,2,   2262.5,2, -999.000,9, -999.000,-999.0000,9,-999.0000,  -999.00,9,  -999.00, -999.000,9, -999.000
  06AQ19960317,  S04a,    58,  1,      8,     16,2,19960420,   0,-67.0012,   0.0033, 4679,   2002.1,   0.0191,  34.6692,2,  34.6691,2,    216.5,2,   125.28,2,    33.60,2,  -999.00,9,     2.29,2,    0.191,2,    0.091,2,    0.004,2,    0.474,2,   2257.8,2,    0.127,2, -999.000,-999.0000,9,-999.0000,  -999.00,9,  -999.00, -999.000,9, -999.000
  06AQ19960317,  S04a,    58,  1,      7,     17,2,19960420,   0,-67.0012,   0.0033, 4679,   2499.9,  -0.0999,  34.6635,2,  34.6639,2,    224.2,2,   125.64,2,    33.41,2,  -999.00,9,     2.29,2,    0.237,2,    0.114,2,    0.011,2,    0.579,2,   2253.3,2,    0.082,2, -999.000,   1.8710,6,   0.0050,     6.85,6,     0.22,    8.193,6,    0.018
  06AQ19960317,  S04a,    58,  1,      6,     18,2,19960420,   0,-67.0012,   0.0033, 4679,   2996.1,  -0.1833,  34.6611,2,  34.6611,2,    234.1,2,   125.13,2,    33.29,2,  -999.00,9,     2.26,2,    0.352,2,    0.169,2,    0.014,2,    0.719,2,   2253.0,2, -999.000,9, -999.000,-999.0000,9,-999.0000,  -999.00,9,  -999.00, -999.000,9, -999.000
  06AQ19960317,  S04a,    58,  1,      5,     19,2,19960420,   0,-67.0012,   0.0033, 4679,   3500.0,  -0.2425,  34.6584,2,  34.6584,2,    234.4,2,   124.30,2,    33.21,2,  -999.00,9,     2.26,2,    0.452,2,    0.215,2,    0.016,2,    0.848,2,   2247.0,2,    0.098,2, -999.000,-999.0000,9,-999.0000,  -999.00,9,  -999.00, -999.000,9, -999.000
  06AQ19960317,  S04a,    58,  1,      4,     20,2,19960420,   0,-67.0012,   0.0033, 4679,   3998.5,  -0.2797,  34.6560,2,  34.6552,2,    237.9,2,   124.71,2,    33.12,2,  -999.00,9,     2.27,2,    0.503,2,    0.235,2,    0.021,2,    0.931,2,   2248.3,2, -999.000,9, -999.000,-999.0000,9,-999.0000,  -999.00,9,  -999.00, -999.000,9, -999.000
  06AQ19960317,  S04a,    58,  1,      3,     21,2,19960420,   0,-67.0012,   0.0033, 4679,   4300.3,  -0.2947,  34.6548,2,  34.6540,2,    238.7,2,   126.22,2,    33.01,2,  -999.00,9,     2.26,2,    0.465,2,    0.218,2,    0.019,2,    0.888,2,   2248.5,2, -999.000,9, -999.000,   1.8780,2,   0.0050,     5.22,2,     0.22,    8.238,2,    0.018
  06AQ19960317,  S04a,    58,  1,      2,     22,2,19960420,   0,-67.0012,   0.0033, 4679,   4662.5,  -0.3192,  34.6532,2,  34.6521,2,    240.6,2,   129.07,2,    33.12,2,  -999.00,9,     2.27,2,    0.379,2,    0.181,2,    0.014,2,    0.828,2,   2249.7,2, -999.000,9, -999.000,   1.8720,2,   0.0050,     5.20,2,     0.22,    8.241,2,    0.018
  06AQ19960317,  S04a,    58,  1,      1,     23,2,19960420,   0,-67.0012,   0.0033, 4679,   4711.2,  -0.3372,  34.6523,2,  34.6525,2,    240.8,2,   130.03,2,    33.10,2,  -999.00,9,     2.27,2,    0.355,2,    0.176,2,    0.014,2,    0.814,2,   2248.8,2,    0.054,2, -999.000,   1.9000,4,   0.0050,     4.88,2,     0.22,    8.278,3,    0.018
  06AQ19960317,  S04a,    58,  1,     24,     24,2,19960420,   0,-67.0012,   0.0033, 4679,   4757.8,  -0.3746,  34.6512,2,  34.6505,2,    241.4,2,   136.65,2,    33.29,2,  -999.00,9,     2.27,2,    0.350,6,    0.172,6,    0.008,6,    0.805,6,   2247.7,2,    0.032,2, -999.000,   1.8790,2,   0.0050,     4.53,2,     0.22,    8.257,2,    0.018
  06AQ19960317,  S04a,    59,  1,     23,      1,2,19960420,   0,-67.5018,   0.0038, 4607,     20.2,  -1.0692,  34.0051,2,  34.0059,2,    335.0,2,    53.85,2,    23.84,2,  -999.00,9,     1.76,2,    6.135,2,    3.090,2,    0.504,2,    7.861,2,   2167.5,2, -999.000,9, -999.000,-999.0000,9,-999.0000,  -999.00,9,  -999.00, -999.000,9, -999.000
  06AQ19960317,  S04a,    59,  1,     22,      2,2,19960420,   0,-67.5018,   0.0038, 4607,     40.6,  -1.0600,  34.0054,2,  34.0061,2,    335.1,2,    53.88,2,    23.77,2,  -999.00,9,     1.78,2, -999.000,9, -999.000,9, -999.000,9, -999.000,9,   2168.1,2, -999.000,9, -999.000,-999.0000,9,-999.0000,  -999.00,9,  -999.00, -999.000,9, -999.000
  06AQ19960317,  S04a,    59,  1,     21,      3,2,19960420,   0,-67.5018,   0.0038, 4607,     51.6,  -1.0623,  34.0055,2,  34.0330,2,   -999.0,9,    55.27,2,    24.31,2,  -999.00,9,     1.82,2,    6.183,2,    3.114,2,    0.502,2,    7.742,2,   -999.0,9, -999.000,9, -999.000,-999.0000,9,-999.0000,  -999.00,9,  -999.00, -999.000,9, -999.000
  06AQ19960317,  S04a,    59,  1,     20,      4,2,19960420,   0,-67.5018,   0.0038, 4607,     51.8,  -1.0608,  34.0089,2,  34.0407,2,    329.7,2,    55.69,2,    24.44,2,  -999.00,9,     1.82,2, -999.000,9, -999.000,9, -999.000,9, -999.000,9,   2175.0,2, -999.000,9, -999.000,-999.0000,9,-999.0000,  -999.00,9,  -999.00, -999.000,9, -999.000
  06AQ19960317,  S04a,    59,  1,     19,      5,2,19960420,   0,-67.5018,   0.0038, 4607,     80.0,  -0.6948,  34.4770,2,  34.4560,2,    251.5,2,    78.34,2,    31.77,2,  -999.00,9,     2.24,2, -999.000,9, -999.000,9, -999.000,9, -999.000,9,   2235.3,2, -999.000,9, -999.000,-999.0000,9,-999.0000,  -999.00,9,  -999.00, -999.000,9, -999.000
  06AQ19960317,  S04a,    59,  1,     18,      6,2,19960420,   0,-67.5018,   0.0038, 4607,    100.4,   0.3878,  34.5888,2,  34.5743,2,    209.7,2,    87.30,2,    33.45,2,  -999.00,9,     2.31,2,    1.912,2,    0.913,2,    0.143,2,    2.367,2,   2246.3,2, -999.000,9, -999.000,-999.0000,9,-999.0000,  -999.00,9,  -999.00, -999.000,9, -999.000
  06AQ19960317,  S04a,    59,  1,     17,      7,2,19960420,   0,-67.5018,   0.0038, 4607,    150.3,   1.0284,  34.6731,2,  34.6716,2,    189.3,2,    95.56,2,    33.57,2,  -999.00,9,     2.32,2,    0.756,2,    0.351,2,    0.047,2,    1.015,2,   2255.7,2, -999.000,9, -999.000,-999.0000,9,-999.0000,  -999.00,9,  -999.00, -999.000,9, -999.000
  06AQ19960317,  S04a,    59,  1,     16,      8,2,19960420,   0,-67.5018,   0.0038, 4607,    199.1,   0.9606,  34.6780,2,  34.6805,2,    190.2,2,    96.84,2,    33.28,2,  -999.00,9,     2.30,2, -999.000,9, -999.000,9, -999.000,9, -999.000,9,   2256.1,2, -999.000,9, -999.000,-999.0000,9,-999.0000,  -999.00,9,  -999.00, -999.000,9, -999.000
  06AQ19960317,  S04a,    59,  1,     15,      9,2,19960420,   0,-67.5018,   0.0038, 4607,    274.8,   0.9809,  34.6916,2,  34.6911,2,    190.5,2,    99.75,2,    33.25,2,  -999.00,9,     2.30,2,    0.571,2,    0.265,2,    0.035,2,    0.820,2,   2258.6,2, -999.000,9, -999.000,-999.0000,9,-999.0000,  -999.00,9,  -999.00, -999.000,9, -999.000
  06AQ19960317,  S04a,    59,  1,     14,     10,2,19960420,   0,-67.5018,   0.0038, 4607,    300.7,   0.9976,  34.6956,2,  34.6974,2,    191.1,2,   100.97,2,    33.21,2,  -999.00,9,     2.30,2, -999.000,9, -999.000,9, -999.000,9, -999.000,9,   2256.5,2, -999.000,9, -999.000,-999.0000,9,-999.0000,  -999.00,9,  -999.00, -999.000,9, -999.000
  06AQ19960317,  S04a,    59,  1,     13,     11,2,19960420,   0,-67.5018,   0.0038, 4607,    399.7,   0.9205,  34.6989,2,  34.7000,2,    193.8,2,   104.21,2,    33.05,2,  -999.00,9,     2.28,2,    0.398,2,    0.186,2,    0.023,2,    0.613,2,   2257.9,2, -999.000,9, -999.000,-999.0000,9,-999.0000,  -999.00,9,  -999.00, -999.000,9, -999.000
  06AQ19960317,  S04a,    59,  1,     12,     12,2,19960420,   0,-67.5018,   0.0038, 4607,    500.6,   0.8200,  34.6983,2,  34.6998,2,    194.7,2,   108.02,2,    33.06,2,  -999.00,9,     2.28,2,    0.353,2,    0.158,2,    0.017,2,    0.577,2,   2258.4,2, -999.000,9, -999.000,-999.0000,9,-999.0000,  -999.00,9,  -999.00, -999.000,9, -999.000
  06AQ19960317,  S04a,    59,  1,     11,     13,2,19960420,   0,-67.5018,   0.0038, 4607,    750.2,   0.5947,  34.6916,2,  34.6922,2,    198.9,2,   114.46,2,    33.48,2,  -999.00,9,     2.30,2,    0.292,2,    0.136,2,    0.013,2,    0.523,2,   2261.9,2, -999.000,9, -999.000,-999.0000,9,-999.0000,  -999.00,9,  -999.00, -999.000,9, -999.000
  06AQ19960317,  S04a,    59,  1,     10,     14,2,19960420,   0,-67.5018,   0.0038, 4607,   1001.4,   0.4376,  34.6866,2,  34.6861,2,    199.6,2,   120.26,2,    33.83,2,  -999.00,9,     2.33,2, -999.000,9, -999.000,9, -999.000,9, -999.000,9,   2262.5,2, -999.000,9, -999.000,-999.0000,9,-999.0000,  -999.00,9,  -999.00, -999.000,9, -999.000
  06AQ19960317,  S04a,    59,  1,      9,     15,2,19960420,   0,-67.5018,   0.0038, 4607,   1500.9,   0.1994,  34.6769,2,  34.6763,2,    206.5,2,   124.51,2,    33.87,2,  -999.00,9,     2.33,2,    0.178,2,    0.087,2,    0.005,2,    0.419,2,   2263.1,2, -999.000,9, -999.000,-999.0000,9,-999.0000,  -999.00,9,  -999.00, -999.000,9, -999.000
  06AQ19960317,  S04a,    59,  1,      8,     16,2,19960420,   0,-67.5018,   0.0038, 4607,   2001.5,   0.0043,  34.6688,2,  34.6686,2,    216.7,2,   125.90,2,    33.76,2,  -999.00,9,     2.33,2, -999.000,9, -999.000,9, -999.000,9, -999.000,9,   2258.9,2, -999.000,9, -999.000,-999.0000,9,-999.0000,  -999.00,9,  -999.00, -999.000,9, -999.000
  06AQ19960317,  S04a,    59,  1,      7,     17,2,19960420,   0,-67.5018,   0.0038, 4607,   2499.4,  -0.1215,  34.6631,2,  34.6631,2,    224.8,2,   125.73,2,    33.48,2,  -999.00,9,     2.30,2, -999.000,9, -999.000,9, -999.000,9, -999.000,9,   2256.6,2, -999.000,9, -999.000,-999.0000,9,-999.0000,  -999.00,9,  -999.00, -999.000,9, -999.000
  06AQ19960317,  S04a,    59,  1,      6,     18,2,19960420,   0,-67.5018,   0.0038, 4607,   2999.8,  -0.2129,  34.6599,2,  34.6604,2,    231.0,2,   124.30,2,    33.20,2,  -999.00,9,     2.28,2,    0.387,2,    0.182,2,    0.013,2,    0.760,2,   2253.9,2, -999.000,9, -999.000,-999.0000,9,-999.0000,  -999.00,9,  -999.00, -999.000,9, -999.000
  06AQ19960317,  S04a,    59,  1,      5,     19,2,19960420,   0,-67.5018,   0.0038, 4607,   3499.3,  -0.2671,  34.6575,2,  34.6561,2,    235.5,2,   124.38,2,    33.16,2,  -999.00,9,     2.28,2,    0.510,2,    0.238,2,    0.021,2,    0.916,2,   2252.7,2, -999.000,9, -999.000,-999.0000,9,-999.0000,  -999.00,9,  -999.00, -999.000,9, -999.000
  06AQ19960317,  S04a,    59,  1,      4,     20,2,19960420,   0,-67.5018,   0.0038, 4607,   3998.7,  -0.2917,  34.6556,2,  34.6564,2,    238.1,2,   124.89,2,    33.16,2,  -999.00,9,     2.28,2,    0.513,2,    0.238,2,    0.023,2,    0.940,2,   2250.5,2, -999.000,9, -999.000,-999.0000,9,-999.0000,  -999.00,9,  -999.00, -999.000,9, -999.000
  06AQ19960317,  S04a,    59,  1,      3,     21,2,19960420,   0,-67.5018,   0.0038, 4607,   4301.1,  -0.2998,  34.6550,2,  34.6523,2,    239.5,2,   126.08,2,    33.16,2,  -999.00,9,     2.28,2,    0.481,2,    0.222,2,    0.022,2,    0.908,2,   2249.3,2, -999.000,9, -999.000,-999.0000,9,-999.0000,  -999.00,9,  -999.00, -999.000,9, -999.000
  06AQ19960317,  S04a,    59,  1,      2,     22,2,19960420,   0,-67.5018,   0.0038, 4607,   4568.1,  -0.3176,  34.6540,2,  34.6522,2,    240.3,2,   128.58,2,    33.18,2,  -999.00,9,     2.27,2,    0.404,2,    0.192,2,    0.017,2,    0.840,2,   2249.8,2, -999.000,9, -999.000,-999.0000,9,-999.0000,  -999.00,9,  -999.00, -999.000,9, -999.000
  06AQ19960317,  S04a,    59,  1,      1,     23,2,19960420,   0,-67.5018,   0.0038, 4607,   4616.7,  -0.3348,  34.6534,2,  34.6526,2,    240.6,2,   132.39,2,    33.12,2,  -999.00,9,     2.27,2,    0.371,2,    0.180,2,    0.015,2,    0.823,2,   2251.7,2, -999.000,9, -999.000,-999.0000,9,-999.0000,  -999.00,9,  -999.00, -999.000,9, -999.000
  06AQ19960317,  S04a,    59,  1,     24,     24,2,19960420,   0,-67.5018,   0.0038, 4607,   4670.1,  -0.3572,  34.6524,2,  34.6505,2,    240.8,2,   133.03,2,    33.16,2,  -999.00,9,     2.26,2,    0.361,2,    0.174,2,    0.014,2,    0.806,2,   2250.3,2, -999.000,9, -999.000,-999.0000,9,-999.0000,  -999.00,9,  -999.00, -999.000,9, -999.000