BOTTLE,20150129PRINUNIVRMK
EXPOCODE,SECT_ID,STNNBR,CASTNO,SAMPNO,BTLNBR,BTLNBR_FLAG_W,DATE,TIME,LATITUDE,LONGITUDE,DEPTH,CTDPRS,CTDTMP,CTDSAL,CTDSAL_FLAG_W,SALNTY,SALNTY_FLAG_W,OXYGEN,OXYGEN_FLAG_W,SILCAT,SILCAT_FLAG_W,NITRAT,NITRAT_FLAG_W,NITRIT,NITRIT_FLAG_W,PHSPHT,PHSPHT_FLAG_W,CFC-11,CFC-11_FLAG_W,CFC-12,CFC-12_FLAG_W,CFC113,CFC113_FLAG_W,CCL4,CCL4_FLAG_W,TCARBN,TCARBN_FLAG_W,TRITUM,TRITUM_FLAG_W,TRITER,HELIUM,HELIUM_FLAG_W,HELIER,DELHE3,DELHE3_FLAG_W,DELHER,NEON,NEON_FLAG_W,NEONER
,,,,,,,,,,,METERS,DBAR,ITS-90,PSS-78,,PSS-78,,UMOL/KG,,UMOL/KG,,UMOL/KG,,UMOL/KG,,UMOL/KG,,PMOL/KG,,PMOL/KG,,PMOL/KG,,PMOL/KG,,UMOL/KG,,TU,,TU,NMOL/KG,,NMOL/KG,PERCNT,,PERCNT,NMOL/KG,,NMOL/KG
  06AQ19960317,  S04a,    85,  1,     23,      1,2,19960430,   0,-66.3655, -29.4983, 4792,     19.9,  -1.8616,  34.2661,2,  34.2674,2,    331.8,2,    56.43,2,    26.54,2,     0.20,2,     1.83,2,    6.753,2,    3.059,2,    0.530,2,    7.610,2,   2196.1,2, -999.000,9, -999.000,-999.0000,9,-999.0000,  -999.00,9,  -999.00, -999.000,9, -999.000
  06AQ19960317,  S04a,    85,  1,     22,      2,2,19960430,   0,-66.3655, -29.4983, 4792,     40.1,  -1.8594,  34.2673,2,  34.2502,2,    328.0,2,    57.35,2,    26.64,2,     0.19,2,     1.85,2,    6.516,2,    2.930,2,    0.497,2,    7.759,2,   2195.3,2, -999.000,9, -999.000,-999.0000,9,-999.0000,  -999.00,9,  -999.00, -999.000,9, -999.000
  06AQ19960317,  S04a,    85,  1,     21,      3,2,19960430,   0,-66.3655, -29.4983, 4792,     80.4,  -1.6147,  34.3521,2,-999.0000,9,   -999.0,9,    68.43,2,    28.84,2,     0.15,2,     2.00,2,    5.131,2,    2.368,2,    0.396,2,    6.330,2,   -999.0,9, -999.000,9, -999.000,-999.0000,9,-999.0000,  -999.00,9,  -999.00, -999.000,9, -999.000
  06AQ19960317,  S04a,    85,  1,     20,      4,2,19960430,   0,-66.3655, -29.4983, 4792,     80.4,  -1.5808,  34.3637,2,  34.3290,2,    299.4,2,    67.84,2,    28.80,2,     0.15,2,     2.01,2, -999.000,9, -999.000,9, -999.000,9, -999.000,9,   2209.1,2, -999.000,9, -999.000,-999.0000,9,-999.0000,  -999.00,9,  -999.00, -999.000,9, -999.000
  06AQ19960317,  S04a,    85,  1,     19,      5,2,19960430,   0,-66.3655, -29.4983, 4792,    100.3,  -1.0066,  34.5063,2,  34.5316,2,    243.5,2,    86.68,2,    32.26,2,     0.08,2,     2.20,2,    3.003,2,    1.431,2,    0.232,2,    3.703,2,   2239.9,2, -999.000,9, -999.000,-999.0000,9,-999.0000,  -999.00,9,  -999.00, -999.000,9, -999.000
  06AQ19960317,  S04a,    85,  1,     18,      6,2,19960430,   0,-66.3655, -29.4983, 4792,    150.7,   0.3448,  34.6517,2,  34.6539,2,    197.0,2,   102.07,2,    33.91,2,     0.04,2,     2.30,2,    1.051,2,    0.482,2,    0.069,2,    1.350,2,   2259.1,2, -999.000,9, -999.000,-999.0000,9,-999.0000,  -999.00,9,  -999.00, -999.000,9, -999.000
  06AQ19960317,  S04a,    85,  1,     17,      7,2,19960430,   0,-66.3655, -29.4983, 4792,    200.6,   0.7129,  34.6863,2,  34.6920,2,    188.1,2,   108.51,2,    34.03,2,     0.04,2,     2.30,2,    0.396,2,    0.177,2,    0.017,2,    0.634,2,   2262.1,2, -999.000,9, -999.000,-999.0000,9,-999.0000,  -999.00,9,  -999.00, -999.000,9, -999.000
  06AQ19960317,  S04a,    85,  1,     16,      8,2,19960430,   0,-66.3655, -29.4983, 4792,    220.2,   0.7615,  34.6910,2,  34.6922,2,    188.5,2,   109.81,2,    33.93,2,     0.04,2,     2.30,2,    0.356,2,    0.161,2,    0.017,2,    0.591,2,   2262.4,2, -999.000,9, -999.000,-999.0000,9,-999.0000,  -999.00,9,  -999.00, -999.000,9, -999.000
  06AQ19960317,  S04a,    85,  1,     15,      9,2,19960430,   0,-66.3655, -29.4983, 4792,    270.9,   0.7163,  34.6926,2,-999.0000,9,    190.0,2,   111.69,2,    33.88,2,     0.03,2,     2.29,2,    0.290,2,    0.121,2,    0.008,2,    0.518,2,   2261.1,2, -999.000,9, -999.000,-999.0000,9,-999.0000,  -999.00,9,  -999.00, -999.000,9, -999.000
  06AQ19960317,  S04a,    85,  1,     14,     10,2,19960430,   0,-66.3655, -29.4983, 4792,    400.2,   0.5555,  34.6893,2,-999.0000,9,    193.3,2,   116.20,2,    33.97,2,     0.03,2,     2.30,2,    0.222,2,    0.097,2,    0.007,2,    0.449,2,   2263.5,2, -999.000,9, -999.000,-999.0000,9,-999.0000,  -999.00,9,  -999.00, -999.000,9, -999.000
  06AQ19960317,  S04a,    85,  1,     13,     11,2,19960430,   0,-66.3655, -29.4983, 4792,    500.9,   0.4663,  34.6861,2,  34.6868,2,    194.1,2,   118.83,2,    34.24,2,     0.03,2,     2.31,2,    0.174,2,    0.074,2,    0.006,2,    0.397,2,   -999.0,9, -999.000,9, -999.000,-999.0000,9,-999.0000,  -999.00,9,  -999.00, -999.000,9, -999.000
  06AQ19960317,  S04a,    85,  1,     12,     12,2,19960430,   0,-66.3655, -29.4983, 4792,    750.7,   0.3126,  34.6812,2,-999.0000,9,    198.5,2,   122.30,2,    34.09,2,     0.02,2,     2.31,2, -999.000,9, -999.000,9, -999.000,9, -999.000,9,   2263.5,2, -999.000,9, -999.000,-999.0000,9,-999.0000,  -999.00,9,  -999.00, -999.000,9, -999.000
  06AQ19960317,  S04a,    85,  1,     11,     13,2,19960430,   0,-66.3655, -29.4983, 4792,   1000.9,   0.1992,  34.6762,2,  34.6773,2,    203.4,2,   123.84,2,    33.95,2,     0.02,2,     2.31,2,    0.152,2,    0.092,2,    0.004,2,    0.376,2,   2263.1,2, -999.000,9, -999.000,-999.0000,9,-999.0000,  -999.00,9,  -999.00, -999.000,9, -999.000
  06AQ19960317,  S04a,    85,  1,     10,     14,2,19960430,   0,-66.3655, -29.4983, 4792,   1501.4,   0.0137,  34.6688,2,  34.6699,2,    213.8,2,   125.07,2,    33.79,2,     0.02,2,     2.29,2,    0.144,2,    0.069,2,    0.003,2,    0.415,2,   2257.3,2, -999.000,9, -999.000,-999.0000,9,-999.0000,  -999.00,9,  -999.00, -999.000,9, -999.000
  06AQ19960317,  S04a,    85,  1,      9,     15,2,19960430,   0,-66.3655, -29.4983, 4792,   2001.5,  -0.1262,  34.6624,2,  34.6635,2,    223.0,2,   124.46,2,    33.46,2,     0.02,2,     2.28,2,    0.168,2,    0.079,2,    0.003,2,    0.493,2,   -999.0,9, -999.000,9, -999.000,-999.0000,9,-999.0000,  -999.00,9,  -999.00, -999.000,9, -999.000
  06AQ19960317,  S04a,    85,  1,      8,     16,2,19960430,   0,-66.3655, -29.4983, 4792,   2500.9,  -0.2234,  34.6599,2,  34.6603,2,    229.2,2,   124.06,2,    33.15,2,     0.02,2,     2.26,2,    0.218,2,    0.102,2,    0.006,2,    0.587,2,   2250.1,2, -999.000,9, -999.000,-999.0000,9,-999.0000,  -999.00,9,  -999.00, -999.000,9, -999.000
  06AQ19960317,  S04a,    85,  1,      7,     17,2,19960430,   0,-66.3655, -29.4983, 4792,   3001.0,  -0.2856,  34.6569,2,  34.6567,2,    233.8,2,   123.41,2,    33.14,2,     0.02,2,     2.25,2,    0.273,2,    0.126,2,    0.010,2,    0.649,2,   2249.3,2, -999.000,9, -999.000,-999.0000,9,-999.0000,  -999.00,9,  -999.00, -999.000,9, -999.000
  06AQ19960317,  S04a,    85,  1,      6,     18,2,19960430,   0,-66.3655, -29.4983, 4792,   3499.4,  -0.3306,  34.6549,2,  34.6568,2,    237.3,2,   123.16,2,    32.99,2,     0.03,2,     2.24,2,    0.272,2,    0.129,2,    0.008,2,    0.694,2,   2248.5,2, -999.000,9, -999.000,-999.0000,9,-999.0000,  -999.00,9,  -999.00, -999.000,9, -999.000
  06AQ19960317,  S04a,    85,  1,      5,     19,2,19960430,   0,-66.3655, -29.4983, 4792,   3999.8,  -0.3596,  34.6532,2,-999.0000,9,    239.8,2,   125.14,2,    32.93,2,     0.02,2,     2.24,2,    0.212,2,    0.096,2,    0.006,2,    0.632,2,   2248.9,2, -999.000,9, -999.000,-999.0000,9,-999.0000,  -999.00,9,  -999.00, -999.000,9, -999.000
  06AQ19960317,  S04a,    85,  1,      4,     20,2,19960430,   0,-66.3655, -29.4983, 4792,   4499.7,  -0.4108,  34.6518,2,  34.6519,2,    243.5,2,   122.54,2,    33.09,2,     0.03,2,     2.25,2,    0.189,2,    0.085,2,    0.005,2,    0.657,2,   2249.0,2, -999.000,9, -999.000,-999.0000,9,-999.0000,  -999.00,9,  -999.00, -999.000,9, -999.000
  06AQ19960317,  S04a,    85,  1,      3,     21,2,19960430,   0,-66.3655, -29.4983, 4792,   4698.4,  -0.4605,  34.6502,2,-999.0000,9,    244.7,2,   123.83,2,    32.95,2,     0.02,2,     2.23,2,    0.225,2,    0.108,2,    0.005,2,    0.733,2,   2247.8,2, -999.000,9, -999.000,-999.0000,9,-999.0000,  -999.00,9,  -999.00, -999.000,9, -999.000
  06AQ19960317,  S04a,    85,  1,      2,     22,2,19960430,   0,-66.3655, -29.4983, 4792,   4763.6,  -0.4659,  34.6488,2,  34.6479,2,    244.3,2,   127.89,2,    32.90,2,     0.02,2,     2.24,2,    0.199,2,    0.087,2,    0.005,2,    0.681,2,   2248.9,2, -999.000,9, -999.000,-999.0000,9,-999.0000,  -999.00,9,  -999.00, -999.000,9, -999.000
  06AQ19960317,  S04a,    85,  1,      1,     23,2,19960430,   0,-66.3655, -29.4983, 4792,   4813.0,  -0.4715,  34.6485,2,  34.6478,2,    244.8,2,   127.48,2,    33.03,2,     0.02,2,     2.24,2,    0.287,2,    0.141,2,    0.007,2,    0.786,2,   2251.2,2, -999.000,9, -999.000,-999.0000,9,-999.0000,  -999.00,9,  -999.00, -999.000,9, -999.000
  06AQ19960317,  S04a,    85,  1,     24,     24,2,19960430,   0,-66.3655, -29.4983, 4792,   4864.7,  -0.4952,  34.6454,2,  34.6439,2,    245.9,2,   124.62,2,    33.01,2,     0.03,2,     2.24,2,    0.479,2,    0.222,2,    0.009,2,    0.930,2,   2248.9,2, -999.000,9, -999.000,-999.0000,9,-999.0000,  -999.00,9,  -999.00, -999.000,9, -999.000
  06AQ19960317,  S04a,    86,  1,     23,      1,2,19960501,   0,-66.1307, -31.8560, 4769,     20.5,  -1.8781,  34.2199,2,  34.2215,2,   -999.0,9,    57.90,2,    26.74,2,     0.22,2,     1.86,2,    7.058,2,    3.122,2,    0.542,2,    8.200,2,   -999.0,9, -999.000,9, -999.000,-999.0000,9,-999.0000,  -999.00,9,  -999.00, -999.000,9, -999.000
  06AQ19960317,  S04a,    86,  1,     22,      2,2,19960501,   0,-66.1307, -31.8560, 4769,     20.5,  -1.8781,  34.2200,2,  34.2034,2,    335.6,2,    55.51,2,    25.83,2,     0.21,2,     1.80,2, -999.000,9, -999.000,9, -999.000,9, -999.000,9,   2190.8,2, -999.000,9, -999.000,-999.0000,9,-999.0000,  -999.00,9,  -999.00, -999.000,9, -999.000
  06AQ19960317,  S04a,    86,  1,     21,      3,2,19960501,   0,-66.1307, -31.8560, 4769,     40.5,  -1.8797,  34.2221,2,  34.2220,2,    335.1,2,    57.49,2,    26.55,2,     0.21,2,     1.83,2,    6.700,2,    2.975,2,    0.513,2,    7.851,2,   2192.8,2, -999.000,9, -999.000,-999.0000,9,-999.0000,  -999.00,9,  -999.00, -999.000,9, -999.000
  06AQ19960317,  S04a,    86,  1,     20,      4,2,19960501,   0,-66.1307, -31.8560, 4769,     40.6,  -1.8804,  34.2227,2,-999.0000,9,   -999.0,9,    56.34,2,    26.09,2,     0.21,2,     1.82,2, -999.000,9, -999.000,9, -999.000,9, -999.000,9,   -999.0,9, -999.000,9, -999.000,-999.0000,9,-999.0000,  -999.00,9,  -999.00, -999.000,9, -999.000
  06AQ19960317,  S04a,    86,  1,     19,      5,2,19960501,   0,-66.1307, -31.8560, 4769,     40.6,  -1.8804,  34.2222,2,-999.0000,9,   -999.0,9,    55.40,2,    25.66,2,     0.21,2,     1.79,2, -999.000,9, -999.000,9, -999.000,9, -999.000,9,   -999.0,9, -999.000,9, -999.000,-999.0000,9,-999.0000,  -999.00,9,  -999.00, -999.000,9, -999.000
  06AQ19960317,  S04a,    86,  1,     18,      6,2,19960501,   0,-66.1307, -31.8560, 4769,     60.2,  -1.8768,  34.2244,2,  34.2253,2,   -999.0,9,    55.86,2,    25.99,2,     0.20,2,     1.81,2,    6.293,2,    3.178,2,    0.551,2,    8.550,2,   -999.0,9, -999.000,9, -999.000,-999.0000,9,-999.0000,  -999.00,9,  -999.00, -999.000,9, -999.000
  06AQ19960317,  S04a,    86,  1,     17,      7,2,19960501,   0,-66.1307, -31.8560, 4769,     60.2,  -1.8765,  34.2249,2,  34.2374,2,    335.1,2,    57.03,2,    26.17,2,     0.20,2,     1.83,2, -999.000,9, -999.000,9, -999.000,9, -999.000,9,   2192.8,2, -999.000,9, -999.000,-999.0000,9,-999.0000,  -999.00,9,  -999.00, -999.000,9, -999.000
  06AQ19960317,  S04a,    86,  1,     16,      8,2,19960501,   0,-66.1307, -31.8560, 4769,     80.4,  -1.7616,  34.3409,2,  34.3863,2,   -999.0,9,    71.61,2,    29.45,2,     0.16,2,     2.06,2,    4.962,2,    2.270,2,    0.392,2,    5.947,2,   -999.0,9, -999.000,9, -999.000,-999.0000,9,-999.0000,  -999.00,9,  -999.00, -999.000,9, -999.000
  06AQ19960317,  S04a,    86,  1,     15,      9,2,19960501,   0,-66.1307, -31.8560, 4769,     80.4,  -1.7282,  34.3836,2,  34.3838,2,    295.5,2,    72.58,2,    29.77,2,     0.15,2,     2.08,2, -999.000,9, -999.000,9, -999.000,9, -999.000,9,   2216.9,2, -999.000,9, -999.000,-999.0000,9,-999.0000,  -999.00,9,  -999.00, -999.000,9, -999.000
  06AQ19960317,  S04a,    86,  1,     14,     10,2,19960501,   0,-66.1307, -31.8560, 4769,    100.7,  -1.6843,  34.4158,2,  34.4240,2,    286.5,2,    75.16,2,    30.45,2,     0.11,2,     2.09,2, -999.000,9, -999.000,9, -999.000,9, -999.000,9,   2221.6,2, -999.000,9, -999.000,-999.0000,9,-999.0000,  -999.00,9,  -999.00, -999.000,9, -999.000
  06AQ19960317,  S04a,    86,  1,     13,     11,2,19960501,   0,-66.1307, -31.8560, 4769,    120.5,  -1.2256,  34.4625,2,  34.5042,2,    251.6,2,    84.47,2,    32.02,2,     0.07,2,     2.17,2,    3.479,2,    1.666,2,    0.261,2,    4.044,2,   2235.9,2, -999.000,9, -999.000,-999.0000,9,-999.0000,  -999.00,9,  -999.00, -999.000,9, -999.000
  06AQ19960317,  S04a,    86,  1,     12,     12,2,19960501,   0,-66.1307, -31.8560, 4769,    150.6,  -0.1621,  34.5995,2,  34.6124,2,    206.4,2,    97.87,2,    33.72,2,     0.04,2,     2.28,2, -999.000,9, -999.000,9, -999.000,9, -999.000,9,   2254.8,2, -999.000,9, -999.000,-999.0000,9,-999.0000,  -999.00,9,  -999.00, -999.000,9, -999.000
  06AQ19960317,  S04a,    86,  1,     11,     13,2,19960501,   0,-66.1307, -31.8560, 4769,    200.9,   0.6689,  34.6849,2,  34.6852,2,    186.2,2,   108.58,2,    34.35,2,     0.04,2,     2.33,2,    0.466,2,    0.206,2,    0.018,2,    0.693,2,   2264.3,2, -999.000,9, -999.000,-999.0000,9,-999.0000,  -999.00,9,  -999.00, -999.000,9, -999.000
  06AQ19960317,  S04a,    86,  1,     10,     14,2,19960501,   0,-66.1307, -31.8560, 4769,    250.2,   0.6958,  34.6882,2,  34.6890,2,    187.0,2,   111.02,2,    34.26,2,     0.03,2,     2.32,2,    0.370,2,    0.162,2,    0.016,2,    0.596,2,   2264.3,2, -999.000,9, -999.000,-999.0000,9,-999.0000,  -999.00,9,  -999.00, -999.000,9, -999.000
  06AQ19960317,  S04a,    86,  1,      9,     15,2,19960501,   0,-66.1307, -31.8560, 4769,    250.2,   0.6978,  34.6892,2,-999.0000,9,   -999.0,9,   110.99,2,    34.30,2,     0.02,2,     2.33,2, -999.000,9, -999.000,9, -999.000,9, -999.000,9,   -999.0,9, -999.000,9, -999.000,-999.0000,9,-999.0000,  -999.00,9,  -999.00, -999.000,9, -999.000
  06AQ19960317,  S04a,    86,  1,      8,     16,2,19960501,   0,-66.1307, -31.8560, 4769,    250.2,   0.6954,  34.6886,2,-999.0000,9,   -999.0,9,   111.33,2,    34.48,2,     0.03,2,     2.33,2, -999.000,9, -999.000,9, -999.000,9, -999.000,9,   -999.0,9, -999.000,9, -999.000,-999.0000,9,-999.0000,  -999.00,9,  -999.00, -999.000,9, -999.000
  06AQ19960317,  S04a,    86,  1,      7,     17,2,19960501,   0,-66.1307, -31.8560, 4769,    280.6,   0.6792,  34.6904,2,  34.6910,2,    188.7,2,   112.53,2,    34.22,2,     0.03,2,     2.33,2,    0.322,2,    0.146,2,    0.013,2,    0.549,2,   2265.0,2, -999.000,9, -999.000,-999.0000,9,-999.0000,  -999.00,9,  -999.00, -999.000,9, -999.000
  06AQ19960317,  S04a,    86,  1,      6,     18,2,19960501,   0,-66.1307, -31.8560, 4769,    300.5,   0.6424,  34.6888,2,  34.6901,2,    188.9,2,   113.25,2,    34.24,2,     0.02,2,     2.34,2,    0.315,2,    0.142,2,    0.012,2,    0.545,2,   2264.3,2, -999.000,9, -999.000,-999.0000,9,-999.0000,  -999.00,9,  -999.00, -999.000,9, -999.000
  06AQ19960317,  S04a,    86,  1,      5,     19,2,19960501,   0,-66.1307, -31.8560, 4769,    349.7,   0.5814,  34.6885,2,  34.6890,2,    190.0,2,   115.23,2,    34.45,2,     0.02,2,     2.34,2, -999.000,9, -999.000,9, -999.000,9, -999.000,9,   2265.4,2, -999.000,9, -999.000,-999.0000,9,-999.0000,  -999.00,9,  -999.00, -999.000,9, -999.000
  06AQ19960317,  S04a,    86,  1,      4,     20,2,19960501,   0,-66.1307, -31.8560, 4769,    400.7,   0.5338,  34.6889,2,  34.6899,2,    191.0,2,   116.82,2,    34.54,2,     0.02,2,     2.35,2,    0.247,2,    0.114,2,    0.009,2,    0.479,2,   2265.1,2, -999.000,9, -999.000,-999.0000,9,-999.0000,  -999.00,9,  -999.00, -999.000,9, -999.000
  06AQ19960317,  S04a,    86,  1,      3,     21,2,19960501,   0,-66.1307, -31.8560, 4769,    450.0,   0.4914,  34.6879,2,  34.6870,2,    192.0,2,   116.89,2,    34.16,2,     0.00,2,     2.34,2,    0.216,2,    0.100,2,    0.008,2,    0.446,2,   2265.8,2, -999.000,9, -999.000,-999.0000,9,-999.0000,  -999.00,9,  -999.00, -999.000,9, -999.000
  06AQ19960317,  S04a,    86,  1,     24,     24,2,19960501,   0,-66.1307, -31.8560, 4769,    501.6,   0.4490,  34.6871,2,-999.0000,9,   -999.0,9,   118.09,2,    34.22,2,     0.00,2,     2.35,2, -999.000,9, -999.000,9, -999.000,9, -999.000,9,   -999.0,9, -999.000,9, -999.000,-999.0000,9,-999.0000,  -999.00,9,  -999.00, -999.000,9, -999.000
  06AQ19960317,  S04a,    86,  1,      2,     22,2,19960501,   0,-66.1307, -31.8560, 4769,    501.7,   0.4474,  34.6860,2,  34.6858,2,    192.5,2,   119.49,2,    34.43,2,     0.00,2,     2.35,2, -999.000,9, -999.000,9, -999.000,9, -999.000,9,   2265.6,2, -999.000,9, -999.000,-999.0000,9,-999.0000,  -999.00,9,  -999.00, -999.000,9, -999.000
  06AQ19960317,  S04a,    86,  1,      1,     23,2,19960501,   0,-66.1307, -31.8560, 4769,    501.8,   0.4469,  34.6872,2,-999.0000,9,   -999.0,9,   118.94,2,    34.46,2,     0.01,2,     2.36,2, -999.000,9, -999.000,9, -999.000,9, -999.000,9,   -999.0,9, -999.000,9, -999.000,-999.0000,9,-999.0000,  -999.00,9,  -999.00, -999.000,9, -999.000