BOTTLE,20150129PRINUNIVRMK
EXPOCODE,SECT_ID,STNNBR,CASTNO,SAMPNO,BTLNBR,BTLNBR_FLAG_W,DATE,TIME,LATITUDE,LONGITUDE,DEPTH,CTDPRS,CTDTMP,CTDSAL,CTDSAL_FLAG_W,SALNTY,SALNTY_FLAG_W,OXYGEN,OXYGEN_FLAG_W,SILCAT,SILCAT_FLAG_W,NITRAT,NITRAT_FLAG_W,NITRIT,NITRIT_FLAG_W,PHSPHT,PHSPHT_FLAG_W,CFC-11,CFC-11_FLAG_W,CFC-12,CFC-12_FLAG_W,CFC113,CFC113_FLAG_W,CCL4,CCL4_FLAG_W,TCARBN,TCARBN_FLAG_W,TRITUM,TRITUM_FLAG_W,TRITER,HELIUM,HELIUM_FLAG_W,HELIER,DELHE3,DELHE3_FLAG_W,DELHER,NEON,NEON_FLAG_W,NEONER
,,,,,,,,,,,METERS,DBAR,ITS-90,PSS-78,,PSS-78,,UMOL/KG,,UMOL/KG,,UMOL/KG,,UMOL/KG,,UMOL/KG,,PMOL/KG,,PMOL/KG,,PMOL/KG,,PMOL/KG,,UMOL/KG,,TU,,TU,NMOL/KG,,NMOL/KG,PERCNT,,PERCNT,NMOL/KG,,NMOL/KG
  06AQ19960317,  S04a,    65,  2,     23,      1,2,19960422,   0,-69.4200,  -0.0077, 1840,     19.9,  -1.8769,  34.3103,2,  34.3115,2,   -999.0,9,    55.83,2,    27.72,2,  -999.00,9,     1.94,2,    5.761,2,    2.897,2,    0.489,2,    7.315,2,   2194.6,2,   -0.177,3, -999.000,   1.7940,2,   0.0050,    -0.55,2,     0.22,    8.054,2,    0.018
  06AQ19960317,  S04a,    65,  2,     22,      2,2,19960422,   0,-69.4200,  -0.0077, 1840,     40.9,  -1.8680,  34.3128,2,  34.3181,2,    327.4,2,    57.06,2,    27.97,2,  -999.00,9,     1.97,2,    5.610,2,    2.844,2,    0.481,2,    7.086,2,   2195.1,2,    0.211,2, -999.000,   1.8020,3,   0.0140,    -0.56,3,     0.22,    8.068,3,    0.058
  06AQ19960317,  S04a,    65,  2,     21,      3,2,19960422,   0,-69.4200,  -0.0077, 1840,     80.9,  -1.8543,  34.3257,2,  34.3278,2,    324.0,2,    59.25,2,    28.45,2,  -999.00,9,     1.99,2, -999.000,9, -999.000,9, -999.000,9, -999.000,9,   2197.6,2, -999.000,9, -999.000,-999.0000,9,-999.0000,  -999.00,9,  -999.00, -999.000,9, -999.000
  06AQ19960317,  S04a,    65,  2,     20,      4,2,19960422,   0,-69.4200,  -0.0077, 1840,     80.9,  -1.8539,  34.3253,2,  34.3266,2,   -999.0,9,    59.16,2,    28.52,2,  -999.00,9,     1.99,2, -999.000,9, -999.000,9, -999.000,9, -999.000,9,   -999.0,9, -999.000,9, -999.000,-999.0000,9,-999.0000,  -999.00,9,  -999.00, -999.000,9, -999.000
  06AQ19960317,  S04a,    65,  2,     19,      5,2,19960422,   0,-69.4200,  -0.0077, 1840,    101.2,  -1.8601,  34.3279,2,  34.3277,2,    324.6,2,    58.74,2,    28.36,2,  -999.00,9,     1.99,2,    5.485,2,    2.784,2,    0.468,2,    6.918,2,   2197.6,2,    0.130,2, -999.000,-999.0000,9,-999.0000,  -999.00,9,  -999.00, -999.000,9, -999.000
  06AQ19960317,  S04a,    65,  2,     18,      6,2,19960422,   0,-69.4200,  -0.0077, 1840,    151.1,  -1.8608,  34.3301,2,  34.3296,2,    324.5,2,    59.04,2,    28.51,2,  -999.00,9,     2.00,2,    5.430,2,    2.747,2,    0.484,2,    6.962,2,   2198.0,2,    0.146,2, -999.000,   1.8040,2,   0.0050,    -0.56,2,     0.22,    8.084,2,    0.018
  06AQ19960317,  S04a,    65,  2,     17,      7,2,19960422,   0,-69.4200,  -0.0077, 1840,    200.9,  -1.8317,  34.3322,2,  34.3505,2,    311.1,2,    61.73,2,    29.52,2,  -999.00,9,     2.05,2, -999.000,9, -999.000,9, -999.000,9, -999.000,9,   2204.8,2, -999.000,9, -999.000,-999.0000,9,-999.0000,  -999.00,9,  -999.00, -999.000,9, -999.000
  06AQ19960317,  S04a,    65,  2,     16,      8,2,19960422,   0,-69.4200,  -0.0077, 1840,    250.0,  -1.5842,  34.4129,2,  34.4237,2,    287.0,2,    68.93,2,    31.49,2,  -999.00,9,     2.15,2, -999.000,9, -999.000,9, -999.000,9, -999.000,9,   2219.4,2, -999.000,9, -999.000,-999.0000,9,-999.0000,  -999.00,9,  -999.00, -999.000,9, -999.000
  06AQ19960317,  S04a,    65,  2,     15,      9,2,19960422,   0,-69.4200,  -0.0077, 1840,    300.3,  -1.2568,  34.4583,2,  34.4638,2,    273.1,2,    72.70,2,    31.91,2,  -999.00,9,     2.18,2,    3.748,2,    1.868,2,    0.315,2,    4.611,2,   2224.6,2,    0.193,2, -999.000,   1.8590,2,   0.0050,     2.60,2,     0.22,    8.234,2,    0.018
  06AQ19960317,  S04a,    65,  2,     14,     10,2,19960422,   0,-69.4200,  -0.0077, 1840,    350.9,  -0.6152,  34.5161,2,  34.5326,2,    247.9,2,    79.12,2,    32.33,2,  -999.00,9,     2.20,2, -999.000,9, -999.000,9, -999.000,9, -999.000,9,   2232.8,2, -999.000,9, -999.000,-999.0000,9,-999.0000,  -999.00,9,  -999.00, -999.000,9, -999.000
  06AQ19960317,  S04a,    65,  2,     13,     11,2,19960422,   0,-69.4200,  -0.0077, 1840,    400.8,   0.1815,  34.5978,2,  34.6060,2,    219.6,2,    87.57,2,    32.59,2,  -999.00,9,     2.22,2,    1.679,2,    0.820,2,    0.116,2,    1.990,2,   2244.8,2,    0.154,2, -999.000,   1.8660,2,   0.0050,     6.95,2,     0.22,    8.144,2,    0.018
  06AQ19960317,  S04a,    65,  2,     12,     12,2,19960422,   0,-69.4200,  -0.0077, 1840,    501.1,   0.7060,  34.6628,2,  34.6652,2,    206.6,2,    96.29,2,    32.66,2,  -999.00,9,     2.23,2, -999.000,9, -999.000,9, -999.000,9, -999.000,9,   2246.8,2, -999.000,9, -999.000,-999.0000,9,-999.0000,  -999.00,9,  -999.00, -999.000,9, -999.000
  06AQ19960317,  S04a,    65,  2,     11,     13,2,19960422,   0,-69.4200,  -0.0077, 1840,    531.1,   0.7107,  34.6681,2,  34.6698,2,    206.2,2,    97.20,2,    32.48,2,  -999.00,9,     2.22,2, -999.000,9, -999.000,9, -999.000,9, -999.000,9,   2249.3,2, -999.000,9, -999.000,-999.0000,9,-999.0000,  -999.00,9,  -999.00, -999.000,9, -999.000
  06AQ19960317,  S04a,    65,  2,     10,     14,2,19960422,   0,-69.4200,  -0.0077, 1840,    581.5,   0.7003,  34.6739,2,  34.6753,2,    206.1,2,    99.72,2,    32.53,2,  -999.00,9,     2.23,2,    0.766,2,    0.359,2,    0.043,2,    0.971,2,   2249.5,2,    0.108,2, -999.000,-999.0000,9,-999.0000,  -999.00,9,  -999.00, -999.000,9, -999.000
  06AQ19960317,  S04a,    65,  2,      9,     15,2,19960422,   0,-69.4200,  -0.0077, 1840,    631.8,   0.6687,  34.6779,2,  34.6776,2,   -999.0,9,   102.17,2,    32.62,2,  -999.00,9,     2.23,2, -999.000,9, -999.000,9, -999.000,9, -999.000,9,   2249.2,2, -999.000,9, -999.000,-999.0000,9,-999.0000,  -999.00,9,  -999.00, -999.000,9, -999.000
  06AQ19960317,  S04a,    65,  2,      8,     16,2,19960422,   0,-69.4200,  -0.0077, 1840,    702.0,   0.5831,  34.6757,2,  34.6758,2,   -999.0,9,   103.74,2,    32.65,2,  -999.00,9,     2.23,2,    0.706,2,    0.323,2,    0.038,2,    0.924,2,   2250.5,2, -999.000,9, -999.000,-999.0000,9,-999.0000,  -999.00,9,  -999.00, -999.000,9, -999.000
  06AQ19960317,  S04a,    65,  2,      7,     17,2,19960422,   0,-69.4200,  -0.0077, 1840,    851.4,   0.4842,  34.6769,2,  34.6777,2,    208.0,2,   108.22,2,    32.65,2,  -999.00,9,     2.24,2,    0.600,2,    0.275,2,    0.028,2,    0.830,2,   2251.9,2,    0.030,2, -999.000,   1.8650,2,   0.0050,     7.67,2,     0.22,    8.157,2,    0.018
  06AQ19960317,  S04a,    65,  2,      6,     18,2,19960422,   0,-69.4200,  -0.0077, 1840,   1001.1,   0.3769,  34.6756,2,  34.6777,2,    210.6,2,   112.30,2,    33.00,2,  -999.00,9,     2.26,2, -999.000,9, -999.000,9, -999.000,9, -999.000,9,   2253.2,2, -999.000,9, -999.000,-999.0000,9,-999.0000,  -999.00,9,  -999.00, -999.000,9, -999.000
  06AQ19960317,  S04a,    65,  2,      5,     19,2,19960422,   0,-69.4200,  -0.0077, 1840,   1250.8,   0.2457,  34.6730,2,  34.6719,2,    212.2,2,   116.73,2,    33.12,2,  -999.00,9,     2.27,2,    0.478,2,    0.218,2,    0.023,2,    0.730,2,   2253.4,2,    0.030,2, -999.000,   1.8650,2,   0.0050,     7.39,2,     0.22,    8.134,2,    0.018
  06AQ19960317,  S04a,    65,  2,      4,     20,2,19960422,   0,-69.4200,  -0.0077, 1840,   1501.0,   0.1867,  34.6725,2,  34.6718,2,    213.8,2,   119.87,2,    33.10,2,  -999.00,9,     2.28,2, -999.000,9, -999.000,9, -999.000,9, -999.000,9,   2256.0,2, -999.000,9, -999.000,-999.0000,9,-999.0000,  -999.00,9,  -999.00, -999.000,9, -999.000
  06AQ19960317,  S04a,    65,  2,      3,     21,2,19960422,   0,-69.4200,  -0.0077, 1840,   1701.4,   0.1653,  34.6724,2,  34.6714,2,    214.5,2,   120.90,2,    33.33,2,  -999.00,9,     2.28,2, -999.000,9, -999.000,9, -999.000,9, -999.000,9,   2254.7,2, -999.000,9, -999.000,-999.0000,9,-999.0000,  -999.00,9,  -999.00, -999.000,9, -999.000
  06AQ19960317,  S04a,    65,  2,      2,     22,2,19960422,   0,-69.4200,  -0.0077, 1840,   1740.3,   0.1653,  34.6729,2,  34.6709,2,    213.9,2,   121.17,2,    33.29,2,  -999.00,9,     2.28,2,    0.399,2,    0.183,2,    0.018,2,    0.664,2,   2255.1,2,    0.018,2, -999.000,   1.8670,2,   0.0050,     7.39,2,     0.22,    8.162,2,    0.018
  06AQ19960317,  S04a,    65,  2,      1,     23,2,19960422,   0,-69.4200,  -0.0077, 1840,   1787.4,   0.1539,  34.6721,2,  34.6708,2,    214.3,2,   121.39,2,    33.25,2,  -999.00,9,     2.28,2,    0.398,2,    0.183,2,    0.019,2,    0.683,2,   2256.3,2,    0.050,2, -999.000,   1.8720,2,   0.0050,     7.57,2,     0.22,    8.221,2,    0.018
  06AQ19960317,  S04a,    65,  2,     24,     24,2,19960422,   0,-69.4200,  -0.0077, 1840,   1833.7,   0.1546,  34.6716,2,  34.6715,2,    211.9,2,   121.51,2,    33.28,2,  -999.00,9,     2.28,2,    0.402,2,    0.191,2,    0.019,2,    0.669,2,   2256.5,2,    0.053,2, -999.000,   1.8890,2,   0.0050,     7.48,2,     0.22,    8.216,2,    0.018
  06AQ19960317,  S04a,    66,  1,     22,      2,2,19960422,   0,-69.6417,  -0.1233, 1808,    450.6,  -1.7760,  34.3151,2,  34.3171,2,    310.4,2,    62.29,2,    30.58,2,  -999.00,9,     2.08,2,    5.132,2,    2.566,2,    0.421,2,    6.011,2,   2208.5,2, -999.000,9, -999.000,-999.0000,9,-999.0000,  -999.00,9,  -999.00, -999.000,9, -999.000
  06AQ19960317,  S04a,    66,  1,     23,      1,2,19960422,   0,-69.6417,  -0.1233, 1808,    450.8,  -1.7795,  34.3112,2,-999.0000,9,   -999.0,9,    62.18,2,    30.58,2,  -999.00,9,     2.07,2, -999.000,9, -999.000,9, -999.000,9, -999.000,9,   -999.0,9, -999.000,9, -999.000,-999.0000,9,-999.0000,  -999.00,9,  -999.00, -999.000,9, -999.000
  06AQ19960317,  S04a,    66,  1,     21,      3,2,19960422,   0,-69.6417,  -0.1233, 1808,    550.9,  -1.6452,  34.3765,2,-999.0000,9,   -999.0,9,    66.34,2,    31.26,2,  -999.00,9,     2.13,2, -999.000,9, -999.000,9, -999.000,9, -999.000,9,   -999.0,9, -999.000,9, -999.000,-999.0000,9,-999.0000,  -999.00,9,  -999.00, -999.000,9, -999.000
  06AQ19960317,  S04a,    66,  1,     20,      4,2,19960422,   0,-69.6417,  -0.1233, 1808,    550.9,  -1.6476,  34.3781,2,  34.3805,2,    298.6,2,    66.27,2,    31.22,2,  -999.00,9,     2.13,2,    4.644,2,    2.299,2,    0.381,2,    5.506,2,   2215.1,2,    0.024,2, -999.000,   1.8610,2,   0.0050,     0.77,2,     0.22,    8.307,2,    0.019
  06AQ19960317,  S04a,    66,  1,     19,      5,2,19960422,   0,-69.6417,  -0.1233, 1808,    651.5,  -1.2938,  34.4501,2,  34.4556,3,    274.6,2,    72.31,2,    31.82,2,  -999.00,9,     2.17,2,    3.799,2,    1.892,2,    0.312,2,    4.588,2,   2224.8,2, -999.000,9, -999.000,-999.0000,9,-999.0000,  -999.00,9,  -999.00, -999.000,9, -999.000
  06AQ19960317,  S04a,    66,  1,     18,      6,2,19960422,   0,-69.6417,  -0.1233, 1808,    751.3,  -0.1886,  34.5632,2,  34.5679,2,    236.3,2,    83.31,2,    32.40,2,  -999.00,9,     2.20,2,    2.325,2,    1.137,2,    0.186,2,    2.867,2,   2239.3,2,    0.099,2, -999.000,   1.5560,4,   0.0040,     6.12,2,     0.22,    6.670,4,    0.015
  06AQ19960317,  S04a,    66,  1,     15,      9,2,19960422,   0,-69.6417,  -0.1233, 1808,    841.1,   0.4632,  34.6316,2,-999.0000,9,   -999.0,9,    91.30,2,    32.49,2,  -999.00,9,     2.22,2, -999.000,9, -999.000,9, -999.000,9, -999.000,9,   -999.0,9, -999.000,9, -999.000,-999.0000,9,-999.0000,  -999.00,9,  -999.00, -999.000,9, -999.000
  06AQ19960317,  S04a,    66,  1,     16,      8,2,19960422,   0,-69.6417,  -0.1233, 1808,    842.2,   0.5027,  34.6370,2,-999.0000,9,   -999.0,9,    91.30,2,    32.62,2,  -999.00,9,     2.22,2, -999.000,9, -999.000,9, -999.000,9, -999.000,9,   -999.0,9, -999.000,9, -999.000,-999.0000,9,-999.0000,  -999.00,9,  -999.00, -999.000,9, -999.000
  06AQ19960317,  S04a,    66,  1,     17,      7,2,19960422,   0,-69.6417,  -0.1233, 1808,    844.9,   0.5401,  34.6425,2,-999.0000,9,    214.7,2,    91.94,2,    32.63,2,  -999.00,9,     2.23,2,    1.471,2,    0.705,2,    0.102,2,    1.731,2,   2245.9,2,    0.049,2, -999.000,   1.8580,2,   0.0050,     6.89,2,     0.22,    8.135,2,    0.018
  06AQ19960317,  S04a,    66,  1,     14,     10,2,19960422,   0,-69.6417,  -0.1233, 1808,    919.7,   0.4828,  34.6400,2,  34.6391,2,    214.8,2,    93.57,2,    32.62,2,  -999.00,9,     2.23,2,    1.404,2,    0.676,2,    0.099,2,    1.659,2,   2247.5,2,    0.078,2, -999.000,   1.8610,2,   0.0050,     7.69,2,     0.22,    8.127,2,    0.018
  06AQ19960317,  S04a,    66,  1,     13,     11,2,19960422,   0,-69.6417,  -0.1233, 1808,   1001.0,   0.5925,  34.6579,2,  34.6585,2,    210.2,2,    97.51,2,    32.64,2,  -999.00,9,     2.23,2,    1.071,2,    0.506,2,    0.070,2,    1.304,2,   2249.3,2, -999.000,9, -999.000,-999.0000,9,-999.0000,  -999.00,9,  -999.00, -999.000,9, -999.000
  06AQ19960317,  S04a,    66,  1,     12,     12,2,19960422,   0,-69.6417,  -0.1233, 1808,   1251.1,   0.5327,  34.6689,2,  34.6688,2,    209.7,2,   104.65,2,    32.74,2,  -999.00,9,     2.23,2,    0.794,2,    0.364,2,    0.044,2,    1.029,2,   2251.1,2,    0.038,2, -999.000,   1.8560,3,   0.0140,     8.30,3,     0.22,    8.126,3,    0.059
  06AQ19960317,  S04a,    66,  1,      9,     15,2,19960422,   0,-69.6417,  -0.1233, 1808,   1471.0,   0.4135,  34.6728,2,  34.6724,2,    210.8,2,   110.73,2,    32.91,2,  -999.00,9,     2.25,2,    0.640,2,    0.298,2,    0.031,2,    0.879,2,   2252.0,2, -999.000,9, -999.000,   1.8630,2,   0.0050,     7.88,2,     0.22,    8.133,2,    0.018
  06AQ19960317,  S04a,    66,  1,     10,     14,2,19960422,   0,-69.6417,  -0.1233, 1808,   1471.5,   0.4120,  34.6731,2,-999.0000,9,   -999.0,9,   111.10,2,    32.96,2,  -999.00,9,     2.26,2, -999.000,9, -999.000,9, -999.000,9, -999.000,9,   -999.0,9, -999.000,9, -999.000,-999.0000,9,-999.0000,  -999.00,9,  -999.00, -999.000,9, -999.000
  06AQ19960317,  S04a,    66,  1,     11,     13,2,19960422,   0,-69.6417,  -0.1233, 1808,   1471.9,   0.4114,  34.6723,2,-999.0000,9,   -999.0,9,   110.82,2,    32.91,2,  -999.00,9,     2.25,2, -999.000,9, -999.000,9, -999.000,9, -999.000,9,   -999.0,9, -999.000,9, -999.000,-999.0000,9,-999.0000,  -999.00,9,  -999.00, -999.000,9, -999.000
  06AQ19960317,  S04a,    66,  1,      6,     18,2,19960422,   0,-69.6417,  -0.1233, 1808,   1701.3,   0.3030,  34.6740,2,-999.0000,9,   -999.0,9,   116.52,2,    33.10,2,  -999.00,9,     2.27,2, -999.000,9, -999.000,9, -999.000,9, -999.000,9,   -999.0,9, -999.000,9, -999.000,-999.0000,9,-999.0000,  -999.00,9,  -999.00, -999.000,9, -999.000
  06AQ19960317,  S04a,    66,  1,      7,     17,2,19960422,   0,-69.6417,  -0.1233, 1808,   1701.8,   0.3031,  34.6741,2,-999.0000,9,   -999.0,9,   116.86,2,    33.18,2,  -999.00,9,     2.28,2, -999.000,9, -999.000,9, -999.000,9, -999.000,9,   -999.0,9, -999.000,9, -999.000,-999.0000,9,-999.0000,  -999.00,9,  -999.00, -999.000,9, -999.000
  06AQ19960317,  S04a,    66,  1,      8,     16,2,19960422,   0,-69.6417,  -0.1233, 1808,   1702.1,   0.3030,  34.6739,2,  34.6722,2,    211.3,2,   116.67,2,    33.10,2,  -999.00,9,     2.27,2,    0.495,2,    0.226,2,    0.023,2,    0.730,2,   2253.5,2,   -0.103,3, -999.000,   1.8580,2,   0.0050,     7.87,2,     0.22,    8.117,2,    0.018
  06AQ19960317,  S04a,    66,  1,      3,     21,2,19960422,   0,-69.6417,  -0.1233, 1808,   1751.1,   0.2711,  34.6737,2,  34.6726,2,    212.5,2,   118.67,2,    33.25,2,  -999.00,9,     2.28,2,    0.446,2,    0.205,2,    0.024,2,    0.682,2,   2255.5,2,    0.063,2, -999.000,   1.8550,3,   0.0140,     7.87,3,     0.22,    8.105,3,    0.059
  06AQ19960317,  S04a,    66,  1,      4,     20,2,19960422,   0,-69.6417,  -0.1233, 1808,   1751.6,   0.2756,  34.6739,2,-999.0000,9,   -999.0,9,   118.13,2,    33.17,2,  -999.00,9,     2.28,2, -999.000,9, -999.000,9, -999.000,9, -999.000,9,   -999.0,9, -999.000,9, -999.000,-999.0000,9,-999.0000,  -999.00,9,  -999.00, -999.000,9, -999.000
  06AQ19960317,  S04a,    66,  1,      5,     19,2,19960422,   0,-69.6417,  -0.1233, 1808,   1752.1,   0.2771,  34.6737,2,-999.0000,9,   -999.0,9,   118.25,2,    33.18,2,  -999.00,9,     2.27,2, -999.000,9, -999.000,9, -999.000,9, -999.000,9,   -999.0,9, -999.000,9, -999.000,-999.0000,9,-999.0000,  -999.00,9,  -999.00, -999.000,9, -999.000
  06AQ19960317,  S04a,    66,  1,      2,     22,2,19960422,   0,-69.6417,  -0.1233, 1808,   1809.3,   0.2134,  34.6744,2,  34.6741,2,    213.2,2,   120.16,2,    33.26,2,  -999.00,9,     2.27,2,    0.413,2,    0.190,2,    0.021,2,    0.671,2,   2256.2,2, -999.000,9, -999.000,   1.8550,2,   0.0050,     8.08,2,     0.22,    8.087,2,    0.018
  06AQ19960317,  S04a,    66,  1,      1,     23,2,19960422,   0,-69.6417,  -0.1233, 1808,   1809.5,   0.2179,  34.6743,2,-999.0000,9,   -999.0,9,   120.23,2,    33.24,2,  -999.00,9,     2.27,2, -999.000,9, -999.000,9, -999.000,9, -999.000,9,   -999.0,9, -999.000,9, -999.000,-999.0000,9,-999.0000,  -999.00,9,  -999.00, -999.000,9, -999.000
  06AQ19960317,  S04a,    66,  1,     24,     24,2,19960422,   0,-69.6417,  -0.1233, 1808,   1815.5,   0.2153,  34.6743,2,-999.0000,9,   -999.0,9,   120.49,2,    33.28,2,  -999.00,9,     2.28,2, -999.000,9, -999.000,9, -999.000,9, -999.000,9,   -999.0,9, -999.000,9, -999.000,-999.0000,9,-999.0000,  -999.00,9,  -999.00, -999.000,9, -999.000