BOTTLE,20150129PRINUNIVRMK
EXPOCODE,SECT_ID,STNNBR,CASTNO,SAMPNO,BTLNBR,BTLNBR_FLAG_W,DATE,TIME,LATITUDE,LONGITUDE,DEPTH,CTDPRS,CTDTMP,CTDSAL,CTDSAL_FLAG_W,SALNTY,SALNTY_FLAG_W,OXYGEN,OXYGEN_FLAG_W,SILCAT,SILCAT_FLAG_W,NITRAT,NITRAT_FLAG_W,NITRIT,NITRIT_FLAG_W,PHSPHT,PHSPHT_FLAG_W,CFC-11,CFC-11_FLAG_W,CFC-12,CFC-12_FLAG_W,CFC113,CFC113_FLAG_W,CCL4,CCL4_FLAG_W,TCARBN,TCARBN_FLAG_W,TRITUM,TRITUM_FLAG_W,TRITER,HELIUM,HELIUM_FLAG_W,HELIER,DELHE3,DELHE3_FLAG_W,DELHER,NEON,NEON_FLAG_W,NEONER
,,,,,,,,,,,METERS,DBAR,ITS-90,PSS-78,,PSS-78,,UMOL/KG,,UMOL/KG,,UMOL/KG,,UMOL/KG,,UMOL/KG,,PMOL/KG,,PMOL/KG,,PMOL/KG,,PMOL/KG,,UMOL/KG,,TU,,TU,NMOL/KG,,NMOL/KG,PERCNT,,PERCNT,NMOL/KG,,NMOL/KG
  06AQ19960317,  S04a,    15,  4,     22,      3,2,19960327,   0,-54.0028,  25.7400, 3702,    408.7,   1.1601,  34.6942,2,-999.0000,9,   -999.0,9,    99.51,2,    32.81,2,  -999.00,9,     2.24,2, -999.000,9, -999.000,9, -999.000,9, -999.000,9,   -999.0,9, -999.000,9, -999.000,-999.0000,9,-999.0000,  -999.00,9,  -999.00, -999.000,9, -999.000
  06AQ19960317,  S04a,    15,  4,     24,      1,2,19960327,   0,-54.0028,  25.7400, 3702,    408.9,   1.1550,  34.6932,2,  34.6948,2,    191.3,2,    99.14,2,    32.45,2,  -999.00,9,     2.23,2,    0.461,2,    0.213,2,    0.020,2,    0.626,2,   2258.9,2,    0.120,2, -999.000,   1.8790,2,   0.0050,     9.90,2,     0.22,    8.166,2,    0.018
  06AQ19960317,  S04a,    15,  4,     23,      2,2,19960327,   0,-54.0028,  25.7400, 3702,    409.0,   1.1590,  34.6936,2,-999.0000,9,   -999.0,9,    99.47,2,    32.66,2,  -999.00,9,     2.23,2, -999.000,9, -999.000,9, -999.000,9, -999.000,9,   -999.0,9, -999.000,9, -999.000,-999.0000,9,-999.0000,  -999.00,9,  -999.00, -999.000,9, -999.000
  06AQ19960317,  S04a,    15,  4,     19,      6,2,19960327,   0,-54.0028,  25.7400, 3702,    508.7,   0.9351,  34.6904,2,  34.6910,2,    195.0,2,   104.99,2,    32.74,2,  -999.00,9,     2.26,2,    0.445,2,    0.201,2,    0.020,2,    0.618,2,   2262.0,2,    0.012,2, -999.000,   1.8630,4,   0.0050,     9.63,2,     0.22,    8.123,4,    0.018
  06AQ19960317,  S04a,    15,  4,     20,      5,2,19960327,   0,-54.0028,  25.7400, 3702,    508.9,   0.9374,  34.6905,2,-999.0000,9,   -999.0,9,   104.30,2,    32.64,2,  -999.00,9,     2.27,2, -999.000,9, -999.000,9, -999.000,9, -999.000,9,   -999.0,9, -999.000,9, -999.000,-999.0000,9,-999.0000,  -999.00,9,  -999.00, -999.000,9, -999.000
  06AQ19960317,  S04a,    15,  4,     21,      4,2,19960327,   0,-54.0028,  25.7400, 3702,    509.3,   0.9385,  34.6907,2,-999.0000,9,   -999.0,9,   103.90,2,    32.65,2,  -999.00,9,     2.26,2, -999.000,9, -999.000,9, -999.000,9, -999.000,9,   -999.0,9, -999.000,9, -999.000,-999.0000,9,-999.0000,  -999.00,9,  -999.00, -999.000,9, -999.000
  06AQ19960317,  S04a,    15,  4,     18,      7,2,19960327,   0,-54.0028,  25.7400, 3702,    611.8,   0.7657,  34.6877,2,  34.6889,2,    197.9,2,   108.41,2,    33.11,2,  -999.00,9,     2.25,2,    0.433,2,    0.199,2,    0.022,2,    0.627,2,   2260.6,2,    0.016,2, -999.000,   1.8900,3,   0.0150,    11.15,3,     0.22,    8.159,3,    0.059
  06AQ19960317,  S04a,    15,  4,     17,      8,2,19960327,   0,-54.0028,  25.7400, 3702,    700.7,   0.6668,  34.6843,2,-999.0000,9,    198.8,2,   111.58,2,    33.18,2,  -999.00,9,     2.28,2,    0.430,2,    0.197,2,    0.020,2,    0.628,2,   2263.2,2, -999.000,9, -999.000,-999.0000,9,-999.0000,  -999.00,9,  -999.00, -999.000,9, -999.000
  06AQ19960317,  S04a,    15,  4,     16,      9,2,19960327,   0,-54.0028,  25.7400, 3702,    750.8,   0.6070,  34.6835,2,  34.6847,2,    198.4,2,   112.26,2,    33.35,2,  -999.00,9,     2.28,2,    0.420,2,    0.190,2,    0.018,2,    0.637,2,   2262.0,2, -999.000,9, -999.000,-999.0000,9,-999.0000,  -999.00,9,  -999.00, -999.000,9, -999.000
  06AQ19960317,  S04a,    15,  4,     15,     10,2,19960327,   0,-54.0028,  25.7400, 3702,   1000.8,   0.4457,  34.6818,2,  34.6814,2,    198.3,2,   117.37,2,    33.80,2,  -999.00,9,     2.31,2,    0.306,2,    0.137,2,    0.012,2,    0.528,2,   2264.2,2,    0.013,2, -999.000,   1.8760,2,   0.0050,     9.26,2,     0.22,    8.222,2,    0.018
  06AQ19960317,  S04a,    15,  4,     14,     11,2,19960327,   0,-54.0028,  25.7400, 3702,   1252.1,   0.3519,  34.6800,2,  34.6809,2,    201.1,2,   120.40,2,    33.72,2,  -999.00,9,     2.31,2,    0.235,2,    0.104,2,    0.009,2,    0.465,2,   2267.2,2, -999.000,9, -999.000,-999.0000,9,-999.0000,  -999.00,9,  -999.00, -999.000,9, -999.000
  06AQ19960317,  S04a,    15,  4,     13,     12,2,19960327,   0,-54.0028,  25.7400, 3702,   1500.7,   0.2609,  34.6784,2,  34.6792,2,    207.2,2,   123.02,2,    33.67,2,  -999.00,9,     2.29,2,    0.208,2,    0.095,2,    0.005,2,    0.434,2,   2264.6,2, -999.000,9, -999.000,-999.0000,9,-999.0000,  -999.00,9,  -999.00, -999.000,9, -999.000
  06AQ19960317,  S04a,    15,  4,     12,     13,2,19960327,   0,-54.0028,  25.7400, 3702,   1752.9,   0.1532,  34.6742,2,  34.6748,2,    211.4,2,   124.83,2,    33.65,2,  -999.00,9,     2.32,2,    0.201,2,    0.090,2,    0.004,2,    0.452,2,   2261.4,2,    0.025,2, -999.000,   1.8640,2,   0.0050,     7.86,2,     0.22,    8.151,2,    0.018
  06AQ19960317,  S04a,    15,  4,     11,     14,2,19960327,   0,-54.0028,  25.7400, 3702,   2002.4,   0.0470,  34.6691,2,  34.6701,2,    215.1,2,   124.00,2,    33.55,2,  -999.00,9,     2.32,2,    0.225,2,    0.100,2,    0.004,2,    0.498,2,   2259.3,2, -999.000,9, -999.000,-999.0000,9,-999.0000,  -999.00,9,  -999.00, -999.000,9, -999.000
  06AQ19960317,  S04a,    15,  4,      9,     16,2,19960327,   0,-54.0028,  25.7400, 3702,   2501.4,  -0.0985,  34.6621,2,-999.0000,9,   -999.0,9,   125.01,2,    33.44,2,  -999.00,9,     2.29,2, -999.000,9, -999.000,9, -999.000,9, -999.000,9,   -999.0,9, -999.000,9, -999.000,-999.0000,9,-999.0000,  -999.00,9,  -999.00, -999.000,9, -999.000
  06AQ19960317,  S04a,    15,  4,      8,     17,2,19960327,   0,-54.0028,  25.7400, 3702,   2501.4,  -0.0991,  34.6620,2,-999.0000,9,   -999.0,9,   125.28,2,    33.42,2,  -999.00,9,     2.30,2, -999.000,9, -999.000,9, -999.000,9, -999.000,9,   -999.0,9, -999.000,9, -999.000,-999.0000,9,-999.0000,  -999.00,9,  -999.00, -999.000,9, -999.000
  06AQ19960317,  S04a,    15,  4,     10,     15,2,19960327,   0,-54.0028,  25.7400, 3702,   2501.5,  -0.0979,  34.6622,2,-999.0000,9,    222.7,2,   124.93,2,    33.25,2,  -999.00,9,     2.29,2,    0.244,2,    0.113,2,    0.004,2,    0.563,2,   2256.3,2,    0.118,2, -999.000,   1.8620,2,   0.0050,     7.51,2,     0.22,    8.183,2,    0.018
  06AQ19960317,  S04a,    15,  4,      7,     18,2,19960327,   0,-54.0028,  25.7400, 3702,   2999.3,  -0.1526,  34.6595,2,  34.6600,2,    227.1,2,   125.69,2,  -999.00,9,  -999.00,9,     2.29,2,    0.265,2,    0.123,2,    0.003,2,    0.629,2,   2253.6,2,    0.038,2, -999.000,   1.8830,2,   0.0050,     6.54,2,     0.22,    8.267,2,    0.018
  06AQ19960317,  S04a,    15,  4,      4,     21,2,19960327,   0,-54.0028,  25.7400, 3702,   3467.5,  -0.1597,  34.6588,2,-999.0000,9,   -999.0,9,   126.02,2,    33.26,2,  -999.00,9,     2.28,2, -999.000,9, -999.000,9, -999.000,9, -999.000,9,   -999.0,9, -999.000,9, -999.000,-999.0000,9,-999.0000,  -999.00,9,  -999.00, -999.000,9, -999.000
  06AQ19960317,  S04a,    15,  4,      5,     20,2,19960327,   0,-54.0028,  25.7400, 3702,   3467.7,  -0.1614,  34.6588,2,-999.0000,9,   -999.0,9,   126.17,2,    33.14,2,  -999.00,9,     2.28,2, -999.000,9, -999.000,9, -999.000,9, -999.000,9,   -999.0,9, -999.000,9, -999.000,-999.0000,9,-999.0000,  -999.00,9,  -999.00, -999.000,9, -999.000
  06AQ19960317,  S04a,    15,  4,      6,     19,2,19960327,   0,-54.0028,  25.7400, 3702,   3467.9,  -0.1617,  34.6588,2,  34.6593,2,    229.5,2,   125.53,2,    33.13,2,  -999.00,9,     2.27,2,    0.272,2,    0.126,2,    0.005,2,    0.649,2,   2253.7,2,    0.046,2, -999.000,   1.8870,2,   0.0050,     8.73,3,     0.22,    8.290,2,    0.018
  06AQ19960317,  S04a,    15,  4,      1,     24,2,19960327,   0,-54.0028,  25.7400, 3702,   3518.1,  -0.1560,  34.6587,2,-999.0000,9,   -999.0,9,   127.29,2,    33.28,2,  -999.00,9,     2.30,2, -999.000,9, -999.000,9, -999.000,9, -999.000,9,   -999.0,9, -999.000,9, -999.000,-999.0000,9,-999.0000,  -999.00,9,  -999.00, -999.000,9, -999.000
  06AQ19960317,  S04a,    15,  4,      3,     22,2,19960327,   0,-54.0028,  25.7400, 3702,   3518.4,  -0.1565,  34.6588,2,  34.6581,2,    228.1,2,   126.05,2,    33.18,2,  -999.00,9,     2.29,2,    0.273,2,    0.128,2,    0.007,2,    0.657,2,   2254.4,2,    0.027,2, -999.000,   1.8650,2,   0.0050,     6.81,2,     0.22,    8.162,2,    0.018
  06AQ19960317,  S04a,    15,  4,      2,     23,2,19960327,   0,-54.0028,  25.7400, 3702,   3518.5,  -0.1563,  34.6595,2,-999.0000,9,   -999.0,9,   126.32,2,    33.03,2,  -999.00,9,     2.30,2, -999.000,9, -999.000,9, -999.000,9, -999.000,9,   -999.0,9, -999.000,9, -999.000,-999.0000,9,-999.0000,  -999.00,9,  -999.00, -999.000,9, -999.000
  06AQ19960317,  S04a,    16,  1,     24,      1,2,19960328,   0,-53.7967,  24.6833, 3558,     20.5,   1.7072,  34.0268,2,  34.0267,2,    328.6,2,    48.67,2,    24.68,2,  -999.00,9,     1.57,2, -999.000,9, -999.000,9, -999.000,9, -999.000,9,   2172.8,2, -999.000,9, -999.000,-999.0000,9,-999.0000,  -999.00,9,  -999.00, -999.000,9, -999.000
  06AQ19960317,  S04a,    16,  1,     23,      2,2,19960328,   0,-53.7967,  24.6833, 3558,     41.0,   1.7090,  34.0265,2,  34.0274,2,    328.9,2,    47.98,2,    24.53,2,  -999.00,9,     1.61,2, -999.000,9, -999.000,9, -999.000,9, -999.000,9,   2172.4,2, -999.000,9, -999.000,-999.0000,9,-999.0000,  -999.00,9,  -999.00, -999.000,9, -999.000
  06AQ19960317,  S04a,    16,  1,     22,      3,2,19960328,   0,-53.7967,  24.6833, 3558,     79.7,   1.7098,  34.0261,2,  34.0280,2,    329.1,2,    48.55,2,    24.81,2,  -999.00,9,     1.63,2, -999.000,9, -999.000,9, -999.000,9, -999.000,9,   2170.8,2, -999.000,9, -999.000,-999.0000,9,-999.0000,  -999.00,9,  -999.00, -999.000,9, -999.000
  06AQ19960317,  S04a,    16,  1,     21,      4,2,19960328,   0,-53.7967,  24.6833, 3558,    100.4,   1.6507,  34.0283,2,  34.1862,2,    314.6,2,    63.63,2,    29.23,2,  -999.00,9,     2.06,2,    5.991,2,    2.908,2,    0.469,2,    7.699,2,   2206.7,2, -999.000,9, -999.000,-999.0000,9,-999.0000,  -999.00,9,  -999.00, -999.000,9, -999.000
  06AQ19960317,  S04a,    16,  1,     20,      5,2,19960328,   0,-53.7967,  24.6833, 3558,    129.8,  -0.3479,  34.1781,2,  34.1863,2,    314.9,2,    63.47,2,    29.00,2,  -999.00,9,     2.05,2,    5.826,2,    2.817,2,    0.461,2,    7.505,2,   2206.7,2, -999.000,9, -999.000,-999.0000,9,-999.0000,  -999.00,9,  -999.00, -999.000,9, -999.000
  06AQ19960317,  S04a,    16,  1,     19,      6,2,19960328,   0,-53.7967,  24.6833, 3558,    200.6,   0.5912,  34.4515,2,  34.4626,2,    217.2,2,    79.99,2,    34.44,2,  -999.00,9,     2.32,2,    2.508,2,    1.215,2,    0.175,2,    3.246,2,   2249.2,2, -999.000,9, -999.000,-999.0000,9,-999.0000,  -999.00,9,  -999.00, -999.000,9, -999.000
  06AQ19960317,  S04a,    16,  1,     18,      7,2,19960328,   0,-53.7967,  24.6833, 3558,    250.3,   1.2230,  34.5740,2,  34.5787,2,    189.6,2,    86.89,2,    35.07,2,  -999.00,9,     2.38,2, -999.000,9, -999.000,9, -999.000,9, -999.000,9,   2259.3,2, -999.000,9, -999.000,-999.0000,9,-999.0000,  -999.00,9,  -999.00, -999.000,9, -999.000
  06AQ19960317,  S04a,    16,  1,     17,      8,2,19960328,   0,-53.7967,  24.6833, 3558,    301.0,   1.3662,  34.6256,2,  34.6318,2,    184.9,2,    90.30,2,    34.46,2,  -999.00,9,     2.33,2,    0.874,2,    0.428,2,    0.052,2,    1.152,2,   2262.1,2, -999.000,9, -999.000,-999.0000,9,-999.0000,  -999.00,9,  -999.00, -999.000,9, -999.000
  06AQ19960317,  S04a,    16,  1,     16,      9,2,19960328,   0,-53.7967,  24.6833, 3558,    352.5,   1.4123,  34.6545,2,  34.6558,2,    184.4,2,    91.76,2,    34.05,2,  -999.00,9,     2.30,2,    0.671,2,    0.317,2,    0.036,2,    0.913,2,   2263.8,2, -999.000,9, -999.000,-999.0000,9,-999.0000,  -999.00,9,  -999.00, -999.000,9, -999.000
  06AQ19960317,  S04a,    16,  1,     15,     10,2,19960328,   0,-53.7967,  24.6833, 3558,    401.1,   1.3958,  34.6709,2,  34.6728,2,    184.8,2,    93.28,2,    33.74,2,  -999.00,9,     2.29,2,    0.586,2,    0.275,2,    0.038,2,    0.804,2,   2262.4,2, -999.000,9, -999.000,-999.0000,9,-999.0000,  -999.00,9,  -999.00, -999.000,9, -999.000
  06AQ19960317,  S04a,    16,  1,     14,     11,2,19960328,   0,-53.7967,  24.6833, 3558,    500.4,   1.3109,  34.6893,2,  34.6913,2,    188.5,2,    97.01,2,    33.22,2,  -999.00,9,     2.25,2,    0.477,2,    0.263,3,    0.031,2,    0.663,2,   2261.5,2, -999.000,9, -999.000,-999.0000,9,-999.0000,  -999.00,9,  -999.00, -999.000,9, -999.000
  06AQ19960317,  S04a,    16,  1,     13,     12,2,19960328,   0,-53.7967,  24.6833, 3558,    601.8,   1.2147,  34.6965,2,  34.6979,2,   -999.0,9,   100.05,2,    33.08,2,  -999.00,9,     2.24,2, -999.000,9, -999.000,9, -999.000,9, -999.000,9,   2261.2,2, -999.000,9, -999.000,-999.0000,9,-999.0000,  -999.00,9,  -999.00, -999.000,9, -999.000
  06AQ19960317,  S04a,    16,  1,     12,     13,2,19960328,   0,-53.7967,  24.6833, 3558,    710.4,   1.0808,  34.7003,2,  34.7045,2,    193.6,2,   103.61,2,    33.12,2,  -999.00,9,     2.25,2,    0.357,2,    0.160,2,    0.015,2,    0.502,2,   2260.6,2, -999.000,9, -999.000,-999.0000,9,-999.0000,  -999.00,9,  -999.00, -999.000,9, -999.000
  06AQ19960317,  S04a,    16,  1,     11,     14,2,19960328,   0,-53.7967,  24.6833, 3558,    852.0,   0.8911,  34.6953,2,  34.6965,2,    198.2,2,   106.43,2,    33.33,2,  -999.00,9,     2.25,2,    0.368,2,    0.171,2,    0.016,2,    0.527,2,   2260.1,2, -999.000,9, -999.000,-999.0000,9,-999.0000,  -999.00,9,  -999.00, -999.000,9, -999.000
  06AQ19960317,  S04a,    16,  1,     10,     15,2,19960328,   0,-53.7967,  24.6833, 3558,   1000.5,   0.7425,  34.6911,2,  34.6941,2,    199.3,2,   111.68,2,    33.39,2,  -999.00,9,     2.25,2, -999.000,9, -999.000,9, -999.000,9, -999.000,9,   2262.1,2, -999.000,9, -999.000,-999.0000,9,-999.0000,  -999.00,9,  -999.00, -999.000,9, -999.000
  06AQ19960317,  S04a,    16,  1,      9,     16,2,19960328,   0,-53.7967,  24.6833, 3558,   1249.6,   0.5489,  34.6863,2,  34.6868,2,    202.4,2,   116.09,2,    33.08,2,  -999.00,9,     2.27,2,    0.309,2,    0.143,2,    0.009,2,    0.505,2,   2261.6,2, -999.000,9, -999.000,-999.0000,9,-999.0000,  -999.00,9,  -999.00, -999.000,9, -999.000
  06AQ19960317,  S04a,    16,  1,      8,     17,2,19960328,   0,-53.7967,  24.6833, 3558,   1500.6,   0.4182,  34.6825,2,  34.6848,2,    202.8,2,   119.31,2,    34.05,2,  -999.00,9,     2.30,2, -999.000,9, -999.000,9, -999.000,9, -999.000,9,   2264.8,2, -999.000,9, -999.000,-999.0000,9,-999.0000,  -999.00,9,  -999.00, -999.000,9, -999.000
  06AQ19960317,  S04a,    16,  1,      7,     18,2,19960328,   0,-53.7967,  24.6833, 3558,   1749.4,   0.2959,  34.6779,2,  34.6781,2,   -999.0,9,   121.22,2,    33.80,2,  -999.00,9,     2.32,2,    0.225,2,    0.104,2,    0.004,2,    0.447,2,   2264.9,2, -999.000,9, -999.000,-999.0000,9,-999.0000,  -999.00,9,  -999.00, -999.000,9, -999.000
  06AQ19960317,  S04a,    16,  1,      6,     19,2,19960328,   0,-53.7967,  24.6833, 3558,   2001.2,   0.2104,  34.6755,2,  34.6749,2,    209.6,2,   123.42,2,    33.92,2,  -999.00,9,     2.29,2, -999.000,9, -999.000,9, -999.000,9, -999.000,9,   2263.8,2, -999.000,9, -999.000,-999.0000,9,-999.0000,  -999.00,9,  -999.00, -999.000,9, -999.000
  06AQ19960317,  S04a,    16,  1,      5,     20,2,19960328,   0,-53.7967,  24.6833, 3558,   2502.2,   0.0548,  34.6687,2,  34.6680,2,    217.0,2,   124.97,2,    33.60,2,  -999.00,9,     2.32,2, -999.000,9, -999.000,9, -999.000,9, -999.000,9,   2258.8,2, -999.000,9, -999.000,-999.0000,9,-999.0000,  -999.00,9,  -999.00, -999.000,9, -999.000
  06AQ19960317,  S04a,    16,  1,      4,     21,2,19960328,   0,-53.7967,  24.6833, 3558,   3000.1,  -0.1051,  34.6613,2,  34.6610,2,    225.2,2,   125.20,2,    33.46,2,  -999.00,9,     2.30,2,    0.251,2,    0.119,2,    0.004,2,    0.584,2,   2256.2,2, -999.000,9, -999.000,-999.0000,9,-999.0000,  -999.00,9,  -999.00, -999.000,9, -999.000
  06AQ19960317,  S04a,    16,  1,      3,     22,2,19960328,   0,-53.7967,  24.6833, 3558,   3398.4,  -0.1251,  34.6599,2,  34.6607,2,    227.4,2,   124.87,2,    33.20,2,  -999.00,9,     2.30,2,    0.261,2,    0.122,2,    0.006,2,    0.613,2,   2257.9,2, -999.000,9, -999.000,-999.0000,9,-999.0000,  -999.00,9,  -999.00, -999.000,9, -999.000
  06AQ19960317,  S04a,    16,  1,      2,     23,2,19960328,   0,-53.7967,  24.6833, 3558,   3592.6,  -0.1160,  34.6600,2,  34.6579,2,    228.4,2,   123.61,2,    33.45,2,  -999.00,9,     2.27,2,    0.410,3,    0.186,2,    0.023,4,    0.565,2,   2256.4,2, -999.000,9, -999.000,-999.0000,9,-999.0000,  -999.00,9,  -999.00, -999.000,9, -999.000
  06AQ19960317,  S04a,    16,  1,      1,     24,2,19960328,   0,-53.7967,  24.6833, 3558,   3645.2,  -0.1120,  34.6601,2,  34.6615,2,    226.4,2,   125.08,2,    33.44,2,  -999.00,9,     2.28,2,    0.275,2,    0.135,2,    0.010,2,    0.635,2,   2255.5,2, -999.000,9, -999.000,-999.0000,9,-999.0000,  -999.00,9,  -999.00, -999.000,9, -999.000