BOTTLE,20150129PRINUNIVRMK
EXPOCODE,SECT_ID,STNNBR,CASTNO,SAMPNO,BTLNBR,BTLNBR_FLAG_W,DATE,TIME,LATITUDE,LONGITUDE,DEPTH,CTDPRS,CTDTMP,CTDSAL,CTDSAL_FLAG_W,SALNTY,SALNTY_FLAG_W,OXYGEN,OXYGEN_FLAG_W,SILCAT,SILCAT_FLAG_W,NITRAT,NITRAT_FLAG_W,NITRIT,NITRIT_FLAG_W,PHSPHT,PHSPHT_FLAG_W,CFC-11,CFC-11_FLAG_W,CFC-12,CFC-12_FLAG_W,CFC113,CFC113_FLAG_W,CCL4,CCL4_FLAG_W,TCARBN,TCARBN_FLAG_W,TRITUM,TRITUM_FLAG_W,TRITER,HELIUM,HELIUM_FLAG_W,HELIER,DELHE3,DELHE3_FLAG_W,DELHER,NEON,NEON_FLAG_W,NEONER
,,,,,,,,,,,METERS,DBAR,ITS-90,PSS-78,,PSS-78,,UMOL/KG,,UMOL/KG,,UMOL/KG,,UMOL/KG,,UMOL/KG,,PMOL/KG,,PMOL/KG,,PMOL/KG,,PMOL/KG,,UMOL/KG,,TU,,TU,NMOL/KG,,NMOL/KG,PERCNT,,PERCNT,NMOL/KG,,NMOL/KG
  06AQ19960317,  S04a,    42,  1,     24,      1,2,19960414,   0,-59.0023,  -0.0027, 4565,     20.1,   0.1292,  34.0445,2,  34.0460,2,    331.5,2,    64.03,2,    26.85,2,  -999.00,9,     1.85,2, -999.000,9, -999.000,9, -999.000,9, -999.000,9,   2183.8,2,    0.056,2, -999.000,   1.7840,2,   0.0050,    -1.31,2,     0.22,    7.927,2,    0.018
  06AQ19960317,  S04a,    42,  1,     23,      2,2,19960414,   0,-59.0023,  -0.0027, 4565,     41.6,   0.1353,  34.0450,2,  34.0463,2,    333.0,2,    64.16,2,    26.82,2,  -999.00,9,     1.87,2, -999.000,9, -999.000,9, -999.000,9, -999.000,9,   2181.9,2, -999.000,9, -999.000,-999.0000,9,-999.0000,  -999.00,9,  -999.00, -999.000,9, -999.000
  06AQ19960317,  S04a,    42,  1,     22,      3,2,19960414,   0,-59.0023,  -0.0027, 4565,     59.9,   0.1349,  34.0451,2,  34.0462,2,    332.7,2,    63.94,2,    26.83,2,  -999.00,9,     1.87,2, -999.000,9, -999.000,9, -999.000,9, -999.000,9,   2182.0,2, -999.000,9, -999.000,-999.0000,9,-999.0000,  -999.00,9,  -999.00, -999.000,9, -999.000
  06AQ19960317,  S04a,    42,  1,     21,      4,2,19960414,   0,-59.0023,  -0.0027, 4565,     80.7,   0.1361,  34.0453,2,  34.0479,2,    333.0,2,    64.07,2,    26.88,2,  -999.00,9,     1.88,2, -999.000,9, -999.000,9, -999.000,9, -999.000,9,   2181.6,2,    0.131,2, -999.000,   1.7760,2,   0.0050,    -1.48,2,     0.22,    7.938,2,    0.018
  06AQ19960317,  S04a,    42,  1,     20,      5,2,19960414,   0,-59.0023,  -0.0027, 4565,     80.8,   0.1350,  34.0459,2,  34.0480,2,   -999.0,9,    64.21,2,    26.92,2,  -999.00,9,     1.91,2, -999.000,9, -999.000,9, -999.000,9, -999.000,9,   -999.0,9, -999.000,9, -999.000,-999.0000,9,-999.0000,  -999.00,9,  -999.00, -999.000,9, -999.000
  06AQ19960317,  S04a,    42,  1,     19,      6,2,19960414,   0,-59.0023,  -0.0027, 4565,    100.8,   0.0909,  34.0534,2,  34.0752,2,    329.9,2,    65.38,2,    27.14,2,  -999.00,9,     1.92,2, -999.000,9, -999.000,9, -999.000,9, -999.000,9,   2188.1,2,    0.127,2, -999.000,   1.8850,2,   0.0050,    -0.67,2,     0.22,    8.223,2,    0.018
  06AQ19960317,  S04a,    42,  1,     18,      7,2,19960414,   0,-59.0023,  -0.0027, 4565,    125.9,  -1.2567,  34.3334,2,  34.3394,2,    292.9,2,    76.96,2,    29.49,2,  -999.00,9,     2.09,2, -999.000,9, -999.000,9, -999.000,9, -999.000,9,   2219.9,2,    0.131,2, -999.000,   1.8230,2,   0.0050,     1.51,2,     0.22,    8.131,2,    0.018
  06AQ19960317,  S04a,    42,  1,     17,      8,2,19960414,   0,-59.0023,  -0.0027, 4565,    150.3,  -0.9296,  34.4702,2,  34.4741,2,    253.6,2,    88.70,2,    31.68,2,  -999.00,9,     2.20,2, -999.000,9, -999.000,9, -999.000,9, -999.000,9,   2242.8,2,    0.095,2, -999.000,-999.0000,9,-999.0000,  -999.00,9,  -999.00, -999.000,9, -999.000
  06AQ19960317,  S04a,    42,  1,     16,      9,2,19960414,   0,-59.0023,  -0.0027, 4565,    201.1,  -0.0205,  34.6034,2,  34.6037,2,    210.0,2,   104.09,2,    33.62,2,  -999.00,9,     2.33,2, -999.000,9, -999.000,9, -999.000,9, -999.000,9,   2258.0,2,    0.075,2, -999.000,   1.8470,2,   0.0050,     7.34,2,     0.22,    8.106,2,    0.018
  06AQ19960317,  S04a,    42,  1,     15,     10,2,19960414,   0,-59.0023,  -0.0027, 4565,    250.6,   0.2451,  34.6469,2,  34.6467,2,    196.2,2,   109.24,2,    34.17,2,  -999.00,9,     2.37,2, -999.000,9, -999.000,9, -999.000,9, -999.000,9,   2265.8,2,    0.048,2, -999.000,   1.8510,2,   0.0050,     7.92,2,     0.22,    8.086,2,    0.018
  06AQ19960317,  S04a,    42,  1,     14,     11,2,19960414,   0,-59.0023,  -0.0027, 4565,    301.1,   0.3733,  34.6678,2,  34.6709,2,   -999.0,9,   113.74,2,    34.56,2,  -999.00,9,     2.41,2, -999.000,9, -999.000,9, -999.000,9, -999.000,9,   2271.6,2,    0.035,2, -999.000,   1.8530,2,   0.0050,     8.46,2,     0.22,    8.086,2,    0.018
  06AQ19960317,  S04a,    42,  1,     13,     12,2,19960414,   0,-59.0023,  -0.0027, 4565,    370.2,   0.4149,  34.6787,2,  34.6805,2,    186.5,2,   118.57,2,    34.91,2,  -999.00,9,     2.43,2, -999.000,9, -999.000,9, -999.000,9, -999.000,9,   2272.4,2,    0.099,2, -999.000,   1.8590,2,   0.0050,     8.62,2,     0.22,    8.073,2,    0.018
  06AQ19960317,  S04a,    42,  1,     12,     13,2,19960414,   0,-59.0023,  -0.0027, 4565,    420.4,   0.4130,  34.6817,2,  34.6825,2,    189.5,2,   120.09,2,    34.68,2,  -999.00,9,     2.40,2, -999.000,9, -999.000,9, -999.000,9, -999.000,9,   2268.7,2,    0.020,2, -999.000,   2.1090,4,   0.0060,     8.64,2,     0.22,    8.718,4,    0.019
  06AQ19960317,  S04a,    42,  1,     11,     14,2,19960414,   0,-59.0023,  -0.0027, 4565,    498.5,   0.3821,  34.6821,2,  34.6833,2,    192.0,2,   121.52,2,    34.47,2,  -999.00,9,     2.38,2, -999.000,9, -999.000,9, -999.000,9, -999.000,9,   2270.7,2,    0.018,2, -999.000,   1.8560,2,   0.0050,     8.70,2,     0.22,    8.101,2,    0.018
  06AQ19960317,  S04a,    42,  1,     10,     15,2,19960414,   0,-59.0023,  -0.0027, 4565,    749.3,   0.2316,  34.6762,2,  34.6782,2,    201.1,2,   124.42,2,    34.10,2,  -999.00,9,     2.35,2, -999.000,9, -999.000,9, -999.000,9, -999.000,9,   2264.3,2,    0.016,2, -999.000,   1.8730,2,   0.0050,     7.15,2,     0.22,    8.147,2,    0.018
  06AQ19960317,  S04a,    42,  1,      9,     16,2,19960414,   0,-59.0023,  -0.0027, 4565,   1000.1,   0.1172,  34.6736,2,  34.6742,2,    206.7,2,   125.15,2,    33.85,2,  -999.00,9,     2.34,2, -999.000,9, -999.000,9, -999.000,9, -999.000,9,   2261.4,2,    0.019,2, -999.000,-999.0000,9,-999.0000,  -999.00,9,  -999.00, -999.000,9, -999.000
  06AQ19960317,  S04a,    42,  1,      8,     17,2,19960414,   0,-59.0023,  -0.0027, 4565,   1500.5,  -0.0758,  34.6648,2,  34.6673,2,    217.1,2,   125.85,2,    33.51,2,  -999.00,9,     2.33,2, -999.000,9, -999.000,9, -999.000,9, -999.000,9,   2257.7,2,    0.034,2, -999.000,   1.8820,2,   0.0050,     7.34,2,     0.22,    8.203,2,    0.018
  06AQ19960317,  S04a,    42,  1,      7,     18,2,19960414,   0,-59.0023,  -0.0027, 4565,   2001.9,  -0.1991,  34.6602,2,  34.6612,2,    226.3,2,   126.30,2,    33.55,2,  -999.00,9,     2.33,2, -999.000,9, -999.000,9, -999.000,9, -999.000,9,   2256.6,2,    0.023,2, -999.000,   1.8660,2,   0.0050,     6.24,2,     0.22,    8.140,2,    0.018
  06AQ19960317,  S04a,    42,  1,      6,     19,2,19960414,   0,-59.0023,  -0.0027, 4565,   2500.2,  -0.2974,  34.6567,2,  34.6577,2,    231.2,2,   124.96,2,    33.19,2,  -999.00,9,     2.30,2, -999.000,9, -999.000,9, -999.000,9, -999.000,9,   2251.9,2,    0.017,2, -999.000,   1.8700,2,   0.0050,     6.14,2,     0.22,    8.207,2,    0.018
  06AQ19960317,  S04a,    42,  1,      5,     20,2,19960414,   0,-59.0023,  -0.0027, 4565,   2999.3,  -0.3571,  34.6540,2,  34.6537,2,    235.4,2,   123.39,2,    32.98,2,  -999.00,9,     2.29,2, -999.000,9, -999.000,9, -999.000,9, -999.000,9,   2250.5,2,    0.015,2, -999.000,   1.8750,2,   0.0050,     5.10,2,     0.22,    8.218,2,    0.018
  06AQ19960317,  S04a,    42,  1,      4,     21,2,19960414,   0,-59.0023,  -0.0027, 4565,   3500.0,  -0.4212,  34.6508,2,  34.6502,2,    240.8,2,   121.11,2,    32.86,2,  -999.00,9,     2.28,2, -999.000,9, -999.000,9, -999.000,9, -999.000,9,   2248.0,2, -999.000,9, -999.000,-999.0000,9,-999.0000,  -999.00,9,  -999.00, -999.000,9, -999.000
  06AQ19960317,  S04a,    42,  1,      3,     22,2,19960414,   0,-59.0023,  -0.0027, 4565,   3999.5,  -0.4531,  34.6475,2,  34.6466,2,    243.7,2,   118.96,2,    32.83,2,  -999.00,9,     2.27,2, -999.000,9, -999.000,9, -999.000,9, -999.000,9,   2247.5,2,    0.031,2, -999.000,   1.8770,2,   0.0050,     4.64,2,     0.22,    8.241,2,    0.018
  06AQ19960317,  S04a,    42,  1,      2,     23,2,19960414,   0,-59.0023,  -0.0027, 4565,   4526.9,  -0.4653,  34.6452,2,  34.6471,2,    246.1,2,   116.53,2,    32.66,2,  -999.00,9,     2.25,2, -999.000,9, -999.000,9, -999.000,9, -999.000,9,   2249.1,2,    0.049,2, -999.000,   1.8760,2,   0.0050,     4.47,2,     0.22,    8.229,2,    0.018
  06AQ19960317,  S04a,    42,  1,      1,     24,2,19960414,   0,-59.0023,  -0.0027, 4565,   4625.2,  -0.4611,  34.6456,2,-999.0000,9,   -999.0,9,  -999.00,9,  -999.00,9,  -999.00,9,  -999.00,9, -999.000,9, -999.000,9, -999.000,9, -999.000,9,   -999.0,9, -999.000,9, -999.000,-999.0000,9,-999.0000,  -999.00,9,  -999.00, -999.000,9, -999.000
  06AQ19960317,  S04a,    43,  1,     24,      1,2,19960415,   0,-59.4988,   0.0002, 4610,     19.7,  -0.0655,  34.0190,2,  34.0207,2,    335.9,2,    57.89,2,    26.15,2,  -999.00,9,     1.75,2,    6.354,2,    3.147,2,    0.499,2,    8.889,2,   2177.8,2, -999.000,9, -999.000,-999.0000,9,-999.0000,  -999.00,9,  -999.00, -999.000,9, -999.000
  06AQ19960317,  S04a,    43,  1,     23,      2,2,19960415,   0,-59.4988,   0.0002, 4610,     40.3,  -0.0664,  34.0186,2,  34.0213,2,    336.4,2,    57.74,2,    26.18,2,  -999.00,9,     1.78,2, -999.000,9, -999.000,9, -999.000,9, -999.000,9,   2175.1,2, -999.000,9, -999.000,-999.0000,9,-999.0000,  -999.00,9,  -999.00, -999.000,9, -999.000
  06AQ19960317,  S04a,    43,  1,     22,      3,2,19960415,   0,-59.4988,   0.0002, 4610,     59.0,  -0.0670,  34.0157,2,  34.0214,2,    335.8,2,    57.63,2,    26.22,2,  -999.00,9,     1.78,2,    6.282,2,    3.123,2,    0.502,2,    8.835,2,   2175.5,2, -999.000,9, -999.000,-999.0000,9,-999.0000,  -999.00,9,  -999.00, -999.000,9, -999.000
  06AQ19960317,  S04a,    43,  1,     20,      5,2,19960415,   0,-59.4988,   0.0002, 4610,     80.6,  -1.1542,  34.2436,2,  34.2486,2,   -999.0,9,    68.20,2,    28.47,2,  -999.00,9,     1.99,2, -999.000,9, -999.000,9, -999.000,9, -999.000,9,   -999.0,9, -999.000,9, -999.000,-999.0000,9,-999.0000,  -999.00,9,  -999.00, -999.000,9, -999.000
  06AQ19960317,  S04a,    43,  1,     21,      4,2,19960415,   0,-59.4988,   0.0002, 4610,     80.7,  -1.1091,  34.2346,2,  34.2523,2,    314.3,2,    67.50,2,    28.33,2,  -999.00,9,     1.98,2,    5.488,2,    2.687,2,    0.441,2,    7.588,2,   2208.6,2, -999.000,9, -999.000,-999.0000,9,-999.0000,  -999.00,9,  -999.00, -999.000,9, -999.000
  06AQ19960317,  S04a,    43,  1,     19,      6,2,19960415,   0,-59.4988,   0.0002, 4610,    101.6,  -1.4276,  34.3720,2,  34.3794,2,    294.0,2,    75.35,2,    30.23,2,  -999.00,9,     2.08,2,    4.639,2,    2.295,2,    0.376,2,    6.388,2,   2222.5,2, -999.000,9, -999.000,-999.0000,9,-999.0000,  -999.00,9,  -999.00, -999.000,9, -999.000
  06AQ19960317,  S04a,    43,  1,     18,      7,2,19960415,   0,-59.4988,   0.0002, 4610,    151.9,  -0.3655,  34.5464,2,  34.5528,2,    229.4,2,    97.15,2,    32.96,2,  -999.00,9,     2.25,2,    2.255,2,    1.091,2,    0.172,2,    3.071,2,   2253.6,2, -999.000,9, -999.000,-999.0000,9,-999.0000,  -999.00,9,  -999.00, -999.000,9, -999.000
  06AQ19960317,  S04a,    43,  1,     17,      8,2,19960415,   0,-59.4988,   0.0002, 4610,    200.1,   0.2174,  34.6413,2,  34.6455,2,    197.1,2,   109.90,2,    34.36,2,  -999.00,9,     2.35,2,    0.961,2,    0.449,2,    0.063,2,    1.349,2,   2266.4,2, -999.000,9, -999.000,-999.0000,9,-999.0000,  -999.00,9,  -999.00, -999.000,9, -999.000
  06AQ19960317,  S04a,    43,  1,     16,      9,2,19960415,   0,-59.4988,   0.0002, 4610,    250.7,   0.3558,  34.6680,2,  34.6701,2,    188.4,2,   116.08,2,    34.97,2,  -999.00,9,     2.41,2,    0.543,2,    0.249,2,    0.030,2,    0.822,2,   2275.4,2, -999.000,9, -999.000,-999.0000,9,-999.0000,  -999.00,9,  -999.00, -999.000,9, -999.000
  06AQ19960317,  S04a,    43,  1,     15,     10,2,19960415,   0,-59.4988,   0.0002, 4610,    310.8,   0.4029,  34.6776,2,  34.6800,2,    186.1,2,   119.29,2,    35.10,2,  -999.00,9,     2.40,2,    0.350,2,    0.156,2,    0.017,2,    0.598,2,   2275.5,2, -999.000,9, -999.000,-999.0000,9,-999.0000,  -999.00,9,  -999.00, -999.000,9, -999.000
  06AQ19960317,  S04a,    43,  1,     14,     11,2,19960415,   0,-59.4988,   0.0002, 4610,    401.7,   0.4020,  34.6821,2,  34.6837,2,    188.9,2,   121.51,2,    34.76,2,  -999.00,9,     2.37,2,    0.216,2,    0.090,2,    0.008,2,    0.443,2,   2274.9,2, -999.000,9, -999.000,-999.0000,9,-999.0000,  -999.00,9,  -999.00, -999.000,9, -999.000
  06AQ19960317,  S04a,    43,  1,     13,     12,2,19960415,   0,-59.4988,   0.0002, 4610,    500.3,   0.3475,  34.6817,2,  34.6818,2,    190.4,2,   122.95,2,    34.71,2,  -999.00,9,     2.37,2,    0.168,2,    0.070,2,    0.006,2,    0.382,2,   2275.0,2, -999.000,9, -999.000,-999.0000,9,-999.0000,  -999.00,9,  -999.00, -999.000,9, -999.000
  06AQ19960317,  S04a,    43,  1,     12,     13,2,19960415,   0,-59.4988,   0.0002, 4610,    749.6,   0.2191,  34.6777,2,  34.6787,2,    198.4,2,   124.33,2,    34.31,2,  -999.00,9,     2.34,2,    0.148,2,    0.072,2,    0.004,2,    0.349,2,   2267.4,2, -999.000,9, -999.000,-999.0000,9,-999.0000,  -999.00,9,  -999.00, -999.000,9, -999.000
  06AQ19960317,  S04a,    43,  1,     11,     14,2,19960415,   0,-59.4988,   0.0002, 4610,   1000.6,   0.1089,  34.6728,2,  34.6741,2,    205.0,2,   126.15,2,    34.15,2,  -999.00,9,     2.34,2,    0.137,2,    0.060,2,    0.005,2,    0.354,2,   2266.8,2, -999.000,9, -999.000,-999.0000,9,-999.0000,  -999.00,9,  -999.00, -999.000,9, -999.000
  06AQ19960317,  S04a,    43,  1,     10,     15,2,19960415,   0,-59.4988,   0.0002, 4610,   1501.8,  -0.0730,  34.6650,2,  34.6661,2,    216.8,2,   126.28,2,    33.59,2,  -999.00,9,     2.31,2,    0.160,2,    0.070,2,    0.005,2,    0.441,2,   2263.1,2, -999.000,9, -999.000,-999.0000,9,-999.0000,  -999.00,9,  -999.00, -999.000,9, -999.000
  06AQ19960317,  S04a,    43,  1,      9,     16,2,19960415,   0,-59.4988,   0.0002, 4610,   2002.2,  -0.2067,  34.6606,2,  34.6621,2,    225.2,2,   126.61,2,    33.47,2,  -999.00,9,     2.30,2,    0.212,2,    0.087,2,    0.007,2,    0.545,2,   2258.5,2, -999.000,9, -999.000,-999.0000,9,-999.0000,  -999.00,9,  -999.00, -999.000,9, -999.000
  06AQ19960317,  S04a,    43,  1,      8,     17,2,19960415,   0,-59.4988,   0.0002, 4610,   2500.3,  -0.2892,  34.6585,2,  34.6590,2,    230.5,2,   125.30,2,    33.38,2,  -999.00,9,     2.29,2,    0.226,2,    0.117,2,    0.007,2,    0.581,2,   2257.6,2, -999.000,9, -999.000,-999.0000,9,-999.0000,  -999.00,9,  -999.00, -999.000,9, -999.000
  06AQ19960317,  S04a,    43,  1,      7,     18,2,19960415,   0,-59.4988,   0.0002, 4610,   3000.0,  -0.3544,  34.6541,2,  34.6552,2,    235.4,2,   123.96,2,    33.01,2,  -999.00,9,     2.27,2,    0.266,2,    0.129,2,    0.007,2,    0.662,2,   2255.1,2, -999.000,9, -999.000,-999.0000,9,-999.0000,  -999.00,9,  -999.00, -999.000,9, -999.000
  06AQ19960317,  S04a,    43,  1,      6,     19,2,19960415,   0,-59.4988,   0.0002, 4610,   3500.7,  -0.4146,  34.6520,2,  34.6518,2,    239.8,2,   123.84,2,    32.95,2,  -999.00,9,     2.27,2,    0.338,2,    0.160,2,    0.012,2,    0.763,2,   2253.9,2, -999.000,9, -999.000,-999.0000,9,-999.0000,  -999.00,9,  -999.00, -999.000,9, -999.000
  06AQ19960317,  S04a,    43,  1,      5,     20,2,19960415,   0,-59.4988,   0.0002, 4610,   3998.8,  -0.4827,  34.6461,2,  34.6457,2,    244.9,2,   119.14,2,    33.01,2,  -999.00,9,     2.26,2,    0.612,2,    0.292,2,    0.024,2,    1.058,2,   2249.0,2, -999.000,9, -999.000,-999.0000,9,-999.0000,  -999.00,9,  -999.00, -999.000,9, -999.000
  06AQ19960317,  S04a,    43,  1,      4,     21,2,19960415,   0,-59.4988,   0.0002, 4610,   4499.1,  -0.4913,  34.6452,2,  34.6434,2,    247.1,2,   117.02,2,    32.78,2,  -999.00,9,     2.26,2,    0.659,2,    0.307,2,    0.023,2,    1.155,2,   2250.8,2, -999.000,9, -999.000,-999.0000,9,-999.0000,  -999.00,9,  -999.00, -999.000,9, -999.000
  06AQ19960317,  S04a,    43,  1,      3,     22,2,19960415,   0,-59.4988,   0.0002, 4610,   4578.7,  -0.4876,  34.6451,2,  34.6436,2,    246.8,2,   118.20,2,    32.82,2,  -999.00,9,     2.27,2,    0.638,2,    0.298,2,    0.022,2,    1.150,2,   -999.0,9, -999.000,9, -999.000,-999.0000,9,-999.0000,  -999.00,9,  -999.00, -999.000,9, -999.000
  06AQ19960317,  S04a,    43,  1,      2,     23,2,19960415,   0,-59.4988,   0.0002, 4610,   4629.5,  -0.4842,  34.6452,2,  34.6431,2,    246.8,2,   118.79,2,    32.96,2,  -999.00,9,     2.26,2,    0.661,2,    0.292,2,    0.022,2,    1.143,2,   2249.1,2, -999.000,9, -999.000,-999.0000,9,-999.0000,  -999.00,9,  -999.00, -999.000,9, -999.000
  06AQ19960317,  S04a,    43,  1,      1,     24,2,19960415,   0,-59.4988,   0.0002, 4610,   4676.9,  -0.4809,  34.6453,2,  34.6441,2,    246.0,2,   119.00,2,    32.83,2,  -999.00,9,     2.25,2, -999.000,9, -999.000,9, -999.000,9, -999.000,9,   -999.0,9, -999.000,9, -999.000,-999.0000,9,-999.0000,  -999.00,9,  -999.00, -999.000,9, -999.000