BOTTLE,20150129PRINUNIVRMK
EXPOCODE,SECT_ID,STNNBR,CASTNO,SAMPNO,BTLNBR,BTLNBR_FLAG_W,DATE,TIME,LATITUDE,LONGITUDE,DEPTH,CTDPRS,CTDTMP,CTDSAL,CTDSAL_FLAG_W,SALNTY,SALNTY_FLAG_W,OXYGEN,OXYGEN_FLAG_W,SILCAT,SILCAT_FLAG_W,NITRAT,NITRAT_FLAG_W,NITRIT,NITRIT_FLAG_W,PHSPHT,PHSPHT_FLAG_W,CFC-11,CFC-11_FLAG_W,CFC-12,CFC-12_FLAG_W,CFC113,CFC113_FLAG_W,CCL4,CCL4_FLAG_W,TCARBN,TCARBN_FLAG_W,TRITUM,TRITUM_FLAG_W,TRITER,HELIUM,HELIUM_FLAG_W,HELIER,DELHE3,DELHE3_FLAG_W,DELHER,NEON,NEON_FLAG_W,NEONER
,,,,,,,,,,,METERS,DBAR,ITS-90,PSS-78,,PSS-78,,UMOL/KG,,UMOL/KG,,UMOL/KG,,UMOL/KG,,UMOL/KG,,PMOL/KG,,PMOL/KG,,PMOL/KG,,PMOL/KG,,UMOL/KG,,TU,,TU,NMOL/KG,,NMOL/KG,PERCNT,,PERCNT,NMOL/KG,,NMOL/KG
  06AQ19960317,  S04a,    99,  4,     23,      1,2,19960507,   0,-63.7352, -50.8435, 2505,    601.2,   0.5640,  34.6840,2,  34.6842,2,    200.2,2,   109.62,2,    33.47,2,     0.00,2,     2.28,2, -999.000,9, -999.000,9, -999.000,9, -999.000,9,   2261.3,2, -999.000,9, -999.000,-999.0000,9,-999.0000,  -999.00,9,  -999.00, -999.000,9, -999.000
  06AQ19960317,  S04a,    99,  4,     22,      2,2,19960507,   0,-63.7352, -50.8435, 2505,    631.5,   0.5628,  34.6843,2,  34.6850,2,    200.7,2,   109.63,2,    33.28,2,     0.00,2,     2.28,2,    0.375,2,    0.172,2,    0.015,2,    0.647,2,   2261.0,2, -999.000,9, -999.000,-999.0000,9,-999.0000,  -999.00,9,  -999.00, -999.000,9, -999.000
  06AQ19960317,  S04a,    99,  4,     21,      3,2,19960507,   0,-63.7352, -50.8435, 2505,    631.5,   0.5616,  34.6847,2,-999.0000,9,   -999.0,9,   110.44,2,    33.34,2,     0.00,2,     2.29,2, -999.000,9, -999.000,9, -999.000,9, -999.000,9,   -999.0,9, -999.000,9, -999.000,-999.0000,9,-999.0000,  -999.00,9,  -999.00, -999.000,9, -999.000
  06AQ19960317,  S04a,    99,  4,     20,      4,2,19960507,   0,-63.7352, -50.8435, 2505,    631.5,   0.5615,  34.6845,2,-999.0000,9,   -999.0,9,   110.80,2,    33.47,2,     0.00,2,     2.30,2, -999.000,9, -999.000,9, -999.000,9, -999.000,9,   -999.0,9, -999.000,9, -999.000,-999.0000,9,-999.0000,  -999.00,9,  -999.00, -999.000,9, -999.000
  06AQ19960317,  S04a,    99,  4,     19,      5,2,19960507,   0,-63.7352, -50.8435, 2505,    721.4,   0.5192,  34.6855,2,  34.6859,2,    201.3,2,   112.98,2,    33.38,2,     0.00,2,     2.29,2,    0.302,2,    0.142,2,    0.009,2,    0.541,2,   2262.0,2, -999.000,9, -999.000,-999.0000,9,-999.0000,  -999.00,9,  -999.00, -999.000,9, -999.000
  06AQ19960317,  S04a,    99,  4,     16,      8,2,19960507,   0,-63.7352, -50.8435, 2505,   1001.3,   0.3611,  34.6813,2,-999.0000,9,   -999.0,9,   118.63,2,    33.73,2,     0.00,2,     2.32,2, -999.000,9, -999.000,9, -999.000,9, -999.000,9,   -999.0,9, -999.000,9, -999.000,-999.0000,9,-999.0000,  -999.00,9,  -999.00, -999.000,9, -999.000
  06AQ19960317,  S04a,    99,  4,     17,      7,2,19960507,   0,-63.7352, -50.8435, 2505,   1001.4,   0.3637,  34.6821,2,-999.0000,9,   -999.0,9,   119.06,2,    33.81,2,     0.00,2,     2.33,2, -999.000,9, -999.000,9, -999.000,9, -999.000,9,   -999.0,9, -999.000,9, -999.000,-999.0000,9,-999.0000,  -999.00,9,  -999.00, -999.000,9, -999.000
  06AQ19960317,  S04a,    99,  4,     18,      6,2,19960507,   0,-63.7352, -50.8435, 2505,   1001.5,   0.3645,  34.6823,2,  34.6817,2,    203.0,2,   118.66,2,    33.66,2,     0.00,2,     2.32,2,    0.200,2,    0.097,2,    0.006,2,    0.422,2,   2264.8,2, -999.000,9, -999.000,-999.0000,9,-999.0000,  -999.00,9,  -999.00, -999.000,9, -999.000
  06AQ19960317,  S04a,    99,  4,     15,      9,2,19960507,   0,-63.7352, -50.8435, 2505,   1251.9,   0.1982,  34.6747,2,  34.6739,2,    208.9,2,   120.78,2,    33.63,2,     0.00,2,     2.31,2,    0.244,2,    0.117,2,    0.007,2,    0.488,2,   2259.7,2, -999.000,9, -999.000,-999.0000,9,-999.0000,  -999.00,9,  -999.00, -999.000,9, -999.000
  06AQ19960317,  S04a,    99,  4,     14,     10,2,19960507,   0,-63.7352, -50.8435, 2505,   1501.8,   0.0696,  34.6696,2,  34.6698,2,    213.9,2,   122.70,2,    33.66,2,     0.00,2,     2.31,2,    0.259,2,    0.124,2,    0.009,2,    0.529,2,   2258.7,2, -999.000,9, -999.000,-999.0000,9,-999.0000,  -999.00,9,  -999.00, -999.000,9, -999.000
  06AQ19960317,  S04a,    99,  4,     13,     11,2,19960507,   0,-63.7352, -50.8435, 2505,   1751.5,  -0.0687,  34.6646,2,  34.6651,2,    220.4,2,   123.02,2,    33.44,2,     0.00,2,     2.31,2,    0.322,2,    0.156,2,    0.012,2,    0.603,2,   2258.1,2, -999.000,9, -999.000,-999.0000,9,-999.0000,  -999.00,9,  -999.00, -999.000,9, -999.000
  06AQ19960317,  S04a,    99,  4,     10,     14,2,19960507,   0,-63.7352, -50.8435, 2505,   2001.6,  -0.1854,  34.6609,2,-999.0000,9,   -999.0,9,   123.55,2,    33.51,2,     0.00,2,     2.31,2, -999.000,9, -999.000,9, -999.000,9, -999.000,9,   -999.0,9, -999.000,9, -999.000,-999.0000,9,-999.0000,  -999.00,9,  -999.00, -999.000,9, -999.000
  06AQ19960317,  S04a,    99,  4,     11,     13,2,19960507,   0,-63.7352, -50.8435, 2505,   2001.9,  -0.1827,  34.6607,2,-999.0000,9,   -999.0,9,   123.14,2,    33.36,2,     0.00,2,     2.30,2, -999.000,9, -999.000,9, -999.000,9, -999.000,9,   -999.0,9, -999.000,9, -999.000,-999.0000,9,-999.0000,  -999.00,9,  -999.00, -999.000,9, -999.000
  06AQ19960317,  S04a,    99,  4,     12,     12,2,19960507,   0,-63.7352, -50.8435, 2505,   2002.1,  -0.1824,  34.6607,2,  34.6612,2,   -999.0,9,   122.89,2,    33.35,2,     0.00,2,     2.30,2,    0.357,2,    0.165,2,    0.011,2,    0.695,2,   2255.5,2,    0.106,2, -999.000,   1.8720,2,   0.0050,     6.96,2,     0.22,    8.219,2,    0.018
  06AQ19960317,  S04a,    99,  4,      7,     17,2,19960507,   0,-63.7352, -50.8435, 2505,   2270.6,  -0.5031,  34.6471,2,-999.0000,9,   -999.0,9,   108.39,2,    32.76,2,     0.00,2,     2.24,2, -999.000,9, -999.000,9, -999.000,9, -999.000,9,   -999.0,9, -999.000,9, -999.000,-999.0000,9,-999.0000,  -999.00,9,  -999.00, -999.000,9, -999.000
  06AQ19960317,  S04a,    99,  4,      8,     16,2,19960507,   0,-63.7352, -50.8435, 2505,   2270.9,  -0.4949,  34.6479,2,-999.0000,9,   -999.0,9,   108.42,2,    32.78,2,     0.00,2,     2.25,2, -999.000,9, -999.000,9, -999.000,9, -999.000,9,   -999.0,9, -999.000,9, -999.000,-999.0000,9,-999.0000,  -999.00,9,  -999.00, -999.000,9, -999.000
  06AQ19960317,  S04a,    99,  4,      9,     15,2,19960507,   0,-63.7352, -50.8435, 2505,   2271.0,  -0.4935,  34.6482,2,  34.6474,2,    243.5,2,   108.18,2,    32.74,2,     0.00,2,     2.25,2,    1.465,2,    0.682,2,    0.080,2,    1.621,2,   2249.6,2,    0.019,2, -999.000,   1.8690,2,   0.0050,     5.57,2,     0.22,    8.262,2,    0.018
  06AQ19960317,  S04a,    99,  4,      4,     20,2,19960507,   0,-63.7352, -50.8435, 2505,   2421.2,  -0.8913,  34.6422,2,-999.0000,9,   -999.0,9,    90.59,2,    32.12,2,     0.01,2,     2.20,2, -999.000,9, -999.000,9, -999.000,9, -999.000,9,   -999.0,9, -999.000,9, -999.000,-999.0000,9,-999.0000,  -999.00,9,  -999.00, -999.000,9, -999.000
  06AQ19960317,  S04a,    99,  4,      6,     18,2,19960507,   0,-63.7352, -50.8435, 2505,   2421.3,  -0.8913,  34.6411,2,  34.6411,2,    261.5,2,    90.48,2,    32.03,2,     0.00,2,     2.19,2,    2.699,2,    1.287,2,    0.173,2,    2.617,2,   2243.0,2,    0.052,2, -999.000,   1.8970,2,   0.0050,     3.44,2,     0.22,    8.758,4,    0.020
  06AQ19960317,  S04a,    99,  4,      5,     19,2,19960507,   0,-63.7352, -50.8435, 2505,   2421.3,  -0.8913,  34.6420,2,-999.0000,9,   -999.0,9,    90.67,2,    32.12,2,     0.01,2,     2.19,2, -999.000,9, -999.000,9, -999.000,9, -999.000,9,   -999.0,9, -999.000,9, -999.000,-999.0000,9,-999.0000,  -999.00,9,  -999.00, -999.000,9, -999.000
  06AQ19960317,  S04a,    99,  4,      3,     21,2,19960507,   0,-63.7352, -50.8435, 2505,   2471.2,  -1.0478,  34.6362,2,  34.6356,2,    269.5,2,    84.17,2,    31.86,2,     0.02,2,     2.18,2,    3.124,2,    1.496,2,    0.204,2,    2.947,2,   2241.0,2,    0.100,2, -999.000,   1.8880,2,   0.0050,     2.63,2,     0.22,    8.365,2,    0.019
  06AQ19960317,  S04a,    99,  4,      2,     22,2,19960507,   0,-63.7352, -50.8435, 2505,   2520.5,  -1.1492,  34.6369,2,  34.6362,2,    273.3,2,    81.88,2,    31.77,2,     0.01,2,     2.16,2,    3.345,2,    1.594,6,    0.224,2,    3.113,6,   2238.8,2,    0.113,2, -999.000,   1.8900,2,   0.0050,     2.60,2,     0.22,    8.388,2,    0.019
  06AQ19960317,  S04a,    99,  4,      1,     23,2,19960507,   0,-63.7352, -50.8435, 2505,   2520.5,  -1.1498,  34.6365,2,-999.0000,9,   -999.0,9,    82.16,2,    31.70,2,     0.01,2,     2.18,2, -999.000,9, -999.000,9, -999.000,9, -999.000,9,   -999.0,9, -999.000,9, -999.000,-999.0000,9,-999.0000,  -999.00,9,  -999.00, -999.000,9, -999.000
  06AQ19960317,  S04a,    99,  4,     24,     24,2,19960507,   0,-63.7352, -50.8435, 2505,   2520.5,  -1.1506,  34.6361,2,-999.0000,9,   -999.0,9,    81.07,2,    31.65,2,     0.01,2,     2.16,2, -999.000,9, -999.000,9, -999.000,9, -999.000,9,   -999.0,9, -999.000,9, -999.000,-999.0000,9,-999.0000,  -999.00,9,  -999.00, -999.000,9, -999.000
  06AQ19960317,  S04a,   100,  1,     23,      1,2,19960508,   0,-63.6283, -51.5162, 2031,     20.7,  -1.8764,  34.2084,2,  34.2076,2,    322.7,2,    65.54,2,    28.24,2,     0.17,2,     1.92,2,    5.524,2,    2.675,2,    0.443,6,    6.667,6,   -999.0,9,    0.127,2, -999.000,   1.8360,2,   0.0050,    -0.20,2,     0.22,    8.522,4,    0.019
  06AQ19960317,  S04a,   100,  1,     22,      2,2,19960508,   0,-63.6283, -51.5162, 2031,     40.7,  -1.8775,  34.2083,2,  34.1957,2,    322.4,2,    65.14,2,    27.83,2,     0.17,2,     1.92,2,    5.419,2,    2.662,2,    0.457,2,    6.682,2,   -999.0,9,    0.106,2, -999.000,   1.7970,2,   0.0050,     0.07,2,     0.22,    8.102,2,    0.018
  06AQ19960317,  S04a,   100,  1,     21,      3,2,19960508,   0,-63.6283, -51.5162, 2031,     80.4,  -1.7837,  34.3574,2,  34.3648,2,    298.6,2,    67.69,2,    30.10,2,     0.26,2,     2.08,2,    4.752,2,    2.280,2,    0.371,2,    5.270,2,   -999.0,9,    0.182,2, -999.000,   1.8290,2,   0.0050,     0.75,2,     0.22,    8.225,2,    0.018
  06AQ19960317,  S04a,   100,  1,     20,      4,2,19960508,   0,-63.6283, -51.5162, 2031,     80.4,  -1.7860,  34.3590,2,-999.0000,9,   -999.0,9,    68.14,2,    30.52,2,     0.27,2,     2.08,2,    4.779,2,    2.293,2,    0.371,2,    5.317,2,   -999.0,9, -999.000,9, -999.000,-999.0000,9,-999.0000,  -999.00,9,  -999.00, -999.000,9, -999.000
  06AQ19960317,  S04a,   100,  1,     19,      5,2,19960508,   0,-63.6283, -51.5162, 2031,    100.9,  -1.7631,  34.4017,2,  34.4160,2,    292.4,2,    68.33,2,    30.65,2,     0.22,2,     2.10,2,    4.685,2,    2.231,2,    0.352,2,    4.993,2,   -999.0,9,    0.103,2, -999.000,   1.8290,2,   0.0050,     1.27,2,     0.22,    8.224,2,    0.018
  06AQ19960317,  S04a,   100,  1,     18,      6,2,19960508,   0,-63.6283, -51.5162, 2031,    151.4,  -1.7451,  34.4349,2,  34.4343,2,    289.3,2,    69.43,2,    31.02,2,     0.17,2,     2.13,2,    4.618,2,    2.201,2,    0.346,2,    4.848,2,   -999.0,9, -999.000,9, -999.000,-999.0000,9,-999.0000,  -999.00,9,  -999.00, -999.000,9, -999.000
  06AQ19960317,  S04a,   100,  1,     17,      7,2,19960508,   0,-63.6283, -51.5162, 2031,    201.3,  -1.6177,  34.4627,2,  34.4553,2,    277.3,2,    72.72,2,    31.28,2,     0.04,2,     2.13,2,    4.199,2,    1.992,2,    0.299,2,    4.407,2,   -999.0,9,    0.084,2, -999.000,   1.8380,2,   0.0050,     2.30,2,     0.22,    8.237,2,    0.018
  06AQ19960317,  S04a,   100,  1,     16,      8,2,19960508,   0,-63.6283, -51.5162, 2031,    251.4,  -1.2059,  34.5023,2,  34.4900,2,    261.2,2,    76.93,2,    31.47,2,     0.03,2,     2.16,2,    3.593,2,    1.703,2,    0.246,2,    3.743,2,   -999.0,9,    0.085,2, -999.000,   1.8420,2,   0.0050,     3.68,2,     0.22,    8.198,2,    0.018
  06AQ19960317,  S04a,   100,  1,     15,      9,2,19960508,   0,-63.6283, -51.5162, 2031,    301.1,  -0.7789,  34.5354,2,  34.5385,2,    242.1,2,    83.96,2,    32.11,2,     0.03,2,     2.20,2,    2.641,2,    1.228,2,    0.168,2,    2.885,2,   -999.0,9,    0.074,2, -999.000,   1.8560,2,   0.0050,     4.90,2,     0.22,    8.181,2,    0.018
  06AQ19960317,  S04a,   100,  1,     14,     10,2,19960508,   0,-63.6283, -51.5162, 2031,    501.1,   0.4446,  34.6555,2,  34.6499,3,   -999.0,9,   101.13,2,    33.09,2,     0.02,2,     2.25,2,    0.937,6,    0.419,6,    0.049,6,    1.204,6,   -999.0,9,    0.059,2, -999.000,   1.8500,3,   0.0140,     7.79,3,     0.22,    8.124,3,    0.059
  06AQ19960317,  S04a,   100,  1,     13,     11,2,19960508,   0,-63.6283, -51.5162, 2031,    651.3,   0.5203,  34.6724,2,  34.6725,2,    201.8,2,   104.22,2,    32.87,2,     0.02,2,     2.27,2,    0.685,2,    0.308,2,    0.034,2,    0.955,2,   -999.0,9,    0.057,2, -999.000,   1.8660,2,   0.0050,     8.65,2,     0.22,    8.184,2,    0.018
  06AQ19960317,  S04a,   100,  1,     12,     12,2,19960508,   0,-63.6283, -51.5162, 2031,    802.7,   0.5332,  34.6819,2,  34.6820,2,    202.0,2,   111.08,2,    33.25,2,     0.03,2,     2.26,2,    0.409,2,    0.190,2,    0.014,2,    0.659,2,   -999.0,9,    0.059,2, -999.000,   1.8510,2,   0.0050,     8.16,2,     0.22,    8.058,2,    0.018
  06AQ19960317,  S04a,   100,  1,     11,     13,2,19960508,   0,-63.6283, -51.5162, 2031,    851.4,   0.5200,  34.6822,2,  34.6837,2,    202.4,2,   112.11,2,    33.60,2,     0.02,2,     2.27,2,    0.377,2,    0.177,2,    0.013,2,    0.615,2,   -999.0,9,    0.056,2, -999.000,   1.8840,3,   0.0050,     8.18,2,     0.22,    8.107,3,    0.018
  06AQ19960317,  S04a,   100,  1,     10,     14,2,19960508,   0,-63.6283, -51.5162, 2031,   1001.4,   0.4139,  34.6797,2,  34.6798,2,    205.3,2,   113.61,2,    33.09,2,     0.02,2,     2.28,2,    0.374,2,    0.178,2,    0.014,2,    0.591,2,   -999.0,9,    0.063,2, -999.000,   1.8540,2,   0.0050,     8.22,2,     0.22,    8.063,2,    0.018
  06AQ19960317,  S04a,   100,  1,      9,     15,2,19960508,   0,-63.6283, -51.5162, 2031,   1251.5,   0.1896,  34.6696,2,  34.6711,2,    211.7,2,   117.61,2,    33.33,2,     0.02,2,     2.29,2,    0.474,2,    0.225,2,    0.018,2,    0.688,2,   -999.0,9, -999.000,9, -999.000,-999.0000,9,-999.0000,  -999.00,9,  -999.00, -999.000,9, -999.000
  06AQ19960317,  S04a,   100,  1,      8,     16,2,19960508,   0,-63.6283, -51.5162, 2031,   1501.1,  -0.1153,  34.6579,2,  34.6589,2,    224.1,2,   117.18,2,    33.23,2,     0.02,2,     2.28,2,    0.716,6,    0.325,6,    0.034,6,    0.939,6,   -999.0,9,    0.064,2, -999.000,   1.8630,2,   0.0050,     6.32,2,     0.22,    8.168,2,    0.018
  06AQ19960317,  S04a,   100,  1,      7,     17,2,19960508,   0,-63.6283, -51.5162, 2031,   1801.2,  -0.8623,  34.6352,2,  34.6360,2,    258.7,2,    91.13,2,    31.61,2,     0.03,2,     2.19,2,    2.590,2,    1.225,2,    0.169,2,    2.510,2,   -999.0,9, -999.000,9, -999.000,   1.8850,2,   0.0050,     2.92,2,     0.22,    8.275,2,    0.018
  06AQ19960317,  S04a,   100,  1,      6,     18,2,19960508,   0,-63.6283, -51.5162, 2031,   1941.3,  -1.1006,  34.6349,2,  34.6370,2,    269.5,2,    84.83,2,    31.55,2,     0.02,2,     2.16,2,    3.078,2,    1.456,2,    0.203,2,    2.926,2,   -999.0,9,    0.026,2, -999.000,   1.8760,2,   0.0050,     2.58,2,     0.22,    8.262,2,    0.018
  06AQ19960317,  S04a,   100,  1,      5,     19,2,19960508,   0,-63.6283, -51.5162, 2031,   1941.4,  -1.0985,  34.6356,2,-999.0000,9,   -999.0,9,    85.37,2,    31.68,2,     0.02,2,     2.15,2, -999.000,9, -999.000,9, -999.000,9, -999.000,9,   -999.0,9, -999.000,9, -999.000,-999.0000,9,-999.0000,  -999.00,9,  -999.00, -999.000,9, -999.000
  06AQ19960317,  S04a,   100,  1,      4,     20,2,19960508,   0,-63.6283, -51.5162, 2031,   1941.5,  -1.0819,  34.6362,2,-999.0000,9,    268.7,2,    84.72,2,    31.51,2,     0.03,2,     2.16,2, -999.000,9, -999.000,9, -999.000,9, -999.000,9,   -999.0,9, -999.000,9, -999.000,-999.0000,9,-999.0000,  -999.00,9,  -999.00, -999.000,9, -999.000
  06AQ19960317,  S04a,   100,  1,      3,     21,2,19960508,   0,-63.6283, -51.5162, 2031,   1991.6,  -1.1651,  34.6333,2,-999.0000,9,    271.9,2,    82.94,2,    31.59,2,     0.03,2,     2.16,2,    3.341,2,    1.621,2,    0.231,2,    3.102,2,   -999.0,9, -999.000,9, -999.000,   1.8770,2,   0.0050,     2.27,2,     0.22,    8.290,2,    0.018
  06AQ19960317,  S04a,   100,  1,     24,     24,2,19960508,   0,-63.6283, -51.5162, 2031,   2041.1,  -1.1654,  34.6333,2,-999.0000,9,   -999.0,9,    82.63,2,    31.58,2,     0.03,2,     2.15,2, -999.000,9, -999.000,9, -999.000,9, -999.000,9,   -999.0,9, -999.000,9, -999.000,-999.0000,9,-999.0000,  -999.00,9,  -999.00, -999.000,9, -999.000
  06AQ19960317,  S04a,   100,  1,      1,     23,2,19960508,   0,-63.6283, -51.5162, 2031,   2041.3,  -1.1611,  34.6304,2,-999.0000,9,   -999.0,9,    82.16,2,    31.46,2,     0.02,2,     2.15,2, -999.000,9, -999.000,9, -999.000,9, -999.000,9,   -999.0,9, -999.000,9, -999.000,-999.0000,9,-999.0000,  -999.00,9,  -999.00, -999.000,9, -999.000
  06AQ19960317,  S04a,   100,  1,      2,     22,2,19960508,   0,-63.6283, -51.5162, 2031,   2041.5,  -1.1631,  34.6333,2,  34.6337,2,    272.0,2,    83.13,2,    31.78,2,     0.02,2,     2.14,2,    3.336,2,    1.602,2,    0.225,2,    3.058,2,   -999.0,9,    0.106,2, -999.000,   1.8780,2,   0.0050,     2.25,2,     0.22,    8.308,2,    0.019