BOTTLE,20150129PRINUNIVRMK
EXPOCODE,SECT_ID,STNNBR,CASTNO,SAMPNO,BTLNBR,BTLNBR_FLAG_W,DATE,TIME,LATITUDE,LONGITUDE,DEPTH,CTDPRS,CTDTMP,CTDSAL,CTDSAL_FLAG_W,SALNTY,SALNTY_FLAG_W,OXYGEN,OXYGEN_FLAG_W,SILCAT,SILCAT_FLAG_W,NITRAT,NITRAT_FLAG_W,NITRIT,NITRIT_FLAG_W,PHSPHT,PHSPHT_FLAG_W,CFC-11,CFC-11_FLAG_W,CFC-12,CFC-12_FLAG_W,CFC113,CFC113_FLAG_W,CCL4,CCL4_FLAG_W,TCARBN,TCARBN_FLAG_W,TRITUM,TRITUM_FLAG_W,TRITER,HELIUM,HELIUM_FLAG_W,HELIER,DELHE3,DELHE3_FLAG_W,DELHER,NEON,NEON_FLAG_W,NEONER
,,,,,,,,,,,METERS,DBAR,ITS-90,PSS-78,,PSS-78,,UMOL/KG,,UMOL/KG,,UMOL/KG,,UMOL/KG,,UMOL/KG,,PMOL/KG,,PMOL/KG,,PMOL/KG,,PMOL/KG,,UMOL/KG,,TU,,TU,NMOL/KG,,NMOL/KG,PERCNT,,PERCNT,NMOL/KG,,NMOL/KG
  06AQ19960317,  S04a,    22,  1,     23,      2,2,19960330,   0,-57.3567,  17.2572, 4935,     22.0,   0.9562,  33.8243,2,  33.8258,2,    334.3,2,    52.28,2,    23.17,2,  -999.00,9,     1.62,2, -999.000,9, -999.000,9, -999.000,9, -999.000,9,   -999.0,9, -999.000,9, -999.000,-999.0000,9,-999.0000,  -999.00,9,  -999.00, -999.000,9, -999.000
  06AQ19960317,  S04a,    22,  1,     24,      1,2,19960330,   0,-57.3567,  17.2572, 4935,     22.1,   0.9560,  33.8245,2,  33.8248,2,   -999.0,9,    51.74,2,    22.89,2,  -999.00,9,     1.62,2,    6.161,6,    3.077,6,    0.484,6,    8.563,6,   -999.0,9, -999.000,9, -999.000,-999.0000,9,-999.0000,  -999.00,9,  -999.00, -999.000,9, -999.000
  06AQ19960317,  S04a,    22,  1,     22,      3,2,19960330,   0,-57.3567,  17.2572, 4935,     22.1,   0.9565,  33.8244,2,  33.8262,2,    331.0,2,    51.32,2,    23.28,2,  -999.00,9,     1.61,2, -999.000,9, -999.000,9, -999.000,9, -999.000,9,   2159.7,2, -999.000,9, -999.000,-999.0000,9,-999.0000,  -999.00,9,  -999.00, -999.000,9, -999.000
  06AQ19960317,  S04a,    22,  1,     21,      4,2,19960330,   0,-57.3567,  17.2572, 4935,     40.9,   0.9556,  33.8247,2,  33.8258,2,    331.0,2,    51.32,2,    23.28,2,  -999.00,9,     1.63,2,    6.454,2,    3.224,2,    0.510,2,    8.613,2,   -999.0,9, -999.000,9, -999.000,-999.0000,9,-999.0000,  -999.00,9,  -999.00, -999.000,9, -999.000
  06AQ19960317,  S04a,    22,  1,     20,      5,2,19960330,   0,-57.3567,  17.2572, 4935,     41.2,   0.9556,  33.8245,2,  33.8262,2,    330.7,2,    50.82,2,    23.28,2,  -999.00,9,     1.62,2, -999.000,9, -999.000,9, -999.000,9, -999.000,9,   2158.2,2, -999.000,9, -999.000,-999.0000,9,-999.0000,  -999.00,9,  -999.00, -999.000,9, -999.000
  06AQ19960317,  S04a,    22,  1,     19,      6,2,19960330,   0,-57.3567,  17.2572, 4935,     60.6,   0.9527,  33.8243,2,  33.8284,2,    330.8,2,    50.82,2,    23.37,2,  -999.00,9,     1.63,2,    6.311,2,    3.124,2,    0.480,2,    8.601,2,   -999.0,9, -999.000,9, -999.000,-999.0000,9,-999.0000,  -999.00,9,  -999.00, -999.000,9, -999.000
  06AQ19960317,  S04a,    22,  1,     18,      7,2,19960330,   0,-57.3567,  17.2572, 4935,     60.9,   0.9520,  33.8265,2,  33.8264,2,    331.3,2,    50.82,2,    23.37,2,  -999.00,9,     1.62,2, -999.000,9, -999.000,9, -999.000,9, -999.000,9,   2158.4,2, -999.000,9, -999.000,-999.0000,9,-999.0000,  -999.00,9,  -999.00, -999.000,9, -999.000
  06AQ19960317,  S04a,    22,  1,     16,      9,2,19960330,   0,-57.3567,  17.2572, 4935,     82.9,   0.7002,  33.8392,2,  33.8581,2,    331.8,2,    52.28,2,    23.67,2,  -999.00,9,     1.68,2, -999.000,9, -999.000,9, -999.000,9, -999.000,9,   2163.0,2, -999.000,9, -999.000,-999.0000,9,-999.0000,  -999.00,9,  -999.00, -999.000,9, -999.000
  06AQ19960317,  S04a,    22,  1,     17,      8,2,19960330,   0,-57.3567,  17.2572, 4935,     83.3,   0.7204,  33.8392,2,  33.8446,2,    330.8,2,    51.60,2,    22.98,2,  -999.00,9,     1.94,2,    6.328,2,    3.130,2,    0.518,2,    8.544,2,   -999.0,9, -999.000,9, -999.000,-999.0000,9,-999.0000,  -999.00,9,  -999.00, -999.000,9, -999.000
  06AQ19960317,  S04a,    22,  1,     14,     11,2,19960330,   0,-57.3567,  17.2572, 4935,    101.0,  -1.4158,  34.1053,2,  34.1124,2,    333.4,2,    65.59,2,    27.27,2,  -999.00,9,     2.01,2, -999.000,9, -999.000,9, -999.000,9, -999.000,9,   2200.5,2, -999.000,9, -999.000,-999.0000,9,-999.0000,  -999.00,9,  -999.00, -999.000,9, -999.000
  06AQ19960317,  S04a,    22,  1,     15,     10,2,19960330,   0,-57.3567,  17.2572, 4935,    101.3,  -1.3946,  34.0959,2,  34.0998,2,    335.9,2,    65.10,2,    27.77,2,  -999.00,9,     2.02,2,    6.259,2,    3.028,2,    0.512,2,    8.394,2,   -999.0,9, -999.000,9, -999.000,-999.0000,9,-999.0000,  -999.00,9,  -999.00, -999.000,9, -999.000
  06AQ19960317,  S04a,    22,  1,     11,     14,2,19960330,   0,-57.3567,  17.2572, 4935,    105.3,  -1.3752,  34.1234,2,  34.1284,2,   -999.0,9,    66.46,2,    27.87,2,  -999.00,9,     2.05,2, -999.000,9, -999.000,9, -999.000,9, -999.000,9,   -999.0,9, -999.000,9, -999.000,-999.0000,9,-999.0000,  -999.00,9,  -999.00, -999.000,9, -999.000
  06AQ19960317,  S04a,    22,  1,     12,     13,2,19960330,   0,-57.3567,  17.2572, 4935,    105.6,  -1.3775,  34.1256,2,  34.1266,2,   -999.0,9,    66.46,2,    28.16,2,  -999.00,9,     2.02,2, -999.000,9, -999.000,9, -999.000,9, -999.000,9,   -999.0,9, -999.000,9, -999.000,-999.0000,9,-999.0000,  -999.00,9,  -999.00, -999.000,9, -999.000
  06AQ19960317,  S04a,    22,  1,     13,     12,2,19960330,   0,-57.3567,  17.2572, 4935,    106.6,  -1.3664,  34.1306,2,  34.1298,2,    332.5,2,    66.85,2,    27.66,2,  -999.00,9,     2.05,2,    6.420,2,    3.150,2,    0.534,2,    8.496,2,   2203.1,2, -999.000,9, -999.000,-999.0000,9,-999.0000,  -999.00,9,  -999.00, -999.000,9, -999.000
  06AQ19960317,  S04a,    22,  1,     10,     15,2,19960330,   0,-57.3567,  17.2572, 4935,    150.9,  -1.1181,  34.3457,2,  34.3490,2,    289.0,2,    79.46,2,    31.28,2,  -999.00,9,     2.15,2,    4.713,2,    2.335,2,    0.385,2,    6.407,2,   2227.3,2, -999.000,9, -999.000,-999.0000,9,-999.0000,  -999.00,9,  -999.00, -999.000,9, -999.000
  06AQ19960317,  S04a,    22,  1,      9,     16,2,19960330,   0,-57.3567,  17.2572, 4935,    203.7,   0.0166,  34.5896,2,  34.5856,2,    206.2,2,   106.26,2,    34.69,2,  -999.00,9,     2.38,2,    1.484,2,    0.728,2,    0.105,2,    2.100,2,   -999.0,9, -999.000,9, -999.000,-999.0000,9,-999.0000,  -999.00,9,  -999.00, -999.000,9, -999.000
  06AQ19960317,  S04a,    22,  1,      8,     17,2,19960330,   0,-57.3567,  17.2572, 4935,    203.7,   0.0213,  34.5890,2,  34.5875,2,    205.9,2,   107.91,2,    35.08,2,  -999.00,9,     2.40,2, -999.000,9, -999.000,9, -999.000,9, -999.000,9,   2267.3,2, -999.000,9, -999.000,-999.0000,9,-999.0000,  -999.00,9,  -999.00, -999.000,9, -999.000
  06AQ19960317,  S04a,    22,  1,      7,     18,2,19960330,   0,-57.3567,  17.2572, 4935,    252.3,   0.2673,  34.6643,2,  34.6638,2,    180.2,2,   119.65,2,    36.35,2,  -999.00,9,     2.48,2,    0.380,2,    0.177,2,    0.021,2,    0.655,2,   2282.4,2, -999.000,9, -999.000,-999.0000,9,-999.0000,  -999.00,9,  -999.00, -999.000,9, -999.000
  06AQ19960317,  S04a,    22,  1,      5,     20,2,19960330,   0,-57.3567,  17.2572, 4935,    310.7,   0.2785,  34.6787,2,  34.6794,2,   -999.0,9,   122.86,2,    35.87,2,  -999.00,9,     2.48,2, -999.000,9, -999.000,9, -999.000,9, -999.000,9,   -999.0,9, -999.000,9, -999.000,-999.0000,9,-999.0000,  -999.00,9,  -999.00, -999.000,9, -999.000
  06AQ19960317,  S04a,    22,  1,      6,     19,2,19960330,   0,-57.3567,  17.2572, 4935,    310.9,   0.2791,  34.6790,2,-999.0000,9,    182.0,2,   123.83,2,    36.45,2,  -999.00,9,     2.47,2,    0.193,2,    0.087,2,    0.008,2,    0.412,2,   2281.0,2, -999.000,9, -999.000,-999.0000,9,-999.0000,  -999.00,9,  -999.00, -999.000,9, -999.000
  06AQ19960317,  S04a,    22,  1,      4,     21,2,19960330,   0,-57.3567,  17.2572, 4935,    311.1,   0.2778,  34.6789,2,  34.6777,2,   -999.0,9,   124.02,2,    35.76,2,  -999.00,9,     2.47,2, -999.000,9, -999.000,9, -999.000,9, -999.000,9,   -999.0,9, -999.000,9, -999.000,-999.0000,9,-999.0000,  -999.00,9,  -999.00, -999.000,9, -999.000
  06AQ19960317,  S04a,    22,  1,      3,     22,2,19960330,   0,-57.3567,  17.2572, 4935,    353.8,   0.2630,  34.6799,2,-999.0000,9,    182.9,2,   124.02,2,    35.96,2,  -999.00,9,     2.47,2,    0.162,2,    0.075,2,    0.006,2,    0.375,2,   2278.9,2, -999.000,9, -999.000,-999.0000,9,-999.0000,  -999.00,9,  -999.00, -999.000,9, -999.000
  06AQ19960317,  S04a,    22,  1,      2,     23,2,19960330,   0,-57.3567,  17.2572, 4935,    372.8,   0.2540,  34.6804,2,  34.6786,2,    184.2,2,   124.51,2,    35.76,2,  -999.00,9,     2.45,2,    0.159,2,    0.073,2,    0.010,2,    0.373,2,   2278.4,2, -999.000,9, -999.000,-999.0000,9,-999.0000,  -999.00,9,  -999.00, -999.000,9, -999.000
  06AQ19960317,  S04a,    22,  1,      1,     24,2,19960330,   0,-57.3567,  17.2572, 4935,    505.0,   0.2079,  34.6807,2,  34.6797,2,   -999.0,9,   124.51,2,    35.28,2,  -999.00,9,     2.42,2,    0.134,2,    0.066,2,    0.007,2,    0.362,2,   2275.8,2, -999.000,9, -999.000,-999.0000,9,-999.0000,  -999.00,9,  -999.00, -999.000,9, -999.000
  06AQ19960317,  S04a,    22,  3,     24,      1,2,19960330,   0,-57.3567,  17.2572, 4935,    501.5,   0.2375,  34.6781,2,  34.6790,2,   -999.0,9,   124.41,2,    34.89,2,  -999.00,9,     2.37,2,    0.145,2,    0.065,2,    0.004,2,    0.349,2,   2276.1,2, -999.000,9, -999.000,-999.0000,9,-999.0000,  -999.00,9,  -999.00, -999.000,9, -999.000
  06AQ19960317,  S04a,    22,  3,     23,      2,2,19960330,   0,-57.3567,  17.2572, 4935,    618.6,   0.1899,  34.6763,2,-999.0000,9,    196.1,2,   124.91,2,    34.79,2,  -999.00,9,     2.36,2,    0.142,2,    0.065,2,    0.003,2,    0.349,2,   2274.0,2, -999.000,9, -999.000,-999.0000,9,-999.0000,  -999.00,9,  -999.00, -999.000,9, -999.000
  06AQ19960317,  S04a,    22,  3,     22,      3,2,19960330,   0,-57.3567,  17.2572, 4935,    800.5,   0.1116,  34.6734,2,-999.0000,9,    201.9,2,   124.90,2,    33.72,2,  -999.00,9,     2.34,2,    0.149,2,    0.065,2,    0.004,2,    0.364,2,   2267.6,2, -999.000,9, -999.000,-999.0000,9,-999.0000,  -999.00,9,  -999.00, -999.000,9, -999.000
  06AQ19960317,  S04a,    22,  3,     20,      5,2,19960330,   0,-57.3567,  17.2572, 4935,   1002.2,   0.0332,  34.6704,2,  34.6704,2,    208.4,2,   123.83,2,    33.42,2,  -999.00,9,     2.33,2, -999.000,9, -999.000,9, -999.000,9, -999.000,9,   2266.7,2, -999.000,9, -999.000,-999.0000,9,-999.0000,  -999.00,9,  -999.00, -999.000,9, -999.000
  06AQ19960317,  S04a,    22,  3,     21,      4,2,19960330,   0,-57.3567,  17.2572, 4935,   1002.6,   0.0343,  34.6706,2,-999.0000,9,   -999.0,9,   124.90,2,    34.11,2,  -999.00,9,     2.32,2,    0.148,2,    0.068,2,    0.004,2,    0.391,2,   2266.4,2, -999.000,9, -999.000,-999.0000,9,-999.0000,  -999.00,9,  -999.00, -999.000,9, -999.000
  06AQ19960317,  S04a,    22,  3,     19,      6,2,19960330,   0,-57.3567,  17.2572, 4935,   1250.8,  -0.0504,  34.6659,2,  34.6688,2,    213.2,2,   124.13,2,    33.72,2,  -999.00,9,     2.31,2,    0.153,2,    0.069,2,    0.003,2,    0.418,2,   2265.2,2, -999.000,9, -999.000,-999.0000,9,-999.0000,  -999.00,9,  -999.00, -999.000,9, -999.000
  06AQ19960317,  S04a,    22,  3,     18,      7,2,19960330,   0,-57.3567,  17.2572, 4935,   1501.7,  -0.1331,  34.6629,2,  34.6645,2,    218.4,2,   124.51,2,    32.93,2,  -999.00,9,     2.30,2,    0.169,2,    0.082,2,    0.005,2,    0.468,2,   2263.0,2, -999.000,9, -999.000,-999.0000,9,-999.0000,  -999.00,9,  -999.00, -999.000,9, -999.000
  06AQ19960317,  S04a,    22,  3,     17,      8,2,19960330,   0,-57.3567,  17.2572, 4935,   1752.6,  -0.1918,  34.6609,2,-999.0000,9,    223.6,2,   124.51,2,    32.93,2,  -999.00,9,     2.30,2,    0.165,2,    0.077,2,    0.004,2,    0.488,2,   2259.9,2, -999.000,9, -999.000,-999.0000,9,-999.0000,  -999.00,9,  -999.00, -999.000,9, -999.000
  06AQ19960317,  S04a,    22,  3,     16,      9,2,19960330,   0,-57.3567,  17.2572, 4935,   2001.3,  -0.2455,  34.6590,2,-999.0000,9,    226.1,2,   122.57,2,    33.52,2,  -999.00,9,     2.30,2,    0.190,2,    0.088,2,    0.005,2,    0.528,2,   2257.5,2, -999.000,9, -999.000,-999.0000,9,-999.0000,  -999.00,9,  -999.00, -999.000,9, -999.000
  06AQ19960317,  S04a,    22,  3,     13,     12,2,19960330,   0,-57.3567,  17.2572, 4935,   2500.5,  -0.3095,  34.6568,2,-999.0000,9,   -999.0,9,   120.72,2,    33.23,2,  -999.00,9,     2.27,2, -999.000,9, -999.000,9, -999.000,9, -999.000,9,   -999.0,9, -999.000,9, -999.000,-999.0000,9,-999.0000,  -999.00,9,  -999.00, -999.000,9, -999.000
  06AQ19960317,  S04a,    22,  3,     15,     10,2,19960330,   0,-57.3567,  17.2572, 4935,   2500.7,  -0.3096,  34.6565,2,  34.6563,2,    231.6,2,   122.57,2,    33.13,2,  -999.00,9,     2.27,2,    0.248,2,    0.121,2,    0.007,2,    0.615,2,   2256.6,2, -999.000,9, -999.000,-999.0000,9,-999.0000,  -999.00,9,  -999.00, -999.000,9, -999.000
  06AQ19960317,  S04a,    22,  3,     14,     11,2,19960330,   0,-57.3567,  17.2572, 4935,   2501.0,  -0.3094,  34.6567,2,-999.0000,9,   -999.0,9,   121.79,2,    32.93,2,  -999.00,9,     2.27,2, -999.000,9, -999.000,9, -999.000,9, -999.000,9,   -999.0,9, -999.000,9, -999.000,-999.0000,9,-999.0000,  -999.00,9,  -999.00, -999.000,9, -999.000
  06AQ19960317,  S04a,    22,  3,     12,     13,2,19960330,   0,-57.3567,  17.2572, 4935,   3001.4,  -0.3641,  34.6532,2,-999.0000,9,    236.2,2,   121.79,2,    33.42,2,  -999.00,9,     2.28,2,    0.237,2,    0.112,2,    0.005,2,    0.640,2,   2252.0,2, -999.000,9, -999.000,-999.0000,9,-999.0000,  -999.00,9,  -999.00, -999.000,9, -999.000
  06AQ19960317,  S04a,    22,  3,     11,     14,2,19960330,   0,-57.3567,  17.2572, 4935,   3500.5,  -0.4141,  34.6521,2,  34.6503,2,   -999.0,9,   119.75,2,    33.03,2,  -999.00,9,     2.26,2,    0.324,2,    0.151,2,    0.010,2,    0.738,2,   2252.6,2, -999.000,9, -999.000,-999.0000,9,-999.0000,  -999.00,9,  -999.00, -999.000,9, -999.000
  06AQ19960317,  S04a,    22,  3,     10,     15,2,19960330,   0,-57.3567,  17.2572, 4935,   4001.4,  -0.4476,  34.6496,2,-999.0000,9,   -999.0,9,  -999.00,9,  -999.00,9,  -999.00,9,  -999.00,9, -999.000,9, -999.000,9, -999.000,9, -999.000,9,   -999.0,9, -999.000,9, -999.000,-999.0000,9,-999.0000,  -999.00,9,  -999.00, -999.000,9, -999.000
  06AQ19960317,  S04a,    22,  3,      7,     18,2,19960330,   0,-57.3567,  17.2572, 4935,   4502.4,  -0.4584,  34.6477,2,-999.0000,9,   -999.0,9,   118.01,2,    32.84,2,  -999.00,9,     2.26,2, -999.000,9, -999.000,9, -999.000,9, -999.000,9,   -999.0,9, -999.000,9, -999.000,-999.0000,9,-999.0000,  -999.00,9,  -999.00, -999.000,9, -999.000
  06AQ19960317,  S04a,    22,  3,      8,     17,2,19960330,   0,-57.3567,  17.2572, 4935,   4502.6,  -0.4585,  34.6478,2,-999.0000,9,   -999.0,9,   116.84,2,    32.84,2,  -999.00,9,     2.25,2, -999.000,9, -999.000,9, -999.000,9, -999.000,9,   -999.0,9, -999.000,9, -999.000,-999.0000,9,-999.0000,  -999.00,9,  -999.00, -999.000,9, -999.000
  06AQ19960317,  S04a,    22,  3,      9,     16,2,19960330,   0,-57.3567,  17.2572, 4935,   4502.9,  -0.4585,  34.6477,2,  34.6470,2,    244.9,2,   118.79,2,    33.03,2,  -999.00,9,     2.26,2,    0.477,2,    0.227,2,    0.010,2,    0.972,2,   2251.6,2, -999.000,9, -999.000,-999.0000,9,-999.0000,  -999.00,9,  -999.00, -999.000,9, -999.000
  06AQ19960317,  S04a,    22,  3,      4,     21,2,19960330,   0,-57.3567,  17.2572, 4935,   5051.2,  -0.4204,  34.6471,2,-999.0000,9,   -999.0,9,   119.75,2,    32.74,2,  -999.00,9,     2.26,2, -999.000,9, -999.000,9, -999.000,9, -999.000,9,   -999.0,9, -999.000,9, -999.000,-999.0000,9,-999.0000,  -999.00,9,  -999.00, -999.000,9, -999.000
  06AQ19960317,  S04a,    22,  3,      5,     20,2,19960330,   0,-57.3567,  17.2572, 4935,   5051.3,  -0.4203,  34.6474,2,-999.0000,9,   -999.0,9,   119.75,2,    33.03,2,  -999.00,9,     2.26,2, -999.000,9, -999.000,9, -999.000,9, -999.000,9,   -999.0,9, -999.000,9, -999.000,-999.0000,9,-999.0000,  -999.00,9,  -999.00, -999.000,9, -999.000
  06AQ19960317,  S04a,    22,  3,      6,     19,2,19960330,   0,-57.3567,  17.2572, 4935,   5052.3,  -0.4205,  34.6473,2,-999.0000,9,    242.3,2,   119.75,2,    32.84,2,  -999.00,9,     2.24,2,    0.461,2,    0.219,2,    0.012,2,    0.983,2,   2251.8,2, -999.000,9, -999.000,-999.0000,9,-999.0000,  -999.00,9,  -999.00, -999.000,9, -999.000
  06AQ19960317,  S04a,    22,  3,      3,     22,2,19960330,   0,-57.3567,  17.2572, 4935,   5157.8,  -0.4095,  34.6473,2,  34.6456,2,    244.8,2,   118.68,2,    32.84,2,  -999.00,9,     2.24,2,    0.450,2,    0.215,2,    0.014,2,    0.986,2,   2251.9,2, -999.000,9, -999.000,-999.0000,9,-999.0000,  -999.00,9,  -999.00, -999.000,9, -999.000
  06AQ19960317,  S04a,    22,  3,      1,     24,2,19960330,   0,-57.3567,  17.2572, 4935,   5157.8,  -0.4097,  34.6475,2,-999.0000,9,   -999.0,9,   119.75,2,    32.84,2,  -999.00,9,     2.25,2, -999.000,9, -999.000,9, -999.000,9, -999.000,9,   -999.0,9, -999.000,9, -999.000,-999.0000,9,-999.0000,  -999.00,9,  -999.00, -999.000,9, -999.000
  06AQ19960317,  S04a,    22,  3,      2,     23,2,19960330,   0,-57.3567,  17.2572, 4935,   5157.9,  -0.4095,  34.6471,2,-999.0000,9,   -999.0,9,   119.75,2,    32.84,2,  -999.00,9,     2.24,2, -999.000,9, -999.000,9, -999.000,9, -999.000,9,   -999.0,9, -999.000,9, -999.000,-999.0000,9,-999.0000,  -999.00,9,  -999.00, -999.000,9, -999.000