BOTTLE,20150129PRINUNIVRMK
EXPOCODE,SECT_ID,STNNBR,CASTNO,SAMPNO,BTLNBR,BTLNBR_FLAG_W,DATE,TIME,LATITUDE,LONGITUDE,DEPTH,CTDPRS,CTDTMP,CTDSAL,CTDSAL_FLAG_W,SALNTY,SALNTY_FLAG_W,OXYGEN,OXYGEN_FLAG_W,SILCAT,SILCAT_FLAG_W,NITRAT,NITRAT_FLAG_W,NITRIT,NITRIT_FLAG_W,PHSPHT,PHSPHT_FLAG_W,CFC-11,CFC-11_FLAG_W,CFC-12,CFC-12_FLAG_W,CFC113,CFC113_FLAG_W,CCL4,CCL4_FLAG_W,TCARBN,TCARBN_FLAG_W,TRITUM,TRITUM_FLAG_W,TRITER,HELIUM,HELIUM_FLAG_W,HELIER,DELHE3,DELHE3_FLAG_W,DELHER,NEON,NEON_FLAG_W,NEONER
,,,,,,,,,,,METERS,DBAR,ITS-90,PSS-78,,PSS-78,,UMOL/KG,,UMOL/KG,,UMOL/KG,,UMOL/KG,,UMOL/KG,,PMOL/KG,,PMOL/KG,,PMOL/KG,,PMOL/KG,,UMOL/KG,,TU,,TU,NMOL/KG,,NMOL/KG,PERCNT,,PERCNT,NMOL/KG,,NMOL/KG
  06AQ19960317,  S04a,    11,  1,     24,      1,2,19960325,   0,-53.9982,  30.7655, 5040,     20.4,   3.0233,  33.8780,2,  33.8778,2,    320.8,2,    17.26,2,    24.36,2,  -999.00,9,     1.65,2, -999.000,9, -999.000,9, -999.000,9, -999.000,9,   2143.6,2, -999.000,9, -999.000,-999.0000,9,-999.0000,  -999.00,9,  -999.00, -999.000,9, -999.000
  06AQ19960317,  S04a,    11,  1,     23,      2,2,19960325,   0,-53.9982,  30.7655, 5040,     20.8,   3.0237,  33.8785,2,-999.0000,9,   -999.0,9,    17.39,2,    24.50,2,  -999.00,9,     1.67,2,    5.825,2,    2.931,2,    0.429,2,    8.371,2,   -999.0,9, -999.000,9, -999.000,-999.0000,9,-999.0000,  -999.00,9,  -999.00, -999.000,9, -999.000
  06AQ19960317,  S04a,    11,  1,     22,      3,2,19960325,   0,-53.9982,  30.7655, 5040,     40.6,   3.0236,  33.8787,2,-999.0000,9,    321.1,2,    17.53,2,    24.47,2,  -999.00,9,     1.69,2,    5.737,2,    2.895,2,    0.422,2,    8.344,2,   2144.3,2, -999.000,9, -999.000,   1.7840,2,   0.0050,    -1.59,2,     0.22,    7.853,2,    0.018
  06AQ19960317,  S04a,    11,  1,     21,      4,2,19960325,   0,-53.9982,  30.7655, 5040,     82.0,   2.7906,  33.9136,2,-999.0000,9,   -999.0,9,    26.07,2,    25.30,2,  -999.00,9,     1.73,2, -999.000,9, -999.000,9, -999.000,9, -999.000,9,   -999.0,9, -999.000,9, -999.000,-999.0000,9,-999.0000,  -999.00,9,  -999.00, -999.000,9, -999.000
  06AQ19960317,  S04a,    11,  1,     20,      5,2,19960325,   0,-53.9982,  30.7655, 5040,     82.2,   2.7947,  33.9123,2,  33.9145,2,    322.3,2,    26.21,2,    25.02,2,  -999.00,9,     1.73,2,    5.695,2,    2.859,2,    0.430,2,    8.326,2,   2153.7,2,    0.108,2, -999.000,   1.8120,2,   0.0050,    -1.68,2,     0.22,    7.918,2,    0.018
  06AQ19960317,  S04a,    11,  1,     19,      6,2,19960325,   0,-53.9982,  30.7655, 5040,    102.7,   2.5386,  33.9484,2,-999.0000,9,    318.3,2,    29.51,2,    26.29,2,  -999.00,9,     1.74,2,    5.677,2,    2.850,2,    0.433,2,    8.257,2,   2160.1,2, -999.000,9, -999.000,-999.0000,9,-999.0000,  -999.00,9,  -999.00, -999.000,9, -999.000
  06AQ19960317,  S04a,    11,  1,     18,      7,2,19960325,   0,-53.9982,  30.7655, 5040,    150.9,   1.0526,  34.0381,2,  34.0318,2,    309.8,2,    38.74,2,    28.91,2,  -999.00,9,     1.98,2,    5.697,2,    2.811,2,    0.429,2,    7.982,2,   2184.2,2,    0.169,2, -999.000,   1.8140,2,   0.0050,    -0.83,2,     0.22,    8.008,2,    0.018
  06AQ19960317,  S04a,    11,  1,     17,      8,2,19960325,   0,-53.9982,  30.7655, 5040,    203.0,   0.8542,  34.1230,2,-999.0000,9,    289.2,2,    47.05,2,    31.03,2,  -999.00,9,     2.11,2,    5.001,2,    2.431,2,    0.372,2,    6.956,2,   2198.3,2,    0.111,2, -999.000,   1.8180,2,   0.0050,     0.73,2,     0.22,    8.047,2,    0.018
  06AQ19960317,  S04a,    11,  1,     16,      9,2,19960325,   0,-53.9982,  30.7655, 5040,    251.0,   1.2260,  34.2401,2,  34.2395,2,    245.8,2,    54.78,2,    33.56,2,  -999.00,9,     2.29,2,    3.428,2,    1.647,2,    0.246,2,    4.787,2,   2216.9,2, -999.000,9, -999.000,-999.0000,9,-999.0000,  -999.00,9,  -999.00, -999.000,9, -999.000
  06AQ19960317,  S04a,    11,  1,     15,     10,2,19960325,   0,-53.9982,  30.7655, 5040,    303.1,   1.6335,  34.3485,2,  34.3455,2,    214.5,2,    61.12,2,    34.81,2,  -999.00,9,     2.36,2,    2.241,2,    1.069,2,    0.151,2,    3.242,2,   2232.4,2, -999.000,9, -999.000,-999.0000,9,-999.0000,  -999.00,9,  -999.00, -999.000,9, -999.000
  06AQ19960317,  S04a,    11,  1,     14,     11,2,19960325,   0,-53.9982,  30.7655, 5040,    441.2,   1.9954,  34.5324,2,  34.5303,2,    181.6,2,    73.51,2,    35.32,2,  -999.00,9,     2.39,2,    0.912,2,    0.435,2,    0.058,2,    1.289,2,   2253.4,2,    0.092,2, -999.000,   1.8470,2,   0.0050,     8.19,2,     0.22,    7.967,2,    0.018
  06AQ19960317,  S04a,    11,  1,     13,     12,2,19960325,   0,-53.9982,  30.7655, 5040,    541.6,   2.0931,  34.5947,2,  34.5933,2,    176.1,2,    76.15,2,    34.46,2,  -999.00,9,     2.35,2,    0.577,2,    0.277,2,    0.033,2,    0.850,2,   2253.3,2, -999.000,9, -999.000,-999.0000,9,-999.0000,  -999.00,9,  -999.00, -999.000,9, -999.000
  06AQ19960317,  S04a,    11,  1,     12,     13,2,19960325,   0,-53.9982,  30.7655, 5040,    642.1,   2.1105,  34.6353,2,  34.6355,2,    177.3,2,    77.88,2,    33.82,2,  -999.00,9,     2.31,2,    0.419,2,    0.201,2,    0.026,2,    0.642,2,   2254.5,2,    0.052,2, -999.000,   1.8520,2,   0.0050,     9.49,2,     0.22,    8.001,2,    0.018
  06AQ19960317,  S04a,    11,  1,     11,     14,2,19960325,   0,-53.9982,  30.7655, 5040,   1000.1,   1.9132,  34.7268,2,  34.7260,2,    189.8,2,    82.68,2,    31.70,2,  -999.00,9,     2.17,2,    0.209,2,    0.100,2,    0.012,2,    0.343,2,   2247.9,2, -999.000,9, -999.000,-999.0000,9,-999.0000,  -999.00,9,  -999.00, -999.000,9, -999.000
  06AQ19960317,  S04a,    11,  1,     10,     15,2,19960325,   0,-53.9982,  30.7655, 5040,   1301.0,   1.7126,  34.7487,2,  34.7473,2,    200.1,2,    86.23,2,    30.69,2,  -999.00,9,     2.10,2,    0.133,2,    0.063,2,    0.010,2,    0.239,2,   2245.4,2,    0.045,2, -999.000,   1.8520,2,   0.0050,     9.61,2,     0.22,    8.334,4,    0.019
  06AQ19960317,  S04a,    11,  1,      9,     16,2,19960325,   0,-53.9982,  30.7655, 5040,   1502.5,   1.4990,  34.7444,2,  34.7429,2,    202.5,2,    89.01,2,    30.96,2,  -999.00,9,     2.12,2,    0.144,2,    0.063,2,    0.010,2,    0.232,2,   2247.4,2,    0.023,2, -999.000,   1.8870,4,   0.0050,     9.43,2,     0.22,    8.089,2,    0.018
  06AQ19960317,  S04a,    11,  1,      8,     17,2,19960325,   0,-53.9982,  30.7655, 5040,   1749.7,   1.1795,  34.7271,2,  34.7263,2,    204.4,2,   101.02,2,    31.76,2,  -999.00,9,     2.17,2,    0.150,2,    0.074,2,    0.010,2,    0.269,2,   2251.6,2,    0.009,2, -999.000,   1.8600,2,   0.0050,     9.46,2,     0.22,    8.096,2,    0.018
  06AQ19960317,  S04a,    11,  1,      7,     18,2,19960325,   0,-53.9982,  30.7655, 5040,   2000.7,   0.9542,  34.7128,2,  34.7124,2,    205.1,2,   108.30,2,    32.08,2,  -999.00,9,     2.20,2,    0.170,2,    0.084,2,    0.010,2,    0.314,2,   2252.5,2, -999.000,9, -999.000,   1.8490,2,   0.0050,     9.05,2,     0.22,    8.031,2,    0.018
  06AQ19960317,  S04a,    11,  1,      6,     19,2,19960325,   0,-53.9982,  30.7655, 5040,   2998.8,   0.3119,  34.6782,2,  34.6769,2,    213.3,2,   124.09,2,    33.64,2,  -999.00,9,     2.30,2,    0.171,2,    0.086,2,    0.008,2,    0.399,2,   2259.9,2,    0.041,2, -999.000,   1.8690,2,   0.0050,     8.14,2,     0.22,    8.508,4,    0.019
  06AQ19960317,  S04a,    11,  1,      5,     20,2,19960325,   0,-53.9982,  30.7655, 5040,   3997.3,  -0.0570,  34.6611,2,  34.6590,2,    231.2,2,   127.86,2,    33.22,2,  -999.00,9,     2.31,2,    0.205,2,    0.108,2,    0.007,2,    0.555,2,   2252.4,2, -999.000,9, -999.000,-999.0000,9,-999.0000,  -999.00,9,  -999.00, -999.000,9, -999.000
  06AQ19960317,  S04a,    11,  1,      4,     21,2,19960325,   0,-53.9982,  30.7655, 5040,   4498.6,  -0.1476,  34.6574,2,  34.6562,2,    237.2,2,   127.38,2,    33.49,2,  -999.00,9,     2.31,2,    0.237,2,    0.121,2,    0.006,2,    0.609,2,   2256.0,2, -999.000,9, -999.000,-999.0000,9,-999.0000,  -999.00,9,  -999.00, -999.000,9, -999.000
  06AQ19960317,  S04a,    11,  1,      3,     22,2,19960325,   0,-53.9982,  30.7655, 5040,   5021.3,  -0.2117,  34.6540,2,  34.6531,2,    241.6,2,   128.17,2,    32.66,2,  -999.00,9,     2.28,2,    0.232,2,    0.119,2,    0.009,2,    0.645,2,   2249.9,2, -999.000,9, -999.000,-999.0000,9,-999.0000,  -999.00,9,  -999.00, -999.000,9, -999.000
  06AQ19960317,  S04a,    11,  1,      2,     23,2,19960325,   0,-53.9982,  30.7655, 5040,   5070.9,  -0.2377,  34.6532,2,  34.6521,2,    242.7,2,   129.88,2,    33.33,2,  -999.00,9,     2.28,2,    0.244,2,    0.123,2,    0.008,2,    0.663,2,   2247.7,2,    0.027,2, -999.000,   1.9080,2,   0.0050,     5.49,2,     0.22,    8.313,2,    0.019
  06AQ19960317,  S04a,    11,  1,      1,     24,2,19960325,   0,-53.9982,  30.7655, 5040,   5118.7,  -0.2377,  34.6529,2,  34.6531,2,    242.0,2,   129.18,2,    33.49,2,  -999.00,9,     2.28,2,    0.241,6,    0.126,6,    0.008,6,    0.685,6,   2252.5,2,    0.065,2, -999.000,   1.9040,2,   0.0050,     4.99,2,     0.22,    8.277,2,    0.018
  06AQ19960317,  S04a,    12,  1,     11,      1,2,19960326,   0,-54.0035,  29.1110, 4611,   1249.5,   1.9046,  34.7444,2,  34.7439,2,    195.1,2,    83.67,2,    31.24,2,  -999.00,9,     2.11,2,    0.123,2,    0.057,2,    0.007,2,    0.230,2,   2250.8,2, -999.000,9, -999.000,-999.0000,9,-999.0000,  -999.00,9,  -999.00, -999.000,9, -999.000
  06AQ19960317,  S04a,    12,  1,     10,      2,2,19960326,   0,-54.0035,  29.1110, 4611,   1551.6,   1.7374,  34.7624,2,  34.7545,4,    205.4,2,    88.83,2,    30.32,2,  -999.00,9,     2.07,2,    0.094,2,    0.042,2,    0.005,2,    0.188,2,   2247.8,2, -999.000,9, -999.000,-999.0000,9,-999.0000,  -999.00,9,  -999.00, -999.000,9, -999.000
  06AQ19960317,  S04a,    12,  1,      9,      3,2,19960326,   0,-54.0035,  29.1110, 4611,   1753.0,   1.5034,  34.7498,2,  34.7496,2,    204.1,2,    91.63,2,    30.90,2,  -999.00,9,     2.08,2,    0.103,2,    0.044,2,    0.003,2,    0.191,2,   2248.1,2, -999.000,9, -999.000,-999.0000,9,-999.0000,  -999.00,9,  -999.00, -999.000,9, -999.000
  06AQ19960317,  S04a,    12,  1,      8,      4,2,19960326,   0,-54.0035,  29.1110, 4611,   2003.2,   1.2814,  34.7374,2,  34.7363,2,    205.6,2,    97.67,2,    31.26,2,  -999.00,9,     2.13,2,    0.103,6,    0.045,6,    0.005,6,    0.209,6,   2254.2,2, -999.000,9, -999.000,-999.0000,9,-999.0000,  -999.00,9,  -999.00, -999.000,9, -999.000
  06AQ19960317,  S04a,    12,  1,      7,      5,2,19960326,   0,-54.0035,  29.1110, 4611,   2501.2,   0.8249,  34.7065,2,  34.7055,2,    207.6,2,   112.32,2,    32.40,2,  -999.00,9,     2.21,2,    0.151,6,    0.074,2,    0.004,2,    0.303,6,   2259.3,2, -999.000,9, -999.000,-999.0000,9,-999.0000,  -999.00,9,  -999.00, -999.000,9, -999.000
  06AQ19960317,  S04a,    12,  1,      6,      6,2,19960326,   0,-54.0035,  29.1110, 4611,   3001.1,   0.4795,  34.6875,2,  34.6859,2,    212.4,2,   123.91,2,    33.10,2,  -999.00,9,     2.29,2,    0.165,2,    0.079,2,    0.004,2,    0.372,2,   2260.5,2, -999.000,9, -999.000,-999.0000,9,-999.0000,  -999.00,9,  -999.00, -999.000,9, -999.000
  06AQ19960317,  S04a,    12,  1,      5,      7,2,19960326,   0,-54.0035,  29.1110, 4611,   4000.2,  -0.0121,  34.6641,2,  34.6628,2,    229.7,2,   125.46,2,    33.56,2,  -999.00,9,     2.30,2,    0.206,2,    0.101,2,    0.006,2,    0.540,2,   2256.8,2, -999.000,9, -999.000,-999.0000,9,-999.0000,  -999.00,9,  -999.00, -999.000,9, -999.000
  06AQ19960317,  S04a,    12,  1,      4,      8,2,19960326,   0,-54.0035,  29.1110, 4611,   4300.3,  -0.1235,  34.6589,2,  34.6601,2,    236.1,2,   125.34,2,    33.45,2,  -999.00,9,     2.28,2,    0.245,2,    0.116,2,    0.007,2,    0.619,2,   2253.9,2, -999.000,9, -999.000,-999.0000,9,-999.0000,  -999.00,9,  -999.00, -999.000,9, -999.000
  06AQ19960317,  S04a,    12,  1,      3,      9,2,19960326,   0,-54.0035,  29.1110, 4611,   4502.2,  -0.1773,  34.6572,2,-999.0000,9,    238.0,2,   127.60,2,    33.03,2,  -999.00,9,     2.27,2,    0.244,2,    0.101,2,    0.007,2,    0.644,2,   2252.3,2, -999.000,9, -999.000,-999.0000,9,-999.0000,  -999.00,9,  -999.00, -999.000,9, -999.000
  06AQ19960317,  S04a,    12,  1,      2,     10,2,19960326,   0,-54.0035,  29.1110, 4611,   4532.4,  -0.1889,  34.6561,2,  34.6550,2,    238.5,2,   126.18,2,    33.16,2,  -999.00,9,     2.28,2,    0.250,2,    0.124,2,    0.006,2,    0.655,2,   2252.4,2, -999.000,9, -999.000,-999.0000,9,-999.0000,  -999.00,9,  -999.00, -999.000,9, -999.000
  06AQ19960317,  S04a,    12,  1,      1,     11,2,19960326,   0,-54.0035,  29.1110, 4611,   4583.5,  -0.2012,  34.6560,2,  34.6542,2,    239.6,2,   126.82,2,    33.28,2,  -999.00,9,     2.28,2,    0.249,2,    0.127,2,    0.014,4,    0.665,2,   2251.5,2, -999.000,9, -999.000,-999.0000,9,-999.0000,  -999.00,9,  -999.00, -999.000,9, -999.000
  06AQ19960317,  S04a,    13,  1,     20,      1,2,19960326,   0,-54.0010,  27.3832, 4294,     20.3,   1.9811,  34.0075,2,-999.0000,9,   -999.0,9,    48.90,2,    24.36,2,  -999.00,9,     1.63,2, -999.000,9, -999.000,9, -999.000,9, -999.000,9,   -999.0,9, -999.000,9, -999.000,-999.0000,9,-999.0000,  -999.00,9,  -999.00, -999.000,9, -999.000
  06AQ19960317,  S04a,    13,  1,     19,      2,2,19960326,   0,-54.0010,  27.3832, 4294,     20.4,   1.9805,  34.0073,2,  34.0078,2,    331.1,2,    48.71,2,    24.38,2,  -999.00,9,     1.64,2,    6.001,2,    2.953,2,    0.549,2,    8.195,2,   2162.3,2,    0.075,2, -999.000,   1.7740,2,   0.0050,    -1.56,2,     0.22,    7.901,2,    0.018
  06AQ19960317,  S04a,    13,  1,     18,      3,2,19960326,   0,-54.0010,  27.3832, 4294,     39.7,   1.9879,  34.0097,2,-999.0000,9,   -999.0,9,    49.06,2,    24.57,2,  -999.00,9,     1.62,2, -999.000,9, -999.000,9, -999.000,9, -999.000,9,   -999.0,9, -999.000,9, -999.000,-999.0000,9,-999.0000,  -999.00,9,  -999.00, -999.000,9, -999.000
  06AQ19960317,  S04a,    13,  1,     17,      4,2,19960326,   0,-54.0010,  27.3832, 4294,     39.9,   1.9844,  34.0086,2,  34.0056,2,    331.1,2,    49.00,2,    24.55,2,  -999.00,9,     1.64,2,    5.995,2,    2.927,2,    0.555,2,    8.187,2,   2162.6,2, -999.000,9, -999.000,-999.0000,9,-999.0000,  -999.00,9,  -999.00, -999.000,9, -999.000
  06AQ19960317,  S04a,    13,  1,     16,      5,2,19960326,   0,-54.0010,  27.3832, 4294,     59.6,   1.9911,  34.0103,2,-999.0000,9,   -999.0,9,    49.03,2,    24.80,2,  -999.00,9,     1.65,2, -999.000,9, -999.000,9, -999.000,9, -999.000,9,   -999.0,9, -999.000,9, -999.000,-999.0000,9,-999.0000,  -999.00,9,  -999.00, -999.000,9, -999.000
  06AQ19960317,  S04a,    13,  1,     15,      6,2,19960326,   0,-54.0010,  27.3832, 4294,     59.9,   1.9908,  34.0107,2,  34.0105,2,    330.7,2,    49.12,2,    24.98,2,  -999.00,9,     1.66,2,    6.011,2,    2.927,2,    0.552,2,    8.142,2,   2164.0,2, -999.000,9, -999.000,-999.0000,9,-999.0000,  -999.00,9,  -999.00, -999.000,9, -999.000
  06AQ19960317,  S04a,    13,  1,     13,      8,2,19960326,   0,-54.0010,  27.3832, 4294,     81.3,   2.0147,  34.0268,2,  34.0282,2,    331.0,2,    50.19,2,    24.84,2,  -999.00,9,     1.68,2,    5.980,2,    2.853,2,    0.519,2,    7.957,2,   2165.0,2,    0.156,2, -999.000,   1.7870,2,   0.0050,    -1.37,2,     0.22,    7.903,2,    0.018
  06AQ19960317,  S04a,    13,  1,     14,      7,2,19960326,   0,-54.0010,  27.3832, 4294,     81.4,   2.0174,  34.0268,2,-999.0000,9,   -999.0,9,    50.02,2,    25.15,2,  -999.00,9,     1.69,2, -999.000,9, -999.000,9, -999.000,9, -999.000,9,   -999.0,9, -999.000,9, -999.000,-999.0000,9,-999.0000,  -999.00,9,  -999.00, -999.000,9, -999.000
  06AQ19960317,  S04a,    13,  1,     12,      9,2,19960326,   0,-54.0010,  27.3832, 4294,    100.1,   1.7144,  34.0597,2,-999.0000,9,   -999.0,9,    52.99,2,    25.44,2,  -999.00,9,     1.74,2, -999.000,9, -999.000,9, -999.000,9, -999.000,9,   -999.0,9, -999.000,9, -999.000,-999.0000,9,-999.0000,  -999.00,9,  -999.00, -999.000,9, -999.000
  06AQ19960317,  S04a,    13,  1,     11,     10,2,19960326,   0,-54.0010,  27.3832, 4294,    100.3,   1.7102,  34.0587,2,  34.0607,2,    328.9,2,    52.36,2,    25.63,2,  -999.00,9,     1.75,2,    6.061,2,    2.891,2,    0.532,2,    7.993,2,   2171.4,2, -999.000,9, -999.000,-999.0000,9,-999.0000,  -999.00,9,  -999.00, -999.000,9, -999.000
  06AQ19960317,  S04a,    13,  1,     10,     11,2,19960326,   0,-54.0010,  27.3832, 4294,    130.4,   0.0725,  34.2094,2,  34.2058,2,    306.7,2,    63.74,2,    29.23,2,  -999.00,9,     2.08,2,    5.451,2,    2.559,2,    0.468,2,    7.039,2,   2201.7,2,    0.121,2, -999.000,   1.8260,2,   0.0050,     0.51,2,     0.22,    8.161,2,    0.018
  06AQ19960317,  S04a,    13,  1,      9,     12,2,19960326,   0,-54.0010,  27.3832, 4294,    130.4,   0.0679,  34.2113,2,-999.0000,9,   -999.0,9,    63.90,2,    29.48,2,  -999.00,9,     2.06,2, -999.000,9, -999.000,9, -999.000,9, -999.000,9,   -999.0,9, -999.000,9, -999.000,-999.0000,9,-999.0000,  -999.00,9,  -999.00, -999.000,9, -999.000
  06AQ19960317,  S04a,    13,  1,      8,     13,2,19960326,   0,-54.0010,  27.3832, 4294,    130.5,   0.0573,  34.2163,2,-999.0000,9,   -999.0,9,    64.39,2,    29.56,2,  -999.00,9,     2.08,2, -999.000,9, -999.000,9, -999.000,9, -999.000,9,   -999.0,9, -999.000,9, -999.000,-999.0000,9,-999.0000,  -999.00,9,  -999.00, -999.000,9, -999.000
  06AQ19960317,  S04a,    13,  1,      6,     15,2,19960326,   0,-54.0010,  27.3832, 4294,    151.2,   0.2796,  34.3172,2,  34.3308,2,   -999.0,9,    71.72,2,    32.82,2,  -999.00,9,     2.27,2,    3.901,2,    1.842,2,    0.330,2,    5.094,2,   2225.0,2, -999.000,9, -999.000,   1.8410,2,   0.0050,     3.39,2,     0.22,    8.173,2,    0.018
  06AQ19960317,  S04a,    13,  1,      7,     14,2,19960326,   0,-54.0010,  27.3832, 4294,    151.5,   0.2696,  34.3209,2,  34.3199,2,    262.5,2,    71.26,2,    32.79,2,  -999.00,9,     2.26,2, -999.000,9, -999.000,9, -999.000,9, -999.000,9,   2224.8,2, -999.000,9, -999.000,-999.0000,9,-999.0000,  -999.00,9,  -999.00, -999.000,9, -999.000
  06AQ19960317,  S04a,    13,  1,      4,     17,2,19960326,   0,-54.0010,  27.3832, 4294,    203.3,   1.2953,  34.5357,2,  34.5297,2,    193.8,2,    83.16,2,    34.72,2,  -999.00,9,     2.43,2, -999.000,9, -999.000,9, -999.000,9, -999.000,9,   2253.1,2,    0.155,2, -999.000,   1.8440,2,   0.0050,     7.97,2,     0.22,    8.056,2,    0.018
  06AQ19960317,  S04a,    13,  1,      5,     16,2,19960326,   0,-54.0010,  27.3832, 4294,    204.2,   1.2943,  34.5367,2,-999.0000,9,   -999.0,9,    82.76,2,    34.82,2,  -999.00,9,     2.43,2, -999.000,9, -999.000,9, -999.000,9, -999.000,9,   -999.0,9, -999.000,9, -999.000,-999.0000,9,-999.0000,  -999.00,9,  -999.00, -999.000,9, -999.000
  06AQ19960317,  S04a,    13,  1,      3,     18,2,19960326,   0,-54.0010,  27.3832, 4294,    301.4,   1.5860,  34.6480,2,  34.6448,2,    181.6,2,    89.50,2,    34.53,2,  -999.00,9,     2.36,2,    0.655,2,    0.301,2,    0.042,2,    0.902,2,   2258.2,2, -999.000,9, -999.000,-999.0000,9,-999.0000,  -999.00,9,  -999.00, -999.000,9, -999.000
  06AQ19960317,  S04a,    13,  1,      2,     19,2,19960326,   0,-54.0010,  27.3832, 4294,    380.9,   1.6168,  34.6830,2,-999.0000,9,   -999.0,9,    90.62,2,    33.60,2,  -999.00,9,     2.30,2,    0.453,2,    0.215,2,    0.029,2,    0.647,2,   2256.7,2, -999.000,9, -999.000,-999.0000,9,-999.0000,  -999.00,9,  -999.00, -999.000,9, -999.000
  06AQ19960317,  S04a,    13,  1,      1,     20,2,19960326,   0,-54.0010,  27.3832, 4294,    501.5,   1.5574,  34.7097,2,  34.7060,2,   -999.0,9,    92.62,2,    32.75,2,  -999.00,9,     2.25,2,    0.328,2,    0.157,2,    0.024,2,    0.485,2,   2254.5,2,    0.071,2, -999.000,   1.8630,2,   0.0050,    10.17,2,     0.22,    8.014,2,    0.018