BOTTLE,20150129PRINUNIVRMK
EXPOCODE,SECT_ID,STNNBR,CASTNO,SAMPNO,BTLNBR,BTLNBR_FLAG_W,DATE,TIME,LATITUDE,LONGITUDE,DEPTH,CTDPRS,CTDTMP,CTDSAL,CTDSAL_FLAG_W,SALNTY,SALNTY_FLAG_W,OXYGEN,OXYGEN_FLAG_W,SILCAT,SILCAT_FLAG_W,NITRAT,NITRAT_FLAG_W,NITRIT,NITRIT_FLAG_W,PHSPHT,PHSPHT_FLAG_W,CFC-11,CFC-11_FLAG_W,CFC-12,CFC-12_FLAG_W,CFC113,CFC113_FLAG_W,CCL4,CCL4_FLAG_W,TCARBN,TCARBN_FLAG_W,TRITUM,TRITUM_FLAG_W,TRITER,HELIUM,HELIUM_FLAG_W,HELIER,DELHE3,DELHE3_FLAG_W,DELHER,NEON,NEON_FLAG_W,NEONER
,,,,,,,,,,,METERS,DBAR,ITS-90,PSS-78,,PSS-78,,UMOL/KG,,UMOL/KG,,UMOL/KG,,UMOL/KG,,UMOL/KG,,PMOL/KG,,PMOL/KG,,PMOL/KG,,PMOL/KG,,UMOL/KG,,TU,,TU,NMOL/KG,,NMOL/KG,PERCNT,,PERCNT,NMOL/KG,,NMOL/KG
  06AQ19960317,  S04a,    82,  1,     23,      1,2,19960429,   0,-67.3862, -23.2870, 4865,     20.4,  -1.8730,  34.2805,2,  34.2805,2,    334.5,2,    57.53,2,    27.29,2,     0.26,2,     1.89,2,    6.662,2,    3.002,2,    0.537,2,    7.984,2,   2201.8,2,    0.076,2, -999.000,   1.8020,2,   0.0050,    -1.11,2,     0.22,    8.096,2,    0.018
  06AQ19960317,  S04a,    82,  1,     22,      2,2,19960429,   0,-67.3862, -23.2870, 4865,     40.4,  -1.8723,  34.2809,2,  34.2807,2,    334.1,2,    57.60,2,    27.41,2,     0.27,2,     1.89,2,    6.689,2,    3.003,2,    0.539,2,    8.015,2,   2200.4,2,    0.130,2, -999.000,   1.8230,2,   0.0050,    -0.70,2,     0.22,    8.189,2,    0.018
  06AQ19960317,  S04a,    82,  1,     20,      4,2,19960429,   0,-67.3862, -23.2870, 4865,     80.4,  -1.6860,  34.4407,2,  34.4393,2,    287.8,2,    71.11,2,    30.23,2,     0.23,2,     2.08,2, -999.000,9, -999.000,9, -999.000,9, -999.000,9,   2227.4,2,    0.146,2, -999.000,   1.8310,2,   0.0050,     1.67,2,     0.22,    8.151,2,    0.018
  06AQ19960317,  S04a,    82,  1,     21,      3,2,19960429,   0,-67.3862, -23.2870, 4865,     80.6,  -1.6845,  34.4390,2,-999.0000,9,   -999.0,9,    71.02,2,    30.15,2,     0.23,2,     2.09,2,    4.627,2,    2.187,2,    0.380,2,    5.726,2,   -999.0,9, -999.000,9, -999.000,-999.0000,9,-999.0000,  -999.00,9,  -999.00, -999.000,9, -999.000
  06AQ19960317,  S04a,    82,  1,     19,      5,2,19960429,   0,-67.3862, -23.2870, 4865,    100.8,  -1.4823,  34.4814,2,  34.4895,2,    269.2,2,    75.74,2,    31.19,2,     0.05,2,     2.11,2,    3.982,2,    1.909,2,    0.310,2,    4.809,2,   2235.5,2,    0.161,2, -999.000,-999.0000,9,-999.0000,  -999.00,9,  -999.00, -999.000,9, -999.000
  06AQ19960317,  S04a,    82,  1,     18,      6,2,19960429,   0,-67.3862, -23.2870, 4865,    150.7,   0.1358,  34.6249,2,  34.6256,2,    208.5,2,    95.73,2,    33.58,2,     0.03,2,     2.28,2,    1.619,2,    0.744,2,    0.115,2,    1.972,2,   2259.6,2,    0.125,2, -999.000,   1.8650,2,   0.0050,     7.30,2,     0.22,    8.142,2,    0.018
  06AQ19960317,  S04a,    82,  1,     17,      7,2,19960429,   0,-67.3862, -23.2870, 4865,    200.5,   0.6360,  34.6788,2,  34.6766,2,    190.9,2,   103.82,2,    33.92,2,     0.02,2,     2.30,2,    0.673,2,    0.312,2,    0.038,2,    0.935,2,   2267.1,2, -999.000,9, -999.000,   1.8540,2,   0.0050,     9.08,2,     0.22,    8.419,4,    0.019
  06AQ19960317,  S04a,    82,  1,     16,      8,2,19960429,   0,-67.3862, -23.2870, 4865,    260.8,   0.7778,  34.6923,2,  34.6925,2,    189.2,2,   109.71,2,    34.08,2,     0.04,2,     2.33,2,    0.361,2,    0.165,2,    0.013,2,    0.589,2,   2268.4,2,    0.066,2, -999.000,   1.8340,2,   0.0050,     9.25,2,     0.22,    8.330,4,    0.019
  06AQ19960317,  S04a,    82,  1,     15,      9,2,19960429,   0,-67.3862, -23.2870, 4865,    325.9,   0.6946,  34.6917,2,  34.6924,2,    191.9,2,   111.66,2,    34.03,2,     0.02,2,     2.32,2,    0.308,2,    0.142,2,    0.011,2,    0.540,2,   2268.1,2,    0.029,2, -999.000,   1.8660,2,   0.0050,     9.01,2,     0.22,    8.117,2,    0.018
  06AQ19960317,  S04a,    82,  1,     14,     10,2,19960429,   0,-67.3862, -23.2870, 4865,    400.1,   0.6046,  34.6900,2,  34.6901,2,    192.8,2,   114.47,2,    34.08,2,     0.01,2,     2.33,2,    0.265,2,    0.123,2,    0.009,2,    0.507,2,   2268.7,2, -999.000,9, -999.000,   1.8850,2,   0.0050,     9.54,2,     0.22,    8.136,2,    0.018
  06AQ19960317,  S04a,    82,  1,     13,     11,2,19960429,   0,-67.3862, -23.2870, 4865,    500.7,   0.5169,  34.6878,2,  34.6888,2,    194.4,2,   117.27,2,    34.24,2,     0.02,2,     2.33,2,    0.233,2,    0.111,2,    0.008,2,    0.461,2,   2268.4,2,    0.055,2, -999.000,   1.8640,2,   0.0050,     8.53,2,     0.22,    8.131,2,    0.018
  06AQ19960317,  S04a,    82,  1,     12,     12,2,19960429,   0,-67.3862, -23.2870, 4865,    750.9,   0.3580,  34.6825,2,  34.6832,2,    197.7,2,   121.70,2,    34.29,2,     0.02,2,     2.36,2,    0.175,2,    0.086,2,    0.002,2,    0.413,2,   2268.2,2,    0.023,2, -999.000,   1.8880,2,   0.0050,     8.27,2,     0.22,    8.160,2,    0.018
  06AQ19960317,  S04a,    82,  1,     11,     13,2,19960429,   0,-67.3862, -23.2870, 4865,   1001.2,   0.2301,  34.6778,2,  34.6780,2,    202.3,2,   123.56,2,    34.29,2,     0.02,2,     2.35,2,    0.151,2,    0.077,2,    0.003,2,    0.387,2,   2266.9,2,    0.020,2, -999.000,   1.8780,2,   0.0050,     8.20,2,     0.22,    8.180,2,    0.018
  06AQ19960317,  S04a,    82,  1,     10,     14,2,19960429,   0,-67.3862, -23.2870, 4865,   1501.5,   0.0338,  34.6706,2,  34.6700,2,    212.1,2,   124.44,2,    34.00,2,     0.02,2,     2.33,2,    0.141,2,    0.079,2,    0.000,2,    0.407,2,   2265.5,2,    0.032,2, -999.000,   1.8700,3,   0.0140,     7.54,3,     0.22,    8.171,3,    0.059
  06AQ19960317,  S04a,    82,  1,      9,     15,2,19960429,   0,-67.3862, -23.2870, 4865,   2000.9,  -0.1140,  34.6630,2,  34.6648,2,    221.9,2,   124.15,2,    33.65,2,     0.02,2,     2.31,2,    0.186,2,    0.104,2,    0.003,2,    0.507,2,   2260.5,2,    0.022,2, -999.000,   1.8580,2,   0.0050,     6.78,2,     0.22,    8.137,2,    0.018
  06AQ19960317,  S04a,    82,  1,      8,     16,2,19960429,   0,-67.3862, -23.2870, 4865,   2501.1,  -0.2138,  34.6598,2,  34.6612,2,    228.6,2,   124.54,2,    33.37,2,     0.02,2,     2.30,2,    0.259,2,    0.129,2,    0.005,2,    0.612,2,   2259.1,2,    0.033,2, -999.000,   1.8770,2,   0.0050,     6.20,2,     0.22,    8.195,2,    0.018
  06AQ19960317,  S04a,    82,  1,      7,     17,2,19960429,   0,-67.3862, -23.2870, 4865,   3000.9,  -0.2679,  34.6572,2,  34.6580,2,    232.8,2,   123.19,2,    33.13,2,     0.02,2,     2.28,2,    0.288,2,    0.144,2,    0.006,2,    0.686,2,   2254.5,2,    0.061,2, -999.000,   1.8840,3,   0.0140,     5.89,3,     0.22,    8.253,3,    0.060
  06AQ19960317,  S04a,    82,  1,      6,     18,2,19960429,   0,-67.3862, -23.2870, 4865,   3500.0,  -0.3187,  34.6552,2,  34.6555,2,    237.3,2,   123.22,2,    33.27,2,     0.02,2,     2.28,2,    0.292,2,    0.144,2,    0.008,2,    0.714,2,   2253.6,2,    0.040,2, -999.000,   1.8890,2,   0.0050,     5.26,2,     0.22,    8.313,2,    0.019
  06AQ19960317,  S04a,    82,  1,      5,     19,2,19960429,   0,-67.3862, -23.2870, 4865,   3999.8,  -0.3540,  34.6548,2,  34.6541,2,    239.1,2,   124.77,2,    33.24,2,     0.01,2,     2.28,2,    0.220,2,    0.113,2,    0.006,2,    0.658,2,   2252.8,2,    0.031,2, -999.000,-999.0000,9,-999.0000,  -999.00,9,  -999.00, -999.000,9, -999.000
  06AQ19960317,  S04a,    82,  1,      4,     20,2,19960429,   0,-67.3862, -23.2870, 4865,   4498.8,  -0.3990,  34.6533,2,  34.6516,2,    242.4,2,   122.33,2,    33.04,2,     0.01,2,     2.28,2,    0.170,2,    0.090,2,    0.003,2,    0.639,2,   2250.5,2, -999.000,9, -999.000,   1.8900,2,   0.0050,     4.67,2,     0.22,    8.297,2,    0.019
  06AQ19960317,  S04a,    82,  1,      3,     21,2,19960429,   0,-67.3862, -23.2870, 4865,   4748.9,  -0.4579,  34.6495,2,  34.6484,2,    243.8,2,   121.47,2,    33.00,2,     0.01,2,     2.28,2,    0.224,2,    0.111,2,    0.004,2,    0.729,2,   2249.2,2, -999.000,9, -999.000,   5.1040,4,   0.0140,     0.02,3,     0.22,   19.256,4,    0.043
  06AQ19960317,  S04a,    82,  1,      2,     22,2,19960429,   0,-67.3862, -23.2870, 4865,   4849.1,  -0.4698,  34.6486,2,  34.6475,2,    244.0,2,   123.90,2,    33.06,2,     0.01,2,     2.28,2,    0.255,6,    0.122,6,    0.005,6,    0.762,6,   2251.7,2,    0.029,2, -999.000,   1.9010,2,   0.0050,     4.49,2,     0.22,    8.334,2,    0.019
  06AQ19960317,  S04a,    82,  1,      1,     23,2,19960429,   0,-67.3862, -23.2870, 4865,   4899.2,  -0.4751,  34.6477,2,-999.0000,9,   -999.0,9,  -999.00,9,  -999.00,9,  -999.00,9,  -999.00,9, -999.000,9, -999.000,9, -999.000,9, -999.000,9,   -999.0,9, -999.000,9, -999.000,-999.0000,9,-999.0000,  -999.00,9,  -999.00, -999.000,9, -999.000
  06AQ19960317,  S04a,    82,  1,     24,     24,2,19960429,   0,-67.3862, -23.2870, 4865,   4941.9,  -0.4770,  34.6466,2,  34.6455,2,    245.4,2,   124.29,2,    33.03,2,     0.01,2,     2.28,2,    0.362,2,    0.178,2,    0.004,2,    0.820,2,   2251.3,2,    0.047,2, -999.000,   1.8910,2,   0.0050,     4.21,2,     0.22,    8.316,2,    0.019
  06AQ19960317,  S04a,    83,  1,     23,      1,2,19960429,   0,-67.0590, -24.8690, 4834,     21.0,  -1.8742,  34.2726,2,  34.2720,2,    334.1,2,    56.09,2,    26.92,2,     0.28,2,     1.87,2,    6.736,2,    3.033,2,    0.546,2,    7.943,2,   2197.3,2, -999.000,9, -999.000,-999.0000,9,-999.0000,  -999.00,9,  -999.00, -999.000,9, -999.000
  06AQ19960317,  S04a,    83,  1,     22,      2,2,19960429,   0,-67.0590, -24.8690, 4834,     41.1,  -1.8740,  34.2734,2,  34.2760,2,    332.2,2,    56.15,2,    26.92,2,     0.27,2,     1.86,2,    6.874,2,    3.022,2,    0.507,2,    7.860,2,   2199.1,2, -999.000,9, -999.000,-999.0000,9,-999.0000,  -999.00,9,  -999.00, -999.000,9, -999.000
  06AQ19960317,  S04a,    83,  1,     21,      3,2,19960429,   0,-67.0590, -24.8690, 4834,     80.7,  -1.7132,  34.4171,2,  34.4190,2,   -999.0,9,    69.16,2,    29.88,2,     0.19,2,     2.07,2,    5.065,2,    2.351,2,    0.407,2,    6.065,2,   2221.8,2, -999.000,9, -999.000,-999.0000,9,-999.0000,  -999.00,9,  -999.00, -999.000,9, -999.000
  06AQ19960317,  S04a,    83,  1,     20,      4,2,19960429,   0,-67.0590, -24.8690, 4834,     80.7,  -1.7196,  34.4135,2,-999.0000,9,    292.9,2,    68.65,2,    29.93,2,     0.18,2,     2.06,2, -999.000,9, -999.000,9, -999.000,9, -999.000,9,   -999.0,9, -999.000,9, -999.000,-999.0000,9,-999.0000,  -999.00,9,  -999.00, -999.000,9, -999.000
  06AQ19960317,  S04a,    83,  1,     19,      5,2,19960429,   0,-67.0590, -24.8690, 4834,    101.0,  -1.6571,  34.4545,2,  34.4693,2,    276.9,2,    73.53,2,    30.75,2,     0.08,2,     2.13,2,    4.330,2,    2.043,2,    0.345,2,    5.244,2,   2229.3,2, -999.000,9, -999.000,-999.0000,9,-999.0000,  -999.00,9,  -999.00, -999.000,9, -999.000
  06AQ19960317,  S04a,    83,  1,     18,      6,2,19960429,   0,-67.0590, -24.8690, 4834,    150.7,  -0.1953,  34.5918,2,  34.6119,2,    213.7,2,    93.18,2,    33.23,2,     0.04,2,     2.28,2, -999.000,9, -999.000,9, -999.000,9, -999.000,9,   2255.0,2, -999.000,9, -999.000,-999.0000,9,-999.0000,  -999.00,9,  -999.00, -999.000,9, -999.000
  06AQ19960317,  S04a,    83,  1,     17,      7,2,19960429,   0,-67.0590, -24.8690, 4834,    200.6,   0.6114,  34.6745,2,  34.6774,2,    190.4,2,   104.04,2,    33.92,2,     0.04,2,     2.32,2,    0.671,2,    0.324,2,    0.038,2,    0.945,2,   2264.9,2, -999.000,9, -999.000,-999.0000,9,-999.0000,  -999.00,9,  -999.00, -999.000,9, -999.000
  06AQ19960317,  S04a,    83,  1,     16,      8,2,19960429,   0,-67.0590, -24.8690, 4834,    280.2,   0.7625,  34.6933,2,  34.6932,2,    190.1,2,   109.63,2,    33.81,2,     0.02,2,     2.33,2,    0.362,2,    0.180,2,    0.016,2,    0.575,2,   2266.1,2, -999.000,9, -999.000,-999.0000,9,-999.0000,  -999.00,9,  -999.00, -999.000,9, -999.000
  06AQ19960317,  S04a,    83,  1,     15,      9,2,19960429,   0,-67.0590, -24.8690, 4834,    329.9,   0.6945,  34.6916,2,  34.6925,2,    192.5,2,   111.40,2,    33.79,2,     0.03,2,     2.33,2,    0.378,2,    0.229,2,    0.015,2,    0.590,2,   2266.9,2, -999.000,9, -999.000,-999.0000,9,-999.0000,  -999.00,9,  -999.00, -999.000,9, -999.000
  06AQ19960317,  S04a,    83,  1,     14,     10,2,19960429,   0,-67.0590, -24.8690, 4834,    401.2,   0.6143,  34.6902,2,  34.6910,2,    194.7,2,   114.04,2,    33.97,2,     0.03,2,     2.34,2,    0.361,2,    0.242,2,    0.018,2,    0.569,2,   2267.1,2, -999.000,9, -999.000,-999.0000,9,-999.0000,  -999.00,9,  -999.00, -999.000,9, -999.000
  06AQ19960317,  S04a,    83,  1,     13,     11,2,19960429,   0,-67.0590, -24.8690, 4834,    500.9,   0.5187,  34.6884,2,  34.6883,2,    192.6,2,   116.81,2,    34.07,2,     0.03,2,     2.34,2,    0.229,2,    0.106,2,    0.008,2,    0.460,2,   2267.9,2, -999.000,9, -999.000,-999.0000,9,-999.0000,  -999.00,9,  -999.00, -999.000,9, -999.000
  06AQ19960317,  S04a,    83,  1,     12,     12,2,19960429,   0,-67.0590, -24.8690, 4834,    750.8,   0.3467,  34.6820,2,  34.6824,2,    197.5,2,   121.52,2,    34.28,2,     0.03,2,     2.36,2,    0.174,2,    0.079,2,    0.003,2,    0.407,2,   2266.8,2, -999.000,9, -999.000,-999.0000,9,-999.0000,  -999.00,9,  -999.00, -999.000,9, -999.000
  06AQ19960317,  S04a,    83,  1,     11,     13,2,19960429,   0,-67.0590, -24.8690, 4834,   1001.5,   0.2257,  34.6774,2,  34.6785,2,    202.8,2,   123.35,2,    34.12,2,     0.03,2,     2.34,2,    0.186,2,    0.128,2,    0.004,2,    0.403,2,   2266.7,2, -999.000,9, -999.000,-999.0000,9,-999.0000,  -999.00,9,  -999.00, -999.000,9, -999.000
  06AQ19960317,  S04a,    83,  1,     10,     14,2,19960429,   0,-67.0590, -24.8690, 4834,   1504.9,   0.0289,  34.6699,2,  34.6704,2,    212.6,2,   124.43,2,    33.92,2,     0.02,2,     2.33,2,    0.155,2,    0.078,2,    0.004,2,    0.426,2,   2263.2,2, -999.000,9, -999.000,-999.0000,9,-999.0000,  -999.00,9,  -999.00, -999.000,9, -999.000
  06AQ19960317,  S04a,    83,  1,      9,     15,2,19960429,   0,-67.0590, -24.8690, 4834,   2001.6,  -0.1178,  34.6631,2,  34.6643,2,    222.5,2,   124.27,2,    33.49,2,     0.02,2,     2.31,2,    0.235,2,    0.220,4,    0.009,2,    0.526,2,   2258.4,2, -999.000,9, -999.000,-999.0000,9,-999.0000,  -999.00,9,  -999.00, -999.000,9, -999.000
  06AQ19960317,  S04a,    83,  1,      8,     16,2,19960429,   0,-67.0590, -24.8690, 4834,   2500.6,  -0.2116,  34.6592,2,  34.6626,2,    228.3,2,   124.11,2,    33.36,2,     0.03,2,     2.30,2,    0.262,2,    0.208,4,    0.009,2,    0.598,2,   2256.7,2, -999.000,9, -999.000,-999.0000,9,-999.0000,  -999.00,9,  -999.00, -999.000,9, -999.000
  06AQ19960317,  S04a,    83,  1,      7,     17,2,19960429,   0,-67.0590, -24.8690, 4834,   3004.7,  -0.2777,  34.6574,2,  34.6577,2,    233.0,2,   123.38,2,    33.30,2,     0.03,2,     2.29,2,    0.310,2,    0.194,4,    0.011,2,    0.693,2,   2254.7,2, -999.000,9, -999.000,-999.0000,9,-999.0000,  -999.00,9,  -999.00, -999.000,9, -999.000
  06AQ19960317,  S04a,    83,  1,      6,     18,2,19960429,   0,-67.0590, -24.8690, 4834,   3499.5,  -0.3273,  34.6554,2,  34.6552,2,    236.9,2,   122.95,2,    33.12,2,     0.03,2,     2.27,2,    0.292,2,    0.176,2,    0.010,2,    0.705,2,   2253.1,2, -999.000,9, -999.000,-999.0000,9,-999.0000,  -999.00,9,  -999.00, -999.000,9, -999.000
  06AQ19960317,  S04a,    83,  1,      5,     19,2,19960429,   0,-67.0590, -24.8690, 4834,   3998.4,  -0.3565,  34.6533,2,  34.6534,2,    239.6,2,   124.75,2,    33.04,2,     0.02,2,     2.27,2,    0.224,2,    0.109,2,    0.006,2,    0.649,2,   2253.4,2, -999.000,9, -999.000,-999.0000,9,-999.0000,  -999.00,9,  -999.00, -999.000,9, -999.000
  06AQ19960317,  S04a,    83,  1,      4,     20,2,19960429,   0,-67.0590, -24.8690, 4834,   4498.1,  -0.4087,  34.6517,2,  34.6518,2,    244.5,2,   121.70,2,    32.99,2,     0.03,2,     2.28,2,    0.196,2,    0.097,2,    0.005,2,    0.668,2,   2251.7,2, -999.000,9, -999.000,-999.0000,9,-999.0000,  -999.00,9,  -999.00, -999.000,9, -999.000
  06AQ19960317,  S04a,    83,  1,      3,     21,2,19960429,   0,-67.0590, -24.8690, 4834,   4746.1,  -0.4630,  34.6487,2,  34.6492,2,    245.3,2,   123.47,2,    33.16,2,     0.04,2,     2.28,2,    0.272,2,    0.139,2,    0.007,2,    0.784,2,   2251.4,2, -999.000,9, -999.000,-999.0000,9,-999.0000,  -999.00,9,  -999.00, -999.000,9, -999.000
  06AQ19960317,  S04a,    83,  1,      2,     22,2,19960429,   0,-67.0590, -24.8690, 4834,   4816.9,  -0.4710,  34.6470,2,  34.6479,2,    245.0,2,   124.42,2,    33.02,2,     0.02,2,     2.27,2,    0.263,6,    0.133,6,    0.007,6,    0.764,6,   2253.6,2, -999.000,9, -999.000,-999.0000,9,-999.0000,  -999.00,9,  -999.00, -999.000,9, -999.000
  06AQ19960317,  S04a,    83,  1,      1,     23,2,19960429,   0,-67.0590, -24.8690, 4834,   4865.3,  -0.4860,  34.6445,2,-999.0000,9,   -999.0,9,  -999.00,9,  -999.00,9,  -999.00,9,  -999.00,9, -999.000,9, -999.000,9, -999.000,9, -999.000,9,   -999.0,9, -999.000,9, -999.000,-999.0000,9,-999.0000,  -999.00,9,  -999.00, -999.000,9, -999.000
  06AQ19960317,  S04a,    83,  1,     24,     24,2,19960429,   0,-67.0590, -24.8690, 4834,   4916.3,  -0.4807,  34.6447,2,  34.6452,2,    245.4,2,   125.74,2,    33.25,2,     0.05,2,     2.26,2,    0.377,2,    0.181,2,    0.005,2,    0.856,2,   2255.8,2, -999.000,9, -999.000,-999.0000,9,-999.0000,  -999.00,9,  -999.00, -999.000,9, -999.000