BOTTLE,20150129PRINUNIVRMK
EXPOCODE,SECT_ID,STNNBR,CASTNO,SAMPNO,BTLNBR,BTLNBR_FLAG_W,DATE,TIME,LATITUDE,LONGITUDE,DEPTH,CTDPRS,CTDTMP,CTDSAL,CTDSAL_FLAG_W,SALNTY,SALNTY_FLAG_W,OXYGEN,OXYGEN_FLAG_W,SILCAT,SILCAT_FLAG_W,NITRAT,NITRAT_FLAG_W,NITRIT,NITRIT_FLAG_W,PHSPHT,PHSPHT_FLAG_W,CFC-11,CFC-11_FLAG_W,CFC-12,CFC-12_FLAG_W,CFC113,CFC113_FLAG_W,CCL4,CCL4_FLAG_W,TCARBN,TCARBN_FLAG_W,TRITUM,TRITUM_FLAG_W,TRITER,HELIUM,HELIUM_FLAG_W,HELIER,DELHE3,DELHE3_FLAG_W,DELHER,NEON,NEON_FLAG_W,NEONER
,,,,,,,,,,,METERS,DBAR,ITS-90,PSS-78,,PSS-78,,UMOL/KG,,UMOL/KG,,UMOL/KG,,UMOL/KG,,UMOL/KG,,PMOL/KG,,PMOL/KG,,PMOL/KG,,PMOL/KG,,UMOL/KG,,TU,,TU,NMOL/KG,,NMOL/KG,PERCNT,,PERCNT,NMOL/KG,,NMOL/KG
  06AQ19960317,  S04a,    28,  1,     24,      1,2,19960403,   0,-58.4250,   5.8317, 5115,     21.5,   0.3463,  33.9795,2,  33.9795,2,    335.0,2,    55.87,2,    25.64,2,  -999.00,9,     1.77,2,    6.208,2,    3.121,2,    0.480,2,    8.649,2,   2171.2,2, -999.000,9, -999.000,-999.0000,9,-999.0000,  -999.00,9,  -999.00, -999.000,9, -999.000
  06AQ19960317,  S04a,    28,  1,     22,      3,2,19960403,   0,-58.4250,   5.8317, 5115,     21.5,   0.3432,  33.9793,2,  33.9805,2,    334.8,2,    55.94,2,    25.86,2,  -999.00,9,     1.78,2, -999.000,9, -999.000,9, -999.000,9, -999.000,9,   2170.4,2, -999.000,9, -999.000,-999.0000,9,-999.0000,  -999.00,9,  -999.00, -999.000,9, -999.000
  06AQ19960317,  S04a,    28,  1,     23,      2,2,19960403,   0,-58.4250,   5.8317, 5115,     21.7,   0.3451,  33.9794,2,-999.0000,9,   -999.0,9,    55.75,2,    25.79,2,  -999.00,9,     1.77,2, -999.000,9, -999.000,9, -999.000,9, -999.000,9,   -999.0,9, -999.000,9, -999.000,-999.0000,9,-999.0000,  -999.00,9,  -999.00, -999.000,9, -999.000
  06AQ19960317,  S04a,    28,  1,     21,      4,2,19960403,   0,-58.4250,   5.8317, 5115,     39.8,   0.3460,  33.9792,2,-999.0000,9,   -999.0,9,    56.24,2,    25.80,2,  -999.00,9,     1.78,2, -999.000,9, -999.000,9, -999.000,9, -999.000,9,   -999.0,9, -999.000,9, -999.000,-999.0000,9,-999.0000,  -999.00,9,  -999.00, -999.000,9, -999.000
  06AQ19960317,  S04a,    28,  1,     20,      5,2,19960403,   0,-58.4250,   5.8317, 5115,     39.8,   0.3444,  33.9794,2,  33.9815,2,    334.8,2,    55.94,2,    25.84,2,  -999.00,9,     1.77,2, -999.000,9, -999.000,9, -999.000,9, -999.000,9,   2175.0,2, -999.000,9, -999.000,-999.0000,9,-999.0000,  -999.00,9,  -999.00, -999.000,9, -999.000
  06AQ19960317,  S04a,    28,  1,     19,      6,2,19960403,   0,-58.4250,   5.8317, 5115,     60.6,   0.3440,  33.9796,2,-999.0000,9,   -999.0,9,    55.94,2,    25.75,2,  -999.00,9,     1.78,2,    6.467,2,    3.270,2,    0.514,2,    8.910,2,   -999.0,9, -999.000,9, -999.000,-999.0000,9,-999.0000,  -999.00,9,  -999.00, -999.000,9, -999.000
  06AQ19960317,  S04a,    28,  1,     18,      7,2,19960403,   0,-58.4250,   5.8317, 5115,     60.7,   0.3448,  33.9793,2,  33.9811,2,    335.0,2,    55.98,2,    25.78,2,  -999.00,9,     1.78,2, -999.000,9, -999.000,9, -999.000,9, -999.000,9,   2174.2,2, -999.000,9, -999.000,-999.0000,9,-999.0000,  -999.00,9,  -999.00, -999.000,9, -999.000
  06AQ19960317,  S04a,    28,  1,     16,      9,2,19960403,   0,-58.4250,   5.8317, 5115,     80.6,   0.3005,  33.9865,2,  33.9905,2,    333.8,2,    56.72,2,    26.01,2,  -999.00,9,     1.80,2,    6.146,2,    3.098,2,    0.505,2,    8.615,2,   2172.9,2, -999.000,9, -999.000,-999.0000,9,-999.0000,  -999.00,9,  -999.00, -999.000,9, -999.000
  06AQ19960317,  S04a,    28,  1,     17,      8,2,19960403,   0,-58.4250,   5.8317, 5115,     80.7,   0.3359,  33.9813,2,-999.0000,9,   -999.0,9,    56.48,2,    25.93,2,  -999.00,9,     1.79,2, -999.000,9, -999.000,9, -999.000,9, -999.000,9,   -999.0,9, -999.000,9, -999.000,-999.0000,9,-999.0000,  -999.00,9,  -999.00, -999.000,9, -999.000
  06AQ19960317,  S04a,    28,  1,     13,     12,2,19960403,   0,-58.4250,   5.8317, 5115,    101.9,  -1.2316,  34.3772,2,-999.0000,9,   -999.0,9,    77.09,2,    30.33,2,  -999.00,9,     2.10,2, -999.000,9, -999.000,9, -999.000,9, -999.000,9,   -999.0,9, -999.000,9, -999.000,-999.0000,9,-999.0000,  -999.00,9,  -999.00, -999.000,9, -999.000
  06AQ19960317,  S04a,    28,  1,     14,     11,2,19960403,   0,-58.4250,   5.8317, 5115,    102.0,  -1.2817,  34.3709,2,-999.0000,9,   -999.0,9,    76.16,2,    30.16,2,  -999.00,9,     2.08,2, -999.000,9, -999.000,9, -999.000,9, -999.000,9,   -999.0,9, -999.000,9, -999.000,-999.0000,9,-999.0000,  -999.00,9,  -999.00, -999.000,9, -999.000
  06AQ19960317,  S04a,    28,  1,     15,     10,2,19960403,   0,-58.4250,   5.8317, 5115,    102.1,  -1.3236,  34.3649,2,  34.3642,2,    300.6,2,    74.86,2,    29.89,2,  -999.00,9,     2.07,2,    4.888,2,    2.471,2,    0.408,2,    6.655,2,   2222.0,2, -999.000,9, -999.000,-999.0000,9,-999.0000,  -999.00,9,  -999.00, -999.000,9, -999.000
  06AQ19960317,  S04a,    28,  1,     12,     13,2,19960403,   0,-58.4250,   5.8317, 5115,    131.0,  -0.3669,  34.5246,2,  34.5263,2,    239.2,2,    93.72,2,    32.88,2,  -999.00,9,     2.23,2,    2.653,2,    1.319,2,    0.189,2,    3.659,2,   2248.3,2, -999.000,9, -999.000,-999.0000,9,-999.0000,  -999.00,9,  -999.00, -999.000,9, -999.000
  06AQ19960317,  S04a,    28,  1,     11,     14,2,19960403,   0,-58.4250,   5.8317, 5115,    151.3,   0.0344,  34.6031,2,  34.6018,2,    213.0,2,   104.97,2,    34.04,2,  -999.00,9,     2.31,2,    1.599,2,    0.790,2,    0.112,2,    2.227,2,   2262.9,2, -999.000,9, -999.000,-999.0000,9,-999.0000,  -999.00,9,  -999.00, -999.000,9, -999.000
  06AQ19960317,  S04a,    28,  1,     10,     15,2,19960403,   0,-58.4250,   5.8317, 5115,    200.9,   0.5063,  34.6777,2,-999.0000,9,   -999.0,9,   115.49,2,    34.85,2,  -999.00,9,     2.37,2, -999.000,9, -999.000,9, -999.000,9, -999.000,9,   -999.0,9, -999.000,9, -999.000,-999.0000,9,-999.0000,  -999.00,9,  -999.00, -999.000,9, -999.000
  06AQ19960317,  S04a,    28,  1,      7,     18,2,19960403,   0,-58.4250,   5.8317, 5115,    201.7,   0.5300,  34.6811,2,-999.0000,9,   -999.0,9,   114.97,2,    34.87,2,  -999.00,9,     2.36,2, -999.000,9, -999.000,9, -999.000,9, -999.000,9,   -999.0,9, -999.000,9, -999.000,-999.0000,9,-999.0000,  -999.00,9,  -999.00, -999.000,9, -999.000
  06AQ19960317,  S04a,    28,  1,      8,     17,2,19960403,   0,-58.4250,   5.8317, 5115,    201.8,   0.5311,  34.6805,2,-999.0000,9,   -999.0,9,   114.82,2,    34.77,2,  -999.00,9,     2.36,2, -999.000,9, -999.000,9, -999.000,9, -999.000,9,   -999.0,9, -999.000,9, -999.000,-999.0000,9,-999.0000,  -999.00,9,  -999.00, -999.000,9, -999.000
  06AQ19960317,  S04a,    28,  1,      9,     16,2,19960403,   0,-58.4250,   5.8317, 5115,    202.0,   0.5236,  34.6794,2,  34.6798,2,    186.7,2,   115.14,2,    34.80,2,  -999.00,9,     2.36,2,    0.431,2,    0.195,2,    0.013,2,    0.636,2,   2270.3,2, -999.000,9, -999.000,-999.0000,9,-999.0000,  -999.00,9,  -999.00, -999.000,9, -999.000
  06AQ19960317,  S04a,    28,  1,      6,     19,2,19960403,   0,-58.4250,   5.8317, 5115,    251.5,   0.5153,  34.6853,2,  34.6841,2,    186.9,2,   117.04,2,    34.88,2,  -999.00,9,     2.36,2,    0.324,2,    0.146,2,    0.010,2,    0.527,2,   2271.0,2, -999.000,9, -999.000,-999.0000,9,-999.0000,  -999.00,9,  -999.00, -999.000,9, -999.000
  06AQ19960317,  S04a,    28,  1,      5,     20,2,19960403,   0,-58.4250,   5.8317, 5115,    300.7,   0.4636,  34.6854,2,  34.6830,2,    187.3,2,   116.27,2,    34.84,2,  -999.00,9,     2.37,2,    0.266,2,    0.116,2,    0.007,2,    0.477,2,   2271.5,2, -999.000,9, -999.000,-999.0000,9,-999.0000,  -999.00,9,  -999.00, -999.000,9, -999.000
  06AQ19960317,  S04a,    28,  1,      4,     21,2,19960403,   0,-58.4250,   5.8317, 5115,    352.4,   0.4179,  34.6854,2,  34.6835,2,    189.0,2,   120.04,2,    34.92,2,  -999.00,9,     2.39,2, -999.000,9, -999.000,9, -999.000,9, -999.000,9,   2269.2,2, -999.000,9, -999.000,-999.0000,9,-999.0000,  -999.00,9,  -999.00, -999.000,9, -999.000
  06AQ19960317,  S04a,    28,  1,      3,     22,2,19960403,   0,-58.4250,   5.8317, 5115,    400.0,   0.3841,  34.6855,2,  34.6823,2,    189.4,2,   121.93,2,    34.92,2,  -999.00,9,     2.39,2,    0.193,2,    0.087,2,    0.006,2,    0.410,2,   2270.6,2, -999.000,9, -999.000,-999.0000,9,-999.0000,  -999.00,9,  -999.00, -999.000,9, -999.000
  06AQ19960317,  S04a,    28,  1,      2,     23,2,19960403,   0,-58.4250,   5.8317, 5115,    451.0,   0.3541,  34.6851,2,  34.6825,2,    190.4,2,   123.17,2,    34.86,2,  -999.00,9,     2.37,2,    0.174,2,    0.078,2,    0.006,2,    0.384,2,   2268.1,2, -999.000,9, -999.000,-999.0000,9,-999.0000,  -999.00,9,  -999.00, -999.000,9, -999.000
  06AQ19960317,  S04a,    28,  1,      1,     24,2,19960403,   0,-58.4250,   5.8317, 5115,    507.1,   0.3140,  34.6846,2,  34.6847,2,    190.9,2,   123.74,2,    34.68,2,  -999.00,9,     2.37,2,    0.160,4,    0.071,2,    0.004,2,    0.390,4,   2270.9,2, -999.000,9, -999.000,-999.0000,9,-999.0000,  -999.00,9,  -999.00, -999.000,9, -999.000
  06AQ19960317,  S04a,    28,  3,     24,      1,2,19960403,   0,-58.4250,   5.8317, 5115,    500.3,   0.3161,  34.6819,2,  34.6798,2,    191.8,2,   123.63,2,    34.75,2,  -999.00,9,     2.33,2,    0.166,6,    0.076,6,    0.004,6,    0.375,6,   2270.6,2, -999.000,9, -999.000,-999.0000,9,-999.0000,  -999.00,9,  -999.00, -999.000,9, -999.000
  06AQ19960317,  S04a,    28,  3,     23,      2,2,19960403,   0,-58.4250,   5.8317, 5115,    601.6,   0.2697,  34.6803,2,  34.6793,2,    193.8,2,   125.33,2,    34.77,2,  -999.00,9,     2.35,2,    0.143,2,    0.062,2,    0.003,2,    0.348,2,   2269.2,2, -999.000,9, -999.000,-999.0000,9,-999.0000,  -999.00,9,  -999.00, -999.000,9, -999.000
  06AQ19960317,  S04a,    28,  3,     22,      3,2,19960403,   0,-58.4250,   5.8317, 5115,    802.4,   0.1705,  34.6765,2,-999.0000,9,    199.4,2,   126.66,2,    34.51,2,  -999.00,9,     2.33,2,    0.141,2,    0.061,2,    0.001,2,    0.353,2,   2267.1,2, -999.000,9, -999.000,-999.0000,9,-999.0000,  -999.00,9,  -999.00, -999.000,9, -999.000
  06AQ19960317,  S04a,    28,  3,     21,      4,2,19960403,   0,-58.4250,   5.8317, 5115,   1001.1,   0.0801,  34.6729,2,-999.0000,9,   -999.0,9,   126.43,2,    34.03,2,  -999.00,9,     2.31,2, -999.000,9, -999.000,9, -999.000,9, -999.000,9,   -999.0,9, -999.000,9, -999.000,-999.0000,9,-999.0000,  -999.00,9,  -999.00, -999.000,9, -999.000
  06AQ19960317,  S04a,    28,  3,     20,      5,2,19960403,   0,-58.4250,   5.8317, 5115,   1002.7,   0.0789,  34.6730,2,  34.6726,2,    205.6,2,   127.05,2,    34.20,2,  -999.00,9,     2.32,2,    0.140,2,    0.060,2,    0.004,2,    0.368,2,   2263.3,2, -999.000,9, -999.000,-999.0000,9,-999.0000,  -999.00,9,  -999.00, -999.000,9, -999.000
  06AQ19960317,  S04a,    28,  3,     19,      6,2,19960403,   0,-58.4250,   5.8317, 5115,   1252.6,  -0.0186,  34.6681,2,  34.6686,2,    212.9,2,   126.69,2,    33.90,2,  -999.00,9,     2.30,2,    0.141,2,    0.064,2,    0.001,2,    0.399,2,   2260.8,2, -999.000,9, -999.000,-999.0000,9,-999.0000,  -999.00,9,  -999.00, -999.000,9, -999.000
  06AQ19960317,  S04a,    28,  3,     18,      7,2,19960403,   0,-58.4250,   5.8317, 5115,   1502.5,  -0.1024,  34.6649,2,  34.6648,2,    218.1,2,   126.37,2,    33.72,2,  -999.00,9,     2.30,2,    0.154,2,    0.072,2,    0.003,2,    0.427,2,   2259.7,2, -999.000,9, -999.000,-999.0000,9,-999.0000,  -999.00,9,  -999.00, -999.000,9, -999.000
  06AQ19960317,  S04a,    28,  3,     17,      8,2,19960403,   0,-58.4250,   5.8317, 5115,   1751.9,  -0.1688,  34.6625,2,  34.6630,2,    222.8,2,   126.15,2,    33.51,2,  -999.00,9,     2.30,2,    0.164,2,    0.075,2,    0.002,2,    0.474,2,   2258.3,2, -999.000,9, -999.000,-999.0000,9,-999.0000,  -999.00,9,  -999.00, -999.000,9, -999.000
  06AQ19960317,  S04a,    28,  3,     16,      9,2,19960403,   0,-58.4250,   5.8317, 5115,   2001.3,  -0.2269,  34.6605,2,  34.6614,2,    227.1,2,   125.70,2,    33.49,2,  -999.00,9,     2.29,2,    0.178,2,    0.085,2,    0.003,2,    0.525,2,   2255.6,2, -999.000,9, -999.000,-999.0000,9,-999.0000,  -999.00,9,  -999.00, -999.000,9, -999.000
  06AQ19960317,  S04a,    28,  3,     15,     10,2,19960403,   0,-58.4250,   5.8317, 5115,   2500.4,  -0.3053,  34.6584,2,  34.6575,2,    231.5,2,   124.53,2,    33.20,2,  -999.00,9,     2.28,2,    0.196,2,    0.094,2,    0.006,3,    0.534,2,   2255.3,2, -999.000,9, -999.000,-999.0000,9,-999.0000,  -999.00,9,  -999.00, -999.000,9, -999.000
  06AQ19960317,  S04a,    28,  3,     14,     11,2,19960403,   0,-58.4250,   5.8317, 5115,   2500.8,  -0.3061,  34.6582,2,-999.0000,9,   -999.0,9,   124.94,2,    33.23,2,  -999.00,9,     2.27,2, -999.000,9, -999.000,9, -999.000,9, -999.000,9,   -999.0,9, -999.000,9, -999.000,-999.0000,9,-999.0000,  -999.00,9,  -999.00, -999.000,9, -999.000
  06AQ19960317,  S04a,    28,  3,     13,     12,2,19960403,   0,-58.4250,   5.8317, 5115,   2501.2,  -0.3066,  34.6579,2,-999.0000,9,   -999.0,9,   125.15,2,    33.26,2,  -999.00,9,     2.27,2, -999.000,9, -999.000,9, -999.000,9, -999.000,9,   -999.0,9, -999.000,9, -999.000,-999.0000,9,-999.0000,  -999.00,9,  -999.00, -999.000,9, -999.000
  06AQ19960317,  S04a,    28,  3,     12,     13,2,19960403,   0,-58.4250,   5.8317, 5115,   2999.5,  -0.3651,  34.6559,2,  34.6555,2,    236.0,2,   126.14,2,    33.16,2,  -999.00,9,     2.26,2,    0.214,2,    0.102,2,    0.004,2,    0.600,2,   2251.1,2, -999.000,9, -999.000,-999.0000,9,-999.0000,  -999.00,9,  -999.00, -999.000,9, -999.000
  06AQ19960317,  S04a,    28,  3,     11,     14,2,19960403,   0,-58.4250,   5.8317, 5115,   3500.5,  -0.4272,  34.6536,2,  34.6528,2,    240.1,2,   125.06,2,    33.07,2,  -999.00,9,     2.26,2,    0.265,2,    0.122,3,    0.005,2,    0.678,2,   2250.9,2, -999.000,9, -999.000,-999.0000,9,-999.0000,  -999.00,9,  -999.00, -999.000,9, -999.000
  06AQ19960317,  S04a,    28,  3,     10,     15,2,19960403,   0,-58.4250,   5.8317, 5115,   3998.6,  -0.4982,  34.6481,2,  34.6465,2,    245.4,2,   122.21,2,    32.86,2,  -999.00,9,     2.25,2,    0.535,2,    0.259,2,    0.015,2,    0.977,2,   2246.5,2, -999.000,9, -999.000,-999.0000,9,-999.0000,  -999.00,9,  -999.00, -999.000,9, -999.000
  06AQ19960317,  S04a,    28,  3,      8,     17,2,19960403,   0,-58.4250,   5.8317, 5115,   4497.1,  -0.4955,  34.6468,2,-999.0000,9,   -999.0,9,   117.08,2,    32.87,2,  -999.00,9,     2.24,2, -999.000,9, -999.000,9, -999.000,9, -999.000,9,   -999.0,9, -999.000,9, -999.000,-999.0000,9,-999.0000,  -999.00,9,  -999.00, -999.000,9, -999.000
  06AQ19960317,  S04a,    28,  3,      9,     16,2,19960403,   0,-58.4250,   5.8317, 5115,   4497.5,  -0.4956,  34.6468,2,  34.6441,2,    246.8,2,   117.03,2,    32.83,2,  -999.00,9,     2.24,2,    0.559,2,    0.271,2,    0.013,2,    1.036,2,   2247.0,2, -999.000,9, -999.000,-999.0000,9,-999.0000,  -999.00,9,  -999.00, -999.000,9, -999.000
  06AQ19960317,  S04a,    28,  3,      7,     18,2,19960403,   0,-58.4250,   5.8317, 5115,   4497.7,  -0.4961,  34.6463,2,-999.0000,9,   -999.0,9,   115.84,2,    32.76,2,  -999.00,9,     2.24,2, -999.000,9, -999.000,9, -999.000,9, -999.000,9,   -999.0,9, -999.000,9, -999.000,-999.0000,9,-999.0000,  -999.00,9,  -999.00, -999.000,9, -999.000
  06AQ19960317,  S04a,    28,  3,      6,     19,2,19960403,   0,-58.4250,   5.8317, 5115,   4833.5,  -0.4722,  34.6471,2,-999.0000,9,   -999.0,9,  -999.00,9,  -999.00,9,  -999.00,9,  -999.00,9, -999.000,9, -999.000,9, -999.000,9, -999.000,9,   -999.0,9, -999.000,9, -999.000,-999.0000,9,-999.0000,  -999.00,9,  -999.00, -999.000,9, -999.000
  06AQ19960317,  S04a,    28,  3,      5,     20,2,19960403,   0,-58.4250,   5.8317, 5115,   5086.3,  -0.4477,  34.6469,2,-999.0000,9,    246.6,2,   121.65,2,    32.91,2,  -999.00,9,     2.25,2,    0.495,2,    0.238,2,    0.012,2,    1.003,2,   -999.0,9, -999.000,9, -999.000,-999.0000,9,-999.0000,  -999.00,9,  -999.00, -999.000,9, -999.000
  06AQ19960317,  S04a,    28,  3,      4,     21,2,19960403,   0,-58.4250,   5.8317, 5115,   5086.7,  -0.4481,  34.6466,2,  34.6469,2,   -999.0,9,   120.34,2,    32.86,2,  -999.00,9,     2.24,2, -999.000,9, -999.000,9, -999.000,9, -999.000,9,   -999.0,9, -999.000,9, -999.000,-999.0000,9,-999.0000,  -999.00,9,  -999.00, -999.000,9, -999.000
  06AQ19960317,  S04a,    28,  3,      1,     24,2,19960403,   0,-58.4250,   5.8317, 5115,   5190.2,  -0.4372,  34.6469,2,-999.0000,9,   -999.0,9,   120.90,2,    32.88,2,  -999.00,9,     2.25,2, -999.000,9, -999.000,9, -999.000,9, -999.000,9,   -999.0,9, -999.000,9, -999.000,-999.0000,9,-999.0000,  -999.00,9,  -999.00, -999.000,9, -999.000
  06AQ19960317,  S04a,    28,  3,      2,     23,2,19960403,   0,-58.4250,   5.8317, 5115,   5190.6,  -0.4367,  34.6468,2,-999.0000,9,   -999.0,9,   121.94,2,    32.92,2,  -999.00,9,     2.25,2, -999.000,9, -999.000,9, -999.000,9, -999.000,9,   -999.0,9, -999.000,9, -999.000,-999.0000,9,-999.0000,  -999.00,9,  -999.00, -999.000,9, -999.000
  06AQ19960317,  S04a,    28,  3,      3,     22,2,19960403,   0,-58.4250,   5.8317, 5115,   5190.8,  -0.4374,  34.6470,2,  34.6456,2,    244.9,2,   120.47,2,    32.86,2,  -999.00,9,     2.25,2,    0.469,2,    0.225,2,    0.011,2,    0.994,2,   2247.0,2, -999.000,9, -999.000,-999.0000,9,-999.0000,  -999.00,9,  -999.00, -999.000,9, -999.000