BOTTLE,20150129PRINUNIVRMK
EXPOCODE,SECT_ID,STNNBR,CASTNO,SAMPNO,BTLNBR,BTLNBR_FLAG_W,DATE,TIME,LATITUDE,LONGITUDE,DEPTH,CTDPRS,CTDTMP,CTDSAL,CTDSAL_FLAG_W,SALNTY,SALNTY_FLAG_W,OXYGEN,OXYGEN_FLAG_W,SILCAT,SILCAT_FLAG_W,NITRAT,NITRAT_FLAG_W,NITRIT,NITRIT_FLAG_W,PHSPHT,PHSPHT_FLAG_W,CFC-11,CFC-11_FLAG_W,CFC-12,CFC-12_FLAG_W,CFC113,CFC113_FLAG_W,CCL4,CCL4_FLAG_W,TCARBN,TCARBN_FLAG_W,TRITUM,TRITUM_FLAG_W,TRITER,HELIUM,HELIUM_FLAG_W,HELIER,DELHE3,DELHE3_FLAG_W,DELHER,NEON,NEON_FLAG_W,NEONER
,,,,,,,,,,,METERS,DBAR,ITS-90,PSS-78,,PSS-78,,UMOL/KG,,UMOL/KG,,UMOL/KG,,UMOL/KG,,UMOL/KG,,PMOL/KG,,PMOL/KG,,PMOL/KG,,PMOL/KG,,UMOL/KG,,TU,,TU,NMOL/KG,,NMOL/KG,PERCNT,,PERCNT,NMOL/KG,,NMOL/KG
  06AQ19960317,  S04a,    77,  1,     23,      1,2,19960427,   0,-69.2450, -16.8133, 4737,     20.5,  -1.8531,  34.2515,2,  34.2522,2,   -999.0,9,    58.67,2,    26.85,2,     0.21,2,     1.90,2,    6.279,2,    3.033,2,    0.490,2,    8.067,2,   2197.0,2, -999.000,9, -999.000,   1.7860,2,   0.0050,    -1.21,2,     0.22,    8.072,2,    0.018
  06AQ19960317,  S04a,    77,  1,     22,      2,2,19960427,   0,-69.2450, -16.8133, 4737,     41.3,  -1.8525,  34.2528,2,  34.2527,2,    332.6,2,    58.46,2,    26.83,2,     0.21,2,     1.91,2,    6.214,2,    3.053,2,    0.493,2,    8.054,2,   2197.1,2, -999.000,9, -999.000,-999.0000,9,-999.0000,  -999.00,9,  -999.00, -999.000,9, -999.000
  06AQ19960317,  S04a,    77,  1,     21,      3,2,19960427,   0,-69.2450, -16.8133, 4737,     60.9,  -1.8499,  34.2573,2,  34.2828,2,    321.4,2,    61.05,2,    27.54,2,     0.19,2,     1.97,2, -999.000,9, -999.000,9, -999.000,9, -999.000,9,   2204.8,2, -999.000,9, -999.000,   1.7940,2,   0.0050,    -0.67,2,     0.22,    8.102,2,    0.018
  06AQ19960317,  S04a,    77,  1,     20,      4,2,19960427,   0,-69.2450, -16.8133, 4737,     60.9,  -1.8419,  34.2598,2,  34.2562,2,   -999.0,9,    58.90,2,    26.93,2,     0.20,2,     1.93,2,    5.627,2,    2.719,2,    0.444,2,    7.383,2,   -999.0,9, -999.000,9, -999.000,-999.0000,9,-999.0000,  -999.00,9,  -999.00, -999.000,9, -999.000
  06AQ19960317,  S04a,    77,  1,     19,      5,2,19960427,   0,-69.2450, -16.8133, 4737,     80.5,  -1.2222,  34.4572,2,  34.4459,2,    261.6,2,    75.19,2,    31.22,2,     0.13,2,     2.22,2,    3.646,2,    1.752,2,    0.286,2,    4.603,2,   2234.5,2, -999.000,9, -999.000,-999.0000,9,-999.0000,  -999.00,9,  -999.00, -999.000,9, -999.000
  06AQ19960317,  S04a,    77,  1,     18,      6,2,19960427,   0,-69.2450, -16.8133, 4737,    100.8,  -0.3366,  34.5349,2,  34.5496,2,    224.9,2,    84.83,2,    32.98,2,     0.06,2,     2.28,2,    2.343,2,    1.108,2,    0.183,2,    2.976,2,   2249.1,2, -999.000,9, -999.000,-999.0000,9,-999.0000,  -999.00,9,  -999.00, -999.000,9, -999.000
  06AQ19960317,  S04a,    77,  1,     17,      7,2,19960427,   0,-69.2450, -16.8133, 4737,    149.6,   0.7359,  34.6599,2,  34.6612,2,    191.3,2,    95.05,9,    33.84,9,     0.01,2,     2.33,9,    0.900,2,    0.418,2,    0.063,2,    1.231,2,   2262.0,2, -999.000,9, -999.000,   1.8670,2,   0.0050,     8.43,2,     0.22,    8.127,2,    0.018
  06AQ19960317,  S04a,    77,  1,     16,      8,2,19960427,   0,-69.2450, -16.8133, 4737,    220.6,   0.9818,  34.6921,2,  34.6929,2,    189.3,2,   100.30,2,    33.48,2,     0.00,2,     2.31,2,    0.501,2,    0.231,2,    0.031,2,    0.748,2,   2264.1,2, -999.000,9, -999.000,   1.8730,2,   0.0050,     8.92,2,     0.22,    8.107,2,    0.018
  06AQ19960317,  S04a,    77,  1,     15,      9,2,19960427,   0,-69.2450, -16.8133, 4737,    270.5,   0.9666,  34.6984,2,  34.6987,2,    190.5,2,   102.65,2,    33.45,2,     0.01,2,     2.30,2,    0.428,2,    0.193,2,    0.022,2,    0.643,2,   2263.2,2, -999.000,9, -999.000,   1.8710,2,   0.0050,     9.46,2,     0.22,    8.075,2,    0.018
  06AQ19960317,  S04a,    77,  1,     14,     10,2,19960427,   0,-69.2450, -16.8133, 4737,    320.8,   0.9195,  34.6986,2,  34.7004,2,    192.6,2,   104.74,2,    33.35,2,     0.00,2,     2.30,2,    0.368,2,    0.165,2,    0.019,2,    0.577,2,   2265.2,2, -999.000,9, -999.000,-999.0000,9,-999.0000,  -999.00,9,  -999.00, -999.000,9, -999.000
  06AQ19960317,  S04a,    77,  1,     13,     11,2,19960427,   0,-69.2450, -16.8133, 4737,    401.1,   0.8216,  34.6986,2,  34.6994,2,    194.0,2,   107.71,2,    33.33,2,     0.00,2,     2.29,2,    0.323,2,    0.147,2,    0.016,2,    0.523,2,   2264.2,2, -999.000,9, -999.000,   1.8420,2,   0.0050,     8.59,2,     0.22,    8.046,2,    0.018
  06AQ19960317,  S04a,    77,  1,     12,     12,2,19960427,   0,-69.2450, -16.8133, 4737,    501.5,   0.7139,  34.6955,2,  34.6966,2,    195.4,2,   110.99,2,    33.53,2,     0.00,2,     2.31,2,    0.288,2,    0.131,2,    0.010,2,    0.498,2,   2265.2,2, -999.000,9, -999.000,-999.0000,9,-999.0000,  -999.00,9,  -999.00, -999.000,9, -999.000
  06AQ19960317,  S04a,    77,  1,     11,     13,2,19960427,   0,-69.2450, -16.8133, 4737,    748.0,   0.5023,  34.6892,2,  34.6902,2,   -999.0,9,   117.47,2,    33.93,2,     0.00,2,     2.34,2,    0.212,2,    0.099,2,    0.006,2,    0.430,2,   2266.7,2, -999.000,9, -999.000,   1.8740,2,   0.0050,     9.11,2,     0.22,    8.178,2,    0.018
  06AQ19960317,  S04a,    77,  1,     10,     14,2,19960427,   0,-69.2450, -16.8133, 4737,   1002.1,   0.3564,  34.6826,2,  34.6823,2,    201.4,2,   120.71,2,    34.01,2,     0.00,2,     2.34,2,    0.174,2,    0.084,2,    0.005,2,    0.399,2,   2267.7,2, -999.000,9, -999.000,-999.0000,9,-999.0000,  -999.00,9,  -999.00, -999.000,9, -999.000
  06AQ19960317,  S04a,    77,  1,      9,     15,2,19960427,   0,-69.2450, -16.8133, 4737,   1501.9,   0.1329,  34.6727,2,  34.6745,2,    208.6,2,   124.28,2,    33.92,2,     0.00,2,     2.34,2,    0.152,2,    0.073,2,    0.004,2,    0.418,2,   2264.4,2, -999.000,9, -999.000,   1.9300,3,   0.0050,     8.11,2,     0.22,    8.290,3,    0.018
  06AQ19960317,  S04a,    77,  1,      8,     16,2,19960427,   0,-69.2450, -16.8133, 4737,   2001.3,  -0.0314,  34.6649,2,  34.6674,2,   -999.0,9,   124.80,2,    33.75,2,     0.00,2,     2.33,2,    0.186,2,    0.094,2,    0.006,2,    0.501,2,   2261.1,2, -999.000,9, -999.000,-999.0000,9,-999.0000,  -999.00,9,  -999.00, -999.000,9, -999.000
  06AQ19960317,  S04a,    77,  1,      7,     17,2,19960427,   0,-69.2450, -16.8133, 4737,   2499.9,  -0.1502,  34.6606,2,  34.6618,2,    226.4,2,   123.98,2,    33.48,2,     0.00,2,     2.32,2,    0.287,2,    0.140,2,    0.009,2,    0.630,2,   2258.7,2, -999.000,9, -999.000,   1.8730,6,   0.0050,     6.76,6,     0.22,    8.243,6,    0.018
  06AQ19960317,  S04a,    77,  1,      6,     18,2,19960427,   0,-69.2450, -16.8133, 4737,   3001.0,  -0.2247,  34.6584,2,  34.6595,2,    231.2,2,   123.44,2,    33.33,2,     0.00,2,     2.33,2,    0.320,2,    0.152,2,    0.012,2,    0.701,2,   2256.6,2, -999.000,9, -999.000,-999.0000,9,-999.0000,  -999.00,9,  -999.00, -999.000,9, -999.000
  06AQ19960317,  S04a,    77,  1,      5,     19,2,19960427,   0,-69.2450, -16.8133, 4737,   3499.3,  -0.2758,  34.6565,2,  34.6560,2,    235.9,2,   122.95,2,    33.15,2,     0.00,2,     2.29,2,    0.448,2,    0.210,2,    0.019,2,    0.862,2,   2254.8,2, -999.000,9, -999.000,   1.8930,3,   0.0150,     5.73,3,     0.22,    8.272,3,    0.060
  06AQ19960317,  S04a,    77,  1,      4,     20,2,19960427,   0,-69.2450, -16.8133, 4737,   3999.9,  -0.3055,  34.6551,2,  34.6534,2,    239.2,2,   124.21,2,    33.17,2,     0.00,2,     2.29,2,    0.439,2,    0.207,2,    0.019,2,    0.861,2,   2254.0,2, -999.000,9, -999.000,   1.8850,2,   0.0050,     5.15,2,     0.22,    8.281,2,    0.018
  06AQ19960317,  S04a,    77,  1,      3,     21,2,19960427,   0,-69.2450, -16.8133, 4737,   4299.5,  -0.3171,  34.6544,2,-999.0000,9,    240.0,2,   125.57,2,    33.18,2,     0.00,2,     2.28,2,    0.376,2,    0.179,2,    0.016,2,    0.804,2,   2252.7,2, -999.000,9, -999.000,   1.8780,2,   0.0050,     5.07,2,     0.22,    8.247,2,    0.018
  06AQ19960317,  S04a,    77,  1,      2,     22,2,19960427,   0,-69.2450, -16.8133, 4737,   4707.7,  -0.4105,  34.6495,2,  34.6489,2,    243.7,2,   125.77,2,    33.08,2,     0.00,2,     2.28,2,    0.300,2,    0.149,2,    0.010,2,    0.791,2,   2253.7,2, -999.000,9, -999.000,   1.8830,2,   0.0050,     4.29,2,     0.22,    8.278,2,    0.018
  06AQ19960317,  S04a,    77,  1,      1,     23,2,19960427,   0,-69.2450, -16.8133, 4737,   4758.5,  -0.4414,  34.6485,2,  34.6481,2,    244.1,2,   128.04,2,    33.20,2,     0.00,2,     2.28,2,    0.306,2,    0.154,2,    0.010,2,    0.776,2,   2253.6,2, -999.000,9, -999.000,   1.8580,4,   0.0050,     4.62,2,     0.22,    8.053,4,    0.018
  06AQ19960317,  S04a,    77,  1,     24,     24,2,19960427,   0,-69.2450, -16.8133, 4737,   4812.3,  -0.4477,  34.6476,2,  34.6462,2,    243.8,2,   129.99,2,    33.24,2,     0.00,2,     2.29,2,    0.324,2,    0.164,2,    0.000,2,    0.836,2,   2253.2,2, -999.000,9, -999.000,   1.8850,3,   0.0140,     4.45,3,     0.22,    8.275,3,    0.060
  06AQ19960317,  S04a,    78,  1,     23,      1,2,19960427,   0,-68.8370, -17.9103, 4768,     20.2,  -1.8594,  34.2418,2,  34.2423,2,    334.7,2,    52.03,2,    26.43,2,     0.26,2,     1.82,2, -999.000,9, -999.000,9, -999.000,9, -999.000,9,   2192.4,2, -999.000,9, -999.000,-999.0000,9,-999.0000,  -999.00,9,  -999.00, -999.000,9, -999.000
  06AQ19960317,  S04a,    78,  1,     22,      2,2,19960427,   0,-68.8370, -17.9103, 4768,     40.1,  -1.8577,  34.2466,2,  34.2367,2,    333.7,2,    52.17,2,    26.44,2,     0.26,2,     1.83,2,    6.278,6,    3.166,6,    0.522,6,    8.180,6,   2192.4,2, -999.000,9, -999.000,-999.0000,9,-999.0000,  -999.00,9,  -999.00, -999.000,9, -999.000
  06AQ19960317,  S04a,    78,  1,     21,      3,2,19960427,   0,-68.8370, -17.9103, 4768,     80.3,  -1.2346,  34.4367,2,-999.0000,9,   -999.0,9,    76.25,2,    31.49,2,     0.17,2,     2.21,2,    3.563,2,    1.617,2,    0.257,2,    4.496,2,   -999.0,9, -999.000,9, -999.000,-999.0000,9,-999.0000,  -999.00,9,  -999.00, -999.000,9, -999.000
  06AQ19960317,  S04a,    78,  1,     20,      4,2,19960427,   0,-68.8370, -17.9103, 4768,     80.3,  -1.2240,  34.4414,2,  34.4535,2,    258.8,2,    75.55,2,    31.56,2,     0.18,2,     2.22,2, -999.000,9, -999.000,9, -999.000,9, -999.000,9,   2236.6,2, -999.000,9, -999.000,-999.0000,9,-999.0000,  -999.00,9,  -999.00, -999.000,9, -999.000
  06AQ19960317,  S04a,    78,  1,     19,      5,2,19960427,   0,-68.8370, -17.9103, 4768,    101.2,  -0.1361,  34.5436,2,  34.5712,2,    219.7,2,    85.68,2,    33.06,2,     0.02,2,     2.29,2,    2.053,2,    0.927,2,    0.146,2,    2.691,2,   2250.5,2, -999.000,9, -999.000,-999.0000,9,-999.0000,  -999.00,9,  -999.00, -999.000,9, -999.000
  06AQ19960317,  S04a,    78,  1,     18,      6,2,19960427,   0,-68.8370, -17.9103, 4768,    152.0,   0.8638,  34.6716,2,  34.6719,2,    189.9,2,    95.84,2,    33.67,2,     0.03,2,     2.33,2, -999.000,9, -999.000,9, -999.000,9, -999.000,9,   2261.1,2, -999.000,9, -999.000,-999.0000,9,-999.0000,  -999.00,9,  -999.00, -999.000,9, -999.000
  06AQ19960317,  S04a,    78,  1,     17,      7,2,19960427,   0,-68.8370, -17.9103, 4768,    190.3,   0.9580,  34.6851,2,  34.6877,2,    189.5,2,    98.66,2,    33.54,2,     0.01,2,     2.32,2,    0.553,2,    0.244,2,    0.030,2,    0.816,2,   2261.7,2, -999.000,9, -999.000,-999.0000,9,-999.0000,  -999.00,9,  -999.00, -999.000,9, -999.000
  06AQ19960317,  S04a,    78,  1,     16,      8,2,19960427,   0,-68.8370, -17.9103, 4768,    230.9,   0.9596,  34.6919,2,  34.6940,2,    190.7,2,    99.84,2,    33.59,2,     0.02,2,     2.30,2, -999.000,9, -999.000,9, -999.000,9, -999.000,9,   2260.9,2, -999.000,9, -999.000,-999.0000,9,-999.0000,  -999.00,9,  -999.00, -999.000,9, -999.000
  06AQ19960317,  S04a,    78,  1,     15,      9,2,19960427,   0,-68.8370, -17.9103, 4768,    281.7,   0.9480,  34.6982,2,  34.7008,2,    191.2,2,   103.33,2,    33.36,2,     0.02,2,     2.30,2, -999.000,9, -999.000,9, -999.000,9, -999.000,9,   2261.5,2, -999.000,9, -999.000,-999.0000,9,-999.0000,  -999.00,9,  -999.00, -999.000,9, -999.000
  06AQ19960317,  S04a,    78,  1,     14,     10,2,19960427,   0,-68.8370, -17.9103, 4768,    330.9,   0.8881,  34.6995,2,  34.7018,2,    192.6,2,   105.15,2,    33.31,2,     0.01,2,     2.29,2,    0.356,2,    0.163,2,    0.018,2,    0.570,2,   2263.6,2, -999.000,9, -999.000,-999.0000,9,-999.0000,  -999.00,9,  -999.00, -999.000,9, -999.000
  06AQ19960317,  S04a,    78,  1,     13,     11,2,19960427,   0,-68.8370, -17.9103, 4768,    400.6,   0.8110,  34.6975,2,  34.6995,2,    193.7,2,   108.04,2,    33.55,2,     0.02,2,     2.30,2, -999.000,9, -999.000,9, -999.000,9, -999.000,9,   2263.7,2, -999.000,9, -999.000,-999.0000,9,-999.0000,  -999.00,9,  -999.00, -999.000,9, -999.000
  06AQ19960317,  S04a,    78,  1,     12,     12,2,19960427,   0,-68.8370, -17.9103, 4768,    501.2,   0.6916,  34.6929,2,  34.6955,2,    196.0,2,   110.70,2,    33.58,2,     0.01,2,     2.31,2,    0.287,2,    0.132,2,    0.011,2,    0.511,2,   2266.3,2, -999.000,9, -999.000,-999.0000,9,-999.0000,  -999.00,9,  -999.00, -999.000,9, -999.000
  06AQ19960317,  S04a,    78,  1,     11,     13,2,19960427,   0,-68.8370, -17.9103, 4768,    751.5,   0.4851,  34.6877,2,  34.6892,2,    199.0,2,   117.54,2,    33.83,2,     0.01,2,     2.34,2, -999.000,9, -999.000,9, -999.000,9, -999.000,9,   2267.7,2, -999.000,9, -999.000,-999.0000,9,-999.0000,  -999.00,9,  -999.00, -999.000,9, -999.000
  06AQ19960317,  S04a,    78,  1,     10,     14,2,19960427,   0,-68.8370, -17.9103, 4768,   1001.8,   0.3298,  34.6815,2,  34.6814,2,    201.2,2,   121.30,2,    34.27,2,     0.02,2,     2.35,2,    0.169,2,    0.082,2,    0.006,2,    0.400,2,   2265.7,2, -999.000,9, -999.000,-999.0000,9,-999.0000,  -999.00,9,  -999.00, -999.000,9, -999.000
  06AQ19960317,  S04a,    78,  1,      9,     15,2,19960427,   0,-68.8370, -17.9103, 4768,   1500.4,   0.1051,  34.6720,2,  34.6733,2,    210.3,2,   124.28,2,    34.08,2,     0.00,2,     2.34,2, -999.000,9, -999.000,9, -999.000,9, -999.000,9,   2263.3,2, -999.000,9, -999.000,-999.0000,9,-999.0000,  -999.00,9,  -999.00, -999.000,9, -999.000
  06AQ19960317,  S04a,    78,  1,      8,     16,2,19960427,   0,-68.8370, -17.9103, 4768,   2001.1,  -0.0589,  34.6650,2,  34.6669,2,    219.2,2,   124.18,2,    33.54,2,     0.01,2,     2.32,2,    0.197,2,    0.098,2,    0.008,2,    0.517,2,   2259.0,2, -999.000,9, -999.000,-999.0000,9,-999.0000,  -999.00,9,  -999.00, -999.000,9, -999.000
  06AQ19960317,  S04a,    78,  1,      7,     17,2,19960427,   0,-68.8370, -17.9103, 4768,   2501.2,  -0.1773,  34.6611,2,  34.6614,2,    227.5,2,   124.91,2,    33.71,2,     0.01,2,     2.32,2,    0.280,2,    0.132,2,    0.009,2,    0.639,2,   2258.3,2, -999.000,9, -999.000,-999.0000,9,-999.0000,  -999.00,9,  -999.00, -999.000,9, -999.000
  06AQ19960317,  S04a,    78,  1,      6,     18,2,19960427,   0,-68.8370, -17.9103, 4768,   3000.8,  -0.2468,  34.6577,2,  34.6582,2,    232.0,2,   122.89,2,    33.48,2,     0.02,2,     2.30,2, -999.000,9, -999.000,9, -999.000,9, -999.000,9,   2253.6,2, -999.000,9, -999.000,-999.0000,9,-999.0000,  -999.00,9,  -999.00, -999.000,9, -999.000
  06AQ19960317,  S04a,    78,  1,      5,     19,2,19960427,   0,-68.8370, -17.9103, 4768,   3499.9,  -0.2971,  34.6549,2,  34.6555,2,    235.9,2,   122.81,2,    33.13,2,     0.00,2,     2.29,2,    0.429,2,    0.203,2,    0.016,2,    0.840,2,   2251.7,2, -999.000,9, -999.000,-999.0000,9,-999.0000,  -999.00,9,  -999.00, -999.000,9, -999.000
  06AQ19960317,  S04a,    78,  1,      4,     20,2,19960427,   0,-68.8370, -17.9103, 4768,   4000.0,  -0.3265,  34.6535,2,  34.6532,2,    238.8,2,   124.41,2,    33.01,2,     0.01,2,     2.28,2,    0.415,2,    0.194,2,    0.017,2,    0.836,2,   2252.5,2, -999.000,9, -999.000,-999.0000,9,-999.0000,  -999.00,9,  -999.00, -999.000,9, -999.000
  06AQ19960317,  S04a,    78,  1,      3,     21,2,19960427,   0,-68.8370, -17.9103, 4768,   4299.0,  -0.3370,  34.6530,2,-999.0000,9,    239.8,2,   126.57,2,    33.29,2,     0.01,2,     2.28,2,    0.343,2,    0.166,2,    0.015,2,    0.764,2,   2251.2,2, -999.000,9, -999.000,-999.0000,9,-999.0000,  -999.00,9,  -999.00, -999.000,9, -999.000
  06AQ19960317,  S04a,    78,  1,      2,     22,2,19960427,   0,-68.8370, -17.9103, 4768,   4742.5,  -0.4425,  34.6488,2,  34.6478,2,    244.4,2,   123.16,2,    33.12,2,     0.01,2,     2.28,2,    0.287,2,    0.145,2,    0.009,2,    0.794,2,   2253.2,2, -999.000,9, -999.000,-999.0000,9,-999.0000,  -999.00,9,  -999.00, -999.000,9, -999.000
  06AQ19960317,  S04a,    78,  1,      1,     23,2,19960427,   0,-68.8370, -17.9103, 4768,   4792.3,  -0.4549,  34.6482,2,-999.0000,9,    244.6,2,   125.10,2,    33.06,2,     0.02,2,     2.28,2,    0.312,2,    0.155,2,    0.009,2,    0.830,2,   2251.1,2, -999.000,9, -999.000,-999.0000,9,-999.0000,  -999.00,9,  -999.00, -999.000,9, -999.000
  06AQ19960317,  S04a,    78,  1,     24,     24,2,19960427,   0,-68.8370, -17.9103, 4768,   4843.1,  -0.4558,  34.6477,2,  34.6468,2,    244.3,2,   129.01,2,    33.37,2,     0.01,2,     2.28,2,    0.308,2,    0.153,2,    0.005,2,    0.825,2,   -999.0,9, -999.000,9, -999.000,-999.0000,9,-999.0000,  -999.00,9,  -999.00, -999.000,9, -999.000