BOTTLE,20150129PRINUNIVRMK
EXPOCODE,SECT_ID,STNNBR,CASTNO,SAMPNO,BTLNBR,BTLNBR_FLAG_W,DATE,TIME,LATITUDE,LONGITUDE,DEPTH,CTDPRS,CTDTMP,CTDSAL,CTDSAL_FLAG_W,SALNTY,SALNTY_FLAG_W,OXYGEN,OXYGEN_FLAG_W,SILCAT,SILCAT_FLAG_W,NITRAT,NITRAT_FLAG_W,NITRIT,NITRIT_FLAG_W,PHSPHT,PHSPHT_FLAG_W,CFC-11,CFC-11_FLAG_W,CFC-12,CFC-12_FLAG_W,CFC113,CFC113_FLAG_W,CCL4,CCL4_FLAG_W,TCARBN,TCARBN_FLAG_W,TRITUM,TRITUM_FLAG_W,TRITER,HELIUM,HELIUM_FLAG_W,HELIER,DELHE3,DELHE3_FLAG_W,DELHER,NEON,NEON_FLAG_W,NEONER
,,,,,,,,,,,METERS,DBAR,ITS-90,PSS-78,,PSS-78,,UMOL/KG,,UMOL/KG,,UMOL/KG,,UMOL/KG,,UMOL/KG,,PMOL/KG,,PMOL/KG,,PMOL/KG,,PMOL/KG,,UMOL/KG,,TU,,TU,NMOL/KG,,NMOL/KG,PERCNT,,PERCNT,NMOL/KG,,NMOL/KG
  06AQ19960317,  S04a,    13,  3,     23,      2,2,19960326,   0,-54.0010,  27.3832, 4294,    378.4,   1.6312,  34.6768,2,-999.0000,9,   -999.0,9,  -999.00,9,  -999.00,9,  -999.00,9,  -999.00,9, -999.000,9, -999.000,9, -999.000,9, -999.000,9,   -999.0,9, -999.000,9, -999.000,-999.0000,9,-999.0000,  -999.00,9,  -999.00, -999.000,9, -999.000
  06AQ19960317,  S04a,    13,  3,     24,      1,2,19960326,   0,-54.0010,  27.3832, 4294,    382.2,   1.6297,  34.6778,2,-999.0000,9,   -999.0,9,  -999.00,9,  -999.00,9,  -999.00,9,  -999.00,9, -999.000,9, -999.000,9, -999.000,9, -999.000,9,   -999.0,9, -999.000,9, -999.000,-999.0000,9,-999.0000,  -999.00,9,  -999.00, -999.000,9, -999.000
  06AQ19960317,  S04a,    13,  3,     22,      3,2,19960326,   0,-54.0010,  27.3832, 4294,    753.9,   1.2947,  34.7287,2,-999.0000,9,   -999.0,9,  -999.00,9,  -999.00,9,  -999.00,9,  -999.00,9, -999.000,9, -999.000,9, -999.000,9, -999.000,9,   -999.0,9, -999.000,9, -999.000,-999.0000,9,-999.0000,  -999.00,9,  -999.00, -999.000,9, -999.000
  06AQ19960317,  S04a,    13,  3,     19,      6,2,19960326,   0,-54.0010,  27.3832, 4294,    851.7,   1.1636,  34.7255,2,-999.0000,9,   -999.0,9,  -999.00,9,  -999.00,9,  -999.00,9,  -999.00,9, -999.000,9, -999.000,9, -999.000,9, -999.000,9,   -999.0,9, -999.000,9, -999.000,-999.0000,9,-999.0000,  -999.00,9,  -999.00, -999.000,9, -999.000
  06AQ19960317,  S04a,    13,  3,     20,      5,2,19960326,   0,-54.0010,  27.3832, 4294,    855.8,   1.1620,  34.7259,2,-999.0000,9,   -999.0,9,  -999.00,9,  -999.00,9,  -999.00,9,  -999.00,9, -999.000,9, -999.000,9, -999.000,9, -999.000,9,   -999.0,9, -999.000,9, -999.000,-999.0000,9,-999.0000,  -999.00,9,  -999.00, -999.000,9, -999.000
  06AQ19960317,  S04a,    13,  3,     21,      4,2,19960326,   0,-54.0010,  27.3832, 4294,    856.8,   1.1662,  34.7254,2,-999.0000,9,   -999.0,9,  -999.00,9,  -999.00,9,  -999.00,9,  -999.00,9, -999.000,9, -999.000,9, -999.000,9, -999.000,9,   -999.0,9, -999.000,9, -999.000,-999.0000,9,-999.0000,  -999.00,9,  -999.00, -999.000,9, -999.000
  06AQ19960317,  S04a,    13,  3,     18,      7,2,19960326,   0,-54.0010,  27.3832, 4294,   1004.9,   0.9857,  34.7173,2,-999.0000,9,   -999.0,9,  -999.00,9,  -999.00,9,  -999.00,9,  -999.00,9, -999.000,9, -999.000,9, -999.000,9, -999.000,9,   -999.0,9, -999.000,9, -999.000,-999.0000,9,-999.0000,  -999.00,9,  -999.00, -999.000,9, -999.000
  06AQ19960317,  S04a,    13,  3,     17,      8,2,19960326,   0,-54.0010,  27.3832, 4294,   1250.4,   0.6962,  34.7002,2,-999.0000,9,   -999.0,9,  -999.00,9,  -999.00,9,  -999.00,9,  -999.00,9, -999.000,9, -999.000,9, -999.000,9, -999.000,9,   -999.0,9, -999.000,9, -999.000,-999.0000,9,-999.0000,  -999.00,9,  -999.00, -999.000,9, -999.000
  06AQ19960317,  S04a,    13,  3,     16,      9,2,19960326,   0,-54.0010,  27.3832, 4294,   1498.7,   0.4754,  34.6870,2,-999.0000,9,   -999.0,9,  -999.00,9,  -999.00,9,  -999.00,9,  -999.00,9, -999.000,9, -999.000,9, -999.000,9, -999.000,9,   -999.0,9, -999.000,9, -999.000,-999.0000,9,-999.0000,  -999.00,9,  -999.00, -999.000,9, -999.000
  06AQ19960317,  S04a,    13,  3,     15,     10,2,19960326,   0,-54.0010,  27.3832, 4294,   1753.6,   0.3548,  34.6813,2,-999.0000,9,   -999.0,9,  -999.00,9,  -999.00,9,  -999.00,9,  -999.00,9, -999.000,9, -999.000,9, -999.000,9, -999.000,9,   -999.0,9, -999.000,9, -999.000,-999.0000,9,-999.0000,  -999.00,9,  -999.00, -999.000,9, -999.000
  06AQ19960317,  S04a,    13,  3,     14,     11,2,19960326,   0,-54.0010,  27.3832, 4294,   2001.2,   0.2540,  34.6778,2,-999.0000,9,   -999.0,9,  -999.00,9,  -999.00,9,  -999.00,9,  -999.00,9, -999.000,9, -999.000,9, -999.000,9, -999.000,9,   -999.0,9, -999.000,9, -999.000,-999.0000,9,-999.0000,  -999.00,9,  -999.00, -999.000,9, -999.000
  06AQ19960317,  S04a,    13,  3,     13,     12,2,19960326,   0,-54.0010,  27.3832, 4294,   2502.5,   0.0334,  34.6700,2,-999.0000,9,   -999.0,9,  -999.00,9,  -999.00,9,  -999.00,9,  -999.00,9, -999.000,9, -999.000,9, -999.000,9, -999.000,9,   -999.0,9, -999.000,9, -999.000,-999.0000,9,-999.0000,  -999.00,9,  -999.00, -999.000,9, -999.000
  06AQ19960317,  S04a,    13,  3,     12,     13,2,19960326,   0,-54.0010,  27.3832, 4294,   3003.5,  -0.0393,  34.6654,2,-999.0000,9,   -999.0,9,  -999.00,9,  -999.00,9,  -999.00,9,  -999.00,9, -999.000,9, -999.000,9, -999.000,9, -999.000,9,   -999.0,9, -999.000,9, -999.000,-999.0000,9,-999.0000,  -999.00,9,  -999.00, -999.000,9, -999.000
  06AQ19960317,  S04a,    13,  3,     11,     14,2,19960326,   0,-54.0010,  27.3832, 4294,   3505.7,  -0.1494,  34.6606,2,-999.0000,9,   -999.0,9,  -999.00,9,  -999.00,9,  -999.00,9,  -999.00,9, -999.000,9, -999.000,9, -999.000,9, -999.000,9,   -999.0,9, -999.000,9, -999.000,-999.0000,9,-999.0000,  -999.00,9,  -999.00, -999.000,9, -999.000
  06AQ19960317,  S04a,    13,  3,     10,     15,2,19960326,   0,-54.0010,  27.3832, 4294,   4005.7,  -0.1931,  34.6577,2,-999.0000,9,   -999.0,9,  -999.00,9,  -999.00,9,  -999.00,9,  -999.00,9, -999.000,9, -999.000,9, -999.000,9, -999.000,9,   -999.0,9, -999.000,9, -999.000,-999.0000,9,-999.0000,  -999.00,9,  -999.00, -999.000,9, -999.000
  06AQ19960317,  S04a,    13,  3,      9,     16,2,19960326,   0,-54.0010,  27.3832, 4294,   4298.6,  -0.2116,  34.6558,2,-999.0000,9,   -999.0,9,  -999.00,9,  -999.00,9,  -999.00,9,  -999.00,9, -999.000,9, -999.000,9, -999.000,9, -999.000,9,   -999.0,9, -999.000,9, -999.000,-999.0000,9,-999.0000,  -999.00,9,  -999.00, -999.000,9, -999.000
  06AQ19960317,  S04a,    13,  3,      8,     17,2,19960326,   0,-54.0010,  27.3832, 4294,   4299.0,  -0.2101,  34.6552,2,-999.0000,9,   -999.0,9,  -999.00,9,  -999.00,9,  -999.00,9,  -999.00,9, -999.000,9, -999.000,9, -999.000,9, -999.000,9,   -999.0,9, -999.000,9, -999.000,-999.0000,9,-999.0000,  -999.00,9,  -999.00, -999.000,9, -999.000
  06AQ19960317,  S04a,    13,  3,      7,     18,2,19960326,   0,-54.0010,  27.3832, 4294,   4300.6,  -0.2103,  34.6553,2,-999.0000,9,   -999.0,9,  -999.00,9,  -999.00,9,  -999.00,9,  -999.00,9, -999.000,9, -999.000,9, -999.000,9, -999.000,9,   -999.0,9, -999.000,9, -999.000,-999.0000,9,-999.0000,  -999.00,9,  -999.00, -999.000,9, -999.000
  06AQ19960317,  S04a,    13,  3,      6,     19,2,19960326,   0,-54.0010,  27.3832, 4294,   4354.1,  -0.2136,  34.6562,2,-999.0000,9,   -999.0,9,  -999.00,9,  -999.00,9,  -999.00,9,  -999.00,9, -999.000,9, -999.000,9, -999.000,9, -999.000,9,   -999.0,9, -999.000,9, -999.000,-999.0000,9,-999.0000,  -999.00,9,  -999.00, -999.000,9, -999.000
  06AQ19960317,  S04a,    13,  3,      4,     21,2,19960326,   0,-54.0010,  27.3832, 4294,   4354.3,  -0.2140,  34.6566,2,-999.0000,9,   -999.0,9,  -999.00,9,  -999.00,9,  -999.00,9,  -999.00,9, -999.000,9, -999.000,9, -999.000,9, -999.000,9,   -999.0,9, -999.000,9, -999.000,-999.0000,9,-999.0000,  -999.00,9,  -999.00, -999.000,9, -999.000
  06AQ19960317,  S04a,    13,  3,      5,     20,2,19960326,   0,-54.0010,  27.3832, 4294,   4355.8,  -0.2138,  34.6564,2,-999.0000,9,   -999.0,9,  -999.00,9,  -999.00,9,  -999.00,9,  -999.00,9, -999.000,9, -999.000,9, -999.000,9, -999.000,9,   -999.0,9, -999.000,9, -999.000,-999.0000,9,-999.0000,  -999.00,9,  -999.00, -999.000,9, -999.000
  06AQ19960317,  S04a,    13,  3,      1,     24,2,19960326,   0,-54.0010,  27.3832, 4294,   4396.2,  -0.2150,  34.6558,2,-999.0000,9,   -999.0,9,  -999.00,9,  -999.00,9,  -999.00,9,  -999.00,9, -999.000,9, -999.000,9, -999.000,9, -999.000,9,   -999.0,9, -999.000,9, -999.000,-999.0000,9,-999.0000,  -999.00,9,  -999.00, -999.000,9, -999.000
  06AQ19960317,  S04a,    13,  3,      3,     22,2,19960326,   0,-54.0010,  27.3832, 4294,   4398.2,  -0.2153,  34.6559,2,-999.0000,9,   -999.0,9,  -999.00,9,  -999.00,9,  -999.00,9,  -999.00,9, -999.000,9, -999.000,9, -999.000,9, -999.000,9,   -999.0,9, -999.000,9, -999.000,-999.0000,9,-999.0000,  -999.00,9,  -999.00, -999.000,9, -999.000
  06AQ19960317,  S04a,    13,  3,      2,     23,2,19960326,   0,-54.0010,  27.3832, 4294,   4400.6,  -0.2156,  34.6567,2,-999.0000,9,   -999.0,9,  -999.00,9,  -999.00,9,  -999.00,9,  -999.00,9, -999.000,9, -999.000,9, -999.000,9, -999.000,9,   -999.0,9, -999.000,9, -999.000,-999.0000,9,-999.0000,  -999.00,9,  -999.00, -999.000,9, -999.000
  06AQ19960317,  S04a,    14,  1,     32,      1,2,19960327,   0,-54.0028,  26.5033, 4655,     20.3,   1.9937,  34.0041,2,-999.0000,9,   -999.0,9,    48.76,2,    25.41,2,  -999.00,9,     1.64,2, -999.000,9, -999.000,9, -999.000,9, -999.000,9,   -999.0,9, -999.000,9, -999.000,-999.0000,9,-999.0000,  -999.00,9,  -999.00, -999.000,9, -999.000
  06AQ19960317,  S04a,    14,  1,     31,      2,2,19960327,   0,-54.0028,  26.5033, 4655,     20.3,   1.9939,  34.0040,2,  34.0086,2,   -999.0,9,    48.54,2,    24.61,2,  -999.00,9,     1.66,2,    5.927,6,    2.889,6,    0.530,6,    8.587,6,   2168.1,2, -999.000,9, -999.000,-999.0000,9,-999.0000,  -999.00,9,  -999.00, -999.000,9, -999.000
  06AQ19960317,  S04a,    14,  1,     29,      4,2,19960327,   0,-54.0028,  26.5033, 4655,     39.9,   1.9931,  34.0057,2,  34.0070,2,    325.5,2,    48.57,2,    24.70,2,  -999.00,9,     1.66,2, -999.000,9, -999.000,9, -999.000,9, -999.000,9,   2161.6,2, -999.000,9, -999.000,-999.0000,9,-999.0000,  -999.00,9,  -999.00, -999.000,9, -999.000
  06AQ19960317,  S04a,    14,  1,     30,      3,2,19960327,   0,-54.0028,  26.5033, 4655,     40.1,   1.9936,  34.0053,2,-999.0000,9,   -999.0,9,    48.88,2,    24.55,2,  -999.00,9,     1.66,2,    6.111,2,    2.952,2,    0.521,2,    8.303,2,   -999.0,9, -999.000,9, -999.000,-999.0000,9,-999.0000,  -999.00,9,  -999.00, -999.000,9, -999.000
  06AQ19960317,  S04a,    14,  1,     28,      5,2,19960327,   0,-54.0028,  26.5033, 4655,     61.0,   1.9961,  34.0064,2,-999.0000,9,   -999.0,9,    48.63,2,    24.84,2,  -999.00,9,     1.66,2, -999.000,9, -999.000,9, -999.000,9, -999.000,9,   -999.0,9, -999.000,9, -999.000,-999.0000,9,-999.0000,  -999.00,9,  -999.00, -999.000,9, -999.000
  06AQ19960317,  S04a,    14,  1,     27,      6,2,19960327,   0,-54.0028,  26.5033, 4655,     61.1,   1.9966,  34.0067,2,  34.0080,2,    321.6,2,    48.66,2,    24.76,2,  -999.00,9,     1.67,2,    5.673,2,    2.834,2,    0.538,2,    8.326,2,   2164.8,2, -999.000,9, -999.000,-999.0000,9,-999.0000,  -999.00,9,  -999.00, -999.000,9, -999.000
  06AQ19960317,  S04a,    14,  1,     26,      7,2,19960327,   0,-54.0028,  26.5033, 4655,     80.7,   1.9792,  34.0073,2,-999.0000,9,   -999.0,9,    48.54,2,    24.78,2,  -999.00,9,     1.67,2, -999.000,9, -999.000,9, -999.000,9, -999.000,9,   -999.0,9, -999.000,9, -999.000,-999.0000,9,-999.0000,  -999.00,9,  -999.00, -999.000,9, -999.000
  06AQ19960317,  S04a,    14,  1,     25,      8,2,19960327,   0,-54.0028,  26.5033, 4655,     80.9,   1.9814,  34.0072,2,  34.0084,2,    325.7,2,    48.66,2,    24.64,2,  -999.00,9,     1.66,2,    6.028,2,    2.907,2,    0.500,4,    8.286,2,   2160.2,2, -999.000,9, -999.000,-999.0000,9,-999.0000,  -999.00,9,  -999.00, -999.000,9, -999.000
  06AQ19960317,  S04a,    14,  1,     23,     10,2,19960327,   0,-54.0028,  26.5033, 4655,    100.6,   0.5096,  34.1072,2,  34.1183,2,    325.9,2,    58.73,2,    27.13,2,  -999.00,9,     1.92,2,    5.858,2,    2.884,2,    0.561,2,    8.227,2,   2180.6,2, -999.000,9, -999.000,-999.0000,9,-999.0000,  -999.00,9,  -999.00, -999.000,9, -999.000
  06AQ19960317,  S04a,    14,  1,     24,      9,2,19960327,   0,-54.0028,  26.5033, 4655,    100.7,   0.4965,  34.1117,2,-999.0000,9,   -999.0,9,    57.33,2,    26.75,2,  -999.00,9,     1.92,2, -999.000,9, -999.000,9, -999.000,9, -999.000,9,   -999.0,9, -999.000,9, -999.000,-999.0000,9,-999.0000,  -999.00,9,  -999.00, -999.000,9, -999.000
  06AQ19960317,  S04a,    14,  1,     21,     12,2,19960327,   0,-54.0028,  26.5033, 4655,    131.2,  -0.2649,  34.2892,2,-999.0000,9,    290.0,2,    70.46,2,    30.87,2,  -999.00,9,     2.19,2, -999.000,9, -999.000,9, -999.000,9, -999.000,9,   -999.0,9, -999.000,9, -999.000,-999.0000,9,-999.0000,  -999.00,9,  -999.00, -999.000,9, -999.000
  06AQ19960317,  S04a,    14,  1,     22,     11,2,19960327,   0,-54.0028,  26.5033, 4655,    131.5,  -0.2588,  34.2911,2,  34.2876,2,   -999.0,9,    70.01,2,    30.87,2,  -999.00,9,     2.19,2, -999.000,9, -999.000,9, -999.000,9, -999.000,9,   2214.5,2, -999.000,9, -999.000,-999.0000,9,-999.0000,  -999.00,9,  -999.00, -999.000,9, -999.000
  06AQ19960317,  S04a,    14,  1,     20,     13,2,19960327,   0,-54.0028,  26.5033, 4655,    131.5,  -0.2650,  34.2893,2,-999.0000,9,   -999.0,9,    71.16,2,    31.15,2,  -999.00,9,     2.19,2,    4.854,2,    2.372,2,    0.436,2,    6.558,2,   -999.0,9, -999.000,9, -999.000,-999.0000,9,-999.0000,  -999.00,9,  -999.00, -999.000,9, -999.000
  06AQ19960317,  S04a,    14,  1,     18,     15,2,19960327,   0,-54.0028,  26.5033, 4655,    151.3,  -0.0639,  34.3603,2,-999.0000,9,    258.2,2,    76.16,2,    32.41,2,  -999.00,9,     2.26,2,    3.840,2,    1.883,2,    0.338,2,    5.275,2,   2226.0,2, -999.000,9, -999.000,-999.0000,9,-999.0000,  -999.00,9,  -999.00, -999.000,9, -999.000
  06AQ19960317,  S04a,    14,  1,     19,     14,2,19960327,   0,-54.0028,  26.5033, 4655,    151.7,  -0.0665,  34.3607,2,  34.3662,2,    264.1,2,    74.98,2,    32.25,2,  -999.00,9,     2.23,2, -999.000,9, -999.000,9, -999.000,9, -999.000,9,   2222.6,2, -999.000,9, -999.000,-999.0000,9,-999.0000,  -999.00,9,  -999.00, -999.000,9, -999.000
  06AQ19960317,  S04a,    14,  1,     17,     16,2,19960327,   0,-54.0028,  26.5033, 4655,    201.8,   0.6812,  34.5271,2,-999.0000,9,   -999.0,9,    84.50,2,    34.00,2,  -999.00,9,     2.34,2, -999.000,9, -999.000,9, -999.000,9, -999.000,9,   -999.0,9, -999.000,9, -999.000,-999.0000,9,-999.0000,  -999.00,9,  -999.00, -999.000,9, -999.000
  06AQ19960317,  S04a,    14,  1,     16,     17,2,19960327,   0,-54.0028,  26.5033, 4655,    201.8,   0.6812,-999.0000,9,  34.5358,2,    210.9,2,  -999.00,9,  -999.00,9,  -999.00,9,  -999.00,9,    2.092,2,    0.985,2,    0.157,2,    2.687,2,   2245.8,2, -999.000,9, -999.000,-999.0000,9,-999.0000,  -999.00,9,  -999.00, -999.000,9, -999.000
  06AQ19960317,  S04a,    14,  1,     15,     18,2,19960327,   0,-54.0028,  26.5033, 4655,    309.9,   1.2361,  34.6623,2,  34.6614,2,    187.5,2,    92.80,2,    33.60,2,  -999.00,9,     2.31,2,    0.724,2,    0.334,2,    0.055,2,    0.997,2,   2254.0,2, -999.000,9, -999.000,-999.0000,9,-999.0000,  -999.00,9,  -999.00, -999.000,9, -999.000
  06AQ19960317,  S04a,    14,  1,     14,     19,2,19960327,   0,-54.0028,  26.5033, 4655,    383.4,   1.2176,  34.6782,2,  34.6785,2,    188.5,2,    94.78,2,    33.26,2,  -999.00,9,     2.30,2,    0.586,2,    0.273,2,    0.048,2,    0.827,2,   2256.4,2, -999.000,9, -999.000,-999.0000,9,-999.0000,  -999.00,9,  -999.00, -999.000,9, -999.000
  06AQ19960317,  S04a,    14,  1,     13,     20,2,19960327,   0,-54.0028,  26.5033, 4655,    514.0,   1.1398,  34.6949,2,  34.6970,2,    189.5,2,    98.62,2,    32.80,2,  -999.00,9,     2.28,2, -999.000,9, -999.000,9, -999.000,9, -999.000,9,   -999.0,9, -999.000,9, -999.000,-999.0000,9,-999.0000,  -999.00,9,  -999.00, -999.000,9, -999.000