BOTTLE,20150129PRINUNIVRMK
EXPOCODE,SECT_ID,STNNBR,CASTNO,SAMPNO,BTLNBR,BTLNBR_FLAG_W,DATE,TIME,LATITUDE,LONGITUDE,DEPTH,CTDPRS,CTDTMP,CTDSAL,CTDSAL_FLAG_W,SALNTY,SALNTY_FLAG_W,OXYGEN,OXYGEN_FLAG_W,SILCAT,SILCAT_FLAG_W,NITRAT,NITRAT_FLAG_W,NITRIT,NITRIT_FLAG_W,PHSPHT,PHSPHT_FLAG_W,CFC-11,CFC-11_FLAG_W,CFC-12,CFC-12_FLAG_W,CFC113,CFC113_FLAG_W,CCL4,CCL4_FLAG_W,TCARBN,TCARBN_FLAG_W,TRITUM,TRITUM_FLAG_W,TRITER,HELIUM,HELIUM_FLAG_W,HELIER,DELHE3,DELHE3_FLAG_W,DELHER,NEON,NEON_FLAG_W,NEONER
,,,,,,,,,,,METERS,DBAR,ITS-90,PSS-78,,PSS-78,,UMOL/KG,,UMOL/KG,,UMOL/KG,,UMOL/KG,,UMOL/KG,,PMOL/KG,,PMOL/KG,,PMOL/KG,,PMOL/KG,,UMOL/KG,,TU,,TU,NMOL/KG,,NMOL/KG,PERCNT,,PERCNT,NMOL/KG,,NMOL/KG
  06AQ19960317,  S04a,    38,  4,     24,      1,2,19960413,   0,-57.0188,   0.0067, 3634,    500.8,   0.5358,  34.6773,2,  34.6785,2,    197.5,2,   110.18,2,    33.18,2,  -999.00,9,     2.25,2, -999.000,9, -999.000,9, -999.000,9, -999.000,9,   -999.0,9, -999.000,9, -999.000,-999.0000,9,-999.0000,  -999.00,9,  -999.00, -999.000,9, -999.000
  06AQ19960317,  S04a,    38,  4,     23,      2,2,19960413,   0,-57.0188,   0.0067, 3634,    600.9,   0.5004,  34.6790,2,  34.6803,2,    196.9,2,   112.31,2,    33.39,2,  -999.00,9,     2.27,2,    0.398,2,    0.186,2,    0.020,2,    0.647,2,   2267.0,2,    0.079,2, -999.000,   1.8600,2,   0.0050,     8.87,2,     0.22,    8.068,2,    0.018
  06AQ19960317,  S04a,    38,  4,     22,      3,2,19960413,   0,-57.0188,   0.0067, 3634,    699.4,   0.4690,  34.6807,2,  34.6821,2,    197.2,2,   114.73,2,    33.25,2,  -999.00,9,     2.29,2,    0.331,2,    0.153,2,    0.015,2,    0.575,2,   2265.2,2,    0.050,2, -999.000,   1.8690,2,   0.0050,     8.80,2,     0.22,    8.146,2,    0.018
  06AQ19960317,  S04a,    38,  4,     20,      5,2,19960413,   0,-57.0188,   0.0067, 3634,    801.6,   0.4299,  34.6806,2,  34.6826,2,   -999.0,9,   117.00,2,    33.56,2,  -999.00,9,     2.30,2, -999.000,9, -999.000,9, -999.000,9, -999.000,9,   -999.0,9,    0.127,2, -999.000,   1.8720,2,   0.0050,     8.71,2,     0.22,    8.101,2,    0.018
  06AQ19960317,  S04a,    38,  4,     21,      4,2,19960413,   0,-57.0188,   0.0067, 3634,    802.1,   0.4288,  34.6806,2,  34.6824,2,    198.1,2,   116.78,2,    33.46,2,  -999.00,9,     2.30,2, -999.000,9, -999.000,9, -999.000,9, -999.000,9,   2266.1,2, -999.000,9, -999.000,-999.0000,9,-999.0000,  -999.00,9,  -999.00, -999.000,9, -999.000
  06AQ19960317,  S04a,    38,  4,     19,      6,2,19960413,   0,-57.0188,   0.0067, 3634,   1001.3,   0.3485,  34.6792,2,  34.6806,2,    200.6,2,   119.24,2,    33.57,2,  -999.00,9,     2.30,2,    0.238,2,    0.113,2,    0.013,2,    0.471,2,   2267.2,2,    0.043,2, -999.000,-999.0000,9,-999.0000,  -999.00,9,  -999.00, -999.000,9, -999.000
  06AQ19960317,  S04a,    38,  4,     18,      7,2,19960413,   0,-57.0188,   0.0067, 3634,   1250.6,   0.2296,  34.6760,2,  34.6770,2,    204.8,2,   121.60,2,    33.48,2,  -999.00,9,     2.31,2,    0.219,2,    0.101,2,    0.006,2,    0.431,2,   2265.6,2,    0.051,2, -999.000,   1.8400,2,   0.0050,     8.37,2,     0.22,    8.017,2,    0.018
  06AQ19960317,  S04a,    38,  4,     17,      8,2,19960413,   0,-57.0188,   0.0067, 3634,   1501.5,   0.1345,  34.6723,2,  34.6745,2,    209.8,2,   122.25,2,    33.31,2,  -999.00,9,     2.30,2,    0.224,2,    0.108,2,    0.005,2,    0.453,2,   2262.3,2,    0.014,2, -999.000,   1.8390,3,   0.0140,     8.15,3,     0.22,    8.049,3,    0.058
  06AQ19960317,  S04a,    38,  4,     16,      9,2,19960413,   0,-57.0188,   0.0067, 3634,   1501.6,   0.1345,  34.6726,2,-999.0000,9,   -999.0,9,   122.38,2,    33.27,2,  -999.00,9,     2.30,2, -999.000,9, -999.000,9, -999.000,9, -999.000,9,   -999.0,9, -999.000,9, -999.000,-999.0000,9,-999.0000,  -999.00,9,  -999.00, -999.000,9, -999.000
  06AQ19960317,  S04a,    38,  4,     15,     10,2,19960413,   0,-57.0188,   0.0067, 3634,   1501.6,   0.1344,  34.6722,2,-999.0000,9,   -999.0,9,   122.63,2,    33.25,2,  -999.00,9,     2.30,2, -999.000,9, -999.000,9, -999.000,9, -999.000,9,   -999.0,9, -999.000,9, -999.000,-999.0000,9,-999.0000,  -999.00,9,  -999.00, -999.000,9, -999.000
  06AQ19960317,  S04a,    38,  4,     14,     11,2,19960413,   0,-57.0188,   0.0067, 3634,   1600.0,   0.0962,  34.6707,2,-999.0000,9,    210.7,2,   122.67,2,    33.55,2,  -999.00,9,     2.31,2,    0.230,2,    0.109,2,    0.005,2,    0.467,2,   2261.3,2,    0.033,2, -999.000,   1.8630,2,   0.0050,     7.42,4,     0.22,    8.071,2,    0.018
  06AQ19960317,  S04a,    38,  4,     13,     12,2,19960413,   0,-57.0188,   0.0067, 3634,   1700.6,   0.0609,  34.6699,2,-999.0000,9,    213.1,2,   122.90,2,    33.36,2,  -999.00,9,     2.31,2,    0.216,2,    0.104,2,    0.006,2,    0.440,2,   2262.0,2,    0.025,2, -999.000,   1.8660,2,   0.0050,     7.95,2,     0.22,    8.100,2,    0.018
  06AQ19960317,  S04a,    38,  4,     12,     13,2,19960413,   0,-57.0188,   0.0067, 3634,   1799.6,   0.0216,  34.6681,2,-999.0000,9,    214.7,2,   122.90,2,    33.41,2,  -999.00,9,     2.29,2,    0.214,2,    0.102,2,    0.005,2,    0.462,2,   2260.2,2,    0.034,2, -999.000,   1.8680,2,   0.0050,     7.34,3,     0.22,    8.145,2,    0.018
  06AQ19960317,  S04a,    38,  4,     11,     14,2,19960413,   0,-57.0188,   0.0067, 3634,   2001.1,  -0.0414,  34.6643,2,-999.0000,9,    218.9,2,   123.80,2,    33.27,2,  -999.00,9,     2.30,2,    0.225,2,    0.110,2,    0.004,2,    0.509,2,   2258.8,2,    0.048,2, -999.000,   1.8710,2,   0.0050,     7.34,2,     0.22,    8.188,2,    0.018
  06AQ19960317,  S04a,    38,  4,      8,     17,2,19960413,   0,-57.0188,   0.0067, 3634,   2500.4,  -0.1912,  34.6591,2,-999.0000,9,   -999.0,9,   124.18,2,    32.88,2,  -999.00,9,     2.28,2, -999.000,9, -999.000,9, -999.000,9, -999.000,9,   -999.0,9, -999.000,9, -999.000,-999.0000,9,-999.0000,  -999.00,9,  -999.00, -999.000,9, -999.000
  06AQ19960317,  S04a,    38,  4,      9,     16,2,19960413,   0,-57.0188,   0.0067, 3634,   2500.5,  -0.1912,  34.6592,2,-999.0000,9,   -999.0,9,   123.75,2,    32.98,2,  -999.00,9,     2.28,2, -999.000,9, -999.000,9, -999.000,9, -999.000,9,   -999.0,9, -999.000,9, -999.000,-999.0000,9,-999.0000,  -999.00,9,  -999.00, -999.000,9, -999.000
  06AQ19960317,  S04a,    38,  4,     10,     15,2,19960413,   0,-57.0188,   0.0067, 3634,   2500.7,  -0.1912,  34.6595,2,-999.0000,9,    227.0,2,   123.80,2,    33.10,2,  -999.00,9,     2.28,2,    0.266,2,    0.136,2,    0.007,2,    0.599,2,   2253.7,2,    0.063,2, -999.000,   1.8710,2,   0.0050,     6.96,2,     0.22,    8.163,2,    0.018
  06AQ19960317,  S04a,    38,  4,      7,     18,2,19960413,   0,-57.0188,   0.0067, 3634,   3000.0,  -0.2668,  34.6565,2,-999.0000,9,    232.1,2,   123.75,2,    33.13,2,  -999.00,9,     2.27,2,    0.289,2,    0.141,2,    0.008,2,    0.642,2,   2254.2,2,    0.029,2, -999.000,   1.8820,2,   0.0050,     6.25,2,     0.22,    8.238,2,    0.018
  06AQ19960317,  S04a,    38,  4,      6,     19,2,19960413,   0,-57.0188,   0.0067, 3634,   3559.8,  -0.3268,  34.6538,2,-999.0000,9,    236.8,2,   121.78,2,    32.67,2,  -999.00,9,     2.26,2,    0.391,2,    0.190,2,    0.011,2,    0.798,2,   2253.1,2,    0.028,2, -999.000,   1.8830,2,   0.0050,     5.23,2,     0.22,    8.243,2,    0.018
  06AQ19960317,  S04a,    38,  4,      5,     20,2,19960413,   0,-57.0188,   0.0067, 3634,   3559.9,  -0.3292,  34.6535,2,-999.0000,9,   -999.0,9,   121.31,2,    32.93,2,  -999.00,9,     2.26,2, -999.000,9, -999.000,9, -999.000,9, -999.000,9,   -999.0,9, -999.000,9, -999.000,-999.0000,9,-999.0000,  -999.00,9,  -999.00, -999.000,9, -999.000
  06AQ19960317,  S04a,    38,  4,      4,     21,2,19960413,   0,-57.0188,   0.0067, 3634,   3560.1,  -0.3291,  34.6538,2,-999.0000,9,   -999.0,9,   121.03,2,    32.76,2,  -999.00,9,     2.26,2, -999.000,9, -999.000,9, -999.000,9, -999.000,9,   -999.0,9, -999.000,9, -999.000,-999.0000,9,-999.0000,  -999.00,9,  -999.00, -999.000,9, -999.000
  06AQ19960317,  S04a,    38,  4,      3,     22,2,19960413,   0,-57.0188,   0.0067, 3634,   3656.3,  -0.3265,  34.6537,2,-999.0000,9,    237.0,2,   121.50,2,    32.58,2,  -999.00,9,     2.25,2, -999.000,9, -999.000,9, -999.000,9, -999.000,9,   2250.7,2, -999.000,9, -999.000,   1.8750,2,   0.0050,     5.37,2,     0.22,    8.207,2,    0.018
  06AQ19960317,  S04a,    38,  4,      2,     23,2,19960413,   0,-57.0188,   0.0067, 3634,   3657.0,  -0.3261,  34.6537,2,-999.0000,9,   -999.0,9,   121.31,2,    32.80,2,  -999.00,9,     2.26,2, -999.000,9, -999.000,9, -999.000,9, -999.000,9,   -999.0,9, -999.000,9, -999.000,-999.0000,9,-999.0000,  -999.00,9,  -999.00, -999.000,9, -999.000
  06AQ19960317,  S04a,    38,  4,      1,     24,2,19960413,   0,-57.0188,   0.0067, 3634,   3657.2,  -0.3264,  34.6537,2,-999.0000,9,   -999.0,9,   121.16,2,    32.81,2,  -999.00,9,     2.26,2,    0.388,2,    0.188,2,    0.011,2,    0.811,2,   -999.0,9, -999.000,9, -999.000,-999.0000,9,-999.0000,  -999.00,9,  -999.00, -999.000,9, -999.000
  06AQ19960317,  S04a,    39,  1,     24,      1,2,19960414,   0,-57.5000,   0.0000, 3908,     21.5,   0.1949,  34.0413,2,  34.0450,2,    333.5,2,    67.55,2,    27.11,2,  -999.00,9,     1.85,2,    6.301,2,    3.086,2,    0.514,2,    8.766,2,   2180.2,2, -999.000,9, -999.000,-999.0000,9,-999.0000,  -999.00,9,  -999.00, -999.000,9, -999.000
  06AQ19960317,  S04a,    39,  1,     23,      2,2,19960414,   0,-57.5000,   0.0000, 3908,     41.7,   0.1969,  34.0414,2,  34.0445,2,    333.7,2,    67.64,2,    27.10,2,  -999.00,9,     1.87,2,    6.224,2,    3.064,2,    0.520,2,    8.746,2,   2179.7,2, -999.000,9, -999.000,-999.0000,9,-999.0000,  -999.00,9,  -999.00, -999.000,9, -999.000
  06AQ19960317,  S04a,    39,  1,     22,      3,2,19960414,   0,-57.5000,   0.0000, 3908,     81.2,   0.1951,  34.0415,2,  34.0446,2,    333.0,2,    67.20,2,    27.07,2,  -999.00,9,     1.87,2, -999.000,9, -999.000,9, -999.000,9, -999.000,9,   2184.2,2, -999.000,9, -999.000,-999.0000,9,-999.0000,  -999.00,9,  -999.00, -999.000,9, -999.000
  06AQ19960317,  S04a,    39,  1,     20,      5,2,19960414,   0,-57.5000,   0.0000, 3908,    102.3,  -0.5240,  34.1658,2,  34.2169,2,   -999.0,9,    72.33,2,    28.45,2,  -999.00,9,     2.00,2, -999.000,9, -999.000,9, -999.000,9, -999.000,9,   -999.0,9, -999.000,9, -999.000,-999.0000,9,-999.0000,  -999.00,9,  -999.00, -999.000,9, -999.000
  06AQ19960317,  S04a,    39,  1,     21,      4,2,19960414,   0,-57.5000,   0.0000, 3908,    102.4,  -0.4040,  34.1434,2,  34.2028,2,    308.5,2,    72.89,2,    28.57,2,  -999.00,9,     1.96,2,    5.368,2,    2.606,2,    0.446,2,    7.251,2,   2203.5,2, -999.000,9, -999.000,-999.0000,9,-999.0000,  -999.00,9,  -999.00, -999.000,9, -999.000
  06AQ19960317,  S04a,    39,  1,     19,      6,2,19960414,   0,-57.5000,   0.0000, 3908,    141.9,  -0.9795,  34.5995,2,  34.4120,2,    268.6,2,    82.84,2,    30.95,2,  -999.00,9,     2.15,2, -999.000,9, -999.000,9, -999.000,9, -999.000,9,   2232.4,2, -999.000,9, -999.000,-999.0000,9,-999.0000,  -999.00,9,  -999.00, -999.000,9, -999.000
  06AQ19960317,  S04a,    39,  1,     18,      7,2,19960414,   0,-57.5000,   0.0000, 3908,    150.9,  -0.8532,  34.4491,2,  34.4545,2,    256.1,2,    86.14,2,    31.62,2,  -999.00,9,     2.18,2,    3.496,2,    1.679,2,    0.291,2,    4.578,2,   2239.5,2, -999.000,9, -999.000,-999.0000,9,-999.0000,  -999.00,9,  -999.00, -999.000,9, -999.000
  06AQ19960317,  S04a,    39,  1,     17,      8,2,19960414,   0,-57.5000,   0.0000, 3908,    201.6,  -0.0751,  34.5743,2,  34.5840,2,    216.8,2,    98.99,2,    33.04,2,  -999.00,9,     2.28,2, -999.000,9, -999.000,9, -999.000,9, -999.000,9,   2256.1,2, -999.000,9, -999.000,-999.0000,9,-999.0000,  -999.00,9,  -999.00, -999.000,9, -999.000
  06AQ19960317,  S04a,    39,  1,     16,      9,2,19960414,   0,-57.5000,   0.0000, 3908,    251.6,   0.3453,  34.6416,2,  34.6470,2,    201.4,2,   106.10,2,    33.45,2,  -999.00,9,     2.30,2,    1.001,2,    0.466,2,    0.059,2,    1.283,2,   2265.7,2, -999.000,9, -999.000,-999.0000,9,-999.0000,  -999.00,9,  -999.00, -999.000,9, -999.000
  06AQ19960317,  S04a,    39,  1,     15,     10,2,19960414,   0,-57.5000,   0.0000, 3908,    301.6,   0.4644,  34.6627,2,  34.6656,2,    197.5,2,   108.95,2,    33.58,2,  -999.00,9,     2.31,2, -999.000,9, -999.000,9, -999.000,9, -999.000,9,   2263.5,2, -999.000,9, -999.000,-999.0000,9,-999.0000,  -999.00,9,  -999.00, -999.000,9, -999.000
  06AQ19960317,  S04a,    39,  1,     14,     11,2,19960414,   0,-57.5000,   0.0000, 3908,    351.4,   0.4907,  34.6717,2,  34.6737,2,    198.2,2,   110.26,2,    33.52,2,  -999.00,9,     2.31,2,    0.583,2,    0.277,2,    0.032,2,    0.829,2,   2268.2,2, -999.000,9, -999.000,-999.0000,9,-999.0000,  -999.00,9,  -999.00, -999.000,9, -999.000
  06AQ19960317,  S04a,    39,  1,     13,     12,2,19960414,   0,-57.5000,   0.0000, 3908,    401.7,   0.4894,  34.6762,2,  34.6776,2,    195.8,2,   112.89,2,    33.54,2,  -999.00,9,     2.32,2,    0.493,2,    0.233,2,    0.023,2,    0.747,2,   -999.0,9, -999.000,9, -999.000,-999.0000,9,-999.0000,  -999.00,9,  -999.00, -999.000,9, -999.000
  06AQ19960317,  S04a,    39,  1,     12,     13,2,19960414,   0,-57.5000,   0.0000, 3908,    501.8,   0.4789,  34.6795,2,  34.6820,2,    194.8,2,   115.59,2,    33.83,2,  -999.00,9,     2.33,2,    0.382,2,    0.176,2,    0.017,2,    0.632,2,   2266.5,2, -999.000,9, -999.000,-999.0000,9,-999.0000,  -999.00,9,  -999.00, -999.000,9, -999.000
  06AQ19960317,  S04a,    39,  1,     11,     14,2,19960414,   0,-57.5000,   0.0000, 3908,    590.9,   0.4459,  34.6815,2,  34.6834,2,    193.7,2,   116.86,2,    34.10,2,  -999.00,9,     2.34,2,    0.287,2,    0.134,2,    0.010,2,    0.539,2,   2267.9,2, -999.000,9, -999.000,-999.0000,9,-999.0000,  -999.00,9,  -999.00, -999.000,9, -999.000
  06AQ19960317,  S04a,    39,  1,     10,     15,2,19960414,   0,-57.5000,   0.0000, 3908,    740.6,   0.3893,  34.6815,2,  34.6830,2,    194.4,2,   121.15,2,    34.21,2,  -999.00,9,     2.34,2,    0.192,2,    0.091,2,    0.006,2,    0.420,2,   2267.4,2, -999.000,9, -999.000,-999.0000,9,-999.0000,  -999.00,9,  -999.00, -999.000,9, -999.000
  06AQ19960317,  S04a,    39,  1,      9,     16,2,19960414,   0,-57.5000,   0.0000, 3908,   1001.6,   0.2490,  34.6774,2,  34.6791,2,    200.6,2,   125.00,2,    33.98,2,  -999.00,9,     2.35,2,    0.157,2,    0.075,2,    0.004,2,    0.381,2,   2267.7,2, -999.000,9, -999.000,-999.0000,9,-999.0000,  -999.00,9,  -999.00, -999.000,9, -999.000
  06AQ19960317,  S04a,    39,  1,      8,     17,2,19960414,   0,-57.5000,   0.0000, 3908,   1502.1,   0.0376,  34.6692,2,  34.6704,2,    212.6,2,   125.41,2,    33.67,2,  -999.00,9,     2.32,2, -999.000,9, -999.000,9, -999.000,9, -999.000,9,   2262.6,2, -999.000,9, -999.000,-999.0000,9,-999.0000,  -999.00,9,  -999.00, -999.000,9, -999.000
  06AQ19960317,  S04a,    39,  1,      7,     18,2,19960414,   0,-57.5000,   0.0000, 3908,   2001.9,  -0.1105,  34.6625,2,  34.6653,2,    221.5,2,   125.48,2,    33.34,2,  -999.00,9,     2.31,2,    0.231,2,    0.111,2,    0.007,2,    0.548,2,   2258.3,2, -999.000,9, -999.000,-999.0000,9,-999.0000,  -999.00,9,  -999.00, -999.000,9, -999.000
  06AQ19960317,  S04a,    39,  1,      6,     19,2,19960414,   0,-57.5000,   0.0000, 3908,   2500.5,  -0.2384,  34.6581,2,  34.6591,2,    229.9,2,   125.06,2,    33.13,2,  -999.00,9,     2.28,2,    0.303,2,    0.146,2,    0.009,2,    0.678,2,   2253.7,2, -999.000,9, -999.000,-999.0000,9,-999.0000,  -999.00,9,  -999.00, -999.000,9, -999.000
  06AQ19960317,  S04a,    39,  1,      5,     20,2,19960414,   0,-57.5000,   0.0000, 3908,   3001.5,  -0.2960,  34.6556,2,  34.6555,2,    233.2,2,   125.21,2,    33.07,2,  -999.00,9,     2.29,2, -999.000,9, -999.000,9, -999.000,9, -999.000,9,   2253.3,2, -999.000,9, -999.000,-999.0000,9,-999.0000,  -999.00,9,  -999.00, -999.000,9, -999.000
  06AQ19960317,  S04a,    39,  1,      4,     21,2,19960414,   0,-57.5000,   0.0000, 3908,   3491.7,  -0.3446,  34.6532,2,  34.6529,2,    237.3,2,   122.20,2,    32.81,2,  -999.00,9,     2.27,2,    0.414,2,    0.198,2,    0.015,2,    0.827,2,   2252.4,2, -999.000,9, -999.000,-999.0000,9,-999.0000,  -999.00,9,  -999.00, -999.000,9, -999.000
  06AQ19960317,  S04a,    39,  1,      3,     22,2,19960414,   0,-57.5000,   0.0000, 3908,   3949.1,  -0.3712,  34.6510,2,  34.6522,2,    239.8,2,   121.22,2,    32.74,2,  -999.00,9,     2.26,2,    0.481,2,    0.226,2,    0.017,2,    0.916,2,   2249.4,2, -999.000,9, -999.000,-999.0000,9,-999.0000,  -999.00,9,  -999.00, -999.000,9, -999.000
  06AQ19960317,  S04a,    39,  1,      2,     23,2,19960414,   0,-57.5000,   0.0000, 3908,   3998.3,  -0.3675,  34.6510,2,  34.6501,2,    240.5,2,   121.93,2,    32.74,2,  -999.00,9,     2.26,2,    0.481,2,    0.229,2,    0.017,2,    0.917,2,   2251.1,2, -999.000,9, -999.000,-999.0000,9,-999.0000,  -999.00,9,  -999.00, -999.000,9, -999.000
  06AQ19960317,  S04a,    39,  1,      1,     24,2,19960414,   0,-57.5000,   0.0000, 3908,   4042.7,  -0.3638,  34.6510,2,  34.6497,2,    239.1,2,   121.67,2,    32.82,2,  -999.00,9,     2.27,2,    0.481,2,    0.231,2,    0.017,2,    0.924,2,   2251.8,2, -999.000,9, -999.000,-999.0000,9,-999.0000,  -999.00,9,  -999.00, -999.000,9, -999.000