BOTTLE,20150129PRINUNIVRMK
EXPOCODE,SECT_ID,STNNBR,CASTNO,SAMPNO,BTLNBR,BTLNBR_FLAG_W,DATE,TIME,LATITUDE,LONGITUDE,DEPTH,CTDPRS,CTDTMP,CTDSAL,CTDSAL_FLAG_W,SALNTY,SALNTY_FLAG_W,OXYGEN,OXYGEN_FLAG_W,SILCAT,SILCAT_FLAG_W,NITRAT,NITRAT_FLAG_W,NITRIT,NITRIT_FLAG_W,PHSPHT,PHSPHT_FLAG_W,CFC-11,CFC-11_FLAG_W,CFC-12,CFC-12_FLAG_W,CFC113,CFC113_FLAG_W,CCL4,CCL4_FLAG_W,TCARBN,TCARBN_FLAG_W,TRITUM,TRITUM_FLAG_W,TRITER,HELIUM,HELIUM_FLAG_W,HELIER,DELHE3,DELHE3_FLAG_W,DELHER,NEON,NEON_FLAG_W,NEONER
,,,,,,,,,,,METERS,DBAR,ITS-90,PSS-78,,PSS-78,,UMOL/KG,,UMOL/KG,,UMOL/KG,,UMOL/KG,,UMOL/KG,,PMOL/KG,,PMOL/KG,,PMOL/KG,,PMOL/KG,,UMOL/KG,,TU,,TU,NMOL/KG,,NMOL/KG,PERCNT,,PERCNT,NMOL/KG,,NMOL/KG
  06AQ19960317,  S04a,    56,  2,     24,      1,2,19960419,   0,-66.0267,   0.1883, 3425,     20.9,  -0.6567,  34.1377,2,  34.1406,2,   -999.0,9,    56.59,2,    24.88,2,  -999.00,9,     1.80,2, -999.000,9, -999.000,9, -999.000,9, -999.000,9,   -999.0,9, -999.000,9, -999.000,-999.0000,9,-999.0000,  -999.00,9,  -999.00, -999.000,9, -999.000
  06AQ19960317,  S04a,    56,  2,     23,      2,2,19960419,   0,-66.0267,   0.1883, 3425,     21.1,  -0.6567,  34.1375,2,  34.1397,2,    328.9,2,    56.23,2,    24.66,2,  -999.00,9,     1.82,2, -999.000,9, -999.000,9, -999.000,9, -999.000,9,   2179.9,2, -999.000,9, -999.000,-999.0000,9,-999.0000,  -999.00,9,  -999.00, -999.000,9, -999.000
  06AQ19960317,  S04a,    56,  2,     22,      3,2,19960419,   0,-66.0267,   0.1883, 3425,     21.4,  -0.6561,  34.1369,2,-999.0000,9,   -999.0,9,    55.79,2,    24.76,2,  -999.00,9,     1.82,2,    5.870,2,    2.956,2,    0.497,2,    7.990,2,   -999.0,9,    0.024,2, -999.000,-999.0000,9,-999.0000,  -999.00,9,  -999.00, -999.000,9, -999.000
  06AQ19960317,  S04a,    56,  2,     21,      4,2,19960419,   0,-66.0267,   0.1883, 3425,     41.7,  -0.6599,  34.1404,2,  34.1396,2,    329.1,2,    55.96,2,    24.87,2,  -999.00,9,     1.83,2, -999.000,9, -999.000,9, -999.000,9, -999.000,9,   2180.6,2, -999.000,9, -999.000,-999.0000,9,-999.0000,  -999.00,9,  -999.00, -999.000,9, -999.000
  06AQ19960317,  S04a,    56,  2,     20,      5,2,19960419,   0,-66.0267,   0.1883, 3425,     41.7,  -0.6564,  34.1380,2,-999.0000,9,   -999.0,9,    56.16,2,    24.55,2,  -999.00,9,     1.82,2, -999.000,9, -999.000,9, -999.000,9, -999.000,9,   -999.0,9, -999.000,9, -999.000,-999.0000,9,-999.0000,  -999.00,9,  -999.00, -999.000,9, -999.000
  06AQ19960317,  S04a,    56,  2,     18,      7,2,19960419,   0,-66.0267,   0.1883, 3425,     60.1,  -0.6769,  34.1572,2,-999.0000,9,   -999.0,9,    58.56,2,    25.49,2,  -999.00,9,     1.88,2, -999.000,9, -999.000,9, -999.000,9, -999.000,9,   -999.0,9, -999.000,9, -999.000,-999.0000,9,-999.0000,  -999.00,9,  -999.00, -999.000,9, -999.000
  06AQ19960317,  S04a,    56,  2,     19,      6,2,19960419,   0,-66.0267,   0.1883, 3425,     60.3,  -0.6831,  34.1634,2,  34.1588,2,    326.4,2,    57.13,2,    25.17,2,  -999.00,9,     1.84,2,    5.695,2,    2.893,2,    0.487,2,    7.806,2,   2182.5,2, -999.000,9, -999.000,-999.0000,9,-999.0000,  -999.00,9,  -999.00, -999.000,9, -999.000
  06AQ19960317,  S04a,    56,  2,     15,     10,2,19960419,   0,-66.0267,   0.1883, 3425,     80.2,  -1.4878,  34.4609,2,-999.0000,9,   -999.0,9,    75.42,2,    30.52,2,  -999.00,9,     2.19,2, -999.000,9, -999.000,9, -999.000,9, -999.000,9,   -999.0,9, -999.000,9, -999.000,-999.0000,9,-999.0000,  -999.00,9,  -999.00, -999.000,9, -999.000
  06AQ19960317,  S04a,    56,  2,     16,      9,2,19960419,   0,-66.0267,   0.1883, 3425,     80.9,  -1.5036,  34.4666,2,  34.4648,2,    279.2,2,    76.24,2,    30.33,2,  -999.00,9,     2.19,2,    4.252,2,    2.108,2,    0.332,2,    5.402,2,   2230.3,2,    0.136,2, -999.000,-999.0000,9,-999.0000,  -999.00,9,  -999.00, -999.000,9, -999.000
  06AQ19960317,  S04a,    56,  2,     17,      8,2,19960419,   0,-66.0267,   0.1883, 3425,     81.6,  -1.5060,  34.4685,2,  34.4679,2,   -999.0,9,    76.88,2,    30.54,2,  -999.00,9,     2.19,2, -999.000,9, -999.000,9, -999.000,9, -999.000,9,   -999.0,9, -999.000,9, -999.000,-999.0000,9,-999.0000,  -999.00,9,  -999.00, -999.000,9, -999.000
  06AQ19960317,  S04a,    56,  2,     14,     11,2,19960419,   0,-66.0267,   0.1883, 3425,     81.8,  -1.4765,  34.4586,2,-999.0000,9,   -999.0,9,    75.80,2,    30.32,2,  -999.00,9,     2.19,2, -999.000,9, -999.000,9, -999.000,9, -999.000,9,   -999.0,9, -999.000,9, -999.000,-999.0000,9,-999.0000,  -999.00,9,  -999.00, -999.000,9, -999.000
  06AQ19960317,  S04a,    56,  2,     13,     12,2,19960419,   0,-66.0267,   0.1883, 3425,     99.8,  -1.4069,  34.4965,2,-999.0000,9,   -999.0,9,    78.48,2,    31.11,2,  -999.00,9,     2.19,2, -999.000,9, -999.000,9, -999.000,9, -999.000,9,   -999.0,9, -999.000,9, -999.000,-999.0000,9,-999.0000,  -999.00,9,  -999.00, -999.000,9, -999.000
  06AQ19960317,  S04a,    56,  2,     12,     13,2,19960419,   0,-66.0267,   0.1883, 3425,    100.3,  -1.3870,  34.4969,2,  34.5008,2,    270.8,2,    79.27,2,    31.10,2,  -999.00,9,     2.19,2,    3.761,2,    1.856,2,    0.282,2,    4.885,2,   2232.6,2, -999.000,9, -999.000,-999.0000,9,-999.0000,  -999.00,9,  -999.00, -999.000,9, -999.000
  06AQ19960317,  S04a,    56,  2,     11,     14,2,19960419,   0,-66.0267,   0.1883, 3425,    122.1,  -0.6229,  34.5586,2,  34.5604,2,    243.9,2,    84.83,2,    32.12,2,  -999.00,9,     2.23,2, -999.000,9, -999.000,9, -999.000,9, -999.000,9,   2246.8,2, -999.000,9, -999.000,-999.0000,9,-999.0000,  -999.00,9,  -999.00, -999.000,9, -999.000
  06AQ19960317,  S04a,    56,  2,     10,     15,2,19960419,   0,-66.0267,   0.1883, 3425,    151.6,   0.4232,  34.6492,2,  34.6490,2,    206.6,2,    92.38,2,    32.95,2,  -999.00,9,     2.27,2,    1.351,2,    0.639,2,    0.094,2,    1.807,2,   2255.5,2, -999.000,9, -999.000,-999.0000,9,-999.0000,  -999.00,9,  -999.00, -999.000,9, -999.000
  06AQ19960317,  S04a,    56,  2,      7,     18,2,19960419,   0,-66.0267,   0.1883, 3425,    204.3,   0.6681,  34.6795,2,-999.0000,9,   -999.0,9,   100.58,2,    33.22,2,  -999.00,9,     2.28,2, -999.000,9, -999.000,9, -999.000,9, -999.000,9,   -999.0,9, -999.000,9, -999.000,-999.0000,9,-999.0000,  -999.00,9,  -999.00, -999.000,9, -999.000
  06AQ19960317,  S04a,    56,  2,      8,     17,2,19960419,   0,-66.0267,   0.1883, 3425,    207.3,   0.6632,  34.6802,2,  34.6808,2,    199.6,2,   100.90,2,    33.24,2,  -999.00,9,     2.29,2,    0.765,2,    0.357,2,    0.041,2,    1.114,2,   2258.9,2,    0.154,2, -999.000,-999.0000,9,-999.0000,  -999.00,9,  -999.00, -999.000,9, -999.000
  06AQ19960317,  S04a,    56,  2,      6,     19,2,19960419,   0,-66.0267,   0.1883, 3425,    208.0,   0.6906,  34.6834,2,-999.0000,9,   -999.0,9,   100.74,2,    33.16,2,  -999.00,9,     2.27,2, -999.000,9, -999.000,9, -999.000,9, -999.000,9,   -999.0,9, -999.000,9, -999.000,-999.0000,9,-999.0000,  -999.00,9,  -999.00, -999.000,9, -999.000
  06AQ19960317,  S04a,    56,  2,      9,     16,2,19960419,   0,-66.0267,   0.1883, 3425,    211.6,   0.6914,  34.6831,2,-999.0000,9,   -999.0,9,   100.60,2,    33.04,2,  -999.00,9,     2.30,2, -999.000,9, -999.000,9, -999.000,9, -999.000,9,   -999.0,9, -999.000,9, -999.000,-999.0000,9,-999.0000,  -999.00,9,  -999.00, -999.000,9, -999.000
  06AQ19960317,  S04a,    56,  2,      5,     20,2,19960419,   0,-66.0267,   0.1883, 3425,    250.3,   0.6486,  34.6835,2,  34.6827,2,    199.4,2,   101.98,2,    33.07,2,  -999.00,9,     2.27,2,    0.727,2,    0.340,2,    0.045,2,    1.059,2,   2257.1,2, -999.000,9, -999.000,-999.0000,9,-999.0000,  -999.00,9,  -999.00, -999.000,9, -999.000
  06AQ19960317,  S04a,    56,  2,      4,     21,2,19960419,   0,-66.0267,   0.1883, 3425,    299.2,   0.6531,  34.6866,2,  34.6873,2,    200.4,2,   103.43,2,    33.55,2,  -999.00,9,     2.27,2, -999.000,9, -999.000,9, -999.000,9, -999.000,9,   2262.6,2, -999.000,9, -999.000,-999.0000,9,-999.0000,  -999.00,9,  -999.00, -999.000,9, -999.000
  06AQ19960317,  S04a,    56,  2,      3,     22,2,19960419,   0,-66.0267,   0.1883, 3425,    353.0,   0.6795,  34.6921,2,  34.6916,2,    198.3,2,   106.16,2,    33.22,2,  -999.00,9,     2.26,2, -999.000,9, -999.000,9, -999.000,9, -999.000,9,   2262.8,2, -999.000,9, -999.000,-999.0000,9,-999.0000,  -999.00,9,  -999.00, -999.000,9, -999.000
  06AQ19960317,  S04a,    56,  2,      2,     23,2,19960419,   0,-66.0267,   0.1883, 3425,    400.9,   0.6805,  34.6942,2,  34.6935,2,    198.2,2,   107.86,2,    33.28,2,  -999.00,9,     2.27,2,    0.428,2,    0.200,2,    0.022,2,    0.693,2,   2261.8,2,    0.049,2, -999.000,-999.0000,9,-999.0000,  -999.00,9,  -999.00, -999.000,9, -999.000
  06AQ19960317,  S04a,    56,  2,      1,     24,2,19960419,   0,-66.0267,   0.1883, 3425,    509.7,   0.6053,  34.6919,2,-999.0000,9,    199.9,2,   110.13,2,    33.64,2,  -999.00,9,     2.28,2, -999.000,9, -999.000,9, -999.000,9, -999.000,9,   2262.5,2, -999.000,9, -999.000,-999.0000,9,-999.0000,  -999.00,9,  -999.00, -999.000,9, -999.000
  06AQ19960317,  S04a,    56,  4,     24,      1,2,19960419,   0,-66.0267,   0.1883, 3425,    503.1,   0.6179,  34.6914,2,  34.6929,2,    198.9,2,   111.12,2,    33.16,2,  -999.00,9,     2.23,2, -999.000,9, -999.000,9, -999.000,9, -999.000,9,   2261.3,2, -999.000,9, -999.000,-999.0000,9,-999.0000,  -999.00,9,  -999.00, -999.000,9, -999.000
  06AQ19960317,  S04a,    56,  4,     23,      2,2,19960419,   0,-66.0267,   0.1883, 3425,    750.3,   0.4999,  34.6904,2,  34.6905,2,    199.2,2,   119.28,2,    33.40,2,  -999.00,9,     2.28,2,    0.218,2,    0.101,2,    0.009,2,    0.433,2,   2263.2,2, -999.000,9, -999.000,-999.0000,9,-999.0000,  -999.00,9,  -999.00, -999.000,9, -999.000
  06AQ19960317,  S04a,    56,  4,     20,      5,2,19960419,   0,-66.0267,   0.1883, 3425,   1000.1,   0.3579,  34.6838,2,-999.0000,9,   -999.0,9,   120.48,2,    33.66,2,  -999.00,9,     2.32,2, -999.000,9, -999.000,9, -999.000,9, -999.000,9,   -999.0,9, -999.000,9, -999.000,-999.0000,9,-999.0000,  -999.00,9,  -999.00, -999.000,9, -999.000
  06AQ19960317,  S04a,    56,  4,     21,      4,2,19960419,   0,-66.0267,   0.1883, 3425,   1001.4,   0.3582,  34.6838,2,-999.0000,9,   -999.0,9,   120.88,2,    33.41,2,  -999.00,9,     2.31,2, -999.000,9, -999.000,9, -999.000,9, -999.000,9,   -999.0,9, -999.000,9, -999.000,-999.0000,9,-999.0000,  -999.00,9,  -999.00, -999.000,9, -999.000
  06AQ19960317,  S04a,    56,  4,     22,      3,2,19960419,   0,-66.0267,   0.1883, 3425,   1003.1,   0.3583,  34.6838,2,  34.6832,2,    202.0,2,   121.01,2,    33.63,2,  -999.00,9,     2.31,2,    0.193,2,    0.091,2,    0.008,2,    0.426,2,   2265.9,2,    0.156,2, -999.000,-999.0000,9,-999.0000,  -999.00,9,  -999.00, -999.000,9, -999.000
  06AQ19960317,  S04a,    56,  4,     19,      6,2,19960419,   0,-66.0267,   0.1883, 3425,   1251.9,   0.2343,  34.6782,2,  34.6777,2,    205.6,2,   124.35,2,    33.76,2,  -999.00,9,     2.32,2,    0.172,2,    0.078,2,    0.007,2,    0.417,2,   2265.7,2, -999.000,9, -999.000,-999.0000,9,-999.0000,  -999.00,9,  -999.00, -999.000,9, -999.000
  06AQ19960317,  S04a,    56,  4,     18,      7,2,19960419,   0,-66.0267,   0.1883, 3425,   1502.9,   0.1270,  34.6741,2,  34.6739,2,    209.7,2,   123.72,2,    33.64,2,  -999.00,9,     2.32,2,    0.177,2,    0.085,2,    0.007,2,    0.432,2,   2263.9,2,    0.020,2, -999.000,-999.0000,9,-999.0000,  -999.00,9,  -999.00, -999.000,9, -999.000
  06AQ19960317,  S04a,    56,  4,     17,      8,2,19960419,   0,-66.0267,   0.1883, 3425,   1751.0,   0.0479,  34.6716,2,  34.6706,2,    213.4,2,   125.21,2,    33.42,2,  -999.00,9,     2.32,2,    0.182,2,    0.094,2,    0.006,2,    0.463,2,   2263.3,2, -999.000,9, -999.000,-999.0000,9,-999.0000,  -999.00,9,  -999.00, -999.000,9, -999.000
  06AQ19960317,  S04a,    56,  4,     16,      9,2,19960419,   0,-66.0267,   0.1883, 3425,   1998.7,  -0.0285,  34.6672,2,  34.6677,2,    217.9,2,   124.80,2,    33.36,2,  -999.00,9,     2.30,2,    0.208,2,    0.096,2,    0.006,2,    0.506,2,   2261.3,2,    0.017,2, -999.000,-999.0000,9,-999.0000,  -999.00,9,  -999.00, -999.000,9, -999.000
  06AQ19960317,  S04a,    56,  4,     12,     13,2,19960419,   0,-66.0267,   0.1883, 3425,   2502.3,  -0.1418,  34.6632,2,-999.0000,9,   -999.0,9,   124.73,2,    33.44,2,  -999.00,9,     2.27,2, -999.000,9, -999.000,9, -999.000,9, -999.000,9,   -999.0,9, -999.000,9, -999.000,-999.0000,9,-999.0000,  -999.00,9,  -999.00, -999.000,9, -999.000
  06AQ19960317,  S04a,    56,  4,     13,     12,2,19960419,   0,-66.0267,   0.1883, 3425,   2505.4,  -0.1423,  34.6642,2,-999.0000,9,   -999.0,9,   125.00,2,    33.22,2,  -999.00,9,     2.28,2, -999.000,9, -999.000,9, -999.000,9, -999.000,9,   -999.0,9, -999.000,9, -999.000,-999.0000,9,-999.0000,  -999.00,9,  -999.00, -999.000,9, -999.000
  06AQ19960317,  S04a,    56,  4,     14,     11,2,19960419,   0,-66.0267,   0.1883, 3425,   2507.6,  -0.1421,  34.6634,2,  34.6641,2,    225.2,2,   124.83,2,    33.26,2,  -999.00,9,     2.30,2, -999.000,9, -999.000,9, -999.000,9, -999.000,9,   2259.5,2, -999.000,9, -999.000,-999.0000,9,-999.0000,  -999.00,9,  -999.00, -999.000,9, -999.000
  06AQ19960317,  S04a,    56,  4,     15,     10,2,19960419,   0,-66.0267,   0.1883, 3425,   2508.8,  -0.1428,  34.6626,2,  34.6631,2,   -999.0,9,   126.15,2,    33.32,2,  -999.00,9,     2.29,2,    0.299,2,    0.144,2,    0.011,2,    0.643,2,   -999.0,9,    0.057,2, -999.000,-999.0000,9,-999.0000,  -999.00,9,  -999.00, -999.000,9, -999.000
  06AQ19960317,  S04a,    56,  4,     11,     14,2,19960419,   0,-66.0267,   0.1883, 3425,   2999.7,  -0.2227,  34.6607,2,  34.6604,2,    230.5,2,   125.80,2,    33.21,2,  -999.00,9,     2.28,2,    0.403,2,    0.193,2,    0.014,2,    0.794,2,   2257.6,2,    0.017,2, -999.000,   1.8810,2,   0.0050,     5.93,2,     0.22,    8.186,2,    0.018
  06AQ19960317,  S04a,    56,  4,     10,     15,2,19960419,   0,-66.0267,   0.1883, 3425,   3200.2,  -0.2418,  34.6596,2,  34.6592,2,    232.7,2,   125.11,2,    33.10,2,  -999.00,9,     2.28,2,    0.438,2,    0.203,2,    0.016,2,    0.845,2,   2256.1,2,    0.060,2, -999.000,   1.8810,2,   0.0050,     5.76,2,     0.22,    8.213,2,    0.018
  06AQ19960317,  S04a,    56,  4,      9,     16,2,19960419,   0,-66.0267,   0.1883, 3425,   3374.3,  -0.2581,  34.6585,2,-999.0000,9,   -999.0,9,   126.67,2,    32.81,2,  -999.00,9,     2.28,2, -999.000,9, -999.000,9, -999.000,9, -999.000,9,   -999.0,9, -999.000,9, -999.000,-999.0000,9,-999.0000,  -999.00,9,  -999.00, -999.000,9, -999.000
  06AQ19960317,  S04a,    56,  4,      8,     17,2,19960419,   0,-66.0267,   0.1883, 3425,   3374.7,  -0.2589,  34.6585,2,  34.6574,2,    233.2,2,   126.12,2,    33.12,2,  -999.00,9,     2.28,2,    0.481,2,    0.224,2,    0.016,2,    0.893,2,   2256.4,2, -999.000,9, -999.000,   1.8720,2,   0.0050,     5.65,2,     0.22,    8.212,2,    0.018
  06AQ19960317,  S04a,    56,  4,      7,     18,2,19960419,   0,-66.0267,   0.1883, 3425,   3376.2,  -0.2603,  34.6589,2,-999.0000,9,   -999.0,9,   127.04,2,    33.07,2,  -999.00,9,     2.28,2, -999.000,9, -999.000,9, -999.000,9, -999.000,9,   -999.0,9, -999.000,9, -999.000,-999.0000,9,-999.0000,  -999.00,9,  -999.00, -999.000,9, -999.000
  06AQ19960317,  S04a,    56,  4,      6,     19,2,19960419,   0,-66.0267,   0.1883, 3425,   3377.6,  -0.2604,  34.6584,2,-999.0000,9,   -999.0,9,   126.85,2,    33.05,2,  -999.00,9,     2.28,2, -999.000,9, -999.000,9, -999.000,9, -999.000,9,   -999.0,9, -999.000,9, -999.000,-999.0000,9,-999.0000,  -999.00,9,  -999.00, -999.000,9, -999.000
  06AQ19960317,  S04a,    56,  4,      5,     20,2,19960419,   0,-66.0267,   0.1883, 3425,   3427.0,  -0.2743,  34.6575,2,  34.6567,2,    234.2,2,   127.98,2,    33.02,2,  -999.00,9,     2.29,2, -999.000,9, -999.000,9, -999.000,9, -999.000,9,   2257.6,2,    0.060,2, -999.000,   1.8590,2,   0.0050,     5.68,2,     0.22,    8.199,2,    0.018
  06AQ19960317,  S04a,    56,  4,      4,     21,2,19960419,   0,-66.0267,   0.1883, 3425,   3476.8,  -0.2889,  34.6573,2,-999.0000,9,   -999.0,9,   127.50,2,    32.85,2,  -999.00,9,     2.27,2, -999.000,9, -999.000,9, -999.000,9, -999.000,9,   -999.0,9, -999.000,9, -999.000,-999.0000,9,-999.0000,  -999.00,9,  -999.00, -999.000,9, -999.000
  06AQ19960317,  S04a,    56,  4,      2,     23,2,19960419,   0,-66.0267,   0.1883, 3425,   3476.9,  -0.2898,  34.6570,2,-999.0000,9,   -999.0,9,   129.41,2,    33.07,2,  -999.00,9,     2.28,2, -999.000,9, -999.000,9, -999.000,9, -999.000,9,   -999.0,9, -999.000,9, -999.000,-999.0000,9,-999.0000,  -999.00,9,  -999.00, -999.000,9, -999.000
  06AQ19960317,  S04a,    56,  4,      3,     22,2,19960419,   0,-66.0267,   0.1883, 3425,   3477.1,  -0.2899,  34.6575,2,  34.6567,2,    230.2,2,   128.57,2,    33.07,2,  -999.00,9,     2.27,2,    0.491,2,    0.231,2,    0.023,2,    0.890,2,   2258.8,2,    0.057,2, -999.000,   1.8790,2,   0.0050,     5.61,2,     0.22,    8.245,2,    0.018
  06AQ19960317,  S04a,    56,  4,      1,     24,2,19960419,   0,-66.0267,   0.1883, 3425,   3478.0,  -0.2931,  34.6574,2,-999.0000,9,   -999.0,9,   129.70,2,    32.97,2,  -999.00,9,     2.27,2, -999.000,9, -999.000,9, -999.000,9, -999.000,9,   -999.0,9, -999.000,9, -999.000,-999.0000,9,-999.0000,  -999.00,9,  -999.00, -999.000,9, -999.000