BOTTLE,20150129PRINUNIVRMK
EXPOCODE,SECT_ID,STNNBR,CASTNO,SAMPNO,BTLNBR,BTLNBR_FLAG_W,DATE,TIME,LATITUDE,LONGITUDE,DEPTH,CTDPRS,CTDTMP,CTDSAL,CTDSAL_FLAG_W,SALNTY,SALNTY_FLAG_W,OXYGEN,OXYGEN_FLAG_W,SILCAT,SILCAT_FLAG_W,NITRAT,NITRAT_FLAG_W,NITRIT,NITRIT_FLAG_W,PHSPHT,PHSPHT_FLAG_W,CFC-11,CFC-11_FLAG_W,CFC-12,CFC-12_FLAG_W,CFC113,CFC113_FLAG_W,CCL4,CCL4_FLAG_W,TCARBN,TCARBN_FLAG_W,TRITUM,TRITUM_FLAG_W,TRITER,HELIUM,HELIUM_FLAG_W,HELIER,DELHE3,DELHE3_FLAG_W,DELHER,NEON,NEON_FLAG_W,NEONER
,,,,,,,,,,,METERS,DBAR,ITS-90,PSS-78,,PSS-78,,UMOL/KG,,UMOL/KG,,UMOL/KG,,UMOL/KG,,UMOL/KG,,PMOL/KG,,PMOL/KG,,PMOL/KG,,PMOL/KG,,UMOL/KG,,TU,,TU,NMOL/KG,,NMOL/KG,PERCNT,,PERCNT,NMOL/KG,,NMOL/KG
  06AQ19960317,  S04a,    57,  1,     23,      2,2,19960420,   0,-66.5018,  -0.0002, 4516,     17.9,  -1.0106,  33.9926,2,-999.0000,9,   -999.0,9,    52.48,2,    23.98,2,  -999.00,9,     1.74,2, -999.000,9, -999.000,9, -999.000,9, -999.000,9,   -999.0,9, -999.000,9, -999.000,-999.0000,9,-999.0000,  -999.00,9,  -999.00, -999.000,9, -999.000
  06AQ19960317,  S04a,    57,  1,     24,      1,2,19960420,   0,-66.5018,  -0.0002, 4516,     18.3,  -1.0107,  33.9927,2,  33.9932,2,    333.5,2,    52.22,2,    24.08,2,  -999.00,9,     1.75,2,    6.222,2,    3.118,2,    0.513,2,    8.135,2,   2169.8,2, -999.000,9, -999.000,-999.0000,9,-999.0000,  -999.00,9,  -999.00, -999.000,9, -999.000
  06AQ19960317,  S04a,    57,  1,     22,      3,2,19960420,   0,-66.5018,  -0.0002, 4516,     18.4,  -1.0101,  33.9927,2,-999.0000,9,   -999.0,9,    52.21,2,    23.91,2,  -999.00,9,     1.74,2, -999.000,9, -999.000,9, -999.000,9, -999.000,9,   -999.0,9, -999.000,9, -999.000,-999.0000,9,-999.0000,  -999.00,9,  -999.00, -999.000,9, -999.000
  06AQ19960317,  S04a,    57,  1,     20,      5,2,19960420,   0,-66.5018,  -0.0002, 4516,     40.1,  -1.0100,  33.9928,2,-999.0000,9,   -999.0,9,    52.54,2,    24.01,2,  -999.00,9,     1.77,2, -999.000,9, -999.000,9, -999.000,9, -999.000,9,   -999.0,9, -999.000,9, -999.000,-999.0000,9,-999.0000,  -999.00,9,  -999.00, -999.000,9, -999.000
  06AQ19960317,  S04a,    57,  1,     21,      4,2,19960420,   0,-66.5018,  -0.0002, 4516,     40.6,  -1.0099,  33.9923,2,  33.9927,2,    333.2,2,    52.74,2,    24.32,2,  -999.00,9,     1.76,2,    6.113,2,    3.073,2,    0.506,2,    7.947,2,   2172.5,2, -999.000,9, -999.000,-999.0000,9,-999.0000,  -999.00,9,  -999.00, -999.000,9, -999.000
  06AQ19960317,  S04a,    57,  1,     18,      7,2,19960420,   0,-66.5018,  -0.0002, 4516,     60.5,  -1.0087,  33.9935,2,-999.0000,9,   -999.0,9,    52.26,2,    24.04,2,  -999.00,9,     1.78,2, -999.000,9, -999.000,9, -999.000,9, -999.000,9,   -999.0,9, -999.000,9, -999.000,-999.0000,9,-999.0000,  -999.00,9,  -999.00, -999.000,9, -999.000
  06AQ19960317,  S04a,    57,  1,     19,      6,2,19960420,   0,-66.5018,  -0.0002, 4516,     60.7,  -1.0112,  33.9968,2,  33.9967,2,    332.3,2,    52.20,2,    23.99,2,  -999.00,9,     1.77,2, -999.000,9, -999.000,9, -999.000,9, -999.000,9,   2172.4,2, -999.000,9, -999.000,-999.0000,9,-999.0000,  -999.00,9,  -999.00, -999.000,9, -999.000
  06AQ19960317,  S04a,    57,  1,     16,      9,2,19960420,   0,-66.5018,  -0.0002, 4516,     71.2,  -1.4679,  34.2812,2,-999.0000,9,   -999.0,9,    63.13,2,    28.09,2,  -999.00,9,     2.04,2, -999.000,9, -999.000,9, -999.000,9, -999.000,9,   -999.0,9, -999.000,9, -999.000,-999.0000,9,-999.0000,  -999.00,9,  -999.00, -999.000,9, -999.000
  06AQ19960317,  S04a,    57,  1,     17,      8,2,19960420,   0,-66.5018,  -0.0002, 4516,     71.3,  -1.4591,  34.2724,2,  34.2416,2,    300.9,2,    63.99,2,    28.26,2,  -999.00,9,     2.05,2,    5.034,2,    2.513,2,    0.422,2,    6.545,2,   2207.3,2, -999.000,9, -999.000,-999.0000,9,-999.0000,  -999.00,9,  -999.00, -999.000,9, -999.000
  06AQ19960317,  S04a,    57,  1,     15,     10,2,19960420,   0,-66.5018,  -0.0002, 4516,     71.3,  -1.4483,  34.2676,2,-999.0000,9,   -999.0,9,    64.47,2,    28.42,2,  -999.00,9,     2.06,2, -999.000,9, -999.000,9, -999.000,9, -999.000,9,   -999.0,9, -999.000,9, -999.000,-999.0000,9,-999.0000,  -999.00,9,  -999.00, -999.000,9, -999.000
  06AQ19960317,  S04a,    57,  1,     14,     11,2,19960420,   0,-66.5018,  -0.0002, 4516,     80.7,  -1.1154,  34.3998,2,  34.4443,2,   -999.0,9,    77.43,2,    31.36,2,  -999.00,9,     2.25,2, -999.000,9, -999.000,9, -999.000,9, -999.000,9,   2238.0,2, -999.000,9, -999.000,-999.0000,9,-999.0000,  -999.00,9,  -999.00, -999.000,9, -999.000
  06AQ19960317,  S04a,    57,  1,     12,     13,2,19960420,   0,-66.5018,  -0.0002, 4516,    102.3,   0.0032,  34.5370,2,-999.0000,9,   -999.0,9,    83.83,2,    32.86,2,  -999.00,9,     2.29,2, -999.000,9, -999.000,9, -999.000,9, -999.000,9,   -999.0,9, -999.000,9, -999.000,-999.0000,9,-999.0000,  -999.00,9,  -999.00, -999.000,9, -999.000
  06AQ19960317,  S04a,    57,  1,     13,     12,2,19960420,   0,-66.5018,  -0.0002, 4516,    102.6,   0.1721,  34.5552,2,  34.5496,2,    215.8,2,    85.84,2,    33.13,2,  -999.00,9,     2.29,2,    2.135,2,    1.029,2,    0.168,2,    2.706,2,   2250.9,2, -999.000,9, -999.000,-999.0000,9,-999.0000,  -999.00,9,  -999.00, -999.000,9, -999.000
  06AQ19960317,  S04a,    57,  1,     11,     14,2,19960420,   0,-66.5018,  -0.0002, 4516,    149.0,   1.0980,  34.6642,2,  34.6622,2,    186.4,2,    92.95,2,    33.53,2,  -999.00,9,     2.31,2, -999.000,9, -999.000,9, -999.000,9, -999.000,9,   2257.9,2, -999.000,9, -999.000,-999.0000,9,-999.0000,  -999.00,9,  -999.00, -999.000,9, -999.000
  06AQ19960317,  S04a,    57,  1,      9,     16,2,19960420,   0,-66.5018,  -0.0002, 4516,    200.6,   0.9310,  34.6653,2,-999.0000,9,   -999.0,9,    93.97,2,    33.58,2,  -999.00,9,     2.32,2, -999.000,9, -999.000,9, -999.000,9, -999.000,9,   -999.0,9, -999.000,9, -999.000,-999.0000,9,-999.0000,  -999.00,9,  -999.00, -999.000,9, -999.000
  06AQ19960317,  S04a,    57,  1,     10,     15,2,19960420,   0,-66.5018,  -0.0002, 4516,    201.7,   0.9297,  34.6651,2,  34.6661,2,    189.0,2,    93.52,2,    33.69,2,  -999.00,9,     2.30,2,    0.827,2,    0.401,2,    0.053,2,    1.141,2,   -999.0,9, -999.000,9, -999.000,-999.0000,9,-999.0000,  -999.00,9,  -999.00, -999.000,9, -999.000
  06AQ19960317,  S04a,    57,  1,      7,     18,2,19960420,   0,-66.5018,  -0.0002, 4516,    202.6,   0.9372,  34.6668,2,-999.0000,9,   -999.0,9,    94.04,2,    33.48,2,  -999.00,9,     2.30,2, -999.000,9, -999.000,9, -999.000,9, -999.000,9,   -999.0,9, -999.000,9, -999.000,-999.0000,9,-999.0000,  -999.00,9,  -999.00, -999.000,9, -999.000
  06AQ19960317,  S04a,    57,  1,      8,     17,2,19960420,   0,-66.5018,  -0.0002, 4516,    203.1,   0.9311,  34.6653,2,-999.0000,9,   -999.0,9,    93.97,2,    33.49,2,  -999.00,9,     2.31,2, -999.000,9, -999.000,9, -999.000,9, -999.000,9,   -999.0,9, -999.000,9, -999.000,-999.0000,9,-999.0000,  -999.00,9,  -999.00, -999.000,9, -999.000
  06AQ19960317,  S04a,    57,  1,      6,     19,2,19960420,   0,-66.5018,  -0.0002, 4516,    249.8,   1.1902,  34.6993,2,  34.7029,2,    188.1,2,    96.56,2,    32.91,2,  -999.00,9,     2.27,2,    0.486,2,    0.223,2,    0.024,2,    0.671,2,   2258.1,2, -999.000,9, -999.000,-999.0000,9,-999.0000,  -999.00,9,  -999.00, -999.000,9, -999.000
  06AQ19960317,  S04a,    57,  1,      5,     20,2,19960420,   0,-66.5018,  -0.0002, 4516,    300.5,   1.1644,  34.7061,2,  34.7076,2,    190.0,2,    99.56,2,    32.89,2,  -999.00,9,     2.27,2, -999.000,9, -999.000,9, -999.000,9, -999.000,9,   2258.5,2, -999.000,9, -999.000,-999.0000,9,-999.0000,  -999.00,9,  -999.00, -999.000,9, -999.000
  06AQ19960317,  S04a,    57,  1,      4,     21,2,19960420,   0,-66.5018,  -0.0002, 4516,    341.2,   1.1274,  34.7076,2,  34.7075,2,    191.3,2,    99.60,2,    32.77,2,  -999.00,9,     2.26,2,    0.374,2,    0.171,2,    0.019,2,    0.557,2,   2259.3,2, -999.000,9, -999.000,-999.0000,9,-999.0000,  -999.00,9,  -999.00, -999.000,9, -999.000
  06AQ19960317,  S04a,    57,  1,      3,     22,2,19960420,   0,-66.5018,  -0.0002, 4516,    400.6,   1.0293,  34.7087,2,  34.7071,2,    193.4,2,   102.27,2,    32.68,2,  -999.00,9,     2.26,2,    0.355,2,    0.163,2,    0.019,2,    0.547,2,   2259.8,2, -999.000,9, -999.000,-999.0000,9,-999.0000,  -999.00,9,  -999.00, -999.000,9, -999.000
  06AQ19960317,  S04a,    57,  1,      2,     23,2,19960420,   0,-66.5018,  -0.0002, 4516,    450.8,   0.9784,  34.7060,2,  34.7054,2,    193.3,2,   103.55,2,    32.96,2,  -999.00,9,     2.27,2, -999.000,9, -999.000,9, -999.000,9, -999.000,9,   2260.8,2, -999.000,9, -999.000,-999.0000,9,-999.0000,  -999.00,9,  -999.00, -999.000,9, -999.000
  06AQ19960317,  S04a,    57,  1,      1,     24,2,19960420,   0,-66.5018,  -0.0002, 4516,    502.3,   0.9051,  34.7028,2,  34.7025,2,    195.0,2,   106.41,2,    33.22,2,  -999.00,9,     2.28,2, -999.000,9, -999.000,9, -999.000,9, -999.000,9,   2261.3,2, -999.000,9, -999.000,-999.0000,9,-999.0000,  -999.00,9,  -999.00, -999.000,9, -999.000
  06AQ19960317,  S04a,    57,  4,     24,      1,2,19960420,   0,-66.5018,  -0.0002, 4516,    500.9,   0.9284,  34.7033,2,  34.7048,2,    194.3,2,   105.99,2,    32.90,2,  -999.00,9,     2.21,2,    0.356,6,    0.164,6,    0.018,6,    0.557,6,   2259.7,2, -999.000,9, -999.000,-999.0000,9,-999.0000,  -999.00,9,  -999.00, -999.000,9, -999.000
  06AQ19960317,  S04a,    57,  4,     23,      2,2,19960420,   0,-66.5018,  -0.0002, 4516,    753.6,   0.6645,  34.6970,2,  34.6959,2,    199.1,2,   112.29,2,    33.02,2,  -999.00,9,     2.24,2,    0.275,2,    0.128,2,    0.011,2,    0.475,2,   2259.8,2, -999.000,9, -999.000,-999.0000,9,-999.0000,  -999.00,9,  -999.00, -999.000,9, -999.000
  06AQ19960317,  S04a,    57,  4,     20,      5,2,19960420,   0,-66.5018,  -0.0002, 4516,   1000.1,   0.4757,  34.6889,2,-999.0000,9,   -999.0,9,   118.14,2,    33.46,2,  -999.00,9,     2.27,2, -999.000,9, -999.000,9, -999.000,9, -999.000,9,   -999.0,9, -999.000,9, -999.000,-999.0000,9,-999.0000,  -999.00,9,  -999.00, -999.000,9, -999.000
  06AQ19960317,  S04a,    57,  4,     21,      4,2,19960420,   0,-66.5018,  -0.0002, 4516,   1000.7,   0.4758,  34.6888,2,-999.0000,9,   -999.0,9,   118.78,2,    33.58,2,  -999.00,9,     2.28,2, -999.000,9, -999.000,9, -999.000,9, -999.000,9,   -999.0,9, -999.000,9, -999.000,-999.0000,9,-999.0000,  -999.00,9,  -999.00, -999.000,9, -999.000
  06AQ19960317,  S04a,    57,  4,     22,      3,2,19960420,   0,-66.5018,  -0.0002, 4516,   1001.1,   0.4751,  34.6890,2,  34.6889,2,    202.1,2,   119.47,2,    33.59,2,  -999.00,9,     2.26,2,    0.217,2,    0.101,2,    0.007,2,    0.433,2,   2263.6,2, -999.000,9, -999.000,-999.0000,9,-999.0000,  -999.00,9,  -999.00, -999.000,9, -999.000
  06AQ19960317,  S04a,    57,  4,     19,      6,2,19960420,   0,-66.5018,  -0.0002, 4516,   1250.4,   0.3306,  34.6825,2,  34.6837,2,    203.4,2,   121.66,2,    33.62,2,  -999.00,9,     2.30,2,    0.190,2,    0.091,2,    0.007,2,    0.422,2,   2263.3,2, -999.000,9, -999.000,-999.0000,9,-999.0000,  -999.00,9,  -999.00, -999.000,9, -999.000
  06AQ19960317,  S04a,    57,  4,     18,      7,2,19960420,   0,-66.5018,  -0.0002, 4516,   1502.5,   0.2064,  34.6767,2,  34.6778,2,    206.4,2,   125.45,2,    34.02,2,  -999.00,9,     2.32,2,    0.178,2,    0.081,2,    0.008,2,    0.430,2,   2263.8,2, -999.000,9, -999.000,-999.0000,9,-999.0000,  -999.00,9,  -999.00, -999.000,9, -999.000
  06AQ19960317,  S04a,    57,  4,     17,      8,2,19960420,   0,-66.5018,  -0.0002, 4516,   1752.9,   0.1200,  34.6735,2,  34.6726,2,    211.5,2,   124.74,2,    33.78,2,  -999.00,9,     2.30,2,    0.195,6,    0.090,6,    0.007,6,    0.463,6,   2261.8,2, -999.000,9, -999.000,-999.0000,9,-999.0000,  -999.00,9,  -999.00, -999.000,9, -999.000
  06AQ19960317,  S04a,    57,  4,     16,      9,2,19960420,   0,-66.5018,  -0.0002, 4516,   2001.2,   0.0309,  34.6698,2,  34.6699,2,    215.1,2,   124.88,2,    33.67,2,  -999.00,9,     2.30,2,    0.188,2,    0.087,2,    0.006,2,    0.477,2,   2261.0,2, -999.000,9, -999.000,-999.0000,9,-999.0000,  -999.00,9,  -999.00, -999.000,9, -999.000
  06AQ19960317,  S04a,    57,  4,     14,     11,2,19960420,   0,-66.5018,  -0.0002, 4516,   2500.0,  -0.1024,  34.6642,2,-999.0000,9,   -999.0,9,   126.73,2,    33.55,2,  -999.00,9,     2.31,2, -999.000,9, -999.000,9, -999.000,9, -999.000,9,   -999.0,9, -999.000,9, -999.000,-999.0000,9,-999.0000,  -999.00,9,  -999.00, -999.000,9, -999.000
  06AQ19960317,  S04a,    57,  4,     13,     12,2,19960420,   0,-66.5018,  -0.0002, 4516,   2500.2,  -0.1031,  34.6640,2,-999.0000,9,   -999.0,9,   126.12,2,    33.46,2,  -999.00,9,     2.29,2, -999.000,9, -999.000,9, -999.000,9, -999.000,9,   -999.0,9, -999.000,9, -999.000,-999.0000,9,-999.0000,  -999.00,9,  -999.00, -999.000,9, -999.000
  06AQ19960317,  S04a,    57,  4,     15,     10,2,19960420,   0,-66.5018,  -0.0002, 4516,   2500.3,  -0.1027,  34.6641,2,  34.6639,2,    223.6,2,   126.92,2,    33.57,2,  -999.00,9,     2.30,2,    0.219,2,    0.107,2,    0.006,2,    0.550,2,   2257.9,2, -999.000,9, -999.000,-999.0000,9,-999.0000,  -999.00,9,  -999.00, -999.000,9, -999.000
  06AQ19960317,  S04a,    57,  4,     12,     13,2,19960420,   0,-66.5018,  -0.0002, 4516,   3000.7,  -0.1958,  34.6609,2,  34.6620,2,    230.2,2,   126.13,2,    33.13,2,  -999.00,9,     2.28,2,    0.299,2,    0.146,2,    0.009,2,    0.690,2,   2250.7,2, -999.000,9, -999.000,-999.0000,9,-999.0000,  -999.00,9,  -999.00, -999.000,9, -999.000
  06AQ19960317,  S04a,    57,  4,     11,     14,2,19960420,   0,-66.5018,  -0.0002, 4516,   3498.6,  -0.2445,  34.6585,2,  34.6586,2,    235.6,2,   124.42,2,    32.98,2,  -999.00,9,     2.27,2,    0.524,6,    0.245,6,    0.024,6,    0.943,6,   2250.8,2, -999.000,9, -999.000,-999.0000,9,-999.0000,  -999.00,9,  -999.00, -999.000,9, -999.000
  06AQ19960317,  S04a,    57,  4,     10,     15,2,19960420,   0,-66.5018,  -0.0002, 4516,   3998.0,  -0.2804,  34.6562,2,  34.6557,2,    238.2,2,   125.72,2,    33.04,2,  -999.00,9,     2.26,2,    0.487,2,    0.227,2,    0.023,2,    0.931,2,   2250.8,2, -999.000,9, -999.000,-999.0000,9,-999.0000,  -999.00,9,  -999.00, -999.000,9, -999.000
  06AQ19960317,  S04a,    57,  4,      9,     16,2,19960420,   0,-66.5018,  -0.0002, 4516,   4251.4,  -0.2958,  34.6557,2,  34.6541,2,    239.3,2,   126.83,2,    32.93,2,  -999.00,9,     2.26,2,    0.549,2,    0.262,2,    0.027,2,    0.993,2,   2250.7,2, -999.000,9, -999.000,-999.0000,9,-999.0000,  -999.00,9,  -999.00, -999.000,9, -999.000
  06AQ19960317,  S04a,    57,  4,      7,     18,2,19960420,   0,-66.5018,  -0.0002, 4516,   4479.4,  -0.3094,  34.6546,2,  34.6525,2,    240.2,2,   128.96,2,    33.05,2,  -999.00,9,     2.27,2, -999.000,9, -999.000,9, -999.000,9, -999.000,9,   2250.8,2, -999.000,9, -999.000,-999.0000,9,-999.0000,  -999.00,9,  -999.00, -999.000,9, -999.000
  06AQ19960317,  S04a,    57,  4,      8,     17,2,19960420,   0,-66.5018,  -0.0002, 4516,   4479.5,  -0.3091,  34.6546,2,-999.0000,9,   -999.0,9,   128.55,2,    33.09,2,  -999.00,9,     2.26,2, -999.000,9, -999.000,9, -999.000,9, -999.000,9,   -999.0,9, -999.000,9, -999.000,-999.0000,9,-999.0000,  -999.00,9,  -999.00, -999.000,9, -999.000
  06AQ19960317,  S04a,    57,  4,      6,     19,2,19960420,   0,-66.5018,  -0.0002, 4516,   4479.6,  -0.3097,  34.6547,2,-999.0000,9,   -999.0,9,   128.26,2,    32.92,2,  -999.00,9,     2.26,2, -999.000,9, -999.000,9, -999.000,9, -999.000,9,   -999.0,9, -999.000,9, -999.000,-999.0000,9,-999.0000,  -999.00,9,  -999.00, -999.000,9, -999.000
  06AQ19960317,  S04a,    57,  4,      5,     20,2,19960420,   0,-66.5018,  -0.0002, 4516,   4479.8,  -0.3096,  34.6547,2,-999.0000,9,   -999.0,9,   128.31,2,    33.20,2,  -999.00,9,     2.27,2, -999.000,9, -999.000,9, -999.000,9, -999.000,9,   -999.0,9, -999.000,9, -999.000,-999.0000,9,-999.0000,  -999.00,9,  -999.00, -999.000,9, -999.000
  06AQ19960317,  S04a,    57,  4,      4,     21,2,19960420,   0,-66.5018,  -0.0002, 4516,   4527.5,  -0.3382,  34.6541,2,  34.6517,2,    240.8,2,   129.75,2,    33.10,2,  -999.00,9,     2.27,2,    0.449,2,    0.218,2,    0.018,2,    0.873,2,   2250.9,2, -999.000,9, -999.000,-999.0000,9,-999.0000,  -999.00,9,  -999.00, -999.000,9, -999.000
  06AQ19960317,  S04a,    57,  4,      1,     24,2,19960420,   0,-66.5018,  -0.0002, 4516,   4580.4,  -0.3526,  34.6530,2,  34.6531,2,    241.6,2,   130.22,2,    33.06,2,  -999.00,9,     2.25,2,    0.414,2,    0.198,2,    0.017,2,    0.864,2,   2249.0,2, -999.000,9, -999.000,-999.0000,9,-999.0000,  -999.00,9,  -999.00, -999.000,9, -999.000
  06AQ19960317,  S04a,    57,  4,      2,     23,2,19960420,   0,-66.5018,  -0.0002, 4516,   4581.2,  -0.3521,  34.6532,2,-999.0000,9,   -999.0,9,   129.89,2,    33.12,2,  -999.00,9,     2.25,2, -999.000,9, -999.000,9, -999.000,9, -999.000,9,   -999.0,9, -999.000,9, -999.000,-999.0000,9,-999.0000,  -999.00,9,  -999.00, -999.000,9, -999.000
  06AQ19960317,  S04a,    57,  4,      3,     22,2,19960420,   0,-66.5018,  -0.0002, 4516,   4581.5,  -0.3519,  34.6530,2,-999.0000,9,   -999.0,9,   130.22,2,    33.01,2,  -999.00,9,     2.26,2, -999.000,9, -999.000,9, -999.000,9, -999.000,9,   -999.0,9, -999.000,9, -999.000,-999.0000,9,-999.0000,  -999.00,9,  -999.00, -999.000,9, -999.000