BOTTLE,20150129PRINUNIVRMK
EXPOCODE,SECT_ID,STNNBR,CASTNO,SAMPNO,BTLNBR,BTLNBR_FLAG_W,DATE,TIME,LATITUDE,LONGITUDE,DEPTH,CTDPRS,CTDTMP,CTDSAL,CTDSAL_FLAG_W,SALNTY,SALNTY_FLAG_W,OXYGEN,OXYGEN_FLAG_W,SILCAT,SILCAT_FLAG_W,NITRAT,NITRAT_FLAG_W,NITRIT,NITRIT_FLAG_W,PHSPHT,PHSPHT_FLAG_W,CFC-11,CFC-11_FLAG_W,CFC-12,CFC-12_FLAG_W,CFC113,CFC113_FLAG_W,CCL4,CCL4_FLAG_W,TCARBN,TCARBN_FLAG_W,TRITUM,TRITUM_FLAG_W,TRITER,HELIUM,HELIUM_FLAG_W,HELIER,DELHE3,DELHE3_FLAG_W,DELHER,NEON,NEON_FLAG_W,NEONER
,,,,,,,,,,,METERS,DBAR,ITS-90,PSS-78,,PSS-78,,UMOL/KG,,UMOL/KG,,UMOL/KG,,UMOL/KG,,UMOL/KG,,PMOL/KG,,PMOL/KG,,PMOL/KG,,PMOL/KG,,UMOL/KG,,TU,,TU,NMOL/KG,,NMOL/KG,PERCNT,,PERCNT,NMOL/KG,,NMOL/KG
  06AQ19960317,  S04a,    54,  3,     24,      1,2,19960418,   0,-65.0030,   0.0145, 3681,    500.7,   0.9504,  34.7040,2,  34.7047,2,    196.1,2,   101.45,2,    32.59,2,  -999.00,9,     2.25,2, -999.000,9, -999.000,9, -999.000,9, -999.000,9,   2259.9,2, -999.000,9, -999.000,-999.0000,9,-999.0000,  -999.00,9,  -999.00, -999.000,9, -999.000
  06AQ19960317,  S04a,    54,  3,     23,      2,2,19960418,   0,-65.0030,   0.0145, 3681,    751.6,   0.7049,  34.6973,2,  34.6958,2,    199.4,2,   109.45,2,    32.98,2,  -999.00,9,     2.28,2,    0.298,2,    0.140,2,    0.013,2,    0.515,2,   2260.1,2,    0.020,2, -999.000,   1.8650,2,   0.0050,     9.34,2,     0.22,    8.126,2,    0.018
  06AQ19960317,  S04a,    54,  3,     22,      3,2,19960418,   0,-65.0030,   0.0145, 3681,    999.1,   0.5090,  34.6895,2,  34.6894,2,    200.1,2,   114.81,2,    33.44,2,  -999.00,9,     2.30,2,    0.235,2,    0.109,2,    0.010,2,    0.470,2,   -999.0,9,    0.083,2, -999.000,-999.0000,9,-999.0000,  -999.00,9,  -999.00, -999.000,9, -999.000
  06AQ19960317,  S04a,    54,  3,     21,      4,2,19960418,   0,-65.0030,   0.0145, 3681,    999.9,   0.5081,  34.6901,2,-999.0000,9,   -999.0,9,   115.79,2,    33.57,2,  -999.00,9,     2.31,2, -999.000,9, -999.000,9, -999.000,9, -999.000,9,   -999.0,9, -999.000,9, -999.000,-999.0000,9,-999.0000,  -999.00,9,  -999.00, -999.000,9, -999.000
  06AQ19960317,  S04a,    54,  3,     20,      5,2,19960418,   0,-65.0030,   0.0145, 3681,   1000.9,   0.5031,  34.6899,2,-999.0000,9,   -999.0,9,   117.45,2,    33.20,2,  -999.00,9,     2.30,2, -999.000,9, -999.000,9, -999.000,9, -999.000,9,   -999.0,9, -999.000,9, -999.000,-999.0000,9,-999.0000,  -999.00,9,  -999.00, -999.000,9, -999.000
  06AQ19960317,  S04a,    54,  3,     19,      6,2,19960418,   0,-65.0030,   0.0145, 3681,   1250.6,   0.3626,  34.6834,2,  34.6830,2,    204.3,2,   120.08,2,    33.63,2,  -999.00,9,     2.32,2,    0.199,2,    0.091,2,    0.008,2,    0.438,2,   2263.5,2,    0.017,2, -999.000,   1.8600,2,   0.0050,     8.70,2,     0.22,    8.086,2,    0.018
  06AQ19960317,  S04a,    54,  3,     18,      7,2,19960418,   0,-65.0030,   0.0145, 3681,   1503.2,   0.2260,  34.6776,2,  34.6788,2,    205.7,2,   122.62,2,    33.70,2,  -999.00,9,     2.33,2,    0.177,2,    0.084,2,    0.009,2,    0.425,2,   -999.0,9,    0.039,2, -999.000,   1.8780,2,   0.0050,     7.90,2,     0.22,    8.176,2,    0.018
  06AQ19960317,  S04a,    54,  3,     17,      8,2,19960418,   0,-65.0030,   0.0145, 3681,   1750.4,   0.1225,  34.6739,2,  34.6729,2,    211.9,2,   123.11,2,    33.44,2,  -999.00,9,     2.34,2,    0.205,2,    0.100,2,    0.007,2,    0.460,2,   2261.4,2, -999.000,9, -999.000,-999.0000,9,-999.0000,  -999.00,9,  -999.00, -999.000,9, -999.000
  06AQ19960317,  S04a,    54,  3,     16,      9,2,19960418,   0,-65.0030,   0.0145, 3681,   2000.6,   0.0288,  34.6706,2,  34.6683,2,    215.6,2,   123.79,2,    33.64,2,  -999.00,9,     2.32,2,    0.209,2,    0.098,2,    0.007,2,    0.498,2,   2259.1,2,    0.015,2, -999.000,   1.8810,2,   0.0050,     7.14,2,     0.22,    8.186,2,    0.018
  06AQ19960317,  S04a,    54,  3,     13,     12,2,19960418,   0,-65.0030,   0.0145, 3681,   2499.2,  -0.1062,  34.6645,2,-999.0000,9,   -999.0,9,   126.03,2,    33.45,2,  -999.00,9,     2.31,2, -999.000,9, -999.000,9, -999.000,9, -999.000,9,   -999.0,9, -999.000,9, -999.000,-999.0000,9,-999.0000,  -999.00,9,  -999.00, -999.000,9, -999.000
  06AQ19960317,  S04a,    54,  3,     14,     11,2,19960418,   0,-65.0030,   0.0145, 3681,   2499.8,  -0.1057,  34.6645,2,  34.6639,2,    223.2,2,   126.03,2,    33.30,2,  -999.00,9,     2.32,2,    0.248,2,    0.119,2,    0.009,2,    0.577,2,   2256.8,2,    0.016,2, -999.000,-999.0000,9,-999.0000,  -999.00,9,  -999.00, -999.000,9, -999.000
  06AQ19960317,  S04a,    54,  3,     12,     13,2,19960418,   0,-65.0030,   0.0145, 3681,   2499.8,  -0.1076,  34.6646,2,-999.0000,9,   -999.0,9,   125.64,2,    33.18,2,  -999.00,9,     2.31,2, -999.000,9, -999.000,9, -999.000,9, -999.000,9,   -999.0,9, -999.000,9, -999.000,-999.0000,9,-999.0000,  -999.00,9,  -999.00, -999.000,9, -999.000
  06AQ19960317,  S04a,    54,  3,     15,     10,2,19960418,   0,-65.0030,   0.0145, 3681,   2500.3,  -0.1058,  34.6645,2,  34.6644,2,    221.2,2,   125.64,2,    33.26,2,  -999.00,9,     2.32,2, -999.000,9, -999.000,9, -999.000,9, -999.000,9,   -999.0,9, -999.000,9, -999.000,-999.0000,9,-999.0000,  -999.00,9,  -999.00, -999.000,9, -999.000
  06AQ19960317,  S04a,    54,  3,     11,     14,2,19960418,   0,-65.0030,   0.0145, 3681,   2999.5,  -0.1976,  34.6614,2,  34.6598,2,    230.8,2,   124.86,2,    32.89,2,  -999.00,9,     2.30,2,    0.424,2,    0.201,2,    0.016,2,    0.809,2,   2253.0,2,    0.037,2, -999.000,   1.8770,2,   0.0050,     6.45,2,     0.22,    8.193,2,    0.018
  06AQ19960317,  S04a,    54,  3,     10,     15,2,19960418,   0,-65.0030,   0.0145, 3681,   3299.6,  -0.2335,  34.6597,2,  34.6575,2,    233.0,2,   124.38,2,    33.20,2,  -999.00,9,     2.30,2,    0.467,2,    0.224,2,    0.019,2,    0.871,2,   2251.3,2,    0.025,2, -999.000,-999.0000,9,-999.0000,  -999.00,9,  -999.00, -999.000,9, -999.000
  06AQ19960317,  S04a,    54,  3,      6,     19,2,19960418,   0,-65.0030,   0.0145, 3681,   3614.6,  -0.2683,  34.6584,2,-999.0000,9,   -999.0,9,   125.74,2,    33.08,2,  -999.00,9,     2.28,2, -999.000,9, -999.000,9, -999.000,9, -999.000,9,   -999.0,9, -999.000,9, -999.000,-999.0000,9,-999.0000,  -999.00,9,  -999.00, -999.000,9, -999.000
  06AQ19960317,  S04a,    54,  3,      7,     18,2,19960418,   0,-65.0030,   0.0145, 3681,   3615.1,  -0.2675,  34.6581,2,-999.0000,9,   -999.0,9,   126.13,2,    33.28,2,  -999.00,9,     2.29,2, -999.000,9, -999.000,9, -999.000,9, -999.000,9,   -999.0,9, -999.000,9, -999.000,-999.0000,9,-999.0000,  -999.00,9,  -999.00, -999.000,9, -999.000
  06AQ19960317,  S04a,    54,  3,      8,     17,2,19960418,   0,-65.0030,   0.0145, 3681,   3615.8,  -0.2672,  34.6579,2,  34.6562,2,    235.2,2,   125.93,2,    32.89,2,  -999.00,9,     2.29,2,    0.530,2,    0.256,2,    0.015,2,    0.990,2,   -999.0,9,    0.044,2, -999.000,   1.8750,2,   0.0050,     5.94,2,     0.22,    8.241,2,    0.018
  06AQ19960317,  S04a,    54,  3,      9,     16,2,19960418,   0,-65.0030,   0.0145, 3681,   3616.1,  -0.2677,  34.6582,2,  34.6566,2,    235.1,2,   124.57,2,    32.95,2,  -999.00,9,     2.29,2, -999.000,9, -999.000,9, -999.000,9, -999.000,9,   -999.0,9, -999.000,9, -999.000,-999.0000,9,-999.0000,  -999.00,9,  -999.00, -999.000,9, -999.000
  06AQ19960317,  S04a,    54,  3,      5,     20,2,19960418,   0,-65.0030,   0.0145, 3681,   3670.6,  -0.2830,  34.6574,2,  34.6558,2,    236.0,2,   126.91,2,    32.78,2,  -999.00,9,     2.27,2,    0.543,2,    0.260,2,    0.026,2,    0.968,2,   -999.0,9,    0.029,2, -999.000,-999.0000,9,-999.0000,  -999.00,9,  -999.00, -999.000,9, -999.000
  06AQ19960317,  S04a,    54,  3,      2,     23,2,19960418,   0,-65.0030,   0.0145, 3681,   3705.1,  -0.2966,  34.6573,2,-999.0000,9,   -999.0,9,   131.11,2,    33.21,2,  -999.00,9,     2.28,2, -999.000,9, -999.000,9, -999.000,9, -999.000,9,   -999.0,9, -999.000,9, -999.000,-999.0000,9,-999.0000,  -999.00,9,  -999.00, -999.000,9, -999.000
  06AQ19960317,  S04a,    54,  3,      1,     24,2,19960418,   0,-65.0030,   0.0145, 3681,   3705.1,  -0.2964,  34.6570,2,-999.0000,9,   -999.0,9,   130.04,2,    33.18,2,  -999.00,9,     2.28,2, -999.000,9, -999.000,9, -999.000,9, -999.000,9,   -999.0,9, -999.000,9, -999.000,-999.0000,9,-999.0000,  -999.00,9,  -999.00, -999.000,9, -999.000
  06AQ19960317,  S04a,    54,  3,      3,     22,2,19960418,   0,-65.0030,   0.0145, 3681,   3711.6,  -0.2960,  34.6570,2,  34.6550,2,    234.8,2,   130.91,2,    33.25,2,  -999.00,9,     2.28,2, -999.000,9, -999.000,9, -999.000,9, -999.000,9,   -999.0,9, -999.000,9, -999.000,-999.0000,9,-999.0000,  -999.00,9,  -999.00, -999.000,9, -999.000
  06AQ19960317,  S04a,    54,  3,      4,     21,2,19960418,   0,-65.0030,   0.0145, 3681,   3715.4,  -0.2961,  34.6572,2,  34.6541,2,    235.1,2,   129.45,2,    33.28,2,  -999.00,9,     2.29,2,    0.551,2,    0.266,2,    0.025,2,    0.966,2,   -999.0,9,    0.022,2, -999.000,   1.8870,2,   0.0050,     5.28,2,     0.22,    8.199,2,    0.018
  06AQ19960317,  S04a,    55,  1,     24,      1,2,19960419,   0,-65.5842,   0.0018, 3768,     21.1,  -0.7295,  33.9963,2,  33.9986,2,    330.2,2,    52.28,2,    23.96,2,  -999.00,9,     1.76,2,    5.942,2,    3.010,2,    0.512,2,    8.185,2,   2172.2,2, -999.000,9, -999.000,-999.0000,9,-999.0000,  -999.00,9,  -999.00, -999.000,9, -999.000
  06AQ19960317,  S04a,    55,  1,     23,      2,2,19960419,   0,-65.5842,   0.0018, 3768,     40.4,  -0.7301,  33.9971,2,  33.9987,2,    329.8,2,    52.02,2,    23.98,2,  -999.00,9,     1.75,2, -999.000,9, -999.000,9, -999.000,9, -999.000,9,   2171.7,2, -999.000,9, -999.000,-999.0000,9,-999.0000,  -999.00,9,  -999.00, -999.000,9, -999.000
  06AQ19960317,  S04a,    55,  1,     22,      3,2,19960419,   0,-65.5842,   0.0018, 3768,     65.5,  -1.2733,  34.3245,2,  34.3200,2,    286.7,2,    66.14,2,    29.87,2,  -999.00,9,     2.13,2,    4.742,2,    2.317,2,    0.373,2,    5.942,2,   2217.9,2, -999.000,9, -999.000,-999.0000,9,-999.0000,  -999.00,9,  -999.00, -999.000,9, -999.000
  06AQ19960317,  S04a,    55,  1,     20,      5,2,19960419,   0,-65.5842,   0.0018, 3768,    100.0,   0.0585,  34.5253,2,  34.5320,2,   -999.0,9,    79.57,2,    33.23,2,  -999.00,9,     2.29,2, -999.000,9, -999.000,9, -999.000,9, -999.000,9,   -999.0,9, -999.000,9, -999.000,-999.0000,9,-999.0000,  -999.00,9,  -999.00, -999.000,9, -999.000
  06AQ19960317,  S04a,    55,  1,     21,      4,2,19960419,   0,-65.5842,   0.0018, 3768,    100.1,  -0.0673,  34.5177,2,  34.5349,2,    218.5,2,    79.44,2,    33.12,2,  -999.00,9,     2.29,2,    2.367,2,    1.131,2,    0.175,2,    2.903,2,   2248.4,2, -999.000,9, -999.000,-999.0000,9,-999.0000,  -999.00,9,  -999.00, -999.000,9, -999.000
  06AQ19960317,  S04a,    55,  1,     19,      6,2,19960419,   0,-65.5842,   0.0018, 3768,    148.9,   1.1108,  34.6573,2,  34.6569,2,    186.9,2,    89.68,2,    33.84,2,  -999.00,9,     2.32,2,    0.864,2,    0.411,2,    0.052,2,    1.133,2,   2260.4,2, -999.000,9, -999.000,-999.0000,9,-999.0000,  -999.00,9,  -999.00, -999.000,9, -999.000
  06AQ19960317,  S04a,    55,  1,     18,      7,2,19960419,   0,-65.5842,   0.0018, 3768,    210.2,   1.2493,  34.6863,2,  34.6872,2,    187.6,2,    92.14,2,    33.36,2,  -999.00,9,     2.28,2,    0.591,2,    0.277,2,    0.034,2,    0.822,2,   2257.3,2, -999.000,9, -999.000,-999.0000,9,-999.0000,  -999.00,9,  -999.00, -999.000,9, -999.000
  06AQ19960317,  S04a,    55,  1,     17,      8,2,19960419,   0,-65.5842,   0.0018, 3768,    249.7,   1.2378,  34.6971,2,  34.6967,2,    188.0,2,    94.08,2,    33.18,2,  -999.00,9,     2.25,2, -999.000,9, -999.000,9, -999.000,9, -999.000,9,   2257.2,2, -999.000,9, -999.000,-999.0000,9,-999.0000,  -999.00,9,  -999.00, -999.000,9, -999.000
  06AQ19960317,  S04a,    55,  1,     16,      9,2,19960419,   0,-65.5842,   0.0018, 3768,    300.3,   1.1888,  34.7022,2,  34.7027,2,    190.5,2,    92.64,2,    32.72,2,  -999.00,9,     2.26,2,    0.440,2,    0.206,2,    0.024,2,    0.652,2,   2257.6,2, -999.000,9, -999.000,-999.0000,9,-999.0000,  -999.00,9,  -999.00, -999.000,9, -999.000
  06AQ19960317,  S04a,    55,  1,     15,     10,2,19960419,   0,-65.5842,   0.0018, 3768,    350.1,   1.1397,  34.7059,2,  34.7071,2,    191.6,2,    97.04,2,    32.49,2,  -999.00,9,     2.25,2, -999.000,9, -999.000,9, -999.000,9, -999.000,9,   2261.0,2, -999.000,9, -999.000,-999.0000,9,-999.0000,  -999.00,9,  -999.00, -999.000,9, -999.000
  06AQ19960317,  S04a,    55,  1,     14,     11,2,19960419,   0,-65.5842,   0.0018, 3768,    400.5,   1.1083,  34.7082,2,  34.7083,2,   -999.0,9,    98.98,2,    32.85,2,  -999.00,9,     2.25,2,    0.337,2,    0.151,2,    0.015,2,    0.530,2,   2260.0,2, -999.000,9, -999.000,-999.0000,9,-999.0000,  -999.00,9,  -999.00, -999.000,9, -999.000
  06AQ19960317,  S04a,    55,  1,     13,     12,2,19960419,   0,-65.5842,   0.0018, 3768,    500.8,   0.9952,  34.7066,2,  34.7074,2,    195.0,2,    99.37,2,    32.67,2,  -999.00,9,     2.24,2,    0.332,2,    0.154,2,    0.017,2,    0.508,2,   2259.0,2, -999.000,9, -999.000,-999.0000,9,-999.0000,  -999.00,9,  -999.00, -999.000,9, -999.000
  06AQ19960317,  S04a,    55,  1,     12,     13,2,19960419,   0,-65.5842,   0.0018, 3768,    601.6,   0.9063,  34.7072,2,  34.7071,2,    197.7,2,   103.97,2,    31.98,2,  -999.00,9,     2.25,2,    0.257,2,    0.117,2,    0.012,2,    0.443,2,   2255.3,2, -999.000,9, -999.000,-999.0000,9,-999.0000,  -999.00,9,  -999.00, -999.000,9, -999.000
  06AQ19960317,  S04a,    55,  1,     11,     14,2,19960419,   0,-65.5842,   0.0018, 3768,    750.2,   0.7105,  34.6977,2,  34.6981,2,    200.3,2,   108.78,2,    33.22,2,  -999.00,9,     2.28,2,    0.301,2,    0.135,2,    0.015,2,    0.502,2,   2257.2,2, -999.000,9, -999.000,-999.0000,9,-999.0000,  -999.00,9,  -999.00, -999.000,9, -999.000
  06AQ19960317,  S04a,    55,  1,     10,     15,2,19960419,   0,-65.5842,   0.0018, 3768,   1002.4,   0.4999,  34.6895,2,  34.6893,2,    201.1,2,   114.68,2,    33.48,2,  -999.00,9,     2.30,2,    0.224,2,    0.105,2,    0.007,2,    0.435,2,   2259.4,2, -999.000,9, -999.000,-999.0000,9,-999.0000,  -999.00,9,  -999.00, -999.000,9, -999.000
  06AQ19960317,  S04a,    55,  1,      9,     16,2,19960419,   0,-65.5842,   0.0018, 3768,   1251.3,   0.3515,  34.6832,2,  34.6834,2,    203.2,2,   119.17,2,    33.41,2,  -999.00,9,     2.32,2,    0.190,2,    0.087,2,    0.006,2,    0.421,2,   2260.4,2, -999.000,9, -999.000,-999.0000,9,-999.0000,  -999.00,9,  -999.00, -999.000,9, -999.000
  06AQ19960317,  S04a,    55,  1,      8,     17,2,19960419,   0,-65.5842,   0.0018, 3768,   1604.1,   0.1848,  34.6758,2,  34.6758,2,    208.5,2,   121.40,2,    33.90,2,  -999.00,9,     2.34,2,    0.197,2,    0.089,2,    0.005,2,    0.456,2,   2260.8,2, -999.000,9, -999.000,-999.0000,9,-999.0000,  -999.00,9,  -999.00, -999.000,9, -999.000
  06AQ19960317,  S04a,    55,  1,      7,     18,2,19960419,   0,-65.5842,   0.0018, 3768,   2000.8,   0.0363,  34.6706,2,  34.6694,2,    215.8,2,   123.12,2,    33.21,2,  -999.00,9,     2.32,2, -999.000,9, -999.000,9, -999.000,9, -999.000,9,   2257.0,2, -999.000,9, -999.000,-999.0000,9,-999.0000,  -999.00,9,  -999.00, -999.000,9, -999.000
  06AQ19960317,  S04a,    55,  1,      6,     19,2,19960419,   0,-65.5842,   0.0018, 3768,   2500.0,  -0.1053,  34.6641,2,  34.6632,2,    223.9,2,   122.40,2,    33.27,2,  -999.00,9,     2.30,2, -999.000,9, -999.000,9, -999.000,9, -999.000,9,   2253.6,2, -999.000,9, -999.000,-999.0000,9,-999.0000,  -999.00,9,  -999.00, -999.000,9, -999.000
  06AQ19960317,  S04a,    55,  1,      5,     20,2,19960419,   0,-65.5842,   0.0018, 3768,   3000.3,  -0.1942,  34.6609,2,  34.6607,2,    229.4,2,   123.41,2,    33.32,2,  -999.00,9,     2.30,2, -999.000,9, -999.000,9, -999.000,9, -999.000,9,   2253.5,2, -999.000,9, -999.000,-999.0000,9,-999.0000,  -999.00,9,  -999.00, -999.000,9, -999.000
  06AQ19960317,  S04a,    55,  1,      4,     21,2,19960419,   0,-65.5842,   0.0018, 3768,   3500.0,  -0.2483,  34.6590,2,  34.6569,2,    234.3,2,   120.80,2,    32.86,2,  -999.00,9,     2.29,2,    0.487,2,    0.237,2,    0.021,2,    0.913,2,   2253.9,2, -999.000,9, -999.000,-999.0000,9,-999.0000,  -999.00,9,  -999.00, -999.000,9, -999.000
  06AQ19960317,  S04a,    55,  1,      3,     22,2,19960419,   0,-65.5842,   0.0018, 3768,   3718.3,  -0.2756,  34.6576,2,  34.6566,2,    236.5,2,   122.62,2,    33.13,2,  -999.00,9,     2.29,2,    0.576,2,    0.276,2,    0.026,2,    0.979,2,   2249.5,2, -999.000,9, -999.000,-999.0000,9,-999.0000,  -999.00,9,  -999.00, -999.000,9, -999.000
  06AQ19960317,  S04a,    55,  1,      2,     23,2,19960419,   0,-65.5842,   0.0018, 3768,   3768.5,  -0.2808,  34.6572,2,  34.6551,2,    237.8,2,   121.94,2,    33.21,2,  -999.00,9,     2.29,2,    0.565,2,    0.263,2,    0.024,2,    0.984,2,   2248.0,2, -999.000,9, -999.000,-999.0000,9,-999.0000,  -999.00,9,  -999.00, -999.000,9, -999.000
  06AQ19960317,  S04a,    55,  1,      1,     24,2,19960419,   0,-65.5842,   0.0018, 3768,   3818.6,  -0.2929,  34.6567,2,  34.6570,2,    237.3,2,   124.56,2,    33.00,2,  -999.00,9,     2.29,2,    0.561,2,    0.264,2,    0.025,2,    0.999,2,   2251.0,2, -999.000,9, -999.000,-999.0000,9,-999.0000,  -999.00,9,  -999.00, -999.000,9, -999.000