BOTTLE,20150129PRINUNIVRMK
EXPOCODE,SECT_ID,STNNBR,CASTNO,SAMPNO,BTLNBR,BTLNBR_FLAG_W,DATE,TIME,LATITUDE,LONGITUDE,DEPTH,CTDPRS,CTDTMP,CTDSAL,CTDSAL_FLAG_W,SALNTY,SALNTY_FLAG_W,OXYGEN,OXYGEN_FLAG_W,SILCAT,SILCAT_FLAG_W,NITRAT,NITRAT_FLAG_W,NITRIT,NITRIT_FLAG_W,PHSPHT,PHSPHT_FLAG_W,CFC-11,CFC-11_FLAG_W,CFC-12,CFC-12_FLAG_W,CFC113,CFC113_FLAG_W,CCL4,CCL4_FLAG_W,TCARBN,TCARBN_FLAG_W,TRITUM,TRITUM_FLAG_W,TRITER,HELIUM,HELIUM_FLAG_W,HELIER,DELHE3,DELHE3_FLAG_W,DELHER,NEON,NEON_FLAG_W,NEONER
,,,,,,,,,,,METERS,DBAR,ITS-90,PSS-78,,PSS-78,,UMOL/KG,,UMOL/KG,,UMOL/KG,,UMOL/KG,,UMOL/KG,,PMOL/KG,,PMOL/KG,,PMOL/KG,,PMOL/KG,,UMOL/KG,,TU,,TU,NMOL/KG,,NMOL/KG,PERCNT,,PERCNT,NMOL/KG,,NMOL/KG
  06AQ19960317,  S04a,    80,  1,     23,      1,2,19960428,   0,-68.0003, -19.9813, 4884,     21.4,  -1.8683,  34.2509,2,  34.2503,2,    335.4,2,    58.33,2,    26.68,2,     0.17,2,     1.84,2,    6.165,2,    2.926,2,    0.478,2,    8.000,2,   2189.0,2, -999.000,9, -999.000,-999.0000,9,-999.0000,  -999.00,9,  -999.00, -999.000,9, -999.000
  06AQ19960317,  S04a,    80,  1,     22,      2,2,19960428,   0,-68.0003, -19.9813, 4884,     41.3,  -1.8678,  34.2522,2,  34.2703,2,    330.6,2,    58.72,2,    26.89,2,     0.18,2,     1.87,2,    5.821,2,    2.822,2,    0.450,2,    7.643,2,   2193.5,2, -999.000,9, -999.000,-999.0000,9,-999.0000,  -999.00,9,  -999.00, -999.000,9, -999.000
  06AQ19960317,  S04a,    80,  1,     21,      3,2,19960428,   0,-68.0003, -19.9813, 4884,     79.7,  -1.5254,  34.4767,2,  34.4802,2,   -999.0,9,    73.09,2,    30.81,2,     0.07,2,     2.13,2,    3.914,2,    1.728,2,    0.283,2,    4.990,2,   2228.0,2, -999.000,9, -999.000,-999.0000,9,-999.0000,  -999.00,9,  -999.00, -999.000,9, -999.000
  06AQ19960317,  S04a,    80,  1,     20,      4,2,19960428,   0,-68.0003, -19.9813, 4884,     79.7,  -1.4987,  34.4706,2,  34.4818,2,    270.9,2,    73.59,2,    31.13,2,     0.06,2,     2.14,2,    3.990,2,    1.923,4,    0.312,2,    5.017,2,   2227.6,2, -999.000,9, -999.000,-999.0000,9,-999.0000,  -999.00,9,  -999.00, -999.000,9, -999.000
  06AQ19960317,  S04a,    80,  1,     19,      5,2,19960428,   0,-68.0003, -19.9813, 4884,    100.3,  -0.6735,  34.5647,2,  34.5409,2,    244.0,2,    80.77,2,    32.09,2,     0.01,2,     2.21,2,    2.858,2,    1.338,2,    0.218,2,    3.734,2,   2238.9,2, -999.000,9, -999.000,-999.0000,9,-999.0000,  -999.00,9,  -999.00, -999.000,9, -999.000
  06AQ19960317,  S04a,    80,  1,     18,      6,2,19960428,   0,-68.0003, -19.9813, 4884,    139.4,   0.4427,  34.6521,2,  34.6551,2,    196.8,2,    97.51,2,    33.74,2,     0.01,2,     2.32,2,    1.013,2,    0.456,2,    0.066,2,    1.420,2,   2257.3,2, -999.000,9, -999.000,-999.0000,9,-999.0000,  -999.00,9,  -999.00, -999.000,9, -999.000
  06AQ19960317,  S04a,    80,  1,     17,      7,2,19960428,   0,-68.0003, -19.9813, 4884,    201.3,   0.6231,  34.6883,2,  34.6743,2,    191.8,2,   101.05,2,    33.72,2,     0.01,2,     2.32,2,    0.715,2,    0.352,2,    0.046,2,    1.086,2,   2259.4,2, -999.000,9, -999.000,-999.0000,9,-999.0000,  -999.00,9,  -999.00, -999.000,9, -999.000
  06AQ19960317,  S04a,    80,  1,     16,      8,2,19960428,   0,-68.0003, -19.9813, 4884,    230.6,   0.8209,  34.6914,2,  34.6939,2,    189.2,2,   105.48,2,    33.94,2,     0.00,2,     2.31,2,    0.393,2,    0.206,2,    0.021,2,    0.631,2,   2260.9,2, -999.000,9, -999.000,-999.0000,9,-999.0000,  -999.00,9,  -999.00, -999.000,9, -999.000
  06AQ19960317,  S04a,    80,  1,     15,      9,2,19960428,   0,-68.0003, -19.9813, 4884,    281.0,   0.8320,  34.6955,2,  34.6963,2,    190.4,2,   107.36,2,    33.64,2,     0.00,2,     2.31,2,    0.368,2,    0.189,2,    0.017,2,    0.577,2,   2261.2,2, -999.000,9, -999.000,-999.0000,9,-999.0000,  -999.00,9,  -999.00, -999.000,9, -999.000
  06AQ19960317,  S04a,    80,  1,     14,     10,2,19960428,   0,-68.0003, -19.9813, 4884,    330.1,   0.7661,  34.6950,2,  34.6950,2,    192.1,2,   109.23,2,    33.71,2,     0.00,2,     2.32,2,    0.339,2,    0.207,2,    0.015,2,    0.551,2,   2261.8,2, -999.000,9, -999.000,-999.0000,9,-999.0000,  -999.00,9,  -999.00, -999.000,9, -999.000
  06AQ19960317,  S04a,    80,  1,     13,     11,2,19960428,   0,-68.0003, -19.9813, 4884,    400.9,   0.6565,  34.6921,2,  34.6921,2,    193.5,2,   112.67,2,    33.98,2,     0.00,2,     2.32,2,    0.296,2,    0.147,2,    0.013,2,    0.515,2,   2261.6,2, -999.000,9, -999.000,-999.0000,9,-999.0000,  -999.00,9,  -999.00, -999.000,9, -999.000
  06AQ19960317,  S04a,    80,  1,     12,     12,2,19960428,   0,-68.0003, -19.9813, 4884,    500.7,   0.5575,  34.6905,2,  34.6896,2,    195.2,2,   115.54,2,    33.93,2,     0.00,2,     2.33,2,    0.245,2,    0.123,2,    0.007,2,    0.466,2,   2262.2,2, -999.000,9, -999.000,-999.0000,9,-999.0000,  -999.00,9,  -999.00, -999.000,9, -999.000
  06AQ19960317,  S04a,    80,  1,     11,     13,2,19960428,   0,-68.0003, -19.9813, 4884,   1001.5,   0.2561,  34.6784,2,  34.6797,2,    201.6,2,   122.92,2,    34.08,2,     0.01,2,     2.35,2,    0.158,2,    0.084,2,    0.004,2,    0.395,2,   2262.9,2, -999.000,9, -999.000,-999.0000,9,-999.0000,  -999.00,9,  -999.00, -999.000,9, -999.000
  06AQ19960317,  S04a,    80,  1,     10,     14,2,19960428,   0,-68.0003, -19.9813, 4884,   1501.2,   0.0581,  34.6702,2,  34.6712,2,    211.5,2,   124.59,2,    34.13,2,     0.00,2,     2.34,2,    0.155,2,    0.079,2,    0.004,2,    0.418,2,   2260.1,2, -999.000,9, -999.000,-999.0000,9,-999.0000,  -999.00,9,  -999.00, -999.000,9, -999.000
  06AQ19960317,  S04a,    80,  1,      9,     15,2,19960428,   0,-68.0003, -19.9813, 4884,   2001.3,  -0.0915,  34.6641,2,  34.6648,2,    220.6,2,   124.49,2,    33.70,2,     0.00,2,     2.32,2,    0.183,2,    0.095,2,    0.004,2,    0.505,2,   2255.3,2, -999.000,9, -999.000,-999.0000,9,-999.0000,  -999.00,9,  -999.00, -999.000,9, -999.000
  06AQ19960317,  S04a,    80,  1,      8,     16,2,19960428,   0,-68.0003, -19.9813, 4884,   2500.9,  -0.1958,  34.6602,2,  34.6607,2,    227.5,2,   124.01,2,    33.28,2,     0.00,2,     2.33,2,    0.245,2,    0.123,2,    0.008,2,    0.617,2,   2253.3,2, -999.000,9, -999.000,-999.0000,9,-999.0000,  -999.00,9,  -999.00, -999.000,9, -999.000
  06AQ19960317,  S04a,    80,  1,      7,     17,2,19960428,   0,-68.0003, -19.9813, 4884,   3000.5,  -0.2615,  34.6580,2,  34.6592,2,    232.1,2,   123.41,2,    33.38,2,     0.00,2,     2.31,2,    0.286,2,    0.133,2,    0.007,2,    0.660,2,   2251.0,2, -999.000,9, -999.000,-999.0000,9,-999.0000,  -999.00,9,  -999.00, -999.000,9, -999.000
  06AQ19960317,  S04a,    80,  1,      6,     18,2,19960428,   0,-68.0003, -19.9813, 4884,   3501.0,  -0.3061,  34.6553,2,  34.6564,2,    235.8,2,   123.22,2,    33.20,2,     0.00,2,     2.28,2,    0.330,2,    0.150,2,    0.010,2,    0.744,2,   2250.0,2, -999.000,9, -999.000,-999.0000,9,-999.0000,  -999.00,9,  -999.00, -999.000,9, -999.000
  06AQ19960317,  S04a,    80,  1,      5,     19,2,19960428,   0,-68.0003, -19.9813, 4884,   3999.4,  -0.3363,  34.6531,2,  34.6539,2,    238.4,2,   124.70,2,    32.96,2,     0.01,2,     2.28,2,    0.317,2,    0.163,2,    0.011,2,    0.749,2,   2249.1,2, -999.000,9, -999.000,-999.0000,9,-999.0000,  -999.00,9,  -999.00, -999.000,9, -999.000
  06AQ19960317,  S04a,    80,  1,      4,     20,2,19960428,   0,-68.0003, -19.9813, 4884,   4498.6,  -0.3662,  34.6528,2,  34.6527,2,    241.0,2,   124.99,2,    33.21,2,     0.00,2,     2.28,2,    0.164,2,    0.080,2,    0.005,2,    0.601,2,   2248.1,2, -999.000,9, -999.000,-999.0000,9,-999.0000,  -999.00,9,  -999.00, -999.000,9, -999.000
  06AQ19960317,  S04a,    80,  1,      3,     21,2,19960428,   0,-68.0003, -19.9813, 4884,   4748.2,  -0.4366,  34.6500,2,  34.6491,2,    243.7,2,   122.03,2,    33.04,2,     0.00,2,     2.28,2,    0.226,2,    0.112,2,    0.006,2,    0.732,2,   2246.3,2, -999.000,9, -999.000,   1.8860,2,   0.0050,     4.83,2,     0.22,    8.290,2,    0.018
  06AQ19960317,  S04a,    80,  1,      2,     22,2,19960428,   0,-68.0003, -19.9813, 4884,   4866.8,  -0.4556,  34.6486,2,  34.6477,2,    243.5,2,   127.46,2,    33.05,2,     0.00,2,     2.29,2,    0.266,2,    0.130,2,    0.008,2,    0.778,2,   2248.0,2, -999.000,9, -999.000,   1.8840,2,   0.0050,     4.61,2,     0.22,    8.275,2,    0.018
  06AQ19960317,  S04a,    80,  1,      1,     23,2,19960428,   0,-68.0003, -19.9813, 4884,   4916.2,  -0.4551,  34.6477,2,  34.6488,2,    243.2,2,   129.62,2,    33.40,2,     0.00,2,     2.29,2,    0.280,2,    0.137,2,    0.008,2,    0.753,2,   2248.8,2, -999.000,9, -999.000,   1.5390,4,   0.0040,     4.94,2,     0.22,    6.625,4,    0.015
  06AQ19960317,  S04a,    80,  1,     24,     24,2,19960428,   0,-68.0003, -19.9813, 4884,   4967.3,  -0.4569,  34.6478,2,  34.6470,2,    242.9,2,   129.03,2,    33.48,2,     0.00,2,     2.41,9,    0.313,2,    0.158,2,    0.004,2,    0.783,2,   2250.5,2, -999.000,9, -999.000,   1.8850,2,   0.0050,     4.68,2,     0.22,    8.299,2,    0.019
  06AQ19960317,  S04a,    81,  1,     23,      1,2,19960429,   0,-67.6918, -21.6442, 4894,     20.8,  -1.8737,  34.2671,2,  34.2680,2,    333.4,2,    56.78,2,    26.85,2,     0.24,2,     1.87,2,    5.921,2,    2.991,2,    0.525,2,    7.998,2,   2197.9,2, -999.000,9, -999.000,-999.0000,9,-999.0000,  -999.00,9,  -999.00, -999.000,9, -999.000
  06AQ19960317,  S04a,    81,  1,     22,      2,2,19960429,   0,-67.6918, -21.6442, 4894,     40.6,  -1.8732,  34.2674,2,  34.2671,2,    333.5,2,    56.48,2,    26.79,2,     0.24,2,     1.88,2, -999.000,9, -999.000,9, -999.000,9, -999.000,9,   2198.1,2, -999.000,9, -999.000,-999.0000,9,-999.0000,  -999.00,9,  -999.00, -999.000,9, -999.000
  06AQ19960317,  S04a,    81,  1,     20,      4,2,19960429,   0,-67.6918, -21.6442, 4894,     60.0,  -1.8725,  34.2698,2,  34.2699,2,   -999.0,9,    56.47,2,    26.82,2,     0.24,2,     1.90,2,    5.999,2,    3.037,2,    0.528,2,    8.006,2,   -999.0,9, -999.000,9, -999.000,-999.0000,9,-999.0000,  -999.00,9,  -999.00, -999.000,9, -999.000
  06AQ19960317,  S04a,    81,  1,     21,      3,2,19960429,   0,-67.6918, -21.6442, 4894,     60.1,  -1.8724,  34.2703,2,  34.2768,2,    330.2,2,    57.04,2,    26.94,2,     0.24,2,     1.90,2, -999.000,9, -999.000,9, -999.000,9, -999.000,9,   2200.4,2, -999.000,9, -999.000,-999.0000,9,-999.0000,  -999.00,9,  -999.00, -999.000,9, -999.000
  06AQ19960317,  S04a,    81,  1,     19,      5,2,19960429,   0,-67.6918, -21.6442, 4894,     81.1,  -1.8426,  34.3403,2,  34.3537,2,    306.9,2,    63.54,2,    28.63,2,     0.25,2,     2.00,2, -999.000,9, -999.000,9, -999.000,9, -999.000,9,   2211.1,2, -999.000,9, -999.000,-999.0000,9,-999.0000,  -999.00,9,  -999.00, -999.000,9, -999.000
  06AQ19960317,  S04a,    81,  1,     18,      6,2,19960429,   0,-67.6918, -21.6442, 4894,     99.9,  -1.6232,  34.4685,2,  34.4576,2,    283.4,2,    70.81,2,    30.62,2,     0.11,2,     2.10,2,    4.467,2,    2.190,2,    0.375,2,    5.652,2,   2224.9,2, -999.000,9, -999.000,-999.0000,9,-999.0000,  -999.00,9,  -999.00, -999.000,9, -999.000
  06AQ19960317,  S04a,    81,  1,     17,      7,2,19960429,   0,-67.6918, -21.6442, 4894,    150.4,  -0.2565,  34.5879,2,  34.5797,2,    228.8,2,    87.76,2,    32.66,2,     0.02,2,     2.23,2,    2.316,2,    1.102,2,    0.187,2,    2.918,2,   2246.3,2, -999.000,9, -999.000,-999.0000,9,-999.0000,  -999.00,9,  -999.00, -999.000,9, -999.000
  06AQ19960317,  S04a,    81,  1,     16,      8,2,19960429,   0,-67.6918, -21.6442, 4894,    200.6,   0.6116,  34.6726,2,  34.6728,2,    192.1,2,   102.56,2,    33.87,2,     0.02,2,     2.31,2,    0.710,2,    0.325,2,    0.047,2,    1.013,2,   2264.2,2, -999.000,9, -999.000,-999.0000,9,-999.0000,  -999.00,9,  -999.00, -999.000,9, -999.000
  06AQ19960317,  S04a,    81,  1,     15,      9,2,19960429,   0,-67.6918, -21.6442, 4894,    275.9,   0.7889,  34.6921,2,  34.6928,2,   -999.0,9,   108.11,2,    34.03,2,     0.02,2,     2.31,2,    0.347,2,    0.154,2,    0.017,2,    0.589,2,   2263.0,2, -999.000,9, -999.000,-999.0000,9,-999.0000,  -999.00,9,  -999.00, -999.000,9, -999.000
  06AQ19960317,  S04a,    81,  1,     14,     10,2,19960429,   0,-67.6918, -21.6442, 4894,    320.4,   0.7359,  34.6918,2,  34.6926,2,    190.8,2,   110.01,2,    33.91,2,     0.02,2,     2.31,2,    0.318,2,    0.145,2,    0.014,2,    0.548,2,   2264.5,2, -999.000,9, -999.000,-999.0000,9,-999.0000,  -999.00,9,  -999.00, -999.000,9, -999.000
  06AQ19960317,  S04a,    81,  1,     13,     11,2,19960429,   0,-67.6918, -21.6442, 4894,    401.3,   0.6316,  34.6903,2,  34.6904,2,    192.7,2,   113.03,2,    33.89,2,     0.02,2,     2.31,2,    0.299,2,    0.139,2,    0.011,2,    0.515,2,   2263.4,2, -999.000,9, -999.000,-999.0000,9,-999.0000,  -999.00,9,  -999.00, -999.000,9, -999.000
  06AQ19960317,  S04a,    81,  1,     12,     12,2,19960429,   0,-67.6918, -21.6442, 4894,    501.1,   0.5293,  34.6894,2,-999.0000,9,    193.7,2,   116.13,2,    34.07,2,     0.02,2,     2.32,2,    0.237,2,    0.110,2,    0.005,2,    0.463,2,   2264.7,2, -999.000,9, -999.000,-999.0000,9,-999.0000,  -999.00,9,  -999.00, -999.000,9, -999.000
  06AQ19960317,  S04a,    81,  1,     11,     13,2,19960429,   0,-67.6918, -21.6442, 4894,    750.8,   0.3592,  34.6825,2,  34.6824,2,    196.7,2,   120.80,2,    34.20,2,     0.01,2,     2.34,2,    0.174,3,    0.095,2,    0.004,2,    0.405,2,   2266.7,2, -999.000,9, -999.000,-999.0000,9,-999.0000,  -999.00,9,  -999.00, -999.000,9, -999.000
  06AQ19960317,  S04a,    81,  1,     10,     14,2,19960429,   0,-67.6918, -21.6442, 4894,   1001.1,   0.2324,  34.6782,2,  34.6790,2,    202.1,2,   122.87,2,    34.17,2,     0.01,2,     2.33,2,    0.170,2,    0.120,2,    0.004,2,    0.390,2,   2265.1,2, -999.000,9, -999.000,-999.0000,9,-999.0000,  -999.00,9,  -999.00, -999.000,9, -999.000
  06AQ19960317,  S04a,    81,  1,      9,     15,2,19960429,   0,-67.6918, -21.6442, 4894,   1501.7,   0.0403,  34.6707,2,  34.6737,2,    211.9,2,   123.73,2,    33.84,2,     0.01,2,     2.32,2,    0.147,2,    0.095,2,    0.002,2,    0.412,2,   2261.3,2, -999.000,9, -999.000,-999.0000,9,-999.0000,  -999.00,9,  -999.00, -999.000,9, -999.000
  06AQ19960317,  S04a,    81,  1,      8,     16,2,19960429,   0,-67.6918, -21.6442, 4894,   1999.0,  -0.1012,  34.6633,2,  34.6651,2,    220.7,2,   124.19,2,    33.74,2,     0.02,2,     2.29,2,    0.163,2,    0.086,2,    0.003,2,    0.479,2,   2258.3,2, -999.000,9, -999.000,-999.0000,9,-999.0000,  -999.00,9,  -999.00, -999.000,9, -999.000
  06AQ19960317,  S04a,    81,  1,      7,     17,2,19960429,   0,-67.6918, -21.6442, 4894,   2500.6,  -0.2021,  34.6594,2,  34.6612,2,    228.1,2,   123.44,2,    33.45,2,     0.01,2,     2.29,2,    0.220,2,    0.112,2,    0.004,2,    0.572,2,   2255.4,2, -999.000,9, -999.000,-999.0000,9,-999.0000,  -999.00,9,  -999.00, -999.000,9, -999.000
  06AQ19960317,  S04a,    81,  1,      6,     18,2,19960429,   0,-67.6918, -21.6442, 4894,   3000.3,  -0.2694,  34.6571,2,  34.6579,2,   -999.0,9,   122.96,2,    33.28,2,     0.01,2,     2.28,2,    0.273,2,    0.128,2,    0.007,2,    0.656,2,   2252.6,2, -999.000,9, -999.000,-999.0000,9,-999.0000,  -999.00,9,  -999.00, -999.000,9, -999.000
  06AQ19960317,  S04a,    81,  1,      5,     19,2,19960429,   0,-67.6918, -21.6442, 4894,   3500.1,  -0.3167,  34.6548,2,  34.6548,2,    235.8,2,   122.88,2,    33.03,2,     0.02,2,     2.27,2,    0.277,2,    0.131,2,    0.007,2,    0.688,2,   2251.9,2, -999.000,9, -999.000,-999.0000,9,-999.0000,  -999.00,9,  -999.00, -999.000,9, -999.000
  06AQ19960317,  S04a,    81,  1,      4,     20,2,19960429,   0,-67.6918, -21.6442, 4894,   3999.3,  -0.3446,  34.6539,2,  34.6539,2,   -999.0,9,   124.20,2,    33.19,2,     0.02,2,     2.27,2,    0.225,2,    0.128,2,    0.005,2,    0.646,2,   2251.0,2, -999.000,9, -999.000,   1.8670,2,   0.0050,     5.22,2,     0.22,    8.213,2,    0.018
  06AQ19960317,  S04a,    81,  1,      3,     21,2,19960429,   0,-67.6918, -21.6442, 4894,   4497.1,  -0.3906,  34.6519,2,  34.6516,2,    242.2,2,   122.14,2,    33.04,2,     0.01,2,     2.26,2,    0.174,2,    0.098,2,    0.004,2,    0.627,2,   2251.5,2, -999.000,9, -999.000,   1.8640,2,   0.0050,     4.94,2,     0.22,    8.176,2,    0.018
  06AQ19960317,  S04a,    81,  1,      2,     22,2,19960429,   0,-67.6918, -21.6442, 4894,   4878.0,  -0.4661,  34.6485,2,  34.6468,2,    244.6,2,   125.08,2,    33.33,2,     0.02,2,     2.28,2,    0.258,2,    0.123,2,    0.006,2,    0.775,2,   2252.2,2, -999.000,9, -999.000,   1.8850,2,   0.0050,     4.45,2,     0.22,    8.295,2,    0.018
  06AQ19960317,  S04a,    81,  1,      1,     23,2,19960429,   0,-67.6918, -21.6442, 4894,   4928.2,  -0.4763,  34.6449,2,  34.6450,2,    244.6,2,   124.54,2,    33.15,2,     0.01,2,     2.28,2, -999.000,9, -999.000,9, -999.000,9, -999.000,9,   2252.6,2, -999.000,9, -999.000,   1.8670,2,   0.0050,     4.30,2,     0.22,    8.234,2,    0.018
  06AQ19960317,  S04a,    81,  1,     24,     24,2,19960429,   0,-67.6918, -21.6442, 4894,   4977.3,  -0.4706,  34.6450,2,  34.6454,2,    244.7,2,   124.33,2,    33.10,2,     0.01,2,     2.27,2,    0.366,2,    0.185,2,    0.007,2,    0.850,2,   2252.5,2, -999.000,9, -999.000,   1.8850,2,   0.0050,     4.28,2,     0.22,    8.283,2,    0.018