BOTTLE,20150129PRINUNIVRMK
EXPOCODE,SECT_ID,STNNBR,CASTNO,SAMPNO,BTLNBR,BTLNBR_FLAG_W,DATE,TIME,LATITUDE,LONGITUDE,DEPTH,CTDPRS,CTDTMP,CTDSAL,CTDSAL_FLAG_W,SALNTY,SALNTY_FLAG_W,OXYGEN,OXYGEN_FLAG_W,SILCAT,SILCAT_FLAG_W,NITRAT,NITRAT_FLAG_W,NITRIT,NITRIT_FLAG_W,PHSPHT,PHSPHT_FLAG_W,CFC-11,CFC-11_FLAG_W,CFC-12,CFC-12_FLAG_W,CFC113,CFC113_FLAG_W,CCL4,CCL4_FLAG_W,TCARBN,TCARBN_FLAG_W,TRITUM,TRITUM_FLAG_W,TRITER,HELIUM,HELIUM_FLAG_W,HELIER,DELHE3,DELHE3_FLAG_W,DELHER,NEON,NEON_FLAG_W,NEONER
,,,,,,,,,,,METERS,DBAR,ITS-90,PSS-78,,PSS-78,,UMOL/KG,,UMOL/KG,,UMOL/KG,,UMOL/KG,,UMOL/KG,,PMOL/KG,,PMOL/KG,,PMOL/KG,,PMOL/KG,,UMOL/KG,,TU,,TU,NMOL/KG,,NMOL/KG,PERCNT,,PERCNT,NMOL/KG,,NMOL/KG
  06AQ19960317,  S04a,    88,  1,     23,      1,2,19960502,   0,-65.8110, -34.9607, 4747,     20.5,  -1.8723,  34.1835,2,  34.1831,2,    339.1,2,    56.92,2,    25.93,2,     0.21,2,     1.81,2,    6.377,2,    3.126,2,    0.554,2,    8.535,2,   2189.8,2,    0.077,2, -999.000,   1.8120,2,   0.0050,    -1.09,2,     0.22,    8.162,2,    0.018
  06AQ19960317,  S04a,    88,  1,     22,      2,2,19960502,   0,-65.8110, -34.9607, 4747,     40.6,  -1.8724,  34.1833,2,  34.1834,2,    338.4,2,    56.43,2,    25.71,2,     0.19,2,     1.80,2, -999.000,9, -999.000,9, -999.000,9, -999.000,9,   2190.1,2, -999.000,9, -999.000,-999.0000,9,-999.0000,  -999.00,9,  -999.00, -999.000,9, -999.000
  06AQ19960317,  S04a,    88,  1,     21,      3,2,19960502,   0,-65.8110, -34.9607, 4747,     60.9,  -1.8720,  34.1836,2,-999.0000,9,    338.2,2,    56.43,2,    25.72,2,     0.19,2,     1.80,2,    6.150,2,    2.998,2,    0.524,2,    8.224,2,   2190.3,2,    0.128,2, -999.000,   1.8170,2,   0.0050,    -1.07,2,     0.22,    8.181,2,    0.018
  06AQ19960317,  S04a,    88,  1,     20,      4,2,19960502,   0,-65.8110, -34.9607, 4747,     60.9,  -1.8730,  34.1840,2,  34.1847,2,   -999.0,9,    56.51,2,    25.74,2,     0.20,2,     1.81,2, -999.000,9, -999.000,9, -999.000,9, -999.000,9,   -999.0,9, -999.000,9, -999.000,-999.0000,9,-999.0000,  -999.00,9,  -999.00, -999.000,9, -999.000
  06AQ19960317,  S04a,    88,  1,     19,      5,2,19960502,   0,-65.8110, -34.9607, 4747,     80.1,  -1.7174,  34.3562,2,  34.3802,2,    297.0,2,    71.86,2,    29.46,2,     0.14,2,     2.06,2, -999.000,9, -999.000,9, -999.000,9, -999.000,9,   2219.4,2, -999.000,9, -999.000,-999.0000,9,-999.0000,  -999.00,9,  -999.00, -999.000,9, -999.000
  06AQ19960317,  S04a,    88,  1,     18,      6,2,19960502,   0,-65.8110, -34.9607, 4747,    100.8,  -1.5249,  34.4398,2,  34.4691,2,    267.3,2,    80.30,2,    31.25,2,     0.10,2,     2.15,2,    3.747,2,    1.770,2,    0.297,2,    4.678,2,   2235.4,2,    0.149,2, -999.000,   1.8320,2,   0.0050,     2.68,2,     0.22,    8.118,2,    0.018
  06AQ19960317,  S04a,    88,  1,     17,      7,2,19960502,   0,-65.8110, -34.9607, 4747,    150.4,   0.0311,  34.6237,2,  34.6511,2,    196.3,2,   105.01,2,    34.18,2,     0.04,2,     2.33,2,    0.938,2,    0.423,2,    0.058,2,    1.258,2,   2264.0,2, -999.000,9, -999.000,-999.0000,9,-999.0000,  -999.00,9,  -999.00, -999.000,9, -999.000
  06AQ19960317,  S04a,    88,  1,     16,      8,2,19960502,   0,-65.8110, -34.9607, 4747,    210.4,   0.6612,  34.6863,2,  34.6856,2,    187.3,2,   111.66,2,    34.49,2,     0.03,2,     2.36,2,    0.411,2,    0.197,2,    0.019,2,    0.642,2,   2269.9,2,    0.107,2, -999.000,   1.8590,2,   0.0050,     8.71,2,     0.22,    8.063,2,    0.018
  06AQ19960317,  S04a,    88,  1,     15,      9,2,19960502,   0,-65.8110, -34.9607, 4747,    260.1,   0.5996,  34.6877,2,  34.6875,2,    188.3,2,   114.51,2,    34.54,2,     0.02,2,     2.37,2,    0.321,2,    0.156,2,    0.012,2,    0.558,2,   2270.4,2,    0.039,2, -999.000,   1.8660,3,   0.0140,     8.80,3,     0.22,    8.075,3,    0.058
  06AQ19960317,  S04a,    88,  1,     14,     10,2,19960502,   0,-65.8110, -34.9607, 4747,    300.6,   0.5494,  34.6877,2,  34.6869,2,    188.6,2,   116.05,2,    34.62,2,     0.02,2,     2.38,2, -999.000,9, -999.000,9, -999.000,9, -999.000,9,   2269.4,2, -999.000,9, -999.000,-999.0000,9,-999.0000,  -999.00,9,  -999.00, -999.000,9, -999.000
  06AQ19960317,  S04a,    88,  1,     13,     11,2,19960502,   0,-65.8110, -34.9607, 4747,    400.8,   0.4694,  34.6869,2,  34.6858,2,    190.0,2,   119.26,2,    34.80,2,     0.03,2,     2.39,2,    0.227,2,    0.111,2,    0.008,2,    0.460,2,   2271.6,2,    0.089,2, -999.000,   1.8620,2,   0.0050,     8.42,2,     0.22,    8.093,2,    0.018
  06AQ19960317,  S04a,    88,  1,     12,     12,2,19960502,   0,-65.8110, -34.9607, 4747,    500.0,   0.4085,  34.6858,2,  34.6840,2,    192.4,2,   122.05,2,    34.90,2,     0.03,2,     2.39,2,    0.160,6,    0.079,6,    0.003,6,    0.400,6,   2271.0,2,    0.033,2, -999.000,   1.9530,4,   0.0050,     8.48,2,     0.22,    8.298,2,    0.019
  06AQ19960317,  S04a,    88,  1,     11,     13,2,19960502,   0,-65.8110, -34.9607, 4747,    751.5,   0.2634,  34.6803,2,  34.6794,2,    196.3,2,   124.98,2,    34.68,2,     0.02,2,     2.38,2,    0.122,2,    0.065,2,    0.000,2,    0.345,2,   2269.5,2, -999.000,9, -999.000,-999.0000,9,-999.0000,  -999.00,9,  -999.00, -999.000,9, -999.000
  06AQ19960317,  S04a,    88,  1,     10,     14,2,19960502,   0,-65.8110, -34.9607, 4747,   1001.5,   0.1574,  34.6771,2,  34.6761,2,    202.7,2,   126.36,2,    34.43,2,     0.02,2,     2.37,2,    0.102,2,    0.053,2,    0.003,3,    0.317,2,   2267.0,2, -999.000,9, -999.000,   1.8810,2,   0.0050,     7.87,2,     0.22,    8.180,2,    0.018
  06AQ19960317,  S04a,    88,  1,      9,     15,2,19960502,   0,-65.8110, -34.9607, 4747,   1501.8,  -0.0273,  34.6675,2,  34.6685,2,    214.8,2,   126.45,2,    33.99,2,     0.03,2,     2.34,2, -999.000,9, -999.000,9, -999.000,9, -999.000,9,   2260.9,2, -999.000,9, -999.000,-999.0000,9,-999.0000,  -999.00,9,  -999.00, -999.000,9, -999.000
  06AQ19960317,  S04a,    88,  1,      8,     16,2,19960502,   0,-65.8110, -34.9607, 4747,   2001.9,  -0.1639,  34.6631,2,  34.6632,2,    224.2,2,   125.66,2,    33.71,2,     0.03,2,     2.32,2,    0.143,2,    0.074,2,    0.003,2,    0.465,2,   2257.8,2,    0.024,2, -999.000,   1.8860,2,   0.0050,     6.22,2,     0.22,    8.188,2,    0.018
  06AQ19960317,  S04a,    88,  1,      7,     17,2,19960502,   0,-65.8110, -34.9607, 4747,   2501.1,  -0.2479,  34.6605,2,  34.6607,2,    229.7,2,   124.83,2,    33.37,2,     0.02,2,     2.31,2,    0.167,2,    0.095,2,    0.005,2,    0.529,2,   2255.3,2, -999.000,9, -999.000,   1.8770,2,   0.0050,     6.36,2,     0.22,    8.210,2,    0.018
  06AQ19960317,  S04a,    88,  1,      6,     18,2,19960502,   0,-65.8110, -34.9607, 4747,   3001.1,  -0.3077,  34.6581,2,  34.6570,2,    233.8,2,   124.37,2,    33.32,2,     0.02,2,     2.30,2,    0.183,2,    0.089,2,    0.004,2,    0.565,2,   2254.4,2,    0.013,2, -999.000,   1.8780,6,   0.0050,     5.77,6,     0.22,    8.209,6,    0.018
  06AQ19960317,  S04a,    88,  1,      5,     19,2,19960502,   0,-65.8110, -34.9607, 4747,   3500.6,  -0.3559,  34.6554,2,  34.6551,2,    237.5,2,   124.32,2,    33.26,2,     0.02,2,     2.29,2,    0.199,2,    0.097,2,    0.005,2,    0.622,2,   2251.0,2, -999.000,9, -999.000,-999.0000,9,-999.0000,  -999.00,9,  -999.00, -999.000,9, -999.000
  06AQ19960317,  S04a,    88,  1,      4,     20,2,19960502,   0,-65.8110, -34.9607, 4747,   3998.5,  -0.3890,  34.6549,2,  34.6527,2,    240.4,2,   126.12,2,    33.18,2,     0.02,2,     2.29,2,    0.176,2,    0.084,2,    0.005,2,    0.612,2,   2251.3,2,    0.031,2, -999.000,   1.8750,2,   0.0050,     4.86,2,     0.22,    8.177,2,    0.018
  06AQ19960317,  S04a,    88,  1,      3,     21,2,19960502,   0,-65.8110, -34.9607, 4747,   4499.3,  -0.4939,  34.6489,2,  34.6472,2,    246.7,2,   117.28,2,    32.86,2,     0.01,2,     2.27,2,    0.372,2,    0.175,2,    0.012,2,    0.898,2,   2247.0,2, -999.000,9, -999.000,-999.0000,9,-999.0000,  -999.00,9,  -999.00, -999.000,9, -999.000
  06AQ19960317,  S04a,    88,  1,      2,     22,2,19960502,   0,-65.8110, -34.9607, 4747,   4700.5,  -0.5127,  34.6465,2,  34.6464,2,    246.1,2,   122.54,2,    33.05,2,     0.01,2,     2.28,2,    0.395,2,    0.189,2,    0.009,2,    0.937,2,   2249.8,2,    0.082,2, -999.000,   1.8760,2,   0.0050,     3.88,2,     0.22,    8.233,2,    0.018
  06AQ19960317,  S04a,    88,  1,      1,     23,2,19960502,   0,-65.8110, -34.9607, 4747,   4752.1,  -0.5199,  34.6456,2,  34.6439,2,    247.4,2,   121.05,2,    32.99,2,     0.00,2,     2.28,2,    0.511,2,    0.242,2,    0.015,2,    1.005,2,   2250.8,2,    0.048,2, -999.000,   1.8840,2,   0.0050,     4.30,2,     0.22,    8.267,2,    0.018
  06AQ19960317,  S04a,    88,  1,     24,     24,2,19960502,   0,-65.8110, -34.9607, 4747,   4804.5,  -0.5275,  34.6438,2,  34.6430,2,    250.1,2,   119.86,2,    32.98,2,     0.01,2,     2.28,2,    0.685,2,    0.323,2,    0.016,2,    1.132,2,   2250.8,2,    0.044,2, -999.000,   1.9320,2,   0.0050,     4.05,2,     0.22,    8.367,2,    0.019
  06AQ19960317,  S04a,    89,  1,     23,      1,2,19960502,   0,-65.6388, -36.4980, 4753,     20.4,  -1.8766,  34.1483,2,  34.1470,2,    341.0,2,    57.24,2,    24.99,2,     0.17,2,     1.76,2,    6.411,2,    3.110,2,    0.555,2,    8.652,2,   -999.0,9, -999.000,9, -999.000,-999.0000,9,-999.0000,  -999.00,9,  -999.00, -999.000,9, -999.000
  06AQ19960317,  S04a,    89,  1,     22,      2,2,19960502,   0,-65.6388, -36.4980, 4753,     40.3,  -1.8756,  34.1486,2,  34.1418,2,    340.4,2,    57.34,2,    25.00,2,     0.16,2,     1.77,2,    6.498,2,    3.168,2,    0.554,2,    8.601,2,   2183.5,2, -999.000,9, -999.000,-999.0000,9,-999.0000,  -999.00,9,  -999.00, -999.000,9, -999.000
  06AQ19960317,  S04a,    89,  1,     21,      3,2,19960502,   0,-65.6388, -36.4980, 4753,     79.3,  -1.8715,  34.1527,2,  34.2621,2,   -999.0,9,    64.88,2,    27.13,2,     0.14,2,     1.92,2, -999.000,9, -999.000,9, -999.000,9, -999.000,9,   2202.8,2, -999.000,9, -999.000,-999.0000,9,-999.0000,  -999.00,9,  -999.00, -999.000,9, -999.000
  06AQ19960317,  S04a,    89,  1,     20,      4,2,19960502,   0,-65.6388, -36.4980, 4753,     79.3,  -1.8712,  34.1530,2,  34.1956,2,    315.8,2,    60.47,2,    25.90,2,     0.15,2,     1.84,2, -999.000,9, -999.000,9, -999.000,9, -999.000,9,   -999.0,9, -999.000,9, -999.000,-999.0000,9,-999.0000,  -999.00,9,  -999.00, -999.000,9, -999.000
  06AQ19960317,  S04a,    89,  1,     19,      5,2,19960502,   0,-65.6388, -36.4980, 4753,    101.4,  -1.3642,  34.4677,2,  34.4576,2,    271.0,2,    78.48,2,    30.60,2,     0.11,2,     2.12,2,    4.141,2,    1.963,2,    0.327,2,    5.014,2,   2230.5,2, -999.000,9, -999.000,-999.0000,9,-999.0000,  -999.00,9,  -999.00, -999.000,9, -999.000
  06AQ19960317,  S04a,    89,  1,     18,      6,2,19960502,   0,-65.6388, -36.4980, 4753,    150.6,  -0.0434,  34.6218,2,  34.6289,2,    203.3,2,   103.17,2,    33.87,2,     0.04,2,     2.33,2, -999.000,9, -999.000,9, -999.000,9, -999.000,9,   2263.6,2, -999.000,9, -999.000,-999.0000,9,-999.0000,  -999.00,9,  -999.00, -999.000,9, -999.000
  06AQ19960317,  S04a,    89,  1,     17,      7,2,19960502,   0,-65.6388, -36.4980, 4753,    231.0,   0.5340,  34.6848,2,  34.6837,2,    187.5,2,   114.32,2,    34.60,2,     0.02,2,     2.38,2,    0.396,2,    0.180,2,    0.015,2,    0.640,2,   2270.7,2, -999.000,9, -999.000,-999.0000,9,-999.0000,  -999.00,9,  -999.00, -999.000,9, -999.000
  06AQ19960317,  S04a,    89,  1,     16,      8,2,19960502,   0,-65.6388, -36.4980, 4753,    290.8,   0.4861,  34.6840,2,  34.6827,2,    187.1,2,   116.29,2,    34.63,2,     0.02,2,     2.38,2, -999.000,9, -999.000,9, -999.000,9, -999.000,9,   2272.5,2, -999.000,9, -999.000,-999.0000,9,-999.0000,  -999.00,9,  -999.00, -999.000,9, -999.000
  06AQ19960317,  S04a,    89,  1,     15,      9,2,19960502,   0,-65.6388, -36.4980, 4753,    350.5,   0.4584,  34.6858,2,  34.6838,2,    188.1,2,   118.84,2,    34.74,2,     0.03,2,     2.37,2,    0.245,2,    0.110,2,    0.008,2,    0.502,2,   2272.2,2, -999.000,9, -999.000,-999.0000,9,-999.0000,  -999.00,9,  -999.00, -999.000,9, -999.000
  06AQ19960317,  S04a,    89,  1,     14,     10,2,19960502,   0,-65.6388, -36.4980, 4753,    401.0,   0.4352,  34.6865,2,  34.6843,2,    188.1,2,   120.30,2,    34.78,2,     0.02,2,     2.37,2, -999.000,9, -999.000,9, -999.000,9, -999.000,9,   2271.6,2, -999.000,9, -999.000,-999.0000,9,-999.0000,  -999.00,9,  -999.00, -999.000,9, -999.000
  06AQ19960317,  S04a,    89,  1,     13,     11,2,19960502,   0,-65.6388, -36.4980, 4753,    501.2,   0.3853,  34.6846,2,  34.6838,2,    190.0,2,   123.24,2,    34.96,2,     0.03,2,     2.38,2,    0.155,2,    0.094,2,    0.005,2,    0.378,2,   2272.9,2, -999.000,9, -999.000,-999.0000,9,-999.0000,  -999.00,9,  -999.00, -999.000,9, -999.000
  06AQ19960317,  S04a,    89,  1,     12,     12,2,19960502,   0,-65.6388, -36.4980, 4753,    750.2,   0.2545,  34.6817,2,  34.6816,2,    195.7,2,   125.50,2,    34.55,2,     0.01,2,     2.38,2, -999.000,9, -999.000,9, -999.000,9, -999.000,9,   2269.1,2, -999.000,9, -999.000,-999.0000,9,-999.0000,  -999.00,9,  -999.00, -999.000,9, -999.000
  06AQ19960317,  S04a,    89,  1,     11,     13,2,19960502,   0,-65.6388, -36.4980, 4753,   1000.9,   0.1476,  34.6763,2,  34.6783,2,    203.4,2,   126.09,2,    34.33,2,     0.01,2,     2.35,2,    0.106,2,    0.057,2,    0.002,2,    0.332,2,   2268.3,2, -999.000,9, -999.000,-999.0000,9,-999.0000,  -999.00,9,  -999.00, -999.000,9, -999.000
  06AQ19960317,  S04a,    89,  1,     10,     14,2,19960502,   0,-65.6388, -36.4980, 4753,   1500.8,  -0.0375,  34.6674,2,  34.6676,2,    215.4,2,   126.57,2,    33.93,2,     0.01,2,     2.33,2,    0.131,2,    0.098,4,    0.004,2,    0.388,2,   2261.5,2, -999.000,9, -999.000,-999.0000,9,-999.0000,  -999.00,9,  -999.00, -999.000,9, -999.000
  06AQ19960317,  S04a,    89,  1,      9,     15,2,19960502,   0,-65.6388, -36.4980, 4753,   2000.8,  -0.1703,  34.6625,2,  34.6625,2,    224.3,2,   125.99,2,    33.48,2,     0.01,2,     2.30,2, -999.000,9, -999.000,9, -999.000,9, -999.000,9,   2258.9,2, -999.000,9, -999.000,-999.0000,9,-999.0000,  -999.00,9,  -999.00, -999.000,9, -999.000
  06AQ19960317,  S04a,    89,  1,      8,     16,2,19960502,   0,-65.6388, -36.4980, 4753,   2503.5,  -0.2559,  34.6594,2,  34.6596,2,    229.9,2,   125.21,2,    33.36,2,     0.01,2,     2.30,2, -999.000,9, -999.000,9, -999.000,9, -999.000,9,   2256.2,2, -999.000,9, -999.000,-999.0000,9,-999.0000,  -999.00,9,  -999.00, -999.000,9, -999.000
  06AQ19960317,  S04a,    89,  1,      7,     17,2,19960502,   0,-65.6388, -36.4980, 4753,   3001.5,  -0.3200,  34.6569,2,  34.6562,2,    234.7,2,   124.03,2,    33.05,2,     0.01,2,     2.28,2,    0.163,2,    0.083,2,    0.004,2,    0.531,2,   2253.0,2, -999.000,9, -999.000,-999.0000,9,-999.0000,  -999.00,9,  -999.00, -999.000,9, -999.000
  06AQ19960317,  S04a,    89,  1,      6,     18,2,19960502,   0,-65.6388, -36.4980, 4753,   3500.2,  -0.3531,  34.6556,2,  34.6549,2,    237.1,2,   124.42,2,    33.02,2,     0.01,2,     2.28,2,    0.188,2,    0.095,2,    0.005,2,    0.619,2,   2251.6,2, -999.000,9, -999.000,-999.0000,9,-999.0000,  -999.00,9,  -999.00, -999.000,9, -999.000
  06AQ19960317,  S04a,    89,  1,      5,     19,2,19960502,   0,-65.6388, -36.4980, 4753,   3997.8,  -0.3961,  34.6536,2,  34.6525,2,    241.0,2,   125.31,2,    33.03,2,     0.01,2,     2.27,2, -999.000,9, -999.000,9, -999.000,9, -999.000,9,   2251.4,2, -999.000,9, -999.000,-999.0000,9,-999.0000,  -999.00,9,  -999.00, -999.000,9, -999.000
  06AQ19960317,  S04a,    89,  1,      4,     20,2,19960502,   0,-65.6388, -36.4980, 4753,   4499.2,  -0.5050,  34.6463,2,  34.6442,2,    247.9,2,   116.00,2,    32.82,2,     0.01,2,     2.26,2,    0.565,2,    0.257,2,    0.017,2,    1.071,2,   2249.3,2, -999.000,9, -999.000,-999.0000,9,-999.0000,  -999.00,9,  -999.00, -999.000,9, -999.000
  06AQ19960317,  S04a,    89,  1,      3,     21,2,19960502,   0,-65.6388, -36.4980, 4753,   4649.1,  -0.5207,  34.6459,2,-999.0000,9,    248.2,2,   117.07,2,    32.88,2,     0.01,2,     2.26,2, -999.000,9, -999.000,9, -999.000,9, -999.000,9,   2248.3,2, -999.000,9, -999.000,-999.0000,9,-999.0000,  -999.00,9,  -999.00, -999.000,9, -999.000
  06AQ19960317,  S04a,    89,  1,      2,     22,2,19960502,   0,-65.6388, -36.4980, 4753,   4718.3,  -0.5224,  34.6463,2,-999.0000,9,    247.8,2,   119.33,2,    32.88,2,     0.01,2,     2.26,2,    0.532,2,    0.247,2,    0.014,2,    1.060,2,   2249.0,2, -999.000,9, -999.000,-999.0000,9,-999.0000,  -999.00,9,  -999.00, -999.000,9, -999.000
  06AQ19960317,  S04a,    89,  1,      1,     23,2,19960502,   0,-65.6388, -36.4980, 4753,   4768.0,  -0.5273,  34.6452,2,-999.0000,9,    248.7,2,   118.55,2,    32.95,2,     0.01,2,     2.26,2,    0.610,2,    0.281,2,    0.017,2,    1.114,2,   2251.3,2, -999.000,9, -999.000,-999.0000,9,-999.0000,  -999.00,9,  -999.00, -999.000,9, -999.000
  06AQ19960317,  S04a,    89,  1,     24,     24,2,19960502,   0,-65.6388, -36.4980, 4753,   4816.9,  -0.5322,  34.6430,2,  34.6414,2,    249.5,2,   117.56,2,    32.87,2,     0.01,2,     2.24,2,    0.745,2,    0.346,2,    0.019,2,    1.187,2,   2251.9,2, -999.000,9, -999.000,-999.0000,9,-999.0000,  -999.00,9,  -999.00, -999.000,9, -999.000