BOTTLE,20150129PRINUNIVRMK
EXPOCODE,SECT_ID,STNNBR,CASTNO,SAMPNO,BTLNBR,BTLNBR_FLAG_W,DATE,TIME,LATITUDE,LONGITUDE,DEPTH,CTDPRS,CTDTMP,CTDSAL,CTDSAL_FLAG_W,SALNTY,SALNTY_FLAG_W,OXYGEN,OXYGEN_FLAG_W,SILCAT,SILCAT_FLAG_W,NITRAT,NITRAT_FLAG_W,NITRIT,NITRIT_FLAG_W,PHSPHT,PHSPHT_FLAG_W,CFC-11,CFC-11_FLAG_W,CFC-12,CFC-12_FLAG_W,CFC113,CFC113_FLAG_W,CCL4,CCL4_FLAG_W,TCARBN,TCARBN_FLAG_W,TRITUM,TRITUM_FLAG_W,TRITER,HELIUM,HELIUM_FLAG_W,HELIER,DELHE3,DELHE3_FLAG_W,DELHER,NEON,NEON_FLAG_W,NEONER
,,,,,,,,,,,METERS,DBAR,ITS-90,PSS-78,,PSS-78,,UMOL/KG,,UMOL/KG,,UMOL/KG,,UMOL/KG,,UMOL/KG,,PMOL/KG,,PMOL/KG,,PMOL/KG,,PMOL/KG,,UMOL/KG,,TU,,TU,NMOL/KG,,NMOL/KG,PERCNT,,PERCNT,NMOL/KG,,NMOL/KG
  06AQ19960317,  S04a,    96,  1,     23,      1,2,19960506,   0,-64.1920, -47.4955, 4177,     20.7,  -1.8685,  34.0983,2,  34.1087,2,    323.9,2,    63.90,2,    26.28,2,     0.15,2,     1.83,2,    5.876,2,    2.847,2,    0.501,2,    7.769,2,   2189.4,2, -999.000,9, -999.000,-999.0000,9,-999.0000,  -999.00,9,  -999.00, -999.000,9, -999.000
  06AQ19960317,  S04a,    96,  1,     22,      2,2,19960506,   0,-64.1920, -47.4955, 4177,     40.9,  -1.8683,  34.1001,2,  34.1889,2,    307.5,2,    67.43,2,    26.46,2,     0.15,2,     1.93,2, -999.000,9, -999.000,9, -999.000,9, -999.000,9,   2200.1,2, -999.000,9, -999.000,-999.0000,9,-999.0000,  -999.00,9,  -999.00, -999.000,9, -999.000
  06AQ19960317,  S04a,    96,  1,     21,      3,2,19960506,   0,-64.1920, -47.4955, 4177,     80.5,  -1.5274,  34.4230,2,  34.4245,2,    270.2,2,    76.27,2,    29.88,2,     0.08,2,     2.16,2,    3.777,2,    1.750,2,    0.290,2,    4.758,2,   2228.8,2, -999.000,9, -999.000,-999.0000,9,-999.0000,  -999.00,9,  -999.00, -999.000,9, -999.000
  06AQ19960317,  S04a,    96,  1,     20,      4,2,19960506,   0,-64.1920, -47.4955, 4177,     80.5,  -1.5105,  34.4256,2,-999.0000,9,   -999.0,9,  -999.00,9,  -999.00,9,  -999.00,9,  -999.00,9, -999.000,9, -999.000,9, -999.000,9, -999.000,9,   -999.0,9, -999.000,9, -999.000,-999.0000,9,-999.0000,  -999.00,9,  -999.00, -999.000,9, -999.000
  06AQ19960317,  S04a,    96,  1,     19,      5,2,19960506,   0,-64.1920, -47.4955, 4177,     99.9,  -0.8849,  34.5124,2,  34.5245,2,    241.3,2,  -999.00,9,  -999.00,9,  -999.00,9,  -999.00,9, -999.000,9, -999.000,9, -999.000,9, -999.000,9,   2240.6,2, -999.000,9, -999.000,-999.0000,9,-999.0000,  -999.00,9,  -999.00, -999.000,9, -999.000
  06AQ19960317,  S04a,    96,  1,     18,      6,2,19960506,   0,-64.1920, -47.4955, 4177,    151.1,   0.4115,  34.6457,2,  34.6485,2,    201.0,2,  -999.00,9,  -999.00,9,  -999.00,9,  -999.00,9,    1.056,2,    0.498,2,    0.063,2,    1.386,2,   2256.6,2, -999.000,9, -999.000,-999.0000,9,-999.0000,  -999.00,9,  -999.00, -999.000,9, -999.000
  06AQ19960317,  S04a,    96,  1,     17,      7,2,19960506,   0,-64.1920, -47.4955, 4177,    200.8,   0.7122,  34.6740,2,  34.6754,2,    196.8,2,   100.15,2,    32.20,2,     0.03,2,     2.28,2, -999.000,9, -999.000,9, -999.000,9, -999.000,9,   2259.4,2, -999.000,9, -999.000,-999.0000,9,-999.0000,  -999.00,9,  -999.00, -999.000,9, -999.000
  06AQ19960317,  S04a,    96,  1,     16,      8,2,19960506,   0,-64.1920, -47.4955, 4177,    280.8,   0.8091,  34.6883,2,  34.6877,2,   -999.0,9,   102.88,2,    32.39,2,     0.02,2,     2.27,2,    0.518,2,    0.247,2,    0.025,2,    0.794,2,   2261.1,2, -999.000,9, -999.000,-999.0000,9,-999.0000,  -999.00,9,  -999.00, -999.000,9, -999.000
  06AQ19960317,  S04a,    96,  1,     15,      9,2,19960506,   0,-64.1920, -47.4955, 4177,    301.1,   0.8007,  34.6895,2,-999.0000,9,    195.2,2,   103.78,2,    33.10,2,     0.02,2,     2.28,2, -999.000,9, -999.000,9, -999.000,9, -999.000,9,   2259.6,2, -999.000,9, -999.000,-999.0000,9,-999.0000,  -999.00,9,  -999.00, -999.000,9, -999.000
  06AQ19960317,  S04a,    96,  1,     14,     10,2,19960506,   0,-64.1920, -47.4955, 4177,    410.5,   0.7215,  34.6922,2,  34.6895,2,    197.1,2,   107.20,2,    33.10,2,     0.02,2,     2.29,2,    0.403,2,    0.189,2,    0.017,2,    0.655,2,   2258.0,2, -999.000,9, -999.000,-999.0000,9,-999.0000,  -999.00,9,  -999.00, -999.000,9, -999.000
  06AQ19960317,  S04a,    96,  1,     13,     11,2,19960506,   0,-64.1920, -47.4955, 4177,    500.4,   0.6498,  34.6911,2,  34.6923,2,    198.4,2,   110.49,2,    33.41,2,     0.02,2,     2.29,2, -999.000,9, -999.000,9, -999.000,9, -999.000,9,   2257.8,2, -999.000,9, -999.000,-999.0000,9,-999.0000,  -999.00,9,  -999.00, -999.000,9, -999.000
  06AQ19960317,  S04a,    96,  1,     12,     12,2,19960506,   0,-64.1920, -47.4955, 4177,    601.1,   0.5548,  34.6895,2,  34.6897,2,    199.9,2,   113.74,2,    33.26,2,     0.02,2,     2.29,2,    0.287,2,    0.158,2,    0.009,2,    0.501,2,   2259.2,2, -999.000,9, -999.000,-999.0000,9,-999.0000,  -999.00,9,  -999.00, -999.000,9, -999.000
  06AQ19960317,  S04a,    96,  1,     11,     13,2,19960506,   0,-64.1920, -47.4955, 4177,    751.0,   0.4455,  34.6865,2,  34.6864,2,    201.3,2,   117.12,2,    33.50,2,     0.00,2,     2.31,2,    0.209,2,    0.108,2,    0.006,2,    0.416,2,   2260.3,2, -999.000,9, -999.000,-999.0000,9,-999.0000,  -999.00,9,  -999.00, -999.000,9, -999.000
  06AQ19960317,  S04a,    96,  1,     10,     14,2,19960506,   0,-64.1920, -47.4955, 4177,   1000.9,   0.3054,  34.6809,2,  34.6811,2,    200.7,2,   121.67,2,    33.93,2,     0.01,2,     2.33,2,    0.165,2,    0.080,2,    0.004,2,    0.393,2,   2263.7,2, -999.000,9, -999.000,-999.0000,9,-999.0000,  -999.00,9,  -999.00, -999.000,9, -999.000
  06AQ19960317,  S04a,    96,  1,      9,     15,2,19960506,   0,-64.1920, -47.4955, 4177,   1500.9,   0.0786,  34.6716,2,-999.0000,9,    212.4,2,   123.64,2,    33.57,2,     0.01,2,     2.31,2,    0.172,2,    0.080,2,    0.004,2,    0.429,2,   2258.2,2, -999.000,9, -999.000,-999.0000,9,-999.0000,  -999.00,9,  -999.00, -999.000,9, -999.000
  06AQ19960317,  S04a,    96,  1,      8,     16,2,19960506,   0,-64.1920, -47.4955, 4177,   2000.6,  -0.0718,  34.6645,2,  34.6669,2,    220.6,2,   124.51,2,    33.45,2,     0.00,2,     2.32,2,    0.169,2,    0.078,2,    0.004,2,    0.456,2,   2256.0,2, -999.000,9, -999.000,-999.0000,9,-999.0000,  -999.00,9,  -999.00, -999.000,9, -999.000
  06AQ19960317,  S04a,    96,  1,      7,     17,2,19960506,   0,-64.1920, -47.4955, 4177,   2500.5,  -0.1788,  34.6616,2,  34.6619,2,    227.4,2,   123.61,2,    33.06,2,     0.01,2,     2.29,2,    0.250,2,    0.112,2,    0.007,2,    0.614,2,   2254.1,2, -999.000,9, -999.000,-999.0000,9,-999.0000,  -999.00,9,  -999.00, -999.000,9, -999.000
  06AQ19960317,  S04a,    96,  1,      6,     18,2,19960506,   0,-64.1920, -47.4955, 4177,   3499.9,  -0.3046,  34.6573,2,  34.6557,2,    236.1,2,   123.56,2,    32.77,2,     0.00,2,     2.27,2,    0.330,2,    0.158,2,    0.010,2,    0.769,2,   2249.2,2, -999.000,9, -999.000,-999.0000,9,-999.0000,  -999.00,9,  -999.00, -999.000,9, -999.000
  06AQ19960317,  S04a,    96,  1,      5,     19,2,19960506,   0,-64.1920, -47.4955, 4177,   3983.9,  -0.3468,  34.6554,2,  34.6533,2,    239.3,2,   125.85,2,    32.85,2,     0.00,2,     2.26,2,    0.247,2,    0.117,2,    0.008,2,    0.694,2,   2249.9,2, -999.000,9, -999.000,-999.0000,9,-999.0000,  -999.00,9,  -999.00, -999.000,9, -999.000
  06AQ19960317,  S04a,    96,  1,      4,     20,2,19960506,   0,-64.1920, -47.4955, 4177,   4134.2,  -0.3726,  34.6537,2,  34.6519,2,    241.1,2,   124.94,2,    32.94,2,     0.00,2,     2.29,2,    0.366,2,    0.200,2,    0.015,2,    0.755,2,   2250.3,2, -999.000,9, -999.000,-999.0000,9,-999.0000,  -999.00,9,  -999.00, -999.000,9, -999.000
  06AQ19960317,  S04a,    96,  1,      3,     21,2,19960506,   0,-64.1920, -47.4955, 4177,   4184.2,  -0.5036,  34.6510,2,  34.6388,4,    247.1,2,   116.20,2,    32.55,2,     0.00,2,     2.25,2,    0.936,2,    0.430,2,    0.051,2,    1.229,2,   2247.7,2, -999.000,9, -999.000,-999.0000,9,-999.0000,  -999.00,9,  -999.00, -999.000,9, -999.000
  06AQ19960317,  S04a,    96,  1,      2,     22,2,19960506,   0,-64.1920, -47.4955, 4177,   4235.7,  -0.7011,  34.6421,2,  34.6402,2,    258.0,2,   100.36,2,    32.21,2,     0.00,2,     2.22,2,    2.067,2,    0.974,2,    0.130,2,    2.119,2,   2244.3,2, -999.000,9, -999.000,-999.0000,9,-999.0000,  -999.00,9,  -999.00, -999.000,9, -999.000
  06AQ19960317,  S04a,    96,  1,      1,     23,2,19960506,   0,-64.1920, -47.4955, 4177,   4235.7,  -0.7019,  34.6422,2,-999.0000,9,   -999.0,9,   100.19,2,    32.12,2,     0.00,2,     2.22,2, -999.000,9, -999.000,9, -999.000,9, -999.000,9,   -999.0,9, -999.000,9, -999.000,-999.0000,9,-999.0000,  -999.00,9,  -999.00, -999.000,9, -999.000
  06AQ19960317,  S04a,    96,  1,     24,     24,2,19960506,   0,-64.1920, -47.4955, 4177,   4235.7,  -0.7012,  34.6413,2,-999.0000,9,   -999.0,9,   100.04,2,    32.03,2,     0.00,2,     2.22,2, -999.000,9, -999.000,9, -999.000,9, -999.000,9,   -999.0,9, -999.000,9, -999.000,-999.0000,9,-999.0000,  -999.00,9,  -999.00, -999.000,9, -999.000
  06AQ19960317,  S04a,    97,  1,     23,      1,2,19960506,   0,-63.9495, -49.1278, 3521,     20.9,  -1.8666,  34.1474,2,  34.1470,2,    323.9,2,    65.64,2,    27.12,2,     0.14,2,     1.85,2,    5.818,2,    2.892,2,    0.498,2,    7.672,2,   -999.0,9, -999.000,9, -999.000,-999.0000,9,-999.0000,  -999.00,9,  -999.00, -999.000,9, -999.000
  06AQ19960317,  S04a,    97,  1,     22,      2,2,19960506,   0,-63.9495, -49.1278, 3521,     40.0,  -1.8664,  34.1491,2,  34.1479,2,    323.5,2,    65.41,2,    27.04,2,     0.15,2,     1.86,2,    5.728,2,    2.832,2,    0.479,2,    7.545,2,   -999.0,9, -999.000,9, -999.000,-999.0000,9,-999.0000,  -999.00,9,  -999.00, -999.000,9, -999.000
  06AQ19960317,  S04a,    97,  1,     21,      3,2,19960506,   0,-63.9495, -49.1278, 3521,     80.6,  -1.5226,  34.3637,2,  34.3802,2,    276.4,2,    76.97,2,    30.44,2,     0.20,2,     2.14,2,    3.924,2,    1.918,2,    0.303,2,    4.795,2,   -999.0,9, -999.000,9, -999.000,-999.0000,9,-999.0000,  -999.00,9,  -999.00, -999.000,9, -999.000
  06AQ19960317,  S04a,    97,  1,     20,      4,2,19960506,   0,-63.9495, -49.1278, 3521,     80.6,  -1.5233,  34.3635,2,-999.0000,9,   -999.0,9,    77.52,2,    30.64,2,     0.21,2,     2.15,2, -999.000,9, -999.000,9, -999.000,9, -999.000,9,   -999.0,9, -999.000,9, -999.000,-999.0000,9,-999.0000,  -999.00,9,  -999.00, -999.000,9, -999.000
  06AQ19960317,  S04a,    97,  1,     19,      5,2,19960506,   0,-63.9495, -49.1278, 3521,    100.2,  -1.0275,  34.5054,2,  34.5001,2,    248.5,2,    84.05,2,    32.16,2,     0.17,2,     2.22,2,    2.965,2,    1.440,2,    0.215,2,    3.537,2,   -999.0,9, -999.000,9, -999.000,-999.0000,9,-999.0000,  -999.00,9,  -999.00, -999.000,9, -999.000
  06AQ19960317,  S04a,    97,  1,     18,      6,2,19960506,   0,-63.9495, -49.1278, 3521,    150.3,   0.2567,  34.6338,2,  34.6335,2,    205.1,2,    96.79,2,    33.19,2,     0.05,2,     2.29,2,    1.253,2,    0.594,2,    0.080,2,    1.536,2,   -999.0,9, -999.000,9, -999.000,-999.0000,9,-999.0000,  -999.00,9,  -999.00, -999.000,9, -999.000
  06AQ19960317,  S04a,    97,  1,     17,      7,2,19960506,   0,-63.9495, -49.1278, 3521,    200.5,   0.6161,  34.6695,2,  34.6693,2,    196.3,2,   101.64,2,    33.47,2,     0.03,2,     2.29,2,    0.760,2,    0.334,2,    0.033,2,    1.032,2,   -999.0,9, -999.000,9, -999.000,-999.0000,9,-999.0000,  -999.00,9,  -999.00, -999.000,9, -999.000
  06AQ19960317,  S04a,    97,  1,     16,      8,2,19960506,   0,-63.9495, -49.1278, 3521,    270.8,   0.6545,  34.6820,2,  34.6817,2,    196.1,2,   105.17,2,    33.49,2,     0.03,2,     2.31,2,    0.541,2,    0.245,2,    0.025,2,    0.813,2,   -999.0,9, -999.000,9, -999.000,-999.0000,9,-999.0000,  -999.00,9,  -999.00, -999.000,9, -999.000
  06AQ19960317,  S04a,    97,  1,     15,      9,2,19960506,   0,-63.9495, -49.1278, 3521,    300.6,   0.6526,  34.6831,2,  34.6849,2,    196.2,2,   106.38,2,    33.43,2,     0.01,2,     2.29,2,    0.488,2,    0.216,2,    0.017,2,    0.766,2,   -999.0,9, -999.000,9, -999.000,-999.0000,9,-999.0000,  -999.00,9,  -999.00, -999.000,9, -999.000
  06AQ19960317,  S04a,    97,  1,     14,     10,2,19960506,   0,-63.9495, -49.1278, 3521,    400.7,   0.6323,  34.6882,2,  34.6889,2,    196.9,2,   110.08,2,    33.51,2,     0.01,2,     2.31,2,    0.361,2,    0.163,2,    0.015,2,    0.627,2,   -999.0,9, -999.000,9, -999.000,-999.0000,9,-999.0000,  -999.00,9,  -999.00, -999.000,9, -999.000
  06AQ19960317,  S04a,    97,  1,     13,     11,2,19960506,   0,-63.9495, -49.1278, 3521,    501.5,   0.5935,  34.6894,2,  34.6901,2,    197.8,2,   112.30,2,    33.48,2,     0.02,2,     2.30,2,    0.280,2,    0.138,3,    0.014,2,    0.530,2,   -999.0,9, -999.000,9, -999.000,-999.0000,9,-999.0000,  -999.00,9,  -999.00, -999.000,9, -999.000
  06AQ19960317,  S04a,    97,  1,     12,     12,2,19960506,   0,-63.9495, -49.1278, 3521,    601.3,   0.5355,  34.6891,2,  34.6895,2,    198.7,2,   115.35,2,    33.49,2,     0.01,2,     2.31,2,    0.214,2,    0.099,2,    0.005,2,    0.445,2,   -999.0,9, -999.000,9, -999.000,-999.0000,9,-999.0000,  -999.00,9,  -999.00, -999.000,9, -999.000
  06AQ19960317,  S04a,    97,  1,     11,     13,2,19960506,   0,-63.9495, -49.1278, 3521,    751.1,   0.4291,  34.6851,2,  34.6873,2,    200.3,2,   118.84,2,    33.88,2,     0.02,2,     2.34,2,    0.174,2,    0.083,2,    0.004,2,    0.388,2,   -999.0,9, -999.000,9, -999.000,-999.0000,9,-999.0000,  -999.00,9,  -999.00, -999.000,9, -999.000
  06AQ19960317,  S04a,    97,  1,     10,     14,2,19960506,   0,-63.9495, -49.1278, 3521,   1000.8,   0.2778,  34.6785,2,  34.6805,2,    203.4,2,   122.02,2,    33.99,2,     0.02,2,     2.34,2,    0.155,2,    0.077,2,    0.005,2,    0.375,2,   -999.0,9, -999.000,9, -999.000,-999.0000,9,-999.0000,  -999.00,9,  -999.00, -999.000,9, -999.000
  06AQ19960317,  S04a,    97,  1,      9,     15,2,19960506,   0,-63.9495, -49.1278, 3521,   1251.2,   0.1753,  34.6746,2,  34.6753,2,    207.1,2,   123.24,2,    33.76,2,     0.01,2,     2.33,2,    0.170,2,    0.101,4,    0.004,2,    0.394,2,   -999.0,9, -999.000,9, -999.000,-999.0000,9,-999.0000,  -999.00,9,  -999.00, -999.000,9, -999.000
  06AQ19960317,  S04a,    97,  1,      8,     16,2,19960506,   0,-63.9495, -49.1278, 3521,   1500.9,   0.0699,  34.6709,2,  34.6713,2,    212.3,2,   124.17,2,    33.77,2,     0.02,2,     2.34,2,    0.160,2,    0.080,2,    0.003,2,    0.393,2,   -999.0,9, -999.000,9, -999.000,-999.0000,9,-999.0000,  -999.00,9,  -999.00, -999.000,9, -999.000
  06AQ19960317,  S04a,    97,  1,      7,     17,2,19960506,   0,-63.9495, -49.1278, 3521,   1999.9,  -0.0918,  34.6641,2,  34.6648,2,    221.6,2,   123.71,2,    33.35,2,     0.02,2,     2.31,2,    0.204,2,    0.101,2,    0.006,2,    0.505,2,   -999.0,9, -999.000,9, -999.000,-999.0000,9,-999.0000,  -999.00,9,  -999.00, -999.000,9, -999.000
  06AQ19960317,  S04a,    97,  1,      6,     18,2,19960506,   0,-63.9495, -49.1278, 3521,   2501.0,  -0.2067,  34.6599,2,  34.6605,2,    228.9,2,   124.24,2,    33.34,2,     0.02,2,     2.31,2,    0.287,2,    0.141,2,    0.008,2,    0.661,2,   -999.0,9,    0.099,2, -999.000,-999.0000,9,-999.0000,  -999.00,9,  -999.00, -999.000,9, -999.000
  06AQ19960317,  S04a,    97,  1,      5,     19,2,19960506,   0,-63.9495, -49.1278, 3521,   3300.5,  -0.3264,  34.6555,2,  34.6551,2,    236.7,2,   124.37,2,    33.09,2,     0.01,2,     2.30,2,    0.371,2,    0.181,2,    0.013,2,    0.811,2,   -999.0,9,    0.101,2, -999.000,-999.0000,9,-999.0000,  -999.00,9,  -999.00, -999.000,9, -999.000
  06AQ19960317,  S04a,    97,  1,      4,     20,2,19960506,   0,-63.9495, -49.1278, 3521,   3450.0,  -0.5034,  34.6458,2,  34.6464,2,    246.5,2,   113.04,2,    32.84,2,     0.02,2,     2.28,2,    1.214,2,    0.569,2,    0.068,2,    1.406,2,   -999.0,9,    0.095,2, -999.000,-999.0000,9,-999.0000,  -999.00,9,  -999.00, -999.000,9, -999.000
  06AQ19960317,  S04a,    97,  1,      3,     21,2,19960506,   0,-63.9495, -49.1278, 3521,   3498.7,  -0.6805,  34.6400,2,  34.6408,2,    256.7,2,   101.34,2,    32.69,2,     0.03,2,     2.26,2,    2.043,2,    0.964,2,    0.124,2,    2.067,2,   -999.0,9,    0.124,2, -999.000,-999.0000,9,-999.0000,  -999.00,9,  -999.00, -999.000,9, -999.000
  06AQ19960317,  S04a,    97,  1,      1,     23,2,19960506,   0,-63.9495, -49.1278, 3521,   3553.4,  -0.8765,  34.6366,2,-999.0000,9,   -999.0,9,    90.54,2,    32.29,2,     0.03,2,     2.23,2, -999.000,9, -999.000,9, -999.000,9, -999.000,9,   -999.0,9, -999.000,9, -999.000,-999.0000,9,-999.0000,  -999.00,9,  -999.00, -999.000,9, -999.000
  06AQ19960317,  S04a,    97,  1,     24,     24,2,19960506,   0,-63.9495, -49.1278, 3521,   3553.4,  -0.8781,  34.6366,2,-999.0000,9,   -999.0,9,    90.35,2,    31.96,2,     0.02,2,     2.21,2, -999.000,9, -999.000,9, -999.000,9, -999.000,9,   -999.0,9, -999.000,9, -999.000,-999.0000,9,-999.0000,  -999.00,9,  -999.00, -999.000,9, -999.000
  06AQ19960317,  S04a,    97,  1,      2,     22,2,19960506,   0,-63.9495, -49.1278, 3521,   3553.5,  -0.8736,  34.6361,2,  34.6367,2,    264.9,2,    90.01,2,    32.13,2,     0.02,2,     2.21,2,    2.840,2,    1.353,2,    0.189,2,    2.769,2,   -999.0,9,    0.128,2, -999.000,-999.0000,9,-999.0000,  -999.00,9,  -999.00, -999.000,9, -999.000