BOTTLE,20150129PRINUNIVRMK
EXPOCODE,SECT_ID,STNNBR,CASTNO,SAMPNO,BTLNBR,BTLNBR_FLAG_W,DATE,TIME,LATITUDE,LONGITUDE,DEPTH,CTDPRS,CTDTMP,CTDSAL,CTDSAL_FLAG_W,SALNTY,SALNTY_FLAG_W,OXYGEN,OXYGEN_FLAG_W,SILCAT,SILCAT_FLAG_W,NITRAT,NITRAT_FLAG_W,NITRIT,NITRIT_FLAG_W,PHSPHT,PHSPHT_FLAG_W,CFC-11,CFC-11_FLAG_W,CFC-12,CFC-12_FLAG_W,CFC113,CFC113_FLAG_W,CCL4,CCL4_FLAG_W,TCARBN,TCARBN_FLAG_W,TRITUM,TRITUM_FLAG_W,TRITER,HELIUM,HELIUM_FLAG_W,HELIER,DELHE3,DELHE3_FLAG_W,DELHER,NEON,NEON_FLAG_W,NEONER
,,,,,,,,,,,METERS,DBAR,ITS-90,PSS-78,,PSS-78,,UMOL/KG,,UMOL/KG,,UMOL/KG,,UMOL/KG,,UMOL/KG,,PMOL/KG,,PMOL/KG,,PMOL/KG,,PMOL/KG,,UMOL/KG,,TU,,TU,NMOL/KG,,NMOL/KG,PERCNT,,PERCNT,NMOL/KG,,NMOL/KG
  06AQ19960317,  S04a,    37,  1,     24,      1,2,19960413,   0,-56.0008,  -0.0025, 3787,     18.8,   0.5565,  33.9867,2,-999.0000,9,   -999.0,9,    63.96,2,    26.42,2,  -999.00,9,     1.80,2, -999.000,9, -999.000,9, -999.000,9, -999.000,9,   -999.0,9, -999.000,9, -999.000,-999.0000,9,-999.0000,  -999.00,9,  -999.00, -999.000,9, -999.000
  06AQ19960317,  S04a,    37,  1,     23,      2,2,19960413,   0,-56.0008,  -0.0025, 3787,     18.9,   0.5596,  33.9865,2,  33.9876,2,    332.1,2,    63.24,2,    26.36,2,  -999.00,9,     1.79,2,    6.062,2,    2.952,2,    0.523,2,    8.608,2,   2178.4,2, -999.000,9, -999.000,-999.0000,9,-999.0000,  -999.00,9,  -999.00, -999.000,9, -999.000
  06AQ19960317,  S04a,    37,  1,     22,      3,2,19960413,   0,-56.0008,  -0.0025, 3787,     40.2,   0.5596,  33.9866,2,-999.0000,9,    332.1,2,    63.42,2,    26.31,2,  -999.00,9,     1.80,2, -999.000,9, -999.000,9, -999.000,9, -999.000,9,   -999.0,9, -999.000,9, -999.000,-999.0000,9,-999.0000,  -999.00,9,  -999.00, -999.000,9, -999.000
  06AQ19960317,  S04a,    37,  1,     21,      4,2,19960413,   0,-56.0008,  -0.0025, 3787,     59.0,   0.5625,  33.9864,2,-999.0000,9,    332.1,2,    65.49,2,    26.49,2,  -999.00,9,     1.80,2, -999.000,9, -999.000,9, -999.000,9, -999.000,9,   2178.4,2, -999.000,9, -999.000,-999.0000,9,-999.0000,  -999.00,9,  -999.00, -999.000,9, -999.000
  06AQ19960317,  S04a,    37,  1,     20,      5,2,19960413,   0,-56.0008,  -0.0025, 3787,     59.0,   0.5624,  33.9865,2,  33.9879,2,   -999.0,9,    64.16,2,    26.26,2,  -999.00,9,     1.80,2, -999.000,9, -999.000,9, -999.000,9, -999.000,9,   -999.0,9, -999.000,9, -999.000,-999.0000,9,-999.0000,  -999.00,9,  -999.00, -999.000,9, -999.000
  06AQ19960317,  S04a,    37,  1,     19,      6,2,19960413,   0,-56.0008,  -0.0025, 3787,     79.7,   0.5622,  33.9870,2,-999.0000,9,    331.1,2,    63.38,2,    26.36,2,  -999.00,9,     1.82,2, -999.000,9, -999.000,9, -999.000,9, -999.000,9,   2177.7,2, -999.000,9, -999.000,-999.0000,9,-999.0000,  -999.00,9,  -999.00, -999.000,9, -999.000
  06AQ19960317,  S04a,    37,  1,     18,      7,2,19960413,   0,-56.0008,  -0.0025, 3787,    101.8,  -0.3056,  34.1680,2,-999.0000,9,    305.1,2,    71.80,2,    28.46,2,  -999.00,9,     1.98,2, -999.000,9, -999.000,9, -999.000,9, -999.000,9,   -999.0,9, -999.000,9, -999.000,-999.0000,9,-999.0000,  -999.00,9,  -999.00, -999.000,9, -999.000
  06AQ19960317,  S04a,    37,  1,     17,      8,2,19960413,   0,-56.0008,  -0.0025, 3787,    102.0,  -0.3270,  34.1776,2,  34.1881,2,    297.8,2,    71.25,2,    28.85,2,  -999.00,9,     2.00,2,    5.104,2,    2.430,2,    0.405,2,    6.794,2,   2209.2,2, -999.000,9, -999.000,-999.0000,9,-999.0000,  -999.00,9,  -999.00, -999.000,9, -999.000
  06AQ19960317,  S04a,    37,  1,     15,     10,2,19960413,   0,-56.0008,  -0.0025, 3787,    200.8,   0.8865,  34.5831,2,  34.5849,2,    202.7,2,    88.26,2,    33.28,2,  -999.00,9,     2.28,2,    1.537,2,    0.737,2,    0.105,2,    1.963,2,   2255.7,2, -999.000,9, -999.000,-999.0000,9,-999.0000,  -999.00,9,  -999.00, -999.000,9, -999.000
  06AQ19960317,  S04a,    37,  1,     16,      9,2,19960413,   0,-56.0008,  -0.0025, 3787,    201.1,   0.8867,  34.5835,2,-999.0000,9,   -999.0,9,    88.33,2,    33.25,2,  -999.00,9,     2.27,2, -999.000,9, -999.000,9, -999.000,9, -999.000,9,   -999.0,9, -999.000,9, -999.000,-999.0000,9,-999.0000,  -999.00,9,  -999.00, -999.000,9, -999.000
  06AQ19960317,  S04a,    37,  1,     14,     11,2,19960413,   0,-56.0008,  -0.0025, 3787,    250.9,   1.0881,  34.6455,2,  34.6769,2,    194.4,2,    94.63,2,    32.66,2,  -999.00,9,     2.25,2,    0.917,2,    0.417,2,    0.064,2,    1.189,2,   2259.6,2, -999.000,9, -999.000,-999.0000,9,-999.0000,  -999.00,9,  -999.00, -999.000,9, -999.000
  06AQ19960317,  S04a,    37,  1,     13,     12,2,19960413,   0,-56.0008,  -0.0025, 3787,    349.7,   1.0329,  34.6717,2,  34.6746,2,    197.8,2,    98.94,2,    32.64,2,  -999.00,9,     2.23,2, -999.000,9, -999.000,9, -999.000,9, -999.000,9,   2260.1,2, -999.000,9, -999.000,-999.0000,9,-999.0000,  -999.00,9,  -999.00, -999.000,9, -999.000
  06AQ19960317,  S04a,    37,  1,     12,     13,2,19960413,   0,-56.0008,  -0.0025, 3787,    500.2,   0.8650,  34.6828,2,  34.6849,2,    197.5,2,   103.72,2,    32.54,2,  -999.00,9,     2.23,2, -999.000,9, -999.000,9, -999.000,9, -999.000,9,   2260.1,2, -999.000,9, -999.000,-999.0000,9,-999.0000,  -999.00,9,  -999.00, -999.000,9, -999.000
  06AQ19960317,  S04a,    37,  1,     11,     14,2,19960413,   0,-56.0008,  -0.0025, 3787,    601.2,   0.6992,  34.6803,2,  34.6816,2,    199.1,2,   108.12,2,    32.83,2,  -999.00,9,     2.25,2,    0.475,2,    0.226,2,    0.028,2,    0.706,2,   2261.9,2, -999.000,9, -999.000,-999.0000,9,-999.0000,  -999.00,9,  -999.00, -999.000,9, -999.000
  06AQ19960317,  S04a,    37,  1,     10,     15,2,19960413,   0,-56.0008,  -0.0025, 3787,    799.0,   0.5397,  34.6828,2,  34.6839,2,    200.7,2,   113.10,2,    33.02,2,  -999.00,9,     2.26,2, -999.000,9, -999.000,9, -999.000,9, -999.000,9,   2263.4,2, -999.000,9, -999.000,-999.0000,9,-999.0000,  -999.00,9,  -999.00, -999.000,9, -999.000
  06AQ19960317,  S04a,    37,  1,      9,     16,2,19960413,   0,-56.0008,  -0.0025, 3787,   1003.8,   0.3958,  34.6805,2,  34.6818,2,    201.1,2,   117.60,2,    33.35,2,  -999.00,9,     2.29,2,    0.273,2,    0.126,2,    0.011,2,    0.484,2,   2263.6,2, -999.000,9, -999.000,-999.0000,9,-999.0000,  -999.00,9,  -999.00, -999.000,9, -999.000
  06AQ19960317,  S04a,    37,  1,      8,     17,2,19960413,   0,-56.0008,  -0.0025, 3787,   1503.0,   0.1522,  34.6730,2,  34.6723,2,    209.1,2,   121.31,2,    33.26,2,  -999.00,9,     2.29,2,    0.212,2,    0.099,2,    0.009,2,    0.462,2,   2264.7,2, -999.000,9, -999.000,-999.0000,9,-999.0000,  -999.00,9,  -999.00, -999.000,9, -999.000
  06AQ19960317,  S04a,    37,  1,      7,     18,2,19960413,   0,-56.0008,  -0.0025, 3787,   1999.9,  -0.0095,  34.6657,2,  34.6662,2,    217.0,2,   123.07,2,    33.22,2,  -999.00,9,     2.28,2,    0.226,2,    0.109,2,    0.008,2,    0.510,2,   2263.0,2, -999.000,9, -999.000,-999.0000,9,-999.0000,  -999.00,9,  -999.00, -999.000,9, -999.000
  06AQ19960317,  S04a,    37,  1,      6,     19,2,19960413,   0,-56.0008,  -0.0025, 3787,   2500.7,  -0.1443,  34.6606,2,  34.6596,2,    224.7,2,   123.85,2,    33.11,2,  -999.00,9,     2.27,2,    0.255,2,    0.121,2,    0.009,2,    0.599,2,   2258.1,2,    0.019,2, -999.000,   1.8640,2,   0.0050,     6.67,2,     0.22,    8.185,2,    0.018
  06AQ19960317,  S04a,    37,  1,      5,     20,2,19960413,   0,-56.0008,  -0.0025, 3787,   2999.0,  -0.2460,  34.6572,2,  34.6549,2,    231.3,2,   122.74,2,    32.78,2,  -999.00,9,     2.26,2, -999.000,9, -999.000,9, -999.000,9, -999.000,9,   2256.3,2, -999.000,9, -999.000,-999.0000,9,-999.0000,  -999.00,9,  -999.00, -999.000,9, -999.000
  06AQ19960317,  S04a,    37,  1,      4,     21,2,19960413,   0,-56.0008,  -0.0025, 3787,   3497.9,  -0.2768,  34.6555,2,  34.6544,2,    234.3,2,   121.96,2,    32.71,2,  -999.00,9,     2.26,2,    0.366,2,    0.177,2,    0.011,2,    0.781,2,   2255.3,2,    0.052,2, -999.000,   1.8770,2,   0.0050,     5.89,2,     0.22,    8.247,2,    0.018
  06AQ19960317,  S04a,    37,  1,      3,     22,2,19960413,   0,-56.0008,  -0.0025, 3787,   3660.5,  -0.2656,  34.6554,2,  34.6534,2,    234.6,2,   122.04,2,    32.75,2,  -999.00,9,     2.25,2,    0.358,2,    0.172,2,    0.012,2,    0.779,2,   2254.0,2,    0.041,2, -999.000,   1.8770,2,   0.0050,     6.17,2,     0.22,    8.212,2,    0.018
  06AQ19960317,  S04a,    37,  1,      2,     23,2,19960413,   0,-56.0008,  -0.0025, 3787,   3711.2,  -0.2612,  34.6555,2,  34.6549,2,    234.5,2,   122.33,2,    32.62,2,  -999.00,9,     2.26,2,    0.364,2,    0.177,2,    0.014,2,    0.794,2,   2254.3,2,    0.028,2, -999.000,   1.8730,2,   0.0050,     5.93,2,     0.22,    8.207,2,    0.018
  06AQ19960317,  S04a,    37,  1,      1,     24,2,19960413,   0,-56.0008,  -0.0025, 3787,   3763.3,  -0.2548,  34.6557,2,  34.6529,2,    234.5,2,   122.12,2,    32.71,2,  -999.00,9,     2.26,2,    0.361,2,    0.171,2,    0.014,2,    0.811,2,   2254.6,2,    0.139,2, -999.000,   1.8730,2,   0.0050,     5.63,2,     0.22,    8.229,2,    0.018
  06AQ19960317,  S04a,    38,  1,     24,      1,2,19960413,   0,-57.0188,   0.0067, 3634,     19.6,   0.2336,  34.0426,2,-999.0000,9,   -999.0,9,    66.44,2,    26.87,2,  -999.00,9,     1.82,2, -999.000,9, -999.000,9, -999.000,9, -999.000,9,   -999.0,9, -999.000,9, -999.000,-999.0000,9,-999.0000,  -999.00,9,  -999.00, -999.000,9, -999.000
  06AQ19960317,  S04a,    38,  1,     23,      2,2,19960413,   0,-57.0188,   0.0067, 3634,     19.9,   0.2331,  34.0425,2,-999.0000,9,   -999.0,9,    66.54,2,    26.82,2,  -999.00,9,     1.83,2, -999.000,9, -999.000,9, -999.000,9, -999.000,9,   -999.0,9, -999.000,9, -999.000,-999.0000,9,-999.0000,  -999.00,9,  -999.00, -999.000,9, -999.000
  06AQ19960317,  S04a,    38,  1,     22,      3,2,19960413,   0,-57.0188,   0.0067, 3634,     19.9,   0.2331,  34.0425,2,-999.0000,9,    333.6,2,    66.67,2,    26.97,2,  -999.00,9,     1.83,2,    6.255,2,    3.014,2,    0.496,2,    8.420,2,   2183.4,2,    0.046,2, -999.000,-999.0000,9,-999.0000,  -999.00,9,  -999.00, -999.000,9, -999.000
  06AQ19960317,  S04a,    38,  1,     21,      4,2,19960413,   0,-57.0188,   0.0067, 3634,     40.3,   0.2343,  34.0425,2,  34.0480,2,    333.0,2,    66.52,2,    26.87,2,  -999.00,9,     1.86,2, -999.000,9, -999.000,9, -999.000,9, -999.000,9,   2184.5,2, -999.000,9, -999.000,-999.0000,9,-999.0000,  -999.00,9,  -999.00, -999.000,9, -999.000
  06AQ19960317,  S04a,    38,  1,     20,      5,2,19960413,   0,-57.0188,   0.0067, 3634,     40.3,   0.2343,  34.0426,2,-999.0000,9,   -999.0,9,    66.52,2,    26.91,2,  -999.00,9,     1.83,2,    6.280,2,    3.029,2,    0.509,2,    8.385,2,   -999.0,9, -999.000,9, -999.000,-999.0000,9,-999.0000,  -999.00,9,  -999.00, -999.000,9, -999.000
  06AQ19960317,  S04a,    38,  1,     19,      6,2,19960413,   0,-57.0188,   0.0067, 3634,     60.6,   0.2363,  34.0424,2,-999.0000,9,   -999.0,9,    66.74,2,    26.97,2,  -999.00,9,     1.84,2, -999.000,9, -999.000,9, -999.000,9, -999.000,9,   -999.0,9, -999.000,9, -999.000,-999.0000,9,-999.0000,  -999.00,9,  -999.00, -999.000,9, -999.000
  06AQ19960317,  S04a,    38,  1,     18,      7,2,19960413,   0,-57.0188,   0.0067, 3634,     60.9,   0.2372,  34.0425,2,-999.0000,9,    333.6,2,    66.60,2,    26.89,2,  -999.00,9,     1.83,2,    6.192,2,    3.006,2,    0.507,2,    8.458,2,   2183.8,2,    0.143,2, -999.000,-999.0000,9,-999.0000,  -999.00,9,  -999.00, -999.000,9, -999.000
  06AQ19960317,  S04a,    38,  1,     16,      9,2,19960413,   0,-57.0188,   0.0067, 3634,     80.3,   0.2252,  34.0439,2,  34.0454,2,    332.3,2,    66.73,2,    26.91,2,  -999.00,9,     1.84,2,    6.057,2,    2.942,2,    0.502,2,    8.307,2,   2185.9,2, -999.000,9, -999.000,-999.0000,9,-999.0000,  -999.00,9,  -999.00, -999.000,9, -999.000
  06AQ19960317,  S04a,    38,  1,     17,      8,2,19960413,   0,-57.0188,   0.0067, 3634,     80.4,   0.2251,  34.0437,2,-999.0000,9,   -999.0,9,    66.59,2,    26.90,2,  -999.00,9,     1.84,2, -999.000,9, -999.000,9, -999.000,9, -999.000,9,   -999.0,9, -999.000,9, -999.000,-999.0000,9,-999.0000,  -999.00,9,  -999.00, -999.000,9, -999.000
  06AQ19960317,  S04a,    38,  1,     15,     10,2,19960413,   0,-57.0188,   0.0067, 3634,    100.6,  -0.5693,  34.1912,2,-999.0000,9,   -999.0,9,    72.03,2,    28.80,2,  -999.00,9,     1.96,2, -999.000,9, -999.000,9, -999.000,9, -999.000,9,   -999.0,9, -999.000,9, -999.000,-999.0000,9,-999.0000,  -999.00,9,  -999.00, -999.000,9, -999.000
  06AQ19960317,  S04a,    38,  1,     14,     11,2,19960413,   0,-57.0188,   0.0067, 3634,    100.8,  -0.6404,  34.2080,2,-999.0000,9,    301.7,2,    72.52,2,    28.76,2,  -999.00,9,     1.98,2,    5.127,2,    2.460,2,    0.424,2,    6.825,2,   2208.9,2,    0.156,2, -999.000,-999.0000,9,-999.0000,  -999.00,9,  -999.00, -999.000,9, -999.000
  06AQ19960317,  S04a,    38,  1,     11,     14,2,19960413,   0,-57.0188,   0.0067, 3634,    119.5,  -0.8875,  34.3611,2,  34.3731,2,    268.4,2,    79.90,2,    30.97,2,  -999.00,9,     2.12,2,    4.046,2,    1.930,2,    0.293,2,    4.908,2,   2232.3,2, -999.000,9, -999.000,-999.0000,9,-999.0000,  -999.00,9,  -999.00, -999.000,9, -999.000
  06AQ19960317,  S04a,    38,  1,     12,     13,2,19960413,   0,-57.0188,   0.0067, 3634,    119.6,  -0.8892,  34.3589,2,-999.0000,9,   -999.0,9,    79.29,2,    30.88,2,  -999.00,9,     2.11,2, -999.000,9, -999.000,9, -999.000,9, -999.000,9,   -999.0,9, -999.000,9, -999.000,-999.0000,9,-999.0000,  -999.00,9,  -999.00, -999.000,9, -999.000
  06AQ19960317,  S04a,    38,  1,     13,     12,2,19960413,   0,-57.0188,   0.0067, 3634,    119.7,  -0.8871,  34.3584,2,-999.0000,9,   -999.0,9,    79.23,2,    30.83,2,  -999.00,9,     2.11,2, -999.000,9, -999.000,9, -999.000,9, -999.000,9,   -999.0,9, -999.000,9, -999.000,-999.0000,9,-999.0000,  -999.00,9,  -999.00, -999.000,9, -999.000
  06AQ19960317,  S04a,    38,  1,     10,     15,2,19960413,   0,-57.0188,   0.0067, 3634,    148.9,  -0.5656,  34.4346,2,  34.4426,2,    250.1,2,    84.06,2,    31.81,2,  -999.00,9,     2.17,2,    3.381,2,    1.590,2,    0.242,2,    4.133,2,   2239.1,2, -999.000,9, -999.000,-999.0000,9,-999.0000,  -999.00,9,  -999.00, -999.000,9, -999.000
  06AQ19960317,  S04a,    38,  1,      8,     17,2,19960413,   0,-57.0188,   0.0067, 3634,    201.2,   0.3027,  34.5810,2,  34.5791,2,    213.8,2,    94.18,2,    33.05,2,  -999.00,9,     2.25,2,    1.766,2,    0.842,2,    0.117,2,    2.152,2,   2257.4,2,    0.097,2, -999.000,-999.0000,9,-999.0000,  -999.00,9,  -999.00, -999.000,9, -999.000
  06AQ19960317,  S04a,    38,  1,      9,     16,2,19960413,   0,-57.0188,   0.0067, 3634,    201.4,   0.2487,  34.5725,2,-999.0000,9,   -999.0,9,    94.14,2,    33.16,2,  -999.00,9,     2.25,2, -999.000,9, -999.000,9, -999.000,9, -999.000,9,   -999.0,9, -999.000,9, -999.000,-999.0000,9,-999.0000,  -999.00,9,  -999.00, -999.000,9, -999.000
  06AQ19960317,  S04a,    38,  1,      7,     18,2,19960413,   0,-57.0188,   0.0067, 3634,    252.4,   0.5541,  34.6303,2,  34.6300,2,    203.6,2,    99.10,2,    33.27,2,  -999.00,9,     2.26,2, -999.000,9, -999.000,9, -999.000,9, -999.000,9,   -999.0,9, -999.000,9, -999.000,-999.0000,9,-999.0000,  -999.00,9,  -999.00, -999.000,9, -999.000
  06AQ19960317,  S04a,    38,  1,      6,     19,2,19960413,   0,-57.0188,   0.0067, 3634,    300.9,   0.6594,  34.6497,2,-999.0000,9,    200.7,2,   101.06,2,    33.20,2,  -999.00,9,     2.27,2,    0.921,2,    0.434,2,    0.056,2,    1.183,2,   2258.4,2, -999.000,9, -999.000,-999.0000,9,-999.0000,  -999.00,9,  -999.00, -999.000,9, -999.000
  06AQ19960317,  S04a,    38,  1,      5,     20,2,19960413,   0,-57.0188,   0.0067, 3634,    358.8,   0.7163,  34.6686,2,-999.0000,9,   -999.0,9,   103.82,2,    33.19,2,  -999.00,9,     2.25,2, -999.000,9, -999.000,9, -999.000,9, -999.000,9,   -999.0,9, -999.000,9, -999.000,-999.0000,9,-999.0000,  -999.00,9,  -999.00, -999.000,9, -999.000
  06AQ19960317,  S04a,    38,  1,      3,     22,2,19960413,   0,-57.0188,   0.0067, 3634,    358.9,   0.7169,  34.6685,2,  34.6687,2,    198.4,2,   103.59,2,    33.12,2,  -999.00,9,     2.25,2,    0.691,2,    0.326,2,    0.048,2,    0.914,2,   2261.1,2,    0.062,2, -999.000,-999.0000,9,-999.0000,  -999.00,9,  -999.00, -999.000,9, -999.000
  06AQ19960317,  S04a,    38,  1,      4,     21,2,19960413,   0,-57.0188,   0.0067, 3634,    359.0,   0.7163,  34.6688,2,-999.0000,9,   -999.0,9,   104.10,2,    33.12,2,  -999.00,9,     2.25,2, -999.000,9, -999.000,9, -999.000,9, -999.000,9,   -999.0,9, -999.000,9, -999.000,-999.0000,9,-999.0000,  -999.00,9,  -999.00, -999.000,9, -999.000
  06AQ19960317,  S04a,    38,  1,      2,     23,2,19960413,   0,-57.0188,   0.0067, 3634,    401.0,   0.6420,  34.6707,2,-999.0000,9,    198.5,2,   105.54,2,    33.13,2,  -999.00,9,     2.25,2,    0.652,2,    0.310,2,    0.039,2,    0.892,2,   2262.5,2, -999.000,9, -999.000,-999.0000,9,-999.0000,  -999.00,9,  -999.00, -999.000,9, -999.000
  06AQ19960317,  S04a,    38,  1,      1,     24,2,19960413,   0,-57.0188,   0.0067, 3634,    510.3,   0.5565,  34.6765,2,  34.6753,2,    195.5,2,   109.14,2,    33.27,2,  -999.00,9,     2.27,2,    0.536,2,    0.252,2,    0.031,2,    0.805,2,   2262.8,2,    0.092,2, -999.000,-999.0000,9,-999.0000,  -999.00,9,  -999.00, -999.000,9, -999.000