BOTTLE,20150129PRINUNIVRMK
EXPOCODE,SECT_ID,STNNBR,CASTNO,SAMPNO,BTLNBR,BTLNBR_FLAG_W,DATE,TIME,LATITUDE,LONGITUDE,DEPTH,CTDPRS,CTDTMP,CTDSAL,CTDSAL_FLAG_W,SALNTY,SALNTY_FLAG_W,OXYGEN,OXYGEN_FLAG_W,SILCAT,SILCAT_FLAG_W,NITRAT,NITRAT_FLAG_W,NITRIT,NITRIT_FLAG_W,PHSPHT,PHSPHT_FLAG_W,CFC-11,CFC-11_FLAG_W,CFC-12,CFC-12_FLAG_W,CFC113,CFC113_FLAG_W,CCL4,CCL4_FLAG_W,TCARBN,TCARBN_FLAG_W,TRITUM,TRITUM_FLAG_W,TRITER,HELIUM,HELIUM_FLAG_W,HELIER,DELHE3,DELHE3_FLAG_W,DELHER,NEON,NEON_FLAG_W,NEONER
,,,,,,,,,,,METERS,DBAR,ITS-90,PSS-78,,PSS-78,,UMOL/KG,,UMOL/KG,,UMOL/KG,,UMOL/KG,,UMOL/KG,,PMOL/KG,,PMOL/KG,,PMOL/KG,,PMOL/KG,,UMOL/KG,,TU,,TU,NMOL/KG,,NMOL/KG,PERCNT,,PERCNT,NMOL/KG,,NMOL/KG
  06AQ19960317,  S04a,    23,  1,     24,      1,2,19960331,   0,-57.5375,  15.3750, 5138,     20.6,   1.1121,  33.9246,2,  33.9267,2,    329.5,2,    54.49,2,    24.19,2,  -999.00,9,     1.64,2,    6.108,2,    3.048,2,    0.435,2,    8.383,2,   2162.6,2, -999.000,9, -999.000,-999.0000,9,-999.0000,  -999.00,9,  -999.00, -999.000,9, -999.000
  06AQ19960317,  S04a,    23,  1,     23,      2,2,19960331,   0,-57.5375,  15.3750, 5138,     40.6,   1.1024,  33.9236,2,  33.9271,2,    372.4,4,    53.37,2,    24.79,2,  -999.00,9,     1.62,2,    6.210,2,    3.046,2,    0.475,2,    8.376,2,   2163.5,2, -999.000,9, -999.000,-999.0000,9,-999.0000,  -999.00,9,  -999.00, -999.000,9, -999.000
  06AQ19960317,  S04a,    23,  1,     22,      3,2,19960331,   0,-57.5375,  15.3750, 5138,     80.5,   0.7678,  33.9994,2,  33.9827,2,    329.2,2,    53.63,2,    25.21,2,  -999.00,9,     1.66,2,    6.074,2,    2.981,2,    0.450,2,    8.229,2,   2164.6,2, -999.000,9, -999.000,-999.0000,9,-999.0000,  -999.00,9,  -999.00, -999.000,9, -999.000
  06AQ19960317,  S04a,    23,  1,     21,      4,2,19960331,   0,-57.5375,  15.3750, 5138,     98.4,  -1.3285,  34.2888,2,  34.2973,2,    306.7,2,    75.62,2,    30.48,2,  -999.00,9,     2.06,2,    5.367,2,    2.639,2,    0.402,2,    7.060,2,   2216.1,2, -999.000,9, -999.000,-999.0000,9,-999.0000,  -999.00,9,  -999.00, -999.000,9, -999.000
  06AQ19960317,  S04a,    23,  1,     20,      5,2,19960331,   0,-57.5375,  15.3750, 5138,     98.5,  -1.3256,  34.2963,2,  34.2986,2,    306.8,2,    75.33,2,    30.64,2,  -999.00,9,     2.09,2, -999.000,9, -999.000,9, -999.000,9, -999.000,9,   2216.4,2, -999.000,9, -999.000,-999.0000,9,-999.0000,  -999.00,9,  -999.00, -999.000,9, -999.000
  06AQ19960317,  S04a,    23,  1,     19,      6,2,19960331,   0,-57.5375,  15.3750, 5138,    130.1,  -0.5748,  34.4878,2,  34.4967,2,    246.7,2,    92.83,2,    33.38,2,  -999.00,9,     2.24,2,    3.192,2,    1.586,2,    0.209,2,    4.154,2,   2244.6,2, -999.000,9, -999.000,-999.0000,9,-999.0000,  -999.00,9,  -999.00, -999.000,9, -999.000
  06AQ19960317,  S04a,    23,  1,     18,      7,2,19960331,   0,-57.5375,  15.3750, 5138,    151.0,  -0.1547,  34.5653,2,  34.5688,2,    221.1,2,   101.34,2,    33.58,2,  -999.00,9,     2.28,2,    2.061,2,    1.030,2,    0.152,2,    2.693,2,   2258.2,2, -999.000,9, -999.000,-999.0000,9,-999.0000,  -999.00,9,  -999.00, -999.000,9, -999.000
  06AQ19960317,  S04a,    23,  1,     17,      8,2,19960331,   0,-57.5375,  15.3750, 5138,    200.4,   0.3324,  34.6541,2,  34.6548,2,    192.6,2,   111.84,2,    35.32,2,  -999.00,9,     2.35,2,    0.793,2,    0.385,2,    0.046,2,    1.097,2,   2269.5,2, -999.000,9, -999.000,-999.0000,9,-999.0000,  -999.00,9,  -999.00, -999.000,9, -999.000
  06AQ19960317,  S04a,    23,  1,     16,      9,2,19960331,   0,-57.5375,  15.3750, 5138,    230.9,   0.4147,  34.6690,2,  34.6715,2,    188.4,2,   114.65,2,    35.55,2,  -999.00,9,     2.37,2,    0.552,2,    0.279,2,    0.029,2,    0.801,2,   2270.7,2, -999.000,9, -999.000,-999.0000,9,-999.0000,  -999.00,9,  -999.00, -999.000,9, -999.000
  06AQ19960317,  S04a,    23,  1,     15,     10,2,19960331,   0,-57.5375,  15.3750, 5138,    299.2,   0.4330,  34.6814,2,  34.6817,2,    186.7,2,   118.47,2,    35.35,2,  -999.00,9,     2.37,2,    0.303,2,    0.151,2,    0.012,2,    0.525,2,   2272.8,2, -999.000,9, -999.000,-999.0000,9,-999.0000,  -999.00,9,  -999.00, -999.000,9, -999.000
  06AQ19960317,  S04a,    23,  1,     14,     11,2,19960331,   0,-57.5375,  15.3750, 5138,    350.8,   0.3986,  34.6813,2,  34.6820,2,    187.8,2,   120.04,2,    35.40,2,  -999.00,9,     2.37,2,    0.225,2,    0.102,2,    0.006,2,    0.456,2,   2273.2,2, -999.000,9, -999.000,-999.0000,9,-999.0000,  -999.00,9,  -999.00, -999.000,9, -999.000
  06AQ19960317,  S04a,    23,  1,     13,     12,2,19960331,   0,-57.5375,  15.3750, 5138,    401.9,   0.3777,  34.6823,2,  34.6825,2,    188.4,2,   121.62,2,    35.65,2,  -999.00,9,     2.38,2,    0.197,2,    0.091,2,    0.008,2,    0.416,2,   2272.1,2, -999.000,9, -999.000,-999.0000,9,-999.0000,  -999.00,9,  -999.00, -999.000,9, -999.000
  06AQ19960317,  S04a,    23,  1,     12,     13,2,19960331,   0,-57.5375,  15.3750, 5138,    499.8,   0.3205,  34.6809,2,  34.6812,2,    190.2,2,   123.16,2,    35.72,2,  -999.00,9,     2.38,2, -999.000,9, -999.000,9, -999.000,9, -999.000,9,   2272.8,2, -999.000,9, -999.000,-999.0000,9,-999.0000,  -999.00,9,  -999.00, -999.000,9, -999.000
  06AQ19960317,  S04a,    23,  1,     11,     14,2,19960331,   0,-57.5375,  15.3750, 5138,    751.1,   0.1936,  34.6762,2,  34.6767,2,    198.7,2,   124.39,2,    34.35,2,  -999.00,9,     2.34,2,    0.171,2,    0.103,3,    0.004,2,    0.363,2,   2269.3,2, -999.000,9, -999.000,-999.0000,9,-999.0000,  -999.00,9,  -999.00, -999.000,9, -999.000
  06AQ19960317,  S04a,    23,  1,     10,     15,2,19960331,   0,-57.5375,  15.3750, 5138,   1000.6,   0.0698,  34.6717,2,  34.6730,2,    206.1,2,   124.82,2,    34.21,2,  -999.00,9,     2.33,2,    0.145,2,    0.077,2,    0.002,2,    0.367,2,   2266.4,2, -999.000,9, -999.000,-999.0000,9,-999.0000,  -999.00,9,  -999.00, -999.000,9, -999.000
  06AQ19960317,  S04a,    23,  1,      9,     16,2,19960331,   0,-57.5375,  15.3750, 5138,   1502.0,  -0.1042,  34.6646,2,  34.6654,2,    218.3,2,   126.52,2,    34.05,2,  -999.00,9,     2.30,2,    0.182,2,    0.096,2,    0.001,2,    0.454,2,   2261.4,2, -999.000,9, -999.000,-999.0000,9,-999.0000,  -999.00,9,  -999.00, -999.000,9, -999.000
  06AQ19960317,  S04a,    23,  1,      8,     17,2,19960331,   0,-57.5375,  15.3750, 5138,   1999.4,  -0.2365,  34.6590,2,  34.6598,2,    227.3,2,   124.52,2,    33.84,2,  -999.00,9,     2.27,2,    0.216,2,    0.100,2,    0.003,2,    0.566,2,   2256.4,2, -999.000,9, -999.000,-999.0000,9,-999.0000,  -999.00,9,  -999.00, -999.000,9, -999.000
  06AQ19960317,  S04a,    23,  1,      7,     18,2,19960331,   0,-57.5375,  15.3750, 5138,   2499.1,  -0.3055,  34.6568,2,  34.6573,2,    232.8,2,   124.00,2,    33.92,2,  -999.00,9,     2.29,2,    0.250,2,    0.176,4,    0.007,2,    0.609,2,   2254.0,2, -999.000,9, -999.000,-999.0000,9,-999.0000,  -999.00,9,  -999.00, -999.000,9, -999.000
  06AQ19960317,  S04a,    23,  1,      6,     19,2,19960331,   0,-57.5375,  15.3750, 5138,   3000.2,  -0.3665,  34.6542,2,  34.6534,2,    236.0,2,   123.18,2,    33.90,2,  -999.00,9,     2.26,2,    0.300,2,    0.150,2,    0.007,2,    0.659,2,   2254.4,2, -999.000,9, -999.000,-999.0000,9,-999.0000,  -999.00,9,  -999.00, -999.000,9, -999.000
  06AQ19960317,  S04a,    23,  1,      5,     20,2,19960331,   0,-57.5375,  15.3750, 5138,   3497.3,  -0.4163,  34.6520,2,  34.6522,2,    239.2,2,   120.82,2,    33.21,2,  -999.00,9,     2.27,2,    0.278,2,    0.159,2,    0.009,2,    0.680,2,   2252.1,2, -999.000,9, -999.000,-999.0000,9,-999.0000,  -999.00,9,  -999.00, -999.000,9, -999.000
  06AQ19960317,  S04a,    23,  1,      4,     21,2,19960331,   0,-57.5375,  15.3750, 5138,   3998.7,  -0.4681,  34.6486,2,  34.6478,2,    243.4,2,   117.96,2,    33.67,2,  -999.00,9,     2.25,2,    0.426,2,    0.219,2,    0.011,2,    0.878,2,   2252.5,2, -999.000,9, -999.000,-999.0000,9,-999.0000,  -999.00,9,  -999.00, -999.000,9, -999.000
  06AQ19960317,  S04a,    23,  1,      3,     22,2,19960331,   0,-57.5375,  15.3750, 5138,   4498.5,  -0.4688,  34.6472,2,  34.6459,2,    245.3,2,   119.47,2,    32.67,2,  -999.00,9,     2.25,2,    0.531,2,    0.300,2,    0.016,2,    0.989,2,   2251.9,2, -999.000,9, -999.000,-999.0000,9,-999.0000,  -999.00,9,  -999.00, -999.000,9, -999.000
  06AQ19960317,  S04a,    23,  1,      2,     23,2,19960331,   0,-57.5375,  15.3750, 5138,   5138.4,  -0.4234,  34.6471,2,  34.6456,2,    245.6,2,   122.61,2,    33.37,2,  -999.00,9,     2.24,2,    0.435,2,    0.208,2,    0.012,2,    0.943,2,   2249.8,2, -999.000,9, -999.000,-999.0000,9,-999.0000,  -999.00,9,  -999.00, -999.000,9, -999.000
  06AQ19960317,  S04a,    23,  1,      1,     24,2,19960331,   0,-57.5375,  15.3750, 5138,   5238.0,  -0.4146,  34.6468,2,  34.6461,2,    246.3,2,   116.87,2,    33.63,2,  -999.00,9,     2.25,2,    0.414,2,    0.201,2,    0.013,2,    0.940,2,   2249.6,2, -999.000,9, -999.000,-999.0000,9,-999.0000,  -999.00,9,  -999.00, -999.000,9, -999.000
  06AQ19960317,  S04a,    24,  1,     24,      1,2,19960331,   0,-57.7132,  13.4878, 5507,     22.4,   0.7160,  33.7580,2,  33.7598,2,    333.5,2,    51.56,2,    22.70,2,  -999.00,9,     1.63,2,    6.007,2,    3.025,2,    0.432,2,    8.416,2,   2152.0,2,    0.079,2, -999.000,   1.7540,2,   0.0050,    -1.79,2,     0.22,    7.873,2,    0.018
  06AQ19960317,  S04a,    24,  1,     23,      2,2,19960331,   0,-57.7132,  13.4878, 5507,     41.2,   0.7143,  33.7581,2,  33.7592,2,    333.3,2,    51.63,2,    22.38,2,  -999.00,9,     1.60,2,    6.088,2,    2.990,2,    0.495,2,    8.309,2,   2152.2,2, -999.000,9, -999.000,-999.0000,9,-999.0000,  -999.00,9,  -999.00, -999.000,9, -999.000
  06AQ19960317,  S04a,    24,  1,     22,      3,2,19960331,   0,-57.7132,  13.4878, 5507,     82.0,   0.6428,  33.7672,2,  33.7816,2,    333.4,2,    52.98,2,    22.61,2,  -999.00,9,     1.63,2,    6.502,2,    3.155,2,    0.487,2,    8.512,2,   2154.3,2,    0.197,2, -999.000,   1.7990,2,   0.0050,    -1.21,2,     0.22,    8.025,2,    0.018
  06AQ19960317,  S04a,    24,  1,     20,      5,2,19960331,   0,-57.7132,  13.4878, 5507,    100.9,  -1.4318,  34.1677,2,  34.1771,2,    324.7,2,    72.27,2,    28.45,2,  -999.00,9,     2.02,2, -999.000,9, -999.000,9, -999.000,9, -999.000,9,   2209.9,2, -999.000,9, -999.000,-999.0000,9,-999.0000,  -999.00,9,  -999.00, -999.000,9, -999.000
  06AQ19960317,  S04a,    24,  1,     21,      4,2,19960331,   0,-57.7132,  13.4878, 5507,    101.8,  -1.4380,  34.1722,2,  34.1769,2,    325.2,2,    72.27,2,    28.47,2,  -999.00,9,     2.03,2, -999.000,9, -999.000,9, -999.000,9, -999.000,9,   2208.4,2, -999.000,9, -999.000,-999.0000,9,-999.0000,  -999.00,9,  -999.00, -999.000,9, -999.000
  06AQ19960317,  S04a,    24,  1,     19,      6,2,19960331,   0,-57.7132,  13.4878, 5507,    110.3,  -1.4264,  34.2295,2,  34.2258,2,    315.4,2,    75.14,2,    29.19,2,  -999.00,9,     2.06,2, -999.000,9, -999.000,9, -999.000,9, -999.000,9,   2213.9,2,    0.157,2, -999.000,   1.8210,2,   0.0050,     0.19,2,     0.22,    8.201,2,    0.018
  06AQ19960317,  S04a,    24,  1,     18,      7,2,19960331,   0,-57.7132,  13.4878, 5507,    153.0,  -0.3407,  34.5115,2,  34.5104,2,    232.9,2,   100.50,2,    33.18,2,  -999.00,9,     2.27,2,    2.506,2,    1.237,2,    0.195,2,    3.324,2,   2253.9,2,    0.095,2, -999.000,-999.0000,9,-999.0000,  -999.00,9,  -999.00, -999.000,9, -999.000
  06AQ19960317,  S04a,    24,  1,     17,      8,2,19960331,   0,-57.7132,  13.4878, 5507,    201.2,   0.3041,  34.6536,2,  34.6551,2,    187.6,2,   118.24,2,    35.03,2,  -999.00,9,     2.40,2,    0.622,2,    0.289,2,    0.041,2,    0.932,2,   2276.6,2, -999.000,9, -999.000,-999.0000,9,-999.0000,  -999.00,9,  -999.00, -999.000,9, -999.000
  06AQ19960317,  S04a,    24,  1,     16,      9,2,19960331,   0,-57.7132,  13.4878, 5507,    239.6,   0.3633,  34.6774,2,  34.6799,2,    183.2,2,   122.10,2,    35.22,2,  -999.00,9,     2.44,2,    0.319,2,    0.157,2,    0.014,2,    0.542,2,   2276.8,2, -999.000,9, -999.000,   1.8620,2,   0.0050,     8.41,2,     0.22,    8.129,2,    0.018
  06AQ19960317,  S04a,    24,  1,     15,     10,2,19960331,   0,-57.7132,  13.4878, 5507,    300.9,   0.3292,  34.6798,2,  34.6807,2,    184.3,2,   124.89,2,    35.31,2,  -999.00,9,     2.42,2,    0.185,2,    0.076,2,    0.008,2,    0.395,2,   2277.7,2,    0.099,2, -999.000,   1.5900,4,   0.0040,     9.22,2,     0.22,    6.795,4,    0.015
  06AQ19960317,  S04a,    24,  1,     14,     11,2,19960331,   0,-57.7132,  13.4878, 5507,    350.0,   0.2998,  34.6794,2,  34.6798,2,    191.4,2,   125.41,2,    34.93,2,  -999.00,9,     2.41,2,    0.317,2,    0.222,2,    0.015,2,    0.502,2,   2277.4,2,    0.055,2, -999.000,   1.8570,2,   0.0050,     8.32,2,     0.22,    8.103,2,    0.018
  06AQ19960317,  S04a,    24,  1,     13,     12,2,19960331,   0,-57.7132,  13.4878, 5507,    400.6,   0.2787,  34.6792,2,  34.6795,2,    188.9,2,   126.00,2,    34.90,2,  -999.00,9,     2.40,2,    0.359,2,    0.280,2,    0.018,2,    0.508,2,   2276.9,2,    0.056,2, -999.000,   1.8700,2,   0.0050,     8.86,2,     0.22,    8.178,2,    0.018
  06AQ19960317,  S04a,    24,  1,     12,     13,2,19960331,   0,-57.7132,  13.4878, 5507,    500.5,   0.2313,  34.6774,2,  34.6779,2,    191.9,2,   126.44,2,    34.69,2,  -999.00,9,     2.37,2,    0.243,2,    0.187,2,    0.005,2,    0.407,2,   2273.3,2, -999.000,9, -999.000,-999.0000,9,-999.0000,  -999.00,9,  -999.00, -999.000,9, -999.000
  06AQ19960317,  S04a,    24,  1,     11,     14,2,19960331,   0,-57.7132,  13.4878, 5507,    750.5,   0.1122,  34.6727,2,  34.6745,2,    200.6,2,   126.54,2,    34.25,2,  -999.00,9,     2.35,2,    0.165,2,    0.095,2,    0.003,2,    0.371,2,   2269.3,2,    0.042,2, -999.000,   1.8700,2,   0.0050,     8.13,2,     0.22,    8.137,2,    0.018
  06AQ19960317,  S04a,    24,  1,     10,     15,2,19960331,   0,-57.7132,  13.4878, 5507,   1000.5,   0.0074,  34.6696,2,  34.6692,2,    208.9,2,   127.04,2,    33.75,2,  -999.00,9,     2.32,2,    0.192,2,    0.113,2,    0.003,2,    0.419,2,   2265.5,2, -999.000,9, -999.000,-999.0000,9,-999.0000,  -999.00,9,  -999.00, -999.000,9, -999.000
  06AQ19960317,  S04a,    24,  1,      9,     16,2,19960331,   0,-57.7132,  13.4878, 5507,   1500.7,  -0.1528,  34.6626,2,  34.6646,2,    220.9,2,   125.21,2,    33.30,2,  -999.00,9,     2.29,2,    0.177,2,    0.082,2,    0.001,2,    0.463,2,   2260.5,2,    0.049,2, -999.000,   1.8820,2,   0.0050,     7.36,2,     0.22,    8.244,2,    0.018
  06AQ19960317,  S04a,    24,  1,      8,     17,2,19960331,   0,-57.7132,  13.4878, 5507,   2002.2,  -0.2605,  34.6592,2,  34.6590,2,    228.5,2,   124.67,2,    32.88,2,  -999.00,9,     2.27,2,    0.199,2,    0.093,2,    0.003,2,    0.560,2,   2260.4,2, -999.000,9, -999.000,-999.0000,9,-999.0000,  -999.00,9,  -999.00, -999.000,9, -999.000
  06AQ19960317,  S04a,    24,  1,      7,     18,2,19960331,   0,-57.7132,  13.4878, 5507,   2501.6,  -0.3326,  34.6568,2,  34.6556,2,    233.1,2,   123.61,2,    32.72,2,  -999.00,9,     2.26,2,    0.218,2,    0.103,2,    0.004,2,    0.599,2,   2253.7,2,    0.024,2, -999.000,   1.8800,2,   0.0050,     5.75,2,     0.22,    8.214,2,    0.018
  06AQ19960317,  S04a,    24,  1,      6,     19,2,19960331,   0,-57.7132,  13.4878, 5507,   3001.7,  -0.3917,  34.6555,2,  34.6546,2,    237.3,2,   123.02,2,    32.72,2,  -999.00,9,     2.25,2,    0.334,2,    0.206,2,    0.011,2,    0.685,2,   2251.4,2, -999.000,9, -999.000,-999.0000,9,-999.0000,  -999.00,9,  -999.00, -999.000,9, -999.000
  06AQ19960317,  S04a,    24,  1,      5,     20,2,19960331,   0,-57.7132,  13.4878, 5507,   3500.5,  -0.4521,  34.6530,2,  34.6506,2,    241.4,2,   121.77,2,    32.61,2,  -999.00,9,     2.24,2,    0.440,2,    0.304,2,    0.017,2,    0.807,2,   2251.1,2,    0.054,2, -999.000,   1.8780,2,   0.0050,     5.06,2,     0.22,    8.281,2,    0.018
  06AQ19960317,  S04a,    24,  1,      4,     21,2,19960331,   0,-57.7132,  13.4878, 5507,   3998.3,  -0.4845,  34.6503,2,  34.6488,2,    244.4,2,   119.59,2,    32.68,2,  -999.00,9,     2.24,2,    0.482,2,    0.283,2,    0.017,2,    0.928,2,   2250.6,2, -999.000,9, -999.000,-999.0000,9,-999.0000,  -999.00,9,  -999.00, -999.000,9, -999.000
  06AQ19960317,  S04a,    24,  1,      3,     22,2,19960331,   0,-57.7132,  13.4878, 5507,   4499.3,  -0.4873,  34.6491,2,  34.6454,2,    246.7,2,   119.47,2,    32.54,2,  -999.00,9,     2.23,2,    0.540,2,    0.327,2,    0.021,2,    1.006,2,   2248.0,2,    0.074,2, -999.000,   1.8660,2,   0.0050,     4.35,2,     0.22,    8.204,2,    0.018
  06AQ19960317,  S04a,    24,  1,      2,     23,2,19960331,   0,-57.7132,  13.4878, 5507,   5569.0,  -0.3928,  34.6492,2,  34.6461,2,    246.2,2,   125.04,2,    32.58,2,  -999.00,9,     2.24,2,    0.354,2,    0.188,2,    0.011,2,    0.877,2,   2251.2,2,    0.078,2, -999.000,   1.6180,4,   0.0040,     4.92,2,     0.22,    6.929,4,    0.015
  06AQ19960317,  S04a,    24,  1,      1,     24,2,19960331,   0,-57.7132,  13.4878, 5507,   5672.3,  -0.3806,  34.6494,2,  34.6455,2,    245.5,2,   125.65,2,    32.66,2,  -999.00,9,     2.24,2,    0.436,2,    0.279,2,    0.019,2,    0.963,2,   2249.4,2,    0.087,2, -999.000,   1.8870,2,   0.0050,     4.64,2,     0.22,    8.325,2,    0.019