BOTTLE,20150129PRINUNIVRMK
EXPOCODE,SECT_ID,STNNBR,CASTNO,SAMPNO,BTLNBR,BTLNBR_FLAG_W,DATE,TIME,LATITUDE,LONGITUDE,DEPTH,CTDPRS,CTDTMP,CTDSAL,CTDSAL_FLAG_W,SALNTY,SALNTY_FLAG_W,OXYGEN,OXYGEN_FLAG_W,SILCAT,SILCAT_FLAG_W,NITRAT,NITRAT_FLAG_W,NITRIT,NITRIT_FLAG_W,PHSPHT,PHSPHT_FLAG_W,CFC-11,CFC-11_FLAG_W,CFC-12,CFC-12_FLAG_W,CFC113,CFC113_FLAG_W,CCL4,CCL4_FLAG_W,TCARBN,TCARBN_FLAG_W,TRITUM,TRITUM_FLAG_W,TRITER,HELIUM,HELIUM_FLAG_W,HELIER,DELHE3,DELHE3_FLAG_W,DELHER,NEON,NEON_FLAG_W,NEONER
,,,,,,,,,,,METERS,DBAR,ITS-90,PSS-78,,PSS-78,,UMOL/KG,,UMOL/KG,,UMOL/KG,,UMOL/KG,,UMOL/KG,,PMOL/KG,,PMOL/KG,,PMOL/KG,,PMOL/KG,,UMOL/KG,,TU,,TU,NMOL/KG,,NMOL/KG,PERCNT,,PERCNT,NMOL/KG,,NMOL/KG
  06AQ19960317,  S04a,    40,  1,     24,      1,2,19960414,   0,-58.0023,  -0.0040, 4494,     19.5,   0.1415,  34.0515,2,  34.0541,2,    332.6,2,    66.89,2,    27.19,2,  -999.00,9,     1.86,2, -999.000,9, -999.000,9, -999.000,9, -999.000,9,   2183.3,2, -999.000,9, -999.000,-999.0000,9,-999.0000,  -999.00,9,  -999.00, -999.000,9, -999.000
  06AQ19960317,  S04a,    40,  1,     23,      2,2,19960414,   0,-58.0023,  -0.0040, 4494,     38.5,   0.1404,  34.0518,2,  34.0535,2,    332.5,2,    66.52,2,    27.05,2,  -999.00,9,     1.87,2, -999.000,9, -999.000,9, -999.000,9, -999.000,9,   2182.7,2, -999.000,9, -999.000,-999.0000,9,-999.0000,  -999.00,9,  -999.00, -999.000,9, -999.000
  06AQ19960317,  S04a,    40,  1,     22,      3,2,19960414,   0,-58.0023,  -0.0040, 4494,     81.5,   0.0997,  34.0607,2,  34.0618,2,    331.1,2,    66.96,2,    27.27,2,  -999.00,9,     1.88,2, -999.000,9, -999.000,9, -999.000,9, -999.000,9,   2186.3,2, -999.000,9, -999.000,-999.0000,9,-999.0000,  -999.00,9,  -999.00, -999.000,9, -999.000
  06AQ19960317,  S04a,    40,  1,     20,      5,2,19960414,   0,-58.0023,  -0.0040, 4494,    100.2,  -0.1936,  34.1131,2,  34.1177,2,   -999.0,9,    68.75,2,    27.86,2,  -999.00,9,     1.90,2, -999.000,9, -999.000,9, -999.000,9, -999.000,9,   -999.0,9, -999.000,9, -999.000,-999.0000,9,-999.0000,  -999.00,9,  -999.00, -999.000,9, -999.000
  06AQ19960317,  S04a,    40,  1,     21,      4,2,19960414,   0,-58.0023,  -0.0040, 4494,    100.7,  -0.1814,  34.1107,2,  34.1168,2,    319.6,2,    68.95,2,    27.96,2,  -999.00,9,     1.91,2, -999.000,9, -999.000,9, -999.000,9, -999.000,9,   2195.8,2, -999.000,9, -999.000,-999.0000,9,-999.0000,  -999.00,9,  -999.00, -999.000,9, -999.000
  06AQ19960317,  S04a,    40,  1,     19,      6,2,19960414,   0,-58.0023,  -0.0040, 4494,    121.8,  -1.1505,  34.3341,2,  34.3391,2,    283.2,2,    78.62,2,    30.42,2,  -999.00,9,     2.07,2, -999.000,9, -999.000,9, -999.000,9, -999.000,9,   2223.2,2, -999.000,9, -999.000,-999.0000,9,-999.0000,  -999.00,9,  -999.00, -999.000,9, -999.000
  06AQ19960317,  S04a,    40,  1,     18,      7,2,19960414,   0,-58.0023,  -0.0040, 4494,    150.2,  -0.7914,  34.4540,2,  34.4621,2,    252.0,2,    85.96,2,    31.89,2,  -999.00,9,     2.17,2, -999.000,9, -999.000,9, -999.000,9, -999.000,9,   2241.1,2, -999.000,9, -999.000,-999.0000,9,-999.0000,  -999.00,9,  -999.00, -999.000,9, -999.000
  06AQ19960317,  S04a,    40,  1,     17,      8,2,19960414,   0,-58.0023,  -0.0040, 4494,    199.4,   0.0196,  34.5768,2,  34.5815,2,    216.7,2,    96.40,2,    33.03,2,  -999.00,9,     2.25,2, -999.000,9, -999.000,9, -999.000,9, -999.000,9,   2253.2,2, -999.000,9, -999.000,-999.0000,9,-999.0000,  -999.00,9,  -999.00, -999.000,9, -999.000
  06AQ19960317,  S04a,    40,  1,     16,      9,2,19960414,   0,-58.0023,  -0.0040, 4494,    250.2,   0.3516,  34.6291,2,  34.6307,2,    203.5,2,   102.13,2,    33.53,2,  -999.00,9,     2.28,2, -999.000,9, -999.000,9, -999.000,9, -999.000,9,   2261.3,2, -999.000,9, -999.000,-999.0000,9,-999.0000,  -999.00,9,  -999.00, -999.000,9, -999.000
  06AQ19960317,  S04a,    40,  1,     15,     10,2,19960414,   0,-58.0023,  -0.0040, 4494,    300.1,   0.4788,  34.6545,2,  34.6583,2,    199.4,2,   105.60,2,    33.54,2,  -999.00,9,     2.28,2, -999.000,9, -999.000,9, -999.000,9, -999.000,9,   2262.6,2, -999.000,9, -999.000,-999.0000,9,-999.0000,  -999.00,9,  -999.00, -999.000,9, -999.000
  06AQ19960317,  S04a,    40,  1,     14,     11,2,19960414,   0,-58.0023,  -0.0040, 4494,    351.1,   0.5242,  34.6681,2,  34.6698,2,    198.6,2,   108.27,2,    33.63,2,  -999.00,9,     2.28,2, -999.000,9, -999.000,9, -999.000,9, -999.000,9,   2263.0,2, -999.000,9, -999.000,-999.0000,9,-999.0000,  -999.00,9,  -999.00, -999.000,9, -999.000
  06AQ19960317,  S04a,    40,  1,     13,     12,2,19960414,   0,-58.0023,  -0.0040, 4494,    399.9,   0.5196,  34.6728,2,  34.6749,2,    197.3,2,   109.61,2,    33.61,2,  -999.00,9,     2.29,2, -999.000,9, -999.000,9, -999.000,9, -999.000,9,   2263.6,2, -999.000,9, -999.000,-999.0000,9,-999.0000,  -999.00,9,  -999.00, -999.000,9, -999.000
  06AQ19960317,  S04a,    40,  1,     12,     13,2,19960414,   0,-58.0023,  -0.0040, 4494,    500.2,   0.4825,  34.6784,2,  34.6806,2,    193.2,2,   113.88,2,    34.28,2,  -999.00,9,     2.33,2, -999.000,9, -999.000,9, -999.000,9, -999.000,9,   2266.4,2, -999.000,9, -999.000,-999.0000,9,-999.0000,  -999.00,9,  -999.00, -999.000,9, -999.000
  06AQ19960317,  S04a,    40,  1,     11,     14,2,19960414,   0,-58.0023,  -0.0040, 4494,    549.0,   0.4678,  34.6802,2,  34.6819,2,    195.7,2,   114.90,2,    34.03,2,  -999.00,9,     2.32,2, -999.000,9, -999.000,9, -999.000,9, -999.000,9,   2266.1,2, -999.000,9, -999.000,-999.0000,9,-999.0000,  -999.00,9,  -999.00, -999.000,9, -999.000
  06AQ19960317,  S04a,    40,  1,     10,     15,2,19960414,   0,-58.0023,  -0.0040, 4494,    749.3,   0.3805,  34.6805,2,  34.6825,2,    196.5,2,   119.19,2,    34.05,2,  -999.00,9,     2.33,2, -999.000,9, -999.000,9, -999.000,9, -999.000,9,   2266.8,2, -999.000,9, -999.000,-999.0000,9,-999.0000,  -999.00,9,  -999.00, -999.000,9, -999.000
  06AQ19960317,  S04a,    40,  1,      9,     16,2,19960414,   0,-58.0023,  -0.0040, 4494,    999.3,   0.2588,  34.6773,2,  34.6781,2,    200.4,2,   123.28,2,    34.11,2,  -999.00,9,     2.33,2, -999.000,9, -999.000,9, -999.000,9, -999.000,9,   2265.6,2, -999.000,9, -999.000,-999.0000,9,-999.0000,  -999.00,9,  -999.00, -999.000,9, -999.000
  06AQ19960317,  S04a,    40,  1,      8,     17,2,19960414,   0,-58.0023,  -0.0040, 4494,   1502.1,   0.0415,  34.6689,2,  34.6695,2,    214.5,2,   123.62,2,    33.67,2,  -999.00,9,     2.31,2, -999.000,9, -999.000,9, -999.000,9, -999.000,9,   2260.1,2, -999.000,9, -999.000,-999.0000,9,-999.0000,  -999.00,9,  -999.00, -999.000,9, -999.000
  06AQ19960317,  S04a,    40,  1,      7,     18,2,19960414,   0,-58.0023,  -0.0040, 4494,   2001.5,  -0.1137,  34.6622,2,  34.6644,2,    221.7,2,   123.82,2,    33.47,2,  -999.00,9,     2.29,2, -999.000,9, -999.000,9, -999.000,9, -999.000,9,   2257.9,2, -999.000,9, -999.000,-999.0000,9,-999.0000,  -999.00,9,  -999.00, -999.000,9, -999.000
  06AQ19960317,  S04a,    40,  1,      6,     19,2,19960414,   0,-58.0023,  -0.0040, 4494,   2504.0,  -0.2230,  34.6584,2,  34.6596,2,    228.7,2,   124.65,2,    33.33,2,  -999.00,9,     2.28,2,    0.294,2,    0.138,2,    0.010,2,    0.671,2,   2254.5,2,    0.034,2, -999.000,-999.0000,9,-999.0000,  -999.00,9,  -999.00, -999.000,9, -999.000
  06AQ19960317,  S04a,    40,  1,      5,     20,2,19960414,   0,-58.0023,  -0.0040, 4494,   2998.1,  -0.2844,  34.6557,2,  34.6561,2,    232.9,2,   123.19,2,    33.03,2,  -999.00,9,     2.28,2, -999.000,9, -999.000,9, -999.000,9, -999.000,9,   2253.6,2, -999.000,9, -999.000,-999.0000,9,-999.0000,  -999.00,9,  -999.00, -999.000,9, -999.000
  06AQ19960317,  S04a,    40,  1,      4,     21,2,19960414,   0,-58.0023,  -0.0040, 4494,   3497.9,  -0.3286,  34.6532,2,  34.6530,2,    236.6,2,   121.30,2,    33.04,2,  -999.00,9,     2.26,2,    0.466,3,    0.194,2,    0.014,2,    0.823,2,   2252.7,2,    0.029,2, -999.000,-999.0000,9,-999.0000,  -999.00,9,  -999.00, -999.000,9, -999.000
  06AQ19960317,  S04a,    40,  1,      3,     22,2,19960414,   0,-58.0023,  -0.0040, 4494,   3999.0,  -0.3492,  34.6508,2,  34.6509,2,    240.1,2,   119.69,2,    32.92,2,  -999.00,9,     2.26,2,    0.479,2,    0.230,2,    0.017,2,    0.898,2,   2251.7,2,    0.054,2, -999.000,-999.0000,9,-999.0000,  -999.00,9,  -999.00, -999.000,9, -999.000
  06AQ19960317,  S04a,    40,  1,      2,     23,2,19960414,   0,-58.0023,  -0.0040, 4494,   4459.9,  -0.3438,  34.6499,2,  34.6487,2,    241.8,2,   120.01,2,    32.89,2,  -999.00,9,     2.25,2,    0.524,2,    0.245,2,    0.017,2,    0.953,2,   2249.7,2,    0.039,2, -999.000,   1.8720,2,   0.0050,     5.19,2,     0.22,    8.206,2,    0.018
  06AQ19960317,  S04a,    40,  1,      1,     24,2,19960414,   0,-58.0023,  -0.0040, 4494,   4565.6,  -0.3402,  34.6495,2,  34.6485,2,    242.4,2,   119.81,2,    32.89,2,  -999.00,9,     2.25,2,    0.547,2,    0.262,2,    0.017,2,    1.006,2,   2249.0,2,    0.028,2, -999.000,   1.8880,2,   0.0050,     4.93,2,     0.22,    8.239,2,    0.018
  06AQ19960317,  S04a,    41,  1,     24,      1,2,19960414,   0,-58.5000,   0.0000, 4198,     20.1,   0.1865,  34.0509,2,  34.0535,2,    335.7,2,    67.77,2,    27.14,2,  -999.00,9,     1.86,2,    6.384,2,    3.151,2,    0.493,2,    8.791,2,   2184.0,2, -999.000,9, -999.000,-999.0000,9,-999.0000,  -999.00,9,  -999.00, -999.000,9, -999.000
  06AQ19960317,  S04a,    41,  1,     23,      2,2,19960414,   0,-58.5000,   0.0000, 4198,     40.0,   0.1876,  34.0513,2,  34.0555,2,    332.0,2,    67.54,2,    27.14,2,  -999.00,9,     1.87,2, -999.000,9, -999.000,9, -999.000,9, -999.000,9,   2183.7,2, -999.000,9, -999.000,-999.0000,9,-999.0000,  -999.00,9,  -999.00, -999.000,9, -999.000
  06AQ19960317,  S04a,    41,  1,     22,      3,2,19960414,   0,-58.5000,   0.0000, 4198,     80.1,   0.1914,  34.0512,2,  34.0532,2,    333.0,2,    67.66,2,    27.12,2,  -999.00,9,     1.89,2,    6.383,2,    3.169,2,    0.511,2,    8.784,2,   2185.2,2, -999.000,9, -999.000,-999.0000,9,-999.0000,  -999.00,9,  -999.00, -999.000,9, -999.000
  06AQ19960317,  S04a,    41,  1,     20,      5,2,19960414,   0,-58.5000,   0.0000, 4198,    102.4,   0.1439,  34.0614,2,  34.0681,2,   -999.0,9,    67.61,2,    27.17,2,  -999.00,9,     1.89,2, -999.000,9, -999.000,9, -999.000,9, -999.000,9,   -999.0,9, -999.000,9, -999.000,-999.0000,9,-999.0000,  -999.00,9,  -999.00, -999.000,9, -999.000
  06AQ19960317,  S04a,    41,  1,     21,      4,2,19960414,   0,-58.5000,   0.0000, 4198,    102.6,   0.1546,  34.0597,2,  34.0668,2,    329.5,2,    68.06,2,    27.30,2,  -999.00,9,     1.89,2, -999.000,9, -999.000,9, -999.000,9, -999.000,9,   2188.4,2, -999.000,9, -999.000,-999.0000,9,-999.0000,  -999.00,9,  -999.00, -999.000,9, -999.000
  06AQ19960317,  S04a,    41,  1,     19,      6,2,19960414,   0,-58.5000,   0.0000, 4198,    112.7,  -0.2353,  34.1558,2,  34.1719,2,    312.7,2,    71.44,2,    28.02,2,  -999.00,9,     1.96,2,    5.577,2,    2.741,2,    0.441,2,    7.571,2,   2201.2,2, -999.000,9, -999.000,-999.0000,9,-999.0000,  -999.00,9,  -999.00, -999.000,9, -999.000
  06AQ19960317,  S04a,    41,  1,     18,      7,2,19960414,   0,-58.5000,   0.0000, 4198,    150.0,  -0.9512,  34.4140,2,  34.4191,2,    264.7,2,    83.48,2,    30.99,2,  -999.00,9,     2.14,2,    3.896,2,    1.892,2,    0.308,2,    4.996,2,   2234.3,2, -999.000,9, -999.000,-999.0000,9,-999.0000,  -999.00,9,  -999.00, -999.000,9, -999.000
  06AQ19960317,  S04a,    41,  1,     17,      8,2,19960414,   0,-58.5000,   0.0000, 4198,    201.6,  -0.1425,  34.5624,2,  34.5682,2,    219.3,2,    97.21,2,    32.89,2,  -999.00,9,     2.25,2, -999.000,9, -999.000,9, -999.000,9, -999.000,9,   2253.9,2, -999.000,9, -999.000,-999.0000,9,-999.0000,  -999.00,9,  -999.00, -999.000,9, -999.000
  06AQ19960317,  S04a,    41,  1,     16,      9,2,19960414,   0,-58.5000,   0.0000, 4198,    249.9,   0.3261,  34.6394,2,  34.6402,2,    201.9,2,   104.82,2,    33.43,2,  -999.00,9,     2.29,2,    1.062,2,    0.505,2,    0.069,2,    1.405,2,   2262.9,2, -999.000,9, -999.000,-999.0000,9,-999.0000,  -999.00,9,  -999.00, -999.000,9, -999.000
  06AQ19960317,  S04a,    41,  1,     15,     10,2,19960414,   0,-58.5000,   0.0000, 4198,    299.0,   0.4161,  34.6626,2,  34.6645,2,    195.9,2,   110.13,2,    33.60,2,  -999.00,9,     2.31,2, -999.000,9, -999.000,9, -999.000,9, -999.000,9,   2264.7,2, -999.000,9, -999.000,-999.0000,9,-999.0000,  -999.00,9,  -999.00, -999.000,9, -999.000
  06AQ19960317,  S04a,    41,  1,     14,     11,2,19960414,   0,-58.5000,   0.0000, 4198,    360.9,   0.4735,  34.6746,2,  34.6754,2,    194.2,2,   112.43,2,    33.81,2,  -999.00,9,     2.32,2,    0.508,2,    0.243,2,    0.028,2,    0.791,2,   2267.9,2, -999.000,9, -999.000,-999.0000,9,-999.0000,  -999.00,9,  -999.00, -999.000,9, -999.000
  06AQ19960317,  S04a,    41,  1,     13,     12,2,19960414,   0,-58.5000,   0.0000, 4198,    401.1,   0.4743,  34.6778,2,  34.6785,2,    193.5,2,   113.61,2,    33.90,2,  -999.00,9,     2.33,2,    0.438,2,    0.207,2,    0.024,2,    0.713,2,   2270.0,2, -999.000,9, -999.000,-999.0000,9,-999.0000,  -999.00,9,  -999.00, -999.000,9, -999.000
  06AQ19960317,  S04a,    41,  1,     12,     13,2,19960414,   0,-58.5000,   0.0000, 4198,    481.0,   0.4640,  34.6811,2,  34.6834,2,    191.1,2,   116.13,2,    34.15,2,  -999.00,9,     2.34,2,    0.297,2,    0.137,2,    0.012,2,    0.558,2,   2270.1,2, -999.000,9, -999.000,-999.0000,9,-999.0000,  -999.00,9,  -999.00, -999.000,9, -999.000
  06AQ19960317,  S04a,    41,  1,     11,     14,2,19960414,   0,-58.5000,   0.0000, 4198,    599.3,   0.4125,  34.6816,2,  34.6828,2,    193.2,2,   120.13,2,    34.21,2,  -999.00,9,     2.33,2,    0.238,2,    0.106,2,    0.009,2,    0.473,2,   -999.0,9, -999.000,9, -999.000,-999.0000,9,-999.0000,  -999.00,9,  -999.00, -999.000,9, -999.000
  06AQ19960317,  S04a,    41,  1,     10,     15,2,19960414,   0,-58.5000,   0.0000, 4198,    758.7,   0.3377,  34.6796,2,  34.6813,2,    198.0,2,   120.68,2,    33.87,2,  -999.00,9,     2.31,2, -999.000,9, -999.000,9, -999.000,9, -999.000,9,   2266.9,2, -999.000,9, -999.000,-999.0000,9,-999.0000,  -999.00,9,  -999.00, -999.000,9, -999.000
  06AQ19960317,  S04a,    41,  1,      9,     16,2,19960414,   0,-58.5000,   0.0000, 4198,   1001.7,   0.2086,  34.6757,2,  34.6775,2,    203.1,2,   122.84,2,    34.04,2,  -999.00,9,     2.32,2,    0.181,2,    0.085,2,    0.006,2,    0.412,2,   2266.5,2, -999.000,9, -999.000,-999.0000,9,-999.0000,  -999.00,9,  -999.00, -999.000,9, -999.000
  06AQ19960317,  S04a,    41,  1,      8,     17,2,19960414,   0,-58.5000,   0.0000, 4198,   1501.8,   0.0210,  34.6688,2,  34.6700,2,    213.5,2,   125.00,2,    33.46,2,  -999.00,9,     2.31,2, -999.000,9, -999.000,9, -999.000,9, -999.000,9,   2263.2,2, -999.000,9, -999.000,-999.0000,9,-999.0000,  -999.00,9,  -999.00, -999.000,9, -999.000
  06AQ19960317,  S04a,    41,  1,      7,     18,2,19960414,   0,-58.5000,   0.0000, 4198,   2003.4,  -0.1480,  34.6614,2,  34.6634,2,    223.2,2,   124.61,2,    33.19,2,  -999.00,9,     2.29,2,    0.219,2,    0.108,2,    0.007,2,    0.535,2,   2261.2,2, -999.000,9, -999.000,-999.0000,9,-999.0000,  -999.00,9,  -999.00, -999.000,9, -999.000
  06AQ19960317,  S04a,    41,  1,      6,     19,2,19960414,   0,-58.5000,   0.0000, 4198,   2499.5,  -0.2663,  34.6566,2,  34.6584,2,    230.1,2,   124.86,2,    33.16,2,  -999.00,9,     2.28,2, -999.000,9, -999.000,9, -999.000,9, -999.000,9,   2255.5,2, -999.000,9, -999.000,-999.0000,9,-999.0000,  -999.00,9,  -999.00, -999.000,9, -999.000
  06AQ19960317,  S04a,    41,  1,      5,     20,2,19960414,   0,-58.5000,   0.0000, 4198,   3000.4,  -0.3140,  34.6547,2,  34.6545,2,    234.2,2,   123.42,2,    32.91,2,  -999.00,9,     2.27,2,    0.348,2,    0.162,2,    0.013,2,    0.763,2,   2255.2,2, -999.000,9, -999.000,-999.0000,9,-999.0000,  -999.00,9,  -999.00, -999.000,9, -999.000
  06AQ19960317,  S04a,    41,  1,      4,     21,2,19960414,   0,-58.5000,   0.0000, 4198,   3502.2,  -0.3604,  34.6523,2,  34.6525,2,    238.5,2,   122.13,2,    32.93,2,  -999.00,9,     2.25,2, -999.000,9, -999.000,9, -999.000,9, -999.000,9,   2253.2,2, -999.000,9, -999.000,-999.0000,9,-999.0000,  -999.00,9,  -999.00, -999.000,9, -999.000
  06AQ19960317,  S04a,    41,  1,      3,     22,2,19960414,   0,-58.5000,   0.0000, 4198,   4001.1,  -0.3918,  34.6497,2,  34.6509,2,    242.7,2,   120.25,2,    32.80,2,  -999.00,9,     2.25,2,    0.517,2,    0.252,2,    0.021,2,    0.968,2,   2252.2,2, -999.000,9, -999.000,-999.0000,9,-999.0000,  -999.00,9,  -999.00, -999.000,9, -999.000
  06AQ19960317,  S04a,    41,  1,      2,     23,2,19960414,   0,-58.5000,   0.0000, 4198,   4111.4,  -0.3985,  34.6491,2,  34.6482,2,    242.4,2,   119.64,2,    32.92,2,  -999.00,9,     2.25,2,    0.538,2,    0.253,2,    0.022,2,    0.992,2,   2252.8,2, -999.000,9, -999.000,-999.0000,9,-999.0000,  -999.00,9,  -999.00, -999.000,9, -999.000
  06AQ19960317,  S04a,    41,  1,      1,     24,2,19960414,   0,-58.5000,   0.0000, 4198,   4209.8,  -0.3969,  34.6489,2,  34.6495,2,    241.8,2,   119.75,2,    32.80,2,  -999.00,9,     2.24,2,    0.902,2,    0.396,2,    0.075,2,    1.311,2,   2250.7,2, -999.000,9, -999.000,-999.0000,9,-999.0000,  -999.00,9,  -999.00, -999.000,9, -999.000