BOTTLE,20150129PRINUNIVRMK
EXPOCODE,SECT_ID,STNNBR,CASTNO,SAMPNO,BTLNBR,BTLNBR_FLAG_W,DATE,TIME,LATITUDE,LONGITUDE,DEPTH,CTDPRS,CTDTMP,CTDSAL,CTDSAL_FLAG_W,SALNTY,SALNTY_FLAG_W,OXYGEN,OXYGEN_FLAG_W,SILCAT,SILCAT_FLAG_W,NITRAT,NITRAT_FLAG_W,NITRIT,NITRIT_FLAG_W,PHSPHT,PHSPHT_FLAG_W,CFC-11,CFC-11_FLAG_W,CFC-12,CFC-12_FLAG_W,CFC113,CFC113_FLAG_W,CCL4,CCL4_FLAG_W,TCARBN,TCARBN_FLAG_W,TRITUM,TRITUM_FLAG_W,TRITER,HELIUM,HELIUM_FLAG_W,HELIER,DELHE3,DELHE3_FLAG_W,DELHER,NEON,NEON_FLAG_W,NEONER
,,,,,,,,,,,METERS,DBAR,ITS-90,PSS-78,,PSS-78,,UMOL/KG,,UMOL/KG,,UMOL/KG,,UMOL/KG,,UMOL/KG,,PMOL/KG,,PMOL/KG,,PMOL/KG,,PMOL/KG,,UMOL/KG,,TU,,TU,NMOL/KG,,NMOL/KG,PERCNT,,PERCNT,NMOL/KG,,NMOL/KG
  06AQ19960317,  S04a,    74,  2,     23,      1,2,19960426,   0,-70.3092, -13.7367, 4320,     20.7,  -1.8352,  34.1624,2,  34.1657,2,    334.5,2,    60.22,2,    26.05,2,     0.14,2,     1.88,2, -999.000,9, -999.000,9, -999.000,9, -999.000,9,   2184.1,2,    0.101,2, -999.000,   1.7820,2,   0.0050,    -1.41,2,     0.22,    8.029,2,    0.018
  06AQ19960317,  S04a,    74,  2,     22,      2,2,19960426,   0,-70.3092, -13.7367, 4320,     40.4,  -1.8348,  34.1629,2,  34.1709,2,    333.9,2,    60.17,2,    26.10,2,     0.15,2,     1.89,2,    6.142,2,    3.069,2,    0.500,2,    8.008,2,   2185.7,2,    0.132,2, -999.000,   1.9750,4,   0.0050,     1.35,2,     0.22,    8.481,3,    0.019
  06AQ19960317,  S04a,    74,  2,     21,      3,2,19960426,   0,-70.3092, -13.7367, 4320,     61.4,  -1.5182,  34.2621,2,  34.2911,2,   -999.0,9,    68.42,2,    28.69,2,     0.16,2,     2.05,2, -999.000,9, -999.000,9, -999.000,9, -999.000,9,   2205.7,2, -999.000,9, -999.000,-999.0000,9,-999.0000,  -999.00,9,  -999.00, -999.000,9, -999.000
  06AQ19960317,  S04a,    74,  2,     20,      4,2,19960426,   0,-70.3092, -13.7367, 4320,     61.4,  -1.5025,  34.2813,2,  34.2905,2,    303.9,2,    68.08,2,    28.61,2,     0.16,2,     2.05,2,    5.148,2,    2.539,2,    0.417,2,    6.467,2,   -999.0,9,    0.159,2, -999.000,   1.8190,2,   0.0050,     0.23,2,     0.22,    8.135,2,    0.018
  06AQ19960317,  S04a,    74,  2,     19,      5,2,19960426,   0,-70.3092, -13.7367, 4320,     80.8,  -1.2641,  34.4223,2,  34.4219,2,    277.1,2,    74.45,2,    31.46,2,     0.13,2,     2.18,2,    4.102,2,    2.025,2,    0.333,2,    5.040,2,   2224.4,2,    0.103,2, -999.000,   1.7810,2,   0.0050,     2.91,2,     0.22,    8.011,2,    0.018
  06AQ19960317,  S04a,    74,  2,     18,      6,2,19960426,   0,-70.3092, -13.7367, 4320,    100.8,  -0.7851,  34.4933,2,  34.5147,2,    250.2,2,    80.93,2,    32.50,2,     0.08,2,     2.23,2,    2.965,2,    1.442,2,    0.239,2,    3.680,2,   2237.1,2,    0.099,2, -999.000,-999.0000,9,-999.0000,  -999.00,9,  -999.00, -999.000,9, -999.000
  06AQ19960317,  S04a,    74,  2,     17,      7,2,19960426,   0,-70.3092, -13.7367, 4320,    150.6,   0.1479,  34.6022,2,  34.6012,2,    212.1,2,    90.66,2,    33.33,2,     0.04,2,     2.28,2,    1.689,2,    0.810,2,    0.134,2,    2.200,2,   2251.7,2,    0.083,2, -999.000,   1.8730,2,   0.0050,     6.48,2,     0.22,    8.151,2,    0.018
  06AQ19960317,  S04a,    74,  2,     16,      8,2,19960426,   0,-70.3092, -13.7367, 4320,    201.5,   0.5859,  34.6545,2,  34.6612,2,    196.4,2,    97.37,2,    33.61,2,     0.02,2,     2.29,2,    0.945,2,    0.449,2,    0.064,2,    1.249,2,   2260.7,2, -999.000,9, -999.000,   1.8560,2,   0.0050,     8.55,2,     0.22,    8.401,4,    0.019
  06AQ19960317,  S04a,    74,  2,     15,      9,2,19960426,   0,-70.3092, -13.7367, 4320,    251.0,   0.8470,  34.6810,2,  34.6838,2,    193.7,2,   100.17,2,    33.66,2,     0.00,2,     2.29,2, -999.000,9, -999.000,9, -999.000,9, -999.000,9,   2260.2,2,    0.041,2, -999.000,   1.8970,3,   0.0150,     9.10,3,     0.22,    8.235,3,    0.060
  06AQ19960317,  S04a,    74,  2,     14,     10,2,19960426,   0,-70.3092, -13.7367, 4320,    326.7,   0.9253,  34.6946,2,  34.6938,2,    194.4,2,   102.65,2,    33.53,2,     0.01,2,     2.28,2,    0.529,2,    0.297,4,    0.033,2,    0.773,2,   2259.7,2,    0.030,2, -999.000,   1.8720,2,   0.0050,     8.83,2,     0.22,    8.084,2,    0.018
  06AQ19960317,  S04a,    74,  2,     13,     11,2,19960426,   0,-70.3092, -13.7367, 4320,    401.3,   0.8972,  34.6969,2,  34.6970,2,    194.9,2,   104.33,2,    33.34,2,     0.00,2,     2.27,2,    0.477,2,    0.223,2,    0.029,2,    0.716,2,   2259.9,2,    0.007,2, -999.000,   1.8640,2,   0.0050,     8.87,2,     0.22,    8.077,2,    0.018
  06AQ19960317,  S04a,    74,  2,     12,     12,2,19960426,   0,-70.3092, -13.7367, 4320,    441.1,   0.8560,  34.6964,2,  34.6965,2,    196.3,2,   105.13,2,    33.20,2,     0.00,2,     2.27,2,    0.481,2,    0.225,2,    0.027,2,    0.725,2,   2259.8,2,    0.056,2, -999.000,   1.8560,2,   0.0050,     8.77,2,     0.22,    8.045,2,    0.018
  06AQ19960317,  S04a,    74,  2,     11,     13,2,19960426,   0,-70.3092, -13.7367, 4320,    500.8,   0.7784,  34.6935,2,  34.6944,2,    199.3,2,   106.32,2,    33.34,2,     0.00,2,     2.26,2,    0.462,2,    0.217,2,    0.028,2,    0.705,2,   2260.2,2,    0.022,2, -999.000,   1.8900,2,   0.0050,     9.06,2,     0.22,    8.172,2,    0.018
  06AQ19960317,  S04a,    74,  2,     10,     14,2,19960426,   0,-70.3092, -13.7367, 4320,    751.4,   0.5646,  34.6897,2,  34.6894,2,    203.4,2,   113.65,2,    33.39,2,     0.00,2,     2.28,2,    0.320,2,    0.154,2,    0.015,2,    0.544,2,   2261.0,2,    0.050,2, -999.000,   1.8780,2,   0.0050,     8.89,2,     0.22,    8.142,2,    0.018
  06AQ19960317,  S04a,    74,  2,      9,     15,2,19960426,   0,-70.3092, -13.7367, 4320,   1001.3,   0.4101,  34.6842,2,  34.6840,2,    205.9,2,   118.21,2,    33.51,2,     0.00,2,     2.31,2,    0.264,2,    0.135,2,    0.014,2,    0.481,2,   2262.0,2,    0.053,2, -999.000,   1.9020,2,   0.0050,     8.83,2,     0.22,    8.231,2,    0.018
  06AQ19960317,  S04a,    74,  2,      8,     16,2,19960426,   0,-70.3092, -13.7367, 4320,   1501.3,   0.1934,  34.6760,2,  34.6751,2,    209.4,2,   124.36,2,    33.89,2,     0.00,2,     2.33,2,    0.199,2,    0.111,2,    0.008,2,    0.446,2,   2263.4,2,    0.018,2, -999.000,-999.0000,9,-999.0000,  -999.00,9,  -999.00, -999.000,9, -999.000
  06AQ19960317,  S04a,    74,  2,      7,     17,2,19960426,   0,-70.3092, -13.7367, 4320,   2001.9,   0.0086,  34.6688,2,  34.6681,2,    218.5,2,   125.44,2,    33.91,2,     0.00,2,     2.32,2,    0.242,2,    0.122,2,    0.010,2,    0.532,2,   2260.4,2,    0.020,2, -999.000,   1.8890,2,   0.0050,     7.00,2,     0.22,    8.199,2,    0.018
  06AQ19960317,  S04a,    74,  2,      6,     18,2,19960426,   0,-70.3092, -13.7367, 4320,   2501.6,  -0.1046,  34.6641,2,  34.6636,2,    225.5,2,   124.85,2,    33.58,2,     0.00,2,     2.30,2,    0.373,2,    0.170,2,    0.029,4,    0.729,2,   2256.5,2,    0.070,2, -999.000,   1.8800,3,   0.0140,     6.87,3,     0.22,    8.194,3,    0.059
  06AQ19960317,  S04a,    74,  2,      5,     19,2,19960426,   0,-70.3092, -13.7367, 4320,   3000.5,  -0.1709,  34.6614,2,  34.6637,2,    230.4,2,   124.26,2,    33.29,2,     0.00,2,     2.30,2,    0.492,2,    0.223,2,    0.023,2,    0.888,2,   2256.3,2,    0.023,2, -999.000,   1.8720,2,   0.0050,     6.46,2,     0.22,    8.205,2,    0.018
  06AQ19960317,  S04a,    74,  2,      4,     20,2,19960426,   0,-70.3092, -13.7367, 4320,   3501.0,  -0.2067,  34.6587,2,-999.0000,9,    234.2,2,   124.55,2,    33.54,2,     0.00,2,     2.29,2,    0.604,2,    0.273,2,    0.030,2,    1.020,2,   2254.7,2,    0.060,2, -999.000,   1.8810,2,   0.0050,     5.83,2,     0.22,    8.216,2,    0.018
  06AQ19960317,  S04a,    74,  2,      3,     21,2,19960426,   0,-70.3092, -13.7367, 4320,   4000.2,  -0.2068,  34.6578,2,  34.6576,2,    235.8,2,   125.54,2,    33.35,2,     0.00,2,     2.29,2,    0.602,2,    0.286,2,    0.029,2,    0.999,2,   2255.2,2,    0.063,2, -999.000,   1.8830,2,   0.0050,     5.74,2,     0.22,    8.228,2,    0.018
  06AQ19960317,  S04a,    74,  2,      2,     22,2,19960426,   0,-70.3092, -13.7367, 4320,   4278.9,  -0.2118,  34.6573,2,  34.6574,2,    237.8,2,   126.34,2,    33.21,2,     0.00,2,     2.28,2,    0.580,2,    0.268,2,    0.029,2,    1.014,2,   2254.1,2,    0.074,2, -999.000,   2.1380,4,   0.0060,     5.63,2,     0.22,    8.968,4,    0.020
  06AQ19960317,  S04a,    74,  2,      1,     23,2,19960426,   0,-70.3092, -13.7367, 4320,   4330.2,  -0.2154,  34.6572,2,  34.6585,2,    237.1,2,   126.44,2,    33.34,2,     0.00,2,     2.28,2,    0.581,2,    0.332,4,    0.038,2,    0.989,2,   2253.5,2,    0.035,2, -999.000,   1.8940,2,   0.0050,     5.47,2,     0.22,    8.258,2,    0.018
  06AQ19960317,  S04a,    74,  2,     24,     24,2,19960426,   0,-70.3092, -13.7367, 4320,   4384.0,  -0.2259,  34.6566,2,  34.6549,2,    238.2,2,   127.23,2,    33.38,2,     0.00,2,     2.28,2,    0.577,2,    0.293,2,    0.017,2,    1.012,2,   2254.5,2,    0.083,2, -999.000,   1.8690,2,   0.0050,     5.16,2,     0.22,    8.182,2,    0.018
  06AQ19960317,  S04a,    75,  1,     23,      1,2,19960426,   0,-69.9875, -14.7302, 4716,     20.1,  -1.8322,  34.2207,2,  34.2192,2,   -999.0,9,    58.19,2,    26.54,2,     0.19,2,     1.90,2, -999.000,9, -999.000,9, -999.000,9, -999.000,9,   -999.0,9, -999.000,9, -999.000,-999.0000,9,-999.0000,  -999.00,9,  -999.00, -999.000,9, -999.000
  06AQ19960317,  S04a,    75,  1,     22,      2,2,19960426,   0,-69.9875, -14.7302, 4716,     20.1,  -1.8317,  34.2190,2,  34.2195,2,    332.5,2,    58.24,2,    26.74,2,     0.19,2,     1.89,2,    6.097,2,    2.912,2,    0.454,2,    8.073,2,   2191.1,2, -999.000,9, -999.000,-999.0000,9,-999.0000,  -999.00,9,  -999.00, -999.000,9, -999.000
  06AQ19960317,  S04a,    75,  1,     21,      3,2,19960426,   0,-69.9875, -14.7302, 4716,     40.6,  -1.8400,  34.2197,2,  34.2200,2,    333.7,2,    58.08,2,    26.57,2,     0.18,2,     1.88,2,    5.880,2,    2.624,3,    0.405,2,    7.983,2,   2192.0,2, -999.000,9, -999.000,-999.0000,9,-999.0000,  -999.00,9,  -999.00, -999.000,9, -999.000
  06AQ19960317,  S04a,    75,  1,     20,      4,2,19960426,   0,-69.9875, -14.7302, 4716,     40.6,  -1.8398,  34.2196,2,-999.0000,9,   -999.0,9,    57.90,2,    26.47,2,     0.19,2,     1.88,2, -999.000,9, -999.000,9, -999.000,9, -999.000,9,   -999.0,9, -999.000,9, -999.000,-999.0000,9,-999.0000,  -999.00,9,  -999.00, -999.000,9, -999.000
  06AQ19960317,  S04a,    75,  1,     19,      5,2,19960426,   0,-69.9875, -14.7302, 4716,     40.7,  -1.8396,  34.2197,2,-999.0000,9,   -999.0,9,    58.08,2,    26.69,2,     0.18,2,     1.88,2, -999.000,9, -999.000,9, -999.000,9, -999.000,9,   -999.0,9, -999.000,9, -999.000,-999.0000,9,-999.0000,  -999.00,9,  -999.00, -999.000,9, -999.000
  06AQ19960317,  S04a,    75,  1,     18,      6,2,19960426,   0,-69.9875, -14.7302, 4716,     60.6,  -1.8388,  34.2200,2,  34.2193,2,   -999.0,9,    58.35,2,    26.75,2,     0.18,2,     1.89,2, -999.000,9, -999.000,9, -999.000,9, -999.000,9,   -999.0,9, -999.000,9, -999.000,-999.0000,9,-999.0000,  -999.00,9,  -999.00, -999.000,9, -999.000
  06AQ19960317,  S04a,    75,  1,     17,      7,2,19960426,   0,-69.9875, -14.7302, 4716,     60.6,  -1.8389,  34.2215,2,  34.2194,2,    333.3,2,    58.04,2,    26.59,2,     0.19,2,     1.89,2,    5.868,2,    2.884,2,    0.466,2,    7.784,2,   2192.5,2, -999.000,9, -999.000,-999.0000,9,-999.0000,  -999.00,9,  -999.00, -999.000,9, -999.000
  06AQ19960317,  S04a,    75,  1,     15,      9,2,19960426,   0,-69.9875, -14.7302, 4716,     80.3,  -1.4422,  34.3258,2,  34.3814,2,    275.1,2,    72.21,2,    30.18,2,     0.17,2,     2.12,2, -999.000,9, -999.000,9, -999.000,9, -999.000,9,   2222.3,2, -999.000,9, -999.000,-999.0000,9,-999.0000,  -999.00,9,  -999.00, -999.000,9, -999.000
  06AQ19960317,  S04a,    75,  1,     16,      8,2,19960426,   0,-69.9875, -14.7302, 4716,     80.4,  -1.4496,  34.3165,2,  34.3562,2,   -999.0,9,    70.02,2,    29.67,2,     0.19,2,     2.10,2, -999.000,9, -999.000,9, -999.000,9, -999.000,9,   -999.0,9, -999.000,9, -999.000,-999.0000,9,-999.0000,  -999.00,9,  -999.00, -999.000,9, -999.000
  06AQ19960317,  S04a,    75,  1,     14,     10,2,19960426,   0,-69.9875, -14.7302, 4716,    101.2,  -0.5679,  34.5300,2,  34.5329,2,    234.5,2,    83.43,2,    32.68,2,     0.10,2,     2.24,2,    2.563,2,    1.201,2,    0.193,2,    3.362,2,   2243.1,2, -999.000,9, -999.000,-999.0000,9,-999.0000,  -999.00,9,  -999.00, -999.000,9, -999.000
  06AQ19960317,  S04a,    75,  1,     13,     11,2,19960426,   0,-69.9875, -14.7302, 4716,    150.7,   0.5689,  34.6454,2,  34.6446,2,    198.8,2,    92.83,2,    33.64,2,     0.01,2,     2.30,2,    1.161,2,    0.524,2,    0.082,2,    1.577,2,   2257.5,2, -999.000,9, -999.000,-999.0000,9,-999.0000,  -999.00,9,  -999.00, -999.000,9, -999.000
  06AQ19960317,  S04a,    75,  1,     12,     12,2,19960426,   0,-69.9875, -14.7302, 4716,    200.3,   0.8263,  34.6770,2,  34.6800,2,    193.2,2,    97.42,2,    33.52,2,     0.01,2,     2.29,2,    0.683,2,    0.310,2,    0.037,2,    0.992,2,   2259.3,2, -999.000,9, -999.000,-999.0000,9,-999.0000,  -999.00,9,  -999.00, -999.000,9, -999.000
  06AQ19960317,  S04a,    75,  1,     11,     13,2,19960426,   0,-69.9875, -14.7302, 4716,    251.4,   0.9096,  34.6901,2,  34.6923,2,    191.0,2,   100.11,2,    33.40,2,     0.02,2,     2.30,2, -999.000,9, -999.000,9, -999.000,9, -999.000,9,   2260.6,2, -999.000,9, -999.000,-999.0000,9,-999.0000,  -999.00,9,  -999.00, -999.000,9, -999.000
  06AQ19960317,  S04a,    75,  1,     10,     14,2,19960426,   0,-69.9875, -14.7302, 4716,    301.6,   0.9411,  34.6970,2,  34.6968,2,    194.0,2,   101.88,2,    33.52,2,     0.01,2,     2.28,2,    0.448,2,    0.205,2,    0.024,2,    0.701,2,   2261.4,2, -999.000,9, -999.000,-999.0000,9,-999.0000,  -999.00,9,  -999.00, -999.000,9, -999.000
  06AQ19960317,  S04a,    75,  1,      7,     17,2,19960426,   0,-69.9875, -14.7302, 4716,    320.9,   0.9237,  34.6976,2,-999.0000,9,   -999.0,9,   102.28,2,    33.31,2,     0.01,2,     2.28,2, -999.000,9, -999.000,9, -999.000,9, -999.000,9,   -999.0,9, -999.000,9, -999.000,-999.0000,9,-999.0000,  -999.00,9,  -999.00, -999.000,9, -999.000
  06AQ19960317,  S04a,    75,  1,      8,     16,2,19960426,   0,-69.9875, -14.7302, 4716,    321.0,   0.9266,  34.6982,2,-999.0000,9,   -999.0,9,   101.97,2,    33.17,2,     0.01,2,     2.27,2, -999.000,9, -999.000,9, -999.000,9, -999.000,9,   -999.0,9, -999.000,9, -999.000,-999.0000,9,-999.0000,  -999.00,9,  -999.00, -999.000,9, -999.000
  06AQ19960317,  S04a,    75,  1,      9,     15,2,19960426,   0,-69.9875, -14.7302, 4716,    321.1,   0.9236,  34.6986,2,  34.6985,2,    188.7,2,   101.92,2,    33.33,2,     0.00,2,     2.27,2, -999.000,9, -999.000,9, -999.000,9, -999.000,9,   2258.5,2, -999.000,9, -999.000,-999.0000,9,-999.0000,  -999.00,9,  -999.00, -999.000,9, -999.000
  06AQ19960317,  S04a,    75,  1,      6,     18,2,19960426,   0,-69.9875, -14.7302, 4716,    351.5,   0.9075,  34.6989,2,  34.6984,2,    195.8,2,   103.12,2,    33.34,2,     0.01,2,     2.29,2,    0.433,2,    0.202,2,    0.031,2,    0.690,2,   2257.7,2, -999.000,9, -999.000,-999.0000,9,-999.0000,  -999.00,9,  -999.00, -999.000,9, -999.000
  06AQ19960317,  S04a,    75,  1,      5,     19,2,19960426,   0,-69.9875, -14.7302, 4716,    371.2,   0.8892,  34.6989,2,  34.6988,2,    194.6,2,   103.70,2,    33.28,2,     0.02,2,     2.28,2, -999.000,9, -999.000,9, -999.000,9, -999.000,9,   2257.2,2, -999.000,9, -999.000,-999.0000,9,-999.0000,  -999.00,9,  -999.00, -999.000,9, -999.000
  06AQ19960317,  S04a,    75,  1,      4,     20,2,19960426,   0,-69.9875, -14.7302, 4716,    401.9,   0.8622,  34.6985,2,  34.6982,2,    196.1,2,   104.36,2,    33.35,2,     0.01,2,     2.28,2,    0.458,2,    0.213,2,    0.027,2,    0.689,2,   2257.1,2, -999.000,9, -999.000,-999.0000,9,-999.0000,  -999.00,9,  -999.00, -999.000,9, -999.000
  06AQ19960317,  S04a,    75,  1,      3,     21,2,19960426,   0,-69.9875, -14.7302, 4716,    450.7,   0.8223,  34.6996,2,-999.0000,9,    195.0,2,   106.14,2,    33.23,2,     0.01,2,     2.27,2, -999.000,9, -999.000,9, -999.000,9, -999.000,9,   2260.2,2, -999.000,9, -999.000,-999.0000,9,-999.0000,  -999.00,9,  -999.00, -999.000,9, -999.000
  06AQ19960317,  S04a,    75,  1,     24,     24,2,19960426,   0,-69.9875, -14.7302, 4716,    503.1,   0.7794,  34.6998,2,-999.0000,9,   -999.0,9,   107.91,2,    33.42,2,     0.00,2,     2.28,2, -999.000,9, -999.000,9, -999.000,9, -999.000,9,   -999.0,9, -999.000,9, -999.000,-999.0000,9,-999.0000,  -999.00,9,  -999.00, -999.000,9, -999.000
  06AQ19960317,  S04a,    75,  1,      2,     22,2,19960426,   0,-69.9875, -14.7302, 4716,    503.7,   0.7780,  34.6994,2,  34.6978,2,    195.3,2,   108.17,2,    33.37,2,     0.02,2,     2.29,2,    0.366,2,    0.178,2,    0.020,2,    0.593,2,   2261.3,2, -999.000,9, -999.000,-999.0000,9,-999.0000,  -999.00,9,  -999.00, -999.000,9, -999.000
  06AQ19960317,  S04a,    75,  1,      1,     23,2,19960426,   0,-69.9875, -14.7302, 4716,    503.8,   0.7793,  34.6990,2,-999.0000,9,   -999.0,9,   108.26,2,    33.57,2,     0.01,2,     2.29,2, -999.000,9, -999.000,9, -999.000,9, -999.000,9,   -999.0,9, -999.000,9, -999.000,-999.0000,9,-999.0000,  -999.00,9,  -999.00, -999.000,9, -999.000