BOTTLE,20150129PRINUNIVRMK
EXPOCODE,SECT_ID,STNNBR,CASTNO,SAMPNO,BTLNBR,BTLNBR_FLAG_W,DATE,TIME,LATITUDE,LONGITUDE,DEPTH,CTDPRS,CTDTMP,CTDSAL,CTDSAL_FLAG_W,SALNTY,SALNTY_FLAG_W,OXYGEN,OXYGEN_FLAG_W,SILCAT,SILCAT_FLAG_W,NITRAT,NITRAT_FLAG_W,NITRIT,NITRIT_FLAG_W,PHSPHT,PHSPHT_FLAG_W,CFC-11,CFC-11_FLAG_W,CFC-12,CFC-12_FLAG_W,CFC113,CFC113_FLAG_W,CCL4,CCL4_FLAG_W,TCARBN,TCARBN_FLAG_W,TRITUM,TRITUM_FLAG_W,TRITER,HELIUM,HELIUM_FLAG_W,HELIER,DELHE3,DELHE3_FLAG_W,DELHER,NEON,NEON_FLAG_W,NEONER
,,,,,,,,,,,METERS,DBAR,ITS-90,PSS-78,,PSS-78,,UMOL/KG,,UMOL/KG,,UMOL/KG,,UMOL/KG,,UMOL/KG,,PMOL/KG,,PMOL/KG,,PMOL/KG,,PMOL/KG,,UMOL/KG,,TU,,TU,NMOL/KG,,NMOL/KG,PERCNT,,PERCNT,NMOL/KG,,NMOL/KG
  06AQ19960317,  S04a,    61,  1,     23,      1,2,19960421,   0,-68.5010,   0.0075, 4227,     21.4,  -1.1992,  34.1781,2,  34.1789,2,    335.7,2,    58.11,2,    24.97,2,  -999.00,9,     1.78,2,    6.009,2,    3.054,2,    0.520,2,    7.882,2,   2181.4,2,   11.817,4, -999.000,-999.0000,9,-999.0000,  -999.00,9,  -999.00, -999.000,9, -999.000
  06AQ19960317,  S04a,    61,  1,     22,      2,2,19960421,   0,-68.5010,   0.0075, 4227,     40.0,  -1.1962,  34.1791,2,  34.1856,2,    335.5,2,    58.00,2,    25.07,2,  -999.00,9,     1.81,2, -999.000,9, -999.000,9, -999.000,9, -999.000,9,   2180.9,2, -999.000,9, -999.000,-999.0000,9,-999.0000,  -999.00,9,  -999.00, -999.000,9, -999.000
  06AQ19960317,  S04a,    61,  1,     21,      3,2,19960421,   0,-68.5010,   0.0075, 4227,     60.0,  -1.3717,  34.2644,2,  34.2680,2,   -999.0,9,    59.30,2,    26.06,2,  -999.00,9,     1.88,2,    5.901,2,    3.013,2,    0.513,2,    7.596,2,   2189.2,2,    0.220,2, -999.000,-999.0000,9,-999.0000,  -999.00,9,  -999.00, -999.000,9, -999.000
  06AQ19960317,  S04a,    61,  1,     20,      4,2,19960421,   0,-68.5010,   0.0075, 4227,     60.1,  -1.3766,  34.2686,2,  34.2711,2,    334.6,2,    59.46,2,    26.05,2,  -999.00,9,     1.87,2, -999.000,9, -999.000,9, -999.000,9, -999.000,9,   -999.0,9, -999.000,9, -999.000,-999.0000,9,-999.0000,  -999.00,9,  -999.00, -999.000,9, -999.000
  06AQ19960317,  S04a,    61,  1,     19,      5,2,19960421,   0,-68.5010,   0.0075, 4227,     79.8,  -1.2773,  34.3611,2,  34.3707,2,    301.7,2,    66.14,2,    29.16,2,  -999.00,9,     2.05,2,    4.828,2,    2.441,2,    0.420,2,    6.132,2,   2210.4,2,    0.120,2, -999.000,-999.0000,9,-999.0000,  -999.00,9,  -999.00, -999.000,9, -999.000
  06AQ19960317,  S04a,    61,  1,     18,      6,2,19960421,   0,-68.5010,   0.0075, 4227,    100.7,  -0.8823,  34.5748,2,  34.4941,2,    257.6,2,    75.68,2,    32.34,2,  -999.00,9,     2.21,2,    3.496,2,    1.725,2,    0.266,2,    4.042,2,   2233.8,2,    0.121,2, -999.000,-999.0000,9,-999.0000,  -999.00,9,  -999.00, -999.000,9, -999.000
  06AQ19960317,  S04a,    61,  1,     17,      7,2,19960421,   0,-68.5010,   0.0075, 4227,    149.4,   0.3844,  34.6107,2,  34.6124,2,    212.2,2,    88.40,2,    33.14,2,  -999.00,9,     2.25,2, -999.000,9, -999.000,9, -999.000,9, -999.000,9,   2249.1,2, -999.000,9, -999.000,-999.0000,9,-999.0000,  -999.00,9,  -999.00, -999.000,9, -999.000
  06AQ19960317,  S04a,    61,  1,     16,      8,2,19960421,   0,-68.5010,   0.0075, 4227,    201.0,   0.8578,  34.6634,2,  34.6644,2,    196.3,2,    94.19,2,    33.41,2,  -999.00,9,     2.28,2,    0.938,2,    0.449,2,    0.058,2,    1.194,2,   2254.2,2, -999.000,9, -999.000,-999.0000,9,-999.0000,  -999.00,9,  -999.00, -999.000,9, -999.000
  06AQ19960317,  S04a,    61,  1,     15,      9,2,19960421,   0,-68.5010,   0.0075, 4227,    240.5,   1.0356,  34.6871,2,  34.6870,2,    193.0,2,    96.73,2,    33.16,2,  -999.00,9,     2.25,2,    0.614,2,    0.280,2,    0.033,2,    0.829,2,   2256.7,2,    0.064,2, -999.000,-999.0000,9,-999.0000,  -999.00,9,  -999.00, -999.000,9, -999.000
  06AQ19960317,  S04a,    61,  1,     14,     10,2,19960421,   0,-68.5010,   0.0075, 4227,    301.8,   0.9815,  34.6944,2,  34.6956,2,    194.8,2,    99.92,2,    32.96,2,  -999.00,9,     2.24,2,    0.524,2,    0.242,2,    0.028,2,    0.745,2,   2256.3,2,    0.056,2, -999.000,-999.0000,9,-999.0000,  -999.00,9,  -999.00, -999.000,9, -999.000
  06AQ19960317,  S04a,    61,  1,     13,     11,2,19960421,   0,-68.5010,   0.0075, 4227,    381.8,   0.9308,  34.6989,2,  34.6988,2,    197.3,2,   102.70,2,    32.87,2,  -999.00,9,     2.25,2,    0.432,2,    0.202,2,    0.023,2,    0.639,2,   2257.1,2, -999.000,9, -999.000,-999.0000,9,-999.0000,  -999.00,9,  -999.00, -999.000,9, -999.000
  06AQ19960317,  S04a,    61,  1,     12,     12,2,19960421,   0,-68.5010,   0.0075, 4227,    501.8,   0.7707,  34.6936,2,  34.6946,2,    198.7,2,   105.24,2,    32.96,2,  -999.00,9,     2.25,2,    0.472,2,    0.221,2,    0.023,2,    0.730,2,   2257.4,2,    0.021,2, -999.000,-999.0000,9,-999.0000,  -999.00,9,  -999.00, -999.000,9, -999.000
  06AQ19960317,  S04a,    61,  1,     11,     13,2,19960421,   0,-68.5010,   0.0075, 4227,    751.3,   0.5910,  34.6904,2,  34.6915,2,    202.8,2,   111.57,2,    32.94,2,  -999.00,9,     2.26,2,    0.336,2,    0.155,2,    0.013,2,    0.553,2,   2257.9,2, -999.000,9, -999.000,-999.0000,9,-999.0000,  -999.00,9,  -999.00, -999.000,9, -999.000
  06AQ19960317,  S04a,    61,  1,     10,     14,2,19960421,   0,-68.5010,   0.0075, 4227,   1002.7,   0.4396,  34.6846,2,  34.6858,2,    205.0,2,   116.58,2,    33.36,2,  -999.00,9,     2.28,2, -999.000,9, -999.000,9, -999.000,9, -999.000,9,   2256.9,2, -999.000,9, -999.000,-999.0000,9,-999.0000,  -999.00,9,  -999.00, -999.000,9, -999.000
  06AQ19960317,  S04a,    61,  1,      9,     15,2,19960421,   0,-68.5010,   0.0075, 4227,   1503.8,   0.1905,  34.6762,2,  34.6752,2,    210.6,2,   122.54,2,    33.63,2,  -999.00,9,     2.30,2,    0.213,2,    0.102,2,    0.009,2,    0.462,2,   2261.5,2,    0.042,2, -999.000,-999.0000,9,-999.0000,  -999.00,9,  -999.00, -999.000,9, -999.000
  06AQ19960317,  S04a,    61,  1,      8,     16,2,19960421,   0,-68.5010,   0.0075, 4227,   2001.3,   0.0109,  34.6689,2,  34.6683,2,    218.3,2,   124.23,2,    33.56,2,  -999.00,9,     2.30,2, -999.000,9, -999.000,9, -999.000,9, -999.000,9,   2257.2,2, -999.000,9, -999.000,-999.0000,9,-999.0000,  -999.00,9,  -999.00, -999.000,9, -999.000
  06AQ19960317,  S04a,    61,  1,      7,     17,2,19960421,   0,-68.5010,   0.0075, 4227,   2501.4,  -0.1236,  34.6632,2,  34.6640,2,    225.2,2,   124.76,2,    33.45,2,  -999.00,9,     2.30,2,    0.317,2,    0.148,2,    0.008,2,    0.642,2,   2253.5,2,    0.049,2, -999.000,-999.0000,9,-999.0000,  -999.00,9,  -999.00, -999.000,9, -999.000
  06AQ19960317,  S04a,    61,  1,      6,     18,2,19960421,   0,-68.5010,   0.0075, 4227,   3002.0,  -0.2127,  34.6606,2,  34.6593,2,    231.3,2,   123.39,2,    33.19,2,  -999.00,9,     2.28,2,    0.454,2,    0.216,2,    0.018,2,    0.822,2,   2251.4,2, -999.000,9, -999.000,-999.0000,9,-999.0000,  -999.00,9,  -999.00, -999.000,9, -999.000
  06AQ19960317,  S04a,    61,  1,      5,     19,2,19960421,   0,-68.5010,   0.0075, 4227,   3502.2,  -0.2570,  34.6583,2,  34.6562,2,    235.2,2,   123.43,2,    33.11,2,  -999.00,9,     2.27,2,    0.571,2,    0.269,2,    0.024,2,    0.961,2,   2251.3,2,    0.070,2, -999.000,   1.8670,2,   0.0050,     5.64,2,     0.22,    8.194,2,    0.018
  06AQ19960317,  S04a,    61,  1,      4,     20,2,19960421,   0,-68.5010,   0.0075, 4227,   3798.7,  -0.2778,  34.6572,2,  34.6550,2,    237.0,2,   124.87,2,    33.16,2,  -999.00,9,     2.28,2,    0.540,2,    0.257,2,    0.023,2,    0.922,2,   2250.4,2, -999.000,9, -999.000,-999.0000,9,-999.0000,  -999.00,9,  -999.00, -999.000,9, -999.000
  06AQ19960317,  S04a,    61,  1,      3,     21,2,19960421,   0,-68.5010,   0.0075, 4227,   3999.0,  -0.2885,  34.6558,2,  34.6538,2,    238.3,2,   125.26,2,    33.21,2,  -999.00,9,     2.27,2,    0.571,2,    0.275,2,    0.027,2,    0.971,2,   2251.0,2,    0.035,2, -999.000,   1.8720,2,   0.0050,     5.13,2,     0.22,    8.231,2,    0.018
  06AQ19960317,  S04a,    61,  1,      2,     22,2,19960421,   0,-68.5010,   0.0075, 4227,   4200.3,  -0.2969,  34.6556,2,  34.6525,2,    238.3,2,   127.87,2,    33.05,2,  -999.00,9,     2.28,2,    0.528,2,    0.253,2,    0.026,2,    0.930,2,   2250.2,2,    0.184,2, -999.000,-999.0000,9,-999.0000,  -999.00,9,  -999.00, -999.000,9, -999.000
  06AQ19960317,  S04a,    61,  1,      1,     23,2,19960421,   0,-68.5010,   0.0075, 4227,   4239.4,  -0.2976,  34.6551,2,  34.6531,2,    238.5,2,   129.03,2,    33.22,2,  -999.00,9,     2.29,2,    0.517,2,    0.247,2,    0.025,2,    0.939,2,   2253.1,2,    0.171,2, -999.000,   1.8870,2,   0.0050,     5.79,2,     0.22,    8.244,2,    0.018
  06AQ19960317,  S04a,    61,  1,     24,     24,2,19960421,   0,-68.5010,   0.0075, 4227,   4293.0,  -0.2973,  34.6553,2,  34.6536,2,    238.7,2,   130.29,2,    33.14,2,  -999.00,9,     2.28,2,    0.502,2,    0.241,2,    0.022,2,    0.891,2,   2254.0,2,    0.026,2, -999.000,   1.8810,2,   0.0050,     5.39,2,     0.22,    8.227,2,    0.018
  06AQ19960317,  S04a,    62,  1,     23,      1,2,19960421,   0,-68.9990,  -0.0032, 3357,     20.0,  -1.4979,  34.2382,2,-999.0000,9,    335.9,2,    58.83,2,    25.39,2,  -999.00,9,     1.87,2, -999.000,9, -999.000,9, -999.000,9, -999.000,9,   -999.0,9, -999.000,9, -999.000,-999.0000,9,-999.0000,  -999.00,9,  -999.00, -999.000,9, -999.000
  06AQ19960317,  S04a,    62,  1,     22,      2,2,19960421,   0,-68.9990,  -0.0032, 3357,     20.0,  -1.4992,  34.2381,2,  34.2400,2,   -999.0,9,    58.65,2,    25.46,2,  -999.00,9,     1.87,2,    6.070,2,    3.078,2,    0.495,2,    7.734,2,   2188.8,2,    0.153,2, -999.000,   1.6840,2,   0.0050,    -2.11,2,     0.22,    7.809,2,    0.017
  06AQ19960317,  S04a,    62,  1,     21,      3,2,19960421,   0,-68.9990,  -0.0032, 3357,     40.9,  -1.4865,  34.2389,2,-999.0000,9,    335.0,2,    58.74,2,    25.43,2,  -999.00,9,     1.88,2,    6.275,2,    3.181,2,    0.513,2,    7.880,2,   -999.0,9,    0.108,2, -999.000,   1.7880,2,   0.0050,    -1.37,2,     0.22,    8.028,2,    0.018
  06AQ19960317,  S04a,    62,  1,     18,      6,2,19960421,   0,-68.9990,  -0.0032, 3357,     41.0,  -1.4819,  34.2396,2,-999.0000,9,   -999.0,9,    58.62,2,    25.46,2,  -999.00,9,     1.88,2, -999.000,9, -999.000,9, -999.000,9, -999.000,9,   -999.0,9, -999.000,9, -999.000,-999.0000,9,-999.0000,  -999.00,9,  -999.00, -999.000,9, -999.000
  06AQ19960317,  S04a,    62,  1,     20,      4,2,19960421,   0,-68.9990,  -0.0032, 3357,     41.1,  -1.4865,  34.2396,2,  34.2405,2,    335.7,2,    58.64,2,    25.43,2,  -999.00,9,     1.88,2, -999.000,9, -999.000,9, -999.000,9, -999.000,9,   2187.5,2, -999.000,9, -999.000,-999.0000,9,-999.0000,  -999.00,9,  -999.00, -999.000,9, -999.000
  06AQ19960317,  S04a,    62,  1,     19,      5,2,19960421,   0,-68.9990,  -0.0032, 3357,     41.1,  -1.4887,  34.2403,2,-999.0000,9,   -999.0,9,    58.63,2,    25.50,2,  -999.00,9,     1.87,2, -999.000,9, -999.000,9, -999.000,9, -999.000,9,   -999.0,9, -999.000,9, -999.000,-999.0000,9,-999.0000,  -999.00,9,  -999.00, -999.000,9, -999.000
  06AQ19960317,  S04a,    62,  1,     17,      7,2,19960421,   0,-68.9990,  -0.0032, 3357,     60.4,  -1.4775,  34.2402,2,-999.0000,9,   -999.0,9,    58.75,2,    25.49,2,  -999.00,9,     1.88,2, -999.000,9, -999.000,9, -999.000,9, -999.000,9,   -999.0,9, -999.000,9, -999.000,-999.0000,9,-999.0000,  -999.00,9,  -999.00, -999.000,9, -999.000
  06AQ19960317,  S04a,    62,  1,     16,      8,2,19960421,   0,-68.9990,  -0.0032, 3357,     60.4,  -1.4795,  34.2410,2,  34.2458,2,    333.4,2,    58.96,2,    25.60,2,  -999.00,9,     1.89,2, -999.000,9, -999.000,9, -999.000,9, -999.000,9,   2190.2,2, -999.000,9, -999.000,-999.0000,9,-999.0000,  -999.00,9,  -999.00, -999.000,9, -999.000
  06AQ19960317,  S04a,    62,  1,     14,     10,2,19960421,   0,-68.9990,  -0.0032, 3357,     80.8,  -1.3041,  34.3134,2,  34.3406,2,    306.5,2,    62.74,2,    28.04,2,  -999.00,9,     2.01,2, -999.000,9, -999.000,9, -999.000,9, -999.000,9,   2204.8,2, -999.000,9, -999.000,-999.0000,9,-999.0000,  -999.00,9,  -999.00, -999.000,9, -999.000
  06AQ19960317,  S04a,    62,  1,     15,      9,2,19960421,   0,-68.9990,  -0.0032, 3357,     80.9,  -1.3099,  34.3068,2,-999.0000,9,   -999.0,9,    59.86,2,    26.90,2,  -999.00,9,     1.94,2, -999.000,9, -999.000,9, -999.000,9, -999.000,9,   -999.0,9, -999.000,9, -999.000,-999.0000,9,-999.0000,  -999.00,9,  -999.00, -999.000,9, -999.000
  06AQ19960317,  S04a,    62,  1,     13,     11,2,19960421,   0,-68.9990,  -0.0032, 3357,    100.7,  -0.9353,  34.4517,2,-999.0000,9,   -999.0,9,    73.20,2,    31.04,2,  -999.00,9,     2.18,2,    3.877,2,    1.928,2,    0.314,2,    4.763,2,   -999.0,9,    0.149,2, -999.000,   1.8330,2,   0.0050,     2.38,2,     0.22,    8.102,2,    0.018
  06AQ19960317,  S04a,    62,  1,     12,     12,2,19960421,   0,-68.9990,  -0.0032, 3357,    100.8,  -0.7413,  34.4944,2,  34.5152,2,    244.2,2,    79.75,2,    32.24,2,  -999.00,9,     2.24,2, -999.000,9, -999.000,9, -999.000,9, -999.000,9,   2238.1,2, -999.000,9, -999.000,-999.0000,9,-999.0000,  -999.00,9,  -999.00, -999.000,9, -999.000
  06AQ19960317,  S04a,    62,  1,     11,     13,2,19960421,   0,-68.9990,  -0.0032, 3357,    120.1,  -0.0373,  34.5624,2,  34.5690,2,    225.5,2,    84.72,2,    32.99,2,  -999.00,9,     2.26,2, -999.000,9, -999.000,9, -999.000,9, -999.000,9,   2243.9,2, -999.000,9, -999.000,-999.0000,9,-999.0000,  -999.00,9,  -999.00, -999.000,9, -999.000
  06AQ19960317,  S04a,    62,  1,     10,     14,2,19960421,   0,-68.9990,  -0.0032, 3357,    150.6,   0.5236,  34.6253,2,  34.6300,2,    204.6,2,    90.48,2,    33.39,2,  -999.00,9,     2.28,2, -999.000,9, -999.000,9, -999.000,9, -999.000,9,   2253.2,2, -999.000,9, -999.000,-999.0000,9,-999.0000,  -999.00,9,  -999.00, -999.000,9, -999.000
  06AQ19960317,  S04a,    62,  1,      8,     16,2,19960421,   0,-68.9990,  -0.0032, 3357,    201.4,   0.9116,  34.6674,2,  34.6687,2,   -999.0,9,    94.16,2,    33.36,2,  -999.00,9,     2.27,2, -999.000,9, -999.000,9, -999.000,9, -999.000,9,   2256.5,2, -999.000,9, -999.000,-999.0000,9,-999.0000,  -999.00,9,  -999.00, -999.000,9, -999.000
  06AQ19960317,  S04a,    62,  1,      9,     15,2,19960421,   0,-68.9990,  -0.0032, 3357,    201.7,   0.9140,  34.6680,2,-999.0000,9,   -999.0,9,    94.19,2,    33.36,2,  -999.00,9,     2.28,2, -999.000,9, -999.000,9, -999.000,9, -999.000,9,   -999.0,9, -999.000,9, -999.000,-999.0000,9,-999.0000,  -999.00,9,  -999.00, -999.000,9, -999.000
  06AQ19960317,  S04a,    62,  1,      7,     17,2,19960421,   0,-68.9990,  -0.0032, 3357,    250.2,   0.9687,  34.6800,2,  34.6809,2,    194.1,2,    96.04,2,    33.08,2,  -999.00,9,     2.26,2, -999.000,9, -999.000,9, -999.000,9, -999.000,9,   2254.1,2, -999.000,9, -999.000,-999.0000,9,-999.0000,  -999.00,9,  -999.00, -999.000,9, -999.000
  06AQ19960317,  S04a,    62,  1,      4,     20,2,19960421,   0,-68.9990,  -0.0032, 3357,    300.8,   0.8531,  34.6776,2,-999.0000,9,   -999.0,9,    97.41,2,    32.78,2,  -999.00,9,     2.24,2, -999.000,9, -999.000,9, -999.000,9, -999.000,9,   -999.0,9, -999.000,9, -999.000,-999.0000,9,-999.0000,  -999.00,9,  -999.00, -999.000,9, -999.000
  06AQ19960317,  S04a,    62,  1,      5,     19,2,19960421,   0,-68.9990,  -0.0032, 3357,    300.9,   0.8510,  34.6767,2,-999.0000,9,   -999.0,9,    97.50,2,    32.96,2,  -999.00,9,     2.27,2, -999.000,9, -999.000,9, -999.000,9, -999.000,9,   -999.0,9, -999.000,9, -999.000,-999.0000,9,-999.0000,  -999.00,9,  -999.00, -999.000,9, -999.000
  06AQ19960317,  S04a,    62,  1,      6,     18,2,19960421,   0,-68.9990,  -0.0032, 3357,    301.0,   0.8525,  34.6772,2,  34.6768,2,    200.4,2,    97.30,2,    32.89,2,  -999.00,9,     2.24,2,    0.763,2,    0.354,2,    0.045,2,    1.002,2,   2255.9,2,    0.089,2, -999.000,   1.8560,2,   0.0050,     8.45,2,     0.22,    8.104,2,    0.018
  06AQ19960317,  S04a,    62,  1,      3,     21,2,19960421,   0,-68.9990,  -0.0032, 3357,    350.3,   0.8366,  34.6838,2,  34.6836,2,    200.6,2,    99.78,2,    32.67,2,  -999.00,9,     2.24,2, -999.000,9, -999.000,9, -999.000,9, -999.000,9,   2254.8,2, -999.000,9, -999.000,-999.0000,9,-999.0000,  -999.00,9,  -999.00, -999.000,9, -999.000
  06AQ19960317,  S04a,    62,  1,      2,     22,2,19960421,   0,-68.9990,  -0.0032, 3357,    421.4,   0.7907,  34.6874,2,  34.6860,2,    202.2,2,   102.23,2,    32.83,2,  -999.00,9,     2.24,2,    0.596,2,    0.275,2,    0.033,2,    0.827,2,   2255.9,2,    0.046,2, -999.000,   1.8510,2,   0.0050,     8.36,2,     0.22,    8.064,2,    0.018
  06AQ19960317,  S04a,    62,  1,      1,     23,2,19960421,   0,-68.9990,  -0.0032, 3357,    502.2,   0.7556,  34.6922,2,  34.6944,2,    201.4,2,   105.35,2,    32.80,2,  -999.00,9,     2.25,2, -999.000,9, -999.000,9, -999.000,9, -999.000,9,   2256.5,2,    0.017,2, -999.000,   1.8620,2,   0.0050,     8.98,2,     0.22,    8.103,2,    0.018
  06AQ19960317,  S04a,    62,  1,     24,     24,2,19960421,   0,-68.9990,  -0.0032, 3357,    762.0,   0.5136,  34.6871,2,  34.6870,2,    206.6,2,   111.86,2,    32.91,2,  -999.00,9,     2.26,2, -999.000,9, -999.000,9, -999.000,9, -999.000,9,   2258.4,2, -999.000,9, -999.000,   1.8610,2,   0.0050,     8.01,2,     0.22,    8.119,2,    0.018