BOTTLE,20150129PRINUNIVRMK
EXPOCODE,SECT_ID,STNNBR,CASTNO,SAMPNO,BTLNBR,BTLNBR_FLAG_W,DATE,TIME,LATITUDE,LONGITUDE,DEPTH,CTDPRS,CTDTMP,CTDSAL,CTDSAL_FLAG_W,SALNTY,SALNTY_FLAG_W,OXYGEN,OXYGEN_FLAG_W,SILCAT,SILCAT_FLAG_W,NITRAT,NITRAT_FLAG_W,NITRIT,NITRIT_FLAG_W,PHSPHT,PHSPHT_FLAG_W,CFC-11,CFC-11_FLAG_W,CFC-12,CFC-12_FLAG_W,CFC113,CFC113_FLAG_W,CCL4,CCL4_FLAG_W,TCARBN,TCARBN_FLAG_W,TRITUM,TRITUM_FLAG_W,TRITER,HELIUM,HELIUM_FLAG_W,HELIER,DELHE3,DELHE3_FLAG_W,DELHER,NEON,NEON_FLAG_W,NEONER
,,,,,,,,,,,METERS,DBAR,ITS-90,PSS-78,,PSS-78,,UMOL/KG,,UMOL/KG,,UMOL/KG,,UMOL/KG,,UMOL/KG,,PMOL/KG,,PMOL/KG,,PMOL/KG,,PMOL/KG,,UMOL/KG,,TU,,TU,NMOL/KG,,NMOL/KG,PERCNT,,PERCNT,NMOL/KG,,NMOL/KG
  06AQ19960317,  S04a,     5,  1,     20,      2,2,19960323,   0,-53.9982,  38.3813, 4036,     21.3,   3.3264,  33.8765,2,  33.8765,2,    321.2,2,    20.92,2,    24.46,2,  -999.00,9,     1.68,2,    5.393,2,    2.778,2,    0.436,2,    7.620,2,   -999.0,9,    0.036,0, -999.000,   1.7830,2,   0.0050,    -1.77,2,     0.22,    7.834,2,    0.017
  06AQ19960317,  S04a,     5,  1,     21,      1,2,19960323,   0,-53.9982,  38.3813, 4036,     21.5,   3.3235,  33.8769,2,  33.8767,2,   -999.0,9,    20.82,2,    24.12,2,  -999.00,9,     1.66,2, -999.000,9, -999.000,9, -999.000,9, -999.000,9,   -999.0,9, -999.000,9, -999.000,-999.0000,9,-999.0000,  -999.00,9,  -999.00, -999.000,9, -999.000
  06AQ19960317,  S04a,     5,  1,     17,      5,2,19960323,   0,-53.9982,  38.3813, 4036,     40.8,   3.3174,  33.8760,2,-999.0000,9,   -999.0,9,    20.86,2,    24.43,2,  -999.00,9,     1.67,2, -999.000,9, -999.000,9, -999.000,9, -999.000,9,   -999.0,9, -999.000,9, -999.000,-999.0000,9,-999.0000,  -999.00,9,  -999.00, -999.000,9, -999.000
  06AQ19960317,  S04a,     5,  1,     16,      6,2,19960323,   0,-53.9982,  38.3813, 4036,     40.8,   3.3023,  33.8785,2,  33.8782,2,   -999.0,9,    20.97,2,    24.46,2,  -999.00,9,     1.70,2,    5.357,2,    2.745,2,    0.423,2,    7.600,2,   -999.0,9, -999.000,9, -999.000,   1.7940,2,   0.0050,    -1.96,2,     0.22,    7.857,2,    0.018
  06AQ19960317,  S04a,     5,  1,     19,      3,2,19960323,   0,-53.9982,  38.3813, 4036,     40.9,   3.3239,  33.8768,2,-999.0000,9,   -999.0,9,    20.88,2,    24.34,2,  -999.00,9,     1.68,2, -999.000,9, -999.000,9, -999.000,9, -999.000,9,   -999.0,9, -999.000,9, -999.000,-999.0000,9,-999.0000,  -999.00,9,  -999.00, -999.000,9, -999.000
  06AQ19960317,  S04a,     5,  1,     18,      4,2,19960323,   0,-53.9982,  38.3813, 4036,     40.9,   3.3250,  33.8766,2,  33.8768,2,    321.0,2,    20.78,2,    24.25,2,  -999.00,9,     1.65,2, -999.000,9, -999.000,9, -999.000,9, -999.000,9,   -999.0,9,    0.178,0, -999.000,-999.0000,9,-999.0000,  -999.00,9,  -999.00, -999.000,9, -999.000
  06AQ19960317,  S04a,     5,  1,     14,      8,2,19960323,   0,-53.9982,  38.3813, 4036,     61.9,   3.2155,  33.8825,2,-999.0000,9,   -999.0,9,  -999.00,9,  -999.00,9,  -999.00,9,  -999.00,9, -999.000,9, -999.000,9, -999.000,9, -999.000,9,   -999.0,9, -999.000,9, -999.000,-999.0000,9,-999.0000,  -999.00,9,  -999.00, -999.000,9, -999.000
  06AQ19960317,  S04a,     5,  1,     15,      7,2,19960323,   0,-53.9982,  38.3813, 4036,     62.0,   3.2164,  33.8829,2,  33.8820,2,    322.2,2,    21.40,2,    24.50,2,  -999.00,9,     1.71,2, -999.000,9, -999.000,9, -999.000,9, -999.000,9,   -999.0,9, -999.000,9, -999.000,-999.0000,9,-999.0000,  -999.00,9,  -999.00, -999.000,9, -999.000
  06AQ19960317,  S04a,     5,  1,     13,      9,2,19960323,   0,-53.9982,  38.3813, 4036,     79.9,   3.1502,  33.8856,2,  33.8864,2,   -999.0,9,    21.46,2,    24.60,2,  -999.00,9,     1.69,2,    5.387,2,    2.742,2,    0.425,2,    7.605,2,   -999.0,9, -999.000,9, -999.000,-999.0000,9,-999.0000,  -999.00,9,  -999.00, -999.000,9, -999.000
  06AQ19960317,  S04a,     5,  1,     12,     10,2,19960323,   0,-53.9982,  38.3813, 4036,     80.1,   3.1394,  33.8869,2,-999.0000,9,    322.4,2,    21.65,2,    24.57,2,  -999.00,9,     1.69,2, -999.000,9, -999.000,9, -999.000,9, -999.000,9,   -999.0,9, -999.000,9, -999.000,-999.0000,9,-999.0000,  -999.00,9,  -999.00, -999.000,9, -999.000
  06AQ19960317,  S04a,     5,  1,     11,     11,2,19960323,   0,-53.9982,  38.3813, 4036,    100.2,   2.6058,  33.9159,2,-999.0000,9,   -999.0,9,    23.62,2,    25.82,2,  -999.00,9,     1.77,2, -999.000,9, -999.000,9, -999.000,9, -999.000,9,   -999.0,9,    0.148,0, -999.000,   1.8020,2,   0.0050,    -1.65,2,     0.22,    7.941,2,    0.018
  06AQ19960317,  S04a,     5,  1,     10,     12,2,19960323,   0,-53.9982,  38.3813, 4036,    100.4,   2.4651,  33.9082,2,  33.9241,2,    316.6,2,    24.32,2,    26.48,2,  -999.00,9,     1.80,2, -999.000,9, -999.000,9, -999.000,9, -999.000,9,   -999.0,9, -999.000,9, -999.000,-999.0000,9,-999.0000,  -999.00,9,  -999.00, -999.000,9, -999.000
  06AQ19960317,  S04a,     5,  1,      9,     13,2,19960323,   0,-53.9982,  38.3813, 4036,    150.3,   1.4897,  34.0214,2,  34.0205,2,    296.9,2,    32.16,2,    29.64,2,  -999.00,9,     2.02,2,    5.049,2,    2.500,2,    0.370,2,    6.687,2,   -999.0,9,    0.164,0, -999.000,-999.0000,9,-999.0000,  -999.00,9,  -999.00, -999.000,9, -999.000
  06AQ19960317,  S04a,     5,  1,      8,     14,2,19960323,   0,-53.9982,  38.3813, 4036,    180.3,   1.3212,  34.0726,2,-999.0000,9,   -999.0,9,    38.37,2,    30.34,2,  -999.00,9,     2.09,2, -999.000,9, -999.000,9, -999.000,9, -999.000,9,   -999.0,9, -999.000,9, -999.000,-999.0000,9,-999.0000,  -999.00,9,  -999.00, -999.000,9, -999.000
  06AQ19960317,  S04a,     5,  1,      7,     15,2,19960323,   0,-53.9982,  38.3813, 4036,    180.3,   1.3169,  34.0719,2,  34.0848,2,   -999.0,9,    38.45,2,    30.56,2,  -999.00,9,     2.08,2, -999.000,9, -999.000,9, -999.000,9, -999.000,9,   -999.0,9, -999.000,9, -999.000,-999.0000,9,-999.0000,  -999.00,9,  -999.00, -999.000,9, -999.000
  06AQ19960317,  S04a,     5,  1,      6,     16,2,19960323,   0,-53.9982,  38.3813, 4036,    180.6,   1.3396,  34.0790,2,  34.0840,2,    282.6,2,    38.84,2,    30.91,2,  -999.00,9,     2.08,2,    4.772,2,    2.356,2,    0.346,2,    6.232,2,   -999.0,9,    0.124,0, -999.000,   1.7970,2,   0.0050,     0.14,2,     0.22,    7.965,2,    0.018
  06AQ19960317,  S04a,     5,  1,      5,     17,2,19960323,   0,-53.9982,  38.3813, 4036,    200.2,   1.4456,  34.1160,2,-999.0000,9,   -999.0,9,    41.04,2,    31.40,2,  -999.00,9,     2.16,2, -999.000,9, -999.000,9, -999.000,9, -999.000,9,   -999.0,9, -999.000,9, -999.000,-999.0000,9,-999.0000,  -999.00,9,  -999.00, -999.000,9, -999.000
  06AQ19960317,  S04a,     5,  1,      4,     18,2,19960323,   0,-53.9982,  38.3813, 4036,    200.5,   1.4706,  34.1288,2,  34.1672,2,    255.5,2,    43.45,2,    32.54,2,  -999.00,9,     2.21,2,    3.657,2,    1.786,2,    0.252,2,    4.819,2,   -999.0,9,    0.100,0, -999.000,   1.7940,2,   0.0050,     1.56,2,     0.22,    7.917,2,    0.018
  06AQ19960317,  S04a,     5,  1,      3,     19,2,19960323,   0,-53.9982,  38.3813, 4036,    300.3,   2.0618,  34.3500,2,  34.3544,2,    200.5,2,    58.23,2,    35.28,2,  -999.00,9,     2.40,2,    1.776,2,    0.844,2,    0.110,2,    2.432,2,   -999.0,9,    0.103,0, -999.000,   1.8050,2,   0.0050,     4.89,2,     0.22,    7.894,2,    0.018
  06AQ19960317,  S04a,     5,  1,      2,     20,2,19960323,   0,-53.9982,  38.3813, 4036,    399.8,   2.1377,  34.4398,2,  34.4398,2,    187.8,2,    65.42,2,    35.32,2,  -999.00,9,     2.42,2, -999.000,9, -999.000,9, -999.000,9, -999.000,9,   -999.0,9, -999.000,9, -999.000,-999.0000,9,-999.0000,  -999.00,9,  -999.00, -999.000,9, -999.000
  06AQ19960317,  S04a,     5,  1,      1,     21,2,19960323,   0,-53.9982,  38.3813, 4036,    501.9,   2.2779,  34.5285,2,  34.5268,2,    178.5,2,    69.83,2,    35.15,2,  -999.00,9,     2.38,2,    0.630,2,    0.306,2,    0.039,2,    1.031,2,   -999.0,9,    0.053,0, -999.000,   1.8280,2,   0.0050,     7.96,2,     0.22,    7.929,2,    0.018
  06AQ19960317,  S04a,     5,  3,     24,      1,2,19960323,   0,-53.9982,  38.3813, 4036,    701.9,   2.2368,  34.6366,2,-999.0000,9,   -999.0,9,    77.10,2,    33.27,2,  -999.00,9,     2.32,2, -999.000,9, -999.000,9, -999.000,9, -999.000,9,   -999.0,9, -999.000,9, -999.000,-999.0000,9,-999.0000,  -999.00,9,  -999.00, -999.000,9, -999.000
  06AQ19960317,  S04a,     5,  3,     23,      2,2,19960323,   0,-53.9982,  38.3813, 4036,    701.9,   2.2368,  34.6366,2,-999.0000,9,   -999.0,9,    75.82,2,    33.74,2,  -999.00,9,     2.38,2, -999.000,9, -999.000,9, -999.000,9, -999.000,9,   -999.0,9, -999.000,9, -999.000,-999.0000,9,-999.0000,  -999.00,9,  -999.00, -999.000,9, -999.000
  06AQ19960317,  S04a,     5,  3,     22,      3,2,19960323,   0,-53.9982,  38.3813, 4036,    701.9,   2.2368,  34.6366,2,  34.6360,2,    176.9,2,    75.84,2,    33.58,2,  -999.00,9,     2.41,2,    0.307,2,    0.147,2,    0.019,2,    0.522,2,   -999.0,9,    0.103,0, -999.000,-999.0000,9,-999.0000,  -999.00,9,  -999.00, -999.000,9, -999.000
  06AQ19960317,  S04a,     5,  3,     20,      5,2,19960323,   0,-53.9982,  38.3813, 4036,   1000.9,   2.1183,  34.7132,2,-999.0000,9,   -999.0,9,    79.64,2,    31.99,2,  -999.00,9,     2.18,2, -999.000,9, -999.000,9, -999.000,9, -999.000,9,   -999.0,9, -999.000,9, -999.000,-999.0000,9,-999.0000,  -999.00,9,  -999.00, -999.000,9, -999.000
  06AQ19960317,  S04a,     5,  3,     21,      4,2,19960323,   0,-53.9982,  38.3813, 4036,   1001.2,   2.1163,  34.7131,2,-999.0000,9,   -999.0,9,  -999.00,9,  -999.00,9,  -999.00,9,  -999.00,9, -999.000,9, -999.000,9, -999.000,9, -999.000,9,   -999.0,9, -999.000,9, -999.000,-999.0000,9,-999.0000,  -999.00,9,  -999.00, -999.000,9, -999.000
  06AQ19960317,  S04a,     5,  3,     19,      6,2,19960323,   0,-53.9982,  38.3813, 4036,   1400.8,   1.9103,  34.7660,2,  34.7671,2,    202.8,2,    78.63,2,    29.68,2,  -999.00,9,     2.08,2, -999.000,9, -999.000,9, -999.000,9, -999.000,9,   -999.0,9,    0.019,0, -999.000,-999.0000,9,-999.0000,  -999.00,9,  -999.00, -999.000,9, -999.000
  06AQ19960317,  S04a,     5,  3,     18,      7,2,19960323,   0,-53.9982,  38.3813, 4036,   1999.5,   1.1899,  34.7264,2,  34.7257,2,    207.5,2,   100.50,2,    31.82,2,  -999.00,9,     2.16,2,    0.148,2,    0.065,2,    0.010,6,    0.263,2,   -999.0,9,    0.008,0, -999.000,-999.0000,9,-999.0000,  -999.00,9,  -999.00, -999.000,9, -999.000
  06AQ19960317,  S04a,     5,  3,     17,      8,2,19960323,   0,-53.9982,  38.3813, 4036,   1999.8,   1.1886,  34.7265,2,-999.0000,9,   -999.0,9,   101.05,2,    31.49,2,  -999.00,9,     2.20,2, -999.000,9, -999.000,9, -999.000,9, -999.000,9,   -999.0,9, -999.000,9, -999.000,-999.0000,9,-999.0000,  -999.00,9,  -999.00, -999.000,9, -999.000
  06AQ19960317,  S04a,     5,  3,     16,      9,2,19960323,   0,-53.9982,  38.3813, 4036,   2000.4,   1.1881,  34.7264,2,-999.0000,9,   -999.0,9,   100.62,2,    31.61,2,  -999.00,9,     2.20,2, -999.000,9, -999.000,9, -999.000,9, -999.000,9,   -999.0,9, -999.000,9, -999.000,-999.0000,9,-999.0000,  -999.00,9,  -999.00, -999.000,9, -999.000
  06AQ19960317,  S04a,     5,  3,     15,     10,2,19960323,   0,-53.9982,  38.3813, 4036,   2000.9,   1.1857,  34.7262,2,-999.0000,9,   -999.0,9,   101.03,2,    31.45,2,  -999.00,9,     2.17,2, -999.000,9, -999.000,9, -999.000,9, -999.000,9,   -999.0,9, -999.000,9, -999.000,-999.0000,9,-999.0000,  -999.00,9,  -999.00, -999.000,9, -999.000
  06AQ19960317,  S04a,     5,  3,     14,     11,2,19960323,   0,-53.9982,  38.3813, 4036,   2001.1,   1.1827,  34.7260,2,-999.0000,9,   -999.0,9,   100.47,2,    31.58,2,  -999.00,9,     2.18,2,    0.150,2,    0.069,2,    0.013,2,    0.269,2,   -999.0,9,    0.012,0, -999.000,   1.8600,2,   0.0050,     8.88,2,     0.22,    8.113,2,    0.018
  06AQ19960317,  S04a,     5,  3,     13,     12,2,19960323,   0,-53.9982,  38.3813, 4036,   2498.6,   0.7171,  34.6994,2,  34.6976,2,    208.2,2,   116.03,2,    32.65,2,  -999.00,9,     2.27,2,    0.180,2,    0.086,2,    0.009,2,    0.350,2,   -999.0,9,    0.036,0, -999.000,   1.8680,3,   0.0140,     8.28,3,     0.22,    8.121,3,    0.059
  06AQ19960317,  S04a,     5,  3,     12,     13,2,19960323,   0,-53.9982,  38.3813, 4036,   3002.1,   0.4267,  34.6834,2,  34.6826,2,    211.9,2,   122.96,2,    33.04,2,  -999.00,9,     2.30,2,    0.170,2,    0.082,2,    0.005,2,    0.396,2,   -999.0,9,    0.018,0, -999.000,   1.8750,2,   0.0050,     7.82,2,     0.22,    8.120,2,    0.018
  06AQ19960317,  S04a,     5,  3,     11,     14,2,19960323,   0,-53.9982,  38.3813, 4036,   3500.7,   0.1746,  34.6738,2,  34.6728,2,   -999.0,9,   129.94,2,    32.93,2,  -999.00,9,     2.30,2,    0.143,2,    0.072,2,    0.005,2,    0.427,2,   -999.0,9,    0.020,0, -999.000,   1.9000,2,   0.0050,     6.84,2,     0.22,    8.239,2,    0.018
  06AQ19960317,  S04a,     5,  3,     10,     15,2,19960323,   0,-53.9982,  38.3813, 4036,   3749.6,   0.1193,  34.6702,2,  34.6698,2,    225.5,2,   134.71,2,    33.04,2,  -999.00,9,     2.32,2,    0.147,2,    0.078,2,    0.007,2,    0.443,2,   -999.0,9,    0.016,0, -999.000,   1.9020,2,   0.0050,     6.45,2,     0.22,    8.234,2,    0.018
  06AQ19960317,  S04a,     5,  3,      9,     16,2,19960323,   0,-53.9982,  38.3813, 4036,   3988.0,   0.1152,  34.6694,2,  34.6684,2,    225.2,2,   132.27,2,    33.09,2,  -999.00,9,     2.30,2,    0.160,2,    0.077,2,    0.005,2,    0.464,2,   -999.0,9,    0.020,0, -999.000,   1.8960,2,   0.0050,     6.94,2,     0.22,    8.202,2,    0.018
  06AQ19960317,  S04a,     5,  3,      8,     17,2,19960323,   0,-53.9982,  38.3813, 4036,   3988.7,   0.1150,  34.6694,2,-999.0000,9,   -999.0,9,   132.40,2,    32.96,2,  -999.00,9,     2.31,2, -999.000,9, -999.000,9, -999.000,9, -999.000,9,   -999.0,9, -999.000,9, -999.000,-999.0000,9,-999.0000,  -999.00,9,  -999.00, -999.000,9, -999.000
  06AQ19960317,  S04a,     5,  3,      7,     18,2,19960323,   0,-53.9982,  38.3813, 4036,   3988.7,   0.1150,  34.6694,2,-999.0000,9,   -999.0,9,   132.20,2,    33.03,2,  -999.00,9,     2.35,2, -999.000,9, -999.000,9, -999.000,9, -999.000,9,   -999.0,9, -999.000,9, -999.000,-999.0000,9,-999.0000,  -999.00,9,  -999.00, -999.000,9, -999.000
  06AQ19960317,  S04a,     5,  3,      6,     19,2,19960323,   0,-53.9982,  38.3813, 4036,   4044.3,   0.1148,  34.6694,2,  34.6675,2,    223.8,2,   132.78,2,    32.93,2,  -999.00,9,     2.31,2,    0.151,2,    0.076,2,    0.006,2,    0.463,2,   -999.0,9,    0.026,0, -999.000,   1.8720,2,   0.0050,     6.65,2,     0.22,    8.172,2,    0.018
  06AQ19960317,  S04a,     5,  3,      5,     20,2,19960323,   0,-53.9982,  38.3813, 4036,   4044.8,   0.1148,  34.6694,2,-999.0000,9,   -999.0,9,   132.78,2,    33.00,2,  -999.00,9,     2.30,2, -999.000,9, -999.000,9, -999.000,9, -999.000,9,   -999.0,9, -999.000,9, -999.000,-999.0000,9,-999.0000,  -999.00,9,  -999.00, -999.000,9, -999.000
  06AQ19960317,  S04a,     5,  3,      4,     21,2,19960323,   0,-53.9982,  38.3813, 4036,   4044.8,   0.1151,  34.6693,2,-999.0000,9,   -999.0,9,   132.08,2,    33.04,2,  -999.00,9,     2.32,2, -999.000,9, -999.000,9, -999.000,9, -999.000,9,   -999.0,9, -999.000,9, -999.000,-999.0000,9,-999.0000,  -999.00,9,  -999.00, -999.000,9, -999.000
  06AQ19960317,  S04a,     5,  3,      3,     22,2,19960323,   0,-53.9982,  38.3813, 4036,   4095.3,   0.1153,  34.6692,2,  34.6705,2,    226.9,2,   132.46,2,    32.86,2,  -999.00,9,     2.31,2,    0.150,2,    0.075,2,    0.010,2,    0.466,2,   -999.0,9,    0.020,0, -999.000,   1.8660,2,   0.0050,     6.57,2,     0.22,    8.113,2,    0.018
  06AQ19960317,  S04a,     5,  3,      2,     23,2,19960323,   0,-53.9982,  38.3813, 4036,   4095.3,   0.1152,  34.6693,2,-999.0000,9,   -999.0,9,   133.28,2,    32.83,2,  -999.00,9,     2.33,2, -999.000,9, -999.000,9, -999.000,9, -999.000,9,   -999.0,9, -999.000,9, -999.000,-999.0000,9,-999.0000,  -999.00,9,  -999.00, -999.000,9, -999.000
  06AQ19960317,  S04a,     5,  3,      1,     24,2,19960323,   0,-53.9982,  38.3813, 4036,   4095.4,   0.1152,  34.6692,2,-999.0000,9,   -999.0,9,   132.54,2,    33.17,2,  -999.00,9,     2.31,2, -999.000,9, -999.000,9, -999.000,9, -999.000,9,   -999.0,9, -999.000,9, -999.000,-999.0000,9,-999.0000,  -999.00,9,  -999.00, -999.000,9, -999.000