BOTTLE,20150129PRINUNIVRMK
EXPOCODE,SECT_ID,STNNBR,CASTNO,SAMPNO,BTLNBR,BTLNBR_FLAG_W,DATE,TIME,LATITUDE,LONGITUDE,DEPTH,CTDPRS,CTDTMP,CTDSAL,CTDSAL_FLAG_W,SALNTY,SALNTY_FLAG_W,OXYGEN,OXYGEN_FLAG_W,SILCAT,SILCAT_FLAG_W,NITRAT,NITRAT_FLAG_W,NITRIT,NITRIT_FLAG_W,PHSPHT,PHSPHT_FLAG_W,CFC-11,CFC-11_FLAG_W,CFC-12,CFC-12_FLAG_W,CFC113,CFC113_FLAG_W,CCL4,CCL4_FLAG_W,TCARBN,TCARBN_FLAG_W,TRITUM,TRITUM_FLAG_W,TRITER,HELIUM,HELIUM_FLAG_W,HELIER,DELHE3,DELHE3_FLAG_W,DELHER,NEON,NEON_FLAG_W,NEONER
,,,,,,,,,,,METERS,DBAR,ITS-90,PSS-78,,PSS-78,,UMOL/KG,,UMOL/KG,,UMOL/KG,,UMOL/KG,,UMOL/KG,,PMOL/KG,,PMOL/KG,,PMOL/KG,,PMOL/KG,,UMOL/KG,,TU,,TU,NMOL/KG,,NMOL/KG,PERCNT,,PERCNT,NMOL/KG,,NMOL/KG
  06AQ19960317,  S04a,   103,  1,     23,      1,2,19960509,   0,-62.8820, -53.6240,  294,     20.0,  -1.8338,  34.1985,2,-999.0000,9,   -999.0,9,    69.19,2,    29.05,2,     0.23,2,     2.04,2,    5.328,6,    2.610,6,    0.386,6,    6.139,6,   -999.0,9,    0.072,2, -999.000,   1.8590,2,   0.0050,    -0.29,2,     0.22,    8.286,2,    0.018
  06AQ19960317,  S04a,   103,  1,     22,      2,2,19960509,   0,-62.8820, -53.6240,  294,     20.1,  -1.8334,  34.1980,2,  34.1893,2,    320.5,2,    69.63,2,    29.18,2,     0.23,2,     2.04,2,    0.004,4,    0.004,4,    0.000,4,    0.017,4,   2200.5,2, -999.000,9, -999.000,-999.0000,9,-999.0000,  -999.00,9,  -999.00, -999.000,9, -999.000
  06AQ19960317,  S04a,   103,  1,     21,      3,2,19960509,   0,-62.8820, -53.6240,  294,     40.5,  -1.8342,  34.1995,2,  34.2000,2,    320.8,2,    69.83,2,    29.04,2,     0.23,2,     2.05,2,    5.232,2,    2.577,2,    0.390,2,    6.120,2,   2200.8,2,    0.177,2, -999.000,-999.0000,9,-999.0000,  -999.00,9,  -999.00, -999.000,9, -999.000
  06AQ19960317,  S04a,   103,  1,     20,      4,2,19960509,   0,-62.8820, -53.6240,  294,     40.5,  -1.8345,  34.2000,2,-999.0000,9,   -999.0,9,    69.15,2,    29.09,2,     0.23,2,     2.04,2, -999.000,9, -999.000,9, -999.000,9, -999.000,9,   -999.0,9, -999.000,9, -999.000,-999.0000,9,-999.0000,  -999.00,9,  -999.00, -999.000,9, -999.000
  06AQ19960317,  S04a,   103,  1,     19,      5,2,19960509,   0,-62.8820, -53.6240,  294,     40.5,  -1.8341,  34.1994,2,-999.0000,9,   -999.0,9,    69.55,2,    29.22,2,     0.24,2,     2.05,2, -999.000,9, -999.000,9, -999.000,9, -999.000,9,   -999.0,9, -999.000,9, -999.000,-999.0000,9,-999.0000,  -999.00,9,  -999.00, -999.000,9, -999.000
  06AQ19960317,  S04a,   103,  1,     18,      6,2,19960509,   0,-62.8820, -53.6240,  294,     40.6,  -1.8342,  34.1993,2,-999.0000,9,   -999.0,9,    69.85,2,    29.20,2,     0.22,2,     2.05,2, -999.000,9, -999.000,9, -999.000,9, -999.000,9,   -999.0,9, -999.000,9, -999.000,-999.0000,9,-999.0000,  -999.00,9,  -999.00, -999.000,9, -999.000
  06AQ19960317,  S04a,   103,  1,     16,      8,2,19960509,   0,-62.8820, -53.6240,  294,     60.5,  -1.8319,  34.1984,2,  34.1912,2,    320.7,2,    69.75,2,    29.13,2,     0.23,2,     2.05,2,    5.280,2,    2.524,2,    0.381,2,    6.163,2,   2202.5,2, -999.000,9, -999.000,-999.0000,9,-999.0000,  -999.00,9,  -999.00, -999.000,9, -999.000
  06AQ19960317,  S04a,   103,  1,     17,      7,2,19960509,   0,-62.8820, -53.6240,  294,     60.6,  -1.8326,  34.1993,2,-999.0000,9,   -999.0,9,    69.26,2,    29.03,2,     0.23,2,     2.04,2,    5.263,2,    2.569,2,    0.382,2,    6.163,2,   -999.0,9,    0.123,2, -999.000,   1.8420,2,   0.0050,    -0.58,2,     0.22,    8.266,2,    0.018
  06AQ19960317,  S04a,   103,  1,     15,      9,2,19960509,   0,-62.8820, -53.6240,  294,     80.1,  -1.8318,  34.1994,2,-999.0000,9,   -999.0,9,    70.01,2,    29.15,2,     0.23,2,     2.05,2,    5.329,2,    2.580,2,    0.373,2,    6.139,4,   -999.0,9, -999.000,9, -999.000,-999.0000,9,-999.0000,  -999.00,9,  -999.00, -999.000,9, -999.000
  06AQ19960317,  S04a,   103,  1,     14,     10,2,19960509,   0,-62.8820, -53.6240,  294,     80.2,  -1.8323,  34.2004,2,  34.2007,2,    320.5,2,    68.91,2,    29.10,2,     0.23,2,     2.06,2,    5.277,2,    2.527,2,    0.377,2,    6.105,2,   2201.1,2, -999.000,9, -999.000,-999.0000,9,-999.0000,  -999.00,9,  -999.00, -999.000,9, -999.000
  06AQ19960317,  S04a,   103,  1,     13,     11,2,19960509,   0,-62.8820, -53.6240,  294,    100.6,  -1.7397,  34.2227,2,  34.2293,2,    315.5,2,    71.45,2,    29.71,2,     0.22,2,     2.09,2,    5.287,2,    2.531,2,    0.368,2,    5.978,2,   2206.3,2,    0.170,2, -999.000,   1.8660,2,   0.0050,    -0.33,2,     0.22,    8.244,2,    0.018
  06AQ19960317,  S04a,   103,  1,     12,     12,2,19960509,   0,-62.8820, -53.6240,  294,    125.5,  -1.5928,  34.2688,2,  34.2879,2,    308.9,2,    72.63,2,    30.05,2,     0.20,2,     2.10,2,    5.108,2,    2.459,2,    0.335,2,    5.573,2,   2211.6,2, -999.000,9, -999.000,-999.0000,9,-999.0000,  -999.00,9,  -999.00, -999.000,9, -999.000
  06AQ19960317,  S04a,   103,  1,     11,     13,2,19960509,   0,-62.8820, -53.6240,  294,    150.9,  -1.5209,  34.3092,2,  34.3145,2,   -999.0,9,    72.60,2,    30.16,2,     0.19,2,     2.12,2,    4.806,2,    2.309,2,    0.323,2,    5.312,2,   2214.1,2, -999.000,9, -999.000,-999.0000,9,-999.0000,  -999.00,9,  -999.00, -999.000,9, -999.000
  06AQ19960317,  S04a,   103,  1,     10,     14,2,19960509,   0,-62.8820, -53.6240,  294,    150.9,  -1.5087,  34.3162,2,-999.0000,9,    305.6,2,    73.22,2,    30.37,2,     0.18,2,     2.12,2, -999.000,9, -999.000,9, -999.000,9, -999.000,9,   -999.0,9, -999.000,9, -999.000,-999.0000,9,-999.0000,  -999.00,9,  -999.00, -999.000,9, -999.000
  06AQ19960317,  S04a,   103,  1,      9,     15,2,19960509,   0,-62.8820, -53.6240,  294,    150.9,  -1.4963,  34.3240,2,-999.0000,9,   -999.0,9,    74.04,2,    30.65,2,     0.18,2,     2.13,2, -999.000,9, -999.000,9, -999.000,9, -999.000,9,   -999.0,9, -999.000,9, -999.000,-999.0000,9,-999.0000,  -999.00,9,  -999.00, -999.000,9, -999.000
  06AQ19960317,  S04a,   103,  1,      8,     16,2,19960509,   0,-62.8820, -53.6240,  294,    175.1,  -1.3618,  34.4085,2,  34.4180,2,    290.7,2,    75.14,2,    30.82,2,     0.16,2,     2.15,2, -999.000,9, -999.000,9, -999.000,9, -999.000,9,   2223.3,2, -999.000,9, -999.000,-999.0000,9,-999.0000,  -999.00,9,  -999.00, -999.000,9, -999.000
  06AQ19960317,  S04a,   103,  1,      7,     17,2,19960509,   0,-62.8820, -53.6240,  294,    201.8,  -1.2783,  34.4649,2,  34.4664,2,    282.3,2,    77.96,2,    31.55,2,     0.11,2,     2.19,2,    3.812,4,    1.803,4,    0.257,2,    3.908,2,   2230.9,2, -999.000,9, -999.000,-999.0000,9,-999.0000,  -999.00,9,  -999.00, -999.000,9, -999.000
  06AQ19960317,  S04a,   103,  1,      5,     19,2,19960509,   0,-62.8820, -53.6240,  294,    201.8,  -1.2796,  34.4631,2,-999.0000,9,   -999.0,9,    77.35,2,    31.59,2,     0.11,2,     2.19,2, -999.000,9, -999.000,9, -999.000,9, -999.000,9,   -999.0,9, -999.000,9, -999.000,-999.0000,9,-999.0000,  -999.00,9,  -999.00, -999.000,9, -999.000
  06AQ19960317,  S04a,   103,  1,      6,     18,2,19960509,   0,-62.8820, -53.6240,  294,    201.9,  -1.2720,  34.4684,2,-999.0000,9,   -999.0,9,    78.17,2,    31.44,2,     0.11,2,     2.18,2, -999.000,9, -999.000,9, -999.000,9, -999.000,9,   -999.0,9, -999.000,9, -999.000,-999.0000,9,-999.0000,  -999.00,9,  -999.00, -999.000,9, -999.000
  06AQ19960317,  S04a,   103,  1,      4,     20,2,19960509,   0,-62.8820, -53.6240,  294,    236.1,  -1.2468,  34.4806,2,  34.4818,2,    278.2,2,    78.70,2,    31.64,2,     0.08,2,     2.18,2,    3.751,2,    1.790,2,    0.259,2,    3.793,2,   2231.9,2, -999.000,9, -999.000,-999.0000,9,-999.0000,  -999.00,9,  -999.00, -999.000,9, -999.000
  06AQ19960317,  S04a,   103,  1,      3,     21,2,19960509,   0,-62.8820, -53.6240,  294,    270.6,  -1.2432,  34.4816,2,-999.0000,9,    278.8,2,    79.27,2,    31.52,2,     0.08,2,     2.20,2,    3.689,2,    1.788,2,    0.258,2,    3.745,2,   2232.4,2, -999.000,9, -999.000,-999.0000,9,-999.0000,  -999.00,9,  -999.00, -999.000,9, -999.000
  06AQ19960317,  S04a,   103,  1,      2,     22,2,19960509,   0,-62.8820, -53.6240,  294,    284.9,  -1.2474,  34.4785,2,  34.4760,2,    279.5,2,    78.08,2,    31.48,2,     0.09,2,     2.18,2,    3.846,2,    1.877,2,    0.274,2,    3.960,2,   2231.6,2,    0.130,2, -999.000,   1.8870,2,   0.0050,     1.37,2,     0.22,    8.295,2,    0.018
  06AQ19960317,  S04a,   103,  1,      1,     23,2,19960509,   0,-62.8820, -53.6240,  294,    286.0,  -1.2518,  34.4782,2,-999.0000,9,   -999.0,9,    78.30,2,    31.58,2,     0.09,2,     2.19,2, -999.000,9, -999.000,9, -999.000,9, -999.000,9,   -999.0,9, -999.000,9, -999.000,-999.0000,9,-999.0000,  -999.00,9,  -999.00, -999.000,9, -999.000
  06AQ19960317,  S04a,   103,  1,     24,     24,2,19960509,   0,-62.8820, -53.6240,  294,    286.0,  -1.2518,  34.4782,2,-999.0000,9,   -999.0,9,    78.74,2,    31.44,2,     0.09,2,     2.19,2, -999.000,9, -999.000,9, -999.000,9, -999.000,9,   -999.0,9, -999.000,9, -999.000,-999.0000,9,-999.0000,  -999.00,9,  -999.00, -999.000,9, -999.000