BOTTLE,20150129PRINUNIVRMK
EXPOCODE,SECT_ID,STNNBR,CASTNO,SAMPNO,BTLNBR,BTLNBR_FLAG_W,DATE,TIME,LATITUDE,LONGITUDE,DEPTH,CTDPRS,CTDTMP,CTDSAL,CTDSAL_FLAG_W,SALNTY,SALNTY_FLAG_W,OXYGEN,OXYGEN_FLAG_W,SILCAT,SILCAT_FLAG_W,NITRAT,NITRAT_FLAG_W,NITRIT,NITRIT_FLAG_W,PHSPHT,PHSPHT_FLAG_W,CFC-11,CFC-11_FLAG_W,CFC-12,CFC-12_FLAG_W,CFC113,CFC113_FLAG_W,CCL4,CCL4_FLAG_W,TCARBN,TCARBN_FLAG_W,TRITUM,TRITUM_FLAG_W,TRITER,HELIUM,HELIUM_FLAG_W,HELIER,DELHE3,DELHE3_FLAG_W,DELHER,NEON,NEON_FLAG_W,NEONER
,,,,,,,,,,,METERS,DBAR,ITS-90,PSS-78,,PSS-78,,UMOL/KG,,UMOL/KG,,UMOL/KG,,UMOL/KG,,UMOL/KG,,PMOL/KG,,PMOL/KG,,PMOL/KG,,PMOL/KG,,UMOL/KG,,TU,,TU,NMOL/KG,,NMOL/KG,PERCNT,,PERCNT,NMOL/KG,,NMOL/KG
  06AQ19960317,  S04a,     9,  1,     24,      1,2,19960325,   0,-54.0017,  34.1450, 5402,     20.8,   3.0819,  33.8986,2,-999.0000,9,   -999.0,9,    26.51,2,    24.42,2,  -999.00,9,     1.66,2,    5.647,2,    2.808,2,    0.424,2,    8.121,2,   -999.0,9,    0.075,2, -999.000,   1.7590,2,   0.0050,    -1.41,2,     0.22,    7.763,2,    0.017
  06AQ19960317,  S04a,     9,  1,     23,      2,2,19960325,   0,-54.0017,  34.1450, 5402,     20.9,   3.0706,  33.8993,2,  33.9052,2,    323.3,2,    26.66,2,    24.45,2,  -999.00,9,     1.65,2, -999.000,9, -999.000,9, -999.000,9, -999.000,9,   -999.0,9, -999.000,9, -999.000,-999.0000,9,-999.0000,  -999.00,9,  -999.00, -999.000,9, -999.000
  06AQ19960317,  S04a,     9,  1,     22,      3,2,19960325,   0,-54.0017,  34.1450, 5402,     40.6,   2.8422,  33.9281,2,-999.0000,9,   -999.0,9,    31.98,2,    24.62,2,  -999.00,9,     1.65,2, -999.000,9, -999.000,9, -999.000,9, -999.000,9,   -999.0,9, -999.000,9, -999.000,-999.0000,9,-999.0000,  -999.00,9,  -999.00, -999.000,9, -999.000
  06AQ19960317,  S04a,     9,  1,     21,      4,2,19960325,   0,-54.0017,  34.1450, 5402,     80.2,   2.8265,  33.9312,2,  33.9321,2,    325.3,2,    32.79,2,    24.73,2,  -999.00,9,     1.65,2, -999.000,9, -999.000,9, -999.000,9, -999.000,9,   -999.0,9, -999.000,9, -999.000,-999.0000,9,-999.0000,  -999.00,9,  -999.00, -999.000,9, -999.000
  06AQ19960317,  S04a,     9,  1,     20,      5,2,19960325,   0,-54.0017,  34.1450, 5402,     80.3,   2.8179,  33.9317,2,-999.0000,9,   -999.0,9,    32.73,2,    24.64,2,  -999.00,9,     1.66,2,    5.836,2,    2.886,2,    0.437,2,    8.412,2,   -999.0,9,    0.155,2, -999.000,   1.7860,2,   0.0050,    -1.41,2,     0.22,    7.860,2,    0.018
  06AQ19960317,  S04a,     9,  1,     19,      6,2,19960325,   0,-54.0017,  34.1450, 5402,    100.4,   2.6020,  33.9649,2,  33.9526,2,    325.3,2,    35.52,2,    24.55,2,  -999.00,9,     1.69,2,    5.806,2,    2.854,2,    0.445,2,    8.373,2,   -999.0,9, -999.000,9, -999.000,-999.0000,9,-999.0000,  -999.00,9,  -999.00, -999.000,9, -999.000
  06AQ19960317,  S04a,     9,  1,     18,      7,2,19960325,   0,-54.0017,  34.1450, 5402,    150.4,   0.7225,  34.0236,2,-999.0000,9,   -999.0,9,    43.89,2,    28.87,2,  -999.00,9,     1.99,2,    5.505,2,    2.653,2,    0.415,2,    7.669,2,   -999.0,9, -999.000,9, -999.000,-999.0000,9,-999.0000,  -999.00,9,  -999.00, -999.000,9, -999.000
  06AQ19960317,  S04a,     9,  1,     17,      8,2,19960325,   0,-54.0017,  34.1450, 5402,    174.8,   0.6806,  34.1137,2,  34.1164,2,    292.8,2,    48.76,2,    30.32,2,  -999.00,9,     2.09,2,    4.984,2,    2.411,2,    0.386,2,    6.975,2,   -999.0,9,    0.221,2, -999.000,   1.8460,2,   0.0050,     0.30,2,     0.22,    8.126,2,    0.018
  06AQ19960317,  S04a,     9,  1,     16,      9,2,19960325,   0,-54.0017,  34.1450, 5402,    199.1,   0.7399,  34.1865,2,-999.0000,9,   -999.0,9,    54.24,2,    31.88,2,  -999.00,9,     2.19,2,    4.482,2,    2.167,2,    0.338,2,    6.253,2,   -999.0,9, -999.000,9, -999.000,-999.0000,9,-999.0000,  -999.00,9,  -999.00, -999.000,9, -999.000
  06AQ19960317,  S04a,     9,  1,     15,     10,2,19960325,   0,-54.0017,  34.1450, 5402,    300.5,   1.3910,  34.3656,2,-999.0000,9,   -999.0,9,    65.54,2,    34.76,2,  -999.00,9,     2.37,2, -999.000,9, -999.000,9, -999.000,9, -999.000,9,   -999.0,9, -999.000,9, -999.000,-999.0000,9,-999.0000,  -999.00,9,  -999.00, -999.000,9, -999.000
  06AQ19960317,  S04a,     9,  1,     14,     11,2,19960325,   0,-54.0017,  34.1450, 5402,    399.6,   2.1059,  34.5395,2,  34.5360,2,    178.1,2,    72.46,2,    34.96,2,  -999.00,9,     2.41,2,    0.752,2,    0.354,2,    0.054,2,    1.159,2,   -999.0,9,    0.132,2, -999.000,   1.8570,2,   0.0050,     8.01,2,     0.22,    8.035,2,    0.018
  06AQ19960317,  S04a,     9,  1,     13,     12,2,19960325,   0,-54.0017,  34.1450, 5402,    630.4,   2.0467,  34.6508,2,-999.0000,9,   -999.0,9,    80.00,2,    33.64,2,  -999.00,9,     2.30,2,    0.394,2,    0.183,2,    0.020,2,    0.596,2,   -999.0,9, -999.000,9, -999.000,-999.0000,9,-999.0000,  -999.00,9,  -999.00, -999.000,9, -999.000
  06AQ19960317,  S04a,     9,  1,     12,     13,2,19960325,   0,-54.0017,  34.1450, 5402,    729.7,   2.1836,  34.7010,2,  34.7030,2,    182.6,2,    77.19,2,    32.30,2,  -999.00,9,     2.21,2,    0.195,2,    0.098,2,    0.008,2,    0.352,2,   -999.0,9,    0.058,2, -999.000,   1.8280,2,   0.0050,     9.71,2,     0.22,    7.931,2,    0.018
  06AQ19960317,  S04a,     9,  1,     11,     14,2,19960325,   0,-54.0017,  34.1450, 5402,    829.6,   1.9770,  34.7030,2,-999.0000,9,   -999.0,9,    81.88,2,    32.26,2,  -999.00,9,     2.22,2,    0.279,2,    0.136,2,    0.021,2,    0.442,2,   -999.0,9, -999.000,9, -999.000,-999.0000,9,-999.0000,  -999.00,9,  -999.00, -999.000,9, -999.000
  06AQ19960317,  S04a,     9,  1,     10,     15,2,19960325,   0,-54.0017,  34.1450, 5402,   1201.6,   1.6155,  34.7254,2,  34.7262,2,    194.4,2,    89.88,2,    31.76,2,  -999.00,9,     2.18,2,    0.246,2,    0.115,2,    0.018,2,    0.373,2,   -999.0,9, -999.000,9, -999.000,   1.8520,2,   0.0050,     9.46,2,     0.22,    8.043,2,    0.018
  06AQ19960317,  S04a,     9,  1,      9,     16,2,19960325,   0,-54.0017,  34.1450, 5402,   1450.1,   1.4349,  34.7313,2,  34.7314,2,    197.7,2,    94.70,2,    31.44,2,  -999.00,9,     2.16,2,    0.191,2,    0.083,2,    0.010,2,    0.295,2,   -999.0,9,    0.014,2, -999.000,   1.8680,2,   0.0050,     9.48,2,     0.22,    8.044,2,    0.018
  06AQ19960317,  S04a,     9,  1,      8,     17,2,19960325,   0,-54.0017,  34.1450, 5402,   1701.3,   1.1679,  34.7213,2,-999.0000,9,   -999.0,9,   101.62,2,    31.66,2,  -999.00,9,     2.19,2,    0.186,2,    0.091,2,    0.009,2,    0.308,2,   -999.0,9, -999.000,9, -999.000,-999.0000,9,-999.0000,  -999.00,9,  -999.00, -999.000,9, -999.000
  06AQ19960317,  S04a,     9,  1,      7,     18,2,19960325,   0,-54.0017,  34.1450, 5402,   2001.1,   0.9246,  34.7115,2,  34.7120,2,    206.4,2,   108.16,2,    32.26,2,  -999.00,9,     2.21,2,    0.163,2,    0.081,2,    0.005,2,    0.314,2,   -999.0,9,    0.047,2, -999.000,   1.8830,3,   0.0140,     9.32,3,     0.22,    8.100,3,    0.059
  06AQ19960317,  S04a,     9,  1,      6,     19,2,19960325,   0,-54.0017,  34.1450, 5402,   3000.8,   0.3165,  34.6781,2,-999.0000,9,   -999.0,9,   124.54,2,    33.54,2,  -999.00,9,     2.32,2,    0.178,2,    0.086,2,    0.010,2,    0.417,2,   -999.0,9, -999.000,9, -999.000,-999.0000,9,-999.0000,  -999.00,9,  -999.00, -999.000,9, -999.000
  06AQ19960317,  S04a,     9,  1,      5,     20,2,19960325,   0,-54.0017,  34.1450, 5402,   4000.0,  -0.0321,  34.6610,2,  34.6626,2,   -999.0,9,   127.55,2,    33.24,2,  -999.00,9,     2.31,2,    0.211,2,    0.108,2,    0.004,2,    0.556,2,   -999.0,9, -999.000,9, -999.000,-999.0000,9,-999.0000,  -999.00,9,  -999.00, -999.000,9, -999.000
  06AQ19960317,  S04a,     9,  1,      4,     21,2,19960325,   0,-54.0017,  34.1450, 5402,   4501.7,  -0.1199,  34.6578,2,  34.6570,2,    235.2,2,   128.20,2,    33.16,2,  -999.00,9,     2.30,2,    0.235,2,    0.115,2,    0.009,2,    0.612,2,   -999.0,9,    0.023,2, -999.000,   1.9160,2,   0.0050,     6.38,2,     0.22,    8.313,2,    0.019
  06AQ19960317,  S04a,     9,  1,      3,     22,2,19960325,   0,-54.0017,  34.1450, 5402,   5380.2,  -0.1641,  34.6536,2,  34.6531,2,    241.1,2,   130.64,2,    33.04,2,  -999.00,9,     2.30,2,    0.244,2,    0.123,2,    0.009,2,    0.666,2,   -999.0,9,    0.033,2, -999.000,   1.8900,2,   0.0050,     5.37,2,     0.22,    8.267,2,    0.018
  06AQ19960317,  S04a,     9,  1,      2,     23,2,19960325,   0,-54.0017,  34.1450, 5402,   5428.6,  -0.1668,  34.6531,2,  34.6545,2,    242.1,2,   130.87,2,    32.99,2,  -999.00,9,     2.30,2,    0.252,2,    0.126,2,    0.009,2,    0.670,2,   -999.0,9,    0.095,2, -999.000,   1.8650,2,   0.0050,     5.55,2,     0.22,    8.040,4,    0.018
  06AQ19960317,  S04a,     9,  1,      1,     24,2,19960325,   0,-54.0017,  34.1450, 5402,   5479.3,  -0.1655,  34.6530,2,  34.6525,2,    241.4,2,   130.99,2,    33.44,2,  -999.00,9,     2.30,2,    0.246,2,    0.124,2,    0.010,2,    0.679,2,   -999.0,9,    0.065,2, -999.000,   1.8940,2,   0.0050,     5.78,2,     0.22,    8.286,2,    0.018
  06AQ19960317,  S04a,    10,  1,     24,      1,2,19960325,   0,-53.9995,  32.4437, 5461,     21.6,   2.9038,  33.9289,2,  33.9287,2,    323.0,2,    32.89,2,    24.43,2,  -999.00,9,     1.65,2,    5.761,6,    2.882,6,    0.441,6,    8.220,6,   2161.2,2, -999.000,9, -999.000,-999.0000,9,-999.0000,  -999.00,9,  -999.00, -999.000,9, -999.000
  06AQ19960317,  S04a,    10,  1,     23,      2,2,19960325,   0,-53.9995,  32.4437, 5461,     81.4,   2.9023,  33.9288,2,  33.9308,2,    324.0,2,    32.97,2,    24.74,2,  -999.00,9,     1.65,2,    5.601,2,    2.800,2,    0.416,2,    8.065,2,   2157.4,2, -999.000,9, -999.000,-999.0000,9,-999.0000,  -999.00,9,  -999.00, -999.000,9, -999.000
  06AQ19960317,  S04a,    10,  1,     22,      3,2,19960325,   0,-53.9995,  32.4437, 5461,    149.2,   1.1941,  34.0400,2,  34.0366,2,    325.1,2,    42.53,2,    26.69,2,  -999.00,9,     1.84,2,    5.999,2,    2.928,2,    0.456,2,    8.347,2,   2181.8,2, -999.000,9, -999.000,-999.0000,9,-999.0000,  -999.00,9,  -999.00, -999.000,9, -999.000
  06AQ19960317,  S04a,    10,  1,     20,      5,2,19960325,   0,-53.9995,  32.4437, 5461,    210.5,   0.4041,  34.1262,2,-999.0000,9,   -999.0,9,    53.25,2,    29.72,2,  -999.00,9,     2.06,2, -999.000,9, -999.000,9, -999.000,9, -999.000,9,   -999.0,9, -999.000,9, -999.000,-999.0000,9,-999.0000,  -999.00,9,  -999.00, -999.000,9, -999.000
  06AQ19960317,  S04a,    10,  1,     21,      4,2,19960325,   0,-53.9995,  32.4437, 5461,    211.9,   0.3996,  34.1280,2,-999.0000,9,    301.6,2,    53.07,2,    29.88,2,  -999.00,9,     2.06,2,    5.427,2,    2.630,2,    0.411,2,    7.454,2,   2203.1,2, -999.000,9, -999.000,-999.0000,9,-999.0000,  -999.00,9,  -999.00, -999.000,9, -999.000
  06AQ19960317,  S04a,    10,  1,     19,      6,2,19960325,   0,-53.9995,  32.4437, 5461,    501.5,   1.7474,  34.5870,2,  34.5918,2,    180.4,2,    82.84,2,    35.07,2,  -999.00,9,     2.38,2,    0.792,2,    0.376,2,    0.056,2,    1.119,2,   2261.7,2, -999.000,9, -999.000,-999.0000,9,-999.0000,  -999.00,9,  -999.00, -999.000,9, -999.000
  06AQ19960317,  S04a,    10,  1,     17,      8,2,19960325,   0,-53.9995,  32.4437, 5461,    732.3,   1.8673,  34.6813,2,-999.0000,9,    182.9,2,    84.78,2,    32.59,2,  -999.00,9,     2.25,2, -999.000,9, -999.000,9, -999.000,9, -999.000,9,   2257.3,2, -999.000,9, -999.000,-999.0000,9,-999.0000,  -999.00,9,  -999.00, -999.000,9, -999.000
  06AQ19960317,  S04a,    10,  1,     18,      7,2,19960325,   0,-53.9995,  32.4437, 5461,    733.3,   1.8687,  34.6822,2,-999.0000,9,   -999.0,9,    85.26,2,    33.52,2,  -999.00,9,     2.26,2,    0.378,2,    0.197,2,    0.029,2,    0.573,2,   -999.0,9, -999.000,9, -999.000,-999.0000,9,-999.0000,  -999.00,9,  -999.00, -999.000,9, -999.000
  06AQ19960317,  S04a,    10,  1,     16,      9,2,19960325,   0,-53.9995,  32.4437, 5461,    902.0,   1.7284,  34.7022,2,  34.7030,2,    187.8,2,    89.42,2,    32.61,2,  -999.00,9,     2.25,2,    0.321,2,    0.155,2,    0.021,2,    0.475,2,   2258.6,2, -999.000,9, -999.000,-999.0000,9,-999.0000,  -999.00,9,  -999.00, -999.000,9, -999.000
  06AQ19960317,  S04a,    10,  1,     15,     10,2,19960325,   0,-53.9995,  32.4437, 5461,   1003.6,   1.6732,  34.7158,2,  34.7150,2,    191.0,2,    91.00,2,    32.38,2,  -999.00,9,     2.20,2,    0.289,2,    0.138,2,    0.018,2,    0.421,2,   2255.8,2, -999.000,9, -999.000,-999.0000,9,-999.0000,  -999.00,9,  -999.00, -999.000,9, -999.000
  06AQ19960317,  S04a,    10,  1,     14,     11,2,19960325,   0,-53.9995,  32.4437, 5461,   1250.1,   1.4867,  34.7302,2,  34.7302,2,    198.1,2,    94.76,2,    31.74,2,  -999.00,9,     2.16,2,    0.197,2,    0.093,2,    0.013,2,    0.310,2,   2255.8,2, -999.000,9, -999.000,-999.0000,9,-999.0000,  -999.00,9,  -999.00, -999.000,9, -999.000
  06AQ19960317,  S04a,    10,  1,     13,     12,2,19960325,   0,-53.9995,  32.4437, 5461,   1490.9,   1.2500,  34.7284,2,-999.0000,9,    205.1,2,    99.57,2,    31.36,2,  -999.00,9,     2.15,2,    0.164,2,    0.082,2,    0.010,2,    0.279,2,   2255.7,2, -999.000,9, -999.000,-999.0000,9,-999.0000,  -999.00,9,  -999.00, -999.000,9, -999.000
  06AQ19960317,  S04a,    10,  1,     12,     13,2,19960325,   0,-53.9995,  32.4437, 5461,   1490.9,   1.2500,  34.7284,2,-999.0000,9,   -999.0,9,    99.51,2,    31.78,2,  -999.00,9,     2.17,2, -999.000,9, -999.000,9, -999.000,9, -999.000,9,   -999.0,9, -999.000,9, -999.000,-999.0000,9,-999.0000,  -999.00,9,  -999.00, -999.000,9, -999.000
  06AQ19960317,  S04a,    10,  1,     11,     14,2,19960325,   0,-53.9995,  32.4437, 5461,   1752.1,   0.9824,  34.7156,2,  34.7167,2,    206.1,2,   108.23,2,    32.14,2,  -999.00,9,     2.20,2,    0.176,2,    0.087,2,    0.012,2,    0.312,2,   2258.2,2, -999.000,9, -999.000,-999.0000,9,-999.0000,  -999.00,9,  -999.00, -999.000,9, -999.000
  06AQ19960317,  S04a,    10,  1,     10,     15,2,19960325,   0,-53.9995,  32.4437, 5461,   2002.3,   0.7978,  34.7035,2,  34.7046,2,    206.4,2,   112.45,2,    32.56,2,  -999.00,9,     2.24,2,    0.190,2,    0.093,2,    0.010,2,    0.356,2,   2261.1,2, -999.000,9, -999.000,-999.0000,9,-999.0000,  -999.00,9,  -999.00, -999.000,9, -999.000
  06AQ19960317,  S04a,    10,  1,      9,     16,2,19960325,   0,-53.9995,  32.4437, 5461,   2502.2,   0.4871,  34.6865,2,  34.6868,2,    210.2,2,   120.60,2,    33.38,2,  -999.00,9,     2.29,2,    0.189,2,    0.089,2,    0.012,2,    0.390,2,   2263.7,2, -999.000,9, -999.000,-999.0000,9,-999.0000,  -999.00,9,  -999.00, -999.000,9, -999.000
  06AQ19960317,  S04a,    10,  1,      8,     17,2,19960325,   0,-53.9995,  32.4437, 5461,   3500.6,   0.0868,  34.6686,2,  34.6678,2,    223.2,2,   126.72,2,    33.09,2,  -999.00,9,     2.30,2,    0.185,2,    0.094,2,    0.015,2,    0.489,2,   2259.7,2, -999.000,9, -999.000,-999.0000,9,-999.0000,  -999.00,9,  -999.00, -999.000,9, -999.000
  06AQ19960317,  S04a,    10,  1,      7,     18,2,19960325,   0,-53.9995,  32.4437, 5461,   4501.5,  -0.1482,  34.6572,2,  34.6569,2,    237.7,2,   128.19,2,    33.40,2,  -999.00,9,     2.29,2,    0.314,2,    0.193,3,    0.015,2,    0.695,2,   2255.4,2, -999.000,9, -999.000,-999.0000,9,-999.0000,  -999.00,9,  -999.00, -999.000,9, -999.000
  06AQ19960317,  S04a,    10,  1,      6,     19,2,19960325,   0,-53.9995,  32.4437, 5461,   4501.6,  -0.1488,  34.6573,2,-999.0000,9,   -999.0,9,   127.96,2,    33.18,2,  -999.00,9,     2.29,2, -999.000,9, -999.000,9, -999.000,9, -999.000,9,   -999.0,9, -999.000,9, -999.000,-999.0000,9,-999.0000,  -999.00,9,  -999.00, -999.000,9, -999.000
  06AQ19960317,  S04a,    10,  1,      4,     21,2,19960325,   0,-53.9995,  32.4437, 5461,   5448.0,  -0.1584,  34.6531,2,-999.0000,9,   -999.0,9,   128.72,2,    32.92,2,  -999.00,9,     2.28,2, -999.000,9, -999.000,9, -999.000,9, -999.000,9,   -999.0,9, -999.000,9, -999.000,-999.0000,9,-999.0000,  -999.00,9,  -999.00, -999.000,9, -999.000
  06AQ19960317,  S04a,    10,  1,      5,     20,2,19960325,   0,-53.9995,  32.4437, 5461,   5448.1,  -0.1588,  34.6535,2,-999.0000,9,    242.0,2,   128.39,2,    33.34,2,  -999.00,9,     2.28,2,    0.252,2,    0.130,2,    0.013,2,    0.685,2,   2254.5,2, -999.000,9, -999.000,-999.0000,9,-999.0000,  -999.00,9,  -999.00, -999.000,9, -999.000
  06AQ19960317,  S04a,    10,  1,      3,     22,2,19960325,   0,-53.9995,  32.4437, 5461,   5500.8,  -0.1544,  34.6533,2,  34.6529,2,    241.7,2,   129.47,2,    33.13,2,  -999.00,9,     2.26,2,    0.262,2,    0.139,2,    0.012,2,    0.695,2,   2253.3,2, -999.000,9, -999.000,-999.0000,9,-999.0000,  -999.00,9,  -999.00, -999.000,9, -999.000
  06AQ19960317,  S04a,    10,  1,      2,     23,2,19960325,   0,-53.9995,  32.4437, 5461,   5552.1,  -0.1478,  34.6533,2,-999.0000,9,   -999.0,9,   129.71,2,    33.01,2,  -999.00,9,     2.27,2,    0.264,2,    0.135,2,    0.012,2,    0.704,2,   2252.4,2, -999.000,9, -999.000,-999.0000,9,-999.0000,  -999.00,9,  -999.00, -999.000,9, -999.000
  06AQ19960317,  S04a,    10,  1,      1,     24,2,19960325,   0,-53.9995,  32.4437, 5461,   5552.4,  -0.1479,  34.6533,2,-999.0000,9,   -999.0,9,   127.99,2,    32.94,2,  -999.00,9,     2.28,2, -999.000,9, -999.000,9, -999.000,9, -999.000,9,   -999.0,9, -999.000,9, -999.000,-999.0000,9,-999.0000,  -999.00,9,  -999.00, -999.000,9, -999.000