BOTTLE,20150129PRINUNIVRMK
EXPOCODE,SECT_ID,STNNBR,CASTNO,SAMPNO,BTLNBR,BTLNBR_FLAG_W,DATE,TIME,LATITUDE,LONGITUDE,DEPTH,CTDPRS,CTDTMP,CTDSAL,CTDSAL_FLAG_W,SALNTY,SALNTY_FLAG_W,OXYGEN,OXYGEN_FLAG_W,SILCAT,SILCAT_FLAG_W,NITRAT,NITRAT_FLAG_W,NITRIT,NITRIT_FLAG_W,PHSPHT,PHSPHT_FLAG_W,CFC-11,CFC-11_FLAG_W,CFC-12,CFC-12_FLAG_W,CFC113,CFC113_FLAG_W,CCL4,CCL4_FLAG_W,TCARBN,TCARBN_FLAG_W,TRITUM,TRITUM_FLAG_W,TRITER,HELIUM,HELIUM_FLAG_W,HELIER,DELHE3,DELHE3_FLAG_W,DELHER,NEON,NEON_FLAG_W,NEONER
,,,,,,,,,,,METERS,DBAR,ITS-90,PSS-78,,PSS-78,,UMOL/KG,,UMOL/KG,,UMOL/KG,,UMOL/KG,,UMOL/KG,,PMOL/KG,,PMOL/KG,,PMOL/KG,,PMOL/KG,,UMOL/KG,,TU,,TU,NMOL/KG,,NMOL/KG,PERCNT,,PERCNT,NMOL/KG,,NMOL/KG
  06AQ19960317,  S04a,    20,  1,     24,      1,2,19960329,   0,-57.0008,  21.0060, 4880,     21.0,   1.3141,  33.8156,2,  33.8141,2,    330.8,2,    24.60,2,    22.42,2,  -999.00,9,     1.51,2,    6.151,6,    3.029,6,    0.463,6,    8.255,6,   2148.5,2, -999.000,9, -999.000,-999.0000,9,-999.0000,  -999.00,9,  -999.00, -999.000,9, -999.000
  06AQ19960317,  S04a,    20,  1,     23,      2,2,19960329,   0,-57.0008,  21.0060, 4880,     41.6,   1.3228,  33.8235,2,  33.8220,2,    328.9,2,    25.83,2,    21.76,2,  -999.00,9,     1.51,2,    6.288,2,    3.126,2,    0.512,2,    8.492,2,   2149.0,2, -999.000,9, -999.000,-999.0000,9,-999.0000,  -999.00,9,  -999.00, -999.000,9, -999.000
  06AQ19960317,  S04a,    20,  1,     22,      3,2,19960329,   0,-57.0008,  21.0060, 4880,     80.4,   1.3175,  33.8315,2,  33.8318,2,    329.0,2,    26.79,2,    21.88,2,  -999.00,9,     1.53,2,    6.105,2,    2.990,2,    0.479,2,    8.348,2,   2152.0,2, -999.000,9, -999.000,-999.0000,9,-999.0000,  -999.00,9,  -999.00, -999.000,9, -999.000
  06AQ19960317,  S04a,    20,  1,     21,      4,2,19960329,   0,-57.0008,  21.0060, 4880,     99.6,   0.1972,  33.9156,2,  33.9027,2,    332.0,2,    41.19,2,    23.97,2,  -999.00,9,     1.75,2, -999.000,9, -999.000,9, -999.000,9, -999.000,9,   2168.6,2, -999.000,9, -999.000,-999.0000,9,-999.0000,  -999.00,9,  -999.00, -999.000,9, -999.000
  06AQ19960317,  S04a,    20,  1,     20,      5,2,19960329,   0,-57.0008,  21.0060, 4880,     99.6,   0.3025,  33.9329,2,  33.9041,2,    331.8,2,    40.95,2,    23.92,2,  -999.00,9,     1.78,2,    6.349,2,    3.110,2,    0.521,2,    8.573,2,   2172.4,2, -999.000,9, -999.000,-999.0000,9,-999.0000,  -999.00,9,  -999.00, -999.000,9, -999.000
  06AQ19960317,  S04a,    20,  1,     19,      6,2,19960329,   0,-57.0008,  21.0060, 4880,    108.1,  -1.4528,  34.0618,2,  34.0187,2,    337.0,2,    60.30,2,    26.74,2,  -999.00,9,     2.07,2, -999.000,9, -999.000,9, -999.000,9, -999.000,9,   2193.9,2, -999.000,9, -999.000,-999.0000,9,-999.0000,  -999.00,9,  -999.00, -999.000,9, -999.000
  06AQ19960317,  S04a,    20,  1,     18,      7,2,19960329,   0,-57.0008,  21.0060, 4880,    151.0,  -0.5336,  34.4340,2,  34.4290,2,    249.9,2,    92.14,2,    32.08,2,  -999.00,9,     2.27,2,    3.376,2,    1.616,2,    0.254,2,    4.358,2,   2229.4,2, -999.000,9, -999.000,-999.0000,9,-999.0000,  -999.00,9,  -999.00, -999.000,9, -999.000
  06AQ19960317,  S04a,    20,  1,     17,      8,2,19960329,   0,-57.0008,  21.0060, 4880,    200.2,   0.2360,  34.6250,2,  34.6241,2,    200.1,2,   109.49,2,    34.23,2,  -999.00,9,     2.35,2,    1.230,2,    0.571,2,    0.080,2,    1.582,2,   2264.1,2, -999.000,9, -999.000,-999.0000,9,-999.0000,  -999.00,9,  -999.00, -999.000,9, -999.000
  06AQ19960317,  S04a,    20,  1,     16,      9,2,19960329,   0,-57.0008,  21.0060, 4880,    251.8,   0.4344,  34.6670,2,  34.6652,2,    191.8,2,   115.82,2,    34.56,2,  -999.00,9,     2.36,2, -999.000,9, -999.000,9, -999.000,9, -999.000,9,   2269.4,2, -999.000,9, -999.000,-999.0000,9,-999.0000,  -999.00,9,  -999.00, -999.000,9, -999.000
  06AQ19960317,  S04a,    20,  1,     15,     10,2,19960329,   0,-57.0008,  21.0060, 4880,    290.6,   0.4550,  34.6758,2,-999.0000,9,    191.1,2,   119.07,2,    34.26,2,  -999.00,9,     2.37,2,    0.494,2,    0.222,2,    0.024,2,    0.744,2,   2270.3,2, -999.000,9, -999.000,-999.0000,9,-999.0000,  -999.00,9,  -999.00, -999.000,9, -999.000
  06AQ19960317,  S04a,    20,  1,     14,     11,2,19960329,   0,-57.0008,  21.0060, 4880,    349.5,   0.4399,  34.6806,2,  34.6781,2,    190.4,2,   120.95,2,    34.28,2,  -999.00,9,     2.37,2,    0.371,2,    0.169,2,    0.017,2,    0.611,2,   2270.5,2, -999.000,9, -999.000,-999.0000,9,-999.0000,  -999.00,9,  -999.00, -999.000,9, -999.000
  06AQ19960317,  S04a,    20,  1,     13,     12,2,19960329,   0,-57.0008,  21.0060, 4880,    399.5,   0.4189,  34.6821,2,  34.6819,2,    191.0,2,   122.99,2,    34.32,2,  -999.00,9,     2.37,2,    0.311,2,    0.144,2,    0.014,2,    0.538,2,   2270.2,2, -999.000,9, -999.000,-999.0000,9,-999.0000,  -999.00,9,  -999.00, -999.000,9, -999.000
  06AQ19960317,  S04a,    20,  1,     12,     13,2,19960329,   0,-57.0008,  21.0060, 4880,    501.1,   0.3746,  34.6828,2,  34.6828,2,    191.7,2,   125.87,2,    34.69,2,  -999.00,9,     2.41,2,    0.241,2,    0.108,2,    0.004,2,    0.451,2,   2272.7,2, -999.000,9, -999.000,-999.0000,9,-999.0000,  -999.00,9,  -999.00, -999.000,9, -999.000
  06AQ19960317,  S04a,    20,  1,     11,     14,2,19960329,   0,-57.0008,  21.0060, 4880,    750.2,   0.2604,  34.6794,2,  34.6789,2,    197.6,2,   128.55,2,    34.62,2,  -999.00,9,     2.38,2,    0.166,2,    0.074,2,    0.003,2,    0.369,2,   2268.7,2, -999.000,9, -999.000,-999.0000,9,-999.0000,  -999.00,9,  -999.00, -999.000,9, -999.000
  06AQ19960317,  S04a,    20,  1,     10,     15,2,19960329,   0,-57.0008,  21.0060, 4880,   1002.6,   0.1403,  34.6757,2,  34.6770,2,    204.7,2,   129.25,2,    34.04,2,  -999.00,9,     2.35,2,    0.171,2,    0.086,2,    0.004,2,    0.398,2,   2266.6,2, -999.000,9, -999.000,-999.0000,9,-999.0000,  -999.00,9,  -999.00, -999.000,9, -999.000
  06AQ19960317,  S04a,    20,  1,      9,     16,2,19960329,   0,-57.0008,  21.0060, 4880,   1502.1,  -0.0356,  34.6672,2,  34.6685,2,    215.6,2,   130.65,2,    33.48,2,  -999.00,9,     2.32,2,    0.183,2,    0.080,2,    0.002,2,    0.458,2,   2261.5,2, -999.000,9, -999.000,-999.0000,9,-999.0000,  -999.00,9,  -999.00, -999.000,9, -999.000
  06AQ19960317,  S04a,    20,  1,      8,     17,2,19960329,   0,-57.0008,  21.0060, 4880,   1998.6,  -0.1814,-999.0000,9,  34.6627,2,    225.9,2,  -999.00,9,  -999.00,9,  -999.00,9,  -999.00,9,    0.197,2,    0.094,2,    0.002,2,    0.539,2,   2257.0,2, -999.000,9, -999.000,-999.0000,9,-999.0000,  -999.00,9,  -999.00, -999.000,9, -999.000
  06AQ19960317,  S04a,    20,  1,      7,     18,2,19960329,   0,-57.0008,  21.0060, 4880,   2501.1,  -0.2680,-999.0000,9,  34.6590,2,    230.4,2,  -999.00,9,  -999.00,9,  -999.00,9,  -999.00,9,    0.236,2,    0.114,2,    0.004,2,    0.608,2,   2256.2,2, -999.000,9, -999.000,-999.0000,9,-999.0000,  -999.00,9,  -999.00, -999.000,9, -999.000
  06AQ19960317,  S04a,    20,  1,      6,     19,2,19960329,   0,-57.0008,  21.0060, 4880,   3000.1,  -0.3338,-999.0000,9,  34.6556,2,    236.0,2,  -999.00,9,  -999.00,9,  -999.00,9,  -999.00,9,    0.258,2,    0.120,2,    0.007,2,    0.645,2,   2253.5,2, -999.000,9, -999.000,-999.0000,9,-999.0000,  -999.00,9,  -999.00, -999.000,9, -999.000
  06AQ19960317,  S04a,    20,  1,      5,     20,2,19960329,   0,-57.0008,  21.0060, 4880,   3500.6,  -0.3841,-999.0000,9,  34.6540,2,    238.5,2,  -999.00,9,  -999.00,9,  -999.00,9,  -999.00,9,    0.299,2,    0.140,2,    0.007,2,    0.711,2,   2251.9,2, -999.000,9, -999.000,-999.0000,9,-999.0000,  -999.00,9,  -999.00, -999.000,9, -999.000
  06AQ19960317,  S04a,    20,  1,      4,     21,2,19960329,   0,-57.0008,  21.0060, 4880,   4000.6,  -0.4208,-999.0000,9,  34.6511,2,   -999.0,9,  -999.00,9,  -999.00,9,  -999.00,9,  -999.00,9, -999.000,9, -999.000,9, -999.000,9, -999.000,9,   2249.7,2, -999.000,9, -999.000,-999.0000,9,-999.0000,  -999.00,9,  -999.00, -999.000,9, -999.000
  06AQ19960317,  S04a,    20,  1,      3,     22,2,19960329,   0,-57.0008,  21.0060, 4880,   4500.1,  -0.4173,-999.0000,9,  34.6505,2,    243.5,2,  -999.00,9,  -999.00,9,  -999.00,9,  -999.00,9,    0.380,2,    0.180,2,    0.010,2,    0.839,2,   2249.9,2, -999.000,9, -999.000,-999.0000,9,-999.0000,  -999.00,9,  -999.00, -999.000,9, -999.000
  06AQ19960317,  S04a,    20,  1,      2,     23,2,19960329,   0,-57.0008,  21.0060, 4880,   4998.5,  -0.3913,-999.0000,9,  34.6473,2,    244.4,2,  -999.00,9,  -999.00,9,  -999.00,9,  -999.00,9,    0.402,2,    0.191,2,    0.010,2,    0.894,2,   2248.5,2, -999.000,9, -999.000,-999.0000,9,-999.0000,  -999.00,9,  -999.00, -999.000,9, -999.000
  06AQ19960317,  S04a,    20,  1,      1,     24,2,19960329,   0,-57.0008,  21.0060, 4880,   5102.6,  -0.3817,-999.0000,9,  34.6491,2,    244.3,2,  -999.00,9,  -999.00,9,  -999.00,9,  -999.00,9,    0.396,2,    0.189,2,    0.011,2,    0.889,2,   2250.4,2, -999.000,9, -999.000,-999.0000,9,-999.0000,  -999.00,9,  -999.00, -999.000,9, -999.000
  06AQ19960317,  S04a,    21,  1,     24,      1,2,19960330,   0,-57.1810,  19.1428, 4816,     21.7,   1.1958,-999.0000,9,  33.7953,2,    329.8,2,  -999.00,9,  -999.00,9,  -999.00,9,  -999.00,9,    6.206,2,    3.074,2,    0.500,2,    8.603,2,   2155.7,2,    0.085,2, -999.000,   1.7840,2,   0.0050,    -0.93,2,     0.22,    7.953,2,    0.018
  06AQ19960317,  S04a,    21,  1,     23,      2,2,19960330,   0,-57.1810,  19.1428, 4816,     41.9,   1.1925,-999.0000,9,-999.0000,9,    330.4,2,  -999.00,9,  -999.00,9,  -999.00,9,  -999.00,9,    6.108,2,    3.009,2,    0.496,2,    8.308,2,   2151.2,2, -999.000,9, -999.000,-999.0000,9,-999.0000,  -999.00,9,  -999.00, -999.000,9, -999.000
  06AQ19960317,  S04a,    21,  1,     22,      3,2,19960330,   0,-57.1810,  19.1428, 4816,     82.0,   0.9335,-999.0000,9,  34.1090,2,    330.1,2,  -999.00,9,  -999.00,9,  -999.00,9,  -999.00,9,    6.252,2,    3.039,2,    0.473,2,    8.423,2,   2162.7,2,    0.144,2, -999.000,   1.7710,2,   0.0050,    -1.01,2,     0.22,    7.921,2,    0.018
  06AQ19960317,  S04a,    21,  1,     20,      5,2,19960330,   0,-57.1810,  19.1428, 4816,    100.9,  -1.3778,-999.0000,9,  34.2025,2,    335.8,2,  -999.00,9,  -999.00,9,  -999.00,9,  -999.00,9,    6.611,2,    3.156,2,    0.513,2,    8.688,2,   2204.8,2,    0.169,2, -999.000,   1.8160,2,   0.0050,    -1.10,2,     0.22,    8.195,2,    0.018
  06AQ19960317,  S04a,    21,  1,     21,      4,2,19960330,   0,-57.1810,  19.1428, 4816,    101.3,  -1.4263,-999.0000,9,  34.1082,2,    336.3,2,  -999.00,9,  -999.00,9,  -999.00,9,  -999.00,9, -999.000,9, -999.000,9, -999.000,9, -999.000,9,   2203.0,2, -999.000,9, -999.000,-999.0000,9,-999.0000,  -999.00,9,  -999.00, -999.000,9, -999.000
  06AQ19960317,  S04a,    21,  1,     19,      6,2,19960330,   0,-57.1810,  19.1428, 4816,    129.6,  -1.5252,-999.0000,9,  34.3040,2,    324.6,2,  -999.00,9,  -999.00,9,  -999.00,9,  -999.00,9,    6.204,2,    3.011,2,    0.485,2,    8.281,2,   2212.5,2,    0.155,2, -999.000,   1.8330,2,   0.0050,    -0.20,2,     0.22,    8.221,2,    0.018
  06AQ19960317,  S04a,    21,  1,     18,      7,2,19960330,   0,-57.1810,  19.1428, 4816,    150.5,  -1.1829,-999.0000,9,  34.5746,2,    298.0,2,  -999.00,9,  -999.00,9,  -999.00,9,  -999.00,9,    5.183,2,    2.525,2,    0.398,2,    6.893,2,   2180.5,2, -999.000,9, -999.000,-999.0000,9,-999.0000,  -999.00,9,  -999.00, -999.000,9, -999.000
  06AQ19960317,  S04a,    21,  1,     17,      8,2,19960330,   0,-57.1810,  19.1428, 4816,    202.4,   0.0315,-999.0000,9,  34.6489,2,    214.7,2,  -999.00,9,  -999.00,9,  -999.00,9,  -999.00,9,    1.788,2,    0.865,2,    0.134,2,    2.406,2,   2259.1,2,    0.171,2, -999.000,   1.8420,3,   0.0140,     6.40,3,     0.22,    8.095,3,    0.059
  06AQ19960317,  S04a,    21,  1,     16,      9,2,19960330,   0,-57.1810,  19.1428, 4816,    250.5,   0.3548,-999.0000,9,  34.6711,2,    195.7,2,  -999.00,9,  -999.00,9,  -999.00,9,  -999.00,9,    0.854,2,    0.393,2,    0.048,2,    1.166,2,   2270.5,2, -999.000,9, -999.000,   1.8490,2,   0.0050,     8.43,2,     0.22,    8.090,2,    0.018
  06AQ19960317,  S04a,    21,  1,     15,     10,2,19960330,   0,-57.1810,  19.1428, 4816,    301.2,   0.4289,-999.0000,9,  34.6758,2,    190.9,2,  -999.00,9,  -999.00,9,  -999.00,9,  -999.00,9,    0.498,2,    0.221,2,    0.023,2,    0.736,2,   2271.1,2,    0.079,2, -999.000,   1.8640,3,   0.0140,     8.49,3,     0.22,    8.097,3,    0.059
  06AQ19960317,  S04a,    21,  1,     14,     11,2,19960330,   0,-57.1810,  19.1428, 4816,    351.4,   0.4330,-999.0000,9,  34.6740,2,    190.8,2,  -999.00,9,  -999.00,9,  -999.00,9,  -999.00,9,    0.399,2,    0.182,2,    0.017,2,    0.639,2,   2270.9,2,    0.857,3, -999.000,   1.8640,2,   0.0050,     8.36,2,     0.22,    8.123,2,    0.018
  06AQ19960317,  S04a,    21,  1,     13,     12,2,19960330,   0,-57.1810,  19.1428, 4816,    402.3,   0.4186,-999.0000,9,  34.6802,2,    190.6,2,  -999.00,9,  -999.00,9,  -999.00,9,  -999.00,9,    0.322,2,    0.146,2,    0.013,2,    0.535,2,   2272.6,2, -999.000,9, -999.000,-999.0000,9,-999.0000,  -999.00,9,  -999.00, -999.000,9, -999.000
  06AQ19960317,  S04a,    21,  1,     12,     13,2,19960330,   0,-57.1810,  19.1428, 4816,    499.9,   0.3773,-999.0000,9,  34.6802,2,    191.1,2,  -999.00,9,  -999.00,9,  -999.00,9,  -999.00,9,    0.222,2,    0.099,2,    0.004,2,    0.426,2,   2271.4,2,    0.021,2, -999.000,   1.8510,2,   0.0050,     8.79,2,     0.22,    8.085,2,    0.018
  06AQ19960317,  S04a,    21,  1,     11,     14,2,19960330,   0,-57.1810,  19.1428, 4816,    750.1,   0.2457,-999.0000,9,  34.6783,2,    196.9,2,  -999.00,9,  -999.00,9,  -999.00,9,  -999.00,9,    0.163,2,    0.072,2,    0.005,2,    0.365,2,   2273.2,2, -999.000,9, -999.000,-999.0000,9,-999.0000,  -999.00,9,  -999.00, -999.000,9, -999.000
  06AQ19960317,  S04a,    21,  1,     10,     15,2,19960330,   0,-57.1810,  19.1428, 4816,   1001.9,   0.1451,-999.0000,9,  34.6744,2,    203.7,2,  -999.00,9,  -999.00,9,  -999.00,9,  -999.00,9,    0.162,2,    0.071,2,    0.002,2,    0.374,2,   2267.4,2,    0.033,2, -999.000,   1.8670,3,   0.0140,     8.40,3,     0.22,    8.129,3,    0.059
  06AQ19960317,  S04a,    21,  1,      9,     16,2,19960330,   0,-57.1810,  19.1428, 4816,   1499.8,  -0.0420,-999.0000,9,  34.6666,2,    216.0,2,  -999.00,9,  -999.00,9,  -999.00,9,  -999.00,9,    0.192,6,    0.100,6,    0.004,6,    0.454,6,   2267.4,2, -999.000,9, -999.000,-999.0000,9,-999.0000,  -999.00,9,  -999.00, -999.000,9, -999.000
  06AQ19960317,  S04a,    21,  1,      8,     17,2,19960330,   0,-57.1810,  19.1428, 4816,   2000.2,  -0.1786,-999.0000,9,-999.0000,9,    224.7,2,  -999.00,9,  -999.00,9,  -999.00,9,  -999.00,9, -999.000,9, -999.000,9, -999.000,9, -999.000,9,   2259.5,2,    0.017,2, -999.000,   1.9940,4,   0.0050,     7.09,2,     0.22,    8.489,4,    0.019
  06AQ19960317,  S04a,    21,  1,      7,     18,2,19960330,   0,-57.1810,  19.1428, 4816,   2503.1,  -0.2643,-999.0000,9,-999.0000,9,    230.3,2,  -999.00,9,  -999.00,9,  -999.00,9,  -999.00,9,    0.238,2,    0.108,2,    0.005,2,    0.600,2,   2255.3,2, -999.000,9, -999.000,-999.0000,9,-999.0000,  -999.00,9,  -999.00, -999.000,9, -999.000
  06AQ19960317,  S04a,    21,  1,      6,     19,2,19960330,   0,-57.1810,  19.1428, 4816,   3002.4,  -0.3194,-999.0000,9,  34.6542,2,    234.3,2,  -999.00,9,  -999.00,9,  -999.00,9,  -999.00,9,    0.259,2,    0.122,2,    0.005,2,    0.634,2,   2254.0,2,    0.020,2, -999.000,   1.8920,2,   0.0050,     6.17,2,     0.22,    8.295,2,    0.018
  06AQ19960317,  S04a,    21,  1,      5,     20,2,19960330,   0,-57.1810,  19.1428, 4816,   3500.4,  -0.3728,-999.0000,9,  34.6514,2,    238.6,2,  -999.00,9,  -999.00,9,  -999.00,9,  -999.00,9,    0.305,2,    0.144,2,    0.010,2,    0.724,2,   2252.0,2, -999.000,9, -999.000,-999.0000,9,-999.0000,  -999.00,9,  -999.00, -999.000,9, -999.000
  06AQ19960317,  S04a,    21,  1,      4,     21,2,19960330,   0,-57.1810,  19.1428, 4816,   4001.2,  -0.4053,-999.0000,9,  34.6491,2,    241.3,2,  -999.00,9,  -999.00,9,  -999.00,9,  -999.00,9,    0.394,2,    0.187,2,    0.008,2,    0.820,2,   2251.3,2,    0.032,2, -999.000,   1.8840,2,   0.0050,     5.06,2,     0.22,    8.316,2,    0.019
  06AQ19960317,  S04a,    21,  1,      3,     22,2,19960330,   0,-57.1810,  19.1428, 4816,   4497.0,  -0.4228,-999.0000,9,  34.6474,2,    242.8,2,  -999.00,9,  -999.00,9,  -999.00,9,  -999.00,9,    0.461,2,    0.225,2,    0.012,2,    0.928,2,   2250.0,2,    0.045,2, -999.000,   1.9170,2,   0.0050,     4.79,2,     0.22,    8.376,2,    0.019
  06AQ19960317,  S04a,    21,  1,      2,     23,2,19960330,   0,-57.1810,  19.1428, 4816,   4782.2,  -0.4176,-999.0000,9,  34.6471,2,    245.1,2,  -999.00,9,  -999.00,9,  -999.00,9,  -999.00,9,    0.469,2,    0.231,2,    0.013,2,    0.943,2,   2249.7,2,    0.034,2, -999.000,   1.9260,2,   0.0050,     4.99,2,     0.22,    8.364,2,    0.019
  06AQ19960317,  S04a,    21,  1,      1,     24,2,19960330,   0,-57.1810,  19.1428, 4816,   4880.1,  -0.4134,-999.0000,9,  34.6480,2,    244.1,2,  -999.00,9,  -999.00,9,  -999.00,9,  -999.00,9,    0.461,2,    0.224,2,    0.012,2,    0.950,2,   2249.5,2,    0.034,2, -999.000,-999.0000,9,-999.0000,  -999.00,9,  -999.00, -999.000,9, -999.000