BOTTLE,20150129PRINUNIVRMK
EXPOCODE,SECT_ID,STNNBR,CASTNO,SAMPNO,BTLNBR,BTLNBR_FLAG_W,DATE,TIME,LATITUDE,LONGITUDE,DEPTH,CTDPRS,CTDTMP,CTDSAL,CTDSAL_FLAG_W,SALNTY,SALNTY_FLAG_W,OXYGEN,OXYGEN_FLAG_W,SILCAT,SILCAT_FLAG_W,NITRAT,NITRAT_FLAG_W,NITRIT,NITRIT_FLAG_W,PHSPHT,PHSPHT_FLAG_W,CFC-11,CFC-11_FLAG_W,CFC-12,CFC-12_FLAG_W,CFC113,CFC113_FLAG_W,CCL4,CCL4_FLAG_W,TCARBN,TCARBN_FLAG_W,TRITUM,TRITUM_FLAG_W,TRITER,HELIUM,HELIUM_FLAG_W,HELIER,DELHE3,DELHE3_FLAG_W,DELHER,NEON,NEON_FLAG_W,NEONER
,,,,,,,,,,,METERS,DBAR,ITS-90,PSS-78,,PSS-78,,UMOL/KG,,UMOL/KG,,UMOL/KG,,UMOL/KG,,UMOL/KG,,PMOL/KG,,PMOL/KG,,PMOL/KG,,PMOL/KG,,UMOL/KG,,TU,,TU,NMOL/KG,,NMOL/KG,PERCNT,,PERCNT,NMOL/KG,,NMOL/KG
  06AQ19960317,  S04a,     6,  1,     24,      1,2,19960323,   0,-54.0022,  37.6113, 4687,     20.7,   3.5146,  33.8781,2,  33.8809,2,   -999.0,9,    21.55,2,    24.02,2,  -999.00,9,     1.61,2,    5.707,2,    2.890,2,    0.425,2,    7.891,2,   2140.1,2,    0.018,0, -999.000,   1.7810,2,   0.0050,    -1.69,2,     0.22,    7.855,2,    0.018
  06AQ19960317,  S04a,     6,  1,     23,      2,2,19960323,   0,-54.0022,  37.6113, 4687,     40.4,   3.5159,  33.8783,2,-999.0000,9,   -999.0,9,    21.66,2,    24.26,2,  -999.00,9,     1.66,2, -999.000,9, -999.000,9, -999.000,9, -999.000,9,   2135.9,2, -999.000,9, -999.000,-999.0000,9,-999.0000,  -999.00,9,  -999.00, -999.000,9, -999.000
  06AQ19960317,  S04a,     6,  1,     22,      3,2,19960323,   0,-54.0022,  37.6113, 4687,     61.8,   3.5167,  33.8786,2,  33.8797,2,    320.6,2,    21.63,2,    24.25,2,  -999.00,9,     1.64,2,    5.290,4,    2.696,4,    0.412,4,    7.366,4,   2143.8,2,    1.193,3, -999.000,   1.7770,2,   0.0050,    -1.37,2,     0.22,    7.818,2,    0.017
  06AQ19960317,  S04a,     6,  1,     21,      4,2,19960323,   0,-54.0022,  37.6113, 4687,     81.1,   3.5188,  33.8790,2,-999.0000,9,   -999.0,9,    21.71,2,    24.29,2,  -999.00,9,     1.66,2, -999.000,9, -999.000,9, -999.000,9, -999.000,9,   2143.1,2, -999.000,9, -999.000,-999.0000,9,-999.0000,  -999.00,9,  -999.00, -999.000,9, -999.000
  06AQ19960317,  S04a,     6,  1,     20,      5,2,19960323,   0,-54.0022,  37.6113, 4687,     81.2,   3.5183,  33.8788,2,  33.8805,2,    320.2,2,    21.67,2,    24.29,2,  -999.00,9,     1.71,2, -999.000,9, -999.000,9, -999.000,9, -999.000,9,   2138.6,2, -999.000,9, -999.000,-999.0000,9,-999.0000,  -999.00,9,  -999.00, -999.000,9, -999.000
  06AQ19960317,  S04a,     6,  1,     19,      6,2,19960323,   0,-54.0022,  37.6113, 4687,    100.9,   3.5022,  33.8806,2,-999.0000,9,   -999.0,9,    21.67,2,    24.36,2,  -999.00,9,     1.66,2,    4.236,4,    2.121,4,    0.325,4,    5.916,4,   2143.6,2,    0.177,0, -999.000,   1.8260,2,   0.0050,    -1.12,2,     0.22,    7.927,2,    0.018
  06AQ19960317,  S04a,     6,  1,     18,      7,2,19960323,   0,-54.0022,  37.6113, 4687,    150.1,   1.4318,  33.9942,2,  33.9996,2,    320.3,2,    33.45,2,    27.41,2,  -999.00,9,     1.91,2,    6.050,2,    2.989,2,    0.459,2,    8.109,2,   2173.8,2,    0.202,0, -999.000,   1.8040,2,   0.0050,    -1.62,2,     0.22,    7.994,2,    0.018
  06AQ19960317,  S04a,     6,  1,     17,      8,2,19960323,   0,-54.0022,  37.6113, 4687,    200.4,   0.7217,  34.0869,2,-999.0000,9,   -999.0,9,    45.75,2,    30.67,2,  -999.00,9,     2.09,2,    5.553,2,    2.735,2,    0.415,2,    7.477,2,   2190.9,2,    0.149,0, -999.000,   1.8040,2,   0.0050,    -0.23,2,     0.22,    8.045,2,    0.018
  06AQ19960317,  S04a,     6,  1,     16,      9,2,19960323,   0,-54.0022,  37.6113, 4687,    218.5,   0.6792,  34.1223,2,  34.1273,2,    295.3,2,    49.08,2,    31.49,2,  -999.00,9,     2.22,2,    5.168,2,    2.539,2,    0.390,2,    7.036,2,   2197.9,2,    0.175,2, -999.000,   1.8030,2,   0.0050,     0.17,2,     0.22,    8.062,2,    0.018
  06AQ19960317,  S04a,     6,  1,     15,     10,2,19960323,   0,-54.0022,  37.6113, 4687,    300.0,   0.9786,  34.2499,2,-999.0000,9,   -999.0,9,    57.88,2,    33.37,2,  -999.00,9,     2.31,2,    3.760,2,    1.836,2,    0.280,2,    5.182,2,   2222.9,2,    0.166,2, -999.000,   1.8170,2,   0.0050,     2.39,2,     0.22,    8.008,2,    0.018
  06AQ19960317,  S04a,     6,  1,     14,     11,2,19960323,   0,-54.0022,  37.6113, 4687,    401.1,   1.6019,  34.4179,2,  34.4237,2,    202.9,2,    68.81,2,    35.19,2,  -999.00,9,     2.40,2,    1.871,2,    0.905,2,    0.131,2,    2.628,2,   2247.8,2,    0.090,2, -999.000,-999.0000,9,-999.0000,  -999.00,9,  -999.00, -999.000,9, -999.000
  06AQ19960317,  S04a,     6,  1,     13,     12,2,19960323,   0,-54.0022,  37.6113, 4687,    500.5,   1.7896,  34.5116,2,-999.0000,9,    187.1,2,    74.99,2,    35.14,2,  -999.00,9,     2.39,2,    1.194,2,    0.577,2,    0.084,2,    1.714,2,   2253.9,2,    0.095,2, -999.000,   1.8550,2,   0.0050,     7.87,2,     0.22,    8.028,2,    0.018
  06AQ19960317,  S04a,     6,  1,     12,     13,2,19960323,   0,-54.0022,  37.6113, 4687,    816.0,   1.9823,  34.6853,2,  34.6907,3,   -999.0,9,    82.19,2,    32.94,2,  -999.00,9,     2.29,2,    0.333,2,    0.158,2,    0.024,2,    0.496,2,   2258.5,2,    0.074,2, -999.000,   1.8490,2,   0.0050,     9.89,2,     0.22,    7.999,2,    0.018
  06AQ19960317,  S04a,     6,  1,     11,     14,2,19960323,   0,-54.0022,  37.6113, 4687,   1000.6,   1.8873,  34.7188,2,-999.0000,9,   -999.0,9,    83.64,2,    32.06,2,  -999.00,9,     2.20,2,    0.249,2,    0.128,2,    0.017,2,    0.379,2,   2253.7,2,    0.091,2, -999.000,   1.8420,2,   0.0050,    10.34,2,     0.22,    7.975,2,    0.018
  06AQ19960317,  S04a,     6,  1,     10,     15,2,19960323,   0,-54.0022,  37.6113, 4687,   1459.8,   1.5439,  34.7386,2,  34.7405,2,    200.3,2,    91.15,2,    31.27,2,  -999.00,9,     2.16,2,    0.159,2,    0.074,2,    0.012,2,    0.263,2,   2252.5,2,    0.035,2, -999.000,   1.8470,2,   0.0050,     9.38,2,     0.22,    8.015,2,    0.018
  06AQ19960317,  S04a,     6,  1,      9,     16,2,19960323,   0,-54.0022,  37.6113, 4687,   2000.9,   1.0639,  34.7182,2,-999.0000,9,   -999.0,9,   107.85,2,    32.19,2,  -999.00,9,     2.20,2,    0.200,2,    0.084,2,    0.012,2,    0.324,2,   2259.8,2,    0.050,2, -999.000,   2.2410,4,   0.0060,     7.09,2,     0.22,    9.289,4,    0.021
  06AQ19960317,  S04a,     6,  1,      8,     17,2,19960323,   0,-54.0022,  37.6113, 4687,   2500.4,   0.7136,  34.6986,2,  34.7005,2,    208.7,2,   114.76,2,    32.85,2,  -999.00,9,     2.25,2,    0.172,2,    0.079,2,    0.008,2,    0.345,2,   2263.3,2,    0.057,2, -999.000,   1.8600,2,   0.0050,     8.40,2,     0.22,    8.119,2,    0.018
  06AQ19960317,  S04a,     6,  1,      7,     18,2,19960323,   0,-54.0022,  37.6113, 4687,   3002.0,   0.3878,  34.6815,2,-999.0000,9,   -999.0,9,   123.24,2,    33.37,2,  -999.00,9,     2.29,2, -999.000,9, -999.000,9, -999.000,9, -999.000,9,   2267.0,2, -999.000,9, -999.000,-999.0000,9,-999.0000,  -999.00,9,  -999.00, -999.000,9, -999.000
  06AQ19960317,  S04a,     6,  1,      5,     20,2,19960323,   0,-54.0022,  37.6113, 4687,   3501.9,   0.1340,  34.6706,2,-999.0000,9,    230.1,2,   129.00,2,    33.37,2,  -999.00,9,     2.29,2,    0.178,2,    0.090,2,    0.009,2,    0.528,2,   2264.0,2,    0.015,2, -999.000,   1.8770,2,   0.0050,     6.55,2,     0.22,    8.214,2,    0.018
  06AQ19960317,  S04a,     6,  1,      6,     19,2,19960323,   0,-54.0022,  37.6113, 4687,   3502.0,   0.1341,  34.6705,2,  34.6723,2,    223.6,2,   126.70,2,    33.46,2,  -999.00,9,     2.33,2,    0.176,2,    0.088,2,    0.004,3,    0.473,2,   2265.8,2,    0.079,2, -999.000,   1.8840,3,   0.0140,     7.37,3,     0.22,    8.220,3,    0.059
  06AQ19960317,  S04a,     6,  1,      3,     22,2,19960323,   0,-54.0022,  37.6113, 4687,   4501.6,  -0.0896,  34.6580,2,  34.6556,2,    237.5,2,   134.18,2,    33.28,2,  -999.00,9,     2.35,2,    0.218,2,    0.119,2,    0.009,2,    0.591,2,   2265.4,2,    0.048,2, -999.000,   1.8820,2,   0.0050,     5.72,2,     0.22,    8.239,2,    0.018
  06AQ19960317,  S04a,     6,  1,      4,     21,2,19960323,   0,-54.0022,  37.6113, 4687,   4501.7,  -0.0896,  34.6583,2,  34.6586,2,    234.8,2,   131.24,2,    33.28,2,  -999.00,9,     2.41,2,    0.198,2,    0.100,2,    0.010,2,    0.574,2,   2261.4,2,    0.052,2, -999.000,   1.8830,2,   0.0050,     6.46,2,     0.22,    8.245,2,    0.018
  06AQ19960317,  S04a,     6,  1,      2,     23,2,19960323,   0,-54.0022,  37.6113, 4687,   4680.7,  -0.1825,  34.6548,2,  34.6540,2,   -999.0,9,   134.93,2,    33.24,2,  -999.00,9,     2.40,2,    0.230,2,    0.114,2,    0.008,2,    0.607,2,   2268.2,2,    0.031,2, -999.000,   1.8890,2,   0.0050,     5.71,2,     0.22,    8.269,2,    0.018
  06AQ19960317,  S04a,     6,  1,      1,     24,2,19960323,   0,-54.0022,  37.6113, 4687,   4728.4,  -0.2016,  34.6539,2,  34.6556,2,    238.5,2,   134.23,2,    33.16,2,  -999.00,9,     2.31,2,    0.233,2,    0.118,2,    0.009,2,    0.641,2,   2258.4,2,    0.024,2, -999.000,   1.9000,2,   0.0050,     5.55,2,     0.22,    8.314,2,    0.019
  06AQ19960317,  S04a,     7,  1,     15,      1,2,19960324,   0,-54.0000,  36.7500, 4758,     20.5,   3.3932,  33.8749,2,-999.0000,9,   -999.0,9,    20.47,2,    24.24,2,  -999.00,9,     1.64,2, -999.000,9, -999.000,9, -999.000,9, -999.000,9,   -999.0,9, -999.000,9, -999.000,-999.0000,9,-999.0000,  -999.00,9,  -999.00, -999.000,9, -999.000
  06AQ19960317,  S04a,     7,  1,     14,      2,2,19960324,   0,-54.0000,  36.7500, 4758,     20.5,   3.3889,  33.8749,2,  33.8726,2,    320.7,2,    20.70,2,    24.34,2,  -999.00,9,     1.65,2,    5.420,2,    2.728,2,    0.432,2,    7.855,2,   2138.5,2,    0.025,2, -999.000,   1.7840,2,   0.0050,    -1.69,2,     0.22,    7.837,2,    0.017
  06AQ19960317,  S04a,     7,  1,     12,      4,2,19960324,   0,-54.0000,  36.7500, 4758,     39.8,   3.3875,  33.8754,2,  33.8731,2,    319.6,2,    20.79,2,    24.40,2,  -999.00,9,     1.67,2,    5.415,2,    2.729,2,    0.428,2,    7.854,2,   2140.1,2,    0.189,2, -999.000,   1.7780,2,   0.0050,    -1.78,2,     0.22,    7.822,2,    0.017
  06AQ19960317,  S04a,     7,  1,     13,      3,2,19960324,   0,-54.0000,  36.7500, 4758,     39.9,   3.3896,  33.8752,2,-999.0000,9,   -999.0,9,    20.71,2,    24.27,2,  -999.00,9,     1.65,2, -999.000,9, -999.000,9, -999.000,9, -999.000,9,   -999.0,9, -999.000,9, -999.000,-999.0000,9,-999.0000,  -999.00,9,  -999.00, -999.000,9, -999.000
  06AQ19960317,  S04a,     7,  1,     10,      6,2,19960324,   0,-54.0000,  36.7500, 4758,     62.7,   3.2918,  33.8808,2,  33.8772,2,    321.9,2,    20.64,2,    24.34,2,  -999.00,9,     1.65,2,    5.427,2,    2.716,2,    0.421,2,    7.808,2,   2142.7,2,    0.185,2, -999.000,   1.7820,3,   0.0140,    -1.56,3,     0.22,    7.845,3,    0.057
  06AQ19960317,  S04a,     7,  1,     11,      5,2,19960324,   0,-54.0000,  36.7500, 4758,     62.9,   3.3008,  33.8802,2,-999.0000,9,   -999.0,9,    20.84,2,    24.37,2,  -999.00,9,     1.66,2, -999.000,9, -999.000,9, -999.000,9, -999.000,9,   -999.0,9, -999.000,9, -999.000,-999.0000,9,-999.0000,  -999.00,9,  -999.00, -999.000,9, -999.000
  06AQ19960317,  S04a,     7,  1,      8,      8,2,19960324,   0,-54.0000,  36.7500, 4758,     81.7,   3.1977,  33.8854,2,  33.8826,2,    321.8,2,    21.30,2,    24.45,2,  -999.00,9,     1.68,2, -999.000,9, -999.000,9, -999.000,9, -999.000,9,   2140.2,2, -999.000,9, -999.000,-999.0000,9,-999.0000,  -999.00,9,  -999.00, -999.000,9, -999.000
  06AQ19960317,  S04a,     7,  1,      9,      7,2,19960324,   0,-54.0000,  36.7500, 4758,     81.8,   3.2047,  33.8849,2,-999.0000,9,   -999.0,9,    21.21,2,    24.60,2,  -999.00,9,     1.66,2, -999.000,9, -999.000,9, -999.000,9, -999.000,9,   -999.0,9, -999.000,9, -999.000,-999.0000,9,-999.0000,  -999.00,9,  -999.00, -999.000,9, -999.000
  06AQ19960317,  S04a,     7,  1,      6,     10,2,19960324,   0,-54.0000,  36.7500, 4758,    101.6,   2.9768,  33.9016,2,  33.8958,2,    322.8,2,    22.55,2,    24.68,2,  -999.00,9,     1.70,2,    5.585,2,    2.780,2,    0.428,2,    7.941,2,   -999.0,9,    0.167,2, -999.000,   1.7930,2,   0.0050,    -1.95,2,     0.22,    7.893,2,    0.018
  06AQ19960317,  S04a,     7,  1,      7,      9,2,19960324,   0,-54.0000,  36.7500, 4758,    101.7,   2.9984,  33.8979,2,-999.0000,9,   -999.0,9,    22.50,2,    24.63,2,  -999.00,9,     1.71,2, -999.000,9, -999.000,9, -999.000,9, -999.000,9,   -999.0,9, -999.000,9, -999.000,-999.0000,9,-999.0000,  -999.00,9,  -999.00, -999.000,9, -999.000
  06AQ19960317,  S04a,     7,  1,      5,     11,2,19960324,   0,-54.0000,  36.7500, 4758,    150.4,   1.5067,  33.9752,2,-999.0000,9,   -999.0,9,    30.43,2,    27.88,2,  -999.00,9,     1.94,2, -999.000,9, -999.000,9, -999.000,9, -999.000,9,   2169.4,2, -999.000,9, -999.000,-999.0000,9,-999.0000,  -999.00,9,  -999.00, -999.000,9, -999.000
  06AQ19960317,  S04a,     7,  1,      3,     13,2,19960324,   0,-54.0000,  36.7500, 4758,    212.2,   0.9355,  34.0995,2,-999.0000,9,   -999.0,9,    44.38,2,    31.10,2,  -999.00,9,     2.13,2, -999.000,9, -999.000,9, -999.000,9, -999.000,9,   -999.0,9, -999.000,9, -999.000,-999.0000,9,-999.0000,  -999.00,9,  -999.00, -999.000,9, -999.000
  06AQ19960317,  S04a,     7,  1,      4,     12,2,19960324,   0,-54.0000,  36.7500, 4758,    212.3,   0.9372,  34.0996,2,  34.0933,2,    293.7,2,    44.16,2,    31.14,2,  -999.00,9,     2.14,2,    4.963,2,    2.420,2,    0.368,2,    6.682,2,   2194.1,2,    0.184,2, -999.000,   1.8220,2,   0.0050,    -0.13,2,     0.22,    8.068,2,    0.018
  06AQ19960317,  S04a,     7,  1,      2,     14,2,19960324,   0,-54.0000,  36.7500, 4758,    212.4,   0.9344,  34.0997,2,-999.0000,9,   -999.0,9,    44.19,2,    31.09,2,  -999.00,9,     2.14,2, -999.000,9, -999.000,9, -999.000,9, -999.000,9,   -999.0,9, -999.000,9, -999.000,-999.0000,9,-999.0000,  -999.00,9,  -999.00, -999.000,9, -999.000
  06AQ19960317,  S04a,     7,  1,      1,     15,2,19960324,   0,-54.0000,  36.7500, 4758,    212.5,   0.9353,  34.1004,2,-999.0000,9,   -999.0,9,    44.08,2,    31.23,2,  -999.00,9,     2.15,2, -999.000,9, -999.000,9, -999.000,9, -999.000,9,   -999.0,9, -999.000,9, -999.000,-999.0000,9,-999.0000,  -999.00,9,  -999.00, -999.000,9, -999.000