BOTTLE,20150129PRINUNIVRMK
EXPOCODE,SECT_ID,STNNBR,CASTNO,SAMPNO,BTLNBR,BTLNBR_FLAG_W,DATE,TIME,LATITUDE,LONGITUDE,DEPTH,CTDPRS,CTDTMP,CTDSAL,CTDSAL_FLAG_W,SALNTY,SALNTY_FLAG_W,OXYGEN,OXYGEN_FLAG_W,SILCAT,SILCAT_FLAG_W,NITRAT,NITRAT_FLAG_W,NITRIT,NITRIT_FLAG_W,PHSPHT,PHSPHT_FLAG_W,CFC-11,CFC-11_FLAG_W,CFC-12,CFC-12_FLAG_W,CFC113,CFC113_FLAG_W,CCL4,CCL4_FLAG_W,TCARBN,TCARBN_FLAG_W,TRITUM,TRITUM_FLAG_W,TRITER,HELIUM,HELIUM_FLAG_W,HELIER,DELHE3,DELHE3_FLAG_W,DELHER,NEON,NEON_FLAG_W,NEONER
,,,,,,,,,,,METERS,DBAR,ITS-90,PSS-78,,PSS-78,,UMOL/KG,,UMOL/KG,,UMOL/KG,,UMOL/KG,,UMOL/KG,,PMOL/KG,,PMOL/KG,,PMOL/KG,,PMOL/KG,,UMOL/KG,,TU,,TU,NMOL/KG,,NMOL/KG,PERCNT,,PERCNT,NMOL/KG,,NMOL/KG
  06AQ19960317,  S04a,    60,  1,     23,      1,2,19960421,   0,-67.9993,   0.0055, 4481,     21.2,  -1.0621,  34.1150,2,-999.0000,9,   -999.0,9,    57.99,2,    24.68,2,  -999.00,9,     1.81,2, -999.000,9, -999.000,9, -999.000,9, -999.000,9,   -999.0,9, -999.000,9, -999.000,-999.0000,9,-999.0000,  -999.00,9,  -999.00, -999.000,9, -999.000
  06AQ19960317,  S04a,    60,  1,     22,      2,2,19960421,   0,-67.9993,   0.0055, 4481,     21.3,  -1.0616,  34.1153,2,  34.1183,2,    333.9,2,    58.23,2,    24.78,2,  -999.00,9,     1.82,2, -999.000,9, -999.000,9, -999.000,9, -999.000,9,   2179.6,2, -999.000,9, -999.000,-999.0000,9,-999.0000,  -999.00,9,  -999.00, -999.000,9, -999.000
  06AQ19960317,  S04a,    60,  1,     20,      4,2,19960421,   0,-67.9993,   0.0055, 4481,     40.9,  -1.0658,  34.1465,2,  34.1474,2,    333.3,2,    59.09,2,    25.06,2,  -999.00,9,     1.85,2, -999.000,9, -999.000,9, -999.000,9, -999.000,9,   2182.7,2, -999.000,9, -999.000,-999.0000,9,-999.0000,  -999.00,9,  -999.00, -999.000,9, -999.000
  06AQ19960317,  S04a,    60,  1,     21,      3,2,19960421,   0,-67.9993,   0.0055, 4481,     41.0,  -1.0657,  34.1463,2,  34.1466,2,   -999.0,9,    59.14,2,    25.07,2,  -999.00,9,     1.84,2, -999.000,9, -999.000,9, -999.000,9, -999.000,9,   -999.0,9, -999.000,9, -999.000,-999.0000,9,-999.0000,  -999.00,9,  -999.00, -999.000,9, -999.000
  06AQ19960317,  S04a,    60,  1,     19,      5,2,19960421,   0,-67.9993,   0.0055, 4481,     41.1,  -1.0678,  34.1462,2,-999.0000,9,   -999.0,9,    59.21,2,    25.04,2,  -999.00,9,     1.85,2, -999.000,9, -999.000,9, -999.000,9, -999.000,9,   -999.0,9, -999.000,9, -999.000,-999.0000,9,-999.0000,  -999.00,9,  -999.00, -999.000,9, -999.000
  06AQ19960317,  S04a,    60,  1,     18,      6,2,19960421,   0,-67.9993,   0.0055, 4481,     41.1,  -1.0670,  34.1469,2,-999.0000,9,   -999.0,9,    59.33,2,    25.08,2,  -999.00,9,     1.86,2, -999.000,9, -999.000,9, -999.000,9, -999.000,9,   -999.0,9, -999.000,9, -999.000,-999.0000,9,-999.0000,  -999.00,9,  -999.00, -999.000,9, -999.000
  06AQ19960317,  S04a,    60,  1,     17,      7,2,19960421,   0,-67.9993,   0.0055, 4481,     60.4,  -0.9777,  34.2144,2,-999.0000,9,   -999.0,9,    63.27,2,    26.46,2,  -999.00,9,     1.94,2, -999.000,9, -999.000,9, -999.000,9, -999.000,9,   -999.0,9, -999.000,9, -999.000,-999.0000,9,-999.0000,  -999.00,9,  -999.00, -999.000,9, -999.000
  06AQ19960317,  S04a,    60,  1,     16,      8,2,19960421,   0,-67.9993,   0.0055, 4481,     60.5,  -0.9612,  34.2375,2,  34.3467,2,    290.5,2,    71.32,2,    29.01,2,  -999.00,9,     2.08,2, -999.000,9, -999.000,9, -999.000,9, -999.000,9,   2215.6,2, -999.000,9, -999.000,-999.0000,9,-999.0000,  -999.00,9,  -999.00, -999.000,9, -999.000
  06AQ19960317,  S04a,    60,  1,     14,     10,2,19960421,   0,-67.9993,   0.0055, 4481,     79.8,  -0.3806,  34.5398,2,  34.5474,2,    226.8,2,    84.64,2,    33.05,2,  -999.00,9,     2.28,2, -999.000,9, -999.000,9, -999.000,9, -999.000,9,   2246.6,2, -999.000,9, -999.000,-999.0000,9,-999.0000,  -999.00,9,  -999.00, -999.000,9, -999.000
  06AQ19960317,  S04a,    60,  1,     15,      9,2,19960421,   0,-67.9993,   0.0055, 4481,     80.1,  -0.4151,  34.5324,2,-999.0000,9,   -999.0,9,    83.33,2,    32.74,2,  -999.00,9,     2.27,2, -999.000,9, -999.000,9, -999.000,9, -999.000,9,   -999.0,9, -999.000,9, -999.000,-999.0000,9,-999.0000,  -999.00,9,  -999.00, -999.000,9, -999.000
  06AQ19960317,  S04a,    60,  1,     12,     12,2,19960421,   0,-67.9993,   0.0055, 4481,    100.3,   0.4602,  34.6230,2,  34.6296,2,    200.3,2,    91.20,2,    33.70,2,  -999.00,9,     2.31,2, -999.000,9, -999.000,9, -999.000,9, -999.000,9,   2257.4,2, -999.000,9, -999.000,-999.0000,9,-999.0000,  -999.00,9,  -999.00, -999.000,9, -999.000
  06AQ19960317,  S04a,    60,  1,     13,     11,2,19960421,   0,-67.9993,   0.0055, 4481,    100.4,   0.3855,  34.6146,2,-999.0000,9,   -999.0,9,    89.77,2,    33.59,2,  -999.00,9,     2.30,2, -999.000,9, -999.000,9, -999.000,9, -999.000,9,   -999.0,9, -999.000,9, -999.000,-999.0000,9,-999.0000,  -999.00,9,  -999.00, -999.000,9, -999.000
  06AQ19960317,  S04a,    60,  1,     11,     13,2,19960421,   0,-67.9993,   0.0055, 4481,    120.9,   0.8559,  34.6651,2,  34.6659,2,    190.5,2,    94.80,2,    33.81,2,  -999.00,9,     2.31,2, -999.000,9, -999.000,9, -999.000,9, -999.000,9,   2260.1,2, -999.000,9, -999.000,-999.0000,9,-999.0000,  -999.00,9,  -999.00, -999.000,9, -999.000
  06AQ19960317,  S04a,    60,  1,     10,     14,2,19960421,   0,-67.9993,   0.0055, 4481,    150.7,   0.9199,  34.6751,2,  34.6765,2,    188.7,2,    96.16,2,    33.52,2,  -999.00,9,     2.29,2, -999.000,9, -999.000,9, -999.000,9, -999.000,9,   2259.3,2, -999.000,9, -999.000,-999.0000,9,-999.0000,  -999.00,9,  -999.00, -999.000,9, -999.000
  06AQ19960317,  S04a,    60,  1,      7,     17,2,19960421,   0,-67.9993,   0.0055, 4481,    211.4,   1.0112,  34.6932,2,-999.0000,9,   -999.0,9,  -999.00,9,  -999.00,9,  -999.00,9,  -999.00,9, -999.000,9, -999.000,9, -999.000,9, -999.000,9,   -999.0,9, -999.000,9, -999.000,-999.0000,9,-999.0000,  -999.00,9,  -999.00, -999.000,9, -999.000
  06AQ19960317,  S04a,    60,  1,      8,     16,2,19960421,   0,-67.9993,   0.0055, 4481,    211.8,   1.0103,  34.6925,2,-999.0000,9,   -999.0,9,    98.78,2,    33.63,2,  -999.00,9,     2.29,2, -999.000,9, -999.000,9, -999.000,9, -999.000,9,   -999.0,9, -999.000,9, -999.000,-999.0000,9,-999.0000,  -999.00,9,  -999.00, -999.000,9, -999.000
  06AQ19960317,  S04a,    60,  1,      9,     15,2,19960421,   0,-67.9993,   0.0055, 4481,    211.9,   1.0097,  34.6921,2,  34.6922,2,    190.5,2,    98.62,2,    33.25,2,  -999.00,9,     2.29,2, -999.000,9, -999.000,9, -999.000,9, -999.000,9,   2257.4,2, -999.000,9, -999.000,-999.0000,9,-999.0000,  -999.00,9,  -999.00, -999.000,9, -999.000
  06AQ19960317,  S04a,    60,  1,      6,     18,2,19960421,   0,-67.9993,   0.0055, 4481,    251.0,   0.9939,  34.6955,2,  34.6963,2,    191.9,2,    99.60,2,    33.09,2,  -999.00,9,     2.28,2, -999.000,9, -999.000,9, -999.000,9, -999.000,9,   2259.7,2, -999.000,9, -999.000,-999.0000,9,-999.0000,  -999.00,9,  -999.00, -999.000,9, -999.000
  06AQ19960317,  S04a,    60,  1,      5,     19,2,19960421,   0,-67.9993,   0.0055, 4481,    301.1,   0.9446,  34.6976,2,  34.6966,2,    194.2,2,   100.99,2,    33.14,2,  -999.00,9,     2.27,2, -999.000,9, -999.000,9, -999.000,9, -999.000,9,   2256.1,2, -999.000,9, -999.000,-999.0000,9,-999.0000,  -999.00,9,  -999.00, -999.000,9, -999.000
  06AQ19960317,  S04a,    60,  1,      4,     20,2,19960421,   0,-67.9993,   0.0055, 4481,    352.1,   0.8988,  34.6987,2,  34.6978,2,    195.4,2,   102.72,2,    33.23,2,  -999.00,9,     2.29,2, -999.000,9, -999.000,9, -999.000,9, -999.000,9,   2257.0,2, -999.000,9, -999.000,-999.0000,9,-999.0000,  -999.00,9,  -999.00, -999.000,9, -999.000
  06AQ19960317,  S04a,    60,  1,      3,     21,2,19960421,   0,-67.9993,   0.0055, 4481,    413.0,   0.8714,  34.7004,2,  34.7011,2,    196.5,2,   104.15,2,    32.98,2,  -999.00,9,     2.26,2, -999.000,9, -999.000,9, -999.000,9, -999.000,9,   2257.4,2, -999.000,9, -999.000,-999.0000,9,-999.0000,  -999.00,9,  -999.00, -999.000,9, -999.000
  06AQ19960317,  S04a,    60,  1,      2,     22,2,19960421,   0,-67.9993,   0.0055, 4481,    499.9,   0.7890,  34.6986,2,  34.6986,2,    197.4,2,   106.85,2,    33.16,2,  -999.00,9,     2.28,2, -999.000,9, -999.000,9, -999.000,9, -999.000,9,   2258.5,2, -999.000,9, -999.000,-999.0000,9,-999.0000,  -999.00,9,  -999.00, -999.000,9, -999.000
  06AQ19960317,  S04a,    60,  1,     24,     24,2,19960421,   0,-67.9993,   0.0055, 4481,    757.2,   0.5897,  34.6926,2,-999.0000,9,    202.6,2,   112.31,2,    33.20,2,  -999.00,9,     2.23,2, -999.000,9, -999.000,9, -999.000,9, -999.000,9,   -999.0,9, -999.000,9, -999.000,-999.0000,9,-999.0000,  -999.00,9,  -999.00, -999.000,9, -999.000
  06AQ19960317,  S04a,    60,  1,      1,     23,2,19960421,   0,-67.9993,   0.0055, 4481,    757.8,   0.5899,  34.6925,2,  34.6922,2,    201.1,2,   112.55,2,    33.39,2,  -999.00,9,     2.30,2, -999.000,9, -999.000,9, -999.000,9, -999.000,9,   2260.0,2, -999.000,9, -999.000,-999.0000,9,-999.0000,  -999.00,9,  -999.00, -999.000,9, -999.000
  06AQ19960317,  S04a,    60,  4,     23,      1,2,19960421,   0,-67.9993,   0.0055, 4481,    750.5,   0.5989,  34.6910,2,  34.6938,2,    202.3,2,   112.70,2,    33.22,2,  -999.00,9,     2.23,2, -999.000,9, -999.000,9, -999.000,9, -999.000,9,   -999.0,9, -999.000,9, -999.000,-999.0000,9,-999.0000,  -999.00,9,  -999.00, -999.000,9, -999.000
  06AQ19960317,  S04a,    60,  4,     22,      2,2,19960421,   0,-67.9993,   0.0055, 4481,    850.3,   0.5439,  34.6899,2,  34.6890,2,    199.3,2,   114.74,2,    33.39,2,  -999.00,9,     2.26,2, -999.000,9, -999.000,9, -999.000,9, -999.000,9,   -999.0,9, -999.000,9, -999.000,-999.0000,9,-999.0000,  -999.00,9,  -999.00, -999.000,9, -999.000
  06AQ19960317,  S04a,    60,  4,     19,      5,2,19960421,   0,-67.9993,   0.0055, 4481,   1001.6,   0.4568,  34.6872,2,-999.0000,9,   -999.0,9,   118.55,2,    33.66,2,  -999.00,9,     2.30,2, -999.000,9, -999.000,9, -999.000,9, -999.000,9,   -999.0,9, -999.000,9, -999.000,-999.0000,9,-999.0000,  -999.00,9,  -999.00, -999.000,9, -999.000
  06AQ19960317,  S04a,    60,  4,     20,      4,2,19960421,   0,-67.9993,   0.0055, 4481,   1002.4,   0.4586,  34.6870,2,-999.0000,9,   -999.0,9,   117.81,2,    33.36,2,  -999.00,9,     2.29,2, -999.000,9, -999.000,9, -999.000,9, -999.000,9,   -999.0,9, -999.000,9, -999.000,-999.0000,9,-999.0000,  -999.00,9,  -999.00, -999.000,9, -999.000
  06AQ19960317,  S04a,    60,  4,     21,      3,2,19960421,   0,-67.9993,   0.0055, 4481,   1002.7,   0.4580,  34.6873,2,  34.6892,2,    200.9,2,   117.61,2,    33.44,2,  -999.00,9,     2.28,2, -999.000,9, -999.000,9, -999.000,9, -999.000,9,   -999.0,9, -999.000,9, -999.000,-999.0000,9,-999.0000,  -999.00,9,  -999.00, -999.000,9, -999.000
  06AQ19960317,  S04a,    60,  4,     18,      6,2,19960421,   0,-67.9993,   0.0055, 4481,   1249.6,   0.3270,  34.6816,2,  34.6812,2,    204.6,2,   121.61,2,    33.70,2,  -999.00,9,     2.30,2, -999.000,9, -999.000,9, -999.000,9, -999.000,9,   -999.0,9, -999.000,9, -999.000,-999.0000,9,-999.0000,  -999.00,9,  -999.00, -999.000,9, -999.000
  06AQ19960317,  S04a,    60,  4,     17,      7,2,19960421,   0,-67.9993,   0.0055, 4481,   1499.8,   0.2040,  34.6767,2,  34.6757,2,    207.3,2,   124.21,2,    33.78,2,  -999.00,9,     2.32,2, -999.000,9, -999.000,9, -999.000,9, -999.000,9,   -999.0,9, -999.000,9, -999.000,-999.0000,9,-999.0000,  -999.00,9,  -999.00, -999.000,9, -999.000
  06AQ19960317,  S04a,    60,  4,     16,      8,2,19960421,   0,-67.9993,   0.0055, 4481,   1751.0,   0.1080,  34.6729,2,  34.6718,2,    211.5,2,   125.04,2,    33.88,2,  -999.00,9,     2.32,2, -999.000,9, -999.000,9, -999.000,9, -999.000,9,   -999.0,9, -999.000,9, -999.000,-999.0000,9,-999.0000,  -999.00,9,  -999.00, -999.000,9, -999.000
  06AQ19960317,  S04a,    60,  4,     15,      9,2,19960421,   0,-67.9993,   0.0055, 4481,   1999.7,   0.0202,  34.6696,2,  34.6686,2,    216.9,2,   124.93,2,    33.59,2,  -999.00,9,     2.30,2, -999.000,9, -999.000,9, -999.000,9, -999.000,9,   -999.0,9, -999.000,9, -999.000,-999.0000,9,-999.0000,  -999.00,9,  -999.00, -999.000,9, -999.000
  06AQ19960317,  S04a,    60,  4,     12,     12,2,19960421,   0,-67.9993,   0.0055, 4481,   2500.5,  -0.1060,  34.6641,2,-999.0000,9,   -999.0,9,   125.45,2,    33.50,2,  -999.00,9,     2.29,2, -999.000,9, -999.000,9, -999.000,9, -999.000,9,   -999.0,9, -999.000,9, -999.000,-999.0000,9,-999.0000,  -999.00,9,  -999.00, -999.000,9, -999.000
  06AQ19960317,  S04a,    60,  4,     13,     11,2,19960421,   0,-67.9993,   0.0055, 4481,   2500.6,  -0.1055,  34.6642,2,-999.0000,9,   -999.0,9,   125.33,2,    33.49,2,  -999.00,9,     2.30,2, -999.000,9, -999.000,9, -999.000,9, -999.000,9,   -999.0,9, -999.000,9, -999.000,-999.0000,9,-999.0000,  -999.00,9,  -999.00, -999.000,9, -999.000
  06AQ19960317,  S04a,    60,  4,     14,     10,2,19960421,   0,-67.9993,   0.0055, 4481,   2500.7,  -0.1051,  34.6637,2,  34.6643,2,    224.3,2,   125.13,2,    33.34,2,  -999.00,9,     2.29,2, -999.000,9, -999.000,9, -999.000,9, -999.000,9,   -999.0,9, -999.000,9, -999.000,-999.0000,9,-999.0000,  -999.00,9,  -999.00, -999.000,9, -999.000
  06AQ19960317,  S04a,    60,  4,     11,     13,2,19960421,   0,-67.9993,   0.0055, 4481,   3000.6,  -0.1898,  34.6613,2,  34.6619,2,    229.8,2,   124.66,2,    33.29,2,  -999.00,9,     2.28,2, -999.000,9, -999.000,9, -999.000,9, -999.000,9,   -999.0,9, -999.000,9, -999.000,-999.0000,9,-999.0000,  -999.00,9,  -999.00, -999.000,9, -999.000
  06AQ19960317,  S04a,    60,  4,     10,     14,2,19960421,   0,-67.9993,   0.0055, 4481,   3499.0,  -0.2428,  34.6588,2,  34.6575,2,    234.7,2,   123.19,2,    33.11,2,  -999.00,9,     2.27,2, -999.000,9, -999.000,9, -999.000,9, -999.000,9,   -999.0,9, -999.000,9, -999.000,-999.0000,9,-999.0000,  -999.00,9,  -999.00, -999.000,9, -999.000
  06AQ19960317,  S04a,    60,  4,      9,     15,2,19960421,   0,-67.9993,   0.0055, 4481,   3999.5,  -0.2710,  34.6561,2,  34.6557,2,   -999.0,9,   125.17,2,    33.03,2,  -999.00,9,     2.27,2,    0.549,2,    0.261,2,    0.024,2,    0.965,2,   -999.0,9, -999.000,9, -999.000,-999.0000,9,-999.0000,  -999.00,9,  -999.00, -999.000,9, -999.000
  06AQ19960317,  S04a,    60,  4,      8,     16,2,19960421,   0,-67.9993,   0.0055, 4481,   4198.7,  -0.2746,  34.6557,2,  34.6537,2,    238.7,2,   125.05,2,    33.00,2,  -999.00,9,     2.26,2, -999.000,9, -999.000,9, -999.000,9, -999.000,9,   -999.0,9, -999.000,9, -999.000,-999.0000,9,-999.0000,  -999.00,9,  -999.00, -999.000,9, -999.000
  06AQ19960317,  S04a,    60,  4,      7,     17,2,19960421,   0,-67.9993,   0.0055, 4481,   4398.4,  -0.2777,  34.6556,2,  34.6536,2,    239.0,2,   127.12,2,    33.03,2,  -999.00,9,     2.27,2, -999.000,9, -999.000,9, -999.000,9, -999.000,9,   -999.0,9, -999.000,9, -999.000,-999.0000,9,-999.0000,  -999.00,9,  -999.00, -999.000,9, -999.000
  06AQ19960317,  S04a,    60,  4,      6,     18,2,19960421,   0,-67.9993,   0.0055, 4481,   4458.0,  -0.2792,  34.6555,2,  34.6528,2,    239.2,2,   127.81,2,    33.16,2,  -999.00,9,     2.27,2, -999.000,9, -999.000,9, -999.000,9, -999.000,9,   -999.0,9, -999.000,9, -999.000,-999.0000,9,-999.0000,  -999.00,9,  -999.00, -999.000,9, -999.000
  06AQ19960317,  S04a,    60,  4,      5,     19,2,19960421,   0,-67.9993,   0.0055, 4481,   4458.2,  -0.2793,  34.6551,2,-999.0000,9,   -999.0,9,   127.88,2,    33.13,2,  -999.00,9,     2.27,2, -999.000,9, -999.000,9, -999.000,9, -999.000,9,   -999.0,9, -999.000,9, -999.000,-999.0000,9,-999.0000,  -999.00,9,  -999.00, -999.000,9, -999.000
  06AQ19960317,  S04a,    60,  4,      4,     20,2,19960421,   0,-67.9993,   0.0055, 4481,   4458.2,  -0.2793,  34.6554,2,-999.0000,9,   -999.0,9,   127.91,2,    33.10,2,  -999.00,9,     2.26,2,    0.511,2,    0.243,2,    0.023,2,    0.917,2,   -999.0,9, -999.000,9, -999.000,-999.0000,9,-999.0000,  -999.00,9,  -999.00, -999.000,9, -999.000
  06AQ19960317,  S04a,    60,  4,      3,     21,2,19960421,   0,-67.9993,   0.0055, 4481,   4507.5,  -0.2810,  34.6552,2,  34.6524,2,    239.2,2,   128.02,2,    33.12,2,  -999.00,9,     2.27,2,    0.501,2,    0.237,2,    0.023,2,    0.909,2,   -999.0,9, -999.000,9, -999.000,-999.0000,9,-999.0000,  -999.00,9,  -999.00, -999.000,9, -999.000
  06AQ19960317,  S04a,    60,  4,     24,     24,2,19960421,   0,-67.9993,   0.0055, 4481,   4558.9,  -0.2929,  34.6550,2,-999.0000,9,   -999.0,9,   131.49,2,    33.28,2,  -999.00,9,     2.28,2, -999.000,9, -999.000,9, -999.000,9, -999.000,9,   -999.0,9, -999.000,9, -999.000,-999.0000,9,-999.0000,  -999.00,9,  -999.00, -999.000,9, -999.000
  06AQ19960317,  S04a,    60,  4,      1,     23,2,19960421,   0,-67.9993,   0.0055, 4481,   4559.0,  -0.2924,  34.6546,2,-999.0000,9,   -999.0,9,   130.74,2,    33.16,2,  -999.00,9,     2.27,2, -999.000,9, -999.000,9, -999.000,9, -999.000,9,   -999.0,9, -999.000,9, -999.000,-999.0000,9,-999.0000,  -999.00,9,  -999.00, -999.000,9, -999.000
  06AQ19960317,  S04a,    60,  4,      2,     22,2,19960421,   0,-67.9993,   0.0055, 4481,   4559.2,  -0.2919,  34.6551,2,  34.6524,2,    239.1,2,   130.36,2,    33.18,2,  -999.00,9,     2.26,2,    0.458,2,    0.217,2,    0.020,2,    0.865,2,   -999.0,9, -999.000,9, -999.000,-999.0000,9,-999.0000,  -999.00,9,  -999.00, -999.000,9, -999.000