BOTTLE,20150129PRINUNIVRMK
EXPOCODE,SECT_ID,STNNBR,CASTNO,SAMPNO,BTLNBR,BTLNBR_FLAG_W,DATE,TIME,LATITUDE,LONGITUDE,DEPTH,CTDPRS,CTDTMP,CTDSAL,CTDSAL_FLAG_W,SALNTY,SALNTY_FLAG_W,OXYGEN,OXYGEN_FLAG_W,SILCAT,SILCAT_FLAG_W,NITRAT,NITRAT_FLAG_W,NITRIT,NITRIT_FLAG_W,PHSPHT,PHSPHT_FLAG_W,CFC-11,CFC-11_FLAG_W,CFC-12,CFC-12_FLAG_W,CFC113,CFC113_FLAG_W,CCL4,CCL4_FLAG_W,TCARBN,TCARBN_FLAG_W,TRITUM,TRITUM_FLAG_W,TRITER,HELIUM,HELIUM_FLAG_W,HELIER,DELHE3,DELHE3_FLAG_W,DELHER,NEON,NEON_FLAG_W,NEONER
,,,,,,,,,,,METERS,DBAR,ITS-90,PSS-78,,PSS-78,,UMOL/KG,,UMOL/KG,,UMOL/KG,,UMOL/KG,,UMOL/KG,,PMOL/KG,,PMOL/KG,,PMOL/KG,,PMOL/KG,,UMOL/KG,,TU,,TU,NMOL/KG,,NMOL/KG,PERCNT,,PERCNT,NMOL/KG,,NMOL/KG
  06AQ19960317,  S04a,    72,  1,     23,      1,2,19960426,   0,-70.3670, -13.5862, 2981,     19.7,  -1.8347,  34.1574,2,  34.1595,2,    331.1,2,    61.05,2,    25.85,2,     0.15,2,     1.88,2, -999.000,9, -999.000,9, -999.000,9, -999.000,9,   2187.3,2, -999.000,9, -999.000,-999.0000,9,-999.0000,  -999.00,9,  -999.00, -999.000,9, -999.000
  06AQ19960317,  S04a,    72,  1,     22,      2,2,19960426,   0,-70.3670, -13.5862, 2981,     39.7,  -1.8293,  34.1616,2,  34.1864,2,    324.9,2,    62.28,2,    26.31,2,     0.15,2,     1.91,2, -999.000,9, -999.000,9, -999.000,9, -999.000,9,   2188.6,2, -999.000,9, -999.000,-999.0000,9,-999.0000,  -999.00,9,  -999.00, -999.000,9, -999.000
  06AQ19960317,  S04a,    72,  1,     21,      3,2,19960426,   0,-70.3670, -13.5862, 2981,     78.8,  -1.3069,  34.3385,2,  34.3751,2,    282.1,2,    71.73,2,    30.17,2,     0.15,2,     2.13,2, -999.000,9, -999.000,9, -999.000,9, -999.000,9,   2218.7,2, -999.000,9, -999.000,-999.0000,9,-999.0000,  -999.00,9,  -999.00, -999.000,9, -999.000
  06AQ19960317,  S04a,    72,  1,     20,      4,2,19960426,   0,-70.3670, -13.5862, 2981,     78.8,  -1.2478,  34.3582,2,  34.3642,2,   -999.0,9,    72.09,2,    30.18,2,     0.16,2,     2.13,2, -999.000,9, -999.000,9, -999.000,9, -999.000,9,   -999.0,9, -999.000,9, -999.000,-999.0000,9,-999.0000,  -999.00,9,  -999.00, -999.000,9, -999.000
  06AQ19960317,  S04a,    72,  1,     19,      5,2,19960426,   0,-70.3670, -13.5862, 2981,    100.2,  -0.9689,  34.4531,2,  34.4722,2,    257.0,2,    77.83,2,    31.46,2,     0.11,2,     2.20,2, -999.000,9, -999.000,9, -999.000,9, -999.000,9,   2235.3,2, -999.000,9, -999.000,-999.0000,9,-999.0000,  -999.00,9,  -999.00, -999.000,9, -999.000
  06AQ19960317,  S04a,    72,  1,     18,      6,2,19960426,   0,-70.3670, -13.5862, 2981,    149.7,   0.1679,  34.6138,2,  34.6072,2,    215.4,2,    89.68,2,    33.00,2,     0.08,2,     2.27,2, -999.000,9, -999.000,9, -999.000,9, -999.000,9,   2252.4,2, -999.000,9, -999.000,-999.0000,9,-999.0000,  -999.00,9,  -999.00, -999.000,9, -999.000
  06AQ19960317,  S04a,    72,  1,     17,      7,2,19960426,   0,-70.3670, -13.5862, 2981,    199.9,   0.6530,  34.6588,2,  34.6570,2,    201.8,2,    94.79,2,    32.92,2,     0.05,2,     2.27,2, -999.000,9, -999.000,9, -999.000,9, -999.000,9,   2257.0,2, -999.000,9, -999.000,-999.0000,9,-999.0000,  -999.00,9,  -999.00, -999.000,9, -999.000
  06AQ19960317,  S04a,    72,  1,     16,      8,2,19960426,   0,-70.3670, -13.5862, 2981,    300.3,   0.7961,  34.6800,2,  34.6796,2,    200.7,2,    98.82,2,    32.66,2,     0.02,2,     2.26,2, -999.000,9, -999.000,9, -999.000,9, -999.000,9,   2258.7,2, -999.000,9, -999.000,-999.0000,9,-999.0000,  -999.00,9,  -999.00, -999.000,9, -999.000
  06AQ19960317,  S04a,    72,  1,     15,      9,2,19960426,   0,-70.3670, -13.5862, 2981,    348.9,   0.8201,  34.6866,2,  34.6822,2,    201.4,2,   100.44,2,    32.90,2,     0.03,2,     2.25,2, -999.000,9, -999.000,9, -999.000,9, -999.000,9,   2255.4,2, -999.000,9, -999.000,-999.0000,9,-999.0000,  -999.00,9,  -999.00, -999.000,9, -999.000
  06AQ19960317,  S04a,    72,  1,     14,     10,2,19960426,   0,-70.3670, -13.5862, 2981,    501.2,   0.7185,  34.6886,2,  34.6882,2,    205.0,2,   104.78,2,    32.65,2,     0.03,2,     2.25,2, -999.000,9, -999.000,9, -999.000,9, -999.000,9,   2259.0,2, -999.000,9, -999.000,-999.0000,9,-999.0000,  -999.00,9,  -999.00, -999.000,9, -999.000
  06AQ19960317,  S04a,    72,  1,     13,     11,2,19960426,   0,-70.3670, -13.5862, 2981,    599.1,   0.6308,  34.6872,2,  34.6882,2,    206.2,2,   108.43,2,    32.71,2,     0.02,2,     2.27,2, -999.000,9, -999.000,9, -999.000,9, -999.000,9,   -999.0,9, -999.000,9, -999.000,-999.0000,9,-999.0000,  -999.00,9,  -999.00, -999.000,9, -999.000
  06AQ19960317,  S04a,    72,  1,     12,     12,2,19960426,   0,-70.3670, -13.5862, 2981,    749.6,   0.5357,  34.6881,2,  34.6881,2,    204.7,2,   111.79,2,    32.99,2,     0.02,2,     2.27,2, -999.000,9, -999.000,9, -999.000,9, -999.000,9,   2260.9,2, -999.000,9, -999.000,-999.0000,9,-999.0000,  -999.00,9,  -999.00, -999.000,9, -999.000
  06AQ19960317,  S04a,    72,  1,     11,     13,2,19960426,   0,-70.3670, -13.5862, 2981,   1000.6,   0.3626,  34.6808,2,  34.6805,2,    208.0,2,   116.23,2,    33.14,2,     0.03,2,     2.29,2, -999.000,9, -999.000,9, -999.000,9, -999.000,9,   2262.4,2, -999.000,9, -999.000,-999.0000,9,-999.0000,  -999.00,9,  -999.00, -999.000,9, -999.000
  06AQ19960317,  S04a,    72,  1,     10,     14,2,19960426,   0,-70.3670, -13.5862, 2981,   1249.2,   0.2410,  34.6765,2,  34.6763,2,   -999.0,9,   120.06,2,    33.20,2,     0.01,2,     2.30,2, -999.000,9, -999.000,9, -999.000,9, -999.000,9,   2263.7,2, -999.000,9, -999.000,-999.0000,9,-999.0000,  -999.00,9,  -999.00, -999.000,9, -999.000
  06AQ19960317,  S04a,    72,  1,      9,     15,2,19960426,   0,-70.3670, -13.5862, 2981,   1499.8,   0.1471,  34.6733,2,  34.6744,2,    213.7,2,   121.83,2,    33.57,2,     0.01,2,     2.31,2, -999.000,9, -999.000,9, -999.000,9, -999.000,9,   2261.7,2, -999.000,9, -999.000,-999.0000,9,-999.0000,  -999.00,9,  -999.00, -999.000,9, -999.000
  06AQ19960317,  S04a,    72,  1,      8,     16,2,19960426,   0,-70.3670, -13.5862, 2981,   1750.5,   0.0541,  34.6705,2,  34.6681,2,   -999.0,9,   122.81,2,    33.23,2,     0.02,2,     2.30,2, -999.000,9, -999.000,9, -999.000,9, -999.000,9,   -999.0,9, -999.000,9, -999.000,-999.0000,9,-999.0000,  -999.00,9,  -999.00, -999.000,9, -999.000
  06AQ19960317,  S04a,    72,  1,      7,     17,2,19960426,   0,-70.3670, -13.5862, 2981,   1999.8,  -0.0088,  34.6669,2,  34.6690,2,    219.6,2,   122.89,2,    33.15,2,     0.01,2,     2.30,2, -999.000,9, -999.000,9, -999.000,9, -999.000,9,   2258.2,2, -999.000,9, -999.000,-999.0000,9,-999.0000,  -999.00,9,  -999.00, -999.000,9, -999.000
  06AQ19960317,  S04a,    72,  1,      6,     18,2,19960426,   0,-70.3670, -13.5862, 2981,   2250.5,  -0.0596,  34.6649,2,  34.6650,2,   -999.0,9,   123.02,2,    33.24,2,     0.01,2,     2.30,2, -999.000,9, -999.000,9, -999.000,9, -999.000,9,   -999.0,9, -999.000,9, -999.000,-999.0000,9,-999.0000,  -999.00,9,  -999.00, -999.000,9, -999.000
  06AQ19960317,  S04a,    72,  1,      5,     19,2,19960426,   0,-70.3670, -13.5862, 2981,   2492.6,  -0.0838,  34.6645,2,  34.6633,2,   -999.0,9,   123.33,2,    33.29,2,     0.02,2,     2.30,2,    0.467,2,    0.222,2,    0.023,2,    0.811,2,   2255.6,2,    0.068,2, -999.000,   1.8530,2,   0.0050,     6.22,2,     0.22,    8.123,2,    0.018
  06AQ19960317,  S04a,    72,  1,      4,     20,2,19960426,   0,-70.3670, -13.5862, 2981,   2701.6,  -0.0961,  34.6638,2,  34.6633,2,    225.2,2,   122.74,2,    32.97,2,     0.01,2,     2.29,2,    0.526,2,    0.243,2,    0.022,2,    0.836,2,   -999.0,9,    0.027,2, -999.000,   1.8510,2,   0.0050,     5.97,2,     0.22,    8.114,2,    0.018
  06AQ19960317,  S04a,    72,  1,      3,     21,2,19960426,   0,-70.3670, -13.5862, 2981,   2913.2,  -0.0938,  34.6641,2,  34.6603,2,    226.0,2,   122.85,2,    33.10,2,     0.01,2,     2.29,2,    0.541,2,    0.252,2,    0.025,2,    0.856,2,   2256.2,2,    0.024,2, -999.000,   1.8390,2,   0.0050,     6.42,2,     0.22,    8.106,2,    0.018
  06AQ19960317,  S04a,    72,  1,      2,     22,2,19960426,   0,-70.3670, -13.5862, 2981,   2961.9,  -0.0991,  34.6637,2,  34.6624,2,    227.5,2,   122.88,2,    33.13,2,     0.01,2,     2.29,2,    0.524,2,    0.246,2,    0.023,2,    0.860,2,   2257.5,2,    0.033,2, -999.000,   1.8590,2,   0.0050,     6.32,2,     0.22,    8.174,2,    0.018
  06AQ19960317,  S04a,    72,  1,     24,     24,2,19960426,   0,-70.3670, -13.5862, 2981,   3014.3,  -0.1036,  34.6622,2,  34.6614,2,    229.7,2,   122.42,2,    32.92,2,     0.01,2,     2.29,2,    0.535,2,    0.250,2,    0.022,2,    0.871,2,   2256.5,2,    0.044,2, -999.000,   1.8690,2,   0.0050,     6.01,2,     0.22,    8.189,2,    0.018
  06AQ19960317,  S04a,    72,  1,      1,     23,2,19960426,   0,-70.3670, -13.5862, 2981,   3014.5,  -0.1043,  34.6634,2,-999.0000,9,   -999.0,9,   122.65,2,    33.01,2,     0.01,2,     2.28,2, -999.000,9, -999.000,9, -999.000,9, -999.000,9,   -999.0,9, -999.000,9, -999.000,-999.0000,9,-999.0000,  -999.00,9,  -999.00, -999.000,9, -999.000
  06AQ19960317,  S04a,    73,  1,     23,      1,2,19960426,   0,-70.3442, -13.6237, 3830,     20.8,  -1.8522,  34.1780,2,  34.1813,2,    332.8,2,    60.36,2,    25.59,2,     0.14,2,     1.88,2, -999.000,9, -999.000,9, -999.000,9, -999.000,9,   2189.3,2, -999.000,9, -999.000,-999.0000,9,-999.0000,  -999.00,9,  -999.00, -999.000,9, -999.000
  06AQ19960317,  S04a,    73,  1,     22,      2,2,19960426,   0,-70.3442, -13.6237, 3830,     40.6,  -1.8499,  34.1781,2,  34.1819,2,    332.9,2,    60.59,2,    25.69,2,     0.15,2,     1.88,2, -999.000,9, -999.000,9, -999.000,9, -999.000,9,   2188.7,2, -999.000,9, -999.000,-999.0000,9,-999.0000,  -999.00,9,  -999.00, -999.000,9, -999.000
  06AQ19960317,  S04a,    73,  1,     21,      3,2,19960426,   0,-70.3442, -13.6237, 3830,     80.4,  -1.4091,  34.3556,2,  34.3662,2,    291.0,2,    70.56,2,    29.66,2,     0.15,2,     2.10,2, -999.000,9, -999.000,9, -999.000,9, -999.000,9,   2218.1,2, -999.000,9, -999.000,-999.0000,9,-999.0000,  -999.00,9,  -999.00, -999.000,9, -999.000
  06AQ19960317,  S04a,    73,  1,     20,      4,2,19960426,   0,-70.3442, -13.6237, 3830,     80.4,  -1.4160,  34.3565,2,-999.0000,9,   -999.0,9,    70.32,2,    29.70,2,     0.15,2,     2.12,2, -999.000,9, -999.000,9, -999.000,9, -999.000,9,   -999.0,9, -999.000,9, -999.000,-999.0000,9,-999.0000,  -999.00,9,  -999.00, -999.000,9, -999.000
  06AQ19960317,  S04a,    73,  1,     19,      5,2,19960426,   0,-70.3442, -13.6237, 3830,     99.1,  -0.9567,  34.4599,2,  34.4733,2,    258.9,2,    76.87,2,    31.46,2,     0.09,2,     2.20,2, -999.000,9, -999.000,9, -999.000,9, -999.000,9,   2235.1,2, -999.000,9, -999.000,-999.0000,9,-999.0000,  -999.00,9,  -999.00, -999.000,9, -999.000
  06AQ19960317,  S04a,    73,  1,     18,      6,2,19960426,   0,-70.3442, -13.6237, 3830,    151.8,  -0.3277,  34.5505,2,  34.5583,2,    236.0,2,    83.22,2,    32.22,2,     0.05,2,     2.24,2, -999.000,9, -999.000,9, -999.000,9, -999.000,9,   2243.9,2, -999.000,9, -999.000,-999.0000,9,-999.0000,  -999.00,9,  -999.00, -999.000,9, -999.000
  06AQ19960317,  S04a,    73,  1,     17,      7,2,19960426,   0,-70.3442, -13.6237, 3830,    200.2,   0.2668,  34.6108,2,  34.6195,2,    216.0,2,    90.02,2,    32.60,2,     0.03,2,     2.25,2, -999.000,9, -999.000,9, -999.000,9, -999.000,9,   2252.0,2, -999.000,9, -999.000,-999.0000,9,-999.0000,  -999.00,9,  -999.00, -999.000,9, -999.000
  06AQ19960317,  S04a,    73,  1,     16,      8,2,19960426,   0,-70.3442, -13.6237, 3830,    250.4,   0.5424,  34.6464,2,  34.6449,2,    208.5,2,    93.20,2,    32.69,2,     0.03,2,     2.28,2, -999.000,9, -999.000,9, -999.000,9, -999.000,9,   2253.7,2, -999.000,9, -999.000,-999.0000,9,-999.0000,  -999.00,9,  -999.00, -999.000,9, -999.000
  06AQ19960317,  S04a,    73,  1,     15,      9,2,19960426,   0,-70.3442, -13.6237, 3830,    350.2,   0.7848,  34.6815,2,  34.6805,2,    200.7,2,    99.42,2,    32.56,2,     0.02,2,     2.25,2, -999.000,9, -999.000,9, -999.000,9, -999.000,9,   2256.8,2, -999.000,9, -999.000,-999.0000,9,-999.0000,  -999.00,9,  -999.00, -999.000,9, -999.000
  06AQ19960317,  S04a,    73,  1,     14,     10,2,19960426,   0,-70.3442, -13.6237, 3830,    401.1,   0.7678,  34.6843,2,  34.6837,2,    201.4,2,   101.35,2,    32.65,2,     0.02,2,     2.25,2, -999.000,9, -999.000,9, -999.000,9, -999.000,9,   2256.7,2, -999.000,9, -999.000,-999.0000,9,-999.0000,  -999.00,9,  -999.00, -999.000,9, -999.000
  06AQ19960317,  S04a,    73,  1,     13,     11,2,19960426,   0,-70.3442, -13.6237, 3830,    500.0,   0.7167,  34.6872,2,  34.6879,2,    202.3,2,   104.82,2,    32.61,2,     0.01,2,     2.24,2, -999.000,9, -999.000,9, -999.000,9, -999.000,9,   2259.4,2, -999.000,9, -999.000,-999.0000,9,-999.0000,  -999.00,9,  -999.00, -999.000,9, -999.000
  06AQ19960317,  S04a,    73,  1,     12,     12,2,19960426,   0,-70.3442, -13.6237, 3830,    700.2,   0.6105,  34.6881,2,  34.6920,2,    202.8,2,   110.53,2,    32.67,2,     0.01,2,     2.26,2, -999.000,9, -999.000,9, -999.000,9, -999.000,9,   2260.0,2, -999.000,9, -999.000,-999.0000,9,-999.0000,  -999.00,9,  -999.00, -999.000,9, -999.000
  06AQ19960317,  S04a,    73,  1,     11,     13,2,19960426,   0,-70.3442, -13.6237, 3830,   1000.5,   0.3864,  34.6798,2,  34.6806,2,    207.9,2,   115.46,2,    33.03,2,     0.00,2,     2.28,2, -999.000,9, -999.000,9, -999.000,9, -999.000,9,   2261.4,2, -999.000,9, -999.000,-999.0000,9,-999.0000,  -999.00,9,  -999.00, -999.000,9, -999.000
  06AQ19960317,  S04a,    73,  1,     10,     14,2,19960426,   0,-70.3442, -13.6237, 3830,   1250.5,   0.2551,  34.6757,2,  34.6773,2,    210.0,2,   118.82,2,    33.10,2,     0.00,2,     2.28,2, -999.000,9, -999.000,9, -999.000,9, -999.000,9,   2261.2,2, -999.000,9, -999.000,-999.0000,9,-999.0000,  -999.00,9,  -999.00, -999.000,9, -999.000
  06AQ19960317,  S04a,    73,  1,      9,     15,2,19960426,   0,-70.3442, -13.6237, 3830,   1499.7,   0.1447,  34.6729,2,  34.6745,2,    212.9,2,   121.18,2,    33.12,2,     0.01,2,     2.29,2, -999.000,9, -999.000,9, -999.000,9, -999.000,9,   2260.6,2, -999.000,9, -999.000,-999.0000,9,-999.0000,  -999.00,9,  -999.00, -999.000,9, -999.000
  06AQ19960317,  S04a,    73,  1,      8,     16,2,19960426,   0,-70.3442, -13.6237, 3830,   2000.3,  -0.0106,  34.6663,2,  34.6674,2,    220.5,2,   121.83,2,    33.06,2,     0.00,2,     2.28,2, -999.000,9, -999.000,9, -999.000,9, -999.000,9,   2258.9,2, -999.000,9, -999.000,-999.0000,9,-999.0000,  -999.00,9,  -999.00, -999.000,9, -999.000
  06AQ19960317,  S04a,    73,  1,      7,     17,2,19960426,   0,-70.3442, -13.6237, 3830,   2499.9,  -0.1272,  34.6629,2,  34.6631,2,    227.6,2,   122.61,2,    32.83,2,     0.00,2,     2.26,2, -999.000,9, -999.000,9, -999.000,9, -999.000,9,   2256.9,2, -999.000,9, -999.000,-999.0000,9,-999.0000,  -999.00,9,  -999.00, -999.000,9, -999.000
  06AQ19960317,  S04a,    73,  1,      6,     18,2,19960426,   0,-70.3442, -13.6237, 3830,   2999.8,  -0.1457,  34.6608,2,  34.6615,2,    229.8,2,   122.48,2,    32.82,2,     0.01,2,     2.27,2,    0.592,2,    0.275,2,    0.026,2,    0.936,2,   2256.0,2,    0.032,2, -999.000,-999.0000,9,-999.0000,  -999.00,9,  -999.00, -999.000,9, -999.000
  06AQ19960317,  S04a,    73,  1,      5,     19,2,19960426,   0,-70.3442, -13.6237, 3830,   3250.2,  -0.1685,  34.6604,2,  34.6609,2,    231.6,2,   122.11,2,    33.10,2,     0.00,2,     2.28,2,    0.632,2,    0.293,2,    0.029,2,    0.989,2,   2256.9,2,    0.078,2, -999.000,   1.8800,2,   0.0050,     5.74,2,     0.22,    8.224,2,    0.018
  06AQ19960317,  S04a,    73,  1,      4,     20,2,19960426,   0,-70.3442, -13.6237, 3830,   3499.4,  -0.1691,  34.6605,2,  34.6602,2,    232.5,2,   123.05,2,    33.05,2,     0.00,2,     2.29,2,    0.625,2,    0.291,2,    0.029,2,    0.996,2,   2254.1,2,    0.134,2, -999.000,   1.8790,2,   0.0050,     6.40,2,     0.22,    8.215,2,    0.018
  06AQ19960317,  S04a,    73,  1,      3,     21,2,19960426,   0,-70.3442, -13.6237, 3830,   3630.3,  -0.1711,  34.6600,2,  34.6598,2,    232.9,2,   121.96,2,    32.77,2,     0.01,2,     2.26,2,    0.625,2,    0.293,2,    0.030,2,    1.003,2,   2254.6,2, -999.000,9, -999.000,   1.8770,2,   0.0050,     5.62,2,     0.22,    8.216,2,    0.018
  06AQ19960317,  S04a,    73,  1,      2,     22,2,19960426,   0,-70.3442, -13.6237, 3830,   3679.8,  -0.1686,  34.6598,2,  34.6590,2,    233.2,2,   121.64,2,    32.91,2,     0.00,2,     2.26,2,    0.624,2,    0.291,2,    0.029,2,    1.018,2,   2253.2,2,    0.026,2, -999.000,   1.8690,2,   0.0050,     5.71,2,     0.22,    8.219,2,    0.018
  06AQ19960317,  S04a,    73,  1,      1,     23,2,19960426,   0,-70.3442, -13.6237, 3830,   3731.6,  -0.1683,  34.6599,2,  34.6610,2,    233.5,2,   122.34,2,    32.94,2,     0.00,2,     2.26,2,    0.631,2,    0.294,2,    0.030,2,    1.026,2,   -999.0,9,    0.056,2, -999.000,   1.8680,2,   0.0050,     5.86,2,     0.22,    8.214,2,    0.018
  06AQ19960317,  S04a,    73,  1,     24,     24,2,19960426,   0,-70.3442, -13.6237, 3830,   3778.4,  -0.1765,  34.6592,2,  34.6586,2,    233.8,2,   122.44,2,    32.68,2,     0.00,2,     2.26,2,    0.619,2,    0.290,2,    0.029,2,    1.016,2,   2254.7,2,    0.067,2, -999.000,   1.8720,2,   0.0050,     5.64,2,     0.22,    8.158,2,    0.018