BOTTLE,20150129PRINUNIVRMK
EXPOCODE,SECT_ID,STNNBR,CASTNO,SAMPNO,BTLNBR,BTLNBR_FLAG_W,DATE,TIME,LATITUDE,LONGITUDE,DEPTH,CTDPRS,CTDTMP,CTDSAL,CTDSAL_FLAG_W,SALNTY,SALNTY_FLAG_W,OXYGEN,OXYGEN_FLAG_W,SILCAT,SILCAT_FLAG_W,NITRAT,NITRAT_FLAG_W,NITRIT,NITRIT_FLAG_W,PHSPHT,PHSPHT_FLAG_W,CFC-11,CFC-11_FLAG_W,CFC-12,CFC-12_FLAG_W,CFC113,CFC113_FLAG_W,CCL4,CCL4_FLAG_W,TCARBN,TCARBN_FLAG_W,TRITUM,TRITUM_FLAG_W,TRITER,HELIUM,HELIUM_FLAG_W,HELIER,DELHE3,DELHE3_FLAG_W,DELHER,NEON,NEON_FLAG_W,NEONER
,,,,,,,,,,,METERS,DBAR,ITS-90,PSS-78,,PSS-78,,UMOL/KG,,UMOL/KG,,UMOL/KG,,UMOL/KG,,UMOL/KG,,PMOL/KG,,PMOL/KG,,PMOL/KG,,PMOL/KG,,UMOL/KG,,TU,,TU,NMOL/KG,,NMOL/KG,PERCNT,,PERCNT,NMOL/KG,,NMOL/KG
  06AQ19960317,  S04a,    32,  1,     24,      1,2,19960405,   0,-59.4500,   3.1817, 5032,     20.7,   0.0806,  33.9797,2,  33.9827,2,    335.4,2,    55.45,2,    25.32,2,  -999.00,9,     1.76,2, -999.000,9, -999.000,9, -999.000,9, -999.000,9,   2176.5,2, -999.000,9, -999.000,-999.0000,9,-999.0000,  -999.00,9,  -999.00, -999.000,9, -999.000
  06AQ19960317,  S04a,    32,  1,     23,      2,2,19960405,   0,-59.4500,   3.1817, 5032,     40.1,   0.0804,  33.9803,2,  33.9811,2,    335.2,2,    56.63,2,    25.27,2,  -999.00,9,     1.76,2, -999.000,9, -999.000,9, -999.000,9, -999.000,9,   2175.6,2, -999.000,9, -999.000,-999.0000,9,-999.0000,  -999.00,9,  -999.00, -999.000,9, -999.000
  06AQ19960317,  S04a,    32,  1,     22,      3,2,19960405,   0,-59.4500,   3.1817, 5032,     81.6,  -0.7143,  34.1613,2,  34.1594,2,    320.6,2,    63.72,2,    27.30,2,  -999.00,9,     1.91,2, -999.000,9, -999.000,9, -999.000,9, -999.000,9,   2195.4,2, -999.000,9, -999.000,-999.0000,9,-999.0000,  -999.00,9,  -999.00, -999.000,9, -999.000
  06AQ19960317,  S04a,    32,  1,     21,      4,2,19960405,   0,-59.4500,   3.1817, 5032,    110.3,  -1.6208,  34.3643,2,  34.3639,2,    300.7,2,    71.81,2,    29.92,2,  -999.00,9,     2.08,2, -999.000,9, -999.000,9, -999.000,9, -999.000,9,   2221.8,2, -999.000,9, -999.000,-999.0000,9,-999.0000,  -999.00,9,  -999.00, -999.000,9, -999.000
  06AQ19960317,  S04a,    32,  1,     20,      5,2,19960405,   0,-59.4500,   3.1817, 5032,    110.3,  -1.6155,  34.3643,2,  34.3662,2,    301.3,2,    71.41,2,    30.05,2,  -999.00,9,     2.06,2, -999.000,9, -999.000,9, -999.000,9, -999.000,9,   -999.0,9, -999.000,9, -999.000,-999.0000,9,-999.0000,  -999.00,9,  -999.00, -999.000,9, -999.000
  06AQ19960317,  S04a,    32,  1,     19,      6,2,19960405,   0,-59.4500,   3.1817, 5032,    150.6,  -0.4705,  34.5263,2,  34.5373,2,    237.5,2,    92.98,2,    32.70,2,  -999.00,9,     2.24,2, -999.000,9, -999.000,9, -999.000,9, -999.000,9,   2250.2,2, -999.000,9, -999.000,-999.0000,9,-999.0000,  -999.00,9,  -999.00, -999.000,9, -999.000
  06AQ19960317,  S04a,    32,  1,     18,      7,2,19960405,   0,-59.4500,   3.1817, 5032,    201.5,   0.2775,  34.6378,2,  34.6417,2,    201.1,2,   108.13,2,    34.11,2,  -999.00,9,     2.32,2, -999.000,9, -999.000,9, -999.000,9, -999.000,9,   2266.5,2, -999.000,9, -999.000,-999.0000,9,-999.0000,  -999.00,9,  -999.00, -999.000,9, -999.000
  06AQ19960317,  S04a,    32,  1,     17,      8,2,19960405,   0,-59.4500,   3.1817, 5032,    249.5,   0.4695,  34.6727,2,  34.6747,2,    190.7,2,   115.08,2,    34.32,2,  -999.00,9,     2.36,2, -999.000,9, -999.000,9, -999.000,9, -999.000,9,   2268.0,2, -999.000,9, -999.000,-999.0000,9,-999.0000,  -999.00,9,  -999.00, -999.000,9, -999.000
  06AQ19960317,  S04a,    32,  1,     16,      9,2,19960405,   0,-59.4500,   3.1817, 5032,    300.6,   0.4720,  34.6796,2,  34.6813,2,    188.5,2,   118.26,2,    34.43,2,  -999.00,9,     2.37,2, -999.000,9, -999.000,9, -999.000,9, -999.000,9,   2271.9,2, -999.000,9, -999.000,-999.0000,9,-999.0000,  -999.00,9,  -999.00, -999.000,9, -999.000
  06AQ19960317,  S04a,    32,  1,     15,     10,2,19960405,   0,-59.4500,   3.1817, 5032,    340.9,   0.4681,  34.6831,2,  34.6838,2,    188.4,2,   119.92,2,    34.60,2,  -999.00,9,     2.37,2, -999.000,9, -999.000,9, -999.000,9, -999.000,9,   2270.8,2, -999.000,9, -999.000,-999.0000,9,-999.0000,  -999.00,9,  -999.00, -999.000,9, -999.000
  06AQ19960317,  S04a,    32,  1,     14,     11,2,19960405,   0,-59.4500,   3.1817, 5032,    399.5,   0.4339,  34.6830,2,  34.6849,2,    189.0,2,   121.78,2,    34.47,2,  -999.00,9,     2.37,2, -999.000,9, -999.000,9, -999.000,9, -999.000,9,   2271.8,2, -999.000,9, -999.000,-999.0000,9,-999.0000,  -999.00,9,  -999.00, -999.000,9, -999.000
  06AQ19960317,  S04a,    32,  1,     13,     12,2,19960405,   0,-59.4500,   3.1817, 5032,    500.8,   0.3708,  34.6821,2,  34.6843,2,    191.0,2,   124.20,2,    34.39,2,  -999.00,9,     2.38,2, -999.000,9, -999.000,9, -999.000,9, -999.000,9,   2270.9,2, -999.000,9, -999.000,-999.0000,9,-999.0000,  -999.00,9,  -999.00, -999.000,9, -999.000
  06AQ19960317,  S04a,    32,  1,     12,     13,2,19960405,   0,-59.4500,   3.1817, 5032,    751.1,   0.2362,  34.6785,2,  34.6784,2,    197.3,2,   124.53,2,    34.51,2,  -999.00,9,     2.35,2, -999.000,9, -999.000,9, -999.000,9, -999.000,9,   2269.6,2, -999.000,9, -999.000,-999.0000,9,-999.0000,  -999.00,9,  -999.00, -999.000,9, -999.000
  06AQ19960317,  S04a,    32,  1,     11,     14,2,19960405,   0,-59.4500,   3.1817, 5032,   1003.6,   0.1251,  34.6734,2,  34.6750,2,    203.8,2,   128.84,2,    34.15,2,  -999.00,9,     2.35,2, -999.000,9, -999.000,9, -999.000,9, -999.000,9,   2264.7,2, -999.000,9, -999.000,-999.0000,9,-999.0000,  -999.00,9,  -999.00, -999.000,9, -999.000
  06AQ19960317,  S04a,    32,  1,     10,     15,2,19960405,   0,-59.4500,   3.1817, 5032,   1503.1,  -0.0662,  34.6652,2,  34.6679,2,    216.8,2,   129.77,2,    33.53,2,  -999.00,9,     2.30,2, -999.000,9, -999.000,9, -999.000,9, -999.000,9,   2260.1,2, -999.000,9, -999.000,-999.0000,9,-999.0000,  -999.00,9,  -999.00, -999.000,9, -999.000
  06AQ19960317,  S04a,    32,  1,      9,     16,2,19960405,   0,-59.4500,   3.1817, 5032,   2001.3,  -0.1982,  34.6612,2,  34.6601,2,    225.7,2,   128.16,2,    33.56,2,  -999.00,9,     2.29,2, -999.000,9, -999.000,9, -999.000,9, -999.000,9,   2255.6,2, -999.000,9, -999.000,-999.0000,9,-999.0000,  -999.00,9,  -999.00, -999.000,9, -999.000
  06AQ19960317,  S04a,    32,  1,      8,     17,2,19960405,   0,-59.4500,   3.1817, 5032,   2500.8,  -0.2760,  34.6585,2,  34.6561,2,    230.5,2,   127.48,2,    32.95,2,  -999.00,9,     2.27,2, -999.000,9, -999.000,9, -999.000,9, -999.000,9,   2253.1,2, -999.000,9, -999.000,-999.0000,9,-999.0000,  -999.00,9,  -999.00, -999.000,9, -999.000
  06AQ19960317,  S04a,    32,  1,      7,     18,2,19960405,   0,-59.4500,   3.1817, 5032,   2999.1,  -0.3429,  34.6568,2,  34.6550,2,    234.5,2,   126.59,2,    33.02,2,  -999.00,9,     2.27,2, -999.000,9, -999.000,9, -999.000,9, -999.000,9,   2251.1,2, -999.000,9, -999.000,-999.0000,9,-999.0000,  -999.00,9,  -999.00, -999.000,9, -999.000
  06AQ19960317,  S04a,    32,  1,      6,     19,2,19960405,   0,-59.4500,   3.1817, 5032,   3501.0,  -0.3986,  34.6536,2,  34.6518,2,    239.0,2,   126.26,2,    32.86,2,  -999.00,9,     2.26,2, -999.000,9, -999.000,9, -999.000,9, -999.000,9,   2249.2,2, -999.000,9, -999.000,-999.0000,9,-999.0000,  -999.00,9,  -999.00, -999.000,9, -999.000
  06AQ19960317,  S04a,    32,  1,      5,     20,2,19960405,   0,-59.4500,   3.1817, 5032,   4000.2,  -0.4785,  34.6488,2,  34.6456,2,    244.2,2,   121.23,2,    32.56,2,  -999.00,9,     2.26,2, -999.000,9, -999.000,9, -999.000,9, -999.000,9,   2247.9,2, -999.000,9, -999.000,-999.0000,9,-999.0000,  -999.00,9,  -999.00, -999.000,9, -999.000
  06AQ19960317,  S04a,    32,  1,      4,     21,2,19960405,   0,-59.4500,   3.1817, 5032,   4500.5,  -0.4957,  34.6449,2,  34.6424,2,    247.1,2,   118.37,2,    32.72,2,  -999.00,9,     2.24,2, -999.000,9, -999.000,9, -999.000,9, -999.000,9,   2247.7,2, -999.000,9, -999.000,-999.0000,9,-999.0000,  -999.00,9,  -999.00, -999.000,9, -999.000
  06AQ19960317,  S04a,    32,  1,      3,     22,2,19960405,   0,-59.4500,   3.1817, 5032,   4998.4,  -0.4556,  34.6455,2,  34.6459,2,    246.8,2,   121.01,2,    32.83,2,  -999.00,9,     2.25,2, -999.000,9, -999.000,9, -999.000,9, -999.000,9,   2247.4,2, -999.000,9, -999.000,-999.0000,9,-999.0000,  -999.00,9,  -999.00, -999.000,9, -999.000
  06AQ19960317,  S04a,    32,  1,      2,     23,2,19960405,   0,-59.4500,   3.1817, 5032,   5105.8,  -0.4438,  34.6458,2,  34.6446,2,    247.1,2,   119.87,2,    32.34,2,  -999.00,9,     2.25,2, -999.000,9, -999.000,9, -999.000,9, -999.000,9,   2247.1,2, -999.000,9, -999.000,-999.0000,9,-999.0000,  -999.00,9,  -999.00, -999.000,9, -999.000
  06AQ19960317,  S04a,    32,  1,      1,     24,2,19960405,   0,-59.4500,   3.1817, 5032,   5105.8,  -0.4437,  34.6460,2,  34.6468,2,    246.4,2,   120.94,2,    32.70,2,  -999.00,9,     2.25,2, -999.000,9, -999.000,9, -999.000,9, -999.000,9,   2247.0,2, -999.000,9, -999.000,-999.0000,9,-999.0000,  -999.00,9,  -999.00, -999.000,9, -999.000
  06AQ19960317,  S04a,    33,  1,     24,      1,2,19960407,   0,-54.3912,   3.2990, 2525,     19.6,   1.6252,  33.7595,2,  33.7629,2,   -999.0,9,    35.40,2,    24.86,2,  -999.00,9,     1.73,2, -999.000,9, -999.000,9, -999.000,9, -999.000,9,   -999.0,9, -999.000,9, -999.000,-999.0000,9,-999.0000,  -999.00,9,  -999.00, -999.000,9, -999.000
  06AQ19960317,  S04a,    33,  1,     23,      2,2,19960407,   0,-54.3912,   3.2990, 2525,     80.6,   1.1198,  33.8535,2,  33.8567,2,   -999.0,9,    36.88,2,    25.76,2,  -999.00,9,     1.79,2, -999.000,9, -999.000,9, -999.000,9, -999.000,9,   -999.0,9, -999.000,9, -999.000,-999.0000,9,-999.0000,  -999.00,9,  -999.00, -999.000,9, -999.000
  06AQ19960317,  S04a,    33,  1,     22,      3,2,19960407,   0,-54.3912,   3.2990, 2525,    165.2,   0.1084,  34.1919,2,  34.1925,2,   -999.0,9,    56.19,2,    31.82,2,  -999.00,9,     2.15,2, -999.000,9, -999.000,9, -999.000,9, -999.000,9,   -999.0,9, -999.000,9, -999.000,-999.0000,9,-999.0000,  -999.00,9,  -999.00, -999.000,9, -999.000
  06AQ19960317,  S04a,    33,  1,     20,      5,2,19960407,   0,-54.3912,   3.2990, 2525,    165.3,   0.0936,  34.1892,2,-999.0000,9,   -999.0,9,    54.87,2,    31.46,2,  -999.00,9,     2.15,2, -999.000,9, -999.000,9, -999.000,9, -999.000,9,   -999.0,9, -999.000,9, -999.000,-999.0000,9,-999.0000,  -999.00,9,  -999.00, -999.000,9, -999.000
  06AQ19960317,  S04a,    33,  1,     19,      6,2,19960407,   0,-54.3912,   3.2990, 2525,    165.4,   0.0946,  34.1882,2,-999.0000,9,   -999.0,9,    85.38,2,    34.33,2,  -999.00,9,     2.34,2, -999.000,9, -999.000,9, -999.000,9, -999.000,9,   -999.0,9, -999.000,9, -999.000,-999.0000,9,-999.0000,  -999.00,9,  -999.00, -999.000,9, -999.000
  06AQ19960317,  S04a,    33,  1,     21,      4,2,19960407,   0,-54.3912,   3.2990, 2525,    165.6,   0.1108,  34.1934,2,-999.0000,9,   -999.0,9,    54.80,2,    31.33,2,  -999.00,9,     2.14,2, -999.000,9, -999.000,9, -999.000,9, -999.000,9,   -999.0,9, -999.000,9, -999.000,-999.0000,9,-999.0000,  -999.00,9,  -999.00, -999.000,9, -999.000
  06AQ19960317,  S04a,    33,  1,     17,      8,2,19960407,   0,-54.3912,   3.2990, 2525,    425.0,   1.7226,  34.6302,2,-999.0000,9,   -999.0,9,    85.30,2,    34.32,2,  -999.00,9,     2.33,2, -999.000,9, -999.000,9, -999.000,9, -999.000,9,   -999.0,9, -999.000,9, -999.000,-999.0000,9,-999.0000,  -999.00,9,  -999.00, -999.000,9, -999.000
  06AQ19960317,  S04a,    33,  1,     18,      7,2,19960407,   0,-54.3912,   3.2990, 2525,    425.3,   1.7226,  34.6304,2,-999.0000,9,   -999.0,9,    85.22,2,    34.01,2,  -999.00,9,     2.33,2, -999.000,9, -999.000,9, -999.000,9, -999.000,9,   -999.0,9, -999.000,9, -999.000,-999.0000,9,-999.0000,  -999.00,9,  -999.00, -999.000,9, -999.000
  06AQ19960317,  S04a,    33,  1,     16,      9,2,19960407,   0,-54.3912,   3.2990, 2525,    601.6,   1.6384,  34.6926,2,  34.6947,2,   -999.0,9,    90.16,2,    32.98,2,  -999.00,9,     2.25,2, -999.000,9, -999.000,9, -999.000,9, -999.000,9,   -999.0,9, -999.000,9, -999.000,-999.0000,9,-999.0000,  -999.00,9,  -999.00, -999.000,9, -999.000
  06AQ19960317,  S04a,    33,  1,     13,     12,2,19960407,   0,-54.3912,   3.2990, 2525,    921.5,   1.4304,  34.7131,2,-999.0000,9,   -999.0,9,    94.62,2,    32.18,2,  -999.00,9,     2.19,2, -999.000,9, -999.000,9, -999.000,9, -999.000,9,   -999.0,9, -999.000,9, -999.000,-999.0000,9,-999.0000,  -999.00,9,  -999.00, -999.000,9, -999.000
  06AQ19960317,  S04a,    33,  1,     15,     10,2,19960407,   0,-54.3912,   3.2990, 2525,    921.7,   1.4318,  34.7133,2,  34.7153,2,   -999.0,9,    95.98,2,    32.12,2,  -999.00,9,     2.20,2, -999.000,9, -999.000,9, -999.000,9, -999.000,9,   -999.0,9, -999.000,9, -999.000,-999.0000,9,-999.0000,  -999.00,9,  -999.00, -999.000,9, -999.000
  06AQ19960317,  S04a,    33,  1,     14,     11,2,19960407,   0,-54.3912,   3.2990, 2525,    921.8,   1.4318,  34.7133,2,-999.0000,9,   -999.0,9,    95.11,2,    32.02,2,  -999.00,9,     2.19,2, -999.000,9, -999.000,9, -999.000,9, -999.000,9,   -999.0,9, -999.000,9, -999.000,-999.0000,9,-999.0000,  -999.00,9,  -999.00, -999.000,9, -999.000
  06AQ19960317,  S04a,    33,  1,     12,     13,2,19960407,   0,-54.3912,   3.2990, 2525,   1250.4,   1.0137,  34.7033,2,  34.7050,2,   -999.0,9,   106.59,2,    32.41,2,  -999.00,9,     2.22,2, -999.000,9, -999.000,9, -999.000,9, -999.000,9,   -999.0,9, -999.000,9, -999.000,-999.0000,9,-999.0000,  -999.00,9,  -999.00, -999.000,9, -999.000
  06AQ19960317,  S04a,    33,  1,     11,     14,2,19960407,   0,-54.3912,   3.2990, 2525,   1500.2,   0.7717,  34.6946,2,  34.6965,2,   -999.0,9,   111.47,2,    32.76,2,  -999.00,9,     2.25,2, -999.000,9, -999.000,9, -999.000,9, -999.000,9,   -999.0,9, -999.000,9, -999.000,-999.0000,9,-999.0000,  -999.00,9,  -999.00, -999.000,9, -999.000
  06AQ19960317,  S04a,    33,  1,     10,     15,2,19960407,   0,-54.3912,   3.2990, 2525,   2000.4,   0.4029,  34.6821,2,  34.6843,2,   -999.0,9,   120.36,2,    33.11,2,  -999.00,9,     2.28,2, -999.000,9, -999.000,9, -999.000,9, -999.000,9,   -999.0,9, -999.000,9, -999.000,-999.0000,9,-999.0000,  -999.00,9,  -999.00, -999.000,9, -999.000
  06AQ19960317,  S04a,    33,  1,      9,     16,2,19960407,   0,-54.3912,   3.2990, 2525,   2000.9,   0.4040,  34.6823,2,-999.0000,9,   -999.0,9,   121.48,2,    33.11,2,  -999.00,9,     2.28,2, -999.000,9, -999.000,9, -999.000,9, -999.000,9,   -999.0,9, -999.000,9, -999.000,-999.0000,9,-999.0000,  -999.00,9,  -999.00, -999.000,9, -999.000
  06AQ19960317,  S04a,    33,  1,      8,     17,2,19960407,   0,-54.3912,   3.2990, 2525,   2000.9,   0.4042,  34.6822,2,-999.0000,9,   -999.0,9,   120.62,2,    33.32,2,  -999.00,9,     2.27,2, -999.000,9, -999.000,9, -999.000,9, -999.000,9,   -999.0,9, -999.000,9, -999.000,-999.0000,9,-999.0000,  -999.00,9,  -999.00, -999.000,9, -999.000
  06AQ19960317,  S04a,    33,  1,      7,     18,2,19960407,   0,-54.3912,   3.2990, 2525,   2201.1,   0.3008,  34.6786,2,  34.6787,2,   -999.0,9,   124.58,2,    33.09,2,  -999.00,9,     2.29,2, -999.000,9, -999.000,9, -999.000,9, -999.000,9,   -999.0,9, -999.000,9, -999.000,-999.0000,9,-999.0000,  -999.00,9,  -999.00, -999.000,9, -999.000
  06AQ19960317,  S04a,    33,  1,      6,     19,2,19960407,   0,-54.3912,   3.2990, 2525,   2412.2,   0.2282,  34.6761,2,  34.6757,2,   -999.0,9,   128.66,2,    33.60,2,  -999.00,9,     2.29,2, -999.000,9, -999.000,9, -999.000,9, -999.000,9,   -999.0,9, -999.000,9, -999.000,-999.0000,9,-999.0000,  -999.00,9,  -999.00, -999.000,9, -999.000
  06AQ19960317,  S04a,    33,  1,      5,     20,2,19960407,   0,-54.3912,   3.2990, 2525,   2412.3,   0.2282,  34.6762,2,-999.0000,9,   -999.0,9,   130.34,2,    33.28,2,  -999.00,9,     2.31,2, -999.000,9, -999.000,9, -999.000,9, -999.000,9,   -999.0,9, -999.000,9, -999.000,-999.0000,9,-999.0000,  -999.00,9,  -999.00, -999.000,9, -999.000
  06AQ19960317,  S04a,    33,  1,      4,     21,2,19960407,   0,-54.3912,   3.2990, 2525,   2412.6,   0.2282,  34.6761,2,-999.0000,9,   -999.0,9,   128.95,2,    33.43,2,  -999.00,9,     2.30,2, -999.000,9, -999.000,9, -999.000,9, -999.000,9,   -999.0,9, -999.000,9, -999.000,-999.0000,9,-999.0000,  -999.00,9,  -999.00, -999.000,9, -999.000
  06AQ19960317,  S04a,    33,  1,      1,     24,2,19960407,   0,-54.3912,   3.2990, 2525,   2515.5,   0.1901,  34.6750,2,-999.0000,9,   -999.0,9,   132.70,2,    33.15,2,  -999.00,9,     2.30,2, -999.000,9, -999.000,9, -999.000,9, -999.000,9,   -999.0,9, -999.000,9, -999.000,-999.0000,9,-999.0000,  -999.00,9,  -999.00, -999.000,9, -999.000
  06AQ19960317,  S04a,    33,  1,      2,     23,2,19960407,   0,-54.3912,   3.2990, 2525,   2515.7,   0.1903,  34.6751,2,-999.0000,9,   -999.0,9,   133.47,2,    33.52,2,  -999.00,9,     2.30,2, -999.000,9, -999.000,9, -999.000,9, -999.000,9,   -999.0,9, -999.000,9, -999.000,-999.0000,9,-999.0000,  -999.00,9,  -999.00, -999.000,9, -999.000
  06AQ19960317,  S04a,    33,  1,      3,     22,2,19960407,   0,-54.3912,   3.2990, 2525,   2516.0,   0.1905,  34.6750,2,  34.6753,2,   -999.0,9,   132.91,2,    33.48,2,  -999.00,9,     2.30,2, -999.000,9, -999.000,9, -999.000,9, -999.000,9,   -999.0,9, -999.000,9, -999.000,-999.0000,9,-999.0000,  -999.00,9,  -999.00, -999.000,9, -999.000