BOTTLE,20150129PRINUNIVRMK
EXPOCODE,SECT_ID,STNNBR,CASTNO,SAMPNO,BTLNBR,BTLNBR_FLAG_W,DATE,TIME,LATITUDE,LONGITUDE,DEPTH,CTDPRS,CTDTMP,CTDSAL,CTDSAL_FLAG_W,SALNTY,SALNTY_FLAG_W,OXYGEN,OXYGEN_FLAG_W,SILCAT,SILCAT_FLAG_W,NITRAT,NITRAT_FLAG_W,NITRIT,NITRIT_FLAG_W,PHSPHT,PHSPHT_FLAG_W,CFC-11,CFC-11_FLAG_W,CFC-12,CFC-12_FLAG_W,CFC113,CFC113_FLAG_W,CCL4,CCL4_FLAG_W,TCARBN,TCARBN_FLAG_W,TRITUM,TRITUM_FLAG_W,TRITER,HELIUM,HELIUM_FLAG_W,HELIER,DELHE3,DELHE3_FLAG_W,DELHER,NEON,NEON_FLAG_W,NEONER
,,,,,,,,,,,METERS,DBAR,ITS-90,PSS-78,,PSS-78,,UMOL/KG,,UMOL/KG,,UMOL/KG,,UMOL/KG,,UMOL/KG,,PMOL/KG,,PMOL/KG,,PMOL/KG,,PMOL/KG,,UMOL/KG,,TU,,TU,NMOL/KG,,NMOL/KG,PERCNT,,PERCNT,NMOL/KG,,NMOL/KG
  06AQ19960317,  S04a,    44,  1,     23,      2,2,19960415,   0,-60.0018,  -0.0025, 5339,     21.5,  -0.2349,  33.9892,2,  33.9896,2,    336.7,2,    56.20,2,    25.56,2,  -999.00,9,     1.80,2, -999.000,9, -999.000,9, -999.000,9, -999.000,9,   2179.5,2, -999.000,9, -999.000,-999.0000,9,-999.0000,  -999.00,9,  -999.00, -999.000,9, -999.000
  06AQ19960317,  S04a,    44,  1,     24,      1,2,19960415,   0,-60.0018,  -0.0025, 5339,     21.6,  -0.2349,  33.9887,2,-999.0000,9,   -999.0,9,    55.89,2,    25.59,2,  -999.00,9,     1.76,2, -999.000,9, -999.000,9, -999.000,9, -999.000,9,   -999.0,9, -999.000,9, -999.000,-999.0000,9,-999.0000,  -999.00,9,  -999.00, -999.000,9, -999.000
  06AQ19960317,  S04a,    44,  1,     22,      3,2,19960415,   0,-60.0018,  -0.0025, 5339,     21.8,  -0.2344,  33.9890,2,-999.0000,9,   -999.0,9,    56.31,2,    25.55,2,  -999.00,9,     1.79,2, -999.000,9, -999.000,9, -999.000,9, -999.000,9,   -999.0,9, -999.000,9, -999.000,-999.0000,9,-999.0000,  -999.00,9,  -999.00, -999.000,9, -999.000
  06AQ19960317,  S04a,    44,  1,     20,      5,2,19960415,   0,-60.0018,  -0.0025, 5339,     42.2,  -0.2333,  33.9892,2,  33.9912,2,   -999.0,9,    56.20,2,    25.62,2,  -999.00,9,     1.80,2, -999.000,9, -999.000,9, -999.000,9, -999.000,9,   -999.0,9, -999.000,9, -999.000,-999.0000,9,-999.0000,  -999.00,9,  -999.00, -999.000,9, -999.000
  06AQ19960317,  S04a,    44,  1,     21,      4,2,19960415,   0,-60.0018,  -0.0025, 5339,     42.4,  -0.2335,  33.9892,2,-999.0000,9,    337.0,2,    56.16,2,    25.58,2,  -999.00,9,     1.80,2, -999.000,9, -999.000,9, -999.000,9, -999.000,9,   -999.0,9, -999.000,9, -999.000,-999.0000,9,-999.0000,  -999.00,9,  -999.00, -999.000,9, -999.000
  06AQ19960317,  S04a,    44,  1,     19,      6,2,19960415,   0,-60.0018,  -0.0025, 5339,     51.2,  -0.2345,  33.9892,2,  33.9894,2,    336.0,2,    56.36,2,    25.56,2,  -999.00,9,     1.82,2, -999.000,9, -999.000,9, -999.000,9, -999.000,9,   2178.9,2, -999.000,9, -999.000,-999.0000,9,-999.0000,  -999.00,9,  -999.00, -999.000,9, -999.000
  06AQ19960317,  S04a,    44,  1,     17,      8,2,19960415,   0,-60.0018,  -0.0025, 5339,     61.7,  -0.2372,  33.9891,2,  33.9905,2,    337.6,2,    56.27,2,    25.56,2,  -999.00,9,     1.83,2, -999.000,9, -999.000,9, -999.000,9, -999.000,9,   2178.1,2, -999.000,9, -999.000,-999.0000,9,-999.0000,  -999.00,9,  -999.00, -999.000,9, -999.000
  06AQ19960317,  S04a,    44,  1,     18,      7,2,19960415,   0,-60.0018,  -0.0025, 5339,     61.8,  -0.2359,  33.9890,2,-999.0000,9,   -999.0,9,    56.31,2,    25.60,2,  -999.00,9,     1.82,2, -999.000,9, -999.000,9, -999.000,9, -999.000,9,   -999.0,9, -999.000,9, -999.000,-999.0000,9,-999.0000,  -999.00,9,  -999.00, -999.000,9, -999.000
  06AQ19960317,  S04a,    44,  1,     16,      9,2,19960415,   0,-60.0018,  -0.0025, 5339,     80.3,  -0.2381,  33.9898,2,-999.0000,9,   -999.0,9,    56.47,2,    25.55,2,  -999.00,9,     1.84,2,    6.247,2,    2.989,2,    0.488,2,    8.716,2,   -999.0,9, -999.000,9, -999.000,-999.0000,9,-999.0000,  -999.00,9,  -999.00, -999.000,9, -999.000
  06AQ19960317,  S04a,    44,  1,     15,     10,2,19960415,   0,-60.0018,  -0.0025, 5339,     80.5,  -0.2443,  33.9908,2,  34.0154,2,    335.2,2,    57.48,2,    25.93,2,  -999.00,9,     1.85,2, -999.000,9, -999.000,9, -999.000,9, -999.000,9,   2181.8,2, -999.000,9, -999.000,-999.0000,9,-999.0000,  -999.00,9,  -999.00, -999.000,9, -999.000
  06AQ19960317,  S04a,    44,  1,     13,     12,2,19960415,   0,-60.0018,  -0.0025, 5339,     96.1,  -0.8481,  34.1587,2,-999.0000,9,   -999.0,9,    63.20,2,    27.32,2,  -999.00,9,     1.94,2, -999.000,9, -999.000,9, -999.000,9, -999.000,9,   -999.0,9, -999.000,9, -999.000,-999.0000,9,-999.0000,  -999.00,9,  -999.00, -999.000,9, -999.000
  06AQ19960317,  S04a,    44,  1,     14,     11,2,19960415,   0,-60.0018,  -0.0025, 5339,     96.2,  -0.9114,  34.1798,2,  34.1540,2,    323.0,2,    62.98,2,    27.22,2,  -999.00,9,     1.94,2,    5.847,2,    2.784,2,    0.460,2,    8.022,2,   2193.7,2, -999.000,9, -999.000,-999.0000,9,-999.0000,  -999.00,9,  -999.00, -999.000,9, -999.000
  06AQ19960317,  S04a,    44,  1,     12,     13,2,19960415,   0,-60.0018,  -0.0025, 5339,     96.3,  -0.8375,  34.1629,2,-999.0000,9,   -999.0,9,    62.64,2,    27.28,2,  -999.00,9,     1.94,2, -999.000,9, -999.000,9, -999.000,9, -999.000,9,   -999.0,9, -999.000,9, -999.000,-999.0000,9,-999.0000,  -999.00,9,  -999.00, -999.000,9, -999.000
  06AQ19960317,  S04a,    44,  1,     11,     14,2,19960415,   0,-60.0018,  -0.0025, 5339,    101.5,  -1.3718,  34.2903,2,  34.2987,2,   -999.0,9,    67.59,2,    28.83,2,  -999.00,9,     2.04,2,    5.315,2,    2.534,2,    0.420,2,    7.194,2,   2214.1,2, -999.000,9, -999.000,-999.0000,9,-999.0000,  -999.00,9,  -999.00, -999.000,9, -999.000
  06AQ19960317,  S04a,    44,  1,      9,     15,2,19960415,   0,-60.0018,  -0.0025, 5339,    130.2,  -1.2641,  34.4158,2,  34.4168,2,    284.5,2,    75.42,2,    31.03,2,  -999.00,9,     2.13,2, -999.000,9, -999.000,9, -999.000,9, -999.000,9,   2233.6,2, -999.000,9, -999.000,-999.0000,9,-999.0000,  -999.00,9,  -999.00, -999.000,9, -999.000
  06AQ19960317,  S04a,    44,  1,      8,     16,2,19960415,   0,-60.0018,  -0.0025, 5339,    151.9,  -0.5531,  34.5110,2,  34.5099,2,    246.6,2,    86.95,2,    32.15,2,  -999.00,9,     2.21,2, -999.000,9, -999.000,9, -999.000,9, -999.000,9,   2241.7,2, -999.000,9, -999.000,-999.0000,9,-999.0000,  -999.00,9,  -999.00, -999.000,9, -999.000
  06AQ19960317,  S04a,    44,  1,      7,     17,2,19960415,   0,-60.0018,  -0.0025, 5339,    211.6,   0.6918,  34.6835,2,-999.0000,9,   -999.0,9,   108.86,2,    33.96,2,  -999.00,9,     2.33,2, -999.000,9, -999.000,9, -999.000,9, -999.000,9,   -999.0,9, -999.000,9, -999.000,-999.0000,9,-999.0000,  -999.00,9,  -999.00, -999.000,9, -999.000
  06AQ19960317,  S04a,    44,  1,     10,     19,2,19960415,   0,-60.0018,  -0.0025, 5339,    211.8,   0.6967,  34.6857,2,  34.6852,2,    189.0,2,   109.50,2,    34.02,2,  -999.00,9,     2.33,2,    0.451,2,    0.199,2,    0.024,2,    0.701,2,   2266.8,2, -999.000,9, -999.000,-999.0000,9,-999.0000,  -999.00,9,  -999.00, -999.000,9, -999.000
  06AQ19960317,  S04a,    44,  1,      6,     18,2,19960415,   0,-60.0018,  -0.0025, 5339,    211.9,   0.6970,  34.6843,2,-999.0000,9,   -999.0,9,   109.34,2,    34.01,2,  -999.00,9,     2.33,2, -999.000,9, -999.000,9, -999.000,9, -999.000,9,   -999.0,9, -999.000,9, -999.000,-999.0000,9,-999.0000,  -999.00,9,  -999.00, -999.000,9, -999.000
  06AQ19960317,  S04a,    44,  1,      5,     20,2,19960415,   0,-60.0018,  -0.0025, 5339,    240.9,   0.6541,  34.6876,2,  34.6872,2,    188.7,2,   112.20,2,    34.12,2,  -999.00,9,     2.35,2, -999.000,9, -999.000,9, -999.000,9, -999.000,9,   2269.8,2, -999.000,9, -999.000,-999.0000,9,-999.0000,  -999.00,9,  -999.00, -999.000,9, -999.000
  06AQ19960317,  S04a,    44,  1,      4,     21,2,19960415,   0,-60.0018,  -0.0025, 5339,    301.3,   0.5794,  34.6889,2,  34.6878,2,    189.1,2,   115.26,2,    34.16,2,  -999.00,9,     2.35,2,    0.295,2,    0.131,2,    0.012,2,    0.524,2,   2270.9,2, -999.000,9, -999.000,-999.0000,9,-999.0000,  -999.00,9,  -999.00, -999.000,9, -999.000
  06AQ19960317,  S04a,    44,  1,      3,     22,2,19960415,   0,-60.0018,  -0.0025, 5339,    350.2,   0.4887,  34.6854,2,  34.6842,2,    189.3,2,   117.30,2,    34.46,2,  -999.00,9,     2.37,2, -999.000,9, -999.000,9, -999.000,9, -999.000,9,   2269.7,2, -999.000,9, -999.000,-999.0000,9,-999.0000,  -999.00,9,  -999.00, -999.000,9, -999.000
  06AQ19960317,  S04a,    44,  1,      2,     23,2,19960415,   0,-60.0018,  -0.0025, 5339,    401.8,   0.4533,  34.6848,2,  34.6835,2,    189.0,2,   119.19,2,    34.61,2,  -999.00,9,     2.37,2,    0.244,2,    0.106,2,    0.010,2,    0.489,2,   2268.1,2, -999.000,9, -999.000,-999.0000,9,-999.0000,  -999.00,9,  -999.00, -999.000,9, -999.000
  06AQ19960317,  S04a,    44,  1,      1,     24,2,19960415,   0,-60.0018,  -0.0025, 5339,    509.0,   0.3869,  34.6855,2,  34.6840,2,   -999.0,9,   122.34,2,    34.63,2,  -999.00,9,     2.37,2,    0.189,2,    0.079,2,    0.008,2,    0.434,2,   2274.8,2, -999.000,9, -999.000,-999.0000,9,-999.0000,  -999.00,9,  -999.00, -999.000,9, -999.000
  06AQ19960317,  S04a,    44,  3,     24,      1,2,19960415,   0,-60.0018,  -0.0025, 5339,    500.9,   0.3941,  34.6840,2,  34.6841,2,    190.9,2,   121.06,2,    34.68,2,  -999.00,9,     2.29,2, -999.000,9, -999.000,9, -999.000,9, -999.000,9,   2273.2,2, -999.000,9, -999.000,-999.0000,9,-999.0000,  -999.00,9,  -999.00, -999.000,9, -999.000
  06AQ19960317,  S04a,    44,  3,     23,      2,2,19960415,   0,-60.0018,  -0.0025, 5339,    601.5,   0.3311,  34.6818,2,  34.6833,2,    192.3,2,   122.33,2,    34.46,2,  -999.00,9,     2.32,2,    0.156,2,    0.069,2,    0.007,2,    0.373,2,   2272.8,2, -999.000,9, -999.000,-999.0000,9,-999.0000,  -999.00,9,  -999.00, -999.000,9, -999.000
  06AQ19960317,  S04a,    44,  3,     22,      3,2,19960415,   0,-60.0018,  -0.0025, 5339,    800.6,   0.2273,  34.6781,2,  34.6790,2,    191.2,2,   124.33,2,    34.14,2,  -999.00,9,     2.32,2,    0.153,2,    0.069,2,    0.007,2,    0.381,2,   2269.6,2, -999.000,9, -999.000,-999.0000,9,-999.0000,  -999.00,9,  -999.00, -999.000,9, -999.000
  06AQ19960317,  S04a,    44,  3,     21,      4,2,19960415,   0,-60.0018,  -0.0025, 5339,   1000.9,   0.1403,  34.6752,2,  34.6743,2,    202.9,2,   125.10,2,    34.10,2,  -999.00,9,     2.32,2,    0.138,2,    0.064,2,    0.005,2,    0.354,2,   2266.9,2, -999.000,9, -999.000,-999.0000,9,-999.0000,  -999.00,9,  -999.00, -999.000,9, -999.000
  06AQ19960317,  S04a,    44,  3,     20,      5,2,19960415,   0,-60.0018,  -0.0025, 5339,   1001.2,   0.1399,  34.6754,2,-999.0000,9,   -999.0,9,   124.76,2,    34.11,2,  -999.00,9,     2.31,2, -999.000,9, -999.000,9, -999.000,9, -999.000,9,   -999.0,9, -999.000,9, -999.000,-999.0000,9,-999.0000,  -999.00,9,  -999.00, -999.000,9, -999.000
  06AQ19960317,  S04a,    44,  3,     19,      6,2,19960415,   0,-60.0018,  -0.0025, 5339,   1250.0,   0.0401,  34.6714,2,  34.6718,2,    210.3,2,   124.37,2,    33.52,2,  -999.00,9,     2.31,2,    0.162,2,    0.074,2,    0.007,2,    0.399,2,   2263.1,2, -999.000,9, -999.000,-999.0000,9,-999.0000,  -999.00,9,  -999.00, -999.000,9, -999.000
  06AQ19960317,  S04a,    44,  3,     18,      7,2,19960415,   0,-60.0018,  -0.0025, 5339,   1503.3,  -0.0393,  34.6668,2,  34.6684,2,    215.3,2,   124.91,2,    33.74,2,  -999.00,9,     2.30,2,    0.168,2,    0.075,2,    0.007,2,    0.433,2,   2262.3,2, -999.000,9, -999.000,-999.0000,9,-999.0000,  -999.00,9,  -999.00, -999.000,9, -999.000
  06AQ19960317,  S04a,    44,  3,     17,      8,2,19960415,   0,-60.0018,  -0.0025, 5339,   1750.1,  -0.1194,  34.6641,2,  34.6649,2,    220.1,2,   124.77,2,    33.56,2,  -999.00,9,     2.29,2,    0.166,2,    0.076,2,    0.009,2,    0.472,2,   2257.9,2, -999.000,9, -999.000,-999.0000,9,-999.0000,  -999.00,9,  -999.00, -999.000,9, -999.000
  06AQ19960317,  S04a,    44,  3,     16,      9,2,19960415,   0,-60.0018,  -0.0025, 5339,   2001.1,  -0.1799,  34.6617,2,  34.6619,2,    224.2,2,   124.62,2,    33.38,2,  -999.00,9,     2.29,2, -999.000,9, -999.000,9, -999.000,9, -999.000,9,   2257.7,2, -999.000,9, -999.000,-999.0000,9,-999.0000,  -999.00,9,  -999.00, -999.000,9, -999.000
  06AQ19960317,  S04a,    44,  3,     15,     10,2,19960415,   0,-60.0018,  -0.0025, 5339,   2501.0,  -0.2718,  34.6591,2,  34.6590,2,    230.8,2,   124.47,2,    33.30,2,  -999.00,9,     2.27,2,    0.224,2,    0.103,2,    0.009,2,    0.598,2,   2254.7,2, -999.000,9, -999.000,-999.0000,9,-999.0000,  -999.00,9,  -999.00, -999.000,9, -999.000
  06AQ19960317,  S04a,    44,  3,     14,     11,2,19960415,   0,-60.0018,  -0.0025, 5339,   2501.4,  -0.2719,  34.6591,2,-999.0000,9,   -999.0,9,   123.84,2,    33.24,2,  -999.00,9,     2.26,2, -999.000,9, -999.000,9, -999.000,9, -999.000,9,   -999.0,9, -999.000,9, -999.000,-999.0000,9,-999.0000,  -999.00,9,  -999.00, -999.000,9, -999.000
  06AQ19960317,  S04a,    44,  3,     13,     12,2,19960415,   0,-60.0018,  -0.0025, 5339,   2501.4,  -0.2727,  34.6592,2,-999.0000,9,   -999.0,9,   124.19,2,    33.19,2,  -999.00,9,     2.26,2, -999.000,9, -999.000,9, -999.000,9, -999.000,9,   -999.0,9, -999.000,9, -999.000,-999.0000,9,-999.0000,  -999.00,9,  -999.00, -999.000,9, -999.000
  06AQ19960317,  S04a,    44,  3,     12,     13,2,19960415,   0,-60.0018,  -0.0025, 5339,   2999.4,  -0.3297,  34.6567,2,  34.6565,2,    234.2,2,   123.71,2,    33.08,2,  -999.00,9,     2.25,2,    0.240,2,    0.110,2,    0.008,2,    0.637,2,   2252.7,2, -999.000,9, -999.000,-999.0000,9,-999.0000,  -999.00,9,  -999.00, -999.000,9, -999.000
  06AQ19960317,  S04a,    44,  3,     11,     14,2,19960415,   0,-60.0018,  -0.0025, 5339,   3499.2,  -0.3818,  34.6547,2,  34.6543,2,    238.6,2,   123.53,2,    32.98,2,  -999.00,9,     2.24,2,    0.228,2,    0.106,2,    0.008,2,    0.657,2,   2251.9,2,    0.039,2, -999.000,   1.8750,2,   0.0050,     6.27,2,     0.22,    8.263,2,    0.018
  06AQ19960317,  S04a,    44,  3,     10,     15,2,19960415,   0,-60.0018,  -0.0025, 5339,   3998.6,  -0.4430,  34.6512,2,  34.6502,2,    242.3,2,   121.32,2,    32.89,2,  -999.00,9,     2.23,2,    0.310,2,    0.148,2,    0.011,2,    0.788,2,   2250.6,2,    0.023,2, -999.000,   1.8970,2,   0.0050,     5.15,2,     0.22,    8.318,2,    0.019
  06AQ19960317,  S04a,    44,  3,      7,     18,2,19960415,   0,-60.0018,  -0.0025, 5339,   4499.6,  -0.4921,  34.6473,2,-999.0000,9,   -999.0,9,   117.25,2,    32.75,2,  -999.00,9,     2.22,2, -999.000,9, -999.000,9, -999.000,9, -999.000,9,   -999.0,9, -999.000,9, -999.000,-999.0000,9,-999.0000,  -999.00,9,  -999.00, -999.000,9, -999.000
  06AQ19960317,  S04a,    44,  3,      8,     17,2,19960415,   0,-60.0018,  -0.0025, 5339,   4499.9,  -0.4913,  34.6468,2,-999.0000,9,   -999.0,9,   117.56,2,    32.77,2,  -999.00,9,     2.22,2, -999.000,9, -999.000,9, -999.000,9, -999.000,9,   -999.0,9, -999.000,9, -999.000,-999.0000,9,-999.0000,  -999.00,9,  -999.00, -999.000,9, -999.000
  06AQ19960317,  S04a,    44,  3,      9,     16,2,19960415,   0,-60.0018,  -0.0025, 5339,   4500.3,  -0.4913,  34.6470,2,  34.6450,2,    246.3,2,   117.70,2,    32.91,2,  -999.00,9,     2.23,2,    0.512,2,    0.244,2,    0.016,2,    1.057,2,   2248.9,2,    0.032,2, -999.000,   1.9930,4,   0.0050,     4.81,2,     0.22,    8.517,4,    0.019
  06AQ19960317,  S04a,    44,  3,      4,     21,2,19960415,   0,-60.0018,  -0.0025, 5339,   5359.4,  -0.4216,  34.6469,2,-999.0000,9,   -999.0,9,   120.64,2,    32.92,2,  -999.00,9,     2.23,2, -999.000,9, -999.000,9, -999.000,9, -999.000,9,   2248.0,2, -999.000,9, -999.000,-999.0000,9,-999.0000,  -999.00,9,  -999.00, -999.000,9, -999.000
  06AQ19960317,  S04a,    44,  3,      5,     20,2,19960415,   0,-60.0018,  -0.0025, 5339,   5359.5,  -0.4214,  34.6467,2,-999.0000,9,   -999.0,9,  -999.00,9,  -999.00,9,  -999.00,9,  -999.00,9, -999.000,9, -999.000,9, -999.000,9, -999.000,9,   -999.0,9, -999.000,9, -999.000,-999.0000,9,-999.0000,  -999.00,9,  -999.00, -999.000,9, -999.000
  06AQ19960317,  S04a,    44,  3,      6,     19,2,19960415,   0,-60.0018,  -0.0025, 5339,   5359.6,  -0.4215,  34.6467,2,-999.0000,9,   -999.0,9,  -999.00,9,  -999.00,9,  -999.00,9,  -999.00,9,    0.442,2,    0.215,2,    0.015,2,    0.978,2,   -999.0,9,    0.039,2, -999.000,   1.9070,2,   0.0050,     4.33,2,     0.22,    8.343,2,    0.019
  06AQ19960317,  S04a,    44,  3,      2,     23,2,19960415,   0,-60.0018,  -0.0025, 5339,   5461.6,  -0.4092,  34.6470,2,-999.0000,9,   -999.0,9,   120.87,2,    33.02,2,  -999.00,9,     2.23,2, -999.000,9, -999.000,9, -999.000,9, -999.000,9,   -999.0,9, -999.000,9, -999.000,-999.0000,9,-999.0000,  -999.00,9,  -999.00, -999.000,9, -999.000
  06AQ19960317,  S04a,    44,  3,      3,     22,2,19960415,   0,-60.0018,  -0.0025, 5339,   5461.7,  -0.4091,  34.6470,2,  34.6453,2,    246.6,2,   120.35,2,    32.83,2,  -999.00,9,     2.23,2,    0.438,2,    0.209,2,    0.014,2,    1.016,2,   2249.7,2,    0.045,2, -999.000,   1.8710,2,   0.0050,     4.06,2,     0.22,    8.210,2,    0.018
  06AQ19960317,  S04a,    44,  3,      1,     24,2,19960415,   0,-60.0018,  -0.0025, 5339,   5461.9,  -0.4091,  34.6470,2,  34.6469,2,   -999.0,9,   120.40,2,    32.80,2,  -999.00,9,     2.22,2, -999.000,9, -999.000,9, -999.000,9, -999.000,9,   -999.0,9, -999.000,9, -999.000,-999.0000,9,-999.0000,  -999.00,9,  -999.00, -999.000,9, -999.000