BOTTLE,20150129PRINUNIVRMK
EXPOCODE,SECT_ID,STNNBR,CASTNO,SAMPNO,BTLNBR,BTLNBR_FLAG_W,DATE,TIME,LATITUDE,LONGITUDE,DEPTH,CTDPRS,CTDTMP,CTDSAL,CTDSAL_FLAG_W,SALNTY,SALNTY_FLAG_W,OXYGEN,OXYGEN_FLAG_W,SILCAT,SILCAT_FLAG_W,NITRAT,NITRAT_FLAG_W,NITRIT,NITRIT_FLAG_W,PHSPHT,PHSPHT_FLAG_W,CFC-11,CFC-11_FLAG_W,CFC-12,CFC-12_FLAG_W,CFC113,CFC113_FLAG_W,CCL4,CCL4_FLAG_W,TCARBN,TCARBN_FLAG_W,TRITUM,TRITUM_FLAG_W,TRITER,HELIUM,HELIUM_FLAG_W,HELIER,DELHE3,DELHE3_FLAG_W,DELHER,NEON,NEON_FLAG_W,NEONER
,,,,,,,,,,,METERS,DBAR,ITS-90,PSS-78,,PSS-78,,UMOL/KG,,UMOL/KG,,UMOL/KG,,UMOL/KG,,UMOL/KG,,PMOL/KG,,PMOL/KG,,PMOL/KG,,PMOL/KG,,UMOL/KG,,TU,,TU,NMOL/KG,,NMOL/KG,PERCNT,,PERCNT,NMOL/KG,,NMOL/KG
  06AQ19960317,  S04a,    26,  1,     24,      1,2,19960402,   0,-58.0700,   9.6750, 5502,     21.4,   0.3702,  33.8374,2,  33.8374,2,    334.8,2,    55.77,2,    23.97,2,  -999.00,9,     1.72,2,    6.108,6,    3.109,6,    0.479,6,    8.824,6,   2165.5,2, -999.000,9, -999.000,-999.0000,9,-999.0000,  -999.00,9,  -999.00, -999.000,9, -999.000
  06AQ19960317,  S04a,    26,  1,     23,      2,2,19960402,   0,-58.0700,   9.6750, 5502,     42.0,   0.3704,  33.8371,2,  33.8341,2,    334.7,2,    56.51,2,    24.14,2,  -999.00,9,     1.74,2,    6.120,2,    3.145,2,    0.515,2,    8.560,2,   2164.7,2, -999.000,9, -999.000,-999.0000,9,-999.0000,  -999.00,9,  -999.00, -999.000,9, -999.000
  06AQ19960317,  S04a,    26,  1,     22,      3,2,19960402,   0,-58.0700,   9.6750, 5502,     81.0,  -0.0748,  33.9091,2,  33.9264,2,    331.5,2,    59.94,2,    25.37,2,  -999.00,9,     1.82,2,    6.168,2,    3.169,2,    0.481,2,    8.237,2,   2174.2,2, -999.000,9, -999.000,-999.0000,9,-999.0000,  -999.00,9,  -999.00, -999.000,9, -999.000
  06AQ19960317,  S04a,    26,  1,     20,      5,2,19960402,   0,-58.0700,   9.6750, 5502,     90.6,  -1.5708,  34.1309,2,  34.1830,2,    313.6,2,    70.01,2,    28.86,2,  -999.00,9,     2.03,2, -999.000,9, -999.000,9, -999.000,9, -999.000,9,   2210.1,2, -999.000,9, -999.000,-999.0000,9,-999.0000,  -999.00,9,  -999.00, -999.000,9, -999.000
  06AQ19960317,  S04a,    26,  1,     21,      4,2,19960402,   0,-58.0700,   9.6750, 5502,     90.7,  -1.5719,  34.1312,2,  34.1840,2,    314.2,2,    69.55,2,    28.96,2,  -999.00,9,     2.03,2,    5.758,2,    2.947,2,    0.442,2,    7.674,2,   2209.7,2, -999.000,9, -999.000,-999.0000,9,-999.0000,  -999.00,9,  -999.00, -999.000,9, -999.000
  06AQ19960317,  S04a,    26,  1,     19,      6,2,19960402,   0,-58.0700,   9.6750, 5502,    100.9,  -1.5633,  34.1848,2,  34.1877,2,    312.9,2,    70.09,2,    28.96,2,  -999.00,9,     2.02,2,    5.602,2,    2.852,2,    0.412,2,    7.536,2,   2208.6,2, -999.000,9, -999.000,-999.0000,9,-999.0000,  -999.00,9,  -999.00, -999.000,9, -999.000
  06AQ19960317,  S04a,    26,  1,     18,      7,2,19960402,   0,-58.0700,   9.6750, 5502,    148.8,   0.2517,  34.6367,2,  34.6391,2,    190.8,2,   115.99,2,    35.50,2,  -999.00,9,     2.42,2,    0.836,2,    0.443,2,    0.055,2,    1.156,2,   2270.3,2, -999.000,9, -999.000,-999.0000,9,-999.0000,  -999.00,9,  -999.00, -999.000,9, -999.000
  06AQ19960317,  S04a,    26,  1,     17,      8,2,19960402,   0,-58.0700,   9.6750, 5502,    180.5,   0.4116,  34.6739,2,  34.6747,2,    184.4,2,   119.43,2,    35.48,2,  -999.00,9,     2.41,2,    0.407,2,    0.228,2,    0.016,2,    0.634,2,   2274.9,2, -999.000,9, -999.000,-999.0000,9,-999.0000,  -999.00,9,  -999.00, -999.000,9, -999.000
  06AQ19960317,  S04a,    26,  1,     16,      9,2,19960402,   0,-58.0700,   9.6750, 5502,    251.1,   0.3700,  34.6802,2,  34.6795,2,    186.1,2,   120.85,2,    35.33,2,  -999.00,9,     2.40,2,    0.228,2,    0.103,2,    0.007,2,    0.449,2,   2274.9,2, -999.000,9, -999.000,-999.0000,9,-999.0000,  -999.00,9,  -999.00, -999.000,9, -999.000
  06AQ19960317,  S04a,    26,  1,     15,     10,2,19960402,   0,-58.0700,   9.6750, 5502,    301.0,   0.3322,  34.6795,2,  34.6790,2,    188.3,2,   124.96,2,    35.17,2,  -999.00,9,     2.41,2,    0.214,2,    0.146,4,    0.008,2,    0.412,2,   2273.9,2, -999.000,9, -999.000,-999.0000,9,-999.0000,  -999.00,9,  -999.00, -999.000,9, -999.000
  06AQ19960317,  S04a,    26,  1,     14,     11,2,19960402,   0,-58.0700,   9.6750, 5502,    401.5,   0.2689,  34.6779,2,  34.6809,2,    189.7,2,   127.76,2,    35.33,2,  -999.00,9,     2.41,2,    0.153,2,    0.070,2,    0.005,2,    0.359,2,   2274.3,2, -999.000,9, -999.000,-999.0000,9,-999.0000,  -999.00,9,  -999.00, -999.000,9, -999.000
  06AQ19960317,  S04a,    26,  1,     13,     12,2,19960402,   0,-58.0700,   9.6750, 5502,    500.6,   0.2097,  34.6765,2,  34.6762,2,    192.5,2,   128.27,2,    35.20,2,  -999.00,9,     2.40,2,    0.149,6,    0.068,6,    0.005,6,    0.354,6,   2274.3,2, -999.000,9, -999.000,-999.0000,9,-999.0000,  -999.00,9,  -999.00, -999.000,9, -999.000
  06AQ19960317,  S04a,    26,  1,     12,     13,2,19960402,   0,-58.0700,   9.6750, 5502,    749.6,   0.0877,  34.6723,2,  34.6730,2,    201.1,2,   128.54,2,    34.39,2,  -999.00,9,     2.35,2,    0.137,2,    0.061,2,    0.001,2,    0.355,2,   2268.4,2, -999.000,9, -999.000,-999.0000,9,-999.0000,  -999.00,9,  -999.00, -999.000,9, -999.000
  06AQ19960317,  S04a,    26,  1,     11,     14,2,19960402,   0,-58.0700,   9.6750, 5502,   1001.6,  -0.0052,  34.6674,2,  34.6687,2,    210.3,2,   128.77,2,    34.06,2,  -999.00,9,     2.34,2,    0.151,2,    0.074,2,   -0.001,2,    0.393,2,   2264.1,2, -999.000,9, -999.000,-999.0000,9,-999.0000,  -999.00,9,  -999.00, -999.000,9, -999.000
  06AQ19960317,  S04a,    26,  1,     10,     15,2,19960402,   0,-58.0700,   9.6750, 5502,   1500.1,  -0.1696,  34.6614,2,  34.6618,2,    221.8,2,   126.78,2,    33.57,2,  -999.00,9,     2.31,2,    0.174,2,    0.084,2,    0.000,2,    0.481,2,   2257.3,2, -999.000,9, -999.000,-999.0000,9,-999.0000,  -999.00,9,  -999.00, -999.000,9, -999.000
  06AQ19960317,  S04a,    26,  1,      9,     16,2,19960402,   0,-58.0700,   9.6750, 5502,   2000.4,  -0.2749,  34.6583,2,  34.6581,2,    229.1,2,   125.74,2,    33.23,2,  -999.00,9,     2.28,2,    0.195,2,    0.092,2,    0.001,2,    0.555,2,   2254.6,2, -999.000,9, -999.000,-999.0000,9,-999.0000,  -999.00,9,  -999.00, -999.000,9, -999.000
  06AQ19960317,  S04a,    26,  1,      8,     17,2,19960402,   0,-58.0700,   9.6750, 5502,   2501.3,  -0.3489,  34.6561,2,  34.6555,2,    233.6,2,   125.10,2,    33.14,2,  -999.00,9,     2.27,2,    0.209,2,    0.101,2,    0.001,2,    0.598,2,   2252.2,2, -999.000,9, -999.000,-999.0000,9,-999.0000,  -999.00,9,  -999.00, -999.000,9, -999.000
  06AQ19960317,  S04a,    26,  1,      7,     18,2,19960402,   0,-58.0700,   9.6750, 5502,   3002.7,  -0.4017,  34.6546,2,  34.6521,2,    237.5,2,   124.12,2,    33.20,2,  -999.00,9,     2.28,2,    0.258,2,    0.123,2,    0.002,2,    0.666,2,   2252.7,2, -999.000,9, -999.000,-999.0000,9,-999.0000,  -999.00,9,  -999.00, -999.000,9, -999.000
  06AQ19960317,  S04a,    26,  1,      6,     19,2,19960402,   0,-58.0700,   9.6750, 5502,   3501.6,  -0.4586,  34.6525,2,  34.6514,2,    242.1,2,   122.29,2,    32.93,2,  -999.00,9,     2.25,2,    0.309,2,    0.147,2,    0.007,2,    0.739,2,   2250.1,2, -999.000,9, -999.000,-999.0000,9,-999.0000,  -999.00,9,  -999.00, -999.000,9, -999.000
  06AQ19960317,  S04a,    26,  1,      5,     20,2,19960402,   0,-58.0700,   9.6750, 5502,   4000.6,  -0.5017,  34.6488,2,  34.6475,2,    245.4,2,   118.79,2,    32.80,2,  -999.00,9,     2.24,2,    0.406,2,    0.194,2,    0.012,2,    0.900,2,   2248.2,2, -999.000,9, -999.000,-999.0000,9,-999.0000,  -999.00,9,  -999.00, -999.000,9, -999.000
  06AQ19960317,  S04a,    26,  1,      4,     21,2,19960402,   0,-58.0700,   9.6750, 5502,   4500.8,  -0.4986,  34.6482,2,  34.6438,2,    247.4,2,   119.44,2,    32.98,2,  -999.00,9,     2.26,2,    0.394,6,    0.190,6,    0.009,6,    0.938,6,   2245.5,2, -999.000,9, -999.000,-999.0000,9,-999.0000,  -999.00,9,  -999.00, -999.000,9, -999.000
  06AQ19960317,  S04a,    26,  1,      3,     22,2,19960402,   0,-58.0700,   9.6750, 5502,   5000.3,  -0.4599,  34.6486,2,  34.6454,2,    246.1,2,   124.66,2,    32.97,2,  -999.00,9,     2.25,2,    0.371,2,    0.185,2,    0.012,2,    0.936,2,   2248.1,2, -999.000,9, -999.000,-999.0000,9,-999.0000,  -999.00,9,  -999.00, -999.000,9, -999.000
  06AQ19960317,  S04a,    26,  1,      2,     23,2,19960402,   0,-58.0700,   9.6750, 5502,   5525.0,  -0.3991,  34.6485,2,  34.6447,2,    245.1,2,   124.95,2,    32.90,2,  -999.00,9,     2.25,2,    0.324,6,    0.163,6,    0.011,6,    0.883,6,   2246.3,2, -999.000,9, -999.000,-999.0000,9,-999.0000,  -999.00,9,  -999.00, -999.000,9, -999.000
  06AQ19960317,  S04a,    26,  1,      1,     24,2,19960402,   0,-58.0700,   9.6750, 5502,   5626.0,  -0.3868,  34.6484,2,-999.0000,9,   -999.0,9,  -999.00,9,  -999.00,9,  -999.00,9,  -999.00,9, -999.000,9, -999.000,9, -999.000,9, -999.000,9,   -999.0,9, -999.000,9, -999.000,-999.0000,9,-999.0000,  -999.00,9,  -999.00, -999.000,9, -999.000
  06AQ19960317,  S04a,    27,  1,     24,      1,2,19960402,   0,-58.3312,   7.7593, 4095,     20.3,   0.4052,  33.8838,2,  33.8840,2,    334.2,2,    52.14,2,    24.14,2,  -999.00,9,     1.70,2,    6.126,6,    3.116,6,    0.472,6,    8.638,6,   2164.6,2,    0.122,2, -999.000,   1.8030,2,   0.0050,    -1.16,2,     0.22,    7.980,2,    0.018
  06AQ19960317,  S04a,    27,  1,     23,      2,2,19960402,   0,-58.3312,   7.7593, 4095,     42.0,   0.4100,  33.8836,2,  33.8845,2,    334.4,2,    52.23,2,    24.18,2,  -999.00,9,     1.71,2,    6.218,2,    3.153,2,    0.535,2,    8.702,2,   2164.5,2, -999.000,9, -999.000,-999.0000,9,-999.0000,  -999.00,9,  -999.00, -999.000,9, -999.000
  06AQ19960317,  S04a,    27,  1,     22,      3,2,19960402,   0,-58.3312,   7.7593, 4095,     81.3,  -0.8487,  34.1142,2,  34.3029,2,    314.4,2,    66.61,2,    28.02,2,  -999.00,9,     1.96,2,    5.313,2,    2.658,2,    0.447,2,    7.298,2,   2199.7,2, -999.000,9, -999.000,   1.8370,2,   0.0050,     0.70,2,     0.22,    8.175,2,    0.018
  06AQ19960317,  S04a,    27,  1,     21,      4,2,19960402,   0,-58.3312,   7.7593, 4095,    102.3,  -1.1990,  34.3113,2,  34.3032,2,    290.5,2,    77.06,2,    30.22,2,  -999.00,9,     2.08,2, -999.000,9, -999.000,9, -999.000,9, -999.000,9,   2219.4,2,    0.239,2, -999.000,   1.8370,2,   0.0050,     1.56,2,     0.22,    8.155,2,    0.018
  06AQ19960317,  S04a,    27,  1,     20,      5,2,19960402,   0,-58.3312,   7.7593, 4095,    102.5,  -1.1959,  34.3125,2,  34.1693,2,    290.3,2,    75.86,2,    30.25,2,  -999.00,9,     2.09,2,    4.790,2,    2.418,2,    0.399,2,    6.388,2,   2220.2,2, -999.000,9, -999.000,-999.0000,9,-999.0000,  -999.00,9,  -999.00, -999.000,9, -999.000
  06AQ19960317,  S04a,    27,  1,     19,      6,2,19960402,   0,-58.3312,   7.7593, 4095,    121.3,  -0.4531,  34.4778,2,  34.4956,2,    233.8,2,    98.42,2,    33.34,2,  -999.00,9,     2.27,2,    2.569,2,    1.266,2,    0.169,2,    3.403,2,   2248.0,2, -999.000,9, -999.000,-999.0000,9,-999.0000,  -999.00,9,  -999.00, -999.000,9, -999.000
  06AQ19960317,  S04a,    27,  1,     18,      7,2,19960402,   0,-58.3312,   7.7593, 4095,    151.9,   0.2058,  34.6371,2,  34.6370,2,    191.9,2,   116.33,2,    35.28,2,  -999.00,9,     2.40,2,    0.800,2,    0.379,2,    0.051,2,    1.129,2,   2266.6,2, -999.000,9, -999.000,   1.8850,2,   0.0050,     7.78,2,     0.22,    8.135,2,    0.018
  06AQ19960317,  S04a,    27,  1,     17,      8,2,19960402,   0,-58.3312,   7.7593, 4095,    191.4,   0.3782,  34.6733,2,  34.6726,2,    184.4,2,   120.21,2,    35.36,2,  -999.00,9,     2.41,2,    0.377,2,    0.173,2,    0.019,2,    0.615,2,   2272.7,2,    0.122,2, -999.000,   1.8550,2,   0.0050,     8.49,2,     0.22,    8.088,2,    0.018
  06AQ19960317,  S04a,    27,  1,     16,      9,2,19960402,   0,-58.3312,   7.7593, 4095,    221.4,   0.3746,  34.6805,2,  34.6809,2,    183.9,2,   122.92,2,    35.47,2,  -999.00,9,     2.42,2,    0.254,2,    0.112,2,    0.009,2,    0.480,2,   2274.7,2, -999.000,9, -999.000,   1.8550,2,   0.0050,     8.52,2,     0.22,    8.105,2,    0.018
  06AQ19960317,  S04a,    27,  1,     15,     10,2,19960402,   0,-58.3312,   7.7593, 4095,    250.5,   0.3458,  34.6814,2,  34.6808,2,    185.1,2,   124.24,2,    35.38,2,  -999.00,9,     2.42,2, -999.000,9, -999.000,9, -999.000,9, -999.000,9,   2274.1,2, -999.000,9, -999.000,   1.8780,2,   0.0050,     8.65,2,     0.22,    8.150,2,    0.018
  06AQ19960317,  S04a,    27,  1,     14,     11,2,19960402,   0,-58.3312,   7.7593, 4095,    300.9,   0.3223,  34.6812,2,  34.6805,2,    186.1,2,   124.75,2,    35.24,2,  -999.00,9,     2.41,2,    0.180,2,    0.080,2,    0.006,2,    0.391,2,   2273.4,2, -999.000,9, -999.000,   1.8700,2,   0.0050,     8.52,2,     0.22,    8.139,2,    0.018
  06AQ19960317,  S04a,    27,  1,     13,     12,2,19960402,   0,-58.3312,   7.7593, 4095,    351.9,   0.2844,  34.6804,2,  34.6803,2,    187.8,2,   126.42,2,    35.25,2,  -999.00,9,     2.41,2,    0.164,2,    0.074,2,    0.005,2,    0.381,2,   2272.6,2, -999.000,9, -999.000,-999.0000,9,-999.0000,  -999.00,9,  -999.00, -999.000,9, -999.000
  06AQ19960317,  S04a,    27,  1,     12,     13,2,19960402,   0,-58.3312,   7.7593, 4095,    401.8,   0.2526,  34.6796,2,  34.6829,2,    189.4,2,   126.87,2,    35.18,2,  -999.00,9,     2.41,2,    0.147,2,    0.063,2,    0.001,2,    0.344,2,   2272.9,2, -999.000,9, -999.000,-999.0000,9,-999.0000,  -999.00,9,  -999.00, -999.000,9, -999.000
  06AQ19960317,  S04a,    27,  1,     11,     14,2,19960402,   0,-58.3312,   7.7593, 4095,    500.4,   0.1950,  34.6778,2,  34.6767,2,    193.8,2,   127.79,2,    34.78,2,  -999.00,9,     2.37,2,    0.134,6,    0.060,6,    0.003,6,    0.332,6,   2269.4,2,    0.078,2, -999.000,   1.8830,2,   0.0050,     8.29,2,     0.22,    8.162,2,    0.018
  06AQ19960317,  S04a,    27,  1,     10,     15,2,19960402,   0,-58.3312,   7.7593, 4095,    750.9,   0.0931,  34.6747,2,  34.6731,2,    202.4,2,   128.35,2,    34.37,2,  -999.00,9,     2.35,2,    0.134,2,    0.062,2,    0.002,2,    0.359,2,   2265.8,2, -999.000,9, -999.000,-999.0000,9,-999.0000,  -999.00,9,  -999.00, -999.000,9, -999.000
  06AQ19960317,  S04a,    27,  1,      9,     16,2,19960402,   0,-58.3312,   7.7593, 4095,   1001.8,  -0.0081,  34.6695,2,  34.6685,2,    210.6,2,   127.56,2,    34.07,2,  -999.00,9,     2.34,2,    0.140,2,    0.064,2,    0.003,2,    0.378,2,   2263.7,2,    0.053,2, -999.000,-999.0000,9,-999.0000,  -999.00,9,  -999.00, -999.000,9, -999.000
  06AQ19960317,  S04a,    27,  1,      8,     17,2,19960402,   0,-58.3312,   7.7593, 4095,   1501.2,  -0.1594,  34.6632,2,  34.6624,2,    221.0,2,   126.50,2,    33.52,2,  -999.00,9,     2.30,2,    0.153,2,    0.072,2,    0.002,2,    0.455,2,   2257.1,2, -999.000,9, -999.000,-999.0000,9,-999.0000,  -999.00,9,  -999.00, -999.000,9, -999.000
  06AQ19960317,  S04a,    27,  1,      7,     18,2,19960402,   0,-58.3312,   7.7593, 4095,   1999.2,  -0.2685,  34.6596,2,  34.6581,2,    228.6,2,   126.24,2,    33.29,2,  -999.00,9,     2.28,2,    0.185,2,    0.090,2,    0.002,2,    0.549,2,   2253.9,2, -999.000,9, -999.000,   1.8760,2,   0.0050,     6.45,2,     0.22,    8.211,2,    0.018
  06AQ19960317,  S04a,    27,  1,      6,     19,2,19960402,   0,-58.3312,   7.7593, 4095,   2494.7,  -0.3438,  34.6576,2,  34.6553,2,    233.3,2,   125.03,2,    33.13,2,  -999.00,9,     2.27,2,    0.197,2,    0.094,2,    0.004,2,    0.546,2,   2251.5,2, -999.000,9, -999.000,-999.0000,9,-999.0000,  -999.00,9,  -999.00, -999.000,9, -999.000
  06AQ19960317,  S04a,    27,  1,      5,     20,2,19960402,   0,-58.3312,   7.7593, 4095,   3001.1,  -0.4045,  34.6549,2,  34.6524,2,    237.4,2,   124.81,2,    32.99,2,  -999.00,9,     2.25,2,    0.219,2,    0.106,2,    0.004,2,    0.613,2,   2252.4,2,    0.069,2, -999.000,-999.0000,9,-999.0000,  -999.00,9,  -999.00, -999.000,9, -999.000
  06AQ19960317,  S04a,    27,  1,      4,     21,2,19960402,   0,-58.3312,   7.7593, 4095,   3504.0,  -0.4677,  34.6524,2,  34.6489,2,    241.8,2,   123.65,2,    32.84,2,  -999.00,9,     2.25,2,    0.254,2,    0.122,2,    0.005,2,    0.690,2,   2251.5,2, -999.000,9, -999.000,-999.0000,9,-999.0000,  -999.00,9,  -999.00, -999.000,9, -999.000
  06AQ19960317,  S04a,    27,  1,      3,     22,2,19960402,   0,-58.3312,   7.7593, 4095,   3998.5,  -0.5131,  34.6496,2,  34.6450,2,    245.1,2,   121.21,2,    32.83,2,  -999.00,9,     2.24,2,    0.390,2,    0.189,2,    0.010,2,    0.879,2,   2248.0,2,    0.080,2, -999.000,   1.9120,2,   0.0050,     4.76,2,     0.22,    8.326,2,    0.019
  06AQ19960317,  S04a,    27,  1,      2,     23,2,19960402,   0,-58.3312,   7.7593, 4095,   4139.8,  -0.5080,  34.6491,2,  34.6445,2,    245.7,2,   121.69,2,    32.75,2,  -999.00,9,     2.24,2,    0.394,2,    0.191,2,    0.009,2,    0.887,2,   2246.7,2,    0.135,2, -999.000,-999.0000,9,-999.0000,  -999.00,9,  -999.00, -999.000,9, -999.000
  06AQ19960317,  S04a,    27,  1,      1,     24,2,19960402,   0,-58.3312,   7.7593, 4095,   4235.4,  -0.5064,  34.6484,2,  34.6448,2,    245.1,2,   121.40,2,    32.82,2,  -999.00,9,     2.25,2,    0.412,2,    0.199,2,    0.010,2,    0.929,2,   2247.5,2, -999.000,9, -999.000,   1.8900,2,   0.0050,     4.70,2,     0.22,    8.267,2,    0.018