BOTTLE,20150129PRINUNIVRMK
EXPOCODE,SECT_ID,STNNBR,CASTNO,SAMPNO,BTLNBR,BTLNBR_FLAG_W,DATE,TIME,LATITUDE,LONGITUDE,DEPTH,CTDPRS,CTDTMP,CTDSAL,CTDSAL_FLAG_W,SALNTY,SALNTY_FLAG_W,OXYGEN,OXYGEN_FLAG_W,SILCAT,SILCAT_FLAG_W,NITRAT,NITRAT_FLAG_W,NITRIT,NITRIT_FLAG_W,PHSPHT,PHSPHT_FLAG_W,CFC-11,CFC-11_FLAG_W,CFC-12,CFC-12_FLAG_W,CFC113,CFC113_FLAG_W,CCL4,CCL4_FLAG_W,TCARBN,TCARBN_FLAG_W,TRITUM,TRITUM_FLAG_W,TRITER,HELIUM,HELIUM_FLAG_W,HELIER,DELHE3,DELHE3_FLAG_W,DELHER,NEON,NEON_FLAG_W,NEONER
,,,,,,,,,,,METERS,DBAR,ITS-90,PSS-78,,PSS-78,,UMOL/KG,,UMOL/KG,,UMOL/KG,,UMOL/KG,,UMOL/KG,,PMOL/KG,,PMOL/KG,,PMOL/KG,,PMOL/KG,,UMOL/KG,,TU,,TU,NMOL/KG,,NMOL/KG,PERCNT,,PERCNT,NMOL/KG,,NMOL/KG
  06AQ19960317,  S04a,    31,  1,     22,      3,2,19960404,   0,-59.0015,   0.0000, 4590,     20.2,   0.3105,  34.0369,2,  34.0390,2,    332.6,2,    63.90,2,    26.73,2,  -999.00,9,     1.85,2, -999.000,9, -999.000,9, -999.000,9, -999.000,9,   2185.1,2, -999.000,9, -999.000,-999.0000,9,-999.0000,  -999.00,9,  -999.00, -999.000,9, -999.000
  06AQ19960317,  S04a,    31,  1,     23,      2,2,19960404,   0,-59.0015,   0.0000, 4590,     20.3,   0.3105,  34.0369,2,  34.0381,2,   -999.0,9,    63.90,2,    26.78,2,  -999.00,9,     1.85,2, -999.000,9, -999.000,9, -999.000,9, -999.000,9,   -999.0,9, -999.000,9, -999.000,-999.0000,9,-999.0000,  -999.00,9,  -999.00, -999.000,9, -999.000
  06AQ19960317,  S04a,    31,  1,     24,      1,2,19960404,   0,-59.0015,   0.0000, 4590,     20.4,   0.3105,  34.0369,2,  34.0398,2,   -999.0,9,    64.60,2,    26.83,2,  -999.00,9,     1.84,2,    5.939,2,    2.984,2,    0.483,2,    8.434,2,   -999.0,9, -999.000,9, -999.000,-999.0000,9,-999.0000,  -999.00,9,  -999.00, -999.000,9, -999.000
  06AQ19960317,  S04a,    31,  1,     21,      4,2,19960404,   0,-59.0015,   0.0000, 4590,     39.7,   0.3122,  34.0370,2,  34.0411,2,    332.7,2,    64.40,2,    26.69,2,  -999.00,9,     1.85,2, -999.000,9, -999.000,9, -999.000,9, -999.000,9,   2183.9,2, -999.000,9, -999.000,-999.0000,9,-999.0000,  -999.00,9,  -999.00, -999.000,9, -999.000
  06AQ19960317,  S04a,    31,  1,     20,      5,2,19960404,   0,-59.0015,   0.0000, 4590,     39.8,   0.3122,  34.0372,2,  34.0385,2,    332.3,2,    64.30,2,    26.92,2,  -999.00,9,     1.86,2,    5.908,2,    2.973,2,    0.513,2,    8.455,2,   2186.5,2, -999.000,9, -999.000,-999.0000,9,-999.0000,  -999.00,9,  -999.00, -999.000,9, -999.000
  06AQ19960317,  S04a,    31,  1,     19,      6,2,19960404,   0,-59.0015,   0.0000, 4590,     59.9,   0.3092,  34.0379,2,  34.0388,2,    331.7,2,    64.30,2,    26.66,2,  -999.00,9,     1.86,2, -999.000,9, -999.000,9, -999.000,9, -999.000,9,   2184.3,2, -999.000,9, -999.000,-999.0000,9,-999.0000,  -999.00,9,  -999.00, -999.000,9, -999.000
  06AQ19960317,  S04a,    31,  1,     18,      7,2,19960404,   0,-59.0015,   0.0000, 4590,     60.0,   0.3086,  34.0375,2,  34.0392,2,    332.4,2,    64.20,2,    26.76,2,  -999.00,9,     1.87,2, -999.000,9, -999.000,9, -999.000,9, -999.000,9,   2185.2,2, -999.000,9, -999.000,-999.0000,9,-999.0000,  -999.00,9,  -999.00, -999.000,9, -999.000
  06AQ19960317,  S04a,    31,  1,     16,      9,2,19960404,   0,-59.0015,   0.0000, 4590,     81.0,   0.2124,  34.0558,2,  34.0545,2,    330.7,2,    64.79,2,    26.86,2,  -999.00,9,     1.86,2,    5.832,2,    2.944,2,    0.504,2,    8.270,2,   2183.4,2, -999.000,9, -999.000,-999.0000,9,-999.0000,  -999.00,9,  -999.00, -999.000,9, -999.000
  06AQ19960317,  S04a,    31,  1,     17,      8,2,19960404,   0,-59.0015,   0.0000, 4590,     81.2,   0.2237,  34.0528,2,  34.0554,2,    331.0,2,    64.89,2,    26.91,2,  -999.00,9,     1.87,2, -999.000,9, -999.000,9, -999.000,9, -999.000,9,   2187.0,2, -999.000,9, -999.000,-999.0000,9,-999.0000,  -999.00,9,  -999.00, -999.000,9, -999.000
  06AQ19960317,  S04a,    31,  1,     15,     10,2,19960404,   0,-59.0015,   0.0000, 4590,    100.8,  -1.2120,  34.2957,2,  34.2982,2,    300.5,2,    75.39,2,    28.94,2,  -999.00,9,     2.01,2, -999.000,9, -999.000,9, -999.000,9, -999.000,9,   2215.0,2, -999.000,9, -999.000,-999.0000,9,-999.0000,  -999.00,9,  -999.00, -999.000,9, -999.000
  06AQ19960317,  S04a,    31,  1,     14,     11,2,19960404,   0,-59.0015,   0.0000, 4590,    100.8,  -1.2101,  34.2949,2,  34.2963,2,    300.5,2,    75.59,2,    29.01,2,  -999.00,9,     2.01,2,    4.951,2,    2.449,2,    0.408,2,    6.553,2,   2215.9,2, -999.000,9, -999.000,-999.0000,9,-999.0000,  -999.00,9,  -999.00, -999.000,9, -999.000
  06AQ19960317,  S04a,    31,  1,     12,     13,2,19960404,   0,-59.0015,   0.0000, 4590,    120.7,  -1.1726,  34.3932,2,-999.0000,9,   -999.0,9,    81.68,2,    30.29,2,  -999.00,9,     2.11,2, -999.000,9, -999.000,9, -999.000,9, -999.000,9,   -999.0,9, -999.000,9, -999.000,-999.0000,9,-999.0000,  -999.00,9,  -999.00, -999.000,9, -999.000
  06AQ19960317,  S04a,    31,  1,     11,     14,2,19960404,   0,-59.0015,   0.0000, 4590,    120.7,  -1.1794,  34.3922,2,-999.0000,9,   -999.0,9,    81.88,2,    30.39,2,  -999.00,9,     2.11,2, -999.000,9, -999.000,9, -999.000,9, -999.000,9,   -999.0,9, -999.000,9, -999.000,-999.0000,9,-999.0000,  -999.00,9,  -999.00, -999.000,9, -999.000
  06AQ19960317,  S04a,    31,  1,     13,     12,2,19960404,   0,-59.0015,   0.0000, 4590,    120.8,  -1.1722,  34.3936,2,  34.3945,2,    278.2,2,    80.89,2,    30.27,2,  -999.00,9,     2.11,2,    4.207,2,    2.063,2,    0.336,2,    5.385,2,   2225.2,2, -999.000,9, -999.000,-999.0000,9,-999.0000,  -999.00,9,  -999.00, -999.000,9, -999.000
  06AQ19960317,  S04a,    31,  1,     10,     15,2,19960404,   0,-59.0015,   0.0000, 4590,    150.3,  -0.5213,  34.5235,2,  34.5306,2,    235.4,2,    95.63,2,    32.90,2,  -999.00,9,     2.24,2,    2.590,2,    1.248,2,    0.187,2,    3.355,2,   2246.3,2, -999.000,9, -999.000,-999.0000,9,-999.0000,  -999.00,9,  -999.00, -999.000,9, -999.000
  06AQ19960317,  S04a,    31,  1,      9,     16,2,19960404,   0,-59.0015,   0.0000, 4590,    201.0,   0.1715,  34.6375,2,  34.6357,2,    200.1,2,   108.11,2,    34.12,2,  -999.00,9,     2.33,2, -999.000,9, -999.000,9, -999.000,9, -999.000,9,   2262.4,2, -999.000,9, -999.000,-999.0000,9,-999.0000,  -999.00,9,  -999.00, -999.000,9, -999.000
  06AQ19960317,  S04a,    31,  1,      8,     17,2,19960404,   0,-59.0015,   0.0000, 4590,    201.0,   0.1715,  34.6375,2,  34.6377,2,    198.6,2,   109.87,2,    34.27,2,  -999.00,9,     2.34,2,    1.078,2,    0.507,2,    0.063,2,    1.428,2,   2264.1,2, -999.000,9, -999.000,-999.0000,9,-999.0000,  -999.00,9,  -999.00, -999.000,9, -999.000
  06AQ19960317,  S04a,    31,  1,      7,     18,2,19960404,   0,-59.0015,   0.0000, 4590,    252.0,   0.3718,  34.6679,2,  34.6684,2,    190.4,2,   115.18,2,    34.64,2,  -999.00,9,     2.38,2,    0.579,2,    0.261,2,    0.026,2,    0.835,2,   2266.7,2, -999.000,9, -999.000,-999.0000,9,-999.0000,  -999.00,9,  -999.00, -999.000,9, -999.000
  06AQ19960317,  S04a,    31,  1,      6,     19,2,19960404,   0,-59.0015,   0.0000, 4590,    282.3,   0.4324,  34.6786,2,  34.6776,2,    187.7,2,   117.04,2,    34.62,2,  -999.00,9,     2.38,2,    0.430,2,    0.194,2,    0.016,2,    0.659,2,   2266.1,2, -999.000,9, -999.000,-999.0000,9,-999.0000,  -999.00,9,  -999.00, -999.000,9, -999.000
  06AQ19960317,  S04a,    31,  1,      5,     20,2,19960404,   0,-59.0015,   0.0000, 4590,    282.5,   0.4333,  34.6787,2,-999.0000,9,   -999.0,9,   116.74,2,    34.63,2,  -999.00,9,     2.37,2, -999.000,9, -999.000,9, -999.000,9, -999.000,9,   -999.0,9, -999.000,9, -999.000,-999.0000,9,-999.0000,  -999.00,9,  -999.00, -999.000,9, -999.000
  06AQ19960317,  S04a,    31,  1,      4,     21,2,19960404,   0,-59.0015,   0.0000, 4590,    282.6,   0.4338,  34.6787,2,-999.0000,9,   -999.0,9,   117.33,2,    34.83,2,  -999.00,9,     2.37,2, -999.000,9, -999.000,9, -999.000,9, -999.000,9,   -999.0,9, -999.000,9, -999.000,-999.0000,9,-999.0000,  -999.00,9,  -999.00, -999.000,9, -999.000
  06AQ19960317,  S04a,    31,  1,      3,     22,2,19960404,   0,-59.0015,   0.0000, 4590,    301.7,   0.4370,  34.6810,2,  34.6810,2,    187.2,2,   118.22,2,    34.59,2,  -999.00,9,     2.36,2,    0.373,2,    0.165,2,    0.016,2,    0.608,2,   2267.2,2, -999.000,9, -999.000,-999.0000,9,-999.0000,  -999.00,9,  -999.00, -999.000,9, -999.000
  06AQ19960317,  S04a,    31,  1,      2,     23,2,19960404,   0,-59.0015,   0.0000, 4590,    401.9,   0.4131,  34.6850,2,  34.6857,2,    188.0,2,   121.37,2,    34.77,2,  -999.00,9,     2.36,2,    0.228,2,    0.100,2,    0.007,2,    0.450,2,   2271.7,2, -999.000,9, -999.000,-999.0000,9,-999.0000,  -999.00,9,  -999.00, -999.000,9, -999.000
  06AQ19960317,  S04a,    31,  1,      1,     24,2,19960404,   0,-59.0015,   0.0000, 4590,    506.3,   0.3616,  34.6851,2,  34.6839,2,   -999.0,9,   124.41,2,    34.82,2,  -999.00,9,     2.39,2,    0.155,2,    0.070,2,    0.006,2,    0.374,2,   2272.6,2, -999.000,9, -999.000,-999.0000,9,-999.0000,  -999.00,9,  -999.00, -999.000,9, -999.000
  06AQ19960317,  S04a,    31,  4,     24,      1,2,19960404,   0,-59.0015,   0.0000, 4590,    501.4,   0.3458,  34.6825,2,  34.6816,2,    189.7,2,   122.14,2,    34.69,2,  -999.00,9,     2.37,2,    0.147,2,    0.063,2,    0.003,2,    0.347,2,   2271.1,2, -999.000,9, -999.000,-999.0000,9,-999.0000,  -999.00,9,  -999.00, -999.000,9, -999.000
  06AQ19960317,  S04a,    31,  4,     23,      2,2,19960404,   0,-59.0015,   0.0000, 4590,    601.0,   0.2945,  34.6809,2,  34.6803,2,    192.8,2,   122.72,2,    34.63,2,  -999.00,9,     2.35,2,    0.130,2,    0.056,2,    0.004,2,    0.331,2,   2271.3,2, -999.000,9, -999.000,-999.0000,9,-999.0000,  -999.00,9,  -999.00, -999.000,9, -999.000
  06AQ19960317,  S04a,    31,  4,     22,      3,2,19960404,   0,-59.0015,   0.0000, 4590,    801.1,   0.2018,  34.6770,2,  34.6764,2,    198.3,2,   124.18,2,    34.44,2,  -999.00,9,     2.34,2,    0.128,2,    0.057,2,    0.003,2,    0.339,2,   2269.6,2, -999.000,9, -999.000,-999.0000,9,-999.0000,  -999.00,9,  -999.00, -999.000,9, -999.000
  06AQ19960317,  S04a,    31,  4,     20,      5,2,19960404,   0,-59.0015,   0.0000, 4590,   1001.2,   0.1149,  34.6757,2,  34.6732,2,    203.9,2,   123.79,2,    34.11,2,  -999.00,9,     2.33,2,    0.125,2,    0.052,2,    0.003,2,    0.328,2,   2266.3,2, -999.000,9, -999.000,-999.0000,9,-999.0000,  -999.00,9,  -999.00, -999.000,9, -999.000
  06AQ19960317,  S04a,    31,  4,     21,      4,2,19960404,   0,-59.0015,   0.0000, 4590,   1001.6,   0.1148,  34.6751,2,-999.0000,9,   -999.0,9,   124.66,2,    34.25,2,  -999.00,9,     2.33,2, -999.000,9, -999.000,9, -999.000,9, -999.000,9,   -999.0,9, -999.000,9, -999.000,-999.0000,9,-999.0000,  -999.00,9,  -999.00, -999.000,9, -999.000
  06AQ19960317,  S04a,    31,  4,     19,      6,2,19960404,   0,-59.0015,   0.0000, 4590,   1249.9,   0.0208,  34.6705,2,  34.6687,2,    211.5,2,   123.20,2,    33.87,2,  -999.00,9,     2.31,2,    0.162,2,    0.067,2,    0.003,2,    0.379,2,   2264.9,2, -999.000,9, -999.000,-999.0000,9,-999.0000,  -999.00,9,  -999.00, -999.000,9, -999.000
  06AQ19960317,  S04a,    31,  4,     18,      7,2,19960404,   0,-59.0015,   0.0000, 4590,   1501.9,  -0.0680,  34.6663,2,  34.6659,2,    215.9,2,   123.11,2,    33.70,2,  -999.00,9,     2.31,2,    0.143,2,    0.065,2,    0.003,2,    0.385,2,   2259.9,2, -999.000,9, -999.000,-999.0000,9,-999.0000,  -999.00,9,  -999.00, -999.000,9, -999.000
  06AQ19960317,  S04a,    31,  4,     17,      8,2,19960404,   0,-59.0015,   0.0000, 4590,   1747.9,  -0.1403,  34.6639,2,-999.0000,9,    221.8,2,   123.11,2,    33.56,2,  -999.00,9,     2.30,2,    0.160,2,    0.073,2,    0.004,2,    0.437,2,   2259.9,2, -999.000,9, -999.000,-999.0000,9,-999.0000,  -999.00,9,  -999.00, -999.000,9, -999.000
  06AQ19960317,  S04a,    31,  4,     16,      9,2,19960404,   0,-59.0015,   0.0000, 4590,   2001.3,  -0.2072,  34.6619,2,-999.0000,9,    226.0,2,   122.42,2,    33.46,2,  -999.00,9,     2.29,2,    0.222,2,    0.097,2,    0.004,2,    0.521,2,   2257.6,2, -999.000,9, -999.000,-999.0000,9,-999.0000,  -999.00,9,  -999.00, -999.000,9, -999.000
  06AQ19960317,  S04a,    31,  4,     15,     10,2,19960404,   0,-59.0015,   0.0000, 4590,   2501.3,  -0.2942,  34.6574,2,  34.6588,2,    231.3,2,   122.23,2,    33.16,2,  -999.00,9,     2.28,2,    0.287,2,    0.136,2,    0.008,2,    0.612,2,   2256.6,2, -999.000,9, -999.000,-999.0000,9,-999.0000,  -999.00,9,  -999.00, -999.000,9, -999.000
  06AQ19960317,  S04a,    31,  4,     13,     12,2,19960404,   0,-59.0015,   0.0000, 4590,   2502.0,  -0.2947,  34.6585,2,-999.0000,9,   -999.0,9,   122.14,2,    33.19,2,  -999.00,9,     2.27,2, -999.000,9, -999.000,9, -999.000,9, -999.000,9,   -999.0,9, -999.000,9, -999.000,-999.0000,9,-999.0000,  -999.00,9,  -999.00, -999.000,9, -999.000
  06AQ19960317,  S04a,    31,  4,     14,     11,2,19960404,   0,-59.0015,   0.0000, 4590,   2502.1,  -0.2949,  34.6578,2,-999.0000,9,   -999.0,9,   121.55,2,    33.12,2,  -999.00,9,     2.27,2, -999.000,9, -999.000,9, -999.000,9, -999.000,9,   -999.0,9, -999.000,9, -999.000,-999.0000,9,-999.0000,  -999.00,9,  -999.00, -999.000,9, -999.000
  06AQ19960317,  S04a,    31,  4,     12,     13,2,19960404,   0,-59.0015,   0.0000, 4590,   3000.7,  -0.3546,  34.6544,2,  34.6553,2,    235.6,2,   120.28,2,    33.05,2,  -999.00,9,     2.27,2,    0.381,6,    0.172,6,    0.008,6,    0.749,6,   2250.7,2, -999.000,9, -999.000,-999.0000,9,-999.0000,  -999.00,9,  -999.00, -999.000,9, -999.000
  06AQ19960317,  S04a,    31,  4,     11,     14,2,19960404,   0,-59.0015,   0.0000, 4590,   3500.7,  -0.3955,  34.6532,2,  34.6541,2,    239.5,2,   119.31,2,    33.03,2,  -999.00,9,     2.26,2,    0.393,6,    0.179,6,    0.011,6,    0.773,6,   2250.4,2, -999.000,9, -999.000,-999.0000,9,-999.0000,  -999.00,9,  -999.00, -999.000,9, -999.000
  06AQ19960317,  S04a,    31,  4,      8,     17,2,19960404,   0,-59.0015,   0.0000, 4590,   4001.1,  -0.4290,  34.6499,2,-999.0000,9,   -999.0,9,   116.58,2,    32.84,2,  -999.00,9,     2.25,2, -999.000,9, -999.000,9, -999.000,9, -999.000,9,   -999.0,9, -999.000,9, -999.000,-999.0000,9,-999.0000,  -999.00,9,  -999.00, -999.000,9, -999.000
  06AQ19960317,  S04a,    31,  4,     10,     15,2,19960404,   0,-59.0015,   0.0000, 4590,   4001.7,  -0.4289,  34.6494,2,  34.6484,2,    243.0,2,   116.38,2,    32.89,2,  -999.00,9,     2.25,2,    0.565,6,    0.259,6,    0.018,6,    0.948,6,   2249.4,2, -999.000,9, -999.000,-999.0000,9,-999.0000,  -999.00,9,  -999.00, -999.000,9, -999.000
  06AQ19960317,  S04a,    31,  4,      9,     16,2,19960404,   0,-59.0015,   0.0000, 4590,   4001.7,  -0.4287,  34.6500,2,-999.0000,9,   -999.0,9,   115.99,2,    32.73,2,  -999.00,9,     2.25,2, -999.000,9, -999.000,9, -999.000,9, -999.000,9,   -999.0,9, -999.000,9, -999.000,-999.0000,9,-999.0000,  -999.00,9,  -999.00, -999.000,9, -999.000
  06AQ19960317,  S04a,    31,  4,      5,     20,2,19960404,   0,-59.0015,   0.0000, 4590,   4539.4,  -0.4626,  34.6465,2,-999.0000,9,   -999.0,9,   114.63,2,    32.75,2,  -999.00,9,     2.24,2, -999.000,9, -999.000,9, -999.000,9, -999.000,9,   -999.0,9, -999.000,9, -999.000,-999.0000,9,-999.0000,  -999.00,9,  -999.00, -999.000,9, -999.000
  06AQ19960317,  S04a,    31,  4,      6,     19,2,19960404,   0,-59.0015,   0.0000, 4590,   4540.8,  -0.4624,  34.6463,2,-999.0000,9,   -999.0,9,   114.24,2,    32.80,2,  -999.00,9,     2.24,2, -999.000,9, -999.000,9, -999.000,9, -999.000,9,   -999.0,9, -999.000,9, -999.000,-999.0000,9,-999.0000,  -999.00,9,  -999.00, -999.000,9, -999.000
  06AQ19960317,  S04a,    31,  4,      7,     18,2,19960404,   0,-59.0015,   0.0000, 4590,   4543.0,  -0.4625,  34.6464,2,  34.6476,2,    246.3,2,   113.85,2,    32.71,2,  -999.00,9,     2.25,2,    0.671,2,    0.305,2,    0.018,2,    1.086,2,   2248.7,2, -999.000,9, -999.000,-999.0000,9,-999.0000,  -999.00,9,  -999.00, -999.000,9, -999.000
  06AQ19960317,  S04a,    31,  4,      3,     22,2,19960404,   0,-59.0015,   0.0000, 4590,   4639.4,  -0.4654,  34.6459,2,  34.6464,2,    246.6,2,   114.63,2,    32.74,2,  -999.00,9,     2.24,2,    0.703,2,    0.322,2,    0.024,2,    1.100,2,   2249.1,2, -999.000,9, -999.000,-999.0000,9,-999.0000,  -999.00,9,  -999.00, -999.000,9, -999.000
  06AQ19960317,  S04a,    31,  4,      2,     23,2,19960404,   0,-59.0015,   0.0000, 4590,   4639.5,  -0.4648,  34.6463,2,-999.0000,9,   -999.0,9,   113.76,2,    32.66,2,  -999.00,9,     2.25,2, -999.000,9, -999.000,9, -999.000,9, -999.000,9,   -999.0,9, -999.000,9, -999.000,-999.0000,9,-999.0000,  -999.00,9,  -999.00, -999.000,9, -999.000
  06AQ19960317,  S04a,    31,  4,      4,     21,2,19960404,   0,-59.0015,   0.0000, 4590,   4639.7,  -0.4654,  34.6461,2,-999.0000,9,   -999.0,9,   114.63,2,    32.76,2,  -999.00,9,     2.25,2, -999.000,9, -999.000,9, -999.000,9, -999.000,9,   -999.0,9, -999.000,9, -999.000,-999.0000,9,-999.0000,  -999.00,9,  -999.00, -999.000,9, -999.000
  06AQ19960317,  S04a,    31,  4,      1,     24,2,19960404,   0,-59.0015,   0.0000, 4590,   4639.7,  -0.4659,  34.6464,2,-999.0000,9,   -999.0,9,   114.83,2,    32.72,2,  -999.00,9,     2.24,2, -999.000,9, -999.000,9, -999.000,9, -999.000,9,   -999.0,9, -999.000,9, -999.000,-999.0000,9,-999.0000,  -999.00,9,  -999.00, -999.000,9, -999.000