BOTTLE,20150129PRINUNIVRMK
EXPOCODE,SECT_ID,STNNBR,CASTNO,SAMPNO,BTLNBR,BTLNBR_FLAG_W,DATE,TIME,LATITUDE,LONGITUDE,DEPTH,CTDPRS,CTDTMP,CTDSAL,CTDSAL_FLAG_W,SALNTY,SALNTY_FLAG_W,OXYGEN,OXYGEN_FLAG_W,SILCAT,SILCAT_FLAG_W,NITRAT,NITRAT_FLAG_W,NITRIT,NITRIT_FLAG_W,PHSPHT,PHSPHT_FLAG_W,CFC-11,CFC-11_FLAG_W,CFC-12,CFC-12_FLAG_W,CFC113,CFC113_FLAG_W,CCL4,CCL4_FLAG_W,TCARBN,TCARBN_FLAG_W,TRITUM,TRITUM_FLAG_W,TRITER,HELIUM,HELIUM_FLAG_W,HELIER,DELHE3,DELHE3_FLAG_W,DELHER,NEON,NEON_FLAG_W,NEONER
,,,,,,,,,,,METERS,DBAR,ITS-90,PSS-78,,PSS-78,,UMOL/KG,,UMOL/KG,,UMOL/KG,,UMOL/KG,,UMOL/KG,,PMOL/KG,,PMOL/KG,,PMOL/KG,,PMOL/KG,,UMOL/KG,,TU,,TU,NMOL/KG,,NMOL/KG,PERCNT,,PERCNT,NMOL/KG,,NMOL/KG
  06AQ19960317,  S04a,     7,  2,     24,      1,2,19960324,   0,-54.0000,  36.7500, 4758,    299.4,   1.7751,  34.3241,2,  34.3243,2,    216.8,2,    58.82,2,    34.99,2,  -999.00,9,     2.33,2,    2.314,2,    1.121,2,    0.150,2,    3.146,2,   -999.0,9, -999.000,9, -999.000,-999.0000,9,-999.0000,  -999.00,9,  -999.00, -999.000,9, -999.000
  06AQ19960317,  S04a,     7,  2,     23,      2,2,19960324,   0,-54.0000,  36.7500, 4758,    400.2,   1.8206,  34.4192,2,  34.4198,2,    198.1,2,    67.28,2,    35.55,2,  -999.00,9,     2.39,2,    1.643,2,    0.784,2,    0.102,2,    2.267,2,   2254.9,2,    0.200,2, -999.000,   1.8150,2,   0.0050,     5.94,2,     0.22,    7.968,2,    0.018
  06AQ19960317,  S04a,     7,  2,     22,      3,2,19960324,   0,-54.0000,  36.7500, 4758,    498.9,   2.0022,  34.5184,2,  34.5205,2,    181.6,2,    73.54,2,    35.42,2,  -999.00,9,     2.42,2,    0.952,2,    0.455,2,    0.059,2,    1.361,2,   2263.4,2, -999.000,9, -999.000,-999.0000,9,-999.0000,  -999.00,9,  -999.00, -999.000,9, -999.000
  06AQ19960317,  S04a,     7,  2,     19,      6,2,19960324,   0,-54.0000,  36.7500, 4758,    671.3,   2.1067,  34.6229,2,-999.0000,9,   -999.0,9,    78.85,2,    34.18,2,  -999.00,9,     2.34,2, -999.000,9, -999.000,9, -999.000,9, -999.000,9,   -999.0,9, -999.000,9, -999.000,-999.0000,9,-999.0000,  -999.00,9,  -999.00, -999.000,9, -999.000
  06AQ19960317,  S04a,     7,  2,     21,      4,2,19960324,   0,-54.0000,  36.7500, 4758,    671.9,   2.1071,  34.6222,2,  34.6240,2,    176.3,2,    78.18,2,    34.38,2,  -999.00,9,     2.33,2,    0.414,2,    0.206,2,    0.030,2,    0.673,2,   2264.7,2,    0.063,2, -999.000,-999.0000,9,-999.0000,  -999.00,9,  -999.00, -999.000,9, -999.000
  06AQ19960317,  S04a,     7,  2,     20,      5,2,19960324,   0,-54.0000,  36.7500, 4758,    671.9,   2.1071,  34.6222,2,-999.0000,9,   -999.0,9,    78.57,2,    34.17,2,  -999.00,9,     2.35,2, -999.000,9, -999.000,9, -999.000,9, -999.000,9,   -999.0,9, -999.000,9, -999.000,-999.0000,9,-999.0000,  -999.00,9,  -999.00, -999.000,9, -999.000
  06AQ19960317,  S04a,     7,  2,     18,      7,2,19960324,   0,-54.0000,  36.7500, 4758,   1000.4,   2.0258,  34.7113,2,  34.7133,2,    188.5,2,    82.82,2,    32.27,2,  -999.00,9,     2.20,2,    0.199,2,    0.102,2,    0.015,2,    0.342,2,   2261.0,2,    0.202,2, -999.000,   1.8270,2,   0.0050,     9.47,2,     0.22,    7.891,2,    0.018
  06AQ19960317,  S04a,     7,  2,     17,      8,2,19960324,   0,-54.0000,  36.7500, 4758,   1571.5,   1.5595,  34.7422,2,  34.7437,2,    200.5,2,    90.62,2,    31.14,2,  -999.00,9,     2.13,2,    0.138,2,    0.062,2,    0.009,2,    0.241,2,   2255.9,2,   -0.335,3, -999.000,   1.8310,2,   0.0050,     9.18,2,     0.22,    7.962,2,    0.018
  06AQ19960317,  S04a,     7,  2,     14,     11,2,19960324,   0,-54.0000,  36.7500, 4758,   1999.3,   1.1294,  34.7230,2,-999.0000,9,   -999.0,9,   103.17,2,    31.86,2,  -999.00,9,     2.18,2, -999.000,9, -999.000,9, -999.000,9, -999.000,9,   -999.0,9, -999.000,9, -999.000,-999.0000,9,-999.0000,  -999.00,9,  -999.00, -999.000,9, -999.000
  06AQ19960317,  S04a,     7,  2,     15,     10,2,19960324,   0,-54.0000,  36.7500, 4758,   2000.7,   1.1266,  34.7226,2,-999.0000,9,   -999.0,9,   102.96,2,    32.00,2,  -999.00,9,     2.19,2, -999.000,9, -999.000,9, -999.000,9, -999.000,9,   -999.0,9, -999.000,9, -999.000,-999.0000,9,-999.0000,  -999.00,9,  -999.00, -999.000,9, -999.000
  06AQ19960317,  S04a,     7,  2,     16,      9,2,19960324,   0,-54.0000,  36.7500, 4758,   2001.6,   1.1249,  34.7229,2,  34.7236,2,    205.1,2,   103.41,2,    31.87,2,  -999.00,9,     2.18,2,    0.150,2,    0.072,2,    0.007,2,    0.269,2,   2261.6,2,    0.046,2, -999.000,   1.8440,2,   0.0050,     8.77,2,     0.22,    8.031,2,    0.018
  06AQ19960317,  S04a,     7,  2,     13,     12,2,19960324,   0,-54.0000,  36.7500, 4758,   3001.8,   0.3994,  34.6817,2,-999.0000,9,   -999.0,9,   124.28,2,    33.54,2,  -999.00,9,     2.30,2,    0.165,2,    0.078,2,    0.005,2,    0.392,2,   2269.7,2, -999.000,9, -999.000,-999.0000,9,-999.0000,  -999.00,9,  -999.00, -999.000,9, -999.000
  06AQ19960317,  S04a,     7,  2,     12,     13,2,19960324,   0,-54.0000,  36.7500, 4758,   3499.3,   0.1612,  34.6711,2,  34.6698,2,    221.6,2,   126.91,2,    33.57,2,  -999.00,9,     2.30,2,    0.173,2,    0.084,2,    0.002,2,    0.453,2,   2266.5,2,    0.048,2, -999.000,   1.8580,2,   0.0050,     6.96,2,     0.22,    8.154,2,    0.018
  06AQ19960317,  S04a,     7,  2,     11,     14,2,19960324,   0,-54.0000,  36.7500, 4758,   3998.7,  -0.0003,  34.6636,2,  34.6647,2,    229.9,2,   129.69,2,    33.41,2,  -999.00,9,     2.29,2,    0.184,2,    0.095,2,    0.005,2,    0.530,2,   2266.4,2, -999.000,9, -999.000,-999.0000,9,-999.0000,  -999.00,9,  -999.00, -999.000,9, -999.000
  06AQ19960317,  S04a,     7,  2,     10,     15,2,19960324,   0,-54.0000,  36.7500, 4758,   4499.5,  -0.0854,  34.6583,2,  34.6585,2,    234.3,2,   129.75,2,    33.42,2,  -999.00,9,     2.30,2, -999.000,9, -999.000,9, -999.000,9, -999.000,9,   2262.8,2,    0.053,2, -999.000,   1.8900,2,   0.0050,     5.98,2,     0.22,    8.265,2,    0.018
  06AQ19960317,  S04a,     7,  2,      9,     16,2,19960324,   0,-54.0000,  36.7500, 4758,   4718.6,  -0.1744,  34.6541,2,  34.6564,2,    238.7,2,   132.13,2,    33.56,2,  -999.00,9,     2.30,2,    0.216,2,    0.105,2,    0.010,2,    0.590,2,   2260.6,2,    0.089,2, -999.000,   1.8860,2,   0.0050,     5.33,2,     0.22,    8.322,2,    0.019
  06AQ19960317,  S04a,     7,  2,      8,     17,2,19960324,   0,-54.0000,  36.7500, 4758,   4718.7,  -0.1744,  34.6548,2,-999.0000,9,   -999.0,9,   131.55,2,    33.28,2,  -999.00,9,     2.30,2, -999.000,9, -999.000,9, -999.000,9, -999.000,9,   -999.0,9, -999.000,9, -999.000,-999.0000,9,-999.0000,  -999.00,9,  -999.00, -999.000,9, -999.000
  06AQ19960317,  S04a,     7,  2,      7,     18,2,19960324,   0,-54.0000,  36.7500, 4758,   4718.8,  -0.1748,  34.6548,2,-999.0000,9,   -999.0,9,   132.82,2,    33.16,2,  -999.00,9,     2.31,2, -999.000,9, -999.000,9, -999.000,9, -999.000,9,   -999.0,9, -999.000,9, -999.000,-999.0000,9,-999.0000,  -999.00,9,  -999.00, -999.000,9, -999.000
  06AQ19960317,  S04a,     7,  2,      6,     19,2,19960324,   0,-54.0000,  36.7500, 4758,   4767.1,  -0.2141,  34.6537,2,  34.6547,2,   -999.0,9,   132.21,2,    33.44,2,  -999.00,9,     2.29,2,    0.225,2,    0.121,2,    0.002,2,    0.626,2,   2258.1,2,    0.074,2, -999.000,   1.8680,2,   0.0050,     5.04,2,     0.22,    8.214,2,    0.018
  06AQ19960317,  S04a,     7,  2,      5,     20,2,19960324,   0,-54.0000,  36.7500, 4758,   4767.5,  -0.2136,  34.6537,2,-999.0000,9,   -999.0,9,   130.76,2,    33.40,2,  -999.00,9,     2.28,2, -999.000,9, -999.000,9, -999.000,9, -999.000,9,   -999.0,9, -999.000,9, -999.000,-999.0000,9,-999.0000,  -999.00,9,  -999.00, -999.000,9, -999.000
  06AQ19960317,  S04a,     7,  2,      4,     21,2,19960324,   0,-54.0000,  36.7500, 4758,   4767.5,  -0.2149,  34.6536,2,-999.0000,9,   -999.0,9,   130.26,2,    33.27,2,  -999.00,9,     2.30,2, -999.000,9, -999.000,9, -999.000,9, -999.000,9,   -999.0,9, -999.000,9, -999.000,-999.0000,9,-999.0000,  -999.00,9,  -999.00, -999.000,9, -999.000
  06AQ19960317,  S04a,     7,  2,      3,     22,2,19960324,   0,-54.0000,  36.7500, 4758,   4827.1,  -0.2387,  34.6526,2,  34.6546,2,   -999.0,9,   130.97,2,    33.28,2,  -999.00,9,     2.29,2,    0.173,4,    0.163,2,    0.021,2,    0.432,2,   2257.4,2,    0.097,2, -999.000,   1.8670,2,   0.0050,     5.19,2,     0.22,    8.198,2,    0.018
  06AQ19960317,  S04a,     7,  2,      2,     23,2,19960324,   0,-54.0000,  36.7500, 4758,   4827.2,  -0.2387,  34.6527,2,-999.0000,9,   -999.0,9,   130.24,2,    33.12,2,  -999.00,9,     2.29,2, -999.000,9, -999.000,9, -999.000,9, -999.000,9,   -999.0,9, -999.000,9, -999.000,-999.0000,9,-999.0000,  -999.00,9,  -999.00, -999.000,9, -999.000
  06AQ19960317,  S04a,     7,  2,      1,     24,2,19960324,   0,-54.0000,  36.7500, 4758,   4827.8,  -0.2383,  34.6525,2,-999.0000,9,   -999.0,9,   131.26,2,    33.32,2,  -999.00,9,     2.40,2, -999.000,9, -999.000,9, -999.000,9, -999.000,9,   -999.0,9, -999.000,9, -999.000,-999.0000,9,-999.0000,  -999.00,9,  -999.00, -999.000,9, -999.000
  06AQ19960317,  S04a,     8,  1,     24,      1,2,19960324,   0,-53.9983,  35.8350, 4862,     21.3,   3.3287,  33.8777,2,  33.8786,2,    328.2,2,    22.28,2,    24.13,2,  -999.00,9,     1.62,2,    5.434,2,    2.712,2,    0.414,2,    7.692,2,   2149.1,2, -999.000,9, -999.000,   1.8020,2,   0.0050,    -1.68,2,     0.22,    7.875,2,    0.018
  06AQ19960317,  S04a,     8,  1,     23,      2,2,19960324,   0,-53.9983,  35.8350, 4862,     50.9,   3.3235,  33.8782,2,  33.8793,2,    325.8,2,    22.68,2,    24.45,2,  -999.00,9,     1.66,2,    5.578,2,    2.769,2,    0.427,2,    7.934,2,   2149.0,2, -999.000,9, -999.000,-999.0000,9,-999.0000,  -999.00,9,  -999.00, -999.000,9, -999.000
  06AQ19960317,  S04a,     8,  1,     22,      3,2,19960324,   0,-53.9983,  35.8350, 4862,    100.6,   2.8497,  33.9033,2,  33.9183,2,    319.8,2,    25.98,2,    25.68,2,  -999.00,9,     1.74,2,    5.792,2,    2.856,2,    0.436,2,    8.023,2,   2156.7,2, -999.000,9, -999.000,   1.7870,2,   0.0050,    -1.41,2,     0.22,    7.908,2,    0.018
  06AQ19960317,  S04a,     8,  1,     21,      4,2,19960324,   0,-53.9983,  35.8350, 4862,    167.7,   1.2746,  34.0546,2,  34.0638,2,    288.8,2,    37.45,2,    30.71,2,  -999.00,9,     2.10,2,    4.990,2,    2.406,2,    0.350,2,    6.560,2,   2188.3,2, -999.000,9, -999.000,-999.0000,9,-999.0000,  -999.00,9,  -999.00, -999.000,9, -999.000
  06AQ19960317,  S04a,     8,  1,     20,      5,2,19960324,   0,-53.9983,  35.8350, 4862,    167.7,   1.2746,  34.0546,2,  34.0653,2,    288.8,2,    37.43,2,    30.70,2,  -999.00,9,     2.07,2,    4.843,2,    2.314,2,    0.344,2,    6.401,2,   2186.5,2,    0.094,2, -999.000,   1.8070,2,   0.0050,     0.19,2,     0.22,    7.990,2,    0.018
  06AQ19960317,  S04a,     8,  1,     19,      6,2,19960324,   0,-53.9983,  35.8350, 4862,    316.6,   1.9768,  34.3289,2,  34.3285,2,    208.0,2,    57.19,2,    35.26,2,  -999.00,9,     2.38,2,    1.985,2,    0.936,2,    0.130,2,    2.735,2,   2233.3,2, -999.000,9, -999.000,-999.0000,9,-999.0000,  -999.00,9,  -999.00, -999.000,9, -999.000
  06AQ19960317,  S04a,     8,  1,     18,      7,2,19960324,   0,-53.9983,  35.8350, 4862,    370.4,   1.8885,  34.3733,2,  34.3751,2,    203.2,2,    62.75,2,    35.50,2,  -999.00,9,     2.40,2,    1.822,2,    0.863,2,    0.120,2,    2.548,2,   2239.5,2, -999.000,9, -999.000,-999.0000,9,-999.0000,  -999.00,9,  -999.00, -999.000,9, -999.000
  06AQ19960317,  S04a,     8,  1,     17,      8,2,19960324,   0,-53.9983,  35.8350, 4862,    500.9,   1.9656,  34.4961,2,  34.4977,2,    183.6,2,    72.50,2,    35.68,2,  -999.00,9,     2.42,2,    1.035,2,    0.484,2,    0.069,2,    1.541,2,   2252.7,2,    0.106,2, -999.000,   1.8330,2,   0.0050,     7.03,2,     0.22,    7.960,2,    0.018
  06AQ19960317,  S04a,     8,  1,     16,      9,2,19960324,   0,-53.9983,  35.8350, 4862,    598.4,   2.0358,  34.5647,2,  34.5647,2,    177.0,2,    76.22,2,    35.27,2,  -999.00,9,     2.38,2,    0.711,2,    0.336,2,    0.041,2,    1.033,2,   2256.8,2, -999.000,9, -999.000,-999.0000,9,-999.0000,  -999.00,9,  -999.00, -999.000,9, -999.000
  06AQ19960317,  S04a,     8,  1,     15,     10,2,19960324,   0,-53.9983,  35.8350, 4862,    701.8,   2.1599,  34.6349,2,  34.6371,2,    176.7,2,    77.94,2,    34.02,2,  -999.00,9,     2.31,2,    0.368,2,    0.176,2,    0.020,2,    0.598,2,   2256.3,2, -999.000,9, -999.000,-999.0000,9,-999.0000,  -999.00,9,  -999.00, -999.000,9, -999.000
  06AQ19960317,  S04a,     8,  1,     14,     11,2,19960324,   0,-53.9983,  35.8350, 4862,    782.4,   2.1732,  34.6703,2,  34.6702,2,    178.6,2,    78.84,2,    33.27,2,  -999.00,9,     2.27,2,    0.263,2,    0.124,2,    0.013,2,    0.456,2,   2255.1,2,    0.036,2, -999.000,   1.8460,2,   0.0050,     9.40,2,     0.22,    7.955,2,    0.018
  06AQ19960317,  S04a,     8,  1,     13,     12,2,19960324,   0,-53.9983,  35.8350, 4862,   1001.3,   2.0717,  34.7150,2,  34.7165,2,    186.7,2,    80.97,2,    32.05,2,  -999.00,9,     2.19,2,    0.185,2,    0.088,2,    0.009,2,    0.334,2,   2251.0,2, -999.000,9, -999.000,-999.0000,9,-999.0000,  -999.00,9,  -999.00, -999.000,9, -999.000
  06AQ19960317,  S04a,     8,  1,     12,     13,2,19960324,   0,-53.9983,  35.8350, 4862,   1251.2,   1.9031,  34.7452,2,  34.7454,2,    195.1,2,    82.47,2,    31.05,2,  -999.00,9,     2.11,2,    0.138,2,    0.068,2,    0.010,2,    0.255,2,   2241.8,2,    0.073,2, -999.000,-999.0000,9,-999.0000,  -999.00,9,  -999.00, -999.000,9, -999.000
  06AQ19960317,  S04a,     8,  1,     11,     14,2,19960324,   0,-53.9983,  35.8350, 4862,   1509.6,   1.7224,  34.7560,2,  34.7574,2,    203.6,2,    85.60,2,    30.48,2,  -999.00,9,     2.07,2,    0.103,2,    0.049,2,    0.005,2,    0.200,2,   2243.8,2,    0.054,2, -999.000,   1.8450,2,   0.0050,     8.96,2,     0.22,    8.029,2,    0.018
  06AQ19960317,  S04a,     8,  1,     10,     15,2,19960324,   0,-53.9983,  35.8350, 4862,   1750.7,   1.4738,  34.7448,2,  34.7460,2,    204.3,2,    92.81,2,    30.97,2,  -999.00,9,     2.12,2,    0.109,2,    0.051,2,    0.004,2,    0.207,2,   2249.4,2,    0.015,2, -999.000,   1.8620,2,   0.0050,     9.00,2,     0.22,    7.999,2,    0.018
  06AQ19960317,  S04a,     8,  1,      9,     16,2,19960324,   0,-53.9983,  35.8350, 4862,   2000.9,   1.1935,  34.7264,2,  34.7271,2,    205.4,2,   101.61,2,    31.96,2,  -999.00,9,     2.17,2,    0.156,2,    0.068,2,    0.010,2,    0.261,2,   2254.8,2, -999.000,9, -999.000,-999.0000,9,-999.0000,  -999.00,9,  -999.00, -999.000,9, -999.000
  06AQ19960317,  S04a,     8,  1,      8,     17,2,19960324,   0,-53.9983,  35.8350, 4862,   2502.4,   0.7487,  34.7014,2,  34.7012,2,    207.9,2,   113.44,2,    32.96,2,  -999.00,9,     2.23,2,    0.164,2,    0.076,2,    0.006,2,    0.339,2,   2262.1,2, -999.000,9, -999.000,-999.0000,9,-999.0000,  -999.00,9,  -999.00, -999.000,9, -999.000
  06AQ19960317,  S04a,     8,  1,      7,     18,2,19960324,   0,-53.9983,  35.8350, 4862,   2999.4,   0.4334,  34.6838,2,  34.6838,2,    211.8,2,   122.46,2,    33.49,2,  -999.00,9,     2.28,2,    0.163,2,    0.082,2,    0.004,2,    0.391,2,   2262.7,2,    0.050,2, -999.000,   1.8660,2,   0.0050,     7.94,2,     0.22,    8.090,2,    0.018
  06AQ19960317,  S04a,     8,  1,      6,     19,2,19960324,   0,-53.9983,  35.8350, 4862,   3499.0,   0.1908,  34.6724,2,  34.6706,2,    220.3,2,   126.01,2,    33.59,2,  -999.00,9,     2.31,2,    0.172,2,    0.086,2,    0.005,2,    0.464,2,   2258.3,2, -999.000,9, -999.000,-999.0000,9,-999.0000,  -999.00,9,  -999.00, -999.000,9, -999.000
  06AQ19960317,  S04a,     8,  1,      5,     20,2,19960324,   0,-53.9983,  35.8350, 4862,   4000.0,   0.0032,  34.6647,2,  34.6635,2,    229.2,2,   127.85,2,    33.56,2,  -999.00,9,     2.29,2,    0.184,2,    0.095,2,    0.005,2,    0.525,2,   2256.1,2,    0.063,2, -999.000,   1.8760,2,   0.0050,     6.31,2,     0.22,    8.177,2,    0.018
  06AQ19960317,  S04a,     8,  1,      4,     21,2,19960324,   0,-53.9983,  35.8350, 4862,   4500.2,  -0.0898,  34.6584,2,  34.6582,2,    234.9,2,   129.10,2,    33.46,2,  -999.00,9,     2.32,2,    0.208,2,    0.104,2,    0.005,2,    0.578,2,   2257.5,2, -999.000,9, -999.000,-999.0000,9,-999.0000,  -999.00,9,  -999.00, -999.000,9, -999.000
  06AQ19960317,  S04a,     8,  1,      3,     22,2,19960324,   0,-53.9983,  35.8350, 4862,   4792.8,  -0.1769,  34.6551,2,  34.6553,2,    240.9,2,   130.96,2,    33.40,2,  -999.00,9,     2.32,2,    0.214,2,    0.113,2,    0.011,2,    0.636,2,   2254.8,2,    0.056,2, -999.000,   1.8760,2,   0.0050,     5.20,2,     0.22,    8.230,2,    0.018
  06AQ19960317,  S04a,     8,  1,      2,     23,2,19960324,   0,-53.9983,  35.8350, 4862,   4842.4,  -0.1972,  34.6564,2,  34.6540,2,    240.1,2,   130.37,2,    33.21,2,  -999.00,9,     2.28,2,    0.222,2,    0.117,2,    0.010,2,    0.638,2,   2253.7,2, -999.000,9, -999.000,-999.0000,9,-999.0000,  -999.00,9,  -999.00, -999.000,9, -999.000
  06AQ19960317,  S04a,     8,  1,      1,     24,2,19960324,   0,-53.9983,  35.8350, 4862,   4892.7,  -0.2123,  34.6536,2,  34.6536,2,    241.5,2,   131.59,2,    33.35,2,  -999.00,9,     2.28,2,    0.216,2,    0.115,2,    0.010,2,    0.637,2,   2253.0,2,    0.085,2, -999.000,   1.8680,2,   0.0050,     5.06,2,     0.22,    8.211,2,    0.018