BOTTLE,20150129PRINUNIVRMK
EXPOCODE,SECT_ID,STNNBR,CASTNO,SAMPNO,BTLNBR,BTLNBR_FLAG_W,DATE,TIME,LATITUDE,LONGITUDE,DEPTH,CTDPRS,CTDTMP,CTDSAL,CTDSAL_FLAG_W,SALNTY,SALNTY_FLAG_W,OXYGEN,OXYGEN_FLAG_W,SILCAT,SILCAT_FLAG_W,NITRAT,NITRAT_FLAG_W,NITRIT,NITRIT_FLAG_W,PHSPHT,PHSPHT_FLAG_W,CFC-11,CFC-11_FLAG_W,CFC-12,CFC-12_FLAG_W,CFC113,CFC113_FLAG_W,CCL4,CCL4_FLAG_W,TCARBN,TCARBN_FLAG_W,TRITUM,TRITUM_FLAG_W,TRITER,HELIUM,HELIUM_FLAG_W,HELIER,DELHE3,DELHE3_FLAG_W,DELHER,NEON,NEON_FLAG_W,NEONER
,,,,,,,,,,,METERS,DBAR,ITS-90,PSS-78,,PSS-78,,UMOL/KG,,UMOL/KG,,UMOL/KG,,UMOL/KG,,UMOL/KG,,PMOL/KG,,PMOL/KG,,PMOL/KG,,PMOL/KG,,UMOL/KG,,TU,,TU,NMOL/KG,,NMOL/KG,PERCNT,,PERCNT,NMOL/KG,,NMOL/KG
  06AQ19960317,  S04a,    25,  1,     24,      1,2,19960401,   0,-57.8907,  11.5858, 5626,     21.7,   0.4818,  33.8072,2,-999.0000,9,   -999.0,9,    59.52,2,    23.77,2,  -999.00,9,     1.72,2,    6.451,2,    3.268,2,    0.477,2,    8.799,2,   -999.0,9, -999.000,9, -999.000,-999.0000,9,-999.0000,  -999.00,9,  -999.00, -999.000,9, -999.000
  06AQ19960317,  S04a,    25,  1,     22,      3,2,19960401,   0,-57.8907,  11.5858, 5626,     22.4,   0.4825,  33.8068,2,  33.8052,2,   -999.0,9,    59.49,2,    23.77,2,  -999.00,9,     1.73,2, -999.000,9, -999.000,9, -999.000,9, -999.000,9,   2165.3,2, -999.000,9, -999.000,-999.0000,9,-999.0000,  -999.00,9,  -999.00, -999.000,9, -999.000
  06AQ19960317,  S04a,    25,  1,     23,      2,2,19960401,   0,-57.8907,  11.5858, 5626,     23.1,   0.4827,  33.8073,2,-999.0000,9,   -999.0,9,    59.85,2,    23.74,2,  -999.00,9,     1.72,2, -999.000,9, -999.000,9, -999.000,9, -999.000,9,   -999.0,9, -999.000,9, -999.000,-999.0000,9,-999.0000,  -999.00,9,  -999.00, -999.000,9, -999.000
  06AQ19960317,  S04a,    25,  1,     20,      5,2,19960401,   0,-57.8907,  11.5858, 5626,     39.4,   0.4836,  33.8069,2,  33.8058,2,   -999.0,9,    59.77,2,    23.87,2,  -999.00,9,     1.74,2, -999.000,9, -999.000,9, -999.000,9, -999.000,9,   2166.4,2, -999.000,9, -999.000,-999.0000,9,-999.0000,  -999.00,9,  -999.00, -999.000,9, -999.000
  06AQ19960317,  S04a,    25,  1,     21,      4,2,19960401,   0,-57.8907,  11.5858, 5626,     42.0,   0.4837,  33.8070,2,-999.0000,9,   -999.0,9,    59.83,2,    23.80,2,  -999.00,9,     1.74,2,    6.201,2,    3.091,2,    0.486,2,    8.527,2,   -999.0,9, -999.000,9, -999.000,-999.0000,9,-999.0000,  -999.00,9,  -999.00, -999.000,9, -999.000
  06AQ19960317,  S04a,    25,  1,     18,      7,2,19960401,   0,-57.8907,  11.5858, 5626,     61.6,   0.4822,  33.8071,2,  33.8059,2,   -999.0,9,    59.61,2,    23.82,2,  -999.00,9,     1.75,2, -999.000,9, -999.000,9, -999.000,9, -999.000,9,   2165.4,2, -999.000,9, -999.000,-999.0000,9,-999.0000,  -999.00,9,  -999.00, -999.000,9, -999.000
  06AQ19960317,  S04a,    25,  1,     19,      6,2,19960401,   0,-57.8907,  11.5858, 5626,     62.4,   0.4820,  33.8074,2,-999.0000,9,   -999.0,9,    59.85,2,    23.84,2,  -999.00,9,     1.74,2, -999.000,9, -999.000,9, -999.000,9, -999.000,9,   -999.0,9, -999.000,9, -999.000,-999.0000,9,-999.0000,  -999.00,9,  -999.00, -999.000,9, -999.000
  06AQ19960317,  S04a,    25,  1,     16,      9,2,19960401,   0,-57.8907,  11.5858, 5626,     80.0,   0.3015,  33.8452,2,  33.9112,2,    331.6,2,    63.46,2,    25.21,2,  -999.00,9,     1.83,2, -999.000,9, -999.000,9, -999.000,9, -999.000,9,   2176.7,2, -999.000,9, -999.000,-999.0000,9,-999.0000,  -999.00,9,  -999.00, -999.000,9, -999.000
  06AQ19960317,  S04a,    25,  1,     17,      8,2,19960401,   0,-57.8907,  11.5858, 5626,     80.2,   0.3431,  33.8219,2,-999.0000,9,   -999.0,9,    60.86,2,    24.26,2,  -999.00,9,     1.76,2,    6.366,2,    3.222,2,    0.533,2,    8.649,2,   -999.0,9, -999.000,9, -999.000,-999.0000,9,-999.0000,  -999.00,9,  -999.00, -999.000,9, -999.000
  06AQ19960317,  S04a,    25,  1,     15,     10,2,19960401,   0,-57.8907,  11.5858, 5626,     93.1,  -1.4333,  34.1983,2,  34.1940,2,    317.5,2,    73.97,2,    29.21,2,  -999.00,9,     2.07,2,    5.779,2,    2.881,2,    0.458,2,    7.544,2,   2213.6,2, -999.000,9, -999.000,-999.0000,9,-999.0000,  -999.00,9,  -999.00, -999.000,9, -999.000
  06AQ19960317,  S04a,    25,  1,     14,     11,2,19960401,   0,-57.8907,  11.5858, 5626,     94.2,  -1.4360,  34.1997,2,-999.0000,9,   -999.0,9,    74.59,2,    29.44,2,  -999.00,9,     2.06,2, -999.000,9, -999.000,9, -999.000,9, -999.000,9,   -999.0,9, -999.000,9, -999.000,-999.0000,9,-999.0000,  -999.00,9,  -999.00, -999.000,9, -999.000
  06AQ19960317,  S04a,    25,  1,     13,     12,2,19960401,   0,-57.8907,  11.5858, 5626,     95.4,  -1.4372,  34.2038,2,-999.0000,9,   -999.0,9,    74.22,2,    29.43,2,  -999.00,9,     2.08,2, -999.000,9, -999.000,9, -999.000,9, -999.000,9,   -999.0,9, -999.000,9, -999.000,-999.0000,9,-999.0000,  -999.00,9,  -999.00, -999.000,9, -999.000
  06AQ19960317,  S04a,    25,  1,     12,     13,2,19960401,   0,-57.8907,  11.5858, 5626,    130.6,  -0.7630,  34.4170,2,-999.0000,9,    257.7,2,    91.91,2,    32.74,2,  -999.00,9,     2.23,2,    3.587,2,    1.839,2,    0.227,2,    4.681,2,   2242.7,2, -999.000,9, -999.000,-999.0000,9,-999.0000,  -999.00,9,  -999.00, -999.000,9, -999.000
  06AQ19960317,  S04a,    25,  1,     11,     14,2,19960401,   0,-57.8907,  11.5858, 5626,    148.9,  -0.2164,  34.5361,2,  34.4255,2,    222.0,2,   104.03,2,    34.17,2,  -999.00,9,     2.33,2,    2.150,2,    1.145,2,    0.131,2,    2.808,2,   2260.1,2, -999.000,9, -999.000,-999.0000,9,-999.0000,  -999.00,9,  -999.00, -999.000,9, -999.000
  06AQ19960317,  S04a,    25,  1,      9,     16,2,19960401,   0,-57.8907,  11.5858, 5626,    201.3,   0.3223,  34.6651,2,  34.6636,2,    184.1,2,  -999.00,9,    35.76,2,  -999.00,9,     2.44,2,    0.541,2,    0.310,2,    0.016,2,    0.767,2,   2277.4,2, -999.000,9, -999.000,-999.0000,9,-999.0000,  -999.00,9,  -999.00, -999.000,9, -999.000
  06AQ19960317,  S04a,    25,  1,     10,     15,2,19960401,   0,-57.8907,  11.5858, 5626,    201.7,   0.3231,  34.6664,2,-999.0000,9,    184.6,2,   118.12,2,    35.68,2,  -999.00,9,     2.43,2, -999.000,9, -999.000,9, -999.000,9, -999.000,9,   2278.3,2, -999.000,9, -999.000,-999.0000,9,-999.0000,  -999.00,9,  -999.00, -999.000,9, -999.000
  06AQ19960317,  S04a,    25,  1,      8,     17,2,19960401,   0,-57.8907,  11.5858, 5626,    236.0,   0.3479,  34.6796,2,  34.6752,2,    181.5,2,   121.79,2,    35.80,2,  -999.00,9,     2.44,2,    0.379,2,    0.250,2,    0.013,2,    0.548,2,   2279.2,2, -999.000,9, -999.000,-999.0000,9,-999.0000,  -999.00,9,  -999.00, -999.000,9, -999.000
  06AQ19960317,  S04a,    25,  1,      7,     18,2,19960401,   0,-57.8907,  11.5858, 5626,    236.2,   0.3479,  34.6797,2,-999.0000,9,   -999.0,9,   121.41,2,    35.88,2,  -999.00,9,     2.46,2, -999.000,9, -999.000,9, -999.000,9, -999.000,9,   -999.0,9, -999.000,9, -999.000,-999.0000,9,-999.0000,  -999.00,9,  -999.00, -999.000,9, -999.000
  06AQ19960317,  S04a,    25,  1,      6,     19,2,19960401,   0,-57.8907,  11.5858, 5626,    237.0,   0.3475,  34.6797,2,-999.0000,9,   -999.0,9,   121.52,2,    35.89,2,  -999.00,9,     2.44,2, -999.000,9, -999.000,9, -999.000,9, -999.000,9,   -999.0,9, -999.000,9, -999.000,-999.0000,9,-999.0000,  -999.00,9,  -999.00, -999.000,9, -999.000
  06AQ19960317,  S04a,    25,  1,      5,     20,2,19960401,   0,-57.8907,  11.5858, 5626,    301.7,   0.3175,  34.6832,2,  34.6746,2,    182.9,2,   123.27,2,    35.83,2,  -999.00,9,     2.44,2,    0.250,2,    0.156,2,    0.010,2,    0.430,2,   2278.4,2, -999.000,9, -999.000,-999.0000,9,-999.0000,  -999.00,9,  -999.00, -999.000,9, -999.000
  06AQ19960317,  S04a,    25,  1,      4,     21,2,19960401,   0,-57.8907,  11.5858, 5626,    352.3,   0.2894,  34.6834,2,  34.6809,2,   -999.0,9,   124.82,2,    35.86,2,  -999.00,9,     2.45,2,    0.246,2,    0.162,2,    0.010,2,    0.419,2,   2276.9,2, -999.000,9, -999.000,-999.0000,9,-999.0000,  -999.00,9,  -999.00, -999.000,9, -999.000
  06AQ19960317,  S04a,    25,  1,      3,     22,2,19960401,   0,-57.8907,  11.5858, 5626,    402.2,   0.2643,  34.6832,2,  34.6777,2,    186.9,2,   125.02,2,    35.56,2,  -999.00,9,     2.43,2,    0.241,2,    0.159,2,    0.010,2,    0.406,2,   2276.6,2, -999.000,9, -999.000,-999.0000,9,-999.0000,  -999.00,9,  -999.00, -999.000,9, -999.000
  06AQ19960317,  S04a,    25,  1,      2,     23,2,19960401,   0,-57.8907,  11.5858, 5626,    509.2,   0.2121,  34.6826,2,-999.0000,9,   -999.0,9,   125.97,2,    35.16,2,  -999.00,9,     2.41,2,    0.131,2,    0.059,6,    0.004,2,    0.340,6,   -999.0,9, -999.000,9, -999.000,-999.0000,9,-999.0000,  -999.00,9,  -999.00, -999.000,9, -999.000
  06AQ19960317,  S04a,    25,  1,      1,     24,2,19960401,   0,-57.8907,  11.5858, 5626,    509.9,   0.2119,  34.6824,2,  34.6776,2,   -999.0,9,   125.56,2,    35.25,2,  -999.00,9,     2.41,2,    0.130,2,    0.055,2,    0.005,2,    0.340,2,   2272.9,2, -999.000,9, -999.000,-999.0000,9,-999.0000,  -999.00,9,  -999.00, -999.000,9, -999.000
  06AQ19960317,  S04a,    25,  3,     24,      1,2,19960401,   0,-57.8907,  11.5858, 5626,    501.1,   0.2208,  34.6773,2,-999.0000,9,   -999.0,9,  -999.00,9,  -999.00,9,  -999.00,9,  -999.00,9, -999.000,9, -999.000,9, -999.000,9, -999.000,9,   -999.0,9, -999.000,9, -999.000,-999.0000,9,-999.0000,  -999.00,9,  -999.00, -999.000,9, -999.000
  06AQ19960317,  S04a,    25,  3,     23,      2,2,19960401,   0,-57.8907,  11.5858, 5626,    600.5,   0.1784,  34.6752,2,  34.6768,2,    194.7,2,   126.87,2,    34.38,2,  -999.00,9,     2.35,2,    0.133,6,    0.057,6,    0.003,6,    0.334,6,   2269.7,2, -999.000,9, -999.000,-999.0000,9,-999.0000,  -999.00,9,  -999.00, -999.000,9, -999.000
  06AQ19960317,  S04a,    25,  3,     22,      3,2,19960401,   0,-57.8907,  11.5858, 5626,    801.3,   0.0954,  34.6720,2,-999.0000,9,    202.0,2,   128.31,2,    34.14,2,  -999.00,9,     2.34,2,    0.154,2,    0.092,2,    0.004,2,    0.363,2,   2268.2,2, -999.000,9, -999.000,-999.0000,9,-999.0000,  -999.00,9,  -999.00, -999.000,9, -999.000
  06AQ19960317,  S04a,    25,  3,     20,      5,2,19960401,   0,-57.8907,  11.5858, 5626,   1001.1,   0.0237,  34.6699,2,  34.6700,2,    208.5,2,   126.92,2,    33.79,2,  -999.00,9,     2.31,2, -999.000,9, -999.000,9, -999.000,9, -999.000,9,   2266.0,2, -999.000,9, -999.000,-999.0000,9,-999.0000,  -999.00,9,  -999.00, -999.000,9, -999.000
  06AQ19960317,  S04a,    25,  3,     21,      4,2,19960401,   0,-57.8907,  11.5858, 5626,   1001.4,   0.0239,  34.6699,2,-999.0000,9,   -999.0,9,   128.11,2,    33.75,2,  -999.00,9,     2.31,2, -999.000,9, -999.000,9, -999.000,9, -999.000,9,   -999.0,9, -999.000,9, -999.000,-999.0000,9,-999.0000,  -999.00,9,  -999.00, -999.000,9, -999.000
  06AQ19960317,  S04a,    25,  3,     19,      6,2,19960401,   0,-57.8907,  11.5858, 5626,   1250.8,  -0.0616,  34.6654,2,  34.6661,2,    214.9,2,   127.71,2,    33.44,2,  -999.00,9,     2.29,2,    0.169,2,    0.081,2,    0.003,2,    0.410,2,   2260.5,2, -999.000,9, -999.000,-999.0000,9,-999.0000,  -999.00,9,  -999.00, -999.000,9, -999.000
  06AQ19960317,  S04a,    25,  3,     18,      7,2,19960401,   0,-57.8907,  11.5858, 5626,   1501.0,  -0.1394,  34.6624,2,  34.6650,2,    220.4,2,   127.22,2,    33.37,2,  -999.00,9,     2.28,2,    0.176,2,    0.083,2,    0.006,2,    0.453,2,   2259.3,2, -999.000,9, -999.000,-999.0000,9,-999.0000,  -999.00,9,  -999.00, -999.000,9, -999.000
  06AQ19960317,  S04a,    25,  3,     17,      8,2,19960401,   0,-57.8907,  11.5858, 5626,   1749.2,  -0.2021,  34.6601,2,  34.6610,2,    224.8,2,   127.61,2,    33.17,2,  -999.00,9,     2.28,2,    0.201,2,    0.098,2,    0.004,2,    0.514,2,   2257.9,2, -999.000,9, -999.000,-999.0000,9,-999.0000,  -999.00,9,  -999.00, -999.000,9, -999.000
  06AQ19960317,  S04a,    25,  3,     16,      9,2,19960401,   0,-57.8907,  11.5858, 5626,   1999.6,  -0.2516,  34.6589,2,  34.6589,2,    228.5,2,   125.24,2,    33.02,2,  -999.00,9,     2.27,2,    0.186,2,    0.084,2,    0.005,2,    0.534,2,   2254.1,2, -999.000,9, -999.000,-999.0000,9,-999.0000,  -999.00,9,  -999.00, -999.000,9, -999.000
  06AQ19960317,  S04a,    25,  3,     15,     10,2,19960401,   0,-57.8907,  11.5858, 5626,   2498.8,  -0.3282,  34.6569,2,  34.6533,2,    232.2,2,   125.93,2,    32.88,2,  -999.00,9,     2.26,2,    0.173,2,    0.081,2,    0.005,2,    0.535,2,   2251.9,2, -999.000,9, -999.000,-999.0000,9,-999.0000,  -999.00,9,  -999.00, -999.000,9, -999.000
  06AQ19960317,  S04a,    25,  3,     14,     11,2,19960401,   0,-57.8907,  11.5858, 5626,   2499.2,  -0.3287,  34.6570,2,-999.0000,9,   -999.0,9,   124.84,2,    33.03,2,  -999.00,9,     2.25,2, -999.000,9, -999.000,9, -999.000,9, -999.000,9,   -999.0,9, -999.000,9, -999.000,-999.0000,9,-999.0000,  -999.00,9,  -999.00, -999.000,9, -999.000
  06AQ19960317,  S04a,    25,  3,     13,     12,2,19960401,   0,-57.8907,  11.5858, 5626,   2499.4,  -0.3294,  34.6565,2,-999.0000,9,   -999.0,9,   123.85,2,    32.76,2,  -999.00,9,     2.25,2, -999.000,9, -999.000,9, -999.000,9, -999.000,9,   -999.0,9, -999.000,9, -999.000,-999.0000,9,-999.0000,  -999.00,9,  -999.00, -999.000,9, -999.000
  06AQ19960317,  S04a,    25,  3,     12,     13,2,19960401,   0,-57.8907,  11.5858, 5626,   2999.5,  -0.3834,  34.6552,2,  34.6523,2,    236.8,2,   123.06,2,    32.69,2,  -999.00,9,     2.24,2, -999.000,9, -999.000,9, -999.000,9, -999.000,9,   2251.1,2, -999.000,9, -999.000,-999.0000,9,-999.0000,  -999.00,9,  -999.00, -999.000,9, -999.000
  06AQ19960317,  S04a,    25,  3,     11,     14,2,19960401,   0,-57.8907,  11.5858, 5626,   3501.4,  -0.4417,  34.6528,2,  34.6491,2,    243.6,2,   123.85,2,    32.64,2,  -999.00,9,     2.24,2,    0.351,2,    0.175,2,    0.006,2,    0.806,2,   2247.6,2, -999.000,9, -999.000,-999.0000,9,-999.0000,  -999.00,9,  -999.00, -999.000,9, -999.000
  06AQ19960317,  S04a,    25,  3,     10,     15,2,19960401,   0,-57.8907,  11.5858, 5626,   3998.3,  -0.4890,  34.6501,2,  34.6465,2,    244.9,2,   121.09,2,    32.51,2,  -999.00,9,     2.23,2,    0.377,2,    0.179,2,    0.009,2,    0.834,2,   2247.5,2, -999.000,9, -999.000,-999.0000,9,-999.0000,  -999.00,9,  -999.00, -999.000,9, -999.000
  06AQ19960317,  S04a,    25,  3,      9,     16,2,19960401,   0,-57.8907,  11.5858, 5626,   4498.1,  -0.4915,  34.6486,2,  34.6453,2,    246.4,2,   120.19,2,    32.52,2,  -999.00,9,     2.25,2,    0.388,2,    0.186,2,    0.006,2,    0.901,2,   2247.5,2, -999.000,9, -999.000,-999.0000,9,-999.0000,  -999.00,9,  -999.00, -999.000,9, -999.000
  06AQ19960317,  S04a,    25,  3,      8,     17,2,19960401,   0,-57.8907,  11.5858, 5626,   4498.5,  -0.4915,  34.6484,2,-999.0000,9,   -999.0,9,   121.38,2,    32.48,2,  -999.00,9,     2.23,2, -999.000,9, -999.000,9, -999.000,9, -999.000,9,   -999.0,9, -999.000,9, -999.000,-999.0000,9,-999.0000,  -999.00,9,  -999.00, -999.000,9, -999.000
  06AQ19960317,  S04a,    25,  3,      7,     18,2,19960401,   0,-57.8907,  11.5858, 5626,   4498.5,  -0.4921,  34.6484,2,-999.0000,9,   -999.0,9,   119.80,2,    32.60,2,  -999.00,9,     2.24,2, -999.000,9, -999.000,9, -999.000,9, -999.000,9,   -999.0,9, -999.000,9, -999.000,-999.0000,9,-999.0000,  -999.00,9,  -999.00, -999.000,9, -999.000
  06AQ19960317,  S04a,    25,  3,      5,     20,2,19960401,   0,-57.8907,  11.5858, 5626,   5697.4,  -0.3773,  34.6490,2,-999.0000,9,   -999.0,9,  -999.00,9,  -999.00,9,  -999.00,9,  -999.00,9, -999.000,9, -999.000,9, -999.000,9, -999.000,9,   -999.0,9, -999.000,9, -999.000,-999.0000,9,-999.0000,  -999.00,9,  -999.00, -999.000,9, -999.000
  06AQ19960317,  S04a,    25,  3,      4,     21,2,19960401,   0,-57.8907,  11.5858, 5626,   5697.7,  -0.3775,  34.6490,2,-999.0000,9,    245.8,2,   126.82,2,    32.62,2,  -999.00,9,     2.24,2, -999.000,9, -999.000,9, -999.000,9, -999.000,9,   2247.5,2, -999.000,9, -999.000,-999.0000,9,-999.0000,  -999.00,9,  -999.00, -999.000,9, -999.000
  06AQ19960317,  S04a,    25,  3,      6,     19,2,19960401,   0,-57.8907,  11.5858, 5626,   5698.2,  -0.3774,  34.6490,2,-999.0000,9,   -999.0,9,  -999.00,9,  -999.00,9,  -999.00,9,  -999.00,9,    0.322,2,    0.159,2,    0.007,2,    0.868,2,   -999.0,9, -999.000,9, -999.000,-999.0000,9,-999.0000,  -999.00,9,  -999.00, -999.000,9, -999.000
  06AQ19960317,  S04a,    25,  3,      1,     24,2,19960401,   0,-57.8907,  11.5858, 5626,   5804.7,  -0.3641,  34.6491,2,-999.0000,9,   -999.0,9,   126.44,2,    32.93,2,  -999.00,9,     2.26,2, -999.000,9, -999.000,9, -999.000,9, -999.000,9,   -999.0,9, -999.000,9, -999.000,-999.0000,9,-999.0000,  -999.00,9,  -999.00, -999.000,9, -999.000
  06AQ19960317,  S04a,    25,  3,      3,     22,2,19960401,   0,-57.8907,  11.5858, 5626,   5804.8,  -0.3638,  34.6490,2,-999.0000,9,   -999.0,9,  -999.00,9,  -999.00,9,  -999.00,9,  -999.00,9,    0.308,2,    0.151,2,    0.006,2,    0.838,2,   -999.0,9, -999.000,9, -999.000,-999.0000,9,-999.0000,  -999.00,9,  -999.00, -999.000,9, -999.000
  06AQ19960317,  S04a,    25,  3,      2,     23,2,19960401,   0,-57.8907,  11.5858, 5626,   5804.8,  -0.3637,  34.6487,2,-999.0000,9,    246.1,2,   127.42,2,    32.66,2,  -999.00,9,     2.23,2, -999.000,9, -999.000,9, -999.000,9, -999.000,9,   2247.7,2, -999.000,9, -999.000,-999.0000,9,-999.0000,  -999.00,9,  -999.00, -999.000,9, -999.000