BOTTLE,20150129PRINUNIVRMK
EXPOCODE,SECT_ID,STNNBR,CASTNO,SAMPNO,BTLNBR,BTLNBR_FLAG_W,DATE,TIME,LATITUDE,LONGITUDE,DEPTH,CTDPRS,CTDTMP,CTDSAL,CTDSAL_FLAG_W,SALNTY,SALNTY_FLAG_W,OXYGEN,OXYGEN_FLAG_W,SILCAT,SILCAT_FLAG_W,NITRAT,NITRAT_FLAG_W,NITRIT,NITRIT_FLAG_W,PHSPHT,PHSPHT_FLAG_W,CFC-11,CFC-11_FLAG_W,CFC-12,CFC-12_FLAG_W,CFC113,CFC113_FLAG_W,CCL4,CCL4_FLAG_W,TCARBN,TCARBN_FLAG_W,TRITUM,TRITUM_FLAG_W,TRITER,HELIUM,HELIUM_FLAG_W,HELIER,DELHE3,DELHE3_FLAG_W,DELHER,NEON,NEON_FLAG_W,NEONER
,,,,,,,,,,,METERS,DBAR,ITS-90,PSS-78,,PSS-78,,UMOL/KG,,UMOL/KG,,UMOL/KG,,UMOL/KG,,UMOL/KG,,PMOL/KG,,PMOL/KG,,PMOL/KG,,PMOL/KG,,UMOL/KG,,TU,,TU,NMOL/KG,,NMOL/KG,PERCNT,,PERCNT,NMOL/KG,,NMOL/KG
  06AQ19960317,  S04a,    29,  1,     24,      1,2,19960403,   0,-58.6043,   3.8913, 5390,     20.5,   0.1869,  34.0082,2,  34.0118,2,    330.7,2,    60.68,2,    26.23,2,  -999.00,9,     1.84,2,    6.462,2,    3.258,2,    0.503,2,    8.797,2,   2184.9,2, -999.000,9, -999.000,   1.7910,2,   0.0050,    -1.37,2,     0.22,    8.005,2,    0.018
  06AQ19960317,  S04a,    29,  1,     23,      2,2,19960403,   0,-58.6043,   3.8913, 5390,     41.1,   0.1870,  34.0082,2,-999.0000,9,    328.9,2,    60.87,2,    26.18,2,  -999.00,9,     1.84,2,    6.041,2,    3.047,2,    0.513,2,    8.379,2,   2183.7,2, -999.000,9, -999.000,-999.0000,9,-999.0000,  -999.00,9,  -999.00, -999.000,9, -999.000
  06AQ19960317,  S04a,    29,  1,     22,      3,2,19960403,   0,-58.6043,   3.8913, 5390,     80.5,  -1.0419,  34.2425,2,  34.2504,2,    328.8,2,    67.04,2,    28.20,2,  -999.00,9,     1.95,2,    5.557,2,    2.775,2,    0.461,2,    7.583,2,   2209.7,2, -999.000,9, -999.000,-999.0000,9,-999.0000,  -999.00,9,  -999.00, -999.000,9, -999.000
  06AQ19960317,  S04a,    29,  1,     20,      5,2,19960403,   0,-58.6043,   3.8913, 5390,     89.8,  -1.3598,  34.3632,2,  34.3631,2,    331.7,2,    72.48,2,    29.40,2,  -999.00,9,     2.03,2,    5.058,2,    2.543,2,    0.432,2,    6.871,2,   2222.7,2, -999.000,9, -999.000,   1.8220,2,   0.0050,     1.36,2,     0.22,    8.135,2,    0.018
  06AQ19960317,  S04a,    29,  1,     21,      4,2,19960403,   0,-58.6043,   3.8913, 5390,     89.9,  -1.3430,  34.3399,2,  34.3626,2,    331.9,2,    72.45,2,    29.39,2,  -999.00,9,     2.04,2, -999.000,9, -999.000,9, -999.000,9, -999.000,9,   2224.1,2, -999.000,9, -999.000,-999.0000,9,-999.0000,  -999.00,9,  -999.00, -999.000,9, -999.000
  06AQ19960317,  S04a,    29,  1,     19,      6,2,19960403,   0,-58.6043,   3.8913, 5390,    131.3,   0.3446,  34.6098,2,  34.6121,2,    336.8,2,    97.76,2,    32.98,2,  -999.00,9,     2.26,2,    1.552,2,    0.752,2,    0.103,2,    2.093,2,   2258.1,2, -999.000,9, -999.000,   1.8530,2,   0.0050,     7.57,2,     0.22,    8.091,2,    0.018
  06AQ19960317,  S04a,    29,  1,     18,      7,2,19960403,   0,-58.6043,   3.8913, 5390,    170.6,   0.8614,  34.6816,2,  34.6831,2,    249.8,2,   103.92,2,    33.31,2,  -999.00,9,     2.29,2,    0.590,2,    0.270,2,    0.033,2,    0.834,2,   2266.3,2, -999.000,9, -999.000,-999.0000,9,-999.0000,  -999.00,9,  -999.00, -999.000,9, -999.000
  06AQ19960317,  S04a,    29,  1,     17,      8,2,19960403,   0,-58.6043,   3.8913, 5390,    200.7,   0.8557,  34.6897,2,  34.6911,2,    200.1,2,   106.14,2,    33.26,2,  -999.00,9,     2.28,2,    0.468,2,    0.210,2,    0.026,2,    0.688,2,   2268.7,2, -999.000,9, -999.000,   1.8540,2,   0.0050,     9.30,2,     0.22,    8.077,2,    0.018
  06AQ19960317,  S04a,    29,  1,     16,      9,2,19960403,   0,-58.6043,   3.8913, 5390,    250.0,   0.7472,  34.6919,2,  34.6922,2,    191.8,2,   110.53,2,    33.45,2,  -999.00,9,     2.28,2,    0.391,2,    0.171,2,    0.018,2,    0.583,2,   2268.7,2, -999.000,9, -999.000,   1.8580,2,   0.0050,     8.94,2,     0.22,    8.097,2,    0.018
  06AQ19960317,  S04a,    29,  1,     15,     10,2,19960403,   0,-58.6043,   3.8913, 5390,    301.3,   0.6226,  34.6883,2,  34.6885,2,    191.1,2,   114.95,2,    34.00,2,  -999.00,9,     2.33,2,    0.338,2,    0.146,2,    0.012,2,    0.531,2,   2270.5,2, -999.000,9, -999.000,-999.0000,9,-999.0000,  -999.00,9,  -999.00, -999.000,9, -999.000
  06AQ19960317,  S04a,    29,  1,     14,     11,2,19960403,   0,-58.6043,   3.8913, 5390,    351.3,   0.5382,  34.6874,2,  34.6877,2,    190.4,2,   117.45,2,    34.05,2,  -999.00,9,     2.34,2,    0.284,2,    0.121,2,    0.010,2,    0.485,2,   2271.6,2, -999.000,9, -999.000,   1.8440,2,   0.0050,     9.17,2,     0.22,    8.049,2,    0.018
  06AQ19960317,  S04a,    29,  1,     13,     12,2,19960403,   0,-58.6043,   3.8913, 5390,    401.0,   0.4840,  34.6858,2,  34.6849,2,    191.0,2,   119.28,2,    34.13,2,  -999.00,9,     2.34,2,    0.272,2,    0.125,2,    0.010,2,    0.474,2,   2272.1,2, -999.000,9, -999.000,-999.0000,9,-999.0000,  -999.00,9,  -999.00, -999.000,9, -999.000
  06AQ19960317,  S04a,    29,  1,     12,     13,2,19960403,   0,-58.6043,   3.8913, 5390,    499.7,   0.4060,  34.6843,2,  34.6852,2,    191.7,2,   121.79,2,    34.34,2,  -999.00,9,     2.36,2,    0.196,2,    0.084,2,    0.002,2,    0.410,2,   2273.4,2, -999.000,9, -999.000,   1.8470,2,   0.0050,     8.35,2,     0.22,    8.032,2,    0.018
  06AQ19960317,  S04a,    29,  1,     11,     14,2,19960403,   0,-58.6043,   3.8913, 5390,    752.8,   0.2506,  34.6795,2,  34.6790,2,    197.6,2,   125.12,2,    34.31,2,  -999.00,9,     2.34,2,    0.147,2,    0.067,2,    0.001,2,    0.359,2,   2271.3,2, -999.000,9, -999.000,-999.0000,9,-999.0000,  -999.00,9,  -999.00, -999.000,9, -999.000
  06AQ19960317,  S04a,    29,  1,     10,     15,2,19960403,   0,-58.6043,   3.8913, 5390,   1001.0,   0.1412,  34.6754,2,  34.6753,2,    204.7,2,   126.31,2,    33.90,2,  -999.00,9,     2.32,2,    0.144,2,    0.060,2,    0.002,2,    0.370,2,   2267.7,2, -999.000,9, -999.000,   1.8700,2,   0.0050,     8.02,2,     0.22,    8.148,2,    0.018
  06AQ19960317,  S04a,    29,  1,      9,     16,2,19960403,   0,-58.6043,   3.8913, 5390,   1501.9,  -0.0551,  34.6657,2,  34.6680,2,    215.6,2,   126.44,2,    33.49,2,  -999.00,9,     2.31,2,    0.155,2,    0.070,2,    0.001,2,    0.428,2,   2262.1,2, -999.000,9, -999.000,-999.0000,9,-999.0000,  -999.00,9,  -999.00, -999.000,9, -999.000
  06AQ19960317,  S04a,    29,  1,      8,     17,2,19960403,   0,-58.6043,   3.8913, 5390,   2003.5,  -0.1958,  34.6617,2,  34.6614,2,    225.9,2,   125.75,2,    33.24,2,  -999.00,9,     2.29,2,    0.195,2,    0.089,2,    0.004,2,    0.519,2,   2258.4,2, -999.000,9, -999.000,   1.8780,2,   0.0050,     6.70,2,     0.22,    8.213,2,    0.018
  06AQ19960317,  S04a,    29,  1,      7,     18,2,19960403,   0,-58.6043,   3.8913, 5390,   2500.4,  -0.2785,  34.6585,2,  34.6584,2,    230.4,2,   124.94,2,    32.94,2,  -999.00,9,     2.26,2,    0.196,2,    0.090,2,    0.002,2,    0.540,2,   2255.9,2, -999.000,9, -999.000,-999.0000,9,-999.0000,  -999.00,9,  -999.00, -999.000,9, -999.000
  06AQ19960317,  S04a,    29,  1,      6,     19,2,19960403,   0,-58.6043,   3.8913, 5390,   3001.9,  -0.3414,  34.6560,2,  34.6577,2,    236.0,2,   124.39,2,    32.87,2,  -999.00,9,     2.27,2,    0.209,2,    0.094,2,    0.005,2,    0.578,2,   2252.5,2, -999.000,9, -999.000,   1.8790,2,   0.0050,     5.69,2,     0.22,    8.195,2,    0.018
  06AQ19960317,  S04a,    29,  1,      5,     20,2,19960403,   0,-58.6043,   3.8913, 5390,   3998.6,  -0.4713,  34.6485,2,  34.6483,2,    238.5,2,   120.34,2,    32.65,2,  -999.00,9,     2.25,2,    0.387,2,    0.180,2,    0.009,2,    0.819,2,   2249.4,2, -999.000,9, -999.000,-999.0000,9,-999.0000,  -999.00,9,  -999.00, -999.000,9, -999.000
  06AQ19960317,  S04a,    29,  1,      4,     21,2,19960403,   0,-58.6043,   3.8913, 5390,   4499.2,  -0.4962,  34.6467,2,  34.6443,2,    240.6,2,   117.77,2,    32.48,2,  -999.00,9,     2.24,2,    0.541,2,    0.258,2,    0.016,2,    1.013,2,   2248.0,2, -999.000,9, -999.000,   1.8800,2,   0.0050,     4.45,2,     0.22,    8.254,2,    0.018
  06AQ19960317,  S04a,    29,  1,      3,     22,2,19960403,   0,-58.6043,   3.8913, 5390,   4999.1,  -0.4571,  34.6466,2,  34.6439,2,    243.5,2,   119.85,2,    32.63,2,  -999.00,9,     2.24,2,    0.487,2,    0.232,2,    0.012,2,    1.002,2,   2249.2,2, -999.000,9, -999.000,   1.8870,2,   0.0050,     4.57,2,     0.22,    8.296,2,    0.018
  06AQ19960317,  S04a,    29,  1,      2,     23,2,19960403,   0,-58.6043,   3.8913, 5390,   5405.1,  -0.4133,  34.6467,2,  34.6439,2,    244.4,2,   119.88,2,    32.70,2,  -999.00,9,     2.25,2,    0.461,2,    0.223,2,    0.013,2,    1.000,2,   2248.6,2, -999.000,9, -999.000,   1.8810,2,   0.0050,     3.82,2,     0.22,    8.287,2,    0.018
  06AQ19960317,  S04a,    29,  1,      1,     24,2,19960403,   0,-58.6043,   3.8913, 5390,   5505.1,  -0.4012,  34.6467,2,  34.6454,2,    244.3,2,   119.85,2,    32.69,2,  -999.00,9,     2.24,2,    0.456,2,    0.221,2,    0.021,2,    0.995,2,   2249.6,2, -999.000,9, -999.000,   1.8830,2,   0.0050,     4.73,2,     0.22,    8.273,2,    0.018
  06AQ19960317,  S04a,    30,  1,     24,      1,2,19960403,   0,-58.7823,   1.9433, 4466,     39.5,   0.1212,  33.9991,2,  34.0014,2,    335.7,2,    61.49,2,    26.81,2,  -999.00,9,     1.80,2,    6.071,6,    3.076,6,    0.519,6,    8.702,6,   2176.8,2, -999.000,9, -999.000,-999.0000,9,-999.0000,  -999.00,9,  -999.00, -999.000,9, -999.000
  06AQ19960317,  S04a,    30,  1,     23,      2,2,19960403,   0,-58.7823,   1.9433, 4466,     40.2,   0.1102,  34.0016,2,  34.0018,2,    335.5,2,    61.84,2,    26.63,2,  -999.00,9,     1.82,2,    6.291,2,    3.144,2,    0.518,2,    8.666,2,   2174.7,2, -999.000,9, -999.000,-999.0000,9,-999.0000,  -999.00,9,  -999.00, -999.000,9, -999.000
  06AQ19960317,  S04a,    30,  1,     22,      3,2,19960403,   0,-58.7823,   1.9433, 4466,     80.0,  -1.5781,  34.3059,2,  34.3087,2,    316.9,2,    70.28,2,    28.84,2,  -999.00,9,     2.02,2,    5.732,2,    2.865,2,    0.469,2,    7.642,2,   2211.8,2, -999.000,9, -999.000,-999.0000,9,-999.0000,  -999.00,9,  -999.00, -999.000,9, -999.000
  06AQ19960317,  S04a,    30,  1,     20,      5,2,19960403,   0,-58.7823,   1.9433, 4466,    101.5,  -1.7428,  34.3442,2,  34.3451,2,    313.3,2,    71.07,2,    29.11,2,  -999.00,9,     2.04,2,    5.542,2,    2.749,2,    0.462,2,    7.520,2,   2217.5,2, -999.000,9, -999.000,-999.0000,9,-999.0000,  -999.00,9,  -999.00, -999.000,9, -999.000
  06AQ19960317,  S04a,    30,  1,     21,      4,2,19960403,   0,-58.7823,   1.9433, 4466,    102.2,  -1.7419,  34.3463,2,  34.3446,2,    313.6,2,    70.87,2,    29.18,2,  -999.00,9,     2.03,2, -999.000,9, -999.000,9, -999.000,9, -999.000,9,   2217.6,2, -999.000,9, -999.000,-999.0000,9,-999.0000,  -999.00,9,  -999.00, -999.000,9, -999.000
  06AQ19960317,  S04a,    30,  1,     19,      6,2,19960403,   0,-58.7823,   1.9433, 4466,    110.4,  -1.7416,  34.3439,2,  34.3448,2,    312.4,2,    71.17,2,    29.15,2,  -999.00,9,     2.05,2,    5.524,2,    2.730,2,    0.442,2,    7.519,2,   2218.5,2, -999.000,9, -999.000,-999.0000,9,-999.0000,  -999.00,9,  -999.00, -999.000,9, -999.000
  06AQ19960317,  S04a,    30,  1,     18,      7,2,19960403,   0,-58.7823,   1.9433, 4466,    151.8,  -1.0929,  34.4395,2,  34.4479,2,    269.0,2,    85.22,2,    31.48,2,  -999.00,9,     2.16,2,    3.878,2,    1.916,2,    0.318,2,    5.191,2,   2236.2,2, -999.000,9, -999.000,-999.0000,9,-999.0000,  -999.00,9,  -999.00, -999.000,9, -999.000
  06AQ19960317,  S04a,    30,  1,     17,      8,2,19960403,   0,-58.7823,   1.9433, 4466,    200.6,   0.0317,  34.6135,2,  34.6066,2,    209.0,2,   104.67,2,    33.73,2,  -999.00,9,     2.30,2,    1.528,2,    0.730,2,    0.111,2,    1.983,2,   2267.2,2, -999.000,9, -999.000,-999.0000,9,-999.0000,  -999.00,9,  -999.00, -999.000,9, -999.000
  06AQ19960317,  S04a,    30,  1,     16,      9,2,19960403,   0,-58.7823,   1.9433, 4466,    250.7,   0.3869,  34.6675,2,  34.6676,2,    190.4,2,   113.90,2,    34.58,2,  -999.00,9,     2.38,2,    0.617,2,    0.282,2,    0.032,2,    0.885,2,   2272.2,2, -999.000,9, -999.000,-999.0000,9,-999.0000,  -999.00,9,  -999.00, -999.000,9, -999.000
  06AQ19960317,  S04a,    30,  1,     15,     10,2,19960403,   0,-58.7823,   1.9433, 4466,    278.2,   0.4285,  34.6753,2,  34.6748,2,    188.9,2,   115.47,2,    34.83,2,  -999.00,9,     2.38,2,    0.475,2,    0.215,2,    0.026,2,    0.720,2,   2271.0,2, -999.000,9, -999.000,-999.0000,9,-999.0000,  -999.00,9,  -999.00, -999.000,9, -999.000
  06AQ19960317,  S04a,    30,  1,     14,     11,2,19960403,   0,-58.7823,   1.9433, 4466,    351.7,   0.4192,  34.6827,2,  34.6825,2,    187.4,2,   120.29,2,    34.90,2,  -999.00,9,     2.38,2,    0.272,2,    0.118,2,    0.010,2,    0.478,2,   2273.6,2, -999.000,9, -999.000,-999.0000,9,-999.0000,  -999.00,9,  -999.00, -999.000,9, -999.000
  06AQ19960317,  S04a,    30,  1,     13,     12,2,19960403,   0,-58.7823,   1.9433, 4466,    381.2,   0.4103,  34.6825,2,  34.6840,2,    188.1,2,   120.29,2,    34.68,2,  -999.00,9,     2.37,2,    0.237,2,    0.102,2,    0.007,2,    0.442,2,   2272.0,2, -999.000,9, -999.000,-999.0000,9,-999.0000,  -999.00,9,  -999.00, -999.000,9, -999.000
  06AQ19960317,  S04a,    30,  1,     12,     13,2,19960403,   0,-58.7823,   1.9433, 4466,    500.9,   0.3553,  34.6825,2,  34.6850,2,    189.9,2,   123.63,2,    34.94,2,  -999.00,9,     2.37,2,    0.170,2,    0.078,2,    0.002,2,    0.370,2,   2271.1,2, -999.000,9, -999.000,-999.0000,9,-999.0000,  -999.00,9,  -999.00, -999.000,9, -999.000
  06AQ19960317,  S04a,    30,  1,     11,     14,2,19960403,   0,-58.7823,   1.9433, 4466,    751.0,   0.2097,  34.6779,2,  34.6798,2,    198.6,2,   125.29,2,    34.35,2,  -999.00,9,     2.36,2,    0.128,2,    0.052,2,    0.002,2,    0.326,2,   2268.5,2, -999.000,9, -999.000,-999.0000,9,-999.0000,  -999.00,9,  -999.00, -999.000,9, -999.000
  06AQ19960317,  S04a,    30,  1,     10,     15,2,19960403,   0,-58.7823,   1.9433, 4466,    999.0,   0.0931,  34.6735,2,  34.6734,2,    205.6,2,   126.08,2,    34.06,2,  -999.00,9,     2.33,2,    0.130,2,    0.059,2,    0.002,2,    0.335,2,   2265.9,2, -999.000,9, -999.000,-999.0000,9,-999.0000,  -999.00,9,  -999.00, -999.000,9, -999.000
  06AQ19960317,  S04a,    30,  1,      9,     16,2,19960403,   0,-58.7823,   1.9433, 4466,   1502.0,  -0.0825,  34.6656,2,  34.6667,2,    217.9,2,   125.89,2,    33.64,2,  -999.00,9,     2.32,2,    0.159,2,    0.065,2,    0.002,2,    0.420,2,   2260.4,2, -999.000,9, -999.000,-999.0000,9,-999.0000,  -999.00,9,  -999.00, -999.000,9, -999.000
  06AQ19960317,  S04a,    30,  1,      8,     17,2,19960403,   0,-58.7823,   1.9433, 4466,   2000.2,  -0.2173,  34.6611,2,  34.6610,2,    225.9,2,   125.40,2,    33.37,2,  -999.00,9,     2.29,2,    0.191,2,    0.086,2,    0.003,2,    0.524,2,   2254.1,2, -999.000,9, -999.000,-999.0000,9,-999.0000,  -999.00,9,  -999.00, -999.000,9, -999.000
  06AQ19960317,  S04a,    30,  1,      7,     18,2,19960403,   0,-58.7823,   1.9433, 4466,   2501.9,  -0.2966,  34.6584,2,  34.6583,2,    231.0,2,   124.81,2,    33.14,2,  -999.00,9,     2.29,2,    0.209,2,    0.094,2,    0.004,2,    0.548,2,   2253.7,2, -999.000,9, -999.000,-999.0000,9,-999.0000,  -999.00,9,  -999.00, -999.000,9, -999.000
  06AQ19960317,  S04a,    30,  1,      6,     19,2,19960403,   0,-58.7823,   1.9433, 4466,   2999.8,  -0.3657,  34.6551,2,  34.6561,2,    236.5,2,   124.22,2,    32.91,2,  -999.00,9,     2.27,2,    0.293,2,    0.141,2,    0.009,2,    0.666,2,   2250.4,2, -999.000,9, -999.000,-999.0000,9,-999.0000,  -999.00,9,  -999.00, -999.000,9, -999.000
  06AQ19960317,  S04a,    30,  1,      5,     20,2,19960403,   0,-58.7823,   1.9433, 4466,   3499.8,  -0.4348,  34.6517,2,  34.6512,2,    241.1,2,   119.21,2,    32.78,2,  -999.00,9,     2.27,2,    0.444,2,    0.205,2,    0.014,2,    0.831,2,   2249.1,2, -999.000,9, -999.000,-999.0000,9,-999.0000,  -999.00,9,  -999.00, -999.000,9, -999.000
  06AQ19960317,  S04a,    30,  1,      4,     21,2,19960403,   0,-58.7823,   1.9433, 4466,   4005.5,  -0.4694,  34.6467,2,  34.6449,2,    245.0,2,   117.63,2,    32.66,2,  -999.00,9,     2.25,2,    0.628,2,    0.291,2,    0.022,2,    1.011,2,   2248.5,2, -999.000,9, -999.000,-999.0000,9,-999.0000,  -999.00,9,  -999.00, -999.000,9, -999.000
  06AQ19960317,  S04a,    30,  1,      3,     22,2,19960403,   0,-58.7823,   1.9433, 4466,   4293.2,  -0.4708,  34.6469,2,  34.6443,2,    245.6,2,   117.83,2,    32.68,2,  -999.00,9,     2.25,2,    0.667,2,    0.312,2,    0.024,2,    1.085,2,   2250.8,2, -999.000,9, -999.000,-999.0000,9,-999.0000,  -999.00,9,  -999.00, -999.000,9, -999.000
  06AQ19960317,  S04a,    30,  1,      1,     24,2,19960403,   0,-58.7823,   1.9433, 4466,   4377.3,  -0.4691,  34.6471,2,  34.6459,2,   -999.0,9,   117.14,2,    32.64,2,  -999.00,9,     2.26,2,    0.655,2,    0.306,2,    0.025,2,    1.090,2,   2250.8,2, -999.000,9, -999.000,-999.0000,9,-999.0000,  -999.00,9,  -999.00, -999.000,9, -999.000
  06AQ19960317,  S04a,    30,  1,      2,     23,2,19960403,   0,-58.7823,   1.9433, 4466,   4387.6,  -0.4681,  34.6467,2,  34.6444,2,    245.5,2,   118.13,2,    32.92,2,  -999.00,9,     2.26,2,    0.668,2,    0.310,2,    0.024,2,    1.093,2,   2250.8,2, -999.000,9, -999.000,-999.0000,9,-999.0000,  -999.00,9,  -999.00, -999.000,9, -999.000