BOTTLE,20150129PRINUNIVRMK
EXPOCODE,SECT_ID,STNNBR,CASTNO,SAMPNO,BTLNBR,BTLNBR_FLAG_W,DATE,TIME,LATITUDE,LONGITUDE,DEPTH,CTDPRS,CTDTMP,CTDSAL,CTDSAL_FLAG_W,SALNTY,SALNTY_FLAG_W,OXYGEN,OXYGEN_FLAG_W,SILCAT,SILCAT_FLAG_W,NITRAT,NITRAT_FLAG_W,NITRIT,NITRIT_FLAG_W,PHSPHT,PHSPHT_FLAG_W,CFC-11,CFC-11_FLAG_W,CFC-12,CFC-12_FLAG_W,CFC113,CFC113_FLAG_W,CCL4,CCL4_FLAG_W,TCARBN,TCARBN_FLAG_W,TRITUM,TRITUM_FLAG_W,TRITER,HELIUM,HELIUM_FLAG_W,HELIER,DELHE3,DELHE3_FLAG_W,DELHER,NEON,NEON_FLAG_W,NEONER
,,,,,,,,,,,METERS,DBAR,ITS-90,PSS-78,,PSS-78,,UMOL/KG,,UMOL/KG,,UMOL/KG,,UMOL/KG,,UMOL/KG,,PMOL/KG,,PMOL/KG,,PMOL/KG,,PMOL/KG,,UMOL/KG,,TU,,TU,NMOL/KG,,NMOL/KG,PERCNT,,PERCNT,NMOL/KG,,NMOL/KG
  06AQ19960317,  S04a,   101,  1,     23,      1,2,19960508,   0,-63.5478, -52.1013,  988,     19.7,  -1.8745,  34.2569,2,  34.2566,2,    316.1,2,    65.64,2,    29.11,2,     0.21,2,     2.00,2,    5.164,2,    2.499,2,    0.417,2,    6.121,2,   2203.5,2, -999.000,9, -999.000,   1.8210,2,   0.0050,    -0.46,2,     0.22,    8.116,2,    0.018
  06AQ19960317,  S04a,   101,  1,     22,      2,2,19960508,   0,-63.5478, -52.1013,  988,     40.1,  -1.8739,  34.2573,2,  34.2382,2,    315.7,2,    65.01,2,    28.94,2,     0.21,2,     2.00,2,    5.081,2,    2.438,2,    0.398,2,    6.044,2,   2203.5,2, -999.000,9, -999.000,-999.0000,9,-999.0000,  -999.00,9,  -999.00, -999.000,9, -999.000
  06AQ19960317,  S04a,   101,  1,     21,      3,2,19960508,   0,-63.5478, -52.1013,  988,     79.9,  -1.7115,  34.4050,2,  34.4060,2,    294.2,2,    68.12,2,    30.77,2,     0.13,2,     2.11,2,    4.579,2,    2.198,2,    0.346,2,    4.786,4,   2222.0,2,    0.116,2, -999.000,   1.8490,2,   0.0050,     0.63,2,     0.22,    8.191,2,    0.018
  06AQ19960317,  S04a,   101,  1,     20,      4,2,19960508,   0,-63.5478, -52.1013,  988,     79.9,  -1.7116,  34.4028,2,-999.0000,9,   -999.0,9,    68.62,2,    30.89,2,     0.13,2,     2.12,2,    4.665,2,    2.250,2,    0.363,2,    4.928,2,   -999.0,9, -999.000,9, -999.000,-999.0000,9,-999.0000,  -999.00,9,  -999.00, -999.000,9, -999.000
  06AQ19960317,  S04a,   101,  1,     19,      5,2,19960508,   0,-63.5478, -52.1013,  988,     99.5,  -1.6992,  34.4154,2,  34.4165,2,    293.5,2,    67.67,2,    30.78,2,     0.12,2,     2.11,2,    4.560,2,    2.166,2,    0.331,2,    4.716,2,   2222.1,2,    0.094,2, -999.000,-999.0000,9,-999.0000,  -999.00,9,  -999.00, -999.000,9, -999.000
  06AQ19960317,  S04a,   101,  1,     18,      6,2,19960508,   0,-63.5478, -52.1013,  988,    149.9,  -1.5917,  34.4608,2,  34.4623,2,    284.6,2,    70.15,2,    31.14,2,     0.03,2,     2.12,2,    4.251,2,    2.003,2,    0.303,2,    4.220,2,   2226.7,2,    0.120,2, -999.000,   1.8530,2,   0.0050,     1.44,2,     0.22,    8.165,2,    0.018
  06AQ19960317,  S04a,   101,  1,     17,      7,2,19960508,   0,-63.5478, -52.1013,  988,    200.8,  -0.9881,  34.5089,2,  34.5132,2,    258.6,2,    78.24,2,    32.07,2,     0.03,2,     2.17,2,    3.248,2,    1.550,2,    0.220,2,    3.321,2,   2236.6,2,    0.161,2, -999.000,-999.0000,9,-999.0000,  -999.00,9,  -999.00, -999.000,9, -999.000
  06AQ19960317,  S04a,   101,  1,     16,      8,2,19960508,   0,-63.5478, -52.1013,  988,    250.2,  -0.3911,  34.5652,2,  34.5615,2,    236.8,2,    85.04,2,    32.33,2,     0.04,2,     2.22,2,    2.356,2,    1.085,2,    0.150,2,    2.576,2,   2245.4,2, -999.000,9, -999.000,-999.0000,9,-999.0000,  -999.00,9,  -999.00, -999.000,9, -999.000
  06AQ19960317,  S04a,   101,  1,     15,      9,2,19960508,   0,-63.5478, -52.1013,  988,    300.4,   0.0121,  34.6048,2,  34.6071,2,    219.9,2,    92.26,2,    32.85,2,     0.04,2,     2.24,2,    1.719,2,    0.791,2,    0.096,2,    1.940,2,   2251.2,2,    0.104,2, -999.000,-999.0000,9,-999.0000,  -999.00,9,  -999.00, -999.000,9, -999.000
  06AQ19960317,  S04a,   101,  1,     14,     10,2,19960508,   0,-63.5478, -52.1013,  988,    400.9,   0.4678,  34.6605,2,  34.6599,2,    204.7,2,   102.55,2,    33.30,2,     0.04,2,     2.27,2,    0.842,2,    0.391,2,    0.044,2,    1.066,2,   2258.1,2, -999.000,9, -999.000,-999.0000,9,-999.0000,  -999.00,9,  -999.00, -999.000,9, -999.000
  06AQ19960317,  S04a,   101,  1,     11,     13,2,19960508,   0,-63.5478, -52.1013,  988,    522.5,   0.5343,  34.6808,2,-999.0000,9,   -999.0,9,   110.12,2,    33.42,2,     0.03,2,     2.27,2, -999.000,9, -999.000,9, -999.000,9, -999.000,9,   -999.0,9, -999.000,9, -999.000,-999.0000,9,-999.0000,  -999.00,9,  -999.00, -999.000,9, -999.000
  06AQ19960317,  S04a,   101,  1,     12,     12,2,19960508,   0,-63.5478, -52.1013,  988,    523.9,   0.5340,  34.6805,2,-999.0000,9,   -999.0,9,   109.60,2,    33.18,2,     0.04,2,     2.29,2, -999.000,9, -999.000,9, -999.000,9, -999.000,9,   -999.0,9, -999.000,9, -999.000,-999.0000,9,-999.0000,  -999.00,9,  -999.00, -999.000,9, -999.000
  06AQ19960317,  S04a,   101,  1,     13,     11,2,19960508,   0,-63.5478, -52.1013,  988,    525.1,   0.5334,  34.6806,2,  34.6813,2,    201.5,2,   108.47,2,    33.19,2,     0.03,2,     2.28,2,    0.467,2,    0.206,2,    0.020,2,    0.720,2,   2262.4,2,    0.086,2, -999.000,   1.8560,2,   0.0050,     8.15,2,     0.22,    8.054,2,    0.018
  06AQ19960317,  S04a,   101,  1,     10,     14,2,19960508,   0,-63.5478, -52.1013,  988,    602.3,   0.4434,  34.6813,2,  34.6810,2,    204.1,2,   111.96,2,    33.15,2,     0.03,2,     2.29,2,    0.378,2,    0.172,2,    0.015,2,    0.594,2,   2262.3,2,    0.030,2, -999.000,-999.0000,9,-999.0000,  -999.00,9,  -999.00, -999.000,9, -999.000
  06AQ19960317,  S04a,   101,  1,      7,     17,2,19960508,   0,-63.5478, -52.1013,  988,    737.9,   0.2611,  34.6744,2,-999.0000,9,   -999.0,9,   116.97,2,    33.48,2,     0.05,2,     2.31,2, -999.000,9, -999.000,9, -999.000,9, -999.000,9,   -999.0,9, -999.000,9, -999.000,-999.0000,9,-999.0000,  -999.00,9,  -999.00, -999.000,9, -999.000
  06AQ19960317,  S04a,   101,  1,      8,     16,2,19960508,   0,-63.5478, -52.1013,  988,    738.4,   0.2628,  34.6750,2,-999.0000,9,   -999.0,9,   117.85,2,    33.52,2,     0.03,2,     2.28,2, -999.000,9, -999.000,9, -999.000,9, -999.000,9,   -999.0,9, -999.000,9, -999.000,-999.0000,9,-999.0000,  -999.00,9,  -999.00, -999.000,9, -999.000
  06AQ19960317,  S04a,   101,  1,      9,     15,2,19960508,   0,-63.5478, -52.1013,  988,    738.6,   0.2642,  34.6749,2,  34.6754,2,    208.0,2,   117.71,2,    33.62,2,     0.04,2,     2.31,2,    0.360,2,    0.172,2,    0.011,2,    0.586,2,   2264.2,2,    0.078,2, -999.000,-999.0000,9,-999.0000,  -999.00,9,  -999.00, -999.000,9, -999.000
  06AQ19960317,  S04a,   101,  1,      4,     20,2,19960508,   0,-63.5478, -52.1013,  988,    887.2,  -0.2503,  34.6462,2,-999.0000,9,   -999.0,9,   108.70,2,    32.95,2,     0.04,2,     2.27,2, -999.000,9, -999.000,9, -999.000,9, -999.000,9,   -999.0,9, -999.000,9, -999.000,-999.0000,9,-999.0000,  -999.00,9,  -999.00, -999.000,9, -999.000
  06AQ19960317,  S04a,   101,  1,      5,     19,2,19960508,   0,-63.5478, -52.1013,  988,    887.3,  -0.2517,  34.6472,2,-999.0000,9,   -999.0,9,   109.31,2,    32.97,2,     0.03,2,     2.26,2, -999.000,9, -999.000,9, -999.000,9, -999.000,9,   -999.0,9, -999.000,9, -999.000,-999.0000,9,-999.0000,  -999.00,9,  -999.00, -999.000,9, -999.000
  06AQ19960317,  S04a,   101,  1,      6,     18,2,19960508,   0,-63.5478, -52.1013,  988,    887.4,  -0.2451,  34.6478,2,  34.6486,2,    229.7,2,   109.32,2,    32.92,2,     0.03,2,     2.26,2,    1.187,2,    0.545,2,    0.066,2,    1.321,2,   2255.5,2,    0.117,2, -999.000,   1.8730,2,   0.0050,     5.57,2,     0.22,    8.149,2,    0.018
  06AQ19960317,  S04a,   101,  1,      3,     21,2,19960508,   0,-63.5478, -52.1013,  988,    937.6,  -0.7265,  34.6227,2,  34.6135,4,    251.0,2,    95.48,2,    32.22,2,     0.04,2,     2.22,2,    2.260,2,    1.065,2,    0.144,2,    2.182,2,   2245.8,2,    0.087,2, -999.000,   1.8680,2,   0.0050,     3.94,2,     0.22,    8.224,2,    0.018
  06AQ19960317,  S04a,   101,  1,      2,     22,2,19960508,   0,-63.5478, -52.1013,  988,    988.1,  -0.8468,  34.6230,2,  34.6116,4,    256.3,2,    92.50,2,    32.19,2,     0.03,2,     2.22,2,    2.481,2,    1.174,2,    0.160,2,    2.377,2,   2247.1,2,    0.096,2, -999.000,-999.0000,9,-999.0000,  -999.00,9,  -999.00, -999.000,9, -999.000
  06AQ19960317,  S04a,   101,  1,      1,     23,2,19960508,   0,-63.5478, -52.1013,  988,    988.1,  -0.8478,  34.6240,2,-999.0000,9,   -999.0,9,    91.87,2,    32.01,2,     0.04,2,     2.21,2, -999.000,9, -999.000,9, -999.000,9, -999.000,9,   -999.0,9, -999.000,9, -999.000,-999.0000,9,-999.0000,  -999.00,9,  -999.00, -999.000,9, -999.000
  06AQ19960317,  S04a,   101,  1,     24,     24,2,19960508,   0,-63.5478, -52.1013,  988,    988.2,  -0.8483,  34.6239,2,-999.0000,9,   -999.0,9,    92.63,2,    32.12,2,     0.04,2,     2.21,2, -999.000,9, -999.000,9, -999.000,9, -999.000,9,   -999.0,9, -999.000,9, -999.000,-999.0000,9,-999.0000,  -999.00,9,  -999.00, -999.000,9, -999.000
  06AQ19960317,  S04a,   102,  2,     23,      1,2,19960508,   0,-63.3262, -52.7985,  450,     20.5,  -1.8798,  34.2691,2,-999.0000,9,   -999.0,9,    64.16,2,    28.87,2,     0.20,2,     2.01,2,    5.102,2,    2.477,2,    0.409,2,    5.593,2,   -999.0,9, -999.000,9, -999.000,-999.0000,9,-999.0000,  -999.00,9,  -999.00, -999.000,9, -999.000
  06AQ19960317,  S04a,   102,  2,     22,      2,2,19960508,   0,-63.3262, -52.7985,  450,     20.5,  -1.8786,  34.2692,2,  34.2548,2,    317.1,2,    64.15,2,    28.86,2,     0.21,2,     2.01,2, -999.000,9, -999.000,9, -999.000,9, -999.000,9,   2201.3,2, -999.000,9, -999.000,-999.0000,9,-999.0000,  -999.00,9,  -999.00, -999.000,9, -999.000
  06AQ19960317,  S04a,   102,  2,     21,      3,2,19960508,   0,-63.3262, -52.7985,  450,     39.3,  -1.8781,  34.2696,2,  34.2713,2,    317.4,2,    64.23,2,    28.87,2,     0.21,2,     2.00,2,    4.836,2,    2.352,2,    0.374,2,    5.444,2,   2204.3,2,    0.103,2, -999.000,-999.0000,9,-999.0000,  -999.00,9,  -999.00, -999.000,9, -999.000
  06AQ19960317,  S04a,   102,  2,     20,      4,2,19960508,   0,-63.3262, -52.7985,  450,     39.3,  -1.8776,  34.2691,2,-999.0000,9,   -999.0,9,    64.53,2,    28.88,2,     0.21,2,     2.02,2, -999.000,9, -999.000,9, -999.000,9, -999.000,9,   -999.0,9, -999.000,9, -999.000,-999.0000,9,-999.0000,  -999.00,9,  -999.00, -999.000,9, -999.000
  06AQ19960317,  S04a,   102,  2,     19,      5,2,19960508,   0,-63.3262, -52.7985,  450,     39.3,  -1.8779,  34.2694,2,-999.0000,9,   -999.0,9,    64.47,2,    28.76,2,     0.19,2,     2.03,2, -999.000,9, -999.000,9, -999.000,9, -999.000,9,   -999.0,9, -999.000,9, -999.000,-999.0000,9,-999.0000,  -999.00,9,  -999.00, -999.000,9, -999.000
  06AQ19960317,  S04a,   102,  2,     18,      6,2,19960508,   0,-63.3262, -52.7985,  450,     60.2,  -1.8779,  34.2693,2,-999.0000,9,   -999.0,9,    63.85,2,    28.70,2,     0.20,2,     2.03,2, -999.000,9, -999.000,9, -999.000,9, -999.000,9,   -999.0,9, -999.000,9, -999.000,-999.0000,9,-999.0000,  -999.00,9,  -999.00, -999.000,9, -999.000
  06AQ19960317,  S04a,   102,  2,     17,      7,2,19960508,   0,-63.3262, -52.7985,  450,     60.2,  -1.8782,  34.2695,2,  34.2708,2,    317.2,2,    64.30,2,    28.82,2,     0.20,2,     2.02,2, -999.000,9, -999.000,9, -999.000,9, -999.000,9,   2203.9,2, -999.000,9, -999.000,-999.0000,9,-999.0000,  -999.00,9,  -999.00, -999.000,9, -999.000
  06AQ19960317,  S04a,   102,  2,     15,      9,2,19960508,   0,-63.3262, -52.7985,  450,     81.1,  -1.8772,  34.2695,2,  34.2695,2,    317.0,2,    64.35,2,    28.87,2,     0.20,2,     2.02,2,    5.089,2,    2.483,2,    0.396,2,    5.811,2,   2204.5,2, -999.000,9, -999.000,-999.0000,9,-999.0000,  -999.00,9,  -999.00, -999.000,9, -999.000
  06AQ19960317,  S04a,   102,  2,     16,      8,2,19960508,   0,-63.3262, -52.7985,  450,     81.2,  -1.8774,  34.2687,2,-999.0000,9,   -999.0,9,    64.32,2,    28.84,2,     0.19,2,     2.02,2, -999.000,9, -999.000,9, -999.000,9, -999.000,9,   -999.0,9, -999.000,9, -999.000,-999.0000,9,-999.0000,  -999.00,9,  -999.00, -999.000,9, -999.000
  06AQ19960317,  S04a,   102,  2,     12,     12,2,19960508,   0,-63.3262, -52.7985,  450,    100.7,  -1.8763,  34.2704,2,-999.0000,9,   -999.0,9,    64.47,2,    28.77,2,     0.19,2,     2.03,2, -999.000,9, -999.000,9, -999.000,9, -999.000,9,   -999.0,9, -999.000,9, -999.000,-999.0000,9,-999.0000,  -999.00,9,  -999.00, -999.000,9, -999.000
  06AQ19960317,  S04a,   102,  2,     14,     10,2,19960508,   0,-63.3262, -52.7985,  450,    101.0,  -1.8766,  34.2706,2,  34.2921,2,   -999.0,9,    64.33,2,    29.10,2,     0.20,2,     2.05,2,    5.117,2,    2.394,2,    0.365,2,    5.467,2,   2207.8,2,    0.108,2, -999.000,-999.0000,9,-999.0000,  -999.00,9,  -999.00, -999.000,9, -999.000
  06AQ19960317,  S04a,   102,  2,     13,     11,2,19960508,   0,-63.3262, -52.7985,  450,    101.0,  -1.8769,  34.2702,2,-999.0000,9,   -999.0,9,    64.49,2,    28.95,2,     0.20,2,     2.02,2, -999.000,9, -999.000,9, -999.000,9, -999.000,9,   -999.0,9, -999.000,9, -999.000,-999.0000,9,-999.0000,  -999.00,9,  -999.00, -999.000,9, -999.000
  06AQ19960317,  S04a,   102,  2,     11,     13,2,19960508,   0,-63.3262, -52.7985,  450,    151.1,  -1.6857,  34.4215,2,  34.4319,2,    293.3,2,    68.64,2,    30.80,2,     0.12,2,     2.13,2,    4.424,2,    2.056,2,    0.284,2,    4.336,2,   2224.2,2, -999.000,9, -999.000,-999.0000,9,-999.0000,  -999.00,9,  -999.00, -999.000,9, -999.000
  06AQ19960317,  S04a,   102,  2,     10,     14,2,19960508,   0,-63.3262, -52.7985,  450,    201.1,  -1.4350,  34.4871,2,  34.4936,2,    280.5,2,    74.01,2,    31.42,2,     0.04,2,     2.14,2,    3.873,2,    1.788,2,    0.256,2,    3.721,2,   2232.0,2, -999.000,9, -999.000,-999.0000,9,-999.0000,  -999.00,9,  -999.00, -999.000,9, -999.000
  06AQ19960317,  S04a,   102,  2,      7,     17,2,19960508,   0,-63.3262, -52.7985,  450,    251.2,  -1.2388,  34.5209,2,-999.0000,9,   -999.0,9,    77.00,2,    31.55,2,     0.04,2,     2.16,2, -999.000,9, -999.000,9, -999.000,9, -999.000,9,   -999.0,9, -999.000,9, -999.000,-999.0000,9,-999.0000,  -999.00,9,  -999.00, -999.000,9, -999.000
  06AQ19960317,  S04a,   102,  2,      8,     16,2,19960508,   0,-63.3262, -52.7985,  450,    251.8,  -1.2643,  34.5192,2,-999.0000,9,   -999.0,9,    76.46,2,    31.51,2,     0.04,2,     2.15,2, -999.000,9, -999.000,9, -999.000,9, -999.000,9,   -999.0,9, -999.000,9, -999.000,-999.0000,9,-999.0000,  -999.00,9,  -999.00, -999.000,9, -999.000
  06AQ19960317,  S04a,   102,  2,      9,     15,2,19960508,   0,-63.3262, -52.7985,  450,    251.9,  -1.2655,  34.5194,2,  34.5216,2,    273.0,2,    77.00,2,    31.43,2,     0.02,2,     2.17,2,    3.598,2,    1.696,2,    0.222,2,    3.383,2,   2236.5,2, -999.000,9, -999.000,-999.0000,9,-999.0000,  -999.00,9,  -999.00, -999.000,9, -999.000
  06AQ19960317,  S04a,   102,  2,      4,     20,2,19960508,   0,-63.3262, -52.7985,  450,    341.3,  -0.7252,  34.5867,2,-999.0000,9,   -999.0,9,    88.34,2,    32.26,2,     0.03,2,     2.19,2, -999.000,9, -999.000,9, -999.000,9, -999.000,9,   -999.0,9, -999.000,9, -999.000,-999.0000,9,-999.0000,  -999.00,9,  -999.00, -999.000,9, -999.000
  06AQ19960317,  S04a,   102,  2,      6,     18,2,19960508,   0,-63.3262, -52.7985,  450,    341.4,  -0.7415,  34.5816,2,  34.5876,2,    252.0,2,    88.06,2,    32.20,2,     0.02,2,     2.19,2,    2.494,2,    1.163,2,    0.155,2,    2.421,2,   2245.7,2, -999.000,9, -999.000,-999.0000,9,-999.0000,  -999.00,9,  -999.00, -999.000,9, -999.000
  06AQ19960317,  S04a,   102,  2,      5,     19,2,19960508,   0,-63.3262, -52.7985,  450,    341.4,  -0.7512,  34.5829,2,-999.0000,9,   -999.0,9,    87.67,2,    32.02,2,     0.10,2,     2.20,2, -999.000,9, -999.000,9, -999.000,9, -999.000,9,   -999.0,9, -999.000,9, -999.000,-999.0000,9,-999.0000,  -999.00,9,  -999.00, -999.000,9, -999.000
  06AQ19960317,  S04a,   102,  2,      3,     21,2,19960508,   0,-63.3262, -52.7985,  450,    401.1,  -0.8112,  34.5942,2,-999.0000,9,    252.3,2,    90.44,2,    32.23,2,     0.04,2,     2.21,2,    2.445,2,    1.141,2,    0.155,2,    2.342,2,   2246.6,2,    0.155,2, -999.000,-999.0000,9,-999.0000,  -999.00,9,  -999.00, -999.000,9, -999.000
  06AQ19960317,  S04a,   102,  2,      1,     23,2,19960508,   0,-63.3262, -52.7985,  450,    445.6,  -0.7968,  34.5967,2,-999.0000,9,   -999.0,9,    90.48,2,    32.24,2,     0.03,2,     2.20,2, -999.000,9, -999.000,9, -999.000,9, -999.000,9,   -999.0,9, -999.000,9, -999.000,-999.0000,9,-999.0000,  -999.00,9,  -999.00, -999.000,9, -999.000
  06AQ19960317,  S04a,   102,  2,     24,     24,2,19960508,   0,-63.3262, -52.7985,  450,    445.6,  -0.7976,  34.5966,2,-999.0000,9,   -999.0,9,    90.35,2,    32.10,2,     0.04,2,     2.18,2, -999.000,9, -999.000,9, -999.000,9, -999.000,9,   -999.0,9, -999.000,9, -999.000,-999.0000,9,-999.0000,  -999.00,9,  -999.00, -999.000,9, -999.000
  06AQ19960317,  S04a,   102,  2,      2,     22,2,19960508,   0,-63.3262, -52.7985,  450,    445.8,  -0.7994,  34.5955,2,  34.5822,2,    252.1,2,    89.32,2,    31.92,2,     0.05,2,     2.20,2,    2.447,2,    1.157,2,    0.160,2,    2.336,2,   2248.1,2,    0.060,2, -999.000,-999.0000,9,-999.0000,  -999.00,9,  -999.00, -999.000,9, -999.000