BOTTLE,20140714SIOCCHRJL
EXPOCODE,SECT_ID,STNNBR,CASTNO,SAMPNO,BTLNBR,BTLNBR_FLAG_W,DATE,TIME,LATITUDE,LONGITUDE,DEPTH,CTDPRS,CTDTMP,CTDSAL,CTDSAL_FLAG_W,SALNTY,SALNTY_FLAG_W,OXYGEN,OXYGEN_FLAG_W,SILCAT,SILCAT_FLAG_W,NITRAT,NITRAT_FLAG_W,PHSPHT,PHSPHT_FLAG_W,CFC-11,CFC-11_FLAG_W,CFC-12,CFC-12_FLAG_W,CCL4,CCL4_FLAG_W,TCARBN,TCARBN_FLAG_W,ALKALI,ALKALI_FLAG_W,DOC,DOC_FLAG_W,DELO18,DELO18_FLAG_W,THETA
,,,,,,,,,,,METERS,DBAR,ITS-90,PSS-78,,PSS-78,,UMOL/KG,,UMOL/KG,,UMOL/KG,,UMOL/KG,,PMOL/KG,,PMOL/KG,,PMOL/KG,,UMOL/KG,,UMOL/KG,,UMOL/KG,,/MILLE,,DEG C
  77DN19910726,Arctic,     9,  4,  81083,     21,2,19910824,   0, 85.0700,  42.3000, 4008,    550.7,   0.8980,  34.9298,2,  34.9280,   2,    306.9,2,     6.28,2,    12.78,2,     0.84,2,    2.117,2,    1.044,2,    5.102,   2,   2153.1,2,   2289.6,2,   -999.0,9,  -999.00,9,   0.8715
  77DN19910726,Arctic,     9,  4,  81082,     20,2,19910824,   0, 85.0700,  42.3000, 4008,    600.5,   0.7060,  34.9229,2,  34.9220,   2,    305.4,2,     6.41,2,    12.81,2,     0.84,2,    2.098,2,    0.859,2,    5.024,   2,   2146.1,2,   2287.5,2,   -999.0,9,  -999.00,9,   0.6778
  77DN19910726,Arctic,     9,  4,  81081,     19,2,19910824,   0, 85.0700,  42.3000, 4008,    651.1,   0.5120,  34.9193,2,  34.9140,   2,    304.8,2,     6.53,2,    12.79,2,     0.87,2,    1.902,2,    0.898,2,    4.615,   2,   2145.1,2,   2288.3,2,   -999.0,9,  -999.00,9,   0.4822
  77DN19910726,Arctic,     9,  4,  81080,     18,9,19910824,   0, 85.0700,  42.3000, 4008,    701.4,-999.0000,  34.9155,2,  34.9290,-999,   -999.0,9,  -999.00,9,  -999.00,9,  -999.00,9, -999.000,9, -999.000,9, -999.000,   9,   -999.0,9,   -999.0,9,   -999.0,9,  -999.00,9,-999.0000
  77DN19910726,Arctic,     9,  4,  81079,     17,2,19910824,   0, 85.0700,  42.3000, 4008,    746.5,   0.2260,  34.9143,2,  34.9140,   2,   -999.0,9,     6.79,2,    12.95,2,     0.86,2,    1.463,2,    0.595,2,    4.244,   2,   2153.6,2,   2281.6,2,   -999.0,9,  -999.00,9,   0.1929
  77DN19910726,Arctic,     9,  4,  81078,     16,2,19910824,   0, 85.0700,  42.3000, 4008,    801.0,   0.0980,  34.9125,2,  34.9110,   2,    304.6,2,     7.00,2,    12.96,2,     0.87,2,    1.678,2,    0.585,2,    4.390,   2,   2146.8,2,   2295.6,2,   -999.0,9,  -999.00,9,   0.0630
  77DN19910726,Arctic,     9,  4,  81077,     15,2,19910824,   0, 85.0700,  42.3000, 4008,    900.8,  -0.0910,  34.9126,2,  34.9110,   2,    302.3,2,     7.29,2,    13.01,2,     0.88,2,    1.161,2,    0.488,2,    3.902,   2,   2154.5,2,   2301.0,2,   -999.0,9,  -999.00,9,  -0.1298
  77DN19910726,Arctic,     9,  4,  81076,     14,2,19910824,   0, 85.0700,  42.3000, 4008,   1000.8,  -0.2240,  34.9170,2,  34.9310,   2,   -999.0,9,  -999.00,9,  -999.00,9,  -999.00,9,    1.073,2,    0.468,2,    3.473,   2,   2154.0,2,   -999.0,9,   -999.0,9,  -999.00,9,  -0.2669
  77DN19910726,Arctic,     9,  4,  81075,     13,2,19910824,   0, 85.0700,  42.3000, 4008,   1100.9,  -0.3400,  34.9176,2,  34.9160,   2,    303.3,2,     8.08,2,    13.39,2,     0.92,2,    0.654,2,    0.371,2,    3.073,   2,   2159.9,2,   2292.8,2,   -999.0,9,  -999.00,9,  -0.3871
  77DN19910726,Arctic,     9,  4,  81074,     12,2,19910824,   0, 85.0700,  42.3000, 4008,   1300.5,  -0.5000,  34.9199,2,  34.9170,   2,    300.2,2,     8.87,2,    13.98,2,     0.94,2,    0.468,2,    0.273,2,    2.741,   2,   2152.0,2,   2293.6,2,   -999.0,9,  -999.00,9,  -0.5563
  77DN19910726,Arctic,     9,  4,  81073,     11,2,19910824,   0, 85.0700,  42.3000, 4008,   1501.2,  -0.6060,  34.9214,2,  34.9220,   2,    302.5,2,     9.60,2,    14.41,2,     0.95,2,    0.400,2,    0.195,2,    1.805,   2,   2158.3,2,   -999.0,9,   -999.0,9,  -999.00,9,  -0.6723
  77DN19910726,Arctic,     9,  4,  81072,     10,2,19910824,   0, 85.0700,  42.3000, 4008,   1700.4,  -0.6870,  34.9234,2,  34.9220,   2,    298.5,2,    10.08,2,    14.40,2,     0.97,2,    0.332,2,    0.146,2,    1.844,   2,   2148.3,2,   2297.5,2,   -999.0,9,  -999.00,9,  -0.7640
  77DN19910726,Arctic,     9,  4,  81071,      9,2,19910824,   0, 85.0700,  42.3000, 4008,   1901.7,  -0.7410,  34.9230,2,  34.9230,   2,    300.9,2,    10.34,2,    14.61,2,     0.97,2, -999.000,9,    0.068,2, -999.000,   9,   2139.5,2,   2297.2,2,   -999.0,9,  -999.00,9,  -0.8297
  77DN19910726,Arctic,     9,  4,  81070,      8,2,19910824,   0, 85.0700,  42.3000, 4008,   2100.6,  -0.7720,  34.9244,2,  34.9240,   2,    300.9,2,    10.63,2,    14.68,2,     0.98,2,    0.263,2,    0.059,2,    0.751,   2,   2151.0,2,   2291.2,2,   -999.0,9,  -999.00,9,  -0.8731
  77DN19910726,Arctic,     9,  4,  81069,      7,2,19910824,   0, 85.0700,  42.3000, 4008,   2299.3,  -0.7900,  34.9269,2,  34.9260,   2,    296.5,2,    10.71,2,    15.47,3,     1.00,2,    0.078,2, -999.000,9,    0.556,   2,   2153.8,2,   2292.0,2,   -999.0,9,  -999.00,9,  -0.9043
  77DN19910726,Arctic,     9,  4,  81068,      6,2,19910824,   0, 85.0700,  42.3000, 4008,   2601.7,  -0.7960,  34.9304,2,  34.9310,   2,    301.0,2,    10.90,2,    14.77,2,     0.98,2,    0.078,2, -999.000,9,    0.624,   2,   2153.0,2,   2289.4,2,   -999.0,9,  -999.00,9,  -0.9319
  77DN19910726,Arctic,     9,  4,  81067,      5,2,19910824,   0, 85.0700,  42.3000, 4008,   2899.1,  -0.7850,  34.9343,2,  34.9460,   2,   -999.0,9,  -999.00,9,  -999.00,9,  -999.00,9,    0.244,2, -999.000,9,    0.790,   2,   -999.0,9,   -999.0,9,   -999.0,9,  -999.00,9,  -0.9440
  77DN19910726,Arctic,     9,  4,  81066,      4,2,19910824,   0, 85.0700,  42.3000, 4008,   3196.8,  -0.7600,  34.9380,2,  34.9390,   2,    298.2,2,    11.29,2,    15.29,3,     0.99,2,   -0.029,2, -999.000,9,    0.254,   2,   2149.7,2,   2285.3,2,   -999.0,9,  -999.00,9,  -0.9438
  77DN19910726,Arctic,     9,  4,  81065,      3,2,19910824,   0, 85.0700,  42.3000, 4008,   3597.2,  -0.7140,  34.9411,2,  34.9420,   2,    296.5,2,    11.33,2,    14.82,2,     0.98,2,   -0.020,2, -999.000,9, -999.000,   9,   2143.5,2,   2290.5,2,   -999.0,9,  -999.00,9,  -0.9338
  77DN19910726,Arctic,     9,  4,  81064,      2,2,19910824,   0, 85.0700,  42.3000, 4008,   3898.7,  -0.6840,  34.9405,2,  34.9430,   2,    297.8,2,    11.28,2,    14.82,2,     0.98,2,   -0.020,2, -999.000,9,    0.185,   2,   2150.2,2,   2285.4,2,   -999.0,9,  -999.00,9,  -0.9325
  77DN19910726,Arctic,     9,  4,  81063,      1,2,19910824,   0, 85.0700,  42.3000, 4008,   4003.4,  -0.6740,  34.9405,2,  34.9430,   2,    294.0,2,    11.30,2,    14.85,2,     0.98,2,   -0.137,2,    0.000,2,    0.185,   2,   2154.3,2,   2285.3,2,   -999.0,9,  -999.00,9,  -0.9328
  77DN19910726,Arctic,    10,  2,  81122,     24,2,19910825,   0, 85.7300,  48.0500, 3979,     10.0,  -1.7420,  33.2816,2,  33.2760,   2,    366.3,2,     3.11,2,     4.19,2,     0.42,2,    6.088,2,    3.073,2,    9.980,   2,   2091.3,2,   2228.9,2,   -999.0,9,    -1.07,2,  -1.7422
  77DN19910726,Arctic,    10,  2,  81121,     23,2,19910825,   0, 85.7300,  48.0500, 3979,     29.9,  -1.7410,  33.6533,2,  33.8810,   2,    361.7,2,     3.15,2,     5.21,2,     0.43,2,    6.332,2,    3.161,2,    9.483,   2,   2114.0,2,   2245.3,2,   -999.0,9,  -999.00,9,  -1.7416
  77DN19910726,Arctic,    10,  2,  81120,     22,2,19910825,   0, 85.7300,  48.0500, 3979,     47.9,  -1.8000,  34.0294,2,  34.0660,   2,    353.8,2,     3.07,2,     6.05,2,     0.47,2,    6.215,2,    2.917,2,    9.327,   2,   2119.0,2,   2262.0,2,   -999.0,9,    -0.61,2,  -1.8009
  77DN19910726,Arctic,    10,  2,  81119,     21,2,19910825,   0, 85.7300,  48.0500, 3979,     74.8,  -1.8310,  34.1321,2,  34.1280,   2,    350.2,2,     3.15,2,     6.55,2,     0.49,2,    6.137,2,    3.093,2,    9.220,   2,   2115.7,2,   2255.9,2,   -999.0,9,  -999.00,9,  -1.8324
  77DN19910726,Arctic,    10,  2,  81118,     20,2,19910825,   0, 85.7300,  48.0500, 3979,    100.2,  -1.8140,  34.1654,2,  34.1590,   2,    347.5,2,     3.23,2,     6.79,2,     0.50,2,    6.029,2,    2.976,2,    9.239,   2,   2115.3,2,   2248.2,2,   -999.0,9,    -0.46,2,  -1.8159
  77DN19910726,Arctic,    10,  2,  81117,     19,2,19910825,   0, 85.7300,  48.0500, 3979,    121.8,  -1.0440,  34.3266,2,  34.3090,   2,    320.0,2,     4.73,2,     8.93,2,     0.62,2,    3.434,2,    2.780,3,    6.341,   3,   2134.3,2,   2217.7,2,   -999.0,9,  -999.00,9,  -1.0472
  77DN19910726,Arctic,    10,  2,  81116,     18,2,19910825,   0, 85.7300,  48.0500, 3979,    175.6,   0.6840,  34.6357,2,  34.6490,   2,    304.3,2,     5.23,2,    11.09,2,     0.73,2,    3.073,2,    2.000,3,    6.878,   2,   2130.5,2,   2239.3,2,   -999.0,9,     0.18,2,   0.6765
  77DN19910726,Arctic,    10,  2,  81115,     17,2,19910825,   0, 85.7300,  48.0500, 3979,    250.0,   1.5880,  34.8831,2,  34.8790,   2,    302.8,2,     5.59,2,    12.36,2,     0.81,2,    3.288,2,    2.185,3,    7.941,   2,   2142.2,2,   2252.6,2,   -999.0,9,     0.36,2,   1.5752
  77DN19910726,Arctic,    10,  2,  81114,     16,2,19910825,   0, 85.7300,  48.0500, 3979,    500.4,   0.9210,  34.9151,2,  34.9110,   2,    302.4,2,     6.15,2,    12.62,2,     0.85,2, -999.000,9, -999.000,9, -999.000,   9,   2141.3,2,   -999.0,9,   -999.0,9,  -999.00,9,   0.8971
  77DN19910726,Arctic,    10,  2,  81113,     15,2,19910825,   0, 85.7300,  48.0500, 3979,    749.9,   0.1850,  34.9054,2,  34.9070,   2,    305.5,2,     6.77,2,    12.87,2,     0.87,2,    1.590,2,    1.288,3,    5.785,   2,   2154.8,2,   2294.0,2,   -999.0,9,  -999.00,9,   0.1520
  77DN19910726,Arctic,    10,  2,  81112,     14,2,19910825,   0, 85.7300,  48.0500, 3979,    999.6,  -0.2330,  34.9109,2,  34.9120,   2,    306.1,2,     7.63,2,    13.12,2,     0.89,2,    0.907,2,    0.927,2,    4.712,   2,   2158.5,2,   2296.6,2,   -999.0,9,  -999.00,9,  -0.2757
  77DN19910726,Arctic,    10,  2,  81111,     13,2,19910825,   0, 85.7300,  48.0500, 3979,   1251.2,  -0.4600,  34.9174,2,  34.9170,   2,    301.7,2,     8.58,2,    13.59,2,     0.93,2,    0.332,2,    0.673,2,    3.473,   2,   2156.4,2,   2290.7,2,   -999.0,9,  -999.00,9,  -0.5140
  77DN19910726,Arctic,    10,  2,  81110,     12,2,19910825,   0, 85.7300,  48.0500, 3979,   1500.5,  -0.6120,  34.9203,2,  34.9200,   2,    303.1,2,     9.53,2,    14.05,2,     0.95,2,    0.039,2,    0.468,2,    2.517,   2,   2156.8,2,   2302.4,2,   -999.0,9,  -999.00,9,  -0.6782
  77DN19910726,Arctic,    10,  2,  81109,     11,2,19910825,   0, 85.7300,  48.0500, 3979,   1749.9,  -0.7020,  34.9211,2,  34.9220,   2,    298.6,2,    10.17,2,    14.36,2,     0.93,2, -999.000,9,    0.605,2,    2.273,   2,   2160.5,2,   2302.9,2,   -999.0,9,  -999.00,9,  -0.7818
  77DN19910726,Arctic,    10,  2,  81108,     10,2,19910825,   0, 85.7300,  48.0500, 3979,   2000.2,  -0.7570,  34.9225,2,  34.9230,   2,    302.8,2,    10.37,2,    14.49,2,     0.93,2,    0.000,2,    1.561,3,    1.454,   2,   2159.9,2,   2299.1,2,   -999.0,9,  -999.00,9,  -0.8517
  77DN19910726,Arctic,    10,  2,  81107,      9,2,19910825,   0, 85.7300,  48.0500, 3979,   2249.7,  -0.7870,  34.9250,2,  34.9260,   2,    303.0,2,    10.56,2,    14.63,2,     0.93,2,    0.000,2,    1.483,3,    1.063,   2,   2152.9,2,   2296.3,2,   -999.0,9,  -999.00,9,  -0.8979
  77DN19910726,Arctic,    10,  2,  81106,      8,2,19910825,   0, 85.7300,  48.0500, 3979,   2500.2,  -0.7970,  34.9281,2,  34.9290,   2,    301.0,2,    10.63,2,    14.70,2,     0.95,2,    0.000,2,    0.205,2,    0.712,   2,   -999.0,9,   2304.9,2,   -999.0,9,  -999.00,9,  -0.9254
  77DN19910726,Arctic,    10,  2,  81105,      7,2,19910825,   0, 85.7300,  48.0500, 3979,   2750.7,  -0.7930,  34.9319,2,  34.9330,   2,    297.3,2,    10.82,2,    14.69,2,     0.97,2,    0.000,2,    0.098,2,    0.498,   2,   2153.4,2,   2303.3,2,   -999.0,9,  -999.00,9,  -0.9402
  77DN19910726,Arctic,    10,  2,  81104,      6,2,19910825,   0, 85.7300,  48.0500, 3979,   3001.4,  -0.7800,  34.9352,2,  34.9380,   2,    299.0,2,    10.99,2,    14.62,2,     0.96,2,    0.000,2,    0.468,3,    0.410,   2,   -999.0,9,   2303.5,2,   -999.0,9,  -999.00,9,  -0.9473
  77DN19910726,Arctic,    10,  2,  81103,      5,2,19910825,   0, 85.7300,  48.0500, 3979,   3250.1,  -0.7530,  34.9389,2,  34.9400,   2,    298.1,2,    11.09,2,    14.63,2,     0.97,2,    0.000,2,    0.000,2,    0.293,   2,   2155.5,2,   2304.8,2,   -999.0,9,  -999.00,9,  -0.9415
  77DN19910726,Arctic,    10,  2,  81102,      4,2,19910825,   0, 85.7300,  48.0500, 3979,   3499.6,  -0.7240,  34.9406,2,  34.9420,   2,    297.6,2,    11.17,2,    14.69,2,     0.97,2,    0.000,2,    0.195,2,    0.176,   2,   -999.0,9,   2297.4,2,   -999.0,9,  -999.00,9,  -0.9348
  77DN19910726,Arctic,    10,  2,  81101,      3,2,19910825,   0, 85.7300,  48.0500, 3979,   3700.9,  -0.7040,  34.9408,2,  34.9420,   2,    298.1,2,    11.23,2,    14.64,2,     0.97,2,    0.390,2,    0.176,2,    0.166,   2,   2150.7,2,   2301.8,2,   -999.0,9,  -999.00,9,  -0.9335
  77DN19910726,Arctic,    10,  2,  81100,      2,2,19910825,   0, 85.7300,  48.0500, 3979,   3886.6,  -0.6870,  34.9407,2,  34.9440,   2,    297.7,2,    11.24,2,    14.66,2,     0.97,2,    0.000,2,    0.000,2,    0.049,   2,   -999.0,9,   2300.5,2,   -999.0,9,  -999.00,9,  -0.9343
  77DN19910726,Arctic,    10,  2,  81099,      1,2,19910825,   0, 85.7300,  48.0500, 3979,   3984.4,  -0.6770,  34.9400,2,  34.9440,   2,    297.8,2,    11.12,2,    14.63,2,     0.98,2,    0.000,2,    0.000,2,    0.361,   2,   2155.0,2,   2298.0,2,   -999.0,9,  -999.00,9,  -0.9339
  77DN19910726,Arctic,    11,  4,  81158,     12,2,19910826,   0, 86.0700,  52.7900, 3971,      9.2,  -1.7520,  32.9817,2,  33.0240,   2,    369.3,2,     3.56,2,     3.87,2,     0.41,2,    7.941,2,    2.605,2,   10.507,   2,   2157.6,2,   2239.0,2,    101.8,2,    -1.53,2,  -1.7522
  77DN19910726,Arctic,    11,  2,  81146,     24,2,19910826,   0, 86.0700,  52.7900, 3971,     15.2,  -1.7360,  32.9894,2,  33.0170,   2,   -999.0,9,     3.55,2,     3.86,2,     0.40,2,    6.634,2,    2.654,2,   10.790,   2,   2102.2,2,   2232.2,2,    102.0,2,    -1.61,2,  -1.7363
  77DN19910726,Arctic,    11,  4,  81157,     11,2,19910826,   0, 86.0700,  52.7900, 3971,     24.5,  -1.7450,  33.0272,2,  33.1350,   2,    369.6,2,     3.66,2,     4.04,2,     0.41,2,    6.390,2,    2.585,2,   10.273,   2,   2104.4,2,   2250.3,2,    111.4,2,    -1.50,2,  -1.7454
  77DN19910726,Arctic,    11,  4,  81156,     10,2,19910826,   0, 86.0700,  52.7900, 3971,     49.6,  -1.7830,  33.6557,2,  33.7960,   2,    357.3,2,     3.79,2,     5.38,2,     0.47,2,    5.805,2,    2.449,2,    8.732,   2,   2139.5,2,   2282.9,2,    102.4,2,    -1.18,2,  -1.7839
  77DN19910726,Arctic,    11,  4,  81155,      9,2,19910826,   0, 86.0700,  52.7900, 3971,     74.5,  -1.7310,  34.0772,2,  34.0020,   2,    342.0,2,     4.05,2,     6.54,2,     0.54,2,    5.317,2,    2.107,2,    7.561,   2,   2135.3,2,   2280.8,2,    110.2,2,    -0.69,2,  -1.7325
  77DN19910726,Arctic,    11,  4,  81154,      8,2,19910826,   0, 86.0700,  52.7900, 3971,     99.8,  -1.3330,  34.2706,2,  34.2280,   2,    320.8,2,     4.68,2,     8.36,2,     0.63,2,    3.766,2,    1.532,2,    6.410,   2,   2139.9,2,   2273.3,2,     68.4,2,    -0.29,2,  -1.3354
  77DN19910726,Arctic,    11,  4,  81153,      7,2,19910826,   0, 86.0700,  52.7900, 3971,    124.6,  -0.6370,  34.4100,2,  34.4010,   2,    310.8,2,     4.89,2,     9.41,2,     0.67,2,    3.132,2,    1.278,2,    6.322,   2,   2140.9,2,   2280.7,2,     65.8,2,    -0.05,2,  -0.6408
  77DN19910726,Arctic,    11,  4,  81152,      6,2,19910826,   0, 86.0700,  52.7900, 3971,    149.4,   0.1700,  34.5408,2,  34.5660,   2,    306.8,2,     5.28,2,    10.41,2,     0.72,2,    2.888,2,    1.259,2,    6.527,   2,   2146.9,2,   2279.9,2,     77.9,2,     0.07,2,   0.1644
  77DN19910726,Arctic,    11,  2,  81145,     23,2,19910826,   0, 86.0700,  52.7900, 3971,    175.6,   0.7740,  34.7030,2,  34.6990,   2,    306.5,2,     5.36,2,    11.10,2,     0.75,2,    3.005,2,    1.415,2,    6.654,   2,   2138.4,2,   2278.2,2,     68.5,2,     0.14,2,   0.7664
  77DN19910726,Arctic,    11,  4,  81151,      5,2,19910826,   0, 86.0700,  52.7900, 3971,    199.6,   1.2670,  34.7840,2,  34.8040,   2,    303.1,2,     5.35,2,    11.83,2,     0.77,2,    3.610,2,    1.502,2,    7.815,   2,   2145.8,2,   2288.1,2,     71.0,2,     0.27,2,   1.2574
  77DN19910726,Arctic,    11,  4,  81150,      4,2,19910826,   0, 86.0700,  52.7900, 3971,    249.9,   1.3400,  34.8533,2,  34.8640,   2,    303.4,2,     5.55,2,    12.18,2,     0.81,2,    3.288,2,    1.444,2,    7.717,   2,   2146.7,2,   2287.0,2,     68.7,2,     0.28,2,   1.3277
  77DN19910726,Arctic,    11,  4,  81149,      3,2,19910826,   0, 86.0700,  52.7900, 3971,    300.1,   1.4150,  34.8982,2,  34.9060,   2,    304.0,2,     5.62,2,    12.40,2,     0.82,2,    3.561,2,    3.980,3,    8.361,   2,   2147.0,2,   2289.4,2,     66.2,2,     0.28,2,   1.3999
  77DN19910726,Arctic,    11,  4,  81148,      2,2,19910826,   0, 86.0700,  52.7900, 3971,    399.4,   1.0640,  34.9027,2,  34.9020,   2,   -999.0,9,     5.96,2,    12.37,2,     0.82,2,    2.585,2,    1.112,2,    6.946,   2,   2147.6,2,   2288.5,2,     63.5,2,     0.24,2,   1.0448
  77DN19910726,Arctic,    11,  4,  81147,      1,2,19910826,   0, 86.0700,  52.7900, 3971,    504.5,   0.9100,  34.9205,2,  34.9190,   2,   -999.0,9,     6.15,2,    12.55,2,     0.83,2,    2.322,2,    1.015,2,    6.839,   2,   2147.6,2,   2291.1,2,    101.3,2,     0.25,2,   0.8859