BOTTLE,20140714SIOCCHRJL
EXPOCODE,SECT_ID,STNNBR,CASTNO,SAMPNO,BTLNBR,BTLNBR_FLAG_W,DATE,TIME,LATITUDE,LONGITUDE,DEPTH,CTDPRS,CTDTMP,CTDSAL,CTDSAL_FLAG_W,SALNTY,SALNTY_FLAG_W,OXYGEN,OXYGEN_FLAG_W,SILCAT,SILCAT_FLAG_W,NITRAT,NITRAT_FLAG_W,PHSPHT,PHSPHT_FLAG_W,CFC-11,CFC-11_FLAG_W,CFC-12,CFC-12_FLAG_W,CCL4,CCL4_FLAG_W,TCARBN,TCARBN_FLAG_W,ALKALI,ALKALI_FLAG_W,DOC,DOC_FLAG_W,DELO18,DELO18_FLAG_W,THETA
,,,,,,,,,,,METERS,DBAR,ITS-90,PSS-78,,PSS-78,,UMOL/KG,,UMOL/KG,,UMOL/KG,,UMOL/KG,,PMOL/KG,,PMOL/KG,,PMOL/KG,,UMOL/KG,,UMOL/KG,,UMOL/KG,,/MILLE,,DEG C
  77DN19910726,Arctic,    15,  4,  81301,     23,2,19910829,   0, 87.3100,  64.4600, 2901,     30.9,  -1.7260,  33.1038,2,  33.1090,   2,    372.0,2,     4.00,2,     3.85,2,     0.42,2, -999.000,9, -999.000,9, -999.000,   9,   -999.0,9,   -999.0,9,   -999.0,9,  -999.00,9,  -1.7265
  77DN19910726,Arctic,    15,  2,  81276,     10,2,19910829,   0, 87.3100,  64.4600, 2901,     49.8,  -1.7860,  33.5590,2,  33.5590,   2,    358.6,2,     4.20,2,     5.13,2,     0.48,2, -999.000,9, -999.000,9, -999.000,   9,   -999.0,9,   -999.0,9,   -999.0,9,  -999.00,9,  -1.7869
  77DN19910726,Arctic,    15,  2,  81275,      9,2,19910829,   0, 87.3100,  64.4600, 2901,     74.8,  -1.5960,  34.0261,2,  34.0590,   2,    322.1,2,     5.10,2,     7.87,2,     0.63,2, -999.000,9, -999.000,9, -999.000,   9,   -999.0,9,   -999.0,9,   -999.0,9,  -999.00,9,  -1.5976
  77DN19910726,Arctic,    15,  4,  81300,     22,2,19910829,   0, 87.3100,  64.4600, 2901,     95.7,  -1.2710,  34.2506,2,  34.2530,   2,    315.0,2,     5.20,2,     8.66,2,     0.66,2, -999.000,9, -999.000,9, -999.000,   9,   -999.0,9,   -999.0,9,   -999.0,9,  -999.00,9,  -1.2733
  77DN19910726,Arctic,    15,  2,  81274,      8,2,19910829,   0, 87.3100,  64.4600, 2901,     99.7,  -1.2110,  34.2803,2,  34.2800,   2,   -999.0,9,     5.20,2,     8.88,2,     0.68,2, -999.000,9, -999.000,9, -999.000,   9,   -999.0,9,   -999.0,9,   -999.0,9,  -999.00,9,  -1.2135
  77DN19910726,Arctic,    15,  2,  81273,      7,2,19910829,   0, 87.3100,  64.4600, 2901,    124.6,  -0.6490,  34.4164,2,  34.4120,   2,   -999.0,9,     5.30,2,     9.58,2,     0.71,2, -999.000,9, -999.000,9, -999.000,   9,   -999.0,9,   -999.0,9,   -999.0,9,  -999.00,9,  -0.6528
  77DN19910726,Arctic,    15,  2,  81272,      6,2,19910829,   0, 87.3100,  64.4600, 2901,    149.5,  -0.0370,  34.5359,2,  34.5460,   2,   -999.0,9,     5.50,2,    10.29,2,     0.74,2, -999.000,9, -999.000,9, -999.000,   9,   -999.0,9,   -999.0,9,   -999.0,9,  -999.00,9,  -0.0424
  77DN19910726,Arctic,    15,  2,  81271,      5,2,19910829,   0, 87.3100,  64.4600, 2901,    199.4,   0.7580,  34.7646,2,  34.7700,   2,    302.9,2,     5.40,2,    11.65,2,     0.80,2, -999.000,9, -999.000,9, -999.000,   9,   -999.0,9,   -999.0,9,   -999.0,9,  -999.00,9,   0.7493
  77DN19910726,Arctic,    15,  2,  81270,      4,2,19910829,   0, 87.3100,  64.4600, 2901,    249.2,   0.9680,  34.8383,2,  34.8420,   2,    305.6,2,     5.60,2,    12.07,2,     0.82,2, -999.000,9, -999.000,9, -999.000,   9,   -999.0,9,   -999.0,9,   -999.0,9,  -999.00,9,   0.9566
  77DN19910726,Arctic,    15,  2,  81269,      3,2,19910829,   0, 87.3100,  64.4600, 2901,    299.0,   0.9880,  34.8703,2,  34.8710,   2,   -999.0,9,     5.60,2,    12.22,2,     0.85,2, -999.000,9, -999.000,9, -999.000,   9,   -999.0,9,   -999.0,9,   -999.0,9,  -999.00,9,   0.9741
  77DN19910726,Arctic,    15,  2,  81268,      2,2,19910829,   0, 87.3100,  64.4600, 2901,    398.7,   0.6990,  34.8715,2,  34.8770,   2,    305.8,2,     5.90,2,    12.35,2,     0.85,2, -999.000,9, -999.000,9, -999.000,   9,   -999.0,9,   -999.0,9,   -999.0,9,  -999.00,9,   0.6810
  77DN19910726,Arctic,    15,  4,  81299,     21,2,19910829,   0, 87.3100,  64.4600, 2901,    447.5,   0.6590,  34.8857,2,  34.8860,   2,   -999.0,9,     6.10,2,    12.34,2,     0.83,2, -999.000,9, -999.000,9, -999.000,   9,   -999.0,9,   -999.0,9,   -999.0,9,  -999.00,9,   0.6388
  77DN19910726,Arctic,    15,  2,  81267,      1,2,19910829,   0, 87.3100,  64.4600, 2901,    498.4,   0.5380,  34.8786,2,  34.8840,   2,    301.2,2,     6.10,2,    12.32,2,     0.86,2, -999.000,9, -999.000,9, -999.000,   9,   -999.0,9,   -999.0,9,   -999.0,9,  -999.00,9,   0.5158
  77DN19910726,Arctic,    15,  4,  81298,     20,2,19910829,   0, 87.3100,  64.4600, 2901,    598.0,   0.3080,  34.8859,2,  34.8860,   2,    303.8,2,     6.20,2,    12.40,2,     0.84,2, -999.000,9, -999.000,9, -999.000,   9,   -999.0,9,   -999.0,9,   -999.0,9,  -999.00,9,   0.2819
  77DN19910726,Arctic,    15,  4,  81297,     19,2,19910829,   0, 87.3100,  64.4600, 2901,    698.7,   0.0780,  34.8847,2,  34.8850,   2,    305.6,2,     6.40,2,    12.40,2,     0.85,2, -999.000,9, -999.000,9, -999.000,   9,   -999.0,9,   -999.0,9,   -999.0,9,  -999.00,9,   0.0483
  77DN19910726,Arctic,    15,  4,  81296,     18,2,19910829,   0, 87.3100,  64.4600, 2901,    797.4,  -0.0560,  34.8874,2,  34.8900,   2,    306.4,2,     6.60,2,    12.53,2,     0.86,2, -999.000,9, -999.000,9, -999.000,   9,   -999.0,9,   -999.0,9,   -999.0,9,  -999.00,9,  -0.0898
  77DN19910726,Arctic,    15,  4,  81295,     17,2,19910829,   0, 87.3100,  64.4600, 2901,    897.0,  -0.1900,  34.8923,2,  34.8930,   2,    306.0,2,     6.80,2,    12.52,2,     0.86,2, -999.000,9, -999.000,9, -999.000,   9,   -999.0,9,   -999.0,9,   -999.0,9,  -999.00,9,  -0.2278
  77DN19910726,Arctic,    15,  4,  81294,     16,2,19910829,   0, 87.3100,  64.4600, 2901,    996.7,  -0.2660,  34.8999,2,  34.9040,   2,    304.4,2,     7.10,2,    12.61,2,     0.88,2, -999.000,9, -999.000,9, -999.000,   9,   -999.0,9,   -999.0,9,   -999.0,9,  -999.00,9,  -0.3083
  77DN19910726,Arctic,    15,  4,  81293,     15,2,19910829,   0, 87.3100,  64.4600, 2901,   1097.3,  -0.3400,  34.9061,2,  34.9080,   2,    305.1,2,     7.60,2,    12.87,2,     0.89,2, -999.000,9, -999.000,9, -999.000,   9,   -999.0,9,   -999.0,9,   -999.0,9,  -999.00,9,  -0.3869
  77DN19910726,Arctic,    15,  4,  81292,     14,2,19910829,   0, 87.3100,  64.4600, 2901,   1197.0,  -0.4000,  34.9106,2,  34.9110,   2,    306.9,2,     7.90,2,    13.10,2,     0.91,2, -999.000,9, -999.000,9, -999.000,   9,   -999.0,9,   -999.0,9,   -999.0,9,  -999.00,9,  -0.4516
  77DN19910726,Arctic,    15,  4,  81291,     13,2,19910829,   0, 87.3100,  64.4600, 2901,   1296.6,  -0.4550,  34.9151,2,  34.9160,   2,    304.0,2,     8.40,2,    13.36,2,     0.91,2, -999.000,9, -999.000,9, -999.000,   9,   -999.0,9,   -999.0,9,   -999.0,9,  -999.00,9,  -0.5115
  77DN19910726,Arctic,    15,  4,  81290,     12,2,19910829,   0, 87.3100,  64.4600, 2901,   1495.9,  -0.5430,  34.9202,2,  34.9200,   2,    302.1,2,     9.20,2,    13.83,2,     0.95,2,    0.702,2,    0.263,2,    2.985,   2,   -999.0,9,   -999.0,9,   -999.0,9,  -999.00,9,  -0.6098
  77DN19910726,Arctic,    15,  4,  81289,     11,2,19910829,   0, 87.3100,  64.4600, 2901,   1596.6,  -0.5730,  34.9224,2,  34.9230,   2,    300.3,2,     9.60,2,    14.01,2,     0.95,2,    0.644,2,    0.254,2,    2.722,   2,   -999.0,9,   -999.0,9,   -999.0,9,  -999.00,9,  -0.6453
  77DN19910726,Arctic,    15,  4,  81288,     10,2,19910829,   0, 87.3100,  64.4600, 2901,   1694.2,  -0.5980,  34.9248,2,  34.9250,   2,    300.9,2,    10.00,2,    14.16,2,     0.95,2,    1.678,2,    0.234,2,    2.927,   2,   -999.0,9,   -999.0,9,   -999.0,9,  -999.00,9,  -0.6759
  77DN19910726,Arctic,    15,  4,  81287,      9,2,19910829,   0, 87.3100,  64.4600, 2901,   1794.8,  -0.6410,  34.9248,2,  34.9250,   2,    303.3,2,    10.20,2,    14.27,2,     0.96,2,    0.527,2,    0.000,2,    2.361,   2,   -999.0,9,   -999.0,9,   -999.0,9,  -999.00,9,  -0.7244
  77DN19910726,Arctic,    15,  4,  81286,      8,2,19910829,   0, 87.3100,  64.4600, 2901,   1991.1,  -0.7130,  34.9229,2,  34.9240,   2,    302.3,2,    10.20,2,    14.36,2,     0.95,2,    0.429,2,    0.137,2,    2.117,   2,   -999.0,9,   -999.0,9,   -999.0,9,  -999.00,9,  -0.8078
  77DN19910726,Arctic,    15,  4,  81285,      7,2,19910829,   0, 87.3100,  64.4600, 2901,   2093.7,  -0.7360,  34.9238,2,  34.9240,   2,    302.4,2,    10.20,2,    14.38,2,     0.95,2, -999.000,9, -999.000,9, -999.000,   9,   -999.0,9,   -999.0,9,   -999.0,9,  -999.00,9,  -0.8372
  77DN19910726,Arctic,    15,  4,  81284,      6,2,19910829,   0, 87.3100,  64.4600, 2901,   2291.0,  -0.7620,  34.9256,2,  34.9270,   2,    303.0,2,    10.40,2,    14.47,2,     0.96,2, -999.000,9, -999.000,9, -999.000,   9,   -999.0,9,   -999.0,9,   -999.0,9,  -999.00,9,  -0.8762
  77DN19910726,Arctic,    15,  4,  81283,      5,2,19910829,   0, 87.3100,  64.4600, 2901,   2390.6,  -0.7740,  34.9274,2,  34.9280,   2,    302.6,2,    10.50,2,    14.50,2,     0.96,2, -999.000,9, -999.000,9, -999.000,   9,   -999.0,9,   -999.0,9,   -999.0,9,  -999.00,9,  -0.8950
  77DN19910726,Arctic,    15,  4,  81282,      4,2,19910829,   0, 87.3100,  64.4600, 2901,   2491.2,  -0.7780,  34.9286,2,  34.9290,   2,    303.8,2,    10.60,2,    14.53,2,     0.96,2, -999.000,9, -999.000,9, -999.000,   9,   -999.0,9,   -999.0,9,   -999.0,9,  -999.00,9,  -0.9061
  77DN19910726,Arctic,    15,  4,  81281,      3,2,19910829,   0, 87.3100,  64.4600, 2901,   2590.9,  -0.7770,  34.9296,2,  34.9330,   2,    302.5,2,    10.80,2,    14.50,2,     0.96,2, -999.000,9, -999.000,9, -999.000,   9,   -999.0,9,   -999.0,9,   -999.0,9,  -999.00,9,  -0.9125
  77DN19910726,Arctic,    15,  4,  81280,      2,2,19910829,   0, 87.3100,  64.4600, 2901,   2818.0,  -0.7740,  34.9329,2,  34.9340,   2,    302.6,2,    10.90,2,    14.53,2,     0.97,2, -999.000,9, -999.000,9, -999.000,   9,   -999.0,9,   -999.0,9,   -999.0,9,  -999.00,9,  -0.9268
  77DN19910726,Arctic,    15,  4,  81279,      1,2,19910829,   0, 87.3100,  64.4600, 2901,   2919.6,  -0.7690,  34.9330,2,  34.9350,   2,    302.2,2,    10.90,2,    14.52,2,     0.97,2, -999.000,9, -999.000,9, -999.000,   9,   -999.0,9,   -999.0,9,   -999.0,9,  -999.00,9,  -0.9299
  77DN19910726,Arctic,    16,  3,  81338,     12,2,19910829,   0, 87.6100,  69.7000, 4422,      5.2,  -1.7040,  32.7190,2,  32.7260,   2,   -999.0,9,     4.49,2,     3.57,2,     0.44,2,    7.473,2,    2.380,2,   11.317,   2,   2044.3,2,   2242.5,2,    115.6,2,    -1.98,2,  -1.7041
  77DN19910726,Arctic,    16,  3,  81337,     11,2,19910829,   0, 87.6100,  69.7000, 4422,     24.9,  -1.7230,  32.7703,2,  32.7470,   2,    370.8,2,     4.49,2,     3.55,2,     0.43,2,    7.532,2,    2.380,2,   11.366,   2,   2043.7,2,   2242.3,2,    117.4,2,    -1.98,2,  -1.7234
  77DN19910726,Arctic,    16,  2,  81326,     24,2,19910829,   0, 87.6100,  69.7000, 4422,     32.6,  -1.6950,  32.9079,2,  33.1030,   2,    371.3,2,     4.65,2,     4.11,2,     0.45,2,    7.356,2,    2.244,2,    9.483,   2,   2136.9,2,   2267.6,2,    109.1,2,  -999.00,9,  -1.6956
  77DN19910726,Arctic,    16,  3,  81336,     10,2,19910829,   0, 87.6100,  69.7000, 4422,     49.8,  -1.7910,  33.3032,2,  33.3330,   2,    373.0,2,     4.58,2,     4.43,2,     0.47,2,   11.971,3,    2.702,2,    8.995,   2,   2074.6,2,   2278.7,2,    126.2,2,    -1.91,2,  -1.7919
  77DN19910726,Arctic,    16,  3,  81335,      9,2,19910829,   0, 87.6100,  69.7000, 4422,     74.9,  -1.6730,  33.7453,2,  33.8390,   2,   -999.0,9,     5.11,2,     7.32,2,     0.61,2,    5.463,2,    2.644,2,    6.459,   2,   2069.6,2,   2270.2,2,     74.2,2,  -999.00,9,  -1.6745
  77DN19910726,Arctic,    16,  3,  81334,      8,2,19910829,   0, 87.6100,  69.7000, 4422,     99.8,  -1.4160,  34.1811,2,  34.1980,   2,    314.6,2,     5.03,2,     8.57,2,     0.67,2,    4.449,2,    1.268,3,    6.146,   2,   2062.6,2,   2270.3,2,     77.7,2,    -0.27,2,  -1.4183
  77DN19910726,Arctic,    16,  2,  81325,     23,2,19910829,   0, 87.6100,  69.7000, 4422,    105.1,  -1.3440,  34.2262,2,  34.2270,   2,   -999.0,9,     5.07,2,     8.63,2,     0.67,2,    5.629,2,    1.815,2,    7.278,   2,   2135.4,2,   2268.8,2,     78.2,2,  -999.00,9,  -1.3465
  77DN19910726,Arctic,    16,  3,  81333,      7,2,19910829,   0, 87.6100,  69.7000, 4422,    125.0,  -0.8200,  34.3560,2,  34.3680,   2,    310.1,2,     5.08,2,     9.35,2,     0.70,2,    3.639,2,    1.298,2,    6.234,   2,   2066.7,2,   2270.2,2,     76.2,2,  -999.00,9,  -0.8236
  77DN19910726,Arctic,    16,  3,  81332,      6,2,19910829,   0, 87.6100,  69.7000, 4422,    149.9,  -0.2790,  34.5100,2,  34.4980,   2,    307.1,2,     5.21,2,     9.90,2,     0.73,2,    3.815,2,    1.454,2,    7.044,   2,   2069.8,2,   2276.9,2,     72.2,2,    -0.03,2,  -0.2841
  77DN19910726,Arctic,    16,  3,  91331,      5,2,19910829,   0, 87.6100,  69.7000, 4422,    200.2,  -0.5910,  34.7468,2,  34.7450,   2,    305.8,2,     5.36,2,    11.43,2,     0.81,2,    4.078,2,    1.434,2,    8.137,   2,   2070.5,2,   2283.1,2,     80.3,2,     0.15,2,  -0.5974
  77DN19910726,Arctic,    16,  3,  81330,      4,2,19910829,   0, 87.6100,  69.7000, 4422,    249.9,   0.8630,  34.8349,2,  34.8360,   2,    302.8,2,     5.55,2,    11.93,2,     0.84,2,    2.927,2,    1.288,2,    7.151,   2,   2130.6,2,   2289.9,2,     76.2,2,     0.17,2,   0.8517
  77DN19910726,Arctic,    16,  3,  81329,      3,2,19910829,   0, 87.6100,  69.7000, 4422,    300.2,   0.9010,  34.8628,2,  34.8650,   2,   -999.0,9,     5.65,2,    12.14,2,     0.85,2,    3.288,2,    1.346,2,    7.649,   2,   2138.3,2,   2290.3,2,     68.5,2,     0.23,2,   0.8872
  77DN19910726,Arctic,    16,  3,  81328,      2,2,19910829,   0, 87.6100,  69.7000, 4422,    400.0,   0.7290,  34.8829,2,  34.8840,   2,    305.1,2,     6.01,2,    12.41,2,     0.87,2,    2.537,2,    1.249,2,    7.444,   2,   2141.2,2,   2290.9,2,     66.1,2,     0.25,2,   0.7109
  77DN19910726,Arctic,    16,  3,  81327,      1,2,19910829,   0, 87.6100,  69.7000, 4422,    499.9,   0.5020,  34.8830,2,  34.8830,   2,    305.6,2,     6.07,2,    12.39,2,     0.87,2,    2.966,2,    4.927,4,    7.824,   2,   2144.2,2,   2297.2,2,     71.0,2,     0.21,2,   0.4798