BOTTLE,20140714SIOCCHRJL
EXPOCODE,SECT_ID,STNNBR,CASTNO,SAMPNO,BTLNBR,BTLNBR_FLAG_W,DATE,TIME,LATITUDE,LONGITUDE,DEPTH,CTDPRS,CTDTMP,CTDSAL,CTDSAL_FLAG_W,SALNTY,SALNTY_FLAG_W,OXYGEN,OXYGEN_FLAG_W,SILCAT,SILCAT_FLAG_W,NITRAT,NITRAT_FLAG_W,PHSPHT,PHSPHT_FLAG_W,CFC-11,CFC-11_FLAG_W,CFC-12,CFC-12_FLAG_W,CCL4,CCL4_FLAG_W,TCARBN,TCARBN_FLAG_W,ALKALI,ALKALI_FLAG_W,DOC,DOC_FLAG_W,DELO18,DELO18_FLAG_W,THETA
,,,,,,,,,,,METERS,DBAR,ITS-90,PSS-78,,PSS-78,,UMOL/KG,,UMOL/KG,,UMOL/KG,,UMOL/KG,,PMOL/KG,,PMOL/KG,,PMOL/KG,,UMOL/KG,,UMOL/KG,,UMOL/KG,,/MILLE,,DEG C
  77DN19910726,Arctic,    32,  3,  81830,     12,2,19910910,   0, 87.5100,   1.4400, 4392,     24.9,  -1.7380,  32.1832,2,  32.0960,   2,   -999.0,9,     8.07,2,     3.56,2,     0.66,2,    7.620,2,    3.346,2,   12.410,   2,   2129.6,2,   2208.6,2,   -999.0,9,  -999.00,9,  -1.7384
  77DN19910726,Arctic,    32,  3,  81829,     11,2,19910910,   0, 87.5100,   1.4400, 4392,     34.9,  -1.7320,  32.4896,2,  32.5790,   2,   -999.0,9,     8.02,2,     4.41,2,     0.65,2,    7.405,2,    3.083,2,    9.424,   2,   2141.6,2,   2185.3,2,   -999.0,9,  -999.00,9,  -1.7326
  77DN19910726,Arctic,    32,  3,  81828,     10,2,19910910,   0, 87.5100,   1.4400, 4392,     49.9,  -1.7920,  32.9631,2,  33.0370,   2,   -999.0,9,     5.77,2,     4.39,2,     0.49,2,    7.112,2,    3.073,2,    8.429,   2,   2152.1,2,   2282.0,2,   -999.0,9,  -999.00,9,  -1.7928
  77DN19910726,Arctic,    32,  3,  81827,      9,2,19910910,   0, 87.5100,   1.4400, 4392,     65.2,  -1.7970,  33.1202,2,  33.1300,   2,    368.1,2,     5.65,2,     4.53,2,     0.47,2,    7.005,2,    3.005,2,    8.068,   2,   2155.8,2,   2291.5,2,   -999.0,9,  -999.00,9,  -1.7981
  77DN19910726,Arctic,    32,  3,  81826,      8,2,19910910,   0, 87.5100,   1.4400, 4392,     80.0,  -1.7640,  33.5322,2,  33.3690,   2,   -999.0,9,     6.53,2,     6.05,2,     0.56,2,    6.068,2,    2.644,2,    6.868,   2,   2136.5,2,   2283.0,2,   -999.0,9,  -999.00,9,  -1.7655
  77DN19910726,Arctic,    32,  3,  81825,      7,2,19910910,   0, 87.5100,   1.4400, 4392,     99.9,  -1.6370,  33.9725,2,  33.9360,   2,    325.2,2,     6.24,2,     8.06,2,     0.64,2,    4.751,2,    2.117,2,    6.205,   2,   2140.4,2,   2275.8,2,   -999.0,9,  -999.00,9,  -1.6391
  77DN19910726,Arctic,    32,  3,  81824,      6,2,19910910,   0, 87.5100,   1.4400, 4392,    125.1,  -1.6620,  34.2143,2,  34.3940,   2,    318.4,2,     5.53,2,     8.81,2,     0.65,2,    4.361,2,    1.932,2,    5.893,   2,   -999.0,9,   2294.0,2,   -999.0,9,  -999.00,9,  -1.6647
  77DN19910726,Arctic,    32,  3,  81823,      5,2,19910910,   0, 87.5100,   1.4400, 4392,    150.0,  -0.9750,  34.3716,2,  34.3510,   2,    312.6,2,     5.43,2,     9.50,2,     0.69,2,    3.951,2,    1.746,2,    5.980,   2,   2143.5,2,   2291.6,2,   -999.0,9,  -999.00,9,  -0.9791
  77DN19910726,Arctic,    32,  3,  81822,      4,2,19910910,   0, 87.5100,   1.4400, 4392,    175.0,  -0.6470,  34.5191,2,  34.4930,   2,    309.6,2,     5.48,2,    10.21,2,     0.72,2,    3.766,2,    1.688,2,    6.059,   2,   2145.3,2,   2291.3,2,   -999.0,9,  -999.00,9,  -0.6524
  77DN19910726,Arctic,    32,  3,  81821,      3,2,19910910,   0, 87.5100,   1.4400, 4392,    199.9,   0.3100,  34.6354,2,  34.6360,   2,    313.5,2,     5.55,2,    10.91,2,     0.77,2,    3.620,2,    1.483,2,    6.810,   2,   2143.8,2,   2304.6,2,   -999.0,9,  -999.00,9,   0.3021
  77DN19910726,Arctic,    32,  3,  81820,      2,2,19910910,   0, 87.5100,   1.4400, 4392,    250.0,   0.7390,  34.8101,2,  34.8120,   2,    312.6,2,     5.50,2,    12.04,2,     0.82,2,    3.561,2,    1.610,2,    7.288,   2,   2144.4,2,   2295.9,2,   -999.0,9,  -999.00,9,   0.7280
  77DN19910726,Arctic,    32,  3,  81819,      1,2,19910910,   0, 87.5100,   1.4400, 4392,    300.0,   0.7720,  34.8326,2,  34.8310,   2,    308.7,2,     5.68,2,    12.20,2,     0.82,2,    2.946,2,    1.415,2,    6.966,   2,   2144.9,2,   2300.5,2,   -999.0,9,  -999.00,9,   0.7586
  77DN19910726,Arctic,    32,  2,  81817,     23,2,19910910,   0, 87.5100,   1.4400, 4392,    348.9,   0.8240,  34.8641,2,  34.8650,   2,    306.7,2,     5.84,2,    12.43,2,     0.84,2,    3.385,2,    1.444,2,    7.015,   2,   -999.0,9,   2294.9,2,   -999.0,9,  -999.00,9,   0.8081
  77DN19910726,Arctic,    32,  2,  81816,     22,2,19910910,   0, 87.5100,   1.4400, 4392,    400.9,   0.6880,  34.8681,2,  34.8680,   2,    305.7,2,     6.00,2,    12.56,2,     0.84,2,    2.312,2,    1.151,2,    6.322,   2,   -999.0,9,   -999.0,9,   -999.0,9,  -999.00,9,   0.6700
  77DN19910726,Arctic,    32,  2,  81815,     21,2,19910910,   0, 87.5100,   1.4400, 4392,    449.9,   0.6350,  34.8790,2,  34.8790,   2,    307.7,2,     6.17,2,    12.70,2,     0.85,2,    2.420,2,    1.151,2,    6.273,   2,   -999.0,9,   2294.9,2,   -999.0,9,  -999.00,9,   0.6148
  77DN19910726,Arctic,    32,  2,  81814,     20,2,19910910,   0, 87.5100,   1.4400, 4392,    499.0,   0.5420,  34.8806,2,  34.8810,   2,    309.6,2,     6.17,2,    12.69,2,     0.86,2,    2.293,2,    1.122,2,    6.585,   2,   -999.0,9,   2303.4,2,   -999.0,9,  -999.00,9,   0.5197
  77DN19910726,Arctic,    32,  2,  81813,     19,2,19910910,   0, 87.5100,   1.4400, 4392,    550.7,   0.3910,  34.8825,2,  34.8830,   2,    308.7,2,     6.23,2,    12.72,2,     0.85,2,    2.254,2,    1.063,2,    6.098,   2,   -999.0,9,   -999.0,9,   -999.0,9,  -999.00,9,   0.3669
  77DN19910726,Arctic,    32,  2,  81812,     18,2,19910910,   0, 87.5100,   1.4400, 4392,    600.5,   0.2440,  34.8802,2,  34.8800,   2,    308.7,2,     6.25,2,    12.69,2,     0.85,2,    2.654,2,    1.278,2,    6.820,   2,   -999.0,9,   2296.7,2,   -999.0,9,  -999.00,9,   0.2181
  77DN19910726,Arctic,    32,  2,  81811,     17,2,19910910,   0, 87.5100,   1.4400, 4392,    699.9,   0.0260,  34.8805,2,  34.8820,   2,    308.7,2,     6.38,2,    12.68,2,     0.86,2,    2.839,2,    1.327,2,    6.810,   2,   -999.0,9,   2304.1,2,   -999.0,9,  -999.00,9,  -0.0035
  77DN19910726,Arctic,    32,  2,  81810,     16,2,19910910,   0, 87.5100,   1.4400, 4392,    799.7,  -0.1030,  34.8856,2,  34.8870,   2,    308.7,2,     6.61,2,    12.74,2,     0.86,2,    2.429,2,    1.190,2,    6.702,   2,   -999.0,9,   2298.0,2,   -999.0,9,  -999.00,9,  -0.1366
  77DN19910726,Arctic,    32,  2,  81809,     15,2,19910910,   0, 87.5100,   1.4400, 4392,    898.9,  -0.2170,  34.8894,2,  34.8900,   2,    309.6,2,     6.85,2,    12.84,2,     0.87,2,    2.712,2,    1.278,2,    7.112,   2,   -999.0,9,   2294.3,2,   -999.0,9,  -999.00,9,  -0.2547
  77DN19910726,Arctic,    32,  2,  81808,     14,2,19910910,   0, 87.5100,   1.4400, 4392,    999.6,  -0.2700,  34.8990,2,  34.8990,   2,    307.7,2,     7.23,2,    13.00,2,     0.90,2,    1.698,2,    0.839,2,    5.551,   2,   -999.0,9,   -999.0,9,   -999.0,9,  -999.00,9,  -0.3124
  77DN19910726,Arctic,    32,  2,  81807,     13,2,19910910,   0, 87.5100,   1.4400, 4392,   1201.0,  -0.3970,  34.9095,2,  34.9080,   2,    308.7,2,     7.88,2,    13.35,2,     0.92,2,    1.434,2,    3.844,3,    4.751,   2,   -999.0,9,   -999.0,9,   -999.0,9,  -999.00,9,  -0.4489
  77DN19910726,Arctic,    32,  2,  81806,     12,2,19910910,   0, 87.5100,   1.4400, 4392,   1397.9,  -0.4990,  34.9171,2,  34.9160,   2,    306.7,2,     8.77,2,    13.85,2,     0.95,2,    1.005,2,    0.468,2,    3.785,   2,   -999.0,9,   2301.1,2,   -999.0,9,  -999.00,9,  -0.5607
  77DN19910726,Arctic,    32,  2,  81805,     11,2,19910910,   0, 87.5100,   1.4400, 4392,   1601.8,  -0.5680,  34.9218,2,  34.9220,   2,    304.8,2,     9.69,2,    14.25,2,     0.97,2,    0.683,2,    0.361,2,    2.829,   2,   -999.0,9,   2291.5,2,   -999.0,9,  -999.00,9,  -0.6407
  77DN19910726,Arctic,    32,  2,  81804,     10,2,19910910,   0, 87.5100,   1.4400, 4392,   1746.9,  -0.6070,  34.9247,2,  34.9250,   2,    302.8,2,    10.23,2,    14.41,2,     0.98,2,    0.341,2,    0.410,2,    2.429,   2,   -999.0,9,   2287.6,2,   -999.0,9,  -999.00,9,  -0.6880
  77DN19910726,Arctic,    32,  2,  81803,      9,2,19910910,   0, 87.5100,   1.4400, 4392,   2050.0,  -0.7160,  34.9229,2,  34.9240,   2,    305.7,2,    10.29,2,    14.67,2,     0.99,2,    0.107,2,    0.000,2,    2.205,   2,   -999.0,9,   2287.8,2,   -999.0,9,  -999.00,9,  -0.8146
  77DN19910726,Arctic,    32,  2,  81802,      8,2,19910910,   0, 87.5100,   1.4400, 4392,   2304.2,  -0.7550,  34.9253,2,  34.9250,   2,    304.8,2,    10.55,2,    14.73,2,     0.99,2,    0.000,2,    0.000,2,    1.815,   2,   -999.0,9,   -999.0,9,   -999.0,9,  -999.00,9,  -0.8702
  77DN19910726,Arctic,    32,  2,  81801,      7,2,19910910,   0, 87.5100,   1.4400, 4392,   2798.6,  -0.7750,  34.9303,2,  34.9300,   2,    306.7,2,    10.73,2,    14.82,2,     1.00,2,    0.000,2,    0.000,2,    1.434,   2,   -999.0,9,   2291.4,2,   -999.0,9,  -999.00,9,  -0.9263
  77DN19910726,Arctic,    32,  2,  81800,      6,2,19910910,   0, 87.5100,   1.4400, 4392,   3199.5,  -0.7610,  34.9356,2,  34.9350,   2,    306.7,2,    10.93,2,    14.82,2,     1.00,2,    0.029,2,    0.146,2,    1.259,   2,   -999.0,9,   2292.8,2,   -999.0,9,  -999.00,9,  -0.9450
  77DN19910726,Arctic,    32,  2,  81799,      5,2,19910910,   0, 87.5100,   1.4400, 4392,   3500.1,  -0.7430,  34.9384,2,  34.9380,   2,   -999.0,9,    10.94,2,    14.75,2,     1.00,2,    0.000,2,    0.000,2,    1.190,   2,   -999.0,9,   2294.3,2,   -999.0,9,  -999.00,9,  -0.9534
  77DN19910726,Arctic,    32,  2,  81798,      4,2,19910910,   0, 87.5100,   1.4400, 4392,   3800.8,  -0.7150,  34.9409,2,  34.9410,   2,    303.8,2,    11.01,2,    14.75,2,     1.00,2,    0.332,2,    0.000,2,    1.200,   2,   -999.0,9,   -999.0,9,   -999.0,9,  -999.00,9,  -0.9534
  77DN19910726,Arctic,    32,  2,  81797,      3,2,19910910,   0, 87.5100,   1.4400, 4392,   3998.4,  -0.6900,  34.9425,2,  34.9440,   2,    303.8,2,    11.14,2,    14.74,2,     1.00,2,    0.000,2,    0.000,2,    1.122,   2,   -999.0,9,   -999.0,9,   -999.0,9,  -999.00,9,  -0.9479
  77DN19910726,Arctic,    32,  2,  81796,      2,2,19910910,   0, 87.5100,   1.4400, 4392,   4250.2,  -0.6640,  34.9427,2,  34.9440,   2,    303.8,2,    11.08,2,    14.71,2,     1.00,2,    0.000,2,    0.351,3,    1.073,   2,   -999.0,9,   2290.2,2,   -999.0,9,  -999.00,9,  -0.9473
  77DN19910726,Arctic,    32,  2,  81795,      1,2,19910910,   0, 87.5100,   1.4400, 4392,   4377.4,  -0.6500,  34.9428,2,  34.9430,   2,    304.8,2,    11.02,2,    14.68,2,     1.00,2,    0.000,2,    0.000,2,    1.132,   2,   -999.0,9,   2314.3,2,   -999.0,9,  -999.00,9,  -0.9466
  77DN19910726,Arctic,    33,  2,  81854,     24,2,19910911,   0, 86.7600,   0.7500, 4288,      9.1,  -1.7350,  32.0011,2,  32.0810,   2,    376.0,2,    10.18,2,     3.79,2,     0.78,2,    6.176,2,    2.488,2,    8.117,   2,   2115.4,2,   2218.3,2,   -999.0,9,    -2.64,2,  -1.7351
  77DN19910726,Arctic,    33,  5,  81866,     12,2,19910911,   0, 86.7600,   0.7500, 4288,     24.8,  -1.7660,  32.2453,2,  32.6520,   3,    375.4,2,     6.27,2,     3.69,2,     0.51,2,    7.454,2,    3.112,2,   10.088,   2,   2135.8,2,   2239.9,2,   -999.0,9,    -2.53,2,  -1.7664
  77DN19910726,Arctic,    33,  5,  81865,     11,2,19910911,   0, 86.7600,   0.7500, 4288,     50.3,  -1.7840,  33.1072,2,  33.2100,   2,    374.4,2,     5.54,2,     4.36,2,     0.47,2,    5.337,2,    2.215,2,    5.688,   2,   2158.9,2,   2254.3,2,   -999.0,9,    -2.26,2,  -1.7849
  77DN19910726,Arctic,    33,  5,  81864,     10,2,19910911,   0, 86.7600,   0.7500, 4288,     70.2,  -1.7790,  33.3961,2,  33.4140,   2,    363.0,2,     5.72,2,     5.27,2,     0.51,2,    6.380,2,    2.624,2,    7.629,   2,   2151.7,2,   2244.9,2,   -999.0,9,    -1.83,2,  -1.7803
  77DN19910726,Arctic,    33,  5,  81863,      9,2,19910911,   0, 86.7600,   0.7500, 4288,     89.8,  -1.6900,  33.9476,2,  33.8870,   2,    334.6,2,     5.70,2,     7.25,2,     0.58,2,    3.824,2,    1.639,3,    4.361,   2,   2147.7,2,   2256.8,2,   -999.0,9,    -0.78,2,  -1.6918
  77DN19910726,Arctic,    33,  5,  81862,      8,2,19910911,   0, 86.7600,   0.7500, 4288,    110.3,  -1.5090,  34.1695,2,  34.1360,   2,    320.2,2,     5.65,2,     8.54,2,     0.64,2,    4.273,2,    1.785,2,    6.195,   2,   2152.7,2,   2255.5,2,   -999.0,9,  -999.00,9,  -1.5114
  77DN19910726,Arctic,    33,  5,  81861,      7,2,19910911,   0, 86.7600,   0.7500, 4288,    130.1,  -1.1990,  34.3239,2,  34.2790,   2,    319.6,2,     5.53,2,     9.14,2,     0.66,2,    3.093,2,    1.298,2,    4.127,   2,   2149.5,2,   2262.3,2,   -999.0,9,    -0.20,2,  -1.2023
  77DN19910726,Arctic,    33,  5,  81860,      6,2,19910911,   0, 86.7600,   0.7500, 4288,    150.3,  -0.7660,  34.4370,2,  34.4090,   2,    314.2,2,     5.58,2,     9.68,2,     0.68,2,    3.785,2,    1.727,2,    6.361,   2,   2148.2,2,   2266.1,2,   -999.0,9,    -0.06,2,  -0.7704
  77DN19910726,Arctic,    33,  5,  81859,      5,2,19910911,   0, 86.7600,   0.7500, 4288,    200.4,   0.2010,  34.6791,2,  34.6740,   2,    308.8,2,     5.64,2,    11.21,2,     0.75,2,    2.849,2,    1.259,2,    5.493,   2,   2151.8,2,   2281.9,2,   -999.0,9,     0.14,2,   0.1932
  77DN19910726,Arctic,    33,  5,  81858,      4,2,19910911,   0, 86.7600,   0.7500, 4288,    250.3,   0.7050,  34.8141,2,  34.8150,   2,    307.8,2,     5.54,2,    12.04,2,     0.80,2,    3.815,2,    1.659,2,    7.512,   2,   2153.9,2,   2285.2,2,   -999.0,9,     0.20,2,   0.6941
  77DN19910726,Arctic,    33,  5,  81857,      3,2,19910911,   0, 86.7600,   0.7500, 4288,    300.4,   0.7720,  34.8408,2,  34.8370,   2,    308.8,2,     5.69,2,    12.23,2,     0.80,2,    0.000,4,    0.000,3,    0.000,   4,   2147.9,2,   2285.5,2,   -999.0,9,     0.20,2,   0.7586
  77DN19910726,Arctic,    33,  5,  81856,      2,2,19910911,   0, 86.7600,   0.7500, 4288,    400.4,   0.6570,  34.8754,2,  34.8700,   2,    311.8,2,     6.02,2,    12.53,2,     0.82,2,    2.907,2,    1.220,2,    7.268,   2,   2155.0,2,   2287.3,2,   -999.0,9,  -999.00,9,   0.6391
  77DN19910726,Arctic,    33,  5,  81855,      1,2,19910911,   0, 86.7600,   0.7500, 4288,    500.2,   0.4860,  34.8781,2,  34.8810,   2,    312.0,2,     6.07,2,    12.65,2,     0.83,2,    3.512,2,    1.532,2,    7.717,   2,   2159.4,2,   2295.6,2,   -999.0,9,     0.23,2,   0.4639