BOTTLE,20140714SIOCCHRJL
EXPOCODE,SECT_ID,STNNBR,CASTNO,SAMPNO,BTLNBR,BTLNBR_FLAG_W,DATE,TIME,LATITUDE,LONGITUDE,DEPTH,CTDPRS,CTDTMP,CTDSAL,CTDSAL_FLAG_W,SALNTY,SALNTY_FLAG_W,OXYGEN,OXYGEN_FLAG_W,SILCAT,SILCAT_FLAG_W,NITRAT,NITRAT_FLAG_W,PHSPHT,PHSPHT_FLAG_W,CFC-11,CFC-11_FLAG_W,CFC-12,CFC-12_FLAG_W,CCL4,CCL4_FLAG_W,TCARBN,TCARBN_FLAG_W,ALKALI,ALKALI_FLAG_W,DOC,DOC_FLAG_W,DELO18,DELO18_FLAG_W,THETA
,,,,,,,,,,,METERS,DBAR,ITS-90,PSS-78,,PSS-78,,UMOL/KG,,UMOL/KG,,UMOL/KG,,UMOL/KG,,PMOL/KG,,PMOL/KG,,PMOL/KG,,UMOL/KG,,UMOL/KG,,UMOL/KG,,/MILLE,,DEG C
  77DN19910726,Arctic,    40,  2,  82099,     17,2,19910916,   0, 85.3000, -14.1300, 1077,    100.8,  -1.3720,  34.0901,2,  34.0940,   2,    301.9,2,    11.44,2,    10.80,2,     0.91,2,    2.937,2,    1.376,2,    4.888,   2,   2162.8,2,   2265.9,2,     68.4,2,  -999.00,9,  -1.3743
  77DN19910726,Arctic,    40,  2,  82098,     16,2,19910916,   0, 85.3000, -14.1300, 1077,    125.1,  -0.9350,  34.3321,2,  34.3430,   2,    298.9,2,     8.88,2,    10.76,2,     0.84,2,    2.166,2,    1.112,2,    4.722,   2,   2155.9,2,   2265.5,2,     69.1,2,  -999.00,9,  -0.9385
  77DN19910726,Arctic,    40,  2,  82097,     15,2,19910916,   0, 85.3000, -14.1300, 1077,    159.8,  -0.4420,  34.5030,2,  34.5110,   2,    294.1,2,     9.38,2,    11.68,2,     0.87,2,    1.268,2,    0.693,2,    3.824,   2,   2156.5,2,   2266.0,2,    138.6,2,  -999.00,9,  -0.4472
  77DN19910726,Arctic,    40,  2,  82096,     14,2,19910916,   0, 85.3000, -14.1300, 1077,    201.1,   0.1030,  34.6997,2,  34.6950,   2,    290.2,2,     9.41,2,    12.81,2,     0.91,2,    0.829,2,    0.488,2,    3.415,   2,   2151.1,2,   2276.5,2,     76.1,2,  -999.00,9,   0.0954
  77DN19910726,Arctic,    40,  2,  82095,     13,2,19910916,   0, 85.3000, -14.1300, 1077,    259.4,   0.4080,  34.8045,2,  34.8050,   2,    293.1,2,     8.82,2,    13.39,2,     0.92,2,    1.024,2,    0.556,2,    3.844,   2,   2147.8,2,   2280.1,2,    109.3,2,  -999.00,9,   0.3973
  77DN19910726,Arctic,    40,  2,  82094,     12,2,19910916,   0, 85.3000, -14.1300, 1077,    318.8,   0.4420,  34.8410,2,  34.8400,   2,    281.4,2,     8.82,2,    13.54,2,     0.93,2,    0.478,2,    0.302,2,    3.083,   2,   -999.0,9,   2276.4,2,     77.3,2,  -999.00,9,   0.4286
  77DN19910726,Arctic,    40,  2,  82093,     11,2,19910916,   0, 85.3000, -14.1300, 1077,    399.4,   0.4730,  34.8637,2,  34.8640,   2,    294.1,2,     8.04,2,    13.49,2,     0.92,2,    0.459,2,    0.332,2,    3.220,   2,   2149.9,2,   2279.1,2,     65.9,2,  -999.00,9,   0.4558
  77DN19910726,Arctic,    40,  2,  82092,     10,2,19910916,   0, 85.3000, -14.1300, 1077,    476.7,   0.4090,  34.8748,2,  34.8750,   2,    298.9,2,     7.77,2,    13.39,2,     0.91,2,    0.566,2,    0.400,2,    3.093,   2,   -999.0,9,   2289.8,2,     75.5,2,  -999.00,9,   0.3883
  77DN19910726,Arctic,    40,  2,  82091,      9,2,19910916,   0, 85.3000, -14.1300, 1077,    539.3,   0.2870,  34.8794,2,  34.8790,   2,    301.9,2,     7.66,2,    13.36,2,     0.91,2,    0.644,2,    0.361,2,    2.273,   2,   2148.3,2,   2292.1,2,     79.3,2,  -999.00,9,   0.2639
  77DN19910726,Arctic,    40,  2,  82090,      8,2,19910916,   0, 85.3000, -14.1300, 1077,    600.7,   0.1960,  34.8820,2,  34.8820,   2,    301.9,2,     7.79,2,    13.38,2,     0.91,2,    0.507,2,    0.224,2,    3.073,   2,   -999.0,9,   2285.3,2,    111.1,2,  -999.00,9,   0.1704
  77DN19910726,Arctic,    40,  2,  82089,      7,2,19910916,   0, 85.3000, -14.1300, 1077,    680.7,   0.0710,  34.8865,2,  34.8880,   2,    305.7,2,     7.86,2,    13.37,2,     0.91,2,    0.566,2,    0.371,2,    3.005,   2,   2151.0,2,   2282.6,2,     96.6,2,  -999.00,9,   0.0422
  77DN19910726,Arctic,    40,  2,  82088,      6,2,19910916,   0, 85.3000, -14.1300, 1077,    723.1,   0.0240,  34.8899,2,  34.8900,   2,    303.8,2,     7.86,2,    13.31,2,     0.91,2,    0.615,2,    0.400,2,    3.356,   2,   -999.0,9,   2283.8,2,    116.0,2,  -999.00,9,  -0.0066
  77DN19910726,Arctic,    40,  2,  82087,      5,2,19910916,   0, 85.3000, -14.1300, 1077,    799.4,  -0.0460,  34.8946,2,  34.8940,   2,    304.8,2,     8.00,2,    13.36,2,     0.92,2,    0.546,2,    0.332,2,    3.190,   2,   2148.0,2,   2294.0,2,    114.9,2,  -999.00,9,  -0.0799
  77DN19910726,Arctic,    40,  2,  82086,      4,2,19910916,   0, 85.3000, -14.1300, 1077,    879.4,  -0.1440,  34.9013,2,  34.9010,   2,    305.7,2,     8.40,2,    13.48,2,     0.93,2,    0.439,2,    0.234,2,    2.878,   2,   -999.0,9,   2298.7,2,     99.0,2,  -999.00,9,  -0.1813
  77DN19910726,Arctic,    40,  2,  82085,      3,2,19910916,   0, 85.3000, -14.1300, 1077,    939.9,  -0.1910,  34.9062,2,  34.9050,   2,    303.8,2,     8.63,2,    13.56,2,     0.93,2,    0.420,2,    0.215,2,    2.673,   2,   2147.7,2,   2295.9,2,    138.0,2,  -999.00,9,  -0.2310
  77DN19910726,Arctic,    40,  2,  82084,      2,2,19910916,   0, 85.3000, -14.1300, 1077,   1000.5,  -0.2140,  34.9076,2,  34.9080,   2,    301.9,2,     8.77,2,    13.65,2,     0.94,2,    0.371,2,    0.215,2,    2.488,   2,   -999.0,9,   2302.3,2,    163.9,2,  -999.00,9,  -0.2569
  77DN19910726,Arctic,    40,  2,  82083,      1,2,19910916,   0, 85.3000, -14.1300, 1077,   1037.0,  -0.2150,  34.9080,2,  34.9080,   2,    301.9,2,     8.74,2,    13.63,2,     0.93,2,    0.283,2,    0.166,2,    2.332,   2,   2148.2,2,   2304.4,2,     97.0,2,  -999.00,9,  -0.2598
  77DN19910726,Arctic,    41,  4,  82154,     12,2,19910917,   0, 85.4100, -11.9600, 1582,      9.8,  -1.7210,  31.6428,2,  31.6830,   2,    373.9,2,    13.65,2,     3.89,2,     1.14,2, -999.000,9, -999.000,9, -999.000,   9,   -999.0,9,   -999.0,9,   -999.0,9,  -999.00,9,  -1.7211
  77DN19910726,Arctic,    41,  2,  82142,     24,2,19910917,   0, 85.4100, -11.9600, 1582,     14.5,  -1.7110,  31.6474,2,  31.6290,   2,    375.9,2,    13.75,2,     3.80,2,     1.13,2,    9.610,3,    2.800,2,   10.176,   2,   2095.6,2,   2216.5,2,     95.9,2,  -999.00,9,  -1.7112
  77DN19910726,Arctic,    41,  4,  82153,     11,2,19910917,   0, 85.4100, -11.9600, 1582,     24.9,  -1.7220,  31.6563,2,  31.7270,   2,    373.9,2,    13.65,2,     3.97,2,     1.12,2, -999.000,9, -999.000,9, -999.000,   9,   -999.0,9,   -999.0,9,   -999.0,9,  -999.00,9,  -1.7224
  77DN19910726,Arctic,    41,  2,  82141,     23,2,19910917,   0, 85.4100, -11.9600, 1582,     35.3,  -1.7150,  31.7630,2,  31.8810,   2,    382.7,2,    13.00,2,     4.26,2,     1.03,2,    8.966,2,    3.073,2,   10.722,   2,   2108.1,2,   2226.6,2,    124.1,2,  -999.00,9,  -1.7155
  77DN19910726,Arctic,    41,  4,  82152,     10,2,19910917,   0, 85.4100, -11.9600, 1582,     40.0,  -1.7220,  31.8545,2,  32.4510,   3,    362.2,2,    11.18,2,     5.22,2,     0.82,2, -999.000,9, -999.000,9, -999.000,   9,   -999.0,9,   -999.0,9,   -999.0,9,  -999.00,9,  -1.7227
  77DN19910726,Arctic,    41,  2,  82140,     22,2,19910917,   0, 85.4100, -11.9600, 1582,     52.4,  -1.6900,  32.6502,2,  32.7710,   2,    352.5,2,    11.65,2,     6.15,2,     0.80,2,    7.873,2,    2.888,2,    7.941,   2,   2153.1,2,   2266.6,2,   -999.0,9,  -999.00,9,  -1.6909
  77DN19910726,Arctic,    41,  4,  82151,      9,2,19910917,   0, 85.4100, -11.9600, 1582,     55.1,  -1.7320,  32.7314,2,  32.7800,   2,    361.2,2,     9.51,2,     5.40,2,     0.69,2, -999.000,9, -999.000,9, -999.000,   9,   -999.0,9,   -999.0,9,   -999.0,9,  -999.00,9,  -1.7329
  77DN19910726,Arctic,    41,  4,  82150,      8,2,19910917,   0, 85.4100, -11.9600, 1582,     59.8,  -1.7410,  32.8728,2,  32.8900,   2,    365.1,2,     8.21,2,     5.18,2,     0.62,2, -999.000,9, -999.000,9, -999.000,   9,   -999.0,9,   -999.0,9,   -999.0,9,  -999.00,9,  -1.7420
  77DN19910726,Arctic,    41,  4,  82149,      7,2,19910917,   0, 85.4100, -11.9600, 1582,     64.8,  -1.7490,  33.0628,2,  33.0620,   2,    366.1,2,     7.24,2,     5.14,2,     0.56,2, -999.000,9, -999.000,9, -999.000,   9,   -999.0,9,   -999.0,9,   -999.0,9,  -999.00,9,  -1.7501
  77DN19910726,Arctic,    41,  2,  82139,     21,2,19910917,   0, 85.4100, -11.9600, 1582,     66.8,  -1.6980,  33.1394,2,  33.0530,   2,    354.4,2,    10.72,2,     6.42,2,     0.75,2,    6.790,2,    2.488,2,    7.805,   2,   2158.5,2,   2272.1,2,    102.5,2,  -999.00,9,  -1.6992
  77DN19910726,Arctic,    41,  4,  82148,      6,2,19910917,   0, 85.4100, -11.9600, 1582,     70.2,  -1.7190,  33.2711,2,  33.1340,   2,    350.5,2,    10.72,2,     6.57,2,     0.73,2, -999.000,9, -999.000,9, -999.000,   9,   -999.0,9,   -999.0,9,   -999.0,9,  -999.00,9,  -1.7203
  77DN19910726,Arctic,    41,  4,  82147,      5,2,19910917,   0, 85.4100, -11.9600, 1582,     74.9,  -1.5730,  33.4837,2,  33.3560,   2,    303.8,2,    19.41,2,    10.85,2,     1.19,2, -999.000,9, -999.000,9, -999.000,   9,   -999.0,9,   -999.0,9,   -999.0,9,  -999.00,9,  -1.5745
  77DN19910726,Arctic,    41,  4,  82146,      4,2,19910917,   0, 85.4100, -11.9600, 1582,     79.9,  -1.6280,  33.7098,2,  33.4910,   2,    322.3,2,    13.47,2,     9.00,2,     0.91,2, -999.000,9, -999.000,9, -999.000,   9,   -999.0,9,   -999.0,9,   -999.0,9,  -999.00,9,  -1.6296
  77DN19910726,Arctic,    41,  4,  82145,      3,2,19910917,   0, 85.4100, -11.9600, 1582,     89.9,  -1.4830,  33.8823,2,  33.7550,   2,    290.2,2,    16.87,2,    11.61,2,     1.10,2, -999.000,9, -999.000,9, -999.000,   9,   -999.0,9,   -999.0,9,   -999.0,9,  -999.00,9,  -1.4849
  77DN19910726,Arctic,    41,  4,  82144,      2,2,19910917,   0, 85.4100, -11.9600, 1582,     99.9,  -1.4440,  33.9904,2,  34.0340,   2,    299.9,2,    11.46,2,    10.68,2,     0.90,2, -999.000,9, -999.000,9, -999.000,   9,   -999.0,9,   -999.0,9,   -999.0,9,  -999.00,9,  -1.4462
  77DN19910726,Arctic,    41,  2,  82138,     20,2,19910917,   0, 85.4100, -11.9600, 1582,    108.8,  -1.3720,  34.1169,2,  34.1480,   2,    301.9,2,     9.40,2,    10.24,2,     0.80,2,    3.122,2,    1.424,2,    5.249,   2,   2151.9,2,   2277.3,2,     67.1,2,  -999.00,9,  -1.3745
  77DN19910726,Arctic,    41,  4,  82143,      1,2,19910917,   0, 85.4100, -11.9600, 1582,    150.1,  -0.7850,  34.4401,2,  34.4060,   2,    301.9,2,     8.03,2,    10.75,2,     0.79,2, -999.000,9, -999.000,9, -999.000,   9,   -999.0,9,   -999.0,9,   -999.0,9,  -999.00,9,  -0.7894
  77DN19910726,Arctic,    41,  2,  82137,     19,2,19910917,   0, 85.4100, -11.9600, 1582,    179.6,  -0.1980,  34.5403,2,  34.5940,   2,    305.7,2,     7.35,2,    11.38,2,     0.80,2,    2.059,2,    1.112,2,    5.473,   2,   2150.4,2,   2292.4,2,     77.3,2,  -999.00,9,  -0.2043
  77DN19910726,Arctic,    41,  2,  82136,     18,2,19910917,   0, 85.4100, -11.9600, 1582,    219.7,   0.2970,  34.7215,2,  34.7310,   2,    306.7,2,     6.65,2,    12.06,2,     0.82,2,    2.654,2,    1.268,2,    5.737,   2,   2152.6,2,   2301.3,2,     60.9,2,  -999.00,9,   0.2883
  77DN19910726,Arctic,    41,  2,  82135,     17,2,19910917,   0, 85.4100, -11.9600, 1582,    280.1,   0.5610,  34.8221,2,  34.8190,   2,    307.7,2,     6.67,2,    12.62,2,     0.83,2,    2.156,2,    1.122,2,    5.941,   2,   2150.8,2,   2297.3,2,     62.2,2,  -999.00,9,   0.5490
  77DN19910726,Arctic,    41,  2,  82134,     16,2,19910917,   0, 85.4100, -11.9600, 1582,    340.7,   0.5980,  34.8497,2,  34.8500,   2,    302.8,2,     6.49,2,    12.73,2,     0.84,2,    2.263,2,    1.093,2,    6.107,   2,   -999.0,9,   -999.0,9,     82.9,2,  -999.00,9,   0.5831
  77DN19910726,Arctic,    41,  2,  82133,     15,2,19910917,   0, 85.4100, -11.9600, 1582,    360.4,   0.5280,  34.8507,2,  34.8510,   2,    299.9,2,     6.79,2,    12.90,2,     0.84,2,    1.629,2,    0.888,2,    5.268,   2,   2146.3,2,   -999.0,9,     74.8,2,  -999.00,9,   0.5124
  77DN19910726,Arctic,    41,  2,  82132,     14,2,19910917,   0, 85.4100, -11.9600, 1582,    398.7,   0.5480,  34.8676,2,  34.8660,   2,    301.9,2,     6.85,2,    13.02,2,     0.85,2,    1.756,2,    0.917,2,    5.122,   2,   -999.0,9,   -999.0,9,    103.2,2,  -999.00,9,   0.5305
  77DN19910726,Arctic,    41,  2,  82131,     13,2,19910917,   0, 85.4100, -11.9600, 1582,    439.3,   0.5280,  34.8720,2,  34.8710,   2,    306.7,2,     6.85,2,    13.05,2,     0.85,2,    1.376,2,    0.810,2,    4.956,   2,   2145.7,2,   2302.1,2,     96.8,2,  -999.00,9,   0.5087
  77DN19910726,Arctic,    41,  2,  82130,     12,2,19910917,   0, 85.4100, -11.9600, 1582,    499.4,   0.3920,  34.8756,2,  34.8770,   2,    311.6,2,     6.82,2,    13.05,2,     0.85,2,    1.668,2,    0.907,2,    5.171,   2,   -999.0,9,   2303.5,2,     57.7,2,  -999.00,9,   0.3703
  77DN19910726,Arctic,    41,  2,  82129,     11,2,19910917,   0, 85.4100, -11.9600, 1582,    600.1,   0.1480,  34.8776,2,  34.8840,   2,    309.6,2,     7.33,2,    13.22,2,     0.88,2,    1.220,2,    0.605,2,    3.990,   2,   2151.4,2,   2308.3,2,     63.3,2,  -999.00,9,   0.1226
  77DN19910726,Arctic,    41,  2,  82128,     10,2,19910917,   0, 85.4100, -11.9600, 1582,    678.7,   0.1090,  34.8835,2,  34.8840,   2,    305.7,2,     7.28,2,    13.16,2,     0.88,2,    1.220,2,    0.634,2,    3.922,   2,   -999.0,9,   2303.2,2,     81.7,2,  -999.00,9,   0.0801
  77DN19910726,Arctic,    41,  2,  82127,      9,2,19910917,   0, 85.4100, -11.9600, 1582,    759.5,   0.0250,  34.8880,2,  34.8860,   2,    314.5,2,     7.30,2,    13.16,2,     0.88,2,    1.298,2,    0.712,2,    4.410,   2,   2155.0,2,   2301.4,2,     85.2,2,  -999.00,9,  -0.0074
  77DN19910726,Arctic,    41,  2,  82126,      8,2,19910917,   0, 85.4100, -11.9600, 1582,    839.2,  -0.1210,  34.8940,2,  34.8930,   2,    310.6,2,     7.55,2,    13.25,2,     0.89,2,    1.951,2,    0.712,2,    4.673,   2,   -999.0,9,   2298.0,2,     56.4,2,  -999.00,9,  -0.1564
  77DN19910726,Arctic,    41,  2,  82125,      7,2,19910917,   0, 85.4100, -11.9600, 1582,    930.6,  -0.2190,  34.8954,2,  34.8990,   2,    307.7,2,     7.84,2,    13.47,2,     0.89,2,    1.337,2,    0.693,2,    4.234,   2,   2156.2,2,   2294.9,2,     62.6,2,  -999.00,9,  -0.2583
  77DN19910726,Arctic,    41,  2,  82124,      6,2,19910917,   0, 85.4100, -11.9600, 1582,   1048.7,  -0.2500,  34.9029,2,  34.9030,   2,    305.7,2,     8.21,2,    13.58,2,     0.90,2,    1.337,2,    0.605,2,    3.727,   2,   -999.0,9,   2289.8,2,     65.6,2,  -999.00,9,  -0.2951
  77DN19910726,Arctic,    41,  2,  82123,      5,2,19910917,   0, 85.4100, -11.9600, 1582,   1148.2,  -0.3080,  34.9111,2,  34.9110,   2,    303.8,2,     8.65,2,    13.72,2,     0.93,2,    1.190,2,    0.527,2,    3.483,   2,   2156.1,2,   -999.0,9,     87.0,2,  -999.00,9,  -0.3579
  77DN19910726,Arctic,    41,  2,  82122,      4,2,19910917,   0, 85.4100, -11.9600, 1582,   1198.3,  -0.3340,  34.9152,2,  34.9130,   2,    302.8,2,     9.02,2,    13.89,2,     0.94,2, -999.000,9, -999.000,9, -999.000,   9,   -999.0,9,   -999.0,9,     98.4,2,  -999.00,9,  -0.3864
  77DN19910726,Arctic,    41,  2,  82121,      3,2,19910917,   0, 85.4100, -11.9600, 1582,   1249.2,  -0.3620,  34.9191,2,  34.9180,   2,    305.7,2,     9.44,2,    14.02,2,     0.95,2,    0.702,2,    0.322,2,    2.683,   2,   2157.2,2,   -999.0,9,     88.6,2,  -999.00,9,  -0.4169
  77DN19910726,Arctic,    41,  2,  82120,      2,2,19910917,   0, 85.4100, -11.9600, 1582,   1300.8,  -0.3770,  34.9224,2,  34.9210,   2,    306.7,2,     9.70,2,    14.07,2,     0.96,2, -999.000,9, -999.000,9, -999.000,   9,   -999.0,9,   -999.0,9,     77.4,2,  -999.00,9,  -0.4346
  77DN19910726,Arctic,    41,  2,  82119,      1,2,19910917,   0, 85.4100, -11.9600, 1582,   1389.0,  -0.3790,  34.9221,2,  34.9210,   2,    302.8,2,     9.87,2,    14.21,2,     0.97,2,    0.546,2,    0.156,2,    2.088,   2,   2152.1,2,   -999.0,9,     86.5,2,  -999.00,9,  -0.4415
  77DN19910726,Arctic,    42,  1,  82166,     12,2,19910917,   0, 85.2400, -15.4700,  917,     20.0,  -1.7160,-999.0000,9,  31.3820,   2,    383.6,2,    12.81,2,     2.78,2,     1.22,2,    7.863,2,    2.995,2,   13.415,   2,   -999.0,9,   -999.0,9,   -999.0,9,  -999.00,9,  -1.7163
  77DN19910726,Arctic,    42,  1,  82165,     11,2,19910917,   0, 85.2400, -15.4700,  917,     40.1,  -1.6050,-999.0000,9,  32.1540,   2,    333.0,2,    19.68,2,     7.68,2,     1.38,2,    6.400,2,    2.654,2,    8.380,   2,   -999.0,9,   -999.0,9,   -999.0,9,  -999.00,9,  -1.6057
  77DN19910726,Arctic,    42,  1,  82164,     10,2,19910917,   0, 85.2400, -15.4700,  917,     44.8,  -1.5300,-999.0000,9,  32.4050,   2,    302.8,2,    25.28,2,    10.61,2,     1.58,2,    6.498,2,    2.595,2,    7.288,   2,   -999.0,9,   -999.0,9,   -999.0,9,  -999.00,9,  -1.5308
  77DN19910726,Arctic,    42,  1,  82163,      9,2,19910917,   0, 85.2400, -15.4700,  917,     49.8,  -1.4190,-999.0000,9,  32.6750,   2,    270.7,2,    31.28,2,    13.49,2,     1.81,2,    5.854,2,    2.302,2,    6.029,   2,   -999.0,9,   -999.0,9,   -999.0,9,  -999.00,9,  -1.4200
  77DN19910726,Arctic,    42,  1,  82162,      8,2,19910917,   0, 85.2400, -15.4700,  917,     55.0,  -1.3990,-999.0000,9,  32.8590,   2,    268.7,2,    32.79,2,    14.41,2,     1.86,2,    5.444,2,    2.244,2,    5.776,   2,   -999.0,9,   -999.0,9,   -999.0,9,  -999.00,9,  -1.4001
  77DN19910726,Arctic,    42,  1,  82161,      7,2,19910917,   0, 85.2400, -15.4700,  917,     55.9,  -1.4260,-999.0000,9,  33.0520,   2,    269.7,2,    31.93,2,    14.59,2,     1.80,2,    5.141,2,    2.088,2,    5.610,   2,   -999.0,9,   -999.0,9,   -999.0,9,  -999.00,9,  -1.4271
  77DN19910726,Arctic,    42,  1,  82160,      6,2,19910917,   0, 85.2400, -15.4700,  917,     64.6,  -1.4410,-999.0000,9,  33.1880,   2,    271.7,2,    30.74,2,    14.59,2,     1.74,2,    4.878,2,    1.990,2,    5.551,   2,   -999.0,9,   -999.0,9,   -999.0,9,  -999.00,9,  -1.4423
  77DN19910726,Arctic,    42,  1,  82159,      5,2,19910917,   0, 85.2400, -15.4700,  917,     70.1,  -1.4510,-999.0000,9,  33.4050,   2,    274.6,2,    27.51,2,    14.20,2,     1.59,2,    4.293,2,    1.795,2,    5.200,   2,   -999.0,9,   -999.0,9,   -999.0,9,  -999.00,9,  -1.4525
  77DN19910726,Arctic,    42,  1,  82158,      4,2,19910917,   0, 85.2400, -15.4700,  917,     80.1,  -1.4490,-999.0000,9,  33.6540,   2,    281.4,2,    22.62,2,    13.31,2,     1.37,2,    3.590,2,    1.512,2,    4.927,   2,   -999.0,9,   -999.0,9,   -999.0,9,  -999.00,9,  -1.4507
  77DN19910726,Arctic,    42,  1,  82157,      3,2,19910917,   0, 85.2400, -15.4700,  917,     90.2,  -1.4290,-999.0000,9,  33.9260,   2,    292.1,2,    15.31,2,    11.69,2,     1.06,2,    3.005,2,    1.376,2,    4.654,   2,   -999.0,9,   -999.0,9,   -999.0,9,  -999.00,9,  -1.4310
  77DN19910726,Arctic,    42,  1,  82156,      2,2,19910917,   0, 85.2400, -15.4700,  917,    110.0,  -1.2420,-999.0000,9,  34.2150,   2,    306.7,2,     9.46,2,    10.52,2,     0.82,2,    3.024,2,    1.249,2,    4.917,   2,   -999.0,9,   -999.0,9,   -999.0,9,  -999.00,9,  -1.2447
  77DN19910726,Arctic,    42,  1,  82155,      1,2,19910917,   0, 85.2400, -15.4700,  917,    149.8,  -0.4690,-999.0000,9,  34.4950,   2,   -999.0,9,  -999.00,9,  -999.00,9,  -999.00,9, -999.000,9, -999.000,9, -999.000,   9,   -999.0,9,   -999.0,9,   -999.0,9,  -999.00,9,  -0.4738