BOTTLE,20140714SIOCCHRJL
EXPOCODE,SECT_ID,STNNBR,CASTNO,SAMPNO,BTLNBR,BTLNBR_FLAG_W,DATE,TIME,LATITUDE,LONGITUDE,DEPTH,CTDPRS,CTDTMP,CTDSAL,CTDSAL_FLAG_W,SALNTY,SALNTY_FLAG_W,OXYGEN,OXYGEN_FLAG_W,SILCAT,SILCAT_FLAG_W,NITRAT,NITRAT_FLAG_W,PHSPHT,PHSPHT_FLAG_W,CFC-11,CFC-11_FLAG_W,CFC-12,CFC-12_FLAG_W,CCL4,CCL4_FLAG_W,TCARBN,TCARBN_FLAG_W,ALKALI,ALKALI_FLAG_W,DOC,DOC_FLAG_W,DELO18,DELO18_FLAG_W,THETA
,,,,,,,,,,,METERS,DBAR,ITS-90,PSS-78,,PSS-78,,UMOL/KG,,UMOL/KG,,UMOL/KG,,UMOL/KG,,PMOL/KG,,PMOL/KG,,PMOL/KG,,UMOL/KG,,UMOL/KG,,UMOL/KG,,/MILLE,,DEG C
  77DN19910726,Arctic,    35,  2,  81922,     20,2,19910913,   0, 86.1600,   5.2300, 4447,    501.9,   0.4080,  34.8762,2,  34.8750,   2,    313.5,2,     6.22,2,    12.67,2,     0.84,2,    3.873,2,    1.385,2,    7.571,   2,   2149.8,2,   2294.4,2,   -999.0,9,  -999.00,9,   0.3861
  77DN19910726,Arctic,    35,  2,  81921,     19,2,19910913,   0, 86.1600,   5.2300, 4447,    620.5,   0.0780,  34.8763,2,  34.8750,   2,    309.6,2,     6.35,2,    12.69,2,     0.84,2,    3.512,2,    1.395,2,    7.698,   2,   2152.7,2,   2301.4,2,   -999.0,9,  -999.00,9,   0.0520
  77DN19910726,Arctic,    35,  4,  81929,      3,2,19910913,   0, 86.1600,   5.2300, 4447,    750.1,  -0.1540,  34.8796,2,  34.8770,   2,    313.5,2,     6.61,2,    12.67,2,     0.84,2, -999.000,9, -999.000,9, -999.000,   9,   2155.0,2,   -999.0,9,     78.3,2,  -999.00,9,  -0.1848
  77DN19910726,Arctic,    35,  4,  81928,      2,2,19910913,   0, 86.1600,   5.2300, 4447,    900.0,  -0.2850,  34.8881,2,  34.8900,   2,    306.7,2,     7.06,2,    12.86,2,     0.86,2, -999.000,9, -999.000,9, -999.000,   9,   2159.9,2,   -999.0,9,     84.7,2,  -999.00,9,  -0.3223
  77DN19910726,Arctic,    35,  2,  81920,     18,2,19910913,   0, 86.1600,   5.2300, 4447,    999.9,  -0.3290,  34.8955,2,  34.8960,   2,    313.5,2,     7.37,2,    13.10,2,     0.88,2,    4.224,3,    1.239,2,    7.268,   2,   2153.5,2,   2279.9,2,   -999.0,9,  -999.00,9,  -0.3709
  77DN19910726,Arctic,    35,  4,  81927,      1,2,19910913,   0, 86.1600,   5.2300, 4447,   1099.9,  -0.4130,  34.9030,2,  34.9030,   2,    313.5,2,     7.70,2,    13.19,2,     0.88,2, -999.000,9, -999.000,9, -999.000,   9,   2152.7,2,   -999.0,9,     91.5,2,  -999.00,9,  -0.4594
  77DN19910726,Arctic,    35,  2,  81919,     17,2,19910913,   0, 86.1600,   5.2300, 4447,   1200.2,  -0.4210,  34.9089,2,  34.9080,   2,    310.6,2,     8.22,2,    13.55,2,     0.90,2,    2.517,2,    0.683,2,    5.815,   2,   2157.4,2,   -999.0,9,   -999.0,9,  -999.00,9,  -0.4726
  77DN19910726,Arctic,    35,  2,  81918,     16,2,19910913,   0, 86.1600,   5.2300, 4447,   1401.7,  -0.5070,  34.9169,2,  34.9160,   2,    308.7,2,     9.24,2,    14.06,2,     0.94,2,    0.000,4,    2.351,3,    0.000,   3,   2161.6,2,   -999.0,9,     81.5,2,  -999.00,9,  -0.5688
  77DN19910726,Arctic,    35,  2,  81917,     15,2,19910913,   0, 86.1600,   5.2300, 4447,   1599.7,  -0.5680,  34.9226,2,  34.9210,   2,    307.7,2,    10.04,2,    14.40,2,     0.94,2,    2.410,2,    0.029,3,    3.854,   2,   2160.6,2,   -999.0,9,   -999.0,9,  -999.00,9,  -0.6406
  77DN19910726,Arctic,    35,  2,  81916,     14,2,19910913,   0, 86.1600,   5.2300, 4447,   1769.9,  -0.6030,  34.9256,2,  34.9240,   2,    310.6,2,    10.56,2,    14.62,2,     0.96,2,    1.541,2,    0.000,2,    3.161,   2,   2156.9,2,   2296.9,2,     79.3,2,  -999.00,9,  -0.6854
  77DN19910726,Arctic,    35,  2,  81915,     13,2,19910913,   0, 86.1600,   5.2300, 4447,   2001.3,  -0.6800,  34.9230,2,  34.9210,   2,    305.7,2,    10.55,2,    14.74,2,     0.96,2,    0.244,2,    0.000,2,    2.995,   2,   2154.6,2,   2295.1,2,   -999.0,9,  -999.00,9,  -0.7760
  77DN19910726,Arctic,    35,  2,  81914,     12,2,19910913,   0, 86.1600,   5.2300, 4447,   2200.6,  -0.7260,  34.9245,2,  34.9220,   2,    307.7,2,    10.71,2,    14.87,2,     0.99,2,    4.068,3,    0.000,2,    2.937,   2,   2157.1,2,   2288.6,2,     70.4,2,  -999.00,9,  -0.8346
  77DN19910726,Arctic,    35,  2,  81913,     11,2,19910913,   0, 86.1600,   5.2300, 4447,   2399.3,  -0.7510,  34.9260,2,  34.9250,   2,    305.7,2,    10.86,2,    14.89,2,     0.99,2,    1.766,3,    0.000,2,    2.449,   2,   2160.2,2,   2296.7,2,   -999.0,9,  -999.00,9,  -0.8730
  77DN19910726,Arctic,    35,  2,  81912,     10,2,19910913,   0, 86.1600,   5.2300, 4447,   2598.7,  -0.7630,  34.9278,2,  34.9260,   2,    306.7,2,    11.03,2,    14.98,2,     0.99,2,    0.380,2,    0.000,2,    2.273,   2,   2160.7,2,   2296.5,2,     75.2,2,  -999.00,9,  -0.8993
  77DN19910726,Arctic,    35,  2,  81911,      9,2,19910913,   0, 86.1600,   5.2300, 4447,   2800.6,  -0.7650,  34.9303,2,  34.9290,   2,    308.7,2,    11.03,2,    14.97,2,     0.99,2,    0.137,2,    1.405,3,    1.766,   2,   2156.3,2,   2300.1,2,   -999.0,9,  -999.00,9,  -0.9166
  77DN19910726,Arctic,    35,  2,  81910,      8,2,19910913,   0, 86.1600,   5.2300, 4447,   3001.0,  -0.7630,  34.9336,2,  34.9320,   2,    304.8,2,    11.15,2,    14.99,2,     0.99,2,    0.468,2,    0.029,2,    1.571,   2,   2159.7,2,   2291.2,2,     58.2,2,  -999.00,9,  -0.9306
  77DN19910726,Arctic,    35,  2,  81909,      7,2,19910913,   0, 86.1600,   5.2300, 4447,   3247.4,  -0.7540,  34.9361,2,  34.9340,   2,    303.8,2,    11.12,2,    14.96,2,     0.99,2,    1.356,3,    0.000,2,    1.639,   2,   2158.7,2,   2295.6,2,   -999.0,9,  -999.00,9,  -0.9422
  77DN19910726,Arctic,    35,  2,  81908,      6,2,19910913,   0, 86.1600,   5.2300, 4447,   3498.1,  -0.7410,  34.9387,2,  34.9380,   2,   -999.0,9,    11.21,2,    14.89,2,     0.99,2,    3.093,3,    1.093,3,    1.746,   2,   2156.0,2,   2296.5,2,     57.1,2,  -999.00,9,  -0.9512
  77DN19910726,Arctic,    35,  2,  81907,      5,2,19910913,   0, 86.1600,   5.2300, 4447,   3749.1,  -0.7180,  34.9414,2,  34.9400,   2,    304.8,2,    11.27,2,    14.86,2,     0.98,2,    0.000,2,    0.000,2,    1.005,   2,   2160.1,2,   2293.9,2,   -999.0,9,  -999.00,9,  -0.9516
  77DN19910726,Arctic,    35,  2,  81906,      4,2,19910913,   0, 86.1600,   5.2300, 4447,   3901.0,  -0.7010,  34.9429,2,  34.9410,   2,    305.7,2,    11.30,2,    14.84,2,     0.98,2,    1.512,3,    0.000,2,    1.385,   2,   2160.7,2,   2297.1,2,     70.1,2,  -999.00,9,  -0.9492
  77DN19910726,Arctic,    35,  2,  81905,      3,2,19910913,   0, 86.1600,   5.2300, 4447,   4099.1,  -0.6780,  34.9437,2,  34.9420,   2,    307.7,2,    11.30,2,    14.85,2,     0.98,2, -999.000,9, -999.000,9, -999.000,   9,   2154.8,2,   -999.0,9,   -999.0,9,  -999.00,9,  -0.9460
  77DN19910726,Arctic,    35,  2,  81904,      2,2,19910913,   0, 86.1600,   5.2300, 4447,   4302.6,  -0.6570,  34.9436,2,  34.9430,   2,    306.7,2,    11.33,2,    14.81,2,     0.98,2,    0.000,2,    0.000,2,    1.307,   2,   2158.1,2,   2293.6,2,     90.7,2,  -999.00,9,  -0.9458
  77DN19910726,Arctic,    35,  2,  81903,      1,2,19910913,   0, 86.1600,   5.2300, 4447,   4435.4,  -0.6430,  34.9422,2,  34.9420,   2,    305.7,2,    11.33,2,    14.86,2,     0.97,2, -999.000,9, -999.000,9, -999.000,   9,   -999.0,9,   -999.0,9,   -999.0,9,  -999.00,9,  -0.9457
  77DN19910726,Arctic,    36,  3,  81974,     12,2,19910913,   0, 85.9800,   0.0000, 4255,      9.8,  -1.7060,  31.5452,2,  31.5230,   2,    374.9,2,    13.78,2,     3.55,2,     1.11,2, -999.000,9, -999.000,9, -999.000,   9,   -999.0,9,   2192.3,2,   -999.0,9,  -999.00,9,  -1.7061
  77DN19910726,Arctic,    36,  2,  81962,     24,2,19910913,   0, 85.9800,   0.0000, 4255,     14.9,  -1.6990,  31.5788,2,  31.5290,   2,    374.9,2,    13.82,2,     3.55,2,     1.11,2, -999.000,9, -999.000,9, -999.000,   9,   -999.0,9,   2207.5,2,   -999.0,9,  -999.00,9,  -1.6992
  77DN19910726,Arctic,    36,  3,  81973,     11,2,19910913,   0, 85.9800,   0.0000, 4255,     25.1,  -1.7020,  31.9495,2,  31.7290,   2,    371.0,2,    14.15,2,     4.10,2,     1.11,2, -999.000,9, -999.000,9, -999.000,   9,   -999.0,9,   2200.8,2,   -999.0,9,  -999.00,9,  -1.7024
  77DN19910726,Arctic,    36,  3,  81972,     10,2,19910913,   0, 85.9800,   0.0000, 4255,     49.6,  -1.7510,  32.8124,2,  32.9420,   2,    370.0,2,     6.62,2,     4.41,2,     0.55,2, -999.000,9, -999.000,9, -999.000,   9,   -999.0,9,   -999.0,9,   -999.0,9,  -999.00,9,  -1.7518
  77DN19910726,Arctic,    36,  3,  81971,      9,2,19910913,   0, 85.9800,   0.0000, 4255,     75.0,  -1.7780,  33.1143,2,  33.1100,   2,    372.9,2,     5.51,2,     4.28,2,     0.47,2, -999.000,9, -999.000,9, -999.000,   9,   -999.0,9,   2268.2,2,   -999.0,9,  -999.00,9,  -1.7793
  77DN19910726,Arctic,    36,  2,  81961,     23,2,19910913,   0, 85.9800,   0.0000, 4255,     80.7,  -1.7870,  33.1396,2,  33.1610,   2,    372.9,2,     5.41,2,     4.37,2,     0.49,2, -999.000,9, -999.000,9, -999.000,   9,   -999.0,9,   2267.8,2,   -999.0,9,  -999.00,9,  -1.7884
  77DN19910726,Arctic,    36,  3,  81970,      8,2,19910913,   0, 85.9800,   0.0000, 4255,     89.9,  -1.8090,  33.2339,2,  33.2970,   2,    369.0,2,     5.59,2,     4.84,2,     0.48,2, -999.000,9, -999.000,9, -999.000,   9,   -999.0,9,   -999.0,9,   -999.0,9,  -999.00,9,  -1.8106
  77DN19910726,Arctic,    36,  3,  81969,      7,2,19910913,   0, 85.9800,   0.0000, 4255,    124.7,  -1.5250,  34.1495,2,  34.0920,   2,    311.6,2,     7.07,2,     8.99,2,     0.69,2, -999.000,9, -999.000,9, -999.000,   9,   -999.0,9,   2265.4,2,   -999.0,9,  -999.00,9,  -1.5278
  77DN19910726,Arctic,    36,  3,  81968,      6,2,19910913,   0, 85.9800,   0.0000, 4255,    174.6,  -0.6650,  34.4990,2,  34.4600,   2,    308.7,2,     5.94,2,    10.03,2,     0.71,2, -999.000,9, -999.000,9, -999.000,   9,   -999.0,9,   -999.0,9,   -999.0,9,  -999.00,9,  -0.6704
  77DN19910726,Arctic,    36,  3,  81967,      5,2,19910913,   0, 85.9800,   0.0000, 4255,    224.8,   0.2180,  34.6950,2,  34.7000,   2,    306.7,2,     5.99,2,    11.44,2,     0.78,2, -999.000,9, -999.000,9, -999.000,   9,   -999.0,9,   2286.5,2,   -999.0,9,  -999.00,9,   0.2092
  77DN19910726,Arctic,    36,  3,  81966,      4,2,19910913,   0, 85.9800,   0.0000, 4255,    275.0,   0.6690,  34.8178,2,  34.8180,   2,    305.7,2,     5.82,2,    12.20,2,     0.80,2, -999.000,9, -999.000,9, -999.000,   9,   -999.0,9,   2291.9,2,   -999.0,9,  -999.00,9,   0.6570
  77DN19910726,Arctic,    36,  3,  81965,      3,2,19910913,   0, 85.9800,   0.0000, 4255,    334.9,   0.8190,  34.8595,2,  34.8580,   2,    306.7,2,     5.87,2,    12.38,2,     0.81,2, -999.000,9, -999.000,9, -999.000,   9,   -999.0,9,   2292.7,2,   -999.0,9,  -999.00,9,   0.8038
  77DN19910726,Arctic,    36,  3,  81964,      2,2,19910913,   0, 85.9800,   0.0000, 4255,    449.9,   0.6140,  34.8813,2,  34.8800,   2,    309.6,2,     6.05,2,    12.54,2,     0.83,2, -999.000,9, -999.000,9, -999.000,   9,   -999.0,9,   2296.7,2,   -999.0,9,  -999.00,9,   0.5938
  77DN19910726,Arctic,    36,  3,  81963,      1,2,19910913,   0, 85.9800,   0.0000, 4255,    500.0,   0.4340,  34.8793,2,  34.8790,   2,    309.6,2,     6.10,2,    12.56,2,     0.83,2, -999.000,9, -999.000,9, -999.000,   9,   -999.0,9,   2292.2,2,   -999.0,9,  -999.00,9,   0.4121
  77DN19910726,Arctic,    36,  2,  81960,     22,2,19910913,   0, 85.9800,   0.0000, 4255,    601.0,   0.0780,  34.8780,2,  34.8760,   2,    314.5,2,     6.29,2,    12.55,2,     0.85,2, -999.000,9, -999.000,9, -999.000,   9,   -999.0,9,   2285.6,2,   -999.0,9,  -999.00,9,   0.0529
  77DN19910726,Arctic,    36,  2,  81959,     21,2,19910913,   0, 85.9800,   0.0000, 4255,    650.2,  -0.0010,  34.8783,2,  34.8810,   2,    315.5,2,     6.40,2,    12.61,2,     0.86,2, -999.000,9, -999.000,9, -999.000,   9,   -999.0,9,   2285.4,2,   -999.0,9,  -999.00,9,  -0.0280
  77DN19910726,Arctic,    36,  2,  81958,     20,2,19910913,   0, 85.9800,   0.0000, 4255,    800.5,  -0.1790,  34.8858,2,  34.8850,   2,    311.6,2,     6.74,2,    12.77,2,     0.87,2, -999.000,9, -999.000,9, -999.000,   9,   -999.0,9,   2293.6,2,   -999.0,9,  -999.00,9,  -0.2121
  77DN19910726,Arctic,    36,  2,  81957,     19,2,19910913,   0, 85.9800,   0.0000, 4255,   1000.2,  -0.3230,  34.8973,2,  34.8980,   2,    308.7,2,     7.34,2,    13.06,2,     0.89,2, -999.000,9, -999.000,9, -999.000,   9,   -999.0,9,   2301.4,2,   -999.0,9,  -999.00,9,  -0.3650
  77DN19910726,Arctic,    36,  2,  81956,     18,2,19910913,   0, 85.9800,   0.0000, 4255,   1199.6,  -0.4370,  34.9069,2,  34.9070,   2,    307.7,2,     8.10,2,    13.43,2,     0.92,2, -999.000,9, -999.000,9, -999.000,   9,   -999.0,9,   -999.0,9,   -999.0,9,  -999.00,9,  -0.4884
  77DN19910726,Arctic,    36,  2,  81955,     17,2,19910913,   0, 85.9800,   0.0000, 4255,   1379.7,  -0.5140,  34.9151,2,  34.9120,   2,    314.5,2,     8.86,2,    13.80,2,     0.94,2, -999.000,9, -999.000,9, -999.000,   9,   -999.0,9,   2294.1,2,   -999.0,9,  -999.00,9,  -0.5745
  77DN19910726,Arctic,    36,  2,  81954,     16,2,19910913,   0, 85.9800,   0.0000, 4255,   1499.3,  -0.5580,  34.9181,2,  34.9190,   2,    304.8,2,     9.46,2,    14.09,2,     0.96,2, -999.000,9, -999.000,9, -999.000,   9,   -999.0,9,   -999.0,9,   -999.0,9,  -999.00,9,  -0.6248
  77DN19910726,Arctic,    36,  2,  81953,     15,2,19910913,   0, 85.9800,   0.0000, 4255,   1649.7,  -0.5930,  34.9225,2,  34.9220,   2,    301.9,2,    10.16,2,    14.43,2,     0.98,2, -999.000,9, -999.000,9, -999.000,   9,   -999.0,9,   2294.9,2,   -999.0,9,  -999.00,9,  -0.6682
  77DN19910726,Arctic,    36,  2,  81952,     14,2,19910913,   0, 85.9800,   0.0000, 4255,   1779.9,  -0.6290,  34.9242,2,  34.9250,   2,    309.6,2,    10.49,2,    14.57,2,     0.99,2, -999.000,9, -999.000,9, -999.000,   9,   -999.0,9,   -999.0,9,   -999.0,9,  -999.00,9,  -0.7117
  77DN19910726,Arctic,    36,  2,  81951,     13,2,19910913,   0, 85.9800,   0.0000, 4255,   1898.6,  -0.6750,  34.9240,2,  34.9220,   2,    309.6,2,    10.55,2,    14.66,2,     0.99,2, -999.000,9, -999.000,9, -999.000,   9,   -999.0,9,   -999.0,9,   -999.0,9,  -999.00,9,  -0.7645
  77DN19910726,Arctic,    36,  2,  81950,     12,2,19910913,   0, 85.9800,   0.0000, 4255,   2048.7,  -0.7190,  34.9235,2,  34.9230,   2,    309.6,2,    10.74,2,    14.87,2,     1.01,2, -999.000,9, -999.000,9, -999.000,   9,   -999.0,9,   -999.0,9,   -999.0,9,  -999.00,9,  -0.8175
  77DN19910726,Arctic,    36,  2,  81949,     11,2,19910913,   0, 85.9800,   0.0000, 4255,   2299.8,  -0.7560,  34.9261,2,  34.9250,   2,    307.7,2,    10.89,2,    14.89,2,     1.01,2, -999.000,9, -999.000,9, -999.000,   9,   -999.0,9,   -999.0,9,   -999.0,9,  -999.00,9,  -0.8709
  77DN19910726,Arctic,    36,  2,  81948,     10,2,19910913,   0, 85.9800,   0.0000, 4255,   2498.4,  -0.7700,  34.9279,2,  34.9320,   2,    308.7,2,    10.98,2,    14.91,2,     1.00,2, -999.000,9, -999.000,9, -999.000,   9,   -999.0,9,   2296.1,2,   -999.0,9,  -999.00,9,  -0.8988
  77DN19910726,Arctic,    36,  2,  81947,      9,2,19910913,   0, 85.9800,   0.0000, 4255,   2700.1,  -0.7740,  34.9304,2,  34.9300,   2,    306.7,2,    11.08,2,    14.94,2,     1.00,2, -999.000,9, -999.000,9, -999.000,   9,   -999.0,9,   -999.0,9,   -999.0,9,  -999.00,9,  -0.9177
  77DN19910726,Arctic,    36,  2,  81946,      8,2,19910913,   0, 85.9800,   0.0000, 4255,   2901.0,  -0.7710,  34.9325,2,  34.9320,   2,    311.6,2,    11.18,2,    14.93,2,     1.00,2, -999.000,9, -999.000,9, -999.000,   9,   -999.0,9,   -999.0,9,   -999.0,9,  -999.00,9,  -0.9304
  77DN19910726,Arctic,    36,  2,  81945,      7,2,19910913,   0, 85.9800,   0.0000, 4255,   3099.2,  -0.7630,  34.9357,2,  34.9340,   2,    301.9,2,    11.23,2,    14.95,2,     1.01,2, -999.000,9, -999.000,9, -999.000,   9,   -999.0,9,   -999.0,9,   -999.0,9,  -999.00,9,  -0.9386
  77DN19910726,Arctic,    36,  2,  81944,      6,2,19910913,   0, 85.9800,   0.0000, 4255,   3300.2,  -0.7530,  34.9370,2,  34.9370,   2,    305.7,2,    11.23,2,    14.91,2,     1.01,2, -999.000,9, -999.000,9, -999.000,   9,   -999.0,9,   2296.9,2,   -999.0,9,  -999.00,9,  -0.9457
  77DN19910726,Arctic,    36,  2,  81943,      5,2,19910913,   0, 85.9800,   0.0000, 4255,   3500.4,  -0.7400,  34.9399,2,  34.9390,   2,    305.7,2,    11.22,2,    14.82,2,     1.00,2, -999.000,9, -999.000,9, -999.000,   9,   -999.0,9,   2291.7,2,   -999.0,9,  -999.00,9,  -0.9505
  77DN19910726,Arctic,    36,  2,  81942,      4,2,19910913,   0, 85.9800,   0.0000, 4255,   3699.7,  -0.7210,  34.9420,2,  34.9410,   2,    304.8,2,    11.30,2,    14.82,2,     0.99,2, -999.000,9, -999.000,9, -999.000,   9,   -999.0,9,   -999.0,9,   -999.0,9,  -999.00,9,  -0.9499
  77DN19910726,Arctic,    36,  2,  81941,      3,2,19910913,   0, 85.9800,   0.0000, 4255,   3885.4,  -0.7000,  34.9428,2,  34.9430,   2,    303.8,2,    11.29,2,    14.77,2,     0.99,2, -999.000,9, -999.000,9, -999.000,   9,   -999.0,9,   2288.7,2,   -999.0,9,  -999.00,9,  -0.9468
  77DN19910726,Arctic,    36,  2,  81940,      2,2,19910913,   0, 85.9800,   0.0000, 4255,   4102.0,  -0.6780,  34.9434,2,  34.9430,   2,    303.8,2,    11.29,2,    14.79,2,     0.99,2, -999.000,9, -999.000,9, -999.000,   9,   -999.0,9,   2295.3,2,   -999.0,9,  -999.00,9,  -0.9463
  77DN19910726,Arctic,    36,  2,  81939,      1,2,19910913,   0, 85.9800,   0.0000, 4255,   4252.3,  -0.6620,  34.9432,2,  34.9430,   2,    307.7,2,    11.33,2,    14.75,2,     0.98,2, -999.000,9, -999.000,9, -999.000,   9,   -999.0,9,   2292.1,2,   -999.0,9,  -999.00,9,  -0.9456
  77DN19910726,Arctic,    37,  4,  82010,     12,2,19910914,   0, 85.7500,  -5.2600, 4196,     10.0,  -1.7020,  31.5441,2,  31.5510,   2,    374.9,2,    14.11,2,     3.57,2,     1.13,2,    7.327,2,    2.907,2,   13.961,   2,   2100.9,2,   2193.5,2,     77.2,2,  -999.00,9,  -1.7021
  77DN19910726,Arctic,    37,  2,  81998,     24,2,19910914,   0, 85.7500,  -5.2600, 4196,     15.5,  -1.6990,  31.5444,2,  31.5600,   2,    376.8,2,    14.15,2,     3.66,2,     1.11,2,    7.171,2,    2.839,2,   13.581,   2,   2090.8,2,   2186.5,2,    115.6,2,  -999.00,9,  -1.6992
  77DN19910726,Arctic,    37,  4,  82009,     11,2,19910914,   0, 85.7500,  -5.2600, 4196,     25.2,  -1.7020,  31.5708,2,  31.5540,   2,    375.9,2,    14.14,2,     3.55,2,     1.13,2,    7.268,2,    2.849,2,   13.707,   2,   2094.8,2,   2185.1,2,     80.5,2,  -999.00,9,  -1.7024
  77DN19910726,Arctic,    37,  4,  82008,     10,2,19910914,   0, 85.7500,  -5.2600, 4196,     40.0,  -1.6990,  32.2149,2,  32.0960,   2,    367.1,2,    12.68,2,     4.47,2,     0.96,2,    7.044,2,    2.712,2,   10.507,   2,   2126.3,2,   2220.1,2,     94.2,2,  -999.00,9,  -1.6996
  77DN19910726,Arctic,    37,  4,  82007,      9,2,19910914,   0, 85.7500,  -5.2600, 4196,     57.3,  -1.6130,  32.9678,2,  32.9820,   2,    337.9,2,    15.92,2,     8.15,2,     1.00,2,    8.205,3,    2.380,2,    7.512,   2,   2166.9,2,   2250.1,2,     82.3,2,  -999.00,9,  -1.6141
  77DN19910726,Arctic,    37,  2,  81997,     23,2,19910914,   0, 85.7500,  -5.2600, 4196,     70.3,  -1.7840,  33.2835,2,  33.3220,   2,    371.0,2,     5.35,2,     4.63,2,     0.47,2,    6.107,2,    2.488,2,    8.137,   2,   2151.1,2,   2265.6,2,    122.2,2,  -999.00,9,  -1.7852