BOTTLE,20140714SIOCCHRJL
EXPOCODE,SECT_ID,STNNBR,CASTNO,SAMPNO,BTLNBR,BTLNBR_FLAG_W,DATE,TIME,LATITUDE,LONGITUDE,DEPTH,CTDPRS,CTDTMP,CTDSAL,CTDSAL_FLAG_W,SALNTY,SALNTY_FLAG_W,OXYGEN,OXYGEN_FLAG_W,SILCAT,SILCAT_FLAG_W,NITRAT,NITRAT_FLAG_W,PHSPHT,PHSPHT_FLAG_W,CFC-11,CFC-11_FLAG_W,CFC-12,CFC-12_FLAG_W,CCL4,CCL4_FLAG_W,TCARBN,TCARBN_FLAG_W,ALKALI,ALKALI_FLAG_W,DOC,DOC_FLAG_W,DELO18,DELO18_FLAG_W,THETA
,,,,,,,,,,,METERS,DBAR,ITS-90,PSS-78,,PSS-78,,UMOL/KG,,UMOL/KG,,UMOL/KG,,UMOL/KG,,PMOL/KG,,PMOL/KG,,PMOL/KG,,UMOL/KG,,UMOL/KG,,UMOL/KG,,/MILLE,,DEG C
  77DN19910726,Arctic,    50,  2,  82405,     23,2,19910925,   0, 83.3500,   8.2900, 4077,    551.2,   0.7470,  34.9108,2,  34.9120,   2,    306.7,2,     6.41,2,    12.83,2,     0.84,2,    1.746,2,    0.576,2,    5.317,   2,   2148.0,2,   2293.5,2,     74.1,2,  -999.00,9,   0.7212
  77DN19910726,Arctic,    50,  2,  82404,     22,2,19910925,   0, 83.3500,   8.2900, 4077,    582.6,   0.6160,  34.9119,2,  34.9110,   2,    328.1,3,     6.51,2,    12.87,2,     0.85,2,    1.600,2,    0.751,2,    5.815,   2,   2153.9,2,   2291.0,2,     68.5,2,  -999.00,9,   0.5892
  77DN19910726,Arctic,    50,  2,  82403,     21,2,19910925,   0, 83.3500,   8.2900, 4077,    650.0,   0.4240,  34.9073,2,  34.9090,   2,    306.7,2,     6.63,2,    12.86,2,     0.85,2,    1.317,2,    0.634,2,    5.141,   2,   2149.8,2,   2293.7,2,     65.7,2,  -999.00,9,   0.3947
  77DN19910726,Arctic,    50,  2,  82402,     20,2,19910925,   0, 83.3500,   8.2900, 4077,    702.7,   0.2550,  34.9027,2,  34.9050,   2,    307.7,2,     6.79,2,    12.88,2,     0.85,2,    1.200,2,    0.468,2,    5.161,   2,   2152.8,2,   2294.9,2,     61.6,2,  -999.00,9,   0.2240
  77DN19910726,Arctic,    50,  2,  82401,     19,2,19910925,   0, 83.3500,   8.2900, 4077,    798.1,   0.0100,  34.9046,2,  34.9050,   2,    307.7,2,     7.11,2,    13.06,2,     0.87,2,    1.132,2,    0.585,2,    5.015,   2,   2162.8,2,   2297.8,2,     62.4,2,  -999.00,9,  -0.0243
  77DN19910726,Arctic,    50,  2,  82400,     18,2,19910925,   0, 83.3500,   8.2900, 4077,    900.7,  -0.1390,  34.9075,2,  34.9090,   2,    312.6,2,     7.28,2,    13.05,2,     0.87,2,    0.771,2,    0.429,2,    4.390,   2,   2160.6,2,   2294.3,2,     63.3,2,  -999.00,9,  -0.1774
  77DN19910726,Arctic,    50,  2,  82399,     17,2,19910925,   0, 83.3500,   8.2900, 4077,   1002.8,  -0.2410,  34.9104,2,  34.9130,   2,    309.6,2,     7.63,2,    13.21,2,     0.88,2,    0.624,2,    0.351,2,    4.010,   2,   2155.0,2,   2294.0,2,     64.5,2,  -999.00,9,  -0.2838
  77DN19910726,Arctic,    50,  2,  82398,     16,2,19910925,   0, 83.3500,   8.2900, 4077,   1201.5,  -0.4340,  34.9157,2,  34.9170,   2,    308.7,2,     8.37,2,    13.50,2,     0.90,2,    0.380,2,    0.205,2,    3.346,   2,   2152.9,2,   2293.1,2,     68.5,2,  -999.00,9,  -0.4856
  77DN19910726,Arctic,    50,  2,  82397,     15,2,19910925,   0, 83.3500,   8.2900, 4077,   1400.7,  -0.5500,  34.9197,2,  34.9220,   2,    305.7,2,     9.26,2,    13.96,2,     0.93,2,    0.254,2,    0.098,2,    2.527,   2,   2160.6,2,   2296.1,2,     60.0,2,  -999.00,9,  -0.6113
  77DN19910726,Arctic,    50,  2,  82396,     14,2,19910925,   0, 83.3500,   8.2900, 4077,   1501.4,  -0.5870,  34.9214,2,  34.9220,   2,    308.7,2,     9.63,2,    14.11,2,     0.94,2,    0.234,2,    0.098,2,    2.380,   2,   2160.0,2,   2294.9,2,     64.1,2,  -999.00,9,  -0.6536
  77DN19910726,Arctic,    50,  2,  82395,     13,2,19910925,   0, 83.3500,   8.2900, 4077,   1578.7,  -0.6130,  34.9222,2,  34.9230,   2,    307.7,2,     9.90,2,    14.20,2,     0.95,2,    0.059,2,    0.068,2,    2.205,   2,   2159.8,2,   2297.8,2,     62.0,2,  -999.00,9,  -0.6838
  77DN19910726,Arctic,    50,  2,  82394,     12,2,19910925,   0, 83.3500,   8.2900, 4077,   1680.1,  -0.6620,  34.9218,2,  34.9220,   2,    307.7,2,    10.13,2,    14.35,2,     0.95,2,    0.322,2,    0.098,2,    2.341,   2,   2162.0,2,   2297.8,2,     77.6,2,  -999.00,9,  -0.7381
  77DN19910726,Arctic,    50,  2,  82393,     11,2,19910925,   0, 83.3500,   8.2900, 4077,   1819.7,  -0.7140,  34.9219,2,  34.9220,   2,    305.7,2,    10.22,2,    14.44,2,     0.96,2,    0.000,2,    0.078,2,    2.049,   2,   2159.6,2,   2297.2,2,     61.0,2,  -999.00,9,  -0.7979
  77DN19910726,Arctic,    50,  2,  82392,     10,2,19910925,   0, 83.3500,   8.2900, 4077,   2099.5,  -0.7730,  34.9230,2,  34.9220,   2,    308.7,2,    10.53,2,    14.56,2,     0.97,2,    0.293,2,    0.059,2,    1.678,   2,   2155.6,2,   2299.3,2,     63.7,2,  -999.00,9,  -0.8740
  77DN19910726,Arctic,    50,  2,  82391,      9,2,19910925,   0, 83.3500,   8.2900, 4077,   2301.7,  -0.7890,  34.9243,2,  34.9240,   2,    306.7,2,    10.67,2,    14.60,2,     0.97,2,    0.000,2,    0.029,2,    1.327,   2,   2158.6,2,   2299.5,2,     63.4,2,  -999.00,9,  -0.9034
  77DN19910726,Arctic,    50,  2,  82390,      8,2,19910925,   0, 83.3500,   8.2900, 4077,   2500.2,  -0.7960,  34.9274,2,  34.9280,   2,    306.7,2,    10.82,2,    14.66,2,     0.98,2,    0.000,2,    0.029,2,    1.132,   2,   -999.0,9,   2292.2,2,     59.3,2,  -999.00,9,  -0.9244
  77DN19910726,Arctic,    50,  2,  82389,      7,2,19910925,   0, 83.3500,   8.2900, 4077,   2700.7,  -0.7870,  34.9302,2,  34.9290,   2,    305.7,2,    10.92,2,    14.74,2,     1.00,2,    0.000,2,    0.000,2,    0.907,   2,   2154.8,2,   2301.4,2,     60.8,2,  -999.00,9,  -0.9305
  77DN19910726,Arctic,    50,  2,  82388,      6,2,19910925,   0, 83.3500,   8.2900, 4077,   2901.6,  -0.7780,  34.9334,2,  34.9350,   2,    307.7,2,    11.01,2,    14.66,2,     0.98,2,    0.000,2,    0.029,2,    0.741,   2,   -999.0,9,   -999.0,9,     64.8,2,  -999.00,9,  -0.9373
  77DN19910726,Arctic,    50,  2,  82387,      5,2,19910925,   0, 83.3500,   8.2900, 4077,   3050.4,  -0.7650,  34.9357,2,  34.9370,   2,    309.6,2,    11.14,2,    14.66,2,     0.98,2,    0.000,2,    0.000,2,    0.937,   2,   2155.5,2,   2290.8,2,     83.8,2,  -999.00,9,  -0.9366
  77DN19910726,Arctic,    50,  2,  82386,      4,2,19910925,   0, 83.3500,   8.2900, 4077,   3200.8,  -0.7530,  34.9374,2,  34.9370,   2,    304.8,2,    11.19,2,    14.63,2,     0.98,2,    0.000,2,    0.000,2,    0.624,   2,   2157.3,2,   2291.0,2,     82.4,2,  -999.00,9,  -0.9373
  77DN19910726,Arctic,    50,  2,  82385,      3,2,19910925,   0, 83.3500,   8.2900, 4077,   3400.9,  -0.7370,  34.9393,2,  34.9390,   2,    302.8,2,    11.30,2,    14.69,2,     0.98,2,    0.000,2,    0.020,2,    0.517,   2,   2158.9,2,   2284.1,2,     60.1,2,  -999.00,9,  -0.9388
  77DN19910726,Arctic,    50,  2,  82384,      2,2,19910925,   0, 83.3500,   8.2900, 4077,   3597.6,  -0.7180,  34.9403,2,  34.9400,   2,    305.7,2,    11.35,2,    14.72,2,     0.98,2,    0.000,2,    0.000,2,    0.449,   2,   2160.1,2,   2291.6,2,     57.2,2,  -999.00,9,  -0.9377
  77DN19910726,Arctic,    50,  2,  82383,      1,2,19910925,   0, 83.3500,   8.2900, 4077,   3702.5,  -0.7060,  34.9408,2,  34.9420,   2,    300.9,2,    11.38,2,    14.72,2,     0.98,2,    0.000,2,    0.000,2,    0.400,   2,   2160.2,2,   2293.0,2,     62.2,2,  -999.00,9,  -0.9356
  77DN19910726,Arctic,    51,  2,  82442,     24,2,19910927,   0, 83.0600,  10.3500, 4020,     14.4,  -1.8110,  33.3096,2,  33.2890,   2,    368.1,2,     5.72,2,     4.79,2,     0.57,2,    6.556,2,    2.722,2,   11.259,   2,   2136.1,2,   2260.2,2,     99.6,2,  -999.00,9,  -1.8112
  77DN19910726,Arctic,    51,  4,  82454,     12,2,19910927,   0, 83.0600,  10.3500, 4020,     26.8,  -1.8160,  33.3989,2,  33.3110,   2,    366.1,2,     5.64,2,     4.89,2,     0.56,2,    6.741,2,    2.771,2,   11.005,   2,   2122.9,2,   2259.4,2,    100.7,2,    -1.68,2,  -1.8165
  77DN19910726,Arctic,    51,  4,  82453,     11,2,19910927,   0, 83.0600,  10.3500, 4020,     36.7,  -1.7830,  33.6166,2,  33.7200,   2,    357.4,2,     5.50,2,     5.76,2,     0.56,2,    5.873,2,    2.380,2,    8.000,   2,   2139.8,2,   2279.9,2,     97.2,2,    -1.44,2,  -1.7837
  77DN19910726,Arctic,    51,  4,  82452,     10,2,19910927,   0, 83.0600,  10.3500, 4020,     41.7,  -1.7910,  33.7271,2,  33.7690,   2,    358.3,2,     5.26,2,     5.78,2,     0.54,2,    5.385,2,    5.854,3,    7.766,   2,   2142.3,2,   2277.8,2,     93.0,2,    -1.43,2,  -1.7918
  77DN19910726,Arctic,    51,  4,  82451,      9,2,19910927,   0, 83.0600,  10.3500, 4020,     56.8,  -1.8250,  33.8732,2,  33.9050,   2,    358.3,2,     4.75,2,     5.95,2,     0.53,2,    5.180,2,    2.351,2,    7.902,   2,   2141.5,2,   2283.0,2,     94.6,2,    -1.28,2,  -1.8260
  77DN19910726,Arctic,    51,  4,  82450,      8,2,19910927,   0, 83.0600,  10.3500, 4020,     77.0,  -1.8150,  33.9664,2,  34.0100,   2,    353.5,2,     4.59,2,     6.45,2,     0.54,2,    5.054,2,    2.117,2,    7.737,   2,   2141.5,2,   2278.6,2,     83.1,2,    -1.10,2,  -1.8165
  77DN19910726,Arctic,    51,  4,  82449,      7,2,19910927,   0, 83.0600,  10.3500, 4020,    112.0,  -1.6120,  34.1863,2,  34.1430,   2,    336.9,2,     4.93,2,     7.96,2,     0.60,2,    4.907,2,    2.049,2,    7.502,   2,   2130.7,2,   2270.8,2,     78.7,2,    -0.55,2,  -1.6144
  77DN19910726,Arctic,    51,  4,  82448,      6,2,19910927,   0, 83.0600,  10.3500, 4020,    136.6,  -0.6110,  34.3401,2,  34.3830,   2,    320.4,2,     5.32,2,     9.72,2,     0.69,2,    3.883,2,    1.776,2,    7.922,   2,   2137.1,2,   2271.8,2,     71.6,2,  -999.00,9,  -0.6152
  77DN19910726,Arctic,    51,  4,  82447,      5,2,19910927,   0, 83.0600,  10.3500, 4020,    166.8,   0.3690,  34.5704,2,  34.5830,   2,    314.5,2,     5.66,2,    10.75,2,     0.74,2,    3.415,2,    1.620,2,    7.327,   2,   2140.6,2,   2291.9,2,     69.7,2,     0.09,2,   0.3624
  77DN19910726,Arctic,    51,  4,  82446,      4,2,19910927,   0, 83.0600,  10.3500, 4020,    201.8,   1.0990,  34.7173,2,  34.7390,   2,    307.7,2,     5.74,2,    11.67,2,     0.79,2,    4.420,2,    1.678,2,    7.327,   2,   2141.8,2,   2286.5,2,     98.1,2,     0.16,2,   1.0896
  77DN19910726,Arctic,    51,  4,  82445,      3,2,19910927,   0, 83.0600,  10.3500, 4020,    251.8,   1.3980,  34.8600,2,  34.8690,   2,    308.7,2,     5.79,2,    12.46,2,     0.83,2,    3.102,2,    1.454,2,    7.668,   2,   2142.2,2,   2310.2,2,     62.2,2,     0.20,2,   1.3855
  77DN19910726,Arctic,    51,  4,  82444,      2,2,19910927,   0, 83.0600,  10.3500, 4020,    281.9,   1.1870,  34.8593,2,  34.8620,   2,    308.7,2,     5.84,2,    12.46,2,     0.84,2,    2.868,2,    1.532,2,    7.483,   2,   2142.0,2,   2300.6,2,     59.9,2,     0.20,2,   1.1735
  77DN19910726,Arctic,    51,  4,  82443,      1,2,19910927,   0, 83.0600,  10.3500, 4020,    332.0,   1.2480,  34.9042,2,  34.9020,   2,    305.7,2,     5.97,2,    12.77,2,     0.85,2,    2.459,2,    1.259,2,    7.376,   2,   2143.1,2,   2302.8,2,     62.8,2,     0.24,2,   1.2317
  77DN19910726,Arctic,    51,  2,  82441,     23,2,19910927,   0, 83.0600,  10.3500, 4020,    449.8,   0.9080,  34.9102,2,  34.9080,   2,    304.8,2,     6.29,2,    12.98,2,     0.87,2,    2.059,2,    1.034,2,    6.341,   2,   2148.3,2,   2303.0,2,     57.0,2,  -999.00,9,   0.8867
  77DN19910726,Arctic,    51,  2,  82440,     22,2,19910927,   0, 83.0600,  10.3500, 4020,    609.5,   0.4960,  34.9125,2,  34.9100,   2,    306.7,2,     6.59,2,    13.08,2,     0.87,2,    1.434,2,    0.946,2,    5.863,   2,   2149.3,2,   2297.1,2,     54.4,2,  -999.00,9,   0.4684
  77DN19910726,Arctic,    51,  2,  82439,     21,2,19910927,   0, 83.0600,  10.3500, 4020,    779.3,   0.0170,  34.9043,2,  34.9010,   2,    307.7,2,     6.91,2,    13.07,2,     0.90,2,    1.034,2,    0.829,2,    5.766,   2,   2155.5,2,   2295.9,2,     56.6,2,  -999.00,9,  -0.0164
  77DN19910726,Arctic,    51,  2,  82438,     20,2,19910927,   0, 83.0600,  10.3500, 4020,    849.6,  -0.1030,  34.9050,2,  34.9050,   2,    308.7,2,     7.12,2,    13.17,2,     0.88,2,    0.829,2,    0.693,2,    5.571,   2,   2157.9,2,   2300.2,2,     59.5,2,  -999.00,9,  -0.1391
  77DN19910726,Arctic,    51,  2,  82437,     19,2,19910927,   0, 83.0600,  10.3500, 4020,    900.7,  -0.1700,  34.9086,2,  34.9080,   2,    306.7,2,     7.29,2,    13.23,2,     0.87,2,    0.702,2,    0.927,3,    5.044,   2,   2157.9,2,   2299.6,2,     54.9,2,  -999.00,9,  -0.2082
  77DN19910726,Arctic,    51,  2,  82436,     18,2,19910927,   0, 83.0600,  10.3500, 4020,   1016.7,  -0.2750,  34.9130,2,  34.9150,   2,    307.7,2,     7.69,2,    13.49,2,     0.89,2,    1.102,2,    0.605,2,    4.537,   2,   2158.1,2,   2292.1,2,     56.0,2,  -999.00,9,  -0.3183
  77DN19910726,Arctic,    51,  2,  82435,     17,2,19910927,   0, 83.0600,  10.3500, 4020,   1197.8,  -0.4270,  34.9162,2,  34.9190,   2,    306.7,2,     8.46,2,    13.82,2,     0.91,2,    0.741,2,    0.420,2,    3.785,   2,   -999.0,9,   2291.7,2,     54.3,2,  -999.00,9,  -0.4784
  77DN19910726,Arctic,    51,  2,  82434,     16,2,19910927,   0, 83.0600,  10.3500, 4020,   1400.1,  -0.5430,  34.9204,2,  34.9210,   2,    306.7,2,     9.15,2,    14.13,2,     0.93,2,    0.215,2,    0.400,2,    3.366,   2,   2154.6,2,   2295.4,2,     56.1,2,  -999.00,9,  -0.6043
  77DN19910726,Arctic,    51,  2,  82433,     15,2,19910927,   0, 83.0600,  10.3500, 4020,   1500.4,  -0.5920,  34.9221,2,  34.9230,   2,    306.7,2,     9.62,2,    14.31,2,     0.94,2,    0.020,2,    0.341,2,    2.937,   2,   2153.1,2,   2297.0,2,     54.8,2,  -999.00,9,  -0.6585
  77DN19910726,Arctic,    51,  2,  82432,     14,2,19910927,   0, 83.0600,  10.3500, 4020,   1620.0,  -0.6180,  34.9254,2,  34.9250,   2,    306.7,2,    10.02,2,    14.45,2,     0.95,2,    0.000,2,    0.322,2,    2.556,   2,   2156.6,2,   2290.8,2,     55.0,2,  -999.00,9,  -0.6911
  77DN19910726,Arctic,    51,  2,  82431,     13,2,19910927,   0, 83.0600,  10.3500, 4020,   1747.6,  -0.6800,  34.9243,2,  34.9240,   2,    310.6,2,    10.15,2,    14.60,2,     0.96,2,    0.000,2,    0.361,2,    2.137,   2,   2154.8,2,   2291.4,2,    123.9,2,  -999.00,9,  -0.7600
  77DN19910726,Arctic,    51,  2,  82430,     12,2,19910927,   0, 83.0600,  10.3500, 4020,   1900.0,  -0.7250,  34.9233,2,  34.9240,   2,   -999.0,9,    10.27,2,    14.67,2,     0.96,2,    0.195,2,    0.371,2,    2.107,   2,   -999.0,9,   2296.2,2,     56.0,2,  -999.00,9,  -0.8138
  77DN19910726,Arctic,    51,  2,  82429,     11,2,19910927,   0, 83.0600,  10.3500, 4020,   2098.9,  -0.7690,  34.9246,2,  34.9250,   2,    304.8,2,    10.53,2,    14.80,2,     0.97,2,    0.224,2,    0.341,2,    1.727,   2,   2160.0,2,   2301.7,2,     54.2,2,  -999.00,9,  -0.8700
  77DN19910726,Arctic,    51,  2,  82428,     10,2,19910927,   0, 83.0600,  10.3500, 4020,   2301.1,  -0.7900,  34.9271,2,  34.9280,   2,    307.7,2,    10.67,2,    14.81,2,     0.97,2,    0.000,2,    0.302,2,    1.561,   2,   2160.1,2,   2294.7,2,     54.6,2,  -999.00,9,  -0.9044
  77DN19910726,Arctic,    51,  2,  82427,      9,2,19910927,   0, 83.0600,  10.3500, 4020,   2499.4,  -0.7960,  34.9300,2,  34.9300,   2,    304.8,2,    10.82,2,    14.87,2,     0.97,2,    0.000,2,    0.293,2,    1.268,   2,   2159.9,2,   -999.0,9,     53.9,2,  -999.00,9,  -0.9244
  77DN19910726,Arctic,    51,  2,  82426,      8,2,19910927,   0, 83.0600,  10.3500, 4020,   2703.5,  -0.7910,  34.9330,2,  34.9340,   2,    306.7,2,    10.97,2,    14.91,2,     0.97,2,    0.000,2,    0.273,2,    1.024,   2,   2160.4,2,   2299.3,2,     57.9,2,  -999.00,9,  -0.9347
  77DN19910726,Arctic,    51,  2,  82425,      7,2,19910927,   0, 83.0600,  10.3500, 4020,   2900.3,  -0.7810,  34.9356,2,  34.9360,   2,    308.7,2,    11.07,2,    14.89,2,     0.97,2,    0.000,2,    0.283,2,    0.956,   2,   2157.7,2,   2303.3,2,     54.8,2,  -999.00,9,  -0.9401
  77DN19910726,Arctic,    51,  2,  82424,      6,2,19910927,   0, 83.0600,  10.3500, 4020,   3099.3,  -0.7630,  34.9380,2,  34.9380,   2,    306.7,2,    11.18,2,    14.87,2,     0.98,2,    0.117,2,    0.302,2,    0.790,   2,   2157.2,2,   2299.5,2,     56.0,2,  -999.00,9,  -0.9386
  77DN19910726,Arctic,    51,  2,  82423,      5,2,19910927,   0, 83.0600,  10.3500, 4020,   3299.8,  -0.7460,  34.9393,2,  34.9390,   2,    305.7,2,    11.28,2,    14.92,2,     0.97,2,    0.039,2,    0.244,2,    0.849,   2,   2155.3,2,   2301.3,2,     56.3,2,  -999.00,9,  -0.9389
  77DN19910726,Arctic,    51,  2,  82422,      4,2,19910927,   0, 83.0600,  10.3500, 4020,   3499.8,  -0.7270,  34.9409,2,  34.9410,   2,    302.8,2,    11.35,2,    14.95,2,     0.97,2,    0.000,2,    0.254,2,    0.654,   2,   2155.2,2,   2302.8,2,     55.1,2,  -999.00,9,  -0.9378
  77DN19910726,Arctic,    51,  2,  82421,      3,2,19910927,   0, 83.0600,  10.3500, 4020,   3650.2,  -0.7100,  34.9416,2,  34.9410,   2,    304.8,2,    11.40,2,    15.00,2,     0.97,2,    0.000,2,    0.254,2,    0.537,   2,   2152.4,2,   2304.2,2,     56.5,2,  -999.00,9,  -0.9347
  77DN19910726,Arctic,    51,  2,  82420,      2,2,19910927,   0, 83.0600,  10.3500, 4020,   3800.3,  -0.6960,  34.9427,2,  34.9420,   2,    303.8,2,    11.40,2,    15.00,2,     0.98,2,    0.000,2,    0.273,2,    0.478,   2,   2154.8,2,   2302.5,2,     55.4,2,  -999.00,9,  -0.9349
  77DN19910726,Arctic,    51,  2,  82419,      1,2,19910927,   0, 83.0600,  10.3500, 4020,   3923.2,  -0.6840,  34.9423,2,  34.9430,   2,    306.7,2,    11.38,2,    14.98,2,     0.97,2,    0.000,2,    0.283,2,    0.322,   2,   2152.8,2,   2300.4,2,     51.9,2,  -999.00,9,  -0.9349
  77DN19910726,Arctic,    52,  2,  82478,     24,2,19910928,   0, 82.8400,  11.5700, 3121,     17.6,  -1.8150,  33.2767,2,  33.3470,   2,    367.1,2,     5.58,2,     5.13,2,     0.53,2,    6.468,2,    2.624,2,   12.537,   2,   2133.9,2,   2246.0,2,     89.9,2,  -999.00,9,  -1.8153