BOTTLE,20140714SIOCCHRJL
EXPOCODE,SECT_ID,STNNBR,CASTNO,SAMPNO,BTLNBR,BTLNBR_FLAG_W,DATE,TIME,LATITUDE,LONGITUDE,DEPTH,CTDPRS,CTDTMP,CTDSAL,CTDSAL_FLAG_W,SALNTY,SALNTY_FLAG_W,OXYGEN,OXYGEN_FLAG_W,SILCAT,SILCAT_FLAG_W,NITRAT,NITRAT_FLAG_W,PHSPHT,PHSPHT_FLAG_W,CFC-11,CFC-11_FLAG_W,CFC-12,CFC-12_FLAG_W,CCL4,CCL4_FLAG_W,TCARBN,TCARBN_FLAG_W,ALKALI,ALKALI_FLAG_W,DOC,DOC_FLAG_W,DELO18,DELO18_FLAG_W,THETA
,,,,,,,,,,,METERS,DBAR,ITS-90,PSS-78,,PSS-78,,UMOL/KG,,UMOL/KG,,UMOL/KG,,UMOL/KG,,PMOL/KG,,PMOL/KG,,PMOL/KG,,UMOL/KG,,UMOL/KG,,UMOL/KG,,/MILLE,,DEG C
  77DN19910726,Arctic,    18,  3,  81417,      7,2,19910831,   0, 88.1800,  99.1300, 4403,    125.0,  -1.2520,  34.2896,2,  34.2670,   2,    314.4,2,     5.05,2,     8.92,2,     0.67,2,    4.810,2,    1.824,2,    7.171,   2,   2147.3,2,   2270.0,2,     75.4,2,    -0.17,2,  -1.2551
  77DN19910726,Arctic,    18,  3,  81394,      6,2,19910831,   0, 88.1800,  99.1300, 4403,    150.0,  -0.9340,  34.4352,2,  34.9330,   3,    302.6,2,     5.08,3,     9.60,3,     0.98,3,    0.156,3,    0.000,3,    1.063,   3,   2155.6,2,   2298.5,2,     69.0,2,  -999.00,9,  -0.9384
  77DN19910726,Arctic,    18,  3,  81416,      5,2,19910831,   0, 88.1800,  99.1300, 4403,    200.2,  -0.7440,  34.6781,2,  34.4320,   2,    310.5,2,     5.35,2,    10.97,2,     0.69,2,    5.044,2,    1.776,2,    7.551,   2,   2144.6,2,   2270.6,2,     70.6,2,     0.14,2,  -0.7501
  77DN19910726,Arctic,    18,  3,  81415,      4,2,19910831,   0, 88.1800,  99.1300, 4403,    249.8,   0.1850,  34.8252,2,  34.6680,   2,    309.4,2,     5.51,2,    12.03,2,     0.76,2,   11.288,3,    1.571,2,    7.883,   2,   2148.4,2,   2278.4,2,     66.6,2,  -999.00,9,   0.1753
  77DN19910726,Arctic,    18,  3,  81414,      3,2,19910831,   0, 88.1800,  99.1300, 4403,    300.6,   0.7710,  34.8567,2,  34.8270,   2,    305.4,2,     5.57,2,    12.28,2,     0.81,2,    4.039,2,    1.922,2,    8.429,   2,   2146.2,2,   2290.7,2,     71.2,2,     0.22,2,   0.7576
  77DN19910726,Arctic,    18,  3,  81393,      2,2,19910831,   0, 88.1800,  99.1300, 4403,    400.6,  -0.9370,  34.8842,2,  34.9360,   2,    301.5,2,     5.89,3,    12.48,3,     0.97,3,    0.020,3,    0.010,3,    0.878,   3,   2151.8,2,   2302.9,2,     75.2,2,  -999.00,9,  -0.9496
  77DN19910726,Arctic,    18,  2,  81413,     22,2,19910831,   0, 88.1800,  99.1300, 4403,    498.9,   0.9340,  34.8839,2,  34.8630,   2,    308.4,2,     6.03,2,    12.54,2,     0.82,2,    4.605,2,    1.668,2,    9.044,   2,   2145.6,2,   2284.8,2,     74.3,2,  -999.00,9,   0.9101
  77DN19910726,Arctic,    18,  3,  81412,      1,2,19910831,   0, 88.1800,  99.1300, 4403,    500.0,   0.7610,  34.8843,2,  34.8860,   2,   -999.0,9,     6.06,2,    12.50,2,     0.85,2,    3.444,2,    1.346,2,    8.185,   2,   2148.5,2,   2287.3,2,     69.8,2,     0.25,2,   0.7378
  77DN19910726,Arctic,    18,  2,  81392,     21,2,19910831,   0, 88.1800,  99.1300, 4403,    600.0,  -0.9340,  34.8819,2,  34.9380,   2,    299.5,2,     6.24,3,    12.65,3,     0.97,3,    0.244,3,    0.000,3,    0.878,   3,   -999.0,9,   -999.0,9,     70.4,2,  -999.00,9,  -0.9540
  77DN19910726,Arctic,    18,  2,  81408,     20,2,19910831,   0, 88.1800,  99.1300, 4403,    800.9,   0.4870,  34.8883,2,  34.8820,   2,    308.0,2,     6.66,2,    12.78,2,     0.84,2,    3.327,2,    1.298,2,    7.912,   2,   2144.6,2,   2295.6,2,     74.9,2,  -999.00,9,   0.4495
  77DN19910726,Arctic,    18,  2,  81411,     19,2,19910831,   0, 88.1800,  99.1300, 4403,   1000.2,   0.4780,  34.8972,2,  34.8800,   2,    306.1,2,     7.21,2,    13.05,2,     0.84,2,    3.141,2,    1.200,2,    7.854,   2,   2151.4,2,   2284.8,2,     73.2,2,  -999.00,9,   0.4295
  77DN19910726,Arctic,    18,  2,  81407,     18,2,19910831,   0, 88.1800,  99.1300, 4403,   1199.1,   0.2020,  34.9099,2,  34.8830,   2,    308.3,2,     7.89,2,    13.30,2,     0.83,2,    3.766,2,    1.346,2,    8.205,   2,   2149.9,2,   2287.2,2,     72.4,2,  -999.00,9,   0.1445
  77DN19910726,Arctic,    18,  2,  81391,     17,2,19910831,   0, 88.1800,  99.1300, 4403,   1399.4,  -0.9260,  34.9165,2,  34.9410,   2,    302.3,2,     8.67,3,    13.68,3,     0.97,3,    0.000,3,    0.800,2,    1.200,   3,   2154.6,2,   2304.8,2,     73.4,2,  -999.00,9,  -0.9830
  77DN19910726,Arctic,    18,  2,  81406,     16,2,19910831,   0, 88.1800,  99.1300, 4403,   1600.6,  -0.1380,  34.9206,2,  34.8900,   2,   -999.0,9,     9.57,2,    14.14,2,     0.86,2,    3.151,3,    1.190,2,    7.824,   2,   2157.7,2,   2291.7,2,     75.2,2,  -999.00,9,  -0.2160
  77DN19910726,Arctic,    18,  2,  81405,     15,2,19910831,   0, 88.1800,  99.1300, 4403,   1700.1,  -0.3150,  34.9229,2,  34.8980,   2,   -999.0,9,     9.87,2,    14.28,2,     0.89,2,    3.015,3,    1.141,2,    7.639,   2,   2164.0,2,   2289.6,2,     72.6,2,  -999.00,9,  -0.3970
  77DN19910726,Arctic,    18,  2,  81390,     14,2,19910831,   0, 88.1800,  99.1300, 4403,   1799.3,  -0.9050,  34.9221,2,  34.9420,   2,   -999.0,9,    10.04,3,    14.38,3,     0.99,3,    1.737,2,    0.000,3,    1.463,   3,   -999.0,9,   -999.0,9,     64.1,2,  -999.00,9,  -0.9850
  77DN19910726,Arctic,    18,  2,  81404,     13,2,19910831,   0, 88.1800,  99.1300, 4403,   2000.6,  -0.4220,  34.9224,2,  34.9100,   2,    304.9,2,    10.11,2,    14.51,2,     0.90,2,    1.941,2,    0.771,2,    5.844,   2,   2147.8,2,   2292.5,2,     74.8,2,  -999.00,9,  -0.5220
  77DN19910726,Arctic,    18,  2,  81403,     12,2,19910831,   0, 88.1800,  99.1300, 4403,   2198.8,  -0.5120,  34.9237,2,  34.9160,   2,    304.2,2,    10.37,2,    14.63,2,     0.92,2,    1.571,2,    2.771,3,    4.371,   2,   2146.8,2,   2299.9,2,     70.4,2,  -999.00,9,  -0.6241
  77DN19910726,Arctic,    18,  2,  81389,     11,2,19910831,   0, 88.1800,  99.1300, 4403,   2398.9,  -0.8890,  34.9263,2,  34.9420,   2,    300.5,2,    10.47,3,    14.66,2,     0.98,2,    0.000,2,    0.000,2,    0.839,   2,   2157.1,2,   2305.2,2,     62.8,2,  -999.00,9,  -1.0085
  77DN19910726,Arctic,    18,  2,  81402,     10,2,19910831,   0, 88.1800,  99.1300, 4403,   2589.7,  -0.5850,  34.9283,2,  34.9230,   2,   -999.0,9,    10.65,2,    14.72,2,     0.95,2,    0.761,2,    0.195,2,    3.298,   2,   2148.1,2,   2300.0,2,     64.1,2,  -999.00,9,  -0.7242
  77DN19910726,Arctic,    18,  2,  81401,      9,2,19910831,   0, 88.1800,  99.1300, 4403,   2798.1,  -0.6110,  34.9304,2,  34.9230,   2,    302.3,2,    10.75,2,    14.77,2,     0.96,2,    1.171,2,    0.000,2,    3.024,   2,   2145.4,2,   2292.4,2,     67.8,2,  -999.00,9,  -0.7657
  77DN19910726,Arctic,    18,  2,  81400,      8,2,19910831,   0, 88.1800,  99.1300, 4403,   3000.8,  -0.6440,  34.9325,2,  34.9250,   2,    302.4,2,    10.79,2,    14.80,2,     0.96,2,    0.673,2,    0.146,2,    2.576,   2,   2136.8,2,   2293.4,2,     64.7,2,  -999.00,9,  -0.8142
  77DN19910726,Arctic,    18,  2,  81388,      7,2,19910831,   0, 88.1800,  99.1300, 4403,   3247.7,  -0.8590,  34.9352,2,  34.9430,   2,    298.1,2,    10.91,3,    14.71,2,     0.97,2,    0.049,2,    0.000,2,    0.995,   2,   -999.0,9,   -999.0,9,     67.6,2,  -999.00,9,  -1.0447
  77DN19910726,Arctic,    18,  2,  81399,      6,2,19910831,   0, 88.1800,  99.1300, 4403,   3498.9,  -0.7070,  34.9381,2,  34.9220,   2,    303.4,2,    10.97,2,    14.80,2,     0.97,2,    0.488,2,    0.078,2,    2.410,   2,   2144.2,2,   2290.4,2,     64.2,2,  -999.00,9,  -0.9181
  77DN19910726,Arctic,    18,  2,  81398,      5,2,19910831,   0, 88.1800,  99.1300, 4403,   3749.9,  -0.7490,  34.9403,2,  34.9240,   2,   -999.0,9,    10.93,2,    14.73,2,     0.97,2,    0.156,2,    0.000,2,    2.166,   2,   2149.6,2,   2292.4,2,     70.9,2,  -999.00,9,  -0.9817
  77DN19910726,Arctic,    18,  2,  81397,      4,2,19910831,   0, 88.1800,  99.1300, 4403,   3999.9,  -0.7680,  34.9419,2,  34.9260,   2,    301.9,2,    10.99,2,    14.67,2,     0.97,2,    0.234,2,    3.561,4,    1.688,   2,   -999.0,9,   -999.0,9,     71.2,2,  -999.00,9,  -1.0236
  77DN19910726,Arctic,    18,  2,  81396,      3,2,19910831,   0, 88.1800,  99.1300, 4403,   4090.9,  -0.7780,  34.9424,2,  34.9290,   2,   -999.0,9,    10.96,2,    14.66,2,     0.97,2,    0.166,2,    0.020,2,    1.395,   2,   2154.2,2,   2293.8,2,     67.1,2,  -999.00,9,  -1.0421
  77DN19910726,Arctic,    18,  2,  81395,      2,2,19910831,   0, 88.1800,  99.1300, 4403,   4315.9,  -0.7770,  34.9421,2,  34.9360,   2,    302.4,2,    11.01,2,    14.62,2,     0.98,2,    0.000,2,    0.293,3,    1.122,   2,   2160.2,2,   -999.0,9,     68.0,2,  -999.00,9,  -1.0634
  77DN19910726,Arctic,    18,  2,  81387,      1,2,19910831,   0, 88.1800,  99.1300, 4403,   4414.8,  -0.7870,  34.9417,2,  34.9440,   2,    299.8,2,    11.00,2,    14.69,2,     0.97,2,    0.000,2,    0.039,2,    0.771,   2,   2157.2,2,   2293.0,2,   -999.0,9,  -999.00,9,  -1.0831
  77DN19910726,Arctic,    19,  2,  81446,     24,2,19910901,   0, 88.2500, 118.4997, 4112,     13.5,  -1.7340,  32.6712,2,  32.6300,   2,    370.1,2,     4.88,2,     3.66,2,     0.44,2,    7.971,2,    3.249,2,   13.981,   2,   2117.4,2,   2248.1,2,    102.7,2,  -999.00,9,  -1.7342
  77DN19910726,Arctic,    19,  4,  81458,     12,2,19910901,   0, 88.2500, 118.4997, 4112,     25.0,  -1.7430,  32.8107,2,  32.6250,   2,    370.3,2,     5.05,2,     3.73,2,     0.44,2, -999.000,9, -999.000,9, -999.000,   9,   2118.1,2,   2248.2,2,    112.2,2,  -999.00,9,  -1.7434
  77DN19910726,Arctic,    19,  4,  81457,     11,2,19910901,   0, 88.2500, 118.4997, 4112,     35.0,  -1.7380,  33.1110,2,  33.1090,   2,    369.1,2,     4.34,2,     4.18,2,     0.43,2,    7.600,2,    2.771,2,   10.468,   2,   2138.7,2,   2267.0,2,    106.9,2,  -999.00,9,  -1.7386
  77DN19910726,Arctic,    19,  4,  81456,     10,2,19910901,   0, 88.2500, 118.4997, 4112,     50.0,  -1.8000,  33.3415,2,  33.3130,   2,    366.3,2,     4.31,2,     4.50,2,     0.43,2, -999.000,9, -999.000,9, -999.000,   9,   2149.8,2,   2277.4,2,    122.8,2,  -999.00,9,  -1.8009
  77DN19910726,Arctic,    19,  4,  81455,      9,2,19910901,   0, 88.2500, 118.4997, 4112,     75.0,  -1.7690,  33.7286,2,  33.7330,   2,    338.3,2,     4.67,2,     6.81,2,     0.55,2,    7.278,2,    2.741,2,    8.898,   2,   2144.9,2,   2278.1,2,     96.9,2,  -999.00,9,  -1.7704
  77DN19910726,Arctic,    19,  4,  81454,      8,2,19910901,   0, 88.2500, 118.4997, 4112,    100.0,  -1.6660,  34.0701,2,  34.0930,   2,    326.5,2,     4.34,2,     7.96,2,     0.60,2,    6.254,2,    2.507,2,    8.380,   2,   2140.9,2,   2280.6,2,     75.7,2,  -999.00,9,  -1.6681
  77DN19910726,Arctic,    19,  2,  81445,     23,2,19910901,   0, 88.2500, 118.4997, 4112,    120.0,  -1.4370,  34.2278,2,  34.2150,   2,    320.5,2,     4.59,2,     8.45,2,     0.63,2,    6.302,2,    2.341,2,    8.498,   2,   2139.1,2,   2280.0,2,     68.6,2,  -999.00,9,  -1.4398
  77DN19910726,Arctic,    19,  4,  81453,      7,2,19910901,   0, 88.2500, 118.4997, 4112,    125.0,  -1.2320,  34.2609,2,  34.3050,   2,    318.6,2,     4.62,2,     8.87,2,     0.65,2,    5.961,2,    2.049,2,    7.912,   2,   2139.6,2,   2280.7,2,     81.0,2,  -999.00,9,  -1.2351
  77DN19910726,Arctic,    19,  4,  81452,      6,2,19910901,   0, 88.2500, 118.4997, 4112,    150.0,  -0.6730,  34.4159,2,  34.4560,   2,    308.7,2,     4.74,2,     9.58,2,     0.67,2,    4.741,2,    6.420,3,    7.766,   2,   2147.9,2,   2296.0,2,     73.0,2,  -999.00,9,  -0.6776
  77DN19910726,Arctic,    19,  4,  81451,      5,2,19910901,   0, 88.2500, 118.4997, 4112,    200.0,   0.4210,  34.6985,2,  34.7160,   2,    308.1,2,     5.14,2,    11.23,2,     0.76,2,    4.615,2,    1.883,2,    8.507,   2,   2147.9,2,   2296.1,2,     97.7,2,  -999.00,9,   0.4129
  77DN19910726,Arctic,    19,  4,  81450,      4,2,19910901,   0, 88.2500, 118.4997, 4112,    246.0,   0.8750,  34.8320,2,  34.8350,   2,    305.7,2,     5.37,2,    12.05,2,     0.80,2,    4.498,2,    1.902,2,    8.566,   2,   2151.5,2,   2300.3,2,    106.8,2,  -999.00,9,   0.8639
  77DN19910726,Arctic,    19,  4,  81449,      3,2,19910901,   0, 88.2500, 118.4997, 4112,    301.0,   0.9180,  34.8592,2,  34.8550,   2,    307.9,2,     5.47,2,    12.19,2,     0.81,2,    4.351,2,    1.776,2,    8.449,   2,   2150.3,2,   -999.0,9,     99.2,2,  -999.00,9,   0.9042
  77DN19910726,Arctic,    19,  4,  81448,      2,2,19910901,   0, 88.2500, 118.4997, 4112,    351.0,   0.9590,  34.8760,2,  34.8790,   2,    307.3,2,     5.62,2,    12.37,2,     0.82,2, -999.000,9, -999.000,9, -999.000,   9,   2149.1,2,   -999.0,9,     89.2,2,  -999.00,9,   0.9426
  77DN19910726,Arctic,    19,  4,  81447,      1,2,19910901,   0, 88.2500, 118.4997, 4112,    401.0,   0.8320,  34.8839,2,  34.8900,   2,    308.6,2,     5.70,2,    12.43,2,     0.82,2,    3.912,2,    1.463,2,    8.459,   2,   2153.7,2,   2295.2,2,     91.8,2,  -999.00,9,   0.8135
  77DN19910726,Arctic,    19,  2,  81444,     22,2,19910901,   0, 88.2500, 118.4997, 4112,    501.5,   0.5700,  34.8845,2,  34.8860,   2,    307.5,2,     5.91,2,    12.41,2,     0.83,2,    3.405,2,    1.424,2,    8.195,   2,   2155.5,2,   2307.0,2,     56.4,2,  -999.00,9,   0.5475
  77DN19910726,Arctic,    19,  2,  81443,     21,2,19910901,   0, 88.2500, 118.4997, 4112,    600.2,   0.2630,  34.8837,2,  34.8880,   2,    311.3,2,     6.12,2,    12.59,2,     0.85,2,    3.649,2,    1.629,2,    8.283,   2,   2157.7,2,   2311.8,2,     61.6,2,  -999.00,9,   0.2370
  77DN19910726,Arctic,    19,  2,  81442,     20,2,19910901,   0, 88.2500, 118.4997, 4112,    700.8,   0.0380,  34.8825,2,  34.8840,   2,    310.5,2,     6.31,2,    12.63,2,     0.86,2,    3.727,2,    1.620,2,    8.429,   2,   2161.3,2,   2304.5,2,     58.0,2,  -999.00,9,   0.0084
  77DN19910726,Arctic,    19,  2,  81441,     19,2,19910901,   0, 88.2500, 118.4997, 4112,    800.0,  -0.1300,  34.8861,2,  34.8880,   2,    309.4,2,     6.60,2,    12.73,2,     0.86,2,    3.444,2,    1.512,2,    8.263,   2,   2156.7,2,   2294.7,2,     61.3,2,  -999.00,9,  -0.1634
  77DN19910726,Arctic,    19,  2,  81440,     18,2,19910901,   0, 88.2500, 118.4997, 4112,    898.6,  -0.2280,  34.8911,2,  34.8920,   2,    309.4,2,     6.85,2,    12.85,2,     0.87,2,    3.873,2,    1.580,2,    8.761,   2,   2160.1,2,   2295.9,2,     57.8,2,  -999.00,9,  -0.2656
  77DN19910726,Arctic,    19,  2,  81439,     17,2,19910901,   0, 88.2500, 118.4997, 4112,    998.9,  -0.3070,  34.8961,2,  34.8980,   2,    308.5,2,     7.25,2,    13.12,2,     0.89,2,    3.707,2,    1.298,2,    7.854,   2,   2148.6,2,   2295.3,2,    114.3,2,  -999.00,9,  -0.3491
  77DN19910726,Arctic,    19,  2,  81438,     16,2,19910901,   0, 88.2500, 118.4997, 4112,   1100.9,  -0.3630,  34.9024,2,  34.9010,   2,    311.6,2,     7.49,2,    13.19,2,     0.89,2,    2.849,2,    1.229,2,    7.210,   2,   -999.0,9,   2296.1,2,     56.8,2,  -999.00,9,  -0.4099
  77DN19910726,Arctic,    19,  2,  81437,     15,2,19910901,   0, 88.2500, 118.4997, 4112,   1199.7,  -0.4220,  34.9077,2,  34.9070,   2,    308.1,2,     7.87,2,    13.41,2,     0.91,2,    2.341,2,    8.380,4,    6.429,   2,   2145.5,2,   2292.9,2,     54.1,2,  -999.00,9,  -0.4736
  77DN19910726,Arctic,    19,  2,  81436,     14,2,19910901,   0, 88.2500, 118.4997, 4112,   1301.8,  -0.4820,  34.9105,2,  34.9110,   2,    307.4,2,     8.18,2,    13.60,2,     0.93,2,    1.961,2,    0.966,2,    5.863,   2,   2147.8,2,   2297.2,2,     59.4,2,  -999.00,9,  -0.5385
  77DN19910726,Arctic,    19,  2,  81435,     13,2,19910901,   0, 88.2500, 118.4997, 4112,   1499.1,  -0.5760,  34.9149,2,  34.9150,   2,    304.7,2,     8.94,2,    14.03,2,     0.96,2,    1.395,2,    0.722,2,    4.780,   2,   2147.8,2,   2300.3,2,     53.5,2,  -999.00,9,  -0.6426
  77DN19910726,Arctic,    19,  2,  81434,     12,2,19910901,   0, 88.2500, 118.4997, 4112,   1686.3,  -0.6530,  34.9172,2,  34.9180,   2,    303.7,2,     9.68,2,    14.11,2,     0.97,2,    1.873,2,    0.000,2,    4.137,   2,   -999.0,9,   2296.3,2,     61.1,2,  -999.00,9,  -0.7296
  77DN19910726,Arctic,    19,  2,  81433,     11,2,19910901,   0, 88.2500, 118.4997, 4112,   1889.0,  -0.7070,  34.9201,2,  34.9200,   2,    302.2,2,    10.19,2,    14.45,2,     0.97,2,    1.932,2,    0.117,2,    2.946,   2,   2155.3,2,   2297.8,2,     70.7,2,  -999.00,9,  -0.7954
  77DN19910726,Arctic,    19,  2,  81432,     10,2,19910901,   0, 88.2500, 118.4997, 4112,   2099.8,  -0.7470,  34.9215,2,  34.9220,   2,    302.5,2,    10.47,2,    14.59,2,     0.97,2,    0.263,2,    0.302,2,    1.941,   2,   2151.4,2,   2295.6,2,     51.8,2,  -999.00,9,  -0.8484
  77DN19910726,Arctic,    19,  2,  81431,      9,2,19910901,   0, 88.2500, 118.4997, 4112,   2299.5,  -0.7710,  34.9239,2,  34.9250,   2,    302.1,2,    10.64,2,    14.72,2,     0.98,2,    0.420,2,    0.000,2,    1.766,   2,   2153.3,2,   2293.6,2,     51.7,2,  -999.00,9,  -0.8856
  77DN19910726,Arctic,    19,  2,  81430,      8,2,19910901,   0, 88.2500, 118.4997, 4112,   2497.3,  -0.7820,  34.9263,2,  34.9270,   2,    302.5,2,    10.77,2,    14.73,2,     0.98,2,    0.127,2,    0.000,2,    1.385,   2,   2147.9,2,   2296.9,2,     38.4,2,  -999.00,9,  -0.9105
  77DN19910726,Arctic,    19,  2,  81429,      7,2,19910901,   0, 88.2500, 118.4997, 4112,   2700.8,  -0.7800,  34.9297,2,  34.9300,   2,    302.1,2,    10.87,2,    14.69,2,     0.98,2,    0.000,2,    0.000,2,    1.083,   2,   2145.7,2,   2290.8,2,     51.5,2,  -999.00,9,  -0.9237
  77DN19910726,Arctic,    19,  2,  81428,      6,2,19910901,   0, 88.2500, 118.4997, 4112,   2897.5,  -0.7770,  34.9324,2,  34.9330,   2,    303.1,2,    10.87,2,    14.70,2,     0.99,2,    0.088,2,    0.000,2,    1.180,   2,   2148.4,2,   2290.2,2,     91.7,2,  -999.00,9,  -0.9360
  77DN19910726,Arctic,    19,  2,  81427,      5,2,19910901,   0, 88.2500, 118.4997, 4112,   3099.4,  -0.7630,  34.9347,2,  34.9350,   2,    301.5,2,    11.01,2,    14.68,2,     0.98,2,    0.000,2,    0.000,2,    1.171,   2,   -999.0,9,   -999.0,9,     55.2,2,  -999.00,9,  -0.9386
  77DN19910726,Arctic,    19,  2,  81426,      4,2,19910901,   0, 88.2500, 118.4997, 4112,   3297.5,  -0.7490,  34.9380,2,  34.9370,   2,    308.7,2,    11.01,2,    14.68,2,     0.98,2,    0.000,2,    0.000,2,    0.761,   2,   2147.7,2,   -999.0,9,     67.0,2,  -999.00,9,  -0.9416
  77DN19910726,Arctic,    19,  2,  81425,      3,2,19910901,   0, 88.2500, 118.4997, 4112,   3500.8,  -0.7340,  34.9397,2,  34.9390,   2,    304.0,2,    11.03,2,    14.68,2,     0.98,2,    0.010,2,    0.000,2,    0.820,   2,   -999.0,9,   -999.0,9,     67.5,2,  -999.00,9,  -0.9447
  77DN19910726,Arctic,    19,  2,  81424,      2,2,19910901,   0, 88.2500, 118.4997, 4112,   3723.1,  -0.7130,  34.9399,2,  34.9400,   2,    303.6,2,    11.03,2,    14.63,2,     0.98,2,    0.000,2,    0.000,2,    0.937,   2,   2148.0,2,   2290.3,2,     44.6,2,  -999.00,9,  -0.9443
  77DN19910726,Arctic,    19,  2,  81423,      1,2,19910901,   0, 88.2500, 118.4997, 4112,   3823.8,  -0.7040,  34.9400,2,  34.9400,   2,    302.2,2,    11.03,2,    14.62,2,     0.98,2,    0.302,2,    0.000,2,    0.751,   2,   -999.0,9,   -999.0,9,     67.1,2,  -999.00,9,  -0.9449