BOTTLE,20140714SIOCCHRJL
EXPOCODE,SECT_ID,STNNBR,CASTNO,SAMPNO,BTLNBR,BTLNBR_FLAG_W,DATE,TIME,LATITUDE,LONGITUDE,DEPTH,CTDPRS,CTDTMP,CTDSAL,CTDSAL_FLAG_W,SALNTY,SALNTY_FLAG_W,OXYGEN,OXYGEN_FLAG_W,SILCAT,SILCAT_FLAG_W,NITRAT,NITRAT_FLAG_W,PHSPHT,PHSPHT_FLAG_W,CFC-11,CFC-11_FLAG_W,CFC-12,CFC-12_FLAG_W,CCL4,CCL4_FLAG_W,TCARBN,TCARBN_FLAG_W,ALKALI,ALKALI_FLAG_W,DOC,DOC_FLAG_W,DELO18,DELO18_FLAG_W,THETA
,,,,,,,,,,,METERS,DBAR,ITS-90,PSS-78,,PSS-78,,UMOL/KG,,UMOL/KG,,UMOL/KG,,UMOL/KG,,PMOL/KG,,PMOL/KG,,PMOL/KG,,UMOL/KG,,UMOL/KG,,UMOL/KG,,/MILLE,,DEG C
  77DN19910726,Arctic,    37,  4,  82006,      8,2,19910914,   0, 85.7500,  -5.2600, 4196,     89.7,  -1.6890,  33.6371,2,  33.6960,   2,    335.9,2,     8.86,2,     7.72,2,     0.70,2,    5.210,2,    2.156,2,    6.566,   2,   2154.6,2,   2264.1,2,     67.5,2,  -999.00,9,  -1.6908
  77DN19910726,Arctic,    37,  4,  82005,      7,2,19910914,   0, 85.7500,  -5.2600, 4196,    100.0,  -1.5760,  33.8334,2,  33.8740,   2,    312.6,2,     9.21,2,     9.21,2,     0.77,2,    4.780,2,    1.785,2,    5.629,   2,   2157.0,2,   2260.4,2,     71.0,2,  -999.00,9,  -1.5781
  77DN19910726,Arctic,    37,  4,  82004,      6,2,19910914,   0, 85.7500,  -5.2600, 4196,    124.0,  -1.4610,  34.2017,2,  34.1930,   2,    316.5,2,     6.26,2,     9.09,2,     0.68,2,    4.673,2,    1.824,2,    6.420,   2,   2150.2,2,   2262.4,2,     84.4,2,  -999.00,9,  -1.4638
  77DN19910726,Arctic,    37,  4,  82003,      5,2,19910914,   0, 85.7500,  -5.2600, 4196,    175.2,  -0.4960,  34.5045,2,  34.5120,   2,    309.6,2,     5.76,2,    10.15,2,     0.72,2,    4.215,2,    1.580,2,    6.566,   2,   2150.3,2,   2273.9,2,     77.2,2,  -999.00,9,  -0.5017
  77DN19910726,Arctic,    37,  4,  82002,      4,2,19910914,   0, 85.7500,  -5.2600, 4196,    250.3,   0.5620,  34.7918,2,  34.7860,   2,    308.7,2,     5.79,2,    11.88,2,     0.80,2,    3.688,2,    7.727,3,    7.571,   2,   2146.0,2,   2280.9,2,     85.1,2,  -999.00,9,   0.5514
  77DN19910726,Arctic,    37,  4,  82001,      3,2,19910914,   0, 85.7500,  -5.2600, 4196,    340.2,   0.8010,  34.8628,2,  34.8620,   2,    310.6,2,     5.97,2,    12.42,2,     0.82,2,    3.834,2,    1.424,2,    8.400,   2,   2155.4,2,   2287.6,2,     82.5,2,  -999.00,9,   0.7856
  77DN19910726,Arctic,    37,  4,  82000,      2,2,19910914,   0, 85.7500,  -5.2600, 4196,    449.9,   0.5710,  34.8804,2,  34.8800,   2,    305.7,2,     6.41,2,    12.68,2,     0.84,2,    2.927,2,    1.180,2,    6.751,   2,   2146.0,2,   2292.9,2,     79.7,2,  -999.00,9,   0.5510
  77DN19910726,Arctic,    37,  4,  81999,      1,2,19910914,   0, 85.7500,  -5.2600, 4196,    500.1,   0.4170,  34.8789,2,  34.8800,   2,    308.7,2,     6.29,2,    12.56,2,     0.84,2,    3.337,2,    4.829,3,    8.117,   2,   2152.7,2,   2289.8,2,    111.8,2,  -999.00,9,   0.3952
  77DN19910726,Arctic,    37,  2,  81996,     22,2,19910914,   0, 85.7500,  -5.2600, 4196,    601.2,   0.1570,  34.8803,2,  34.8820,   2,    311.6,2,     6.45,2,    12.48,2,     0.84,2,    2.985,2,    1.424,2,    7.639,   2,   2152.0,2,   2284.2,2,     82.4,2,  -999.00,9,   0.1315
  77DN19910726,Arctic,    37,  2,  81995,     21,2,19910914,   0, 85.7500,  -5.2600, 4196,    700.9,  -0.0520,  34.8815,2,  34.8820,   2,    312.6,2,     6.64,2,    12.69,2,     0.85,2,    3.073,2,    1.424,2,    7.620,   2,   2153.8,2,   2287.8,2,     74.8,2,  -999.00,9,  -0.0811
  77DN19910726,Arctic,    37,  2,  81994,     20,2,19910914,   0, 85.7500,  -5.2600, 4196,    799.8,  -0.1660,  34.8863,2,  34.8860,   2,   -999.0,9,     6.88,2,    12.78,2,     0.87,2,    3.395,2,    1.317,2,    7.688,   2,   2155.5,2,   2286.1,2,     69.2,2,  -999.00,9,  -0.1992
  77DN19910726,Arctic,    37,  2,  81993,     19,2,19910914,   0, 85.7500,  -5.2600, 4196,    900.5,  -0.2610,  34.8929,2,  34.8910,   2,    310.6,2,     7.14,2,    12.88,2,     0.88,2,    2.722,2,    1.249,2,    7.327,   2,   2152.3,2,   2285.1,2,     64.8,2,  -999.00,9,  -0.2985
  77DN19910726,Arctic,    37,  2,  81992,     18,2,19910914,   0, 85.7500,  -5.2600, 4196,   1000.8,  -0.3260,  34.8964,2,  34.8980,   2,    310.6,2,     7.40,2,    13.01,2,     0.89,2,    2.195,2,    1.122,2,    6.800,   2,   2156.6,2,   2290.9,2,     92.0,2,  -999.00,9,  -0.3680
  77DN19910726,Arctic,    37,  2,  81991,     17,2,19910914,   0, 85.7500,  -5.2600, 4196,   1199.2,  -0.4400,  34.9075,2,  34.9080,   2,    313.5,2,     8.12,2,    13.38,2,     0.91,2,    1.941,2,    0.966,2,    6.068,   2,   2164.4,2,   2296.1,2,     86.3,2,  -999.00,9,  -0.4914
  77DN19910726,Arctic,    37,  2,  81990,     16,2,19910914,   0, 85.7500,  -5.2600, 4196,   1400.2,  -0.5290,  34.9147,2,  34.9160,   2,    306.7,2,     9.04,2,    13.85,2,     0.93,2,    1.346,2,    0.712,2,    5.161,   2,   2163.1,2,   2301.3,2,     57.7,2,  -999.00,9,  -0.5905
  77DN19910726,Arctic,    37,  2,  81989,     15,2,19910914,   0, 85.7500,  -5.2600, 4196,   1597.6,  -0.5770,  34.9214,2,  34.9210,   2,    306.7,2,     9.91,2,    14.23,2,     0.96,2,    0.702,2,    0.000,2,    4.000,   2,   2160.3,2,   2300.1,2,     47.1,2,  -999.00,9,  -0.6493
  77DN19910726,Arctic,    37,  2,  81988,     14,2,19910914,   0, 85.7500,  -5.2600, 4196,   1700.2,  -0.5920,  34.9235,2,  34.9250,   2,    302.8,2,    10.43,2,    14.42,2,     0.97,2,    0.439,2,    0.244,2,    3.259,   2,   2156.0,2,   2297.9,2,     39.5,2,  -999.00,9,  -0.6703
  77DN19910726,Arctic,    37,  2,  81987,     13,2,19910914,   0, 85.7500,  -5.2600, 4196,   1800.0,  -0.6200,  34.9256,2,  34.9250,   2,    301.9,2,    10.67,2,    14.55,2,     0.97,2,    0.234,2,    0.449,2,    2.644,   2,   2158.0,2,   -999.0,9,     40.3,2,  -999.00,9,  -0.7041
  77DN19910726,Arctic,    37,  2,  81986,     12,2,19910914,   0, 85.7500,  -5.2600, 4196,   1898.5,  -0.6660,  34.9237,2,  34.9230,   2,    303.8,2,    10.58,2,    14.67,2,     0.97,2,    0.088,2,    0.068,2,    3.151,   2,   2166.5,2,   2296.3,2,     35.3,2,  -999.00,9,  -0.7556
  77DN19910726,Arctic,    37,  2,  81985,     11,2,19910914,   0, 85.7500,  -5.2600, 4196,   1999.5,  -0.7000,  34.9222,2,  34.9230,   2,    305.7,2,    11.29,2,    14.71,2,     0.98,2,    0.000,2,    0.146,2,    2.537,   2,   2165.8,2,   2296.7,2,     26.1,2,  -999.00,9,  -0.7956
  77DN19910726,Arctic,    37,  2,  81984,     10,2,19910914,   0, 85.7500,  -5.2600, 4196,   2298.6,  -0.7520,  34.9248,2,  34.9250,   2,    304.8,2,    11.29,2,    14.72,2,     0.98,2,    0.000,2,    0.078,2,    2.156,   2,   2157.4,2,   2294.9,2,     26.8,2,  -999.00,9,  -0.8669
  77DN19910726,Arctic,    37,  2,  81983,      9,2,19910914,   0, 85.7500,  -5.2600, 4196,   2499.8,  -0.7670,  34.9269,2,  34.9280,   2,    305.7,2,    11.27,2,    14.73,2,     0.98,2,    0.000,2,    0.000,2,    1.600,   2,   2151.3,2,   2295.2,2,     46.6,2,  -999.00,9,  -0.8960
  77DN19910726,Arctic,    37,  2,  81982,      8,2,19910914,   0, 85.7500,  -5.2600, 4196,   2750.0,  -0.7720,  34.9301,2,  34.9310,   2,    302.8,2,    11.19,2,    14.78,2,     0.98,2,    0.000,2,    0.000,2,    1.776,   2,   2154.6,2,   2291.0,2,     89.0,2,  -999.00,9,  -0.9196
  77DN19910726,Arctic,    37,  2,  81981,      7,2,19910914,   0, 85.7500,  -5.2600, 4196,   3001.3,  -0.7680,  34.9336,2,  34.9330,   2,    304.8,2,    10.63,2,    14.78,2,     0.96,2,    0.000,2,    0.059,2,    1.200,   2,   2155.7,2,   2289.9,2,     68.1,2,  -999.00,9,  -0.9355
  77DN19910726,Arctic,    37,  2,  81980,      6,2,19910914,   0, 85.7500,  -5.2600, 4196,   3249.8,  -0.7560,  34.9367,2,  34.9370,   2,    303.8,2,    11.19,2,    14.80,2,     0.98,2,    0.000,2,    0.068,2,    1.054,   2,   2155.8,2,   2289.5,2,     70.3,2,  -999.00,9,  -0.9443
  77DN19910726,Arctic,    37,  2,  81979,      5,2,19910914,   0, 85.7500,  -5.2600, 4196,   3499.6,  -0.7410,  34.9395,2,  34.9390,   2,    301.9,2,    10.93,2,    14.83,2,     0.98,2,    0.000,2,    0.000,2,    1.044,   2,   2152.2,2,   2288.8,2,     72.6,2,  -999.00,9,  -0.9514
  77DN19910726,Arctic,    37,  2,  81978,      4,2,19910914,   0, 85.7500,  -5.2600, 4196,   3700.2,  -0.7240,  34.9411,2,  34.9430,   2,    301.9,2,    10.83,2,    14.84,2,     0.98,2,    0.000,2,    0.078,2,    1.102,   2,   2156.4,2,   2289.2,2,     85.0,2,  -999.00,9,  -0.9529
  77DN19910726,Arctic,    37,  2,  81977,      3,2,19910914,   0, 85.7500,  -5.2600, 4196,   3848.4,  -0.7050,  34.9429,2,  34.9440,   2,    302.8,2,    11.12,2,    14.87,2,     0.98,2,    0.000,2,    0.078,2,    0.976,   2,   2156.0,2,   2297.9,2,     83.7,2,  -999.00,9,  -0.9482
  77DN19910726,Arctic,    37,  2,  81976,      2,2,19910914,   0, 85.7500,  -5.2600, 4196,   4002.4,  -0.6890,  34.9434,2,  34.9450,   2,    300.9,2,    11.19,2,    14.88,2,     0.99,2,    0.000,2,    2.820,3,    1.015,   2,   2156.9,2,   2297.3,2,     97.2,2,  -999.00,9,  -0.9473
  77DN19910726,Arctic,    37,  2,  81975,      1,2,19910914,   0, 85.7500,  -5.2600, 4196,   4191.1,  -0.6700,  34.9426,2,  34.9440,   2,    300.9,2,    11.02,2,    14.88,2,     0.98,2,    0.000,2,    0.000,2,    1.210,   2,   2166.5,2,   2288.4,2,     85.6,2,  -999.00,9,  -0.9473
  77DN19910726,Arctic,    38,  3,  82046,     12,2,19910915,   0, 85.5600,  -9.1200, 3643,     24.5,  -1.7260,  31.8104,2,  31.7840,   2,    371.0,2,    13.03,2,     3.92,2,     1.03,2,    8.302,2,    3.112,2,   10.400,   2,   2111.5,2,   2202.7,2,     77.7,2,  -999.00,9,  -1.7264
  77DN19910726,Arctic,    38,  3,  82045,     11,2,19910915,   0, 85.5600,  -9.1200, 3643,     49.6,  -1.7150,  32.4289,2,  32.5150,   2,    362.2,2,    11.25,2,     5.25,2,     0.81,2,    6.839,2,    2.917,2,    7.961,   2,   2156.1,2,   2244.5,2,     92.4,2,  -999.00,9,  -1.7158
  77DN19910726,Arctic,    38,  3,  82044,     10,2,19910915,   0, 85.5600,  -9.1200, 3643,     60.0,  -1.6370,  32.8887,2,  32.9030,   2,    337.9,2,    14.97,2,     7.64,2,     0.94,2,    8.410,3,    2.741,2,    7.561,   2,   2163.5,2,   2256.3,2,     71.8,2,  -999.00,9,  -1.6381
  77DN19910726,Arctic,    38,  3,  82043,      9,2,19910915,   0, 85.5600,  -9.1200, 3643,     66.7,  -1.5840,  33.0760,2,  33.1380,   2,    322.3,2,    17.57,2,     9.15,2,     1.06,2,    8.020,3,    2.566,2,    7.112,   2,   2176.3,2,   2251.2,2,     74.9,2,  -999.00,9,  -1.5853
  77DN19910726,Arctic,    38,  3,  82042,      8,2,19910915,   0, 85.5600,  -9.1200, 3643,     75.0,  -1.7890,  33.3312,2,  33.3550,   2,    371.0,2,     5.96,2,     5.09,2,     0.51,2,    7.278,2,    2.683,2,    7.815,   2,   2160.0,2,   2269.4,2,    109.6,2,  -999.00,9,  -1.7903
  77DN19910726,Arctic,    38,  3,  82041,      7,2,19910915,   0, 85.5600,  -9.1200, 3643,     99.9,  -1.5410,  34.0155,2,  33.9600,   2,    311.6,2,     8.94,2,     9.38,2,     0.77,2,    4.566,2,    1.971,2,    5.824,   2,   2163.8,2,   2256.7,2,     68.4,2,  -999.00,9,  -1.5431
  77DN19910726,Arctic,    38,  3,  82040,      6,2,19910915,   0, 85.5600,  -9.1200, 3643,    125.2,  -1.2740,  34.2492,2,  34.2680,   2,    312.6,2,     6.31,2,     9.48,2,     0.70,2,    5.161,2,    1.863,2,    6.556,   2,   2159.2,2,   2273.2,2,     53.3,2,  -999.00,9,  -1.2771
  77DN19910726,Arctic,    38,  3,  82039,      5,2,19910915,   0, 85.5600,  -9.1200, 3643,    150.2,  -0.8390,  34.4089,2,  34.4250,   2,    309.6,2,     6.26,2,    10.08,2,     0.72,2, -999.000,9, -999.000,9, -999.000,   9,   2151.1,2,   2275.9,2,     47.2,2,  -999.00,9,  -0.8433
  77DN19910726,Arctic,    38,  3,  82038,      4,2,19910915,   0, 85.5600,  -9.1200, 3643,    200.2,  -0.1100,  34.6327,2,  34.6290,   2,    309.6,2,     5.99,2,    11.08,2,     0.76,2,    4.400,2,    1.688,2,    6.712,   2,   2153.0,2,   2278.0,2,     64.0,2,  -999.00,9,  -0.1172
  77DN19910726,Arctic,    38,  3,  82037,      3,2,19910915,   0, 85.5600,  -9.1200, 3643,    249.8,   0.5750,  34.7913,2,  34.8020,   2,    308.7,2,     5.94,2,    12.22,2,     0.81,2, -999.000,9, -999.000,9, -999.000,   9,   2150.1,2,   2279.4,2,     50.5,2,  -999.00,9,   0.5644
  77DN19910726,Arctic,    38,  3,  82036,      2,2,19910915,   0, 85.5600,  -9.1200, 3643,    330.1,   0.7840,  34.8634,2,  34.8600,   2,    308.7,2,     6.02,2,    12.53,2,     0.82,2,    5.883,3,    1.580,2,    7.688,   2,   2155.5,2,   2286.3,2,     47.5,2,  -999.00,9,   0.7691
  77DN19910726,Arctic,    38,  3,  82035,      1,2,19910915,   0, 85.5600,  -9.1200, 3643,    400.1,   0.6820,  34.8761,2,  34.8780,   2,    313.5,2,     6.19,2,    12.74,2,     0.84,2, -999.000,9, -999.000,9, -999.000,   9,   2149.5,2,   2285.7,2,     44.5,2,  -999.00,9,   0.6640
  77DN19910726,Arctic,    38,  2,  82034,     24,2,19910915,   0, 85.5600,  -9.1200, 3643,    500.6,   0.4420,  34.8810,2,  34.8790,   2,    309.6,2,     6.41,2,    12.76,2,     0.87,2,    5.034,3,    1.337,2,    7.073,   2,   2149.5,2,   2294.0,2,     30.4,2,  -999.00,9,   0.4201
  77DN19910726,Arctic,    38,  2,  82033,     23,2,19910915,   0, 85.5600,  -9.1200, 3643,    600.8,   0.1630,  34.8811,2,  34.8800,   2,    311.6,2,     6.48,2,    12.78,2,     0.86,2,    3.961,2,    1.376,2,    7.415,   2,   2156.6,2,   2281.6,2,     42.3,2,  -999.00,9,   0.1375
  77DN19910726,Arctic,    38,  2,  82032,     22,2,19910915,   0, 85.5600,  -9.1200, 3643,    747.2,  -0.0840,  34.8820,2,  34.8820,   2,    311.6,2,     6.78,2,    13.04,2,     0.87,2,    3.756,2,    1.278,2,    6.927,   2,   2161.5,2,   2294.0,2,     49.3,2,  -999.00,9,  -0.1151
  77DN19910726,Arctic,    38,  2,  82031,     21,2,19910915,   0, 85.5600,  -9.1200, 3643,    899.8,  -0.2490,  34.8914,2,  34.8890,   2,    312.6,2,     7.20,2,    13.25,2,     0.91,2,    3.229,2,    1.288,2,    6.800,   2,   2158.5,2,   2282.3,2,     55.0,2,  -999.00,9,  -0.2865
  77DN19910726,Arctic,    38,  2,  82030,     20,2,19910915,   0, 85.5600,  -9.1200, 3643,   1000.5,  -0.3310,  34.8955,2,  34.8950,   2,    309.6,2,     7.44,2,    13.32,2,     0.90,2,    7.746,4,    1.298,2,    7.600,   2,   2164.0,2,   2295.4,2,     57.4,2,  -999.00,9,  -0.3729
  77DN19910726,Arctic,    38,  2,  82029,     19,2,19910915,   0, 85.5600,  -9.1200, 3643,   1149.1,  -0.3850,  34.9021,2,  34.9040,   2,    312.6,2,     8.05,2,    13.65,2,     0.92,2, -999.000,9, -999.000,9, -999.000,   9,   2167.3,2,   2291.3,2,     50.9,2,  -999.00,9,  -0.4342
  77DN19910726,Arctic,    38,  2,  82028,     18,2,19910915,   0, 85.5600,  -9.1200, 3643,   1301.1,  -0.4740,  34.9096,2,  34.9090,   2,    312.6,2,     8.37,2,    13.85,2,     0.93,2,    2.732,2,    0.976,2,    6.039,   2,   2162.8,2,   2299.5,2,     58.2,2,  -999.00,9,  -0.5305
  77DN19910726,Arctic,    38,  2,  82027,     17,2,19910915,   0, 85.5600,  -9.1200, 3643,   1449.8,  -0.5280,  34.9149,2,  34.9170,   2,    308.7,2,     9.07,2,    14.15,2,     0.94,2,    2.683,2,    0.722,2,    4.946,   2,   2163.0,2,   2289.1,2,     62.2,2,  -999.00,9,  -0.5923
  77DN19910726,Arctic,    38,  2,  82026,     16,2,19910915,   0, 85.5600,  -9.1200, 3643,   1599.8,  -0.5630,  34.9193,2,  34.9180,   2,    308.7,2,     9.76,2,    14.48,2,     0.97,2,    1.727,2,    0.507,2,    4.029,   2,   2164.9,2,   2301.8,2,     54.5,2,  -999.00,9,  -0.6356
  77DN19910726,Arctic,    38,  2,  82025,     15,2,19910915,   0, 85.5600,  -9.1200, 3643,   1699.9,  -0.5820,  34.9226,2,  34.9210,   2,    308.7,2,    10.06,2,    14.59,2,     0.98,2, -999.000,9, -999.000,9, -999.000,   9,   2163.9,2,   2292.6,2,     53.9,2,  -999.00,9,  -0.6604
  77DN19910726,Arctic,    38,  2,  82024,     14,2,19910915,   0, 85.5600,  -9.1200, 3643,   1800.3,  -0.5890,  34.9258,2,  34.9240,   2,    306.7,2,    10.57,2,    14.74,2,     0.99,2,    1.093,2,    0.195,2,    2.722,   2,   2160.4,2,   2286.1,2,     51.5,2,  -999.00,9,  -0.6735
  77DN19910726,Arctic,    38,  2,  82023,     13,2,19910915,   0, 85.5600,  -9.1200, 3643,   1839.6,  -0.5960,  34.9258,2,  34.9250,   2,    304.8,2,    10.70,2,    14.78,2,     1.00,2,    0.878,2,    2.722,3,    2.605,   2,   2153.7,2,   2297.1,2,     58.8,2,  -999.00,9,  -0.6829
  77DN19910726,Arctic,    38,  2,  82022,     12,2,19910915,   0, 85.5600,  -9.1200, 3643,   1899.9,  -0.6260,  34.9245,2,  34.9230,   2,    304.8,2,    10.68,2,    14.80,2,     0.99,2,    1.337,2,    0.000,2,    2.585,   2,   2152.5,2,   -999.0,9,     85.8,2,  -999.00,9,  -0.7163
  77DN19910726,Arctic,    38,  2,  82021,     11,2,19910915,   0, 85.5600,  -9.1200, 3643,   1999.8,  -0.6710,  34.9226,2,  34.9220,   2,    306.7,2,    10.65,2,    14.88,2,     1.00,2,    2.859,3,    0.127,2,    2.800,   2,   2146.5,2,   2297.7,2,     76.3,2,  -999.00,9,  -0.7671
  77DN19910726,Arctic,    38,  2,  82020,     10,2,19910915,   0, 85.5600,  -9.1200, 3643,   2199.3,  -0.7160,  34.9229,2,  34.9220,   2,    302.8,2,    10.89,2,    14.96,2,     1.00,2,    1.385,2,    0.068,2,    2.166,   2,   2154.6,2,   2293.6,2,     69.4,2,  -999.00,9,  -0.8246
  77DN19910726,Arctic,    38,  2,  82019,      9,2,19910915,   0, 85.5600,  -9.1200, 3643,   2401.1,  -0.7480,  34.9250,2,  34.9240,   2,    302.8,2,    11.00,2,    15.03,2,     1.00,2, -999.000,9, -999.000,9, -999.000,   9,   2156.2,2,   2299.6,2,     54.2,2,  -999.00,9,  -0.8702
  77DN19910726,Arctic,    38,  2,  82018,      8,2,19910915,   0, 85.5600,  -9.1200, 3643,   2600.2,  -0.7610,  34.9273,2,  34.9270,   2,    305.7,2,    11.11,2,    15.04,2,     1.00,2, -999.000,9, -999.000,9, -999.000,   9,   2148.9,2,   -999.0,9,     73.0,2,  -999.00,9,  -0.8975
  77DN19910726,Arctic,    38,  2,  82017,      7,2,19910915,   0, 85.5600,  -9.1200, 3643,   2800.1,  -0.7700,  34.9307,2,  34.9310,   2,    305.7,2,    11.24,2,    15.11,2,     1.00,2,    1.161,2,    0.000,2,    1.259,   2,   2145.7,2,   -999.0,9,     58.2,2,  -999.00,9,  -0.9215
  77DN19910726,Arctic,    38,  2,  82016,      6,2,19910915,   0, 85.5600,  -9.1200, 3643,   3000.6,  -0.7690,  34.9347,2,  34.9340,   2,    307.7,2,    11.19,2,    14.97,2,     1.00,2, -999.000,9, -999.000,9, -999.000,   9,   2154.3,2,   2300.5,2,     57.0,2,  -999.00,9,  -0.9364
  77DN19910726,Arctic,    38,  2,  82015,      5,2,19910915,   0, 85.5600,  -9.1200, 3643,   3148.4,  -0.7650,  34.9366,2,  34.9360,   2,    309.6,2,    11.19,2,    14.92,2,     0.99,2,    0.195,2,    0.195,2,    0.937,   2,   2143.7,2,   -999.0,9,     76.8,2,  -999.00,9,  -0.9446
  77DN19910726,Arctic,    38,  2,  82014,      4,2,19910915,   0, 85.5600,  -9.1200, 3643,   3300.1,  -0.7560,  34.9401,2,  34.9390,   2,    303.8,2,    11.25,2,    14.85,2,     0.99,2, -999.000,9, -999.000,9, -999.000,   9,   -999.0,9,   2294.3,2,     61.0,2,  -999.00,9,  -0.9486
  77DN19910726,Arctic,    38,  2,  82013,      3,2,19910915,   0, 85.5600,  -9.1200, 3643,   3500.5,  -0.7360,  34.9422,2,  34.9410,   2,    305.7,2,    11.32,2,    14.77,2,     0.99,2, -999.000,9, -999.000,9, -999.000,   9,   -999.0,9,   2297.5,2,     72.7,2,  -999.00,9,  -0.9466
  77DN19910726,Arctic,    38,  2,  82012,      1,2,19910915,   0, 85.5600,  -9.1200, 3643,   3637.1,  -0.7240,  34.9432,2,  34.9410,   2,    302.8,2,    11.30,2,    14.72,2,     0.99,2,    1.571,3,    0.215,2,    1.063,   2,   -999.0,9,   2298.6,2,     63.7,2,  -999.00,9,  -0.9472
  77DN19910726,Arctic,    38,  2,  82011,      2,2,19910915,   0, 85.5600,  -9.1200, 3643,   3637.1,  -0.7240,  34.9432,2,  34.9410,   2,    304.8,2,    11.32,2,    14.76,2,     0.99,2,    0.098,2,    0.039,2,    0.820,   2,   -999.0,9,   2291.3,2,     52.5,2,  -999.00,9,  -0.9472