BOTTLE,20140714SIOCCHRJL
EXPOCODE,SECT_ID,STNNBR,CASTNO,SAMPNO,BTLNBR,BTLNBR_FLAG_W,DATE,TIME,LATITUDE,LONGITUDE,DEPTH,CTDPRS,CTDTMP,CTDSAL,CTDSAL_FLAG_W,SALNTY,SALNTY_FLAG_W,OXYGEN,OXYGEN_FLAG_W,SILCAT,SILCAT_FLAG_W,NITRAT,NITRAT_FLAG_W,PHSPHT,PHSPHT_FLAG_W,CFC-11,CFC-11_FLAG_W,CFC-12,CFC-12_FLAG_W,CCL4,CCL4_FLAG_W,TCARBN,TCARBN_FLAG_W,ALKALI,ALKALI_FLAG_W,DOC,DOC_FLAG_W,DELO18,DELO18_FLAG_W,THETA
,,,,,,,,,,,METERS,DBAR,ITS-90,PSS-78,,PSS-78,,UMOL/KG,,UMOL/KG,,UMOL/KG,,UMOL/KG,,PMOL/KG,,PMOL/KG,,PMOL/KG,,UMOL/KG,,UMOL/KG,,UMOL/KG,,/MILLE,,DEG C
  77DN19910726,Arctic,    28,  2,  81698,     24,2,19910905,   0, 88.5200, 157.8100, 1788,     10.0,  -1.6980,  31.6300,2,  31.5920,   2,    372.6,2,     9.51,2,     3.02,2,     0.83,2,    7.756,2,    3.005,2,   17.327,   2,   2073.1,2,   2186.5,2,     99.8,2,  -999.00,9,  -1.6981
  77DN19910726,Arctic,    28,  2,  81697,     23,2,19910905,   0, 88.5200, 157.8100, 1788,     25.7,  -1.7000,  31.8092,2,  31.6420,   2,    372.5,2,     9.55,2,     3.11,2,     0.84,2,    7.834,2,    2.722,2,   16.859,   2,   2081.0,2,   2184.3,2,     92.9,2,  -999.00,9,  -1.7004
  77DN19910726,Arctic,    28,  2,  81696,     22,2,19910905,   0, 88.5200, 157.8100, 1788,     46.4,  -1.6500,  32.9610,2,  32.9700,   2,    320.6,2,    13.72,2,     8.21,2,     0.91,2,    7.902,2,    2.361,2,    8.176,   2,   2171.8,2,   2239.0,2,    101.4,2,  -999.00,9,  -1.6508
  77DN19910726,Arctic,    28,  2,  81695,     21,2,19910905,   0, 88.5200, 157.8100, 1788,     75.3,  -1.5350,  33.9718,2,  34.0640,   2,    307.6,2,     7.24,2,     9.17,2,     0.70,2,    6.098,2,    1.912,2,    6.488,   2,   2174.8,2,   2262.0,2,     71.5,2,  -999.00,9,  -1.5366
  77DN19910726,Arctic,    28,  2,  81694,     20,2,19910905,   0, 88.5200, 157.8100, 1788,    100.2,  -1.2620,  34.2528,2,  34.2650,   2,    308.2,2,     6.31,2,     9.45,2,     0.69,2,    4.722,2,    1.746,2,    6.615,   2,   2178.3,2,   2265.5,2,     60.3,2,  -999.00,9,  -1.2645
  77DN19910726,Arctic,    28,  2,  81693,     19,2,19910905,   0, 88.5200, 157.8100, 1788,    150.4,  -0.3920,  34.5513,2,  34.5330,   2,    302.1,2,     6.79,2,    10.81,2,     0.75,2,    3.737,2,    1.463,2,    6.439,   2,   -999.0,9,   2273.8,2,     61.4,2,  -999.00,9,  -0.3970
  77DN19910726,Arctic,    28,  2,  81692,     18,2,19910905,   0, 88.5200, 157.8100, 1788,    174.8,  -0.0110,  34.6425,2,  34.6490,   2,   -999.0,9,     6.80,2,    11.45,2,     0.77,2,    3.590,2,    1.268,2,    6.254,   2,   2136.2,2,   2276.8,2,     58.1,2,  -999.00,9,  -0.0174
  77DN19910726,Arctic,    28,  2,  81691,     17,2,19910905,   0, 88.5200, 157.8100, 1788,    220.2,   0.3680,  34.7735,2,  34.7740,   2,    304.1,2,     5.90,2,    11.87,2,     0.77,2,    5.639,3,    1.483,2,    8.215,   2,   2144.1,2,   2283.0,2,     62.2,2,  -999.00,9,   0.3591
  77DN19910726,Arctic,    28,  2,  81690,     16,2,19910905,   0, 88.5200, 157.8100, 1788,    279.4,   0.4780,  34.8063,2,  34.8070,   2,   -999.0,9,     6.22,2,    12.22,2,     0.80,2,    3.093,2,    1.190,2,    7.132,   2,   2143.5,2,   2285.2,2,     54.7,2,  -999.00,9,   0.4663
  77DN19910726,Arctic,    28,  2,  81689,     15,2,19910905,   0, 88.5200, 157.8100, 1788,    315.2,   0.5590,  34.8367,2,  34.8380,   2,   -999.0,9,     5.93,2,    12.24,2,     0.80,2,    3.688,2,    1.424,2,    8.459,   2,   2146.2,2,   2283.3,2,     52.1,2,  -999.00,9,   0.5454
  77DN19910726,Arctic,    28,  2,  81688,     14,2,19910905,   0, 88.5200, 157.8100, 1788,    391.2,   0.4630,  34.8459,2,  34.8450,   2,   -999.0,9,     6.70,2,    12.74,2,     0.82,2,    1.415,2,    0.000,2,    4.839,   2,   2142.5,2,   2285.5,2,     58.6,2,  -999.00,9,   0.4462
  77DN19910726,Arctic,    28,  2,  81687,     13,2,19910905,   0, 88.5200, 157.8100, 1788,    472.2,   0.4720,  34.8676,2,  34.8720,   2,    304.1,2,     6.78,2,    12.88,2,     0.83,2,    2.166,2,    1.151,2,    4.654,   2,   2143.2,2,   2288.5,2,     53.0,2,  -999.00,9,   0.4513
  77DN19910726,Arctic,    28,  2,  81686,     12,2,19910905,   0, 88.5200, 157.8100, 1788,    512.4,   0.3710,  34.8676,2,  34.8660,   2,    305.5,2,     6.51,2,    12.66,2,     0.85,2,    2.020,2,    1.141,2,    5.571,   2,   -999.0,9,   2286.0,2,     48.3,2,  -999.00,9,   0.3488
  77DN19910726,Arctic,    28,  2,  81685,     11,2,19910905,   0, 88.5200, 157.8100, 1788,    546.8,   0.3410,  34.8739,2,  34.8770,   2,   -999.0,9,     6.72,2,    12.77,2,     0.85,2,    2.185,2,    0.790,2,    4.907,   2,   2152.3,2,   2285.9,2,     68.6,2,  -999.00,9,   0.3173
  77DN19910726,Arctic,    28,  2,  81684,     10,2,19910905,   0, 88.5200, 157.8100, 1788,    610.5,   0.1900,  34.8748,2,  34.8760,   2,    303.9,2,     6.66,2,    12.75,2,     0.86,2,    1.844,2,    0.937,2,    5.161,   2,   2159.9,2,   2286.0,2,     52.8,2,  -999.00,9,   0.1639
  77DN19910726,Arctic,    28,  2,  81683,      9,2,19910905,   0, 88.5200, 157.8100, 1788,    687.7,   0.0890,  34.8823,2,  34.8850,   2,    303.0,2,     6.92,2,    12.82,2,     0.87,2,    1.190,2,    0.507,2,    4.293,   2,   2154.1,2,   2288.1,2,     56.7,2,  -999.00,9,   0.0597
  77DN19910726,Arctic,    28,  2,  81682,      8,2,19910905,   0, 88.5200, 157.8100, 1788,    848.7,  -0.0200,  34.8971,2,  34.8970,   2,    302.0,2,     7.59,2,    13.14,2,     0.89,2,    0.312,2,    0.000,2,    2.322,   2,   2147.8,2,   2294.0,2,     59.2,2,  -999.00,9,  -0.0566
  77DN19910726,Arctic,    28,  2,  81681,      7,2,19910905,   0, 88.5200, 157.8100, 1788,   1099.2,  -0.2330,  34.9128,2,  34.9130,   2,    301.7,2,     8.23,2,    13.44,2,     0.91,2,    0.341,2,    0.488,3,    1.902,   2,   2147.5,2,   2291.4,2,     53.8,2,  -999.00,9,  -0.2810
  77DN19910726,Arctic,    28,  2,  81680,      6,2,19910905,   0, 88.5200, 157.8100, 1788,   1199.8,  -0.2870,  34.9180,2,  34.9180,   2,    300.6,2,     8.64,2,    13.68,2,     0.93,2,    0.020,2,    2.049,3,    1.766,   2,   2148.2,2,   2294.1,2,     46.4,2,  -999.00,9,  -0.3399
  77DN19910726,Arctic,    28,  2,  81679,      5,2,19910905,   0, 88.5200, 157.8100, 1788,   1300.6,  -0.3190,  34.9236,2,  34.9250,   2,    299.7,2,     9.41,2,    13.92,2,     0.94,2,    0.976,2,    0.000,2,    1.561,   2,   2150.1,2,   2296.9,2,     63.4,2,  -999.00,9,  -0.3772
  77DN19910726,Arctic,    28,  2,  81678,      4,2,19910905,   0, 88.5200, 157.8100, 1788,   1399.1,  -0.3430,  34.9285,2,  34.9290,   2,    299.4,2,     9.79,2,    14.12,2,     0.96,2,    2.527,3,    0.000,2,    1.298,   2,   2143.6,2,   2292.9,2,     49.8,2,  -999.00,9,  -0.4065
  77DN19910726,Arctic,    28,  2,  81677,      3,2,19910905,   0, 88.5200, 157.8100, 1788,   1500.0,  -0.3650,  34.9330,2,  34.9340,   2,    296.8,2,    10.18,2,    14.20,2,     0.97,2,    0.459,2,    0.000,2,    0.624,   2,   2135.9,2,   2298.3,2,     47.3,2,  -999.00,9,  -0.4342
  77DN19910726,Arctic,    28,  2,  81676,      2,2,19910905,   0, 88.5200, 157.8100, 1788,   1649.6,  -0.3790,  34.9384,2,  34.9380,   2,    294.1,2,    11.05,2,    14.36,2,     0.99,2,    0.205,2,    0.000,2,    0.566,   2,   2130.9,2,   2299.1,2,     56.1,2,  -999.00,9,  -0.4571
  77DN19910726,Arctic,    28,  2,  81675,      1,2,19910905,   0, 88.5200, 157.8100, 1788,   1751.2,  -0.3840,  34.9409,2,  34.9420,   2,    292.5,2,    11.49,2,    14.49,2,     1.00,2,    1.054,2,    0.000,2,    0.702,   2,   2136.7,2,   2301.2,2,     62.2,2,  -999.00,9,  -0.4684
  77DN19910726,Arctic,    29,  3,  81722,     24,2,19910907,   0, 90.0000,   0.0000, 4290,     10.1,  -1.6970,  31.4997,2,  31.4940,   2,    375.9,2,    10.01,2,     3.01,2,     0.84,2,    7.756,2,    3.337,2,   12.800,   2,   -999.0,9,   2171.0,2,     81.2,2,  -999.00,9,  -1.6971
  77DN19910726,Arctic,    29,  5,  81734,     12,2,19910907,   0, 90.0000,   0.0000, 4290,     25.0,  -1.7050,  31.5367,2,  31.4970,   2,    375.9,2,     9.99,2,     3.00,2,     0.83,2,    7.912,2,    3.268,2,   12.722,   2,   2063.4,2,   2195.1,2,    110.2,2,  -999.00,9,  -1.7054
  77DN19910726,Arctic,    29,  5,  81733,     11,2,19910907,   0, 90.0000,   0.0000, 4290,     50.0,  -1.7400,  32.4565,2,  32.3660,   2,    360.5,2,    10.88,2,     4.82,2,     0.82,2,    7.522,2,    3.180,2,   10.498,   2,   2116.1,2,   2268.3,2,     95.6,2,  -999.00,9,  -1.7408
  77DN19910726,Arctic,    29,  5,  81732,     10,2,19910907,   0, 90.0000,   0.0000, 4290,     65.0,  -1.6590,  32.9729,2,  32.4050,   3,   -999.0,9,    11.20,2,     5.00,2,     0.83,2,    7.815,2,    3.190,2,   10.634,   2,   2094.8,2,   2253.7,2,     95.8,2,  -999.00,9,  -1.6601
  77DN19910726,Arctic,    29,  5,  81731,      9,2,19910907,   0, 90.0000,   0.0000, 4290,     90.0,  -1.6550,  33.8288,2,  32.8530,   3,    323.1,2,    14.69,2,     7.94,2,     0.98,2,    3.454,3,    1.415,3,    4.185,   2,   2071.1,2,   2246.3,2,     83.4,2,  -999.00,9,  -1.6566
  77DN19910726,Arctic,    29,  5,  81730,      8,2,19910907,   0, 90.0000,   0.0000, 4290,    110.0,  -1.5420,  34.1172,2,  33.8830,   2,    319.9,2,     5.93,2,     8.01,2,     0.63,2,    7.015,2,    6.254,3,    7.405,   2,   2117.7,2,   2276.8,2,     70.4,2,  -999.00,9,  -1.5444
  77DN19910726,Arctic,    29,  5,  81729,      7,2,19910907,   0, 90.0000,   0.0000, 4290,    130.0,  -1.1170,  34.2996,2,  34.1760,   2,    320.1,2,     4.69,2,     8.37,2,     0.62,2,    5.112,2,    2.224,2,    7.483,   2,   2128.1,2,   2279.2,2,     70.8,2,  -999.00,9,  -1.1204
  77DN19910726,Arctic,    29,  5,  81728,      6,2,19910907,   0, 90.0000,   0.0000, 4290,    149.0,  -0.8290,  34.4017,2,  34.3270,   2,    316.7,2,     4.79,2,     8.96,2,     0.64,2,    5.346,2,    5.502,3,    7.746,   2,   2119.6,2,   2271.3,2,     69.2,2,  -999.00,9,  -0.8333
  77DN19910726,Arctic,    29,  5,  81727,      5,2,19910907,   0, 90.0000,   0.0000, 4290,    200.0,   0.3530,  34.6703,2,  34.4250,   2,    315.1,2,     4.83,2,     9.39,2,     0.66,2,    5.434,2,    2.263,2,    7.961,   2,   2104.7,2,   2270.4,2,     64.3,2,  -999.00,9,   0.3451
  77DN19910726,Arctic,    29,  5,  81726,      4,2,19910907,   0, 90.0000,   0.0000, 4290,    250.0,   0.8900,  34.8251,2,  34.6700,   2,    309.2,2,     5.04,2,    10.88,2,     0.72,2,    5.044,2,    2.146,2,    8.761,   2,   2113.7,2,   2272.4,2,     61.0,2,  -999.00,9,   0.8788
  77DN19910726,Arctic,    29,  5,  81725,      3,2,19910907,   0, 90.0000,   0.0000, 4290,    299.0,   0.9320,  34.8557,2,  34.8350,   2,    305.9,2,     5.41,2,    12.00,2,     0.79,2,    3.922,2,    1.756,2,    8.302,   2,   2129.4,2,   2286.2,2,     63.6,2,  -999.00,9,   0.9182
  77DN19910726,Arctic,    29,  5,  81724,      2,2,19910907,   0, 90.0000,   0.0000, 4290,    350.0,   0.9420,  34.8745,2,  34.8560,   2,    307.0,2,     5.50,2,    12.15,2,     0.80,2,   21.463,4,    1.746,2,    8.644,   2,   2118.2,2,   2285.8,2,     62.3,2,  -999.00,9,   0.9257
  77DN19910726,Arctic,    29,  5,  81723,      1,2,19910907,   0, 90.0000,   0.0000, 4290,    450.8,   0.7360,  34.8864,2,  34.8780,   2,    306.6,2,     5.62,2,    12.37,2,     0.82,2,    3.561,2,    1.610,2,    8.585,   2,   2128.4,2,   2285.9,2,     68.3,2,  -999.00,9,   0.7153
  77DN19910726,Arctic,    29,  3,  81721,     23,2,19910907,   0, 90.0000,   0.0000, 4290,    601.8,   0.2100,  34.8841,2,  34.8840,   2,    308.8,2,     6.12,2,    12.41,2,     0.84,2,    3.698,2,    1.610,2,    8.839,   2,   -999.0,9,   2282.9,2,     59.0,2,  -999.00,9,   0.1842
  77DN19910726,Arctic,    29,  3,  81720,     22,2,19910907,   0, 90.0000,   0.0000, 4290,    698.1,   0.0070,  34.8839,2,  34.8900,   2,    309.3,2,     6.33,2,    12.70,2,     0.84,2,    0.000,4,    1.620,2,    8.546,   2,   -999.0,9,   -999.0,9,     49.8,2,  -999.00,9,  -0.0223
  77DN19910726,Arctic,    29,  3,  81719,     21,2,19910907,   0, 90.0000,   0.0000, 4290,    800.1,  -0.1410,  34.8865,2,  34.8870,   2,    309.3,2,     6.63,2,    12.70,2,     0.85,2,    3.093,2,    1.463,2,    8.176,   2,   -999.0,9,   -999.0,9,     50.4,2,  -999.00,9,  -0.1743
  77DN19910726,Arctic,    29,  3,  81718,     20,2,19910907,   0, 90.0000,   0.0000, 4290,    900.2,  -0.2450,  34.8913,2,  34.8920,   2,    309.3,2,     6.87,2,    12.80,2,     0.86,2,    3.620,2,    1.346,2,    7.961,   2,   -999.0,9,   2293.3,2,     55.5,2,  -999.00,9,  -0.2826
  77DN19910726,Arctic,    29,  3,  81717,     19,2,19910907,   0, 90.0000,   0.0000, 4290,   1100.8,  -0.4010,  34.9001,2,  34.9000,   2,    309.4,2,     7.42,2,    13.10,2,     0.87,2,    3.083,2,    1.405,2,    7.688,   2,   -999.0,9,   -999.0,9,     47.5,2,  -999.00,9,  -0.4475
  77DN19910726,Arctic,    29,  3,  81716,     18,2,19910907,   0, 90.0000,   0.0000, 4290,   1301.0,  -0.4890,  34.9091,2,  34.9100,   2,    307.1,2,     8.25,2,    13.65,2,     0.91,2,    2.341,2,    1.141,2,    6.429,   2,   -999.0,9,   2287.7,2,     69.0,2,  -999.00,9,  -0.5454
  77DN19910726,Arctic,    29,  3,  81715,     17,2,19910907,   0, 90.0000,   0.0000, 4290,   1388.8,  -0.5270,  34.9121,2,  34.9120,   2,    307.4,2,     8.49,2,    13.70,2,     0.92,2,    2.624,2,    1.093,2,    6.166,   2,   -999.0,9,   -999.0,9,     54.0,2,  -999.00,9,  -0.5878
  77DN19910726,Arctic,    29,  3,  81714,     16,2,19910907,   0, 90.0000,   0.0000, 4290,   1500.7,  -0.5730,  34.9139,2,  34.9140,   2,    306.5,2,     8.91,2,    13.89,2,     0.92,2,    2.244,2,    0.898,2,    5.415,   2,   -999.0,9,   2282.6,2,     50.9,2,  -999.00,9,  -0.6397
  77DN19910726,Arctic,    29,  3,  81713,     15,2,19910907,   0, 90.0000,   0.0000, 4290,   1699.1,  -0.6300,  34.9171,2,  34.9170,   2,   -999.0,9,     9.57,2,    14.14,2,     0.95,2,    1.454,2,    0.566,2,    4.195,   2,   -999.0,9,   2285.8,2,     52.7,2,  -999.00,9,  -0.7077
  77DN19910726,Arctic,    29,  3,  81712,     14,2,19910907,   0, 90.0000,   0.0000, 4290,   1899.0,  -0.6870,  34.9193,2,  34.9190,   2,    302.8,2,    10.12,2,    14.54,2,     0.96,2,    0.839,2,    3.337,3,    3.015,   2,   -999.0,9,   2296.6,2,     46.6,2,  -999.00,9,  -0.7763
  77DN19910726,Arctic,    29,  3,  81711,     13,2,19910907,   0, 90.0000,   0.0000, 4290,   2148.8,  -0.7400,  34.9212,2,  34.9210,   2,    301.9,2,    10.54,2,    14.81,2,     0.97,2,    0.156,2,    0.098,2,    1.990,   2,   -999.0,9,   2285.6,2,     49.4,2,  -999.00,9,  -0.8448
  77DN19910726,Arctic,    29,  3,  81710,     12,2,19910907,   0, 90.0000,   0.0000, 4290,   2398.4,  -0.7650,  34.9240,2,  34.9250,   2,    302.3,2,    10.71,2,    14.79,2,     0.98,2,    0.020,2,    0.000,2,    1.610,   2,   -999.0,9,   2290.1,2,     40.3,2,  -999.00,9,  -0.8867
  77DN19910726,Arctic,    29,  3,  81709,     11,2,19910907,   0, 90.0000,   0.0000, 4290,   2649.4,  -0.7750,  34.9269,2,  34.9280,   2,    305.8,2,    10.83,2,    14.82,2,     0.98,2,    0.000,2,    0.244,2,    1.210,   2,   -999.0,9,   2290.3,2,     50.4,2,  -999.00,9,  -0.9149
  77DN19910726,Arctic,    29,  3,  81708,     10,2,19910907,   0, 90.0000,   0.0000, 4290,   2899.6,  -0.7710,  34.9310,2,  34.9330,   2,    300.2,2,    10.96,2,    14.82,2,     0.97,2,    0.527,2,    0.176,2,    1.122,   2,   -999.0,9,   2290.8,2,     48.7,2,  -999.00,9,  -0.9303
  77DN19910726,Arctic,    29,  3,  81707,      9,2,19910907,   0, 90.0000,   0.0000, 4290,   3098.6,  -0.7600,  34.9335,2,  34.9360,   2,    301.2,2,    11.03,2,    14.80,2,     0.98,2,    0.185,2,    1.951,3,    0.839,   2,   -999.0,9,   2290.0,2,     47.5,2,  -999.00,9,  -0.9356
  77DN19910726,Arctic,    29,  3,  81706,      8,2,19910907,   0, 90.0000,   0.0000, 4290,   3298.9,  -0.7480,  34.9358,2,  34.9380,   2,   -999.0,9,    11.00,2,    14.74,2,     0.97,2,    0.000,2,    0.000,2,    0.751,   2,   -999.0,9,   2295.8,2,     66.4,2,  -999.00,9,  -0.9407
  77DN19910726,Arctic,    29,  3,  81705,      7,2,19910907,   0, 90.0000,   0.0000, 4290,   3497.1,  -0.7370,  34.9377,2,  34.9370,   2,    301.9,2,    10.99,2,    14.74,2,     0.97,2,    0.020,2,    0.020,2,    0.732,   2,   -999.0,9,   2294.4,2,     55.6,2,  -999.00,9,  -0.9472
  77DN19910726,Arctic,    29,  3,  81704,      6,2,19910907,   0, 90.0000,   0.0000, 4290,   3799.8,  -0.7100,  34.9407,2,  34.9400,   2,    302.9,2,    11.01,2,    14.74,2,     0.96,2,    0.244,2,    0.000,2,    0.829,   2,   -999.0,9,   2300.3,2,    117.4,2,  -999.00,9,  -0.9485
  77DN19910726,Arctic,    29,  3,  81703,      5,2,19910907,   0, 90.0000,   0.0000, 4290,   3998.7,  -0.6910,  34.9418,2,  34.9410,   2,    302.0,2,    11.05,2,    14.75,2,     0.97,2,    0.000,2,    0.000,2,    0.751,   2,   -999.0,9,   2282.7,2,     48.8,2,  -999.00,9,  -0.9489
  77DN19910726,Arctic,    29,  3,  81702,      4,2,19910907,   0, 90.0000,   0.0000, 4290,   4110.9,  -0.6770,  34.9417,2,  34.9420,   2,    302.0,2,    11.05,2,    14.74,2,     0.97,2,    0.000,2,    0.000,2,    0.810,   2,   -999.0,9,   -999.0,9,     57.7,2,  -999.00,9,  -0.9462
  77DN19910726,Arctic,    29,  3,  81701,      1,2,19910907,   0, 90.0000,   0.0000, 4290,   4270.6,  -0.6610,-999.0000,9,  34.9360,   2,   -999.0,9,  -999.00,9,  -999.00,9,  -999.00,9,    0.000,2,    0.000,2,    0.780,   2,   -999.0,9,   -999.0,9,   -999.0,9,  -999.00,9,  -0.9464
  77DN19910726,Arctic,    29,  3,  81700,      2,2,19910907,   0, 90.0000,   0.0000, 4290,   4270.6,  -0.6610,-999.0000,9,  34.9350,   2,   -999.0,9,  -999.00,9,  -999.00,9,  -999.00,9,    0.000,2,    0.000,2,    0.702,   2,   -999.0,9,   2294.4,2,   -999.0,9,  -999.00,9,  -0.9464
  77DN19910726,Arctic,    29,  3,  81699,      3,2,19910907,   0, 90.0000,   0.0000, 4290,   4270.7,  -0.6600,-999.0000,9,  34.9430,   2,    302.8,2,    11.04,2,    14.63,2,     0.96,2,    0.000,2,    0.000,2,    0.976,   2,   -999.0,9,   2290.1,2,     52.8,2,  -999.00,9,  -0.9455