BOTTLE,20140714SIOCCHRJL
# Initialized CTDSAL, NITRAT and PHSPHT flags from flag 9 to 2
# Changed CCL4 flag -999 to 9
# BOTTLE,20140317PRINUNIVRMK
# 4/25/05 Initialized README file  
# 5/11/04 Data from Kozyr via CARINA site 
# 10/3/05 Another copy of data from J.Swift 
# Ship: Oden 
# Cruise: 77DN910726 
# Dates: 7/26-9/3/1991 
# EXPOCODE: 77DN19910726 
# Region: Arctic  
# Chief Scientist: L. Anderson; J.-E. Hellsvik 
# 54 stations with ?? place Rosette 
# Hydro: Who - J.Swift; Status - final 
# 	Notes: CTDSAL from CCHDO 3/17/14 
# Nuts: Who - G. Kattner/L Anderson; Status - final 
# 	Notes:autoanalyter/potentiometric titration 
# 	See Anderson et al. 1992. 
# O2: Who - Eva Falck, University of Bergen; Status - final 
# 	Notes: final oxygen data from A.Olsen 01/31/2008 
# TCO2: Who - L. Anderson; Status - final 
# 	Notes: no CRM 
# 	Data intercalibrated with later cruises where  CRM was used 
# 	Modified version of Johnson et al. 1997. 
# TA: Who - L. Anderson; Status - final 
# 	Notes: no CRM 
# 	Data intercalibrated with later cruises where CRM was used.  
# 	See Haraldsson et al., 1997. 
# CFC: Who -  P.Jones; Status - ??? 
# 	Notes: Data quality poor. Apparent severe blank/contamination problem makes flagging procedure/decisions questionable. 
# Other: DOC: 3 flagged 3; On board with Shimadzu TOC-500 
# 	O-18; Bauch et al., 1995 
# References: 
# Anderson, L.G., C. Haraldsson, and R. Lindegren, Gran linearization of potentiometric Winkler titrations. Marine Chemistry, 37, 179-190, 1992. 
# Johnson, K. M., Sieburth, J. M., Williams, P. J., & Brandstrom, L. (1987). Coulometric total carbon dioxide analysis for marine studies: automation and calibration. Marine Chemistry, 117-133. 
# Haraldsson, C., L.G. Anderson, M. Hassellov and S. Hult, Rapid, high-precision potentiometric titration of alkalinity in ocean and sediment pore waters, Deep-Sea Res., 44, 2031-2044, 1997. 
EXPOCODE,SECT_ID,STNNBR,CASTNO,SAMPNO,BTLNBR,BTLNBR_FLAG_W,DATE,TIME,LATITUDE,LONGITUDE,DEPTH,CTDPRS,CTDTMP,CTDSAL,CTDSAL_FLAG_W,SALNTY,SALNTY_FLAG_W,OXYGEN,OXYGEN_FLAG_W,SILCAT,SILCAT_FLAG_W,NITRAT,NITRAT_FLAG_W,PHSPHT,PHSPHT_FLAG_W,CFC-11,CFC-11_FLAG_W,CFC-12,CFC-12_FLAG_W,CCL4,CCL4_FLAG_W,TCARBN,TCARBN_FLAG_W,ALKALI,ALKALI_FLAG_W,DOC,DOC_FLAG_W,DELO18,DELO18_FLAG_W,THETA
,,,,,,,,,,,METERS,DBAR,ITS-90,PSS-78,,PSS-78,,UMOL/KG,,UMOL/KG,,UMOL/KG,,UMOL/KG,,PMOL/KG,,PMOL/KG,,PMOL/KG,,UMOL/KG,,UMOL/KG,,UMOL/KG,,/MILLE,,DEG C
  77DN19910726,Arctic,     4,  1,  81022,     12,2,19910817,   0, 81.3400,  19.8400,  662,      4.7,   1.5430,-999.0000,9,  32.0560,   2,    355.4,2,     0.25,4,     0.30,2,     0.14,2,    3.639,3,    5.483,3,   15.005,   2,   1925.1,2,   2112.4,2,     74.7,2,     0.00,2,   1.5428
  77DN19910726,Arctic,     4,  1,  81021,     11,2,19910817,   0, 81.3400,  19.8400,  662,     14.8,   3.2200,-999.0000,9,  33.7080,   2,    355.4,2,     2.05,4,     2.10,2,     0.21,2,    2.439,3,    5.063,3,   11.873,   2,   2036.0,2,   2219.3,2,     69.8,2,  -999.00,9,   3.2191
  77DN19910726,Arctic,     4,  1,  81020,     10,2,19910817,   0, 81.3400,  19.8400,  662,     29.8,   3.5420,-999.0000,9,  34.6880,   2,    335.9,2,     5.92,4,     5.90,2,     0.42,2,    2.820,3,    4.741,3,   11.132,   2,   2092.1,2,   2270.7,2,     63.8,2,     0.12,2,   3.5401
  77DN19910726,Arctic,     4,  1,  81019,      9,2,19910817,   0, 81.3400,  19.8400,  662,     50.4,   3.1800,-999.0000,9,  34.8050,   2,    323.3,2,     8.46,4,     8.50,2,     0.55,2,    2.927,3,    4.654,3,   11.317,   2,   2127.0,2,   2278.8,2,     64.0,2,  -999.00,9,   3.1769
  77DN19910726,Arctic,     4,  1,  81018,      8,2,19910817,   0, 81.3400,  19.8400,  662,     74.6,   3.5540,-999.0000,9,  34.9370,   2,    304.8,2,    10.88,4,    10.90,2,     0.65,2,    2.898,3,    5.054,3,   11.200,   2,   2143.0,2,   2284.5,2,     47.4,2,     0.24,2,   3.5491
  77DN19910726,Arctic,     4,  1,  81017,      7,2,19910817,   0, 81.3400,  19.8400,  662,    100.8,   3.6730,-999.0000,9,  35.0070,   2,    304.8,2,    11.82,4,    11.80,2,     0.69,2,    2.410,3,    3.590,3,   11.151,   2,   2153.7,2,   2280.6,2,     58.9,2,  -999.00,9,   3.6662
  77DN19910726,Arctic,     4,  1,  81016,      6,2,19910817,   0, 81.3400,  19.8400,  662,    150.4,   3.0620,-999.0000,9,  34.9780,   2,    308.7,2,    11.72,4,    11.70,2,     0.73,2,    2.488,3,    5.063,3,   11.981,   2,   2156.9,2,   2279.8,2,     51.1,2,     0.30,2,   3.0526
  77DN19910726,Arctic,     4,  1,  81015,      5,2,19910817,   0, 81.3400,  19.8400,  662,    200.0,   2.8440,-999.0000,9,  34.9650,   2,    310.6,2,    12.02,4,    12.00,2,     0.73,2,    2.566,3,    5.180,3,   12.088,   2,   2162.4,2,   -999.0,9,     56.0,2,  -999.00,9,   2.8318
  77DN19910726,Arctic,     4,  1,  81014,      4,2,19910817,   0, 81.3400,  19.8400,  662,    250.0,   2.7720,-999.0000,9,  34.9690,   2,    308.7,2,    12.04,4,    12.00,2,     0.73,2,    2.663,3,    4.166,3,   12.449,   2,   2162.5,2,   2279.8,2,     46.6,2,  -999.00,9,   2.7568
  77DN19910726,Arctic,     4,  1,  81013,      3,2,19910817,   0, 81.3400,  19.8400,  662,    300.1,   2.8410,-999.0000,9,  35.0020,   2,    284.3,2,    12.52,4,    12.50,2,     0.73,2,    2.507,3,    5.005,3,   12.156,   2,   2160.3,2,   2287.3,2,     40.1,2,     0.30,2,   2.8224
  77DN19910726,Arctic,     4,  1,  81012,      2,2,19910817,   0, 81.3400,  19.8400,  662,    400.6,   2.3170,-999.0000,9,  34.9880,   2,    295.0,2,    12.49,4,    12.50,2,     0.75,2,    2.371,3,    4.771,3,   11.737,   2,   2162.9,2,   2283.0,2,     50.3,2,  -999.00,9,   2.2936
  77DN19910726,Arctic,     4,  1,  81011,      1,2,19910817,   0, 81.3400,  19.8400,  662,    500.0,   2.1590,-999.0000,9,  34.9820,   2,    295.0,2,    13.04,4,    13.00,2,     0.79,2,    2.371,3,    4.839,3,   10.663,   2,   2165.3,2,   2279.0,2,     43.4,2,     0.28,2,   2.1300
  77DN19910726,Arctic,     5,  1,  81046,     24,2,19910819,   0, 83.5600,  27.6300, 4051,      6.4,  -1.6250,  33.5328,2,  33.5470,   2,    360.3,2,     2.85,2,     5.64,2,     0.42,2,    5.385,2,    2.790,2,    8.244,   2,   2061.0,2,   2214.3,2,     93.2,2,  -999.00,9,  -1.6251
  77DN19910726,Arctic,     5,  1,  81045,     23,2,19910819,   0, 83.5600,  27.6300, 4051,     16.6,  -1.6460,  33.6254,2,  33.7130,   2,    358.6,2,     2.90,2,     5.94,2,     0.43,2,    6.341,2,    2.829,2,    8.302,   2,   2068.0,2,   2221.9,2,     93.3,2,  -999.00,9,  -1.6463
  77DN19910726,Arctic,     5,  1,  81044,     22,2,19910819,   0, 83.5600,  27.6300, 4051,     31.9,  -1.6630,  34.0487,2,  34.1740,   2,    354.6,2,     2.99,2,     6.48,2,     0.47,2,    5.659,2,    2.771,2,    7.717,   2,   2096.7,2,   2252.9,2,     73.1,2,  -999.00,9,  -1.6636
  77DN19910726,Arctic,     5,  1,  81039,     17,2,19910819,   0, 83.5600,  27.6300, 4051,    198.0,   1.3500,  34.7938,2,  34.7970,   2,    308.6,2,     5.40,2,    12.06,2,     0.77,2,    4.976,2,    1.707,3,    6.351,   2,   2141.4,2,   2296.1,2,     65.1,2,  -999.00,9,   1.3404
  77DN19910726,Arctic,     5,  1,  81038,     16,2,19910819,   0, 83.5600,  27.6300, 4051,    288.9,   1.6560,  34.9136,2,  34.9200,   2,    304.6,2,     5.76,2,    13.12,2,     0.79,2,    3.473,2,    1.668,2,    6.215,   2,   2146.2,2,   2294.9,2,     79.2,2,  -999.00,9,   1.6410
  77DN19910726,Arctic,     5,  1,  81037,     15,2,19910819,   0, 83.5600,  27.6300, 4051,    496.1,   0.8440,  34.9210,2,  34.9230,   2,    302.8,2,     6.31,2,    12.96,2,     0.80,2,    1.912,2,    0.868,2,    4.702,   2,   2153.4,2,   2299.2,2,     61.1,2,  -999.00,9,   0.8206
  77DN19910726,Arctic,     5,  1,  81036,     14,2,19910819,   0, 83.5600,  27.6300, 4051,    745.7,   0.1580,  34.9085,2,  34.9100,   2,    305.4,2,     6.60,2,    12.89,2,     0.81,2,    1.385,2,    0.429,2,    4.371,   2,   2154.2,2,   2289.2,2,     54.5,2,  -999.00,9,   0.1254
  77DN19910726,Arctic,     5,  1,  81035,     13,2,19910819,   0, 83.5600,  27.6300, 4051,    997.1,  -0.1590,  34.9117,2,  34.9140,   2,    305.0,2,     7.34,2,    13.16,2,     0.84,2,    0.683,2,    0.410,2,    3.639,   2,   2157.5,2,   2297.2,2,     76.8,2,  -999.00,9,  -0.2022
  77DN19910726,Arctic,     5,  1,  81034,     12,2,19910819,   0, 83.5600,  27.6300, 4051,   1296.2,  -0.4500,  34.9171,2,  34.9190,   2,    304.6,2,     8.57,2,    13.77,2,     0.90,2,    0.712,2,    0.293,2,    3.044,   2,   2158.1,2,   2300.6,2,    144.8,2,  -999.00,9,  -0.5066
  77DN19910726,Arctic,     5,  1,  81033,     11,2,19910819,   0, 83.5600,  27.6300, 4051,   1595.6,  -0.6210,  34.9212,2,  34.9220,   2,    300.9,2,     9.74,2,    14.44,2,     0.93,2,    0.624,2,    0.195,2,    2.273,   2,   2157.0,2,   2293.9,2,     71.9,2,  -999.00,9,  -0.6926
  77DN19910726,Arctic,     5,  1,  81032,     10,2,19910819,   0, 83.5600,  27.6300, 4051,   1897.2,  -0.7300,  34.9223,2,  34.9240,   2,    301.9,2,    10.27,2,    14.51,2,     0.94,2,    0.078,2,    0.088,2,    1.424,   2,   2157.8,2,   2296.8,2,     71.2,2,  -999.00,9,  -0.8186
  77DN19910726,Arctic,     5,  1,  81031,      9,2,19910819,   0, 83.5600,  27.6300, 4051,   2096.8,  -0.7680,  34.9236,2,  34.9240,   2,    304.5,2,    10.48,2,    14.57,2,     0.94,2,    0.195,2,    0.137,2,    1.561,   2,   2157.3,2,   2293.3,2,     29.5,2,  -999.00,9,  -0.8689
  77DN19910726,Arctic,     5,  1,  81029,      8,2,19910819,   0, 83.5600,  27.6300, 4051,   2398.4,  -0.7930,  34.9275,2,  34.9320,   2,    300.9,2,  -999.00,9,  -999.00,9,     0.97,2,    0.556,2,    0.078,2,    1.083,   2,   2156.4,2,   2295.4,2,     34.6,2,  -999.00,9,  -0.9142
  77DN19910726,Arctic,     5,  1,  81028,      7,2,19910819,   0, 83.5600,  27.6300, 4051,   2696.7,  -0.7760,  34.9325,2,  34.9350,   2,   -999.0,9,    10.84,2,    14.66,2,     0.98,2,    0.537,2, -999.000,9,    0.693,   2,   2149.2,2,   2296.5,2,     56.3,2,  -999.00,9,  -0.9195
  77DN19910726,Arctic,     5,  1,  81027,      6,2,19910819,   0, 83.5600,  27.6300, 4051,   3002.9,  -0.7600,  34.9367,2,  34.9380,   2,    304.1,2,    11.00,2,    14.82,2,     0.97,2,    0.000,3, -999.000,9,    1.580,   2,   2153.7,2,   2294.4,2,     84.2,2,  -999.00,9,  -0.9278
  77DN19910726,Arctic,     5,  1,  81026,      5,2,19910819,   0, 83.5600,  27.6300, 4051,   3201.6,  -0.7310,  34.9394,2,  34.9410,   2,    299.5,2,    11.14,2,    14.81,2,     0.99,2,    0.439,2, -999.000,9,    1.307,   2,   2158.5,2,   2300.8,2,     33.9,2,  -999.00,9,  -0.9159
  77DN19910726,Arctic,     5,  1,  81025,      4,2,19910819,   0, 83.5600,  27.6300, 4051,   3506.2,  -0.7030,  34.9420,2,  34.9430,   2,    299.8,2,    11.27,2,    14.69,2,     1.01,2,    0.049,2, -999.000,9,    0.234,   2,   2161.5,2,   2304.6,2,     24.0,2,  -999.00,9,  -0.9150
  77DN19910726,Arctic,     5,  1,  81024,      3,2,19910819,   0, 83.5600,  27.6300, 4051,   3739.7,  -0.6830,  34.9436,2,  34.9420,   2,    302.9,2,    11.33,2,    14.69,2,     1.02,2,    0.010,2, -999.000,9,    0.224,   2,   2154.0,2,   2309.3,2,     35.6,2,  -999.00,9,  -0.9167
  77DN19910726,Arctic,     5,  1,  81023,      2,2,19910819,   0, 83.5600,  27.6300, 4051,   3936.1,  -0.6710,  34.9439,2,  34.9420,   2,    299.5,2,    11.32,2,    14.94,2,     1.04,2,    0.078,2, -999.000,9,    0.098,   2,   2157.5,2,   2300.9,2,     50.8,2,  -999.00,9,  -0.9234
  77DN19910726,Arctic,     8,  2,  81058,     12,2,19910820,   0, 83.5800,  25.9600, 4051,     10.0,  -1.6760,  33.3681,2,  33.5450,   2,    361.0,2,     2.79,2,     5.55,2,     0.39,2,    5.795,2,    2.927,2,    7.639,   2,   2055.7,2,   2215.2,2,     68.9,2,    -0.41,2,  -1.6762
  77DN19910726,Arctic,     8,  2,  81057,     11,2,19910820,   0, 83.5800,  25.9600, 4051,     20.2,  -1.6050,  33.6844,2,  33.8770,   2,    356.7,2,     2.90,2,     5.91,2,     0.41,2,    5.776,2,    2.605,2,    7.707,   2,   2074.2,2,   2231.5,2,     43.6,2,    -0.34,2,  -1.6054
  77DN19910726,Arctic,     8,  2,  81056,     10,2,19910820,   0, 83.5800,  25.9600, 4051,     40.0,  -1.7400,  34.1443,2,  34.2100,   2,    349.6,2,     3.08,2,     6.72,2,     0.45,2,    5.337,2,    2.585,2,    6.995,   2,   2105.8,2,   2254.2,2,     58.2,2,    -0.29,2,  -1.7408
  77DN19910726,Arctic,     8,  2,  81055,      9,2,19910820,   0, 83.5800,  25.9600, 4051,     60.2,  -1.8030,  34.2228,2,  34.2550,   2,    348.5,2,     3.15,2,     7.20,2,     0.47,2,    5.580,2,    2.751,2,    7.063,   2,   2107.6,2,   2257.5,2,     46.4,2,    -0.30,2,  -1.8042
  77DN19910726,Arctic,     8,  2,  81054,      8,2,19910820,   0, 83.5800,  25.9600, 4051,     80.0,  -1.8230,  34.2587,2,  34.2760,   2,    342.6,2,     3.31,2,     7.44,2,     0.50,2,    5.454,2,    2.556,2,    6.702,   2,   2112.4,2,   2266.0,2,     84.8,2,    -0.37,2,  -1.8246
  77DN19910726,Arctic,     8,  2,  81053,      7,2,19910820,   0, 83.5800,  25.9600, 4051,    100.0,  -1.8140,  34.2924,2,  34.3050,   2,    342.5,2,     3.25,2,     7.48,2,     0.49,2,    5.210,2,    2.576,2,    6.868,   2,   2119.8,2,   2257.4,2,     59.3,2,    -0.32,2,  -1.8160
  77DN19910726,Arctic,     8,  2,  81052,      6,2,19910820,   0, 83.5800,  25.9600, 4051,    125.1,  -0.7000,  34.3939,2,  34.3980,   2,    316.2,2,     4.57,2,     9.40,2,     0.59,2,    4.829,2,    1.161,3,    3.961,   2,   2137.4,2,   -999.0,9,     74.6,2,    -0.08,2,  -0.7037
  77DN19910726,Arctic,     8,  2,  81051,      5,2,19910820,   0, 83.5800,  25.9600, 4051,    150.0,   0.4800,  34.6119,2,  34.6200,   2,    305.2,2,     5.30,2,    11.15,2,     0.68,2,    3.337,2,    1.502,2,    5.493,   2,   2143.4,2,   2276.3,2,     65.0,2,     0.10,2,   0.4739
  77DN19910726,Arctic,     8,  2,  81050,      4,2,19910820,   0, 83.5800,  25.9600, 4051,    175.1,   1.0600,  34.7477,2,  34.7370,   2,    302.5,2,     5.35,2,    11.77,2,     0.71,2,    3.512,2,    1.600,2,    5.541,   2,   2141.1,2,   2277.2,2,     59.1,2,     0.17,2,   1.0520
  77DN19910726,Arctic,     8,  2,  81049,      3,2,19910820,   0, 83.5800,  25.9600, 4051,    250.1,   1.6190,  34.9105,2,  34.9090,   2,    303.7,2,     5.67,2,    12.64,2,     0.75,2,    3.356,2,    1.600,2,    5.912,   2,   2147.2,2,   2283.7,2,     54.5,2,     0.22,2,   1.6061
  77DN19910726,Arctic,     8,  2,  81048,      2,2,19910820,   0, 83.5800,  25.9600, 4051,    400.0,   0.8670,-999.0000,9,  34.9140,   2,   -999.0,9,     6.27,2,    12.80,2,     0.78,2,    1.288,2,    0.585,2,    3.951,   2,   2142.9,2,   2286.5,2,     65.9,2,  -999.00,9,   0.8484
  77DN19910726,Arctic,     8,  2,  81047,      1,2,19910820,   0, 83.5800,  25.9600, 4051,    600.0,   0.1180,-999.0000,9,  34.8900,   2,    301.1,2,     5.98,2,    12.43,2,     0.78,2,    0.332,2,    0.341,2,    3.395,   2,   2147.2,2,   2284.5,2,     50.1,2,  -999.00,9,   0.0928
  77DN19910726,Arctic,     9,  3,  81098,     12,2,19910824,   0, 85.0700,  42.3000, 4008,      5.0,  -1.7360,  33.6105,2,  33.4750,   2,    361.0,2,     2.73,2,     5.43,2,     0.44,2,    6.185,2,    2.917,2,    8.898,   2,   2062.4,2,   -999.0,9,     53.6,2,    -0.29,2,  -1.7361
  77DN19910726,Arctic,     9,  4,  81086,     24,2,19910824,   0, 85.0700,  42.3000, 4008,      7.0,  -1.7710,  33.6239,2,  32.2050,   3,    359.7,2,     2.83,2,     5.58,2,     0.44,2, -999.000,9, -999.000,9, -999.000,   9,   2068.8,2,   2221.3,2,   -999.0,9,  -999.00,9,  -1.7711
  77DN19910726,Arctic,     9,  3,  81097,     11,2,19910824,   0, 85.0700,  42.3000, 4008,     15.2,  -1.7780,  33.6639,2,  33.6840,   2,    351.5,2,     2.73,2,     5.63,2,     0.45,2,    6.049,2,    4.049,3,    8.800,   2,   2076.9,2,   -999.0,9,     60.2,2,    -0.23,2,  -1.7783
  77DN19910726,Arctic,     9,  3,  81096,     10,2,19910824,   0, 85.0700,  42.3000, 4008,     30.0,  -1.7610,  33.7517,2,  33.7620,   2,   -999.0,9,     2.82,2,     5.80,2,     0.45,2,    6.088,2,    2.985,2,    8.820,   2,   2076.5,2,   -999.0,9,     63.6,2,    -0.19,2,  -1.7616
  77DN19910726,Arctic,     9,  3,  81095,      9,2,19910824,   0, 85.0700,  42.3000, 4008,     50.0,  -1.8250,  34.1076,2,  34.1050,   2,    350.5,2,     2.96,2,     7.35,2,     0.53,2,    6.156,2,    2.966,2,    8.829,   2,   2098.4,2,   -999.0,9,     53.9,2,    -0.06,2,  -1.8259
  77DN19910726,Arctic,     9,  3,  81094,      8,2,19910824,   0, 85.0700,  42.3000, 4008,     74.9,  -1.8350,  34.1517,2,  34.1400,   2,    343.7,2,     3.11,2,     7.66,2,     0.56,2,    6.068,2,    2.927,2,    8.556,   2,   2100.8,2,   -999.0,9,     79.3,2,    -0.10,2,  -1.8364
  77DN19910726,Arctic,     9,  3,  81093,      7,2,19910824,   0, 85.0700,  42.3000, 4008,     99.9,  -1.5620,  34.2494,2,  34.2080,   2,    334.6,2,     3.61,2,     8.43,2,     0.59,2,    5.220,2,    2.556,2,    6.976,   2,   2114.9,2,   -999.0,9,     69.8,2,    -0.03,2,  -1.5642
  77DN19910726,Arctic,     9,  4,  81085,     23,2,19910824,   0, 85.0700,  42.3000, 4008,    121.0,  -0.4140,  34.3951,2,  34.3830,   2,    311.7,2,     4.35,2,     9.72,2,     0.66,2,    3.912,2,    2.010,2,    5.776,   2,   2127.4,2,   2262.6,2,   -999.0,9,  -999.00,9,  -0.4179
  77DN19910726,Arctic,     9,  3,  81092,      6,2,19910824,   0, 85.0700,  42.3000, 4008,    150.0,   0.7600,  34.6230,2,  34.6190,   2,    305.3,2,     5.07,2,    11.43,2,     0.74,2,    3.707,2,    1.756,2,    6.234,   2,   2138.6,2,   -999.0,9,     59.4,2,     0.16,2,   0.7536
  77DN19910726,Arctic,     9,  4,  81084,     22,2,19910824,   0, 85.0700,  42.3000, 4008,    173.5,   1.2600,  34.7700,2,  34.7350,   2,    300.1,2,     5.23,2,    11.59,2,     0.77,2,    3.698,2,    1.795,2,    5.727,   2,   2141.1,2,   2276.0,2,   -999.0,9,  -999.00,9,   1.2518
  77DN19910726,Arctic,     9,  3,  81091,      5,2,19910824,   0, 85.0700,  42.3000, 4008,    200.0,   1.4970,  34.8266,2,  34.8190,   2,    303.1,2,     5.38,2,    12.06,2,     0.80,2,    3.717,2,    1.785,2,    6.283,   2,   2137.6,2,   -999.0,9,     43.6,2,     0.36,2,   1.4870
  77DN19910726,Arctic,     9,  3,  81090,      4,2,19910824,   0, 85.0700,  42.3000, 4008,    250.0,   1.6870,  34.8926,2,  34.8910,   2,   -999.0,9,     5.63,2,    12.47,2,     0.82,2,    3.385,2,    1.610,2,    6.029,   2,   2148.6,2,   -999.0,9,     51.4,2,  -999.00,9,   1.6740
  77DN19910726,Arctic,     9,  3,  81089,      3,2,19910824,   0, 85.0700,  42.3000, 4008,    300.0,   1.6430,  34.9225,2,  34.9210,   2,    305.8,2,     5.70,2,    12.59,2,     0.84,2,    3.532,2,    1.717,2,    6.488,   2,   2147.2,2,   -999.0,9,     45.0,2,     0.36,2,   1.6274
  77DN19910726,Arctic,     9,  3,  81088,      2,2,19910824,   0, 85.0700,  42.3000, 4008,    400.0,   1.2940,  34.9266,2,  34.9260,   2,   -999.0,9,     5.98,2,    12.71,2,     0.83,2,    2.546,2,    1.229,2,    5.561,   2,   2146.8,2,   -999.0,9,     42.0,2,  -999.00,9,   1.2740
  77DN19910726,Arctic,     9,  3,  81087,      1,2,19910824,   0, 85.0700,  42.3000, 4008,    500.0,   0.9650,  34.9188,2,  34.9170,   2,    301.4,2,     6.16,2,    12.73,2,     0.84,2,    1.580,2,    0.800,2,    4.673,   2,   2145.6,2,   -999.0,9,     40.8,2,  -999.00,9,   0.9409