BOTTLE,20140714SIOCCHRJL
EXPOCODE,SECT_ID,STNNBR,CASTNO,SAMPNO,BTLNBR,BTLNBR_FLAG_W,DATE,TIME,LATITUDE,LONGITUDE,DEPTH,CTDPRS,CTDTMP,CTDSAL,CTDSAL_FLAG_W,SALNTY,SALNTY_FLAG_W,OXYGEN,OXYGEN_FLAG_W,SILCAT,SILCAT_FLAG_W,NITRAT,NITRAT_FLAG_W,PHSPHT,PHSPHT_FLAG_W,CFC-11,CFC-11_FLAG_W,CFC-12,CFC-12_FLAG_W,CCL4,CCL4_FLAG_W,TCARBN,TCARBN_FLAG_W,ALKALI,ALKALI_FLAG_W,DOC,DOC_FLAG_W,DELO18,DELO18_FLAG_W,THETA
,,,,,,,,,,,METERS,DBAR,ITS-90,PSS-78,,PSS-78,,UMOL/KG,,UMOL/KG,,UMOL/KG,,UMOL/KG,,PMOL/KG,,PMOL/KG,,PMOL/KG,,UMOL/KG,,UMOL/KG,,UMOL/KG,,/MILLE,,DEG C
  77DN19910726,Arctic,    47,  2,  82310,     24,2,19910922,   0, 84.2200,  -2.4400, 2730,     16.7,  -1.7870,  32.7750,2,  32.8170,   2,    373.9,2,     6.13,2,     3.94,2,     0.52,2,    6.927,2,    2.937,2,   10.254,   2,   2130.7,2,   2240.5,2,   -999.0,9,  -999.00,9,  -1.7873
  77DN19910726,Arctic,    47,  2,  82309,     23,2,19910922,   0, 84.2200,  -2.4400, 2730,     39.7,  -1.7060,  33.4851,2,  33.5000,   2,    345.7,2,     8.87,2,     6.74,2,     0.67,2,    5.220,2,    2.478,2,    7.268,   2,   2159.1,2,   2272.1,2,   -999.0,9,  -999.00,9,  -1.7067
  77DN19910726,Arctic,    47,  2,  82308,     22,2,19910922,   0, 84.2200,  -2.4400, 2730,     49.6,  -1.7640,  33.6486,2,  33.6700,   2,    354.4,2,     6.19,2,     5.95,2,     0.56,2,    5.502,2,    2.449,2,    7.737,   2,   2171.0,2,   2273.4,2,   -999.0,9,  -999.00,9,  -1.7649
  77DN19910726,Arctic,    47,  2,  82307,     21,2,19910922,   0, 84.2200,  -2.4400, 2730,     70.1,  -1.6830,  33.9319,2,  33.9670,   2,    332.0,2,     6.42,2,     7.69,2,     0.62,2,    4.146,2,    2.146,2,    6.537,   2,   2146.0,2,   2263.4,2,   -999.0,9,  -999.00,9,  -1.6844
  77DN19910726,Arctic,    47,  2,  82306,     20,2,19910922,   0, 84.2200,  -2.4400, 2730,     91.0,  -1.5840,  34.1397,2,  34.1440,   2,    333.0,2,     4.95,2,     7.73,2,     0.58,2,    4.078,2,    1.980,2,    7.220,   2,   2139.5,2,   2263.5,2,   -999.0,9,  -999.00,9,  -1.5859
  77DN19910726,Arctic,    47,  2,  82305,     19,2,19910922,   0, 84.2200,  -2.4400, 2730,    150.7,  -0.3580,  34.5015,2,  34.4950,   2,    309.6,2,     5.83,2,    10.29,2,     0.70,2,    2.537,2,    1.483,2,    6.263,   2,   2142.6,2,   2276.5,2,   -999.0,9,  -999.00,9,  -0.3630
  77DN19910726,Arctic,    47,  2,  82304,     18,2,19910922,   0, 84.2200,  -2.4400, 2730,    201.3,   0.2760,  34.7115,2,  34.7100,   2,    306.7,2,     6.11,2,    11.65,2,     0.77,2,    3.063,2,    1.502,2,    6.546,   2,   2142.3,2,   2279.7,2,   -999.0,9,  -999.00,9,   0.2681
  77DN19910726,Arctic,    47,  2,  82303,     17,2,19910922,   0, 84.2200,  -2.4400, 2730,    319.4,   0.7050,  34.8544,2,  34.8540,   2,    306.7,2,     6.13,2,    12.59,2,     0.81,2,    2.790,2,    1.424,2,    7.024,   2,   2144.8,2,   2291.1,2,   -999.0,9,  -999.00,9,   0.6908
  77DN19910726,Arctic,    47,  2,  82302,     16,2,19910922,   0, 84.2200,  -2.4400, 2730,    400.9,   0.6400,  34.8756,2,  34.8760,   2,   -999.0,9,     6.23,2,    12.77,2,     0.82,2,    2.546,2,    1.424,2,    7.356,   2,   2143.6,2,   2287.2,2,   -999.0,9,  -999.00,9,   0.6221
  77DN19910726,Arctic,    47,  2,  82301,     15,2,19910922,   0, 84.2200,  -2.4400, 2730,    548.6,   0.2840,  34.8788,2,  34.8790,   2,    313.5,2,     6.29,2,    12.75,2,     0.82,2,    2.780,2,    1.512,2,    7.824,   2,   2140.8,2,   2300.1,2,   -999.0,9,  -999.00,9,   0.2604
  77DN19910726,Arctic,    47,  2,  82300,     14,2,19910922,   0, 84.2200,  -2.4400, 2730,    701.6,  -0.0250,  34.8806,2,  34.8790,   2,    305.7,2,     6.73,2,    12.89,2,     0.84,2,    2.244,2,    1.229,2,    6.780,   2,   2153.3,2,   2305.8,2,   -999.0,9,  -999.00,9,  -0.0543
  77DN19910726,Arctic,    47,  2,  82299,     13,2,19910922,   0, 84.2200,  -2.4400, 2730,    849.7,  -0.1960,  34.8875,2,  34.8880,   2,    309.6,2,     7.10,2,    13.03,2,     0.86,2,    2.254,2,    1.259,2,    6.341,   2,   2152.6,2,   2299.0,2,   -999.0,9,  -999.00,9,  -0.2314
  77DN19910726,Arctic,    47,  2,  82298,     12,2,19910922,   0, 84.2200,  -2.4400, 2730,    998.8,  -0.3000,  34.8980,2,  34.8970,   2,    307.7,2,     7.59,2,    13.24,2,     0.87,2,    1.961,2,    1.112,2,    6.078,   2,   2152.9,2,   2293.8,2,   -999.0,9,  -999.00,9,  -0.3421
  77DN19910726,Arctic,    47,  2,  82297,     11,2,19910922,   0, 84.2200,  -2.4400, 2730,   1250.6,  -0.4050,  34.9144,2,  34.9130,   2,    305.7,2,     8.75,2,    13.86,2,     0.92,2,    0.927,2,    0.702,2,    4.263,   2,   2154.5,2,   2292.4,2,   -999.0,9,  -999.00,9,  -0.4595
  77DN19910726,Arctic,    47,  2,  82296,     10,2,19910922,   0, 84.2200,  -2.4400, 2730,   1499.7,  -0.4790,  34.9236,2,  34.9220,   2,    301.9,2,     9.88,2,    14.34,2,     0.94,2,    0.312,2,    0.390,2,    2.741,   2,   2155.1,2,   2284.6,2,   -999.0,9,  -999.00,9,  -0.5468
  77DN19910726,Arctic,    47,  2,  82295,      9,2,19910922,   0, 84.2200,  -2.4400, 2730,   1599.3,  -0.5050,  34.9262,2,  34.9250,   2,    300.9,2,    10.22,2,    14.52,2,     0.95,2,    0.341,2,    0.351,2,    2.312,   2,   2151.3,2,   2299.8,2,   -999.0,9,  -999.00,9,  -0.5784
  77DN19910726,Arctic,    47,  2,  82294,      8,2,19910922,   0, 84.2200,  -2.4400, 2730,   1701.3,  -0.5320,  34.9276,2,  34.9260,   2,    300.9,2,    10.47,2,    14.66,2,     0.96,2,    0.117,2,    0.361,2,    2.224,   2,   2150.6,2,   -999.0,9,   -999.0,9,  -999.00,9,  -0.6112
  77DN19910726,Arctic,    47,  2,  82293,      7,2,19910922,   0, 84.2200,  -2.4400, 2730,   1849.4,  -0.5810,  34.9275,2,  34.9260,   2,    304.8,2,    10.69,2,    14.76,2,     0.96,2,    0.127,2,    0.254,2,    2.039,   2,   -999.0,9,   2289.4,2,   -999.0,9,  -999.00,9,  -0.6687
  77DN19910726,Arctic,    47,  2,  82292,      6,2,19910922,   0, 84.2200,  -2.4400, 2730,   1976.3,  -0.6150,  34.9261,2,  34.9250,   2,    301.9,2,    10.72,2,    14.79,2,     0.96,2,    0.439,2,    0.302,2,    1.922,   2,   2148.5,2,   2290.1,2,   -999.0,9,  -999.00,9,  -0.7104
  77DN19910726,Arctic,    47,  2,  82291,      5,2,19910922,   0, 84.2200,  -2.4400, 2730,   2250.1,  -0.6920,  34.9252,2,  34.9260,   2,    303.8,2,    10.69,2,    14.90,2,     0.96,2,    0.468,2,    0.254,2,    1.756,   2,   -999.0,9,   2295.4,2,   -999.0,9,  -999.00,9,  -0.8046
  77DN19910726,Arctic,    47,  2,  82290,      4,2,19910922,   0, 84.2200,  -2.4400, 2730,   2300.2,  -0.7010,  34.9258,2,  34.9260,   2,    308.7,2,    10.75,2,    14.87,2,     0.97,2,    0.000,2,    0.293,2,    2.039,   2,   2148.9,2,   2291.4,2,   -999.0,9,  -999.00,9,  -0.8169
  77DN19910726,Arctic,    47,  2,  82289,      3,2,19910922,   0, 84.2200,  -2.4400, 2730,   2400.3,  -0.7190,  34.9266,2,  34.9270,   2,    303.8,2,    10.75,2,    14.85,2,     0.97,2,    0.000,2,    0.224,2,    1.727,   2,   -999.0,9,   2287.2,2,   -999.0,9,  -999.00,9,  -0.8417
  77DN19910726,Arctic,    47,  2,  82288,      2,2,19910922,   0, 84.2200,  -2.4400, 2730,   2552.0,  -0.7550,  34.9291,2,  34.9280,   2,    307.7,2,    10.88,2,    14.87,2,     0.97,2,    0.000,2,    0.224,2,    1.522,   2,   2147.9,2,   2289.8,2,   -999.0,9,  -999.00,9,  -0.8880
  77DN19910726,Arctic,    47,  2,  82287,      1,2,19910922,   0, 84.2200,  -2.4400, 2730,   2710.3,  -0.7720,-999.0000,9,  34.9310,   2,    307.7,2,    10.94,2,    14.92,2,     0.97,2,    0.000,2,    0.000,2,    1.766,   2,   -999.0,9,   2288.3,2,   -999.0,9,  -999.00,9,  -0.9166
  77DN19910726,Arctic,    48,  5,  82346,     12,2,19910923,   0, 84.0400,   0.4400, 3750,     10.4,  -1.7950,  32.9537,2,  32.9710,   2,    378.8,2,     4.93,2,     3.81,2,     0.43,2,    8.702,2,    3.727,2,   15.785,   2,   2133.8,2,   2249.7,2,    101.8,2,    -2.22,2,  -1.7952
  77DN19910726,Arctic,    48,  1,  82334,     24,2,19910923,   0, 84.0400,   0.4400, 3750,     17.9,  -1.7890,  32.9650,2,  32.9650,   2,    373.9,2,     4.93,2,     3.71,2,     0.44,2,    7.180,3,    4.205,3,   15.805,   2,   2152.2,2,   2246.0,2,    418.3,2,  -999.00,9,  -1.7893
  77DN19910726,Arctic,    48,  5,  82345,     11,2,19910923,   0, 84.0400,   0.4400, 3750,     25.3,  -1.7980,  33.1135,2,  32.9730,   2,    372.9,2,     4.92,2,     3.81,2,     0.43,2,    8.576,2,    3.337,2,   15.522,   2,   2134.1,2,   2246.1,2,    103.3,2,    -2.22,2,  -1.7984
  77DN19910726,Arctic,    48,  5,  82344,     10,2,19910923,   0, 84.0400,   0.4400, 3750,     34.9,  -1.7980,  33.4193,2,  33.0090,   3,    372.9,2,     4.90,2,     3.89,2,     0.43,2,    8.429,2,    3.385,2,   15.200,   2,   2136.1,2,   2249.3,2,    102.6,2,    -2.14,2,  -1.7986
  77DN19910726,Arctic,    48,  5,  82343,      9,2,19910923,   0, 84.0400,   0.4400, 3750,     60.4,  -1.7510,  33.8385,2,  33.8210,   2,    349.6,2,     4.97,2,     6.38,2,     0.52,2,    6.283,2,    2.624,2,    9.356,   2,   2148.5,2,   2263.9,2,     87.8,2,    -1.11,2,  -1.7521
  77DN19910726,Arctic,    48,  5,  82342,      8,2,19910923,   0, 84.0400,   0.4400, 3750,     75.4,  -1.7170,  33.9917,2,  33.9750,   2,    345.7,2,     4.99,2,     7.01,2,     0.55,2,    5.717,2,    2.449,2,    9.180,   2,   2148.5,2,   2264.0,2,     81.5,2,    -0.36,2,  -1.7185
  77DN19910726,Arctic,    48,  5,  82341,      7,2,19910923,   0, 84.0400,   0.4400, 3750,    100.5,  -1.3290,  34.2219,2,  34.2380,   2,    323.3,2,     5.54,2,     8.96,2,     0.64,2,    4.195,2,    1.824,2,    7.522,   2,   2143.2,2,   2270.9,2,     68.0,2,    -0.26,2,  -1.3314
  77DN19910726,Arctic,    48,  5,  82340,      6,2,19910923,   0, 84.0400,   0.4400, 3750,    150.3,  -0.3410,  34.5025,2,  34.5110,   2,    307.7,2,     5.86,2,    10.42,2,     0.71,2,    3.473,2,    1.688,2,    7.922,   2,   2147.5,2,   2272.2,2,     61.8,2,    -0.03,2,  -0.3460
  77DN19910726,Arctic,    48,  5,  82339,      5,2,19910923,   0, 84.0400,   0.4400, 3750,    190.2,   0.6460,  34.6838,2,  34.7050,   2,    308.7,2,     5.76,2,    11.59,2,     0.76,2,    3.112,2,    1.512,2,    8.478,   2,   2140.7,2,   2291.8,2,     58.4,2,     0.14,2,   0.6379
  77DN19910726,Arctic,    48,  5,  82338,      4,2,19910923,   0, 84.0400,   0.4400, 3750,    259.3,   0.7160,  34.8516,2,  34.8240,   2,    307.7,2,     5.85,2,    12.33,2,     0.79,2,    3.541,2,    1.707,2,    9.278,   2,   2149.4,2,   2287.5,2,     57.6,2,     0.18,2,   0.7046
  77DN19910726,Arctic,    48,  5,  82337,      3,2,19910923,   0, 84.0400,   0.4400, 3750,    320.1,   0.9040,  34.8954,2,  34.8750,   2,    309.6,2,     5.97,2,    12.68,2,     0.81,2,    3.132,2,    1.590,2,    9.356,   2,   2146.5,2,   2291.6,2,     59.7,2,     0.23,2,   0.8893
  77DN19910726,Arctic,    48,  5,  82336,      2,2,19910923,   0, 84.0400,   0.4400, 3750,    375.3,   0.7730,  34.8848,2,  34.8780,   2,    305.7,2,     6.14,2,    12.71,2,     0.82,2,    2.117,2,    1.190,2,    7.932,   2,   2151.1,2,   2298.8,2,     61.9,2,  -999.00,9,   0.7559
  77DN19910726,Arctic,    48,  5,  82335,      1,2,19910923,   0, 84.0400,   0.4400, 3750,    439.9,   0.5790,  34.9000,2,  34.8800,   2,    307.7,2,     6.31,2,    12.76,2,     0.83,2,    3.376,2,    1.424,2,    8.654,   2,   -999.0,9,   2296.9,2,     64.0,2,  -999.00,9,   0.5595
  77DN19910726,Arctic,    48,  1,  82333,     23,2,19910923,   0, 84.0400,   0.4400, 3750,    499.7,   0.6530,  34.8947,2,  34.8940,   2,    308.7,2,     6.32,2,    12.73,2,     0.85,2,    2.722,2,    1.093,2,    7.424,   2,   2145.2,2,   2290.0,2,    422.3,2,  -999.00,9,   0.6302
  77DN19910726,Arctic,    48,  1,  82332,     22,2,19910923,   0, 84.0400,   0.4400, 3750,    550.4,   0.5030,  34.8957,2,  34.8950,   2,    306.7,2,     6.42,2,    12.76,2,     0.83,2,    2.780,2,    1.034,2,    7.600,   2,   2147.5,2,   2285.5,2,    423.0,2,  -999.00,9,   0.4783
  77DN19910726,Arctic,    48,  1,  82331,     21,2,19910923,   0, 84.0400,   0.4400, 3750,    601.2,   0.3610,  34.8942,2,  34.8950,   2,    306.7,2,     6.47,2,    12.78,2,     0.84,2,    2.595,2,    1.063,2,    7.424,   2,   2147.2,2,   2284.7,2,    420.7,2,  -999.00,9,   0.3345
  77DN19910726,Arctic,    48,  1,  82330,     20,2,19910923,   0, 84.0400,   0.4400, 3750,    703.5,   0.0960,  34.8906,2,  34.8900,   2,    307.7,2,     6.59,2,    12.75,2,     0.84,2,    2.859,2,    1.132,2,    7.815,   2,   2147.8,2,   2288.6,2,     59.6,2,  -999.00,9,   0.0659
  77DN19910726,Arctic,    48,  1,  82329,     19,2,19910923,   0, 84.0400,   0.4400, 3750,    801.9,  -0.0890,  34.8932,2,  34.8900,   2,    308.7,2,     6.81,2,    12.81,2,     0.85,2,    2.790,2,    1.112,2,    7.941,   2,   2148.8,2,   2292.7,2,     60.6,2,  -999.00,9,  -0.1228
  77DN19910726,Arctic,    48,  1,  82328,     18,2,19910923,   0, 84.0400,   0.4400, 3750,    900.2,  -0.1850,  34.8944,2,  34.8970,   2,    308.7,2,     7.03,2,    12.89,2,     0.86,2,    2.673,2,    0.956,2,    7.493,   2,   2150.7,2,   2287.1,2,     55.6,2,  -999.00,9,  -0.2230
  77DN19910726,Arctic,    48,  1,  82327,     17,2,19910923,   0, 84.0400,   0.4400, 3750,   1002.4,  -0.2860,  34.9010,2,  34.9000,   2,    308.7,2,     7.42,2,    13.07,2,     0.87,2,    2.693,2,    1.034,2,    7.229,   2,   2153.2,2,   2288.3,2,     57.3,2,  -999.00,9,  -0.3284
  77DN19910726,Arctic,    48,  1,  82326,     16,2,19910923,   0, 84.0400,   0.4400, 3750,   1100.4,  -0.3350,  34.9074,2,  34.9110,   2,    308.7,2,     7.71,2,    13.22,2,     0.88,2,    2.273,2,    0.732,2,    6.332,   2,   2154.2,2,   2292.0,2,    102.9,2,  -999.00,9,  -0.3821
  77DN19910726,Arctic,    48,  1,  82325,     15,2,19910923,   0, 84.0400,   0.4400, 3750,   1199.9,  -0.3930,  34.9120,2,  34.9130,   2,    307.7,2,     8.15,2,    13.47,2,     0.89,2,    1.980,2,    0.605,2,    5.629,   2,   2153.0,2,   2295.1,2,     62.3,2,  -999.00,9,  -0.4449
  77DN19910726,Arctic,    48,  1,  82324,     14,2,19910923,   0, 84.0400,   0.4400, 3750,   1400.9,  -0.4850,  34.9197,2,  34.9190,   2,    306.7,2,     9.12,2,    13.91,2,     0.93,2,    1.493,2,    0.410,2,    4.000,   2,   2151.8,2,   2289.0,2,     66.1,2,  -999.00,9,  -0.5470
  77DN19910726,Arctic,    48,  1,  82323,     13,2,19910923,   0, 84.0400,   0.4400, 3750,   1600.2,  -0.5470,  34.9244,2,  34.9240,   2,    303.8,2,     9.92,2,    14.28,2,     0.94,2,    1.239,2,    0.312,2,    2.878,   2,   2155.3,2,   2291.3,2,     63.0,2,  -999.00,9,  -0.6199
  77DN19910726,Arctic,    48,  1,  82322,     12,2,19910923,   0, 84.0400,   0.4400, 3750,   1700.5,  -0.5700,  34.9270,2,  34.9260,   2,    303.8,2,    10.36,2,    14.47,2,     0.95,2,    1.122,2,    0.254,2,    2.683,   2,   2154.1,2,   2294.4,2,     60.9,2,  -999.00,9,  -0.6486
  77DN19910726,Arctic,    48,  1,  82321,     11,2,19910923,   0, 84.0400,   0.4400, 3750,   1801.8,  -0.6040,  34.9270,2,  34.9260,   2,    302.8,2,    10.44,2,    14.53,2,     0.95,2,    1.190,2,    0.273,2,    2.517,   2,   2280.7,4,   2285.9,2,     60.4,2,  -999.00,9,  -0.6884
  77DN19910726,Arctic,    48,  1,  82320,     10,2,19910923,   0, 84.0400,   0.4400, 3750,   1899.8,  -0.6450,  34.9260,2,  34.9260,   2,    304.8,2,    10.44,2,    14.58,2,     0.96,2,    1.112,2,    0.263,2,    2.410,   2,   -999.0,9,   2296.6,2,     61.9,2,  -999.00,9,  -0.7350
  77DN19910726,Arctic,    48,  1,  82319,      9,2,19910923,   0, 84.0400,   0.4400, 3750,   2098.4,  -0.7060,  34.9248,2,  34.9240,   2,    304.8,2,    10.44,2,    14.63,2,     0.96,2,    0.976,2,    0.205,2,    1.854,   2,   2155.7,2,   2299.2,2,     60.9,2,  -999.00,9,  -0.8080
  77DN19910726,Arctic,    48,  1,  82318,      8,2,19910923,   0, 84.0400,   0.4400, 3750,   2299.7,  -0.7450,  34.9265,2,  34.9260,   2,    308.7,2,    10.60,2,    14.69,2,     0.96,2,    1.005,2,    0.244,2,    1.922,   2,   -999.0,9,   2296.4,2,     65.0,2,  -999.00,9,  -0.8601
  77DN19910726,Arctic,    48,  1,  82317,      7,2,19910923,   0, 84.0400,   0.4400, 3750,   2549.5,  -0.7640,  34.9289,2,  34.9280,   2,    304.8,2,    10.80,2,    14.74,2,     0.97,2,    0.927,2,    0.195,2,    1.805,   2,   2156.4,2,   2298.7,2,     61.2,2,  -999.00,9,  -0.8967
  77DN19910726,Arctic,    48,  1,  82316,      6,2,19910923,   0, 84.0400,   0.4400, 3750,   2799.1,  -0.7600,  34.9312,2,  34.9300,   2,    304.8,2,    10.90,2,    14.75,2,     0.97,2,    1.063,2,    0.195,2,    1.688,   2,   -999.0,9,   2287.4,2,     83.1,2,  -999.00,9,  -0.9116
  77DN19910726,Arctic,    48,  1,  82315,      5,2,19910923,   0, 84.0400,   0.4400, 3750,   2999.7,  -0.7510,  34.9315,2,  34.9310,   2,    309.6,2,    11.01,2,    14.72,2,     0.97,2,    1.024,2,    0.205,2,    1.522,   2,   2151.7,2,   2288.8,2,     80.5,2,  -999.00,9,  -0.9187
  77DN19910726,Arctic,    48,  1,  82314,      4,2,19910923,   0, 84.0400,   0.4400, 3750,   3149.4,  -0.7460,  34.9322,2,  34.9310,   2,    308.7,2,    11.06,2,    14.73,2,     0.96,2,    0.917,2,    0.176,2,    1.454,   2,   -999.0,9,   2292.7,2,     88.2,2,  -999.00,9,  -0.9261
  77DN19910726,Arctic,    48,  1,  82313,      3,2,19910923,   0, 84.0400,   0.4400, 3750,   3337.7,  -0.7350,  34.9331,2,  34.9320,   2,    303.8,2,    11.29,2,    14.73,2,     0.96,2,    0.927,2,    0.176,2,    1.454,   2,   2156.4,2,   -999.0,9,     63.5,2,  -999.00,9,  -0.9313
  77DN19910726,Arctic,    48,  1,  82312,      2,2,19910923,   0, 84.0400,   0.4400, 3750,   3501.2,  -0.7190,  34.9351,2,  34.9340,   2,    305.7,2,    11.30,2,    14.70,2,     0.97,2,    0.927,2,    0.205,2,    0.917,   2,   -999.0,9,   -999.0,9,     59.1,2,  -999.00,9,  -0.9301
  77DN19910726,Arctic,    48,  1,  82311,      1,2,19910923,   0, 84.0400,   0.4400, 3750,   3748.8,  -0.6980,  34.9371,2,  34.9350,   2,    304.8,2,    11.47,2,    14.70,2,     0.96,2,    0.751,2,    0.166,2,    0.976,   2,   2158.4,2,   2293.1,2,     51.3,2,  -999.00,9,  -0.9320
  77DN19910726,Arctic,    49,  2,  82370,     24,2,19910924,   0, 83.5900,   4.3400, 3607,     17.4,  -1.7970,  33.0147,2,  33.0230,   2,    338.9,2,     4.67,2,     3.83,2,     0.43,2,    6.517,2,    2.859,2,   10.771,   2,   2131.6,2,   2227.8,2,    141.0,2,  -999.00,9,  -1.7973