BOTTLE,20140714SIOCCHRJL
EXPOCODE,SECT_ID,STNNBR,CASTNO,SAMPNO,BTLNBR,BTLNBR_FLAG_W,DATE,TIME,LATITUDE,LONGITUDE,DEPTH,CTDPRS,CTDTMP,CTDSAL,CTDSAL_FLAG_W,SALNTY,SALNTY_FLAG_W,OXYGEN,OXYGEN_FLAG_W,SILCAT,SILCAT_FLAG_W,NITRAT,NITRAT_FLAG_W,PHSPHT,PHSPHT_FLAG_W,CFC-11,CFC-11_FLAG_W,CFC-12,CFC-12_FLAG_W,CCL4,CCL4_FLAG_W,TCARBN,TCARBN_FLAG_W,ALKALI,ALKALI_FLAG_W,DOC,DOC_FLAG_W,DELO18,DELO18_FLAG_W,THETA
,,,,,,,,,,,METERS,DBAR,ITS-90,PSS-78,,PSS-78,,UMOL/KG,,UMOL/KG,,UMOL/KG,,UMOL/KG,,PMOL/KG,,PMOL/KG,,PMOL/KG,,UMOL/KG,,UMOL/KG,,UMOL/KG,,/MILLE,,DEG C
  77DN19910726,Arctic,    58,  1,  33904,     23,2,19911002,   0, 81.8600,  16.4600, 2160,     25.6,  -1.8040,  34.0801,2,  33.7940,   2,    360.9,2,     3.32,2,     5.76,2,     0.47,2, -999.000,9, -999.000,9, -999.000,   9,   2089.3,2,   -999.0,9,     61.0,2,    -0.62,2,  -1.8045
  77DN19910726,Arctic,    58,  1,  33903,     22,2,19911002,   0, 81.8600,  16.4600, 2160,     41.5,  -1.5430,  34.4917,2,  34.2300,   2,    345.5,2,     4.00,2,     7.32,2,     0.54,2, -999.000,9, -999.000,9, -999.000,   9,   2118.1,2,   -999.0,9,     59.2,2,    -0.55,2,  -1.5439
  77DN19910726,Arctic,    58,  1,  33902,     21,2,19911002,   0, 81.8600,  16.4600, 2160,     50.5,  -1.5990,  34.2693,2,  34.2370,   2,    346.4,2,     3.91,2,     7.32,2,     0.54,2, -999.000,9, -999.000,9, -999.000,   9,   2105.7,2,   -999.0,9,     57.5,2,    -0.53,2,  -1.6001
  77DN19910726,Arctic,    58,  1,  33901,     20,2,19911002,   0, 81.8600,  16.4600, 2160,     74.2,  -1.6880,  34.3043,2,  34.3110,   2,    346.4,2,     3.51,2,     7.62,2,     0.54,2, -999.000,9, -999.000,9, -999.000,   9,   2082.7,2,   -999.0,9,     72.6,2,    -0.38,2,  -1.6895
  77DN19910726,Arctic,    58,  1,  33900,     19,2,19911002,   0, 81.8600,  16.4600, 2160,    120.1,  -0.4100,  34.5030,2,  34.4630,   2,    325.0,2,     4.59,2,     9.47,2,     0.66,2, -999.000,9, -999.000,9, -999.000,   9,   2076.5,2,   -999.0,9,     59.1,2,    -0.19,2,  -0.4139
  77DN19910726,Arctic,    58,  1,  33899,     18,2,19911002,   0, 81.8600,  16.4600, 2160,    175.5,   2.4870,  34.8679,2,  34.8900,   2,    309.4,2,     5.07,2,    11.81,2,     0.77,2, -999.000,9, -999.000,9, -999.000,   9,   2108.5,2,   -999.0,9,     61.2,2,     0.24,2,   2.4768
  77DN19910726,Arctic,    58,  1,  33898,     17,2,19911002,   0, 81.8600,  16.4600, 2160,    190.5,   2.5480,  34.8985,2,  34.9090,   2,    309.4,2,     5.07,2,    12.00,2,     0.77,2, -999.000,9, -999.000,9, -999.000,   9,   2136.0,2,   -999.0,9,     61.4,2,     0.22,2,   2.5369
  77DN19910726,Arctic,    58,  1,  33897,     16,2,19911002,   0, 81.8600,  16.4600, 2160,    242.2,   2.6850,  34.9348,2,  34.9650,   2,    311.1,2,     5.27,2,    12.20,2,     0.79,2, -999.000,9, -999.000,9, -999.000,   9,   2115.2,2,   -999.0,9,     67.1,2,     0.27,2,   2.6704
  77DN19910726,Arctic,    58,  1,  33896,     15,2,19911002,   0, 81.8600,  16.4600, 2160,    350.6,   2.3760,  34.9731,2,  34.9750,   2,    307.2,2,     5.46,2,    12.30,2,     0.78,2, -999.000,9, -999.000,9, -999.000,   9,   2095.0,2,   -999.0,9,     58.5,2,  -999.00,9,   2.3555
  77DN19910726,Arctic,    58,  1,  33895,     14,2,19911002,   0, 81.8600,  16.4600, 2160,    475.1,   1.3540,  34.9142,2,  34.9230,   2,    306.3,2,     5.95,2,    12.69,2,     0.83,2, -999.000,9, -999.000,9, -999.000,   9,   2096.7,2,   -999.0,9,     57.4,2,  -999.00,9,   1.3297
  77DN19910726,Arctic,    58,  1,  33894,     13,2,19911002,   0, 81.8600,  16.4600, 2160,    576.1,   0.8900,  34.9117,2,  34.9150,   2,    306.3,2,     6.25,2,    12.78,2,     0.82,2, -999.000,9, -999.000,9, -999.000,   9,   2140.0,2,   -999.0,9,     59.5,2,  -999.00,9,   0.8622
  77DN19910726,Arctic,    58,  1,  33893,     12,2,19911002,   0, 81.8600,  16.4600, 2160,    650.0,   0.6230,  34.9143,2,  34.9160,   2,    305.4,2,     6.34,2,    12.88,2,     0.85,2, -999.000,9, -999.000,9, -999.000,   9,   2136.7,2,   -999.0,9,     64.7,2,  -999.00,9,   0.5926
  77DN19910726,Arctic,    58,  1,  33892,     11,2,19911002,   0, 81.8600,  16.4600, 2160,    750.0,   0.2860,  34.9104,2,  34.9130,   2,    304.5,2,     6.54,2,    12.98,2,     0.86,2, -999.000,9, -999.000,9, -999.000,   9,   2140.9,2,   -999.0,9,     63.6,2,  -999.00,9,   0.2524
  77DN19910726,Arctic,    58,  1,  33891,     10,2,19911002,   0, 81.8600,  16.4600, 2160,    880.2,  -0.0390,  34.9088,2,  34.9110,   2,    305.4,2,     7.12,2,    13.27,2,     0.90,2, -999.000,9, -999.000,9, -999.000,   9,   2143.0,2,   -999.0,9,     62.1,2,  -999.00,9,  -0.0771
  77DN19910726,Arctic,    58,  1,  33890,      9,2,19911002,   0, 81.8600,  16.4600, 2160,    976.3,  -0.2300,  34.9105,2,  34.9120,   2,    306.3,2,     7.51,2,    13.47,2,     0.91,2, -999.000,9, -999.000,9, -999.000,   9,   2142.4,2,   -999.0,9,     67.9,2,  -999.00,9,  -0.2716
  77DN19910726,Arctic,    58,  1,  33889,      8,2,19911002,   0, 81.8600,  16.4600, 2160,   1150.3,  -0.4690,  34.9150,2,  34.9170,   2,    304.5,2,     8.49,2,    13.76,2,     0.95,2, -999.000,9, -999.000,9, -999.000,   9,   2147.0,2,   -999.0,9,     65.2,2,  -999.00,9,  -0.5175
  77DN19910726,Arctic,    58,  1,  33888,      7,2,19911002,   0, 81.8600,  16.4600, 2160,   1271.4,  -0.5590,  34.9168,2,  34.9180,   2,    305.4,2,     9.07,2,    14.05,2,     0.94,2, -999.000,9, -999.000,9, -999.000,   9,   -999.0,9,   -999.0,9,     66.0,2,  -999.00,9,  -0.6131
  77DN19910726,Arctic,    58,  1,  33887,      6,2,19911002,   0, 81.8600,  16.4600, 2160,   1429.9,  -0.6400,  34.9194,2,  34.9210,   2,    304.5,2,     9.47,2,    14.15,2,     0.95,2, -999.000,9, -999.000,9, -999.000,   9,   -999.0,9,   -999.0,9,     67.8,2,  -999.00,9,  -0.7019
  77DN19910726,Arctic,    58,  1,  33886,      5,2,19911002,   0, 81.8600,  16.4600, 2160,   1550.5,  -0.7050,  34.9203,2,  34.9210,   2,    303.2,2,     9.86,2,    14.34,2,     0.97,2, -999.000,9, -999.000,9, -999.000,   9,   -999.0,9,   -999.0,9,     70.2,2,  -999.00,9,  -0.7729
  77DN19910726,Arctic,    58,  1,  33885,      4,2,19911002,   0, 81.8600,  16.4600, 2160,   1749.4,  -0.7880,  34.9205,2,  34.9200,   2,    303.2,2,    10.34,2,    14.54,2,     0.98,2, -999.000,9, -999.000,9, -999.000,   9,   2167.2,2,   -999.0,9,     98.2,2,  -999.00,9,  -0.8666
  77DN19910726,Arctic,    58,  1,  33884,      3,2,19911002,   0, 81.8600,  16.4600, 2160,   1899.7,  -0.8180,  34.9231,2,  34.9240,   2,    303.2,2,    10.44,2,    14.54,2,     0.99,2, -999.000,9, -999.000,9, -999.000,   9,   2161.6,2,   -999.0,9,     76.0,2,  -999.00,9,  -0.9054
  77DN19910726,Arctic,    58,  1,  33883,      2,2,19911002,   0, 81.8600,  16.4600, 2160,   2051.0,  -0.8290,  34.9276,2,  34.9300,   2,    302.3,2,    10.64,2,    14.54,2,     0.99,2, -999.000,9, -999.000,9, -999.000,   9,   2158.0,2,   -999.0,9,     75.8,2,  -999.00,9,  -0.9259
  77DN19910726,Arctic,    58,  1,  33882,      1,2,19911002,   0, 81.8600,  16.4600, 2160,   2127.1,  -0.8290,  34.9300,2,  34.9340,   2,    303.2,2,    10.73,2,    14.54,2,     0.99,2, -999.000,9, -999.000,9, -999.000,   9,   -999.0,9,   -999.0,9,     75.3,2,  -999.00,9,  -0.9309
  77DN19910726,Arctic,    59,  2,  33929,     24,2,19911003,   0, 81.5800,  17.7100, 1485,     18.1,  -1.6330,  32.9907,2,  33.3690,   3,    364.0,2,     1.95,2,     3.22,2,     0.37,2, -999.000,9, -999.000,9, -999.000,   9,   2004.5,2,   -999.0,9,     65.9,2,  -999.00,9,  -1.6333
  77DN19910726,Arctic,    59,  2,  33928,     23,2,19911003,   0, 81.5800,  17.7100, 1485,     25.5,  -1.6020,  33.3438,2,  33.7830,   3,    363.0,2,     2.93,2,     4.79,2,     0.43,2, -999.000,9, -999.000,9, -999.000,   9,   2036.7,2,   -999.0,9,    135.8,2,  -999.00,9,  -1.6025
  77DN19910726,Arctic,    59,  2,  33927,     22,2,19911003,   0, 81.5800,  17.7100, 1485,     38.6,   0.1780,  34.0977,2,  34.1480,   2,    339.5,2,     3.61,2,     6.44,2,     0.53,2, -999.000,9, -999.000,9, -999.000,   9,   2057.2,2,   -999.0,9,     88.6,2,  -999.00,9,   0.1766
  77DN19910726,Arctic,    59,  2,  33926,     21,2,19911003,   0, 81.5800,  17.7100, 1485,     45.8,   0.7830,  34.3088,2,  34.3600,   2,    332.9,2,     3.91,2,     7.42,2,     0.57,2, -999.000,9, -999.000,9, -999.000,   9,   2069.1,2,   -999.0,9,    110.3,2,  -999.00,9,   0.7811
  77DN19910726,Arctic,    59,  2,  33925,     20,2,19911003,   0, 81.5800,  17.7100, 1485,     52.6,   0.8810,  34.4130,2,  34.4060,   2,   -999.0,9,     3.91,2,     7.71,2,     0.58,2, -999.000,9, -999.000,9, -999.000,   9,   2073.9,2,   -999.0,9,     67.5,2,  -999.00,9,   0.8788
  77DN19910726,Arctic,    59,  2,  33924,     19,2,19911003,   0, 81.5800,  17.7100, 1485,     94.9,   1.7100,  34.7852,2,  34.6680,   2,    317.2,2,     4.69,2,    10.25,2,     0.67,2, -999.000,9, -999.000,9, -999.000,   9,   2087.5,2,   -999.0,9,     68.0,2,  -999.00,9,   1.7052
  77DN19910726,Arctic,    59,  2,  33923,     18,2,19911003,   0, 81.5800,  17.7100, 1485,    115.7,   2.7360,  34.9274,2,  34.8310,   2,    313.3,2,     4.98,2,    10.83,2,     0.70,2, -999.000,9, -999.000,9, -999.000,   9,   2089.0,2,   -999.0,9,     69.3,2,  -999.00,9,   2.7291
  77DN19910726,Arctic,    59,  2,  33922,     17,2,19911003,   0, 81.5800,  17.7100, 1485,    165.1,   2.6510,  34.9042,2,  34.9180,   2,    309.4,2,     5.37,2,    12.10,2,     0.77,2, -999.000,9, -999.000,9, -999.000,   9,   2103.9,2,   -999.0,9,     75.5,2,  -999.00,9,   2.6412
  77DN19910726,Arctic,    59,  2,  33921,     16,2,19911003,   0, 81.5800,  17.7100, 1485,    225.4,   2.6860,  34.9499,2,  34.9570,   2,   -999.0,9,     5.37,2,    12.20,2,     0.78,2, -999.000,9, -999.000,9, -999.000,   9,   2108.8,2,   -999.0,9,     85.0,2,  -999.00,9,   2.6725
  77DN19910726,Arctic,    59,  2,  33920,     15,2,19911003,   0, 81.5800,  17.7100, 1485,    288.5,   2.5380,  34.9722,2,  34.9570,   2,    309.3,2,     5.46,2,    12.20,2,     0.78,2, -999.000,9, -999.000,9, -999.000,   9,   2107.8,2,   -999.0,9,     90.1,2,  -999.00,9,   2.5209
  77DN19910726,Arctic,    59,  2,  33919,     14,2,19911003,   0, 81.5800,  17.7100, 1485,    359.1,   2.4190,  34.9770,2,  34.9700,   2,    313.2,2,     5.56,2,    12.39,2,     0.79,2, -999.000,9, -999.000,9, -999.000,   9,   2111.2,2,   -999.0,9,     71.9,2,  -999.00,9,   2.3978
  77DN19910726,Arctic,    59,  2,  33918,     13,2,19911003,   0, 81.5800,  17.7100, 1485,    400.6,   2.2800,  34.9720,2,  34.9700,   2,    312.4,2,     5.76,2,    12.49,2,     0.80,2, -999.000,9, -999.000,9, -999.000,   9,   2117.3,2,   -999.0,9,     74.3,2,  -999.00,9,   2.2567
  77DN19910726,Arctic,    59,  2,  33917,     12,2,19911003,   0, 81.5800,  17.7100, 1485,    460.6,   1.6090,  34.9734,2,  34.9320,   2,    310.2,2,     6.05,2,    12.69,2,     0.82,2, -999.000,9, -999.000,9, -999.000,   9,   2117.7,2,   -999.0,9,     75.6,2,  -999.00,9,   1.5845
  77DN19910726,Arctic,    59,  2,  33916,     11,2,19911003,   0, 81.5800,  17.7100, 1485,    525.0,   1.1300,  34.9301,2,  34.9220,   2,    309.3,2,     6.44,2,    13.08,2,     0.84,2, -999.000,9, -999.000,9, -999.000,   9,   2114.9,2,   -999.0,9,     71.9,2,  -999.00,9,   1.1039
  77DN19910726,Arctic,    59,  2,  33915,     10,2,19911003,   0, 81.5800,  17.7100, 1485,    600.0,   0.7270,  34.9197,2,  34.8950,   2,   -999.0,9,     6.83,2,    13.17,2,     0.85,2, -999.000,9, -999.000,9, -999.000,   9,   2106.0,2,   -999.0,9,     68.7,2,  -999.00,9,   0.6988
  77DN19910726,Arctic,    59,  2,  33914,      9,2,19911003,   0, 81.5800,  17.7100, 1485,    700.1,   0.4120,  34.9155,2,  34.8950,   2,    306.3,2,     7.61,2,    13.66,2,     0.89,2, -999.000,9, -999.000,9, -999.000,   9,   2106.2,2,   -999.0,9,     80.4,2,  -999.00,9,   0.3802
  77DN19910726,Arctic,    59,  2,  33913,      8,2,19911003,   0, 81.5800,  17.7100, 1485,    803.0,  -0.1280,  34.9115,2,  34.9100,   2,    304.5,2,     8.29,2,    13.86,2,     0.91,2, -999.000,9, -999.000,9, -999.000,   9,   2126.4,2,   -999.0,9,    103.4,2,  -999.00,9,  -0.1616
  77DN19910726,Arctic,    59,  2,  33912,      7,2,19911003,   0, 81.5800,  17.7100, 1485,    901.5,  -0.4260,  34.9102,2,  34.9120,   2,    308.4,2,     9.17,2,    14.25,2,     0.94,2, -999.000,9, -999.000,9, -999.000,   9,   2146.2,2,   -999.0,9,     88.2,2,  -999.00,9,  -0.4623
  77DN19910726,Arctic,    59,  2,  33911,      6,2,19911003,   0, 81.5800,  17.7100, 1485,   1003.6,  -0.5550,  34.9106,2,  34.8890,   2,    303.2,2,     9.66,2,    14.44,2,     0.95,2, -999.000,9, -999.000,9, -999.000,   9,   2143.7,2,   -999.0,9,     73.6,2,  -999.00,9,  -0.5952
  77DN19910726,Arctic,    59,  2,  33910,      5,2,19911003,   0, 81.5800,  17.7100, 1485,   1103.6,  -0.6560,  34.9110,2,  34.9010,   2,    303.2,2,    10.05,2,    14.54,2,     0.97,2, -999.000,9, -999.000,9, -999.000,   9,   2151.3,2,   -999.0,9,     81.4,2,  -999.00,9,  -0.7004
  77DN19910726,Arctic,    59,  2,  33909,      4,2,19911003,   0, 81.5800,  17.7100, 1485,   1259.2,  -0.7910,  34.9132,2,  34.9200,   2,    303.2,2,    10.54,2,    14.64,2,     0.98,2, -999.000,9, -999.000,9, -999.000,   9,   2150.2,2,   -999.0,9,     84.5,2,  -999.00,9,  -0.8420
  77DN19910726,Arctic,    59,  2,  33908,      3,2,19911003,   0, 81.5800,  17.7100, 1485,   1321.5,  -0.7920,  34.9143,2,  34.8870,   2,    302.3,2,    10.54,2,    14.64,2,     0.99,2, -999.000,9, -999.000,9, -999.000,   9,   2157.8,2,   -999.0,9,     84.3,2,  -999.00,9,  -0.8462
  77DN19910726,Arctic,    59,  2,  33907,      2,2,19911003,   0, 81.5800,  17.7100, 1485,   1368.0,  -0.7900,  34.9148,2,  34.9040,   2,    303.2,2,    10.54,2,    14.64,2,     0.99,2, -999.000,9, -999.000,9, -999.000,   9,   2156.5,2,   -999.0,9,     90.8,2,  -999.00,9,  -0.8467
  77DN19910726,Arctic,    59,  2,  33906,      1,2,19911003,   0, 81.5800,  17.7100, 1485,   1418.0,  -0.7920,  34.9144,2,  34.9030,   2,    301.5,2,    10.54,2,    14.64,2,     0.99,2, -999.000,9, -999.000,9, -999.000,   9,   -999.0,9,   -999.0,9,     94.9,2,  -999.00,9,  -0.8514
  77DN19910726,Arctic,    60,  2,  33945,     16,2,19911003,   0, 81.8700,  18.8700,  573,     16.3,   4.0430,  34.7729,2,  34.7690,   2,    311.2,2,     2.15,2,     4.98,2,     0.45,2, -999.000,9, -999.000,9, -999.000,   9,   2095.0,2,   -999.0,9,     57.9,2,  -999.00,9,   4.0419
  77DN19910726,Arctic,    60,  2,  33944,     15,2,19911003,   0, 81.8700,  18.8700,  573,     39.5,   4.1930,  34.7957,2,  34.7950,   2,    309.4,2,     2.15,2,     5.08,2,     0.45,2, -999.000,9, -999.000,9, -999.000,   9,   2101.3,2,   -999.0,9,     58.4,2,  -999.00,9,   4.1902
  77DN19910726,Arctic,    60,  2,  33943,     14,2,19911003,   0, 81.8700,  18.8700,  573,     60.9,   4.1800,  34.7960,2,  34.7930,   2,    310.3,2,     2.15,2,     5.08,2,     0.45,2, -999.000,9, -999.000,9, -999.000,   9,   2098.4,2,   -999.0,9,     62.5,2,  -999.00,9,   4.1757
  77DN19910726,Arctic,    60,  2,  33942,     13,2,19911003,   0, 81.8700,  18.8700,  573,    101.0,   0.7330,  34.6227,2,  34.5540,   2,   -999.0,9,     4.39,2,     8.98,2,     0.64,2, -999.000,9, -999.000,9, -999.000,   9,   2122.0,2,   -999.0,9,     64.2,2,  -999.00,9,   0.7287
  77DN19910726,Arctic,    60,  2,  33941,     12,2,19911003,   0, 81.8700,  18.8700,  573,    127.3,   1.6090,  34.6395,2,  34.6710,   2,    311.1,2,     4.88,2,    10.25,2,     0.70,2, -999.000,9, -999.000,9, -999.000,   9,   2133.2,2,   -999.0,9,     59.5,2,  -999.00,9,   1.6027
  77DN19910726,Arctic,    60,  2,  33940,     11,2,19911003,   0, 81.8700,  18.8700,  573,    155.5,   1.4680,  34.7115,2,  34.7280,   2,    312.4,2,     5.27,2,    11.13,2,     0.75,2, -999.000,9, -999.000,9, -999.000,   9,   2141.9,2,   -999.0,9,     61.0,2,  -999.00,9,   1.4604
  77DN19910726,Arctic,    60,  2,  33939,     10,2,19911003,   0, 81.8700,  18.8700,  573,    196.6,   2.4150,  34.9243,2,  34.8810,   2,    311.1,2,     5.17,2,    11.61,2,     0.79,2, -999.000,9, -999.000,9, -999.000,   9,   2143.4,2,   -999.0,9,     61.2,2,  -999.00,9,   2.4037
  77DN19910726,Arctic,    60,  2,  33938,      9,2,19911003,   0, 81.8700,  18.8700,  573,    226.2,   2.8640,  34.9368,2,  34.9600,   2,   -999.0,9,     5.37,2,    12.10,2,     0.81,2, -999.000,9, -999.000,9, -999.000,   9,   2138.3,2,   -999.0,9,     61.0,2,  -999.00,9,   2.8501
  77DN19910726,Arctic,    60,  2,  33937,      8,2,19911003,   0, 81.8700,  18.8700,  573,    252.5,   2.7120,  34.9242,2,  34.9590,   2,    311.1,2,     5.46,2,    12.00,2,     0.82,2, -999.000,9, -999.000,9, -999.000,   9,   2142.9,2,   -999.0,9,     59.9,2,  -999.00,9,   2.6967
  77DN19910726,Arctic,    60,  2,  33936,      7,2,19911003,   0, 81.8700,  18.8700,  573,    290.1,   2.3540,  34.9747,2,  34.9410,   2,    311.1,2,     5.46,2,    12.00,2,     0.81,2, -999.000,9, -999.000,9, -999.000,   9,   2142.6,2,   -999.0,9,     59.1,2,  -999.00,9,   2.3372
  77DN19910726,Arctic,    60,  2,  33935,      6,2,19911003,   0, 81.8700,  18.8700,  573,    315.9,   2.5190,  34.9940,2,  34.9790,   2,    313.2,2,     5.56,2,    12.10,2,     0.81,2, -999.000,9, -999.000,9, -999.000,   9,   2143.9,2,   -999.0,9,     59.4,2,  -999.00,9,   2.5002
  77DN19910726,Arctic,    60,  2,  33934,      5,2,19911003,   0, 81.8700,  18.8700,  573,    351.0,   2.6080,  34.9971,2,  34.9990,   2,    315.0,2,     5.66,2,    12.30,2,     0.83,2, -999.000,9, -999.000,9, -999.000,   9,   2142.4,2,   -999.0,9,     59.1,2,  -999.00,9,   2.5868
  77DN19910726,Arctic,    60,  2,  33933,      4,2,19911003,   0, 81.8700,  18.8700,  573,    401.8,   2.3090,  34.9848,2,  34.9910,   2,    315.0,2,     5.85,2,    12.39,2,     0.84,2, -999.000,9, -999.000,9, -999.000,   9,   2149.4,2,   -999.0,9,     70.5,2,  -999.00,9,   2.2855
  77DN19910726,Arctic,    60,  2,  33932,      3,2,19911003,   0, 81.8700,  18.8700,  573,    450.3,   1.9890,  34.9681,2,  34.9680,   2,    313.2,2,     5.85,2,    12.30,2,     0.83,2, -999.000,9, -999.000,9, -999.000,   9,   2144.9,2,   -999.0,9,     66.4,2,  -999.00,9,   1.9637
  77DN19910726,Arctic,    60,  2,  33931,      2,2,19911003,   0, 81.8700,  18.8700,  573,    501.6,   1.7100,  34.9519,2,  34.9530,   2,    312.4,2,     6.05,2,    12.49,2,     0.84,2, -999.000,9, -999.000,9, -999.000,   9,   2139.5,2,   -999.0,9,     67.6,2,  -999.00,9,   1.6827
  77DN19910726,Arctic,    60,  2,  33930,      1,2,19911003,   0, 81.8700,  18.8700,  573,    550.1,   1.6640,  34.9510,2,  34.9520,   2,    312.4,2,     6.15,2,    12.49,2,     0.84,2, -999.000,9, -999.000,9, -999.000,   9,   2142.8,2,   -999.0,9,     68.0,2,  -999.00,9,   1.6341