BOTTLE,20140714SIOCCHRJL
EXPOCODE,SECT_ID,STNNBR,CASTNO,SAMPNO,BTLNBR,BTLNBR_FLAG_W,DATE,TIME,LATITUDE,LONGITUDE,DEPTH,CTDPRS,CTDTMP,CTDSAL,CTDSAL_FLAG_W,SALNTY,SALNTY_FLAG_W,OXYGEN,OXYGEN_FLAG_W,SILCAT,SILCAT_FLAG_W,NITRAT,NITRAT_FLAG_W,PHSPHT,PHSPHT_FLAG_W,CFC-11,CFC-11_FLAG_W,CFC-12,CFC-12_FLAG_W,CCL4,CCL4_FLAG_W,TCARBN,TCARBN_FLAG_W,ALKALI,ALKALI_FLAG_W,DOC,DOC_FLAG_W,DELO18,DELO18_FLAG_W,THETA
,,,,,,,,,,,METERS,DBAR,ITS-90,PSS-78,,PSS-78,,UMOL/KG,,UMOL/KG,,UMOL/KG,,UMOL/KG,,PMOL/KG,,PMOL/KG,,PMOL/KG,,UMOL/KG,,UMOL/KG,,UMOL/KG,,/MILLE,,DEG C
  77DN19910726,Arctic,    13,  5,  81202,      8,2,19910827,   0, 86.7400,  56.9800, 3478,    100.1,  -1.1910,  34.2568,2,  34.2720,   2,   -999.0,9,     5.00,2,     8.76,2,     0.67,2, -999.000,9, -999.000,9, -999.000,   9,   -999.0,9,   -999.0,9,   -999.0,9,  -999.00,9,  -1.1935
  77DN19910726,Arctic,    13,  5,  81201,      7,2,19910827,   0, 86.7400,  56.9800, 3478,    125.1,  -0.5540,  34.4282,2,  34.4340,   2,    306.9,2,     5.26,2,     9.58,2,     0.71,2, -999.000,9, -999.000,9, -999.000,   9,   -999.0,9,   -999.0,9,   -999.0,9,  -999.00,9,  -0.5579
  77DN19910726,Arctic,    13,  5,  81200,      6,2,19910827,   0, 86.7400,  56.9800, 3478,    149.5,  -0.1480,  34.5730,2,  34.5410,   2,    306.2,2,     5.42,2,    10.17,2,     0.74,2, -999.000,9, -999.000,9, -999.000,   9,   -999.0,9,   -999.0,9,   -999.0,9,  -999.00,9,  -0.1532
  77DN19910726,Arctic,    13,  5,  81199,      5,2,19910827,   0, 86.7400,  56.9800, 3478,    199.6,   0.8490,  34.7778,2,  34.7810,   2,    300.7,2,     5.42,2,    11.55,2,     0.80,2, -999.000,9, -999.000,9, -999.000,   9,   -999.0,9,   -999.0,9,   -999.0,9,  -999.00,9,   0.8401
  77DN19910726,Arctic,    13,  5,  81198,      4,2,19910827,   0, 86.7400,  56.9800, 3478,    250.1,   1.0030,  34.8470,2,  34.8470,   2,    302.8,2,     5.58,2,    12.03,2,     0.83,2, -999.000,9, -999.000,9, -999.000,   9,   -999.0,9,   -999.0,9,   -999.0,9,  -999.00,9,   0.9914
  77DN19910726,Arctic,    13,  5,  81197,      3,2,19910827,   0, 86.7400,  56.9800, 3478,    299.9,   1.0990,  34.8953,2,  34.8880,   2,    301.9,2,     5.72,2,    12.27,2,     0.84,2, -999.000,9, -999.000,9, -999.000,   9,   -999.0,9,   -999.0,9,   -999.0,9,  -999.00,9,   1.0848
  77DN19910726,Arctic,    13,  5,  81196,      2,2,19910827,   0, 86.7400,  56.9800, 3478,    400.0,   0.9220,  34.9066,2,  34.9050,   2,    301.1,2,     6.03,2,    12.43,2,     0.85,2, -999.000,9, -999.000,9, -999.000,   9,   -999.0,9,   -999.0,9,   -999.0,9,  -999.00,9,   0.9032
  77DN19910726,Arctic,    13,  5,  81195,      1,2,19910827,   0, 86.7400,  56.9800, 3478,    500.1,   0.5930,  34.9060,2,  34.9030,   2,    302.5,2,     6.21,2,    12.50,2,     0.86,2, -999.000,9, -999.000,9, -999.000,   9,   -999.0,9,   -999.0,9,   -999.0,9,  -999.00,9,   0.5704
  77DN19910726,Arctic,    13,  2,  81227,     21,2,19910827,   0, 86.7400,  56.9800, 3478,    548.3,   0.5190,  34.8989,2,  34.8990,   2,    303.5,2,     6.28,2,    12.48,2,     0.86,2, -999.000,9, -999.000,9, -999.000,   9,   -999.0,9,   -999.0,9,   -999.0,9,  -999.00,9,   0.4944
  77DN19910726,Arctic,    13,  2,  81226,     20,2,19910827,   0, 86.7400,  56.9800, 3478,    599.3,   0.3060,  34.8969,2,  34.8920,   2,    303.1,2,     6.36,2,    12.51,2,     0.86,2, -999.000,9, -999.000,9, -999.000,   9,   -999.0,9,   -999.0,9,   -999.0,9,  -999.00,9,   0.2799
  77DN19910726,Arctic,    13,  2,  81225,     19,2,19910827,   0, 86.7400,  56.9800, 3478,    674.2,   0.1630,  34.8942,2,  34.8950,   2,    304.3,2,     6.56,2,    12.63,2,     0.87,2, -999.000,9, -999.000,9, -999.000,   9,   -999.0,9,   -999.0,9,   -999.0,9,  -999.00,9,   0.1340
  77DN19910726,Arctic,    13,  2,  81224,     18,2,19910827,   0, 86.7400,  56.9800, 3478,    700.9,   0.1160,  34.8939,2,  34.8950,   2,    303.6,2,     6.61,2,    12.65,2,     0.87,2, -999.000,9, -999.000,9, -999.000,   9,   -999.0,9,   -999.0,9,   -999.0,9,  -999.00,9,   0.0859
  77DN19910726,Arctic,    13,  2,  81223,     17,2,19910827,   0, 86.7400,  56.9800, 3478,    797.6,  -0.0470,  34.8999,2,  34.8990,   2,    302.6,2,     6.85,2,    12.73,2,     0.88,2, -999.000,9, -999.000,9, -999.000,   9,   -999.0,9,   -999.0,9,   -999.0,9,  -999.00,9,  -0.0809
  77DN19910726,Arctic,    13,  2,  81222,     16,2,19910827,   0, 86.7400,  56.9800, 3478,    901.7,  -0.1680,  34.9067,2,  34.9080,   2,    305.3,2,     7.22,2,    12.92,2,     0.90,2, -999.000,9, -999.000,9, -999.000,   9,   -999.0,9,   -999.0,9,   -999.0,9,  -999.00,9,  -0.2062
  77DN19910726,Arctic,    13,  2,  81221,     15,2,19910827,   0, 86.7400,  56.9800, 3478,   1001.9,  -0.2890,  34.9083,2,  34.9080,   2,    303.5,2,     7.43,2,    12.95,2,     0.90,2, -999.000,9, -999.000,9, -999.000,   9,   -999.0,9,   -999.0,9,   -999.0,9,  -999.00,9,  -0.3314
  77DN19910726,Arctic,    13,  2,  81220,     14,2,19910827,   0, 86.7400,  56.9800, 3478,   1101.2,  -0.3550,  34.9131,2,  34.9140,   2,    303.0,2,     7.83,2,    13.19,2,     0.92,2, -999.000,9, -999.000,9, -999.000,   9,   -999.0,9,   -999.0,9,   -999.0,9,  -999.00,9,  -0.4020
  77DN19910726,Arctic,    13,  2,  81219,     13,2,19910827,   0, 86.7400,  56.9800, 3478,   1198.6,  -0.4340,  34.9169,2,  34.9160,   2,    301.8,2,     8.14,2,    13.31,2,     0.92,2, -999.000,9, -999.000,9, -999.000,   9,   -999.0,9,   -999.0,9,   -999.0,9,  -999.00,9,  -0.4854
  77DN19910726,Arctic,    13,  2,  81218,     12,2,19910827,   0, 86.7400,  56.9800, 3478,   1398.1,  -0.5460,  34.9208,2,  34.9200,   2,    301.5,2,     9.06,2,    13.81,2,     0.94,2, -999.000,9, -999.000,9, -999.000,   9,   -999.0,9,   -999.0,9,   -999.0,9,  -999.00,9,  -0.6072
  77DN19910726,Arctic,    13,  2,  81217,     11,2,19910827,   0, 86.7400,  56.9800, 3478,   1599.5,  -0.6220,  34.9230,2,  34.9230,   2,    301.6,2,     9.75,2,    14.01,2,     0.95,2, -999.000,9, -999.000,9, -999.000,   9,   -999.0,9,   -999.0,9,   -999.0,9,  -999.00,9,  -0.6939
  77DN19910726,Arctic,    13,  2,  81216,     10,2,19910827,   0, 86.7400,  56.9800, 3478,   1797.1,  -0.6950,  34.9220,2,  34.9230,   2,   -999.0,9,     9.98,2,    14.13,2,     0.95,2, -999.000,9, -999.000,9, -999.000,   9,   -999.0,9,   -999.0,9,   -999.0,9,  -999.00,9,  -0.7778
  77DN19910726,Arctic,    13,  2,  81215,      9,2,19910827,   0, 86.7400,  56.9800, 3478,   2000.9,  -0.7420,  34.9231,2,  34.9240,   2,    301.8,2,    10.21,2,    14.23,2,     0.96,2, -999.000,9, -999.000,9, -999.000,   9,   -999.0,9,   -999.0,9,   -999.0,9,  -999.00,9,  -0.8370
  77DN19910726,Arctic,    13,  2,  81214,      8,2,19910827,   0, 86.7400,  56.9800, 3478,   2199.4,  -0.7700,  34.9253,2,  34.9270,   2,    301.2,2,    10.31,2,    14.38,2,     0.96,2, -999.000,9, -999.000,9, -999.000,   9,   -999.0,9,   -999.0,9,   -999.0,9,  -999.00,9,  -0.8777
  77DN19910726,Arctic,    13,  2,  81213,      7,2,19910827,   0, 86.7400,  56.9800, 3478,   2399.5,  -0.7860,  34.9280,2,  34.9290,   2,    303.3,2,    10.49,2,    14.38,2,     0.97,2, -999.000,9, -999.000,9, -999.000,   9,   -999.0,9,   -999.0,9,   -999.0,9,  -999.00,9,  -0.9074
  77DN19910726,Arctic,    13,  2,  81212,      6,2,19910827,   0, 86.7400,  56.9800, 3478,   2600.4,  -0.7880,  34.9303,2,  34.9320,   2,    300.1,2,    10.67,2,    14.40,2,     0.97,2, -999.000,9, -999.000,9, -999.000,   9,   -999.0,9,   -999.0,9,   -999.0,9,  -999.00,9,  -0.9240
  77DN19910726,Arctic,    13,  2,  81211,      5,2,19910827,   0, 86.7400,  56.9800, 3478,   2799.0,  -0.7830,  34.9330,2,  34.9330,   2,    301.4,2,    10.80,2,    14.44,2,     0.97,2, -999.000,9, -999.000,9, -999.000,   9,   -999.0,9,   -999.0,9,   -999.0,9,  -999.00,9,  -0.9341
  77DN19910726,Arctic,    13,  2,  81210,      4,2,19910827,   0, 86.7400,  56.9800, 3478,   2999.4,  -0.7720,  34.9354,2,  34.9370,   2,    301.5,2,    10.97,2,    14.45,2,     0.97,2, -999.000,9, -999.000,9, -999.000,   9,   -999.0,9,   -999.0,9,   -999.0,9,  -999.00,9,  -0.9393
  77DN19910726,Arctic,    13,  2,  81209,      3,2,19910827,   0, 86.7400,  56.9800, 3478,   3200.5,  -0.7530,  34.9375,2,  34.9400,   2,    299.3,2,    11.15,2,    14.39,2,     0.97,2, -999.000,9, -999.000,9, -999.000,   9,   -999.0,9,   -999.0,9,   -999.0,9,  -999.00,9,  -0.9373
  77DN19910726,Arctic,    13,  2,  81208,      2,2,19910827,   0, 86.7400,  56.9800, 3478,   3365.0,  -0.7370,  34.9386,2,  34.9400,   2,    299.5,2,    11.26,2,    14.40,2,     0.96,2, -999.000,9, -999.000,9, -999.000,   9,   -999.0,9,   -999.0,9,   -999.0,9,  -999.00,9,  -0.9357
  77DN19910726,Arctic,    13,  2,  81207,      1,2,19910827,   0, 86.7400,  56.9800, 3478,   3463.6,  -0.7300,  34.9388,2,  34.9400,   2,    299.3,2,    11.28,2,    14.34,2,     0.96,2, -999.000,9, -999.000,9, -999.000,   9,   -999.0,9,   -999.0,9,   -999.0,9,  -999.00,9,  -0.9375
  77DN19910726,Arctic,    14,  2,  81266,     12,2,19910828,   0, 87.0000,  60.0200, 4330,     10.0,  -1.7370,  32.7776,2,  32.8100,   2,    372.5,2,     3.73,2,     3.42,2,     0.41,2,    6.829,2,    2.283,2,   10.585,   2,   2099.9,2,   2217.7,2,     97.8,2,    -1.88,2,  -1.7372
  77DN19910726,Arctic,    14,  3,  81254,     24,2,19910828,   0, 87.0000,  60.0200, 4330,     15.2,  -1.7320,  32.7869,2,  32.8180,   2,    371.6,2,     3.69,2,     3.44,2,     0.40,2,    6.644,2,    2.420,2,   12.605,   2,   2106.4,2,   2237.7,2,    102.6,2,    -1.98,2,  -1.7323
  77DN19910726,Arctic,    14,  2,  81265,     11,2,19910828,   0, 87.0000,  60.0200, 4330,     25.0,  -1.7350,  32.8127,2,  32.8280,   2,    372.9,2,     3.73,2,     3.42,2,     0.40,2,    7.902,2,    2.029,3,   11.678,   2,   2100.2,2,   2223.1,2,    108.4,2,    -1.87,2,  -1.7354
  77DN19910726,Arctic,    14,  3,  81253,     23,2,19910828,   0, 87.0000,  60.0200, 4330,     29.2,  -1.7120,  32.8271,2,  32.8600,   2,    371.2,2,     3.68,2,     3.47,2,     0.39,2,    7.424,2,    2.400,2,   11.239,   2,   2101.7,2,   2242.5,2,    262.8,2,    -1.89,2,  -1.7125
  77DN19910726,Arctic,    14,  2,  81264,     10,2,19910828,   0, 87.0000,  60.0200, 4330,     49.9,  -1.7590,  33.4663,2,  33.5150,   2,    361.9,2,     3.99,2,     4.78,2,     0.47,2,    6.605,2,    2.205,2,    9.649,   2,   2136.2,2,   2252.6,2,     99.9,2,    -1.56,2,  -1.7599
  77DN19910726,Arctic,    14,  2,  81263,      9,2,19910828,   0, 87.0000,  60.0200, 4330,     75.0,  -1.6420,  33.9902,2,  34.0180,   2,    328.5,2,     4.53,2,     7.43,2,     0.59,2,    6.049,2,    4.410,3,    7.093,   2,   2130.1,2,   2237.3,2,     75.7,2,    -0.59,2,  -1.6435
  77DN19910726,Arctic,    14,  2,  81262,      8,2,19910828,   0, 87.0000,  60.0200, 4330,    100.1,  -1.1190,  34.2922,2,  34.2870,   2,    314.3,2,     4.87,2,     8.83,2,     0.67,2,    3.298,2,    5.346,3,    5.971,   2,   2124.9,2,   -999.0,9,     72.3,2,    -0.18,2,  -1.1216
  77DN19910726,Arctic,    14,  3,  81252,     22,2,19910828,   0, 87.0000,  60.0200, 4330,    106.9,  -0.9200,  34.3401,2,  34.3290,   2,    309.3,2,     4.87,2,     8.90,2,     0.65,2,    5.639,3,    1.268,2,    6.459,   2,   2124.2,2,   2277.1,2,    191.4,2,  -999.00,9,  -0.9230
  77DN19910726,Arctic,    14,  2,  81261,      7,2,19910828,   0, 87.0000,  60.0200, 4330,    125.1,  -0.6280,  34.4261,2,  34.4100,   2,    313.3,2,     5.05,2,     9.46,2,     0.70,2,    3.122,2,    1.239,2,    5.454,   2,   2134.0,2,   2265.6,2,    176.4,2,    -0.06,2,  -0.6318
  77DN19910726,Arctic,    14,  2,  81260,      6,2,19910828,   0, 87.0000,  60.0200, 4330,    150.1,   0.0610,  34.5600,2,  34.5650,   2,    303.7,2,     5.34,2,    10.37,2,     0.75,2,    2.800,2,    1.063,2,    5.571,   2,   2139.2,2,   2269.9,2,    215.1,2,     0.05,2,   0.0555
  77DN19910726,Arctic,    14,  2,  81259,      5,2,19910828,   0, 87.0000,  60.0200, 4330,    200.1,   0.9620,  34.7749,2,  34.7730,   2,    300.9,2,     5.41,2,    11.61,2,     0.80,2,    3.210,2,    1.161,2,    7.044,   2,   2137.6,2,   2279.9,2,     69.4,2,     0.17,2,   0.9529
  77DN19910726,Arctic,    14,  2,  81258,      4,2,19910828,   0, 87.0000,  60.0200, 4330,    250.1,   1.1270,  34.8507,2,  34.8520,   2,    302.3,2,     5.57,2,    12.10,2,     0.84,2,    3.093,2,    2.937,3,    7.424,   2,   2141.8,2,   2282.0,2,     68.2,2,     0.18,2,   1.1152
  77DN19910726,Arctic,    14,  2,  81257,      3,2,19910828,   0, 87.0000,  60.0200, 4330,    300.2,   1.2470,  34.9003,2,  34.9010,   2,    304.1,2,     5.73,2,    12.47,2,     0.85,2,    3.063,2,    1.161,2,    7.532,   2,   2140.3,2,   2286.6,2,     60.7,2,     0.23,2,   1.2324
  77DN19910726,Arctic,    14,  2,  81256,      2,2,19910828,   0, 87.0000,  60.0200, 4330,    400.0,   0.9580,  34.9108,2,  34.9090,   2,    303.2,2,     6.05,2,    12.58,2,     0.86,2,    2.546,2,    0.956,2,    6.371,   2,   2146.4,2,   2286.0,2,    105.7,2,     0.21,2,   0.9391
  77DN19910726,Arctic,    14,  2,  81255,      1,2,19910828,   0, 87.0000,  60.0200, 4330,    500.0,   0.6860,  34.9076,2,  34.9050,   2,    303.0,2,     6.22,2,    12.65,2,     0.87,2,    2.234,2,    0.898,2,    6.029,   2,   2149.7,2,   2282.0,2,     61.9,2,     0.21,2,   0.6631
  77DN19910726,Arctic,    14,  3,  81251,     21,2,19910828,   0, 87.0000,  60.0200, 4330,    601.2,   0.3880,  34.9000,2,  34.8980,   2,   -999.0,9,     6.37,2,    12.46,2,     0.84,2,    2.244,2,    0.780,2,    6.156,   2,   2144.2,2,   2299.3,2,     60.7,2,     0.16,2,   0.3614
  77DN19910726,Arctic,    14,  3,  81250,     20,2,19910828,   0, 87.0000,  60.0200, 4330,    699.9,   0.1890,  34.8975,2,  34.8970,   2,   -999.0,9,     6.55,2,    12.61,2,     0.84,2,    2.420,2,    0.820,2,    6.098,   2,   2141.6,2,   -999.0,9,     59.6,2,  -999.00,9,   0.1585
  77DN19910726,Arctic,    14,  3,  81249,     19,2,19910828,   0, 87.0000,  60.0200, 4330,    800.4,  -0.0200,  34.8986,2,  34.8990,   2,    303.3,2,     6.74,2,    12.72,2,     0.86,2,    2.537,2,    0.673,2,    6.029,   2,   2134.2,2,   2294.3,2,     59.8,2,  -999.00,9,  -0.0542
  77DN19910726,Arctic,    14,  3,  81248,     18,2,19910828,   0, 87.0000,  60.0200, 4330,    900.8,  -0.1600,  34.9046,2,  34.9050,   2,    303.2,2,     7.13,2,    12.78,2,     0.87,2, -999.000,9,    0.644,2,    5.522,   2,   2142.5,2,   2300.3,2,     61.4,2,  -999.00,9,  -0.1982
  77DN19910726,Arctic,    14,  3,  81247,     17,2,19910828,   0, 87.0000,  60.0200, 4330,   1097.9,  -0.3550,  34.9127,2,  34.9130,   2,    302.6,2,     7.71,2,    13.06,2,     0.89,2,    1.444,2,    0.351,2,    3.746,   2,   2141.3,2,   -999.0,9,     59.3,2,  -999.00,9,  -0.4018
  77DN19910726,Arctic,    14,  3,  81246,     16,2,19910828,   0, 87.0000,  60.0200, 4330,   1398.1,  -0.5340,  34.9197,2,  34.9200,   2,    300.9,2,     8.84,2,    13.64,2,     0.92,2,    1.034,2,    0.322,2,    2.595,   2,   2153.9,2,   2288.1,2,     85.2,2,  -999.00,9,  -0.5953
  77DN19910726,Arctic,    14,  3,  81245,     15,2,19910828,   0, 87.0000,  60.0200, 4330,   1598.1,  -0.6120,  34.9229,2,  34.9240,   2,   -999.0,9,     9.55,2,    13.91,2,     0.95,2,    0.780,2,    0.137,2,    2.615,   2,   2151.3,2,   2292.1,2,     73.4,2,  -999.00,9,  -0.6839
  77DN19910726,Arctic,    14,  3,  81244,     14,2,19910828,   0, 87.0000,  60.0200, 4330,   1798.1,  -0.6850,  34.9234,2,  34.9240,   2,    301.3,2,     9.92,2,    14.04,2,     0.96,2,    0.702,2,    0.156,2,    2.312,   2,   2189.3,4,   2296.3,2,     71.0,2,  -999.00,9,  -0.7680
  77DN19910726,Arctic,    14,  3,  81243,     13,2,19910828,   0, 87.0000,  60.0200, 4330,   1998.6,  -0.7420,  34.9241,2,  34.9240,   2,    300.5,2,    10.07,2,    14.21,2,     0.96,2,    0.849,2,    0.098,2,    1.473,   2,   2098.0,4,   2297.6,2,     71.8,2,  -999.00,9,  -0.8369
  77DN19910726,Arctic,    14,  3,  81242,     12,2,19910828,   0, 87.0000,  60.0200, 4330,   2201.1,  -0.7690,  34.9259,2,  34.9260,   2,    301.4,2,    10.22,2,    14.29,2,     0.97,2,    0.556,2,    0.244,2,    1.220,   2,   2192.9,4,   2297.0,2,     76.6,2,  -999.00,9,  -0.8769
  77DN19910726,Arctic,    14,  3,  81241,     11,2,19910828,   0, 87.0000,  60.0200, 4330,   2401.1,  -0.7830,  34.9278,2,  34.9290,   2,    301.2,2,    10.32,2,    14.35,2,     0.97,2,    1.941,3,    0.068,2,    1.785,   2,   2156.7,2,   2292.2,2,     76.5,2,  -999.00,9,  -0.9045
  77DN19910726,Arctic,    14,  3,  81240,     10,2,19910828,   0, 87.0000,  60.0200, 4330,   2599.7,  -0.7870,  34.9313,2,  34.9320,   2,    300.9,2,    10.58,2,    14.42,2,     0.97,2,    0.693,2,    0.146,2,    1.571,   2,   2149.2,2,   2299.8,2,     69.4,2,  -999.00,9,  -0.9229
  77DN19910726,Arctic,    14,  3,  81239,      9,2,19910828,   0, 87.0000,  60.0200, 4330,   2799.6,  -0.7830,  34.9336,2,  34.9340,   2,   -999.0,9,    10.64,2,    14.54,2,     0.97,2,    0.468,2,    0.576,3,    0.741,   2,   2147.7,2,   2290.5,2,     70.6,2,  -999.00,9,  -0.9342
  77DN19910726,Arctic,    14,  3,  81238,      8,2,19910828,   0, 87.0000,  60.0200, 4330,   3001.5,  -0.7730,  34.9359,2,  34.9360,   2,   -999.0,9,    10.83,2,    14.52,2,     0.97,2,    0.293,2,    0.107,2,    0.585,   2,   2149.6,2,   2293.9,2,     82.0,2,  -999.00,9,  -0.9404
  77DN19910726,Arctic,    14,  3,  81237,      7,2,19910828,   0, 87.0000,  60.0200, 4330,   3199.4,  -0.7580,  34.9387,2,  34.9390,   2,    302.3,2,    10.98,2,    14.41,2,     0.97,2,    0.566,2,    0.000,2,    1.122,   2,   2150.7,2,   2297.3,2,   -999.0,9,  -999.00,9,  -0.9421
  77DN19910726,Arctic,    14,  3,  81236,      6,2,19910828,   0, 87.0000,  60.0200, 4330,   3398.9,  -0.7400,  34.9395,2,  34.9420,   2,    300.7,2,    11.14,2,    14.42,2,     0.98,2,    0.224,2,    0.117,2,    1.190,   2,   2151.2,2,   2298.3,2,   -999.0,9,  -999.00,9,  -0.9416
  77DN19910726,Arctic,    14,  3,  81235,      5,2,19910828,   0, 87.0000,  60.0200, 4330,   3601.0,  -0.7210,  34.9402,2,  34.9400,   2,    300.2,2,    11.27,2,    14.45,2,     0.98,2,    0.371,2,    0.166,2,    0.498,   2,   2152.9,2,   2298.1,2,   -999.0,9,  -999.00,9,  -0.9410
  77DN19910726,Arctic,    14,  3,  81234,      4,2,19910828,   0, 87.0000,  60.0200, 4330,   3799.5,  -0.7030,  34.9401,2,  34.9370,   2,   -999.0,9,  -999.00,9,  -999.00,9,  -999.00,9, -999.000,9, -999.000,9, -999.000,   9,   -999.0,9,   -999.0,9,   -999.0,9,  -999.00,9,  -0.9416
  77DN19910726,Arctic,    14,  3,  81233,      3,2,19910828,   0, 87.0000,  60.0200, 4330,   3998.8,  -0.6850,  34.9404,2,  34.9410,   2,    301.7,2,    11.27,2,    14.40,2,     0.97,2,    0.341,2,    0.000,2,    0.498,   2,   2150.5,2,   2299.3,2,   -999.0,9,  -999.00,9,  -0.9430
  77DN19910726,Arctic,    14,  3,  81232,      2,2,19910828,   0, 87.0000,  60.0200, 4330,   4251.9,  -0.6590,  34.9403,2,  34.9410,   2,   -999.0,9,    11.24,2,    14.39,2,     0.97,2,    0.312,2,    0.000,2,    0.449,   2,   2149.7,2,   2300.6,2,   -999.0,9,  -999.00,9,  -0.9426
  77DN19910726,Arctic,    14,  3,  81231,      1,2,19910828,   0, 87.0000,  60.0200, 4330,   4352.7,  -0.6510,  34.9401,2,  34.9410,   2,    299.3,2,    11.16,2,    14.45,2,     0.97,2,    0.351,2,    0.000,2,    0.429,   2,   2153.5,2,   2308.2,2,   -999.0,9,  -999.00,9,  -0.9450
  77DN19910726,Arctic,    15,  4,  81278,     24,2,19910829,   0, 87.3100,  64.4600, 2901,      5.0,  -1.7450,  32.7227,2,  32.8200,   2,    373.1,2,     3.90,2,     3.33,2,     0.41,2, -999.000,9, -999.000,9, -999.000,   9,   -999.0,9,   -999.0,9,   -999.0,9,  -999.00,9,  -1.7451
  77DN19910726,Arctic,    15,  2,  81302,     12,2,19910829,   0, 87.3100,  64.4600, 2901,      5.0,  -1.7420,  32.7227,2,  32.8150,   2,    373.4,2,     3.90,2,     3.35,2,     0.41,2, -999.000,9, -999.000,9, -999.000,   9,   -999.0,9,   -999.0,9,   -999.0,9,  -999.00,9,  -1.7421
  77DN19910726,Arctic,    15,  2,  81277,     11,2,19910829,   0, 87.3100,  64.4600, 2901,     24.9,  -1.7350,  32.9905,2,  32.9600,   2,    371.4,2,     3.90,2,     3.59,2,     0.41,2, -999.000,9, -999.000,9, -999.000,   9,   -999.0,9,   -999.0,9,   -999.0,9,  -999.00,9,  -1.7354