BOTTLE,20140714SIOCCHRJL
EXPOCODE,SECT_ID,STNNBR,CASTNO,SAMPNO,BTLNBR,BTLNBR_FLAG_W,DATE,TIME,LATITUDE,LONGITUDE,DEPTH,CTDPRS,CTDTMP,CTDSAL,CTDSAL_FLAG_W,SALNTY,SALNTY_FLAG_W,OXYGEN,OXYGEN_FLAG_W,SILCAT,SILCAT_FLAG_W,NITRAT,NITRAT_FLAG_W,PHSPHT,PHSPHT_FLAG_W,CFC-11,CFC-11_FLAG_W,CFC-12,CFC-12_FLAG_W,CCL4,CCL4_FLAG_W,TCARBN,TCARBN_FLAG_W,ALKALI,ALKALI_FLAG_W,DOC,DOC_FLAG_W,DELO18,DELO18_FLAG_W,THETA
,,,,,,,,,,,METERS,DBAR,ITS-90,PSS-78,,PSS-78,,UMOL/KG,,UMOL/KG,,UMOL/KG,,UMOL/KG,,PMOL/KG,,PMOL/KG,,PMOL/KG,,UMOL/KG,,UMOL/KG,,UMOL/KG,,/MILLE,,DEG C
  77DN19910726,Arctic,    49,  4,  82382,     12,2,19910924,   0, 83.5900,   4.3400, 3607,     25.0,  -1.8040,  33.0319,2,  33.0220,   2,    373.9,2,     4.71,2,     3.80,2,     0.43,2,    6.712,2,    2.741,2,   11.376,   2,   2124.8,2,   2240.4,2,    126.0,2,    -2.07,2,  -1.8044
  77DN19910726,Arctic,    49,  4,  82381,     11,2,19910924,   0, 83.5900,   4.3400, 3607,     34.7,  -1.8080,  33.1590,2,  33.2230,   2,    372.0,2,     4.38,2,     4.11,2,     0.42,2,    6.410,2,    2.605,2,   10.498,   2,   2132.5,2,   2250.1,2,    126.5,2,  -999.00,9,  -1.8086
  77DN19910726,Arctic,    49,  4,  82380,     10,2,19910924,   0, 83.5900,   4.3400, 3607,     45.1,  -1.7780,  33.5871,2,  33.7410,   2,    361.2,2,     4.97,2,     5.50,2,     0.50,2,    5.327,2,    2.254,2,    7.971,   2,   2147.2,2,   2269.5,2,     91.0,2,    -1.38,2,  -1.7788
  77DN19910726,Arctic,    49,  4,  82379,      9,2,19910924,   0, 83.5900,   4.3400, 3607,     65.0,  -1.7200,  33.9828,2,  33.9940,   2,    342.7,2,     5.13,2,     7.00,2,     0.56,2,    4.478,2,    2.029,2,    6.673,   2,   2140.4,2,   2264.4,2,     75.8,2,    -0.80,2,  -1.7213
  77DN19910726,Arctic,    49,  4,  82378,      8,2,19910924,   0, 83.5900,   4.3400, 3607,     80.0,  -1.5840,  34.0808,2,  34.1030,   2,    331.1,2,     5.40,2,     7.84,2,     0.60,2,    4.498,2,    1.766,2,    6.595,   2,   2140.6,2,   2268.7,2,     84.8,2,    -0.58,2,  -1.5857
  77DN19910726,Arctic,    49,  4,  82377,      7,2,19910924,   0, 83.5900,   4.3400, 3607,     95.0,  -1.4290,  34.1567,2,  34.1960,   2,    324.2,2,     5.45,2,     8.45,2,     0.63,2,    3.522,2,    1.512,2,    5.941,   2,   2138.9,2,   2270.3,2,     90.2,2,  -999.00,9,  -1.4312
  77DN19910726,Arctic,    49,  4,  82376,      6,2,19910924,   0, 83.5900,   4.3400, 3607,    104.9,  -1.3540,  34.2015,2,  34.2530,   2,    326.2,2,     5.25,2,     8.60,2,     0.63,2,    3.473,2,    1.463,2,    6.478,   2,   2138.0,2,   2268.2,2,     43.3,2,    -0.31,2,  -1.3565
  77DN19910726,Arctic,    49,  4,  82375,      5,2,19910924,   0, 83.5900,   4.3400, 3607,    159.7,  -0.2290,  34.5176,2,  34.5110,   2,    317.4,2,     5.79,2,    10.34,2,     0.71,2,    2.478,2,    1.278,2,    5.971,   2,   2142.9,2,   2277.4,2,     89.7,2,     0.02,2,  -0.2345
  77DN19910726,Arctic,    49,  4,  82374,      4,2,19910924,   0, 83.5900,   4.3400, 3607,    200.1,   0.7020,  34.6661,2,  34.7080,   2,    306.7,2,     5.84,2,    11.52,2,     0.77,2,    2.615,2,    1.239,2,    6.868,   2,   2145.0,2,   2286.0,2,     70.9,2,     0.11,2,   0.6934
  77DN19910726,Arctic,    49,  4,  82373,      3,2,19910924,   0, 83.5900,   4.3400, 3607,    254.9,   1.3560,  34.8511,2,  34.8670,   2,    310.6,2,     5.86,2,    12.45,2,     0.80,2,    2.624,2,    1.298,2,    7.044,   2,   2144.2,2,   2290.1,2,     69.1,2,     0.20,2,   1.3435
  77DN19910726,Arctic,    49,  4,  82372,      2,2,19910924,   0, 83.5900,   4.3400, 3607,    320.1,   1.2890,  34.8978,2,  34.9040,   2,    316.5,2,     6.04,2,    12.71,2,     0.82,2,    2.498,2,    1.132,2,    7.298,   2,   2147.1,2,   2290.2,2,    121.2,2,     0.22,2,   1.2732
  77DN19910726,Arctic,    49,  4,  82371,      1,2,19910924,   0, 83.5900,   4.3400, 3607,    420.2,   0.9580,  34.9129,2,  34.9110,   2,    306.7,2,     6.31,2,    12.84,2,     0.84,2,    1.756,2,    0.859,2,    6.078,   2,   2143.2,2,   2295.4,2,     80.0,2,  -999.00,9,   0.9381
  77DN19910726,Arctic,    49,  2,  82369,     23,2,19910924,   0, 83.5900,   4.3400, 3607,    487.5,   0.8000,  34.8997,2,  34.9070,   2,    305.7,2,     6.35,2,    12.81,2,     0.83,2,    1.317,2,    0.000,3,    5.922,   2,   2148.6,2,   -999.0,9,    140.2,2,  -999.00,9,   0.7772
  77DN19910726,Arctic,    49,  2,  82368,     22,2,19910924,   0, 83.5900,   4.3400, 3607,    598.7,   0.5570,  34.9119,2,  34.9120,   2,    312.6,2,     6.54,2,    12.96,2,     0.84,2,    1.376,2,    0.634,2,    5.980,   2,   2151.6,2,   2282.1,2,    126.6,2,  -999.00,9,   0.5296
  77DN19910726,Arctic,    49,  2,  82367,     21,2,19910924,   0, 83.5900,   4.3400, 3607,    796.9,   0.0460,  34.9089,2,  34.9100,   2,    309.6,2,     6.99,2,    13.02,2,     0.86,2,    0.888,2,    0.488,2,    5.298,   2,   2156.0,2,   2281.9,2,     69.2,2,  -999.00,9,   0.0115
  77DN19910726,Arctic,    49,  2,  82366,     20,2,19910924,   0, 83.5900,   4.3400, 3607,    899.4,  -0.1200,  34.9104,2,  34.9130,   2,    308.7,2,     7.29,2,    13.14,2,     0.86,2,    0.732,2,    0.488,2,    5.132,   2,   2152.2,2,   2282.8,2,     73.6,2,  -999.00,9,  -0.1585
  77DN19910726,Arctic,    49,  2,  82365,     19,2,19910924,   0, 83.5900,   4.3400, 3607,   1046.3,  -0.2900,  34.9141,2,  34.9190,   2,    310.6,2,     7.81,2,    13.33,2,     0.88,2,    0.634,2,    0.312,2,    4.615,   2,   2158.5,2,   2274.6,2,     74.3,2,  -999.00,9,  -0.3347
  77DN19910726,Arctic,    49,  2,  82364,     18,2,19910924,   0, 83.5900,   4.3400, 3607,   1199.5,  -0.4330,  34.9182,2,  34.9200,   2,    309.6,2,     8.57,2,    13.82,2,     0.91,2,    0.332,2,    0.302,2,    3.815,   2,   2164.7,2,   2280.5,2,     68.3,2,  -999.00,9,  -0.4845
  77DN19910726,Arctic,    49,  2,  82363,     17,2,19910924,   0, 83.5900,   4.3400, 3607,   1347.7,  -0.5270,  34.9210,2,  34.9240,   2,    313.5,2,     9.09,2,    14.06,2,     0.92,2,    0.224,2,    0.205,2,    3.424,   2,   2156.0,2,   2286.4,2,     71.7,2,  -999.00,9,  -0.5856
  77DN19910726,Arctic,    49,  2,  82362,     16,2,19910924,   0, 83.5900,   4.3400, 3607,   1499.4,  -0.5720,  34.9247,2,  34.9260,   2,    310.6,2,     9.81,2,    14.24,2,     0.93,2,    0.224,2,    0.185,2,    3.083,   2,   2154.9,2,   2287.6,2,     66.1,2,  -999.00,9,  -0.6387
  77DN19910726,Arctic,    49,  2,  82361,     15,2,19910924,   0, 83.5900,   4.3400, 3607,   1596.7,  -0.6080,  34.9261,2,  34.9280,   2,    306.7,2,    10.16,2,    14.40,2,     0.94,2,    0.137,2,    0.176,2,    2.761,   2,   2148.2,2,   2287.3,2,     67.1,2,  -999.00,9,  -0.6799
  77DN19910726,Arctic,    49,  2,  82360,     14,2,19910924,   0, 83.5900,   4.3400, 3607,   1650.9,  -0.6350,  34.9269,2,  34.9270,   2,    307.7,2,    10.25,2,    14.47,2,     0.94,2,    0.107,2,    0.127,2,    2.898,   2,   2156.1,2,   2295.7,2,     66.2,2,  -999.00,9,  -0.7098
  77DN19910726,Arctic,    49,  2,  82359,     13,2,19910924,   0, 83.5900,   4.3400, 3607,   1798.5,  -0.6880,  34.9242,2,  34.9240,   2,    305.7,2,    10.16,2,    14.51,2,     0.94,2,    0.039,2,    0.107,2,    2.712,   2,   2158.3,2,   2294.2,2,     63.8,2,  -999.00,9,  -0.7710
  77DN19910726,Arctic,    49,  2,  82358,     12,2,19910924,   0, 83.5900,   4.3400, 3607,   1949.7,  -0.7350,  34.9247,2,  34.9250,   2,    305.7,2,    10.28,2,    14.60,2,     0.95,2,    0.029,2,    0.127,2,    2.459,   2,   2152.8,2,   2295.0,2,     75.3,2,  -999.00,9,  -0.8268
  77DN19910726,Arctic,    49,  2,  82357,     11,2,19910924,   0, 83.5900,   4.3400, 3607,   2100.6,  -0.7660,  34.9259,2,  34.9270,   2,    304.8,2,    10.46,2,    14.67,2,     0.95,2,    0.000,2,    0.117,2,    2.107,   2,   2152.4,2,   2294.5,2,     65.4,2,  -999.00,9,  -0.8672
  77DN19910726,Arctic,    49,  2,  82356,     10,2,19910924,   0, 83.5900,   4.3400, 3607,   2248.5,  -0.7840,  34.9276,2,  34.9310,   2,    305.7,2,    10.56,2,    14.71,2,     0.96,2,    0.010,2,    0.107,2,    2.068,   2,   2148.6,2,   2289.3,2,     70.4,2,  -999.00,9,  -0.8949
  77DN19910726,Arctic,    49,  2,  82355,      9,2,19910924,   0, 83.5900,   4.3400, 3607,   2397.6,  -0.7880,  34.9290,2,  34.9380,   2,    306.7,2,    10.69,2,    14.75,2,     0.96,2,    0.000,2,    0.068,2,    1.766,   2,   2152.6,2,   2285.8,2,     65.1,2,  -999.00,9,  -0.9092
  77DN19910726,Arctic,    49,  2,  82354,      8,2,19910924,   0, 83.5900,   4.3400, 3607,   2598.5,  -0.7910,  34.9316,2,  34.9320,   2,    307.7,2,    10.87,2,    14.81,2,     0.97,2,    0.000,2,    0.049,2,    1.551,   2,   2151.2,2,   2292.1,2,     62.2,2,  -999.00,9,  -0.9268
  77DN19910726,Arctic,    49,  2,  82353,      7,2,19910924,   0, 83.5900,   4.3400, 3607,   2801.8,  -0.7780,  34.9345,2,  34.9350,   2,    307.7,2,    11.01,2,    14.72,2,     0.97,2,    0.000,2,    0.088,2,    1.600,   2,   2147.6,2,   2294.1,2,     59.8,2,  -999.00,9,  -0.9295
  77DN19910726,Arctic,    49,  2,  82352,      6,2,19910924,   0, 83.5900,   4.3400, 3607,   2996.6,  -0.7660,  34.9368,2,  34.9380,   2,    305.7,2,    11.11,2,    14.74,2,     0.96,2,    0.000,2,    0.059,2,    1.327,   2,   2151.3,2,   2295.6,2,     60.5,2,  -999.00,9,  -0.9332
  77DN19910726,Arctic,    49,  2,  82351,      5,2,19910924,   0, 83.5900,   4.3400, 3607,   3099.6,  -0.7590,  34.9376,2,  34.9390,   2,    303.8,2,    11.14,2,    14.72,2,     0.97,2,    0.000,2,    0.059,2,    1.249,   2,   -999.0,9,   -999.0,9,     64.1,2,  -999.00,9,  -0.9347
  77DN19910726,Arctic,    49,  2,  82350,      4,2,19910924,   0, 83.5900,   4.3400, 3607,   3198.7,  -0.7520,  34.9385,2,  34.9380,   2,    303.8,2,    11.20,2,    14.72,2,     0.97,2,    0.000,2,    0.068,2,    1.220,   2,   2153.2,2,   2293.4,2,     61.8,2,  -999.00,9,  -0.9361
  77DN19910726,Arctic,    49,  2,  82349,      3,2,19910924,   0, 83.5900,   4.3400, 3607,   3353.8,  -0.7370,  34.9389,2,  34.9390,   2,    303.8,2,    11.23,2,    14.73,2,     0.97,2,    0.000,2,    0.029,2,    1.307,   2,   -999.0,9,   2296.4,2,     63.4,2,  -999.00,9,  -0.9347
  77DN19910726,Arctic,    49,  2,  82348,      2,2,19910924,   0, 83.5900,   4.3400, 3607,   3501.1,  -0.7250,  34.9397,2,  34.9390,   2,    306.7,2,    11.32,2,    14.73,2,     0.97,2,    0.000,2,    0.029,2,    1.063,   2,   2154.1,2,   2296.6,2,     63.0,2,  -999.00,9,  -0.9359
  77DN19910726,Arctic,    49,  2,  82347,      1,2,19910924,   0, 83.5900,   4.3400, 3607,   3630.6,  -0.7130,  34.9401,2,  34.9400,   2,    301.9,2,    11.32,2,    14.72,2,     0.97,2,    0.000,2,    0.059,2,    0.995,   2,   2158.2,2,   2301.7,2,     60.7,2,  -999.00,9,  -0.9359
  77DN19910726,Arctic,    50,  2,  82406,     24,2,19910925,   0, 83.3500,   8.2900, 4077,     18.6,  -1.8130,  33.2727,2,  33.3130,   2,    370.0,2,     4.85,2,     4.48,2,     0.47,2,    6.273,2,    2.576,2,   10.195,   2,   2127.0,2,   2249.1,2,    103.7,2,  -999.00,9,  -1.8133
  77DN19910726,Arctic,    50,  4,  82418,     12,2,19910925,   0, 83.3500,   8.2900, 4077,     22.4,  -1.8240,  33.2805,2,  33.3220,   2,    370.0,2,     4.85,2,     4.54,2,     0.49,2,    6.351,2,    2.634,2,   10.400,   2,   2132.2,2,   -999.0,9,    132.8,2,  -999.00,9,  -1.8244
  77DN19910726,Arctic,    50,  4,  82417,     11,2,19910925,   0, 83.3500,   8.2900, 4077,     32.2,  -1.8180,  33.3454,2,  33.4120,   2,    369.0,2,     4.43,2,     4.63,2,     0.47,2,    6.010,2,    2.576,2,    9.932,   2,   2125.5,2,   2249.1,2,     94.0,2,  -999.00,9,  -1.8186
  77DN19910726,Arctic,    50,  4,  82416,     10,2,19910925,   0, 83.3500,   8.2900, 4077,     52.0,  -1.7820,  33.8930,2,  33.9550,   2,    356.4,2,     4.41,2,     6.05,2,     0.50,2,    5.171,2,    2.117,2,    7.415,   2,   2161.2,2,   2274.9,2,     85.1,2,  -999.00,9,  -1.7830
  77DN19910726,Arctic,    50,  4,  82415,      9,2,19910925,   0, 83.3500,   8.2900, 4077,     72.6,  -1.7310,  34.0922,2,  34.1010,   2,    346.6,2,     4.41,2,     6.90,2,     0.54,2,    5.054,2,    2.000,2,    7.298,   2,   2141.1,2,   2272.3,2,     70.6,2,  -999.00,9,  -1.7324
  77DN19910726,Arctic,    50,  4,  82414,      8,2,19910925,   0, 83.3500,   8.2900, 4077,     92.5,  -1.6450,  34.1795,2,  34.1860,   2,    342.7,2,     4.49,2,     7.58,2,     0.57,2,    5.405,2,    1.932,2,    7.249,   2,   2138.2,2,   2273.0,2,     95.4,2,  -999.00,9,  -1.6469
  77DN19910726,Arctic,    50,  4,  82413,      7,2,19910925,   0, 83.3500,   8.2900, 4077,    112.5,  -1.0510,  34.2758,2,  34.2910,   2,    328.1,2,     5.03,2,     8.96,2,     0.64,2,    3.990,2,    1.785,2,    7.444,   2,   2130.3,2,   2270.7,2,     64.3,2,  -999.00,9,  -1.0540
  77DN19910726,Arctic,    50,  4,  82412,      6,2,19910925,   0, 83.3500,   8.2900, 4077,    172.3,   0.5450,  34.5707,2,  34.6130,   2,    310.6,2,     5.64,2,    10.84,2,     0.74,2,    3.063,2,    1.337,2,    6.712,   2,   2141.9,2,   2280.9,2,     79.7,2,  -999.00,9,   0.5379
  77DN19910726,Arctic,    50,  4,  82411,      5,2,19910925,   0, 83.3500,   8.2900, 4077,    202.5,   1.3150,  34.7255,2,  34.7560,   2,    309.6,2,     5.69,2,    11.58,2,     0.77,2,    3.278,2,    1.512,2,    7.337,   2,   2145.5,2,   2286.5,2,     84.1,2,  -999.00,9,   1.3052
  77DN19910726,Arctic,    50,  4,  82410,      4,2,19910925,   0, 83.3500,   8.2900, 4077,    252.4,   1.8540,  34.8747,2,  34.8960,   2,    314.5,2,     5.72,2,    12.22,2,     0.80,2,    4.283,2,    1.746,2,    8.780,   2,   2145.0,2,   2292.7,2,     87.2,2,  -999.00,9,   1.8405
  77DN19910726,Arctic,    50,  4,  82409,      3,2,19910925,   0, 83.3500,   8.2900, 4077,    303.1,   1.6160,  34.8885,2,  34.9070,   2,    310.6,2,     5.86,2,    12.43,2,     0.81,2,    3.454,2,    1.522,2,    8.176,   2,   2148.4,2,   2289.2,2,     78.9,2,  -999.00,9,   1.6003
  77DN19910726,Arctic,    50,  4,  82408,      2,2,19910925,   0, 83.3500,   8.2900, 4077,    362.7,   1.2770,  34.9048,2,  34.9070,   2,    308.7,2,     6.05,2,    12.67,2,     0.82,2,    2.478,2,    1.200,2,    6.800,   2,   2148.9,2,   2295.2,2,     79.5,2,  -999.00,9,   1.2590
  77DN19910726,Arctic,    50,  4,  82407,      1,2,19910925,   0, 83.3500,   8.2900, 4077,    482.3,   0.8640,  34.9032,2,  34.9100,   2,    305.7,2,     6.29,2,    12.78,2,     0.83,2,    1.395,2,    0.722,2,    5.376,   2,   2151.4,2,   2291.4,2,     66.8,2,  -999.00,9,   0.8412