BOTTLE,20140714SIOCCHRJL
EXPOCODE,SECT_ID,STNNBR,CASTNO,SAMPNO,BTLNBR,BTLNBR_FLAG_W,DATE,TIME,LATITUDE,LONGITUDE,DEPTH,CTDPRS,CTDTMP,CTDSAL,CTDSAL_FLAG_W,SALNTY,SALNTY_FLAG_W,OXYGEN,OXYGEN_FLAG_W,SILCAT,SILCAT_FLAG_W,NITRAT,NITRAT_FLAG_W,PHSPHT,PHSPHT_FLAG_W,CFC-11,CFC-11_FLAG_W,CFC-12,CFC-12_FLAG_W,CCL4,CCL4_FLAG_W,TCARBN,TCARBN_FLAG_W,ALKALI,ALKALI_FLAG_W,DOC,DOC_FLAG_W,DELO18,DELO18_FLAG_W,THETA
,,,,,,,,,,,METERS,DBAR,ITS-90,PSS-78,,PSS-78,,UMOL/KG,,UMOL/KG,,UMOL/KG,,UMOL/KG,,PMOL/KG,,PMOL/KG,,PMOL/KG,,UMOL/KG,,UMOL/KG,,UMOL/KG,,/MILLE,,DEG C
  77DN19910726,Arctic,    22,  2,  81530,     24,2,19910902,   0, 88.1500, 139.5000, 1268,     10.9,  -1.7110,  32.0391,2,  32.0400,   2,    369.7,2,     7.92,2,     3.62,2,     0.69,2, -999.000,9, -999.000,9, -999.000,   9,   2099.6,2,   2194.0,2,     90.3,2,  -999.00,9,  -1.7112
  77DN19910726,Arctic,    22,  2,  81529,     23,2,19910902,   0, 88.1500, 139.5000, 1268,     25.9,  -1.7100,  32.3998,2,  32.1350,   2,    369.3,2,     7.82,2,     3.72,2,     0.66,2,   10.371,3,    6.351,3,   12.995,   2,   2100.9,2,   2205.6,2,     90.4,2,  -999.00,9,  -1.7104
  77DN19910726,Arctic,    22,  2,  81528,     22,2,19910902,   0, 88.1500, 139.5000, 1268,     40.6,  -1.7440,  32.9176,2,  32.9180,   2,    359.2,2,     7.23,2,     5.08,2,     0.61,2, -999.000,9, -999.000,9, -999.000,   9,   2153.9,2,   2242.7,2,     93.8,2,  -999.00,9,  -1.7447
  77DN19910726,Arctic,    22,  2,  81527,     21,2,19910902,   0, 88.1500, 139.5000, 1268,     52.2,  -1.7540,  33.1046,2,  33.1620,   2,   -999.0,9,     6.65,2,     5.67,2,     0.59,2,    8.859,3,    2.761,2,    9.600,   2,   2157.1,2,   2247.0,2,     90.4,2,  -999.00,9,  -1.7549
  77DN19910726,Arctic,    22,  2,  81526,     20,2,19910902,   0, 88.1500, 139.5000, 1268,     74.8,  -1.6010,  33.7787,2,  33.9270,   2,    322.9,2,     6.74,2,     8.59,2,     0.70,2, -999.000,9, -999.000,9, -999.000,   9,   2147.5,2,   2243.0,2,     75.1,2,  -999.00,9,  -1.6025
  77DN19910726,Arctic,    22,  2,  81525,     19,2,19910902,   0, 88.1500, 139.5000, 1268,     98.6,  -1.4590,  34.2127,2,  34.2100,   2,    317.6,2,     5.57,2,     8.98,2,     0.69,2, -999.000,9, -999.000,9, -999.000,   9,   2145.7,2,   2256.4,2,     80.0,2,  -999.00,9,  -1.4612
  77DN19910726,Arctic,    22,  2,  81524,     18,2,19910902,   0, 88.1500, 139.5000, 1268,    125.3,  -1.0420,  34.4129,2,  34.3880,   2,    313.3,2,     5.27,2,     9.57,2,     0.70,2, -999.000,9, -999.000,9, -999.000,   9,   2148.4,2,   2266.5,2,     68.7,2,  -999.00,9,  -1.0454
  77DN19910726,Arctic,    22,  2,  81523,     17,2,19910902,   0, 88.1500, 139.5000, 1268,    151.6,  -0.5040,  34.5401,2,  34.3900,   2,    309.8,2,     5.66,2,    10.35,2,     0.75,2,    4.888,2,    1.824,2,    7.541,   2,   2152.5,2,   2271.1,2,     61.7,2,  -999.00,9,  -0.5088
  77DN19910726,Arctic,    22,  2,  81522,     16,2,19910902,   0, 88.1500, 139.5000, 1268,    200.9,   0.3960,  34.7455,2,  34.7510,   2,    307.0,2,     5.47,2,    11.61,2,     0.81,2, -999.000,9, -999.000,9, -999.000,   9,   2150.5,2,   2276.1,2,     83.1,2,  -999.00,9,   0.3879
  77DN19910726,Arctic,    22,  2,  81521,     15,2,19910902,   0, 88.1500, 139.5000, 1268,    250.4,   0.6860,  34.8199,2,  34.8270,   2,    310.5,2,     5.66,2,    12.20,2,     0.83,2,    5.902,2,    1.620,2,    8.722,   2,   2149.2,2,   2278.9,2,     61.2,2,  -999.00,9,   0.6751
  77DN19910726,Arctic,    22,  2,  81520,     14,2,19910902,   0, 88.1500, 139.5000, 1268,    300.2,   0.4230,  34.8556,2,  34.8260,   2,    309.9,2,     5.46,2,    12.10,2,     0.83,2, -999.000,9, -999.000,9, -999.000,   9,   2151.2,2,   2281.4,2,     93.4,2,  -999.00,9,   0.4105
  77DN19910726,Arctic,    22,  2,  81519,     13,2,19910902,   0, 88.1500, 139.5000, 1268,    348.2,   0.4030,  34.8535,2,  34.8340,   2,    310.3,2,     5.46,2,    12.10,2,     0.83,2,    6.224,3,    2.000,3,    9.785,   2,   2150.2,2,   2286.8,2,     69.6,2,  -999.00,9,   0.3884
  77DN19910726,Arctic,    22,  2,  81518,     12,2,19910902,   0, 88.1500, 139.5000, 1268,    400.1,   0.5680,  34.8660,2,  34.8600,   2,    304.4,2,     6.15,2,    12.59,2,     0.86,2, -999.000,9, -999.000,9, -999.000,   9,   2148.9,2,   2283.8,2,     62.1,2,  -999.00,9,   0.5504
  77DN19910726,Arctic,    22,  2,  81517,     11,2,19910902,   0, 88.1500, 139.5000, 1268,    498.6,   0.4300,  34.8756,2,  34.8770,   2,    308.1,2,     6.15,2,    12.69,2,     0.86,2,    4.166,2,    1.161,2,    7.180,   2,   2147.9,2,   2293.8,2,     56.6,2,  -999.00,9,   0.4082
  77DN19910726,Arctic,    22,  2,  81516,     10,2,19910902,   0, 88.1500, 139.5000, 1268,    549.5,   0.2930,  34.8775,2,  34.8780,   2,   -999.0,9,     6.25,2,    12.78,2,     0.87,2, -999.000,9, -999.000,9, -999.000,   9,   2152.9,2,   2290.1,2,    110.4,2,  -999.00,9,   0.2694
  77DN19910726,Arctic,    22,  2,  81515,      9,2,19910902,   0, 88.1500, 139.5000, 1268,    601.3,   0.1590,  34.8781,2,  34.8810,   2,   -999.0,9,     6.25,2,    12.78,2,     0.85,2,    3.707,3,    0.683,3,    7.307,   2,   2153.0,2,   2285.2,2,     64.4,2,  -999.00,9,   0.1335
  77DN19910726,Arctic,    22,  2,  81514,      8,2,19910902,   0, 88.1500, 139.5000, 1268,    651.3,   0.0520,  34.8793,2,  34.8800,   2,   -999.0,9,     6.25,2,    12.78,2,     0.86,2, -999.000,9, -999.000,9, -999.000,   9,   2153.4,2,   2290.1,2,     53.7,2,  -999.00,9,   0.0247
  77DN19910726,Arctic,    22,  2,  81513,      7,2,19910902,   0, 88.1500, 139.5000, 1268,    700.2,  -0.0460,  34.8805,2,  34.8810,   2,    310.4,2,     6.34,2,    12.78,2,     0.86,2,    3.873,2,    1.698,2,    8.507,   2,   2155.2,2,   -999.0,9,     48.6,2,  -999.00,9,  -0.0751
  77DN19910726,Arctic,    22,  2,  81512,      6,2,19910902,   0, 88.1500, 139.5000, 1268,    800.6,  -0.1640,  34.8832,2,  34.8840,   2,    310.2,2,     6.54,2,    12.78,2,     0.87,2, -999.000,9, -999.000,9, -999.000,   9,   2159.5,2,   -999.0,9,     48.6,2,  -999.00,9,  -0.1972
  77DN19910726,Arctic,    22,  2,  81511,      5,2,19910902,   0, 88.1500, 139.5000, 1268,    900.0,  -0.2760,  34.8873,2,  34.8870,   2,    310.3,2,     6.64,2,    12.88,2,     0.87,2,    5.902,3,    1.707,2,    9.424,   2,   2158.0,2,   2299.9,2,     48.2,2,  -999.00,9,  -0.3133
  77DN19910726,Arctic,    22,  2,  81510,      4,2,19910902,   0, 88.1500, 139.5000, 1268,   1001.8,  -0.3510,  34.8918,2,  34.8970,   2,    310.5,2,     6.93,2,    12.98,2,     0.88,2, -999.000,9, -999.000,9, -999.000,   9,   2159.3,2,   2297.0,2,     46.0,2,  -999.00,9,  -0.3928
  77DN19910726,Arctic,    22,  2,  81509,      3,2,19910902,   0, 88.1500, 139.5000, 1268,   1052.2,  -0.3760,  34.8960,2,  34.8990,   2,    309.7,2,     7.32,2,    13.08,2,     0.90,2,    4.537,2,    1.376,2,    7.649,   2,   2162.0,2,   2298.4,2,     46.6,2,  -999.00,9,  -0.4202
  77DN19910726,Arctic,    22,  2,  81508,      2,2,19910902,   0, 88.1500, 139.5000, 1268,   1128.5,  -0.4080,  34.9006,2,  34.9010,   2,    311.6,2,     7.61,2,    13.27,2,     0.91,2, -999.000,9, -999.000,9, -999.000,   9,   -999.0,9,   2294.8,2,     52.1,2,  -999.00,9,  -0.4559
  77DN19910726,Arctic,    22,  2,  81507,      1,2,19910902,   0, 88.1500, 139.5000, 1268,   1228.6,  -0.4600,  34.9053,2,  34.9060,   2,    307.9,2,     8.00,2,    13.56,2,     0.93,2,    4.127,2,    1.171,2,    6.849,   2,   2164.0,2,   2295.2,2,     53.1,2,  -999.00,9,  -0.5127
  77DN19910726,Arctic,    23,  2,  81554,     24,2,19910902,   0, 88.0000, 145.5200, 1523,     10.1,  -1.7080,  31.9401,2,  31.9240,   2,    370.3,2,     8.86,2,     3.54,2,     0.79,2,   12.361,3,    2.985,2,   13.366,   2,   -999.0,9,   2206.6,2,    106.1,2,    -2.51,2,  -1.7082
  77DN19910726,Arctic,    23,  2,  81553,     23,2,19910902,   0, 88.0000, 145.5200, 1523,     25.4,  -1.7090,  32.0276,2,  31.9190,   2,    373.3,2,     8.84,2,     3.55,2,     0.77,2,    7.883,2,    2.985,2,   13.278,   2,   -999.0,9,   2206.8,2,    103.4,2,    -2.46,2,  -1.7094
  77DN19910726,Arctic,    23,  2,  81552,     22,2,19910902,   0, 88.0000, 145.5200, 1523,     35.3,  -1.6830,  32.4026,2,  32.2820,   2,    364.5,2,     8.37,2,     4.09,2,     0.71,2,    9.307,3,    2.937,2,   12.234,   2,   -999.0,9,   2234.2,2,    106.4,2,    -2.40,2,  -1.6836
  77DN19910726,Arctic,    23,  2,  81551,     21,2,19910902,   0, 88.0000, 145.5200, 1523,     47.3,  -1.6160,  33.0416,2,  33.0430,   2,    316.9,2,    14.36,2,     8.71,2,     0.99,3,    7.698,2,    2.478,2,    7.863,   2,   -999.0,9,   2242.8,2,    116.8,2,    -1.49,2,  -1.6169
  77DN19910726,Arctic,    23,  2,  81550,     20,2,19910902,   0, 88.0000, 145.5200, 1523,     75.4,  -1.5850,  33.9704,2,  34.0480,   2,    319.0,2,     5.96,2,     8.66,2,     0.68,2,    8.361,3,    2.098,2,    8.332,   2,   -999.0,9,   2270.7,2,     77.9,2,    -0.41,2,  -1.5866
  77DN19910726,Arctic,    23,  2,  81549,     19,2,19910902,   0, 88.0000, 145.5200, 1523,     91.8,  -1.4430,  34.1767,2,  34.2150,   2,    317.0,2,     5.58,2,     9.00,2,     0.68,2,    5.766,2,    1.902,2,    7.483,   2,   -999.0,9,   2273.9,2,     75.2,2,    -0.22,2,  -1.4451
  77DN19910726,Arctic,    23,  2,  81548,     18,2,19910902,   0, 88.0000, 145.5200, 1523,    125.2,  -1.0060,  34.3863,2,  34.3960,   2,    313.3,2,     5.37,2,     9.59,2,     0.69,2,    8.068,3,    1.854,2,    7.629,   2,   -999.0,9,   2283.6,2,     68.2,2,    -0.05,2,  -1.0094
  77DN19910726,Arctic,    23,  2,  81547,     17,2,19910902,   0, 88.0000, 145.5200, 1523,    150.7,  -0.5900,  34.5229,2,  34.5090,   2,    311.4,2,     5.38,2,    10.13,2,     0.72,2,    6.800,3,    1.746,2,    8.595,   2,   -999.0,9,   2284.3,2,     71.7,2,     0.01,2,  -0.5947
  77DN19910726,Arctic,    23,  2,  81546,     16,2,19910902,   0, 88.0000, 145.5200, 1523,    201.4,   0.3220,  34.7280,2,  34.7330,   2,    304.9,2,     5.54,2,    11.61,2,     0.78,2,    4.273,2,    1.639,2,    8.800,   2,   -999.0,9,   2291.7,2,     59.4,2,     0.20,2,   0.3140
  77DN19910726,Arctic,    23,  2,  81545,     15,2,19910902,   0, 88.0000, 145.5200, 1523,    249.9,   0.6820,  34.8179,2,  34.8200,   2,    310.4,2,     5.68,2,    12.18,2,     0.80,2,    5.132,2,    1.502,2,    8.741,   2,   -999.0,9,   2286.1,2,     57.7,2,     0.20,2,   0.6711
  77DN19910726,Arctic,    23,  2,  81544,     14,2,19910902,   0, 88.0000, 145.5200, 1523,    300.4,   0.8060,  34.8549,2,  34.8570,   2,   -999.0,9,     5.63,2,    12.34,2,     0.81,2, -999.000,9, -999.000,9, -999.000,   9,   -999.0,9,   2293.7,2,     69.6,2,     0.22,2,   0.7925
  77DN19910726,Arctic,    23,  2,  81543,     13,2,19910902,   0, 88.0000, 145.5200, 1523,    320.2,   0.8050,  34.8632,2,  34.8640,   2,    306.3,2,     5.68,2,    12.41,2,     0.82,2,    5.620,2,    1.610,2,    9.522,   2,   -999.0,9,   2296.5,2,     73.0,2,     0.25,2,   0.7905
  77DN19910726,Arctic,    23,  2,  81542,     12,2,19910902,   0, 88.0000, 145.5200, 1523,    399.5,   0.6850,  34.8784,2,  34.8810,   2,    306.1,2,     5.97,2,    12.68,2,     0.85,2, -999.000,9, -999.000,9, -999.000,   9,   -999.0,9,   2290.6,2,     52.0,2,     0.29,2,   0.6670
  77DN19910726,Arctic,    23,  2,  81541,     11,2,19910902,   0, 88.0000, 145.5200, 1523,    449.0,   0.5670,  34.8784,2,  34.8830,   2,   -999.0,9,     5.95,2,    12.69,2,     0.86,2,    4.302,2,    1.424,2,    8.624,   2,   -999.0,9,   2289.1,2,    109.3,2,     0.25,2,   0.5471
  77DN19910726,Arctic,    23,  2,  81540,     10,2,19910902,   0, 88.0000, 145.5200, 1523,    497.0,   0.4160,  34.8802,2,  34.8820,   2,    311.6,2,     6.16,2,    12.74,2,     0.84,2, -999.000,9, -999.000,9, -999.000,   9,   -999.0,9,   2290.1,2,     58.9,2,     0.24,2,   0.3943
  77DN19910726,Arctic,    23,  2,  81539,      9,2,19910902,   0, 88.0000, 145.5200, 1523,    599.9,   0.1640,  34.8812,2,  34.8830,   2,    309.4,2,     6.32,2,    12.76,2,     0.85,2,    6.244,3,    1.220,2,    8.576,   2,   -999.0,9,   2288.3,2,     61.8,2,  -999.00,9,   0.1386
  77DN19910726,Arctic,    23,  2,  81538,      8,2,19910902,   0, 88.0000, 145.5200, 1523,    699.7,  -0.0140,  34.8813,2,  34.8850,   2,    306.1,2,     6.52,2,    12.83,2,     0.85,2, -999.000,9, -999.000,9, -999.000,   9,   -999.0,9,   2292.8,2,     53.5,2,  -999.00,9,  -0.0433
  77DN19910726,Arctic,    23,  2,  81537,      7,2,19910902,   0, 88.0000, 145.5200, 1523,    800.7,  -0.1390,  34.8852,2,  34.8860,   2,    308.5,2,     6.61,2,    12.84,2,     0.86,2,    3.951,2,    1.220,2,    7.727,   2,   -999.0,9,   -999.0,9,     56.6,2,  -999.00,9,  -0.1724
  77DN19910726,Arctic,    23,  2,  81536,      6,2,19910902,   0, 88.0000, 145.5200, 1523,    900.3,  -0.2320,  34.8904,2,  34.8930,   2,    307.7,2,     6.87,2,    12.96,2,     0.87,2, -999.000,9, -999.000,9, -999.000,   9,   -999.0,9,   -999.0,9,     58.6,2,  -999.00,9,  -0.2697
  77DN19910726,Arctic,    23,  2,  81535,      5,2,19910902,   0, 88.0000, 145.5200, 1523,   1049.0,  -0.3610,  34.8972,2,  34.8990,   2,    308.8,2,     7.14,2,    13.07,2,     0.89,2,    4.839,2,    1.385,2,    8.654,   2,   -999.0,9,   2297.7,2,     56.6,2,  -999.00,9,  -0.4052
  77DN19910726,Arctic,    23,  2,  81534,      4,2,19910902,   0, 88.0000, 145.5200, 1523,   1200.2,  -0.4460,  34.9050,2,  34.9040,   2,    310.1,2,     7.68,2,    13.32,2,     0.93,2, -999.000,9, -999.000,9, -999.000,   9,   -999.0,9,   -999.0,9,     59.7,2,  -999.00,9,  -0.4973
  77DN19910726,Arctic,    23,  2,  81533,      3,2,19910902,   0, 88.0000, 145.5200, 1523,   1300.5,  -0.4770,  34.9106,2,  34.9120,   2,    305.5,2,     8.14,2,    13.50,2,     0.93,2,    3.610,2,    1.171,2,    6.966,   2,   -999.0,9,   2299.1,2,     57.5,2,  -999.00,9,  -0.5335
  77DN19910726,Arctic,    23,  2,  81532,      2,2,19910902,   0, 88.0000, 145.5200, 1523,   1389.7,  -0.4640,  34.9306,2,  34.9300,   2,    298.5,2,     9.90,2,    14.17,2,     0.98,2, -999.000,9, -999.000,9, -999.000,   9,   -999.0,9,   2293.9,2,     57.8,2,  -999.00,9,  -0.5257
  77DN19910726,Arctic,    23,  2,  81531,      1,2,19910902,   0, 88.0000, 145.5200, 1523,   1489.5,  -0.4450,  34.9434,2,  34.9390,   2,    294.8,2,    11.21,2,    14.60,2,     1.04,3,    1.278,3,    1.307,2,    1.346,   2,   -999.0,9,   2297.1,2,     50.5,2,  -999.00,9,  -0.5126