BOTTLE,20140714SIOCCHRJL
EXPOCODE,SECT_ID,STNNBR,CASTNO,SAMPNO,BTLNBR,BTLNBR_FLAG_W,DATE,TIME,LATITUDE,LONGITUDE,DEPTH,CTDPRS,CTDTMP,CTDSAL,CTDSAL_FLAG_W,SALNTY,SALNTY_FLAG_W,OXYGEN,OXYGEN_FLAG_W,SILCAT,SILCAT_FLAG_W,NITRAT,NITRAT_FLAG_W,PHSPHT,PHSPHT_FLAG_W,CFC-11,CFC-11_FLAG_W,CFC-12,CFC-12_FLAG_W,CCL4,CCL4_FLAG_W,TCARBN,TCARBN_FLAG_W,ALKALI,ALKALI_FLAG_W,DOC,DOC_FLAG_W,DELO18,DELO18_FLAG_W,THETA
,,,,,,,,,,,METERS,DBAR,ITS-90,PSS-78,,PSS-78,,UMOL/KG,,UMOL/KG,,UMOL/KG,,UMOL/KG,,PMOL/KG,,PMOL/KG,,PMOL/KG,,UMOL/KG,,UMOL/KG,,UMOL/KG,,/MILLE,,DEG C
  77DN19910726,Arctic,    30,  2,  81758,     24,2,19910909,   0, 88.9900,   8.9400, 4372,     10.3,  -1.6980,  31.4069,2,  31.4410,   2,    376.9,2,    11.93,2,     3.24,2,     1.01,2,    7.483,2,    3.337,2,   12.732,   2,   2047.8,2,   2171.5,2,   -999.0,9,  -999.00,9,  -1.6981
  77DN19910726,Arctic,    30,  2,  81757,     23,2,19910909,   0, 88.9900,   8.9400, 4372,     24.3,  -1.6990,  31.4152,2,  31.4410,   2,    378.7,2,    11.95,2,     3.21,2,     1.01,2,    7.854,2,    3.259,2,   12.956,   2,   2055.1,2,   2175.0,2,   -999.0,9,  -999.00,9,  -1.6993
  77DN19910726,Arctic,    30,  2,  81756,     22,2,19910909,   0, 88.9900,   8.9400, 4372,     59.9,  -1.6860,  32.9752,2,  32.7590,   2,    341.2,2,    11.37,2,     6.62,2,     0.80,2,    6.917,2,    2.956,2,    8.439,   2,   2125.3,2,   2246.3,2,   -999.0,9,  -999.00,9,  -1.6870
  77DN19910726,Arctic,    30,  2,  81755,     21,2,19910909,   0, 88.9900,   8.9400, 4372,     79.9,  -1.6380,  33.7389,2,  33.7420,   2,    322.2,2,     6.98,2,     8.17,2,     0.64,2,    5.980,2,    2.546,2,    7.161,   2,   2124.5,2,   2259.1,2,   -999.0,9,  -999.00,9,  -1.6396
  77DN19910726,Arctic,    30,  2,  81754,     20,2,19910909,   0, 88.9900,   8.9400, 4372,    124.7,  -1.2470,  34.2847,2,  34.2850,   2,    315.2,2,     5.23,2,     9.14,2,     0.64,2,    5.024,2,    2.205,2,    7.356,   2,   2122.5,2,   2266.1,2,   -999.0,9,  -999.00,9,  -1.2501
  77DN19910726,Arctic,    30,  2,  81753,     19,2,19910909,   0, 88.9900,   8.9400, 4372,    200.7,   0.2630,  34.6687,2,  34.7060,   2,    308.6,2,     5.37,2,    11.30,2,     0.74,2,    4.205,2,    1.971,2,    8.107,   2,   2113.4,2,   2281.2,2,   -999.0,9,  -999.00,9,   0.2551
  77DN19910726,Arctic,    30,  2,  81752,     18,2,19910909,   0, 88.9900,   8.9400, 4372,    250.7,   0.7400,  34.8246,2,  34.8250,   2,    310.1,2,     5.50,2,    12.16,2,     0.79,2,    3.971,2,    1.902,2,    9.220,   2,   2113.8,2,   2285.7,2,   -999.0,9,  -999.00,9,   0.7290
  77DN19910726,Arctic,    30,  2,  81751,     17,2,19910909,   0, 88.9900,   8.9400, 4372,    300.3,   0.8730,  34.8574,2,  34.8600,   2,    308.4,2,     5.63,2,    12.36,2,     0.80,2,    3.922,2,    1.941,2,    9.151,   2,   2111.7,2,   2290.2,2,   -999.0,9,  -999.00,9,   0.8593
  77DN19910726,Arctic,    30,  2,  81750,     16,2,19910909,   0, 88.9900,   8.9400, 4372,    397.0,   0.7300,  34.8822,2,  34.8840,   2,    306.7,2,     5.88,2,    12.59,2,     0.82,2,    3.668,2,    1.785,2,    8.800,   2,   2120.7,2,   2286.7,2,   -999.0,9,  -999.00,9,   0.7120
  77DN19910726,Arctic,    30,  2,  81749,     15,2,19910909,   0, 88.9900,   8.9400, 4372,    599.4,   0.1430,  34.8822,2,  34.8820,   2,    310.1,2,     6.28,2,    12.69,2,     0.83,2,    3.317,2,    1.659,2,    8.244,   2,   2113.8,2,   2290.4,2,   -999.0,9,  -999.00,9,   0.1177
  77DN19910726,Arctic,    30,  2,  81748,     14,2,19910909,   0, 88.9900,   8.9400, 4372,    801.1,  -0.1980,  34.8876,2,  34.8860,   2,    315.1,2,     6.63,2,    12.78,2,     0.84,2,    3.737,2,    1.873,3,    8.820,   2,   2130.0,2,   2290.4,2,   -999.0,9,  -999.00,9,  -0.2310
  77DN19910726,Arctic,    30,  2,  81747,     13,2,19910909,   0, 88.9900,   8.9400, 4372,    999.9,  -0.3470,  34.8974,2,  34.8960,   2,    313.5,2,     7.24,2,    13.07,2,     0.86,2,    1.610,2,    0.917,2,    3.522,   3,   2135.2,2,   2287.2,2,   -999.0,9,  -999.00,9,  -0.3888
  77DN19910726,Arctic,    30,  2,  81746,     12,2,19910909,   0, 88.9900,   8.9400, 4372,   1199.6,  -0.4290,  34.9082,2,  34.9100,   2,    312.2,2,     7.99,2,    13.49,2,     0.90,2,    1.902,2,    1.083,2,    6.507,   2,   2145.3,2,   2294.0,2,   -999.0,9,  -999.00,9,  -0.4805
  77DN19910726,Arctic,    30,  2,  81745,     11,2,19910909,   0, 88.9900,   8.9400, 4372,   1499.2,  -0.5650,  34.9183,2,  34.9180,   2,    305.4,2,     9.21,2,    14.14,2,     0.92,2,    1.210,2,    0.771,2,    4.673,   2,   2143.9,2,   2290.8,2,   -999.0,9,  -999.00,9,  -0.6317
  77DN19910726,Arctic,    30,  2,  81744,     10,2,19910909,   0, 88.9900,   8.9400, 4372,   1599.0,  -0.5900,  34.9212,2,  34.9200,   2,    303.8,2,     9.58,2,    14.35,2,     0.94,2,    0.839,2,    0.624,2,    4.117,   2,   2144.1,2,   -999.0,9,   -999.0,9,  -999.00,9,  -0.6622
  77DN19910726,Arctic,    30,  2,  81743,      9,2,19910909,   0, 88.9900,   8.9400, 4372,   1721.5,  -0.6160,  34.9260,2,  34.9220,   2,    305.4,2,    10.04,2,    14.53,2,     0.96,2,    0.546,2,    0.546,2,    3.083,   2,   2161.8,2,   2292.2,2,   -999.0,9,  -999.00,9,  -0.6953
  77DN19910726,Arctic,    30,  2,  81742,      8,2,19910909,   0, 88.9900,   8.9400, 4372,   1900.9,  -0.6800,  34.9233,2,  34.9220,   2,    306.2,2,    10.25,2,    14.63,2,     0.96,2,    0.322,2,    0.712,3,    2.556,   2,   2157.1,2,   2295.0,2,   -999.0,9,  -999.00,9,  -0.7695
  77DN19910726,Arctic,    30,  2,  81741,      7,2,19910909,   0, 88.9900,   8.9400, 4372,   2250.2,  -0.7550,  34.9248,2,  34.9240,   2,   -999.0,9,    10.52,2,    14.77,2,     0.97,2,    0.000,2,    0.000,2,    0.810,   2,   2159.9,2,   -999.0,9,   -999.0,9,  -999.00,9,  -0.8665
  77DN19910726,Arctic,    30,  2,  81740,      6,2,19910909,   0, 88.9900,   8.9400, 4372,   2699.6,  -0.7760,  34.9308,2,  34.9300,   2,    305.7,2,    10.73,2,    14.80,2,     0.97,2,    0.000,2,    0.000,2,    1.639,   2,   2151.0,2,   2300.1,2,   -999.0,9,  -999.00,9,  -0.9197
  77DN19910726,Arctic,    30,  2,  81739,      5,2,19910909,   0, 88.9900,   8.9400, 4372,   3000.1,  -0.7700,  34.9349,2,  34.9330,   2,    301.9,2,    10.93,2,    14.88,2,     0.98,2,    0.000,2,    0.000,2,    0.907,   2,   2154.9,2,   -999.0,9,   -999.0,9,  -999.00,9,  -0.9373
  77DN19910726,Arctic,    30,  2,  81738,      4,2,19910909,   0, 88.9900,   8.9400, 4372,   3398.7,  -0.7500,  34.9387,2,  34.9380,   2,    303.1,2,    10.87,2,    14.81,2,     0.97,2,    0.039,2,    0.000,2,    0.868,   2,   2159.2,2,   2296.6,2,   -999.0,9,  -999.00,9,  -0.9513
  77DN19910726,Arctic,    30,  2,  81737,      3,2,19910909,   0, 88.9900,   8.9400, 4372,   3954.4,  -0.6930,  34.9440,2,  34.9440,   2,    302.4,2,    11.03,2,    14.79,2,     0.97,2,    0.029,2,    0.000,2,    0.663,   2,   2152.9,2,   2307.1,2,   -999.0,9,  -999.00,9,  -0.9466
  77DN19910726,Arctic,    30,  2,  81736,      2,2,19910909,   0, 88.9900,   8.9400, 4372,   4202.0,  -0.6690,  34.9443,2,  34.9450,   2,    302.3,2,    11.00,2,    14.77,2,     0.97,2,    0.000,2,    0.507,3,    0.644,   2,   2154.1,2,   2292.4,2,   -999.0,9,  -999.00,9,  -0.9474
  77DN19910726,Arctic,    30,  2,  81735,      1,2,19910909,   0, 88.9900,   8.9400, 4372,   4370.3,  -0.6510,-999.0000,9,  34.9430,   2,    301.9,2,    10.99,2,    14.75,2,     0.98,2,    0.000,2,    0.000,2,    0.400,   2,   2159.8,2,   2283.8,2,   -999.0,9,  -999.00,9,  -0.9468
  77DN19910726,Arctic,    31,  2,  81782,     24,2,19910909,   0, 88.2800,   9.3400, 4402,     10.1,  -1.7100,  31.6602,2,  31.6780,   2,    369.3,2,    12.66,2,     3.95,2,     0.95,2,    7.824,2,    3.249,2,   11.990,   2,   2117.5,2,   2201.7,2,   -999.0,9,    -2.94,2,  -1.7101
  77DN19910726,Arctic,    31,  2,  81781,     23,2,19910909,   0, 88.2800,   9.3400, 4402,     24.5,  -1.7120,  31.7048,2,  31.6860,   2,    369.3,2,    12.64,2,     3.95,2,     0.95,2,    9.912,3,    3.239,2,   12.234,   2,   2110.2,2,   2173.8,2,   -999.0,9,    -2.93,2,  -1.7124
  77DN19910726,Arctic,    31,  4,  81794,     12,2,19910909,   0, 88.2800,   9.3400, 4402,     30.0,  -1.7190,  31.7392,2,  31.7410,   2,    369.6,2,    12.46,2,     4.05,2,     0.96,2,   10.166,3,    3.200,2,   12.468,   2,   2128.3,2,   2182.0,2,   -999.0,9,  -999.00,9,  -1.7194
  77DN19910726,Arctic,    31,  4,  81793,     11,2,19910909,   0, 88.2800,   9.3400, 4402,     50.0,  -1.7370,  32.3843,2,  32.3460,   2,   -999.0,9,    12.09,2,     5.00,2,     0.89,2, -999.000,9, -999.000,9, -999.000,   9,   2173.4,2,   2221.4,2,   -999.0,9,  -999.00,9,  -1.7378
  77DN19910726,Arctic,    31,  4,  81792,     10,2,19910909,   0, 88.2800,   9.3400, 4402,     60.0,  -1.7330,  32.7147,2,  32.6290,   2,    358.8,2,    10.20,2,     5.31,2,     0.75,2,    8.098,2,    3.083,2,    9.571,   2,   2159.2,2,   2234.1,2,   -999.0,9,  -999.00,9,  -1.7340
  77DN19910726,Arctic,    31,  2,  81780,     22,2,19910909,   0, 88.2800,   9.3400, 4402,     69.1,  -1.6460,  32.9782,2,  33.0590,   2,    323.7,2,    12.83,2,     8.16,2,     0.87,2,    7.161,2,    2.722,2,    7.922,   2,   2143.2,2,   2224.5,2,   -999.0,9,    -1.64,2,  -1.6473
  77DN19910726,Arctic,    31,  4,  81791,      9,2,19910909,   0, 88.2800,   9.3400, 4402,     80.0,  -1.6430,  33.5291,2,  33.4500,   2,    318.0,2,     9.99,2,     8.26,2,     0.76,2,    7.405,2,    2.644,2,    7.502,   2,   2119.6,2,   2236.1,2,   -999.0,9,  -999.00,9,  -1.6445
  77DN19910726,Arctic,    31,  2,  81779,     21,2,19910909,   0, 88.2800,   9.3400, 4402,     90.1,  -1.6240,  33.9115,2,  33.8810,   2,    318.9,2,     6.50,2,     8.35,2,     0.64,2,    5.844,2,    2.361,2,    6.654,   2,   2143.7,2,   -999.0,9,   -999.0,9,    -0.64,2,  -1.6258
  77DN19910726,Arctic,    31,  4,  81790,      8,2,19910909,   0, 88.2800,   9.3400, 4402,    110.0,  -1.5480,  34.1677,2,  34.1080,   2,    318.0,2,     5.78,2,     8.70,2,     0.64,2,    6.507,2,    2.312,2,    7.424,   2,   2130.4,2,   2267.5,2,   -999.0,9,  -999.00,9,  -1.5504
  77DN19910726,Arctic,    31,  2,  81778,     20,2,19910909,   0, 88.2800,   9.3400, 4402,    124.5,  -1.3180,  34.2588,2,  34.2500,   2,    316.0,2,     5.41,2,     9.07,2,     0.64,2,    5.463,2,    6.020,3,    7.044,   2,   2137.9,2,   2265.4,2,   -999.0,9,    -0.28,2,  -1.3210
  77DN19910726,Arctic,    31,  4,  81789,      7,2,19910909,   0, 88.2800,   9.3400, 4402,    150.0,  -0.8880,  34.4143,2,  34.3910,   2,    317.6,2,     5.32,2,     9.56,2,     0.67,2,    7.239,3,    2.039,2,    7.649,   2,   2129.5,2,   2255.4,2,   -999.0,9,  -999.00,9,  -0.8923
  77DN19910726,Arctic,    31,  4,  81788,      6,2,19910909,   0, 88.2800,   9.3400, 4402,    175.0,  -0.4110,  34.5525,2,  34.5090,   2,    310.1,2,     5.39,2,    10.19,2,     0.70,2,    5.512,2,    1.932,2,    7.854,   2,   2142.1,2,   2262.7,2,   -999.0,9,  -999.00,9,  -0.4168
  77DN19910726,Arctic,    31,  4,  81787,      5,2,19910909,   0, 88.2800,   9.3400, 4402,    200.0,   0.0440,  34.6481,2,  34.6260,   2,    313.3,2,     5.37,2,    10.84,2,     0.73,2,    4.556,2,    1.961,2,    8.059,   2,   2150.2,2,   2268.8,2,   -999.0,9,  -999.00,9,   0.0365
  77DN19910726,Arctic,    31,  2,  81777,     19,2,19910909,   0, 88.2800,   9.3400, 4402,    250.5,   0.7100,  34.8155,2,  34.8160,   2,    306.0,2,     5.48,2,    12.04,2,     0.79,2,    5.307,2,    1.756,2,    7.951,   2,   2138.9,2,   2285.6,2,   -999.0,9,     0.22,2,   0.6990
  77DN19910726,Arctic,    31,  4,  81786,      4,2,19910909,   0, 88.2800,   9.3400, 4402,    300.0,   0.7610,  34.8309,2,  34.8300,   2,   -999.0,9,     5.65,2,    12.17,2,     0.80,2,    4.000,2,    0.556,3,    0.000,   3,   2158.9,2,   2284.5,2,   -999.0,9,  -999.00,9,   0.7476
  77DN19910726,Arctic,    31,  2,  81776,     18,2,19910909,   0, 88.2800,   9.3400, 4402,    330.3,   0.8410,  34.8607,2,  34.8620,   2,    307.6,2,     5.69,2,    12.39,2,     0.81,2,    5.951,3,    1.707,2,    8.517,   2,   2140.6,2,   -999.0,9,   -999.0,9,     0.25,2,   0.8259
  77DN19910726,Arctic,    31,  4,  81785,      3,2,19910909,   0, 88.2800,   9.3400, 4402,    425.0,   0.6820,  34.8806,2,  34.8810,   2,    307.7,2,     6.02,2,    12.64,2,     0.82,2,    3.863,2,    1.532,2,    8.127,   2,   2125.4,2,   -999.0,9,   -999.0,9,  -999.00,9,   0.6628
  77DN19910726,Arctic,    31,  2,  81775,     17,2,19910909,   0, 88.2800,   9.3400, 4402,    501.8,   0.4740,  34.8791,2,  34.8800,   2,    306.9,2,     6.11,2,    12.62,2,     0.82,2,    3.844,2,    1.512,2,    8.107,   2,   2145.5,2,   2304.9,2,   -999.0,9,  -999.00,9,   0.4519
  77DN19910726,Arctic,    31,  4,  81784,      2,2,19910909,   0, 88.2800,   9.3400, 4402,    575.0,   0.2740,  34.8807,2,  34.8810,   2,    308.0,2,     6.21,2,    12.66,2,     0.83,2,    4.098,2,    1.551,2,    8.820,   2,   2144.6,2,   -999.0,9,   -999.0,9,  -999.00,9,   0.2492
  77DN19910726,Arctic,    31,  2,  81774,     16,2,19910909,   0, 88.2800,   9.3400, 4402,    650.5,   0.0900,  34.8809,2,  34.8800,   2,   -999.0,9,     6.35,2,    12.65,2,     0.83,2,    3.346,2,    1.434,2,    8.156,   2,   2149.6,2,   2295.2,2,   -999.0,9,  -999.00,9,   0.0625
  77DN19910726,Arctic,    31,  4,  81783,      1,2,19910909,   0, 88.2800,   9.3400, 4402,    850.0,  -0.1940,  34.8871,2,  34.8860,   2,    309.3,2,     6.76,2,    12.82,2,     0.86,2,    4.215,3,    1.385,2,    8.488,   2,   2153.4,2,   -999.0,9,   -999.0,9,  -999.00,9,  -0.2294
  77DN19910726,Arctic,    31,  2,  81773,     15,2,19910909,   0, 88.2800,   9.3400, 4402,    900.2,  -0.2330,  34.8897,2,  34.8890,   2,    310.5,2,     6.81,2,    12.86,2,     0.85,2,    3.346,2,    1.434,2,    8.420,   2,   2145.7,2,   -999.0,9,   -999.0,9,  -999.00,9,  -0.2706
  77DN19910726,Arctic,    31,  2,  81772,     14,2,19910909,   0, 88.2800,   9.3400, 4402,   1099.9,  -0.3600,  34.9031,2,  34.9050,   2,    308.5,2,     7.53,2,    13.18,2,     0.87,2,    2.927,2,    1.083,2,    6.810,   2,   2149.9,2,   -999.0,9,   -999.0,9,  -999.00,9,  -0.4068
  77DN19910726,Arctic,    31,  2,  81771,     13,2,19910909,   0, 88.2800,   9.3400, 4402,   1399.3,  -0.5070,  34.9167,2,  34.9180,   2,    307.3,2,     8.78,2,    13.82,2,     0.92,2,    1.795,2,    1.668,3,    3.737,   2,   2153.5,2,   -999.0,9,   -999.0,9,  -999.00,9,  -0.5687
  77DN19910726,Arctic,    31,  2,  81770,     12,2,19910909,   0, 88.2800,   9.3400, 4402,   1600.0,  -0.5800,  34.9206,2,  34.9200,   2,    303.4,2,     9.50,2,    14.19,2,     0.96,2,    0.946,2,    0.000,2,    3.717,   2,   2148.1,2,   2294.9,2,   -999.0,9,  -999.00,9,  -0.6524
  77DN19910726,Arctic,    31,  2,  81769,     11,2,19910909,   0, 88.2800,   9.3400, 4402,   1755.8,  -0.6000,  34.9249,2,  34.9260,   2,    300.4,2,    10.13,2,    14.44,2,     0.97,2,    1.102,2,    0.000,2,    3.405,   2,   2151.6,2,   -999.0,9,   -999.0,9,  -999.00,9,  -0.6816
  77DN19910726,Arctic,    31,  2,  81768,     10,2,19910909,   0, 88.2800,   9.3400, 4402,   1898.4,  -0.6680,  34.9238,2,  34.9230,   2,    300.2,2,    10.18,2,    14.59,2,     0.97,2,    4.380,3,    0.429,2,    3.434,   2,   2154.6,2,   2301.5,2,   -999.0,9,  -999.00,9,  -0.7576
  77DN19910726,Arctic,    31,  2,  81767,      9,2,19910909,   0, 88.2800,   9.3400, 4402,   2200.3,  -0.7400,  34.9246,2,  34.9260,   2,    303.9,2,    10.41,2,    14.72,2,     0.98,2, -999.000,9, -999.000,9, -999.000,   9,   2148.3,2,   2305.4,2,   -999.0,9,  -999.00,9,  -0.8483
  77DN19910726,Arctic,    31,  2,  81766,      8,2,19910909,   0, 88.2800,   9.3400, 4402,   2598.2,  -0.7720,  34.9292,2,  34.9320,   2,   -999.0,9,    10.66,2,    14.81,2,     0.98,2,    0.546,2,    0.000,2,    1.522,   2,   2142.9,2,   2289.0,2,   -999.0,9,  -999.00,9,  -0.9081
  77DN19910726,Arctic,    31,  2,  81765,      7,2,19910909,   0, 88.2800,   9.3400, 4402,   2998.3,  -0.7690,  34.9343,2,  34.9340,   2,    302.2,2,    10.82,2,    14.83,2,     0.99,2, -999.000,9, -999.000,9, -999.000,   9,   2148.0,2,   -999.0,9,   -999.0,9,  -999.00,9,  -0.9362
  77DN19910726,Arctic,    31,  2,  81764,      6,2,19910909,   0, 88.2800,   9.3400, 4402,   3299.1,  -0.7540,  34.9376,2,  34.9370,   2,    305.5,2,    10.83,2,    14.81,2,     0.99,2, -999.000,9, -999.000,9, -999.000,   9,   2152.4,2,   -999.0,9,   -999.0,9,  -999.00,9,  -0.9466
  77DN19910726,Arctic,    31,  2,  81763,      5,2,19910909,   0, 88.2800,   9.3400, 4402,   3549.7,  -0.7380,  34.9397,2,  34.9390,   2,    306.2,2,    10.93,2,    14.74,2,     0.98,2,    0.585,2,    0.000,2,    0.820,   2,   2156.4,2,   2292.9,2,   -999.0,9,  -999.00,9,  -0.9529
  77DN19910726,Arctic,    31,  2,  81762,      4,2,19910909,   0, 88.2800,   9.3400, 4402,   3899.6,  -0.6990,  34.9439,2,  34.9430,   2,    304.0,2,    11.04,2,    14.74,2,     0.98,2, -999.000,9, -999.000,9, -999.000,   9,   2161.6,2,   2291.9,2,   -999.0,9,  -999.00,9,  -0.9472
  77DN19910726,Arctic,    31,  2,  81761,      3,2,19910909,   0, 88.2800,   9.3400, 4402,   4205.6,  -0.6680,  34.9440,2,  34.9440,   2,    304.4,2,    11.08,2,    14.69,2,     0.98,2,    1.112,2,    0.000,2,    0.839,   2,   2158.2,2,   2310.4,2,   -999.0,9,  -999.00,9,  -0.9468
  77DN19910726,Arctic,    31,  2,  81760,      2,2,19910909,   0, 88.2800,   9.3400, 4402,   4267.2,  -0.6610,  34.9435,2,  34.9430,   2,    305.6,2,    11.09,2,    14.70,2,     0.98,2,    0.605,2,    0.000,2,    0.761,   2,   2161.9,2,   -999.0,9,   -999.0,9,  -999.00,9,  -0.9461
  77DN19910726,Arctic,    31,  2,  81759,      1,2,19910909,   0, 88.2800,   9.3400, 4402,   4418.3,  -0.6460,  34.9430,2,  34.9450,   2,    302.8,2,    11.07,2,    14.67,2,     0.98,2,    0.000,2,    0.000,2,    0.624,   2,   2163.0,2,   2292.1,2,   -999.0,9,  -999.00,9,  -0.9469
  77DN19910726,Arctic,    32,  2,  81818,     24,2,19910910,   0, 87.5100,   1.4400, 4392,     14.6,  -1.7350,  32.1861,2,  32.1090,   2,    373.9,2,     7.94,2,     3.63,2,     0.64,2,    7.756,2,    3.366,2,   12.937,   2,   -999.0,9,   2237.3,2,   -999.0,9,  -999.00,9,  -1.7352