BOTTLE,20140714SIOCCHRJL
EXPOCODE,SECT_ID,STNNBR,CASTNO,SAMPNO,BTLNBR,BTLNBR_FLAG_W,DATE,TIME,LATITUDE,LONGITUDE,DEPTH,CTDPRS,CTDTMP,CTDSAL,CTDSAL_FLAG_W,SALNTY,SALNTY_FLAG_W,OXYGEN,OXYGEN_FLAG_W,SILCAT,SILCAT_FLAG_W,NITRAT,NITRAT_FLAG_W,PHSPHT,PHSPHT_FLAG_W,CFC-11,CFC-11_FLAG_W,CFC-12,CFC-12_FLAG_W,CCL4,CCL4_FLAG_W,TCARBN,TCARBN_FLAG_W,ALKALI,ALKALI_FLAG_W,DOC,DOC_FLAG_W,DELO18,DELO18_FLAG_W,THETA
,,,,,,,,,,,METERS,DBAR,ITS-90,PSS-78,,PSS-78,,UMOL/KG,,UMOL/KG,,UMOL/KG,,UMOL/KG,,PMOL/KG,,PMOL/KG,,PMOL/KG,,UMOL/KG,,UMOL/KG,,UMOL/KG,,/MILLE,,DEG C
  77DN19910726,Arctic,    16,  2,  81324,     22,2,19910829,   0, 87.6100,  69.7000, 4422,    600.3,   0.2450,  34.8828,2,  34.8850,   2,   -999.0,9,     6.22,2,    12.41,2,     0.86,2,    6.137,3,    0.732,2,    7.141,   2,   2151.6,2,   2295.0,2,     67.5,2,  -999.00,9,   0.2191
  77DN19910726,Arctic,    16,  2,  81323,     21,2,19910829,   0, 87.6100,  69.7000, 4422,    699.4,   0.0200,  34.8839,2,  34.8850,   2,   -999.0,9,     6.40,2,    12.41,2,     0.86,2,    0.000,3,    1.024,2,    6.790,   2,   2148.9,2,   2296.8,2,     65.1,2,     0.25,2,  -0.0094
  77DN19910726,Arctic,    16,  2,  81322,     20,2,19910829,   0, 87.6100,  69.7000, 4422,    792.5,  -0.0960,  34.8871,2,  34.8900,   2,   -999.0,9,     6.65,2,    12.53,2,     0.86,2,    1.863,2,    1.034,2,    6.137,   2,   2157.4,2,   2296.0,2,     73.2,2,     0.21,2,  -0.1293
  77DN19910726,Arctic,    16,  2,  81321,     19,2,19910829,   0, 87.6100,  69.7000, 4422,    899.9,  -0.2130,  34.8952,2,  34.8950,   2,    306.1,2,     6.91,2,    12.63,2,     0.87,2,    2.137,2,    0.810,2,    6.751,   2,   2156.8,2,   2298.5,2,     70.9,2,     0.22,2,  -0.2508
  77DN19910726,Arctic,    16,  2,  81320,     18,2,19910829,   0, 87.6100,  69.7000, 4422,   1099.0,  -0.3560,  34.9065,2,  34.9080,   2,    307.0,2,     7.49,2,    12.92,2,     0.89,2,    2.166,2,    0.634,2,    5.259,   2,   2155.0,2,   2294.9,2,     64.6,2,     0.32,2,  -0.4028
  77DN19910726,Arctic,    16,  2,  81319,     17,2,19910829,   0, 87.6100,  69.7000, 4422,   1299.3,  -0.4640,  34.9144,2,  34.9150,   2,    306.0,2,     8.27,2,    13.28,2,     0.92,2,    2.273,2,    0.517,2,    4.907,   2,   2152.1,2,   2297.3,2,     72.9,2,  -999.00,9,  -0.5206
  77DN19910726,Arctic,    16,  2,  81318,     16,2,19910829,   0, 87.6100,  69.7000, 4422,   1499.2,  -0.5540,  34.9199,2,  34.9210,   2,    303.8,2,     9.10,2,    13.64,2,     0.94,2,    0.615,2,    0.000,2,    3.288,   2,   -999.0,9,   2296.9,2,     68.0,2,     0.27,2,  -0.6208
  77DN19910726,Arctic,    16,  2,  81317,     15,2,19910829,   0, 87.6100,  69.7000, 4422,   1599.3,  -0.5830,  34.9224,2,  34.9230,   2,    301.2,2,     9.54,2,    13.81,2,     0.96,2,    0.420,2,    0.000,2,    2.888,   2,   2157.2,2,   2294.5,2,     60.8,2,     0.29,2,  -0.6554
  77DN19910726,Arctic,    16,  2,  81316,     14,2,19910829,   0, 87.6100,  69.7000, 4422,   1699.6,  -0.6110,  34.9243,2,  34.9240,   2,    302.0,2,     9.93,2,    13.98,2,     0.96,2,    0.010,2,    0.166,2,    2.741,   2,   -999.0,9,   2300.9,2,     68.6,2,     0.27,2,  -0.6890
  77DN19910726,Arctic,    16,  2,  81315,     13,2,19910829,   0, 87.6100,  69.7000, 4422,   1801.1,  -0.6520,  34.9243,2,  34.9240,   2,    302.4,2,     9.96,2,    14.13,2,     0.96,2,    0.546,2,    0.146,2,    2.995,   2,   2153.8,2,   2301.3,2,     62.2,2,     0.26,2,  -0.7357
  77DN19910726,Arctic,    16,  2,  81314,     12,2,19910829,   0, 87.6100,  69.7000, 4422,   2000.0,  -0.7160,  34.9229,2,  34.9230,   2,    307.6,2,    10.15,2,    14.45,2,     0.97,2,    0.644,2,    0.244,2,    2.341,   2,   -999.0,9,   2298.9,2,     65.6,2,     0.28,2,  -0.8114
  77DN19910726,Arctic,    16,  2,  81313,     11,2,19910829,   0, 87.6100,  69.7000, 4422,   2250.0,  -0.7580,  34.9253,2,  34.9250,   2,    303.9,2,    10.34,2,    14.62,2,     0.98,2,    0.000,2,    0.176,2,    1.805,   2,   2154.4,2,   2297.4,2,     61.0,2,     0.29,2,  -0.8694
  77DN19910726,Arctic,    16,  2,  81312,     10,2,19910829,   0, 87.6100,  69.7000, 4422,   2502.1,  -0.7740,  34.9278,2,  34.9280,   2,    303.4,2,    10.50,2,    14.54,2,     0.97,2,    0.361,2,    0.341,2,    1.483,   2,   -999.0,9,   2299.8,2,     64.6,2,     0.29,2,  -0.9030
  77DN19910726,Arctic,    16,  2,  81311,      9,2,19910829,   0, 87.6100,  69.7000, 4422,   2750.4,  -0.7800,  34.9310,2,  34.9310,   2,    303.2,2,    10.81,2,    14.53,2,     0.97,2,    0.000,2,    0.185,2,    1.024,   2,   2145.0,2,   2301.1,2,     64.6,2,     0.28,2,  -0.9275
  77DN19910726,Arctic,    16,  2,  81310,      8,2,19910829,   0, 87.6100,  69.7000, 4422,   3001.0,  -0.7720,  34.9337,2,  34.9400,   2,    302.9,2,    10.77,2,    14.58,2,     0.97,2,    0.000,2,    0.020,2,    1.093,   2,   -999.0,9,   2294.7,2,     61.3,2,     0.40,2,  -0.9394
  77DN19910726,Arctic,    16,  2,  81309,      7,2,19910829,   0, 87.6100,  69.7000, 4422,   3250.5,  -0.7630,  34.9361,2,  34.9370,   2,    302.5,2,    10.82,2,    14.53,2,     0.97,2,    0.000,2,    0.000,2,    1.210,   2,   2152.4,2,   -999.0,9,     61.2,2,     0.30,2,  -0.9512
  77DN19910726,Arctic,    16,  2,  81308,      6,2,19910829,   0, 87.6100,  69.7000, 4422,   3499.9,  -0.7450,  34.9392,2,  34.9400,   2,    303.3,2,    10.87,2,    14.50,2,     0.97,2,    0.185,2,    0.000,2,    0.907,   2,   -999.0,9,   -999.0,9,     62.7,2,     0.28,2,  -0.9553
  77DN19910726,Arctic,    16,  2,  81307,      5,2,19910829,   0, 87.6100,  69.7000, 4422,   3701.5,  -0.7230,  34.9408,2,  34.9400,   2,    301.7,2,    10.94,2,    14.48,2,     0.97,2,    0.000,2,    0.000,2,    1.063,   2,   -999.0,9,   -999.0,9,     59.9,2,     0.30,2,  -0.9520
  77DN19910726,Arctic,    16,  2,  81306,      4,2,19910829,   0, 87.6100,  69.7000, 4422,   3899.9,  -0.7000,  34.9422,2,  34.9420,   2,    302.4,2,    10.97,2,    14.49,2,     0.97,2,    0.000,2,    0.000,2,    0.654,   2,   -999.0,9,   -999.0,9,     66.3,2,     0.28,2,  -0.9482
  77DN19910726,Arctic,    16,  2,  81305,      3,2,19910829,   0, 87.6100,  69.7000, 4422,   4098.1,  -0.6780,  34.9424,2,  34.9430,   2,    301.8,2,    11.03,2,    14.42,2,     0.97,2,    0.000,2,    0.000,2,    0.585,   2,   -999.0,9,   2294.8,2,     59.7,2,     0.36,2,  -0.9459
  77DN19910726,Arctic,    16,  2,  81304,      2,2,19910829,   0, 87.6100,  69.7000, 4422,   4352.0,  -0.6520,  34.9420,2,  34.9450,   2,    299.7,2,    11.02,2,    14.46,2,     0.97,2,    0.000,2,    0.010,2,    0.859,   2,   -999.0,9,   -999.0,9,     73.5,2,     0.31,2,  -0.9460
  77DN19910726,Arctic,    16,  2,  81303,      1,2,19910829,   0, 87.6100,  69.7000, 4422,   4450.6,  -0.6410,-999.0000,9,  34.9440,   2,    300.1,2,    11.00,2,    14.43,2,     0.97,2,    0.000,2,    0.000,2,    0.927,   2,   -999.0,9,   -999.0,9,     59.2,2,     0.35,2,  -0.9454
  77DN19910726,Arctic,    17,  2,  81362,     24,2,19910830,   0, 88.0100,  85.0600, 4417,     10.5,  -1.7350,  32.7098,2,  32.7210,   2,    371.5,2,     4.34,2,     3.50,2,     0.39,2,    7.912,2,    4.722,3,   12.107,   2,   2115.5,2,   2250.9,2,    107.7,2,  -999.00,9,  -1.7352
  77DN19910726,Arctic,    17,  4,  81374,     12,2,19910830,   0, 88.0100,  85.0600, 4417,     15.6,  -1.7450,  32.7143,2,  32.7250,   2,    370.3,2,     4.31,2,     3.52,2,     0.40,2,    7.649,2,    6.039,3,   11.629,   2,   2115.8,2,   2264.4,2,    152.6,2,    -1.89,2,  -1.7453
  77DN19910726,Arctic,    17,  4,  81373,     11,2,19910830,   0, 88.0100,  85.0600, 4417,     30.2,  -1.7400,  32.7643,2,  32.7370,   2,    368.3,2,     4.31,2,     3.52,2,     0.39,2,    7.561,2,    2.810,2,   11.532,   2,   2119.3,2,   2244.2,2,    122.8,2,    -1.85,2,  -1.7405
  77DN19910726,Arctic,    17,  2,  81361,     23,2,19910830,   0, 88.0100,  85.0600, 4417,     41.5,  -1.7330,  33.1027,2,  33.1360,   2,    368.3,2,     4.92,2,     4.33,2,     0.43,2,    7.385,2,    3.063,2,    9.678,   2,   2150.3,2,   2279.8,2,    104.4,2,  -999.00,9,  -1.7337
  77DN19910726,Arctic,    17,  4,  81372,     10,2,19910830,   0, 88.0100,  85.0600, 4417,     58.4,  -1.7950,  33.3139,2,  33.3150,   2,    363.1,2,     4.70,2,     4.68,2,     0.45,2,    7.102,2,    2.702,2,    9.151,   2,   2158.7,2,   2290.0,2,    101.4,2,    -1.75,2,  -1.7960
  77DN19910726,Arctic,    17,  4,  81371,      9,2,19910830,   0, 88.0100,  85.0600, 4417,     74.7,  -1.6930,  33.7037,2,  33.7610,   2,    325.8,2,     5.36,2,     7.22,2,     0.58,2,   10.576,3,    2.156,2,    6.995,   2,   2151.6,2,   2272.6,2,     86.7,2,    -0.72,2,  -1.6945
  77DN19910726,Arctic,    17,  4,  81370,      8,2,19910830,   0, 88.0100,  85.0600, 4417,    100.2,  -1.5480,  34.1535,2,  34.1450,   2,    318.2,2,     4.95,2,     8.32,2,     0.62,2,    5.288,2,    2.234,2,    6.917,   2,   2149.6,2,   2268.1,2,     88.4,2,    -0.31,2,  -1.5502
  77DN19910726,Arctic,    17,  2,  81360,     22,2,19910830,   0, 88.0100,  85.0600, 4417,    113.2,  -1.3730,  34.2597,2,  34.2280,   2,    317.3,2,     4.89,2,     8.50,2,     0.62,2,    4.917,2,    1.990,2,    6.985,   2,   2145.7,2,   2280.4,2,     65.0,2,  -999.00,9,  -1.3757
  77DN19910726,Arctic,    17,  4,  81369,      7,2,19910830,   0, 88.0100,  85.0600, 4417,    150.0,  -0.5480,  34.4706,2,  34.4460,   2,   -999.0,9,     4.95,2,     8.33,2,     0.62,2, -999.000,9, -999.000,9, -999.000,   9,   -999.0,9,   -999.0,9,     74.5,2,    -0.05,2,  -0.5527
  77DN19910726,Arctic,    17,  4,  81368,      6,2,19910830,   0, 88.0100,  85.0600, 4417,    200.0,   0.3090,  34.7148,2,  34.7090,   2,    304.5,2,     5.21,2,    11.13,2,     0.75,2,    4.195,2,    2.039,2,    7.737,   2,   2148.9,2,   2297.2,2,     54.6,2,     0.18,2,   0.3011
  77DN19910726,Arctic,    17,  4,  81367,      5,2,19910830,   0, 88.0100,  85.0600, 4417,    250.2,   0.8590,  34.8361,2,  34.8260,   2,   -999.0,9,     5.21,2,    11.12,2,     0.75,2, -999.000,9, -999.000,9, -999.000,   9,   -999.0,9,   -999.0,9,     60.7,2,     0.17,2,   0.8477
  77DN19910726,Arctic,    17,  4,  81366,      4,2,19910830,   0, 88.0100,  85.0600, 4417,    300.0,   0.8370,  34.8648,2,  34.8490,   2,    304.6,2,     5.58,2,    12.02,2,     0.80,2,    3.941,2,    1.424,2,    8.068,   2,   2154.0,2,   2303.9,2,     56.5,2,     0.19,2,   0.8234
  77DN19910726,Arctic,    17,  4,  81365,      3,2,19910830,   0, 88.0100,  85.0600, 4417,    399.9,   0.6780,  34.8840,2,  34.8730,   2,    302.6,2,     5.89,2,    12.27,2,     0.82,2,    2.878,2,    1.044,2,    6.820,   2,   2150.1,2,   2304.1,2,     56.0,2,     0.19,2,   0.6601
  77DN19910726,Arctic,    17,  4,  81364,      2,2,19910830,   0, 88.0100,  85.0600, 4417,    499.9,   0.4960,  34.8852,2,  34.8820,   2,    303.6,2,     6.11,2,    12.41,2,     0.82,2,    2.468,2,    1.024,2,    6.634,   2,   -999.0,9,   -999.0,9,     64.6,2,  -999.00,9,   0.4739
  77DN19910726,Arctic,    17,  4,  81363,      1,2,19910830,   0, 88.0100,  85.0600, 4417,    600.0,   0.2380,  34.8865,2,  34.8840,   2,    302.5,2,     6.28,2,    12.44,2,     0.83,2,    2.273,2,    0.966,2,    6.683,   2,   -999.0,9,   -999.0,9,     76.5,2,  -999.00,9,   0.2122
  77DN19910726,Arctic,    17,  2,  81359,     21,2,19910830,   0, 88.0100,  85.0600, 4417,    698.8,   0.0470,  34.8846,2,  34.8860,   2,    309.2,2,     6.48,2,    12.41,2,     0.82,2,    4.029,3,    0.976,2,    6.371,   2,   2158.6,2,   2303.5,2,     56.5,2,  -999.00,9,   0.0174
  77DN19910726,Arctic,    17,  2,  81358,     20,2,19910830,   0, 88.0100,  85.0600, 4417,    799.1,  -0.0890,  34.8903,2,  34.8910,   2,   -999.0,9,     6.70,2,    12.57,2,     0.83,2,    2.995,3,    0.722,2,    6.176,   2,   -999.0,9,   -999.0,9,     66.6,2,  -999.00,9,  -0.1226
  77DN19910726,Arctic,    17,  2,  81357,     19,2,19910830,   0, 88.0100,  85.0600, 4417,    899.8,  -0.2110,  34.8956,2,  34.8950,   2,    309.3,2,     6.93,2,    12.66,2,     0.85,2,    1.961,2,    0.771,2,    6.293,   2,   -999.0,9,   -999.0,9,     66.7,2,  -999.00,9,  -0.2488
  77DN19910726,Arctic,    17,  2,  81356,     18,2,19910830,   0, 88.0100,  85.0600, 4417,   1001.1,  -0.3020,  34.8985,2,  34.8980,   2,    306.2,2,     7.19,2,    12.77,2,     0.85,2,    2.098,2,    0.790,2,    6.117,   2,   -999.0,9,   -999.0,9,     59.3,2,  -999.00,9,  -0.3442
  77DN19910726,Arctic,    17,  2,  81355,     17,2,19910830,   0, 88.0100,  85.0600, 4417,   1250.6,  -0.4430,  34.9140,2,  34.9120,   2,    305.6,2,     8.18,2,    13.29,2,     0.89,2,    1.473,2,    0.517,2,    4.322,   2,   -999.0,9,   -999.0,9,     63.3,2,  -999.00,9,  -0.4971
  77DN19910726,Arctic,    17,  2,  81354,     16,2,19910830,   0, 88.0100,  85.0600, 4417,   1500.5,  -0.5560,  34.9202,2,  34.9180,   2,    305.7,2,     9.15,2,    13.77,2,     0.92,2,    1.102,2,    0.273,2,    3.512,   2,   -999.0,9,   -999.0,9,     71.3,2,  -999.00,9,  -0.6229
  77DN19910726,Arctic,    17,  2,  81353,     15,2,19910830,   0, 88.0100,  85.0600, 4417,   1597.0,  -0.5860,  34.9220,2,  34.9210,   2,    306.8,2,     9.46,2,    13.94,2,     0.93,2,    0.585,2,    0.205,2,    3.073,   2,   -999.0,9,   -999.0,9,     69.1,2,  -999.00,9,  -0.6582
  77DN19910726,Arctic,    17,  2,  81352,     14,2,19910830,   0, 88.0100,  85.0600, 4417,   1700.5,  -0.6050,  34.9247,2,  34.9240,   2,    303.3,2,     9.90,2,    14.08,2,     0.94,2,    0.663,2,    0.117,2,    2.722,   2,   -999.0,9,   -999.0,9,     62.8,2,  -999.00,9,  -0.6831
  77DN19910726,Arctic,    17,  2,  81351,     13,2,19910830,   0, 88.0100,  85.0600, 4417,   1800.5,  -0.6450,  34.9243,2,  34.9240,   2,    305.4,2,    10.03,2,    14.20,2,     0.95,2,    0.556,2,    0.156,2,    2.576,   2,   -999.0,9,   -999.0,9,     64.3,2,  -999.00,9,  -0.7287
  77DN19910726,Arctic,    17,  2,  81350,     12,2,19910830,   0, 88.0100,  85.0600, 4417,   1999.4,  -0.7110,  34.9228,2,  34.9230,   2,    308.1,2,    10.13,2,    14.27,2,     0.97,2,    0.205,2,    0.088,2,    2.205,   2,   -999.0,9,   -999.0,9,     61.1,2,  -999.00,9,  -0.8064
  77DN19910726,Arctic,    17,  2,  81349,     11,2,19910830,   0, 88.0100,  85.0600, 4417,   2199.4,  -0.7480,  34.9245,2,  34.9250,   2,    305.0,2,    10.32,2,    14.41,2,     0.97,2,    0.000,2,    0.195,2,    1.922,   2,   -999.0,9,   -999.0,9,     59.8,2,  -999.00,9,  -0.8561
  77DN19910726,Arctic,    17,  2,  81348,     10,2,19910830,   0, 88.0100,  85.0600, 4417,   2399.5,  -0.7680,  34.9266,2,  34.9260,   2,    305.3,2,    10.47,2,    14.48,2,     0.97,2,    0.059,2,    0.146,2,    1.629,   2,   -999.0,9,   -999.0,9,     60.3,2,  -999.00,9,  -0.8897
  77DN19910726,Arctic,    17,  2,  81347,      9,2,19910830,   0, 88.0100,  85.0600, 4417,   2598.9,  -0.7780,  34.9285,2,  34.9280,   2,    304.8,2,    10.58,2,    14.52,2,     0.98,2,    0.088,2,    0.010,2,    1.405,   2,   -999.0,9,   2273.4,3,     62.8,2,  -999.00,9,  -0.9140
  77DN19910726,Arctic,    17,  2,  81346,      8,2,19910830,   0, 88.0100,  85.0600, 4417,   2801.3,  -0.7780,  34.9311,2,  34.9310,   2,    303.3,2,    10.73,2,    14.54,2,     0.98,2,    0.234,2,    1.298,3,    1.239,   2,   -999.0,9,   2285.1,2,     61.3,2,  -999.00,9,  -0.9294
  77DN19910726,Arctic,    17,  2,  81345,      7,2,19910830,   0, 88.0100,  85.0600, 4417,   3049.4,  -0.7700,  34.9338,2,  34.9230,   2,   -999.0,9,  -999.00,9,  -999.00,9,  -999.00,9, -999.000,9, -999.000,9, -999.000,   9,   -999.0,9,   -999.0,9,      0.0,3,  -999.00,9,  -0.9413
  77DN19910726,Arctic,    17,  2,  81344,      6,2,19910830,   0, 88.0100,  85.0600, 4417,   3399.1,  -0.7530,  34.9380,2,  34.9380,   2,   -999.0,9,    10.80,2,    14.53,2,     0.98,2,    0.117,2,    0.000,2,    0.956,   2,   -999.0,9,   2283.0,2,     72.6,2,  -999.00,9,  -0.9542
  77DN19910726,Arctic,    17,  2,  81343,      5,2,19910830,   0, 88.0100,  85.0600, 4417,   3651.5,  -0.7300,  34.9405,2,  34.9410,   2,    304.4,2,    10.90,2,    14.49,2,     0.98,2,    0.000,2,    2.556,4,    0.927,   2,   -999.0,9,   2277.9,2,     66.9,2,  -999.00,9,  -0.9543
  77DN19910726,Arctic,    17,  2,  81342,      4,2,19910830,   0, 88.0100,  85.0600, 4417,   3898.7,  -0.6990,  34.9425,2,  34.9400,   2,   -999.0,9,  -999.00,9,  -999.00,9,  -999.00,9, -999.000,9, -999.000,9, -999.000,   9,   -999.0,9,   -999.0,9,      0.0,3,  -999.00,9,  -0.9471
  77DN19910726,Arctic,    17,  2,  81341,      3,2,19910830,   0, 88.0100,  85.0600, 4417,   4098.8,  -0.6790,  34.9426,2,  34.9430,   2,    305.3,2,    11.01,2,    14.49,2,     0.98,2,    0.000,2,    0.000,2,    0.790,   2,   -999.0,9,   2262.4,3,     70.1,2,  -999.00,9,  -0.9469
  77DN19910726,Arctic,    17,  2,  81340,      2,2,19910830,   0, 88.0100,  85.0600, 4417,   4250.5,  -0.6630,  34.9424,2,  34.9460,   2,    302.8,2,    11.01,2,    14.48,2,     0.98,2,    0.000,2,    0.000,2,    0.878,   2,   -999.0,9,   2256.8,3,     71.1,2,  -999.00,9,  -0.9464
  77DN19910726,Arctic,    17,  2,  81339,      1,2,19910830,   0, 88.0100,  85.0600, 4417,   4402.2,  -0.6480,  34.9420,2,  34.9430,   2,    305.2,2,    11.01,2,    14.53,2,     0.98,2,    0.000,2,    0.098,2,    0.829,   2,   -999.0,9,   -999.0,9,     72.2,2,  -999.00,9,  -0.9472
  77DN19910726,Arctic,    18,  2,  81410,     24,2,19910831,   0, 88.1800,  99.1300, 4403,      9.7,  -1.7390,  32.6483,2,  32.6450,   2,   -999.0,9,     4.50,2,     3.56,2,     0.43,2,    8.224,2,    3.220,2,   13.278,   2,   2107.5,2,   2227.3,2,    111.8,2,    -1.97,2,  -1.7392
  77DN19910726,Arctic,    18,  3,  81422,     12,2,19910831,   0, 88.1800,  99.1300, 4403,     35.1,  -1.7240,  33.2157,2,  33.0300,   2,    367.1,2,     4.42,2,     4.03,2,     0.45,2,    7.766,2,    2.820,2,   11.551,   2,   2127.5,2,   2262.1,2,     99.5,2,    -1.94,2,  -1.7246
  77DN19910726,Arctic,    18,  3,  81421,     11,2,19910831,   0, 88.1800,  99.1300, 4403,     40.7,  -1.7760,  33.2674,2,  33.2440,   2,    366.5,2,     4.49,2,     4.39,2,     0.45,2,    7.883,2,    3.024,2,   11.083,   2,   2151.1,2,   2263.9,2,    105.2,2,  -999.00,9,  -1.7767
  77DN19910726,Arctic,    18,  3,  81420,     10,2,19910831,   0, 88.1800,  99.1300, 4403,     65.7,  -1.8080,  33.4628,2,  33.4280,   2,    368.3,2,     4.12,2,     4.51,2,     0.44,2,    7.298,2,    2.780,2,    9.659,   2,   2144.3,2,   2277.3,2,    100.3,2,  -999.00,9,  -1.8092
  77DN19910726,Arctic,    18,  3,  81419,      9,2,19910831,   0, 88.1800,  99.1300, 4403,     75.6,  -1.7450,  33.5966,2,  33.6190,   2,    344.1,2,     4.87,2,     6.22,2,     0.54,2,    6.634,2,    2.517,2,    8.624,   2,   2152.0,2,   2255.8,2,     93.2,2,    -1.20,2,  -1.7464
  77DN19910726,Arctic,    18,  3,  81418,      8,2,19910831,   0, 88.1800,  99.1300, 4403,    100.8,  -1.5910,  34.0925,2,  34.0910,   2,    320.9,2,     5.16,2,     8.27,2,     0.64,2,    5.346,2,    2.059,2,    7.151,   2,   2142.6,2,   2260.1,2,     74.2,2,    -0.37,2,  -1.5931
  77DN19910726,Arctic,    18,  2,  81409,     23,2,19910831,   0, 88.1800,  99.1300, 4403,    115.0,  -1.4090,  34.2244,2,  34.2230,   2,    316.8,2,     5.00,2,     8.79,2,     0.65,2,    9.649,3,    1.834,2,    7.298,   2,   2139.5,2,   2264.1,2,     83.3,2,  -999.00,9,  -1.4117