BOTTLE,20140714SIOCCHRJL
EXPOCODE,SECT_ID,STNNBR,CASTNO,SAMPNO,BTLNBR,BTLNBR_FLAG_W,DATE,TIME,LATITUDE,LONGITUDE,DEPTH,CTDPRS,CTDTMP,CTDSAL,CTDSAL_FLAG_W,SALNTY,SALNTY_FLAG_W,OXYGEN,OXYGEN_FLAG_W,SILCAT,SILCAT_FLAG_W,NITRAT,NITRAT_FLAG_W,PHSPHT,PHSPHT_FLAG_W,CFC-11,CFC-11_FLAG_W,CFC-12,CFC-12_FLAG_W,CCL4,CCL4_FLAG_W,TCARBN,TCARBN_FLAG_W,ALKALI,ALKALI_FLAG_W,DOC,DOC_FLAG_W,DELO18,DELO18_FLAG_W,THETA
,,,,,,,,,,,METERS,DBAR,ITS-90,PSS-78,,PSS-78,,UMOL/KG,,UMOL/KG,,UMOL/KG,,UMOL/KG,,PMOL/KG,,PMOL/KG,,PMOL/KG,,UMOL/KG,,UMOL/KG,,UMOL/KG,,/MILLE,,DEG C
  77DN19910726,Arctic,    43,  2,  82190,     24,2,19910919,   0, 85.0500, -14.8600, 1047,     16.3,  -1.7220,  31.6941,2,  31.6640,   2,    373.9,2,    13.48,2,     3.82,2,     1.10,2,    7.278,2,    2.780,2,   11.424,   2,   2103.9,2,   2192.0,2,   -999.0,9,    -2.87,2,  -1.7222
  77DN19910726,Arctic,    43,  2,  82189,     23,2,19910919,   0, 85.0500, -14.8600, 1047,     24.7,  -1.7270,  31.7463,2,  31.7400,   2,    375.9,2,    13.46,2,     4.01,2,     1.06,2,    8.293,2,    2.839,2,   11.268,   2,   2114.3,2,   2210.8,2,   -999.0,9,    -2.85,2,  -1.7274
  77DN19910726,Arctic,    43,  2,  82188,     22,2,19910919,   0, 85.0500, -14.8600, 1047,     35.5,  -1.7210,  31.9291,2,  31.7910,   2,    369.0,2,    13.57,2,     4.20,2,     1.06,2,    7.063,2,    2.868,2,   10.478,   2,   2122.0,2,   2220.6,2,   -999.0,9,    -2.81,2,  -1.7215
  77DN19910726,Arctic,    43,  2,  82187,     21,2,19910919,   0, 85.0500, -14.8600, 1047,     50.4,  -1.4690,  32.6074,2,  32.4760,   2,    284.3,2,    27.85,2,    12.23,2,     1.66,2,    5.541,2,    2.332,2,    6.029,   2,   2188.1,2,   2237.0,2,   -999.0,9,    -1.53,3,  -1.4699
  77DN19910726,Arctic,    43,  2,  82186,     20,2,19910919,   0, 85.0500, -14.8600, 1047,     61.7,  -1.4840,  33.3460,2,  33.3250,   2,    281.4,2,    23.75,2,    12.66,2,     1.40,2,    5.629,2,    2.020,2,    5.990,   2,   2203.5,2,   2256.7,2,   -999.0,9,    -1.11,2,  -1.4853
  77DN19910726,Arctic,    43,  2,  82185,     19,2,19910919,   0, 85.0500, -14.8600, 1047,     75.3,  -1.5080,  33.7897,2,  33.8210,   2,    297.0,2,    13.89,2,    10.82,2,     0.97,2,    4.693,2,    1.824,2,    5.795,   2,   2178.6,2,   2277.6,2,   -999.0,9,    -0.64,2,  -1.5096
  77DN19910726,Arctic,    43,  2,  82184,     18,2,19910919,   0, 85.0500, -14.8600, 1047,    100.9,  -1.3390,  34.1632,2,  34.1660,   2,    300.9,2,     9.59,2,    10.41,2,     0.81,2,    3.132,2,    1.454,2,    5.180,   2,   2172.8,2,   2279.4,2,   -999.0,9,    -0.31,2,  -1.3414
  77DN19910726,Arctic,    43,  2,  82183,     17,2,19910919,   0, 85.0500, -14.8600, 1047,    125.4,  -0.8950,  34.3508,2,  34.3620,   2,    298.9,2,     8.79,2,    10.83,2,     0.80,2,    2.117,2,    1.102,2,    4.907,   2,   2163.8,2,   2278.0,2,   -999.0,9,    -0.17,2,  -0.8985
  77DN19910726,Arctic,    43,  2,  82182,     16,2,19910919,   0, 85.0500, -14.8600, 1047,    159.7,  -0.3150,  34.5304,2,  34.5660,   2,    293.1,2,     9.00,2,    11.90,2,     0.84,2,    1.766,2,    0.771,2,    4.380,   2,   2168.9,2,   2292.9,2,   -999.0,9,     0.00,2,  -0.3204
  77DN19910726,Arctic,    43,  2,  82181,     15,2,19910919,   0, 85.0500, -14.8600, 1047,    200.3,   0.0970,  34.7248,2,  34.6940,   2,    293.1,2,     9.36,2,    12.92,2,     0.89,2,    1.434,2,    0.624,2,    3.688,   2,   2160.2,2,   2297.6,2,   -999.0,9,     0.12,2,   0.0894
  77DN19910726,Arctic,    43,  2,  82180,     14,2,19910919,   0, 85.0500, -14.8600, 1047,    240.5,   0.3720,  34.7818,2,  34.7930,   2,    294.1,2,     8.94,2,    13.37,2,     0.90,2,    1.180,2,    0.605,2,    3.912,   2,   2161.6,2,   2299.0,2,   -999.0,9,     0.20,2,   0.3622
  77DN19910726,Arctic,    43,  2,  82179,     13,2,19910919,   0, 85.0500, -14.8600, 1047,    280.0,   0.4440,  34.8202,2,  34.8310,   2,    294.1,2,     8.83,2,    13.53,2,     0.91,2,    0.761,2,    0.605,2,    3.356,   2,   2161.6,2,   2296.1,2,   -999.0,9,  -999.00,9,   0.4323
  77DN19910726,Arctic,    43,  2,  82178,     12,2,19910919,   0, 85.0500, -14.8600, 1047,    329.9,   0.4450,  34.8450,2,  34.8480,   2,    291.1,2,     8.67,2,    13.55,2,     0.90,2,    2.859,3,    0.576,2,    3.561,   2,   2159.7,2,   2288.0,2,   -999.0,9,     0.20,2,   0.4311
  77DN19910726,Arctic,    43,  2,  82177,     11,2,19910919,   0, 85.0500, -14.8600, 1047,    359.2,   0.4460,  34.8573,2,  34.8520,   2,    291.1,2,     8.69,2,    13.58,2,     0.90,2,    0.888,2,    0.380,2,    3.054,   2,   2158.6,2,   2291.4,2,   -999.0,9,  -999.00,9,   0.4307
  77DN19910726,Arctic,    43,  2,  82176,     10,2,19910919,   0, 85.0500, -14.8600, 1047,    489.2,   0.3790,  34.8762,2,  34.8760,   2,    298.0,2,     7.89,2,    13.37,2,     0.89,2,    0.790,2,    0.468,2,    3.356,   2,   2153.8,2,   2297.1,2,   -999.0,9,  -999.00,9,   0.3579
  77DN19910726,Arctic,    43,  2,  82175,      9,2,19910919,   0, 85.0500, -14.8600, 1047,    560.7,   0.2620,  34.8813,2,  34.8810,   2,    304.8,2,     8.21,2,    13.42,2,     0.89,2,    0.302,2,    0.420,2,    2.771,   2,   2156.0,2,   2292.6,2,   -999.0,9,  -999.00,9,   0.2380
  77DN19910726,Arctic,    43,  2,  82174,      8,2,19910919,   0, 85.0500, -14.8600, 1047,    600.7,   0.2050,  34.8825,2,  34.8830,   2,    298.9,2,     8.21,2,    13.42,2,     0.90,2,    1.512,2,    0.390,2,    3.093,   2,   2152.8,2,   2298.4,2,   -999.0,9,  -999.00,9,   0.1793
  77DN19910726,Arctic,    43,  2,  82173,      7,2,19910919,   0, 85.0500, -14.8600, 1047,    679.7,   0.1230,  34.8847,2,  34.8850,   2,    300.9,2,     7.76,2,    13.28,2,     0.89,2,    0.937,2,    0.429,2,    3.161,   2,   2149.8,2,   2292.4,2,   -999.0,9,  -999.00,9,   0.0939
  77DN19910726,Arctic,    43,  2,  82172,      6,2,19910919,   0, 85.0500, -14.8600, 1047,    748.3,   0.0680,  34.8907,2,  34.8900,   2,    305.7,2,     8.15,2,    13.39,2,     0.89,2,    0.566,2,    0.449,2,    2.917,   2,   2145.6,2,   -999.0,9,   -999.0,9,  -999.00,9,   0.0359
  77DN19910726,Arctic,    43,  2,  82171,      5,2,19910919,   0, 85.0500, -14.8600, 1047,    827.7,  -0.0040,  34.8951,2,  34.8940,   2,    302.8,2,     8.34,2,    13.46,2,     0.90,2,    0.224,2,    0.302,2,    2.390,   2,   2146.5,2,   2289.1,2,   -999.0,9,  -999.00,9,  -0.0396
  77DN19910726,Arctic,    43,  2,  82170,      4,2,19910919,   0, 85.0500, -14.8600, 1047,    890.6,  -0.1250,  34.9036,2,  34.9010,   2,    301.9,2,     8.44,2,    13.50,2,     0.91,2,    1.356,2,    0.429,2,    3.044,   2,   2145.9,2,   2283.7,2,   -999.0,9,  -999.00,9,  -0.1630
  77DN19910726,Arctic,    43,  2,  82169,      3,2,19910919,   0, 85.0500, -14.8600, 1047,    938.2,  -0.1580,  34.9045,2,  34.9040,   2,    308.7,2,     8.49,2,    13.54,2,     0.92,2,    0.624,2,    0.000,3,    2.741,   2,   2146.3,2,   2294.6,2,   -999.0,9,  -999.00,9,  -0.1982
  77DN19910726,Arctic,    43,  2,  82168,      2,2,19910919,   0, 85.0500, -14.8600, 1047,    987.9,  -0.2000,  34.9073,2,  34.9070,   2,    304.8,2,     8.67,2,    13.61,2,     0.93,2,    0.468,2,    0.429,2,    2.839,   2,   2145.7,2,   2286.5,2,   -999.0,9,  -999.00,9,  -0.2424
  77DN19910726,Arctic,    43,  2,  82167,      1,2,19910919,   0, 85.0500, -14.8600, 1047,   1003.7,  -0.2060,  34.9071,2,  34.9080,   2,    305.7,2,     8.69,2,    13.69,2,     0.93,2,    0.351,2,    0.410,2,    2.380,   2,   2148.2,2,   2293.5,2,   -999.0,9,  -999.00,9,  -0.2492
  77DN19910726,Arctic,    44,  3,  82214,      1,2,19910919,   0, 85.0700, -14.1300, 2019,     15.7,  -1.7250,  31.6511,2,  31.6230,   2,    374.9,2,    13.59,2,     3.71,2,     1.13,2,    6.829,2,    2.917,2,   10.234,   2,   2098.4,2,   2161.5,2,     96.6,2,  -999.00,9,  -1.7252
  77DN19910726,Arctic,    44,  3,  82213,      2,2,19910919,   0, 85.0700, -14.1300, 2019,     35.5,  -1.7180,  32.0681,2,  31.9280,   2,    369.0,2,    12.99,2,     4.39,2,     1.01,2,    6.956,2,    2.937,2,    9.366,   2,   2116.3,2,   2193.6,2,    128.2,2,  -999.00,9,  -1.7185
  77DN19910726,Arctic,    44,  3,  82212,      3,2,19910919,   0, 85.0700, -14.1300, 2019,     50.3,  -1.6930,  32.6373,2,  32.6430,   2,    358.3,2,    11.69,2,     5.88,2,     0.81,2,    6.615,2,    2.673,2,    8.254,   2,   2155.9,2,   2219.9,2,    100.6,2,  -999.00,9,  -1.6939
  77DN19910726,Arctic,    44,  3,  82211,      4,2,19910919,   0, 85.0700, -14.1300, 2019,     64.6,  -1.4450,  33.3204,2,  33.3410,   2,    274.6,2,    27.41,2,    13.84,2,     1.59,2,    4.546,2,    1.932,2,    5.610,   2,   2197.2,2,   2229.1,2,     95.0,2,  -999.00,9,  -1.4463
  77DN19910726,Arctic,    44,  3,  82210,      5,2,19910919,   0, 85.0700, -14.1300, 2019,     91.1,  -1.3890,  34.0250,2,  34.0470,   2,    298.9,2,    12.06,2,    10.98,2,     0.92,2,    3.220,2,    1.395,2,    4.888,   2,   2167.6,2,   2246.1,2,     77.2,2,  -999.00,9,  -1.3911
  77DN19910726,Arctic,    44,  3,  82209,      6,2,19910919,   0, 85.0700, -14.1300, 2019,    117.5,  -1.1140,  34.3082,2,  34.2780,   2,    298.9,2,     9.14,2,    10.61,2,     0.81,2,    3.015,2,    1.141,2,    4.937,   2,   2155.1,2,   2260.5,2,     66.0,2,  -999.00,9,  -1.1170
  77DN19910726,Arctic,    44,  3,  82208,      7,2,19910919,   0, 85.0700, -14.1300, 2019,    201.1,   0.0980,  34.6895,2,  34.6880,   2,    288.2,2,     9.48,2,    12.90,2,     0.90,2,    1.278,2,    0.624,2,    3.532,   2,   2156.8,2,   2257.3,2,     63.0,2,  -999.00,9,   0.0904
  77DN19910726,Arctic,    44,  3,  82207,      8,2,19910919,   0, 85.0700, -14.1300, 2019,    290.3,   0.4860,  34.8301,2,  34.8330,   2,    298.9,2,     8.01,2,    13.31,2,     0.89,2,    1.580,2,    0.517,2,    4.117,   2,   2155.1,2,   2279.6,2,    105.5,2,  -999.00,9,   0.4737
  77DN19910726,Arctic,    44,  3,  82206,      9,2,19910919,   0, 85.0700, -14.1300, 2019,    350.7,   0.4550,  34.8500,2,  34.8490,   2,    292.1,2,     8.43,2,    13.56,2,     0.91,2,    0.985,2,    0.341,2,    3.551,   2,   2147.0,2,   2300.3,2,     64.4,2,  -999.00,9,   0.4401
  77DN19910726,Arctic,    44,  3,  82205,     10,2,19910919,   0, 85.0700, -14.1300, 2019,    419.9,   0.4680,  34.8689,2,  34.8680,   2,    296.0,2,     7.86,2,    13.46,2,     0.89,2,    1.844,2,    0.322,2,    3.259,   2,   2155.4,2,   2295.5,2,     54.0,2,  -999.00,9,   0.4498
  77DN19910726,Arctic,    44,  3,  82204,     11,2,19910919,   0, 85.0700, -14.1300, 2019,    529.2,   0.3140,  34.8769,2,  34.8770,   2,    298.9,2,     7.96,2,    13.42,2,     0.91,2,    0.927,2,    0.215,2,    3.151,   2,   2149.9,2,   2276.9,2,     85.0,2,  -999.00,9,   0.2912
  77DN19910726,Arctic,    44,  3,  82203,     12,2,19910919,   0, 85.0700, -14.1300, 2019,    619.1,   0.1870,  34.8811,2,  34.8810,   2,    312.6,2,     7.73,2,    13.32,2,     0.90,2,    0.820,2,    0.244,2,    3.659,   2,   2159.7,2,   2279.6,2,     62.4,2,  -999.00,9,   0.1605
  77DN19910726,Arctic,    44,  3,  82202,     13,2,19910919,   0, 85.0700, -14.1300, 2019,    798.6,  -0.0410,  34.8899,2,  34.8890,   2,    302.8,2,     7.73,2,    13.35,2,     0.91,2,    1.356,2,    0.429,2,    3.902,   2,   2149.6,2,   2282.1,2,     67.3,2,  -999.00,9,  -0.0749
  77DN19910726,Arctic,    44,  3,  82201,     14,2,19910919,   0, 85.0700, -14.1300, 2019,    899.1,  -0.1580,  34.8950,2,  34.8980,   2,    307.7,2,     7.83,2,    13.39,2,     0.91,2,    1.473,2,    0.517,2,    3.912,   2,   2151.9,2,   -999.0,9,     61.3,2,  -999.00,9,  -0.1962
  77DN19910726,Arctic,    44,  3,  82200,     15,2,19910919,   0, 85.0700, -14.1300, 2019,    998.5,  -0.2400,  34.9030,2,  34.9020,   2,    306.7,2,     8.33,2,    13.58,2,     0.92,2,    1.239,2,    0.420,2,    3.571,   2,   2161.6,2,   2291.6,2,    211.2,2,  -999.00,9,  -0.2826
  77DN19910726,Arctic,    44,  3,  82199,     16,2,19910919,   0, 85.0700, -14.1300, 2019,   1099.2,  -0.2830,  34.9094,2,  34.9180,   2,    304.8,2,     8.93,2,    13.89,2,     0.93,2,    0.771,2,    0.176,2,    3.024,   2,   2153.1,2,   2286.6,2,     79.9,2,  -999.00,9,  -0.3305
  77DN19910726,Arctic,    44,  3,  82198,     17,2,19910919,   0, 85.0700, -14.1300, 2019,   1249.4,  -0.3060,  34.9146,2,  34.9180,   2,    307.7,2,     9.22,2,    14.01,2,     0.94,2,    0.507,2,    0.263,2,    2.429,   2,   -999.0,9,   2300.1,2,     81.0,2,  -999.00,9,  -0.3615
  77DN19910726,Arctic,    44,  3,  82197,     18,2,19910919,   0, 85.0700, -14.1300, 2019,   1399.5,  -0.3000,  34.9147,2,  34.9210,   2,    308.7,2,     9.27,2,    14.05,2,     0.94,2,    0.849,2,    0.254,2,    2.654,   2,   2165.2,2,   2301.2,2,     86.0,2,  -999.00,9,  -0.3640
  77DN19910726,Arctic,    44,  3,  82196,     19,2,19910919,   0, 85.0700, -14.1300, 2019,   1548.1,  -0.3010,  34.9159,2,  34.9190,   2,    301.9,2,     9.27,2,    13.99,2,     0.94,2,    0.820,2,    0.127,2,    2.810,   2,   2149.7,2,   2294.1,2,    108.3,2,  -999.00,9,  -0.3738
  77DN19910726,Arctic,    44,  3,  82195,     20,2,19910919,   0, 85.0700, -14.1300, 2019,   1698.5,  -0.4320,  34.9138,2,  34.9200,   2,    308.7,2,     9.07,2,    13.97,2,     0.94,2,    1.424,2,    0.576,2,    4.527,   3,   -999.0,9,   2289.0,2,     77.0,2,  -999.00,9,  -0.5124
  77DN19910726,Arctic,    44,  3,  82194,     21,2,19910919,   0, 85.0700, -14.1300, 2019,   1780.1,  -0.4570,  34.9178,2,  34.9210,   2,    303.8,2,    10.02,2,    14.32,2,     0.97,2,    0.800,2,    0.049,2,    2.683,   2,   2156.1,2,   2288.8,2,     54.2,2,  -999.00,9,  -0.5421
  77DN19910726,Arctic,    44,  3,  82193,     22,2,19910919,   0, 85.0700, -14.1300, 2019,   1849.8,  -0.4950,  34.9265,2,  34.9270,   2,    300.9,2,    10.72,2,    14.60,2,     0.99,2,    1.141,2,    0.068,2,    2.224,   2,   2156.7,2,   2289.5,2,     41.3,2,  -999.00,9,  -0.5840
  77DN19910726,Arctic,    44,  3,  82192,     23,2,19910919,   0, 85.0700, -14.1300, 2019,   1900.9,  -0.5290,  34.9281,2,  34.9280,   2,    301.9,2,    10.87,2,    14.70,2,     1.00,2,    2.224,3,    0.078,2,    2.702,   2,   2149.8,2,   2283.9,2,     42.4,2,  -999.00,9,  -0.6208
  77DN19910726,Arctic,    44,  3,  82191,     24,2,19910919,   0, 85.0700, -14.1300, 2019,   2012.9,  -0.6370,  34.9252,2,  34.9250,   2,    302.8,2,    10.84,2,    14.82,2,     1.00,2,    0.137,2,    0.029,2,    1.941,   2,   2157.0,2,   2279.1,2,     50.6,2,  -999.00,9,  -0.7345
  77DN19910726,Arctic,    45,  4,  82450,     12,2,19910919,   0, 85.0600, -11.3700, 3929,     14.9,  -1.7420,  31.8377,2,  31.8020,   2,    370.0,2,    13.10,2,     4.03,2,     1.02,2, -999.000,9, -999.000,9, -999.000,   9,   -999.0,9,   -999.0,9,   -999.0,9,  -999.00,9,  -1.7422
  77DN19910726,Arctic,    45,  4,  82449,     11,2,19910919,   0, 85.0600, -11.3700, 3929,     24.5,  -1.7420,  31.8575,2,  31.8320,   2,    371.0,2,    12.81,2,     4.05,2,     0.99,2,    7.551,2,    3.063,2,   16.537,   2,   -999.0,9,   -999.0,9,   -999.0,9,  -999.00,9,  -1.7424
  77DN19910726,Arctic,    45,  4,  82448,     10,2,19910919,   0, 85.0600, -11.3700, 3929,     34.7,  -1.7420,  31.8814,2,  31.8600,   2,    372.0,2,    12.69,2,     4.06,2,     0.97,2,    7.463,2,    3.132,2,   16.049,   2,   -999.0,9,   -999.0,9,   -999.0,9,  -999.00,9,  -1.7425
  77DN19910726,Arctic,    45,  4,  82447,      9,2,19910919,   0, 85.0600, -11.3700, 3929,     49.9,  -1.7150,  32.4365,2,  32.4130,   2,    363.2,2,    11.46,2,     5.18,2,     0.82,2,    7.932,2,    3.463,2,   16.829,   2,   -999.0,9,   -999.0,9,   -999.0,9,  -999.00,9,  -1.7158
  77DN19910726,Arctic,    45,  4,  82446,      8,2,19910919,   0, 85.0600, -11.3700, 3929,     59.9,  -1.5960,  32.8713,2,  33.0420,   2,    319.4,2,    18.41,2,     9.36,2,     1.11,2,    6.907,2,    2.868,2,   10.185,   2,   -999.0,9,   -999.0,9,   -999.0,9,  -999.00,9,  -1.5971
  77DN19910726,Arctic,    45,  4,  82445,      7,2,19910919,   0, 85.0600, -11.3700, 3929,     75.3,  -1.5990,  33.4174,2,  33.4840,   2,    316.5,2,    14.85,2,     9.47,2,     0.95,2,    5.717,2,    2.283,2,    6.810,   2,   -999.0,9,   -999.0,9,   -999.0,9,  -999.00,9,  -1.6005
  77DN19910726,Arctic,    45,  4,  82244,      6,2,19910919,   0, 85.0600, -11.3700, 3929,     85.4,  -1.5390,  33.6802,2,  33.6960,   2,    302.8,2,    14.30,2,    10.44,2,     0.96,2,    5.015,2,    2.176,2,    5.951,   2,   -999.0,9,   -999.0,9,   -999.0,9,  -999.00,9,  -1.5408
  77DN19910726,Arctic,    45,  4,  82243,      5,2,19910919,   0, 85.0600, -11.3700, 3929,    110.0,  -1.4730,  34.1459,2,  34.1240,   2,    310.6,2,     7.80,2,     9.67,2,     0.74,2,    4.400,2,    2.049,2,    5.473,   2,   -999.0,9,   -999.0,9,   -999.0,9,  -999.00,9,  -1.4755
  77DN19910726,Arctic,    45,  4,  82242,      4,2,19910919,   0, 85.0600, -11.3700, 3929,    150.2,  -0.8430,  34.3798,2,  34.4130,   2,    310.6,2,     6.36,2,    10.12,2,     0.71,2,    3.990,2,    1.854,2,    5.541,   2,   -999.0,9,   -999.0,9,   -999.0,9,  -999.00,9,  -0.8473
  77DN19910726,Arctic,    45,  4,  82241,      3,2,19910919,   0, 85.0600, -11.3700, 3929,    200.0,   0.0200,  34.6335,2,  34.6420,   2,    307.7,2,     6.33,2,    11.37,2,     0.77,2,    3.493,2,    1.463,2,    6.234,   2,   -999.0,9,   -999.0,9,   -999.0,9,  -999.00,9,   0.0126
  77DN19910726,Arctic,    45,  4,  82240,      2,2,19910919,   0, 85.0600, -11.3700, 3929,    260.0,   0.6580,  34.8187,2,  34.8180,   2,    308.7,2,     6.01,2,    12.41,2,     0.81,2,    3.210,2,    1.561,2,    6.263,   2,   -999.0,9,   -999.0,9,   -999.0,9,  -999.00,9,   0.6467
  77DN19910726,Arctic,    45,  4,  82239,      1,2,19910919,   0, 85.0600, -11.3700, 3929,    319.9,   0.7940,  34.8618,2,  34.8470,   2,   -999.0,9,  -999.00,9,  -999.00,9,  -999.00,9,    3.093,2,    1.493,2,    7.395,   2,   -999.0,9,   -999.0,9,   -999.0,9,  -999.00,9,   0.7796