BOTTLE,20140714SIOCCHRJL
EXPOCODE,SECT_ID,STNNBR,CASTNO,SAMPNO,BTLNBR,BTLNBR_FLAG_W,DATE,TIME,LATITUDE,LONGITUDE,DEPTH,CTDPRS,CTDTMP,CTDSAL,CTDSAL_FLAG_W,SALNTY,SALNTY_FLAG_W,OXYGEN,OXYGEN_FLAG_W,SILCAT,SILCAT_FLAG_W,NITRAT,NITRAT_FLAG_W,PHSPHT,PHSPHT_FLAG_W,CFC-11,CFC-11_FLAG_W,CFC-12,CFC-12_FLAG_W,CCL4,CCL4_FLAG_W,TCARBN,TCARBN_FLAG_W,ALKALI,ALKALI_FLAG_W,DOC,DOC_FLAG_W,DELO18,DELO18_FLAG_W,THETA
,,,,,,,,,,,METERS,DBAR,ITS-90,PSS-78,,PSS-78,,UMOL/KG,,UMOL/KG,,UMOL/KG,,UMOL/KG,,PMOL/KG,,PMOL/KG,,PMOL/KG,,UMOL/KG,,UMOL/KG,,UMOL/KG,,/MILLE,,DEG C
  77DN19910726,Arctic,    20,  3,  81482,     24,2,19910901,   0, 88.2600, 127.1900, 2329,      8.2,  -1.7400,  32.4124,2,  32.5260,   2,    361.8,2,     6.32,3,     4.06,2,     0.53,2, -999.000,9, -999.000,9, -999.000,   9,   -999.0,9,   2211.5,2,   -999.0,9,  -999.00,9,  -1.7401
  77DN19910726,Arctic,    20,  3,  81481,     23,2,19910901,   0, 88.2600, 127.1900, 2329,     25.3,  -1.7390,  32.5303,2,  32.5340,   2,   -999.0,9,     6.29,3,     4.03,2,     0.53,2, -999.000,9, -999.000,9, -999.000,   9,   -999.0,9,   2210.3,2,   -999.0,9,  -999.00,9,  -1.7394
  77DN19910726,Arctic,    20,  3,  81480,     22,2,19910901,   0, 88.2600, 127.1900, 2329,     41.6,  -1.7580,  33.2272,2,  33.2140,   2,    349.9,2,     6.28,3,     5.71,2,     0.56,2,    7.805,2,    2.927,2,    9.434,   2,   -999.0,9,   2243.9,2,   -999.0,9,  -999.00,9,  -1.7587
  77DN19910726,Arctic,    20,  3,  81479,     21,2,19910901,   0, 88.2600, 127.1900, 2329,     75.3,  -1.6720,  33.9316,2,  33.9680,   2,    325.1,2,     4.88,2,     7.84,2,     0.61,2, -999.000,9, -999.000,9, -999.000,   9,   -999.0,9,   2239.4,2,   -999.0,9,  -999.00,9,  -1.6735
  77DN19910726,Arctic,    20,  3,  81478,     20,2,19910901,   0, 88.2600, 127.1900, 2329,    101.2,  -1.4140,  34.2216,2,  34.2300,   2,    321.1,2,     4.44,2,     8.52,2,     0.63,2,    5.980,2,    2.527,2,    8.615,   2,   -999.0,9,   2247.6,2,   -999.0,9,  -999.00,9,  -1.4163
  77DN19910726,Arctic,    20,  3,  81477,     19,2,19910901,   0, 88.2600, 127.1900, 2329,    125.1,  -0.9490,  34.3681,2,  34.3880,   2,    316.4,2,     4.54,2,     9.21,2,     0.67,2, -999.000,9, -999.000,9, -999.000,   9,   -999.0,9,   2280.6,2,   -999.0,9,  -999.00,9,  -0.9525
  77DN19910726,Arctic,    20,  3,  81476,     18,2,19910901,   0, 88.2600, 127.1900, 2329,    176.2,   0.1720,  34.6262,2,  34.6400,   2,    309.9,2,     4.89,2,    10.69,2,     0.74,2,    8.244,3,    2.234,2,    8.771,   2,   -999.0,9,   2277.8,2,   -999.0,9,  -999.00,9,   0.1653
  77DN19910726,Arctic,    20,  3,  81475,     17,2,19910901,   0, 88.2600, 127.1900, 2329,    225.5,   0.9870,  34.8182,2,  34.8360,   2,    310.5,2,     5.29,2,    12.02,2,     0.81,2, -999.000,9, -999.000,9, -999.000,   9,   -999.0,9,   2280.8,2,   -999.0,9,  -999.00,9,   0.9767
  77DN19910726,Arctic,    20,  3,  81474,     16,2,19910901,   0, 88.2600, 127.1900, 2329,    274.1,   0.8440,  34.8404,2,  34.8340,   2,    306.7,2,     5.43,2,    12.10,2,     0.81,2, -999.000,9, -999.000,9, -999.000,   9,   -999.0,9,   2286.4,2,   -999.0,9,  -999.00,9,   0.8316
  77DN19910726,Arctic,    20,  3,  81473,     15,2,19910901,   0, 88.2600, 127.1900, 2329,    324.4,   1.0400,  34.8825,2,  34.8820,   2,    306.0,2,     5.61,2,    12.33,2,     0.83,2,    4.478,2,    1.834,2,    9.356,   2,   -999.0,9,   2293.0,2,   -999.0,9,  -999.00,9,   1.0247
  77DN19910726,Arctic,    20,  3,  81472,     14,2,19910901,   0, 88.2600, 127.1900, 2329,    399.0,   0.8950,  34.8955,2,  34.8970,   2,    308.6,2,     5.68,2,    12.42,2,     0.83,2, -999.000,9, -999.000,9, -999.000,   9,   -999.0,9,   2288.0,2,   -999.0,9,  -999.00,9,   0.8764
  77DN19910726,Arctic,    20,  3,  81471,     13,2,19910901,   0, 88.2600, 127.1900, 2329,    500.4,   0.5430,  34.8907,2,  34.8900,   2,    306.1,2,     5.85,2,    12.43,2,     0.84,2, -999.000,9, -999.000,9, -999.000,   9,   -999.0,9,   2295.2,2,   -999.0,9,  -999.00,9,   0.5206
  77DN19910726,Arctic,    20,  3,  81470,     12,2,19910901,   0, 88.2600, 127.1900, 2329,    600.4,   0.2230,  34.8851,2,  34.8860,   2,    309.1,2,     6.12,2,    12.54,2,     0.84,2,    4.839,3,    1.912,2,    9.756,   2,   -999.0,9,   2285.3,2,   -999.0,9,  -999.00,9,   0.1972
  77DN19910726,Arctic,    20,  3,  81469,     11,2,19910901,   0, 88.2600, 127.1900, 2329,    699.3,   0.0360,  34.8855,2,  34.8860,   2,    309.1,2,     6.32,2,    12.60,2,     0.84,2, -999.000,9, -999.000,9, -999.000,   9,   -999.0,9,   2299.8,2,   -999.0,9,  -999.00,9,   0.0065
  77DN19910726,Arctic,    20,  3,  81468,     10,2,19910901,   0, 88.2600, 127.1900, 2329,    850.3,  -0.1910,  34.8897,2,  34.8890,   2,    308.7,2,     6.69,2,    12.72,2,     0.85,2,   10.927,3,    1.766,2,   10.478,   2,   -999.0,9,   2293.8,2,   -999.0,9,  -999.00,9,  -0.2265
  77DN19910726,Arctic,    20,  3,  81467,      9,2,19910901,   0, 88.2600, 127.1900, 2329,    998.0,  -0.3180,  34.8962,2,  34.8960,   2,    308.5,2,     7.11,2,    12.91,2,     0.87,2, -999.000,9, -999.000,9, -999.000,   9,   -999.0,9,   2300.7,2,   -999.0,9,  -999.00,9,  -0.3599
  77DN19910726,Arctic,    20,  3,  81466,      8,2,19910901,   0, 88.2600, 127.1900, 2329,   1199.8,  -0.4440,  34.9059,2,  34.9050,   2,    307.6,2,     7.76,2,    13.19,2,     0.89,2,    3.863,3,    1.337,2,    7.405,   2,   -999.0,9,   2293.6,2,   -999.0,9,  -999.00,9,  -0.4953
  77DN19910726,Arctic,    20,  3,  81465,      7,2,19910901,   0, 88.2600, 127.1900, 2329,   1399.6,  -0.5290,  34.9118,2,  34.9110,   2,    307.1,2,     8.43,2,    13.53,2,     0.90,2, -999.000,9, -999.000,9, -999.000,   9,   -999.0,9,   2290.2,2,   -999.0,9,  -999.00,9,  -0.5904
  77DN19910726,Arctic,    20,  3,  81464,      6,2,19910901,   0, 88.2600, 127.1900, 2329,   1599.8,  -0.6070,  34.9156,2,  34.9160,   2,    305.6,2,     9.10,2,    13.87,2,     0.93,2,    2.390,2,    0.839,2,    5.620,   2,   -999.0,9,   2292.7,2,   -999.0,9,  -999.00,9,  -0.6791
  77DN19910726,Arctic,    20,  3,  81463,      5,2,19910901,   0, 88.2600, 127.1900, 2329,   1800.0,  -0.6840,  34.9186,2,  34.9180,   2,   -999.0,9,     9.78,2,    14.29,2,     0.95,2, -999.000,9, -999.000,9, -999.000,   9,   -999.0,9,   2290.9,2,   -999.0,9,  -999.00,9,  -0.7671
  77DN19910726,Arctic,    20,  3,  81462,      4,2,19910901,   0, 88.2600, 127.1900, 2329,   1898.9,  -0.7150,  34.9193,2,  34.9210,   2,    303.2,2,    10.10,2,    14.47,2,     0.97,2,    1.161,2,    0.322,2,    3.298,   2,   -999.0,9,   2291.5,2,   -999.0,9,  -999.00,9,  -0.8039
  77DN19910726,Arctic,    20,  3,  81461,      3,2,19910901,   0, 88.2600, 127.1900, 2329,   2048.5,  -0.7380,  34.9212,2,  34.9230,   2,    303.4,2,    10.40,2,    14.62,2,     0.97,2, -999.000,9, -999.000,9, -999.000,   9,   -999.0,9,   2286.5,2,   -999.0,9,  -999.00,9,  -0.8362
  77DN19910726,Arctic,    20,  3,  81460,      2,2,19910901,   0, 88.2600, 127.1900, 2329,   2237.7,  -0.7650,  34.9239,2,  34.9240,   2,   -999.0,9,    10.63,2,    14.70,2,     0.98,2,    0.683,2,    0.078,2,    1.893,   2,   -999.0,9,   -999.0,9,   -999.0,9,  -999.00,9,  -0.8754
  77DN19910726,Arctic,    20,  3,  81459,      1,2,19910901,   0, 88.2600, 127.1900, 2329,   2340.8,  -0.7730,  34.9247,2,  34.9250,   2,    305.4,2,    10.68,2,    14.75,2,     0.99,2, -999.000,9, -999.000,9, -999.000,   9,   -999.0,9,   -999.0,9,   -999.0,9,  -999.00,9,  -0.8905
  77DN19910726,Arctic,    21,  3,  81506,     24,2,19910902,   0, 88.2400, 131.3000, 1453,      9.7,  -1.7330,  32.4839,2,  32.4760,   2,    366.2,2,     7.08,2,     4.22,2,     0.58,2,   10.907,3,    2.780,2,   11.463,   2,   -999.0,9,   2202.2,2,     95.1,2,    -2.37,2,  -1.7332
  77DN19910726,Arctic,    21,  3,  81505,     23,2,19910902,   0, 88.2400, 131.3000, 1453,     24.2,  -1.7330,  32.4847,2,  32.4640,   2,    366.4,2,     7.10,2,     4.21,2,     0.58,2, -999.000,9, -999.000,9, -999.000,   9,   -999.0,9,   2243.0,2,    100.5,2,  -999.00,9,  -1.7334
  77DN19910726,Arctic,    21,  3,  81504,     22,2,19910902,   0, 88.2400, 131.3000, 1453,     44.3,  -1.7380,  33.0615,2,  33.1200,   2,    347.5,2,     7.59,2,     5.95,2,     0.63,2,    7.366,2,    2.751,2,    8.829,   2,   -999.0,9,   2269.9,2,     92.1,2,    -1.90,2,  -1.7388
  77DN19910726,Arctic,    21,  3,  81503,     21,2,19910902,   0, 88.2400, 131.3000, 1453,     50.3,  -1.7020,  33.2334,2,  33.3430,   2,    333.1,2,     7.88,2,     7.04,2,     0.67,2, -999.000,9, -999.000,9, -999.000,   9,   -999.0,9,   2257.7,2,     93.3,2,    -1.43,2,  -1.7029
  77DN19910726,Arctic,    21,  3,  81502,     20,2,19910902,   0, 88.2400, 131.3000, 1453,     74.6,  -1.6260,  33.9834,2,  33.9620,   2,    319.4,2,     5.71,2,     8.23,2,     0.65,2,    5.785,2,    2.283,2,    7.278,   2,   -999.0,9,   2263.1,2,     70.4,2,    -0.53,2,  -1.6275
  77DN19910726,Arctic,    21,  3,  81501,     19,2,19910902,   0, 88.2400, 131.3000, 1453,     95.1,  -1.4760,  34.1907,2,  34.2150,   2,    319.4,2,     4.79,2,     8.60,2,     0.64,2, -999.000,9, -999.000,9, -999.000,   9,   -999.0,9,   2269.4,2,     60.5,2,    -0.27,2,  -1.4781
  77DN19910726,Arctic,    21,  3,  81500,     18,2,19910902,   0, 88.2400, 131.3000, 1453,    100.2,  -1.3810,  34.2252,2,  34.2490,   2,    320.6,2,     4.75,2,     8.72,2,     0.65,2,    6.224,2,    2.137,2,    7.873,   2,   -999.0,9,   2266.6,2,   -999.0,9,    -0.26,2,  -1.3833
  77DN19910726,Arctic,    21,  3,  81499,     17,2,19910902,   0, 88.2400, 131.3000, 1453,    124.8,  -0.9310,  34.4106,2,  34.4040,   2,    315.2,2,     4.87,2,     9.37,2,     0.68,2, -999.000,9, -999.000,9, -999.000,   9,   -999.0,9,   2276.9,2,   -999.0,9,    -0.12,2,  -0.9345
  77DN19910726,Arctic,    21,  3,  81498,     16,2,19910902,   0, 88.2400, 131.3000, 1453,    201.1,   0.4220,  34.7625,2,  34.7430,   2,    306.9,2,     5.37,2,    11.53,2,     0.78,2,    5.434,2,    1.815,2,    8.390,   2,   -999.0,9,   2286.3,2,   -999.0,9,     0.13,2,   0.4138
  77DN19910726,Arctic,    21,  3,  81497,     15,2,19910902,   0, 88.2400, 131.3000, 1453,    250.8,   0.7610,  34.8354,2,  34.8230,   2,    305.9,2,     5.54,2,    12.08,2,     0.81,2, -999.000,9, -999.000,9, -999.000,   9,   -999.0,9,   2290.7,2,   -999.0,9,     0.20,2,   0.7499
  77DN19910726,Arctic,    21,  3,  81496,     14,2,19910902,   0, 88.2400, 131.3000, 1453,    299.6,   0.8500,  34.8794,2,  34.8530,   2,    307.6,2,     5.62,2,    12.21,2,     0.82,2,    4.654,2,    1.580,2,    8.302,   2,   -999.0,9,   2286.9,2,   -999.0,9,     0.20,2,   0.8364
  77DN19910726,Arctic,    21,  3,  81495,     13,2,19910902,   0, 88.2400, 131.3000, 1453,    351.0,   0.7260,  34.8791,2,  34.8630,   2,    306.0,2,     5.80,2,    12.32,2,     0.82,2, -999.000,9, -999.000,9, -999.000,   9,   -999.0,9,   2290.3,2,   -999.0,9,  -999.00,9,   0.7103
  77DN19910726,Arctic,    21,  3,  81494,     12,2,19910902,   0, 88.2400, 131.3000, 1453,    400.5,   0.7970,  34.8914,2,  34.8880,   2,    308.7,2,     5.79,2,    12.51,2,     0.85,2, -999.000,9, -999.000,9, -999.000,   9,   -999.0,9,   2290.9,2,   -999.0,9,  -999.00,9,   0.7786
  77DN19910726,Arctic,    21,  3,  81493,     11,2,19910902,   0, 88.2400, 131.3000, 1453,    450.0,   0.5450,  34.8894,2,  34.8780,   2,    306.6,2,     6.07,2,    12.56,2,     0.85,2,    3.600,2,    1.317,2,    7.366,   2,   -999.0,9,   2292.1,2,   -999.0,9,  -999.00,9,   0.5251
  77DN19910726,Arctic,    21,  3,  81492,     10,2,19910902,   0, 88.2400, 131.3000, 1453,    500.6,   0.4030,  34.8871,2,  34.8790,   2,    306.0,2,     6.13,2,    12.57,2,     0.85,2, -999.000,9, -999.000,9, -999.000,   9,   -999.0,9,   2290.9,2,   -999.0,9,  -999.00,9,   0.3812
  77DN19910726,Arctic,    21,  3,  81491,      9,2,19910902,   0, 88.2400, 131.3000, 1453,    600.7,   0.1340,  34.8789,2,  34.8780,   2,    308.3,2,     6.17,2,    12.55,2,     0.86,2,    4.127,2,    1.502,2,    7.922,   2,   -999.0,9,   2293.0,2,   -999.0,9,  -999.00,9,   0.1087
  77DN19910726,Arctic,    21,  3,  81490,      8,2,19910902,   0, 88.2400, 131.3000, 1453,    700.7,  -0.0450,  34.8811,2,  34.8790,   2,    309.7,2,     6.27,2,    12.53,2,     0.86,2, -999.000,9, -999.000,9, -999.000,   9,   -999.0,9,   2296.9,2,   -999.0,9,  -999.00,9,  -0.0741
  77DN19910726,Arctic,    21,  3,  81489,      7,2,19910902,   0, 88.2400, 131.3000, 1453,    799.3,  -0.1850,  34.8840,2,  34.8830,   2,    307.5,2,     6.56,2,    12.62,2,     0.87,2,    8.137,3,    1.434,2,    9.512,   2,   -999.0,9,   2296.1,2,   -999.0,9,  -999.00,9,  -0.2180
  77DN19910726,Arctic,    21,  3,  81488,      6,2,19910902,   0, 88.2400, 131.3000, 1453,    901.7,  -0.2880,  34.8878,2,  34.8900,   2,   -999.0,9,     6.66,2,    12.69,2,     0.88,2, -999.000,9, -999.000,9, -999.000,   9,   -999.0,9,   2294.3,2,   -999.0,9,  -999.00,9,  -0.3253
  77DN19910726,Arctic,    21,  3,  81487,      5,2,19910902,   0, 88.2400, 131.3000, 1453,   1049.1,  -0.3730,  34.8947,2,  34.8940,   2,    310.3,2,     7.05,2,    12.82,2,     0.88,2,    3.805,2,    1.737,2,    8.771,   2,   -999.0,9,   2298.2,2,   -999.0,9,  -999.00,9,  -0.4171
  77DN19910726,Arctic,    21,  3,  81486,      4,2,19910902,   0, 88.2400, 131.3000, 1453,   1149.2,  -0.4170,  34.9007,2,  34.9000,   2,    310.1,2,     7.45,2,    13.07,2,     0.90,2, -999.000,9, -999.000,9, -999.000,   9,   -999.0,9,   2299.8,2,   -999.0,9,  -999.00,9,  -0.4659
  77DN19910726,Arctic,    21,  3,  81485,      3,2,19910902,   0, 88.2400, 131.3000, 1453,   1250.3,  -0.4680,  34.9053,2,  34.9040,   2,    309.0,2,     7.82,2,    13.23,2,     0.92,2,    3.737,3,    1.317,2,    7.268,   2,   -999.0,9,   2299.5,2,   -999.0,9,  -999.00,9,  -0.5218
  77DN19910726,Arctic,    21,  3,  81484,      2,2,19910902,   0, 88.2400, 131.3000, 1453,   1332.8,  -0.4930,  34.9087,2,  34.9070,   2,    305.2,2,     8.01,2,    13.29,2,     0.92,2, -999.000,9, -999.000,9, -999.000,   9,   -999.0,9,   2298.0,2,   -999.0,9,  -999.00,9,  -0.5511
  77DN19910726,Arctic,    21,  3,  81483,      1,2,19910902,   0, 88.2400, 131.3000, 1453,   1431.5,  -0.5310,  34.9105,2,  34.9110,   2,    307.8,2,     8.40,2,    13.52,2,     0.92,2,    5.502,3,    1.220,2,    7.659,   2,   -999.0,9,   2298.9,2,   -999.0,9,  -999.00,9,  -0.5942