BOTTLE,20140714SIOCCHRJL
EXPOCODE,SECT_ID,STNNBR,CASTNO,SAMPNO,BTLNBR,BTLNBR_FLAG_W,DATE,TIME,LATITUDE,LONGITUDE,DEPTH,CTDPRS,CTDTMP,CTDSAL,CTDSAL_FLAG_W,SALNTY,SALNTY_FLAG_W,OXYGEN,OXYGEN_FLAG_W,SILCAT,SILCAT_FLAG_W,NITRAT,NITRAT_FLAG_W,PHSPHT,PHSPHT_FLAG_W,CFC-11,CFC-11_FLAG_W,CFC-12,CFC-12_FLAG_W,CCL4,CCL4_FLAG_W,TCARBN,TCARBN_FLAG_W,ALKALI,ALKALI_FLAG_W,DOC,DOC_FLAG_W,DELO18,DELO18_FLAG_W,THETA
,,,,,,,,,,,METERS,DBAR,ITS-90,PSS-78,,PSS-78,,UMOL/KG,,UMOL/KG,,UMOL/KG,,UMOL/KG,,PMOL/KG,,PMOL/KG,,PMOL/KG,,UMOL/KG,,UMOL/KG,,UMOL/KG,,/MILLE,,DEG C
  77DN19910726,Arctic,    45,  2,  82238,     24,2,19910919,   0, 85.0600, -11.3700, 3929,    360.8,   0.6190,  34.8663,2,  34.8620,   2,    303.8,2,     6.49,2,    12.85,2,     0.85,2,    2.517,2,    1.112,2,    6.585,   2,   -999.0,9,   -999.0,9,   -999.0,9,  -999.00,9,   0.6031
  77DN19910726,Arctic,    45,  2,  82237,     23,2,19910919,   0, 85.0600, -11.3700, 3929,    401.0,   0.6350,  34.8799,2,  34.8790,   2,    304.8,2,     6.40,2,    12.86,2,     0.85,2,    2.771,2,    1.278,2,    6.732,   2,   -999.0,9,   -999.0,9,   -999.0,9,  -999.00,9,   0.6171
  77DN19910726,Arctic,    45,  2,  82236,     22,2,19910919,   0, 85.0600, -11.3700, 3929,    566.7,   0.1700,  34.8787,2,  34.8790,   2,    310.6,2,     6.61,2,    12.89,2,     0.86,2,    2.439,2,    1.268,2,    6.712,   2,   -999.0,9,   -999.0,9,   -999.0,9,  -999.00,9,   0.1461
  77DN19910726,Arctic,    45,  2,  82235,     21,2,19910919,   0, 85.0600, -11.3700, 3929,    647.9,   0.0040,  34.8799,2,  34.8800,   2,    308.7,2,     6.57,2,    12.79,2,     0.86,2,    3.034,2,    1.463,2,    8.020,   2,   -999.0,9,   -999.0,9,   -999.0,9,  -999.00,9,  -0.0229
  77DN19910726,Arctic,    45,  2,  82234,     20,2,19910919,   0, 85.0600, -11.3700, 3929,    779.6,  -0.1770,  34.8852,2,  34.8850,   2,    310.6,2,     6.88,2,    12.94,2,     0.86,2,    2.888,2,    1.298,2,    7.522,   2,   -999.0,9,   -999.0,9,   -999.0,9,  -999.00,9,  -0.2091
  77DN19910726,Arctic,    45,  2,  82233,     19,2,19910919,   0, 85.0600, -11.3700, 3929,    850.1,  -0.2190,  34.8891,2,  34.8890,   2,    310.6,2,     7.09,2,    13.04,2,     0.87,2,    2.624,2,    1.249,2,    7.044,   2,   -999.0,9,   -999.0,9,   -999.0,9,  -999.00,9,  -0.2543
  77DN19910726,Arctic,    45,  2,  82232,     18,2,19910919,   0, 85.0600, -11.3700, 3929,    979.4,  -0.2880,  34.8982,2,  34.8980,   2,    307.7,2,     7.73,2,    13.30,2,     0.89,2, -999.000,9, -999.000,9, -999.000,   9,   -999.0,9,   -999.0,9,   -999.0,9,  -999.00,9,  -0.3292
  77DN19910726,Arctic,    45,  2,  82231,     17,2,19910919,   0, 85.0600, -11.3700, 3929,   1049.4,  -0.3320,  34.9009,2,  34.9020,   2,    307.7,2,     7.86,2,    13.39,2,     0.90,2,    3.132,2,    1.054,2,    5.512,   2,   -999.0,9,   -999.0,9,   -999.0,9,  -999.00,9,  -0.3765
  77DN19910726,Arctic,    45,  2,  82230,     16,2,19910919,   0, 85.0600, -11.3700, 3929,   1200.3,  -0.4000,  34.9082,2,  34.9080,   2,    305.7,2,     8.35,2,    13.72,2,     0.92,2, -999.000,9, -999.000,9, -999.000,   9,   -999.0,9,   -999.0,9,   -999.0,9,  -999.00,9,  -0.4518
  77DN19910726,Arctic,    45,  2,  82229,     15,2,19910919,   0, 85.0600, -11.3700, 3929,   1306.2,  -0.4660,  34.9127,2,  34.9100,   2,    308.7,2,     8.49,2,    13.79,2,     0.92,2,    2.049,2,    0.956,2,    5.259,   2,   -999.0,9,   -999.0,9,   -999.0,9,  -999.00,9,  -0.5229
  77DN19910726,Arctic,    45,  2,  82228,     14,2,19910919,   0, 85.0600, -11.3700, 3929,   1398.4,  -0.4500,  34.9194,2,  34.9170,   2,    302.8,2,     9.40,2,    14.20,2,     1.01,2, -999.000,9, -999.000,9, -999.000,   9,   -999.0,9,   -999.0,9,   -999.0,9,  -999.00,9,  -0.5123
  77DN19910726,Arctic,    45,  2,  82227,     13,2,19910919,   0, 85.0600, -11.3700, 3929,   1549.0,  -0.4840,  34.9243,2,  34.9240,   2,   -999.0,9,    10.14,2,    14.49,2,     0.96,2,    0.907,2,    0.263,2,    2.722,   2,   -999.0,9,   -999.0,9,   -999.0,9,  -999.00,9,  -0.5546
  77DN19910726,Arctic,    45,  2,  82226,     12,2,19910919,   0, 85.0600, -11.3700, 3929,   1698.0,  -0.5300,  34.9257,2,  34.9250,   2,    297.0,2,    10.42,2,    14.70,2,     0.97,2, -999.000,9, -999.000,9, -999.000,   9,   -999.0,9,   -999.0,9,   -999.0,9,  -999.00,9,  -0.6090
  77DN19910726,Arctic,    45,  2,  82225,     11,2,19910919,   0, 85.0600, -11.3700, 3929,   1898.3,  -0.5830,  34.9269,2,  34.9260,   2,    299.9,2,    10.86,2,    14.86,2,     0.98,2,    0.810,2,    0.215,2,    2.351,   2,   -999.0,9,   -999.0,9,   -999.0,9,  -999.00,9,  -0.6738
  77DN19910726,Arctic,    45,  2,  82224,     10,2,19910919,   0, 85.0600, -11.3700, 3929,   2098.8,  -0.6650,  34.9244,2,  34.9240,   2,    302.8,2,    10.79,2,    15.01,2,     0.99,2, -999.000,9, -999.000,9, -999.000,   9,   -999.0,9,   -999.0,9,   -999.0,9,  -999.00,9,  -0.7677
  77DN19910726,Arctic,    45,  2,  82223,      9,2,19910919,   0, 85.0600, -11.3700, 3929,   2199.3,  -0.6980,  34.9239,2,  34.9240,   2,    305.7,2,    10.85,2,    15.03,2,     1.00,2,    0.283,2,    0.166,2,    2.039,   2,   -999.0,9,   -999.0,9,   -999.0,9,  -999.00,9,  -0.8070
  77DN19910726,Arctic,    45,  2,  82222,      8,2,19910919,   0, 85.0600, -11.3700, 3929,   2398.4,  -0.7390,  34.9249,2,  34.9250,   2,    302.8,2,    10.93,2,    15.04,2,     1.00,2, -999.000,9, -999.000,9, -999.000,   9,   -999.0,9,   -999.0,9,   -999.0,9,  -999.00,9,  -0.8612
  77DN19910726,Arctic,    45,  2,  82221,      7,2,19910919,   0, 85.0600, -11.3700, 3929,   2598.8,  -0.7500,  34.9271,2,  34.9260,   2,    302.8,2,    11.01,2,    15.02,2,     1.00,2,    0.380,2,    0.137,2,    1.854,   2,   -999.0,9,   -999.0,9,   -999.0,9,  -999.00,9,  -0.8866
  77DN19910726,Arctic,    45,  2,  82220,      6,2,19910919,   0, 85.0600, -11.3700, 3929,   2797.6,  -0.7580,  34.9291,2,  34.9290,   2,    302.8,2,    11.07,2,    15.05,2,     1.00,2, -999.000,9, -999.000,9, -999.000,   9,   -999.0,9,   -999.0,9,   -999.0,9,  -999.00,9,  -0.9096
  77DN19910726,Arctic,    45,  2,  82219,      5,2,19910919,   0, 85.0600, -11.3700, 3929,   3050.4,  -0.7610,  34.9329,2,  34.9340,   2,    301.9,2,    11.19,2,    15.04,2,     0.99,2,    0.341,2,    0.000,2,    1.668,   2,   -999.0,9,   -999.0,9,   -999.0,9,  -999.00,9,  -0.9326
  77DN19910726,Arctic,    45,  2,  82218,      4,2,19910919,   0, 85.0600, -11.3700, 3929,   3299.4,  -0.7470,  34.9369,2,  34.9370,   2,    304.8,2,    11.20,2,    15.01,2,     1.00,2, -999.000,9, -999.000,9, -999.000,   9,   -999.0,9,   -999.0,9,   -999.0,9,  -999.00,9,  -0.9398
  77DN19910726,Arctic,    45,  2,  82217,      3,2,19910919,   0, 85.0600, -11.3700, 3929,   3649.7,  -0.7210,  34.9399,2,  34.9390,   2,    307.7,2,    11.28,2,    15.00,2,     1.00,2,    0.507,2,    0.137,2,    1.600,   2,   -999.0,9,   -999.0,9,   -999.0,9,  -999.00,9,  -0.9454
  77DN19910726,Arctic,    45,  2,  82216,      2,2,19910919,   0, 85.0600, -11.3700, 3929,   3851.8,  -0.7020,  34.9415,2,  34.9410,   2,    303.8,2,    11.36,2,    14.99,2,     0.99,2, -999.000,9, -999.000,9, -999.000,   9,   -999.0,9,   -999.0,9,   -999.0,9,  -999.00,9,  -0.9456
  77DN19910726,Arctic,    45,  2,  82215,      1,2,19910919,   0, 85.0600, -11.3700, 3929,   3923.9,  -0.6950,  34.9410,2,  34.9410,   2,    302.8,2,    11.30,2,    15.00,2,     0.98,2,    0.215,2,    0.127,2,    1.629,   2,   -999.0,9,   -999.0,9,   -999.0,9,  -999.00,9,  -0.9456
  77DN19910726,Arctic,    46,  3,  82286,     24,2,19910921,   0, 84.5800,  -6.1900, 4131,     17.4,  -1.7640,  32.3418,2,  32.3220,   2,    372.0,2,     8.72,2,     3.89,2,     0.68,2,    7.210,2,    2.976,2,   13.317,   2,   2121.9,2,   2238.8,2,    100.6,2,    -2.62,2,  -1.7643
  77DN19910726,Arctic,    46,  2,  82262,     12,2,19910921,   0, 84.5800,  -6.1900, 4131,     20.0,  -1.7740,  32.3451,2,  32.3550,   2,    372.9,2,     8.61,2,     3.89,2,     0.67,2,    7.200,2,    3.044,2,   13.122,   2,   2116.9,2,   2240.7,2,    113.1,2,    -2.64,2,  -1.7743
  77DN19910726,Arctic,    46,  2,  82261,     11,2,19910921,   0, 84.5800,  -6.1900, 4131,     36.0,  -1.7340,  33.1121,2,  33.1820,   2,    366.1,2,     7.03,2,     5.16,2,     0.55,2,    6.429,2,    2.693,2,    8.829,   2,   2144.9,2,   2276.4,2,    108.1,2,    -2.08,2,  -1.7346
  77DN19910726,Arctic,    46,  2,  82260,     10,2,19910921,   0, 84.5800,  -6.1900, 4131,     55.5,  -1.7890,  33.5051,2,  34.1870,   3,    308.7,2,     6.69,2,     9.57,2,     0.69,2,    2.937,3,    1.093,3,    6.332,   2,   2138.9,2,   2287.2,2,     80.9,2,    -0.59,2,  -1.7901
  77DN19910726,Arctic,    46,  2,  82259,      9,2,19910921,   0, 84.5800,  -6.1900, 4131,     75.7,  -1.6680,  33.8634,2,  33.8810,   2,    330.1,2,     7.49,2,     7.98,2,     0.64,2,    4.702,2,    1.971,2,    6.888,   2,   2143.5,2,   2277.0,2,     88.2,2,    -0.92,2,  -1.6695
  77DN19910726,Arctic,    46,  2,  82258,      8,2,19910921,   0, 84.5800,  -6.1900, 4131,    100.8,  -1.4790,  34.1792,2,  34.1650,   2,    314.5,2,     6.44,2,     9.11,2,     0.67,2,    3.941,2,    1.805,2,    6.634,   2,   2137.8,2,   2272.4,2,     79.1,2,    -0.38,2,  -1.4813
  77DN19910726,Arctic,    46,  2,  82257,      7,2,19910921,   0, 84.5800,  -6.1900, 4131,    126.1,  -1.0120,  34.3632,2,  34.3510,   2,    311.6,2,     6.09,2,     9.81,2,     0.68,2,    3.717,2,    1.649,2,    5.873,   2,   2142.6,2,   2276.3,2,     82.0,2,    -0.13,2,  -1.0154
  77DN19910726,Arctic,    46,  2,  82256,      6,2,19910921,   0, 84.5800,  -6.1900, 4131,    150.9,  -0.6080,  34.4825,2,  34.4820,   2,    305.7,2,     6.18,2,    10.39,2,     0.70,2,    3.805,2,    1.454,2,    6.673,   2,   2140.4,2,   2283.4,2,     70.8,2,    -0.05,2,  -0.6127
  77DN19910726,Arctic,    46,  2,  82255,      5,2,19910921,   0, 84.5800,  -6.1900, 4131,    250.9,   0.6190,  34.8132,2,  34.8160,   2,    302.8,2,     6.15,2,    12.41,2,     0.79,2,    3.044,2,    1.405,2,    7.220,   2,   2126.3,2,   2290.0,2,     68.0,2,     0.21,2,   0.6082
  77DN19910726,Arctic,    46,  2,  82254,      4,2,19910921,   0, 84.5800,  -6.1900, 4131,    351.0,   0.5260,  34.8554,2,  34.8540,   2,    293.1,2,     6.96,2,    13.01,2,     0.82,2,    1.698,2,    0.839,2,    5.493,   2,   2133.2,2,   2303.4,2,     64.2,2,     0.20,2,   0.5109
  77DN19910726,Arctic,    46,  2,  82253,      3,2,19910921,   0, 84.5800,  -6.1900, 4131,    400.7,   0.5170,  34.8708,2,  34.8720,   2,    301.9,2,     6.93,2,    13.13,2,     0.83,2,    1.473,2,    0.732,2,    5.015,   2,   2132.4,2,   2293.2,2,     69.8,2,  -999.00,9,   0.4996
  77DN19910726,Arctic,    46,  2,  82252,      2,2,19910921,   0, 84.5800,  -6.1900, 4131,    450.9,   0.4370,  34.8734,2,  34.8770,   2,    304.8,2,     6.87,2,    13.10,2,     0.83,2,    1.551,2,    0.741,2,    5.132,   2,   2136.0,2,   2295.6,2,     73.8,2,  -999.00,9,   0.4175
  77DN19910726,Arctic,    46,  2,  82251,      1,2,19910921,   0, 84.5800,  -6.1900, 4131,    500.8,   0.2990,  34.8777,2,  34.8790,   2,   -999.0,9,     6.85,2,    13.06,2,     0.83,2,    1.668,2,    0.878,2,    4.868,   2,   2142.2,2,   2291.6,2,     70.2,2,  -999.00,9,   0.2776
  77DN19910726,Arctic,    46,  3,  82285,     23,2,19910921,   0, 84.5800,  -6.1900, 4131,    600.6,   0.1230,  34.8801,2,  34.8800,   2,    305.7,2,     6.85,2,    13.18,2,     0.85,2,    1.844,2,    0.859,2,    5.512,   2,   2147.7,2,   -999.0,9,     56.7,2,  -999.00,9,   0.0977
  77DN19910726,Arctic,    46,  3,  82284,     22,2,19910921,   0, 84.5800,  -6.1900, 4131,    750.0,  -0.0880,  34.8861,2,  34.8880,   2,    307.7,2,     7.05,2,    13.27,2,     0.86,2,    1.863,2,    0.888,2,    5.551,   2,   2147.7,2,   2296.1,2,     56.1,2,  -999.00,9,  -0.1193
  77DN19910726,Arctic,    46,  3,  82283,     21,2,19910921,   0, 84.5800,  -6.1900, 4131,    850.0,  -0.1900,  34.8922,2,  34.8910,   2,    307.7,2,     7.22,2,    13.35,2,     0.87,2,    1.980,2,    0.976,2,    5.805,   2,   2150.7,2,   2287.8,2,     60.4,2,  -999.00,9,  -0.2255
  77DN19910726,Arctic,    46,  3,  82282,     20,2,19910921,   0, 84.5800,  -6.1900, 4131,    974.5,  -0.3100,  34.9007,2,  34.9030,   2,    307.7,2,     7.78,2,    13.66,2,     0.88,2,    1.785,2,    0.917,2,    5.522,   2,   2153.4,2,   2294.7,2,     59.6,2,  -999.00,9,  -0.3508
  77DN19910726,Arctic,    46,  3,  82281,     19,2,19910921,   0, 84.5800,  -6.1900, 4131,   1074.4,  -0.3540,  34.9103,2,  34.9110,   2,    305.7,2,     8.44,2,    13.95,2,     0.90,2,    1.034,2,    0.576,2,    4.107,   2,   2150.4,2,   2302.5,2,     61.7,2,  -999.00,9,  -0.3996
  77DN19910726,Arctic,    46,  3,  82280,     18,2,19910921,   0, 84.5800,  -6.1900, 4131,   1198.2,  -0.3770,  34.9183,2,  34.9180,   2,    303.8,2,     9.19,2,    14.26,2,     0.93,2,    0.634,2,    0.400,2,    3.054,   2,   2149.8,2,   2297.8,2,     58.2,2,  -999.00,9,  -0.4289
  77DN19910726,Arctic,    46,  3,  82279,     17,2,19910921,   0, 84.5800,  -6.1900, 4131,   1348.0,  -0.4030,  34.9226,2,  34.9240,   2,    301.9,2,     9.69,2,    14.48,2,     0.93,2,    0.420,2,    0.254,2,    2.361,   2,   2146.6,2,   2299.2,2,     57.0,2,  -999.00,9,  -0.4630
  77DN19910726,Arctic,    46,  3,  82278,     16,2,19910921,   0, 84.5800,  -6.1900, 4131,   1500.1,  -0.4270,  34.9252,2,  34.9270,   2,    300.9,2,    10.04,2,    14.61,2,     0.94,2,    0.380,2,    0.224,2,    2.205,   2,   2147.9,2,   2294.5,2,     55.8,2,  -999.00,9,  -0.4954
  77DN19910726,Arctic,    46,  3,  82277,     15,2,19910921,   0, 84.5800,  -6.1900, 4131,   1650.9,  -0.4460,  34.9277,2,  34.9280,   2,    299.9,2,    10.29,2,    14.71,2,     0.95,2,    0.244,2,    0.195,2,    2.059,   2,   2153.7,2,   2305.7,2,     54.3,2,  -999.00,9,  -0.5233
  77DN19910726,Arctic,    46,  3,  82276,     14,2,19910921,   0, 84.5800,  -6.1900, 4131,   1800.2,  -0.4700,  34.9292,2,  34.9300,   2,    298.0,2,    10.52,2,    14.83,2,     0.96,2,    0.156,2,    0.156,2,    2.234,   2,   2161.5,2,   2295.8,2,     56.6,2,  -999.00,9,  -0.5562
  77DN19910726,Arctic,    46,  3,  82275,     13,2,19910921,   0, 84.5800,  -6.1900, 4131,   1948.2,  -0.4900,  34.9301,2,  34.9300,   2,    299.9,2,    10.70,2,    14.95,2,     0.96,2,    0.088,2,    0.166,2,    1.863,   2,   2142.3,2,   2293.4,2,     55.0,2,  -999.00,9,  -0.5855
  77DN19910726,Arctic,    46,  3,  82274,     12,2,19910921,   0, 84.5800,  -6.1900, 4131,   2098.2,  -0.5230,  34.9293,2,  34.9290,   2,    300.9,2,    10.76,2,    14.97,2,     0.96,2,    0.146,2,    0.176,2,    2.234,   2,   2153.8,2,   2302.0,2,     53.9,2,  -999.00,9,  -0.6280
  77DN19910726,Arctic,    46,  3,  82273,     11,2,19910921,   0, 84.5800,  -6.1900, 4131,   2198.3,  -0.5510,  34.9285,2,  34.9280,   2,    300.9,2,    10.77,2,    15.00,2,     0.96,2,    0.049,2,    0.166,2,    2.205,   2,   2153.0,2,   -999.0,9,     69.4,2,  -999.00,9,  -0.6624
  77DN19910726,Arctic,    46,  3,  82272,     10,2,19910921,   0, 84.5800,  -6.1900, 4131,   2399.2,  -0.6480,  34.9241,2,  34.9230,   2,    303.8,2,    10.60,2,    15.06,2,     0.96,2,    0.117,2,    0.176,2,    2.088,   2,   2153.2,2,   2290.0,2,     58.1,2,  -999.00,9,  -0.7719
  77DN19910726,Arctic,    46,  3,  82271,      9,2,19910921,   0, 84.5800,  -6.1900, 4131,   2600.5,  -0.7000,  34.9240,2,  34.9240,   2,    304.8,2,    10.73,2,    15.17,2,     0.97,2,    0.029,2,    0.156,2,    1.912,   2,   2156.1,2,   -999.0,9,     77.1,2,  -999.00,9,  -0.8377
  77DN19910726,Arctic,    46,  3,  82270,      8,2,19910921,   0, 84.5800,  -6.1900, 4131,   2800.4,  -0.7260,  34.9251,2,  34.9260,   2,    305.7,2,    10.84,2,    15.21,2,     0.97,2,    0.000,2,    0.127,2,    1.854,   2,   2155.7,2,   2294.7,2,     57.0,2,  -999.00,9,  -0.8784
  77DN19910726,Arctic,    46,  3,  82269,      7,2,19910921,   0, 84.5800,  -6.1900, 4131,   2998.9,  -0.7330,  34.9272,2,  34.9270,   2,    307.7,2,    10.90,2,    15.20,2,     0.97,2,    0.000,2,    0.127,2,    1.376,   2,   2152.0,2,   2296.0,2,     54.6,2,  -999.00,9,  -0.9011
  77DN19910726,Arctic,    46,  3,  82268,      6,2,19910921,   0, 84.5800,  -6.1900, 4131,   3199.1,  -0.7360,  34.9302,2,  34.9300,   2,    307.7,2,    10.97,2,    15.16,2,     0.97,2,    0.000,2,    0.107,2,    1.580,   2,   2154.9,2,   -999.0,9,     51.9,2,  -999.00,9,  -0.9205
  77DN19910726,Arctic,    46,  3,  82267,      5,2,19910921,   0, 84.5800,  -6.1900, 4131,   3399.5,  -0.7320,  34.9339,2,  34.9330,   2,    303.8,2,    11.03,2,    15.14,2,     0.97,2,    0.000,2,    0.127,2,    1.151,   2,   2151.9,2,   2297.9,2,     62.6,2,  -999.00,9,  -0.9338
  77DN19910726,Arctic,    46,  3,  82266,      4,2,19910921,   0, 84.5800,  -6.1900, 4131,   3599.0,  -0.7220,  34.9372,2,  34.9360,   2,    303.8,2,    11.02,2,    15.11,2,     0.97,2,    0.000,2,    0.117,2,    1.268,   2,   2154.2,2,   2295.9,2,     52.3,2,  -999.00,9,  -0.9417
  77DN19910726,Arctic,    46,  3,  82265,      3,2,19910921,   0, 84.5800,  -6.1900, 4131,   3798.6,  -0.7050,  34.9392,2,  34.9390,   2,    300.9,2,    11.10,2,    15.09,2,     0.97,2,    0.000,2,    0.078,2,    1.005,   2,   2151.6,2,   2281.9,2,     51.7,2,  -999.00,9,  -0.9435
  77DN19910726,Arctic,    46,  3,  82264,      2,2,19910921,   0, 84.5800,  -6.1900, 4131,   3951.0,  -0.6920,  34.9404,2,  34.9390,   2,    306.7,2,    11.11,2,    15.07,2,     0.97,2,    0.000,2,    0.078,2,    0.966,   2,   2159.8,2,   2292.1,2,     61.0,2,  -999.00,9,  -0.9452
  77DN19910726,Arctic,    46,  3,  82263,      1,2,19910921,   0, 84.5800,  -6.1900, 4131,   4140.6,  -0.6730,-999.0000,9,  34.9400,   2,    303.8,2,    11.12,2,    15.07,2,     0.97,2,    0.000,2,    0.098,2,    0.946,   2,   2159.5,2,   2291.8,2,     58.4,2,  -999.00,9,  -0.9452