BOTTLE,20140714SIOCCHRJL
EXPOCODE,SECT_ID,STNNBR,CASTNO,SAMPNO,BTLNBR,BTLNBR_FLAG_W,DATE,TIME,LATITUDE,LONGITUDE,DEPTH,CTDPRS,CTDTMP,CTDSAL,CTDSAL_FLAG_W,SALNTY,SALNTY_FLAG_W,OXYGEN,OXYGEN_FLAG_W,SILCAT,SILCAT_FLAG_W,NITRAT,NITRAT_FLAG_W,PHSPHT,PHSPHT_FLAG_W,CFC-11,CFC-11_FLAG_W,CFC-12,CFC-12_FLAG_W,CCL4,CCL4_FLAG_W,TCARBN,TCARBN_FLAG_W,ALKALI,ALKALI_FLAG_W,DOC,DOC_FLAG_W,DELO18,DELO18_FLAG_W,THETA
,,,,,,,,,,,METERS,DBAR,ITS-90,PSS-78,,PSS-78,,UMOL/KG,,UMOL/KG,,UMOL/KG,,UMOL/KG,,PMOL/KG,,PMOL/KG,,PMOL/KG,,UMOL/KG,,UMOL/KG,,UMOL/KG,,/MILLE,,DEG C
  77DN19910726,Arctic,    33,  2,  81853,     23,2,19910911,   0, 86.7600,   0.7500, 4288,    601.4,   0.2060,  34.8792,2,  34.8800,   2,    308.5,2,     6.25,2,    12.48,2,     0.83,2,    2.478,2,    1.034,2,    5.532,   2,   2153.0,2,   2288.4,2,   -999.0,9,  -999.00,9,   0.1803
  77DN19910726,Arctic,    33,  2,  81852,     22,2,19910911,   0, 86.7600,   0.7500, 4288,    700.7,  -0.0040,  34.8797,2,  34.8810,   2,    311.4,2,     6.42,2,    12.66,2,     0.84,2,    2.751,2,    1.200,2,    6.478,   2,   2154.1,2,   -999.0,9,   -999.0,9,     0.22,2,  -0.0334
  77DN19910726,Arctic,    33,  2,  81851,     21,2,19910911,   0, 86.7600,   0.7500, 4288,    799.6,  -0.1480,  34.8837,2,  34.8860,   2,    312.5,2,     6.64,2,    12.74,2,     0.84,2,    2.605,2,    1.132,2,    6.156,   2,   2159.0,2,   2301.4,2,   -999.0,9,  -999.00,9,  -0.1813
  77DN19910726,Arctic,    33,  2,  81850,     20,2,19910911,   0, 86.7600,   0.7500, 4288,    898.9,  -0.2480,  34.8879,2,  34.8910,   2,    314.2,2,     6.89,2,    12.86,2,     0.85,2,    3.063,2,    1.366,2,    7.561,   2,   2160.1,2,   -999.0,9,   -999.0,9,     0.21,2,  -0.2855
  77DN19910726,Arctic,    33,  2,  81849,     19,2,19910911,   0, 86.7600,   0.7500, 4288,    972.6,  -0.3060,  34.8927,2,  34.8930,   2,    315.9,2,     7.05,2,    12.89,2,     0.85,2,    3.132,2,    1.356,2,    7.415,   2,   2157.8,2,   2285.9,2,   -999.0,9,  -999.00,9,  -0.3467
  77DN19910726,Arctic,    33,  2,  81848,     18,2,19910911,   0, 86.7600,   0.7500, 4288,   1099.5,  -0.3680,  34.9007,2,  34.9010,   2,    312.9,2,     7.50,2,    13.15,2,     0.86,2,    1.932,2,    0.576,2,    4.761,   2,   2158.4,2,   2298.1,2,   -999.0,9,     0.25,2,  -0.4147
  77DN19910726,Arctic,    33,  2,  81847,     17,2,19910911,   0, 86.7600,   0.7500, 4288,   1349.3,  -0.4780,  34.9139,2,  34.9150,   2,    308.6,2,     8.68,2,    13.74,2,     0.91,2,    2.224,3,    0.000,2,    3.395,   2,   2156.3,2,   2294.2,2,   -999.0,9,     0.25,2,  -0.5372
  77DN19910726,Arctic,    33,  2,  81846,     16,2,19910911,   0, 86.7600,   0.7500, 4288,   1498.5,  -0.5410,  34.9181,2,  34.9210,   2,    305.9,2,     9.34,2,    14.04,2,     0.92,2,    0.702,2,    0.000,2,    2.946,   2,   2155.2,2,   2291.2,2,   -999.0,9,  -999.00,9,  -0.6080
  77DN19910726,Arctic,    33,  2,  81845,     15,2,19910911,   0, 86.7600,   0.7500, 4288,   1598.8,  -0.5690,  34.9210,2,  34.9220,   2,    307.8,2,     9.78,2,    14.30,2,     0.94,2,    0.634,2,    3.639,3,    3.112,   2,   2153.4,2,   2298.3,2,   -999.0,9,     0.23,2,  -0.6415
  77DN19910726,Arctic,    33,  2,  81844,     14,2,19910911,   0, 86.7600,   0.7500, 4288,   1700.3,  -0.5980,  34.9225,2,  34.9240,   2,    310.6,2,    10.24,2,    14.42,2,     0.95,2,    0.585,2,    0.302,2,    2.800,   2,   2158.2,2,   -999.0,9,   -999.0,9,  -999.00,9,  -0.6762
  77DN19910726,Arctic,    33,  2,  81843,     13,2,19910911,   0, 86.7600,   0.7500, 4288,   1800.7,  -0.6350,  34.9234,2,  34.9230,   2,    306.3,2,    10.25,2,    14.50,2,     0.95,2,    0.615,2,    0.302,2,    2.498,   2,   2154.8,2,   2294.5,2,   -999.0,9,     0.27,2,  -0.7189
  77DN19910726,Arctic,    33,  2,  81842,     12,2,19910911,   0, 86.7600,   0.7500, 4288,   1899.0,  -0.6810,  34.9220,2,  34.9220,   2,    304.4,2,    10.34,2,    14.54,2,     0.98,2,    0.283,2,    0.185,2,    1.756,   2,   -999.0,9,   2294.8,2,   -999.0,9,  -999.00,9,  -0.7704
  77DN19910726,Arctic,    33,  2,  81841,     11,2,19910911,   0, 86.7600,   0.7500, 4288,   2199.0,  -0.7450,  34.9228,2,  34.9240,   2,    305.6,2,    10.56,2,    14.68,2,     0.98,2,    0.010,2,    0.195,2,    1.493,   2,   2152.6,2,   2302.1,2,   -999.0,9,     0.23,2,  -0.8531
  77DN19910726,Arctic,    33,  2,  81840,     10,2,19910911,   0, 86.7600,   0.7500, 4288,   2399.8,  -0.7650,  34.9248,2,  34.9260,   2,    306.3,2,    10.74,2,    14.75,2,     0.98,2,    0.107,2,    0.000,2,    1.268,   2,   2155.4,2,   2291.3,2,   -999.0,9,     0.27,2,  -0.8868
  77DN19910726,Arctic,    33,  2,  81839,      9,2,19910911,   0, 86.7600,   0.7500, 4288,   2649.7,  -0.7750,  34.9285,2,  34.9280,   2,    306.0,2,    10.87,2,    14.79,2,     0.98,2,    0.205,2,    0.546,3,    1.298,   2,   2151.8,2,   2294.5,2,   -999.0,9,     0.24,2,  -0.9149
  77DN19910726,Arctic,    33,  2,  81838,      8,2,19910911,   0, 86.7600,   0.7500, 4288,   2899.7,  -0.7710,  34.9314,2,  34.9310,   2,    307.0,2,    10.92,2,    14.78,2,     0.99,2,    0.166,2,    0.302,2,    1.093,   2,   2152.1,2,   -999.0,9,   -999.0,9,     0.27,2,  -0.9303
  77DN19910726,Arctic,    33,  2,  81837,      7,2,19910911,   0, 86.7600,   0.7500, 4288,   3097.8,  -0.7660,  34.9333,2,  34.9370,   2,    308.3,2,    10.94,2,    14.78,2,     0.98,2,    0.000,2,    0.000,2,    0.976,   2,   2153.2,2,   2291.2,2,   -999.0,9,     0.27,2,  -0.9414
  77DN19910726,Arctic,    33,  2,  81836,      6,2,19910911,   0, 86.7600,   0.7500, 4288,   3298.5,  -0.7550,  34.9356,2,  34.9360,   2,    309.3,2,    10.99,2,    14.75,2,     0.98,2,    0.059,2,    0.146,2,    0.615,   2,   2158.0,2,   2291.1,2,   -999.0,9,     0.24,2,  -0.9475
  77DN19910726,Arctic,    33,  2,  81835,      5,2,19910911,   0, 86.7600,   0.7500, 4288,   3488.1,  -0.7430,  34.9379,2,  34.9380,   2,    301.9,2,    11.02,2,    14.71,2,     0.98,2,    0.000,2,    0.000,2,    0.624,   2,   2158.1,2,   2294.0,2,   -999.0,9,  -999.00,9,  -0.9523
  77DN19910726,Arctic,    33,  2,  81834,      4,2,19910911,   0, 86.7600,   0.7500, 4288,   3700.4,  -0.7250,  34.9402,2,  34.9400,   2,    305.8,2,    11.02,2,    14.66,2,     0.97,2,    0.000,2,    0.000,2,    0.624,   2,   2155.8,2,   -999.0,9,   -999.0,9,     0.30,2,  -0.9539
  77DN19910726,Arctic,    33,  2,  81833,      3,2,19910911,   0, 86.7600,   0.7500, 4288,   3998.8,  -0.6890,  34.9425,2,  34.9430,   2,    304.1,2,    11.15,2,    14.63,2,     0.97,2,    0.059,2,    0.517,3,    0.780,   2,   2158.1,2,   2288.8,2,   -999.0,9,     0.30,2,  -0.9469
  77DN19910726,Arctic,    33,  2,  81832,      2,2,19910911,   0, 86.7600,   0.7500, 4288,   4148.0,  -0.6730,  34.9421,2,  34.9430,   2,    302.9,2,    11.16,2,    14.62,2,     0.98,2,    0.059,2,    0.000,2,    0.615,   2,   2157.4,2,   2285.4,2,   -999.0,9,     0.27,2,  -0.9459
  77DN19910726,Arctic,    33,  2,  81831,      1,2,19910911,   0, 86.7600,   0.7500, 4288,   4381.9,  -0.6490,  34.9424,2,  34.9430,   2,    302.6,2,    11.11,2,    14.63,2,     0.98,2,    0.000,2,    0.000,2,    0.702,   2,   2155.1,2,   -999.0,9,   -999.0,9,     0.30,2,  -0.9461
  77DN19910726,Arctic,    34,  2,  81890,     24,2,19910912,   0, 86.2400,   9.8400, 4073,     13.5,  -1.7320,  31.8525,2,  31.8610,   2,    372.2,2,    11.34,2,     3.58,2,     0.90,2,    9.541,3,    6.810,3,    9.278,   2,   2087.0,2,   2195.1,2,   -999.0,9,  -999.00,9,  -1.7322
  77DN19910726,Arctic,    34,  3,  81898,      8,2,19910912,   0, 86.2400,   9.8400, 4073,     20.0,  -1.5610,  31.8602,2,  31.9580,   2,    371.0,2,    11.44,2,     3.87,2,     0.93,2,    7.785,2,    3.210,2,   11.824,   2,   2106.6,2,   2237.2,2,    116.9,2,  -999.00,9,  -1.5613
  77DN19910726,Arctic,    34,  3,  81897,      7,2,19910912,   0, 86.2400,   9.8400, 4073,     34.8,  -1.1640,  32.7891,2,  32.9150,   2,    361.7,2,     7.71,2,     5.00,2,     0.63,2,    7.063,3,    3.044,3,    8.429,   2,   2135.2,2,   2280.8,2,    121.9,2,  -999.00,9,  -1.1648
  77DN19910726,Arctic,    34,  3,  81896,      6,2,19910912,   0, 86.2400,   9.8400, 4073,     54.9,  -0.5970,  33.2700,2,  33.1890,   2,    371.1,2,     5.33,2,     4.46,2,     0.49,2,    8.566,3,    3.307,3,    8.322,   2,   2138.0,2,   2293.5,2,    104.8,2,  -999.00,9,  -0.5985
  77DN19910726,Arctic,    34,  3,  81895,      5,2,19910912,   0, 86.2400,   9.8400, 4073,     74.9,   0.7270,  33.7352,2,  33.6730,   2,    325.2,2,     9.01,2,     8.14,2,     0.74,2,    6.332,3,    2.595,3,    6.985,   2,   2140.5,2,   2282.3,2,    104.4,2,  -999.00,9,   0.7240
  77DN19910726,Arctic,    34,  3,  81894,      4,2,19910912,   0, 86.2400,   9.8400, 4073,     99.9,   0.7460,  34.1224,2,  34.0770,   2,    319.3,2,     6.16,2,     8.64,2,     0.69,2,    4.488,2,    2.000,2,    6.195,   2,   2139.6,2,   2293.3,2,     83.8,2,  -999.00,9,   0.7419
  77DN19910726,Arctic,    34,  3,  81893,      3,2,19910912,   0, 86.2400,   9.8400, 4073,    124.8,   0.6370,  34.3085,2,  34.2890,   2,    316.4,2,     5.50,2,     9.21,2,     0.70,2,    3.824,2,    1.746,2,    6.439,   2,   2132.8,2,   2286.9,2,     82.8,2,  -999.00,9,   0.6319
  77DN19910726,Arctic,    34,  3,  81892,      2,2,19910912,   0, 86.2400,   9.8400, 4073,    150.1,   0.5840,  34.4551,2,  34.4550,   2,    310.7,2,     5.58,2,     9.99,2,     0.73,2,    3.337,2,    4.429,3,    5.502,   2,   2129.2,2,   2299.0,2,     80.4,2,  -999.00,9,   0.5778
  77DN19910726,Arctic,    34,  3,  81891,      1,2,19910912,   0, 86.2400,   9.8400, 4073,    249.8,   0.4260,  34.8134,2,  34.8220,   2,    309.9,2,     5.63,2,    12.17,2,     0.83,2,    3.493,2,    1.580,2,    8.205,   2,   -999.0,9,   -999.0,9,     79.3,2,  -999.00,9,   0.4157
  77DN19910726,Arctic,    34,  2,  81889,     23,2,19910912,   0, 86.2400,   9.8400, 4073,    600.7,   0.1800,  34.8788,2,  34.8790,   2,    313.3,2,     6.33,2,    12.46,2,     0.86,2,    3.346,2,    1.346,2,    7.649,   2,   2129.1,2,   2282.3,2,     52.1,2,  -999.00,9,   0.1544
  77DN19910726,Arctic,    34,  2,  81888,     22,2,19910912,   0, 86.2400,   9.8400, 4073,    650.0,   0.0590,  34.8778,2,  34.8800,   2,    311.8,2,     6.41,2,    12.63,2,     0.85,2,    2.634,2,    1.249,2,    7.102,   2,   2146.5,2,   2278.4,2,   -999.0,9,  -999.00,9,   0.0317
  77DN19910726,Arctic,    34,  2,  81887,     21,2,19910912,   0, 86.2400,   9.8400, 4073,    699.9,  -0.0410,  34.8798,2,  34.8790,   2,    314.1,2,     6.48,2,    12.64,2,     0.85,2,    3.034,2,    5.102,3,    7.727,   2,   2138.7,2,   2273.2,2,     55.2,2,  -999.00,9,  -0.0701
  77DN19910726,Arctic,    34,  2,  81886,     20,2,19910912,   0, 86.2400,   9.8400, 4073,    800.0,  -0.1630,  34.8839,2,  34.8850,   2,    311.5,2,     6.66,2,    12.72,2,     0.86,2,    0.000,4,    0.527,3,    0.000,   3,   2143.3,2,   2283.1,2,   -999.0,9,  -999.00,9,  -0.1962
  77DN19910726,Arctic,    34,  2,  81885,     19,2,19910912,   0, 86.2400,   9.8400, 4073,    900.8,  -0.2560,  34.8873,2,  34.8880,   2,    312.7,2,     6.88,2,    12.78,2,     0.87,2,    3.454,2,    1.561,2,    8.049,   2,   2150.5,2,   2285.8,2,   -999.0,9,  -999.00,9,  -0.2935
  77DN19910726,Arctic,    34,  2,  81884,     18,2,19910912,   0, 86.2400,   9.8400, 4073,    999.4,  -0.3030,  34.8963,2,  34.8980,   2,    311.5,2,     7.28,2,    12.95,2,     0.88,2,    2.556,2,    1.024,2,    7.112,   2,   2155.0,2,   2284.1,2,    322.4,2,  -999.00,9,  -0.3451
  77DN19910726,Arctic,    34,  2,  81883,     17,2,19910912,   0, 86.2400,   9.8400, 4073,   1098.8,  -0.3790,  34.9011,2,  34.9010,   2,    311.5,2,     7.53,2,    13.10,2,     0.89,2,    2.517,2,    1.200,2,    7.288,   2,   2155.0,2,   2292.6,2,   -999.0,9,  -999.00,9,  -0.4256
  77DN19910726,Arctic,    34,  2,  81882,     16,2,19910912,   0, 86.2400,   9.8400, 4073,   1300.3,  -0.4720,  34.9111,2,  34.9110,   2,    310.3,2,     8.47,2,    13.56,2,     0.92,2,    1.532,2,    3.473,3,    5.337,   2,   2158.5,2,   -999.0,9,    101.5,2,  -999.00,9,  -0.5285
  77DN19910726,Arctic,    34,  2,  81881,     15,2,19910912,   0, 86.2400,   9.8400, 4073,   1398.6,  -0.5110,  34.9145,2,  34.9150,   2,    307.4,2,     8.92,2,    13.83,2,     0.94,2,    1.171,2,    0.000,2,    4.468,   2,   2159.2,2,   -999.0,9,   -999.0,9,  -999.00,9,  -0.5726
  77DN19910726,Arctic,    34,  2,  81880,     14,2,19910912,   0, 86.2400,   9.8400, 4073,   1498.3,  -0.5550,  34.9178,2,  34.9180,   2,    308.4,2,     9.36,2,    14.03,2,     0.95,2,    0.995,2,    0.000,2,    4.254,   2,   2149.8,2,   2290.6,2,     71.6,2,  -999.00,9,  -0.6218
  77DN19910726,Arctic,    34,  2,  81879,     13,2,19910912,   0, 86.2400,   9.8400, 4073,   1599.5,  -0.5760,  34.9205,2,  34.9200,   2,    305.0,2,     9.85,2,    14.23,2,     0.96,2,    0.576,2,    0.380,2,    3.200,   2,   2155.2,2,   2282.7,2,   -999.0,9,  -999.00,9,  -0.6484
  77DN19910726,Arctic,    34,  2,  81878,     12,2,19910912,   0, 86.2400,   9.8400, 4073,   1744.6,  -0.6230,  34.9236,2,  34.9220,   2,    303.6,2,    10.28,2,    14.60,2,     0.98,2,    3.200,3,    0.000,2,    3.522,   2,   2157.4,2,   2293.6,2,   -999.0,9,  -999.00,9,  -0.7036
  77DN19910726,Arctic,    34,  2,  81877,     11,2,19910912,   0, 86.2400,   9.8400, 4073,   1801.0,  -0.6440,  34.9234,2,  34.9240,   2,    304.1,2,    10.41,2,    14.65,2,     0.97,2,    0.459,2,    0.000,2,    3.093,   2,   2151.2,2,   2291.5,2,     74.5,2,  -999.00,9,  -0.7278
  77DN19910726,Arctic,    34,  2,  81876,     10,2,19910912,   0, 86.2400,   9.8400, 4073,   1899.6,  -0.6820,  34.9218,2,  34.9280,   2,    306.3,2,    10.39,2,    14.74,2,     0.97,2,    0.244,2,    0.000,2,    2.302,   2,   2157.5,2,   2297.5,2,   -999.0,9,  -999.00,9,  -0.7714
  77DN19910726,Arctic,    34,  2,  81875,      9,2,19910912,   0, 86.2400,   9.8400, 4073,   2015.3,  -0.7120,  34.9218,2,  34.9280,   2,    305.3,2,    10.49,2,    14.77,2,     0.98,2,    0.293,2,    0.000,2,    2.137,   2,   2156.1,2,   2299.1,2,     62.8,2,  -999.00,9,  -0.8084
  77DN19910726,Arctic,    34,  2,  81874,      8,2,19910912,   0, 86.2400,   9.8400, 4073,   2399.9,  -0.7650,  34.9262,2,  34.9250,   2,    307.7,2,    10.76,2,    14.88,2,     0.98,2,    0.000,2,    0.000,2,    1.493,   2,   2156.4,2,   2296.4,2,   -999.0,9,  -999.00,9,  -0.8868
  77DN19910726,Arctic,    34,  2,  81873,      7,2,19910912,   0, 86.2400,   9.8400, 4073,   2649.3,  -0.7760,  34.9290,2,  34.9290,   2,    305.5,2,    10.86,2,    14.92,2,     0.99,2,    0.088,2,    0.049,2,    1.249,   2,   2156.7,2,   2302.1,2,     64.4,2,  -999.00,9,  -0.9158
  77DN19910726,Arctic,    34,  2,  81872,      6,2,19910912,   0, 86.2400,   9.8400, 4073,   2900.1,  -0.7730,  34.9318,2,  34.9330,   2,    305.0,2,    10.98,2,    14.92,2,     0.98,2,    0.000,2,    0.000,2,    1.737,   2,   2153.4,2,   2306.6,2,   -999.0,9,  -999.00,9,  -0.9323
  77DN19910726,Arctic,    34,  2,  81871,      5,2,19910912,   0, 86.2400,   9.8400, 4073,   3198.4,  -0.7600,  34.9351,2,  34.9350,   2,    300.5,2,    11.05,2,    14.92,2,     0.98,2,    0.000,2,    0.000,2,    1.180,   2,   2152.0,2,   2308.0,2,     59.0,2,  -999.00,9,  -0.9439
  77DN19910726,Arctic,    34,  2,  81870,      4,2,19910912,   0, 86.2400,   9.8400, 4073,   3394.7,  -0.7480,  34.9377,2,  34.9370,   2,   -999.0,9,    11.06,2,    14.90,2,     0.98,2,    1.229,3,    0.059,2,    1.112,   2,   2151.1,2,   2292.5,2,     54.6,2,  -999.00,9,  -0.9490
  77DN19910726,Arctic,    34,  2,  81869,      3,2,19910912,   0, 86.2400,   9.8400, 4073,   3656.2,  -0.7260,  34.9404,2,  34.9400,   2,    309.3,2,    11.11,2,    14.83,2,     0.99,2,    0.205,2,    0.029,2,    0.761,   2,   2150.1,2,   2289.9,2,   -999.0,9,  -999.00,9,  -0.9508
  77DN19910726,Arctic,    34,  2,  81868,      2,2,19910912,   0, 86.2400,   9.8400, 4073,   3848.2,  -0.7040,  34.9418,2,  34.9410,   2,    304.6,2,    11.18,2,    14.79,2,     0.98,2,    0.000,2,    0.000,2,    0.712,   2,   2151.5,2,   2288.1,2,     61.3,2,  -999.00,9,  -0.9472
  77DN19910726,Arctic,    34,  2,  81867,      1,2,19910912,   0, 86.2400,   9.8400, 4073,   4120.9,  -0.6760,-999.0000,9,  34.9410,   2,    305.1,2,    11.11,2,    14.77,2,     0.98,2,    0.117,2,    0.000,2,    0.771,   2,   2150.8,2,   2292.8,2,     66.6,2,  -999.00,9,  -0.9462
  77DN19910726,Arctic,    35,  2,  81926,     24,2,19910913,   0, 86.1600,   5.2300, 4447,     17.4,  -1.7080,  31.6584,2,  31.6760,   2,    372.9,2,    13.29,2,     3.58,2,     1.02,2,    9.639,3,    3.532,2,    9.278,   2,   2102.6,2,   2212.7,2,    171.3,2,  -999.00,9,  -1.7083
  77DN19910726,Arctic,    35,  4,  81938,     12,2,19910913,   0, 86.1600,   5.2300, 4447,     25.0,  -1.7180,  31.7449,2,  31.7990,   2,    372.0,2,    12.94,2,     3.62,2,     0.99,2,   10.273,3,    3.600,2,    9.288,   2,   2112.8,2,   -999.0,9,    113.5,2,  -999.00,9,  -1.7184
  77DN19910726,Arctic,    35,  4,  81937,     11,2,19910913,   0, 86.1600,   5.2300, 4447,     39.9,  -1.7110,  32.1254,2,  32.7100,   3,    367.1,2,     8.33,2,     4.36,2,     0.63,2,    8.585,2,    3.132,2,    8.654,   2,   2153.0,2,   -999.0,9,    161.8,2,  -999.00,9,  -1.7117
  77DN19910726,Arctic,    35,  4,  81936,     10,2,19910913,   0, 86.1600,   5.2300, 4447,     59.6,  -1.7760,  33.0417,2,  33.1330,   2,    372.0,2,     5.47,2,     4.12,2,     0.47,2,    9.239,3,    3.317,2,    8.449,   2,   2162.3,2,   -999.0,9,    114.3,2,  -999.00,9,  -1.7770
  77DN19910726,Arctic,    35,  2,  81925,     23,2,19910913,   0, 86.1600,   5.2300, 4447,     72.9,  -1.7810,  33.3176,2,  33.2730,   2,   -999.0,9,     5.71,2,     4.67,2,     0.49,2,    8.273,2,    3.122,2,    7.941,   2,   2153.1,2,   -999.0,9,    182.0,2,  -999.00,9,  -1.7823
  77DN19910726,Arctic,    35,  4,  81935,      9,2,19910913,   0, 86.1600,   5.2300, 4447,     89.9,  -1.7000,  33.9003,2,  33.6760,   2,    335.9,2,     7.42,2,     7.13,2,     0.63,2,    7.932,2,    2.429,3,    7.093,   2,   2157.0,2,   -999.0,9,     95.6,2,  -999.00,9,  -1.7017
  77DN19910726,Arctic,    35,  4,  81934,      8,2,19910913,   0, 86.1600,   5.2300, 4447,    125.1,  -1.2890,  34.2951,2,  34.2640,   2,    316.5,2,     5.86,2,     9.08,2,     0.69,2,    6.273,2,    1.844,3,    6.790,   2,   2152.3,2,   -999.0,9,     78.0,2,  -999.00,9,  -1.2921
  77DN19910726,Arctic,    35,  2,  81924,     22,2,19910913,   0, 86.1600,   5.2300, 4447,    148.0,  -0.8780,  34.4237,2,  34.3950,   2,    309.6,2,     5.73,2,     9.55,2,     0.69,2,    4.761,2,    1.961,2,    6.810,   2,   2150.3,2,   2262.7,2,    127.6,2,  -999.00,9,  -0.8822
  77DN19910726,Arctic,    35,  4,  81933,      7,2,19910913,   0, 86.1600,   5.2300, 4447,    175.2,  -0.2010,  34.5661,2,  34.5830,   2,    316.5,2,     5.71,2,    10.56,2,     0.73,2, -999.000,9, -999.000,9, -999.000,   9,   2153.9,2,   -999.0,9,     71.8,2,  -999.00,9,  -0.2071
  77DN19910726,Arctic,    35,  4,  81932,      6,2,19910913,   0, 86.1600,   5.2300, 4447,    199.9,   0.1560,  34.6948,2,  34.6700,   2,    310.6,2,     5.66,2,    11.11,2,     0.76,2,    5.366,2,    1.707,2,    6.927,   2,   2153.3,2,   -999.0,9,     71.8,2,  -999.00,9,   0.1483
  77DN19910726,Arctic,    35,  4,  81931,      5,2,19910913,   0, 86.1600,   5.2300, 4447,    274.8,   0.7170,  34.8244,2,  34.8270,   2,    306.7,2,     5.74,2,    12.09,2,     0.81,2, -999.000,9, -999.000,9, -999.000,   9,   2150.0,2,   -999.0,9,     78.0,2,  -999.00,9,   0.7049
  77DN19910726,Arctic,    35,  2,  81923,     21,2,19910913,   0, 86.1600,   5.2300, 4447,    324.0,   0.7920,  34.8594,2,  34.8590,   2,    311.6,2,     5.73,2,    12.35,2,     0.81,2,    4.985,2,    1.737,2,    6.341,   2,   2143.0,2,   2279.5,2,    127.6,2,  -999.00,9,   0.7774
  77DN19910726,Arctic,    35,  4,  81930,      4,2,19910913,   0, 86.1600,   5.2300, 4447,    400.2,   0.6200,  34.8688,2,  34.8740,   2,    306.7,2,     6.13,2,    12.58,2,     0.83,2,    3.727,2,    4.732,3,    7.561,   2,   2148.3,2,   -999.0,9,     77.6,2,  -999.00,9,   0.6022