BOTTLE,20140714SIOCCHRJL
EXPOCODE,SECT_ID,STNNBR,CASTNO,SAMPNO,BTLNBR,BTLNBR_FLAG_W,DATE,TIME,LATITUDE,LONGITUDE,DEPTH,CTDPRS,CTDTMP,CTDSAL,CTDSAL_FLAG_W,SALNTY,SALNTY_FLAG_W,OXYGEN,OXYGEN_FLAG_W,SILCAT,SILCAT_FLAG_W,NITRAT,NITRAT_FLAG_W,PHSPHT,PHSPHT_FLAG_W,CFC-11,CFC-11_FLAG_W,CFC-12,CFC-12_FLAG_W,CCL4,CCL4_FLAG_W,TCARBN,TCARBN_FLAG_W,ALKALI,ALKALI_FLAG_W,DOC,DOC_FLAG_W,DELO18,DELO18_FLAG_W,THETA
,,,,,,,,,,,METERS,DBAR,ITS-90,PSS-78,,PSS-78,,UMOL/KG,,UMOL/KG,,UMOL/KG,,UMOL/KG,,PMOL/KG,,PMOL/KG,,PMOL/KG,,UMOL/KG,,UMOL/KG,,UMOL/KG,,/MILLE,,DEG C
  77DN19910726,Arctic,    61,  2,  33953,     24,2,19911003,   0, 81.1400,  19.9000,  205,     10.4,   1.3470,  33.2139,2,  33.3830,   2,    336.9,2,     0.63,2,     0.94,2,     0.24,2,    5.932,2,    2.780,2,   17.073,   2,   2010.5,2,   2196.0,2,     73.1,2,     0.03,2,   1.3465
  77DN19910726,Arctic,    61,  2,  33952,     23,2,19911003,   0, 81.1400,  19.9000,  205,     26.4,   3.0560,  34.1435,2,  34.1450,   2,    321.3,2,     1.30,2,     1.95,2,     0.32,2,    5.493,2,    2.683,2,   14.332,   2,   2046.9,2,   2238.5,2,     73.4,2,     0.17,2,   3.0544
  77DN19910726,Arctic,    61,  2,  33951,     22,2,19911003,   0, 81.1400,  19.9000,  205,     49.3,   4.2940,  34.6552,2,  34.5860,   2,    307.7,2,     2.61,2,     4.88,2,     0.47,2,    5.346,2,    2.605,2,   12.527,   2,   2079.5,2,   2265.0,2,     67.5,2,     0.23,2,   4.2905
  77DN19910726,Arctic,    61,  2,  33950,     21,2,19911003,   0, 81.1400,  19.9000,  205,     69.6,   4.2270,  34.7529,2,  34.7630,   2,    303.8,2,     3.86,2,     8.20,2,     0.62,2,    5.268,2,    2.468,2,   11.415,   2,   2109.3,2,   2275.6,2,     68.3,2,     0.27,2,   4.2221
  77DN19910726,Arctic,    61,  2,  33949,     20,2,19911003,   0, 81.1400,  19.9000,  205,    102.1,   4.0570,  34.8506,2,  34.8750,   2,    301.9,2,     4.82,2,    10.40,2,     0.70,2, -999.000,9, -999.000,9, -999.000,   9,   2124.7,2,   2281.9,2,     75.2,2,     0.26,2,   4.0499
  77DN19910726,Arctic,    61,  2,  33948,     19,2,19911003,   0, 81.1400,  19.9000,  205,    139.5,   4.0860,  34.8899,2,  34.8750,   2,    302.8,2,     4.86,2,    10.40,2,     0.71,2, -999.000,9, -999.000,9, -999.000,   9,   2124.6,2,   2283.2,2,     60.2,2,     0.25,2,   4.0762
  77DN19910726,Arctic,    61,  2,  33947,     18,2,19911003,   0, 81.1400,  19.9000,  205,    171.5,   3.9710,  34.9376,2,  34.9210,   2,    301.9,2,     5.45,2,    11.22,2,     0.76,2,    5.483,2,    2.498,2,   12.742,   2,   2130.2,2,   2289.5,2,     64.6,2,     0.29,2,   3.9590
  77DN19910726,Arctic,    61,  2,  33946,     17,2,19911003,   0, 81.1400,  19.9000,  205,    187.5,   4.0020,  34.9666,2,  34.9560,   2,    302.8,2,     5.54,2,    11.55,2,     0.78,2,    5.444,2,    2.498,2,   12.371,   2,   2134.5,2,   2291.9,2,     63.4,2,     0.26,2,   3.9888