BOTTLE,20140714SIOCCHRJL
EXPOCODE,SECT_ID,STNNBR,CASTNO,SAMPNO,BTLNBR,BTLNBR_FLAG_W,DATE,TIME,LATITUDE,LONGITUDE,DEPTH,CTDPRS,CTDTMP,CTDSAL,CTDSAL_FLAG_W,SALNTY,SALNTY_FLAG_W,OXYGEN,OXYGEN_FLAG_W,SILCAT,SILCAT_FLAG_W,NITRAT,NITRAT_FLAG_W,PHSPHT,PHSPHT_FLAG_W,CFC-11,CFC-11_FLAG_W,CFC-12,CFC-12_FLAG_W,CCL4,CCL4_FLAG_W,TCARBN,TCARBN_FLAG_W,ALKALI,ALKALI_FLAG_W,DOC,DOC_FLAG_W,DELO18,DELO18_FLAG_W,THETA
,,,,,,,,,,,METERS,DBAR,ITS-90,PSS-78,,PSS-78,,UMOL/KG,,UMOL/KG,,UMOL/KG,,UMOL/KG,,PMOL/KG,,PMOL/KG,,PMOL/KG,,UMOL/KG,,UMOL/KG,,UMOL/KG,,/MILLE,,DEG C
  77DN19910726,Arctic,    26,  2,  81624,     22,2,19910904,   0, 88.0200, 163.6000, 4001,    602.0,   0.2240,  34.8821,2,  34.8790,   2,    302.1,2,     6.79,2,    12.92,2,     0.85,2,    1.434,2,    1.073,3,    4.624,   2,   2140.0,2,   2289.1,2,     82.0,2,     0.22,2,   0.1982
  77DN19910726,Arctic,    26,  2,  81623,     21,2,19910904,   0, 88.0200, 163.6000, 4001,    699.3,   0.0750,  34.8879,2,  34.8850,   2,    304.2,2,     6.88,2,    12.96,2,     0.86,2,    1.366,2,    0.000,3,    3.307,   2,   2138.8,2,   2298.1,2,     58.8,2,     0.22,2,   0.0452
  77DN19910726,Arctic,    26,  2,  81622,     20,2,19910904,   0, 88.0200, 163.6000, 4001,    799.7,  -0.0380,  34.8918,2,  34.8900,   2,    304.3,2,     7.03,2,    13.03,2,     0.87,2,    1.083,2,    0.517,2,    4.341,   2,   2153.6,2,   2294.4,2,     62.2,2,     0.22,2,  -0.0720
  77DN19910726,Arctic,    26,  2,  81621,     19,2,19910904,   0, 88.0200, 163.6000, 4001,    899.7,  -0.1190,  34.8992,2,  34.8980,   2,   -999.0,9,     7.27,2,    13.13,2,     0.88,2,    1.180,2,    0.000,2,    3.785,   2,   2140.9,2,   2297.5,2,     62.6,2,     0.25,2,  -0.1575
  77DN19910726,Arctic,    26,  2,  81620,     18,2,19910904,   0, 88.0200, 163.6000, 4001,    998.3,  -0.1800,  34.9049,2,  34.9060,   2,   -999.0,9,     7.54,2,    13.26,2,     0.89,2,    0.566,2,    0.166,2,    3.005,   2,   2142.9,2,   2295.9,2,     65.0,2,     0.26,2,  -0.2231
  77DN19910726,Arctic,    26,  2,  81619,     17,2,19910904,   0, 88.0200, 163.6000, 4001,   1097.7,  -0.2340,  34.9137,2,  34.9130,   2,    303.5,2,     7.93,2,    13.44,2,     0.90,2,    0.956,2,    1.054,3,    1.961,   2,   2150.1,2,   2291.7,2,     65.5,2,     0.27,2,  -0.2819
  77DN19910726,Arctic,    26,  2,  81618,     16,2,19910904,   0, 88.0200, 163.6000, 4001,   1299.6,  -0.3210,  34.9263,2,  34.9330,   2,    300.5,2,     8.95,2,    13.94,2,     0.93,2,    0.390,2,    0.039,2,    1.288,   2,   2169.8,2,   2291.5,2,     66.2,2,     0.23,2,  -0.3791
  77DN19910726,Arctic,    26,  2,  81617,     15,2,19910904,   0, 88.0200, 163.6000, 4001,   1499.4,  -0.3690,  34.9376,2,  34.9370,   2,    299.1,2,    10.14,2,    14.35,2,     0.97,2,    0.059,2,    0.722,3,    0.615,   2,   -999.0,9,   2283.6,2,     60.7,2,     0.25,2,  -0.4381
  77DN19910726,Arctic,    26,  2,  81616,     14,2,19910904,   0, 88.0200, 163.6000, 4001,   1700.3,  -0.3980,  34.9450,2,  34.9460,   2,    295.1,2,    11.06,2,    14.63,2,     0.99,2,    0.000,2,    0.029,2,    0.371,   2,   -999.0,9,   2295.4,2,    119.7,2,     0.25,2,  -0.4790
  77DN19910726,Arctic,    26,  2,  81615,     13,2,19910904,   0, 88.0200, 163.6000, 4001,   1897.7,  -0.4080,  34.9487,2,  34.9490,   2,    294.3,2,    11.71,2,    14.80,2,     0.99,2,    0.039,2,    0.000,2,    0.293,   2,   -999.0,9,   2301.5,2,     59.0,2,     0.27,2,  -0.5015
  77DN19910726,Arctic,    26,  2,  81614,     12,2,19910904,   0, 88.0200, 163.6000, 4001,   2099.4,  -0.4060,  34.9512,2,  34.9520,   2,    292.7,2,    12.07,2,    14.90,2,     1.00,2,    0.000,2,    0.010,2,    0.263,   2,   -999.0,9,   2297.3,2,     57.8,2,     0.27,2,  -0.5131
  77DN19910726,Arctic,    26,  2,  81613,     11,2,19910904,   0, 88.0200, 163.6000, 4001,   2299.1,  -0.3990,  34.9523,2,  34.9540,   2,    291.2,2,    12.32,2,    14.99,2,     1.00,2,    0.000,2,    0.000,2,    0.322,   2,   -999.0,9,   2297.1,2,     55.3,2,     0.22,2,  -0.5204
  77DN19910726,Arctic,    26,  2,  81612,     10,2,19910904,   0, 88.0200, 163.6000, 4001,   2496.2,  -0.3890,  34.9530,2,  34.9540,   2,    292.6,2,    12.34,2,    14.86,2,     1.00,2,    0.205,2,    0.000,2,    0.312,   2,   -999.0,9,   2294.7,2,     56.1,2,     0.26,2,  -0.5251
  77DN19910726,Arctic,    26,  2,  81611,      9,2,19910904,   0, 88.0200, 163.6000, 4001,   2701.0,  -0.3790,  34.9530,2,  34.9550,   2,    291.6,2,    12.19,2,    14.86,2,     0.99,2,    0.000,2,    0.000,2,    0.146,   2,   -999.0,9,   2295.9,2,     56.0,2,     0.30,2,  -0.5311
  77DN19910726,Arctic,    26,  2,  81610,      8,2,19910904,   0, 88.0200, 163.6000, 4001,   2900.1,  -0.3670,  34.9530,2,  34.9550,   2,    294.5,2,    12.05,2,    14.87,2,     0.99,2,    0.254,2,    0.020,2,    0.215,   2,   -999.0,9,   2288.6,2,     58.1,2,     0.25,2,  -0.5353
  77DN19910726,Arctic,    26,  2,  81609,      7,2,19910904,   0, 88.0200, 163.6000, 4001,   3098.5,  -0.3560,  34.9534,2,  34.9540,   2,    293.4,2,    11.96,2,    14.87,2,     0.99,2,    0.000,2,    1.493,3,    0.400,   2,   -999.0,9,   2298.6,2,     49.4,2,     0.28,2,  -0.5411
  77DN19910726,Arctic,    26,  2,  81608,      6,2,19910904,   0, 88.0200, 163.6000, 4001,   3299.9,  -0.3410,  34.9533,2,  34.9540,   2,    294.6,2,    11.81,2,    14.82,2,     0.99,2,    0.000,2,    0.000,2,    0.254,   2,   -999.0,9,   2286.0,2,     62.7,2,     0.28,2,  -0.5439
  77DN19910726,Arctic,    26,  2,  81607,      5,2,19910904,   0, 88.0200, 163.6000, 4001,   3498.3,  -0.3240,  34.9530,2,  34.9540,   2,    294.3,2,    11.75,2,    14.83,2,     0.99,2,    0.283,2,    0.410,3,    0.263,   2,   -999.0,9,   2283.7,2,     70.4,2,     0.27,2,  -0.5451
  77DN19910726,Arctic,    26,  2,  81606,      4,2,19910904,   0, 88.0200, 163.6000, 4001,   3698.8,  -0.3050,  34.9529,2,  34.9540,   2,    295.5,2,    11.75,2,    14.81,2,     0.99,2,    0.029,2,    0.000,2,    0.176,   2,   -999.0,9,   2284.9,2,     77.5,2,     0.32,2,  -0.5452
  77DN19910726,Arctic,    26,  2,  81605,      3,2,19910904,   0, 88.0200, 163.6000, 4001,   3849.3,  -0.2900,  34.9529,2,  34.9560,   2,    293.8,2,    11.75,2,    14.83,2,     0.99,2,    0.000,2,    0.390,3,    0.263,   2,   -999.0,9,   2277.3,2,     50.7,2,     0.29,2,  -0.5450
  77DN19910726,Arctic,    26,  2,  81604,      2,2,19910904,   0, 88.0200, 163.6000, 4001,   3990.4,  -0.2760,-999.0000,9,  34.9550,   2,    294.0,2,    11.79,2,    14.82,2,     0.99,2,    0.000,2,    0.117,2,    0.078,   2,   -999.0,9,   2279.7,2,     55.2,2,     0.31,2,  -0.5451
  77DN19910726,Arctic,    26,  2,  81603,      1,2,19910904,   0, 88.0200, 163.6000, 4001,   3990.1,  -0.2750,-999.0000,9,  34.9540,   2,   -999.0,9,    11.79,2,    14.82,2,     0.99,2, -999.000,9, -999.000,9, -999.000,   9,   -999.0,9,   -999.0,9,   -999.0,9,  -999.00,9,  -0.5441
  77DN19910726,Arctic,    27,  3,  81662,     24,2,19910905,   0, 88.1600, 169.6900, 3992,      9.9,  -1.6960,  31.5770,2,  31.5720,   2,    378.0,2,    10.51,2,     2.65,2,     0.91,2,    8.829,2,    3.376,2,   12.839,   2,   -999.0,9,   2188.0,2,   -999.0,9,  -999.00,9,  -1.6961
  77DN19910726,Arctic,    27,  4,  81674,     12,2,19910905,   0, 88.1600, 169.6900, 3992,     14.6,  -1.6960,  31.5771,2,  31.5730,   2,    377.0,2,    10.47,2,     2.69,2,     0.91,2, -999.000,9, -999.000,9, -999.000,   9,   -999.0,9,   2205.7,2,   -999.0,9,  -999.00,9,  -1.6962
  77DN19910726,Arctic,    27,  4,  81673,     11,2,19910905,   0, 88.1600, 169.6900, 3992,     34.8,  -1.7100,  31.8839,2,  31.7050,   2,    376.1,2,    10.26,2,     2.95,2,     0.87,2,    7.707,2,    3.346,2,   12.683,   2,   -999.0,9,   2211.6,2,   -999.0,9,  -999.00,9,  -1.7105
  77DN19910726,Arctic,    27,  4,  81672,     10,2,19910905,   0, 88.1600, 169.6900, 3992,     49.4,  -1.7250,  32.5185,2,  32.4260,   2,    363.0,2,     9.66,2,     4.60,2,     0.78,2, -999.000,9, -999.000,9, -999.000,   9,   -999.0,9,   2245.4,2,   -999.0,9,  -999.00,9,  -1.7258
  77DN19910726,Arctic,    27,  3,  81661,     23,2,19910905,   0, 88.1600, 169.6900, 3992,     67.3,  -1.6590,  33.0990,2,  33.1460,   2,    317.8,2,    13.52,2,     8.46,2,     0.91,2,    5.883,2,    2.722,2,    7.005,   2,   2157.7,2,   2246.1,2,   -999.0,9,  -999.00,9,  -1.6602
  77DN19910726,Arctic,    27,  4,  81671,      9,2,19910905,   0, 88.1600, 169.6900, 3992,     74.9,  -1.5790,  33.4491,2,  33.4810,   2,    303.5,2,    12.97,2,     9.53,2,     0.90,2,    5.015,2,    7.249,3,    6.244,   2,   -999.0,9,   2271.1,2,   -999.0,9,  -999.00,9,  -1.5805
  77DN19910726,Arctic,    27,  4,  81670,      8,2,19910905,   0, 88.1600, 169.6900, 3992,     99.8,  -1.5000,  34.0776,2,  34.1150,   2,    307.9,2,     7.13,2,     9.33,2,     0.70,2,    3.951,2,    1.785,2,    5.863,   2,   -999.0,9,   2288.1,2,   -999.0,9,  -999.00,9,  -1.5022
  77DN19910726,Arctic,    27,  4,  81669,      7,2,19910905,   0, 88.1600, 169.6900, 3992,    119.0,  -1.2390,  34.2747,2,  34.2580,   2,    309.5,2,     6.62,2,     9.55,2,     0.70,2,    4.020,2,    1.610,2,    5.961,   2,   -999.0,9,   2288.4,2,   -999.0,9,  -999.00,9,  -1.2420
  77DN19910726,Arctic,    27,  4,  81668,      6,2,19910905,   0, 88.1600, 169.6900, 3992,    125.1,  -1.1340,  34.3131,2,  34.3070,   2,    306.4,2,     6.72,2,     9.77,2,     0.70,2, -999.000,9, -999.000,9, -999.000,   9,   -999.0,9,   2272.6,2,   -999.0,9,  -999.00,9,  -1.1372
  77DN19910726,Arctic,    27,  4,  81667,      5,2,19910905,   0, 88.1600, 169.6900, 3992,    199.6,  -0.0420,  34.6488,2,  34.6350,   2,    298.6,2,     7.08,2,    11.35,2,     0.76,2,    4.527,3,    1.161,2,    6.176,   2,   -999.0,9,   2298.0,2,   -999.0,9,  -999.00,9,  -0.0493
  77DN19910726,Arctic,    27,  4,  81666,      4,2,19910905,   0, 88.1600, 169.6900, 3992,    249.9,   0.3550,  34.8016,2,  34.7820,   2,    299.1,2,     6.60,2,    12.27,2,     0.80,2,    2.322,2,    0.644,2,    5.698,   2,   -999.0,9,   2305.2,2,   -999.0,9,  -999.00,9,   0.3448
  77DN19910726,Arctic,    27,  4,  81665,      3,2,19910905,   0, 88.1600, 169.6900, 3992,    300.2,   0.4800,  34.8380,2,  34.8320,   2,    302.3,2,     6.47,2,    12.53,2,     0.81,2,    2.800,2,    1.063,2,    6.595,   2,   -999.0,9,   2303.1,2,   -999.0,9,  -999.00,9,   0.4673
  77DN19910726,Arctic,    27,  4,  81664,      2,2,19910905,   0, 88.1600, 169.6900, 3992,    350.0,   0.4650,  34.8451,2,  34.8460,   2,    297.6,2,     6.82,2,    12.74,2,     0.81,2,    1.678,2,    0.478,2,    4.390,   2,   -999.0,9,   -999.0,9,   -999.0,9,  -999.00,9,   0.4501
  77DN19910726,Arctic,    27,  4,  81663,      1,2,19910905,   0, 88.1600, 169.6900, 3992,    400.0,   0.5010,  34.8661,2,  34.8680,   2,    297.8,2,     6.91,2,    13.01,2,     0.83,2,    1.639,2,    0.000,2,    4.361,   2,   -999.0,9,   -999.0,9,   -999.0,9,  -999.00,9,   0.4836
  77DN19910726,Arctic,    27,  3,  81660,     22,2,19910905,   0, 88.1600, 169.6900, 3992,    500.1,   0.4410,  34.8756,2,  34.8760,   2,    300.7,2,     6.85,2,    12.82,2,     0.85,2,    0.995,2,    0.000,3,    4.020,   2,   2125.4,2,   2293.2,2,   -999.0,9,  -999.00,9,   0.4191
  77DN19910726,Arctic,    27,  3,  81659,     21,2,19910905,   0, 88.1600, 169.6900, 3992,    599.3,   0.2780,  34.8819,2,  34.8820,   2,   -999.0,9,     6.79,2,    12.72,2,     0.85,2,    1.473,2,    0.517,2,    4.254,   2,   2138.2,2,   2304.3,2,   -999.0,9,  -999.00,9,   0.2520
  77DN19910726,Arctic,    27,  3,  81658,     20,2,19910905,   0, 88.1600, 169.6900, 3992,    698.7,   0.1290,  34.8880,2,  34.8880,   2,   -999.0,9,     6.88,2,    12.82,2,     0.86,2,    0.820,2,    0.966,3,    3.688,   2,   2138.4,2,   2294.0,2,   -999.0,9,  -999.00,9,   0.0990
  77DN19910726,Arctic,    27,  3,  81657,     19,2,19910905,   0, 88.1600, 169.6900, 3992,    800.0,   0.0090,  34.8939,2,  34.8940,   2,    303.4,2,     7.00,2,    12.88,2,     0.85,2,    1.161,2,    0.146,2,    3.376,   2,   2139.3,2,   -999.0,9,   -999.0,9,  -999.00,9,  -0.0253
  77DN19910726,Arctic,    27,  3,  81656,     18,2,19910905,   0, 88.1600, 169.6900, 3992,    899.7,  -0.0850,  34.8993,2,  34.8990,   2,   -999.0,9,     7.23,2,    12.96,2,     0.86,2,    0.537,2,    0.205,2,    3.102,   2,   2136.8,2,   -999.0,9,   -999.0,9,  -999.00,9,  -0.1237
  77DN19910726,Arctic,    27,  3,  81655,     17,2,19910905,   0, 88.1600, 169.6900, 3992,    999.1,  -0.1660,  34.9055,2,  34.9060,   2,    301.5,2,     7.53,2,    13.18,2,     0.87,2,    0.644,2,    0.000,2,    2.771,   2,   2137.5,2,   2304.2,2,   -999.0,9,  -999.00,9,  -0.2092
  77DN19910726,Arctic,    27,  3,  81654,     16,2,19910905,   0, 88.1600, 169.6900, 3992,   1096.0,  -0.2300,  34.9119,2,  34.9050,   2,    302.7,2,     7.89,2,    13.37,2,     0.89,2,    0.839,2,    0.000,2,    2.351,   2,   2140.4,2,   2298.4,2,   -999.0,9,  -999.00,9,  -0.2778
  77DN19910726,Arctic,    27,  3,  81653,     15,2,19910905,   0, 88.1600, 169.6900, 3992,   1249.6,  -0.3010,  34.9216,2,  34.9210,   2,   -999.0,9,     8.62,2,    13.74,2,     0.91,2,    0.234,2,    0.000,2,    1.688,   2,   2145.4,2,   2299.2,2,   -999.0,9,  -999.00,9,  -0.3565
  77DN19910726,Arctic,    27,  3,  81652,     14,2,19910905,   0, 88.1600, 169.6900, 3992,   1499.7,  -0.3690,  34.9362,2,  34.9360,   2,    297.3,2,    10.00,2,    14.19,2,     0.96,2,    0.185,2,    0.000,2,    0.761,   2,   2149.3,2,   2294.1,2,   -999.0,9,  -999.00,9,  -0.4381
  77DN19910726,Arctic,    27,  3,  81651,     13,2,19910905,   0, 88.1600, 169.6900, 3992,   1598.7,  -0.3840,  34.9410,2,  34.9400,   2,    296.3,2,    10.51,2,    14.38,2,     0.97,2,    0.000,2,    0.000,2,    0.702,   2,   2157.1,2,   -999.0,9,   -999.0,9,  -999.00,9,  -0.4589
  77DN19910726,Arctic,    27,  3,  81650,     12,2,19910905,   0, 88.1600, 169.6900, 3992,   1700.8,  -0.3970,  34.9447,2,  34.9430,   2,    294.5,2,    10.92,2,    14.60,2,     0.99,2,    0.000,2,    0.020,2,    0.429,   2,   2158.0,2,   -999.0,9,   -999.0,9,  -999.00,9,  -0.4780
  77DN19910726,Arctic,    27,  3,  81649,     11,2,19910905,   0, 88.1600, 169.6900, 3992,   1799.0,  -0.4060,  34.9470,2,  34.9460,   2,   -999.0,9,    11.37,2,    14.74,2,     0.99,2,    0.059,2,    0.000,2,    0.439,   2,   2156.5,2,   2291.3,2,   -999.0,9,  -999.00,9,  -0.4931
  77DN19910726,Arctic,    27,  3,  81648,     10,2,19910905,   0, 88.1600, 169.6900, 3992,   2000.2,  -0.4090,  34.9498,2,  34.9500,   2,    291.8,2,    12.02,2,    14.72,2,     1.00,2,    0.273,2,    0.000,2,    0.322,   2,   2155.4,2,   2299.4,2,   -999.0,9,  -999.00,9,  -0.5093
  77DN19910726,Arctic,    27,  3,  81647,      9,2,19910905,   0, 88.1600, 169.6900, 3992,   2249.4,  -0.4010,  34.9521,2,  34.9510,   2,    291.5,2,    12.33,2,    14.81,2,     1.00,2,    0.000,2,    0.000,2,    0.263,   2,   2156.5,2,   2298.3,2,   -999.0,9,  -999.00,9,  -0.5187
  77DN19910726,Arctic,    27,  3,  81646,      8,2,19910905,   0, 88.1600, 169.6900, 3992,   2498.6,  -0.3870,  34.9527,2,  34.9510,   2,    293.0,2,    12.34,2,    14.89,2,     1.01,2,    0.507,2,    0.000,2,    0.615,   2,   2154.8,2,   2287.5,2,   -999.0,9,  -999.00,9,  -0.5233
  77DN19910726,Arctic,    27,  3,  81645,      7,2,19910905,   0, 88.1600, 169.6900, 3992,   2755.5,  -0.3750,  34.9533,2,  34.9600,   2,    291.0,2,    12.16,2,    14.88,2,     1.00,2,    0.000,2,    0.000,2,    0.273,   2,   2154.6,2,   2295.2,2,   -999.0,9,  -999.00,9,  -0.5315
  77DN19910726,Arctic,    27,  3,  81644,      6,2,19910905,   0, 88.1600, 169.6900, 3992,   2998.1,  -0.3610,  34.9529,2,  34.9530,   2,   -999.0,9,    12.01,2,    14.83,2,     1.00,2,    0.302,2,    1.015,3,    0.449,   2,   2156.1,2,   -999.0,9,   -999.0,9,  -999.00,9,  -0.5376
  77DN19910726,Arctic,    27,  3,  81643,      5,2,19910905,   0, 88.1600, 169.6900, 3992,   3298.6,  -0.3420,  34.9528,2,  34.9530,   2,    293.7,2,    11.70,2,    14.80,2,     0.99,2,    0.068,2,    0.000,2,    0.156,   2,   2155.7,2,   2292.8,2,   -999.0,9,  -999.00,9,  -0.5448
  77DN19910726,Arctic,    27,  3,  81642,      4,2,19910905,   0, 88.1600, 169.6900, 3992,   3499.0,  -0.3230,  34.9528,2,  34.9530,   2,    292.4,2,    11.72,2,    14.75,2,     0.99,2,    2.234,3,    1.054,3,    1.122,   2,   2161.2,2,   2287.5,2,   -999.0,9,  -999.00,9,  -0.5442
  77DN19910726,Arctic,    27,  3,  81641,      3,2,19910905,   0, 88.1600, 169.6900, 3992,   3699.4,  -0.3030,  34.9527,2,  34.9530,   2,    293.2,2,    11.71,2,    14.78,2,     0.99,2,    2.234,3,    1.054,3,    1.122,   2,   2156.6,2,   2286.2,2,   -999.0,9,  -999.00,9,  -0.5433
  77DN19910726,Arctic,    27,  3,  81640,      2,2,19910905,   0, 88.1600, 169.6900, 3992,   3884.9,  -0.2850,  34.9524,2,  34.9560,   2,    293.5,2,    11.67,2,    14.75,2,     0.98,2,    0.185,2,    0.000,2,    0.283,   2,   2158.9,2,   2297.0,2,   -999.0,9,  -999.00,9,  -0.5436
  77DN19910726,Arctic,    27,  3,  81639,      1,2,19910905,   0, 88.1600, 169.6900, 3992,   3986.1,  -0.2750,  34.9521,2,  34.9530,   2,    293.2,2,    11.69,2,    14.78,2,     0.99,2,    0.156,2,    0.000,2,    0.410,   2,   2156.4,2,   2287.7,2,   -999.0,9,  -999.00,9,  -0.5437