BOTTLE,20140714SIOCCHRJL
EXPOCODE,SECT_ID,STNNBR,CASTNO,SAMPNO,BTLNBR,BTLNBR_FLAG_W,DATE,TIME,LATITUDE,LONGITUDE,DEPTH,CTDPRS,CTDTMP,CTDSAL,CTDSAL_FLAG_W,SALNTY,SALNTY_FLAG_W,OXYGEN,OXYGEN_FLAG_W,SILCAT,SILCAT_FLAG_W,NITRAT,NITRAT_FLAG_W,PHSPHT,PHSPHT_FLAG_W,CFC-11,CFC-11_FLAG_W,CFC-12,CFC-12_FLAG_W,CCL4,CCL4_FLAG_W,TCARBN,TCARBN_FLAG_W,ALKALI,ALKALI_FLAG_W,DOC,DOC_FLAG_W,DELO18,DELO18_FLAG_W,THETA
,,,,,,,,,,,METERS,DBAR,ITS-90,PSS-78,,PSS-78,,UMOL/KG,,UMOL/KG,,UMOL/KG,,UMOL/KG,,PMOL/KG,,PMOL/KG,,PMOL/KG,,UMOL/KG,,UMOL/KG,,UMOL/KG,,/MILLE,,DEG C
  77DN19910726,Arctic,    39,  4,  82082,     12,2,19910915,   0, 85.4500, -12.0000, 2296,     19.8,  -1.7220,  31.6731,2,  31.6280,   2,    372.9,2,    13.71,2,     3.84,2,     1.13,2,    7.229,2,    3.093,2,    9.971,   2,   -999.0,9,   -999.0,9,   -999.0,9,  -999.00,9,  -1.7223
  77DN19910726,Arctic,    39,  4,  82081,     11,2,19910915,   0, 85.4500, -12.0000, 2296,     29.9,  -1.7200,  31.8264,2,  31.7530,   2,    372.9,2,    13.62,2,     4.00,2,     1.10,2,    7.337,2,    3.073,2,    9.766,   2,   -999.0,9,   -999.0,9,   -999.0,9,  -999.00,9,  -1.7204
  77DN19910726,Arctic,    39,  4,  82080,     10,2,19910915,   0, 85.4500, -12.0000, 2296,     40.0,  -1.6990,  31.9856,2,  32.0040,   2,    367.1,2,    13.85,2,     4.89,2,     1.10,2,    6.966,2,    2.927,2,    9.015,   2,   -999.0,9,   -999.0,9,     85.1,2,  -999.00,9,  -1.6996
  77DN19910726,Arctic,    39,  4,  82079,      9,2,19910915,   0, 85.4500, -12.0000, 2296,     49.9,  -1.7160,  32.2903,2,  32.4150,   2,    361.2,2,    11.17,2,     5.37,2,     0.81,2,    6.956,2,    2.849,2,    8.029,   2,   -999.0,9,   -999.0,9,   -999.0,9,  -999.00,9,  -1.7168
  77DN19910726,Arctic,    39,  2,  82070,     24,2,19910915,   0, 85.4500, -12.0000, 2296,     59.9,  -1.7280,  32.6807,2,  32.7070,   2,    364.2,2,     9.68,2,     5.28,2,     0.70,2, -999.000,9, -999.000,9, -999.000,   9,   -999.0,9,   -999.0,9,     95.8,2,  -999.00,9,  -1.7290
  77DN19910726,Arctic,    39,  4,  82078,      8,2,19910915,   0, 85.4500, -12.0000, 2296,     64.8,  -1.7230,  32.9229,2,  32.9280,   2,    360.3,2,     9.49,2,     5.80,2,     0.68,2,    6.322,2,    2.761,2,    7.746,   2,   2155.5,2,   2254.2,2,    105.2,2,  -999.00,9,  -1.7241
  77DN19910726,Arctic,    39,  2,  82069,     23,2,19910915,   0, 85.4500, -12.0000, 2296,     65.8,  -1.6190,  32.9726,2,  32.8350,   2,    364.2,2,     9.32,2,     5.43,2,     0.68,2,    6.937,2,    2.868,2,    7.737,   2,   2162.1,2,   2268.8,2,     96.2,2,  -999.00,9,  -1.6202
  77DN19910726,Arctic,    39,  2,  82068,     22,2,19910915,   0, 85.4500, -12.0000, 2296,     70.9,  -1.4210,  33.2125,2,  33.2620,   2,    274.6,2,    30.04,2,    14.33,2,     1.67,2,    4.966,2,    2.127,2,    5.298,   2,   -999.0,9,   -999.0,9,     65.4,2,  -999.00,9,  -1.4225
  77DN19910726,Arctic,    39,  4,  82077,      7,2,19910915,   0, 85.4500, -12.0000, 2296,     79.9,  -1.4590,  33.5263,2,  33.5530,   2,    283.3,2,    24.45,2,    13.45,2,     1.43,2,    4.585,2,    1.844,2,    5.132,   2,   2214.0,2,   2263.0,2,     74.8,2,  -999.00,9,  -1.4607
  77DN19910726,Arctic,    39,  4,  82076,      6,2,19910915,   0, 85.4500, -12.0000, 2296,     90.0,  -1.4680,  33.8614,2,  33.7310,   2,    286.3,2,    17.93,2,    12.08,2,     1.16,2,    3.844,2,    1.737,2,    5.073,   2,   2185.6,2,   2261.2,2,     71.0,2,  -999.00,9,  -1.4699
  77DN19910726,Arctic,    39,  4,  82075,      5,2,19910915,   0, 85.4500, -12.0000, 2296,    110.1,  -1.4290,  34.1305,2,  34.1050,   2,    301.9,2,     9.54,2,    10.30,2,     0.82,2,    3.922,2,    1.649,2,    5.229,   2,   2169.8,2,   2278.7,2,     71.0,2,  -999.00,9,  -1.4315
  77DN19910726,Arctic,    39,  4,  82074,      4,2,19910915,   0, 85.4500, -12.0000, 2296,    130.0,  -1.1600,  34.3036,2,  34.2660,   2,    302.8,2,     7.34,2,    10.13,2,     0.76,2,    3.356,2,    1.512,2,    5.580,   2,   2156.0,2,   2284.1,2,     90.1,2,  -999.00,9,  -1.1633
  77DN19910726,Arctic,    39,  4,  82073,      3,2,19910915,   0, 85.4500, -12.0000, 2296,    150.0,  -0.8290,  34.4304,2,  34.3710,   2,    306.7,2,     6.96,2,    10.35,2,     0.76,2,    3.093,2,    1.385,2,    5.483,   2,   2160.0,2,   2284.6,2,     71.8,2,  -999.00,9,  -0.8333
  77DN19910726,Arctic,    39,  4,  82072,      2,2,19910915,   0, 85.4500, -12.0000, 2296,    199.9,  -0.0080,  34.6274,2,  34.6390,   2,    299.9,2,     7.28,2,    11.82,2,     0.81,2,    2.371,2,    0.995,2,    5.190,   2,   2155.9,2,   -999.0,9,     63.1,2,  -999.00,9,  -0.0154
  77DN19910726,Arctic,    39,  4,  82071,      1,2,19910915,   0, 85.4500, -12.0000, 2296,    249.8,   0.4450,  34.7852,2,  34.7620,   2,    301.9,2,     6.65,2,    12.44,2,     0.82,2,    2.732,2,    1.161,2,    5.941,   2,   2158.8,2,   -999.0,9,     61.4,2,  -999.00,9,   0.4347
  77DN19910726,Arctic,    39,  2,  82067,     21,2,19910915,   0, 85.4500, -12.0000, 2296,    300.0,   0.5670,  34.8341,2,  34.8320,   2,    302.8,2,     6.77,2,    12.82,2,     0.86,2,    2.673,2,    1.083,2,    5.893,   2,   2144.2,2,   -999.0,9,     54.6,2,  -999.00,9,   0.5541
  77DN19910726,Arctic,    39,  2,  82066,     20,2,19910915,   0, 85.4500, -12.0000, 2296,    350.6,   0.5260,  34.8501,2,  34.8500,   2,    302.8,2,     6.88,2,    12.95,2,     0.86,2, -999.000,9, -999.000,9, -999.000,   9,   -999.0,9,   -999.0,9,     96.9,2,  -999.00,9,   0.5109
  77DN19910726,Arctic,    39,  2,  82065,     19,2,19910915,   0, 85.4500, -12.0000, 2296,    400.1,   0.5440,  34.8675,2,  34.8660,   2,    302.8,2,     6.98,2,    13.11,2,     0.87,2, -999.000,9, -999.000,9, -999.000,   9,   2150.5,2,   2291.9,2,     53.0,2,  -999.00,9,   0.5265
  77DN19910726,Arctic,    39,  2,  82064,     18,2,19910915,   0, 85.4500, -12.0000, 2296,    498.2,   0.4240,  34.8755,2,  34.8760,   2,    308.7,2,     6.84,2,    13.06,2,     0.87,2, -999.000,9, -999.000,9, -999.000,   9,   -999.0,9,   -999.0,9,     54.7,2,  -999.00,9,   0.4023
  77DN19910726,Arctic,    39,  2,  82063,     17,2,19910915,   0, 85.4500, -12.0000, 2296,    549.8,   0.3230,  34.8771,2,  34.8780,   2,    304.8,2,     6.73,2,    12.98,2,     0.87,2, -999.000,9, -999.000,9, -999.000,   9,   2151.8,2,   2301.3,2,     53.0,2,  -999.00,9,   0.2992
  77DN19910726,Arctic,    39,  2,  82062,     16,2,19910915,   0, 85.4500, -12.0000, 2296,    601.8,   0.1980,  34.8774,2,  34.8780,   2,    309.6,2,     6.73,2,    12.96,2,     0.88,2, -999.000,9, -999.000,9, -999.000,   9,   -999.0,9,   -999.0,9,     57.4,2,  -999.00,9,   0.1723
  77DN19910726,Arctic,    39,  2,  82061,     15,2,19910915,   0, 85.4500, -12.0000, 2296,    652.4,   0.1170,  34.8793,2,  34.8810,   2,    308.7,2,     6.85,2,    12.99,2,     0.89,2, -999.000,9, -999.000,9, -999.000,   9,   2152.7,2,   2296.6,2,     54.2,2,  -999.00,9,   0.0893
  77DN19910726,Arctic,    39,  2,  82060,     14,2,19910915,   0, 85.4500, -12.0000, 2296,    751.0,  -0.0280,  34.8819,2,  34.8850,   2,    307.7,2,     7.20,2,    13.08,2,     0.90,2, -999.000,9, -999.000,9, -999.000,   9,   -999.0,9,   -999.0,9,     55.3,2,  -999.00,9,  -0.0597
  77DN19910726,Arctic,    39,  2,  82059,     13,2,19910915,   0, 85.4500, -12.0000, 2296,    899.3,  -0.1940,  34.8896,2,  34.8900,   2,    308.7,2,     7.22,2,    13.13,2,     0.90,2, -999.000,9, -999.000,9, -999.000,   9,   2166.1,2,   2300.2,2,     53.7,2,  -999.00,9,  -0.2319
  77DN19910726,Arctic,    39,  2,  82058,     12,2,19910915,   0, 85.4500, -12.0000, 2296,   1049.7,  -0.2770,  34.8985,2,  34.9010,   2,    307.7,2,     7.97,2,    13.47,2,     0.92,2, -999.000,9, -999.000,9, -999.000,   9,   -999.0,9,   -999.0,9,     56.5,2,  -999.00,9,  -0.3219
  77DN19910726,Arctic,    39,  2,  82057,     11,2,19910915,   0, 85.4500, -12.0000, 2296,   1298.8,  -0.3730,  34.9144,2,  34.9150,   2,    305.7,2,     9.09,2,    13.92,2,     0.94,2, -999.000,9, -999.000,9, -999.000,   9,   2157.8,2,   2288.5,2,     49.9,2,  -999.00,9,  -0.4305
  77DN19910726,Arctic,    39,  2,  82056,     10,2,19910915,   0, 85.4500, -12.0000, 2296,   1399.0,  -0.3960,  34.9191,2,  34.9210,   2,    305.7,2,     9.69,2,    14.21,2,     0.97,2, -999.000,9, -999.000,9, -999.000,   9,   -999.0,9,   -999.0,9,     50.2,2,  -999.00,9,  -0.4589
  77DN19910726,Arctic,    39,  2,  82055,      9,2,19910915,   0, 85.4500, -12.0000, 2296,   1499.1,  -0.4250,  34.9232,2,  34.9250,   2,    301.9,2,     9.91,2,    14.30,2,     0.97,2, -999.000,9, -999.000,9, -999.000,   9,   2159.9,2,   2300.4,2,     51.0,2,  -999.00,9,  -0.4934
  77DN19910726,Arctic,    39,  2,  82054,      8,2,19910915,   0, 85.4500, -12.0000, 2296,   1600.0,  -0.4510,  34.9269,2,  34.9260,   2,    307.7,2,    10.30,2,    14.42,2,     0.99,2, -999.000,9, -999.000,9, -999.000,   9,   -999.0,9,   -999.0,9,     57.8,2,  -999.00,9,  -0.5251
  77DN19910726,Arctic,    39,  2,  82053,      7,2,19910915,   0, 85.4500, -12.0000, 2296,   1700.0,  -0.4580,  34.9287,2,  34.9280,   2,    305.7,2,    10.65,2,    14.57,2,     0.99,2, -999.000,9, -999.000,9, -999.000,   9,   2166.3,2,   2290.2,2,     55.9,2,  -999.00,9,  -0.5381
  77DN19910726,Arctic,    39,  2,  82052,      6,2,19910915,   0, 85.4500, -12.0000, 2296,   1799.2,  -0.4800,  34.9303,2,  34.9300,   2,    306.7,2,    10.83,2,    14.67,2,     1.00,2, -999.000,9, -999.000,9, -999.000,   9,   -999.0,9,   -999.0,9,     54.4,2,  -999.00,9,  -0.5660
  77DN19910726,Arctic,    39,  2,  82051,      5,2,19910915,   0, 85.4500, -12.0000, 2296,   1987.8,  -0.5410,  34.9301,2,  34.9300,   2,    300.9,2,    11.07,2,    14.84,2,     1.00,2, -999.000,9, -999.000,9, -999.000,   9,   2173.5,2,   2292.1,2,     54.0,2,  -999.00,9,  -0.6383
  77DN19910726,Arctic,    39,  2,  82050,      4,2,19910915,   0, 85.4500, -12.0000, 2296,   2098.3,  -0.6170,  34.9264,2,  34.9260,   2,    302.8,2,    10.96,2,    14.88,2,     1.00,2, -999.000,9, -999.000,9, -999.000,   9,   -999.0,9,   -999.0,9,     63.8,2,  -999.00,9,  -0.7205
  77DN19910726,Arctic,    39,  2,  82049,      3,2,19910915,   0, 85.4500, -12.0000, 2296,   2200.2,  -0.6530,  34.9254,2,  34.9250,   2,    303.8,2,    10.94,2,    14.92,2,     1.00,2, -999.000,9, -999.000,9, -999.000,   9,   2169.6,2,   2299.4,2,     57.6,2,  -999.00,9,  -0.7628
  77DN19910726,Arctic,    39,  2,  82048,      1,2,19910915,   0, 85.4500, -12.0000, 2296,   2288.2,  -0.7060,  34.9237,2,  34.9230,   2,    304.8,2,    10.93,2,    14.93,2,     1.00,2, -999.000,9, -999.000,9, -999.000,   9,   2165.2,2,   -999.0,9,     59.3,2,  -999.00,9,  -0.8210
  77DN19910726,Arctic,    39,  2,  82047,      2,2,19910915,   0, 85.4500, -12.0000, 2296,   2288.2,  -0.7060,  34.9237,2,  34.9230,   2,    302.8,2,    10.96,2,    14.99,2,     1.01,2, -999.000,9, -999.000,9, -999.000,   9,   -999.0,9,   2304.0,2,     65.9,2,  -999.00,9,  -0.8210
  77DN19910726,Arctic,    40,  2,  82106,     24,2,19910916,   0, 85.3000, -14.1300, 1077,     13.2,  -1.7040,  31.3986,2,  31.4530,   2,    386.6,2,    13.56,2,     3.24,2,     1.21,2,    6.985,2,    3.015,2,   10.683,   2,   2082.4,2,   2171.5,2,   -999.0,9,  -999.00,9,  -1.7042
  77DN19910726,Arctic,    40,  4,  82118,     12,2,19910916,   0, 85.3000, -14.1300, 1077,     20.0,  -1.7170,  31.4240,2,  31.4980,   2,    376.8,2,    13.75,2,     3.46,2,     1.23,2, -999.000,9, -999.000,9, -999.000,   9,   -999.0,9,   -999.0,9,   -999.0,9,  -999.00,9,  -1.7173
  77DN19910726,Arctic,    40,  2,  82105,     23,2,19910916,   0, 85.3000, -14.1300, 1077,     24.7,  -1.7050,  31.5233,2,  31.5080,   2,    377.8,2,    13.89,2,     3.45,2,     1.22,2,    6.976,2,    3.083,2,   10.400,   2,   2083.4,2,   2175.7,2,   -999.0,9,  -999.00,9,  -1.7054
  77DN19910726,Arctic,    40,  2,  82104,     22,2,19910916,   0, 85.3000, -14.1300, 1077,     35.3,  -1.6530,  31.9008,2,  31.9060,   2,    363.2,2,    16.45,2,     5.46,2,     1.30,2,    6.332,2,    2.888,2,    8.546,   2,   2115.3,2,   2192.2,2,   -999.0,9,  -999.00,9,  -1.6536
  77DN19910726,Arctic,    40,  4,  82117,     11,2,19910916,   0, 85.3000, -14.1300, 1077,     40.0,  -1.6270,  32.1362,2,  31.9760,   2,    351.5,2,    17.35,2,     6.12,2,     1.36,2, -999.000,9, -999.000,9, -999.000,   9,   -999.0,9,   -999.0,9,   -999.0,9,  -999.00,9,  -1.6276
  77DN19910726,Arctic,    40,  2,  82103,     21,2,19910916,   0, 85.3000, -14.1300, 1077,     45.2,  -1.5420,  32.2947,2,  32.3460,   2,    320.4,2,    22.31,2,     9.15,2,     1.44,2,    6.010,2,    2.722,2,    7.054,   2,   2154.3,2,   2205.6,2,   -999.0,9,  -999.00,9,  -1.5428
  77DN19910726,Arctic,    40,  4,  82116,     10,2,19910916,   0, 85.3000, -14.1300, 1077,     49.7,  -1.4470,  32.4319,2,  32.5030,   2,    294.1,2,    27.07,2,    11.50,2,     1.67,2, -999.000,9, -999.000,9, -999.000,   9,   -999.0,9,   -999.0,9,   -999.0,9,  -999.00,9,  -1.4479
  77DN19910726,Arctic,    40,  4,  82115,      9,2,19910916,   0, 85.3000, -14.1300, 1077,     54.9,  -1.3940,  32.6819,2,  32.8060,   2,    271.7,2,    33.07,2,    14.30,2,     1.91,2, -999.000,9, -999.000,9, -999.000,   9,   -999.0,9,   -999.0,9,   -999.0,9,  -999.00,9,  -1.3951
  77DN19910726,Arctic,    40,  4,  82114,      8,2,19910916,   0, 85.3000, -14.1300, 1077,     59.8,  -1.4110,  32.9229,2,  32.9340,   2,    268.7,2,    32.43,2,    14.37,2,     1.87,2, -999.000,9, -999.000,9, -999.000,   9,   -999.0,9,   -999.0,9,   -999.0,9,  -999.00,9,  -1.4122
  77DN19910726,Arctic,    40,  2,  82102,     20,2,19910916,   0, 85.3000, -14.1300, 1077,     60.5,  -1.3750,  32.9551,2,  32.9780,   2,    258.0,2,    34.51,2,    15.15,2,     1.91,2,    4.615,2,    2.195,2,    5.317,   2,   2204.7,2,   2210.9,2,   -999.0,9,  -999.00,9,  -1.3762
  77DN19910726,Arctic,    40,  4,  82113,      7,2,19910916,   0, 85.3000, -14.1300, 1077,     65.0,  -1.4080,  33.1567,2,  33.0980,   2,    263.9,2,    33.10,2,    15.05,2,     1.90,2, -999.000,9, -999.000,9, -999.000,   9,   -999.0,9,   -999.0,9,   -999.0,9,  -999.00,9,  -1.4093
  77DN19910726,Arctic,    40,  2,  82101,     19,2,19910916,   0, 85.3000, -14.1300, 1077,     66.2,  -1.4010,  33.2104,2,  33.1670,   2,    261.9,2,    33.12,2,    15.15,2,     1.85,2,    4.166,2,    2.000,2,    5.376,   2,   2208.3,2,   2220.9,2,   -999.0,9,  -999.00,9,  -1.4024
  77DN19910726,Arctic,    40,  4,  82112,      6,2,19910916,   0, 85.3000, -14.1300, 1077,     69.7,  -1.4240,  33.3672,2,  33.2380,   2,    267.8,2,    32.08,2,    15.14,2,     1.84,2, -999.000,9, -999.000,9, -999.000,   9,   -999.0,9,   -999.0,9,   -999.0,9,  -999.00,9,  -1.4254
  77DN19910726,Arctic,    40,  4,  82111,      5,2,19910916,   0, 85.3000, -14.1300, 1077,     75.0,  -1.4390,  33.5287,2,  33.4160,   2,    270.7,2,    28.42,2,    14.38,2,     1.66,2, -999.000,9, -999.000,9, -999.000,   9,   -999.0,9,   -999.0,9,   -999.0,9,  -999.00,9,  -1.4406
  77DN19910726,Arctic,    40,  4,  82110,      4,2,19910916,   0, 85.3000, -14.1300, 1077,     80.0,  -1.4440,  33.6769,2,  33.5970,   2,    279.5,2,    24.72,2,    13.78,2,     1.49,2, -999.000,9, -999.000,9, -999.000,   9,   -999.0,9,   -999.0,9,   -999.0,9,  -999.00,9,  -1.4457
  77DN19910726,Arctic,    40,  2,  82100,     18,2,19910916,   0, 85.3000, -14.1300, 1077,     80.8,  -1.4370,  33.6956,2,  33.7140,   2,    281.4,2,    21.82,2,    13.11,2,     1.33,2,    3.122,2,    1.493,2,    4.498,   2,   2189.4,2,   2248.2,2,   -999.0,9,  -999.00,9,  -1.4388
  77DN19910726,Arctic,    40,  4,  82109,      3,2,19910916,   0, 85.3000, -14.1300, 1077,     84.8,  -1.4350,  33.7890,2,  33.7730,   2,    285.3,2,    20.24,2,    12.84,2,     1.29,2, -999.000,9, -999.000,9, -999.000,   9,   -999.0,9,   -999.0,9,   -999.0,9,  -999.00,9,  -1.4369
  77DN19910726,Arctic,    40,  4,  82108,      2,2,19910916,   0, 85.3000, -14.1300, 1077,     89.8,  -1.4240,  33.9058,2,  33.8930,   2,    289.2,2,    16.57,2,    11.95,2,     1.12,2, -999.000,9, -999.000,9, -999.000,   9,   -999.0,9,   -999.0,9,   -999.0,9,  -999.00,9,  -1.4260
  77DN19910726,Arctic,    40,  4,  82107,      1,2,19910916,   0, 85.3000, -14.1300, 1077,    100.3,  -1.3580,  34.0828,2,  34.1070,   2,   -999.0,9,    16.54,2,    11.94,2,     1.11,2, -999.000,9, -999.000,9, -999.000,   9,   -999.0,9,   -999.0,9,   -999.0,9,  -999.00,9,  -1.3603