BOTTLE,20140714SIOCCHRJL
EXPOCODE,SECT_ID,STNNBR,CASTNO,SAMPNO,BTLNBR,BTLNBR_FLAG_W,DATE,TIME,LATITUDE,LONGITUDE,DEPTH,CTDPRS,CTDTMP,CTDSAL,CTDSAL_FLAG_W,SALNTY,SALNTY_FLAG_W,OXYGEN,OXYGEN_FLAG_W,SILCAT,SILCAT_FLAG_W,NITRAT,NITRAT_FLAG_W,PHSPHT,PHSPHT_FLAG_W,CFC-11,CFC-11_FLAG_W,CFC-12,CFC-12_FLAG_W,CCL4,CCL4_FLAG_W,TCARBN,TCARBN_FLAG_W,ALKALI,ALKALI_FLAG_W,DOC,DOC_FLAG_W,DELO18,DELO18_FLAG_W,THETA
,,,,,,,,,,,METERS,DBAR,ITS-90,PSS-78,,PSS-78,,UMOL/KG,,UMOL/KG,,UMOL/KG,,UMOL/KG,,PMOL/KG,,PMOL/KG,,PMOL/KG,,UMOL/KG,,UMOL/KG,,UMOL/KG,,/MILLE,,DEG C
  77DN19910726,Arctic,    24,  1,  81578,     24,2,19910903,   0, 88.0400, 148.1800, 2473,     25.3,  -1.6920,  32.1702,2,  32.9280,   3,    359.7,2,     6.77,2,     5.01,2,     0.57,2,    8.985,3,    3.015,2,   10.498,   2,   2151.2,2,   2245.1,2,     97.3,2,  -999.00,9,  -1.6924
  77DN19910726,Arctic,    24,  1,  81577,     23,2,19910903,   0, 88.0400, 148.1800, 2473,     40.3,  -1.7420,  32.9594,2,  33.1540,   2,    357.9,2,     5.90,2,     5.16,2,     0.52,2,    7.278,2,    3.044,2,    9.551,   2,   2152.5,2,   2246.2,2,    101.8,2,  -999.00,9,  -1.7427
  77DN19910726,Arctic,    24,  1,  81576,     22,2,19910903,   0, 88.0400, 148.1800, 2473,     44.5,  -1.7690,  33.0340,2,  33.6030,   3,    322.6,2,     7.40,2,     7.77,2,     0.66,2,    5.844,2,    5.961,3,    6.400,   2,   2150.5,2,   2203.5,3,    121.9,2,  -999.00,9,  -1.7698
  77DN19910726,Arctic,    24,  1,  81575,     21,2,19910903,   0, 88.0400, 148.1800, 2473,     59.8,  -1.6590,  33.3315,2,  34.1780,   3,    308.2,2,     6.91,2,     9.40,2,     0.71,2,    7.590,3,    2.107,2,    6.371,   2,   2151.2,2,   2216.5,3,     68.6,2,  -999.00,9,  -1.6602
  77DN19910726,Arctic,    24,  1,  81574,     20,2,19910903,   0, 88.0400, 148.1800, 2473,     89.7,  -1.4430,  34.1164,2,  34.4050,   2,    308.5,2,     6.03,2,     9.91,2,     0.71,2,    4.029,2,    1.961,2,    5.259,   2,   2151.1,2,   2218.7,3,     59.6,2,  -999.00,9,  -1.4451
  77DN19910726,Arctic,    24,  1,  81573,     19,2,19910903,   0, 88.0400, 148.1800, 2473,    124.6,  -0.8220,  34.3916,2,  34.5340,   2,    304.2,2,     6.35,2,    10.62,2,     0.73,2,    3.610,2,    1.688,2,    5.668,   2,   2141.6,2,   2252.3,3,     58.6,2,  -999.00,9,  -0.8256
  77DN19910726,Arctic,    24,  1,  81572,     18,2,19910903,   0, 88.0400, 148.1800, 2473,    149.7,  -0.3870,  34.5232,2,  34.7130,   2,    302.9,2,     6.43,2,    11.72,2,     0.78,2,    3.015,2,    1.337,2,    5.171,   2,   -999.0,9,   2291.3,2,     64.2,2,  -999.00,9,  -0.3920
  77DN19910726,Arctic,    24,  1,  81571,     17,2,19910903,   0, 88.0400, 148.1800, 2473,    199.8,   0.2030,  34.7405,2,  34.8160,   2,    302.6,2,     6.14,2,    12.23,2,     0.80,2,    3.805,2,    1.454,2,    5.893,   2,   -999.0,9,   2291.3,2,     66.5,2,  -999.00,9,   0.1952
  77DN19910726,Arctic,    24,  1,  81570,     16,2,19910903,   0, 88.0400, 148.1800, 2473,    254.0,   0.4750,  34.8055,2,  34.8320,   2,    304.8,2,     6.05,2,    12.35,2,     0.81,2,    3.171,2,    1.512,2,    6.263,   2,   -999.0,9,   2290.4,2,     65.0,2,  -999.00,9,   0.4644
  77DN19910726,Arctic,    24,  1,  81569,     15,2,19910903,   0, 88.0400, 148.1800, 2473,    298.5,   0.5530,  34.8344,2,  34.8600,   2,    298.5,2,     6.90,2,    12.96,2,     0.84,2,    2.332,2,    0.927,2,    3.629,   2,   -999.0,9,   2293.7,2,     58.8,2,  -999.00,9,   0.5402
  77DN19910726,Arctic,    24,  1,  81568,     14,2,19910903,   0, 88.0400, 148.1800, 2473,    401.7,   0.4780,  34.8626,2,  34.8740,   2,    300.3,2,     7.05,2,    13.07,2,     0.85,2,    1.971,2,    4.068,3,    2.859,   2,   -999.0,9,   2292.2,2,     74.5,2,  -999.00,9,   0.4606
  77DN19910726,Arctic,    24,  1,  81567,     13,2,19910903,   0, 88.0400, 148.1800, 2473,    501.6,   0.4050,  34.8749,2,  34.8820,   2,    301.0,2,     7.13,2,    13.15,2,     0.86,2,    1.512,2,    0.361,2,    2.273,   2,   -999.0,9,   2290.4,2,     58.5,2,  -999.00,9,   0.3832
  77DN19910726,Arctic,    24,  1,  81566,     12,2,19910903,   0, 88.0400, 148.1800, 2473,    600.6,   0.2680,  34.8795,2,  34.8880,   2,    302.2,2,     7.12,2,    13.14,2,     0.88,2, -999.000,9, -999.000,9, -999.000,   9,   -999.0,9,   2284.3,2,     54.2,2,  -999.00,9,   0.2420
  77DN19910726,Arctic,    24,  1,  81565,     11,2,19910903,   0, 88.0400, 148.1800, 2473,    698.3,   0.1200,  34.8869,2,  34.9010,   2,    304.0,2,     7.26,2,    13.18,2,     0.88,2,    1.532,2,    3.815,3,    2.302,   2,   -999.0,9,   2294.2,2,     49.7,2,  -999.00,9,   0.0900
  77DN19910726,Arctic,    24,  1,  81564,     10,2,19910903,   0, 88.0400, 148.1800, 2473,    900.7,  -0.1150,  34.8997,2,  34.9150,   2,    302.5,2,     8.17,2,    13.62,2,     0.90,2, -999.000,9, -999.000,9, -999.000,   9,   -999.0,9,   2289.8,2,     48.2,2,  -999.00,9,  -0.1536
  77DN19910726,Arctic,    24,  1,  81563,      9,2,19910903,   0, 88.0400, 148.1800, 2473,   1108.3,  -0.2430,  34.9125,2,  34.9270,   2,    300.8,2,     9.25,2,    14.07,2,     0.94,2,    0.644,2,    0.000,2,    0.624,   3,   -999.0,9,   2290.5,2,     51.5,2,  -999.00,9,  -0.2914
  77DN19910726,Arctic,    24,  1,  81562,      8,2,19910903,   0, 88.0400, 148.1800, 2473,   1300.4,  -0.3330,  34.9253,2,  34.9360,   2,    297.3,2,    10.13,2,    14.38,2,     0.96,2, -999.000,9, -999.000,9, -999.000,   9,   -999.0,9,   2294.4,2,     42.9,2,  -999.00,9,  -0.3911
  77DN19910726,Arctic,    24,  1,  81561,      7,2,19910903,   0, 88.0400, 148.1800, 2473,   1499.9,  -0.3890,  34.9364,2,  34.9430,   2,    294.1,2,    11.26,2,    14.66,2,     0.99,2,    0.400,2,    0.390,2,    0.244,   2,   -999.0,9,   2298.9,2,     47.4,2,  -999.00,9,  -0.4579
  77DN19910726,Arctic,    24,  1,  81560,      6,2,19910903,   0, 88.0400, 148.1800, 2473,   1698.2,  -0.4010,  34.9430,2,  34.9480,   2,    289.8,2,    11.93,2,    14.82,2,     0.99,2, -999.000,9, -999.000,9, -999.000,   9,   -999.0,9,   2292.2,2,     50.9,2,  -999.00,9,  -0.4818
  77DN19910726,Arctic,    24,  1,  81559,      5,2,19910903,   0, 88.0400, 148.1800, 2473,   1902.9,  -0.4050,  34.9475,2,  34.9600,   2,    291.4,2,    12.20,2,    14.89,2,     1.00,2, -999.000,9, -999.000,9, -999.000,   9,   -999.0,9,   2295.1,2,     54.8,2,  -999.00,9,  -0.4989
  77DN19910726,Arctic,    24,  1,  81558,      4,2,19910903,   0, 88.0400, 148.1800, 2473,   2098.4,  -0.3970,  34.9496,2,  34.9520,   2,    291.2,2,    12.33,2,    14.92,2,     0.99,2,    0.585,2,    0.000,2,    0.127,   2,   -999.0,9,   2291.8,2,     49.7,2,  -999.00,9,  -0.5042
  77DN19910726,Arctic,    24,  1,  81557,      3,2,19910903,   0, 88.0400, 148.1800, 2473,   2348.8,  -0.3840,  34.9504,2,  34.9520,   2,    290.8,2,    12.36,2,    14.94,2,     1.00,2, -999.000,9, -999.000,9, -999.000,   9,   -999.0,9,   2291.5,2,     56.8,2,  -999.00,9,  -0.5092
  77DN19910726,Arctic,    24,  1,  81555,      2,2,19910903,   0, 88.0400, 148.1800, 2473,   2455.9,  -0.3780,  34.9512,2,  34.9520,   2,    290.1,2,    12.39,2,    14.95,2,     1.00,2,    0.351,2,    0.000,2,    0.098,   2,   -999.0,9,   -999.0,9,     58.5,2,  -999.00,9,  -0.5113
  77DN19910726,Arctic,    24,  1,  81556,      1,2,19910903,   0, 88.0400, 148.1800, 2473,   2456.1,  -0.3780,  34.9512,2,  34.9520,   2,    290.1,2,    12.36,2,    14.95,2,     0.99,2, -999.000,9, -999.000,9, -999.000,   9,   -999.0,9,   2290.8,2,     57.0,2,  -999.00,9,  -0.5113
  77DN19910726,Arctic,    25,  3,  81602,     24,2,19910903,   0, 88.0400, 152.8100, 3544,     11.2,  -1.6970,  31.6834,2,  31.7030,   2,    374.3,2,     9.56,2,     3.06,2,     0.84,2, -999.000,9, -999.000,9, -999.000,   9,   -999.0,9,   -999.0,9,   -999.0,9,  -999.00,9,  -1.6972
  77DN19910726,Arctic,    25,  3,  81601,     23,2,19910903,   0, 88.0400, 152.8100, 3544,     25.5,  -1.7000,  31.7000,2,  31.7180,   2,    374.9,2,     9.52,2,     3.07,2,     0.83,2, -999.000,9, -999.000,9, -999.000,   9,   -999.0,9,   -999.0,9,   -999.0,9,  -999.00,9,  -1.7004
  77DN19910726,Arctic,    25,  3,  81600,     22,2,19910903,   0, 88.0400, 152.8100, 3544,     52.0,  -1.6140,  33.1567,2,  33.1270,   2,    311.8,2,    14.03,2,     8.93,2,     0.93,2, -999.000,9, -999.000,9, -999.000,   9,   -999.0,9,   -999.0,9,   -999.0,9,  -999.00,9,  -1.6150
  77DN19910726,Arctic,    25,  3,  81599,     21,2,19910903,   0, 88.0400, 152.8100, 3544,     59.8,  -1.5670,  33.5704,2,  33.5500,   2,    301.5,2,    12.72,2,     9.77,2,     0.89,2, -999.000,9, -999.000,9, -999.000,   9,   -999.0,9,   -999.0,9,   -999.0,9,  -999.00,9,  -1.5682
  77DN19910726,Arctic,    25,  3,  81598,     20,2,19910903,   0, 88.0400, 152.8100, 3544,     78.9,  -1.5510,  34.0317,2,  33.9360,   2,    306.4,2,     8.41,2,     9.31,2,     0.73,2, -999.000,9, -999.000,9, -999.000,   9,   -999.0,9,   -999.0,9,   -999.0,9,  -999.00,9,  -1.5527
  77DN19910726,Arctic,    25,  3,  81597,     19,2,19910903,   0, 88.0400, 152.8100, 3544,    100.2,  -1.4030,  34.2327,2,  34.1680,   2,    306.3,2,     6.92,2,     9.41,2,     0.70,2, -999.000,9, -999.000,9, -999.000,   9,   -999.0,9,   -999.0,9,   -999.0,9,  -999.00,9,  -1.4053
  77DN19910726,Arctic,    25,  3,  81596,     18,2,19910903,   0, 88.0400, 152.8100, 3544,    150.1,  -0.5940,  34.5233,2,  34.4640,   2,    303.9,2,     6.49,2,    10.26,2,     0.72,2, -999.000,9, -999.000,9, -999.000,   9,   -999.0,9,   -999.0,9,   -999.0,9,  -999.00,9,  -0.5987
  77DN19910726,Arctic,    25,  3,  81595,     17,2,19910903,   0, 88.0400, 152.8100, 3544,    201.8,   0.0820,  34.7031,2,  34.6710,   2,    302.1,2,     6.57,2,    11.46,2,     0.76,2, -999.000,9, -999.000,9, -999.000,   9,   -999.0,9,   -999.0,9,   -999.0,9,  -999.00,9,   0.0744
  77DN19910726,Arctic,    25,  3,  81594,     16,2,19910903,   0, 88.0400, 152.8100, 3544,    302.0,   0.5420,  34.8413,2,  34.8410,   2,    306.1,2,     5.96,2,    12.35,2,     0.79,2, -999.000,9, -999.000,9, -999.000,   9,   -999.0,9,   -999.0,9,   -999.0,9,  -999.00,9,   0.5291
  77DN19910726,Arctic,    25,  3,  81593,     15,2,19910903,   0, 88.0400, 152.8100, 3544,    450.0,   0.4780,  34.8710,2,  34.8720,   2,   -999.0,9,     6.80,2,    12.89,2,     0.82,2, -999.000,9, -999.000,9, -999.000,   9,   -999.0,9,   -999.0,9,   -999.0,9,  -999.00,9,   0.4584
  77DN19910726,Arctic,    25,  3,  81592,     14,2,19910903,   0, 88.0400, 152.8100, 3544,    602.8,   0.2030,  34.8781,2,  34.8780,   2,    305.6,2,     6.68,2,    12.82,2,     0.83,2, -999.000,9, -999.000,9, -999.000,   9,   -999.0,9,   -999.0,9,   -999.0,9,  -999.00,9,   0.1772
  77DN19910726,Arctic,    25,  3,  81591,     13,2,19910903,   0, 88.0400, 152.8100, 3544,   1000.5,  -0.1880,  34.9068,2,  34.9070,   2,   -999.0,9,     7.59,2,    13.27,2,     0.87,2, -999.000,9, -999.000,9, -999.000,   9,   -999.0,9,   -999.0,9,   -999.0,9,  -999.00,9,  -0.2311
  77DN19910726,Arctic,    25,  3,  81590,     12,2,19910903,   0, 88.0400, 152.8100, 3544,   1198.1,  -0.2920,  34.9184,2,  34.9190,   2,    304.7,2,     8.33,2,    13.72,2,     0.91,2, -999.000,9, -999.000,9, -999.000,   9,   -999.0,9,   -999.0,9,   -999.0,9,  -999.00,9,  -0.3448
  77DN19910726,Arctic,    25,  3,  81589,     11,2,19910903,   0, 88.0400, 152.8100, 3544,   1399.0,  -0.3640,  34.9309,2,  34.9360,   2,   -999.0,9,     9.41,2,    14.22,2,     0.94,2, -999.000,9, -999.000,9, -999.000,   9,   -999.0,9,   -999.0,9,   -999.0,9,  -999.00,9,  -0.4273
  77DN19910726,Arctic,    25,  3,  81588,     10,2,19910903,   0, 88.0400, 152.8100, 3544,   1600.1,  -0.3950,  34.9417,2,  34.9440,   2,    297.7,2,    10.56,2,    14.58,2,     0.97,2, -999.000,9, -999.000,9, -999.000,   9,   -999.0,9,   -999.0,9,   -999.0,9,  -999.00,9,  -0.4699
  77DN19910726,Arctic,    25,  3,  81587,      9,2,19910903,   0, 88.0400, 152.8100, 3544,   1799.0,  -0.4090,  34.9473,2,  34.9460,   2,    292.3,2,    11.34,2,    14.74,2,     0.99,2, -999.000,9, -999.000,9, -999.000,   9,   -999.0,9,   -999.0,9,   -999.0,9,  -999.00,9,  -0.4961
  77DN19910726,Arctic,    25,  3,  81586,      8,2,19910903,   0, 88.0400, 152.8100, 3544,   2000.4,  -0.4100,  34.9502,2,  34.9490,   2,    295.0,2,    11.82,2,    14.91,2,     0.99,2, -999.000,9, -999.000,9, -999.000,   9,   -999.0,9,   -999.0,9,   -999.0,9,  -999.00,9,  -0.5103
  77DN19910726,Arctic,    25,  3,  81585,      7,2,19910903,   0, 88.0400, 152.8100, 3544,   2199.8,  -0.4030,  34.9519,2,  34.9510,   2,    289.3,2,    12.11,2,    14.95,2,     0.99,2, -999.000,9, -999.000,9, -999.000,   9,   -999.0,9,   -999.0,9,   -999.0,9,  -999.00,9,  -0.5172
  77DN19910726,Arctic,    25,  3,  81584,      6,2,19910903,   0, 88.0400, 152.8100, 3544,   2398.9,  -0.3920,  34.9530,2,  34.9520,   2,    291.9,2,    12.24,2,    14.98,2,     0.99,2, -999.000,9, -999.000,9, -999.000,   9,   -999.0,9,   -999.0,9,   -999.0,9,  -999.00,9,  -0.5208
  77DN19910726,Arctic,    25,  3,  81583,      5,2,19910903,   0, 88.0400, 152.8100, 3544,   2602.1,  -0.3820,  34.9541,2,  34.9540,   2,    291.4,2,    12.18,2,    14.98,2,     0.99,2, -999.000,9, -999.000,9, -999.000,   9,   -999.0,9,   -999.0,9,   -999.0,9,  -999.00,9,  -0.5263
  77DN19910726,Arctic,    25,  3,  81582,      4,2,19910903,   0, 88.0400, 152.8100, 3544,   2737.9,  -0.3750,  34.9539,2,  34.9540,   2,    293.4,2,    12.05,2,    14.97,2,     0.99,2, -999.000,9, -999.000,9, -999.000,   9,   -999.0,9,   -999.0,9,   -999.0,9,  -999.00,9,  -0.5301
  77DN19910726,Arctic,    25,  3,  81581,      3,2,19910903,   0, 88.0400, 152.8100, 3544,   2996.4,  -0.3590,  34.9539,2,  34.9540,   2,    290.9,2,    11.97,2,    14.95,2,     0.99,2, -999.000,9, -999.000,9, -999.000,   9,   -999.0,9,   -999.0,9,   -999.0,9,  -999.00,9,  -0.5355
  77DN19910726,Arctic,    25,  3,  81580,      2,2,19910903,   0, 88.0400, 152.8100, 3544,   3246.5,  -0.3430,  34.9538,2,  34.9540,   2,    292.6,2,    11.79,2,    14.91,2,     0.99,2, -999.000,9, -999.000,9, -999.000,   9,   -999.0,9,   -999.0,9,   -999.0,9,  -999.00,9,  -0.5412
  77DN19910726,Arctic,    25,  3,  81579,      1,2,19910903,   0, 88.0400, 152.8100, 3544,   3477.3,  -0.3240,  34.9537,2,  34.9540,   2,    293.8,2,    11.70,2,    14.89,2,     0.99,2, -999.000,9, -999.000,9, -999.000,   9,   -999.0,9,   -999.0,9,   -999.0,9,  -999.00,9,  -0.5432
  77DN19910726,Arctic,    26,  2,  81626,     24,2,19910904,   0, 88.0200, 163.6000, 4001,     10.0,  -1.7140,  31.6415,2,  31.6790,   2,    376.3,2,    10.03,2,     3.00,2,     0.88,2,    7.483,2,    3.171,2,   12.478,   2,   2066.6,2,   2180.0,2,    101.4,2,    -2.55,2,  -1.7141
  77DN19910726,Arctic,    26,  5,  81638,     12,2,19910904,   0, 88.0200, 163.6000, 4001,     14.6,  -1.7230,  31.6506,2,  31.6950,   2,    375.6,2,    10.01,2,     3.03,2,     0.86,2,    7.571,2,    3.122,2,   12.459,   2,   1974.1,2,   2163.3,2,     99.1,2,    -2.54,2,  -1.7232
  77DN19910726,Arctic,    26,  5,  81637,     11,2,19910904,   0, 88.0200, 163.6000, 4001,     35.2,  -1.7210,  32.1601,2,  31.7200,   3,    374.7,2,     9.98,2,     3.05,2,     0.85,2,    7.785,2,    3.141,2,   12.956,   2,   2003.9,2,   -999.0,9,     96.7,2,    -2.53,2,  -1.7215
  77DN19910726,Arctic,    26,  5,  81636,     10,2,19910904,   0, 88.0200, 163.6000, 4001,     49.8,  -1.7440,  32.7311,2,  32.6320,   2,    359.6,2,     9.01,2,     4.91,2,     0.72,2,   12.312,3,    3.132,2,   11.990,   2,   2114.1,2,   2252.0,2,     99.6,2,    -2.20,2,  -1.7448
  77DN19910726,Arctic,    26,  2,  81625,     23,2,19910904,   0, 88.0200, 163.6000, 4001,     67.8,  -1.6690,  33.0974,2,  33.1840,   2,    320.9,2,    12.48,2,     8.33,2,     0.87,2,    6.263,2,    6.302,3,    7.805,   2,   2139.8,2,   2249.3,2,     93.1,2,    -1.51,2,  -1.6703
  77DN19910726,Arctic,    26,  5,  81635,      9,2,19910904,   0, 88.0200, 163.6000, 4001,     79.5,  -1.5720,  33.4558,2,  33.6090,   2,    301.9,2,    12.20,2,     9.61,2,     0.86,2,    5.200,2,    2.156,2,    6.098,   2,   2142.2,2,   2261.6,2,     81.4,2,    -0.84,2,  -1.5736
  77DN19910726,Arctic,    26,  5,  81634,      8,2,19910904,   0, 88.0200, 163.6000, 4001,     99.7,  -1.5320,  34.0897,2,  34.0590,   2,    307.7,2,     7.41,2,     9.22,2,     0.70,2,    4.351,2,    4.722,3,    4.898,   2,   2130.7,2,   2274.1,2,     76.7,2,    -0.45,2,  -1.5342
  77DN19910726,Arctic,    26,  5,  81633,      7,2,19910904,   0, 88.0200, 163.6000, 4001,    120.9,  -1.3150,  34.3085,2,  34.2250,   2,    308.1,2,     6.65,2,     9.45,2,     0.69,2,    6.673,3,    1.571,2,    7.161,   2,   2132.6,2,   -999.0,9,     64.5,2,    -0.28,2,  -1.3179
  77DN19910726,Arctic,    26,  5,  81632,      6,2,19910904,   0, 88.0200, 163.6000, 4001,    149.9,  -0.7050,  34.4818,2,  34.4240,   2,    304.0,2,     6.75,2,    10.15,2,     0.72,2,    3.639,2,    1.473,2,    4.898,   2,   2136.2,2,   2282.7,2,     75.2,2,    -0.13,2,  -0.7095
  77DN19910726,Arctic,    26,  5,  81631,      5,2,19910904,   0, 88.0200, 163.6000, 4001,    199.8,  -0.0020,  34.6655,2,  34.6530,   2,    298.1,2,     6.93,2,    11.49,2,     0.76,2,    2.215,2,    0.907,2,    5.483,   2,   2148.8,2,   2279.9,2,     58.9,2,     0.08,2,  -0.0094
  77DN19910726,Arctic,    26,  5,  81630,      4,2,19910904,   0, 88.0200, 163.6000, 4001,    250.0,   0.4100,  34.8034,2,  34.8030,   2,    299.2,2,     6.54,2,    12.34,2,     0.80,2,    2.468,2,    1.083,2,    4.605,   2,   2149.8,2,   2293.5,2,     55.2,2,     0.19,2,   0.3997
  77DN19910726,Arctic,    26,  5,  81629,      3,2,19910904,   0, 88.0200, 163.6000, 4001,    299.8,   0.4930,  34.8324,2,  34.8350,   2,    302.4,2,     6.28,2,    12.41,2,     0.80,2,    3.054,2,    1.180,2,    6.800,   2,   2155.5,2,   2286.0,2,     55.9,2,     0.17,2,   0.4803
  77DN19910726,Arctic,    26,  5,  81628,      2,2,19910904,   0, 88.0200, 163.6000, 4001,    400.3,   0.5010,  34.8682,2,  34.8690,   2,    298.3,2,     6.87,2,    12.88,2,     0.83,2,    1.288,2,    0.000,3,    3.463,   2,   2150.3,2,   2298.4,2,     55.3,2,     0.25,2,   0.4836
  77DN19910726,Arctic,    26,  5,  81627,      1,2,19910904,   0, 88.0200, 163.6000, 4001,    500.4,   0.4180,  34.8791,2,  34.8760,   2,    300.8,2,     6.78,2,    12.94,2,     0.83,2,    1.122,2,    0.507,2,    4.234,   2,   2159.8,2,   2280.9,2,     56.3,2,     0.21,2,   0.3962