BOTTLE,20140714SIOCCHRJL
EXPOCODE,SECT_ID,STNNBR,CASTNO,SAMPNO,BTLNBR,BTLNBR_FLAG_W,DATE,TIME,LATITUDE,LONGITUDE,DEPTH,CTDPRS,CTDTMP,CTDSAL,CTDSAL_FLAG_W,SALNTY,SALNTY_FLAG_W,OXYGEN,OXYGEN_FLAG_W,SILCAT,SILCAT_FLAG_W,NITRAT,NITRAT_FLAG_W,PHSPHT,PHSPHT_FLAG_W,CFC-11,CFC-11_FLAG_W,CFC-12,CFC-12_FLAG_W,CCL4,CCL4_FLAG_W,TCARBN,TCARBN_FLAG_W,ALKALI,ALKALI_FLAG_W,DOC,DOC_FLAG_W,DELO18,DELO18_FLAG_W,THETA
,,,,,,,,,,,METERS,DBAR,ITS-90,PSS-78,,PSS-78,,UMOL/KG,,UMOL/KG,,UMOL/KG,,UMOL/KG,,PMOL/KG,,PMOL/KG,,PMOL/KG,,UMOL/KG,,UMOL/KG,,UMOL/KG,,/MILLE,,DEG C
  77DN19910726,Arctic,    52,  4,  82490,     12,2,19910928,   0, 82.8400,  11.5700, 3121,     22.8,  -1.8230,  33.3413,2,  33.2750,   2,    366.1,2,     5.73,2,     5.13,2,     0.54,2,    6.517,2,    2.459,2,   13.005,   2,   2123.4,2,   2246.9,2,     97.8,2,  -999.00,9,  -1.8234
  77DN19910726,Arctic,    52,  4,  82489,     11,2,19910928,   0, 82.8400,  11.5700, 3121,     37.7,  -1.6240,  33.6894,2,  33.7300,   2,    349.6,2,     4.92,2,     6.81,2,     0.54,2,    5.122,2,    1.980,2,    9.912,   2,   2123.9,2,   2254.0,2,     78.3,2,  -999.00,9,  -1.6247
  77DN19910726,Arctic,    52,  4,  82488,     10,2,19910928,   0, 82.8400,  11.5700, 3121,     52.9,  -1.2770,  33.9299,2,  33.9700,   2,    339.8,2,     4.83,2,     8.06,2,     0.58,2,    4.839,2,    2.078,2,    9.659,   2,   2120.8,2,   2257.7,2,     71.8,2,  -999.00,9,  -1.2782
  77DN19910726,Arctic,    52,  4,  82487,      9,2,19910928,   0, 82.8400,  11.5700, 3121,     78.0,  -0.9320,  34.1448,2,  34.2820,   2,    326.2,2,     5.11,2,     9.25,2,     0.64,2,    4.166,2,    1.795,2,    8.224,   2,   2131.0,2,   2270.6,2,     65.3,2,  -999.00,9,  -0.9341
  77DN19910726,Arctic,    52,  4,  82486,      8,2,19910928,   0, 82.8400,  11.5700, 3121,     82.9,  -0.8700,  34.1847,2,  34.3010,   2,    325.2,2,     5.14,2,     9.35,2,     0.64,2,    4.205,2,    1.639,2,    8.273,   2,   2128.2,2,   2267.4,2,     71.8,2,  -999.00,9,  -0.8723
  77DN19910726,Arctic,    52,  4,  82485,      7,2,19910928,   0, 82.8400,  11.5700, 3121,     92.9,  -0.6620,  34.2731,2,  34.3250,   2,    326.2,2,     5.18,2,     9.51,2,     0.64,2,    4.049,2,    1.668,2,    8.146,   2,   2131.8,2,   2269.4,2,     65.2,2,  -999.00,9,  -0.6648
  77DN19910726,Arctic,    52,  4,  82484,      6,2,19910928,   0, 82.8400,  11.5700, 3121,    112.9,  -0.0570,  34.4278,2,  34.4640,   2,    318.4,2,     5.29,2,    10.28,2,     0.68,2,    3.941,2,    1.707,2,    8.566,   2,   2132.0,2,   2273.4,2,     71.7,2,  -999.00,9,  -0.0610
  77DN19910726,Arctic,    52,  4,  82483,      5,2,19910928,   0, 82.8400,  11.5700, 3121,    172.9,   1.6510,  34.7902,2,  34.7980,   2,    309.6,2,     5.61,2,    11.88,2,     0.76,2,    4.215,2,    1.854,2,    9.424,   2,   2135.1,2,   2283.5,2,     58.8,2,  -999.00,9,   1.6422
  77DN19910726,Arctic,    52,  4,  82482,      4,2,19910928,   0, 82.8400,  11.5700, 3121,    242.6,   2.4150,  34.9414,2,  34.9480,   2,    311.6,2,     5.55,2,    12.40,2,     0.78,2,    4.898,2,    1.971,2,   11.181,   2,   2134.2,2,   2292.7,2,     92.1,2,  -999.00,9,   2.4009
  77DN19910726,Arctic,    52,  4,  82481,      3,2,19910928,   0, 82.8400,  11.5700, 3121,    322.9,   1.9040,  34.9476,2,  34.9350,   2,    310.6,2,     5.78,2,    12.56,2,     0.79,2,    4.790,2,    1.659,2,    9.327,   2,   2141.5,2,   2293.3,2,     59.5,2,  -999.00,9,   1.8864
  77DN19910726,Arctic,    52,  4,  82480,      2,2,19910928,   0, 82.8400,  11.5700, 3121,    372.9,   1.6710,  34.9124,2,  34.9320,   2,    310.6,2,     5.94,2,    12.74,2,     0.80,2,    3.883,2,    1.717,2,    9.561,   2,   2146.2,2,   2293.4,2,     57.6,2,  -999.00,9,   1.6513
  77DN19910726,Arctic,    52,  4,  82479,      1,2,19910928,   0, 82.8400,  11.5700, 3121,    422.7,   1.2590,  34.9034,2,  34.9110,   2,    306.7,2,     6.11,2,    12.84,2,     0.82,2,    2.995,2,    1.346,2,    8.049,   2,   2148.4,2,   2290.8,2,     59.1,2,  -999.00,9,   1.2379
  77DN19910726,Arctic,    52,  2,  82477,     23,2,19910928,   0, 82.8400,  11.5700, 3121,    498.8,   0.8730,  34.9032,2,  34.9020,   2,    305.7,2,     6.34,2,    12.88,2,     0.83,2,    1.815,2,    1.210,2,    6.107,   2,   2149.6,2,   2292.6,2,     52.3,2,  -999.00,9,   0.8494
  77DN19910726,Arctic,    52,  2,  82476,     22,2,19910928,   0, 82.8400,  11.5700, 3121,    599.8,   0.5820,  34.9039,2,  34.9050,   2,    305.7,2,     6.48,2,    12.95,2,     0.84,2,    1.415,2,    0.663,2,    5.356,   2,   2157.6,2,   2291.4,2,     59.0,2,  -999.00,9,   0.5545
  77DN19910726,Arctic,    52,  2,  82475,     21,2,19910928,   0, 82.8400,  11.5700, 3121,    699.2,   0.2240,  34.8999,2,  34.9000,   2,    305.7,2,     6.66,2,    12.93,2,     0.85,2,    1.229,2,    0.624,2,    5.073,   2,   2153.9,2,   2295.8,2,     58.4,2,  -999.00,9,   0.1934
  77DN19910726,Arctic,    52,  2,  82474,     20,2,19910928,   0, 82.8400,  11.5700, 3121,    751.1,   0.1100,  34.9025,2,  34.9000,   2,    308.7,2,     6.90,2,    12.95,2,     0.85,2,    1.112,2,    0.546,2,    5.337,   2,   2154.3,2,   2293.8,2,     55.8,2,  -999.00,9,   0.0775
  77DN19910726,Arctic,    52,  2,  82473,     19,2,19910928,   0, 82.8400,  11.5700, 3121,    820.8,  -0.0040,  34.9006,2,  34.9030,   2,    306.7,2,     7.12,2,    13.06,2,     0.86,2,    1.024,2,    0.488,2,    5.112,   2,   2152.7,2,   2292.9,2,     59.2,2,  -999.00,9,  -0.0393
  77DN19910726,Arctic,    52,  2,  82472,     18,2,19910928,   0, 82.8400,  11.5700, 3121,    899.8,  -0.1880,  34.9030,2,  34.9050,   2,    303.8,2,     7.41,2,    13.16,2,     0.87,2,    0.927,2,    0.449,2,    4.790,   2,   2154.6,2,   2292.8,2,     56.0,2,  -999.00,9,  -0.2260
  77DN19910726,Arctic,    52,  2,  82471,     17,2,19910928,   0, 82.8400,  11.5700, 3121,    999.5,  -0.2810,  34.9104,2,  34.9110,   2,    306.7,2,     7.78,2,    13.43,2,     0.89,2,    0.546,2,    0.351,2,    3.990,   2,   2151.8,2,   2294.2,2,     60.0,2,  -999.00,9,  -0.3233
  77DN19910726,Arctic,    52,  2,  82470,     16,2,19910928,   0, 82.8400,  11.5700, 3121,   1148.3,  -0.3850,  34.9158,2,  34.9150,   2,    305.7,2,     8.20,2,    13.62,2,     0.90,2,    0.566,2,    0.185,2,    4.010,   2,   2152.7,2,   2293.0,2,     51.0,2,  -999.00,9,  -0.4342
  77DN19910726,Arctic,    52,  2,  82469,     15,2,19910928,   0, 82.8400,  11.5700, 3121,   1299.8,  -0.4850,  34.9189,2,  34.9180,   2,    306.7,2,     8.81,2,    13.90,2,     0.92,2,    0.361,2,    0.146,2,    3.346,   2,   2154.9,2,   2293.0,2,     52.6,2,  -999.00,9,  -0.5414
  77DN19910726,Arctic,    52,  2,  82468,     14,2,19910928,   0, 82.8400,  11.5700, 3121,   1450.0,  -0.5690,  34.9221,2,  34.9210,   2,    304.8,2,     9.57,2,    14.26,2,     0.93,2,    0.302,2,    0.107,2,    2.546,   2,   2152.6,2,   2298.1,2,     49.4,2,  -999.00,9,  -0.6328
  77DN19910726,Arctic,    52,  2,  82467,     13,2,19910928,   0, 82.8400,  11.5700, 3121,   1599.2,  -0.6350,  34.9239,2,  34.9230,   2,    303.8,2,    10.04,2,    14.53,2,     0.94,2,    0.107,2,    0.146,2,    2.127,   2,   2156.8,2,   2294.7,2,     55.9,2,  -999.00,9,  -0.7067
  77DN19910726,Arctic,    52,  2,  82466,     12,2,19910928,   0, 82.8400,  11.5700, 3121,   1699.4,  -0.6800,  34.9233,2,  34.9220,   2,    303.8,2,    10.21,2,    14.69,2,     0.95,2,    0.059,2,    0.049,2,    2.195,   2,   2156.6,2,   2292.2,2,     62.0,2,  -999.00,9,  -0.7571
  77DN19910726,Arctic,    52,  2,  82465,     11,2,19910928,   0, 82.8400,  11.5700, 3121,   1799.9,  -0.7270,  34.9219,2,  34.9210,   2,    304.8,2,    10.36,2,    14.87,2,     0.95,2,    0.000,2,    0.068,2,    2.137,   2,   2159.9,2,   2296.6,2,     59.6,2,  -999.00,9,  -0.8095
  77DN19910726,Arctic,    52,  2,  82464,     10,2,19910928,   0, 82.8400,  11.5700, 3121,   1899.8,  -0.7630,  34.9218,2,  34.9190,   2,    310.6,2,    10.56,2,    14.92,2,     0.95,2,    0.156,2,    0.107,2,    2.059,   2,   2156.1,2,   2296.7,2,     50.1,2,  -999.00,9,  -0.8512
  77DN19910726,Arctic,    52,  2,  82463,      9,2,19910928,   0, 82.8400,  11.5700, 3121,   2009.3,  -0.7900,  34.9226,2,  34.9190,   2,    307.7,2,    10.71,2,    15.01,2,     0.95,2,    0.000,2,    0.117,2,    1.932,   2,   2161.6,2,   2295.8,2,     50.6,2,  -999.00,9,  -0.8848
  77DN19910726,Arctic,    52,  2,  82462,      8,2,19910928,   0, 82.8400,  11.5700, 3121,   2061.1,  -0.8010,  34.9208,2,  34.9190,   2,    304.8,2,    10.73,2,    14.93,2,     0.96,2,    0.029,2,    0.059,2,    2.000,   2,   2158.3,2,   2293.3,2,     55.9,2,  -999.00,9,  -0.8990
  77DN19910726,Arctic,    52,  2,  82461,      7,2,19910928,   0, 82.8400,  11.5700, 3121,   2180.4,  -0.8320,  34.9192,2,  34.9180,   2,    306.7,2,    10.98,2,    14.98,2,     0.97,2,    0.000,2,    0.098,2,    1.951,   2,   2154.7,2,   2295.6,2,     68.2,2,  -999.00,9,  -0.9374
  77DN19910726,Arctic,    52,  2,  82460,      6,2,19910928,   0, 82.8400,  11.5700, 3121,   2251.5,  -0.8430,  34.9198,2,  34.9180,   2,    306.7,2,    11.08,2,    14.99,2,     0.97,2,    0.000,2,    0.088,2,    1.834,   2,   2159.7,2,   2296.9,2,     48.4,2,  -999.00,9,  -0.9530
  77DN19910726,Arctic,    52,  2,  82459,      5,2,19910928,   0, 82.8400,  11.5700, 3121,   2400.5,  -0.8290,  34.9237,2,  34.9230,   2,    303.8,2,    11.05,2,    14.95,2,     0.97,2,    0.000,2,    0.059,2,    1.590,   2,   2154.4,2,   2304.2,2,     49.7,2,  -999.00,9,  -0.9496
  77DN19910726,Arctic,    52,  2,  82458,      4,2,19910928,   0, 82.8400,  11.5700, 3121,   2598.1,  -0.8070,  34.9277,2,  34.9290,   2,    305.7,2,    11.05,2,    14.92,2,     0.97,2,    0.000,2,    0.049,2,    1.307,   2,   2152.5,2,   2303.1,2,     57.0,2,  -999.00,9,  -0.9424
  77DN19910726,Arctic,    52,  2,  82457,      3,2,19910928,   0, 82.8400,  11.5700, 3121,   2798.4,  -0.7870,  34.9320,2,  34.9330,   2,    305.7,2,    11.05,2,    14.89,2,     0.97,2,    0.000,2,    0.000,2,    1.132,   2,   2157.1,2,   2311.9,2,     60.0,2,  -999.00,9,  -0.9380
  77DN19910726,Arctic,    52,  2,  82456,      2,2,19910928,   0, 82.8400,  11.5700, 3121,   2991.3,  -0.7690,  34.9347,2,  34.9330,   2,   -999.0,9,    11.05,2,    14.86,2,     0.98,2,    0.000,2,    0.029,2,    0.985,   2,   2155.8,2,   2306.8,2,     61.2,2,  -999.00,9,  -0.9357
  77DN19910726,Arctic,    52,  2,  82455,      1,2,19910928,   0, 82.8400,  11.5700, 3121,   3099.2,  -0.7600,  34.9352,2,  34.9350,   2,    303.8,2,    11.06,2,    14.82,2,     0.98,2,    0.000,2,    0.020,2,    0.907,   2,   2156.0,2,   2309.2,2,     66.6,2,  -999.00,9,  -0.9357
  77DN19910726,Arctic,    54,  4,  33826,     12,2,19910929,   0, 82.7100,  12.8000, 2235,     16.4,  -1.8320,  33.5391,2,  33.5650,   2,    361.2,2,     4.71,2,     5.45,2,     0.51,2,    9.220,2,    3.141,2,   14.868,   2,   2098.9,2,   2256.5,2,     87.7,2,  -999.00,9,  -1.8323
  77DN19910726,Arctic,    54,  2,  33814,     24,2,19910929,   0, 82.7100,  12.8000, 2235,     19.3,  -1.8000,  33.5405,2,  33.5740,   2,    360.3,2,     4.73,2,     5.61,2,     0.53,2,    5.795,2,    2.205,2,   11.795,   2,   2110.2,2,   2265.8,2,    126.2,2,  -999.00,9,  -1.8003
  77DN19910726,Arctic,    54,  2,  33813,     23,2,19910929,   0, 82.7100,  12.8000, 2235,     30.3,  -1.6830,  33.6062,2,  33.6990,   2,    354.4,2,     4.73,2,     6.24,2,     0.53,2,    5.971,2,    2.049,2,   11.142,   2,   2106.3,2,   2265.1,2,     80.1,2,  -999.00,9,  -1.6836
  77DN19910726,Arctic,    54,  4,  33825,     11,2,19910929,   0, 82.7100,  12.8000, 2235,     41.1,  -1.6220,  33.8219,2,  33.8040,   2,   -999.0,9,     4.74,2,     6.66,2,     0.55,2,    8.088,2,    2.780,2,   12.059,   2,   2101.4,2,   2263.8,2,     80.1,2,  -999.00,9,  -1.6228
  77DN19910726,Arctic,    54,  2,  33812,     22,2,19910929,   0, 82.7100,  12.8000, 2235,     70.6,  -1.1250,  34.1074,2,  34.0960,   2,    335.9,2,     4.88,2,     8.22,2,     0.61,2,    4.810,2,    1.795,2,    8.927,   2,   2113.6,2,   2259.5,2,     68.4,2,  -999.00,9,  -1.1268
  77DN19910726,Arctic,    54,  4,  33824,     10,2,19910929,   0, 82.7100,  12.8000, 2235,     86.1,  -1.0680,  34.2159,2,  34.1490,   2,    332.0,2,     4.91,2,     8.47,2,     0.61,2,    7.190,3,    2.420,3,   10.663,   2,   2103.6,2,   2265.0,2,     73.8,2,  -999.00,9,  -1.0702
  77DN19910726,Arctic,    54,  4,  33823,      9,2,19910929,   0, 82.7100,  12.8000, 2235,    126.2,   0.0490,  34.4551,2,  34.4990,   2,    318.4,2,     5.36,2,    10.22,2,     0.70,2,    4.663,3,    1.434,2,    8.624,   2,   2104.1,2,   2277.7,2,     61.4,2,  -999.00,9,   0.0444
  77DN19910726,Arctic,    54,  2,  33811,     21,2,19910929,   0, 82.7100,  12.8000, 2235,    150.7,   0.7620,  34.5668,2,  34.6300,   2,    315.5,2,     5.46,2,    10.89,2,     0.73,2,    4.039,2,    1.483,2,    8.585,   2,   2123.4,2,   2284.4,2,     61.1,2,  -999.00,9,   0.7555
  77DN19910726,Arctic,    54,  4,  33822,      8,2,19910929,   0, 82.7100,  12.8000, 2235,    201.4,   1.5140,  34.7705,2,  34.7790,   2,    313.5,2,     5.55,2,    11.62,2,     0.77,2,    4.546,2,    1.649,2,   10.029,   2,   2106.9,2,   2288.1,2,     67.5,2,  -999.00,9,   1.5040
  77DN19910726,Arctic,    54,  2,  33810,     20,2,19910929,   0, 82.7100,  12.8000, 2235,    259.8,   1.5140,  34.8861,2,  34.8620,   2,    307.7,2,     5.77,2,    12.15,2,     0.79,2,    3.629,2,    1.220,2,    8.946,   2,   2126.0,2,   2280.4,2,     71.8,2,  -999.00,9,   1.5009
  77DN19910726,Arctic,    54,  2,  33809,     19,2,19910929,   0, 82.7100,  12.8000, 2235,    299.6,   1.7090,  34.9098,2,  34.9120,   2,    309.6,2,     5.80,2,    12.34,2,     0.80,2,    4.254,2,    1.356,2,    9.873,   2,   2131.0,2,   -999.0,9,     62.4,2,  -999.00,9,   1.6932
  77DN19910726,Arctic,    54,  2,  33808,     18,2,19910929,   0, 82.7100,  12.8000, 2235,    349.1,   1.5630,  34.9185,2,  34.9110,   2,    310.6,2,     5.92,2,    12.42,2,     0.81,2,    3.376,2,    1.171,2,    8.322,   2,   2134.0,2,   -999.0,9,     58.2,2,  -999.00,9,   1.5449
  77DN19910726,Arctic,    54,  4,  33821,      7,2,19910929,   0, 82.7100,  12.8000, 2235,    401.2,   1.4300,  34.9058,2,  34.9150,   2,    307.7,2,     6.09,2,    12.61,2,     0.81,2,    3.941,2,    1.210,2,    8.917,   2,   2116.7,2,   2294.3,2,     65.0,2,  -999.00,9,   1.4095
  77DN19910726,Arctic,    54,  4,  33820,      6,2,19910929,   0, 82.7100,  12.8000, 2235,    452.0,   1.1040,  34.9035,2,  34.9030,   2,    305.7,2,     6.21,2,    12.71,2,     0.82,2,    5.356,3,    1.502,2,    9.180,   2,   2141.8,2,   2290.1,2,     68.6,2,  -999.00,9,   1.0819
  77DN19910726,Arctic,    54,  2,  33807,     17,2,19910929,   0, 82.7100,  12.8000, 2235,    499.1,   0.9870,  34.9038,2,  34.9050,   2,    307.7,2,     6.28,2,    12.72,2,     0.83,2,    2.127,2,    0.507,2,    6.488,   2,   2134.2,2,   2290.2,2,     54.7,2,  -999.00,9,   0.9629
  77DN19910726,Arctic,    54,  2,  33806,     16,2,19910929,   0, 82.7100,  12.8000, 2235,    600.5,   0.7560,  34.9046,2,  34.9080,   2,    305.7,2,     6.43,2,    12.81,2,     0.83,2,    1.815,2,    0.341,2,    6.546,   2,   2134.7,2,   2289.8,2,     55.0,2,  -999.00,9,   0.7276
  77DN19910726,Arctic,    54,  2,  33805,     15,2,19910929,   0, 82.7100,  12.8000, 2235,    700.0,   0.4210,  34.9045,2,  34.9050,   2,    311.6,2,     6.74,2,    13.00,2,     0.85,2,    2.215,2,    0.283,2,    6.810,   2,   2138.4,2,   2290.0,2,     62.9,2,  -999.00,9,   0.3892
  77DN19910726,Arctic,    54,  4,  33819,      5,2,19910929,   0, 82.7100,  12.8000, 2235,    751.4,   0.2490,  34.9033,2,  34.9070,   2,    307.7,2,     7.34,2,    13.46,2,     0.88,2,    2.400,2,    0.585,2,    5.961,   2,   2149.0,2,   2291.6,2,     54.8,2,  -999.00,9,   0.2156
  77DN19910726,Arctic,    54,  2,  33804,     14,2,19910929,   0, 82.7100,  12.8000, 2235,    801.0,   0.1250,  34.9044,2,  34.9050,   2,    307.7,2,     7.35,2,    13.44,2,     0.88,2,    1.961,2,    0.283,2,    6.205,   2,   2148.2,2,   2291.8,2,     52.1,2,  -999.00,9,   0.0898
  77DN19910726,Arctic,    54,  4,  33818,      4,2,19910929,   0, 82.7100,  12.8000, 2235,    851.0,  -0.0140,  34.9039,2,  34.9050,   2,    307.7,2,     7.71,2,    13.65,2,     0.90,2,    2.868,2,    1.171,3,    7.668,   2,   2148.7,2,   2292.5,2,     60.6,2,  -999.00,9,  -0.0508
  77DN19910726,Arctic,    54,  2,  33817,     13,2,19910929,   0, 82.7100,  12.8000, 2235,    901.3,  -0.0390,  34.9059,2,  34.9060,   2,    305.7,2,     8.18,2,    13.92,2,     0.91,2,    2.273,2,    0.361,2,    6.868,   2,   2154.3,2,   2290.3,2,     47.1,2,  -999.00,9,  -0.0782
  77DN19910726,Arctic,    54,  4,  33803,      3,2,19910929,   0, 82.7100,  12.8000, 2235,    901.3,  -0.1000,  34.9059,2,  34.9070,   2,    310.6,2,     7.81,2,    13.68,2,     0.90,2,    1.815,2,    0.312,2,    6.010,   2,   2144.7,2,   2290.3,2,     60.8,2,  -999.00,9,  -0.1387
  77DN19910726,Arctic,    54,  2,  33802,     12,2,19910929,   0, 82.7100,  12.8000, 2235,   1001.3,  -0.3560,  34.9062,2,  34.9080,   2,    304.8,2,     8.98,2,    14.33,2,     0.93,2,    1.707,2,    0.215,2,    5.385,   2,   2149.9,2,   2297.3,2,     81.4,2,  -999.00,9,  -0.3978
  77DN19910726,Arctic,    54,  2,  33801,     11,2,19910929,   0, 82.7100,  12.8000, 2235,   1100.0,  -0.5550,  34.9078,2,  34.9080,   2,    304.8,2,     9.61,2,    14.57,2,     0.95,2,    1.229,2,    0.000,2,    4.712,   2,   2154.3,2,   -999.0,9,     59.0,2,  -999.00,9,  -0.6001
  77DN19910726,Arctic,    54,  2,  82500,     10,2,19910929,   0, 82.7100,  12.8000, 2235,   1200.1,  -0.6070,  34.9094,2,  34.9100,   2,    302.8,2,     9.68,2,    14.57,2,     0.96,2,    0.829,2,    0.000,2,    3.951,   2,   2164.3,2,   2290.8,2,     51.7,2,  -999.00,9,  -0.6568
  77DN19910726,Arctic,    54,  2,  82499,      9,2,19910929,   0, 82.7100,  12.8000, 2235,   1300.5,  -0.6960,  34.9119,2,  34.9120,   2,    307.7,2,    10.20,2,    14.68,2,     0.97,2,    0.663,2,    0.000,2,    3.502,   2,   2192.4,4,   2300.7,2,     57.8,2,  -999.00,9,  -0.7502
  77DN19910726,Arctic,    54,  2,  82498,      8,2,19910929,   0, 82.7100,  12.8000, 2235,   1399.8,  -0.7320,  34.9134,2,  34.9120,   2,    304.8,2,    10.32,2,    14.73,2,     0.97,2,    0.712,2,    0.000,2,    3.415,   2,   -999.0,9,   2288.9,2,     65.9,2,  -999.00,9,  -0.7911
  77DN19910726,Arctic,    54,  4,  33816,      2,2,19910929,   0, 82.7100,  12.8000, 2235,   1451.2,  -0.7460,  34.9144,2,  34.9160,   2,    309.6,2,    10.39,2,    14.65,2,     0.97,2,    0.995,2,    0.371,3,    3.678,   2,   2157.5,2,   2291.7,2,     50.1,2,  -999.00,9,  -0.8078
  77DN19910726,Arctic,    54,  2,  82497,      7,2,19910929,   0, 82.7100,  12.8000, 2235,   1499.6,  -0.7930,  34.9130,2,  34.9130,   2,   -999.0,9,    10.71,2,    14.83,2,     0.97,2,    0.585,2,    0.000,2,    3.376,   2,   2168.7,2,   2294.0,2,     66.1,2,  -999.00,9,  -0.8570
  77DN19910726,Arctic,    54,  4,  33815,      1,2,19910929,   0, 82.7100,  12.8000, 2235,   1551.1,  -0.7950,  34.9101,2,  34.9170,   2,    303.8,2,    10.65,2,    14.75,2,     0.98,2,    1.288,2,    0.000,2,    3.190,   2,   2157.1,2,   2293.9,2,     51.2,2,  -999.00,9,  -0.8618