BOTTLE,20140714SIOCCHRJL
EXPOCODE,SECT_ID,STNNBR,CASTNO,SAMPNO,BTLNBR,BTLNBR_FLAG_W,DATE,TIME,LATITUDE,LONGITUDE,DEPTH,CTDPRS,CTDTMP,CTDSAL,CTDSAL_FLAG_W,SALNTY,SALNTY_FLAG_W,OXYGEN,OXYGEN_FLAG_W,SILCAT,SILCAT_FLAG_W,NITRAT,NITRAT_FLAG_W,PHSPHT,PHSPHT_FLAG_W,CFC-11,CFC-11_FLAG_W,CFC-12,CFC-12_FLAG_W,CCL4,CCL4_FLAG_W,TCARBN,TCARBN_FLAG_W,ALKALI,ALKALI_FLAG_W,DOC,DOC_FLAG_W,DELO18,DELO18_FLAG_W,THETA
,,,,,,,,,,,METERS,DBAR,ITS-90,PSS-78,,PSS-78,,UMOL/KG,,UMOL/KG,,UMOL/KG,,UMOL/KG,,PMOL/KG,,PMOL/KG,,PMOL/KG,,UMOL/KG,,UMOL/KG,,UMOL/KG,,/MILLE,,DEG C
  77DN19910726,Arctic,    54,  2,  82496,      6,2,19910929,   0, 82.7100,  12.8000, 2235,   1600.2,  -0.8400,  34.9096,2,  34.9100,   2,    304.8,2,    11.02,2,    14.92,2,     0.97,2,    0.380,2,    0.000,2,    2.907,   2,   -999.0,9,   2294.3,2,     54.7,2,  -999.00,9,  -0.9091
  77DN19910726,Arctic,    54,  2,  82495,      5,2,19910929,   0, 82.7100,  12.8000, 2235,   1699.3,  -0.8590,  34.9104,2,  34.9110,   2,    303.8,2,    11.14,2,    14.86,2,     0.99,2,    0.332,2,    0.000,2,    2.956,   2,   2165.1,2,   2294.4,2,     54.6,2,  -999.00,9,  -0.9336
  77DN19910726,Arctic,    54,  2,  82494,      4,2,19910929,   0, 82.7100,  12.8000, 2235,   1846.9,  -0.8750,  34.9109,2,  34.9120,   2,    302.8,2,    11.21,2,    14.85,2,     0.98,2,    0.566,2,    0.000,2,    3.063,   2,   -999.0,9,   2291.2,2,     64.8,2,  -999.00,9,  -0.9582
  77DN19910726,Arctic,    54,  2,  82493,      3,2,19910929,   0, 82.7100,  12.8000, 2235,   1947.0,  -0.8720,  34.9119,2,  34.9150,   2,    304.8,2,    11.16,2,    14.80,2,     0.98,2,    0.273,2,    0.000,2,    2.673,   2,   2160.7,2,   2296.6,2,     55.6,2,  -999.00,9,  -0.9615
  77DN19910726,Arctic,    54,  2,  82492,      2,2,19910929,   0, 82.7100,  12.8000, 2235,   2099.7,  -0.8980,  34.9171,2,  34.9140,   2,    304.8,2,    11.41,2,    14.88,2,     0.98,2,    0.263,2,    0.000,2,    2.478,   2,   -999.0,9,   2294.6,2,     46.7,2,  -999.00,9,  -0.9969
  77DN19910726,Arctic,    54,  2,  82491,      1,2,19910929,   0, 82.7100,  12.8000, 2235,   2171.7,  -0.8690,  34.9171,2,  34.9180,   2,    304.8,2,    11.26,2,    14.81,2,     0.98,2,    0.215,2,    0.000,2,    2.273,   2,   2159.4,2,   2294.0,2,     51.3,2,  -999.00,9,  -0.9731
  77DN19910726,Arctic,    55,  1,  33850,      1,2,19910930,   0, 82.6000,  13.6100,  982,     15.7,  -1.8140,  33.6557,2,  33.5690,   2,    360.0,2,     4.48,2,     5.74,2,     0.52,2, -999.000,9, -999.000,9, -999.000,   9,   2107.7,2,   -999.0,9,     70.8,2,    -1.13,2,  -1.8143
  77DN19910726,Arctic,    55,  1,  33849,      2,2,19910930,   0, 82.6000,  13.6100,  982,     25.0,  -1.7540,  33.6988,2,  33.6160,   2,    358.3,2,     4.58,2,     5.94,2,     0.52,2, -999.000,9, -999.000,9, -999.000,   9,   2118.7,2,   -999.0,9,     60.2,2,    -1.10,2,  -1.7545
  77DN19910726,Arctic,    55,  1,  33848,      3,2,19910930,   0, 82.6000,  13.6100,  982,     39.9,  -1.6080,  33.8727,2,  33.7630,   2,    351.3,2,     4.58,2,     6.52,2,     0.53,2, -999.000,9, -999.000,9, -999.000,   9,   2119.5,2,   -999.0,9,     71.9,2,    -0.94,2,  -1.6088
  77DN19910726,Arctic,    55,  1,  33847,      4,2,19910930,   0, 82.6000,  13.6100,  982,     55.8,  -1.3370,  34.0382,2,  34.0550,   2,    341.7,2,     4.67,2,     7.79,2,     0.59,2, -999.000,9, -999.000,9, -999.000,   9,   2124.0,2,   -999.0,9,     61.5,2,    -0.61,2,  -1.3383
  77DN19910726,Arctic,    55,  1,  33846,      5,2,19910930,   0, 82.6000,  13.6100,  982,     74.3,  -1.0660,  34.1256,2,  34.1640,   2,    334.7,2,     4.77,2,     8.37,2,     0.62,2, -999.000,9, -999.000,9, -999.000,   9,   2121.3,2,   -999.0,9,     67.5,2,    -0.49,2,  -1.0679
  77DN19910726,Arctic,    55,  1,  33845,      6,2,19910930,   0, 82.6000,  13.6100,  982,     94.1,  -0.8570,  34.2575,2,  34.2610,   2,    329.0,2,     5.06,2,     8.86,2,     0.64,2, -999.000,9, -999.000,9, -999.000,   9,   2122.5,2,   -999.0,9,     64.7,2,    -0.38,2,  -0.8596
  77DN19910726,Arctic,    55,  1,  33844,      7,2,19910930,   0, 82.6000,  13.6100,  982,    109.3,  -0.2950,  34.3482,2,  34.3900,   2,    322.9,2,     5.16,2,     9.64,2,     0.66,2, -999.000,9, -999.000,9, -999.000,   9,   2127.8,2,   -999.0,9,     66.4,2,    -0.18,2,  -0.2986
  77DN19910726,Arctic,    55,  1,  33843,      8,2,19910930,   0, 82.6000,  13.6100,  982,    133.0,   0.2840,  34.5501,2,  34.5240,   2,    318.1,2,     5.36,2,    10.42,2,     0.70,2, -999.000,9, -999.000,9, -999.000,   9,   2125.6,2,   -999.0,9,     67.3,2,    -0.07,2,   0.2789
  77DN19910726,Arctic,    55,  1,  33842,      9,2,19910930,   0, 82.6000,  13.6100,  982,    148.6,   0.6670,  34.6368,2,  34.6300,   2,    312.4,2,     5.55,2,    11.00,2,     0.73,2, -999.000,9, -999.000,9, -999.000,   9,   2132.0,2,   -999.0,9,    102.0,2,     0.07,2,   0.6607
  77DN19910726,Arctic,    55,  1,  33841,     10,2,19910930,   0, 82.6000,  13.6100,  982,    174.6,   1.2650,  34.6985,2,  34.7520,   2,    313.3,2,     5.55,2,    11.59,2,     0.76,2, -999.000,9, -999.000,9, -999.000,   9,   2132.2,2,   -999.0,9,     92.5,2,     0.11,2,   1.2567
  77DN19910726,Arctic,    55,  1,  33840,     11,2,19910930,   0, 82.6000,  13.6100,  982,    200.7,   1.5080,  34.7803,2,  34.8150,   2,    311.1,2,     5.65,2,    11.88,2,     0.77,2, -999.000,9, -999.000,9, -999.000,   9,   2137.9,2,   -999.0,9,     78.2,2,     0.18,2,   1.4980
  77DN19910726,Arctic,    55,  1,  33839,     12,2,19910930,   0, 82.6000,  13.6100,  982,    250.0,   1.7340,  34.8684,2,  34.8950,   2,    308.5,2,     5.65,2,    12.37,2,     0.79,2, -999.000,9, -999.000,9, -999.000,   9,   2138.7,2,   -999.0,9,     82.0,2,     0.19,2,   1.7209
  77DN19910726,Arctic,    55,  1,  33838,     13,2,19910930,   0, 82.6000,  13.6100,  982,    324.9,   1.5160,  34.9130,2,  34.9110,   2,    307.2,2,     5.84,2,    12.56,2,     0.81,2, -999.000,9, -999.000,9, -999.000,   9,   2137.0,2,   -999.0,9,     64.0,2,     0.22,2,   1.4994
  77DN19910726,Arctic,    55,  1,  33837,     14,2,19910930,   0, 82.6000,  13.6100,  982,    450.1,   0.8670,  34.9015,2,  34.9040,   2,    305.4,2,     6.33,2,    12.95,2,     0.83,2, -999.000,9, -999.000,9, -999.000,   9,   2136.2,2,   -999.0,9,     61.7,2,  -999.00,9,   0.8459
  77DN19910726,Arctic,    55,  1,  33836,     15,2,19910930,   0, 82.6000,  13.6100,  982,    499.7,   0.7850,  34.9093,2,  34.9110,   2,    305.4,2,     6.62,2,    13.15,2,     0.84,2, -999.000,9, -999.000,9, -999.000,   9,   2145.4,2,   -999.0,9,     60.6,2,  -999.00,9,   0.7617
  77DN19910726,Arctic,    55,  1,  33835,     16,2,19910930,   0, 82.6000,  13.6100,  982,    550.8,   0.6170,  34.9113,2,  34.9120,   2,    307.1,2,     6.91,2,    13.34,2,     0.85,2, -999.000,9, -999.000,9, -999.000,   9,   2145.3,2,   -999.0,9,     62.4,2,  -999.00,9,   0.5918
  77DN19910726,Arctic,    55,  1,  33834,     17,2,19910930,   0, 82.6000,  13.6100,  982,    601.7,   0.4180,  34.9093,2,  34.9090,   2,    307.1,2,     7.30,2,    13.44,2,     0.86,2, -999.000,9, -999.000,9, -999.000,   9,   2149.0,2,   -999.0,9,     64.8,2,  -999.00,9,   0.3912
  77DN19910726,Arctic,    55,  1,  33833,     18,2,19910930,   0, 82.6000,  13.6100,  982,    650.7,   0.3440,  34.9081,2,  34.9090,   2,    306.3,2,     7.21,2,    13.53,2,     0.86,2, -999.000,9, -999.000,9, -999.000,   9,   2149.0,2,   -999.0,9,     65.1,2,  -999.00,9,   0.3151
  77DN19910726,Arctic,    55,  1,  33832,     19,2,19910930,   0, 82.6000,  13.6100,  982,    700.4,   0.0790,  34.9062,2,  34.9090,   2,    305.4,2,     7.59,2,    13.63,2,     0.87,2, -999.000,9, -999.000,9, -999.000,   9,   2144.7,2,   -999.0,9,     78.3,2,  -999.00,9,   0.0491
  77DN19910726,Arctic,    55,  1,  33831,     20,2,19910930,   0, 82.6000,  13.6100,  982,    749.6,  -0.1970,  34.9061,2,  34.9100,   2,    306.3,2,     8.37,2,    14.02,2,     0.90,2, -999.000,9, -999.000,9, -999.000,   9,   2154.0,2,   -999.0,9,     73.6,2,  -999.00,9,  -0.2276
  77DN19910726,Arctic,    55,  1,  33830,     21,2,19910930,   0, 82.6000,  13.6100,  982,    799.4,  -0.2920,  34.9071,2,  34.9090,   2,    305.4,2,     8.76,2,    14.22,2,     0.92,2, -999.000,9, -999.000,9, -999.000,   9,   2151.5,2,   -999.0,9,    382.0,2,  -999.00,9,  -0.3243
  77DN19910726,Arctic,    55,  1,  33829,     22,2,19910930,   0, 82.6000,  13.6100,  982,    846.2,  -0.3920,  34.9081,2,  34.9090,   2,    304.5,2,     9.15,2,    14.41,2,     0.93,2, -999.000,9, -999.000,9, -999.000,   9,   2150.6,2,   -999.0,9,    353.2,2,  -999.00,9,  -0.4259
  77DN19910726,Arctic,    55,  1,  33828,     23,2,19910930,   0, 82.6000,  13.6100,  982,    900.8,  -0.6630,  34.9098,2,  34.9080,   2,    304.5,2,    10.22,2,    14.70,2,     0.95,2, -999.000,9, -999.000,9, -999.000,   9,   2209.4,4,   -999.0,9,    350.6,2,  -999.00,9,  -0.6975
  77DN19910726,Arctic,    55,  1,  33827,     24,2,19910930,   0, 82.6000,  13.6100,  982,    957.8,  -0.6650,  34.9092,2,  34.9090,   2,    304.5,2,    10.22,2,    14.70,2,     1.00,2, -999.000,9, -999.000,9, -999.000,   9,   -999.0,9,   -999.0,9,    356.5,2,  -999.00,9,  -0.7022
  77DN19910726,Arctic,    56,  4,  33881,      7,2,19910930,   0, 82.2900,  14.9600, 2207,     17.4,  -1.8380,  33.7133,2,  33.7220,   2,    363.0,2,     3.61,2,     5.27,2,     0.46,2, -999.000,9, -999.000,9, -999.000,   9,   -999.0,9,   -999.0,9,     65.3,2,  -999.00,9,  -1.8383
  77DN19910726,Arctic,    56,  2,  33874,     24,2,19910930,   0, 82.2900,  14.9600, 2207,     19.0,  -1.8300,  33.7136,2,  33.7400,   2,    364.8,2,     3.61,2,     5.18,2,     0.47,2, -999.000,9, -999.000,9, -999.000,   9,   2066.2,2,   -999.0,9,     59.8,2,  -999.00,9,  -1.8303
  77DN19910726,Arctic,    56,  2,  33873,     23,2,19910930,   0, 82.2900,  14.9600, 2207,     36.0,  -1.7830,  33.7306,2,  33.7820,   2,    360.0,2,     3.71,2,     5.67,2,     0.49,2, -999.000,9, -999.000,9, -999.000,   9,   -999.0,9,   -999.0,9,     62.6,2,  -999.00,9,  -1.7837
  77DN19910726,Arctic,    56,  2,  33872,     22,2,19910930,   0, 82.2900,  14.9600, 2207,     50.6,  -1.5650,  34.0565,2,  34.0970,   2,    349.5,2,     4.10,2,     6.84,2,     0.55,2, -999.000,9, -999.000,9, -999.000,   9,   2074.6,2,   -999.0,9,     68.2,2,  -999.00,9,  -1.5661
  77DN19910726,Arctic,    56,  2,  33871,     21,2,19910930,   0, 82.2900,  14.9600, 2207,     69.6,  -1.4100,  34.2636,2,  34.2590,   2,    342.5,2,     4.10,2,     7.52,2,     0.58,2, -999.000,9, -999.000,9, -999.000,   9,   2095.5,2,   -999.0,9,     63.5,2,  -999.00,9,  -1.4116
  77DN19910726,Arctic,    56,  4,  33880,      6,2,19910930,   0, 82.2900,  14.9600, 2207,     92.2,  -1.4300,  34.3112,2,  34.3160,   2,   -999.0,9,     3.91,2,     7.81,2,     0.58,2, -999.000,9, -999.000,9, -999.000,   9,   -999.0,9,   -999.0,9,     60.8,2,  -999.00,9,  -1.4321
  77DN19910726,Arctic,    56,  2,  33870,     20,2,19910930,   0, 82.2900,  14.9600, 2207,    120.3,  -1.1000,  34.4035,2,  34.3840,   2,    335.5,2,     4.10,2,     8.40,2,     0.62,2, -999.000,9, -999.000,9, -999.000,   9,   2087.0,2,   -999.0,9,     69.5,2,  -999.00,9,  -1.1032
  77DN19910726,Arctic,    56,  4,  33879,      5,2,19910930,   0, 82.2900,  14.9600, 2207,    121.6,  -0.5810,  34.4086,2,  34.4180,   2,    329.0,2,     4.49,2,     8.98,2,     0.64,2, -999.000,9, -999.000,9, -999.000,   9,   -999.0,9,   -999.0,9,     60.3,2,  -999.00,9,  -0.5848
  77DN19910726,Arctic,    56,  4,  33878,      4,2,19910930,   0, 82.2900,  14.9600, 2207,    149.5,   0.2770,  34.5512,2,  34.5510,   2,    317.2,2,     5.08,2,    10.15,2,     0.70,2, -999.000,9, -999.000,9, -999.000,   9,   -999.0,9,   -999.0,9,     56.3,2,  -999.00,9,   0.2712
  77DN19910726,Arctic,    56,  2,  33869,     19,2,19910930,   0, 82.2900,  14.9600, 2207,    175.4,   0.9720,  34.6697,2,  34.6760,   2,   -999.0,9,     4.10,2,     8.39,2,     0.61,2, -999.000,9, -999.000,9, -999.000,   9,   -999.0,9,   -999.0,9,     56.3,2,  -999.00,9,   0.9641
  77DN19910726,Arctic,    56,  4,  33877,      3,2,19910930,   0, 82.2900,  14.9600, 2207,    202.1,   1.4800,  34.7539,2,  34.7770,   2,    309.4,2,     5.47,2,    11.32,2,     0.77,2, -999.000,9, -999.000,9, -999.000,   9,   -999.0,9,   -999.0,9,     58.3,2,  -999.00,9,   1.4700
  77DN19910726,Arctic,    56,  2,  33868,     18,2,19910930,   0, 82.2900,  14.9600, 2207,    226.7,   1.7600,  34.8237,2,  34.8380,   2,    309.4,2,     5.56,2,    11.61,2,     0.79,2, -999.000,9, -999.000,9, -999.000,   9,   2117.5,2,   -999.0,9,     61.2,2,  -999.00,9,   1.7482
  77DN19910726,Arctic,    56,  2,  33867,     17,2,19910930,   0, 82.2900,  14.9600, 2207,    259.5,   1.8360,  34.8842,2,  34.8900,   2,    308.5,2,     5.66,2,    12.00,2,     0.81,2, -999.000,9, -999.000,9, -999.000,   9,   2124.9,2,   -999.0,9,     62.4,2,  -999.00,9,   1.8222
  77DN19910726,Arctic,    56,  4,  33876,      2,2,19910930,   0, 82.2900,  14.9600, 2207,    332.1,   1.6490,  34.9115,2,  34.9170,   2,    308.5,2,     5.76,2,    12.30,2,     0.83,2, -999.000,9, -999.000,9, -999.000,   9,   -999.0,9,   -999.0,9,     59.9,2,  -999.00,9,   1.6316
  77DN19910726,Arctic,    56,  2,  33866,     16,2,19910930,   0, 82.2900,  14.9600, 2207,    397.8,   1.2970,  34.9123,2,  34.9140,   2,    306.3,2,     6.05,2,    12.49,2,     0.84,2, -999.000,9, -999.000,9, -999.000,   9,   2133.2,2,   -999.0,9,     58.3,2,  -999.00,9,   1.2771
  77DN19910726,Arctic,    56,  2,  33865,     15,2,19910930,   0, 82.2900,  14.9600, 2207,    447.4,   1.0920,  34.9134,2,  34.9170,   2,    305.4,2,     6.15,2,    12.59,2,     0.84,2, -999.000,9, -999.000,9, -999.000,   9,   2137.5,2,   -999.0,9,     60.8,2,  -999.00,9,   1.0702
  77DN19910726,Arctic,    56,  4,  33875,      1,2,19910930,   0, 82.2900,  14.9600, 2207,    502.4,   0.9490,  34.9148,2,  34.9160,   2,    304.5,2,     6.15,2,    12.69,2,     0.84,2, -999.000,9, -999.000,9, -999.000,   9,   -999.0,9,   -999.0,9,     61.4,2,  -999.00,9,   0.9248
  77DN19910726,Arctic,    56,  2,  33864,     14,2,19910930,   0, 82.2900,  14.9600, 2207,    570.2,   0.7740,  34.9182,2,  34.9200,   2,    303.2,2,     6.25,2,    12.69,2,     0.85,2, -999.000,9, -999.000,9, -999.000,   9,   -999.0,9,   -999.0,9,     61.1,2,  -999.00,9,   0.7471
  77DN19910726,Arctic,    56,  2,  33863,     13,2,19910930,   0, 82.2900,  14.9600, 2207,    650.5,   0.5030,  34.9115,2,  34.9160,   2,   -999.0,9,     6.44,2,    12.78,2,     0.86,2, -999.000,9, -999.000,9, -999.000,   9,   2146.1,2,   -999.0,9,     63.4,2,  -999.00,9,   0.4733
  77DN19910726,Arctic,    56,  2,  33862,     12,2,19910930,   0, 82.2900,  14.9600, 2207,    779.5,   0.0660,  34.9062,2,  34.9080,   2,    310.2,2,     6.93,2,    12.88,2,     0.88,2, -999.000,9, -999.000,9, -999.000,   9,   2147.7,2,   -999.0,9,     71.0,2,  -999.00,9,   0.0323
  77DN19910726,Arctic,    56,  2,  33861,     11,2,19910930,   0, 82.2900,  14.9600, 2207,    900.8,  -0.1760,  34.9081,2,  34.9090,   2,    306.3,2,     7.51,2,    13.17,2,     0.90,2, -999.000,9, -999.000,9, -999.000,   9,   2147.8,2,   -999.0,9,     71.2,2,  -999.00,9,  -0.2141
  77DN19910726,Arctic,    56,  2,  33860,     10,2,19910930,   0, 82.2900,  14.9600, 2207,   1049.1,  -0.3970,  34.9135,2,  34.9150,   2,    308.4,2,     8.20,2,    13.47,2,     0.91,2, -999.000,9, -999.000,9, -999.000,   9,   2148.4,2,   -999.0,9,     82.4,2,  -999.00,9,  -0.4409
  77DN19910726,Arctic,    56,  2,  33859,      9,2,19910930,   0, 82.2900,  14.9600, 2207,   1197.2,  -0.5280,  34.9136,2,  34.9170,   2,    305.4,2,     8.98,2,    13.86,2,     0.95,2, -999.000,9, -999.000,9, -999.000,   9,   2136.3,2,   -999.0,9,     77.5,2,  -999.00,9,  -0.5784
  77DN19910726,Arctic,    56,  2,  33858,      8,2,19910930,   0, 82.2900,  14.9600, 2207,   1300.6,  -0.6150,  34.9180,2,  34.9190,   2,    304.5,2,     9.47,2,    14.05,2,     0.96,2, -999.000,9, -999.000,9, -999.000,   9,   2153.1,2,   -999.0,9,     80.1,2,  -999.00,9,  -0.6701
  77DN19910726,Arctic,    56,  2,  33857,      7,2,19910930,   0, 82.2900,  14.9600, 2207,   1398.5,  -0.6710,  34.9183,2,  34.9200,   2,    304.5,2,     9.76,2,    14.25,2,     0.97,2, -999.000,9, -999.000,9, -999.000,   9,   2143.3,2,   -999.0,9,   -999.0,9,  -999.00,9,  -0.7308
  77DN19910726,Arctic,    56,  2,  33856,      6,2,19910930,   0, 82.2900,  14.9600, 2207,   1499.1,  -0.7150,  34.9185,2,  34.9200,   2,    304.5,2,    10.15,2,    14.25,2,     0.98,2, -999.000,9, -999.000,9, -999.000,   9,   2135.8,2,   -999.0,9,   -999.0,9,  -999.00,9,  -0.7799
  77DN19910726,Arctic,    56,  2,  33855,      5,2,19910930,   0, 82.2900,  14.9600, 2207,   1599.0,  -0.7780,  34.9164,2,  34.9190,   2,    304.5,2,    10.44,2,    14.44,2,     0.98,2, -999.000,9, -999.000,9, -999.000,   9,   2141.1,2,   -999.0,9,   -999.0,9,  -999.00,9,  -0.8478
  77DN19910726,Arctic,    56,  2,  33854,      4,2,19910930,   0, 82.2900,  14.9600, 2207,   1748.6,  -0.8290,  34.9167,2,  34.9170,   2,    304.5,2,    10.64,2,    14.54,2,     0.99,2, -999.000,9, -999.000,9, -999.000,   9,   2143.4,2,   -999.0,9,   -999.0,9,  -999.00,9,  -0.9069
  77DN19910726,Arctic,    56,  2,  33853,      3,2,19910930,   0, 82.2900,  14.9600, 2207,   1949.7,  -0.8320,  34.9222,2,  34.9220,   2,    303.2,2,    10.73,2,    14.44,2,     0.99,2, -999.000,9, -999.000,9, -999.000,   9,   2146.5,2,   -999.0,9,   -999.0,9,  -999.00,9,  -0.9223
  77DN19910726,Arctic,    56,  2,  33852,      2,2,19910930,   0, 82.2900,  14.9600, 2207,   2050.4,  -0.8340,  34.9234,2,  34.9240,   2,    306.2,2,    10.73,2,    14.44,2,     0.99,2, -999.000,9, -999.000,9, -999.000,   9,   2143.1,2,   -999.0,9,   -999.0,9,  -999.00,9,  -0.9308
  77DN19910726,Arctic,    56,  2,  33851,      1,2,19910930,   0, 82.2900,  14.9600, 2207,   2184.0,  -0.8290,  34.9259,2,  34.9260,   2,    303.2,2,    10.73,2,    14.54,2,     0.99,2, -999.000,9, -999.000,9, -999.000,   9,   2141.6,2,   -999.0,9,   -999.0,9,  -999.00,9,  -0.9347
  77DN19910726,Arctic,    58,  2,  33905,     24,2,19911002,   0, 81.8600,  16.4600, 2160,     16.4,  -1.8250,  33.9354,2,  33.6080,   2,    362.2,2,     3.32,2,     5.57,2,     0.50,2, -999.000,9, -999.000,9, -999.000,   9,   2084.1,2,   -999.0,9,     66.1,2,    -0.63,2,  -1.8253