BOTTLE,20140714SIOCCHRJL
EXPOCODE,SECT_ID,STNNBR,CASTNO,SAMPNO,BTLNBR,BTLNBR_FLAG_W,DATE,TIME,LATITUDE,LONGITUDE,DEPTH,CTDPRS,CTDTMP,CTDSAL,CTDSAL_FLAG_W,SALNTY,SALNTY_FLAG_W,OXYGEN,OXYGEN_FLAG_W,SILCAT,SILCAT_FLAG_W,NITRAT,NITRAT_FLAG_W,PHSPHT,PHSPHT_FLAG_W,CFC-11,CFC-11_FLAG_W,CFC-12,CFC-12_FLAG_W,CCL4,CCL4_FLAG_W,TCARBN,TCARBN_FLAG_W,ALKALI,ALKALI_FLAG_W,DOC,DOC_FLAG_W,DELO18,DELO18_FLAG_W,THETA
,,,,,,,,,,,METERS,DBAR,ITS-90,PSS-78,,PSS-78,,UMOL/KG,,UMOL/KG,,UMOL/KG,,UMOL/KG,,PMOL/KG,,PMOL/KG,,PMOL/KG,,UMOL/KG,,UMOL/KG,,UMOL/KG,,/MILLE,,DEG C
  77DN19910726,Arctic,    11,  2,  81144,     22,2,19910826,   0, 86.0700,  52.7900, 3971,    550.4,   0.8020,  34.9194,2,  34.9190,   2,    305.1,2,     6.23,2,    12.62,2,     0.84,2,    2.380,2,    1.727,3,    6.488,   2,   2149.6,2,   -999.0,9,     59.1,2,  -999.00,9,   0.7760
  77DN19910726,Arctic,    11,  2,  81143,     21,2,19910826,   0, 86.0700,  52.7900, 3971,    601.9,   0.6260,  34.9136,2,  34.9130,   2,    305.6,2,     6.37,2,    12.67,2,     0.84,2,    2.166,2,    1.093,2,    6.634,   2,   2147.1,2,   2291.0,2,     81.0,2,  -999.00,9,   0.5981
  77DN19910726,Arctic,    11,  2,  81142,     20,2,19910826,   0, 86.0700,  52.7900, 3971,    650.6,   0.4570,  34.9113,2,  34.9120,   2,    302.2,2,     6.54,2,    12.75,2,     0.85,2,    4.585,3,    1.054,2,    6.283,   2,   2149.2,2,   -999.0,9,     38.1,2,  -999.00,9,   0.4275
  77DN19910726,Arctic,    11,  2,  81141,     19,2,19910826,   0, 86.0700,  52.7900, 3971,    700.4,   0.2900,  34.9086,2,  34.9080,   2,    304.1,2,     6.68,2,    12.78,2,     0.85,2,    2.137,2,    1.034,2,    6.429,   2,   2153.3,2,   2288.0,2,     65.3,2,  -999.00,9,   0.2589
  77DN19910726,Arctic,    11,  2,  81140,     18,2,19910826,   0, 86.0700,  52.7900, 3971,    751.1,   0.1620,  34.9094,2,  34.9090,   2,    304.2,2,     6.87,2,    12.86,2,     0.86,2,    1.805,2,    0.751,2,    6.078,   2,   2150.1,2,   -999.0,9,     73.9,2,  -999.00,9,   0.1291
  77DN19910726,Arctic,    11,  2,  81139,     17,2,19910826,   0, 86.0700,  52.7900, 3971,    801.9,   0.0400,  34.9071,2,  34.9070,   2,   -999.0,9,     7.04,2,    12.98,2,     0.87,2,    1.698,2,    0.859,2,    5.766,   2,   2152.1,2,   -999.0,9,     61.0,2,  -999.00,9,   0.0053
  77DN19910726,Arctic,    11,  2,  81138,     16,2,19910826,   0, 86.0700,  52.7900, 3971,    851.4,  -0.0450,  34.9056,2,  34.9060,   2,    306.9,2,     7.18,2,    13.02,2,     0.87,2,    1.649,2,    0.820,2,    5.405,   2,   2144.2,2,   -999.0,9,     69.2,2,  -999.00,9,  -0.0816
  77DN19910726,Arctic,    11,  2,  81137,     15,2,19910826,   0, 86.0700,  52.7900, 3971,    901.0,  -0.1070,  34.9078,2,  34.9100,   2,    303.4,2,     7.40,2,    13.13,2,     0.88,2,    1.434,2,    0.751,2,    5.551,   2,   2157.0,2,   -999.0,9,     66.4,2,  -999.00,9,  -0.1457
  77DN19910726,Arctic,    11,  2,  81136,     14,2,19910826,   0, 86.0700,  52.7900, 3971,   1000.0,  -0.2470,  34.9124,2,  34.9120,   2,    304.1,2,     7.83,2,    13.35,2,     0.89,2,    1.229,2,    0.585,2,    4.537,   2,   -999.0,9,   2288.7,2,     71.3,2,  -999.00,9,  -0.2896
  77DN19910726,Arctic,    11,  2,  81135,     13,2,19910826,   0, 86.0700,  52.7900, 3971,   1099.1,  -0.3480,  34.9133,2,  34.9150,   2,    304.0,2,     8.13,2,    13.41,2,     0.90,2,    0.907,2,    0.507,2,    4.263,   2,   2155.1,2,   2290.6,2,     68.6,2,  -999.00,9,  -0.3949
  77DN19910726,Arctic,    11,  2,  81134,     12,2,19910826,   0, 86.0700,  52.7900, 3971,   1299.2,  -0.5100,  34.9176,2,  34.9180,   2,    303.9,2,     8.74,2,    13.76,2,     0.92,2,    0.810,2,    0.302,2,    3.463,   2,   -999.0,9,   2288.0,2,     66.3,2,  -999.00,9,  -0.5661
  77DN19910726,Arctic,    11,  2,  81133,     11,2,19910826,   0, 86.0700,  52.7900, 3971,   1499.2,  -0.6050,  34.9199,2,  34.9200,   2,    303.0,2,     9.48,2,    14.06,2,     0.93,2,    0.371,2,    0.293,2,    2.761,   2,   2159.6,2,   2290.9,2,     65.0,2,  -999.00,9,  -0.6712
  77DN19910726,Arctic,    11,  2,  81132,     10,2,19910826,   0, 86.0700,  52.7900, 3971,   1700.5,  -0.6730,  34.9215,2,  34.9230,   2,    303.4,2,     9.90,2,    14.29,2,     0.93,2,    0.380,2,    0.224,2,    2.273,   2,   -999.0,9,   -999.0,9,     65.6,2,  -999.00,9,  -0.7502
  77DN19910726,Arctic,    11,  2,  81131,      9,2,19910826,   0, 86.0700,  52.7900, 3971,   1899.0,  -0.7350,  34.9221,2,  34.9220,   2,    302.2,2,    10.16,2,    14.44,2,     0.95,2,    0.322,2,    0.000,2,    2.029,   2,   2163.3,2,   -999.0,9,    126.4,2,  -999.00,9,  -0.8236
  77DN19910726,Arctic,    11,  2,  81130,      8,2,19910826,   0, 86.0700,  52.7900, 3971,   2103.9,  -0.7710,  34.9232,2,  34.9230,   2,    303.8,2,    10.36,2,    14.52,2,     0.96,2,    0.146,2,    0.156,2,    1.512,   2,   -999.0,9,   2295.8,2,     99.8,2,  -999.00,9,  -0.8723
  77DN19910726,Arctic,    11,  2,  81129,      7,2,19910826,   0, 86.0700,  52.7900, 3971,   2299.9,  -0.7890,  34.9250,2,  34.9260,   2,    299.3,2,    10.49,2,    14.57,2,     0.96,2,    0.234,2,    0.000,2,    1.424,   2,   2154.9,2,   2295.9,2,     86.4,2,  -999.00,9,  -0.9033
  77DN19910726,Arctic,    11,  2,  81128,      6,2,19910826,   0, 86.0700,  52.7900, 3971,   2602.1,  -0.7940,  34.9291,2,  34.9300,   2,    301.3,2,    10.67,2,    14.60,2,     0.97,2,    0.000,2,    0.107,2,    0.927,   2,   -999.0,9,   2300.4,2,    103.6,2,  -999.00,9,  -0.9300
  77DN19910726,Arctic,    11,  2,  81127,      5,2,19910826,   0, 86.0700,  52.7900, 3971,   2897.3,  -0.7840,  34.9335,2,  34.9330,   2,    305.2,2,    10.84,2,    14.66,2,     0.97,2,    0.771,2,    0.000,2,    1.346,   2,   2156.2,2,   2298.4,2,    117.8,2,  -999.00,9,  -0.9428
  77DN19910726,Arctic,    11,  2,  81126,      4,2,19910826,   0, 86.0700,  52.7900, 3971,   3199.4,  -0.7610,  34.9379,2,  34.9380,   2,   -999.0,9,    11.05,2,    14.65,2,     0.97,2,    0.127,2,    0.068,2,    0.663,   2,   -999.0,9,   2298.1,2,     50.1,2,  -999.00,9,  -0.9450
  77DN19910726,Arctic,    11,  2,  81125,      3,2,19910826,   0, 86.0700,  52.7900, 3971,   3599.8,  -0.7160,  34.9399,2,  34.9420,   2,    298.4,2,    11.21,2,    14.68,2,     0.97,2,    0.351,2,    0.000,2,    0.663,   2,   2157.7,2,   2297.0,2,     46.3,2,  -999.00,9,  -0.9360
  77DN19910726,Arctic,    11,  2,  81124,      2,2,19910826,   0, 86.0700,  52.7900, 3971,   3800.1,  -0.6950,  34.9400,2,  34.9430,   2,    299.0,2,    11.14,2,    14.69,2,     0.97,2,    0.000,2,    0.000,2,    0.488,   2,   -999.0,9,   2304.5,2,     51.5,2,  -999.00,9,  -0.9339
  77DN19910726,Arctic,    11,  2,  81123,      1,2,19910826,   0, 86.0700,  52.7900, 3971,   3976.3,  -0.6780,  34.9404,2,  34.9430,   2,    302.7,2,    11.30,2,    14.68,2,     0.97,2,    0.098,2,    0.000,2,    0.527,   2,   2154.0,2,   2292.2,2,     48.6,2,  -999.00,9,  -0.9341
  77DN19910726,Arctic,    12,  2,  81170,     12,2,19910827,   0, 86.6000,  55.3000, 3203,      9.8,  -1.7400,  32.7331,2,  32.8440,   2,    370.0,2,     3.82,2,     3.62,2,     0.39,2,    8.624,3,    1.863,2,   10.634,   2,   2097.5,2,   2228.0,2,     93.1,2,    -1.89,2,  -1.7402
  77DN19910726,Arctic,    12,  3,  81194,     24,2,19910827,   0, 86.6000,  55.3000, 3203,     14.5,  -1.7360,  32.7588,2,  32.8460,   2,    368.8,2,     3.78,2,     3.71,2,     0.43,2,   10.468,3,    1.951,2,   11.073,   2,   2102.7,2,   2233.5,2,    103.3,2,  -999.00,9,  -1.7362
  77DN19910726,Arctic,    12,  2,  81169,     11,2,19910827,   0, 86.6000,  55.3000, 3203,     25.1,  -1.7390,  32.8396,2,  32.8560,   2,    372.0,2,     3.78,2,     3.63,2,     0.39,2,    7.707,3,    1.834,2,   10.576,   2,   2094.3,2,   2238.7,2,     96.3,2,    -1.81,2,  -1.7394
  77DN19910726,Arctic,    12,  2,  81168,     10,2,19910827,   0, 86.6000,  55.3000, 3203,     49.9,  -1.7780,  33.5868,2,  33.6210,   2,    360.6,2,     4.10,2,     5.04,2,     0.44,2,    6.615,3,    1.766,2,    8.741,   2,   2131.5,2,   2271.2,2,     86.0,2,  -999.00,9,  -1.7789
  77DN19910726,Arctic,    12,  2,  81167,      9,2,19910827,   0, 86.6000,  55.3000, 3203,     75.0,  -1.6070,  34.0001,2,  34.0490,   2,    323.4,2,     4.65,2,     7.61,2,     0.56,2,    4.976,3,    1.083,2,    6.741,   2,   2125.9,2,   2263.2,2,    108.1,2,    -0.44,2,  -1.6086
  77DN19910726,Arctic,    12,  2,  81166,      8,2,19910827,   0, 86.6000,  55.3000, 3203,    100.1,  -1.1490,  34.2501,2,  34.2780,   2,    314.6,2,     4.83,2,     8.86,2,     0.61,2,    3.590,2,    5.434,3,    6.371,   2,   2120.4,2,   2262.8,2,     82.1,2,  -999.00,9,  -1.1516
  77DN19910726,Arctic,    12,  3,  81193,     23,2,19910827,   0, 86.6000,  55.3000, 3203,    104.0,  -1.0290,  34.2840,2,  34.2960,   2,    316.6,2,     4.83,2,     8.82,2,     0.66,2,    6.439,3,    0.859,2,    6.410,   2,   2130.7,2,   2266.6,2,     65.4,2,  -999.00,9,  -1.0318
  77DN19910726,Arctic,    12,  2,  81165,      7,2,19910827,   0, 86.6000,  55.3000, 3203,    125.1,  -0.5010,  34.4303,2,  34.4310,   2,    309.9,2,     5.11,2,     9.71,2,     0.66,2,    3.122,2,    1.327,2,    6.410,   2,   2131.3,2,   2266.4,2,     69.5,2,    -0.07,2,  -0.5050
  77DN19910726,Arctic,    12,  2,  81164,      6,2,19910827,   0, 86.6000,  55.3000, 3203,    150.1,   0.0960,  34.5783,2,  34.5680,   2,    302.6,2,     5.35,2,    10.46,2,     0.69,2,    3.083,2,    0.995,2,    6.605,   2,   2129.7,2,   2271.2,2,     55.3,2,  -999.00,9,   0.0904
  77DN19910726,Arctic,    12,  3,  81192,     22,2,19910827,   0, 86.6000,  55.3000, 3203,    175.5,   0.7180,  34.7096,2,  34.7140,   2,    301.9,2,     5.43,2,    11.27,2,     0.78,2,    3.366,3,    0.683,2,    7.034,   2,   2132.5,2,   -999.0,9,     66.7,2,  -999.00,9,   0.7105
  77DN19910726,Arctic,    12,  2,  81163,      5,2,19910827,   0, 86.6000,  55.3000, 3203,    199.7,   0.9620,  34.8094,2,  34.7830,   2,    300.0,2,     5.42,2,    11.72,2,     0.75,2, -999.000,9,    0.771,2,    7.356,   2,   2133.0,2,   2278.6,2,     59.0,2,     0.17,2,   0.9530
  77DN19910726,Arctic,    12,  2,  81162,      4,2,19910827,   0, 86.6000,  55.3000, 3203,    250.0,   1.0550,  34.8478,2,  34.8490,   2,    302.2,2,     5.63,2,    12.14,2,     0.78,2,    3.659,3,    0.732,2,    7.649,   2,   2135.4,2,   2283.0,2,     64.0,2,  -999.00,9,   1.0433
  77DN19910726,Arctic,    12,  2,  81161,      3,2,19910827,   0, 86.6000,  55.3000, 3203,    300.0,   1.2480,  34.9013,2,  34.9020,   2,    303.4,2,     5.75,2,    12.47,2,     0.80,2, -999.000,9, -999.000,9, -999.000,   9,   2139.2,2,   2284.6,2,     58.2,2,     0.24,2,   1.2334
  77DN19910726,Arctic,    12,  2,  81160,      2,2,19910827,   0, 86.6000,  55.3000, 3203,    400.0,   0.9630,  34.9107,2,  34.9080,   2,    301.4,2,     5.99,2,    12.59,2,     0.81,2, -999.000,9, -999.000,9, -999.000,   9,   2136.8,2,   2290.3,2,     56.1,2,  -999.00,9,   0.9441
  77DN19910726,Arctic,    12,  2,  81159,      1,2,19910827,   0, 86.6000,  55.3000, 3203,    500.0,   0.7130,  34.9083,2,  34.9080,   2,    301.3,2,     6.22,2,    12.65,2,     0.82,2,    1.863,2,    0.839,2,    6.439,   2,   2145.9,2,   2289.2,2,     59.0,2,  -999.00,9,   0.6899
  77DN19910726,Arctic,    12,  3,  81191,     21,2,19910827,   0, 86.6000,  55.3000, 3203,    600.7,   0.4420,  34.8995,2,  34.9020,   2,    302.5,2,     6.35,2,    12.61,2,     0.84,2,    3.307,3,    0.459,3,    7.112,   2,   2142.5,2,   -999.0,9,     59.8,2,  -999.00,9,   0.4151
  77DN19910726,Arctic,    12,  3,  81190,     20,2,19910827,   0, 86.6000,  55.3000, 3203,    624.6,   0.3400,  34.8974,2,  34.9000,   2,    306.7,2,     6.37,2,    12.60,2,     0.87,2,    2.254,2,    0.459,2,    6.878,   2,   2146.0,2,   2291.0,2,     81.0,2,  -999.00,9,   0.3124
  77DN19910726,Arctic,    12,  3,  81189,     19,2,19910827,   0, 86.6000,  55.3000, 3203,    700.9,   0.1430,  34.8922,2,  34.8960,   2,    303.6,2,     6.50,2,    12.60,2,     0.87,2,    2.127,2,    0.429,2,    6.673,   2,   2144.6,2,   2295.3,2,     64.7,2,  -999.00,9,   0.1128
  77DN19910726,Arctic,    12,  3,  81188,     18,2,19910827,   0, 86.6000,  55.3000, 3203,    800.7,  -0.0500,  34.9003,2,  34.8990,   2,    304.6,2,     6.81,2,    12.66,2,     0.88,2,    2.322,2,    0.390,2,    6.498,   2,   2146.4,2,   2292.4,2,     92.0,2,  -999.00,9,  -0.0840
  77DN19910726,Arctic,    12,  3,  81187,     17,2,19910827,   0, 86.6000,  55.3000, 3203,    900.5,  -0.1520,  34.9067,2,  34.9060,   2,    304.9,2,     7.12,2,    12.81,2,     0.88,2, -999.000,9,    0.273,2,    5.932,   2,   2138.8,2,   2295.1,2,     69.4,2,  -999.00,9,  -0.1903
  77DN19910726,Arctic,    12,  3,  81186,     16,2,19910827,   0, 86.6000,  55.3000, 3203,   1000.5,  -0.2670,  34.9099,2,  34.9090,   2,    302.7,2,     7.33,2,    12.88,2,     0.88,2,    1.541,2,    0.195,2,    5.668,   2,   2145.2,2,   2295.0,2,     57.8,2,  -999.00,9,  -0.3095
  77DN19910726,Arctic,    12,  3,  81185,     15,2,19910827,   0, 86.6000,  55.3000, 3203,   1100.8,  -0.3490,  34.9140,2,  34.9130,   2,    302.4,2,     7.72,2,    13.09,2,     0.89,2,    1.034,2,    0.185,2,    4.907,   2,   2139.7,2,   2296.9,2,     77.3,2,  -999.00,9,  -0.3960
  77DN19910726,Arctic,    12,  3,  81184,     14,2,19910827,   0, 86.6000,  55.3000, 3203,   1200.6,  -0.4340,  34.9164,2,  34.9170,   2,    303.8,2,     8.11,2,    13.16,2,     0.91,2,    0.995,2,    0.166,2,    4.663,   2,   2148.4,2,   2295.4,2,     69.6,2,  -999.00,9,  -0.4855
  77DN19910726,Arctic,    12,  3,  81183,     13,2,19910827,   0, 86.6000,  55.3000, 3203,   1400.7,  -0.5420,  34.9213,2,  34.9200,   2,    302.6,2,     8.90,2,    13.56,2,     0.92,2,    0.985,2,    0.390,2,    3.971,   2,   2147.3,2,   2302.6,2,     57.8,2,  -999.00,9,  -0.6034
  77DN19910726,Arctic,    12,  3,  81182,     12,2,19910827,   0, 86.6000,  55.3000, 3203,   1600.5,  -0.6150,  34.9243,2,  34.9240,   2,    302.3,2,     9.70,2,    14.04,2,     0.96,2,    1.980,2,    0.098,2,    3.971,   2,   2146.4,2,   2295.7,2,     66.0,2,  -999.00,9,  -0.6870
  77DN19910726,Arctic,    12,  3,  81181,     11,2,19910827,   0, 86.6000,  55.3000, 3203,   1800.6,  -0.6920,  34.9241,2,  34.9240,   2,    301.8,2,     9.94,2,    14.13,2,     0.96,2,    2.322,2,    0.059,2,    3.805,   2,   2144.3,2,   2292.0,2,     60.2,2,  -999.00,9,  -0.7751
  77DN19910726,Arctic,    12,  3,  81180,     10,2,19910827,   0, 86.6000,  55.3000, 3203,   2000.4,  -0.7410,  34.9248,2,  34.9240,   2,    304.2,2,    10.15,2,    14.27,2,     0.96,2,    2.371,2,    0.039,2,    2.712,   2,   2149.6,2,   2295.3,2,     68.0,2,  -999.00,9,  -0.8360
  77DN19910726,Arctic,    12,  3,  81179,      9,2,19910827,   0, 86.6000,  55.3000, 3203,   2198.9,  -0.7700,  34.9263,2,  34.9270,   2,    304.1,2,    10.35,2,    14.36,2,     0.97,2,    0.312,2,    0.039,2,    2.195,   2,   2148.8,2,   2290.9,2,     74.8,2,  -999.00,9,  -0.8777
  77DN19910726,Arctic,    12,  3,  81178,      8,2,19910827,   0, 86.6000,  55.3000, 3203,   2299.6,  -0.7780,  34.9278,2,  34.9270,   2,    304.3,2,    10.43,2,    14.40,2,     0.97,2,    1.932,2,    0.117,2,    2.624,   2,   2154.2,2,   2289.8,2,     72.5,2,  -999.00,9,  -0.8925
  77DN19910726,Arctic,    12,  3,  81177,      7,2,19910827,   0, 86.6000,  55.3000, 3203,   2400.0,  -0.7840,  34.9290,2,  34.9280,   2,    303.2,2,    10.54,2,    14.39,2,     0.97,2,    0.000,2,    0.000,2,    1.424,   2,   2147.7,2,   2292.4,2,     66.4,2,  -999.00,9,  -0.9054
  77DN19910726,Arctic,    12,  3,  81176,      6,2,19910827,   0, 86.6000,  55.3000, 3203,   2499.8,  -0.7870,  34.9302,2,  34.9300,   2,    302.4,2,    10.60,2,    14.43,2,     0.97,2,    1.278,2,    0.010,2,    2.293,   2,   2151.8,2,   2291.7,2,    222.1,3,  -999.00,9,  -0.9156
  77DN19910726,Arctic,    12,  3,  81175,      5,2,19910827,   0, 86.6000,  55.3000, 3203,   2600.0,  -0.7890,  34.9313,2,  34.9310,   2,    302.0,2,    10.68,2,    14.45,2,     0.97,2,    0.644,2,    0.020,2,    1.873,   2,   2151.8,2,   2292.3,2,     62.2,2,  -999.00,9,  -0.9249
  77DN19910726,Arctic,    12,  3,  81174,      4,2,19910827,   0, 86.6000,  55.3000, 3203,   2800.0,  -0.7840,  34.9340,2,  34.9350,   2,    302.2,2,    10.81,2,    14.44,2,     0.96,2,    0.829,2,    0.029,2,    1.971,   2,   2150.9,2,   2293.6,2,     96.2,2,  -999.00,9,  -0.9352
  77DN19910726,Arctic,    12,  3,  81173,      3,2,19910827,   0, 86.6000,  55.3000, 3203,   2999.9,  -0.7720,  34.9368,2,  34.9370,   2,    302.8,2,    10.97,2,    14.43,2,     0.96,2,    0.898,2,    0.029,2,    1.815,   2,   2150.7,2,   2293.5,2,     75.6,2,  -999.00,9,  -0.9393
  77DN19910726,Arctic,    12,  3,  81172,      2,2,19910827,   0, 86.6000,  55.3000, 3203,   3138.7,  -0.7590,  34.9380,2,  34.9430,   2,    301.3,2,    11.07,2,    14.47,2,     0.96,2,    0.000,2,    0.000,2,    0.878,   2,   2150.8,2,   2296.0,2,     89.9,2,  -999.00,9,  -0.9380
  77DN19910726,Arctic,    12,  3,  81171,      1,2,19910827,   0, 86.6000,  55.3000, 3203,   3241.3,  -0.7500,  34.9382,2,  34.9390,   2,   -999.0,9,    11.04,2,    14.48,2,     0.96,2,    0.000,2,    0.000,2,    0.878,   2,   2147.8,2,   2294.0,2,    116.5,2,  -999.00,9,  -0.9378
  77DN19910726,Arctic,    13,  5,  81206,     12,2,19910827,   0, 86.7400,  56.9800, 3478,      5.0,  -1.7380,  32.7983,2,  32.7960,   2,    369.0,2,     3.83,2,     3.44,2,     0.42,2, -999.000,9, -999.000,9, -999.000,   9,   -999.0,9,   -999.0,9,   -999.0,9,  -999.00,9,  -1.7381
  77DN19910726,Arctic,    13,  2,  81230,     24,2,19910827,   0, 86.7400,  56.9800, 3478,     14.9,  -1.7270,  32.7997,2,  32.7960,   2,   -999.0,9,     3.86,2,     3.48,2,     0.42,2, -999.000,9, -999.000,9, -999.000,   9,   -999.0,9,   -999.0,9,   -999.0,9,  -999.00,9,  -1.7272
  77DN19910726,Arctic,    13,  5,  81205,     11,2,19910827,   0, 86.7400,  56.9800, 3478,     25.0,  -1.7340,  32.8033,2,  32.8010,   2,    372.2,2,     3.83,2,     3.45,2,     0.42,2, -999.000,9, -999.000,9, -999.000,   9,   -999.0,9,   -999.0,9,   -999.0,9,  -999.00,9,  -1.7344
  77DN19910726,Arctic,    13,  2,  81229,     23,2,19910827,   0, 86.7400,  56.9800, 3478,     33.6,  -1.7110,  33.0379,2,  33.0400,   2,    370.0,2,     3.91,2,     3.81,2,     0.44,2, -999.000,9, -999.000,9, -999.000,   9,   -999.0,9,   -999.0,9,   -999.0,9,  -999.00,9,  -1.7116
  77DN19910726,Arctic,    13,  5,  81204,     10,2,19910827,   0, 86.7400,  56.9800, 3478,     49.8,  -1.7840,  33.5930,2,  33.6190,   2,    357.7,2,     4.06,2,     5.17,2,     0.49,2, -999.000,9, -999.000,9, -999.000,   9,   -999.0,9,   -999.0,9,   -999.0,9,  -999.00,9,  -1.7849
  77DN19910726,Arctic,    13,  5,  81203,      9,2,19910827,   0, 86.7400,  56.9800, 3478,     74.9,  -1.6230,  34.0187,2,  34.0320,   2,    327.6,2,     4.60,2,     7.49,2,     0.61,2, -999.000,9, -999.000,9, -999.000,   9,   -999.0,9,   -999.0,9,   -999.0,9,  -999.00,9,  -1.6245
  77DN19910726,Arctic,    13,  2,  81228,     22,2,19910827,   0, 86.7400,  56.9800, 3478,     91.6,  -1.3610,  34.1997,2,  34.2020,   2,    317.5,2,     4.73,2,     8.31,2,     0.64,2, -999.000,9, -999.000,9, -999.000,   9,   -999.0,9,   -999.0,9,   -999.0,9,  -999.00,9,  -1.3631